Workbook

Sheet 1.a
A1: Berhida Város Önkormányzata | E1: 1.a melléklet
A2: állami támogatások részletezése | E2: a 9/2017. (V.31.) önkormányzati rendelethez
A3: 2016. évi költségvetés | I3: Ft-ban
C4: 2015 | E4: 2015 | G4: 2016 | I4: 2016 | J4: beszámítás
B5: Rovatrend | E5: Forint | I5: Forint
A6: Önkormányzatok működési támogatásai | E6: =E7+E16+E27+E45+E47 -> 383440798 | I6: =I7+I16+I27+I45+I49 -> 3.5255909e+08
A7: 1.)Helyi önkormányzatok működésének általános támogatása | B7: B111 | E7: =SUM(E8:E15) -> 139174406 | F7: =SUM(F8:F15) -> -10633291 | I7: =SUM(I8:I15) -> 114837274 | J7: =SUM(J8:J15) -> -36817510
A8: Önkormányzati hivatal működésének támogatása | C8: 4580000 | D8: 22.3 | E8: 102134000 | G8: 4580000 | H8: 22.24 | I8: =G8*H8 -> 101859200
A9: Település üzemeltetés: zöldterület-gazdálkodás | C9: 22300 | E9: 8964553 | G9: 22300 | I9: 0 | J9: -8964600
A10: közvilágítás fenntartása | C10: 320000 | E10: 14880000 | G10: 320000 | I10: 3520940 | J10: -11359060
A11: köztemető fenntartással kapcs fel | C11: 69 | E11: 1775094 | G11: 69 | I11: 3660519
A12: közutak fenntartásának támog | C12: 227000 | E12: 5448000 | G12: 227000 | I12: 5448000
A13: Egyéb kötelező önkormányzati feladatok | C13: 2700 | E13: 5761109 | F13: -10633291 | G13: 2700 | I13: 0 | J13: -16302600
A14: Lakott külterülettel kapcs feladatok | E14: 211650 | I14: 0 | J14: -191250
A15: 2015. évről áthúzódó bérkompenzáció | I15: 348615
A16: 2.)Települési önkorm. Egyes köznevelési feladatainak támoga | B16: B112 | E16: =SUM(E17:E26) -> 122000800 | I16: =SUM(I17:I26) -> 1.3109249e+08 | J16: =SUM(J17:J26) -> 0
A17: óvodapedagógusok bértámogatása 8 hó | C17: 4152000 | D17: 20.1 | E17: 55636800 | G17: 4308000 | H17: 20.5 | I17: =G17*H17*8/12 -> 58876000
A18: óvodaped munkáját közvetlenül segítők bértámogatása 8 hó | C18: 1800000 | D18: 11 | E18: 13200000 | G18: 1800000 | H18: 11 | I18: 13200000
A19: óvodapedagógusok bértámogatása 4 hó | C19: 4152000 | D19: 20 | E19: 27680000 | G19: 4308000 | H19: 19.5 | I19: =G19*H19*4/12 -> 28002000
A20: óvodaped munkáját közvetlenül segítők bértámogatása 4 hó | C20: 1800000 | D20: 11 | E20: 6600000 | G20: 1800000 | H20: 11 | I20: 6600000
A21: óvodapedagógusok bértámog KIEGÉSZÍTÉS 3 hó | C21: 35000 | D21: 20 | E21: 700000 | G21: 35000 | H21: 19.5 | I21: =G21*H21 -> 682500
A22: Óvoda működtetési támogatás 8 hó | C22: 70000 | D22: 218 | E22: 10173333 | G22: 80000 | H22: 220 | I22: =G22*H22*8/12 -> 11733333
A23: Óvoda működtetési támogatás 4 hó | C23: 70000 | D23: 218 | E23: 5086667 | G23: 80000 | H23: 206 | I23: 5493333
A24: Kieg tám. Óv pedag minősítéséhez II. kategóriába sorolt | D24: 1 | E24: 352000 | G24: 384000 | H24: 2 | I24: 768000
A25: Mesterped kategóriába sorolt | D25: 2 | E25: 2572000 | G25: 1415000 | H25: 2 | I25: 2805820
A26: Köznevelési intézmények m űködt kapcs támogatás | H26: 2 | I26: 2931500
A27: 3.) Tel önk szociális, gyermekjóléti és gyermekétk fel tám | B27: B113 | E27: =SUM(E29:E44) -> 115343512 | I27: =SUM(I29:I44) -> 96316402
A29: gyermekétkeztetés szempontjából elismert dolgozók bértámog | C29: 1632000 | D29: 11.48 | E29: 18735360 | G29: 1632000 | H29: 10.8 | I29: =G29*H29 -> 17625600
A30: gyermekétkeztetés üzemeltetési támogatása | E30: 31817928 | I30: 33734757
A31: szünidei gyermekétkeztetés | I31: 4709438
A32: Hozzájárulás pénzbeli szociális ellátásokhoz | E32: 47687090 | I32: 24825395
A33: Bölcsődei ellátás | C33: 494100 | D33: 8 | E33: 3952800 | G33: 494100 | H33: 8 | I33: =G33*H33 -> 3952800
A34: bölcsődei ellátás hátrányos helyzetű gyermek | C34: 518805 | G34: 518805 | H34: 1 | I34: =G34*H34 -> 518805
A35: Családsegítés B: 6118 Vi: 662 = 6780 fő (6072,671) | C35: 3950000 | D35: 6743 | E35: 2663485 | G35: 3950000 | H35: 6743
A36: gyermekjóléti szolgálat | C36: 3950000 | D36: 6743 | E36: 2663485 | G36: 3950000 | H36: 6743
A37: Családsegítés Kiegészítő támog. | C37: 300 | E37: 2022900 | G37: 300
A38: gyermekjóléti szolg. Kiegészítő támog. 0-17 B: 1292 Vi: 128 | C38: 1200 | E38: 1668000 | G38: 1200
A39: Családsegítés és gyermekjóléti szolgáltatás | I39: 3900000
A40: szociális étkeztetés | C40: 60896 | D40: 34 | E40: 2070464 | G40: 60896 | H40: 18 | I40: =G40*H40 -> 1096128
A41: házi segítségnyújtás | C41: 188500 | D41: 4 | E41: 754000 | G41: 188500 | H41: 4 | I41: =G41*H41 -> 754000
A42: időskorúak nappali ellátása | C42: 163500 | D42: 8 | E42: 1308000 | G42: 163500 | H42: 8 | I42: =G42*H42 -> 1308000
A43: kiegészítő ágazati pótlék | I43: 2323451
A44: ÁGAZATI PÓTLÉK | I44: 1568028
A45: 4.) Tel önk kulturális feladatainak támogatása | B45: B114 | E45: =SUM(E46:E48) -> 6922080 | F45: =SUM(F46:F48) -> 0 | I45: =SUM(I46:I48) -> 7205360
A46: könyvtári és közművelődési feladat tám Berhida: 6118 fő | C46: 1140 | D46: 6072 | E46: =C46*D46 -> 6922080 | G46: 1140 | H46: 6038 | I46: =G46*H46 -> 6883320
A47: könyvtári érdekeltségnövelő fel támog | I47: 322040
A49: 5.)Helyi önkorm. Kiegészítő támogatásai | I49: =SUM(I50:I51) -> 3107563
A50: 2016. évi bérkompenzáció | I50: 3107563
A52: Felhalmozási célú tám | I52: =SUM(I53:I54) -> 181210765
A53: Közművelődés érdekeltségnövelő támogatás | I53: 169000
A54: 2016. évi adósságkonsz nem részesülő önk tám. | I54: 181041765
A55: Mindösszesen költségvetési támogatás | I55: =I52+I6 -> 5.3376985e+08

Sheet 1b
B1: Berhida Város Önkormányzata | D1: 1.b. melléklet
B2: 2016. évi költségvetés | D2: a 9/2017. (V.31.) önkormányzati rendelethez
B3: Bevételek | D3: adatok ezer Ft-ban
B5: Módosított előirányzat | D5: Összesen | E5: Önkorm | F5: Hivatal | G5: TESZ | H5: Süni | I5: Kultúrház
A6: Sor- szám | B6: Rovat megnevezése | C6: Rovat száma | D6: Módosított ei | E6: Módosított ei | F6: Módosított ei | G6: Módosított ei | H6: Módosított ei | I6: Módosított ei
A7: 1. | B7: 2. | C7: 3. | D7: 4. | E7: 5. | F7: 6. | G7: 7. | H7: 8. | I7: 9.
A8: 01 | B8: Helyi önkormányzatok működésének általános támogatása | C8: B111 | D8: =SUM(E8:I8) -> 114837 | E8: 114837
A9: 02 | B9: Települési önkormányzatok egyes köznevelési feladatainak támogatása | C9: B112 | D9: =SUM(E9:I9) -> 131092 | E9: 131092
A10: 03 | B10: Tel önkorm szociális és gyermekjóléti, gyermekétk feladatainak támogatása | C10: B113 | D10: =SUM(E10:I10) -> 96316 | E10: 96316
A11: 04 | B11: Települési önkormányzatok kulturális feladatainak támogatása | C11: B114 | D11: =SUM(E11:I11) -> 7206 | E11: 7206
A12: 05 | B12: Működési célú költségvetési támogatások és kiegészítő támogatások | C12: B115 | D12: =SUM(E12:I12) -> 3108 | E12: 3108
A13: 06 | B13: Elszámolásból származó bevételek | C13: B116 | D13: =SUM(E13:I13) -> 0
A14: 07 | B14: Önkormányzatok működési támogatásai | C14: B11 | D14: =SUM(E14:I14) -> 352559 | E14: =SUM(E8:E13) -> 352559 | F14: =SUM(F8:F13) -> 0 | G14: =SUM(G8:G13) -> 0 | H14: =SUM(H8:H13) -> 0 | I14: =SUM(I8:I13) -> 0
A15: 08 | B15: Elvonások és befizetések bevételei | C15: B12 | D15: =SUM(E15:I15) -> 0
A16: 09 | B16: Működési célú garancia- és kezességvállalásból származó megtérülések államháztartáson belülről | C16: B13 | D16: =SUM(E16:I16) -> 0
A17: 10 | B17: Működési célú visszatérítendő támogatások, kölcsönök visszatérülése államháztartáson belülről | C17: B14 | D17: =SUM(E17:I17) -> 0
A18: 11 | B18: Működési célú visszatérítendő támogatások, kölcsönök igénybevétele államháztartáson belülről | C18: B15 | D18: =SUM(E18:I18) -> 0
A19: 12 | B19: Egyéb működési célú támogatások bevételei államháztartáson belülről | C19: B16 | D19: =SUM(E19:I19) -> 105831 | E19: =SUM(E20:E26) -> 21462 | F19: =SUM(F20:F26) -> 1223 | G19: =SUM(G20:G26) -> 82052 | H19: =SUM(H20:H26) -> 1094 | I19: =SUM(I20:I26) -> 0
B20: - ebből központi költségvetési szervek | C20: B161 | D20: =SUM(E20:I20) -> 0
B21: - ebből Társadalombiztosítási Alapok | C21: B162 | D21: =SUM(E21:I21) -> 14218 | E21: 14218
B22: - ebből elkülönített állami alapok (MUNKAÜGYI KP közfoglalk) | C22: B163 | D22: =SUM(E22:I22) -> 83146 | G22: 82052 | H22: 1094
B23: - ebből helyi önkormányzatok és költségvetési szerveik | C23: B164 | D23: =SUM(E23:I23) -> 0
B24: - ebből társulások és költségvetési szerveik | C24: B165 | D24: =SUM(E24:I24) -> 0
B25: - ebből nemzetiségi önkormányzatok és költségvetési szerveik | C25: B166 | D25: =SUM(E25:I25) -> 0
B26: - ebből fejezeti kezelésű | C26: B167 | D26: =SUM(E26:I26) -> 8467 | E26: 7244 | F26: 1223
A27: 13 | B27: Működési célú támogatások államháztartáson belülről | C27: B1 | D27: =SUM(E27:I27) -> 458390 | E27: =SUM(E14:E19) -> 374021 | F27: =SUM(F14:F19) -> 1223 | G27: =SUM(G14:G19) -> 82052 | H27: =SUM(H14:H19) -> 1094 | I27: =SUM(I14:I19) -> 0
A28: 14 | B28: Felhalmozási célú önkormányzati támogatások | C28: B21 | D28: =SUM(E28:I28) -> 181211 | E28: 181211
A29: 15 | B29: Felhalmozási célú garancia- és kezességvállalásból származó megtérülések államháztartáson belülről | C29: B22 | D29: =SUM(E29:I29) -> 0
A30: 16 | B30: Felhalmozási célú visszatérítendő támogatások, kölcsönök visszatérülése államháztartáson belülről | C30: B23 | D30: =SUM(E30:I30) -> 0
A31: 17 | B31: Felhalmozási célú visszatérítendő támogatások, kölcsönök igénybevétele államháztartáson belülről | C31: B24 | D31: =SUM(E31:I31) -> 0
A32: 18 | B32: Egyéb felhalmozási célú támogatások bevételei államháztartáson belülről | C32: B25 | D32: =SUM(E32:I32) -> 44 | H32: 44
A33: 19 | B33: Felhalmozási célú támogatások államháztartáson belülről | C33: B2 | D33: =SUM(E33:I33) -> 181255 | E33: =SUM(E28:E32) -> 181211 | F33: =SUM(F28:F32) -> 0 | G33: =SUM(G28:G32) -> 0 | H33: =SUM(H28:H32) -> 44 | I33: =SUM(I28:I32) -> 0
A34: 20 | B34: Magánszemélyek jövedelemadói | C34: B311 | D34: =SUM(E34:I34) -> 0
A35: 21 | B35: Társaságok jövedelemadói | C35: B312 | D35: =SUM(E35:I35) -> 0
A36: 22 | B36: Jövedelemadók | C36: B31 | D36: =SUM(E36:I36) -> 0 | E36: =SUM(E34:E35) -> 0 | F36: =SUM(F34:F35) -> 0 | G36: =SUM(G34:G35) -> 0 | H36: =SUM(H34:H35) -> 0 | I36: =SUM(I34:I35) -> 0
A37: 23 | B37: Szociális hozzájárulási adó és járulékok | C37: B32 | D37: =SUM(E37:I37) -> 0
A38: 24 | B38: Bérhez és foglalkoztatáshoz kapcsolódó adók | C38: B33 | D38: =SUM(E38:I38) -> 0
A39: 25 | B39: Vagyoni tipusú adók | C39: B34 | D39: =SUM(E39:I39) -> 91747 | E39: 91747
A40: 26 | B40: Értékesítési és forgalmi adók | C40: B351 | D40: =SUM(E40:I40) -> 187900 | E40: 187900
A41: 27 | B41: Fogyasztási adók | C41: B352 | D41: =SUM(E41:I41) -> 0
A42: 28 | B42: Pénzügyi monopóliumok nyereségét terhelő adók | C42: B353 | D42: =SUM(E42:I42) -> 0
A43: 29 | B43: Gépjárműadók | C43: B354 | D43: =SUM(E43:I43) -> 10688 | E43: 10688
A44: 30 | B44: Egyéb áruhasználati és szolgáltatási adók | C44: B355 | D44: =SUM(E44:I44) -> 0
A45: 31 | B45: Termékek és szolgáltatások adói | C45: B35 | D45: =SUM(E45:I45) -> 198588 | E45: =SUM(E40:E44) -> 198588 | F45: =SUM(F40:F44) -> 0 | G45: =SUM(G40:G44) -> 0 | H45: =SUM(H40:H44) -> 0 | I45: =SUM(I40:I44) -> 0
A46: 32 | B46: Egyéb közhatalmi bevételek | C46: B36 | D46: =SUM(E46:I46) -> 1413 | E46: 1413
A47: 33 | B47: Közhatalmi bevételek | C47: B3 | D47: =SUM(E47:I47) -> 291748 | E47: =E36+E37+E38+E39+E45+E46 -> 291748 | F47: =F36+F37+F38+F39+F45+F46 -> 0 | G47: =G36+G37+G38+G39+G45+G46 -> 0 | H47: =H36+H37+H38+H39+H45+H46 -> 0 | I47: =I36+I37+I38+I39+I45+I46 -> 0
A48: 34 | B48: Áru- és készletértékesítés ellenértéke | C48: B401 | D48: =SUM(E48:I48) -> 0
A49: 35 | B49: Szolgáltatások ellenértéke | C49: B402 | D49: =SUM(E49:I49) -> 9292 | F49: 360 | G49: 1050 | H49: 6688 | I49: 1194
A50: 36 | B50: Közvetített szolgáltatások értéke | C50: B403 | D50: =SUM(E50:I50) -> 3690 | E50: =SUM(E51:E52) -> 560 | F50: =SUM(F51:F52) -> 1500 | G50: =SUM(G51:G52) -> 1630 | H50: =SUM(H51:H52) -> 0 | I50: =SUM(I51:I52) -> 0
B51: - ebből ÁHT-n belülre közvetített | C51: B4031 | D51: =SUM(E51:I51) -> 1820 | E51: 240 | F51: 1500 | G51: 80
B52: - ebből áht-n kívülre közvetített | C52: B4032 | D52: =SUM(E52:I52) -> 1870 | E52: 320 | G52: 1550
A53: 37 | B53: Tulajdonosi bevételek | C53: B404 | D53: =SUM(E53:I53) -> 20359 | E53: 20359
A54: 38 | B54: Ellátási díjak | C54: B405 | D54: =SUM(E54:I54) -> 12612 | E54: 3579 | F54: 502 | H54: 8531
A55: 39 | B55: Kiszámlázott általános forgalmi adó | C55: B406 | D55: =SUM(E55:I55) -> 7231 | E55: 6507 | G55: 724
A56: 40 | B56: Általános forgalmi adó visszatérítése | C56: B407 | D56: =SUM(E56:I56) -> 4864 | H56: 4864
A57: 41 | B57: Kamatbevételek | C57: B408 | D57: =SUM(E57:I57) -> 1300 | E57: 1300
A58: 42 | B58: Egyéb pénzügyi műveletek bevételei | C58: B409 | D58: =SUM(E58:I58) -> 0
A59: 43 | B59: Egyéb működési bevételek | C59: B410 | D59: =SUM(E59:I59) -> 191 | E59: 191
A60: 44 | B60: Működési bevételek | C60: B4 | D60: =SUM(E60:I60) -> 59539 | E60: =E48+E49+E50+E53+E54+E55+E56+E57+E58+E59 -> 32496 | F60: =F48+F49+F50+F53+F54+F55+F56+F57+F58+F59 -> 2362 | G60: =G48+G49+G50+G53+G54+G55+G56+G57+G58+G59 -> 3404 | H60: =H48+H49+H50+H53+H54+H55+H56+H57+H58+H59 -> 20083 | I60: =I48+I49+I50+I53+I54+I55+I56+I57+I58+I59 -> 1194
A61: 45 | B61: Immateriális javak értékesítése | C61: B51 | D61: =SUM(E61:I61) -> 0
A62: 46 | B62: Ingatlanok értékesítése | C62: B52 | D62: =SUM(E62:I62) -> 8199 | E62: 8199
A63: 47 | B63: Egyéb tárgyi eszközök értékesítése | C63: B53 | D63: =SUM(E63:I63) -> 286 | F63: 286
A64: 48 | B64: Részesedések értékesítése | C64: B54 | D64: =SUM(E64:I64) -> 0
A65: 49 | B65: Részesedések megszűnéséhez kapcsolódó bevételek | C65: B55 | D65: =SUM(E65:I65) -> 0
A66: 50 | B66: Felhalmozási bevételek | C66: B5 | D66: =SUM(E66:I66) -> 8485 | E66: =SUM(E61:E65) -> 8199 | F66: =SUM(F61:F65) -> 286 | G66: =SUM(G61:G65) -> 0 | H66: =SUM(H61:H65) -> 0 | I66: =SUM(I61:I65) -> 0
A67: 51 | B67: Működési célú garancia- és kezességvállalásból származó megtérülések államháztartáson kívülről | C67: B61 | D67: =SUM(E67:I67) -> 0
A68: 52 | B68: Működési célú visszatérítendő támogatások, kölcsönök visszatérülése államháztartáson kívülről | C68: B62 | D68: =SUM(E68:I68) -> 0
A69: 53 | B69: Egyéb működési célú átvett pénzeszközök | C69: B63 | D69: =SUM(E69:I69) -> 385 | G69: 70 | I69: 315
A70: 54 | B70: Működési célú átvett pénzeszközök | C70: B6 | D70: =SUM(E70:I70) -> 385 | E70: =SUM(E67:E69) -> 0 | F70: =SUM(F67:F69) -> 0 | G70: =SUM(G67:G69) -> 70 | H70: =SUM(H67:H69) -> 0 | I70: =SUM(I67:I69) -> 315
A71: 55 | B71: Felhalmozási célú garancia- és kezességvállalásból származó megtérülések államháztartáson kívülről | C71: B71 | D71: =SUM(E71:I71) -> 0
A72: 56 | B72: Felhalmozási célú visszatérítendő támogatások, kölcsönök visszatérülése államháztartáson kívülről | C72: B72 | D72: =SUM(E72:I72) -> 0
A73: 57 | B73: Egyéb felhalmozási célú átvett pénzeszközök | C73: B73 | D73: =SUM(E73:I73) -> 352 | E73: 352
A74: 58 | B74: Felhalmozási célú átvett pénzeszközök | C74: B7 | D74: =SUM(E74:I74) -> 352 | E74: =SUM(E71:E73) -> 352 | F74: =SUM(F71:F73) -> 0 | G74: =SUM(G71:G73) -> 0 | H74: =SUM(H71:H73) -> 0 | I74: =SUM(I71:I73) -> 0
A75: 59 | B75: Költségvetési bevételek | C75: B1-B7 | D75: =SUM(E75:I75) -> 1000154 | E75: =E27+E33+E47+E60+E66+E70+E74 -> 888027 | F75: =F27+F33+F47+F60+F66+F70+F74 -> 3871 | G75: =G27+G33+G47+G60+G66+G70+G74 -> 85526 | H75: =H27+H33+H47+H60+H66+H70+H74 -> 21221 | I75: =I27+I33+I47+I60+I66+I70+I74 -> 1509
A76: 60 | B76: Hitel-, kölcsönfelvétel államháztartáson kívülről | C76: B811 | D76: =SUM(E76:I76) -> 0
A77: 61 | B77: Belföldi értékpapírok bevételei | C77: B812 | D77: =SUM(E77:I77) -> 0
A78: 62 | B78: Előző év költségvetési maradványának igénybevétele | C78: B8131 | D78: =SUM(E78:I78) -> 565881 | E78: 530547 | F78: 8680 | G78: 20933 | H78: 4153 | I78: 1568
A79: 63 | B79: Előző év vállalkozási maradványának igénybevétele | C79: B8132 | D79: =SUM(E79:I79) -> 0
A80: 64 | B80: Maradvány igénybevétele | C80: B813 | D80: =SUM(E80:I80) -> 565881 | E80: =SUM(E78:E79) -> 530547 | F80: =SUM(F78:F79) -> 8680 | G80: =SUM(G78:G79) -> 20933 | H80: =SUM(H78:H79) -> 4153 | I80: =SUM(I78:I79) -> 1568
A81: 65 | B81: Államháztartáson belüli megelőlegezések | C81: B814 | D81: =SUM(E81:I81) -> 41242 | E81: 41242
A82: 66 | B82: Államháztartáson belüli megelőlegezések törlesztése | C82: B815 | D82: =SUM(E82:I82) -> 0
A83: 67 | B83: Központi, irányító szervi támogatás | C83: B816 | D83: =SUM(E83:I83) -> 474211 | F83: 158313 | G83: 145910 | H83: 114857 | I83: 55131
A84: 68 | B84: Betétek megszüntetése | C84: B817 | D84: =SUM(E84:I84) -> 0
A85: 69 | B85: Központi költségvetés sajátos finanszírozási bevételei | C85: B818 | D85: =SUM(E85:I85) -> 0
A86: 70 | B86: Belföldi finanszírozás bevételei | C86: B81 | D86: =SUM(E86:I86) -> 1081334 | E86: =(SUM(E80:E85))+E76+E77 -> 571789 | F86: =(SUM(F80:F85))+F76+F77 -> 166993 | G86: =(SUM(G80:G85))+G76+G77 -> 166843 | H86: =(SUM(H80:H85))+H76+H77 -> 119010 | I86: =(SUM(I80:I85))+I76+I77 -> 56699
A87: 71 | B87: Külföldi finanszírozás bevételei | C87: B82 | D87: =SUM(E87:I87) -> 0
A88: 72 | B88: Finanszírozási bevételek | C88: B8 | D88: =SUM(E88:I88) -> 1081334 | E88: =SUM(E86:E87) -> 571789 | F88: =SUM(F86:F87) -> 166993 | G88: =SUM(G86:G87) -> 166843 | H88: =SUM(H86:H87) -> 119010 | I88: =SUM(I86:I87) -> 56699
A89: 73 | B89: Összes bevétel | D89: =SUM(E89:I89) -> 2081488 | E89: =E75+E88 -> 1459816 | F89: =F75+F88 -> 170864 | G89: =G75+G88 -> 252369 | H89: =H75+H88 -> 140231 | I89: =I75+I88 -> 58208

Sheet 1c
B1: Berhida Város Önkormányzata | C1: 2.e. melléklet
B2: 2016. évi költségvetés | C2: a 9/2017. (V.31.) önkormányzati rendelethez
B3: Bevételek | C3: adatok Ft-ban
B5: Teljesítés 12.31. | D5: Összesen | E5: Önkorm | F5: Hivatal | G5: TESZ | H5: Süni | I5: Kultúrház
A6: Sor- szám | B6: Rovat megnevezése | C6: Rovat száma | D6: Teljesítés | E6: Teljesítés | F6: Teljesítés | G6: Teljesítés | H6: Teljesítés | I6: Teljesítés
A7: 1. | B7: 2. | C7: 3. | D7: 4. | E7: 5. | F7: 6. | G7: 7. | H7: 8. | I7: 9.
A8: 01 | B8: Helyi önkormányzatok működésének általános támogatása | C8: B111 | D8: =SUM(E8:I8) -> 114837274 | E8: 114837274
A9: 02 | B9: Települési önkormányzatok egyes köznevelési feladatainak támogatása | C9: B112 | D9: =SUM(E9:I9) -> 131092486 | E9: 131092486
A10: 03 | B10: Tel önkorm szociális és gyermekjóléti, gyermekétk feladatainak támogatása | C10: B113 | D10: =SUM(E10:I10) -> 96316402 | E10: 96316402
A11: 04 | B11: Települési önkormányzatok kulturális feladatainak támogatása | C11: B114 | D11: =SUM(E11:I11) -> 7205360 | E11: 7205360
A12: 05 | B12: Működési célú költségvetési támogatások és kiegészítő támogatások | C12: B115 | D12: =SUM(E12:I12) -> 3107563 | E12: 3107563
A13: 06 | B13: Elszámolásból származó bevételek | C13: B116 | D13: =SUM(E13:I13) -> 0
A14: 07 | B14: Önkormányzatok működési támogatásai | C14: B11 | D14: =SUM(E14:I14) -> 352559085 | E14: =SUM(E8:E13) -> 352559085 | F14: =SUM(F8:F13) -> 0 | G14: =SUM(G8:G13) -> 0 | H14: =SUM(H8:H13) -> 0 | I14: =SUM(I8:I13) -> 0
A15: 08 | B15: Elvonások és befizetések bevételei | C15: B12 | D15: =SUM(E15:I15) -> 0
A16: 09 | B16: Működési célú garancia- és kezességvállalásból származó megtérülések államháztartáson belülről | C16: B13 | D16: =SUM(E16:I16) -> 0
A17: 10 | B17: Működési célú visszatérítendő támogatások, kölcsönök visszatérülése államháztartáson belülről | C17: B14 | D17: =SUM(E17:I17) -> 0
A18: 11 | B18: Működési célú visszatérítendő támogatások, kölcsönök igénybevétele államháztartáson belülről | C18: B15 | D18: =SUM(E18:I18) -> 0
A19: 12 | B19: Egyéb működési célú támogatások bevételei államháztartáson belülről | C19: B16 | D19: =SUM(E19:I19) -> 108495470 | E19: =SUM(E20:E26) -> 19696300 | F19: =SUM(F20:F26) -> 1415281 | G19: =SUM(G20:G26) -> 86382791 | H19: =SUM(H20:H26) -> 1001098 | I19: =SUM(I20:I26) -> 0
B20: - ebből központi költségvetési szervek | C20: B161 | D20: =SUM(E20:I20) -> 0
B21: - ebből Társadalombiztosítási Alapok | C21: B162 | D21: =SUM(E21:I21) -> 14203100 | E21: 14203100
B22: - ebből elkülönített állami alapok (MUNKAÜGYI KP közfoglalk) | C22: B163 | D22: =SUM(E22:I22) -> 87383889 | G22: 86382791 | H22: 1001098
B23: - ebből helyi önkormányzatok és költségvetési szerveik | C23: B164 | D23: =SUM(E23:I23) -> 0
B24: - ebből társulások és költségvetési szerveik | C24: B165 | D24: =SUM(E24:I24) -> 0
B25: - ebből nemzetiségi önkormányzatok és költségvetési szerveik | C25: B166 | D25: =SUM(E25:I25) -> 0
B26: - ebből fejezeti kezelésű | C26: B167 | D26: =SUM(E26:I26) -> 6908481 | E26: 5493200 | F26: 1415281
A27: 13 | B27: Működési célú támogatások államháztartáson belülről | C27: B1 | D27: =SUM(E27:I27) -> 461054555 | E27: =SUM(E14:E19) -> 372255385 | F27: =SUM(F14:F19) -> 1415281 | G27: =SUM(G14:G19) -> 86382791 | H27: =SUM(H14:H19) -> 1001098 | I27: =SUM(I14:I19) -> 0
A28: 14 | B28: Felhalmozási célú önkormányzati támogatások | C28: B21 | D28: =SUM(E28:I28) -> 184222915 | E28: 181210765 | G28: 2977150 | H28: 35000
A29: 15 | B29: Felhalmozási célú garancia- és kezességvállalásból származó megtérülések államháztartáson belülről | C29: B22 | D29: =SUM(E29:I29) -> 0
A30: 16 | B30: Felhalmozási célú visszatérítendő támogatások, kölcsönök visszatérülése államháztartáson belülről | C30: B23 | D30: =SUM(E30:I30) -> 0
A31: 17 | B31: Felhalmozási célú visszatérítendő támogatások, kölcsönök igénybevétele államháztartáson belülről | C31: B24 | D31: =SUM(E31:I31) -> 0
A32: 18 | B32: Egyéb felhalmozási célú támogatások bevételei államháztartáson belülről | C32: B25 | D32: =SUM(E32:I32) -> 0
A33: 19 | B33: Felhalmozási célú támogatások államháztartáson belülről | C33: B2 | D33: =SUM(E33:I33) -> 184222915 | E33: =SUM(E28:E32) -> 181210765 | F33: =SUM(F28:F32) -> 0 | G33: =SUM(G28:G32) -> 2977150 | H33: =SUM(H28:H32) -> 35000 | I33: =SUM(I28:I32) -> 0
A34: 20 | B34: Magánszemélyek jövedelemadói | C34: B311 | D34: =SUM(E34:I34) -> 0
A35: 21 | B35: Társaságok jövedelemadói | C35: B312 | D35: =SUM(E35:I35) -> 0
A36: 22 | B36: Jövedelemadók | C36: B31 | D36: =SUM(E36:I36) -> 0 | E36: =SUM(E34:E35) -> 0 | F36: =SUM(F34:F35) -> 0 | G36: =SUM(G34:G35) -> 0 | H36: =SUM(H34:H35) -> 0 | I36: =SUM(I34:I35) -> 0
A37: 23 | B37: Szociális hozzájárulási adó és járulékok | C37: B32 | D37: =SUM(E37:I37) -> 0
A38: 24 | B38: Bérhez és foglalkoztatáshoz kapcsolódó adók | C38: B33 | D38: =SUM(E38:I38) -> 0
A39: 25 | B39: Vagyoni tipusú adók | C39: B34 | D39: =SUM(E39:I39) -> 104327726 | E39: 104327726
A40: 26 | B40: Értékesítési és forgalmi adók | C40: B351 | D40: =SUM(E40:I40) -> 196139163 | E40: 196139163
A41: 27 | B41: Fogyasztási adók | C41: B352 | D41: =SUM(E41:I41) -> 0
A42: 28 | B42: Pénzügyi monopóliumok nyereségét terhelő adók | C42: B353 | D42: =SUM(E42:I42) -> 0
A43: 29 | B43: Gépjárműadók | C43: B354 | D43: =SUM(E43:I43) -> 11606615 | E43: 11606615
A44: 30 | B44: Egyéb áruhasználati és szolgáltatási adók | C44: B355 | D44: =SUM(E44:I44) -> 0
A45: 31 | B45: Termékek és szolgáltatások adói | C45: B35 | D45: =SUM(E45:I45) -> 207745778 | E45: =SUM(E40:E44) -> 207745778 | F45: =SUM(F40:F44) -> 0 | G45: =SUM(G40:G44) -> 0 | H45: =SUM(H40:H44) -> 0 | I45: =SUM(I40:I44) -> 0
A46: 32 | B46: Egyéb közhatalmi bevételek | C46: B36 | D46: =SUM(E46:I46) -> 2872929 | E46: 2713577 | F46: 159352
A47: 33 | B47: Közhatalmi bevételek | C47: B3 | D47: =SUM(E47:I47) -> 314946433 | E47: =E36+E37+E38+E39+E45+E46 -> 314787081 | F47: =F36+F37+F38+F39+F45+F46 -> 159352 | G47: =G36+G37+G38+G39+G45+G46 -> 0 | H47: =H36+H37+H38+H39+H45+H46 -> 0 | I47: =I36+I37+I38+I39+I45+I46 -> 0
A48: 34 | B48: Áru- és készletértékesítés ellenértéke | C48: B401 | D48: =SUM(E48:I48) -> 45800 | G48: 12800 | I48: 33000
A49: 35 | B49: Szolgáltatások ellenértéke | C49: B402 | D49: =SUM(E49:I49) -> 10196081 | F49: 571721 | G49: 1134279 | H49: 6944681 | I49: 1545400
A50: 36 | B50: Közvetített szolgáltatások értéke | C50: B403 | D50: =SUM(E50:I50) -> 2844383 | E50: =SUM(E51:E52) -> 119695 | F50: =SUM(F51:F52) -> 1530600 | G50: =SUM(G51:G52) -> 1194088 | H50: =SUM(H51:H52) -> 0 | I50: =SUM(I51:I52) -> 0
B51: - ebből ÁHT-n belülre közvetített | C51: B4031 | D51: =SUM(E51:I51) -> 2732689 | E51: 119695 | F51: 1530600 | G51: 1082394
B52: - ebből áht-n kívülre közvetített | C52: B4032 | D52: =SUM(E52:I52) -> 111694 | G52: 111694
A53: 37 | B53: Tulajdonosi bevételek | C53: B404 | D53: =SUM(E53:I53) -> 20090761 | E53: 20090761
A54: 38 | B54: Ellátási díjak | C54: B405 | D54: =SUM(E54:I54) -> 12126909 | E54: 3974083 | H54: 8152826
A55: 39 | B55: Kiszámlázott általános forgalmi adó | C55: B406 | D55: =SUM(E55:I55) -> 11380616 | E55: 6092495 | F55: 592499 | G55: 619287 | H55: 4076335
A56: 40 | B56: Általános forgalmi adó visszatérítése | C56: B407 | D56: =SUM(E56:I56) -> 1635000 | E56: 1372000 | G56: 8000 | H56: 255000
A57: 41 | B57: Kamatbevételek | C57: B408 | D57: =SUM(E57:I57) -> 127141 | E57: 81979 | F57: 9386 | G57: 34322 | I57: 1454
A58: 42 | B58: Egyéb pénzügyi műveletek bevételei | C58: B409 | D58: =SUM(E58:I58) -> 916 | E58: 600 | H58: 316
A59: 43 | B59: Egyéb működési bevételek | C59: B410 | D59: =SUM(E59:I59) -> 1291161 | E59: 1113662 | F59: 61757 | G59: 115698 | H59: 10 | I59: 34
A60: 44 | B60: Működési bevételek | C60: B4 | D60: =SUM(E60:I60) -> 59738768 | E60: =E48+E49+E50+E53+E54+E55+E56+E57+E58+E59 -> 32845275 | F60: =F48+F49+F50+F53+F54+F55+F56+F57+F58+F59 -> 2765963 | G60: =G48+G49+G50+G53+G54+G55+G56+G57+G58+G59 -> 3118474 | H60: =H48+H49+H50+H53+H54+H55+H56+H57+H58+H59 -> 19429168 | I60: =I48+I49+I50+I53+I54+I55+I56+I57+I58+I59 -> 1579888
A61: 45 | B61: Immateriális javak értékesítése | C61: B51 | D61: =SUM(E61:I61) -> 0
A62: 46 | B62: Ingatlanok értékesítése | C62: B52 | D62: =SUM(E62:I62) -> 174724 | E62: 174724
A63: 47 | B63: Egyéb tárgyi eszközök értékesítése | C63: B53 | D63: =SUM(E63:I63) -> 225000 | F63: 225000
A64: 48 | B64: Részesedések értékesítése | C64: B54 | D64: =SUM(E64:I64) -> 0
A65: 49 | B65: Részesedések megszűnéséhez kapcsolódó bevételek | C65: B55 | D65: =SUM(E65:I65) -> 0
A66: 50 | B66: Felhalmozási bevételek | C66: B5 | D66: =SUM(E66:I66) -> 399724 | E66: =SUM(E61:E65) -> 174724 | F66: =SUM(F61:F65) -> 225000 | G66: =SUM(G61:G65) -> 0 | H66: =SUM(H61:H65) -> 0 | I66: =SUM(I61:I65) -> 0
A67: 51 | B67: Működési célú garancia- és kezességvállalásból származó megtérülések államháztartáson kívülről | C67: B61 | D67: =SUM(E67:I67) -> 0
A68: 52 | B68: Működési célú visszatérítendő támogatások, kölcsönök visszatérülése államháztartáson kívülről | C68: B62 | D68: =SUM(E68:I68) -> 0
A69: 53 | B69: Egyéb működési célú átvett pénzeszközök | C69: B63 | D69: =SUM(E69:I69) -> 384600 | G69: 69600 | I69: 315000
A70: 54 | B70: Működési célú átvett pénzeszközök | C70: B6 | D70: =SUM(E70:I70) -> 384600 | E70: =SUM(E67:E69) -> 0 | F70: =SUM(F67:F69) -> 0 | G70: =SUM(G67:G69) -> 69600 | H70: =SUM(H67:H69) -> 0 | I70: =SUM(I67:I69) -> 315000
A71: 55 | B71: Felhalmozási célú garancia- és kezességvállalásból származó megtérülések államháztartáson kívülről | C71: B71 | D71: =SUM(E71:I71) -> 0
A72: 56 | B72: Felhalmozási célú visszatérítendő támogatások, kölcsönök visszatérülése államháztartáson kívülről | C72: B72 | D72: =SUM(E72:I72) -> 435500 | E72: 435500
A73: 57 | B73: Egyéb felhalmozási célú átvett pénzeszközök | C73: B73 | D73: =SUM(E73:I73) -> 0
A74: 58 | B74: Felhalmozási célú átvett pénzeszközök | C74: B7 | D74: =SUM(E74:I74) -> 435500 | E74: =SUM(E71:E73) -> 435500 | F74: =SUM(F71:F73) -> 0 | G74: =SUM(G71:G73) -> 0 | H74: =SUM(H71:H73) -> 0 | I74: =SUM(I71:I73) -> 0
A75: 59 | B75: Költségvetési bevételek | C75: B1-B7 | D75: =SUM(E75:I75) -> 1021182495 | E75: =E27+E33+E47+E60+E66+E70+E74 -> 901708730 | F75: =F27+F33+F47+F60+F66+F70+F74 -> 4565596 | G75: =G27+G33+G47+G60+G66+G70+G74 -> 92548015 | H75: =H27+H33+H47+H60+H66+H70+H74 -> 20465266 | I75: =I27+I33+I47+I60+I66+I70+I74 -> 1894888
A76: 60 | B76: Hitel-, kölcsönfelvétel államháztartáson kívülről | C76: B811 | D76: =SUM(E76:I76) -> 0
A77: 61 | B77: Belföldi értékpapírok bevételei | C77: B812 | D77: =SUM(E77:I77) -> 0
A78: 62 | B78: Előző év költségvetési maradványának igénybevétele | C78: B8131 | D78: =SUM(E78:I78) -> 565881621 | E78: 530547080 | F78: 8680504 | G78: 20933084 | H78: 4152888 | I78: 1568065
A79: 63 | B79: Előző év vállalkozási maradványának igénybevétele | C79: B8132 | D79: =SUM(E79:I79) -> 0
A80: 64 | B80: Maradvány igénybevétele | C80: B813 | D80: =SUM(E80:I80) -> 565881621 | E80: =SUM(E78:E79) -> 530547080 | F80: =SUM(F78:F79) -> 8680504 | G80: =SUM(G78:G79) -> 20933084 | H80: =SUM(H78:H79) -> 4152888 | I80: =SUM(I78:I79) -> 1568065
A81: 65 | B81: Államháztartáson belüli megelőlegezések | C81: B814 | D81: =SUM(E81:I81) -> 41241348 | E81: 41241348
A82: 66 | B82: Államháztartáson belüli megelőlegezések törlesztése | C82: B815 | D82: =SUM(E82:I82) -> 0
A83: 67 | B83: Központi, irányító szervi támogatás | C83: B816 | D83: =SUM(E83:I83) -> 431526969 | F83: 150238027 | G83: 125102024 | H83: 104932526 | I83: 51254392
A84: 68 | B84: Betétek megszüntetése | C84: B817 | D84: =SUM(E84:I84) -> 0
A85: 69 | B85: Központi költségvetés sajátos finanszírozási bevételei | C85: B818 | D85: =SUM(E85:I85) -> 0
A86: 70 | B86: Belföldi finanszírozás bevételei | C86: B81 | D86: =SUM(E86:I86) -> 1038649938 | E86: =(SUM(E80:E85))+E76+E77 -> 571788428 | F86: =(SUM(F80:F85))+F76+F77 -> 158918531 | G86: =(SUM(G80:G85))+G76+G77 -> 146035108 | H86: =(SUM(H80:H85))+H76+H77 -> 109085414 | I86: =(SUM(I80:I85))+I76+I77 -> 52822457
A87: 71 | B87: Külföldi finanszírozás bevételei | C87: B82 | D87: =SUM(E87:I87) -> 0
A88: 72 | B88: Finanszírozási bevételek | C88: B8 | D88: =SUM(E88:I88) -> 1038649938 | E88: =SUM(E86:E87) -> 571788428 | F88: =SUM(F86:F87) -> 158918531 | G88: =SUM(G86:G87) -> 146035108 | H88: =SUM(H86:H87) -> 109085414 | I88: =SUM(I86:I87) -> 52822457
A89: 73 | B89: Összes bevétel | D89: =SUM(E89:I89) -> 2059832433 | E89: =E75+E88 -> 1473497158 | F89: =F75+F88 -> 163484127 | G89: =G75+G88 -> 238583123 | H89: =H75+H88 -> 129550680 | I89: =I75+I88 -> 54717345

Sheet 2a
B1: Berhida Város Önkormányzata | C1: 2/a. melléklet
B2: 2016. évi költségvetés | C2: a 9/2017. (V.31.) önkormányzati rendelethez
B3: Kiadások
D4: adatok ezer Ft-ban | E4: adatok Ft-ban
A5: Felújítások | C5: Eredeti előir | D5: Mód ei | E5: Teljesítés 12.31
A6: 1 | B6: ÖNK út-járda felújítások adosságkonsz pály +műsz ell kv-i m, | C6: 99547 | D6: 103593 | E6: 103592805
A7: 2 | B7: ÖNK Süni óvoda tető felújítás adósságkonsz pály+kieg kv-i m | C7: 33766 | D7: 29720
A8: 3 | B8: ÖNK intézményi felújításokhoz kapcs tervek kv-i m | C8: 3000 | D8: 3000 | E8: 1139760
A9: 4 | B9: ÖNK Mesteriskola pályázat tervek kv-i m | C9: 2000 | D9: 2000 | E9: 2000000
A10: 5 | B10: ÖNK Kossuth u. 26. szolg.Lakás nyílászáró,homlokzat II.ütem | C10: 2847 | D10: 4232 | E10: 4143288
A11: 6 | B11: ÖNK Süni Óvoda nyílászáró csere kv-i m | C11: 475 | D11: 475 | E11: 475447
A12: 7 | B12: ÖNK Hétszín Óvoda átalakítási, felúj enged és kivit terv kv-i m | C12: 3994 | D12: 3994 | E12: 3994150
A13: 8 | B13: ÖNK Hétszín Óvoda konyhatechnológiai terv kv-i m | C13: 330 | D13: 330 | E13: 330200
A14: 9 | B14: ÖNK Kiskovácsi szennyvízátemelő szivattyú csere | C14: 767 | D14: 767 | E14: 766845
A15: 10 | B15: ÖNK hulladékudvar kerítés felújítás kv-i mar | C15: 500 | D15: 500
A16: 11 | B16: ÖNK Önk Hivatal vizesblokk felújítás kv-i mar | C16: 5200 | D16: 3670 | E16: 2837716
A17: 12 | B17: ÖNK Pgytp Orgona u. 1/1 üzlet burkolási munkák | C17: 12 | D17: 12 | E17: 12340
A18: 13 | B18: TESZ jármű felújítás | C18: 254 | D18: 0
A19: 14 | B19: ÖH informatikai eszköz felújítás | C19: 381 | D19: 381 | E19: 42635
A20: 15 | B20: ÖH egyéb gép, berendezés felújítás | C20: 127 | D20: 127
A21: 16 | B21: ÖNK Hétszínv bölcsőde műk eng.kerítés, homokozó | D21: 2250 | E21: 2171668
A22: 17 | B22: ÖNK térfigyelő kamerák felújítása | D22: 0
A23: 18 | B23: ÖNK Kossuth u. 26. szolg. Lakás nyílászáró csere, kémény | D23: 0
A24: 19 | B24: ÖNK Ady tanári szoba gipsz karton fal | D24: 200 | E24: 184924
A25: 20 | B25: ÖNK Ady régi isk vizesblokk felújítás | D25: 1611 | E25: 504800
A26: 21 | B26: ÖNK Rezeda 19. szolg. Lakás parkettázás, beázás | D26: 297 | E26: 295864
A27: 22 | B27: ÖNK kultúrház homlokzat felújítás | D27: 969 | E27: 968886
A28: 23 | B28: ÖNK Pgytp 1848-49 emlékmű felújítás | D28: 2000
A29: 24 | B29: ÖNK Arany J u. felújítás süllyedés, kereszteződés | D29: 1600 | E29: 1486155
A30: 25 | B30: ÖNK járdalapos járdák felújítása Dankó u… | D30: 0
A31: 26 | B31: ÖNK Orgona-Szegfű utca útkereszteződés felújítás | D31: 3731 | E31: 3730498
A32: 27 | B32: ÖNK Süni Óvoda 6 cs szoba parkettázés műk. Enged. | D32: 3447 | E32: 3442744
A33: 28 | B33: ÖNK Süni Óvoda ablakcsere | D33: 2400 | E33: 2370425
A34: 29 | B34: ÖNK Süni Óvoda konyha-nevelő hely. Közötti tető felúj | D34: 613 | E34: 611334
A35: 30 | B35: ÖNK Ibolya u. 23. szolg. Lakás redőny elhelyezés | D35: 65 | E35: 64900
A36: 31 | B36: ÖNK ép. Villamos főelosztó-szekrény, mérőhely szabványosítás | D36: 1759 | E36: 1758925
A37: 32 | B37: TESZ egyéb gép, berendezés felújítás (közf) | D37: 254 | E37: 154530
A38: 33 | B38: ÖNK Vis maior József A u. Cinca patak áteresz csere | D38: 4116 | E38: 4115194
A39: 34 | B39: ÖNK Berhida III. József A u.átemelőszennyv szivattyú HKA | D39: 604
A40: 35 | B40: ÖNK Ady Informatika terem felújítás | D40: 200 | E40: 195574
A41: 35 | B41: ÖNK Adósságkonsz nem rész. Önk támog 2016 út-járda pály | D41: 181042
A42: 36 | B42: Összesen | C42: =SUM(C6:C39) -> 153200 | D42: =SUM(D6:D41) -> 359959 | E42: =SUM(E6:E41) -> 141391607

Sheet 2b
B1: Berhida Város Önkormányzata | C1: 2/b. melléklet
B2: 2016. évi költségvetés | C2: a 9/2017. (V.31.) önkormányzati rendelethez
B3: Kiadások
D4: adatok ezer Ft-ban | E4: adatok Ft-ban
A5: Beruházások | C5: Eredeti előir | D5: Mód ei | E5: Teljesítés 12.31
A6: 1 | B6: ÖNK út-járda felújítások adosságkonsz pály +műsz ell kv-i m | C6: 50042 | D6: 39508 | E6: 39507751
A7: 2 | B7: ÖNK intézményi beruházásokhoz kapcs tervek kv-i m | C7: 3000 | D7: 2999 | E7: 1242200
A8: 3 | B8: ÖNK városközpont zöldpark kial munk, tervek kv-i m | C8: 1217 | D8: 1217 | E8: 1217000
A9: 4 | B9: ÖNK integrált településfejlesztési stratégia kv-i m | C9: 2540 | D9: 2540 | E9: 2540000
A10: 5 | B10: ÖNK elkerülő út eng-kiviteli terv kv-i m | C10: 953 | D10: 953 | E10: 952500
A11: 6 | B11: ÖNK Veszprémi-Orgona út között telkek villamosterv kv-i m | C11: 499 | D11: 499
A12: 7 | B12: ÖNK köznevelési intézmények egyéb eszközbeszerzés kv-i m | C12: 508 | D12: 108 | E12: 48514
A13: 8 | B13: ÖNK védőnői szolg. Egyéb eszközbeszerzés kv-i m | C13: 127 | D13: 427 | E13: 112743
A14: 9 | B14: ÖNK TESZ telephely vásárlás | C14: 7900 | D14: 10000
A15: 10 | B15: ÖNK Pgytp üzletsor mellett vízmérő kialakítási munkák k-vi mar | C15: 344 | D15: 345 | E15: 345378
A16: 11 | B16: ÖH imm javak + áfa | C16: 1143 | D16: 554 | E16: 255689
A17: 12 | B17: TESZ imm javak +áfa | C17: 330 | D17: 339
A18: 13 | B18: TESZ egyéb tárgyi eszközök beszerz (mód)út-híd egyéb gép | C18: 3708 | D18: 739 | E18: 480004
A19: 14 | B19: Süni inform eszköz + áfa | C19: 203 | D19: 51 | E19: 39999
A20: 15 | B20: Kultúrház egyéb tárgyi eszköz, polc, hangtechnika stb | C20: 22 | D20: 1862 | E20: 1861976
A21: 16 | B21: Kultúrház egyéb tárgyi eszköz | C21: 254 | D21: 479 | E21: 422910
A22: 17 | B22: Kultúrház könyv beszerzés (éven túli) | C22: 347 | D22: 959 | E22: 939268
A23: 18 | B23: Kultúrház informatikai eszköz beszerzés+áfa | D23: 433 | E23: 431990
A24: 19 | B24: Süni Óvoda konyhai robotgép | D24: 703 | E24: 702945
A25: 20 | B25: Süni egyéb tárgyi eszköz + áfa | D25: 812 | E25: 811523
A26: 21 | B26: TESZ informatikai eszközök+áfa | D26: 591 | E26: 57023
A27: 22 | B27: TESZ padok beszerzése (egyéb te+áfa) zöldter | D27: 680 | E27: 559943
A28: 23 | B28: TESZ szekrény, berend beszerzés + áfa | D28: 200
A29: 24 | B29: TESZ B1 kút üzembehelyezése | D29: 450
A30: 25 | B30: ÖH digitális temetőtérkép nyt program | D30: 1321 | E30: 1092200
A31: 26 | B31: ÖH informatikai eszközök + áfa | D31: 2835 | E31: 1015688
A32: 27 | B32: ÖH egyéb gép, berend + áfa | D32: 739 | E32: 707683
A33: 28 | B33: ÖNK önkormányzati WEB lap készítés | D33: 663
A34: 29 | B34: ÖNK hulladékudvar kiszolgáló épület építés | D34: 2100 | E34: 1928293
A35: 30 | B35: ÖNK Ady sportpálya ivókút beszerzés | D35: 150 | E35: 133782
A36: 31 | B36: ÖNK Ady sportpálya alkonykapcsoló, kamera | D36: 0
A37: 32 | B37: ÖNK Péti úti temető urnafal építés | D37: 700 | E37: 512699
A38: 33 | B38: ÖNK Hivatal, Családsegítő KP, TESZ klíma kiépítés | D38: 6841 | E38: 6737627
A39: 34 | B39: ÖNK Arany J. -Dankó u. kerítés építés (régi játszótér) | D39: 0
A40: 35 | B40: ÖNK napelemes közvilágítási lámpák beszerzése | D40: 960 | E40: 935029
A41: 36 | B41: ÖNK Kiskovácsi temető ravatalozó bővítés ÁNTSZ előír | D41: 2470
A42: 37 | B42: TESZ teherautó vásárlás (Mazda helyett) | D42: 6186 | E42: 6172200
A43: 38 | B43: ÖNK Orgona u. üzlet fűtéskorszer térítmentes átvétel ÁFA | D43: 212 | E43: 211789
A44: 39 | B44: ÖNK 0102/5 hrsz-ú út ingyenes átvét áfa | D44: 6 | E44: 5670
A45: 40 | B45: ÖNK Pgytp benzinkúttal sz buszmegálló alatti földter vásárlás | D45: 61 | E45: 60960
A46: 41 | B46: ÖNK Kiskovácsi buszforduló földterület vásárlás+kapcs ktg | D46: 140 | E46: 136906
A47: 42 | B47: TESZ zöldter öntözőszivattyú vásárlás egyéb gép+áfa | D47: 127 | E47: 12990
A48: 43 | B48: ÖNK Ibolya 1756 Hétszínv Óvoda előtt szennyvíz csatorn HKA | D48: 2872 | E48: 2871659
A49: 44 | B49: Kultúrház könyvvásárlás+áfa érd.növ. Tám | D49: 0
A50: 45 | B50: ÖNK Tulipán u. szennyvízcsatornázási munkák | D50: 95 | E50: 94945
A51: 46 | B51: ÖNK rendezési terv, szabályozási tervet ábrázoló táblák | D51: 69 | E51: 68263
A52: 47 | B52: TESZ hosszú közfoglalkoztatás eszközbeszerzés | D52: 3562 | E52: 2627176
A53: 48 | B53: TESZ kisért tárgyi eszközök beszerz zöldter pavilon, üléshuzat | D53: 210 | E53: 144950
A54: 49 | B54: Kultúrház szakkörök kisértékű tárgyi eszk | D54: 373 | E54: 300130
A55: 50 | B55: Kultúrház internetkapcsolat kiépítés | D55: 70 | E55: 69914
A56: 51 | B56: ÖNK földterület vásárlás Berhida 0112/13 hrsz buszford | D56: 140
A57: 52 | B57: ÖNK polgárőr autóra forgó tükrös fényhíd | D57: 150 | E57: 149890
A58: 53 | B58: ÖNK közkutak vízmérő kialakítási munkák HKA | D58: 700
A59: 54 | B59: ÖNK Telekkialakítás villamosenergia hálózat kiépítése 25 | D59: 3878 | E59: 3877056
A60: 55 | B60: ÖNK egyéb inform eszköz beszerzés | D60: 283
A61: 56 | B61: Összesen | C61: =SUM(C6:C60) -> 73137 | D61: =SUM(D6:D60) -> 105361 | E61: =SUM(E6:E60) -> 82396855

Sheet 2d
B1: Berhida Város Önkormányzata | C1: 2.d. melléklet
B2: 2016. évi költségvetés | C2: a 9/2017. (V.31.) önkormányzati rendelethez
B3: Kiadások | C3: adatok ezer Ft-ban
B5: Módosított előirányzat | D5: ÖSSZESEN | E5: Önkorm | F5: Hivatal | G5: TESZ | H5: Süni | I5: Kultúrház
A6: Sor- szám | B6: Rovat megnevezése | C6: Rovat száma | D6: Mód ei | E6: Mód ei | F6: Mód ei | G6: Mód ei | H6: Mód ei | I6: Mód ei
A7: 1. | B7: 2. | C7: 3. | D7: 4. | E7: 5. | F7: 6. | G7: 7. | H7: 8. | I7: 9.
A8: 1 | B8: Személyi juttatások | C8: K1 | D8: =SUM(E8:I8) -> 354280 | E8: 31084 | F8: 105436 | G8: 124659 | H8: 73606 | I8: 19495
A9: 2 | B9: Munkaadókat terhelő járulékok és szociális hozzájárulási adó | C9: K2 | D9: =SUM(E9:I9) -> 88297 | E9: 9476 | F9: 30021 | G9: 23304 | H9: 20122 | I9: 5374
A10: 3 | B10: Dologi kiadások | C10: K3 | D10: =SUM(E10:I10) -> 283439 | E10: 88821 | F10: 29450 | G10: 91068 | H10: 44937 | I10: 29163
A11: 4 | B11: Társadalombiztosítási ellátások | C11: K41 | D11: =SUM(E11:I11) -> 0
A12: 5 | B12: Családi támogatások | C12: K42 | D12: =SUM(E12:I12) -> 5493 | E12: 5493
A13: 6 | B13: Pénzbeli kárpótlások, kártérítések | C13: K43 | D13: =SUM(E13:I13) -> 0
A14: 7 | B14: Betegséggel kapcsolatos (nem társadalombiztosítási) ellátások | C14: K44 | D14: =SUM(E14:I14) -> 0
A15: 8 | B15: Foglalkoztatással, munkanélküliséggel kapcsolatos ellátások | C15: K45 | D15: =SUM(E15:I15) -> 0
A16: 9 | B16: Lakhatással kapcsolatos ellátások | C16: K46 | D16: =SUM(E16:I16) -> 0
A17: 10 | B17: Intézményi ellátottak pénzbeli juttatásai | C17: K47 | D17: =SUM(E17:I17) -> 2500 | E17: 2500
A18: 11 | B18: Egyéb nem intézményi ellátások | C18: K48 | D18: =SUM(E18:I18) -> 19500 | E18: 19500
A19: 12 | B19: Ellátottak pénzbeli juttatásai | C19: K4 | D19: =SUM(E19:I19) -> 27493 | E19: =SUM(E11:E18) -> 27493 | F19: =SUM(F11:F18) -> 0 | G19: =SUM(G11:G18) -> 0 | H19: =SUM(H11:H18) -> 0 | I19: =SUM(I11:I18) -> 0
A20: 13 | B20: Nemzetközi kötelezettségek | C20: K501 | D20: =SUM(E20:I20) -> 0
A21: 14 | B21: Elvonások és befizetések | C21: K502 | D21: =SUM(E21:I21) -> 66 | E21: 66
A22: 15 | B22: Működési célú garancia- és kezességvállalásból származó kifizetés államháztartáson belülre | C22: K503 | D22: =SUM(E22:I22) -> 0
A23: 16 | B23: Működési célú visszatérítendő támogatások, kölcsönök nyújtása államháztartáson belülre | C23: K504 | D23: =SUM(E23:I23) -> 0
A24: 17 | B24: Működési célú visszatérítendő támogatások, kölcsönök törlesztése államháztartáson belülre | C24: K505 | D24: =SUM(E24:I24) -> 0
A25: 18 | B25: Egyéb működési célú támogatások államháztartáson belülre | C25: K506 | D25: =SUM(E25:I25) -> 138513 | E25: =SUM(E26:E33) -> 138513 | F25: =SUM(F26:F33) -> 0 | G25: =SUM(G26:G33) -> 0 | H25: =SUM(H26:H33) -> 0 | I25: =SUM(I26:I33) -> 0
B26: - ebből központi költségvetési szervek | C26: K5061 | D26: =SUM(E26:I26) -> 0
B27: - ebből Társadalombiztosítási Alapok | C27: K5062 | D27: =SUM(E27:I27) -> 0
B28: - ebből elkülönített állami alapok | C28: K5063 | D28: =SUM(E28:I28) -> 0
B29: - ebből helyi önkormányzatok és költségvetési szerveik | C29: K5064 | D29: =SUM(E29:I29) -> 0
B30: - ebből társulások és költségvetési szerveik | C30: K50651 | D30: =SUM(E30:I30) -> 3510 | E30: 3510
B31: - ebből köznevelési társulásnak | C31: K50652 | D31: =SUM(E31:I31) -> 103247 | E31: 103247
B32: - ebből szociális társulásnak | C32: K50653 | D32: =SUM(E32:I32) -> 31256 | E32: 31256
B33: - ebből fejezeti kez közp Rendőrség tám | C33: K5066 | D33: =SUM(E33:I33) -> 500 | E33: 500
A34: 19 | B34: Működési célú garancia- és kezességvállalásból származó kifizetés államháztartáson kívülre | C34: K507 | D34: =SUM(E34:I34) -> 0
A35: 20 | B35: Működési célú visszatérítendő támogatások, kölcsönök nyújtása államháztartáson kívülre | C35: K508 | D35: =SUM(E35:I35) -> 0
A36: 21 | B36: Árkiegészítések, ártámogatások | C36: K509 | D36: =SUM(E36:I36) -> 0
A37: 22 | B37: Kamattámogatások | C37: K510 | D37: =SUM(E37:I37) -> 0
A38: 23 | B38: Egyéb működési célú támogatások államháztartáson kívülre | C38: K511 | D38: =SUM(E38:I38) -> 6522 | E38: 6522
A39: 24 | B39: Tartalékok | C39: K512 | D39: =SUM(E39:I39) -> 187423 | E39: 187423
A40: 25 | B40: Egyéb működési célú kiadások | C40: K5 | D40: =SUM(E40:I40) -> 332524 | E40: =E20+E21+E22+E23+E24+E25+E34+E35+E36+E37+E38+E39 -> 332524 | F40: =F20+F21+F22+F23+F24+F25+F34+F35+F36+F37+F38+F39 -> 0 | G40: =G20+G21+G22+G23+G24+G25+G34+G35+G36+G37+G38+G39 -> 0 | H40: =H20+H21+H22+H23+H24+H25+H34+H35+H36+H37+H38+H39 -> 0 | I40: =I20+I21+I22+I23+I24+I25+I34+I35+I36+I37+I38+I39 -> 0
A41: 26 | B41: Immateriális javak, vagy jogok beszerzése, létesítése | C41: K61 | D41: =SUM(E41:I41) -> 4265 | E41: 2522 | F41: 1476 | G41: 267
A42: 27 | B42: Ingatlanok beszerzése, létesítése | C42: K62 | D42: =SUM(E42:I42) -> 53949 | E42: 53595 | G42: 354
A43: 28 | B43: Informatikai eszközök beszerzése, létesítése | C43: K63 | D43: =SUM(E43:I43) -> 3301 | E43: 223 | F43: 2232 | G43: 465 | H43: 40 | I43: 341
A44: 29 | B44: Egyéb tárgyi eszközök beszerzése, létesítése | C44: K64 | D44: =SUM(E44:I44) -> 21494 | E44: 7406 | F44: 582 | G44: 9217 | H44: 1194 | I44: 3095
A45: 30 | B45: Részesedések beszerzése | C45: K65 | D45: =SUM(E45:I45) -> 0
A46: 31 | B46: Meglévő részesedések növeléséhez kapcsolódó kiadások | C46: K66 | D46: =SUM(E46:I46) -> 0
A47: 32 | B47: Beruházási célú előzetesen felszámított általános forgalmi adó | C47: K67 | D47: =SUM(E47:I47) -> 22352 | E47: 17340 | F47: 1159 | G47: 2781 | H47: 332 | I47: 740
A48: 33 | B48: Beruházások | C48: K6 | D48: =SUM(E48:I48) -> 105361 | E48: =SUM(E41:E47) -> 81086 | F48: =SUM(F41:F47) -> 5449 | G48: =SUM(G41:G47) -> 13084 | H48: =SUM(H41:H47) -> 1566 | I48: =SUM(I41:I47) -> 4176
A49: 34 | B49: Ingatlanok felújítása | C49: K71 | D49: =SUM(E49:I49) -> 282228 | E49: 282228
A50: 35 | B50: Informatikai eszközök felújítása | C50: K72 | D50: =SUM(E50:I50) -> 300 | F50: 300
A51: 36 | B51: Egyéb tárgyi eszközök felújítása | C51: K73 | D51: =SUM(E51:I51) -> 904 | E51: 604 | F51: 100 | G51: 200
A52: 37 | B52: Felújítási célú előzetesen felszámított általános forgalmi adó | C52: K74 | D52: =SUM(E52:I52) -> 76527 | E52: 76365 | F52: 108 | G52: 54
A53: 38 | B53: Felújítások | C53: K7 | D53: =SUM(E53:I53) -> 359959 | E53: =SUM(E49:E52) -> 359197 | F53: =SUM(F49:F52) -> 508 | G53: =SUM(G49:G52) -> 254 | H53: =SUM(H49:H52) -> 0 | I53: =SUM(I49:I52) -> 0
A54: 39 | B54: Felhalmozási célú garancia- és kezességvállalásból származó kifizetés államháztartáson belülre | C54: K81 | D54: =SUM(E54:I54) -> 0
A55: 40 | B55: Felhalmozási célú visszatérítendő támogatások, kölcsönök nyújtása államháztartáson belülre | C55: K82 | D55: =SUM(E55:I55) -> 0
A56: 41 | B56: Felhalmozási célú visszatérítendő támogatások, kölcsönök törlesztése államháztartáson belülre | C56: K83 | D56: =SUM(E56:I56) -> 0
A57: 42 | B57: Egyéb felhalmozási célú támogatások államháztartáson belülre | C57: K84 | D57: =SUM(E57:I57) -> 1756 | E57: 1756
A58: 43 | B58: Felhalmozási célú garancia- és kezességvállalásból származó kifizetés államháztartáson kívülre | C58: K85 | D58: =SUM(E58:I58) -> 0
A59: 44 | B59: Felhalmozási célú visszatérítendő támogatások, kölcsönök nyújtása államháztartáson kívülre | C59: K86 | D59: =SUM(E59:I59) -> 0
A60: 45 | B60: Lakástámogatás | C60: K87 | D60: =SUM(E60:I60) -> 0
A61: 46 | B61: Egyéb felhalmozási célú támogatások államháztartáson kívülre | C61: K88 | D61: =SUM(E61:I61) -> 1144 | E61: 1144
A62: 47 | B62: Egyéb felhalmozási célú kiadások | C62: K8 | D62: =SUM(E62:I62) -> 2900 | E62: =SUM(E54:E61) -> 2900 | F62: =SUM(F54:F61) -> 0 | G62: =SUM(G54:G61) -> 0 | H62: =SUM(H54:H61) -> 0 | I62: =SUM(I54:I61) -> 0
A63: 48 | B63: Költségvetési kiadások | C63: K1-K8 | D63: =SUM(E63:I63) -> 1554253 | E63: =E8+E9+E10+E19+E40+E48+E53+E62 -> 932581 | F63: =F8+F9+F10+F19+F40+F48+F53+F62 -> 170864 | G63: =G8+G9+G10+G19+G40+G48+G53+G62 -> 252369 | H63: =H8+H9+H10+H19+H40+H48+H53+H62 -> 140231 | I63: =I8+I9+I10+I19+I40+I48+I53+I62 -> 58208
A64: 49 | B64: Hitel-, kölcsöntörlesztés államháztartáson kívülre | C64: K911 | D64: =SUM(E64:I64) -> 0
A65: 50 | B65: Belföldi értékpapírok kiadásai | C65: K912 | D65: =SUM(E65:I65) -> 0
A66: 51 | B66: Államháztartáson belüli megelőlegezések folyósítása | C66: K913 | D66: =SUM(E66:I66) -> 0
A67: 52 | B67: Államháztartáson belüli megelőlegezések visszafizetése | C67: K914 | D67: =SUM(E67:I67) -> 53024 | E67: 53024
A68: 53 | B68: Központi, irányító szervi támogatások folyósítása | C68: K915 | D68: =SUM(E68:I68) -> 474211 | E68: 474211
A69: 54 | B69: Pénzeszközök betétként elhelyezése | C69: K916 | D69: =SUM(E69:I69) -> 0
A70: 55 | B70: Pénzügyi lízing kiadásai | C70: K917 | D70: =SUM(E70:I70) -> 0
A71: 56 | B71: Központi költségvetés sajátos finanszírozási kiadásai | C71: K918 | D71: =SUM(E71:I71) -> 0
A72: 57 | B72: Belföldi finanszírozás kiadásai | C72: K91 | D72: =SUM(E72:I72) -> 527235 | E72: =SUM(E64:E71) -> 527235 | F72: =SUM(F64:F71) -> 0 | G72: =SUM(G64:G71) -> 0 | H72: =SUM(H64:H71) -> 0 | I72: =SUM(I64:I71) -> 0
A73: 58 | B73: Külföldi finanszírozás kiadásai | C73: K92 | D73: =SUM(E73:I73) -> 0
A74: 59 | B74: Finanszírozási kiadások | C74: K9 | D74: =SUM(E74:I74) -> 527235 | E74: =SUM(E72:E73) -> 527235 | F74: =SUM(F72:F73) -> 0 | G74: =SUM(G72:G73) -> 0 | H74: =SUM(H72:H73) -> 0 | I74: =SUM(I72:I73) -> 0
A75: 60 | B75: Összes kiadás | D75: =SUM(E75:I75) -> 2081488 | E75: =E63+E74 -> 1459816 | F75: =F63+F74 -> 170864 | G75: =G63+G74 -> 252369 | H75: =H63+H74 -> 140231 | I75: =I63+I74 -> 58208

Sheet 2e
B1: Berhida Város Önkormányzata | C1: 2.e. melléklet
B2: 2016. évi költségvetés | C2: a 9/2017. (V.31.) önkormányzati rendelethez
B3: Kiadások | C3: adatok Ft-ban
B5: Teljesítés 12.31. | D5: ÖSSZESEN | E5: Önkorm | F5: Hivatal | G5: TESZ | H5: Süni | I5: Kultúrház
A6: Sor- szám | B6: Rovat megnevezése | C6: Rovat száma | D6: Teljesítés | E6: Teljesítés | F6: Teljesítés | G6: Teljesítés | H6: Teljesítés | I6: Teljesítés
A7: 1. | B7: 2. | C7: 3. | D7: 4. | E7: 5. | F7: 6. | G7: 7. | H7: 8. | I7: 9.
A8: 1 | B8: Személyi juttatások | C8: K1 | D8: =SUM(E8:I8) -> 331641700 | E8: 28592978 | F8: 100828866 | G8: 115293581 | H8: 68480592 | I8: 18445683
A9: 2 | B9: Munkaadókat terhelő járulékok és szociális hozzájárulási adó | C9: K2 | D9: =SUM(E9:I9) -> 83120167 | E9: 8063905 | F9: 27680180 | G9: 22360799 | H9: 19918815 | I9: 5096468
A10: 3 | B10: Dologi kiadások | C10: K3 | D10: =SUM(E10:I10) -> 208798067 | E10: 56557699 | F10: 20129197 | G10: 72168733 | H10: 34518915 | I10: 25423523
A11: 4 | B11: Társadalombiztosítási ellátások | C11: K41 | D11: =SUM(E11:I11) -> 0
A12: 5 | B12: Családi támogatások | C12: K42 | D12: =SUM(E12:I12) -> 5492600 | E12: 5492600
A13: 6 | B13: Pénzbeli kárpótlások, kártérítések | C13: K43 | D13: =SUM(E13:I13) -> 0
A14: 7 | B14: Betegséggel kapcsolatos (nem társadalombiztosítási) ellátások | C14: K44 | D14: =SUM(E14:I14) -> 0
A15: 8 | B15: Foglalkoztatással, munkanélküliséggel kapcsolatos ellátások | C15: K45 | D15: =SUM(E15:I15) -> 0
A16: 9 | B16: Lakhatással kapcsolatos ellátások | C16: K46 | D16: =SUM(E16:I16) -> 0
A17: 10 | B17: Intézményi ellátottak pénzbeli juttatásai | C17: K47 | D17: =SUM(E17:I17) -> 1859000 | E17: 1859000
A18: 11 | B18: Egyéb nem intézményi ellátások | C18: K48 | D18: =SUM(E18:I18) -> 6179123 | E18: 6179123
A19: 12 | B19: Ellátottak pénzbeli juttatásai | C19: K4 | D19: =SUM(E19:I19) -> 13530723 | E19: =SUM(E11:E18) -> 13530723 | F19: =SUM(F11:F18) -> 0 | G19: =SUM(G11:G18) -> 0 | H19: =SUM(H11:H18) -> 0 | I19: =SUM(I11:I18) -> 0
A20: 13 | B20: Nemzetközi kötelezettségek | C20: K501 | D20: =SUM(E20:I20) -> 0
A21: 14 | B21: Elvonások és befizetések | C21: K502 | D21: =SUM(E21:I21) -> 64660 | E21: 64660
A22: 15 | B22: Működési célú garancia- és kezességvállalásból származó kifizetés államháztartáson belülre | C22: K503 | D22: =SUM(E22:I22) -> 0
A23: 16 | B23: Működési célú visszatérítendő támogatások, kölcsönök nyújtása államháztartáson belülre | C23: K504 | D23: =SUM(E23:I23) -> 0
A24: 17 | B24: Működési célú visszatérítendő támogatások, kölcsönök törlesztése államháztartáson belülre | C24: K505 | D24: =SUM(E24:I24) -> 0
A25: 18 | B25: Egyéb működési célú támogatások államháztartáson belülre | C25: K506 | D25: =SUM(E25:I25) -> 128204038 | E25: =SUM(E26:E33) -> 128204038 | F25: =SUM(F26:F33) -> 0 | G25: =SUM(G26:G33) -> 0 | H25: =SUM(H26:H33) -> 0 | I25: =SUM(I26:I33) -> 0
B26: - ebből központi költségvetési szervek | C26: K5061 | D26: =SUM(E26:I26) -> 0
B27: - ebből Társadalombiztosítási Alapok | C27: K5062 | D27: =SUM(E27:I27) -> 0
B28: - ebből elkülönített állami alapok | C28: K5063 | D28: =SUM(E28:I28) -> 0
B29: - ebből helyi önkormányzatok és költségvetési szerveik | C29: K5064 | D29: =SUM(E29:I29) -> 0
B30: - ebből társulások és költségvetési szerveik | C30: K50651 | D30: =SUM(E30:I30) -> 1801182 | E30: 1801182
B31: - ebből köznevelési társulásnak | C31: K50652 | D31: =SUM(E31:I31) -> 95604208 | E31: 95604208
B32: - ebből szociális társulásnak | C32: K50653 | D32: =SUM(E32:I32) -> 30298648 | E32: 30298648
B33: - ebből fejezeti kez közp Rendőrség tám | C33: K5066 | D33: =SUM(E33:I33) -> 500000 | E33: 500000
A34: 19 | B34: Működési célú garancia- és kezességvállalásból származó kifizetés államháztartáson kívülre | C34: K507 | D34: =SUM(E34:I34) -> 0
A35: 20 | B35: Működési célú visszatérítendő támogatások, kölcsönök nyújtása államháztartáson kívülre | C35: K508 | D35: =SUM(E35:I35) -> 0
A36: 21 | B36: Árkiegészítések, ártámogatások | C36: K509 | D36: =SUM(E36:I36) -> 0
A37: 22 | B37: Kamattámogatások | C37: K510 | D37: =SUM(E37:I37) -> 0
A38: 23 | B38: Egyéb működési célú támogatások államháztartáson kívülre | C38: K511 | D38: =SUM(E38:I38) -> 3947720 | E38: 3947720
A39: 24 | B39: Tartalékok | C39: K512 | D39: =SUM(E39:I39) -> 0
A40: 25 | B40: Egyéb működési célú kiadások | C40: K5 | D40: =SUM(E40:I40) -> 132216418 | E40: =E20+E21+E22+E23+E24+E25+E34+E35+E36+E37+E38+E39 -> 132216418 | F40: =F20+F21+F22+F23+F24+F25+F34+F35+F36+F37+F38+F39 -> 0 | G40: =G20+G21+G22+G23+G24+G25+G34+G35+G36+G37+G38+G39 -> 0 | H40: =H20+H21+H22+H23+H24+H25+H34+H35+H36+H37+H38+H39 -> 0 | I40: =I20+I21+I22+I23+I24+I25+I34+I35+I36+I37+I38+I39 -> 0
A41: 26 | B41: Immateriális javak, vagy jogok beszerzése, létesítése | C41: K61 | D41: =SUM(E41:I41) -> 3356320 | E41: 2260000 | F41: 1061330 | I41: 34990
A42: 27 | B42: Ingatlanok beszerzése, létesítése | C42: K62 | D42: =SUM(E42:I42) -> 48360217 | E42: 48360217
A43: 28 | B43: Informatikai eszközök beszerzése, létesítése | C43: K63 | D43: =SUM(E43:I43) -> 1236356 | F43: 799752 | G43: 44900 | H43: 31495 | I43: 360209
A44: 29 | B44: Egyéb tárgyi eszközök beszerzése, létesítése | C44: K64 | D44: =SUM(E44:I44) -> 20525437 | E44: 7963890 | F44: 557231 | G44: 7871860 | H44: 1192820 | I44: 2939636
A45: 30 | B45: Részesedések beszerzése | C45: K65 | D45: =SUM(E45:I45) -> 0
A46: 31 | B46: Meglévő részesedések növeléséhez kapcsolódó kiadások | C46: K66 | D46: =SUM(E46:I46) -> 0
A47: 32 | B47: Beruházási célú előzetesen felszámított általános forgalmi adó | C47: K67 | D47: =SUM(E47:I47) -> 8918525 | E47: 5106547 | F47: 652947 | G47: 2137526 | H47: 330152 | I47: 691353
A48: 33 | B48: Beruházások | C48: K6 | D48: =SUM(E48:I48) -> 82396855 | E48: =SUM(E41:E47) -> 63690654 | F48: =SUM(F41:F47) -> 3071260 | G48: =SUM(G41:G47) -> 10054286 | H48: =SUM(H41:H47) -> 1554467 | I48: =SUM(I41:I47) -> 4026188
A49: 34 | B49: Ingatlanok felújítása | C49: K71 | D49: =SUM(E49:I49) -> 111651705 | E49: 111651705
A50: 35 | B50: Informatikai eszközök felújítása | C50: K72 | D50: =SUM(E50:I50) -> 33571 | F50: 33571
A51: 36 | B51: Egyéb tárgyi eszközök felújítása | C51: K73 | D51: =SUM(E51:I51) -> 121677 | G51: 121677
A52: 37 | B52: Felújítási célú előzetesen felszámított általános forgalmi adó | C52: K74 | D52: =SUM(E52:I52) -> 29584654 | E52: 29542737 | F52: 9064 | G52: 32853
A53: 38 | B53: Felújítások | C53: K7 | D53: =SUM(E53:I53) -> 141391607 | E53: =SUM(E49:E52) -> 141194442 | F53: =SUM(F49:F52) -> 42635 | G53: =SUM(G49:G52) -> 154530 | H53: =SUM(H49:H52) -> 0 | I53: =SUM(I49:I52) -> 0
A54: 39 | B54: Felhalmozási célú garancia- és kezességvállalásból származó kifizetés államháztartáson belülre | C54: K81 | D54: =SUM(E54:I54) -> 0
A55: 40 | B55: Felhalmozási célú visszatérítendő támogatások, kölcsönök nyújtása államháztartáson belülre | C55: K82 | D55: =SUM(E55:I55) -> 0
A56: 41 | B56: Felhalmozási célú visszatérítendő támogatások, kölcsönök törlesztése államháztartáson belülre | C56: K83 | D56: =SUM(E56:I56) -> 0
A57: 42 | B57: Egyéb felhalmozási célú támogatások államháztartáson belülre | C57: K84 | D57: =SUM(E57:I57) -> 1755280 | E57: 1755280
A58: 43 | B58: Felhalmozási célú garancia- és kezességvállalásból származó kifizetés államháztartáson kívülre | C58: K85 | D58: =SUM(E58:I58) -> 0
A59: 44 | B59: Felhalmozási célú visszatérítendő támogatások, kölcsönök nyújtása államháztartáson kívülre | C59: K86 | D59: =SUM(E59:I59) -> 0
A60: 45 | B60: Lakástámogatás | C60: K87 | D60: =SUM(E60:I60) -> 0
A61: 46 | B61: Egyéb felhalmozási célú támogatások államháztartáson kívülre | C61: K88 | D61: =SUM(E61:I61) -> 1142233 | E61: 1142233
A62: 47 | B62: Egyéb felhalmozási célú kiadások | C62: K8 | D62: =SUM(E62:I62) -> 2897513 | E62: =SUM(E54:E61) -> 2897513 | F62: =SUM(F54:F61) -> 0 | G62: =SUM(G54:G61) -> 0 | H62: =SUM(H54:H61) -> 0 | I62: =SUM(I54:I61) -> 0
A63: 48 | B63: Költségvetési kiadások | C63: K1-K8 | D63: =SUM(E63:I63) -> 995993050 | E63: =E8+E9+E10+E19+E40+E48+E53+E62 -> 446744332 | F63: =F8+F9+F10+F19+F40+F48+F53+F62 -> 151752138 | G63: =G8+G9+G10+G19+G40+G48+G53+G62 -> 220031929 | H63: =H8+H9+H10+H19+H40+H48+H53+H62 -> 124472789 | I63: =I8+I9+I10+I19+I40+I48+I53+I62 -> 52991862
A64: 49 | B64: Hitel-, kölcsöntörlesztés államháztartáson kívülre | C64: K911 | D64: =SUM(E64:I64) -> 0
A65: 50 | B65: Belföldi értékpapírok kiadásai | C65: K912 | D65: =SUM(E65:I65) -> 0
A66: 51 | B66: Államháztartáson belüli megelőlegezések folyósítása | C66: K913 | D66: =SUM(E66:I66) -> 0
A67: 52 | B67: Államháztartáson belüli megelőlegezések visszafizetése | C67: K914 | D67: =SUM(E67:I67) -> 41589273 | E67: 41589273
A68: 53 | B68: Központi, irányító szervi támogatások folyósítása | C68: K915 | D68: =SUM(E68:I68) -> 431526969 | E68: 431526969
A69: 54 | B69: Pénzeszközök betétként elhelyezése | C69: K916 | D69: =SUM(E69:I69) -> 0
A70: 55 | B70: Pénzügyi lízing kiadásai | C70: K917 | D70: =SUM(E70:I70) -> 0
A71: 56 | B71: Központi költségvetés sajátos finanszírozási kiadásai | C71: K918 | D71: =SUM(E71:I71) -> 0
A72: 57 | B72: Belföldi finanszírozás kiadásai | C72: K91 | D72: =SUM(E72:I72) -> 473116242 | E72: =SUM(E64:E71) -> 473116242 | F72: =SUM(F64:F71) -> 0 | G72: =SUM(G64:G71) -> 0 | H72: =SUM(H64:H71) -> 0 | I72: =SUM(I64:I71) -> 0
A73: 58 | B73: Külföldi finanszírozás kiadásai | C73: K92 | D73: =SUM(E73:I73) -> 0
A74: 59 | B74: Finanszírozási kiadások | C74: K9 | D74: =SUM(E74:I74) -> 473116242 | E74: =SUM(E72:E73) -> 473116242 | F74: =SUM(F72:F73) -> 0 | G74: =SUM(G72:G73) -> 0 | H74: =SUM(H72:H73) -> 0 | I74: =SUM(I72:I73) -> 0
A75: 60 | B75: Összes kiadás | D75: =SUM(E75:I75) -> 1469109292 | E75: =E63+E74 -> 919860574 | F75: =F63+F74 -> 151752138 | G75: =G63+G74 -> 220031929 | H75: =H63+H74 -> 124472789 | I75: =I63+I74 -> 52991862

Sheet 3a
B1: Berhida Város Önkormányzata | C1: 3.a. melléklet
B2: 2016. évi költségvetés | C2: a 9/2017. (V.31.) önkormányzati rendelethez
C3: adatok Ft-ban
A4: 3/a - A helyi önkormányzatok kiegészítő támogatásainak és egyéb kötött felhasználású támogatásainak elszámolása
B5: Megnevezés | C5: A központi költségvetésből támogatásként rendelkezésre bocsátott összeg | D5: Az önkormányzat által az adott célra ténylegesen felhasznált összeg | E5: Az önkormányzat által fel nem használt, de a következő évben jogszerűen felhasználható összeg | F5: Eltérés (=3-4-5)
A6: 1 | B6: Közművelődési érdekeltségnövelő támogatás | C6: 169000 | D6: 169000 | E6: 0 | F6: 0
A7: 2 | B7: Adósságkonszolidációban nem részesült települési önkormányzatok fejlesztéseinek támogatása | C7: 181041765 | D7: 0 | E7: 181041765 | F7: 0
A8: 3 | B8: Helyi önkormányzatok felhalmozási célú költségvetési támogatásai összesen (=10+11+16+17+…+24) | C8: 181210765 | D8: 169000 | E8: 181041765 | F8: 0
A9: 4 | B9: Helyi önkormányzatok kiegészítő támogatásai összesen (=9+25+26+….+35) | C9: 181210765 | D9: 169000 | E9: 181041765 | F9: 0
A10: 5 | B10: A 2015. évről áthúzódó bérkompenzáció támogatása | C10: 348615 | D10: 348615 | E10: 0 | F10: 0
A11: 6 | B11: A köznevelési intézmények működtetéséhez kapcsolódó támogatás | C11: 2931500 | D11: 2931500 | E11: 0 | F11: 0
A12: 7 | B12: A települési önkormányzatok szociális feladatainak egyéb támogatása | C12: 24825395 | D12: 24825395 | E12: 0 | F12: 0
A13: 8 | B13: Szociális ágazati pótlék | C13: 1568028 | D13: 1525569 | E13: 0 | F13: 42459
A14: 9 | B14: Települési önkormányzatok nyilvános könyvtári és közművelődési feladatainak támogatása | C14: 6883320 | D14: 6883320 | E14: 0 | F14: 0
A15: 10 | B15: A települési önkormányzatok könyvtári célú érdekeltségnövelő támogatása | C15: 322040 | D15: 322040 | E15: 0 | F15: 0
A16: 11 | B16: Könyvtári, közművelődési és múzeumi feladatok támogatása (=42+…+50) | C16: 7205360 | D16: 7205360 | E16: 0 | F16: 0
A17: 12 | B17: 4. Szociális kiegészítő pótlék támogatása | C17: 2323451 | D17: 2323451 | E17: 0 | F17: 0
... A20: 15 | B20: Mindösszesen (=36+37+...+41+51+58+59+…+87) | C20: 223520677 | D20: 42436453 | E20: 181041765 | F20: 42459

Sheet 3b
B1: Berhida Város Önkormányzata | D1: 3.b. melléklet
B2: 2016. évi költségvetés | D2: a 9/2017. (V.31.) önkormányzati rendelethez
D3: adatok Ft-ban
A4: 3/b - Az önkormányzatok általános, köznevelési és szociális feladataihoz kapcsolódó támogatások elszámolása
B5: Megnevezés | C5: Költségvetési törvény alapján feladatátvétellel/feladatátadással korrigált támogatás | D5: Támogatás évközi változása - Május 15. | E5: Támogatás évközi változása - Október 1. | F5: Tényleges támogatás | G5: Évvégi eltérés (+,-) mutatószám szerinti támogatás (=6-(3+4+5)) | H5: A 05. űrlap alapján a támogatási jogcímhez kapcsolódó kormányzati funkció szerinti kiadások összege | I5: Az önkormányzat által az adott célra december 31-ig ténylegesen felhasznált összeg | J5: Többlettámogatás (ha a 7-6+9 >0, akkor 7-6+9; egyébként 0) | K5: Visszafizetési kötelezettség (ha a 7-6+9 <0, akkor 7-6+9 abszolútértéke; egyébként 0)
A6: 1 | B6: I.1. A települési önkormányzatok működésének támogatása (09 01 01 01 00) | C6: 114488659 | D6: 0 | E6: 0 | F6: 114488659 | G6: 0 | H6: 619854783 | I6: 114488659 | J6: 0 | K6: 0
A7: 2 | B7: I.2. Nem közművel összegyűjtött háztartási szennyvíz ártalmatlanítása (09 01 01 02 00) | C7: 0 | D7: 0 | E7: 0 | F7: 0 | G7: 0 | H7: 19330 | I7: 0 | J7: 0 | K7: 0
A8: 3 | B8: I.4. Határátkelőhelyek fenntartásának támogatása (09 01 01 04 00) | C8: 0 | D8: 0 | E8: 0 | F8: 0 | G8: 0 | H8: 41043145 | I8: 0 | J8: 0 | K8: 0
A9: 4 | B9: II. A települési önkormányzatok egyes köznevelési feladatainak támogatása, a II.4. jogcím kivételével (09 01 02 00 00) | C9: 127419820 | D9: 1074933 | E9: -333767 | F9: 127461420 | G9: -699566 | H9: 152420485 | I9: 127461420 | J9: 0 | K9: 699566
A10: 5 | B10: III.3. Egyes szociális és gyermekjóléti feladatok támogatása és III.7. Kiegészítő támogatás a bölcsődében foglalkoztatott, felsőfokú végzettségű kisgyermeknevelők béréhez (09 01 03 03 00) | C10: 11619888 | D10: 0 | E10: -90155 | F10: 12023833 | G10: 494100 | H10: 48610117 | I10: 12023833 | J10: 494100 | K10: 0
A11: 6 | B11: III.5. a) és b) Intézményi gyermekétkeztetés támogatása (09 01 03 05 00) | C11: 51061155 | D11: 2946362 | E11: -2647160 | F11: 51980517 | G11: 620160 | H11: 54160060 | I11: 51980517 | J11: 620160 | K11: 0
A12: 7 | B12: III.5. c) Rászoruló gyermekek szünidei étkeztetése (09 01 03 06 00) | C12: 4818380 | D12: 0 | E12: -108942 | F12: 4320282 | G12: -389156 | H12: 6736761 | I12: 4320282 | J12: 0 | K12: 389156
A13: 8 | B13: Összesen | C13: 309407902 | D13: 4021295 | E13: -3180024 | F13: 310274711 | G13: 25538 | H13: 922844681 | I13: 310274711 | J13: 1114260 | K13: 1088722

Sheet 3.c
B1: Berhida Város Önkormányzata | C1: 3.c. melléklet
B2: 2016. évi költségvetés | C2: a 9/2017. (V.31.) önkormányzati rendelethez
C3: adatok Ft-ban
A4: 3/c - A helyi önkormányzatok visszafizetési kötelezettsége, pótlólagos támogatása (Ávr. 111. §), és a jogtalan igénybevétele után fizetendő ügyleti kamata (Ávr. 112. §)
B5: Megnevezés | C5: Összeg
A6: 1 | B6: 2 | C6: 3
A7: 1 | B7: Ávr. 111. § a) szerinti valamennyi támogatás pótlólagos összege (11/C űrlap 12. sor 10. és 11. oszlopok figyelembe vétele mellett) | C7: 25538
A8: 2 | B8: A szociális ágazati pótlék összege és a szociális ágazati kiegészítő pótlék támogatása visszafizetendő összege (Ávr. 111. § h)) | C8: 42459
A9: 3 | B9: A 11.c űrlap 6. során elszámolt 2. melléklet II.5. az óvodapedagógusok minősítéséhez kapcsolódó támogatás összege | C9: 3573820
A10: 4 | B10: Kamatalapba számító rendelkezésre bocsátott támogatások összege (a 11/C űrlap 2,6,7,8,9,10 és 11. sor 3. oszlop értékeinek összege csökkentve ezen űrlap 10. és 14. sor 3. oszlop szerinti összegekkel) | C10: 191345423
A11: 5 | B11: Önkormányzat tőketartozása összesen (=1+3+…+9) | C11: 42459
A12: 6 | B12: A 25. sor szerinti tőketartozás 10032000-01031496 számlára fizetendő része (1+3+4+5+6-visszafizetendő vis maior támogatás+7+8+9) | C12: 42459
A13: 7 | B13: Önkormányzat visszafizetési kötelezettsége és fizetendő kamat összesen (=24+25) | C13: 42459
A14: 8 | B14: Önkormányzatot megillető pótlólagos támogatás (=2) | C14: 25538

Sheet 4.a
B1: Berhida Város Önkormányzata | C1: 4.a melléklet
B2: 2016. évi költségvetés | C2: a 9/2017. (V.31.) önkormányzati rendelethez
C3: adatok Ft-ban
A5: 4.a - Maradványkimutatás
B6: Megnevezés | C6: Összeg
A7: 1 | B7: 01 Alaptevékenység költségvetési bevételei | C7: 1021182495
A8: 2 | B8: 02 Alaptevékenység költségvetési kiadásai | C8: 995993050
A9: 3 | B9: I Alaptevékenység költségvetési egyenlege (=01-02) | C9: 25189445
A10: 4 | B10: 03 Alaptevékenység finanszírozási bevételei | C10: 1038649938
A11: 5 | B11: 04 Alaptevékenység finanszírozási kiadásai | C11: 473116242
A12: 6 | B12: II Alaptevékenység finanszírozási egyenlege (=03-04) | C12: 565533696
A13: 7 | B13: A) Alaptevékenység maradványa (=±I±II) | C13: 590723141
A14: 8 | B14: C) Összes maradvány (=A+B) | C14: 590723141
A15: 9 | B15: D) Alaptevékenység kötelezettségvállalással terhelt maradványa | C15: 475504164
A16: 10 | B16: E) Alaptevékenység szabad maradványa (=A-D) | C16: 115218977

Sheet 4.b
C1: Berhida Város Önkormányzata
C3: Maradványból történő feladatok finanszírozása | M3: 4.b melléklet
D4: 2016. évi | K4: a 9/2017. (V.31.) önkormányzati rendelethez
L5: adatok Ft-ban
B6: A | C6: B | D6: C | E6: D | F6: E | H6: F | I6: G | J6: I | K6: J | L6: K | M6: L | N6: M | O6: N
A7: 1 | C7: Működési | D7: SZJ | E7: Járulék | F7: Dologi | G7: Központi költségv elvonás, befiz | H7: Áht belül műk tám | I7: áht kív pe műk.c | J7: áht kív. Pe felhalm célú | K7: Felújítás | L7: Beruházás | M7: Tartalék | N7: finanszírozási kiad | O7: Összesen
A8: 2 | B8: Süni Óvoda | C8: =SUM(D8:F8) -> 4936891 | D8: =SUM(D9:D13) -> 2799700 | E8: =SUM(E9:E13) -> 616300 | F8: =SUM(F9:F13) -> 1520891 | G8: =SUM(G9:G13) -> 0 | H8: =SUM(H9:H13) -> 0 | I8: =SUM(I9:I13) -> 0 | J8: =SUM(J9:J13) -> 0 | K8: =SUM(K9:K13) -> 0 | ... N8: =SUM(N9:N13) -> 0 | O8: =SUM(C8)+SUM(H8:N8) -> 5077891 | P8: 5077891
A9: 3 | B9: bérkeret | C9: =SUM(D9:F9) -> 3346055 | D9: 2747700 | E9: 598355 | O9: =SUM(C9)+SUM(H9:N9) -> 3346055
A10: 4 | B10: 2016. decemberi erzsébet utalvány áthúzódó | C10: =SUM(D10:F10) -> 69945 | D10: 52000 | E10: 17945 | O10: =SUM(C10)+SUM(H10:N10) -> 69945
A11: 5 | B11: Süni kisértékű egyéb gép, berendezés + éfa | C11: =SUM(D11:F11) -> 0 | L11: 141000 | O11: =SUM(C11)+SUM(H11:N11) -> 141000
A12: 6 | B12: áfa befizetési köt áthúzódó | C12: =SUM(D12:F12) -> 1000891 | F12: 1000891 | O12: =SUM(C12)+SUM(H12:N12) -> 1000891
A13: 7 | B13: karbantartás + áfa | C13: =SUM(D13:F13) -> 520000 | F13: 520000 | O13: =SUM(C13)+SUM(H13:N13) -> 520000
A14: 8 | B14: Kultúrház és könyvtár | C14: =SUM(D14:F14) -> 1465483 | D14: =SUM(D15:D26) -> 525586 | E14: =SUM(E15:E26) -> 164311 | F14: =SUM(F15:F26) -> 775586 | G14: =SUM(G15:G26) -> 0 | H14: =SUM(H15:H26) -> 0 | I14: =SUM(I15:I26) -> 0 | J14: =SUM(J15:J26) -> 0 | K14: =SUM(K15:K26) -> 0 | ... N14: =SUM(N15:N26) -> 0 | O14: =SUM(C14)+SUM(H14:N14) -> 1725483 | P14: 1725483
A15: 9 | B15: nyugdíjazáshoz kapcsolódó személyi kieg. | C15: =SUM(D15:F15) -> 475295 | D15: 389586 | E15: 85709 | O15: =SUM(C15)+SUM(H15:N15) -> 475295
A16: 10 | B16: cégtelefon | C16: =SUM(D16:F16) -> 60337 | D16: 42000 | E16: 18337 | O16: =SUM(C16)+SUM(H16:N16) -> 60337
A17: 11 | B17: reprezentáció egészségügyi hozzájárulás | E17: 10384 | O17: =SUM(C17)+SUM(H17:N17) -> 0
A18: 12 | B18: áthúzódó Erzsébet utalvány | C18: =SUM(D18:F18) -> 70564 | D18: 52000 | E18: 18564 | O18: =SUM(C18)+SUM(H18:N18) -> 70564
A19: 13 | B19: szakmai szolg. Beiskolázás+áfa | C19: =SUM(D19:F19) -> 100000 | F19: 100000 | O19: =SUM(C19)+SUM(H19:N19) -> 100000
A20: 14 | B20: egyéb üzemeltetési szolg. Áthúzódó hull elh díj +áfa | C20: =SUM(D20:F20) -> 12432 | F20: 12432 | O20: =SUM(C20)+SUM(H20:N20) -> 12432
A21: 15 | B21: karbantartási anyag+áfa | C21: =SUM(D21:F21) -> 50000 | F21: 50000 | O21: =SUM(C21)+SUM(H21:N21) -> 50000
A22: 16 | B22: Kultúrház egyéb tárgyi eszköz beszerzés+áfa | C22: =SUM(D22:F22) -> 0 | L22: 260000 | O22: =SUM(C22)+SUM(H22:N22) -> 260000
A23: 17 | B23: bérleti díj (mobil WC stb)+áfa | C23: =SUM(D23:F23) -> 127000 | F23: 127000 | O23: =SUM(C23)+SUM(H23:N23) -> 127000
A24: 18 | B24: könyvvásárlás+áfa | C24: =SUM(D24:F24) -> 21000 | F24: 21000 | O24: =SUM(C24)+SUM(H24:N24) -> 21000
A25: 19 | B25: karbantartási szolg + áfa | C25: =SUM(D25:F25) -> 70722 | F25: 70722 | O25: =SUM(C25)+SUM(H25:N25) -> 70722
A26: 20 | B26: Kultúrház és kt tagint. Művelődési ház és kt | C26: =SUM(D26:F26) -> 467749 | D26: =SUM(D27:D32) -> 42000 | E26: =SUM(E27:E32) -> 31317 | F26: =SUM(F27:F32) -> 394432 | G26: =SUM(G27:G32) -> 0 | H26: =SUM(H27:H32) -> 0 | I26: =SUM(I27:I32) -> 0 | J26: =SUM(J27:J32) -> 0 | K26: =SUM(K27:K32) -> 0 | ... N26: =SUM(N27:N32) -> 0 | O26: =SUM(C26)+SUM(H26:N26) -> 467749
A27: 21 | B27: cégtelefon | C27: =SUM(D27:F27) -> 60337 | D27: 42000 | E27: 18337 | O27: =SUM(C27)+SUM(H27:N27) -> 60337
A28: 22 | B28: reprezentáció egészségügyi hozzájárulás | C28: =SUM(D28:F28) -> 12980 | E28: 12980 | O28: =SUM(C28)+SUM(H28:N28) -> 12980
A29: 23 | B29: könyvvásárlás+áfa | C29: =SUM(D29:F29) -> 21000 | F29: 21000 | O29: =SUM(C29)+SUM(H29:N29) -> 21000
A30: 24 | B30: egyéb üzemeltetési szolg. Áthúzódó hull elh díj +áfa | C30: =SUM(D30:F30) -> 12432 | F30: 12432 | O30: =SUM(C30)+SUM(H30:N30) -> 12432
A31: 25 | B31: érintésvédelem +áfa | C31: =SUM(D31:F31) -> 180000 | F31: 180000 | O31: =SUM(C31)+SUM(H31:N31) -> 180000
A32: 26 | B32: karbantartás + áfa | C32: =SUM(D32:F32) -> 181000 | F32: 181000 | O32: =SUM(C32)+SUM(H32:N32) -> 181000
A33: 27 | B33: Tesz összesen | C33: =SUM(D33:F33) -> 11423491 | D33: =SUM(D34:D48) -> 1850000 | E33: =SUM(E34:E48) -> 407000 | F33: =SUM(F34:F48) -> 9166491 | G33: =SUM(G34:G48) -> 0 | H33: =SUM(H34:H48) -> 0 | I33: =SUM(I34:I48) -> 0 | J33: =SUM(J34:J48) -> 0 | K33: =SUM(K34:K48) -> 0 | ... N33: =SUM(N34:N48) -> 0 | O33: =SUM(C33)+SUM(H33:N33) -> 11823491 | P33: 18551194
A34: 28 | B34: bérkeret | C34: =SUM(D34:F34) -> 2257000 | D34: 1850000 | E34: 407000 | O34: =SUM(C34)+SUM(H34:N34) -> 2257000 | P34: -6727703
A35: 29 | B35: Út-híd karbantartás+áfa | C35: =SUM(D35:F35) -> 1273997 | F35: 1273997 | O35: =SUM(C35)+SUM(H35:N35) -> 1273997 | P35: =SUM(P33:P34) -> 11823491
A36: 30 | B36: Hulladékgazdálkodás szolg. Áfa | C36: =SUM(D36:F36) -> 2791000 | F36: 2791000 | O36: =SUM(C36)+SUM(H36:N36) -> 2791000
A37: 31 | B37: Út-híd üzemelt feladat + áfa síkosságment | C37: =SUM(D37:F37) -> 2047494 | F37: 2047494 | O37: =SUM(C37)+SUM(H37:N37) -> 2047494
A38: 32 | B38: sportfeladatok villamos energia | C38: =SUM(D38:F38) -> 320000 | F38: 320000 | O38: =SUM(C38)+SUM(H38:N38) -> 320000
A39: 33 | B39: B1 kút üzembehelyezése kieg. | C39: =SUM(D39:F39) -> 20000 | F39: 20000 | O39: =SUM(C39)+SUM(H39:N39) -> 20000
A40: 34 | B40: zöldterületkezelés karbantartási szolg + áfa | C40: =SUM(D40:F40) -> 350000 | F40: 350000 | O40: =SUM(C40)+SUM(H40:N40) -> 350000
A41: 35 | B41: zöldterület fásítás (üz.anyag+áfa) | C41: =SUM(D41:F41) -> 600000 | F41: 600000 | O41: =SUM(C41)+SUM(H41:N41) -> 600000
A42: 36 | B42: hosszú közfoglalk Dologi karbantartási szolg. + áfa | C42: =SUM(D42:F42) -> 200000 | F42: 200000 | O42: =SUM(C42)+SUM(H42:N42) -> 200000
A43: 37 | B43: vagyongazdálkodás karbantartási szolg.+áfa Hunyadi tér rend | C43: =SUM(D43:F43) -> 130000 | F43: 130000 | O43: =SUM(C43)+SUM(H43:N43) -> 130000
A44: 38 | B44: köztemető karb szolg+áfa (sírhely rendb Péti u+múrvázás Kiskov) | C44: =SUM(D44:F44) -> 750000 | F44: 750000 | O44: =SUM(C44)+SUM(H44:N44) -> 750000
A45: 39 | B45: TESZ út-híd kisértékűegyéb tárgyi eszköz | C45: =SUM(D45:F45) -> 0 | L45: 400000 | O45: =SUM(C45)+SUM(H45:N45) -> 400000
A46: 40 | B46: vagyongazdálkodás érintésvédelem | C46: =SUM(D46:F46) -> 120000 | F46: 120000 | O46: =SUM(C46)+SUM(H46:N46) -> 120000
A47: 41 | B47: város és községgazdálkodás érintésvédelem | C47: =SUM(D47:F47) -> 180000 | F47: 180000 | O47: =SUM(C47)+SUM(H47:N47) -> 180000
A48: 42 | B48: vagyongazdálkodás áfa befizetés | C48: =SUM(D48:F48) -> 384000 | F48: 384000 | O48: =SUM(C48)+SUM(H48:N48) -> 384000
A49: 43 | B49: Berhidai Közös Önkormányzati Hivatal | C49: =SUM(D49:F49) -> 10982989 | D49: =SUM(D50:D57) -> 6789000 | E49: =SUM(E50:E57) -> 1850940 | F49: =SUM(F50:F57) -> 2343049 | G49: =SUM(G50:G57) -> 0 | H49: =SUM(H50:H57) -> 0 | I49: =SUM(I50:I57) -> 0 | J49: =SUM(J50:J57) -> 0 | K49: =SUM(K50:K57) -> 0 | ... N49: =SUM(N50:N57) -> 0 | O49: =SUM(C49)+SUM(H49:N49) -> 11731989 | P49: 11731989
A50: 44 | B50: bérkeret | C50: =SUM(D50:F50) -> 7587180 | D50: 6219000 | E50: 1368180 | O50: =SUM(C50)+SUM(H50:N50) -> 7587180
A51: 45 | B51: áfa befizetés áthúzódó | C51: =SUM(D51:F51) -> 321249 | F51: 321249 | O51: =SUM(C51)+SUM(H51:N51) -> 321249
A52: 46 | B52: közúthálózati adatbázis felmérés, adatfeltöltés I. ütem | C52: =SUM(D52:F52) -> 1066800 | F52: 1066800 | O52: =SUM(C52)+SUM(H52:N52) -> 1066800
A53: 47 | B53: Önk Hivatal választás HVI tagok december áthúzódó | C53: =SUM(D53:F53) -> 708510 | D53: 570000 | E53: 138510 | O53: =SUM(C53)+SUM(H53:N53) -> 708510
A54: 48 | B54: rehabilitációs hozzájárulás | C54: =SUM(D54:F54) -> 344250 | E54: 344250 | O54: =SUM(C54)+SUM(H54:N54) -> 344250
A55: 49 | B55: Dologi informatikai szoftver üz szolg. | C55: =SUM(D55:F55) -> 635000 | F55: 635000 | O55: =SUM(C55)+SUM(H55:N55) -> 635000
A56: 50 | B56: érintésvédelem | C56: =SUM(D56:F56) -> 320000 | F56: 320000 | O56: =SUM(C56)+SUM(H56:N56) -> 320000
A57: 51 | B57: Hivatal egyéb eszköz beszerzés + áfa | C57: =SUM(D57:F57) -> 0 | L57: 749000 | O57: =SUM(C57)+SUM(H57:N57) -> 749000
A58: 52 | B58: ÖNKORMÁNYZAT | C58: =SUM(D58:F58) -> 7223640 | D58: =D59+D62+D65+D68+D71+D83+D87+D91+D94+D96+D103+D106 -> 850000 | E58: =E59+E62+E65+E68+E71+E83+E87+E91+E94+E96+E103+E106 -> 473640 | F58: =F59+F62+F65+F68+F71+F83+F87+F91+F94+F96+F103+F106 -> 5900000 | G58: =G59+G62+G65+G68+G71+G83+G87+G91+G94+G96+G103+G106 -> 42459 | H58: =H59+H62+H65+H68+H71+H83+H87+H91+H94+H96+H103+H106 -> 5643788 | I58: =I59+I62+I65+I68+I71+I83+I87+I91+I94+I96+I103+I106 -> 1532860 | J58: =J59+J62+J65+J68+J71+J83+J87+J91+J94+J96+J103+J106 -> 1500000 | K58: =K59+K62+K65+K68+K71+K83+K87+K91+K94+K96+K103+K106 -> 11457788 | ... O58: =O59+O62+O65+O68+O71+O83+O87+O91+O94+O96+O103+O106 -> 101330039 | P58: 553636584
A59: 53 | B59: Város és községgazdálkodási feladat | C59: =SUM(D59:F59) -> 0 | D59: =SUM(D60:D61) -> 0 | E59: =SUM(E60:E61) -> 0 | F59: =SUM(F60:F61) -> 0 | G59: =SUM(G60:G61) -> 0 | H59: =SUM(H60:H61) -> 352697 | I59: =SUM(I60:I61) -> 0 | J59: =SUM(J60:J61) -> 0 | K59: =SUM(K60:K61) -> 0 | ... O59: =SUM(O60:O61) -> 352697
A60: 54 | B60: Többcélú Kistérségi Társulás feladat kieg. Tám | C60: =SUM(D60:F60) -> 0 | H60: 352697 | O60: =SUM(C60)+SUM(H60:N60) -> 352697 | P60: =O58+O175-O174 -> 553636584
A61: 55 | C61: =SUM(D61:F61) -> 0 | O61: =SUM(C61)+SUM(H61:N61) -> 0
A62: 56 | B62: központi elszámolási feladat | C62: =SUM(D62:F62) -> 0 | D62: =SUM(D63:D64) -> 0 | E62: =SUM(E63:E64) -> 0 | F62: =SUM(F63:F64) -> 0 | G62: =SUM(G63:G64) -> 42459 | H62: =SUM(H63:H64) -> 0 | I62: =SUM(I63:I64) -> 0 | J62: =SUM(J63:J64) -> 0 | K62: =SUM(K63:K64) -> 0 | ... O62: =SUM(O63:O64) -> 42459
A63: 57 | B63: Beszámoló állami elszám befizetési kötelezettség | C63: =SUM(D63:F63) -> 0 | G63: 42459 | O63: =SUM(C63)+SUM(G63:N63) -> 42459
A64: 58 | C64: =SUM(D64:F64) -> 0 | O64: =SUM(C64)+SUM(G64:N64) -> 0
A65: 59 | B65: programok, rendezvények szervezése | C65: =SUM(D65:F65) -> 574640 | D65: =SUM(D66:D67) -> 400000 | E65: =SUM(E66:E67) -> 174640 | F65: =SUM(F66:F67) -> 0 | G65: =SUM(G66:G67) -> 0 | H65: =SUM(H66:H67) -> 0 | I65: =SUM(I66:I67) -> 0 | J65: =SUM(J66:J67) -> 0 | K65: =SUM(K66:K67) -> 0 | ... N65: =SUM(N66:N67) -> 0 | O65: =SUM(C65)+SUM(H65:N65) -> 574640
A66: 60 | B66: reprezentáció | C66: =SUM(D66:F66) -> 574640 | D66: 400000 | E66: 174640 | O66: =SUM(C66)+SUM(H66:N66) -> 574640
A67: 61 | C67: =SUM(D67:F67) -> 0 | O67: =SUM(C67)+SUM(H67:N67) -> 0
A68: 62 | B68: Civil szervezetek támogatása | C68: =SUM(D68:F68) -> 0 | D68: =SUM(D69:D70) -> 0 | E68: =SUM(E69:E70) -> 0 | F68: =SUM(F69:F70) -> 0 | G68: =SUM(G69:G70) -> 0 | H68: =SUM(H69:H70) -> 0 | I68: =SUM(I69:I70) -> 1532860 | J68: =SUM(J69:J70) -> 1500000 | K68: =SUM(K69:K70) -> 0 | ... N68: =SUM(N69:N70) -> 0 | O68: =SUM(C68)+SUM(H68:N68) -> 3032860
A69: 63 | B69: Közösségi támogatás | C69: =SUM(D69:F69) -> 0 | I69: 822860 | O69: =SUM(C69)+SUM(H69:N69) -> 822860
A70: 64 | B70: Sporttámogatás | C70: =SUM(D70:F70) -> 0 | I70: 710000 | J70: 1500000 | O70: =SUM(C70)+SUM(H70:N70) -> 2210000
A71: 70 | B71: vagyongazdálkodás | C71: =SUM(D71:F71) -> 5900000 | D71: =SUM(D72:D82) -> 0 | E71: =SUM(E72:E82) -> 0 | F71: =SUM(F72:F82) -> 5900000 | G71: =SUM(G72:G82) -> 0 | H71: =SUM(H72:H82) -> 0 | I71: =SUM(I72:I82) -> 0 | J71: =SUM(J72:J82) -> 0 | K71: =SUM(K72:K82) -> 11087788 | ... N71: =SUM(N72:N82) -> 0 | O71: =SUM(C71)+SUM(H71:N71) -> 48237880
A72: 71 | B72: ÖNK vagyongazdálk ingatlan területrend | C72: =SUM(D72:F72) -> 800000 | F72: 800000 | O72: =SUM(C72)+SUM(H72:N72) -> 800000
A73: 72 | B73: ÖNK városközpont zöldpark kial munk, tervek | C73: =SUM(D73:F73) -> 0 | M73: 3000000 | O73: =SUM(C73)+SUM(H73:N73) -> 3000000
A74: 73 | B74: áfa befizetés áthúzódó | C74: =SUM(D74:F74) -> 5100000 | F74: 5100000 | O74: =SUM(C74)+SUM(H74:N74) -> 5100000
A75: 74 | B75: ÖNK Kultúrház homlokzat felújítás, nyílászáró csere | C75: =SUM(D75:F75) -> 0 | K75: 5015000 | O75: =SUM(C75)+SUM(H75:N75) -> 5015000
A76: 75 | B76: ÖNK Petőfi műv ház lapostető szigetelés, javítás | C76: =SUM(D76:F76) -> 0 | K76: 480038 | O76: =SUM(C76)+SUM(H76:N76) -> 480038
A77: 77 | B77: ÖNK Petőfi Műv ház színpadi kapcsoló szekrény cseréje | C77: =SUM(D77:F77) -> 0 | K77: 1682750 | O77: =SUM(C77)+SUM(H77:N77) -> 1682750
A78: 78 | B78: ÖNK Hivatal Keleti szárny tetőszigetelés, kapcsolódó munkák | C78: =SUM(D78:F78) -> 0 | K78: 3810000 | O78: =SUM(C78)+SUM(H78:N78) -> 3810000
A79: 79 | B79: intézményi kieg tartalék | C79: =SUM(D79:F79) -> 0 | M79: 1500000 | O79: =SUM(C79)+SUM(H79:N79) -> 1500000
A80: 80 | B80: pályázati tartalék | C80: =SUM(D80:F80) -> 0 | M80: 25550092 | O80: =SUM(C80)+SUM(H80:N80) -> 25550092
A81: 81 | B81: ingatlan beruh, karbant havaria céltart | C81: =SUM(D81:F81) -> 0 | M81: 1200000 | O81: =SUM(C81)+SUM(H81:N81) -> 1200000
A82: 82 | B82: ÖNK Pgytp 1848-49 emlékmű felújítás (zászlótartó) | C82: =SUM(D82:F82) -> 0 | K82: 100000 | O82: =SUM(C82)+SUM(H82:N82) -> 100000
A83: 83 | B83: család és védőnői szolg. | C83: =SUM(C84:C86) -> 749000 | D83: =SUM(D84:D86) -> 450000 | E83: =SUM(E84:E86) -> 299000 | F83: =SUM(F84:F86) -> 0 | G83: =SUM(G84:G86) -> 0 | H83: =SUM(H84:H86) -> 0 | I83: =SUM(I84:I86) -> 0 | J83: =SUM(J84:J86) -> 0 | ... O83: =SUM(O84:O86) -> 949000
A84: 84 | B84: bérkeret | C84: =SUM(D84:F84) -> 549000 | D84: 450000 | E84: 99000 | O84: =SUM(C84)+SUM(H84:N84) -> 549000
A85: 85 | B85: karbantartás + áfa | C85: =SUM(D85:F85) -> 200000 | E85: 200000 | O85: =SUM(C85)+SUM(H85:N85) -> 200000
A86: 86 | B86: ÖNK védőnői szolg. egyéb eszközbeszerzés | C86: =SUM(D86:F86) -> 0 | L86: 200000 | O86: =SUM(C86)+SUM(H86:N86) -> 200000
A87: 87 | B87: Út-híd építési feladat | C87: =SUM(C88:C90) -> 0 | D87: =SUM(D88:D90) -> 0 | E87: =SUM(E88:E90) -> 0 | F87: =SUM(F88:F90) -> 0 | G87: =SUM(G88:G90) -> 0 | H87: =SUM(H88:H90) -> 0 | I87: =SUM(I88:I90) -> 0 | J87: =SUM(J88:J90) -> 0 | ... O87: =SUM(O88:O90) -> 1070000
A88: 88 | B88: ÖNK Péti uton buszmegálló beszerzés | C88: =SUM(D88:F88) -> 0 | L88: 670000 | O88: =SUM(C88)+SUM(H88:N88) -> 670000
A89: 89 | B89: ÖNK Péti uton buszmegálló alépítmény | C89: =SUM(D89:F89) -> 0 | L89: 400000 | O89: =SUM(C89)+SUM(H89:N89) -> 400000
A90: 90 | C90: =SUM(D90:F90) -> 0 | O90: =SUM(C90)+SUM(H90:N90) -> 0
A91: 91 | B91: Közvilágítás | C91: =SUM(C93:C104) -> 0 | D91: =SUM(D92:D93) -> 0 | E91: =SUM(E92:E93) -> 0 | F91: =SUM(F92:F93) -> 0 | G91: =SUM(G92:G93) -> 0 | H91: =SUM(H92:H93) -> 0 | I91: =SUM(I92:I93) -> 0 | J91: =SUM(J92:J93) -> 0 | K91: =SUM(K92:K93) -> 0 | ... O91: =SUM(O92:O93) -> 22349250
A92: 92 | B92: ÖNK közvilágítás korszerűsítés I. ütem céltart | C92: =SUM(D92:F92) -> 0 | M92: 22000000 | O92: =SUM(C92)+SUM(H92:N92) -> 22000000
A93: 93 | B93: ÖNK napelemes közvilágítási lámpák pgytp benzinkút | C93: =SUM(D93:F93) -> 0 | L93: 349250 | O93: =SUM(C93)+SUM(H93:N93) -> 349250
A94: 94 | B94: Iskolai köznevelési gyermekétkeztetés | C94: =SUM(D94:F94) -> 0 | D94: =D95 -> 0 | E94: =E95 -> 0 | F94: =F95 -> 0 | G94: =G95 -> 0 | H94: =H95 -> 0 | I94: =I95 -> 0 | J94: =J95 -> 0 | K94: =K95 -> 0 | ... O94: =O95 -> 300000
A95: 95 | B95: ÖNK Iskola szék, asztal, egyéb eszköz vásárlás | C95: =SUM(D95:F95) -> 0 | L95: 300000 | O95: =SUM(C95)+SUM(H95:N95) -> 300000
A96: 96 | B96: Köztemető | C96: =SUM(D96:F96) -> 0 | D96: =SUM(D97:D102) -> 0 | E96: =SUM(E97:E102) -> 0 | F96: =SUM(F97:F102) -> 0 | G96: =SUM(G97:G102) -> 0 | H96: =SUM(H97:H102) -> 0 | I96: =SUM(I97:I102) -> 0 | J96: =SUM(J97:J102) -> 0 | K96: =SUM(K97:K102) -> 370000 | ... O96: =SUM(O97:O102) -> 6368267
A97: 97 | B97: ÖNK Péti úti temetőnél útöböl térkövezés | C97: =SUM(D97:F97) -> 0 | L97: 2000000 | O97: =SUM(C97)+SUM(H97:N97) -> 2000000
A98: 98 | B98: ÖNK Péti úti temető új kapu Csokonai u. | C98: =SUM(D98:F98) -> 0 | L98: 300000 | O98: =SUM(C98)+SUM(H98:N98) -> 300000
A99: 99 | B99: ÖNK Kiskovácsi temető múrvázott útépítés | C99: =SUM(D99:F99) -> 0 | L99: 925000 | O99: =SUM(C99)+SUM(H99:N99) -> 925000
A100: 100 | B100: ÖNK Péti úti temető ravatalozó utcai homlokzat felújítás | C100: =SUM(D100:F100) -> 0 | K100: 370000 | O100: =SUM(C100)+SUM(H100:N100) -> 370000
A101: 101 | B101: ÖNK Kiskovácsi temető ravatalozó bővítés | C101: =SUM(D101:F101) -> 0 | L101: 2470000 | O101: =SUM(C101)+SUM(H101:N101) -> 2470000
...

Sheet 5.mell
B1: 2016 évi költségvetés | D1: 5. melléklet
B2: Berhida Város Önkormányzata | D2: a 9/2017. (V.31.) önkormányzati rendelethez
B3: Közösségi támogatások
D4: adatok Ft-ban
A5: Közösségi támogatások 2016 évre
A7: I. Sporttámogatás Berhida működési célú | D7: teljesítés 12.31
A8: Peremartoni Sport Club Berhida | D8: 514300
A9: Berhida Öregfiúk (PSCB- keresztül)
A10: Berhida Lovasok KSE | D10: 400000
A11: Pearl Dance R.S.E. | D11: 300000
A12: 2012 Berhida Szabadidő és Tömegsport Egyesület | D12: 180000
A13: KID Rock and Roll sportegyesület | D13: 122860
A14: Összesen | D14: =SUM(D8:D13) -> 1517160
A16: II. Közösségi támogatás működési célú | D16: teljesítés
A17: 1.) Öregdiákok az Ady Iskola jövőjéért | D17: 100000
A18: 2.) Peremartonért Egyesület | D18: 411620
A19: 3.) Mozgássérültek Veszprém Megyei Egyesülete Berhidai Csoportja | D19: 150000
A20: 4.) Összefogással Berhidáért Egyesület | D20: 322860
A21: 5.) Berhida Városi Polgárőrség Egyesület | D21: 500000
A22: 6.) Gyermekeinkért Alapítvány | D22: 200000
A23: 7.) Séd Völgye Túraegyesület | D23: 100000
A24: 8.) Süni Óvodáért Alapítvány | D24: 173660
A25: 9.) Óvodánkért Alapítvány | D25: 372420
A26: 10.) Berhidai Iskoláért Alapítvány
A27: Összes közösségi | D27: =SUM(D17:D26) -> 2330560
A29: Felhalmozási célú támogatás
A30: 11. Református Egyház Berhida templom felújítás
A31: Összes előirányzat | D31: =D27+D30 -> 2330560
A33: Mindösszesen | D33: =D31+D14 -> 3847720
A35: 1.) Kultúrház keretében szakkörök | D35: =SUM(D36:D41) -> 1369727
A36: Nyugdíjas Klub Berhida | D36: 150000
A37: Nyugd Klub tiszt díj | D37: 348085
A38: Nyugdíjas Klub Berhida Népt. és Mazs.cs. | D38: 99979
A39: Búzavirág Népdalkör | D39: 161945
A40: Kertbarát Kör | D40: 310000
A41: Berhida Táncegyüttes | D41: 299718
A42: 2.) Műv.Ház keretében | D42: =SUM(D43:D46) -> 409367
A43: Őszi Napfény Nyugdíjas Klub | D43: 140000
A44: Őszi Napfény Néptánc Csoport | D44: 70000
A45: PERSZE színjátszó | D45: 99222
A46: Őszi Napfény Népdalkör | D46: 100145
A48: Szakkörök összesen | D48: =D35+D42 -> 1779094

Sheet 6.mell
C1: Berhida Város Önkormányzata
C2: ellátottak pénzbeli juttatásai | F2: 6. melléklet
C3: 2016. év | F3: a 9/2017. (V.31.) önkormányzati rendelethez
F4: adatok ezer Ft-ban | I4: adatok Ft-ban
B5: A | C5: B | D5: C | E5: D | F5: E | G5: F
B6: Szociális jogcímek | C6: átruházott hatáskört gyakorló | E6: Képvis.test.jogk. | F6: Jegyzői jogk. | G6: Összes | I6: Teljesítés
C7: polgármester | D7: Humán Biz. | G7: előirányzat | I7: 43100
A8: 1 | B8: Pénzbeli ellátások összesen | C8: =SUM(C9:C15) -> 17500 | D8: =SUM(D9:D15) -> 0 | E8: =SUM(E9:E15) -> 4500 | F8: =SUM(F9:F15) -> 5493 | G8: =SUM(G9:G15) -> 27493 | I8: =SUM(I9:I15) -> 13530723
A9: 2 | B9: Gyermekvéd.támog. Családtám | F9: 5493 | G9: =SUM(C9:F9) -> 5493 | I9: 5492600
A10: 3 | B10: Középfokú okt résztv tám | E10: 100 | G10: =SUM(C10:F10) -> 100 | I10: 50000
A11: 4 | B11: Bursa Hung. (ösztöndíj tám) | E11: 1986 | G11: =SUM(C11:F11) -> 1986 | I11: 1395000
A12: 5 | B12: Fenőtt oktatásban résztvevő tám | E12: 414 | G12: =SUM(C12:F12) -> 414 | I12: 414000
A13: 6 | B13: Települési támogatás | C13: 15700 | G13: =SUM(C13:F13) -> 15700 | I13: 4714050
A14: 8 | B14: Köztemetés | C14: 1800 | G14: =SUM(C14:F14) -> 1800 | I14: 875220
A15: 9 | B15: Saját hatáskörben megáll. (krízis hely. tűzifa jutt) | E15: 2000 | G15: =SUM(C15:F15) -> 2000 | I15: 589853

Sheet 7
B1: Berhida Város Önkormányzata | C1: 7. melléklet
B2: 2016. évi költségvetés | C2: a 9/2017. (V.31.) önkormányzati rendelethez
C3: adatok Ft-ban
A4: 7 - Az eszközök értékvesztésének alakulása
B5: Megnevezés | C5: Nyitó adatok, bekerülési érték | D5: Nyitó adatok, értékvesztés | E5: Tárgyidőszakban elszámolt értékvesztés | F5: Tárgyidőszakban visszaírt értékvesztés | G5: Záró adatok, bekerülési érték | H5: Záró adatok, értékvesztés
A6: 1 | B6: 2 | C6: 3 | D6: 4 | E6: 5 | F6: 6 | G6: 7 | H6: 8
A7: 1 | B7: Adott előlegek | C7: 0 | D7: 0 | E7: 0 | F7: 0 | G7: 4860594 | H7: 0
A8: 2 | B8: Tartós részesedések | C8: 11241000 | D8: 91000 | E8: 0 | F8: 91000 | G8: 11150000 | H8: 0
A9: 3 | B9: Készletek | C9: 1011754 | D9: 0 | E9: 0 | F9: 0 | G9: 838689 | H9: 0
A10: 4 | B10: Kincstáron kívüli forintszámlák | C10: 568229349 | D10: 0 | E10: 0 | F10: 0 | G10: 583899873 | H10: 0
A11: 5 | B11: Követelések a követelés jellegű sajátos elszámolások kivételével | C11: 54236378 | D11: 25732083 | E11: 71442 | F11: 5087603 | G11: 55661498 | H11: 20715922
A12: 6 | B12: Összesen (=01+…+10) | C12: 634718481 | D12: 25823083 | E12: 71442 | F12: 5178603 | G12: 656410654 | H12: 20715922

Sheet 8
B1: Berhida Város Önkormányzata | C1: 8. melléklet
B2: 2016. évi költségvetés | C2: a 9/2017. (V.31.) önkormányzati rendelethez
C3: adatok Ft-ban
A4: 8 - Kimutatás az immateriális javak, tárgyi eszközök koncesszióba, vagyonkezelésbe adott eszközök állományának alakulásáról
B5: Megnevezés | C5: Immateriális javak | D5: Ingatlanok és kapcsolódó vagyoni értékű jogok | E5: Gépek, berendezések, felszerelések, járművek | F5: Tenyészállatok | G5: Beruházások és felújítások | H5: Koncesszióba, vagyonkezelésbe adott eszközök | I5: Összesen (=3+4+5+6+7+8)
A6: 1 | B6: Tárgyévi nyitó állomány (előző évi záró állomány) | C6: 26853214 | D6: 3775213975 | E6: 209692927 | F6: 0 | G6: 46460115 | H6: 154787587 | I6: 4213007818
A7: 2 | B7: Immateriális javak beszerzése, nem aktivált beruházások | C7: 3296320 | D7: 0 | E7: 0 | F7: 0 | G7: 0 | H7: 0 | I7: 3296320
A8: 3 | B8: Nem aktivált felújítások | C8: 0 | D8: 0 | E8: 0 | F8: 0 | G8: 14933614 | H8: 0 | I8: 14933614
A9: 4 | B9: Beruházásokból, felújításokból aktivált érték | C9: 0 | D9: 145129470 | E9: 21180798 | F9: 0 | G9: 0 | H9: 0 | I9: 166310268
A10: 5 | B10: Térítésmentes átvétel | C10: 0 | D10: 21000 | E10: 3397758 | F10: 0 | G10: 0 | H10: 0 | I10: 3418758
A11: 6 | B11: Egyéb növekedés | C11: 0 | D11: 1304000 | E11: 0 | F11: 0 | G11: 0 | H11: 0 | I11: 1304000
A12: 7 | B12: Összes növekedés (=02+…+07) | C12: 3296320 | D12: 146454470 | E12: 24578556 | F12: 0 | G12: 14933614 | H12: 0 | I12: 189262960
A13: 8 | B13: Értékesítés | C13: 0 | D13: 0 | E13: 6158240 | F13: 0 | G13: 0 | H13: 0 | I13: 6158240
A14: 9 | B14: Térítésmentes átadás | C14: 0 | D14: 0 | E14: 3345795 | F14: 0 | G14: 0 | H14: 0 | I14: 3345795
A15: 10 | B15: Egyéb csökkenés | C15: 0 | D15: 46467751 | E15: 0 | F15: 0 | G15: 0 | H15: 0 | I15: 46467751
A16: 11 | B16: Összes csökkenés (=09+…+13) | C16: 0 | D16: 46467751 | E16: 9504035 | F16: 0 | G16: 0 | H16: 0 | I16: 55971786
A17: 12 | B17: Bruttó érték összesen (=01+08-14) | C17: 30149534 | D17: 3875200694 | E17: 224767448 | F17: 0 | G17: 61393729 | H17: 154787587 | I17: 4346298992
... A24: 19 | B24: Teljesen (0-ig) leírt eszközök bruttó értéke | C24: 16272973 | D24: 0 | E24: 73675596 | F24: 0 | G24: 0 | H24: 0 | I24: 89948569

Sheet 9
B1: Berhida Város Önkormányzata | C1: 9 melléklet
B2: 2016. évi költségvetés | C2: a 9/2017. (V.31.) önkormányzati rendelethez
C3: adatok Ft-ban
A4: 9 - Mérleg
B5: Megnevezés | C5: Előző időszak | D5: Módosítások (+/-) | E5: Tárgyi időszak
A6: 1 | B6: A/I/1 Vagyoni értékű jogok | C6: 6669069 | D6: 0 | E6: 8093779
A7: 2 | B7: A/I/2 Szellemi termékek | C7: 30793 | D7: 0 | E7: 28871
A8: 3 | B8: A/I Immateriális javak (=A/I/1+A/I/2+A/I/3) | C8: 6699862 | D8: 0 | E8: 8122650
A9: 4 | B9: A/II/1 Ingatlanok és a kapcsolódó vagyoni értékű jogok | C9: 2534064403 | D9: 0 | E9: 2543733192
A10: 5 | B10: A/II/2 Gépek, berendezések, felszerelések, járművek | C10: 31217235 | D10: 0 | E10: 36497118
A11: 6 | B11: A/II/4 Beruházások, felújítások | C11: 46460115 | D11: 0 | E11: 61393729
A12: 7 | B12: A/II Tárgyi eszközök (=A/II/1+...+A/II/5) | C12: 2611741753 | D12: 0 | E12: 2641624039
A13: 8 | B13: A/III/1 Tartós részesedések (=A/III/1a+…+A/III/1e) | C13: 11150000 | D13: 0 | E13: 11150000
A14: 9 | B14: A/III/1b - ebből: tartós részesedések nem pénzügyi vállalkozásban | C14: 11150000 | D14: 0 | E14: 11150000
A15: 10 | B15: A/III Befektetett pénzügyi eszközök (=A/III/1+A/III/2+A/III/3) | C15: 11150000 | D15: 0 | E15: 11150000
A16: 11 | B16: A/IV/1 Koncesszióba, vagyonkezelésbe adott eszközök (=A/IV/1a+A/IV/1b+A/IV/1c) | C16: 140408537 | D16: 0 | E16: 135314035
A17: 12 | B17: A/IV/1b - ebből: tárgyi eszközök | C17: 140408537 | D17: 0 | E17: 135314035
... A88: 83 | B88: FORRÁSOK ÖSSZESEN (=G+H+I+J) | C88: 3371905370 | D88: 0 | E88: 3426420398
B89: A/II/1 Ingatlanok és a kapcsolódó vagyoni értékű jogok | E89: =SUM(E90:E92) -> 0
B90: -ebből forgalomképtelen
B91: - ebből korlátozottan forgalomképes
B92: - ebből forgalomképes, üzleti vagyon
B95: a.) 0-ra leírt eszközök
B96: b.) használatban lévő kisértékű immateriális javak és tárgyi eszközök
B97: c.) kulturális javak állománya

Sheet 10
B1: Berhida Város Önkormányzata | C1: 10. melléklet
B2: 2016. évi költségvetés | C2: a 9/2017. (V.31.) önkormányzati rendelethez
C3: adatok Ft-ban
A4: 10 - Eredménykimutatás
B5: Megnevezés | C5: Előző időszak | D5: Módosítások (+/-) | E5: Tárgyi időszak
A6: 1 | B6: 01 Közhatalmi eredményszemléletű bevételek | C6: 310704745 | D6: 0 | E6: 317038649
A7: 2 | B7: 02 Eszközök és szolgáltatások értékesítése nettó eredményszemléletű bevételei | C7: 25973220 | D7: 0 | E7: 20508828
A8: 3 | B8: 03 Tevékenység egyéb nettó eredményszemléletű bevételei | C8: 25452521 | D8: 0 | E8: 23797585
A9: 4 | B9: I Tevékenység nettó eredményszemléletű bevétele (=01+02+03) | C9: 362130486 | D9: 0 | E9: 361345062
A10: 5 | B10: 06 Központi működési célú támogatások eredményszemléletű bevételei | C10: 818966279 | D10: 0 | E10: 784086654
A11: 6 | B11: 07 Egyéb működési célú támogatások eredményszemléletű bevételei | C11: 110289721 | D11: 0 | E11: 103735500
A12: 7 | B12: 08 Felhalmozási célú támogatások eredményszemléletű bevételei | C12: 48105174 | D12: 0 | E12: 35975100
A13: 8 | B13: 09 Különféle egyéb eredményszemléletű bevételek | C13: 3390253 | D13: 0 | E13: 16751457
A14: 9 | B14: III Egyéb eredményszemléletű bevételek (=06+07+08+09) | C14: 980751427 | D14: 0 | E14: 940548711
A15: 10 | B15: 10 Anyagköltség | C15: 35793519 | D15: 0 | E15: 34380337
A16: 11 | B16: 11 Igénybe vett szolgáltatások értéke | C16: 110073057 | D16: 0 | E16: 117519914
A17: 12 | B17: 13 Eladott (közvetített) szolgáltatások értéke | C17: 3852367 | D17: 0 | E17: 2631783
... A34: 29 | B34: C) MÉRLEG SZERINTI EREDMÉNY (=±A±B) | C34: 89483567 | D34: 0 | E34: -97742013

Sheet 11
B1: Berhida Város Önkormányzatának
B2: 2016. Évi költségvetéséhez
A3: Az önkormányzat által adott közvetett támogatások, kedvezmények
C4: 11. melléklet
C5: a 9/2017. (V.31.) önkormányzati rendelethez
C6: adatok ezer Ft-ban
A8: A | B8: B | C8: C | D8: D
A9: Sorszám | B9: Bevételi jogcím | C9: Kedvezmény nélkül | D9: Kedvezmények
C10: elérhető | D10: összege
C11: bevétel e/Ft | D11: e/Ft
A12: 1. | B12: 2. | C12: 3. | D12: 4.
A13: 1. | B13: házi gondozás térítési díj | C13: 8160 | D13: 3944
A14: 2. | B14: idősek nappali ell térítési díj | C14: 2986 | D14: 1936
A15: 3. | B15: szoc. étkeztetés térítési díj | C15: 4516 | D15: 649
A16: 4. | B16: gépjármű adó bevétel | C16: 11612 | D16: 924
A17: 5. | B17: magánsz kommunális adó bev | C17: 15219 | D17: 649
A18: 6.
A19: 7.
A20: 8.
A21: 9.
A22: 27. | B22: Összesen: | C22: =SUM(C13:C21) -> 42493 | D22: =SUM(D13:D21) -> 8102

Sheet 12. mell
B1: Berhida Város Önkormányzatának
B2: 2016. Év | H2: 12. melléklet
H3: a 9/2017. (V.31.) önkormányzati rendelethez
A5: Több éves kihatással járó döntésekből származó kötelezettségek célok szerint, évenkénti bontásban
A6: Lejárat és eszközök szerinti bontásban (e/Ft-ban)
B9: A | C9: B | D9: C | E9: D | F9: E | G9: F | H9: G | I9: H | J9: I | K9: J | L9: K
C10: Kötelezett- | D10: Lejárat | E10: 2015
B11: Hitel jellege | C11: ségváll. | D11: éve | E11: előtti | F11: 2015. | G11: 2016. | H11: 2017. | I11: 2018. | J11: 2019. | K11: 2019. után | L11: Összesen
C12: éve | E12: kifizetés
A13: 1. | B13: Működési célú
A14: 2.
A15: 3.
A16: 4.
A17: 5.
A18: 6. | B18: Felhalmozási célú hitel áll.
A19: *7. | L19: =SUM(E19:K19) -> 0
A20: 8. | L20: =SUM(E20:K20) -> 0
A21: 9. | L21: =SUM(E21:K21) -> 0
A22: 10. | L22: =SUM(E22:K22) -> 0
A23: 11. | B23: Összesen: (1+6) | E23: =SUM(E19:E21) -> 0 | F23: =SUM(F19:F21) -> 0 | G23: =SUM(G19:G21) -> 0 | H23: =SUM(H19:H21) -> 0 | I23: =SUM(I19:I21) -> 0 | J23: =SUM(J19:J21) -> 0 | K23: =SUM(K19:K21) -> 0 | L23: =SUM(E23:K23) -> 0

Sheet 13
B1: Berhida Város Önkormányzata | D1: 13 melléklet
B2: 2014. évi költségvetés | D2: a 9/2017. (V.31.) önkormányzati rendelethez
B3: Bevételek | D3: adatok ezer Ft-ban
B4: Teljesítés 12.31
D5: Összesen | E5: Önkorm | F5: Hivatal | G5: TESZ | H5: Süni | I5: Kultúrház
A6: Sor- szám | B6: Rovat megnevezése | C6: Rovat száma | D6: Teljesítés | E6: Teljesítés | F6: Teljesítés | G6: Teljesítés | H6: Teljesítés | I6: Teljesítés
A7: 1. | B7: 2. | C7: 3. | D7: 4 | E7: 5 | F7: 6 | G7: 7 | H7: 8 | I7: 9
A8: 01 | B8: Helyi önkormányzatok működésének általános támogatása | C8: B111 | D8: =SUM(E8:I8) -> 168873 | E8: 168873
A9: 02 | B9: Települési önkormányzatok egyes köznevelési feladatainak támogatása | C9: B112 | D9: =SUM(E9:I9) -> 110352 | E9: 110352
A10: 03 | B10: Települési önkormányzatok szociális és gyermekjóléti feladatainak támogatása | C10: B113 | D10: =SUM(E10:I10) -> 130710 | E10: 130710
A11: 04 | B11: Települési önkormányzatok kulturális feladatainak támogatása | C11: B114 | D11: =SUM(E11:I11) -> 6975 | E11: 6975
A12: 05 | B12: Működési célú központosított előirányzatok | C12: B115 | D12: =SUM(E12:I12) -> 6907 | E12: 6907
A13: 06 | B13: Helyi önkormányzatok kiegészítő támogatásai | C13: B116 | D13: =SUM(E13:I13) -> 7491 | E13: 7491
A14: 07 | B14: Önkormányzatok működési támogatásai | C14: B11 | D14: =SUM(E14:I14) -> 431308 | E14: =SUM(E8:E13) -> 431308 | F14: =SUM(F8:F13) -> 0 | G14: =SUM(G8:G13) -> 0 | H14: =SUM(H8:H13) -> 0 | I14: =SUM(I8:I13) -> 0
A15: 08 | B15: Elvonások és befizetések bevételei | C15: B12 | D15: =SUM(E15:I15) -> 0
A16: 09 | B16: Működési célú garancia- és kezességvállalásból származó megtérülések államháztartáson belülről | C16: B13 | D16: =SUM(E16:I16) -> 0
A17: 10 | B17: Működési célú visszatérítendő támogatások, kölcsönök visszatérülése államháztartáson belülről | C17: B14 | D17: =SUM(E17:I17) -> 0
A18: 11 | B18: Működési célú visszatérítendő támogatások, kölcsönök igénybevétele államháztartáson belülről | C18: B15 | D18: =SUM(E18:I18) -> 0
A19: 12 | B19: Egyéb működési célú támogatások bevételei államháztartáson belülről | C19: B16 | D19: =SUM(E19:I19) -> 148187 | E19: =SUM(E20:E27) -> 30764 | F19: =SUM(F20:F27) -> 4491 | G19: =SUM(G20:G27) -> 111755 | H19: =SUM(H20:H27) -> 1177 | I19: =SUM(I20:I27) -> 0
B20: - ebből központi költségvetési szervek | C20: B161 | D20: =SUM(E20:I20) -> 4211 | F20: 4211
B21: - ebből Társadalombiztosítási Alapok | C21: B162 | D21: =SUM(E21:I21) -> 12932 | E21: 12932
B22: - ebből elkülönített állami alapok | C22: B163 | D22: =SUM(E22:I22) -> 112932 | G22: 111755 | H22: 1177
B23: - ebből helyi önkormányzatok és költségvetési szerveik | C23: B164 | D23: =SUM(E23:I23) -> 3066 | E23: 2786 | F23: 280
B24: - ebből helyi helyi önkorm.tól átvett kv-i mardból | D24: =SUM(E24:I24) -> 0
B25: - ebből társulások és költségvetési szerveik | C25: B165 | D25: =SUM(E25:I25) -> 5020 | E25: 5020
B26: - ebből nemzetiségi önkormányzatok és költségvetési szerveik | C26: B166 | D26: =SUM(E26:I26) -> 0
B27: - ebből fejezeti kezelésű | C27: B167 | D27: =SUM(E27:I27) -> 10026 | E27: 10026
A28: 13 | B28: Működési célú támogatások államháztartáson belülről | C28: B1 | D28: =SUM(E28:I28) -> 579495 | E28: =SUM(E14:E19) -> 462072 | F28: =SUM(F14:F19) -> 4491 | G28: =SUM(G14:G19) -> 111755 | H28: =SUM(H14:H19) -> 1177 | I28: =SUM(I14:I19) -> 0
A29: 14 | B29: Felhalmozási célú önkormányzati támogatások | C29: B21 | D29: =SUM(E29:I29) -> 226 | E29: 226
A30: 15 | B30: Felhalmozási célú garancia- és kezességvállalásból származó megtérülések államháztartáson belülről | C30: B22 | D30: =SUM(E30:I30) -> 0
A31: 16 | B31: Felhalmozási célú visszatérítendő támogatások, kölcsönök visszatérülése államháztartáson belülről | C31: B23 | D31: =SUM(E31:I31) -> 0
A32: 17 | B32: Felhalmozási célú visszatérítendő támogatások, kölcsönök igénybevétele államháztartáson belülről | C32: B24 | D32: =SUM(E32:I32) -> 0
A33: 18 | B33: Egyéb felhalmozási célú támogatások bevételei államháztartáson belülről | C33: B25 | D33: =SUM(E33:I33) -> 15358 | E33: 13345 | G33: 2013
A34: 19 | B34: Felhalmozási célú támogatások államháztartáson belülről | C34: B2 | D34: =SUM(E34:I34) -> 15584 | E34: =SUM(E29:E33) -> 13571 | F34: =SUM(F29:F33) -> 0 | G34: =SUM(G29:G33) -> 2013 | H34: =SUM(H29:H33) -> 0 | I34: =SUM(I29:I33) -> 0
A35: 20 | B35: Magánszemélyek jövedelemadói | C35: B311 | D35: =SUM(E35:I35) -> 99 | E35: 99
A36: 21 | B36: Társaságok jövedelemadói | C36: B312 | D36: =SUM(E36:I36) -> 0
A37: 22 | B37: Jövedelemadók | C37: B31 | D37: =SUM(E37:I37) -> 99 | E37: =SUM(E35:E36) -> 99 | F37: =SUM(F35:F36) -> 0 | G37: =SUM(G35:G36) -> 0 | H37: =SUM(H35:H36) -> 0 | I37: =SUM(I35:I36) -> 0
A38: 23 | B38: Szociális hozzájárulási adó és járulékok | C38: B32 | D38: =SUM(E38:I38) -> 0
A39: 24 | B39: Bérhez és foglalkoztatáshoz kapcsolódó adók | C39: B33 | D39: =SUM(E39:I39) -> 0
A40: 25 | B40: Vagyoni tipusú adók | C40: B34 | D40: =SUM(E40:I40) -> 94477 | E40: 94477
A41: 26 | B41: Értékesítési és forgalmi adók | C41: B351 | D41: =SUM(E41:I41) -> 161729 | E41: 161729
A42: 27 | B42: Fogyasztási adók | C42: B352 | D42: =SUM(E42:I42) -> 0
A43: 28 | B43: Pénzügyi monopóliumok nyereségét terhelő adók | C43: B353 | D43: =SUM(E43:I43) -> 0
A44: 29 | B44: Gépjárműadók | C44: B354 | D44: =SUM(E44:I44) -> 11474 | E44: 11474
A45: 30 | B45: Egyéb áruhasználati és szolgáltatási adók | C45: B355 | D45: =SUM(E45:I45) -> 346 | E45: 346
A46: 31 | B46: Termékek és szolgáltatások adói | C46: B35 | D46: =SUM(E46:I46) -> 173549 | E46: =SUM(E41:E45) -> 173549 | F46: =SUM(F41:F45) -> 0 | G46: =SUM(G41:G45) -> 0 | H46: =SUM(H41:H45) -> 0 | I46: =SUM(I41:I45) -> 0
A47: 32 | B47: Egyéb közhatalmi bevételek | C47: B36 | D47: =SUM(E47:I47) -> 2001 | E47: 1983 | F47: 18
A48: 33 | B48: Közhatalmi bevételek | C48: B3 | D48: =SUM(E48:I48) -> 270126 | E48: =E37+E38+E39+E40+E46+E47 -> 270108 | F48: =F37+F38+F39+F40+F46+F47 -> 18 | G48: =G37+G38+G39+G40+G46+G47 -> 0 | H48: =H37+H38+H39+H40+H46+H47 -> 0 | I48: =I37+I38+I39+I40+I46+I47 -> 0
A49: 34 | B49: Áru- és készletértékesítés ellenértéke | C49: B401 | D49: =SUM(E49:I49) -> 46 | G49: 12 | I49: 34
A50: 35 | B50: Szolgáltatások ellenértéke | C50: B402 | D50: =SUM(E50:I50) -> 13357 | E50: 8 | F50: 718 | G50: 616 | H50: 7537 | I50: 4478
A51: 36 | B51: Közvetített szolgáltatások értéke | C51: B403 | D51: =SUM(E51:I51) -> 3294 | E51: =SUM(E52:E53) -> 291 | F51: =SUM(F52:F53) -> 1582 | G51: =SUM(G52:G53) -> 1421 | H51: =SUM(H52:H53) -> 0 | I51: =SUM(I52:I53) -> 0
B52: - ebből ÁHT-n belülre közvetített | C52: B4031 | D52: =SUM(E52:I52) -> 1960 | E52: 257 | F52: 1582 | G52: 121
B53: - ebből áht-n kívülre közvetített | C53: B4032 | D53: =SUM(E53:I53) -> 1334 | E53: 34 | G53: 1300
A54: 37 | B54: Tulajdonosi bevételek | C54: B404 | D54: =SUM(E54:I54) -> 20510 | E54: 20510
A55: 38 | B55: Ellátási díjak | C55: B405 | D55: =SUM(E55:I55) -> 17958 | E55: 4067 | H55: 13891
A56: 39 | B56: Kiszámlázott általános forgalmi adó | C56: B406 | D56: =SUM(E56:I56) -> 12910 | E56: 6115 | F56: 609 | G56: 531 | H56: 5655
A57: 40 | B57: Általános forgalmi adó visszatérítése | C57: B407 | D57: =SUM(E57:I57) -> 0
A58: 41 | B58: Kamatbevételek | C58: B408 | D58: =SUM(E58:I58) -> 2494 | E58: 2418 | F58: 2 | G58: 71 | H58: 2 | I58: 1
A59: 42 | B59: Egyéb pénzügyi műveletek bevételei | C59: B409 | D59: =SUM(E59:I59) -> 113 | E59: 113
A60: 43 | B60: Egyéb működési bevételek | C60: B410 | D60: =SUM(E60:I60) -> 1993 | E60: 1980 | F60: 13
A61: 44 | B61: Működési bevételek | C61: B4 | D61: =SUM(E61:I61) -> 72675 | E61: =E49+E50+E51+E54+E55+E56+E57+E58+E59+E60 -> 35502 | F61: =F49+F50+F51+F54+F55+F56+F57+F58+F59+F60 -> 2924 | G61: =G49+G50+G51+G54+G55+G56+G57+G58+G59+G60 -> 2651 | H61: =H49+H50+H51+H54+H55+H56+H57+H58+H59+H60 -> 27085 | I61: =I49+I50+I51+I54+I55+I56+I57+I58+I59+I60 -> 4513
A62: 45 | B62: Immateriális javak értékesítése | C62: B51 | D62: =SUM(E62:I62) -> 0
A63: 46 | B63: Ingatlanok értékesítése | C63: B52 | D63: =SUM(E63:I63) -> 2022 | E63: 2022
A64: 47 | B64: Egyéb tárgyi eszközök értékesítése | C64: B53 | D64: =SUM(E64:I64) -> 4 | F64: 4
A65: 48 | B65: Részesedések értékesítése | C65: B54 | D65: =SUM(E65:I65) -> 0
A66: 49 | B66: Részesedések megszűnéséhez kapcsolódó bevételek | C66: B55 | D66: =SUM(E66:I66) -> 0
A67: 50 | B67: Felhalmozási bevételek | C67: B5 | D67: =SUM(E67:I67) -> 2026 | E67: =SUM(E62:E66) -> 2022 | F67: =SUM(F62:F66) -> 4 | G67: =SUM(G62:G66) -> 0 | H67: =SUM(H62:H66) -> 0 | I67: =SUM(I62:I66) -> 0
A68: 51 | B68: Működési célú garancia- és kezességvállalásból származó megtérülések államháztartáson kívülről | C68: B61 | D68: =SUM(E68:I68) -> 0
A69: 52 | B69: Működési célú visszatérítendő támogatások, kölcsönök visszatérülése államháztartáson kívülről | C69: B62 | D69: =SUM(E69:I69) -> 0
A70: 53 | B70: Egyéb működési célú átvett pénzeszközök | C70: B63 | D70: =SUM(E70:I70) -> 87 | G70: 82 | H70: 5
A71: 54 | B71: Működési célú átvett pénzeszközök | C71: B6 | D71: =SUM(E71:I71) -> 87 | E71: =SUM(E68:E70) -> 0 | F71: =SUM(F68:F70) -> 0 | G71: =SUM(G68:G70) -> 82 | H71: =SUM(H68:H70) -> 5 | I71: =SUM(I68:I70) -> 0
A72: 55 | B72: Felhalmozási célú garancia- és kezességvállalásból származó megtérülések államháztartáson kívülről | C72: B71 | D72: =SUM(E72:I72) -> 0
A73: 56 | B73: Felhalmozási célú visszatérítendő támogatások, kölcsönök visszatérülése államháztartáson kívülről | C73: B72 | D73: =SUM(E73:I73) -> 1439 | E73: 1439
A74: 57 | B74: Egyéb felhalmozási célú átvett pénzeszközök | C74: B73 | D74: =SUM(E74:I74) -> 59 | E74: 59
A75: 58 | B75: Felhalmozási célú átvett pénzeszközök | C75: B7 | D75: =SUM(E75:I75) -> 1498 | E75: =SUM(E72:E74) -> 1498 | F75: =SUM(F72:F74) -> 0 | G75: =SUM(G72:G74) -> 0 | H75: =SUM(H72:H74) -> 0 | I75: =SUM(I72:I74) -> 0
A76: 59 | B76: Költségvetési bevételek | C76: B1-B7 | D76: =SUM(E76:I76) -> 941491 | E76: =E28+E34+E48+E61+E67+E71+E75 -> 784773 | F76: =F28+F34+F48+F61+F67+F71+F75 -> 7437 | G76: =G28+G34+G48+G61+G67+G71+G75 -> 116501 | H76: =H28+H34+H48+H61+H67+H71+H75 -> 28267 | I76: =I28+I34+I48+I61+I67+I71+I75 -> 4513
A77: 60 | B77: Hitel-, kölcsönfelvétel államháztartáson kívülről | C77: B811 | D77: =SUM(E77:I77) -> 0
A78: 61 | B78: Belföldi értékpapírok bevételei | C78: B812 | D78: =SUM(E78:I78) -> 0
A79: 62 | B79: Előző év költségvetési maradványának igénybevétele | C79: B8131 | D79: =SUM(E79:I79) -> 238285 | E79: 201687 | F79: 4089 | G79: 28007 | H79: 3393 | I79: 1109
A80: 63 | B80: Előző év vállalkozási maradványának igénybevétele | C80: B8132 | D80: =SUM(E80:I80) -> 0
A81: 64 | B81: Maradvány igénybevétele | C81: B813 | D81: =SUM(E81:I81) -> 238285 | E81: =SUM(E79:E80) -> 201687 | F81: =SUM(F79:F80) -> 4089 | G81: =SUM(G79:G80) -> 28007 | H81: =SUM(H79:H80) -> 3393 | I81: =SUM(I79:I80) -> 1109
A82: 65 | B82: Államháztartáson belüli megelőlegezések | C82: B814 | D82: =SUM(E82:I82) -> 12345 | E82: 12345
A83: 66 | B83: Államháztartáson belüli megelőlegezések törlesztése | C83: B815 | D83: =SUM(E83:I83) -> 0
A84: 67 | B84: Központi, irányító szervi támogatás | C84: B816 | D84: =SUM(E84:I84) -> 355710 | F84: 132361 | G84: 99618 | H84: 81974 | I84: 41757
A85: 68 | B85: Betétek megszüntetése | C85: B817 | D85: =SUM(E85:I85) -> 0
A86: 69 | B86: Központi költségvetés sajátos finanszírozási bevételei | C86: B818 | D86: =SUM(E86:I86) -> 0
A87: 70 | B87: Belföldi finanszírozás bevételei | C87: B81 | D87: =SUM(E87:I87) -> 606340 | E87: =(SUM(E81:E86))+E77+E78 -> 214032 | F87: =(SUM(F81:F86))+F77+F78 -> 136450 | G87: =(SUM(G81:G86))+G77+G78 -> 127625 | H87: =(SUM(H81:H86))+H77+H78 -> 85367 | I87: =(SUM(I81:I86))+I77+I78 -> 42866
A88: 71 | B88: Külföldi finanszírozás bevételei | C88: B82 | D88: =SUM(E88:I88) -> 0
A89: 72 | B89: Finanszírozási bevételek | C89: B8 | D89: =SUM(E89:I89) -> 606340 | E89: =SUM(E87:E88) -> 214032 | F89: =SUM(F87:F88) -> 136450 | G89: =SUM(G87:G88) -> 127625 | H89: =SUM(H87:H88) -> 85367 | I89: =SUM(I87:I88) -> 42866
A90: 73 | B90: Összes bevétel | D90: =SUM(E90:I90) -> 1547831 | E90: =E76+E89 -> 998805 | F90: =F76+F89 -> 143887 | G90: =G76+G89 -> 244126 | H90: =H76+H89 -> 113634 | I90: =I76+I89 -> 47379

Sheet 14
B1: Berhida Város Önkormányzata | C1: 14. melléklet
B2: 2014. évi költségvetés | C2: a 9/2017. (V.31.) önkormányzati rendelethez
B3: Kiadások | C3: adatok ezer Ft-ban
B4: Teljesítés 12.31
D5: ÖSSZESEN | E5: Önkorm | F5: Hivatal | G5: TESZ | H5: Süni | I5: Kultúrház
A6: Sor- szám | B6: Rovat megnevezése | C6: Rovat száma | D6: Teljesítés | E6: Teljesítés | F6: Teljesítés | G6: Teljesítés | H6: Teljesítés | I6: Teljesítés
A7: 1. | B7: 2. | C7: 3. | D7: 4 | E7: 5 | F7: 6 | G7: 7 | H7: 8 | I7: 9
A8: 1 | B8: Személyi juttatások | C8: K1 | D8: =SUM(E8:I8) -> 338169 | E8: 28230 | F8: 93385 | G8: 144493 | H8: 57804 | I8: 14257
A9: 2 | B9: Munkaadókat terhelő járulékok és szociális hozzájárulási adó | C9: K2 | D9: =SUM(E9:I9) -> 77165 | E9: 7553 | F9: 25961 | G9: 24850 | H9: 15007 | I9: 3794
A10: 3 | B10: Dologi kiadások | C10: K3 | D10: =SUM(E10:I10) -> 185556 | E10: 46033 | F10: 17931 | G10: 59463 | H10: 35908 | I10: 26221
A11: 4 | B11: Társadalombiztosítási ellátások | C11: K41 | D11: =SUM(E11:I11) -> 0
A12: 5 | B12: Családi támogatások | C12: K42 | D12: =SUM(E12:I12) -> 8187 | E12: 8187
A13: 6 | B13: Pénzbeli kárpótlások, kártérítések | C13: K43 | D13: =SUM(E13:I13) -> 0
A14: 7 | B14: Betegséggel kapcsolatos (nem társadalombiztosítási) ellátások | C14: K44 | D14: =SUM(E14:I14) -> 162 | E14: 162
A15: 8 | B15: Foglalkoztatással, munkanélküliséggel kapcsolatos ellátások | C15: K45 | D15: =SUM(E15:I15) -> 55621 | E15: 55621
A16: 9 | B16: Lakhatással kapcsolatos ellátások | C16: K46 | D16: =SUM(E16:I16) -> 16725 | E16: 16725
A17: 10 | B17: Intézményi ellátottak pénzbeli juttatásai | C17: K47 | D17: =SUM(E17:I17) -> 0
A18: 11 | B18: Egyéb nem intézményi ellátások | C18: K48 | D18: =SUM(E18:I18) -> 9884 | E18: 9884
A19: 12 | B19: Ellátottak pénzbeli juttatásai | C19: K4 | D19: =SUM(E19:I19) -> 90579 | E19: =SUM(E11:E18) -> 90579 | F19: =SUM(F11:F18) -> 0 | G19: =SUM(G11:G18) -> 0 | H19: =SUM(H11:H18) -> 0 | I19: =SUM(I11:I18) -> 0
A20: 13 | B20: Nemzetközi kötelezettségek | C20: K501 | D20: =SUM(E20:I20) -> 0
A21: 14 | B21: Elvonások és befizetések | C21: K502 | D21: =SUM(E21:I21) -> 1907 | E21: 367 | F21: 87 | G21: 583 | H21: 696 | I21: 174
A22: 15 | B22: Működési célú garancia- és kezességvállalásból származó kifizetés államháztartáson belülre | C22: K503 | D22: =SUM(E22:I22) -> 0
A23: 16 | B23: Működési célú visszatérítendő támogatások, kölcsönök nyújtása államháztartáson belülre | C23: K504 | D23: =SUM(E23:I23) -> 0
A24: 17 | B24: Működési célú visszatérítendő támogatások, kölcsönök törlesztése államháztartáson belülre | C24: K505 | D24: =SUM(E24:I24) -> 0
A25: 18 | B25: Egyéb működési célú támogatások államháztartáson belülre | C25: K506 | D25: =SUM(E25:I25) -> 118935 | E25: =SUM(E26:E35) -> 118935 | F25: =SUM(F26:F35) -> 0 | G25: =SUM(G26:G35) -> 0 | H25: =SUM(H26:H35) -> 0 | I25: =SUM(I26:I35) -> 0
B26: - ebből központi költségvetési szervek | C26: K5061 | D26: =SUM(E26:I26) -> 0
B27: - ebből fejezeti kezelésű kv-i szervnek | D27: =SUM(E27:I27) -> 1808 | E27: 1808
B28: - ebből Társadalombiztosítási Alapok | C28: K5062 | D28: =SUM(E28:I28) -> 0
B29: - ebből elkülönített állami alapok | C29: K5063 | D29: =SUM(E29:I29) -> 0
B30: - ebből helyi önkormányzatok és költségvetési szerveik | C30: K5064 | D30: =SUM(E30:I30) -> 1266 | E30: 1266
B31: - ebből társulások és költségvetési szerveik | C31: K50651 | D31: =SUM(E31:I31) -> 0
B32: - ebből Várpalotai TC társulás | D32: =SUM(E32:I32) -> 4643 | E32: 4643
B33: - ebből köznevelési társulásnak | C33: K50652 | D33: =SUM(E33:I33) -> 79590 | E33: 79590
B34: - ebből szociális társulásnak | C34: K50653 | D34: =SUM(E34:I34) -> 31028 | E34: 31028
B35: - ebből nemzetiségi önkormányzatok és költségvetési szerveik | C35: K5066 | D35: =SUM(E35:I35) -> 600 | E35: 600
A36: 19 | B36: Működési célú garancia- és kezességvállalásból származó kifizetés államháztartáson kívülre | C36: K507 | D36: =SUM(E36:I36) -> 0
A37: 20 | B37: Működési célú visszatérítendő támogatások, kölcsönök nyújtása államháztartáson kívülre | C37: K508 | D37: =SUM(E37:I37) -> 0
A38: 21 | B38: Árkiegészítések, ártámogatások | C38: K509 | D38: =SUM(E38:I38) -> 0
A39: 22 | B39: Kamattámogatások | C39: K510 | D39: =SUM(E39:I39) -> 0
A40: 23 | B40: Egyéb működési célú támogatások államháztartáson kívülre | C40: K511 | D40: =SUM(E40:I40) -> 3995 | E40: 3995
A41: 24 | B41: Tartalékok | C41: K512 | D41: =SUM(E41:I41) -> 0
A42: 25 | B42: Egyéb működési célú kiadások | C42: K5 | D42: =SUM(E42:I42) -> 124837 | E42: =E20+E21+E22+E23+E24+E25+E36+E37+E38+E39+E40+E41 -> 123297 | F42: =F20+F21+F22+F23+F24+F25+F36+F37+F38+F39+F40+F41 -> 87 | G42: =G20+G21+G22+G23+G24+G25+G36+G37+G38+G39+G40+G41 -> 583 | H42: =H20+H21+H22+H23+H24+H25+H36+H37+H38+H39+H40+H41 -> 696 | I42: =I20+I21+I22+I23+I24+I25+I36+I37+I38+I39+I40+I41 -> 174
A43: 26 | B43: Immateriális javak beszerzése, létesítése | C43: K61 | D43: =SUM(E43:I43) -> 6550 | E43: 6550
A44: 27 | B44: Ingatlanok beszerzése, létesítése | C44: K62 | D44: =SUM(E44:I44) -> 57502 | E44: 56826 | G44: 676
A45: 28 | B45: Informatikai eszközök beszerzése, létesítése | C45: K63 | D45: =SUM(E45:I45) -> 1505 | F45: 1505
A46: 29 | B46: Egyéb tárgyi eszközök beszerzése, létesítése | C46: K64 | D46: =SUM(E46:I46) -> 7470 | E46: 2333 | F46: 257 | G46: 3418 | H46: 101 | I46: 1361
A47: 30 | B47: Részesedések beszerzése | C47: K65 | D47: =SUM(E47:I47) -> 0
A48: 31 | B48: Meglévő részesedések növeléséhez kapcsolódó kiadások | C48: K66 | D48: =SUM(E48:I48) -> 0
A49: 32 | B49: Beruházási célú előzetesen felszámított általános forgalmi adó | C49: K67 | D49: =SUM(E49:I49) -> 19354 | E49: 17552 | F49: 476 | G49: 1105 | H49: 27 | I49: 194
A50: 33 | B50: Beruházások | C50: K6 | D50: =SUM(E50:I50) -> 92381 | E50: =SUM(E43:E49) -> 83261 | F50: =SUM(F43:F49) -> 2238 | G50: =SUM(G43:G49) -> 5199 | H50: =SUM(H43:H49) -> 128 | I50: =SUM(I43:I49) -> 1555
A51: 34 | B51: Ingatlanok felújítása | C51: K71 | D51: =SUM(E51:I51) -> 25087 | E51: 25087
A52: 35 | B52: Informatikai eszközök felújítása | C52: K72 | D52: =SUM(E52:I52) -> 9 | F52: 9
A53: 36 | B53: Egyéb tárgyi eszközök felújítása | C53: K73 | D53: =SUM(E53:I53) -> 127 | E53: 55 | G53: 72
A54: 37 | B54: Felújítási célú előzetesen felszámított általános forgalmi adó | C54: K74 | D54: =SUM(E54:I54) -> 5588 | E54: 5566 | F54: 3 | G54: 19
A55: 38 | B55: Felújítások | C55: K7 | D55: =SUM(E55:I55) -> 30811 | E55: =SUM(E51:E54) -> 30708 | F55: =SUM(F51:F54) -> 12 | G55: =SUM(G51:G54) -> 91 | H55: =SUM(H51:H54) -> 0 | I55: =SUM(I51:I54) -> 0
A56: 39 | B56: Felhalmozási célú garancia- és kezességvállalásból származó kifizetés államháztartáson belülre | C56: K81 | D56: =SUM(E56:I56) -> 0
A57: 40 | B57: Felhalmozási célú visszatérítendő támogatások, kölcsönök nyújtása államháztartáson belülre | C57: K82 | D57: =SUM(E57:I57) -> 0
A58: 41 | B58: Felhalmozási célú visszatérítendő támogatások, kölcsönök törlesztése államháztartáson belülre | C58: K83 | D58: =SUM(E58:I58) -> 0
A59: 42 | B59: Egyéb felhalmozási célú támogatások államháztartáson belülre | C59: K84 | D59: =SUM(E59:I59) -> 765 | E59: 765
A60: 43 | B60: Felhalmozási célú garancia- és kezességvállalásból származó kifizetés államháztartáson kívülre | C60: K85 | D60: =SUM(E60:I60) -> 0
A61: 44 | B61: Felhalmozási célú visszatérítendő támogatások, kölcsönök nyújtása államháztartáson kívülre | C61: K86 | D61: =SUM(E61:I61) -> 0
A62: 45 | B62: Lakástámogatás | C62: K87 | D62: =SUM(E62:I62) -> 0
A63: 46 | B63: Egyéb felhalmozási célú támogatások államháztartáson kívülre | C63: K88 | D63: =SUM(E63:I63) -> 3003 | E63: 3003
A64: 47 | B64: Egyéb felhalmozási célú kiadások | C64: K8 | D64: =SUM(E64:I64) -> 3768 | E64: =SUM(E56:E63) -> 3768 | F64: =SUM(F56:F63) -> 0 | G64: =SUM(G56:G63) -> 0 | H64: =SUM(H56:H63) -> 0 | I64: =SUM(I56:I63) -> 0
A65: 48 | B65: Költségvetési kiadások | C65: K1-K8 | D65: =SUM(E65:I65) -> 943266 | E65: =E8+E9+E10+E19+E42+E50+E55+E64 -> 413429 | F65: =F8+F9+F10+F19+F42+F50+F55+F64 -> 139614 | G65: =G8+G9+G10+G19+G42+G50+G55+G64 -> 234679 | H65: =H8+H9+H10+H19+H42+H50+H55+H64 -> 109543 | I65: =I8+I9+I10+I19+I42+I50+I55+I64 -> 46001
A66: 49 | B66: Hitel-, kölcsöntörlesztés államháztartáson kívülre | C66: K911 | D66: =SUM(E66:I66) -> 0
A67: 50 | B67: Belföldi értékpapírok kiadásai | C67: K912 | D67: =SUM(E67:I67) -> 0
A68: 51 | B68: Államháztartáson belüli megelőlegezések folyósítása | C68: K913 | D68: =SUM(E68:I68) -> 0
A69: 52 | B69: Államháztartáson belüli megelőlegezések visszafizetése | C69: K914 | D69: =SUM(E69:I69) -> 0
A70: 53 | B70: Központi, irányító szervi támogatások folyósítása | C70: K915 | D70: =SUM(E70:I70) -> 355710 | E70: 355710
A71: 54 | B71: Pénzeszközök betétként elhelyezése | C71: K916 | D71: =SUM(E71:I71) -> 0
A72: 55 | B72: Pénzügyi lízing kiadásai | C72: K917 | D72: =SUM(E72:I72) -> 0
A73: 56 | B73: Központi költségvetés sajátos finanszírozási kiadásai | C73: K918 | D73: =SUM(E73:I73) -> 0
A74: 57 | B74: Belföldi finanszírozás kiadásai | C74: K91 | D74: =SUM(E74:I74) -> 355710 | E74: =SUM(E66:E73) -> 355710 | F74: =SUM(F66:F73) -> 0 | G74: =SUM(G66:G73) -> 0 | H74: =SUM(H66:H73) -> 0 | I74: =SUM(I66:I73) -> 0
A75: 58 | B75: Külföldi finanszírozás kiadásai | C75: K92 | D75: =SUM(E75:I75) -> 0
A76: 59 | B76: Finanszírozási kiadások | C76: K9 | D76: =SUM(E76:I76) -> 355710 | E76: =SUM(E74:E75) -> 355710 | F76: =SUM(F74:F75) -> 0 | G76: =SUM(G74:G75) -> 0 | H76: =SUM(H74:H75) -> 0 | I76: =SUM(I74:I75) -> 0
A77: 60 | B77: Összes kiadás | D77: =SUM(E77:I77) -> 1298976 | E77: =E65+E76 -> 769139 | F77: =F65+F76 -> 139614 | G77: =G65+G76 -> 234679 | H77: =H65+H76 -> 109543 | I77: =I65+I76 -> 46001

Sheet 15
B1: Berhida Város Önkormányzata | D1: 15. melléklet
B2: 2015. évi költségvetés | D2: a 9/2017. (V.31.) önkormányzati rendelethez
B3: Bevételek | D3: adatok ezer Ft-ban
B4: Teljesítés 12.31
D5: Összesen | E5: Önkorm | F5: Hivatal | G5: TESZ | H5: Süni | I5: Kultúrház
A6: Sor- szám | B6: Rovat megnevezése | C6: Rovat száma | D6: Teljesítés 12.31 | E6: Teljesítés 12.31 | F6: Teljesítés 12.31 | G6: Teljesítés 12.31 | H6: Teljesítés 12.31 | I6: Teljesítés 12.31
A7: 1. | B7: 2. | C7: 3. | D7: 4. | E7: 5. | F7: 6. | G7: 7. | H7: 8. | I7: 9.
A8: 01 | B8: Helyi önkormányzatok működésének általános támogatása | C8: B111 | D8: =SUM(E8:I8) -> 139570 | E8: 139570
A9: 02 | B9: Települési önkormányzatok egyes köznevelési feladatainak támogatása | C9: B112 | D9: =SUM(E9:I9) -> 125823 | E9: 125823
A10: 03 | B10: Települési önkormányzatok szociális és gyermekjóléti feladatainak támogatása | C10: B113 | D10: =SUM(E10:I10) -> 137689 | E10: 137689
A11: 04 | B11: Települési önkormányzatok kulturális feladatainak támogatása | C11: B114 | D11: =SUM(E11:I11) -> 7094 | E11: 7094
A12: 05 | B12: Működési célú költségvetési támogatások és kiegészítő támogatások | C12: B115 | D12: =SUM(E12:I12) -> 6790 | E12: 6790
A13: 06 | B13: Elszámolásból származó bevételek | C13: B116 | D13: =SUM(E13:I13) -> 2782 | E13: 2782
A14: 07 | B14: Önkormányzatok működési támogatásai | C14: B11 | D14: =SUM(E14:I14) -> 419748 | E14: =SUM(E8:E13) -> 419748 | F14: =SUM(F8:F13) -> 0 | G14: =SUM(G8:G13) -> 0 | H14: =SUM(H8:H13) -> 0 | I14: =SUM(I8:I13) -> 0
A15: 08 | B15: Elvonások és befizetések bevételei | C15: B12 | D15: =SUM(E15:I15) -> 0
A16: 09 | B16: Működési célú garancia- és kezességvállalásból származó megtérülések államháztartáson belülről | C16: B13 | D16: =SUM(E16:I16) -> 0
A17: 10 | B17: Működési célú visszatérítendő támogatások, kölcsönök visszatérülése államháztartáson belülről | C17: B14 | D17: =SUM(E17:I17) -> 0
A18: 11 | B18: Működési célú visszatérítendő támogatások, kölcsönök igénybevétele államháztartáson belülről | C18: B15 | D18: =SUM(E18:I18) -> 0
A19: 12 | B19: Egyéb működési célú támogatások bevételei államháztartáson belülről | C19: B16 | D19: =SUM(E19:I19) -> 110971 | E19: =SUM(E20:E26) -> 20955 | F19: =SUM(F20:F26) -> 581 | G19: =SUM(G20:G26) -> 87808 | H19: =SUM(H20:H26) -> 1627 | I19: =SUM(I20:I26) -> 0
B20: - ebből központi költségvetési szervek | C20: B161 | D20: =SUM(E20:I20) -> 962 | E20: 381 | F20: 581
B21: - ebből Társadalombiztosítási Alapok | C21: B162 | D21: =SUM(E21:I21) -> 12978 | E21: 12978
B22: - ebből elkülönített állami alapok | C22: B163 | D22: =SUM(E22:I22) -> 89435 | G22: 87808 | H22: 1627
B23: - ebből helyi önkormányzatok és költségvetési szerveik | C23: B164 | D23: =SUM(E23:I23) -> 0
B24: - ebből társulások és költségvetési szerveik | C24: B165 | D24: =SUM(E24:I24) -> 0
B25: - ebből nemzetiségi önkormányzatok és költségvetési szerveik | C25: B166 | D25: =SUM(E25:I25) -> 0
B26: - ebből fejezeti kezelésű | C26: B167 | D26: =SUM(E26:I26) -> 7596 | E26: 7596
A27: 13 | B27: Működési célú támogatások államháztartáson belülről | C27: B1 | D27: =SUM(E27:I27) -> 530719 | E27: =SUM(E14:E19) -> 440703 | F27: =SUM(F14:F19) -> 581 | G27: =SUM(G14:G19) -> 87808 | H27: =SUM(H14:H19) -> 1627 | I27: =SUM(I14:I19) -> 0
A28: 14 | B28: Felhalmozási célú önkormányzati támogatások | C28: B21 | D28: =SUM(E28:I28) -> 181261 | E28: 181261
A29: 15 | B29: Felhalmozási célú garancia- és kezességvállalásból származó megtérülések államháztartáson belülről | C29: B22 | D29: =SUM(E29:I29) -> 0
A30: 16 | B30: Felhalmozási célú visszatérítendő támogatások, kölcsönök visszatérülése államháztartáson belülről | C30: B23 | D30: =SUM(E30:I30) -> 0
A31: 17 | B31: Felhalmozási célú visszatérítendő támogatások, kölcsönök igénybevétele államháztartáson belülről | C31: B24 | D31: =SUM(E31:I31) -> 0
A32: 18 | B32: Egyéb felhalmozási célú támogatások bevételei államháztartáson belülről | C32: B25 | D32: =SUM(E32:I32) -> 45747 | E32: 45747
A33: 19 | B33: Felhalmozási célú támogatások államháztartáson belülről | C33: B2 | D33: =SUM(E33:I33) -> 227008 | E33: =SUM(E28:E32) -> 227008 | F33: =SUM(F28:F32) -> 0 | G33: =SUM(G28:G32) -> 0 | H33: =SUM(H28:H32) -> 0 | I33: =SUM(I28:I32) -> 0
A34: 20 | B34: Magánszemélyek jövedelemadói | C34: B311 | D34: =SUM(E34:I34) -> 0
A35: 21 | B35: Társaságok jövedelemadói | C35: B312 | D35: =SUM(E35:I35) -> 0
A36: 22 | B36: Jövedelemadók | C36: B31 | D36: =SUM(E36:I36) -> 0 | E36: =SUM(E34:E35) -> 0 | F36: =SUM(F34:F35) -> 0 | G36: =SUM(G34:G35) -> 0 | H36: =SUM(H34:H35) -> 0 | I36: =SUM(I34:I35) -> 0
A37: 23 | B37: Szociális hozzájárulási adó és járulékok | C37: B32 | D37: =SUM(E37:I37) -> 0
A38: 24 | B38: Bérhez és foglalkoztatáshoz kapcsolódó adók | C38: B33 | D38: =SUM(E38:I38) -> 0
A39: 25 | B39: Vagyoni tipusú adók | C39: B34 | D39: =SUM(E39:I39) -> 101614 | E39: 101614
A40: 26 | B40: Értékesítési és forgalmi adók | C40: B351 | D40: =SUM(E40:I40) -> 198353 | E40: 198353
A41: 27 | B41: Fogyasztási adók | C41: B352 | D41: =SUM(E41:I41) -> 0
A42: 28 | B42: Pénzügyi monopóliumok nyereségét terhelő adók | C42: B353 | D42: =SUM(E42:I42) -> 0
A43: 29 | B43: Gépjárműadók | C43: B354 | D43: =SUM(E43:I43) -> 11836 | E43: 11836
A44: 30 | B44: Egyéb áruhasználati és szolgáltatási adók | C44: B355 | D44: =SUM(E44:I44) -> 159 | E44: 159
A45: 31 | B45: Termékek és szolgáltatások adói | C45: B35 | D45: =SUM(E45:I45) -> 210348 | E45: =SUM(E40:E44) -> 210348 | F45: =SUM(F40:F44) -> 0 | G45: =SUM(G40:G44) -> 0 | H45: =SUM(H40:H44) -> 0 | I45: =SUM(I40:I44) -> 0
A46: 32 | B46: Egyéb közhatalmi bevételek | C46: B36 | D46: =SUM(E46:I46) -> 2111 | E46: 2066 | F46: 45
A47: 33 | B47: Közhatalmi bevételek | C47: B3 | D47: =SUM(E47:I47) -> 314073 | E47: =E36+E37+E38+E39+E45+E46 -> 314028 | F47: =F36+F37+F38+F39+F45+F46 -> 45 | G47: =G36+G37+G38+G39+G45+G46 -> 0 | H47: =H36+H37+H38+H39+H45+H46 -> 0 | I47: =I36+I37+I38+I39+I45+I46 -> 0
A48: 34 | B48: Áru- és készletértékesítés ellenértéke | C48: B401 | D48: =SUM(E48:I48) -> 58 | E48: 5 | G48: 14 | I48: 39
A49: 35 | B49: Szolgáltatások ellenértéke | C49: B402 | D49: =SUM(E49:I49) -> 14140 | E49: 47 | F49: 747 | G49: 1021 | H49: 9884 | I49: 2441
A50: 36 | B50: Közvetített szolgáltatások értéke | C50: B403 | D50: =SUM(E50:I50) -> 3951 | E50: =SUM(E51:E52) -> 538 | F50: =SUM(F51:F52) -> 1721 | G50: =SUM(G51:G52) -> 1692 | H50: =SUM(H51:H52) -> 0 | I50: =SUM(I51:I52) -> 0
B51: - ebből ÁHT-n belülre közvetített | C51: B4031 | D51: =SUM(E51:I51) -> 2054 | E51: 199 | F51: 1721 | G51: 134
B52: - ebből áht-n kívülre közvetített | C52: B4032 | D52: =SUM(E52:I52) -> 1897 | E52: 339 | G52: 1558
A53: 37 | B53: Tulajdonosi bevételek | C53: B404 | D53: =SUM(E53:I53) -> 22564 | E53: 22564
A54: 38 | B54: Ellátási díjak | C54: B405 | D54: =SUM(E54:I54) -> 13229 | E54: 4027 | H54: 9202
A55: 39 | B55: Kiszámlázott általános forgalmi adó | C55: B406 | D55: =SUM(E55:I55) -> 13254 | E55: 6732 | F55: 653 | G55: 716 | H55: 5153
A56: 40 | B56: Általános forgalmi adó visszatérítése | C56: B407 | D56: =SUM(E56:I56) -> 0
A57: 41 | B57: Kamatbevételek | C57: B408 | D57: =SUM(E57:I57) -> 1599 | E57: 1576 | F57: 1 | G57: 20 | H57: 1 | I57: 1
A58: 42 | B58: Egyéb pénzügyi műveletek bevételei | C58: B409 | D58: =SUM(E58:I58) -> 1 | E58: 1
A59: 43 | B59: Egyéb működési bevételek | C59: B410 | D59: =SUM(E59:I59) -> 1409 | E59: 858 | F59: 339 | G59: 199 | H59: 8 | I59: 5
A60: 44 | B60: Működési bevételek | C60: B4 | D60: =SUM(E60:I60) -> 70205 | E60: =E48+E49+E50+E53+E54+E55+E56+E57+E58+E59 -> 36348 | F60: =F48+F49+F50+F53+F54+F55+F56+F57+F58+F59 -> 3461 | G60: =G48+G49+G50+G53+G54+G55+G56+G57+G58+G59 -> 3662 | H60: =H48+H49+H50+H53+H54+H55+H56+H57+H58+H59 -> 24248 | I60: =I48+I49+I50+I53+I54+I55+I56+I57+I58+I59 -> 2486
A61: 45 | B61: Immateriális javak értékesítése | C61: B51 | D61: =SUM(E61:I61) -> 0
A62: 46 | B62: Ingatlanok értékesítése | C62: B52 | D62: =SUM(E62:I62) -> 299 | E62: 299
A63: 47 | B63: Egyéb tárgyi eszközök értékesítése | C63: B53 | D63: =SUM(E63:I63) -> 1 | F63: 1
A64: 48 | B64: Részesedések értékesítése | C64: B54 | D64: =SUM(E64:I64) -> 0
A65: 49 | B65: Részesedések megszűnéséhez kapcsolódó bevételek | C65: B55 | D65: =SUM(E65:I65) -> 0
A66: 50 | B66: Felhalmozási bevételek | C66: B5 | D66: =SUM(E66:I66) -> 300 | E66: =SUM(E61:E65) -> 299 | F66: =SUM(F61:F65) -> 1 | G66: =SUM(G61:G65) -> 0 | H66: =SUM(H61:H65) -> 0 | I66: =SUM(I61:I65) -> 0
A67: 51 | B67: Működési célú garancia- és kezességvállalásból származó megtérülések államháztartáson kívülről | C67: B61 | D67: =SUM(E67:I67) -> 0
A68: 52 | B68: Működési célú visszatérítendő támogatások, kölcsönök visszatérülése államháztartáson kívülről | C68: B62 | D68: =SUM(E68:I68) -> 0
A69: 53 | B69: Egyéb működési célú átvett pénzeszközök | C69: B63-65 | D69: =SUM(E69:I69) -> 106 | G69: 106
A70: 54 | B70: Működési célú átvett pénzeszközök | C70: B6 | D70: =SUM(E70:I70) -> 106 | E70: =SUM(E67:E69) -> 0 | F70: =SUM(F67:F69) -> 0 | G70: =SUM(G67:G69) -> 106 | H70: =SUM(H67:H69) -> 0 | I70: =SUM(I67:I69) -> 0
A71: 55 | B71: Felhalmozási célú garancia- és kezességvállalásból származó megtérülések államháztartáson kívülről | C71: B71 | D71: =SUM(E71:I71) -> 0
A72: 56 | B72: Felhalmozási célú visszatérítendő támogatások, kölcsönök visszatérülése államháztartáson kívülről | C72: B72 | D72: =SUM(E72:I72) -> 352 | E72: 352
A73: 57 | B73: Egyéb felhalmozási célú átvett pénzeszközök | C73: B73-74 | D73: =SUM(E73:I73) -> 0
A74: 58 | B74: Felhalmozási célú átvett pénzeszközök | C74: B7 | D74: =SUM(E74:I74) -> 352 | E74: =SUM(E71:E73) -> 352 | F74: =SUM(F71:F73) -> 0 | G74: =SUM(G71:G73) -> 0 | H74: =SUM(H71:H73) -> 0 | I74: =SUM(I71:I73) -> 0
A75: 59 | B75: Költségvetési bevételek | C75: B1-B7 | D75: =SUM(E75:I75) -> 1142763 | E75: =E27+E33+E47+E60+E66+E70+E74 -> 1018738 | F75: =F27+F33+F47+F60+F66+F70+F74 -> 4088 | G75: =G27+G33+G47+G60+G66+G70+G74 -> 91576 | H75: =H27+H33+H47+H60+H66+H70+H74 -> 25875 | I75: =I27+I33+I47+I60+I66+I70+I74 -> 2486
A76: 60 | B76: Hitel-, kölcsönfelvétel államháztartáson kívülről | C76: B811 | D76: =SUM(E76:I76) -> 0
A77: 61 | B77: Belföldi értékpapírok bevételei | C77: B812 | D77: =SUM(E77:I77) -> 0
A78: 62 | B78: Előző év költségvetési maradványának igénybevétele | C78: B8131 | D78: =SUM(E78:I78) -> 248855 | E78: 229666 | F78: 4273 | G78: 9447 | H78: 4091 | I78: 1378
A79: 63 | B79: Előző év vállalkozási maradványának igénybevétele | C79: B8132 | D79: =SUM(E79:I79) -> 0
A80: 64 | B80: Maradvány igénybevétele | C80: B813 | D80: =SUM(E80:I80) -> 248855 | E80: =SUM(E78:E79) -> 229666 | F80: =SUM(F78:F79) -> 4273 | G80: =SUM(G78:G79) -> 9447 | H80: =SUM(H78:H79) -> 4091 | I80: =SUM(I78:I79) -> 1378
A81: 65 | B81: Államháztartáson belüli megelőlegezések | C81: B814 | D81: =SUM(E81:I81) -> 31298 | E81: 31298
A82: 66 | B82: Államháztartáson belüli megelőlegezések törlesztése | C82: B815 | D82: =SUM(E82:I82) -> 0
A83: 67 | B83: Központi, irányító szervi támogatás | C83: B816 | D83: =SUM(E83:I83) -> 399219 | F83: 136790 | G83: 126709 | H83: 91205 | I83: 44515
A84: 68 | B84: Betétek megszüntetése | C84: B817 | D84: =SUM(E84:I84) -> 0
A85: 69 | B85: Központi költségvetés sajátos finanszírozási bevételei | C85: B818 | D85: =SUM(E85:I85) -> 0
A86: 70 | B86: Belföldi finanszírozás bevételei | C86: B81 | D86: =SUM(E86:I86) -> 679372 | E86: =(SUM(E80:E85))+E76+E77 -> 260964 | F86: =(SUM(F80:F85))+F76+F77 -> 141063 | G86: =(SUM(G80:G85))+G76+G77 -> 136156 | H86: =(SUM(H80:H85))+H76+H77 -> 95296 | I86: =(SUM(I80:I85))+I76+I77 -> 45893
A87: 71 | B87: Külföldi finanszírozás bevételei | C87: B82 | D87: =SUM(E87:I87) -> 0
A88: 72 | B88: Finanszírozási bevételek | C88: B8 | D88: =SUM(E88:I88) -> 679372 | E88: =SUM(E86:E87) -> 260964 | F88: =SUM(F86:F87) -> 141063 | G88: =SUM(G86:G87) -> 136156 | H88: =SUM(H86:H87) -> 95296 | I88: =SUM(I86:I87) -> 45893
A89: 73 | B89: Összes bevétel | D89: =SUM(E89:I89) -> 1822135 | E89: =E75+E88 -> 1279702 | F89: =F75+F88 -> 145151 | G89: =G75+G88 -> 227732 | H89: =H75+H88 -> 121171 | I89: =I75+I88 -> 48379

Sheet 16
B1: Berhida Város Önkormányzata | C1: 16. melléklet
B2: 2015. évi költségvetés | C2: a 9/2017. (V.31.) önkormányzati rendelethez
B3: Kiadások | C3: adatok ezer Ft-ban
B4: Teljesítés 12.31
D5: ÖSSZESEN | E5: Önkorm | F5: Hivatal | G5: TESZ | H5: Süni | I5: Kultúrház
A6: Sor- szám | B6: Rovat megnevezése | C6: Rovat száma | D6: Teljesítés 12.31 | E6: Teljesítés 12.31 | F6: Teljesítés 12.31 | G6: Teljesítés 12.31 | H6: Teljesítés 12.31 | I6: Teljesítés 12.31
A7: 1. | B7: 2. | C7: 3. | D7: 4. | E7: 5. | F7: 6. | G7: 7. | H7: 8. | I7: 9.
A8: 1 | B8: Személyi juttatások | C8: K1 | D8: =SUM(E8:I8) -> 308005 | E8: 27166 | F8: 89425 | G8: 113442 | H8: 62653 | I8: 15319
A9: 2 | B9: Munkaadókat terhelő járulékok és szociális hozzájárulási adó | C9: K2 | D9: =SUM(E9:I9) -> 75278 | E9: 7515 | F9: 24844 | G9: 21543 | H9: 17080 | I9: 4296
A10: 3 | B10: Dologi kiadások | C10: K3 | D10: =SUM(E10:I10) -> 194666 | E10: 47184 | F10: 19517 | G10: 67264 | H10: 36693 | I10: 24008
A11: 4 | B11: Társadalombiztosítási ellátások | C11: K41 | D11: =SUM(E11:I11) -> 0
A12: 5 | B12: Családi támogatások | C12: K42 | D12: =SUM(E12:I12) -> 6554 | E12: 6554
A13: 6 | B13: Pénzbeli kárpótlások, kártérítések | C13: K43 | D13: =SUM(E13:I13) -> 0
A14: 7 | B14: Betegséggel kapcsolatos (nem társadalombiztosítási) ellátások | C14: K44 | D14: =SUM(E14:I14) -> 52 | E14: 52
A15: 8 | B15: Foglalkoztatással, munkanélküliséggel kapcsolatos ellátások | C15: K45 | D15: =SUM(E15:I15) -> 12973 | E15: 12973
A16: 9 | B16: Lakhatással kapcsolatos ellátások | C16: K46 | D16: =SUM(E16:I16) -> 8859 | E16: 8859
A17: 10 | B17: Intézményi ellátottak pénzbeli juttatásai | C17: K47 | D17: =SUM(E17:I17) -> 0
A18: 11 | B18: Egyéb nem intézményi ellátások | C18: K48 | D18: =SUM(E18:I18) -> 7102 | E18: 7102
A19: 12 | B19: Ellátottak pénzbeli juttatásai | C19: K4 | D19: =SUM(E19:I19) -> 35540 | E19: =SUM(E11:E18) -> 35540 | F19: =SUM(F11:F18) -> 0 | G19: =SUM(G11:G18) -> 0 | H19: =SUM(H11:H18) -> 0 | I19: =SUM(I11:I18) -> 0
A20: 13 | B20: Nemzetközi kötelezettségek | C20: K501 | D20: =SUM(E20:I20) -> 0
A21: 14 | B21: Elvonások és befizetések | C21: K502 | D21: =SUM(E21:I21) -> 651 | E21: 513 | F21: 7 | G21: 58 | H21: 58 | I21: 15
A22: 15 | B22: Működési célú garancia- és kezességvállalásból származó kifizetés államháztartáson belülre | C22: K503 | D22: =SUM(E22:I22) -> 0
A23: 16 | B23: Működési célú visszatérítendő támogatások, kölcsönök nyújtása államháztartáson belülre | C23: K504 | D23: =SUM(E23:I23) -> 0
A24: 17 | B24: Működési célú visszatérítendő támogatások, kölcsönök törlesztése államháztartáson belülre | C24: K505 | D24: =SUM(E24:I24) -> 0
A25: 18 | B25: Egyéb működési célú támogatások államháztartáson belülre | C25: K506 | D25: =SUM(E25:I25) -> 115911 | E25: =SUM(E26:E34) -> 115911 | F25: =SUM(F26:F34) -> 0 | G25: =SUM(G26:G34) -> 0 | H25: =SUM(H26:H34) -> 0 | I25: =SUM(I26:I34) -> 0
B26: - ebből központi költségvetési szervek | C26: K5061 | D26: =SUM(E26:I26) -> 0
B27: - ebből Társadalombiztosítási Alapok | C27: K5062 | D27: =SUM(E27:I27) -> 0
B28: - ebből elkülönített állami alapok | C28: K5063 | D28: =SUM(E28:I28) -> 0
B29: - ebből fejezeti kezelésű kv-i sz-nek (Rendőrség) | E29: 500
B30: - ebből helyi önkormányzatok és költségvetési szerveik | C30: K5064 | D30: =SUM(E30:I30) -> 494 | E30: 494
B31: - ebből társulások és költségvetési szerveik | C31: K50651 | D31: =SUM(E31:I31) -> 4164 | E31: 4164
B32: - ebből köznevelési társulásnak | C32: K50652 | D32: =SUM(E32:I32) -> 81900 | E32: 81900
B33: - ebből szociális társulásnak | C33: K50653 | D33: =SUM(E33:I33) -> 28553 | E33: 28553
B34: - ebből nemzetiségi önkormányzatok és költségvetési szerveik | C34: K5066 | D34: =SUM(E34:I34) -> 300 | E34: 300
A35: 19 | B35: Működési célú garancia- és kezességvállalásból származó kifizetés államháztartáson kívülre | C35: K507 | D35: =SUM(E35:I35) -> 0
A36: 20 | B36: Működési célú visszatérítendő támogatások, kölcsönök nyújtása államháztartáson kívülre | C36: K508 | D36: =SUM(E36:I36) -> 0
A37: 21 | B37: Árkiegészítések, ártámogatások | C37: K509 | D37: =SUM(E37:I37) -> 0
A38: 22 | B38: Kamattámogatások | C38: K510 | D38: =SUM(E38:I38) -> 0
A39: 23 | B39: Egyéb működési célú támogatások államháztartáson kívülre | C39: K511 | D39: =SUM(E39:I39) -> 4113 | E39: 4113
A40: 24 | B40: Tartalékok | C40: K512 | D40: =SUM(E40:I40) -> 0
A41: 25 | B41: Egyéb működési célú kiadások | C41: K5 | D41: =SUM(E41:I41) -> 120675 | E41: =E20+E21+E22+E23+E24+E25+E35+E36+E37+E38+E39+E40 -> 120537 | F41: =F20+F21+F22+F23+F24+F25+F35+F36+F37+F38+F39+F40 -> 7 | G41: =G20+G21+G22+G23+G24+G25+G35+G36+G37+G38+G39+G40 -> 58 | H41: =H20+H21+H22+H23+H24+H25+H35+H36+H37+H38+H39+H40 -> 58 | I41: =I20+I21+I22+I23+I24+I25+I35+I36+I37+I38+I39+I40 -> 15
A42: 26 | B42: Immateriális javak, vagy jogok beszerzése, létesítése | C42: K61 | D42: =SUM(E42:I42) -> 1965 | E42: 1900 | F42: 52 | G42: 13
A43: 27 | B43: Ingatlanok beszerzése, létesítése | C43: K62 | D43: =SUM(E43:I43) -> 27808 | E43: 27159 | G43: 649
A44: 28 | B44: Informatikai eszközök beszerzése, létesítése | C44: K63 | D44: =SUM(E44:I44) -> 1125 | E44: 18 | F44: 916 | G44: 105 | H44: 86
A45: 29 | B45: Egyéb tárgyi eszközök beszerzése, létesítése | C45: K64 | D45: =SUM(E45:I45) -> 12125 | E45: 5168 | F45: 1129 | G45: 2793 | H45: 335 | I45: 2700
A46: 30 | B46: Részesedések beszerzése | C46: K65 | D46: =SUM(E46:I46) -> 0
A47: 31 | B47: Meglévő részesedések növeléséhez kapcsolódó kiadások | C47: K66 | D47: =SUM(E47:I47) -> 0
A48: 32 | B48: Beruházási célú előzetesen felszámított általános forgalmi adó | C48: K67 | D48: =SUM(E48:I48) -> 10374 | E48: 8442 | F48: 566 | G48: 780 | H48: 113 | I48: 473
A49: 33 | B49: Beruházások | C49: K6 | D49: =SUM(E49:I49) -> 53397 | E49: =SUM(E42:E48) -> 42687 | F49: =SUM(F42:F48) -> 2663 | G49: =SUM(G42:G48) -> 4340 | H49: =SUM(H42:H48) -> 534 | I49: =SUM(I42:I48) -> 3173
A50: 34 | B50: Ingatlanok felújítása | C50: K71 | D50: =SUM(E50:I50) -> 28193 | E50: 28193
A51: 35 | B51: Informatikai eszközök felújítása | C51: K72 | D51: =SUM(E51:I51) -> 12 | F51: 12
A52: 36 | B52: Egyéb tárgyi eszközök felújítása | C52: K73 | D52: =SUM(E52:I52) -> 120 | G52: 120
A53: 37 | B53: Felújítási célú előzetesen felszámított általános forgalmi adó | C53: K74 | D53: =SUM(E53:I53) -> 6157 | E53: 6122 | F53: 3 | G53: 32
A54: 38 | B54: Felújítások | C54: K7 | D54: =SUM(E54:I54) -> 34482 | E54: =SUM(E50:E53) -> 34315 | F54: =SUM(F50:F53) -> 15 | G54: =SUM(G50:G53) -> 152 | H54: =SUM(H50:H53) -> 0 | I54: =SUM(I50:I53) -> 0
A55: 39 | B55: Felhalmozási célú garancia- és kezességvállalásból származó kifizetés államháztartáson belülre | C55: K81 | D55: =SUM(E55:I55) -> 0
A56: 40 | B56: Felhalmozási célú visszatérítendő támogatások, kölcsönök nyújtása államháztartáson belülre | C56: K82 | D56: =SUM(E56:I56) -> 0
A57: 41 | B57: Felhalmozási célú visszatérítendő támogatások, kölcsönök törlesztése államháztartáson belülre | C57: K83 | D57: =SUM(E57:I57) -> 0
A58: 42 | B58: Egyéb felhalmozási célú támogatások államháztartáson belülre | C58: K84 | D58: =SUM(E58:I58) -> 1155 | E58: 1155
A59: 43 | B59: Felhalmozási célú garancia- és kezességvállalásból származó kifizetés államháztartáson kívülre | C59: K85 | D59: =SUM(E59:I59) -> 0
A60: 44 | B60: Felhalmozási célú visszatérítendő támogatások, kölcsönök nyújtása államháztartáson kívülre | C60: K86 | D60: =SUM(E60:I60) -> 0
A61: 45 | B61: Lakástámogatás | C61: K87 | D61: =SUM(E61:I61) -> 0
A62: 46 | B62: Egyéb felhalmozási célú támogatások államháztartáson kívülre | C62: K88 | D62: =SUM(E62:I62) -> 1976 | E62: 1976
A63: 47 | B63: Egyéb felhalmozási célú kiadások | C63: K8 | D63: =SUM(E63:I63) -> 3131 | E63: =SUM(E55:E62) -> 3131 | F63: =SUM(F55:F62) -> 0 | G63: =SUM(G55:G62) -> 0 | H63: =SUM(H55:H62) -> 0 | I63: =SUM(I55:I62) -> 0
A64: 48 | B64: Költségvetési kiadások | C64: K1-K8 | D64: =SUM(E64:I64) -> 825174 | E64: =E8+E9+E10+E19+E41+E49+E54+E63 -> 318075 | F64: =F8+F9+F10+F19+F41+F49+F54+F63 -> 136471 | G64: =G8+G9+G10+G19+G41+G49+G54+G63 -> 206799 | H64: =H8+H9+H10+H19+H41+H49+H54+H63 -> 117018 | I64: =I8+I9+I10+I19+I41+I49+I54+I63 -> 46811
A65: 49 | B65: Hitel-, kölcsöntörlesztés államháztartáson kívülre | C65: K911 | D65: =SUM(E65:I65) -> 0
A66: 50 | B66: Belföldi értékpapírok kiadásai | C66: K912 | D66: =SUM(E66:I66) -> 0
A67: 51 | B67: Államháztartáson belüli megelőlegezések folyósítása | C67: K913 | D67: =SUM(E67:I67) -> 0
A68: 52 | B68: Államháztartáson belüli megelőlegezések visszafizetése | C68: K914 | D68: =SUM(E68:I68) -> 31861 | E68: 31861
A69: 53 | B69: Központi, irányító szervi támogatások folyósítása | C69: K915 | D69: =SUM(E69:I69) -> 399219 | E69: 399219
A70: 54 | B70: Pénzeszközök betétként elhelyezése | C70: K916 | D70: =SUM(E70:I70) -> 0
A71: 55 | B71: Pénzügyi lízing kiadásai | C71: K917 | D71: =SUM(E71:I71) -> 0
A72: 56 | B72: Központi költségvetés sajátos finanszírozási kiadásai | C72: K918 | D72: =SUM(E72:I72) -> 0
A73: 57 | B73: Belföldi finanszírozás kiadásai | C73: K91 | D73: =SUM(E73:I73) -> 431080 | E73: =SUM(E65:E72) -> 431080 | F73: =SUM(F65:F72) -> 0 | G73: =SUM(G65:G72) -> 0 | H73: =SUM(H65:H72) -> 0 | I73: =SUM(I65:I72) -> 0
A74: 58 | B74: Külföldi finanszírozás kiadásai | C74: K92 | D74: =SUM(E74:I74) -> 0
A75: 59 | B75: Finanszírozási kiadások | C75: K9 | D75: =SUM(E75:I75) -> 431080 | E75: =SUM(E73:E74) -> 431080 | F75: =SUM(F73:F74) -> 0 | G75: =SUM(G73:G74) -> 0 | H75: =SUM(H73:H74) -> 0 | I75: =SUM(I73:I74) -> 0
A76: 60 | B76: Összes kiadás | D76: =SUM(E76:I76) -> 1256254 | E76: =E64+E75 -> 749155 | F76: =F64+F75 -> 136471 | G76: =G64+G75 -> 206799 | H76: =H64+H75 -> 117018 | I76: =I64+I75 -> 46811

Sheet 17
B1: Berhida Város Önkormányzata | C1: 17. melléklet
B2: 2017. évi költségvetés | C2: a 9/2017. (V.31.) önkormányzati rendelethez
B4: Bevételek | C4: Ft-ban
C5: Összesen | D5: Önkormányzat | E5: Hivatal | F5: TESZ | G5: Kultúr | H5: Süni
A6: Sor- szám | B6: Rovat megnevezése | C6: Eredeti előirányzat | D6: Eredeti előirányzat | E6: Eredeti előirányzat | F6: Eredeti előirányzat | G6: Eredeti előirányzat | H6: Eredeti előirányzat
A7: 1 | B7: Helyi önkormányzatok működésének általános támogatása (B1111) | C7: =SUM(D7:H7) -> 106085367 | D7: 106085367
A8: 2 | B8: Települési önkormányzatok egyes köznevelési feladatainak támogatása (B1121) | C8: =SUM(D8:H8) -> 127904640 | D8: 127904640
A9: 3 | B9: Települési önkormányzatok szociális, gyermekjóléti és gyermekétkeztetési feladatainak támogatása (B1131) | C9: =SUM(D9:H9) -> 90729626 | D9: 90729626
A10: 4 | B10: Települési önkormányzatok kulturális feladatainak támogatása (B1141) | C10: =SUM(D10:H10) -> 6854820 | D10: 6854820
A11: 5 | B11: Működési célú költségvetési támogatások és kiegészítő támogatások (B1151) | C11: =SUM(D11:H11) -> 0
A12: 6 | B12: Önkormányzatok működési támogatásai (B11) | C12: =SUM(D12:H12) -> 331574453 | D12: =SUM(D7:D11) -> 331574453 | E12: =SUM(E7:E11) -> 0 | F12: =SUM(F7:F11) -> 0 | G12: =SUM(G7:G11) -> 0 | H12: =SUM(H7:H11) -> 0
A13: 7 | B13: Egyéb működési célú támogatások bevételei államháztartáson belülről (B16) | C13: =SUM(D13:H13) -> 84703526 | D13: =SUM(D14:D17) -> 22667022 | E13: =SUM(E14:E17) -> 0 | F13: =SUM(F14:F17) -> 62036504 | G13: =SUM(G14:G17) -> 0 | H13: =SUM(H14:H17) -> 0
A14: 8 | B14: ebből: egyéb fejezeti kezelésű előirányzatok (B16132) | C14: =SUM(D14:H14) -> 8237022 | D14: 8237022
A15: 9 | B15: ebből: társadalombiztosítás pénzügyi alapjai (B1614) | C15: =SUM(D15:H15) -> 14430000 | D15: 14430000
A16: 10 | B16: ebből: elkülönített állami pénzal (B1615) | C16: =SUM(D16:H16) -> 62036504 | F16: 62036504
A17: 11 | B17: ebből: önkormányzat és kv-i szerveik (B 1616) | C17: =SUM(D17:H17) -> 0
A18: 12 | B18: Működési célú támogatások államháztartáson belülről (B1) | C18: =SUM(D18:H18) -> 416277979 | D18: =D12+D13 -> 354241475 | E18: =E12+E13 -> 0 | F18: =F12+F13 -> 62036504 | G18: =G12+G13 -> 0 | H18: =H12+H13 -> 0
A19: 13 | B19: Felhalmozási célú önkormányzati támogatások (B21) | C19: =SUM(D19:H19) -> 0 | D19: =SUM(D20:D23) -> 0 | E19: =SUM(E20:E23) -> 0 | F19: =SUM(F20:F23) -> 0 | G19: =SUM(G20:G23) -> 0 | H19: =SUM(H20:H23) -> 0
A20: 14 | B20: ebből egyéb központi fc tám (B2119) | C20: =SUM(D20:H20) -> 0
A21: 15 | B21: ebből: egyéb fejezeti kezelésű előirányzatok fc (B2513) | C21: =SUM(D21:H21) -> 0
A22: 16 | B22: ebből: elkülönített állami pénzal fc (B2515) | C22: =SUM(D22:H22) -> 0
A23: 17 | B23: ebből: önkorm és kv-i szervek fc tám (B2516) | C23: =SUM(D23:H23) -> 0
A24: 18 | B24: Felhalmozási célú támogatások államháztartáson belülről (B2) | C24: =SUM(D24:H24) -> 0 | D24: =D19 -> 0 | E24: =E19 -> 0 | F24: =F19 -> 0 | G24: =G19 -> 0 | H24: =H19 -> 0
A25: 19 | B25: Vagyoni tipusú adók (B34) | C25: =SUM(D25:H25) -> 102150639 | D25: =SUM(D26:D27) -> 102150639 | E25: =SUM(E26:E27) -> 0 | F25: =SUM(F26:F27) -> 0 | G25: =SUM(G26:G27) -> 0 | H25: =SUM(H26:H27) -> 0
A26: 20 | B26: ebből: építményadó (B34111) | C26: =SUM(D26:H26) -> 84512950 | D26: 84512950
A27: 21 | B27: ebből: magánszemélyek kommunális adója (B34114) | C27: =SUM(D27:H27) -> 17637689 | D27: 17637689
A28: 22 | B28: Értékesítési és forgalmi adók iparűzési adó (B351121) | C28: =SUM(D28:H28) -> 189265417 | D28: 189265417
A29: 23 | B29: Gépjárműadó (B354121) | C29: =SUM(D29:H29) -> 11678757 | D29: 11678757
A30: 24 | B30: Egyéb áruhasználati és szolgáltatási adók, környezetterh díj (B355122) | C30: =SUM(D30:H30) -> 110000 | D30: 110000
A31: 25 | B31: Termékek és szolgáltatások adói (B35) | C31: =SUM(D31:H31) -> 201054174 | D31: =SUM(D28:D30) -> 201054174 | E31: =SUM(E28:E30) -> 0 | F31: =SUM(F28:F30) -> 0 | G31: =SUM(G28:G30) -> 0 | H31: =SUM(H28:H30) -> 0
A32: 26 | B32: Egyéb közhatalmi bevételek (B36) | C32: =SUM(D32:H32) -> 0 | D32: =SUM(D33:D35) -> 0 | E32: =SUM(E33:E35) -> 0 | F32: =SUM(F33:F35) -> 0 | G32: =SUM(G33:G35) -> 0 | H32: =SUM(H33:H35) -> 0
A33: 27 | B33: ebből: szabálysértési pénz- és helyszíni bírság és a közlekedési szabályszegések után kiszabott közigazgatási bírság helyi önkormányzatot megillető része (B361225) | C33: =SUM(D33:H33) -> 0
A34: 28 | B34: ebből: egyéb bírság (B361229) | C34: =SUM(D34:H34) -> 0
A35: 29 | B35: ebből: egyéb települési adók (B36128) | C35: =SUM(D35:H35) -> 0
A36: 30 | B36: Közhatalmi bevételek (B3) | C36: =SUM(D36:H36) -> 303204813 | D36: =D25+D31+D32 -> 303204813 | E36: =E25+E31+E32 -> 0 | F36: =F25+F31+F32 -> 0 | G36: =G25+G31+G32 -> 0 | H36: =H25+H31+H32 -> 0
A37: 31 | B37: Szolgáltatások (B4021) | C37: =SUM(D37:H37) -> 6922704 | D37: =SUM(D38:D40) -> 0 | E37: =SUM(E38:E40) -> 335000 | F37: =SUM(F38:F40) -> 400000 | G37: =SUM(G38:G40) -> 920000 | H37: =SUM(H38:H40) -> 5267704
A38: 32 | B38: ebből: alkalmazottak térítési díj (B40211) | C38: =SUM(D38:H38) -> 562880 | H38: 562880
A39: 33 | B39: ebből: bérleti díj bev (B40212) | C39: =SUM(D39:H39) -> 1475000 | E39: 335000 | F39: 400000 | G39: 740000
A40: 34 | B40: ebből: egyéb szolgáltatás (40214) | C40: =SUM(D40:H40) -> 4884824 | G40: 180000 | H40: 4704824
A41: 35 | B41: Közvetített szolgáltatások ellenértéke (B403) | C41: =SUM(D41:H41) -> 3772000 | D41: =SUM(D42:D43) -> 1330000 | E41: =SUM(E42:E43) -> 1200000 | F41: =SUM(F42:F43) -> 1242000 | G41: =SUM(G42:G43) -> 0 | H41: =SUM(H42:H43) -> 0
A42: 36 | B42: ebből: államháztartáson belül (B40311) | C42: =SUM(D42:H42) -> 2530000 | D42: 1330000 | E42: 1200000
A43: 37 | B43: ebből: államháztartáson kívül (B40312) | C43: =SUM(D43:H43) -> 1242000 | F43: 1242000
A44: 38 | B44: Tulajdonosi bevételek (B404) | C44: =SUM(D44:H44) -> 19200212 | D44: =SUM(D45:D49) -> 19200212 | E44: =SUM(E45:E49) -> 0 | F44: =SUM(F45:F49) -> 0 | G44: =SUM(G45:G49) -> 0 | H44: =SUM(H45:H49) -> 0
A45: 39 | B45: ebből: önkormányzati vagyon üzemeltetéséből, koncesszióból származó bevétel (B404131) | C45: =SUM(D45:H45) -> 9611212 | D45: 9611212
A46: 40 | B46: ebből: önkormányzati vagyon vagyonkezelésbe adásából származó bevétel (B404133) | C46: =SUM(D46:H46) -> 0
A47: 41 | B47: ebből: egy önk-i vagyon bérbeadásából (404134) | C47: =SUM(D47:H47) -> 9079000 | D47: 9079000
A48: 42 | B48: ebből egyéb önkorm vagyon haszonbérbeadásából (B404135) | C48: =SUM(D48:H48) -> 0
A49: 43 | B49: ebből: egy önk tulajdonosi bevétel (B404139) | C49: =SUM(D49:H49) -> 510000 | D49: 510000
A50: 44 | B50: Ellátási díjak (B40511) | C50: =SUM(D50:H50) -> 898775 | H50: 898775
A51: 45 | B51: Kiszámlázott általános forgalmi adó (B40611) | C51: =SUM(D51:H51) -> 8065896 | D51: 5543157 | E51: =(E37+E41+E44+E50)*0.27 -> 414450 | F51: =(F37+F41+F44+F50)*0.27 -> 443340 | H51: 1664949
A52: 46 | B52: Általános forgalmi adó visszatérítése (B4071) | C52: =SUM(D52:H52) -> 0
A53: 47 | B53: Egyéb kapott (járó) kamatok és kamatjellegű bevételek ÁHK(B408129) | C53: =SUM(D53:H53) -> 0
A54: 48 | B54: Más egyéb pénzügyi műveletek bevételei (B4092) | C54: =SUM(D54:H54) -> 0
A55: 49 | B55: ebből: valuta és deviza eszközök realizált árfolyamnyeresége (B4092) | C55: =SUM(D55:H55) -> 0
A56: 50 | B56: Egyéb pénzügyi műveletek bevételei B409199) | C56: =SUM(D56:H56) -> 0
A57: 51 | B57: Biztosító által fizetett kártérítés (B4101) | C57: =SUM(D57:H57) -> 0
A58: 52 | B58: Egyéb működési bevételek (B411199) | C58: =SUM(D58:H58) -> 12000 | F58: 12000
A59: 53 | B59: Működési bevételek (B4) | C59: =SUM(D59:H59) -> 38871587 | D59: =D37+D41+D44+D50+D51+D52+D53+D54+D55+D56+D57+D58 -> 26073369 | E59: =E37+E41+E44+E50+E51+E52+E53+E54+E55+E56+E57+E58 -> 1949450 | F59: =F37+F41+F44+F50+F51+F52+F53+F54+F55+F56+F57+F58 -> 2097340 | G59: =G37+G41+G44+G50+G51+G52+G53+G54+G55+G56+G57+G58 -> 920000 | H59: =H37+H41+H44+H50+H51+H52+H53+H54+H55+H56+H57+H58 -> 7831428
A60: 54 | B60: Ingatlanok értékesítése (B52) | C60: =SUM(D60:H60) -> 180000 | D60: 180000
A61: 55 | B61: Felhalmozási bevételek (B5) | C61: =SUM(D61:H61) -> 180000 | D61: =D60 -> 180000 | E61: =E60 -> 0 | F61: =F60 -> 0 | G61: =G60 -> 0 | H61: =H60 -> 0
A62: 56 | B62: Felhalmozási célú visszatérítendő támogatások, kölcsönök visszatérülése államháztartáson kívülről (B74) | C62: =SUM(D62:H62) -> 0
A63: 57 | B63: ebből: háztartások (B74) | C63: =SUM(D63:H63) -> 435500 | D63: 435500
A64: 58 | B64: Egyéb felhalmozási célú átvett pénzeszközök (B75) | C64: =SUM(D64:H64) -> 0
A65: 59 | B65: Felhalmozási célú átvett pénzeszközök (B7) | C65: =SUM(D65:H65) -> 435500 | D65: =SUM(D62:D64) -> 435500 | E65: =SUM(E62:E64) -> 0 | F65: =SUM(F62:F64) -> 0 | G65: =SUM(G62:G64) -> 0 | H65: =SUM(H62:H64) -> 0
A66: 60 | B66: Költségvetési bevételek (B1-B7) | C66: =SUM(D66:H66) -> 758969879 | D66: =D18+D24+D36+D59+D61+D65 -> 684135157 | E66: =E18+E24+E36+E59+E61+E65 -> 1949450 | F66: =F18+F24+F36+F59+F61+F65 -> 64133844 | G66: =G18+G24+G36+G59+G61+G65 -> 920000 | H66: =H18+H24+H36+H59+H61+H65 -> 7831428
A67: 61 | B67: Előző év költségvetési maradványának igénybevétele (B8131) | C67: =SUM(D67:H67) -> 590723141 | D67: 553636584 | E67: 11731989 | F67: 18551194 | G67: 1725483 | H67: 5077891
A68: 62 | B68: Államháztartáson belüli megelőlegezések (B814) | C68: =SUM(D68:H68) -> 0
A69: 63 | B69: Irányító szervi támogatás B816 | C69: =SUM(D69:H69) -> 490382091 | E69: 170413304 | F69: 123432267 | G69: 60106695 | H69: 136429825
A70: 64 | B70: Belföldi finanszírozás bevételei (B81) | C70: =SUM(D70:H70) -> 1081105232 | D70: =SUM(D67:D69) -> 553636584 | E70: =SUM(E67:E69) -> 182145293 | F70: =SUM(F67:F69) -> 141983461 | G70: =SUM(G67:G69) -> 61832178 | H70: =SUM(H67:H69) -> 141507716
A71: 65 | B71: Finanszírozási bevételek (B8) | C71: =SUM(D71:H71) -> 1081105232 | D71: =D70 -> 553636584 | E71: =E70 -> 182145293 | F71: =F70 -> 141983461 | G71: =G70 -> 61832178 | H71: =H70 -> 141507716
A72: 66 | B72: MINDÖSSZESEN: | C72: =SUM(D72:H72) -> 1840075111 | D72: =D66+D71 -> 1237771741 | E72: =E66+E71 -> 184094743 | F72: =F66+F71 -> 206117305 | G72: =G66+G71 -> 62752178 | H72: =H66+H71 -> 149339144

Sheet 18
B1: Berhida Város Önkormányzata | D1: 18. melléklet
B2: 2017. évi költségvetés | D2: a 9/2017. (V.31.) önkormányzati rendelethez
B3: Kiadások | C3: Ft-ban
C4: Összesen | D4: Önkormányzat | E4: Hivatal | F4: TESZ | G4: Kultúr | H4: Süni
A5: Sor- szám | B5: Rovat megnevezése | C5: Eredeti előirányzat | D5: Eredeti előirányzat | E5: Eredeti előirányzat | F5: Eredeti előirányzat | G5: Eredeti előirányzat | H5: Eredeti előirányzat
A6: 1 | B6: Személyi juttatások (K1) | C6: =SUM(D6:H6) -> 361781862 | D6: 34203835 | E6: 115661319 | F6: 107041038 | G6: 23831592 | H6: 81044078
A7: 2 | B7: Munkaadókat terhelő járulékok és szociális hozzájárulási adó (K2) | C7: =SUM(D7:H7) -> 78877589 | D7: 8902194 | E7: 27976915 | F7: 17096042 | G7: 5404150 | H7: 19498288
A8: 3 | B8: Dologi kiadások (K3) | C8: =SUM(D8:H8) -> 239747771 | D8: 48395833 | E8: 34246509 | F8: 77687925 | G8: 31396726 | H8: 48020778
A9: 4 | B9: Családi támogatások (K42) | C9: =SUM(D9:H9) -> 0 | D9: =D10 -> 0 | E9: =E10 -> 0 | F9: =F10 -> 0 | G9: =G10 -> 0 | H9: =H10 -> 0
A10: 5 | B10: ebből: az egyéb pénzbeli és természetbeni gyermekvédelmi támogatások (K42132) | C10: =SUM(D10:H10) -> 0
A11: 6 | B11: Intézményi ellátottak pénzbeli juttatásai (K47) | C11: =SUM(D11:H11) -> 2700000 | D11: =D12 -> 2700000 | E11: =E12 -> 0 | F11: =F12 -> 0 | G11: =G12 -> 0 | H11: =H12 -> 0
A12: 7 | B12: ebből: oktatásban résztvevők pénzbeli juttatásai (K471) | C12: =SUM(D12:H12) -> 2700000 | D12: 2700000
A13: 8 | B13: Egyéb nem intézményi ellátások (K48) | C13: =SUM(D13:H13) -> 9300000 | D13: =SUM(D14:D16) -> 9300000 | E13: =SUM(E14:E16) -> 0 | F13: =SUM(F14:F16) -> 0 | G13: =SUM(G14:G16) -> 0 | H13: =SUM(H14:H16) -> 0
A14: 9 | B14: ebből: köztemetés [Szoctv. 48.§] (K48123) | C14: =SUM(D14:H14) -> 900000 | D14: 900000
A15: 10 | B15: ebből: települési támogatás [Szoctv. 45. §], (K48122) | C15: =SUM(D15:H15) -> 8400000 | D15: 8400000
A16: 11 | B16: ebből: önkorm. Saját hatáskörben adott (K48139) | C16: =SUM(D16:H16) -> 0
A17: 12 | B17: Ellátottak pénzbeli juttatásai (K4) | C17: =SUM(D17:H17) -> 12000000 | D17: =D9+D11+D13 -> 12000000 | E17: =E9+E11+E13 -> 0 | F17: =F9+F11+F13 -> 0 | G17: =G9+G11+G13 -> 0 | H17: =H9+H11+H13 -> 0
A18: 13 | B18: Elvonások és befizetések (K5023) | C18: =SUM(D18:H18) -> 822459 | D18: 822459
A19: 14 | B19: Egyéb működési célú támogatások államháztartáson belülre (K506) | C19: =SUM(D19:H19) -> 155243980 | D19: =SUM(D20:D23) -> 154501280 | E19: =SUM(E20:E23) -> 0 | F19: =SUM(F20:F23) -> 742700 | G19: =SUM(G20:G23) -> 0 | H19: =SUM(H20:H23) -> 0
A20: 15 | B20: ebből: egyéb fejezeti kezelésű előirányzatok (K506132) | C20: =SUM(D20:H20) -> 500000 | D20: 500000
A21: 16 | B21: ebből: elkülönített állami pénzalap (K50615) | C21: =SUM(D21:H21) -> 742700 | F21: 742700
A22: 17 | B22: ebből: önkormányzatok és költségv-i szerveik K50616) | C22: =SUM(D22:H22) -> 0
A23: 18 | B23: ebből: társulások és költségvetési szerveik (K50617) | C23: =SUM(D23:H23) -> 154001280 | D23: 154001280
A24: 19 | B24: Egyéb működési célú támogatások államháztartáson kívülre non-profit szervezet (K512142) | C24: =SUM(D24:H24) -> 4851560 | D24: 4851560
A25: 20 | B25: Tartalékok (K51311) | C25: =SUM(D25:H25) -> 179198328 | D25: 179198328
A26: 21 | B26: Egyéb működési célú kiadások (K5) | C26: =SUM(D26:H26) -> 340116327 | D26: =D18+D19+D24+D25 -> 339373627 | E26: =E18+E19+E24+E25 -> 0 | F26: =F18+F19+F24+F25 -> 742700 | G26: =G18+G19+G24+G25 -> 0 | H26: =H18+H19+H24+H25 -> 0
A27: 22 | B27: Immateriális javak beszerzése, lét (K611) | C27: =SUM(D27:H27) -> 2111862 | D27: 1181102 | E27: 730760 | F27: 200000
A28: 23 | B28: Ingatlanok beszerzése, létesítése (K621) | C28: =SUM(D28:H28) -> 15996392 | D28: 15996392
A29: 24 | B29: Informatikai eszközök beszerzése, létesítése (K631) | C29: =SUM(D29:H29) -> 2949950 | D29: 90000 | E29: 2599950 | F29: 260000
A30: 25 | B30: Egyéb tárgyi eszközök beszerzése, létesítése (K641) | C30: =SUM(D30:H30) -> 8386510 | D30: 2530034 | E30: 1459050 | F30: 2134960 | G30: 1771442 | H30: 491024
A31: 26 | B31: Beruházási célú előzetesen felszámított általános forgalmi adó (K671) | C31: =SUM(D31:H31) -> 7820058 | D31: 5345334 | E31: 1293240 | F31: 700640 | G31: 348268 | H31: 132576
A32: 27 | B32: Beruházások (K6) | C32: =SUM(D32:H32) -> 37264772 | D32: =SUM(D27:D31) -> 25142862 | E32: =SUM(E27:E31) -> 6083000 | F32: =SUM(F27:F31) -> 3295600 | G32: =SUM(G27:G31) -> 2119710 | H32: =SUM(H27:H31) -> 623600
A33: 28 | B33: Ingatlanok felújítása (K711) | C33: =SUM(D33:H33) -> 209997363 | D33: 209997363
A34: 29 | B34: Informatikai eszköz felújítása (K7211) | C34: =SUM(D34:H34) -> 100000 | E34: 100000
A35: 30 | B35: Egyéb tárgyi eszközök felújítása (K731) | C35: =SUM(D35:H35) -> 320000 | F35: 200000 | H35: 120000
A36: 31 | B36: Felújítási célú előzetesen felszámított általános forgalmi adó (K741) | C36: =SUM(D36:H36) -> 56553488 | D36: 56440088 | E36: 27000 | F36: 54000 | G36: =(SUM(G33:G35))*0.27 -> 0 | H36: 32400
A37: 32 | B37: Felújítások (K7) | C37: =SUM(D37:H37) -> 266970851 | D37: =SUM(D33:D36) -> 266437451 | E37: =SUM(E33:E36) -> 127000 | F37: =SUM(F33:F36) -> 254000 | G37: =SUM(G33:G36) -> 0 | H37: =SUM(H33:H36) -> 152400
A38: 33 | B38: Egyéb felhalmozási célú támogatások államháztartáson kívülre (K89) | C38: =SUM(D38:H38) -> 1500000 | D38: =SUM(D39:D41) -> 1500000 | E38: =SUM(E39:E41) -> 0 | F38: =SUM(F39:F41) -> 0 | G38: =SUM(G39:G41) -> 0 | H38: =SUM(H39:H41) -> 0
A39: 34 | B39: ebből: egyházi jogi személyek (K89) | C39: =SUM(D39:H39) -> 0
A40: 35 | B40: ebből: nonprofit | C40: =SUM(D40:H40) -> 1500000 | D40: 1500000
A41: 36 | B41: ebből:önkormányzati többségi tulajdonú nem pénzügyi vállalkozások (K89) | C41: =SUM(D41:H41) -> 0
A42: 37 | B42: Egyéb felhalmozási célú kiadások (K8) | C42: =SUM(D42:H42) -> 1500000 | D42: =D38 -> 1500000 | E42: =E38 -> 0 | F42: =F38 -> 0 | G42: =G38 -> 0 | H42: =H38 -> 0
A43: 38 | B43: Költségvetési kiadások (K1-K8) | C43: =SUM(D43:H43) -> 1338259172 | D43: =D6+D7+D8+D17+D26+D32+D37+D42 -> 735955802 | E43: =E6+E7+E8+E17+E26+E32+E37+E42 -> 184094743 | F43: =F6+F7+F8+F17+F26+F32+F37+F42 -> 206117305 | G43: =G6+G7+G8+G17+G26+G32+G37+G42 -> 62752178 | H43: =H6+H7+H8+H17+H26+H32+H37+H42 -> 149339144
A44: 39 | B44: Államháztartáson belüli megelőlegezések visszafizetése (K914) | C44: =SUM(D44:H44) -> 11433848 | D44: 11433848
A45: 40 | B45: Központi, irányító szervi támogatások folyósítása (K915) | C45: =SUM(D45:H45) -> 490382091 | D45: ='17'!C69 -> 490382091
A46: 41 | B46: Belföldi finanszírozás kiadásai (K91) | C46: =SUM(D46:H46) -> 501815939 | D46: =SUM(D44:D45) -> 501815939 | E46: =SUM(E44:E45) -> 0 | F46: =SUM(F44:F45) -> 0 | G46: =SUM(G44:G45) -> 0 | H46: =SUM(H44:H45) -> 0
A47: 42 | B47: Finanszírozási kiadások (K9) | C47: =SUM(D47:H47) -> 501815939 | D47: =D46 -> 501815939 | E47: =E46 -> 0 | F47: =F46 -> 0 | G47: =G46 -> 0 | H47: =H46 -> 0
A48: 43 | B48: MINDÖSSZESEN: | C48: =SUM(D48:H48) -> 1840075111 | D48: =D43+D47 -> 1237771741 | E48: =E43+E47 -> 184094743 | F48: =F43+F47 -> 206117305 | G48: =G43+G47 -> 62752178 | H48: =H43+H47 -> 149339144

Sheet 18a
B1: Berhida Város Önkormányzata | C1: 18/a. melléklet
B2: 2017. évi költségvetés | C2: a 9/2017. (V.31.) önkormányzati rendelethez
B3: Kiadások | C3: adatok Ft-ban
A5: Felújítások | C5: Eredeti előir | D5: változás | E5: mód javaslat
A6: 1 | B6: ÖNK út-járda felújítások+műsz ell kv-i m ad. Konsz II.pály | C6: 194762848 | D6: -12000000 | E6: =C6+D6 -> 182762848
A7: 2 | B7: ÖNK Süni óvoda tető felújítás adósságkonsz pály+kieg kv-i m | C7: 49983339 | D7: 12000000 | E7: =C7+D7 -> 61983339
A8: 3 | B8: ÖNK Önk Hivatal vizesblokk felújítás kv-i mar | C8: 416162 | E8: =C8+D8 -> 416162
A9: 4 | B9: TESZ jármű felújítás | C9: 254000 | E9: =C9+D9 -> 254000
A10: 5 | B10: ÖNK Hunyadi tér orvosi rendelő felújítás | C10: 203200 | E10: =C10+D10 -> 203200
A11: 6 | B11: ÖH informatikai eszköz felújítás | C11: 127000 | E11: =C11+D11 -> 127000
A12: 7 | B12: ÖNK Ady régi isk vizesblokk felújítás áthúzódó | C12: 774446 | E12: =C12+D12 -> 774446
A13: 8 | B13: ÖNK Jázmin 1.. szolg. Lakás ablakcsere | C13: 340000 | E13: =C13+D13 -> 340000
A14: 9 | B14: ÖNK Jázmin u. 2 db garázsajtó | C14: 304800 | E14: =C14+D14 -> 304800
A15: 10 | B15: ÖNK Pgytp 1848-49 emlékmű felújítás | C15: 1987093 | D15: 100000 | E15: =C15+D15 -> 2087093
A16: 11 | B16: ÖNK pályázatokhoz kapcsolódó tervek | C16: 3000000 | D16: 890000 | E16: =C16+D16 -> 3890000
A17: 12 | B17: ÖNK közvilágítás korszerűsítés kiviteli terv | C17: 1247775 | E17: =C17+D17 -> 1247775
A18: 13 | B18: ÖNK külterületi utak pályázat tervek | C18: 960000 | E18: =C18+D18 -> 960000
A19: 14 | B19: Süni egyéb tárgyi eszköz felújítás | C19: 152400 | E19: =C19+D19 -> 152400
A20: 15 | B20: ÖNK Kultúrház homlokzat felújítás, nyílászáró csere | D20: 5015000 | E20: =C20+D20 -> 5015000
A21: 16 | B21: ÖNK Petőfi műv ház lapostető szigetelés, javítás | D21: 480038 | E21: =C21+D21 -> 480038
A22: 17 | B22: ÖNK Petőfi Műv ház színpadi kapcsoló szekrény cseréje | D22: 1682750 | E22: =C22+D22 -> 1682750
A23: 18 | B23: ÖNK Hivatal Keleti szárny tetőszigetelés, kapcsolódó munkák | D23: 3810000 | E23: =C23+D23 -> 3810000
A24: 19 | B24: ÖNK Péti úti temető ravatalozó utcai homlokzat felújítás | D24: 370000 | E24: =C24+D24 -> 370000
A25: 20 | B25: ÖNK Hunyadi tér orvosi rendelő felújítás | D25: 110000 | E25: =C25+D25 -> 110000
A26: 21 | E26: =C26+D26 -> 0
A27: 22 | B27: Összesen | C27: =SUM(C6:C26) -> 254513063 | D27: =SUM(D6:D26) -> 12457788 | E27: =SUM(E6:E26) -> 266970851

Sheet 18b
B1: Berhida Város Önkormányzata | C1: 18/b. melléklet
B2: 2017. évi költségvetés | C2: a 9/2017. (V.31.) önkormányzati rendelethez
B3: Kiadások | C3: adatok Ft-ban
A5: Beruházások | C5: Eredeti előir | D5: változás | E5: mód javaslat
A6: 1 | B6: ÖNK intézményi beruházásokhoz kapcs tervek kv-i m | C6: 3000000 | D6: -1000000 | E6: =C6+D6 -> 2000000
A7: 2 | B7: ÖNK Veszprémi-Orgona út között telkek villamosterv kv-i m | C7: 499000 | E7: =C7+D7 -> 499000
A8: 3 | B8: ÖNK védőnői szolg. Egyéb eszközbeszerzés | C8: 127000 | D8: 200000 | E8: =C8+D8 -> 327000
A9: 4 | B9: ÖNK TESZ telephely vásárlás | C9: 10000000 | E9: =C9+D9 -> 10000000
A10: 5 | B10: ÖNK inform eszköz modem | C10: 114300 | E10: =C10+D10 -> 114300
A11: 6 | B11: ÖNK egyéb tárgyi eszköz (vérszáll. hűtőtáska) | C11: 36894 | E11: =C11+D11 -> 36894
A12: 7 | B12: ÖNK önkormányzati WEB lap készítés | C12: 1500000 | E12: =C12+D12 -> 1500000
A13: 8 | B13: ÖNK Péti úti temető urnafal építés | C13: 1500000 | E13: =C13+D13 -> 1500000
A14: 9 | B14: ÖNK közvilágítási lámpatestek beszerzése (napelemes stb…) | C14: 600000 | D14: 349250 | E14: =C14+D14 -> 949250
A15: 10 | B15: ÖNK közkutak vízmérő kialakítási munkák HKA | C15: 700000 | D15: 148151 | E15: =C15+D15 -> 848151
A16: 11 | B16: TESZ imm javak +áfa | C16: 254000 | E16: =C16+D16 -> 254000
A17: 12 | B17: TESZ egyéb tárgyi eszközök beszerz út-híd | C17: 762000 | D17: 125000 | E17: =C17+D17 -> 887000
A18: 13 | B18: TESZ informatikai eszközök+áfa | C18: 330200 | E18: =C18+D18 -> 330200
A19: 14 | B19: TESZ egyéb te+áfa zöldterület (padok, kerékgumi stb) | C19: 254000 | D19: 195000 | E19: =C19+D19 -> 449000
A20: 15 | B20: TESZ egyéb gép, berendezés szekrények + áfa | C20: 317500 | E20: =C20+D20 -> 317500
A21: 16 | B21: TESZ padok, kuka köztemető | C21: 342900 | E21: =C21+D21 -> 342900
A22: 17 | B22: TESZ hosszú közfoglalkoztatás eszközbeszerzés | C22: 635000 | E22: =C22+D22 -> 635000
A23: 18 | B23: Kultúrház egyéb tárgyi eszköz pály-hoz önrész | C23: 254000 | D23: 260000 | E23: =C23+D23 -> 514000
A24: 19 | B24: Kultúrház könyv beszerzés (éven túli) | C24: 620550 | E24: =C24+D24 -> 620550
A25: 20 | B25: Süni Óvoda konyhai eszközök | C25: 254000 | E25: =C25+D25 -> 254000
A26: 21 | B26: Süni egyéb óvodai tárgyi eszköz + áfa | C26: 228600 | D26: 141000 | E26: =C26+D26 -> 369600
A27: 22 | B27: ÖH informatikai eszközök + áfa | C27: 3810000 | D27: -400050 | E27: =C27+D27 -> 3409950
A28: 23 | B28: ÖH egyéb gép, berend + áfa | C28: 254000 | D28: 1418290 | E28: =C28+D28 -> 1672290
A29: 24 | B29: ÖH imm javak + áfa | C29: 1270000 | D29: -269240 | E29: =C29+D29 -> 1000760
A30: 25 | B30: ÖNK Péti úti temetőnél útöböl térkövezés | D30: 2000000 | E30: =C30+D30 -> 2000000
A31: 26 | B31: ÖNK Péti úti temető új kapu Csokonai u. | D31: 300000 | E31: =C31+D31 -> 300000
A32: 27 | B32: ÖNK Kiskovácsi temető múrvázott útépítés | D32: 925000 | E32: =C32+D32 -> 925000
A33: 28 | B33: ÖNK Kiskovácsi temető ravatalozó bővítés | D33: 2470000 | E33: =C33+D33 -> 2470000
A34: 29 | B34: ÖNK urnafal, temetkezési hely kialakítás | D34: 303267 | E34: =C34+D34 -> 303267
A35: 30 | B35: ÖNK Iskola szék, asztal, egyéb eszköz vásárlás | D35: 300000 | E35: =C35+D35 -> 300000
A36: 31 | B36: ÖNK Péti uton buszmegálló beszerzés+ alépítmény | D36: 1070000 | E36: =C36+D36 -> 1070000
A37: 32 | B37: TESZ vagyongazdálkodás egyéb tárgyi eszköz beszerzés+áfa | D37: 80000 | E37: =C37+D37 -> 80000
A38: 33 | B38: Kultúrház mikrofonok, egyéb gép, eszköz beszerzés+áfa | D38: 784860 | E38: =C38+D38 -> 784860
B39: Kultúrház szakkörök kisértékű tárgyi eszk beszerz | D39: 200300 | E39: =C39+D39 -> 200300
A41: 34 | E41: =C41+D41 -> 0
A42: 35 | B42: Összesen | C42: =SUM(C6:C41) -> 27663944 | D42: =SUM(D6:D41) -> 9600828 | E42: =SUM(E6:E41) -> 37264772

Sheet 19
C1: BERHIDA VÁROS ÖNKORMÁNYZATA | G1: 19. melléklet
D2: 2017.évi MÉRLEGTERV | G2: a 9/2017. (V.31.) önkormányzati rendelethez
C3: a működési és felhalmozási célú bevételi és kiadási előirányzatokról | G3: adatok Ft-ban
B5: A | C5: B | D5: C | E5: D | F5: E | G5: F
A6: 1 | B6: BEVÉTELI TERV | E6: KIADÁSI TERV
A7: 2 | B7: I. | C7: Működési célú bevételi terv | E7: I. | F7: Működési célú kiadási terv
A8: 3 | B8: a.) | C8: Műk c támogatások áht belülről | D8: ='17'!C18 -> 416277979 | E8: a.) | F8: Személyi juttatások | G8: ='18'!C6 -> 361781862
A9: 4 | B9: b.) | C9: Közhatalmi bevételek | D9: ='17'!C36 -> 303204813 | E9: b.) | F9: Munkaadókat t járulékok | G9: ='18'!C7 -> 78877589
A10: 5 | B10: c.) | C10: Működési bevételek | D10: ='17'!C59 -> 38871587 | E10: c.) | F10: Dologi kiadások | G10: ='18'!C8 -> 239747771
A11: 6 | B11: d.) | C11: Működési átvett pénzeszközök | E11: d.) | F11: Ellátottak pénzbeli jutt | G11: ='18'!C17 -> 12000000
A12: 7 | B12: e.) | C12: Műk. C. maradvány igénybevét. | D12: 93659690 | E12: e.) | F12: Egyéb műk c kiadások | G12: ='18'!C26 -> 340116327
A13: 8 | B13: f.) | E13: f.)
A14: 9 | E14: g.)
A15: 10
A16: 11 | C16: I. Bevételek: | D16: =SUM(D8:D15) -> 852014069 | F16: I. Kiadások együtt: | G16: =SUM(G8:G14) -> 1032523549
A17: 12 | F17: Működési célú bevételek: | G17: =D16 -> 852014069
A18: 13 | F18: Működési egyenleg: | G18: =G16-G17 -> 180509480
A19: 14
A20: 15 | B20: II. | C20: Felhalmozási célú bevételi terv | E20: II. | F20: Felhalmozási célú kiadások:
A21: 16 | B21: 1.) | C21: Felhalmozási c támog. Áht-n bel | E21: 1.) | F21: Beruházások | G21: ='18'!C32 -> 37264772
A22: 17 | B22: 2.) | C22: Felhalmozási bevételek | D22: ='17'!C61 -> 180000 | E22: 2.) | F22: Felújítások | G22: ='18'!C37 -> 266970851
A23: 18 | B23: 3.) | C23: Egyéb felhalmozási c átvett pe | D23: ='17'!C65 -> 435500 | E23: 3.) | F23: Egyéb felhalm c kiadások | G23: ='18'!C42 -> 1500000
A24: 19 | B24: 4.) | C24: Felhalm c maradvány igénybev | D24: 472867708 | E24: 4.)
A25: 20 | B25: 5.) | E25: 5.)
A26: 21 | B26: 6.)
A27: 22 | B27: 7.)
A28: 23 | B28: 8.)
A29: 24 | C29: II. Bevételek: | D29: =SUM(D21:D28) -> 473483208 | F29: II. Kiadások: | G29: =SUM(G21:G26) -> 305735623
A30: 25 | F30: Felhalm.célú bevételek: | G30: =D29 -> 473483208
A31: 26 | F31: Felhalm. egyenleg: | G31: =G29-G30 -> -167747585
A32: 27
A33: 28 | C33: Bevételek összesen (I+II): | D33: =D16+D29 -> 1325497277 | F33: Kiadások összesen (I+II): | G33: =SUM(G16+G29) -> 1338259172
C34: iránítószervi támogatás | D34: ='17'!C69 -> 490382091 | F34: iránítószervi támogatás | G34: ='18'!C45 -> 490382091
C35: kv-i mar finansz célú | D35: 24195743 | F35: Áht megelőleg visszafiz | G35: ='18'!C44 -> 11433848
C36: Össz bevétel | D36: =SUM(D33:D35) -> 1840075111 | F36: Össz Kiadás | G36: =SUM(G33:G35) -> 1840075111

Sheet 20
B1: 2017 évi költségvetés
B2: Berhida Város Önkormányzata | C2: 20. melléklet
B3: Közösségi szolgáltatások támogatása | C3: a 9/2017. (V.31.) önkormányzati rendelethez
B5: A | C5: B | D5: adatok Ft-ban
A6: 1 | B6: I.) Sporttámogatás működési célú | C6: 2016. Év
A7: 2
A8: 3
A9: 4 | B9: Sporttámogatás összesen működési célú: | C9: 2510000
A10: 5 | B10: II.) Egyéb támogatás összesen működési célú | C10: 1841560
A11: 6
A12: 7 | B12: III.) Polgárőrség Berhida | C12: 500000
A13: 8 | B13: Támogatások összesen működési célú: | C13: =SUM(C9+C10+C12) -> 4851560
B15: A támogatások összege a megállapodásokban foglaltak szerint használhatók fel.

Sheet 21a
B1: Berhida Város Önkormányzata | C1: 21/a. melléklet
B2: 2017. évi költségvetés | C2: a 9/2017. (V.31.) önkormányzati rendelethez
B3: KÖTELEZŐ feladatok
B4: Bevételek | C4: Ft-ban
C5: Összesen | D5: Önkormányzat | E5: Hivatal | F5: TESZ | G5: Kultúr | H5: Süni
A6: Sor- szám | B6: Rovat megnevezése | C6: Eredeti előirányzat | D6: Eredeti előirányzat | E6: Eredeti előirányzat | F6: Eredeti előirányzat | G6: Eredeti előirányzat | H6: Eredeti előirányzat
A7: 1 | B7: Helyi önkormányzatok működésének általános támogatása (B1111) | C7: ='17'!C7-'21b'!C7-'21c'!C7 -> 106085367 | D7: ='17'!D7-'21b'!D7-'21c'!D7 -> 106085367 | E7: ='17'!E7-'21b'!E7-'21c'!E7 -> 0 | F7: ='17'!F7-'21b'!F7-'21c'!F7 -> 0 | G7: ='17'!G7-'21b'!G7-'21c'!G7 -> 0 | H7: ='17'!H7-'21b'!H7-'21c'!H7 -> 0
A8: 2 | B8: Települési önkormányzatok egyes köznevelési feladatainak támogatása (B1121) | C8: ='17'!C8-'21b'!C8-'21c'!C8 -> 127904640 | D8: ='17'!D8-'21b'!D8-'21c'!D8 -> 127904640 | E8: ='17'!E8-'21b'!E8-'21c'!E8 -> 0 | F8: ='17'!F8-'21b'!F8-'21c'!F8 -> 0 | G8: ='17'!G8-'21b'!G8-'21c'!G8 -> 0 | H8: ='17'!H8-'21b'!H8-'21c'!H8 -> 0
A9: 3 | B9: Települési önkormányzatok szociális, gyermekjóléti és gyermekétkeztetési feladatainak támogatása (B1131) | C9: ='17'!C9-'21b'!C9-'21c'!C9 -> 90729626 | D9: ='17'!D9-'21b'!D9-'21c'!D9 -> 90729626 | E9: ='17'!E9-'21b'!E9-'21c'!E9 -> 0 | F9: ='17'!F9-'21b'!F9-'21c'!F9 -> 0 | G9: ='17'!G9-'21b'!G9-'21c'!G9 -> 0 | H9: ='17'!H9-'21b'!H9-'21c'!H9 -> 0
A10: 4 | B10: Települési önkormányzatok kulturális feladatainak támogatása (B1141) | C10: ='17'!C10-'21b'!C10-'21c'!C10 -> 6854820 | D10: ='17'!D10-'21b'!D10-'21c'!D10 -> 6854820 | E10: ='17'!E10-'21b'!E10-'21c'!E10 -> 0 | F10: ='17'!F10-'21b'!F10-'21c'!F10 -> 0 | G10: ='17'!G10-'21b'!G10-'21c'!G10 -> 0 | H10: ='17'!H10-'21b'!H10-'21c'!H10 -> 0
A11: 5 | B11: Működési célú költségvetési támogatások és kiegészítő támogatások (B1151) | C11: ='17'!C11-'21b'!C11-'21c'!C11 -> 0 | D11: ='17'!D11-'21b'!D11-'21c'!D11 -> 0 | E11: ='17'!E11-'21b'!E11-'21c'!E11 -> 0 | F11: ='17'!F11-'21b'!F11-'21c'!F11 -> 0 | G11: ='17'!G11-'21b'!G11-'21c'!G11 -> 0 | H11: ='17'!H11-'21b'!H11-'21c'!H11 -> 0
A12: 6 | B12: Önkormányzatok működési támogatásai (B11) | C12: ='17'!C12-'21b'!C12-'21c'!C12 -> 331574453 | D12: ='17'!D12-'21b'!D12-'21c'!D12 -> 331574453 | E12: ='17'!E12-'21b'!E12-'21c'!E12 -> 0 | F12: ='17'!F12-'21b'!F12-'21c'!F12 -> 0 | G12: ='17'!G12-'21b'!G12-'21c'!G12 -> 0 | H12: ='17'!H12-'21b'!H12-'21c'!H12 -> 0
A13: 7 | B13: Egyéb működési célú támogatások bevételei államháztartáson belülről (B16) | C13: ='17'!C13-'21b'!C13-'21c'!C13 -> 84703526 | D13: ='17'!D13-'21b'!D13-'21c'!D13 -> 22667022 | E13: ='17'!E13-'21b'!E13-'21c'!E13 -> 0 | F13: ='17'!F13-'21b'!F13-'21c'!F13 -> 62036504 | G13: ='17'!G13-'21b'!G13-'21c'!G13 -> 0 | H13: ='17'!H13-'21b'!H13-'21c'!H13 -> 0
A14: 8 | B14: ebből: egyéb fejezeti kezelésű előirányzatok (B16132) | C14: ='17'!C14-'21b'!C14-'21c'!C14 -> 8237022 | D14: ='17'!D14-'21b'!D14-'21c'!D14 -> 8237022 | E14: ='17'!E14-'21b'!E14-'21c'!E14 -> 0 | F14: ='17'!F14-'21b'!F14-'21c'!F14 -> 0 | G14: ='17'!G14-'21b'!G14-'21c'!G14 -> 0 | H14: ='17'!H14-'21b'!H14-'21c'!H14 -> 0
A15: 9 | B15: ebből: társadalombiztosítás pénzügyi alapjai (B1614) | C15: ='17'!C15-'21b'!C15-'21c'!C15 -> 14430000 | D15: ='17'!D15-'21b'!D15-'21c'!D15 -> 14430000 | E15: ='17'!E15-'21b'!E15-'21c'!E15 -> 0 | F15: ='17'!F15-'21b'!F15-'21c'!F15 -> 0 | G15: ='17'!G15-'21b'!G15-'21c'!G15 -> 0 | H15: ='17'!H15-'21b'!H15-'21c'!H15 -> 0
A16: 10 | B16: ebből: elkülönített állami pénzal (B1615) | C16: ='17'!C16-'21b'!C16-'21c'!C16 -> 62036504 | D16: ='17'!D16-'21b'!D16-'21c'!D16 -> 0 | E16: ='17'!E16-'21b'!E16-'21c'!E16 -> 0 | F16: ='17'!F16-'21b'!F16-'21c'!F16 -> 62036504 | G16: ='17'!G16-'21b'!G16-'21c'!G16 -> 0 | H16: ='17'!H16-'21b'!H16-'21c'!H16 -> 0
A17: 11 | B17: ebből: önkormányzat és kv-i szerveik (B 1616) | C17: ='17'!C17-'21b'!C17-'21c'!C17 -> 0 | D17: ='17'!D17-'21b'!D17-'21c'!D17 -> 0 | E17: ='17'!E17-'21b'!E17-'21c'!E17 -> 0 | F17: ='17'!F17-'21b'!F17-'21c'!F17 -> 0 | G17: ='17'!G17-'21b'!G17-'21c'!G17 -> 0 | H17: ='17'!H17-'21b'!H17-'21c'!H17 -> 0
A18: 12 | B18: Működési célú támogatások államháztartáson belülről (B1) | C18: ='17'!C18-'21b'!C18-'21c'!C18 -> 416277979 | D18: ='17'!D18-'21b'!D18-'21c'!D18 -> 354241475 | E18: ='17'!E18-'21b'!E18-'21c'!E18 -> 0 | F18: ='17'!F18-'21b'!F18-'21c'!F18 -> 62036504 | G18: ='17'!G18-'21b'!G18-'21c'!G18 -> 0 | H18: ='17'!H18-'21b'!H18-'21c'!H18 -> 0
... A72: 66 | B72: MINDÖSSZESEN: | C72: ='17'!C72-'21b'!C72-'21c'!C72 -> 1810973294 | D72: ='17'!D72-'21b'!D72-'21c'!D72 -> 1221779847 | E72: ='17'!E72-'21b'!E72-'21c'!E72 -> 176236420 | F72: ='17'!F72-'21b'!F72-'21c'!F72 -> 202135705 | G72: ='17'!G72-'21b'!G72-'21c'!G72 -> 61482178 | H72: ='17'!H72-'21b'!H72-'21c'!H72 -> 149339144
A73: 67 | B73: Személyi juttatások (K1) | C73: ='18'!C6-'21b'!C73-'21c'!C73 -> 355888067 | D73: ='18'!D6-'21b'!D73-'21c'!D73 -> 34203835 | E73: ='18'!E6-'21b'!E73-'21c'!E73 -> 109767524 | F73: ='18'!F6-'21b'!F73-'21c'!F73 -> 107041038 | G73: ='18'!G6-'21b'!G73-'21c'!G73 -> 23831592 | H73: ='18'!H6-'21b'!H73-'21c'!H73 -> 81044078
A74: 68 | B74: Munkaadókat terhelő járulékok és szociális hozzájárulási adó (K2) | C74: ='18'!C7-'21b'!C74-'21c'!C74 -> 77521221 | D74: ='18'!D7-'21b'!D74-'21c'!D74 -> 8902194 | E74: ='18'!E7-'21b'!E74-'21c'!E74 -> 26620547 | F74: ='18'!F7-'21b'!F74-'21c'!F74 -> 17096042 | G74: ='18'!G7-'21b'!G74-'21c'!G74 -> 5404150 | H74: ='18'!H7-'21b'!H74-'21c'!H74 -> 19498288
A75: 69 | B75: Dologi kiadások (K3) | C75: ='18'!C8-'21b'!C75-'21c'!C75 -> 230574911 | D75: ='18'!D8-'21b'!D75-'21c'!D75 -> 45082733 | E75: ='18'!E8-'21b'!E75-'21c'!E75 -> 33638349 | F75: ='18'!F8-'21b'!F75-'21c'!F75 -> 73706325 | G75: ='18'!G8-'21b'!G75-'21c'!G75 -> 30126726 | H75: ='18'!H8-'21b'!H75-'21c'!H75 -> 48020778
A76: 70 | B76: Családi támogatások (K42) | C76: ='18'!C9-'21b'!C76-'21c'!C76 -> 0 | D76: ='18'!D9-'21b'!D76-'21c'!D76 -> 0 | E76: ='18'!E9-'21b'!E76-'21c'!E76 -> 0 | F76: ='18'!F9-'21b'!F76-'21c'!F76 -> 0 | G76: ='18'!G9-'21b'!G76-'21c'!G76 -> 0 | H76: ='18'!H9-'21b'!H76-'21c'!H76 -> 0
A77: 71 | B77: ebből: az egyéb pénzbeli és természetbeni gyermekvédelmi támogatások (K42132) | C77: ='18'!C10-'21b'!C77-'21c'!C77 -> 0 | D77: ='18'!D10-'21b'!D77-'21c'!D77 -> 0 | E77: ='18'!E10-'21b'!E77-'21c'!E77 -> 0 | F77: ='18'!F10-'21b'!F77-'21c'!F77 -> 0 | G77: ='18'!G10-'21b'!G77-'21c'!G77 -> 0 | H77: ='18'!H10-'21b'!H77-'21c'!H77 -> 0
A78: 72 | B78: Intézményi ellátottak pénzbeli juttatásai (K47) | C78: ='18'!C11-'21b'!C78-'21c'!C78 -> 2700000 | D78: ='18'!D11-'21b'!D78-'21c'!D78 -> 2700000 | E78: ='18'!E11-'21b'!E78-'21c'!E78 -> 0 | F78: ='18'!F11-'21b'!F78-'21c'!F78 -> 0 | G78: ='18'!G11-'21b'!G78-'21c'!G78 -> 0 | H78: ='18'!H11-'21b'!H78-'21c'!H78 -> 0
A79: 73 | B79: ebből: oktatásban résztvevők pénzbeli juttatásai (K471) | C79: ='18'!C12-'21b'!C79-'21c'!C79 -> 2700000 | D79: ='18'!D12-'21b'!D79-'21c'!D79 -> 2700000 | E79: ='18'!E12-'21b'!E79-'21c'!E79 -> 0 | F79: ='18'!F12-'21b'!F79-'21c'!F79 -> 0 | G79: ='18'!G12-'21b'!G79-'21c'!G79 -> 0 | H79: ='18'!H12-'21b'!H79-'21c'!H79 -> 0
A80: 74 | B80: Egyéb nem intézményi ellátások (K48) | C80: ='18'!C13-'21b'!C80-'21c'!C80 -> 9300000 | D80: ='18'!D13-'21b'!D80-'21c'!D80 -> 9300000 | E80: ='18'!E13-'21b'!E80-'21c'!E80 -> 0 | F80: ='18'!F13-'21b'!F80-'21c'!F80 -> 0 | G80: ='18'!G13-'21b'!G80-'21c'!G80 -> 0 | H80: ='18'!H13-'21b'!H80-'21c'!H80 -> 0
A81: 75 | B81: ebből: köztemetés [Szoctv. 48.§] (K48123) | C81: ='18'!C14-'21b'!C81-'21c'!C81 -> 900000 | D81: ='18'!D14-'21b'!D81-'21c'!D81 -> 900000 | E81: ='18'!E14-'21b'!E81-'21c'!E81 -> 0 | F81: ='18'!F14-'21b'!F81-'21c'!F81 -> 0 | G81: ='18'!G14-'21b'!G81-'21c'!G81 -> 0 | H81: ='18'!H14-'21b'!H81-'21c'!H81 -> 0
A82: 76 | B82: ebből: települési támogatás [Szoctv. 45. §], (K48122) | C82: ='18'!C15-'21b'!C82-'21c'!C82 -> 8400000 | D82: ='18'!D15-'21b'!D82-'21c'!D82 -> 8400000 | E82: ='18'!E15-'21b'!E82-'21c'!E82 -> 0 | F82: ='18'!F15-'21b'!F82-'21c'!F82 -> 0 | G82: ='18'!G15-'21b'!G82-'21c'!G82 -> 0 | H82: ='18'!H15-'21b'!H82-'21c'!H82 -> 0
A83: 77 | B83: ebből: önkorm. Saját hatáskörben adott (K48139) | C83: ='18'!C16-'21b'!C83-'21c'!C83 -> 0 | D83: ='18'!D16-'21b'!D83-'21c'!D83 -> 0 | E83: ='18'!E16-'21b'!E83-'21c'!E83 -> 0 | F83: ='18'!F16-'21b'!F83-'21c'!F83 -> 0 | G83: ='18'!G16-'21b'!G83-'21c'!G83 -> 0 | H83: ='18'!H16-'21b'!H83-'21c'!H83 -> 0
A84: 78 | B84: Ellátottak pénzbeli juttatásai (K4) | C84: ='18'!C17-'21b'!C84-'21c'!C84 -> 12000000 | D84: ='18'!D17-'21b'!D84-'21c'!D84 -> 12000000 | E84: ='18'!E17-'21b'!E84-'21c'!E84 -> 0 | F84: ='18'!F17-'21b'!F84-'21c'!F84 -> 0 | G84: ='18'!G17-'21b'!G84-'21c'!G84 -> 0 | H84: ='18'!H17-'21b'!H84-'21c'!H84 -> 0
... A115: 109 | B115: MINDÖSSZESEN: | C115: ='18'!C48-'21b'!C115-'21c'!C115 -> 1810973294 | D115: ='18'!D48-'21b'!D115-'21c'!D115 -> 1221779847 | E115: ='18'!E48-'21b'!E115-'21c'!E115 -> 176236420 | F115: ='18'!F48-'21b'!F115-'21c'!F115 -> 202135705 | G115: ='18'!G48-'21b'!G115-'21c'!G115 -> 61482178 | H115: ='18'!H48-'21b'!H115-'21c'!H115 -> 149339144

Sheet 21b
B1: Berhida Város Önkormányzata | C1: 21/b. melléklet
B2: 2017. évi költségvetés | C2: a 9/2017. (V.31.) önkormányzati rendelethez
B3: ÖNKÉNT VÁLLALT feladatok
B4: Bevételek | C4: Ft-ban
C5: Összesen | D5: Önkormányzat | E5: Hivatal | F5: TESZ | G5: Kultúr | H5: Süni
A6: Sor- szám | B6: Rovat megnevezése | C6: Eredeti előirányzat | D6: Eredeti előirányzat | E6: Eredeti előirányzat | F6: Eredeti előirányzat | G6: Eredeti előirányzat | H6: Eredeti előirányzat
A7: 1 | B7: Helyi önkormányzatok működésének általános támogatása (B1111) | C7: =SUM(D7:H7) -> 0
A8: 2 | B8: Települési önkormányzatok egyes köznevelési feladatainak támogatása (B1121) | C8: =SUM(D8:H8) -> 0
A9: 3 | B9: Települési önkormányzatok szociális, gyermekjóléti és gyermekétkeztetési feladatainak támogatása (B1131) | C9: =SUM(D9:H9) -> 0
A10: 4 | B10: Települési önkormányzatok kulturális feladatainak támogatása (B1141) | C10: =SUM(D10:H10) -> 0
A11: 5 | B11: Működési célú költségvetési támogatások és kiegészítő támogatások (B1151) | C11: =SUM(D11:H11) -> 0
A12: 6 | B12: Önkormányzatok működési támogatásai (B11) | C12: =SUM(D12:H12) -> 0 | D12: =SUM(D7:D11) -> 0 | E12: =SUM(E7:E11) -> 0 | F12: =SUM(F7:F11) -> 0 | G12: =SUM(G7:G11) -> 0 | H12: =SUM(H7:H11) -> 0
A13: 7 | B13: Egyéb működési célú támogatások bevételei államháztartáson belülről (B16) | C13: =SUM(D13:H13) -> 0 | D13: =SUM(D14:D17) -> 0 | E13: =SUM(E14:E17) -> 0 | F13: =SUM(F14:F17) -> 0 | G13: =SUM(G14:G17) -> 0 | H13: =SUM(H14:H17) -> 0
A14: 8 | B14: ebből: egyéb fejezeti kezelésű előirányzatok (B16132) | C14: =SUM(D14:H14) -> 0
A15: 9 | B15: ebből: társadalombiztosítás pénzügyi alapjai (B1614) | C15: =SUM(D15:H15) -> 0
A16: 10 | B16: ebből: elkülönített állami pénzal (B1615) | C16: =SUM(D16:H16) -> 0
A17: 11 | B17: ebből: önkormányzat és kv-i szerveik (B 1616) | C17: =SUM(D17:H17) -> 0
A18: 12 | B18: Működési célú támogatások államháztartáson belülről (B1) | C18: =SUM(D18:H18) -> 0 | D18: =D12+D13 -> 0 | E18: =E12+E13 -> 0 | F18: =F12+F13 -> 0 | G18: =G12+G13 -> 0 | H18: =H12+H13 -> 0
A19: 13 | B19: Felhalmozási célú önkormányzati támogatások (B21) | C19: =SUM(D19:H19) -> 0 | D19: =SUM(D20:D23) -> 0 | E19: =SUM(E20:E23) -> 0 | F19: =SUM(F20:F23) -> 0 | G19: =SUM(G20:G23) -> 0 | H19: =SUM(H20:H23) -> 0
A20: 14 | B20: ebből egyéb központi fc tám (B2119) | C20: =SUM(D20:H20) -> 0
A21: 15 | B21: ebből: egyéb fejezeti kezelésű előirányzatok fc (B2513) | C21: =SUM(D21:H21) -> 0
A22: 16 | B22: ebből: elkülönített állami pénzal fc (B2515) | C22: =SUM(D22:H22) -> 0
A23: 17 | B23: ebből: önkorm és kv-i szervek fc tám (B2516) | C23: =SUM(D23:H23) -> 0
A24: 18 | B24: Felhalmozási célú támogatások államháztartáson belülről (B2) | C24: =SUM(D24:H24) -> 0 | D24: =D19 -> 0 | E24: =E19 -> 0 | F24: =F19 -> 0 | G24: =G19 -> 0 | H24: =H19 -> 0
A25: 19 | B25: Vagyoni tipusú adók (B34) | C25: =SUM(D25:H25) -> 3198364 | D25: =SUM(D26:D27) -> 3198364 | E25: =SUM(E26:E27) -> 0 | F25: =SUM(F26:F27) -> 0 | G25: =SUM(G26:G27) -> 0 | H25: =SUM(H26:H27) -> 0
A26: 20 | B26: ebből: építményadó (B34111) | C26: =SUM(D26:H26) -> 3198364 | D26: 3198364
A27: 21 | B27: ebből: magánszemélyek kommunális adója (B34114) | C27: =SUM(D27:H27) -> 0
A28: 22 | B28: Értékesítési és forgalmi adók iparűzési adó (B351121) | C28: =SUM(D28:H28) -> 0
A29: 23 | B29: Gépjárműadó (B354121) | C29: =SUM(D29:H29) -> 0
A30: 24 | B30: Egyéb áruhasználati és szolgáltatási adók, környezetterh díj (B355122) | C30: =SUM(D30:H30) -> 0
A31: 25 | B31: Termékek és szolgáltatások adói (B35) | C31: =SUM(D31:H31) -> 0 | D31: =SUM(D28:D30) -> 0 | E31: =SUM(E28:E30) -> 0 | F31: =SUM(F28:F30) -> 0 | G31: =SUM(G28:G30) -> 0 | H31: =SUM(H28:H30) -> 0
A32: 26 | B32: Egyéb közhatalmi bevételek (B36) | C32: =SUM(D32:H32) -> 0 | D32: =SUM(D33:D35) -> 0 | E32: =SUM(E33:E35) -> 0 | F32: =SUM(F33:F35) -> 0 | G32: =SUM(G33:G35) -> 0 | H32: =SUM(H33:H35) -> 0
A33: 27 | B33: ebből: szabálysértési pénz- és helyszíni bírság és a közlekedési szabályszegések után kiszabott közigazgatási bírság helyi önkormányzatot megillető része (B361225) | C33: =SUM(D33:H33) -> 0
A34: 28 | B34: ebből: egyéb bírság (B361229) | C34: =SUM(D34:H34) -> 0
A35: 29 | B35: ebből: egyéb települési adók (B36128) | C35: =SUM(D35:H35) -> 0
A36: 30 | B36: Közhatalmi bevételek (B3) | C36: =SUM(D36:H36) -> 3198364 | D36: =D25+D31+D32 -> 3198364 | E36: =E25+E31+E32 -> 0 | F36: =F25+F31+F32 -> 0 | G36: =G25+G31+G32 -> 0 | H36: =H25+H31+H32 -> 0
A37: 31 | B37: Szolgáltatások (B4021) | C37: =SUM(D37:H37) -> 100000 | D37: =SUM(D38:D40) -> 0 | E37: =SUM(E38:E40) -> 0 | F37: =SUM(F38:F40) -> 0 | G37: =SUM(G38:G40) -> 100000 | H37: =SUM(H38:H40) -> 0
A38: 32 | B38: ebből: alkalmazottak térítési díj (B40211) | C38: =SUM(D38:H38) -> 0
A39: 33 | B39: ebből: bérleti díj bev (B40212) | C39: =SUM(D39:H39) -> 0
A40: 34 | B40: ebből: egyéb szolgáltatás (40214) | C40: =SUM(D40:H40) -> 100000 | G40: 100000
A41: 35 | B41: Közvetített szolgáltatások ellenértéke (B403) | C41: =SUM(D41:H41) -> 1200000 | D41: =SUM(D42:D43) -> 0 | E41: =SUM(E42:E43) -> 0 | F41: =SUM(F42:F43) -> 1200000 | G41: =SUM(G42:G43) -> 0 | H41: =SUM(H42:H43) -> 0
A42: 36 | B42: ebből: államháztartáson belül (B40311) | C42: =SUM(D42:H42) -> 0
A43: 37 | B43: ebből: államháztartáson kívül (B40312) | C43: =SUM(D43:H43) -> 1200000 | F43: 1200000
A44: 38 | B44: Tulajdonosi bevételek (B404) | C44: =SUM(D44:H44) -> 9589000 | D44: =SUM(D45:D49) -> 9589000 | E44: =SUM(E45:E49) -> 0 | F44: =SUM(F45:F49) -> 0 | G44: =SUM(G45:G49) -> 0 | H44: =SUM(H45:H49) -> 0
A45: 39 | B45: ebből: önkormányzati vagyon üzemeltetéséből, koncesszióból származó bevétel (B404131) | C45: =SUM(D45:H45) -> 0
A46: 40 | B46: ebből: önkormányzati vagyon vagyonkezelésbe adásából származó bevétel (B404133) | C46: =SUM(D46:H46) -> 0
A47: 41 | B47: ebből: egy önk-i vagyon bérbeadásából (404134) | C47: =SUM(D47:H47) -> 9079000 | D47: 9079000
A48: 42 | B48: ebből egyéb önkorm vagyon haszonbérbeadásából (B404135) | C48: =SUM(D48:H48) -> 0
A49: 43 | B49: ebből: egy önk tulajdonosi bevétel (B404139) | C49: =SUM(D49:H49) -> 510000 | D49: 510000
A50: 44 | B50: Ellátási díjak (B40511) | C50: =SUM(D50:H50) -> 0
A51: 45 | B51: Kiszámlázott általános forgalmi adó (B40611) | C51: =SUM(D51:H51) -> 2913030 | D51: 2589030 | E51: =(E37+E41+E44+E50)*0.27 -> 0 | F51: 324000 | H51: =(H37+H41+H44+H50)*0.27 -> 0
A52: 46 | B52: Általános forgalmi adó visszatérítése (B4071) | C52: =SUM(D52:H52) -> 0
A53: 47 | B53: Egyéb kapott (járó) kamatok és kamatjellegű bevételek ÁHK(B408129) | C53: =SUM(D53:H53) -> 0
A54: 48 | B54: Más egyéb pénzügyi műveletek bevételei (B4092) | C54: =SUM(D54:H54) -> 0
A55: 49 | B55: ebből: valuta és deviza eszközök realizált árfolyamnyeresége (B4092) | C55: =SUM(D55:H55) -> 0
A56: 50 | B56: Egyéb pénzügyi műveletek bevételei B409199) | C56: =SUM(D56:H56) -> 0
A57: 51 | B57: Biztosító által fizetett kártérítés (B4101) | C57: =SUM(D57:H57) -> 0
A58: 52 | B58: Egyéb működési bevételek (B411199) | C58: =SUM(D58:H58) -> 0
A59: 53 | B59: Működési bevételek (B4) | C59: =SUM(D59:H59) -> 13802030 | D59: =D37+D41+D44+D50+D51+D52+D53+D54+D55+D56+D57+D58 -> 12178030 | E59: =E37+E41+E44+E50+E51+E52+E53+E54+E55+E56+E57+E58 -> 0 | F59: =F37+F41+F44+F50+F51+F52+F53+F54+F55+F56+F57+F58 -> 1524000 | G59: =G37+G41+G44+G50+G51+G52+G53+G54+G55+G56+G57+G58 -> 100000 | H59: =H37+H41+H44+H50+H51+H52+H53+H54+H55+H56+H57+H58 -> 0
A60: 54 | B60: Ingatlanok értékesítése (B52) | C60: =SUM(D60:H60) -> 180000 | D60: 180000
A61: 55 | B61: Felhalmozási bevételek (B5) | C61: =SUM(D61:H61) -> 180000 | D61: =D60 -> 180000 | E61: =E60 -> 0 | F61: =F60 -> 0 | G61: =G60 -> 0 | H61: =H60 -> 0
A62: 56 | B62: Felhalmozási célú visszatérítendő támogatások, kölcsönök visszatérülése államháztartáson kívülről (B74) | C62: =SUM(D62:H62) -> 0
A63: 57 | B63: ebből: háztartások (B74) | C63: =SUM(D63:H63) -> 435500 | D63: 435500
A64: 58 | B64: Egyéb felhalmozási célú átvett pénzeszközök (B75) | C64: =SUM(D64:H64) -> 0
A65: 59 | B65: Felhalmozási célú átvett pénzeszközök (B7) | C65: =SUM(D65:H65) -> 435500 | D65: =SUM(D62:D64) -> 435500 | E65: =SUM(E62:E64) -> 0 | F65: =SUM(F62:F64) -> 0 | G65: =SUM(G62:G64) -> 0 | H65: =SUM(H62:H64) -> 0
A66: 60 | B66: Költségvetési bevételek (B1-B7) | C66: =SUM(D66:H66) -> 17615894 | D66: =D18+D24+D36+D59+D61+D65 -> 15991894 | E66: =E18+E24+E36+E59+E61+E65 -> 0 | F66: =F18+F24+F36+F59+F61+F65 -> 1524000 | G66: =G18+G24+G36+G59+G61+G65 -> 100000 | H66: =H18+H24+H36+H59+H61+H65 -> 0
A67: 61 | B67: Előző év költségvetési maradványának igénybevétele (B8131) | C67: =SUM(D67:H67) -> 0
A68: 62 | B68: Államháztartáson belüli megelőlegezések (B814) | C68: =SUM(D68:H68) -> 0
A69: 63 | B69: Irányító szervi támogatás B816 | C69: =SUM(D69:H69) -> 3627600 | F69: 2457600 | G69: 1170000
A70: 64 | B70: Belföldi finanszírozás bevételei (B81) | C70: =SUM(D70:H70) -> 3627600 | D70: =SUM(D67:D69) -> 0 | E70: =SUM(E67:E69) -> 0 | F70: =SUM(F67:F69) -> 2457600 | G70: =SUM(G67:G69) -> 1170000 | H70: =SUM(H67:H69) -> 0
A71: 65 | B71: Finanszírozási bevételek (B8) | C71: =SUM(D71:H71) -> 3627600 | D71: =D70 -> 0 | E71: =E70 -> 0 | F71: =F70 -> 2457600 | G71: =G70 -> 1170000 | H71: =H70 -> 0
A72: 66 | B72: MINDÖSSZESEN: | C72: =SUM(D72:H72) -> 21243494 | D72: =D66+D71 -> 15991894 | E72: =E66+E71 -> 0 | F72: =F66+F71 -> 3981600 | G72: =G66+G71 -> 1270000 | H72: =H66+H71 -> 0
A73: 67 | B73: Személyi juttatások (K1) | C73: =SUM(D73:H73) -> 0
A74: 68 | B74: Munkaadókat terhelő járulékok és szociális hozzájárulási adó (K2) | C74: =SUM(D74:H74) -> 0
A75: 69 | B75: Dologi kiadások (K3) | C75: =SUM(D75:H75) -> 8564700 | D75: 3313100 | F75: 3981600 | G75: 1270000
A76: 70 | B76: Családi támogatások (K42) | C76: =SUM(D76:H76) -> 0 | D76: =D77 -> 0 | E76: =E77 -> 0 | F76: =F77 -> 0 | G76: =G77 -> 0 | H76: =H77 -> 0
A77: 71 | B77: ebből: az egyéb pénzbeli és természetbeni gyermekvédelmi támogatások (K42132) | C77: =SUM(D77:H77) -> 0
A78: 72 | B78: Intézményi ellátottak pénzbeli juttatásai (K47) | C78: =SUM(D78:H78) -> 0 | D78: =D79 -> 0 | E78: =E79 -> 0 | F78: =F79 -> 0 | G78: =G79 -> 0 | H78: =H79 -> 0
A79: 73 | B79: ebből: oktatásban résztvevők pénzbeli juttatásai (K471) | C79: =SUM(D79:H79) -> 0
A80: 74 | B80: Egyéb nem intézményi ellátások (K48) | C80: =SUM(D80:H80) -> 0 | D80: =SUM(D81:D83) -> 0 | E80: =SUM(E81:E83) -> 0 | F80: =SUM(F81:F83) -> 0 | G80: =SUM(G81:G83) -> 0 | H80: =SUM(H81:H83) -> 0
A81: 75 | B81: ebből: köztemetés [Szoctv. 48.§] (K48123) | C81: =SUM(D81:H81) -> 0
A82: 76 | B82: ebből: települési támogatás [Szoctv. 45. §], (K48122) | C82: =SUM(D82:H82) -> 0
A83: 77 | B83: ebből: önkorm. Saját hatáskörben adott (K48139) | C83: =SUM(D83:H83) -> 0
A84: 78 | B84: Ellátottak pénzbeli juttatásai (K4) | C84: =SUM(D84:H84) -> 0 | D84: =D76+D78+D80 -> 0 | E84: =E76+E78+E80 -> 0 | F84: =F76+F78+F80 -> 0 | G84: =G76+G78+G80 -> 0 | H84: =H76+H78+H80 -> 0
A85: 79 | B85: Elvonások és befizetések (K5023) | C85: =SUM(D85:H85) -> 0
A86: 80 | B86: Egyéb működési célú támogatások államháztartáson belülre (K506) | C86: =SUM(D86:H86) -> 0 | D86: =SUM(D87:D90) -> 0 | E86: =SUM(E87:E90) -> 0 | F86: =SUM(F87:F90) -> 0 | G86: =SUM(G87:G90) -> 0 | H86: =SUM(H87:H90) -> 0
A87: 81 | B87: ebből: egyéb fejezeti kezelésű előirányzatok (K506132) | C87: =SUM(D87:H87) -> 0
A88: 82 | B88: ebből: elkülönített állami pénzalap (K50615) | C88: =SUM(D88:H88) -> 0
A89: 83 | B89: ebből: önkormányzatok és költségv-i szerveik K50616) | C89: =SUM(D89:H89) -> 0
A90: 84 | B90: ebből: társulások és költségvetési szerveik (K50617) | C90: =SUM(D90:H90) -> 0
A91: 85 | B91: Egyéb működési célú támogatások államháztartáson kívülre non-profit szervezet (K512142) | C91: =SUM(D91:H91) -> 3900000 | D91: 3900000
A92: 86 | B92: Tartalékok (K51311) | C92: =SUM(D92:H92) -> 5000000 | D92: 5000000
A93: 87 | B93: Egyéb működési célú kiadások (K5) | C93: =SUM(D93:H93) -> 8900000 | D93: =D85+D86+D91+D92 -> 8900000 | E93: =E85+E86+E91+E92 -> 0 | F93: =F85+F86+F91+F92 -> 0 | G93: =G85+G86+G91+G92 -> 0 | H93: =H85+H86+H91+H92 -> 0
A94: 88 | B94: Immateriális javak beszerzése, lét (K611) | C94: =SUM(D94:H94) -> 0
A95: 89 | B95: Ingatlanok beszerzése, létesítése (K621) | C95: =SUM(D95:H95) -> 0
A96: 90 | B96: Informatikai eszközök beszerzése, létesítése (K631) | C96: =SUM(D96:H96) -> 90000 | D96: 90000
A97: 91 | B97: Egyéb tárgyi eszközök beszerzése, létesítése (K641) | C97: =SUM(D97:H97) -> 29050 | D97: 29050
A98: 92 | B98: Beruházási célú előzetesen felszámított általános forgalmi adó (K671) | C98: =SUM(D98:H98) -> 32144 | D98: 32144
A99: 93 | B99: Beruházások (K6) | C99: =SUM(D99:H99) -> 151194 | D99: =SUM(D94:D98) -> 151194 | E99: =SUM(E94:E98) -> 0 | F99: =SUM(F94:F98) -> 0 | G99: =SUM(G94:G98) -> 0 | H99: =SUM(H94:H98) -> 0
A100: 94 | B100: Ingatlanok felújítása (K711) | C100: =SUM(D100:H100) -> 0
...

Sheet 21c
B1: Berhida Város Önkormányzata | C1: 21/c. melléklet
B2: 2017. évi költségvetés | C2: a 9/2017. (V.31.) önkormányzati rendelethez
B3: ÁLLAMIGAZGATÁSI feladatok
B4: Bevételek | C4: Ft-ban
C5: Összesen | D5: Önkormányzat | E5: Hivatal | F5: TESZ | G5: Kultúr | H5: Süni
A6: Sor- szám | B6: Rovat megnevezése | C6: Eredeti előirányzat | D6: Eredeti előirányzat | E6: Eredeti előirányzat | F6: Eredeti előirányzat | G6: Eredeti előirányzat | H6: Eredeti előirányzat
A7: 1 | B7: Helyi önkormányzatok működésének általános támogatása (B1111) | C7: =SUM(D7:H7) -> 0
A8: 2 | B8: Települési önkormányzatok egyes köznevelési feladatainak támogatása (B1121) | C8: =SUM(D8:H8) -> 0
A9: 3 | B9: Települési önkormányzatok szociális, gyermekjóléti és gyermekétkeztetési feladatainak támogatása (B1131) | C9: =SUM(D9:H9) -> 0
A10: 4 | B10: Települési önkormányzatok kulturális feladatainak támogatása (B1141) | C10: =SUM(D10:H10) -> 0
A11: 5 | B11: Működési célú költségvetési támogatások és kiegészítő támogatások (B1151) | C11: =SUM(D11:H11) -> 0
A12: 6 | B12: Önkormányzatok működési támogatásai (B11) | C12: =SUM(D12:H12) -> 0 | D12: =SUM(D7:D11) -> 0 | E12: =SUM(E7:E11) -> 0 | F12: =SUM(F7:F11) -> 0 | G12: =SUM(G7:G11) -> 0 | H12: =SUM(H7:H11) -> 0
A13: 7 | B13: Egyéb működési célú támogatások bevételei államháztartáson belülről (B16) | C13: =SUM(D13:H13) -> 0 | D13: =SUM(D14:D17) -> 0 | E13: =SUM(E14:E17) -> 0 | F13: =SUM(F14:F17) -> 0 | G13: =SUM(G14:G17) -> 0 | H13: =SUM(H14:H17) -> 0
A14: 8 | B14: ebből: egyéb fejezeti kezelésű előirányzatok (B16132) | C14: =SUM(D14:H14) -> 0
A15: 9 | B15: ebből: társadalombiztosítás pénzügyi alapjai (B1614) | C15: =SUM(D15:H15) -> 0
A16: 10 | B16: ebből: elkülönített állami pénzal (B1615) | C16: =SUM(D16:H16) -> 0
A17: 11 | B17: ebből: önkormányzat és kv-i szerveik (B 1616) | C17: =SUM(D17:H17) -> 0
A18: 12 | B18: Működési célú támogatások államháztartáson belülről (B1) | C18: =SUM(D18:H18) -> 0 | D18: =D12+D13 -> 0 | E18: =E12+E13 -> 0 | F18: =F12+F13 -> 0 | G18: =G12+G13 -> 0 | H18: =H12+H13 -> 0
A19: 13 | B19: Felhalmozási célú önkormányzati támogatások (B21) | C19: =SUM(D19:H19) -> 0 | D19: =SUM(D20:D23) -> 0 | E19: =SUM(E20:E23) -> 0 | F19: =SUM(F20:F23) -> 0 | G19: =SUM(G20:G23) -> 0 | H19: =SUM(H20:H23) -> 0
A20: 14 | B20: ebből egyéb központi fc tám (B2119) | C20: =SUM(D20:H20) -> 0
A21: 15 | B21: ebből: egyéb fejezeti kezelésű előirányzatok fc (B2513) | C21: =SUM(D21:H21) -> 0
A22: 16 | B22: ebből: elkülönített állami pénzal fc (B2515) | C22: =SUM(D22:H22) -> 0
A23: 17 | B23: ebből: önkorm és kv-i szervek fc tám (B2516) | C23: =SUM(D23:H23) -> 0
A24: 18 | B24: Felhalmozási célú támogatások államháztartáson belülről (B2) | C24: =SUM(D24:H24) -> 0 | D24: =D19 -> 0 | E24: =E19 -> 0 | F24: =F19 -> 0 | G24: =G19 -> 0 | H24: =H19 -> 0
A25: 19 | B25: Vagyoni tipusú adók (B34) | C25: =SUM(D25:H25) -> 0 | D25: =SUM(D26:D27) -> 0 | E25: =SUM(E26:E27) -> 0 | F25: =SUM(F26:F27) -> 0 | G25: =SUM(G26:G27) -> 0 | H25: =SUM(H26:H27) -> 0
A26: 20 | B26: ebből: építményadó (B34111) | C26: =SUM(D26:H26) -> 0
A27: 21 | B27: ebből: magánszemélyek kommunális adója (B34114) | C27: =SUM(D27:H27) -> 0
A28: 22 | B28: Értékesítési és forgalmi adók iparűzési adó (B351121) | C28: =SUM(D28:H28) -> 0
A29: 23 | B29: Gépjárműadó (B354121) | C29: =SUM(D29:H29) -> 0
A30: 24 | B30: Egyéb áruhasználati és szolgáltatási adók, környezetterh díj (B355122) | C30: =SUM(D30:H30) -> 0
A31: 25 | B31: Termékek és szolgáltatások adói (B35) | C31: =SUM(D31:H31) -> 0 | D31: =SUM(D28:D30) -> 0 | E31: =SUM(E28:E30) -> 0 | F31: =SUM(F28:F30) -> 0 | G31: =SUM(G28:G30) -> 0 | H31: =SUM(H28:H30) -> 0
A32: 26 | B32: Egyéb közhatalmi bevételek (B36) | C32: =SUM(D32:H32) -> 0 | D32: =SUM(D33:D35) -> 0 | E32: =SUM(E33:E35) -> 0 | F32: =SUM(F33:F35) -> 0 | G32: =SUM(G33:G35) -> 0 | H32: =SUM(H33:H35) -> 0
A33: 27 | B33: ebből: szabálysértési pénz- és helyszíni bírság és a közlekedési szabályszegések után kiszabott közigazgatási bírság helyi önkormányzatot megillető része (B361225) | C33: =SUM(D33:H33) -> 0
A34: 28 | B34: ebből: egyéb bírság (B361229) | C34: =SUM(D34:H34) -> 0
A35: 29 | B35: ebből: egyéb települési adók (B36128) | C35: =SUM(D35:H35) -> 0
A36: 30 | B36: Közhatalmi bevételek (B3) | C36: =SUM(D36:H36) -> 0 | D36: =D25+D31+D32 -> 0 | E36: =E25+E31+E32 -> 0 | F36: =F25+F31+F32 -> 0 | G36: =G25+G31+G32 -> 0 | H36: =H25+H31+H32 -> 0
A37: 31 | B37: Szolgáltatások (B4021) | C37: =SUM(D37:H37) -> 0 | D37: =SUM(D38:D40) -> 0 | E37: =SUM(E38:E40) -> 0 | F37: =SUM(F38:F40) -> 0 | G37: =SUM(G38:G40) -> 0 | H37: =SUM(H38:H40) -> 0
A38: 32 | B38: ebből: alkalmazottak térítési díj (B40211) | C38: =SUM(D38:H38) -> 0
A39: 33 | B39: ebből: bérleti díj bev (B40212) | C39: =SUM(D39:H39) -> 0
A40: 34 | B40: ebből: egyéb szolgáltatás (40214) | C40: =SUM(D40:H40) -> 0
A41: 35 | B41: Közvetített szolgáltatások ellenértéke (B403) | C41: =SUM(D41:H41) -> 0 | D41: =SUM(D42:D43) -> 0 | E41: =SUM(E42:E43) -> 0 | F41: =SUM(F42:F43) -> 0 | G41: =SUM(G42:G43) -> 0 | H41: =SUM(H42:H43) -> 0
A42: 36 | B42: ebből: államháztartáson belül (B40311) | C42: =SUM(D42:H42) -> 0
A43: 37 | B43: ebből: államháztartáson kívül (B40312) | C43: =SUM(D43:H43) -> 0
A44: 38 | B44: Tulajdonosi bevételek (B404) | C44: =SUM(D44:H44) -> 0 | D44: =SUM(D45:D49) -> 0 | E44: =SUM(E45:E49) -> 0 | F44: =SUM(F45:F49) -> 0 | G44: =SUM(G45:G49) -> 0 | H44: =SUM(H45:H49) -> 0
A45: 39 | B45: ebből: önkormányzati vagyon üzemeltetéséből, koncesszióból származó bevétel (B404131) | C45: =SUM(D45:H45) -> 0
A46: 40 | B46: ebből: önkormányzati vagyon vagyonkezelésbe adásából származó bevétel (B404133) | C46: =SUM(D46:H46) -> 0
A47: 41 | B47: ebből: egy önk-i vagyon bérbeadásából (404134) | C47: =SUM(D47:H47) -> 0
A48: 42 | B48: ebből egyéb önkorm vagyon haszonbérbeadásából (B404135) | C48: =SUM(D48:H48) -> 0
A49: 43 | B49: ebből: egy önk tulajdonosi bevétel (B404139) | C49: =SUM(D49:H49) -> 0
A50: 44 | B50: Ellátási díjak (B40511) | C50: =SUM(D50:H50) -> 0
A51: 45 | B51: Kiszámlázott általános forgalmi adó (B40611) | C51: =SUM(D51:H51) -> 0 | E51: =(E37+E41+E44+E50)*0.27 -> 0 | F51: =(F37+F41+F44+F50)*0.27 -> 0 | H51: =(H37+H41+H44+H50)*0.27 -> 0
A52: 46 | B52: Általános forgalmi adó visszatérítése (B4071) | C52: =SUM(D52:H52) -> 0
A53: 47 | B53: Egyéb kapott (járó) kamatok és kamatjellegű bevételek ÁHK(B408129) | C53: =SUM(D53:H53) -> 0
A54: 48 | B54: Más egyéb pénzügyi műveletek bevételei (B4092) | C54: =SUM(D54:H54) -> 0
A55: 49 | B55: ebből: valuta és deviza eszközök realizált árfolyamnyeresége (B4092) | C55: =SUM(D55:H55) -> 0
A56: 50 | B56: Egyéb pénzügyi műveletek bevételei B409199) | C56: =SUM(D56:H56) -> 0
A57: 51 | B57: Biztosító által fizetett kártérítés (B4101) | C57: =SUM(D57:H57) -> 0
A58: 52 | B58: Egyéb működési bevételek (B411199) | C58: =SUM(D58:H58) -> 0
A59: 53 | B59: Működési bevételek (B4) | C59: =SUM(D59:H59) -> 0 | D59: =D37+D41+D44+D50+D51+D52+D53+D54+D55+D56+D57+D58 -> 0 | E59: =E37+E41+E44+E50+E51+E52+E53+E54+E55+E56+E57+E58 -> 0 | F59: =F37+F41+F44+F50+F51+F52+F53+F54+F55+F56+F57+F58 -> 0 | G59: =G37+G41+G44+G50+G51+G52+G53+G54+G55+G56+G57+G58 -> 0 | H59: =H37+H41+H44+H50+H51+H52+H53+H54+H55+H56+H57+H58 -> 0
A60: 54 | B60: Ingatlanok értékesítése (B52) | C60: =SUM(D60:H60) -> 0
A61: 55 | B61: Felhalmozási bevételek (B5) | C61: =SUM(D61:H61) -> 0 | D61: =D60 -> 0 | E61: =E60 -> 0 | F61: =F60 -> 0 | G61: =G60 -> 0 | H61: =H60 -> 0
A62: 56 | B62: Felhalmozási célú visszatérítendő támogatások, kölcsönök visszatérülése államháztartáson kívülről (B74) | C62: =SUM(D62:H62) -> 0
A63: 57 | B63: ebből: háztartások (B74) | C63: =SUM(D63:H63) -> 0
A64: 58 | B64: Egyéb felhalmozási célú átvett pénzeszközök (B75) | C64: =SUM(D64:H64) -> 0
A65: 59 | B65: Felhalmozási célú átvett pénzeszközök (B7) | C65: =SUM(D65:H65) -> 0 | D65: =SUM(D62:D64) -> 0 | E65: =SUM(E62:E64) -> 0 | F65: =SUM(F62:F64) -> 0 | G65: =SUM(G62:G64) -> 0 | H65: =SUM(H62:H64) -> 0
A66: 60 | B66: Költségvetési bevételek (B1-B7) | C66: =SUM(D66:H66) -> 0 | D66: =D18+D24+D36+D59+D61+D65 -> 0 | E66: =E18+E24+E36+E59+E61+E65 -> 0 | F66: =F18+F24+F36+F59+F61+F65 -> 0 | G66: =G18+G24+G36+G59+G61+G65 -> 0 | H66: =H18+H24+H36+H59+H61+H65 -> 0
A67: 61 | B67: Előző év költségvetési maradványának igénybevétele (B8131) | C67: =SUM(D67:H67) -> 0
A68: 62 | B68: Államháztartáson belüli megelőlegezések (B814) | C68: =SUM(D68:H68) -> 0
A69: 63 | B69: Irányító szervi támogatás B816 | C69: =SUM(D69:H69) -> 7858323 | E69: 7858323
A70: 64 | B70: Belföldi finanszírozás bevételei (B81) | C70: =SUM(D70:H70) -> 7858323 | D70: =SUM(D67:D69) -> 0 | E70: =SUM(E67:E69) -> 7858323 | F70: =SUM(F67:F69) -> 0 | G70: =SUM(G67:G69) -> 0 | H70: =SUM(H67:H69) -> 0
A71: 65 | B71: Finanszírozási bevételek (B8) | C71: =SUM(D71:H71) -> 7858323 | D71: =D70 -> 0 | E71: =E70 -> 7858323 | F71: =F70 -> 0 | G71: =G70 -> 0 | H71: =H70 -> 0
A72: 66 | B72: MINDÖSSZESEN: | C72: =SUM(D72:H72) -> 7858323 | D72: =D66+D71 -> 0 | E72: =E66+E71 -> 7858323 | F72: =F66+F71 -> 0 | G72: =G66+G71 -> 0 | H72: =H66+H71 -> 0
A73: 67 | B73: Személyi juttatások (K1) | C73: =SUM(D73:H73) -> 5893795 | E73: 5893795
A74: 68 | B74: Munkaadókat terhelő járulékok és szociális hozzájárulási adó (K2) | C74: =SUM(D74:H74) -> 1356368 | E74: 1356368
A75: 69 | B75: Dologi kiadások (K3) | C75: =SUM(D75:H75) -> 608160 | E75: 608160
A76: 70 | B76: Családi támogatások (K42) | C76: =SUM(D76:H76) -> 0 | D76: =D77 -> 0 | E76: =E77 -> 0 | F76: =F77 -> 0 | G76: =G77 -> 0 | H76: =H77 -> 0
A77: 71 | B77: ebből: az egyéb pénzbeli és természetbeni gyermekvédelmi támogatások (K42132) | C77: =SUM(D77:H77) -> 0
A78: 72 | B78: Intézményi ellátottak pénzbeli juttatásai (K47) | C78: =SUM(D78:H78) -> 0 | D78: =D79 -> 0 | E78: =E79 -> 0 | F78: =F79 -> 0 | G78: =G79 -> 0 | H78: =H79 -> 0
A79: 73 | B79: ebből: oktatásban résztvevők pénzbeli juttatásai (K471) | C79: =SUM(D79:H79) -> 0
A80: 74 | B80: Egyéb nem intézményi ellátások (K48) | C80: =SUM(D80:H80) -> 0 | D80: =SUM(D81:D83) -> 0 | E80: =SUM(E81:E83) -> 0 | F80: =SUM(F81:F83) -> 0 | G80: =SUM(G81:G83) -> 0 | H80: =SUM(H81:H83) -> 0
A81: 75 | B81: ebből: köztemetés [Szoctv. 48.§] (K48123) | C81: =SUM(D81:H81) -> 0
A82: 76 | B82: ebből: települési támogatás [Szoctv. 45. §], (K48122) | C82: =SUM(D82:H82) -> 0
A83: 77 | B83: ebből: önkorm. Saját hatáskörben adott (K48139) | C83: =SUM(D83:H83) -> 0
A84: 78 | B84: Ellátottak pénzbeli juttatásai (K4) | C84: =SUM(D84:H84) -> 0 | D84: =D76+D78+D80 -> 0 | E84: =E76+E78+E80 -> 0 | F84: =F76+F78+F80 -> 0 | G84: =G76+G78+G80 -> 0 | H84: =H76+H78+H80 -> 0
A85: 79 | B85: Elvonások és befizetések (K5023) | C85: =SUM(D85:H85) -> 0
A86: 80 | B86: Egyéb működési célú támogatások államháztartáson belülre (K506) | C86: =SUM(D86:H86) -> 0 | D86: =SUM(D87:D90) -> 0 | E86: =SUM(E87:E90) -> 0 | F86: =SUM(F87:F90) -> 0 | G86: =SUM(G87:G90) -> 0 | H86: =SUM(H87:H90) -> 0
A87: 81 | B87: ebből: egyéb fejezeti kezelésű előirányzatok (K506132) | C87: =SUM(D87:H87) -> 0
A88: 82 | B88: ebből: elkülönített állami pénzalap (K50615) | C88: =SUM(D88:H88) -> 0
A89: 83 | B89: ebből: önkormányzatok és költségv-i szerveik K50616) | C89: =SUM(D89:H89) -> 0
A90: 84 | B90: ebből: társulások és költségvetési szerveik (K50617) | C90: =SUM(D90:H90) -> 0
A91: 85 | B91: Egyéb működési célú támogatások államháztartáson kívülre non-profit szervezet (K512142) | C91: =SUM(D91:H91) -> 0
A92: 86 | B92: Tartalékok (K51311) | C92: =SUM(D92:H92) -> 0
A93: 87 | B93: Egyéb működési célú kiadások (K5) | C93: =SUM(D93:H93) -> 0 | D93: =D85+D86+D91+D92 -> 0 | E93: =E85+E86+E91+E92 -> 0 | F93: =F85+F86+F91+F92 -> 0 | G93: =G85+G86+G91+G92 -> 0 | H93: =H85+H86+H91+H92 -> 0
A94: 88 | B94: Immateriális javak beszerzése, lét (K611) | C94: =SUM(D94:H94) -> 0
A95: 89 | B95: Ingatlanok beszerzése, létesítése (K621) | C95: =SUM(D95:H95) -> 0
A96: 90 | B96: Informatikai eszközök beszerzése, létesítése (K631) | C96: =SUM(D96:H96) -> 0
A97: 91 | B97: Egyéb tárgyi eszközök beszerzése, létesítése (K641) | C97: =SUM(D97:H97) -> 0
A98: 92 | B98: Beruházási célú előzetesen felszámított általános forgalmi adó (K671) | C98: =SUM(D98:H98) -> 0
A99: 93 | B99: Beruházások (K6) | C99: =SUM(D99:H99) -> 0 | D99: =SUM(D94:D98) -> 0 | E99: =SUM(E94:E98) -> 0 | F99: =SUM(F94:F98) -> 0 | G99: =SUM(G94:G98) -> 0 | H99: =SUM(H94:H98) -> 0
A100: 94 | B100: Ingatlanok felújítása (K711) | C100: =SUM(D100:H100) -> 0
...

Sheet 22
C1: Berhida Város Önkormányzatának
C2: 2017. Évi költségvetéséhez | G2: 22. melléklet
C3: ELŐIRÁNYZAT FELHASZNÁLÁSI ÜTEMTERV | G3: a 9/2017. (V.31.) önkormányzati rendelethez
G4: adatok Ft-ban
A6: 1 | B6: MEGNEVEZÉS | C6: Összesen | D6: január | E6: február | F6: március | G6: április | H6: május | I6: június | J6: július | K6: augusztus | L6: szeptember | M6: október | N6: november | O6: december | P6: Ellenőrző sor
A7: 2 | B7: Személyi juttatások | C7: ='18'!C6 -> 361781862 | D7: =C7/12 -> 30148488 | E7: =C7/12 -> 30148488 | F7: =C7/12 -> 30148488 | G7: =C7/12 -> 30148488 | H7: =C7/12 -> 30148488 | I7: =C7/12 -> 30148488 | J7: =C7/12 -> 30148488 | K7: =C7/12 -> 30148488 | L7: =C7/12 -> 30148488 | M7: =C7/12 -> 30148488 | N7: =C7/12 -> 30148488 | O7: =C7/12 -> 30148488 | P7: =SUM(D7:O7) -> 361781862
A8: 3 | B8: Munkaadókat terhelő járulékok és szociális hozzájárulási adó, | C8: ='18'!C7 -> 78877589 | D8: =C8/12 -> 6573132.4 | E8: =C8/12 -> 6573132.4 | F8: =C8/12 -> 6573132.4 | G8: =C8/12 -> 6573132.4 | H8: =C8/12 -> 6573132.4 | I8: =C8/12 -> 6573132.4 | J8: =C8/12 -> 6573132.4 | K8: =C8/12 -> 6573132.4 | L8: =C8/12 -> 6573132.4 | M8: =C8/12 -> 6573132.4 | N8: =C8/12 -> 6573132.4 | O8: =C8/12 -> 6573132.4 | P8: =SUM(D8:O8) -> 78877589
A9: 4 | B9: Dologi kiadások | C9: ='18'!C8 -> 239747771 | D9: =C9/12 -> 19978981 | E9: =C9/12 -> 19978981 | F9: =C9/12 -> 19978981 | G9: =C9/12 -> 19978981 | H9: =C9/12 -> 19978981 | I9: =C9/12 -> 19978981 | J9: =C9/12 -> 19978981 | K9: =C9/12 -> 19978981 | L9: =C9/12 -> 19978981 | M9: =C9/12 -> 19978981 | N9: =C9/12 -> 19978981 | O9: =C9/12 -> 19978981 | P9: =SUM(D9:O9) -> 2.3974777e+08
A10: 5 | B10: Ellátottak pénzbeli juttatásai | C10: ='18'!C17 -> 12000000 | D10: =C10/12 -> 1000000 | E10: =C10/12 -> 1000000 | F10: =C10/12 -> 1000000 | G10: =C10/12 -> 1000000 | H10: =C10/12 -> 1000000 | I10: =C10/12 -> 1000000 | J10: =C10/12 -> 1000000 | K10: =C10/12 -> 1000000 | L10: =C10/12 -> 1000000 | M10: =C10/12 -> 1000000 | N10: =C10/12 -> 1000000 | O10: =C10/12 -> 1000000 | P10: =SUM(D10:O10) -> 12000000
