Workbook

Sheet 1.a
A1: Berhida Város Önkormányzata | E1: 1.a melléklet
A2: állami támogatások részletezése | E2: a 9/2017. (V.31.) önkormányzati rendelethez
A3: 2016. évi költségvetés | I3: Ft-ban
C4: 2015 | E4: 2015 | G4: 2016 | I4: 2016 | J4: beszámítás
B5: Rovatrend | E5: Forint | I5: Forint
A6: Önkormányzatok működési támogatásai | E6: =E7+E16+E27+E45+E47 -> 383440798 | I6: =I7+I16+I27+I45+I49 -> 3.5255909e+08
A7: 1.)Helyi önkormányzatok működésének általános támogatása | B7: B111 | E7: =SUM(E8:E15) -> 139174406 | F7: =SUM(F8:F15) -> -10633291 | I7: =SUM(I8:I15) -> 114837274 | J7: =SUM(J8:J15) -> -36817510
A8: Önkormányzati hivatal működésének támogatása | C8: 4580000 | D8: 22.3 | E8: 102134000 | G8: 4580000 | H8: 22.24 | I8: =G8*H8 -> 101859200
A9: Település üzemeltetés: zöldterület-gazdálkodás | C9: 22300 | E9: 8964553 | G9: 22300 | I9: 0 | J9: -8964600
A10: közvilágítás fenntartása | C10: 320000 | E10: 14880000 | G10: 320000 | I10: 3520940 | J10: -11359060
A11: köztemető fenntartással kapcs fel | C11: 69 | E11: 1775094 | G11: 69 | I11: 3660519
A12: közutak fenntartásának támog | C12: 227000 | E12: 5448000 | G12: 227000 | I12: 5448000
A13: Egyéb kötelező önkormányzati feladatok | C13: 2700 | E13: 5761109 | F13: -10633291 | G13: 2700 | I13: 0 | J13: -16302600
A14: Lakott külterülettel kapcs feladatok | E14: 211650 | I14: 0 | J14: -191250
A15: 2015. évről áthúzódó bérkompenzáció | I15: 348615
A16: 2.)Települési önkorm. Egyes köznevelési feladatainak támoga | B16: B112 | E16: =SUM(E17:E26) -> 122000800 | I16: =SUM(I17:I26) -> 1.3109249e+08 | J16: =SUM(J17:J26) -> 0
A17: óvodapedagógusok bértámogatása 8 hó | C17: 4152000 | D17: 20.1 | E17: 55636800 | G17: 4308000 | H17: 20.5 | I17: =G17*H17*8/12 -> 58876000
A18: óvodaped munkáját közvetlenül segítők bértámogatása 8 hó | C18: 1800000 | D18: 11 | E18: 13200000 | G18: 1800000 | H18: 11 | I18: 13200000
A19: óvodapedagógusok bértámogatása 4 hó | C19: 4152000 | D19: 20 | E19: 27680000 | G19: 4308000 | H19: 19.5 | I19: =G19*H19*4/12 -> 28002000
A20: óvodaped munkáját közvetlenül segítők bértámogatása 4 hó | C20: 1800000 | D20: 11 | E20: 6600000 | G20: 1800000 | H20: 11 | I20: 6600000
A21: óvodapedagógusok bértámog KIEGÉSZÍTÉS 3 hó | C21: 35000 | D21: 20 | E21: 700000 | G21: 35000 | H21: 19.5 | I21: =G21*H21 -> 682500
A22: Óvoda működtetési támogatás 8 hó | C22: 70000 | D22: 218 | E22: 10173333 | G22: 80000 | H22: 220 | I22: =G22*H22*8/12 -> 11733333
A23: Óvoda működtetési támogatás 4 hó | C23: 70000 | D23: 218 | E23: 5086667 | G23: 80000 | H23: 206 | I23: 5493333
A24: Kieg tám. Óv pedag minősítéséhez II. kategóriába sorolt | D24: 1 | E24: 352000 | G24: 384000 | H24: 2 | I24: 768000
A25: Mesterped kategóriába sorolt | D25: 2 | E25: 2572000 | G25: 1415000 | H25: 2 | I25: 2805820
A26: Köznevelési intézmények m űködt kapcs támogatás | H26: 2 | I26: 2931500
A27: 3.) Tel önk szociális, gyermekjóléti és gyermekétk fel tám | B27: B113 | E27: =SUM(E29:E44) -> 115343512 | I27: =SUM(I29:I44) -> 96316402
A29: gyermekétkeztetés szempontjából elismert dolgozók bértámog | C29: 1632000 | D29: 11.48 | E29: 18735360 | G29: 1632000 | H29: 10.8 | I29: =G29*H29 -> 17625600
A30: gyermekétkeztetés üzemeltetési támogatása | E30: 31817928 | I30: 33734757
A31: szünidei gyermekétkeztetés | I31: 4709438
A32: Hozzájárulás pénzbeli szociális ellátásokhoz | E32: 47687090 | I32: 24825395
A33: Bölcsődei ellátás | C33: 494100 | D33: 8 | E33: 3952800 | G33: 494100 | H33: 8 | I33: =G33*H33 -> 3952800
A34: bölcsődei ellátás hátrányos helyzetű gyermek | C34: 518805 | G34: 518805 | H34: 1 | I34: =G34*H34 -> 518805
A35: Családsegítés B: 6118 Vi: 662 = 6780 fő (6072,671) | C35: 3950000 | D35: 6743 | E35: 2663485 | G35: 3950000 | H35: 6743
A36: gyermekjóléti szolgálat | C36: 3950000 | D36: 6743 | E36: 2663485 | G36: 3950000 | H36: 6743
A37: Családsegítés Kiegészítő támog. | C37: 300 | E37: 2022900 | G37: 300
A38: gyermekjóléti szolg. Kiegészítő támog. 0-17 B: 1292 Vi: 128 | C38: 1200 | E38: 1668000 | G38: 1200
A39: Családsegítés és gyermekjóléti szolgáltatás | I39: 3900000
A40: szociális étkeztetés | C40: 60896 | D40: 34 | E40: 2070464 | G40: 60896 | H40: 18 | I40: =G40*H40 -> 1096128
A41: házi segítségnyújtás | C41: 188500 | D41: 4 | E41: 754000 | G41: 188500 | H41: 4 | I41: =G41*H41 -> 754000
...

Sheet 1b
B1: Berhida Város Önkormányzata | D1: 1.b. melléklet
B2: 2016. évi költségvetés | D2: a 9/2017. (V.31.) önkormányzati rendelethez
B3: Bevételek | D3: adatok ezer Ft-ban
B5: Módosított előirányzat | D5: Összesen | E5: Önkorm | F5: Hivatal | G5: TESZ | H5: Süni | I5: Kultúrház
A6: Sor- szám | B6: Rovat megnevezése | C6: Rovat száma | D6: Módosított ei | E6: Módosított ei | F6: Módosított ei | G6: Módosított ei | H6: Módosított ei | I6: Módosított ei
A7: 1. | B7: 2. | C7: 3. | D7: 4. | E7: 5. | F7: 6. | G7: 7. | H7: 8. | I7: 9.
A8: 01 | B8: Helyi önkormányzatok működésének általános támogatása | C8: B111 | D8: =SUM(E8:I8) -> 114837 | E8: 114837
A9: 02 | B9: Települési önkormányzatok egyes köznevelési feladatainak támogatása | C9: B112 | D9: =SUM(E9:I9) -> 131092 | E9: 131092
A10: 03 | B10: Tel önkorm szociális és gyermekjóléti, gyermekétk feladatainak támogatása | C10: B113 | D10: =SUM(E10:I10) -> 96316 | E10: 96316
A11: 04 | B11: Települési önkormányzatok kulturális feladatainak támogatása | C11: B114 | D11: =SUM(E11:I11) -> 7206 | E11: 7206
A12: 05 | B12: Működési célú költségvetési támogatások és kiegészítő támogatások | C12: B115 | D12: =SUM(E12:I12) -> 3108 | E12: 3108
A13: 06 | B13: Elszámolásból származó bevételek | C13: B116 | D13: =SUM(E13:I13) -> 0
A14: 07 | B14: Önkormányzatok működési támogatásai | C14: B11 | D14: =SUM(E14:I14) -> 352559 | E14: =SUM(E8:E13) -> 352559 | F14: =SUM(F8:F13) -> 0 | G14: =SUM(G8:G13) -> 0 | H14: =SUM(H8:H13) -> 0 | I14: =SUM(I8:I13) -> 0
A15: 08 | B15: Elvonások és befizetések bevételei | C15: B12 | D15: =SUM(E15:I15) -> 0
A16: 09 | B16: Működési célú garancia- és kezességvállalásból származó megtérülések államháztartáson belülről | C16: B13 | D16: =SUM(E16:I16) -> 0
A17: 10 | B17: Működési célú visszatérítendő támogatások, kölcsönök visszatérülése államháztartáson belülről | C17: B14 | D17: =SUM(E17:I17) -> 0
A18: 11 | B18: Működési célú visszatérítendő támogatások, kölcsönök igénybevétele államháztartáson belülről | C18: B15 | D18: =SUM(E18:I18) -> 0
A19: 12 | B19: Egyéb működési célú támogatások bevételei államháztartáson belülről | C19: B16 | D19: =SUM(E19:I19) -> 105831 | E19: =SUM(E20:E26) -> 21462 | F19: =SUM(F20:F26) -> 1223 | G19: =SUM(G20:G26) -> 82052 | H19: =SUM(H20:H26) -> 1094 | I19: =SUM(I20:I26) -> 0
B20: - ebből központi költségvetési szervek | C20: B161 | D20: =SUM(E20:I20) -> 0
B21: - ebből Társadalombiztosítási Alapok | C21: B162 | D21: =SUM(E21:I21) -> 14218 | E21: 14218
B22: - ebből elkülönített állami alapok (MUNKAÜGYI KP közfoglalk) | C22: B163 | D22: =SUM(E22:I22) -> 83146 | G22: 82052 | H22: 1094
B23: - ebből helyi önkormányzatok és költségvetési szerveik | C23: B164 | D23: =SUM(E23:I23) -> 0
B24: - ebből társulások és költségvetési szerveik | C24: B165 | D24: =SUM(E24:I24) -> 0
B25: - ebből nemzetiségi önkormányzatok és költségvetési szerveik | C25: B166 | D25: =SUM(E25:I25) -> 0
B26: - ebből fejezeti kezelésű | C26: B167 | D26: =SUM(E26:I26) -> 8467 | E26: 7244 | F26: 1223
A27: 13 | B27: Működési célú támogatások államháztartáson belülről | C27: B1 | D27: =SUM(E27:I27) -> 458390 | E27: =SUM(E14:E19) -> 374021 | F27: =SUM(F14:F19) -> 1223 | G27: =SUM(G14:G19) -> 82052 | H27: =SUM(H14:H19) -> 1094 | I27: =SUM(I14:I19) -> 0
A28: 14 | B28: Felhalmozási célú önkormányzati támogatások | C28: B21 | D28: =SUM(E28:I28) -> 181211 | E28: 181211
A29: 15 | B29: Felhalmozási célú garancia- és kezességvállalásból származó megtérülések államháztartáson belülről | C29: B22 | D29: =SUM(E29:I29) -> 0
A30: 16 | B30: Felhalmozási célú visszatérítendő támogatások, kölcsönök visszatérülése államháztartáson belülről | C30: B23 | D30: =SUM(E30:I30) -> 0
A31: 17 | B31: Felhalmozási célú visszatérítendő támogatások, kölcsönök igénybevétele államháztartáson belülről | C31: B24 | D31: =SUM(E31:I31) -> 0
A32: 18 | B32: Egyéb felhalmozási célú támogatások bevételei államháztartáson belülről | C32: B25 | D32: =SUM(E32:I32) -> 44 | H32: 44
A33: 19 | B33: Felhalmozási célú támogatások államháztartáson belülről | C33: B2 | D33: =SUM(E33:I33) -> 181255 | E33: =SUM(E28:E32) -> 181211 | F33: =SUM(F28:F32) -> 0 | G33: =SUM(G28:G32) -> 0 | H33: =SUM(H28:H32) -> 44 | I33: =SUM(I28:I32) -> 0
A34: 20 | B34: Magánszemélyek jövedelemadói | C34: B311 | D34: =SUM(E34:I34) -> 0
A35: 21 | B35: Társaságok jövedelemadói | C35: B312 | D35: =SUM(E35:I35) -> 0
A36: 22 | B36: Jövedelemadók | C36: B31 | D36: =SUM(E36:I36) -> 0 | E36: =SUM(E34:E35) -> 0 | F36: =SUM(F34:F35) -> 0 | G36: =SUM(G34:G35) -> 0 | H36: =SUM(H34:H35) -> 0 | I36: =SUM(I34:I35) -> 0
A37: 23 | B37: Szociális hozzájárulási adó és járulékok | C37: B32 | D37: =SUM(E37:I37) -> 0
A38: 24 | B38: Bérhez és foglalkoztatáshoz kapcsolódó adók | C38: B33 | D38: =SUM(E38:I38) -> 0
A39: 25 | B39: Vagyoni tipusú adók | C39: B34 | D39: =SUM(E39:I39) -> 91747 | E39: 91747
A40: 26 | B40: Értékesítési és forgalmi adók | C40: B351 | D40: =SUM(E40:I40) -> 187900 | E40: 187900
A41: 27 | B41: Fogyasztási adók | C41: B352 | D41: =SUM(E41:I41) -> 0
...

Sheet 1c
B1: Berhida Város Önkormányzata | C1: 2.e. melléklet
B2: 2016. évi költségvetés | C2: a 9/2017. (V.31.) önkormányzati rendelethez
B3: Bevételek | C3: adatok Ft-ban
B5: Teljesítés 12.31. | D5: Összesen | E5: Önkorm | F5: Hivatal | G5: TESZ | H5: Süni | I5: Kultúrház
A6: Sor- szám | B6: Rovat megnevezése | C6: Rovat száma | D6: Teljesítés | E6: Teljesítés | F6: Teljesítés | G6: Teljesítés | H6: Teljesítés | I6: Teljesítés
A7: 1. | B7: 2. | C7: 3. | D7: 4. | E7: 5. | F7: 6. | G7: 7. | H7: 8. | I7: 9.
A8: 01 | B8: Helyi önkormányzatok működésének általános támogatása | C8: B111 | D8: =SUM(E8:I8) -> 114837274 | E8: 114837274
A9: 02 | B9: Települési önkormányzatok egyes köznevelési feladatainak támogatása | C9: B112 | D9: =SUM(E9:I9) -> 131092486 | E9: 131092486
A10: 03 | B10: Tel önkorm szociális és gyermekjóléti, gyermekétk feladatainak támogatása | C10: B113 | D10: =SUM(E10:I10) -> 96316402 | E10: 96316402
A11: 04 | B11: Települési önkormányzatok kulturális feladatainak támogatása | C11: B114 | D11: =SUM(E11:I11) -> 7205360 | E11: 7205360
A12: 05 | B12: Működési célú költségvetési támogatások és kiegészítő támogatások | C12: B115 | D12: =SUM(E12:I12) -> 3107563 | E12: 3107563
A13: 06 | B13: Elszámolásból származó bevételek | C13: B116 | D13: =SUM(E13:I13) -> 0
A14: 07 | B14: Önkormányzatok működési támogatásai | C14: B11 | D14: =SUM(E14:I14) -> 352559085 | E14: =SUM(E8:E13) -> 352559085 | F14: =SUM(F8:F13) -> 0 | G14: =SUM(G8:G13) -> 0 | H14: =SUM(H8:H13) -> 0 | I14: =SUM(I8:I13) -> 0
A15: 08 | B15: Elvonások és befizetések bevételei | C15: B12 | D15: =SUM(E15:I15) -> 0
A16: 09 | B16: Működési célú garancia- és kezességvállalásból származó megtérülések államháztartáson belülről | C16: B13 | D16: =SUM(E16:I16) -> 0
A17: 10 | B17: Működési célú visszatérítendő támogatások, kölcsönök visszatérülése államháztartáson belülről | C17: B14 | D17: =SUM(E17:I17) -> 0
A18: 11 | B18: Működési célú visszatérítendő támogatások, kölcsönök igénybevétele államháztartáson belülről | C18: B15 | D18: =SUM(E18:I18) -> 0
A19: 12 | B19: Egyéb működési célú támogatások bevételei államháztartáson belülről | C19: B16 | D19: =SUM(E19:I19) -> 108495470 | E19: =SUM(E20:E26) -> 19696300 | F19: =SUM(F20:F26) -> 1415281 | G19: =SUM(G20:G26) -> 86382791 | H19: =SUM(H20:H26) -> 1001098 | I19: =SUM(I20:I26) -> 0
B20: - ebből központi költségvetési szervek | C20: B161 | D20: =SUM(E20:I20) -> 0
B21: - ebből Társadalombiztosítási Alapok | C21: B162 | D21: =SUM(E21:I21) -> 14203100 | E21: 14203100
B22: - ebből elkülönített állami alapok (MUNKAÜGYI KP közfoglalk) | C22: B163 | D22: =SUM(E22:I22) -> 87383889 | G22: 86382791 | H22: 1001098
B23: - ebből helyi önkormányzatok és költségvetési szerveik | C23: B164 | D23: =SUM(E23:I23) -> 0
B24: - ebből társulások és költségvetési szerveik | C24: B165 | D24: =SUM(E24:I24) -> 0
B25: - ebből nemzetiségi önkormányzatok és költségvetési szerveik | C25: B166 | D25: =SUM(E25:I25) -> 0
B26: - ebből fejezeti kezelésű | C26: B167 | D26: =SUM(E26:I26) -> 6908481 | E26: 5493200 | F26: 1415281
A27: 13 | B27: Működési célú támogatások államháztartáson belülről | C27: B1 | D27: =SUM(E27:I27) -> 461054555 | E27: =SUM(E14:E19) -> 372255385 | F27: =SUM(F14:F19) -> 1415281 | G27: =SUM(G14:G19) -> 86382791 | H27: =SUM(H14:H19) -> 1001098 | I27: =SUM(I14:I19) -> 0
A28: 14 | B28: Felhalmozási célú önkormányzati támogatások | C28: B21 | D28: =SUM(E28:I28) -> 184222915 | E28: 181210765 | G28: 2977150 | H28: 35000
A29: 15 | B29: Felhalmozási célú garancia- és kezességvállalásból származó megtérülések államháztartáson belülről | C29: B22 | D29: =SUM(E29:I29) -> 0
A30: 16 | B30: Felhalmozási célú visszatérítendő támogatások, kölcsönök visszatérülése államháztartáson belülről | C30: B23 | D30: =SUM(E30:I30) -> 0
A31: 17 | B31: Felhalmozási célú visszatérítendő támogatások, kölcsönök igénybevétele államháztartáson belülről | C31: B24 | D31: =SUM(E31:I31) -> 0
A32: 18 | B32: Egyéb felhalmozási célú támogatások bevételei államháztartáson belülről | C32: B25 | D32: =SUM(E32:I32) -> 0
A33: 19 | B33: Felhalmozási célú támogatások államháztartáson belülről | C33: B2 | D33: =SUM(E33:I33) -> 184222915 | E33: =SUM(E28:E32) -> 181210765 | F33: =SUM(F28:F32) -> 0 | G33: =SUM(G28:G32) -> 2977150 | H33: =SUM(H28:H32) -> 35000 | I33: =SUM(I28:I32) -> 0
A34: 20 | B34: Magánszemélyek jövedelemadói | C34: B311 | D34: =SUM(E34:I34) -> 0
A35: 21 | B35: Társaságok jövedelemadói | C35: B312 | D35: =SUM(E35:I35) -> 0
A36: 22 | B36: Jövedelemadók | C36: B31 | D36: =SUM(E36:I36) -> 0 | E36: =SUM(E34:E35) -> 0 | F36: =SUM(F34:F35) -> 0 | G36: =SUM(G34:G35) -> 0 | H36: =SUM(H34:H35) -> 0 | I36: =SUM(I34:I35) -> 0
A37: 23 | B37: Szociális hozzájárulási adó és járulékok | C37: B32 | D37: =SUM(E37:I37) -> 0
A38: 24 | B38: Bérhez és foglalkoztatáshoz kapcsolódó adók | C38: B33 | D38: =SUM(E38:I38) -> 0
A39: 25 | B39: Vagyoni tipusú adók | C39: B34 | D39: =SUM(E39:I39) -> 104327726 | E39: 104327726
A40: 26 | B40: Értékesítési és forgalmi adók | C40: B351 | D40: =SUM(E40:I40) -> 196139163 | E40: 196139163
A41: 27 | B41: Fogyasztási adók | C41: B352 | D41: =SUM(E41:I41) -> 0
...

Sheet 2a
B1: Berhida Város Önkormányzata | C1: 2/a. melléklet
B2: 2016. évi költségvetés | C2: a 9/2017. (V.31.) önkormányzati rendelethez
B3: Kiadások
D4: adatok ezer Ft-ban | E4: adatok Ft-ban
A5: Felújítások | C5: Eredeti előir | D5: Mód ei | E5: Teljesítés 12.31
A6: 1 | B6: ÖNK út-járda felújítások adosságkonsz pály +műsz ell kv-i m, | C6: 99547 | D6: 103593 | E6: 103592805
A7: 2 | B7: ÖNK Süni óvoda tető felújítás adósságkonsz pály+kieg kv-i m | C7: 33766 | D7: 29720
A8: 3 | B8: ÖNK intézményi felújításokhoz kapcs tervek kv-i m | C8: 3000 | D8: 3000 | E8: 1139760
A9: 4 | B9: ÖNK Mesteriskola pályázat tervek kv-i m | C9: 2000 | D9: 2000 | E9: 2000000
A10: 5 | B10: ÖNK Kossuth u. 26. szolg.Lakás nyílászáró,homlokzat II.ütem | C10: 2847 | D10: 4232 | E10: 4143288
A11: 6 | B11: ÖNK Süni Óvoda nyílászáró csere kv-i m | C11: 475 | D11: 475 | E11: 475447
A12: 7 | B12: ÖNK Hétszín Óvoda átalakítási, felúj enged és kivit terv kv-i m | C12: 3994 | D12: 3994 | E12: 3994150
A13: 8 | B13: ÖNK Hétszín Óvoda konyhatechnológiai terv kv-i m | C13: 330 | D13: 330 | E13: 330200
A14: 9 | B14: ÖNK Kiskovácsi szennyvízátemelő szivattyú csere | C14: 767 | D14: 767 | E14: 766845
A15: 10 | B15: ÖNK hulladékudvar kerítés felújítás kv-i mar | C15: 500 | D15: 500
A16: 11 | B16: ÖNK Önk Hivatal vizesblokk felújítás kv-i mar | C16: 5200 | D16: 3670 | E16: 2837716
A17: 12 | B17: ÖNK Pgytp Orgona u. 1/1 üzlet burkolási munkák | C17: 12 | D17: 12 | E17: 12340
A18: 13 | B18: TESZ jármű felújítás | C18: 254 | D18: 0
A19: 14 | B19: ÖH informatikai eszköz felújítás | C19: 381 | D19: 381 | E19: 42635
A20: 15 | B20: ÖH egyéb gép, berendezés felújítás | C20: 127 | D20: 127
A21: 16 | B21: ÖNK Hétszínv bölcsőde műk eng.kerítés, homokozó | D21: 2250 | E21: 2171668
A22: 17 | B22: ÖNK térfigyelő kamerák felújítása | D22: 0
A23: 18 | B23: ÖNK Kossuth u. 26. szolg. Lakás nyílászáró csere, kémény | D23: 0
A24: 19 | B24: ÖNK Ady tanári szoba gipsz karton fal | D24: 200 | E24: 184924
A25: 20 | B25: ÖNK Ady régi isk vizesblokk felújítás | D25: 1611 | E25: 504800
A26: 21 | B26: ÖNK Rezeda 19. szolg. Lakás parkettázás, beázás | D26: 297 | E26: 295864
A27: 22 | B27: ÖNK kultúrház homlokzat felújítás | D27: 969 | E27: 968886
A28: 23 | B28: ÖNK Pgytp 1848-49 emlékmű felújítás | D28: 2000
A29: 24 | B29: ÖNK Arany J u. felújítás süllyedés, kereszteződés | D29: 1600 | E29: 1486155
A30: 25 | B30: ÖNK járdalapos járdák felújítása Dankó u… | D30: 0
A31: 26 | B31: ÖNK Orgona-Szegfű utca útkereszteződés felújítás | D31: 3731 | E31: 3730498
A32: 27 | B32: ÖNK Süni Óvoda 6 cs szoba parkettázés műk. Enged. | D32: 3447 | E32: 3442744
A33: 28 | B33: ÖNK Süni Óvoda ablakcsere | D33: 2400 | E33: 2370425
A34: 29 | B34: ÖNK Süni Óvoda konyha-nevelő hely. Közötti tető felúj | D34: 613 | E34: 611334
A35: 30 | B35: ÖNK Ibolya u. 23. szolg. Lakás redőny elhelyezés | D35: 65 | E35: 64900
A36: 31 | B36: ÖNK ép. Villamos főelosztó-szekrény, mérőhely szabványosítás | D36: 1759 | E36: 1758925
A37: 32 | B37: TESZ egyéb gép, berendezés felújítás (közf) | D37: 254 | E37: 154530
A38: 33 | B38: ÖNK Vis maior József A u. Cinca patak áteresz csere | D38: 4116 | E38: 4115194
A39: 34 | B39: ÖNK Berhida III. József A u.átemelőszennyv szivattyú HKA | D39: 604
A40: 35 | B40: ÖNK Ady Informatika terem felújítás | D40: 200 | E40: 195574
...

Sheet 2b
B1: Berhida Város Önkormányzata | C1: 2/b. melléklet
B2: 2016. évi költségvetés | C2: a 9/2017. (V.31.) önkormányzati rendelethez
B3: Kiadások
D4: adatok ezer Ft-ban | E4: adatok Ft-ban
A5: Beruházások | C5: Eredeti előir | D5: Mód ei | E5: Teljesítés 12.31
A6: 1 | B6: ÖNK út-járda felújítások adosságkonsz pály +műsz ell kv-i m | C6: 50042 | D6: 39508 | E6: 39507751
A7: 2 | B7: ÖNK intézményi beruházásokhoz kapcs tervek kv-i m | C7: 3000 | D7: 2999 | E7: 1242200
A8: 3 | B8: ÖNK városközpont zöldpark kial munk, tervek kv-i m | C8: 1217 | D8: 1217 | E8: 1217000
A9: 4 | B9: ÖNK integrált településfejlesztési stratégia kv-i m | C9: 2540 | D9: 2540 | E9: 2540000
A10: 5 | B10: ÖNK elkerülő út eng-kiviteli terv kv-i m | C10: 953 | D10: 953 | E10: 952500
A11: 6 | B11: ÖNK Veszprémi-Orgona út között telkek villamosterv kv-i m | C11: 499 | D11: 499
A12: 7 | B12: ÖNK köznevelési intézmények egyéb eszközbeszerzés kv-i m | C12: 508 | D12: 108 | E12: 48514
A13: 8 | B13: ÖNK védőnői szolg. Egyéb eszközbeszerzés kv-i m | C13: 127 | D13: 427 | E13: 112743
A14: 9 | B14: ÖNK TESZ telephely vásárlás | C14: 7900 | D14: 10000
A15: 10 | B15: ÖNK Pgytp üzletsor mellett vízmérő kialakítási munkák k-vi mar | C15: 344 | D15: 345 | E15: 345378
A16: 11 | B16: ÖH imm javak + áfa | C16: 1143 | D16: 554 | E16: 255689
A17: 12 | B17: TESZ imm javak +áfa | C17: 330 | D17: 339
A18: 13 | B18: TESZ egyéb tárgyi eszközök beszerz (mód)út-híd egyéb gép | C18: 3708 | D18: 739 | E18: 480004
A19: 14 | B19: Süni inform eszköz + áfa | C19: 203 | D19: 51 | E19: 39999
A20: 15 | B20: Kultúrház egyéb tárgyi eszköz, polc, hangtechnika stb | C20: 22 | D20: 1862 | E20: 1861976
A21: 16 | B21: Kultúrház egyéb tárgyi eszköz | C21: 254 | D21: 479 | E21: 422910
A22: 17 | B22: Kultúrház könyv beszerzés (éven túli) | C22: 347 | D22: 959 | E22: 939268
A23: 18 | B23: Kultúrház informatikai eszköz beszerzés+áfa | D23: 433 | E23: 431990
A24: 19 | B24: Süni Óvoda konyhai robotgép | D24: 703 | E24: 702945
A25: 20 | B25: Süni egyéb tárgyi eszköz + áfa | D25: 812 | E25: 811523
A26: 21 | B26: TESZ informatikai eszközök+áfa | D26: 591 | E26: 57023
A27: 22 | B27: TESZ padok beszerzése (egyéb te+áfa) zöldter | D27: 680 | E27: 559943
A28: 23 | B28: TESZ szekrény, berend beszerzés + áfa | D28: 200
A29: 24 | B29: TESZ B1 kút üzembehelyezése | D29: 450
A30: 25 | B30: ÖH digitális temetőtérkép nyt program | D30: 1321 | E30: 1092200
A31: 26 | B31: ÖH informatikai eszközök + áfa | D31: 2835 | E31: 1015688
A32: 27 | B32: ÖH egyéb gép, berend + áfa | D32: 739 | E32: 707683
A33: 28 | B33: ÖNK önkormányzati WEB lap készítés | D33: 663
A34: 29 | B34: ÖNK hulladékudvar kiszolgáló épület építés | D34: 2100 | E34: 1928293
A35: 30 | B35: ÖNK Ady sportpálya ivókút beszerzés | D35: 150 | E35: 133782
A36: 31 | B36: ÖNK Ady sportpálya alkonykapcsoló, kamera | D36: 0
A37: 32 | B37: ÖNK Péti úti temető urnafal építés | D37: 700 | E37: 512699
A38: 33 | B38: ÖNK Hivatal, Családsegítő KP, TESZ klíma kiépítés | D38: 6841 | E38: 6737627
A39: 34 | B39: ÖNK Arany J. -Dankó u. kerítés építés (régi játszótér) | D39: 0
A40: 35 | B40: ÖNK napelemes közvilágítási lámpák beszerzése | D40: 960 | E40: 935029
...

Sheet 2d
B1: Berhida Város Önkormányzata | C1: 2.d. melléklet
B2: 2016. évi költségvetés | C2: a 9/2017. (V.31.) önkormányzati rendelethez
B3: Kiadások | C3: adatok ezer Ft-ban
B5: Módosított előirányzat | D5: ÖSSZESEN | E5: Önkorm | F5: Hivatal | G5: TESZ | H5: Süni | I5: Kultúrház
A6: Sor- szám | B6: Rovat megnevezése | C6: Rovat száma | D6: Mód ei | E6: Mód ei | F6: Mód ei | G6: Mód ei | H6: Mód ei | I6: Mód ei
A7: 1. | B7: 2. | C7: 3. | D7: 4. | E7: 5. | F7: 6. | G7: 7. | H7: 8. | I7: 9.
A8: 1 | B8: Személyi juttatások | C8: K1 | D8: =SUM(E8:I8) -> 354280 | E8: 31084 | F8: 105436 | G8: 124659 | H8: 73606 | I8: 19495
A9: 2 | B9: Munkaadókat terhelő járulékok és szociális hozzájárulási adó | C9: K2 | D9: =SUM(E9:I9) -> 88297 | E9: 9476 | F9: 30021 | G9: 23304 | H9: 20122 | I9: 5374
A10: 3 | B10: Dologi kiadások | C10: K3 | D10: =SUM(E10:I10) -> 283439 | E10: 88821 | F10: 29450 | G10: 91068 | H10: 44937 | I10: 29163
A11: 4 | B11: Társadalombiztosítási ellátások | C11: K41 | D11: =SUM(E11:I11) -> 0
A12: 5 | B12: Családi támogatások | C12: K42 | D12: =SUM(E12:I12) -> 5493 | E12: 5493
A13: 6 | B13: Pénzbeli kárpótlások, kártérítések | C13: K43 | D13: =SUM(E13:I13) -> 0
A14: 7 | B14: Betegséggel kapcsolatos (nem társadalombiztosítási) ellátások | C14: K44 | D14: =SUM(E14:I14) -> 0
A15: 8 | B15: Foglalkoztatással, munkanélküliséggel kapcsolatos ellátások | C15: K45 | D15: =SUM(E15:I15) -> 0
A16: 9 | B16: Lakhatással kapcsolatos ellátások | C16: K46 | D16: =SUM(E16:I16) -> 0
A17: 10 | B17: Intézményi ellátottak pénzbeli juttatásai | C17: K47 | D17: =SUM(E17:I17) -> 2500 | E17: 2500
A18: 11 | B18: Egyéb nem intézményi ellátások | C18: K48 | D18: =SUM(E18:I18) -> 19500 | E18: 19500
A19: 12 | B19: Ellátottak pénzbeli juttatásai | C19: K4 | D19: =SUM(E19:I19) -> 27493 | E19: =SUM(E11:E18) -> 27493 | F19: =SUM(F11:F18) -> 0 | G19: =SUM(G11:G18) -> 0 | H19: =SUM(H11:H18) -> 0 | I19: =SUM(I11:I18) -> 0
A20: 13 | B20: Nemzetközi kötelezettségek | C20: K501 | D20: =SUM(E20:I20) -> 0
A21: 14 | B21: Elvonások és befizetések | C21: K502 | D21: =SUM(E21:I21) -> 66 | E21: 66
A22: 15 | B22: Működési célú garancia- és kezességvállalásból származó kifizetés államháztartáson belülre | C22: K503 | D22: =SUM(E22:I22) -> 0
A23: 16 | B23: Működési célú visszatérítendő támogatások, kölcsönök nyújtása államháztartáson belülre | C23: K504 | D23: =SUM(E23:I23) -> 0
A24: 17 | B24: Működési célú visszatérítendő támogatások, kölcsönök törlesztése államháztartáson belülre | C24: K505 | D24: =SUM(E24:I24) -> 0
A25: 18 | B25: Egyéb működési célú támogatások államháztartáson belülre | C25: K506 | D25: =SUM(E25:I25) -> 138513 | E25: =SUM(E26:E33) -> 138513 | F25: =SUM(F26:F33) -> 0 | G25: =SUM(G26:G33) -> 0 | H25: =SUM(H26:H33) -> 0 | I25: =SUM(I26:I33) -> 0
B26: - ebből központi költségvetési szervek | C26: K5061 | D26: =SUM(E26:I26) -> 0
B27: - ebből Társadalombiztosítási Alapok | C27: K5062 | D27: =SUM(E27:I27) -> 0
B28: - ebből elkülönített állami alapok | C28: K5063 | D28: =SUM(E28:I28) -> 0
B29: - ebből helyi önkormányzatok és költségvetési szerveik | C29: K5064 | D29: =SUM(E29:I29) -> 0
B30: - ebből társulások és költségvetési szerveik | C30: K50651 | D30: =SUM(E30:I30) -> 3510 | E30: 3510
B31: - ebből köznevelési társulásnak | C31: K50652 | D31: =SUM(E31:I31) -> 103247 | E31: 103247
B32: - ebből szociális társulásnak | C32: K50653 | D32: =SUM(E32:I32) -> 31256 | E32: 31256
B33: - ebből fejezeti kez közp Rendőrség tám | C33: K5066 | D33: =SUM(E33:I33) -> 500 | E33: 500
A34: 19 | B34: Működési célú garancia- és kezességvállalásból származó kifizetés államháztartáson kívülre | C34: K507 | D34: =SUM(E34:I34) -> 0
A35: 20 | B35: Működési célú visszatérítendő támogatások, kölcsönök nyújtása államháztartáson kívülre | C35: K508 | D35: =SUM(E35:I35) -> 0
A36: 21 | B36: Árkiegészítések, ártámogatások | C36: K509 | D36: =SUM(E36:I36) -> 0
A37: 22 | B37: Kamattámogatások | C37: K510 | D37: =SUM(E37:I37) -> 0
A38: 23 | B38: Egyéb működési célú támogatások államháztartáson kívülre | C38: K511 | D38: =SUM(E38:I38) -> 6522 | E38: 6522
A39: 24 | B39: Tartalékok | C39: K512 | D39: =SUM(E39:I39) -> 187423 | E39: 187423
A40: 25 | B40: Egyéb működési célú kiadások | C40: K5 | D40: =SUM(E40:I40) -> 332524 | E40: =E20+E21+E22+E23+E24+E25+E34+E35+E36+E37+E38+E39 -> 332524 | F40: =F20+F21+F22+F23+F24+F25+F34+F35+F36+F37+F38+F39 -> 0 | G40: =G20+G21+G22+G23+G24+G25+G34+G35+G36+G37+G38+G39 -> 0 | H40: =H20+H21+H22+H23+H24+H25+H34+H35+H36+H37+H38+H39 -> 0 | I40: =I20+I21+I22+I23+I24+I25+I34+I35+I36+I37+I38+I39 -> 0
A41: 26 | B41: Immateriális javak, vagy jogok beszerzése, létesítése | C41: K61 | D41: =SUM(E41:I41) -> 4265 | E41: 2522 | F41: 1476 | G41: 267
...

Sheet 2e
B1: Berhida Város Önkormányzata | C1: 2.e. melléklet
B2: 2016. évi költségvetés | C2: a 9/2017. (V.31.) önkormányzati rendelethez
B3: Kiadások | C3: adatok Ft-ban
B5: Teljesítés 12.31. | D5: ÖSSZESEN | E5: Önkorm | F5: Hivatal | G5: TESZ | H5: Süni | I5: Kultúrház
A6: Sor- szám | B6: Rovat megnevezése | C6: Rovat száma | D6: Teljesítés | E6: Teljesítés | F6: Teljesítés | G6: Teljesítés | H6: Teljesítés | I6: Teljesítés
A7: 1. | B7: 2. | C7: 3. | D7: 4. | E7: 5. | F7: 6. | G7: 7. | H7: 8. | I7: 9.
A8: 1 | B8: Személyi juttatások | C8: K1 | D8: =SUM(E8:I8) -> 331641700 | E8: 28592978 | F8: 100828866 | G8: 115293581 | H8: 68480592 | I8: 18445683
A9: 2 | B9: Munkaadókat terhelő járulékok és szociális hozzájárulási adó | C9: K2 | D9: =SUM(E9:I9) -> 83120167 | E9: 8063905 | F9: 27680180 | G9: 22360799 | H9: 19918815 | I9: 5096468
A10: 3 | B10: Dologi kiadások | C10: K3 | D10: =SUM(E10:I10) -> 208798067 | E10: 56557699 | F10: 20129197 | G10: 72168733 | H10: 34518915 | I10: 25423523
A11: 4 | B11: Társadalombiztosítási ellátások | C11: K41 | D11: =SUM(E11:I11) -> 0
A12: 5 | B12: Családi támogatások | C12: K42 | D12: =SUM(E12:I12) -> 5492600 | E12: 5492600
A13: 6 | B13: Pénzbeli kárpótlások, kártérítések | C13: K43 | D13: =SUM(E13:I13) -> 0
A14: 7 | B14: Betegséggel kapcsolatos (nem társadalombiztosítási) ellátások | C14: K44 | D14: =SUM(E14:I14) -> 0
A15: 8 | B15: Foglalkoztatással, munkanélküliséggel kapcsolatos ellátások | C15: K45 | D15: =SUM(E15:I15) -> 0
A16: 9 | B16: Lakhatással kapcsolatos ellátások | C16: K46 | D16: =SUM(E16:I16) -> 0
A17: 10 | B17: Intézményi ellátottak pénzbeli juttatásai | C17: K47 | D17: =SUM(E17:I17) -> 1859000 | E17: 1859000
A18: 11 | B18: Egyéb nem intézményi ellátások | C18: K48 | D18: =SUM(E18:I18) -> 6179123 | E18: 6179123
A19: 12 | B19: Ellátottak pénzbeli juttatásai | C19: K4 | D19: =SUM(E19:I19) -> 13530723 | E19: =SUM(E11:E18) -> 13530723 | F19: =SUM(F11:F18) -> 0 | G19: =SUM(G11:G18) -> 0 | H19: =SUM(H11:H18) -> 0 | I19: =SUM(I11:I18) -> 0
A20: 13 | B20: Nemzetközi kötelezettségek | C20: K501 | D20: =SUM(E20:I20) -> 0
A21: 14 | B21: Elvonások és befizetések | C21: K502 | D21: =SUM(E21:I21) -> 64660 | E21: 64660
A22: 15 | B22: Működési célú garancia- és kezességvállalásból származó kifizetés államháztartáson belülre | C22: K503 | D22: =SUM(E22:I22) -> 0
A23: 16 | B23: Működési célú visszatérítendő támogatások, kölcsönök nyújtása államháztartáson belülre | C23: K504 | D23: =SUM(E23:I23) -> 0
A24: 17 | B24: Működési célú visszatérítendő támogatások, kölcsönök törlesztése államháztartáson belülre | C24: K505 | D24: =SUM(E24:I24) -> 0
A25: 18 | B25: Egyéb működési célú támogatások államháztartáson belülre | C25: K506 | D25: =SUM(E25:I25) -> 128204038 | E25: =SUM(E26:E33) -> 128204038 | F25: =SUM(F26:F33) -> 0 | G25: =SUM(G26:G33) -> 0 | H25: =SUM(H26:H33) -> 0 | I25: =SUM(I26:I33) -> 0
B26: - ebből központi költségvetési szervek | C26: K5061 | D26: =SUM(E26:I26) -> 0
B27: - ebből Társadalombiztosítási Alapok | C27: K5062 | D27: =SUM(E27:I27) -> 0
B28: - ebből elkülönített állami alapok | C28: K5063 | D28: =SUM(E28:I28) -> 0
B29: - ebből helyi önkormányzatok és költségvetési szerveik | C29: K5064 | D29: =SUM(E29:I29) -> 0
B30: - ebből társulások és költségvetési szerveik | C30: K50651 | D30: =SUM(E30:I30) -> 1801182 | E30: 1801182
B31: - ebből köznevelési társulásnak | C31: K50652 | D31: =SUM(E31:I31) -> 95604208 | E31: 95604208
B32: - ebből szociális társulásnak | C32: K50653 | D32: =SUM(E32:I32) -> 30298648 | E32: 30298648
B33: - ebből fejezeti kez közp Rendőrség tám | C33: K5066 | D33: =SUM(E33:I33) -> 500000 | E33: 500000
A34: 19 | B34: Működési célú garancia- és kezességvállalásból származó kifizetés államháztartáson kívülre | C34: K507 | D34: =SUM(E34:I34) -> 0
A35: 20 | B35: Működési célú visszatérítendő támogatások, kölcsönök nyújtása államháztartáson kívülre | C35: K508 | D35: =SUM(E35:I35) -> 0
A36: 21 | B36: Árkiegészítések, ártámogatások | C36: K509 | D36: =SUM(E36:I36) -> 0
A37: 22 | B37: Kamattámogatások | C37: K510 | D37: =SUM(E37:I37) -> 0
A38: 23 | B38: Egyéb működési célú támogatások államháztartáson kívülre | C38: K511 | D38: =SUM(E38:I38) -> 3947720 | E38: 3947720
A39: 24 | B39: Tartalékok | C39: K512 | D39: =SUM(E39:I39) -> 0
A40: 25 | B40: Egyéb működési célú kiadások | C40: K5 | D40: =SUM(E40:I40) -> 132216418 | E40: =E20+E21+E22+E23+E24+E25+E34+E35+E36+E37+E38+E39 -> 132216418 | F40: =F20+F21+F22+F23+F24+F25+F34+F35+F36+F37+F38+F39 -> 0 | G40: =G20+G21+G22+G23+G24+G25+G34+G35+G36+G37+G38+G39 -> 0 | H40: =H20+H21+H22+H23+H24+H25+H34+H35+H36+H37+H38+H39 -> 0 | I40: =I20+I21+I22+I23+I24+I25+I34+I35+I36+I37+I38+I39 -> 0
A41: 26 | B41: Immateriális javak, vagy jogok beszerzése, létesítése | C41: K61 | D41: =SUM(E41:I41) -> 3356320 | E41: 2260000 | F41: 1061330 | I41: 34990
...

Sheet 3a
B1: Berhida Város Önkormányzata | C1: 3.a. melléklet
B2: 2016. évi költségvetés | C2: a 9/2017. (V.31.) önkormányzati rendelethez
C3: adatok Ft-ban
A4: 3/a - A helyi önkormányzatok kiegészítő támogatásainak és egyéb kötött felhasználású támogatásainak elszámolása
B5: Megnevezés | C5: A központi költségvetésből támogatásként rendelkezésre bocsátott összeg | D5: Az önkormányzat által az adott célra ténylegesen felhasznált összeg | E5: Az önkormányzat által fel nem használt, de a következő évben jogszerűen felhasználható összeg | F5: Eltérés (=3-4-5)
A6: 1 | B6: Közművelődési érdekeltségnövelő támogatás | C6: 169000 | D6: 169000 | E6: 0 | F6: 0
A7: 2 | B7: Adósságkonszolidációban nem részesült települési önkormányzatok fejlesztéseinek támogatása | C7: 181041765 | D7: 0 | E7: 181041765 | F7: 0
A8: 3 | B8: Helyi önkormányzatok felhalmozási célú költségvetési támogatásai összesen (=10+11+16+17+…+24) | C8: 181210765 | D8: 169000 | E8: 181041765 | F8: 0
A9: 4 | B9: Helyi önkormányzatok kiegészítő támogatásai összesen (=9+25+26+….+35) | C9: 181210765 | D9: 169000 | E9: 181041765 | F9: 0
A10: 5 | B10: A 2015. évről áthúzódó bérkompenzáció támogatása | C10: 348615 | D10: 348615 | E10: 0 | F10: 0
A11: 6 | B11: A köznevelési intézmények működtetéséhez kapcsolódó támogatás | C11: 2931500 | D11: 2931500 | E11: 0 | F11: 0
A12: 7 | B12: A települési önkormányzatok szociális feladatainak egyéb támogatása | C12: 24825395 | D12: 24825395 | E12: 0 | F12: 0
A13: 8 | B13: Szociális ágazati pótlék | C13: 1568028 | D13: 1525569 | E13: 0 | F13: 42459
A14: 9 | B14: Települési önkormányzatok nyilvános könyvtári és közművelődési feladatainak támogatása | C14: 6883320 | D14: 6883320 | E14: 0 | F14: 0
A15: 10 | B15: A települési önkormányzatok könyvtári célú érdekeltségnövelő támogatása | C15: 322040 | D15: 322040 | E15: 0 | F15: 0
A16: 11 | B16: Könyvtári, közművelődési és múzeumi feladatok támogatása (=42+…+50) | C16: 7205360 | D16: 7205360 | E16: 0 | F16: 0
A17: 12 | B17: 4. Szociális kiegészítő pótlék támogatása | C17: 2323451 | D17: 2323451 | E17: 0 | F17: 0
... A20: 15 | B20: Mindösszesen (=36+37+...+41+51+58+59+…+87) | C20: 223520677 | D20: 42436453 | E20: 181041765 | F20: 42459

Sheet 3b
B1: Berhida Város Önkormányzata | D1: 3.b. melléklet
B2: 2016. évi költségvetés | D2: a 9/2017. (V.31.) önkormányzati rendelethez
D3: adatok Ft-ban
A4: 3/b - Az önkormányzatok általános, köznevelési és szociális feladataihoz kapcsolódó támogatások elszámolása
B5: Megnevezés | C5: Költségvetési törvény alapján feladatátvétellel/feladatátadással korrigált támogatás | D5: Támogatás évközi változása - Május 15. | E5: Támogatás évközi változása - Október 1. | F5: Tényleges támogatás | G5: Évvégi eltérés (+,-) mutatószám szerinti támogatás (=6-(3+4+5)) | H5: A 05. űrlap alapján a támogatási jogcímhez kapcsolódó kormányzati funkció szerinti kiadások összege | I5: Az önkormányzat által az adott célra december 31-ig ténylegesen felhasznált összeg | J5: Többlettámogatás (ha a 7-6+9 >0, akkor 7-6+9; egyébként 0) | K5: Visszafizetési kötelezettség (ha a 7-6+9 <0, akkor 7-6+9 abszolútértéke; egyébként 0)
A6: 1 | B6: I.1. A települési önkormányzatok működésének támogatása (09 01 01 01 00) | C6: 114488659 | D6: 0 | E6: 0 | F6: 114488659 | G6: 0 | H6: 619854783 | I6: 114488659 | J6: 0 | K6: 0
A7: 2 | B7: I.2. Nem közművel összegyűjtött háztartási szennyvíz ártalmatlanítása (09 01 01 02 00) | C7: 0 | D7: 0 | E7: 0 | F7: 0 | G7: 0 | H7: 19330 | I7: 0 | J7: 0 | K7: 0
A8: 3 | B8: I.4. Határátkelőhelyek fenntartásának támogatása (09 01 01 04 00) | C8: 0 | D8: 0 | E8: 0 | F8: 0 | G8: 0 | H8: 41043145 | I8: 0 | J8: 0 | K8: 0
A9: 4 | B9: II. A települési önkormányzatok egyes köznevelési feladatainak támogatása, a II.4. jogcím kivételével (09 01 02 00 00) | C9: 127419820 | D9: 1074933 | E9: -333767 | F9: 127461420 | G9: -699566 | H9: 152420485 | I9: 127461420 | J9: 0 | K9: 699566
A10: 5 | B10: III.3. Egyes szociális és gyermekjóléti feladatok támogatása és III.7. Kiegészítő támogatás a bölcsődében foglalkoztatott, felsőfokú végzettségű kisgyermeknevelők béréhez (09 01 03 03 00) | C10: 11619888 | D10: 0 | E10: -90155 | F10: 12023833 | G10: 494100 | H10: 48610117 | I10: 12023833 | J10: 494100 | K10: 0
A11: 6 | B11: III.5. a) és b) Intézményi gyermekétkeztetés támogatása (09 01 03 05 00) | C11: 51061155 | D11: 2946362 | E11: -2647160 | F11: 51980517 | G11: 620160 | H11: 54160060 | I11: 51980517 | J11: 620160 | K11: 0
A12: 7 | B12: III.5. c) Rászoruló gyermekek szünidei étkeztetése (09 01 03 06 00) | C12: 4818380 | D12: 0 | E12: -108942 | F12: 4320282 | G12: -389156 | H12: 6736761 | I12: 4320282 | J12: 0 | K12: 389156
A13: 8 | B13: Összesen | C13: 309407902 | D13: 4021295 | E13: -3180024 | F13: 310274711 | G13: 25538 | H13: 922844681 | I13: 310274711 | J13: 1114260 | K13: 1088722

Sheet 3.c
B1: Berhida Város Önkormányzata | C1: 3.c. melléklet
B2: 2016. évi költségvetés | C2: a 9/2017. (V.31.) önkormányzati rendelethez
C3: adatok Ft-ban
A4: 3/c - A helyi önkormányzatok visszafizetési kötelezettsége, pótlólagos támogatása (Ávr. 111. §), és a jogtalan igénybevétele után fizetendő ügyleti kamata (Ávr. 112. §)
B5: Megnevezés | C5: Összeg
A6: 1 | B6: 2 | C6: 3
A7: 1 | B7: Ávr. 111. § a) szerinti valamennyi támogatás pótlólagos összege (11/C űrlap 12. sor 10. és 11. oszlopok figyelembe vétele mellett) | C7: 25538
A8: 2 | B8: A szociális ágazati pótlék összege és a szociális ágazati kiegészítő pótlék támogatása visszafizetendő összege (Ávr. 111. § h)) | C8: 42459
A9: 3 | B9: A 11.c űrlap 6. során elszámolt 2. melléklet II.5. az óvodapedagógusok minősítéséhez kapcsolódó támogatás összege | C9: 3573820
A10: 4 | B10: Kamatalapba számító rendelkezésre bocsátott támogatások összege (a 11/C űrlap 2,6,7,8,9,10 és 11. sor 3. oszlop értékeinek összege csökkentve ezen űrlap 10. és 14. sor 3. oszlop szerinti összegekkel) | C10: 191345423
A11: 5 | B11: Önkormányzat tőketartozása összesen (=1+3+…+9) | C11: 42459
A12: 6 | B12: A 25. sor szerinti tőketartozás 10032000-01031496 számlára fizetendő része (1+3+4+5+6-visszafizetendő vis maior támogatás+7+8+9) | C12: 42459
A13: 7 | B13: Önkormányzat visszafizetési kötelezettsége és fizetendő kamat összesen (=24+25) | C13: 42459
A14: 8 | B14: Önkormányzatot megillető pótlólagos támogatás (=2) | C14: 25538

Sheet 4.a
B1: Berhida Város Önkormányzata | C1: 4.a melléklet
B2: 2016. évi költségvetés | C2: a 9/2017. (V.31.) önkormányzati rendelethez
C3: adatok Ft-ban
A5: 4.a - Maradványkimutatás
B6: Megnevezés | C6: Összeg
A7: 1 | B7: 01 Alaptevékenység költségvetési bevételei | C7: 1021182495
A8: 2 | B8: 02 Alaptevékenység költségvetési kiadásai | C8: 995993050
A9: 3 | B9: I Alaptevékenység költségvetési egyenlege (=01-02) | C9: 25189445
A10: 4 | B10: 03 Alaptevékenység finanszírozási bevételei | C10: 1038649938
A11: 5 | B11: 04 Alaptevékenység finanszírozási kiadásai | C11: 473116242
A12: 6 | B12: II Alaptevékenység finanszírozási egyenlege (=03-04) | C12: 565533696
A13: 7 | B13: A) Alaptevékenység maradványa (=±I±II) | C13: 590723141
A14: 8 | B14: C) Összes maradvány (=A+B) | C14: 590723141
A15: 9 | B15: D) Alaptevékenység kötelezettségvállalással terhelt maradványa | C15: 475504164
A16: 10 | B16: E) Alaptevékenység szabad maradványa (=A-D) | C16: 115218977

Sheet 4.b
C1: Berhida Város Önkormányzata
C3: Maradványból történő feladatok finanszírozása | M3: 4.b melléklet
D4: 2016. évi | K4: a 9/2017. (V.31.) önkormányzati rendelethez
L5: adatok Ft-ban
B6: A | C6: B | D6: C | E6: D | F6: E | H6: F | I6: G | J6: I | K6: J | L6: K | M6: L | N6: M | O6: N
A7: 1 | C7: Működési | D7: SZJ | E7: Járulék | F7: Dologi | G7: Központi költségv elvonás, befiz | H7: Áht belül műk tám | I7: áht kív pe műk.c | J7: áht kív. Pe felhalm célú | K7: Felújítás | L7: Beruházás | M7: Tartalék | N7: finanszírozási kiad | O7: Összesen
A8: 2 | B8: Süni Óvoda | C8: =SUM(D8:F8) -> 4936891 | D8: =SUM(D9:D13) -> 2799700 | E8: =SUM(E9:E13) -> 616300 | F8: =SUM(F9:F13) -> 1520891 | G8: =SUM(G9:G13) -> 0 | H8: =SUM(H9:H13) -> 0 | I8: =SUM(I9:I13) -> 0 | J8: =SUM(J9:J13) -> 0 | K8: =SUM(K9:K13) -> 0 | ... N8: =SUM(N9:N13) -> 0 | O8: =SUM(C8)+SUM(H8:N8) -> 5077891 | P8: 5077891
A9: 3 | B9: bérkeret | C9: =SUM(D9:F9) -> 3346055 | D9: 2747700 | E9: 598355 | O9: =SUM(C9)+SUM(H9:N9) -> 3346055
A10: 4 | B10: 2016. decemberi erzsébet utalvány áthúzódó | C10: =SUM(D10:F10) -> 69945 | D10: 52000 | E10: 17945 | O10: =SUM(C10)+SUM(H10:N10) -> 69945
A11: 5 | B11: Süni kisértékű egyéb gép, berendezés + éfa | C11: =SUM(D11:F11) -> 0 | L11: 141000 | O11: =SUM(C11)+SUM(H11:N11) -> 141000
A12: 6 | B12: áfa befizetési köt áthúzódó | C12: =SUM(D12:F12) -> 1000891 | F12: 1000891 | O12: =SUM(C12)+SUM(H12:N12) -> 1000891
A13: 7 | B13: karbantartás + áfa | C13: =SUM(D13:F13) -> 520000 | F13: 520000 | O13: =SUM(C13)+SUM(H13:N13) -> 520000
A14: 8 | B14: Kultúrház és könyvtár | C14: =SUM(D14:F14) -> 1465483 | D14: =SUM(D15:D26) -> 525586 | E14: =SUM(E15:E26) -> 164311 | F14: =SUM(F15:F26) -> 775586 | G14: =SUM(G15:G26) -> 0 | H14: =SUM(H15:H26) -> 0 | I14: =SUM(I15:I26) -> 0 | J14: =SUM(J15:J26) -> 0 | K14: =SUM(K15:K26) -> 0 | ... N14: =SUM(N15:N26) -> 0 | O14: =SUM(C14)+SUM(H14:N14) -> 1725483 | P14: 1725483
A15: 9 | B15: nyugdíjazáshoz kapcsolódó személyi kieg. | C15: =SUM(D15:F15) -> 475295 | D15: 389586 | E15: 85709 | O15: =SUM(C15)+SUM(H15:N15) -> 475295
A16: 10 | B16: cégtelefon | C16: =SUM(D16:F16) -> 60337 | D16: 42000 | E16: 18337 | O16: =SUM(C16)+SUM(H16:N16) -> 60337
A17: 11 | B17: reprezentáció egészségügyi hozzájárulás | E17: 10384 | O17: =SUM(C17)+SUM(H17:N17) -> 0
A18: 12 | B18: áthúzódó Erzsébet utalvány | C18: =SUM(D18:F18) -> 70564 | D18: 52000 | E18: 18564 | O18: =SUM(C18)+SUM(H18:N18) -> 70564
A19: 13 | B19: szakmai szolg. Beiskolázás+áfa | C19: =SUM(D19:F19) -> 100000 | F19: 100000 | O19: =SUM(C19)+SUM(H19:N19) -> 100000
A20: 14 | B20: egyéb üzemeltetési szolg. Áthúzódó hull elh díj +áfa | C20: =SUM(D20:F20) -> 12432 | F20: 12432 | O20: =SUM(C20)+SUM(H20:N20) -> 12432
A21: 15 | B21: karbantartási anyag+áfa | C21: =SUM(D21:F21) -> 50000 | F21: 50000 | O21: =SUM(C21)+SUM(H21:N21) -> 50000
A22: 16 | B22: Kultúrház egyéb tárgyi eszköz beszerzés+áfa | C22: =SUM(D22:F22) -> 0 | L22: 260000 | O22: =SUM(C22)+SUM(H22:N22) -> 260000
A23: 17 | B23: bérleti díj (mobil WC stb)+áfa | C23: =SUM(D23:F23) -> 127000 | F23: 127000 | O23: =SUM(C23)+SUM(H23:N23) -> 127000
A24: 18 | B24: könyvvásárlás+áfa | C24: =SUM(D24:F24) -> 21000 | F24: 21000 | O24: =SUM(C24)+SUM(H24:N24) -> 21000
A25: 19 | B25: karbantartási szolg + áfa | C25: =SUM(D25:F25) -> 70722 | F25: 70722 | O25: =SUM(C25)+SUM(H25:N25) -> 70722
A26: 20 | B26: Kultúrház és kt tagint. Művelődési ház és kt | C26: =SUM(D26:F26) -> 467749 | D26: =SUM(D27:D32) -> 42000 | E26: =SUM(E27:E32) -> 31317 | F26: =SUM(F27:F32) -> 394432 | G26: =SUM(G27:G32) -> 0 | H26: =SUM(H27:H32) -> 0 | I26: =SUM(I27:I32) -> 0 | J26: =SUM(J27:J32) -> 0 | K26: =SUM(K27:K32) -> 0 | ... N26: =SUM(N27:N32) -> 0 | O26: =SUM(C26)+SUM(H26:N26) -> 467749
A27: 21 | B27: cégtelefon | C27: =SUM(D27:F27) -> 60337 | D27: 42000 | E27: 18337 | O27: =SUM(C27)+SUM(H27:N27) -> 60337
A28: 22 | B28: reprezentáció egészségügyi hozzájárulás | C28: =SUM(D28:F28) -> 12980 | E28: 12980 | O28: =SUM(C28)+SUM(H28:N28) -> 12980
A29: 23 | B29: könyvvásárlás+áfa | C29: =SUM(D29:F29) -> 21000 | F29: 21000 | O29: =SUM(C29)+SUM(H29:N29) -> 21000
A30: 24 | B30: egyéb üzemeltetési szolg. Áthúzódó hull elh díj +áfa | C30: =SUM(D30:F30) -> 12432 | F30: 12432 | O30: =SUM(C30)+SUM(H30:N30) -> 12432
A31: 25 | B31: érintésvédelem +áfa | C31: =SUM(D31:F31) -> 180000 | F31: 180000 | O31: =SUM(C31)+SUM(H31:N31) -> 180000
A32: 26 | B32: karbantartás + áfa | C32: =SUM(D32:F32) -> 181000 | F32: 181000 | O32: =SUM(C32)+SUM(H32:N32) -> 181000
A33: 27 | B33: Tesz összesen | C33: =SUM(D33:F33) -> 11423491 | D33: =SUM(D34:D48) -> 1850000 | E33: =SUM(E34:E48) -> 407000 | F33: =SUM(F34:F48) -> 9166491 | G33: =SUM(G34:G48) -> 0 | H33: =SUM(H34:H48) -> 0 | I33: =SUM(I34:I48) -> 0 | J33: =SUM(J34:J48) -> 0 | K33: =SUM(K34:K48) -> 0 | ... N33: =SUM(N34:N48) -> 0 | O33: =SUM(C33)+SUM(H33:N33) -> 11823491 | P33: 18551194
A34: 28 | B34: bérkeret | C34: =SUM(D34:F34) -> 2257000 | D34: 1850000 | E34: 407000 | O34: =SUM(C34)+SUM(H34:N34) -> 2257000 | P34: -6727703
A35: 29 | B35: Út-híd karbantartás+áfa | C35: =SUM(D35:F35) -> 1273997 | F35: 1273997 | O35: =SUM(C35)+SUM(H35:N35) -> 1273997 | P35: =SUM(P33:P34) -> 11823491
A36: 30 | B36: Hulladékgazdálkodás szolg. Áfa | C36: =SUM(D36:F36) -> 2791000 | F36: 2791000 | O36: =SUM(C36)+SUM(H36:N36) -> 2791000
A37: 31 | B37: Út-híd üzemelt feladat + áfa síkosságment | C37: =SUM(D37:F37) -> 2047494 | F37: 2047494 | O37: =SUM(C37)+SUM(H37:N37) -> 2047494
A38: 32 | B38: sportfeladatok villamos energia | C38: =SUM(D38:F38) -> 320000 | F38: 320000 | O38: =SUM(C38)+SUM(H38:N38) -> 320000
A39: 33 | B39: B1 kút üzembehelyezése kieg. | C39: =SUM(D39:F39) -> 20000 | F39: 20000 | O39: =SUM(C39)+SUM(H39:N39) -> 20000
A40: 34 | B40: zöldterületkezelés karbantartási szolg + áfa | C40: =SUM(D40:F40) -> 350000 | F40: 350000 | O40: =SUM(C40)+SUM(H40:N40) -> 350000
A41: 35 | B41: zöldterület fásítás (üz.anyag+áfa) | C41: =SUM(D41:F41) -> 600000 | F41: 600000 | O41: =SUM(C41)+SUM(H41:N41) -> 600000
...

Sheet 5.mell
B1: 2016 évi költségvetés | D1: 5. melléklet
B2: Berhida Város Önkormányzata | D2: a 9/2017. (V.31.) önkormányzati rendelethez
B3: Közösségi támogatások
D4: adatok Ft-ban
A5: Közösségi támogatások 2016 évre
A7: I. Sporttámogatás Berhida működési célú | D7: teljesítés 12.31
A8: Peremartoni Sport Club Berhida | D8: 514300
A9: Berhida Öregfiúk (PSCB- keresztül)
A10: Berhida Lovasok KSE | D10: 400000
A11: Pearl Dance R.S.E. | D11: 300000
A12: 2012 Berhida Szabadidő és Tömegsport Egyesület | D12: 180000
A13: KID Rock and Roll sportegyesület | D13: 122860
A14: Összesen | D14: =SUM(D8:D13) -> 1517160
A16: II. Közösségi támogatás működési célú | D16: teljesítés
A17: 1.) Öregdiákok az Ady Iskola jövőjéért | D17: 100000
A18: 2.) Peremartonért Egyesület | D18: 411620
A19: 3.) Mozgássérültek Veszprém Megyei Egyesülete Berhidai Csoportja | D19: 150000
A20: 4.) Összefogással Berhidáért Egyesület | D20: 322860
A21: 5.) Berhida Városi Polgárőrség Egyesület | D21: 500000
A22: 6.) Gyermekeinkért Alapítvány | D22: 200000
A23: 7.) Séd Völgye Túraegyesület | D23: 100000
A24: 8.) Süni Óvodáért Alapítvány | D24: 173660
A25: 9.) Óvodánkért Alapítvány | D25: 372420
A26: 10.) Berhidai Iskoláért Alapítvány
A27: Összes közösségi | D27: =SUM(D17:D26) -> 2330560
A29: Felhalmozási célú támogatás
A30: 11. Református Egyház Berhida templom felújítás
A31: Összes előirányzat | D31: =D27+D30 -> 2330560
A33: Mindösszesen | D33: =D31+D14 -> 3847720
A35: 1.) Kultúrház keretében szakkörök | D35: =SUM(D36:D41) -> 1369727
A36: Nyugdíjas Klub Berhida | D36: 150000
A37: Nyugd Klub tiszt díj | D37: 348085
A38: Nyugdíjas Klub Berhida Népt. és Mazs.cs. | D38: 99979
A39: Búzavirág Népdalkör | D39: 161945
A40: Kertbarát Kör | D40: 310000
A41: Berhida Táncegyüttes | D41: 299718
A42: 2.) Műv.Ház keretében | D42: =SUM(D43:D46) -> 409367
A43: Őszi Napfény Nyugdíjas Klub | D43: 140000
A44: Őszi Napfény Néptánc Csoport | D44: 70000
A45: PERSZE színjátszó | D45: 99222
...

Sheet 6.mell
C1: Berhida Város Önkormányzata
C2: ellátottak pénzbeli juttatásai | F2: 6. melléklet
C3: 2016. év | F3: a 9/2017. (V.31.) önkormányzati rendelethez
F4: adatok ezer Ft-ban | I4: adatok Ft-ban
B5: A | C5: B | D5: C | E5: D | F5: E | G5: F
B6: Szociális jogcímek | C6: átruházott hatáskört gyakorló | E6: Képvis.test.jogk. | F6: Jegyzői jogk. | G6: Összes | I6: Teljesítés
C7: polgármester | D7: Humán Biz. | G7: előirányzat | I7: 43100
A8: 1 | B8: Pénzbeli ellátások összesen | C8: =SUM(C9:C15) -> 17500 | D8: =SUM(D9:D15) -> 0 | E8: =SUM(E9:E15) -> 4500 | F8: =SUM(F9:F15) -> 5493 | G8: =SUM(G9:G15) -> 27493 | I8: =SUM(I9:I15) -> 13530723
A9: 2 | B9: Gyermekvéd.támog. Családtám | F9: 5493 | G9: =SUM(C9:F9) -> 5493 | I9: 5492600
A10: 3 | B10: Középfokú okt résztv tám | E10: 100 | G10: =SUM(C10:F10) -> 100 | I10: 50000
A11: 4 | B11: Bursa Hung. (ösztöndíj tám) | E11: 1986 | G11: =SUM(C11:F11) -> 1986 | I11: 1395000
A12: 5 | B12: Fenőtt oktatásban résztvevő tám | E12: 414 | G12: =SUM(C12:F12) -> 414 | I12: 414000
A13: 6 | B13: Települési támogatás | C13: 15700 | G13: =SUM(C13:F13) -> 15700 | I13: 4714050
A14: 8 | B14: Köztemetés | C14: 1800 | G14: =SUM(C14:F14) -> 1800 | I14: 875220
A15: 9 | B15: Saját hatáskörben megáll. (krízis hely. tűzifa jutt) | E15: 2000 | G15: =SUM(C15:F15) -> 2000 | I15: 589853

Sheet 7
B1: Berhida Város Önkormányzata | C1: 7. melléklet
B2: 2016. évi költségvetés | C2: a 9/2017. (V.31.) önkormányzati rendelethez
C3: adatok Ft-ban
A4: 7 - Az eszközök értékvesztésének alakulása
B5: Megnevezés | C5: Nyitó adatok, bekerülési érték | D5: Nyitó adatok, értékvesztés | E5: Tárgyidőszakban elszámolt értékvesztés | F5: Tárgyidőszakban visszaírt értékvesztés | G5: Záró adatok, bekerülési érték | H5: Záró adatok, értékvesztés
A6: 1 | B6: 2 | C6: 3 | D6: 4 | E6: 5 | F6: 6 | G6: 7 | H6: 8
A7: 1 | B7: Adott előlegek | C7: 0 | D7: 0 | E7: 0 | F7: 0 | G7: 4860594 | H7: 0
A8: 2 | B8: Tartós részesedések | C8: 11241000 | D8: 91000 | E8: 0 | F8: 91000 | G8: 11150000 | H8: 0
A9: 3 | B9: Készletek | C9: 1011754 | D9: 0 | E9: 0 | F9: 0 | G9: 838689 | H9: 0
A10: 4 | B10: Kincstáron kívüli forintszámlák | C10: 568229349 | D10: 0 | E10: 0 | F10: 0 | G10: 583899873 | H10: 0
A11: 5 | B11: Követelések a követelés jellegű sajátos elszámolások kivételével | C11: 54236378 | D11: 25732083 | E11: 71442 | F11: 5087603 | G11: 55661498 | H11: 20715922
A12: 6 | B12: Összesen (=01+…+10) | C12: 634718481 | D12: 25823083 | E12: 71442 | F12: 5178603 | G12: 656410654 | H12: 20715922

Sheet 8
B1: Berhida Város Önkormányzata | C1: 8. melléklet
B2: 2016. évi költségvetés | C2: a 9/2017. (V.31.) önkormányzati rendelethez
C3: adatok Ft-ban
A4: 8 - Kimutatás az immateriális javak, tárgyi eszközök koncesszióba, vagyonkezelésbe adott eszközök állományának alakulásáról
B5: Megnevezés | C5: Immateriális javak | D5: Ingatlanok és kapcsolódó vagyoni értékű jogok | E5: Gépek, berendezések, felszerelések, járművek | F5: Tenyészállatok | G5: Beruházások és felújítások | H5: Koncesszióba, vagyonkezelésbe adott eszközök | I5: Összesen (=3+4+5+6+7+8)
A6: 1 | B6: Tárgyévi nyitó állomány (előző évi záró állomány) | C6: 26853214 | D6: 3775213975 | E6: 209692927 | F6: 0 | G6: 46460115 | H6: 154787587 | I6: 4213007818
A7: 2 | B7: Immateriális javak beszerzése, nem aktivált beruházások | C7: 3296320 | D7: 0 | E7: 0 | F7: 0 | G7: 0 | H7: 0 | I7: 3296320
A8: 3 | B8: Nem aktivált felújítások | C8: 0 | D8: 0 | E8: 0 | F8: 0 | G8: 14933614 | H8: 0 | I8: 14933614
A9: 4 | B9: Beruházásokból, felújításokból aktivált érték | C9: 0 | D9: 145129470 | E9: 21180798 | F9: 0 | G9: 0 | H9: 0 | I9: 166310268
A10: 5 | B10: Térítésmentes átvétel | C10: 0 | D10: 21000 | E10: 3397758 | F10: 0 | G10: 0 | H10: 0 | I10: 3418758
A11: 6 | B11: Egyéb növekedés | C11: 0 | D11: 1304000 | E11: 0 | F11: 0 | G11: 0 | H11: 0 | I11: 1304000
A12: 7 | B12: Összes növekedés (=02+…+07) | C12: 3296320 | D12: 146454470 | E12: 24578556 | F12: 0 | G12: 14933614 | H12: 0 | I12: 189262960
A13: 8 | B13: Értékesítés | C13: 0 | D13: 0 | E13: 6158240 | F13: 0 | G13: 0 | H13: 0 | I13: 6158240
A14: 9 | B14: Térítésmentes átadás | C14: 0 | D14: 0 | E14: 3345795 | F14: 0 | G14: 0 | H14: 0 | I14: 3345795
A15: 10 | B15: Egyéb csökkenés | C15: 0 | D15: 46467751 | E15: 0 | F15: 0 | G15: 0 | H15: 0 | I15: 46467751
A16: 11 | B16: Összes csökkenés (=09+…+13) | C16: 0 | D16: 46467751 | E16: 9504035 | F16: 0 | G16: 0 | H16: 0 | I16: 55971786
A17: 12 | B17: Bruttó érték összesen (=01+08-14) | C17: 30149534 | D17: 3875200694 | E17: 224767448 | F17: 0 | G17: 61393729 | H17: 154787587 | I17: 4346298992
... A24: 19 | B24: Teljesen (0-ig) leírt eszközök bruttó értéke | C24: 16272973 | D24: 0 | E24: 73675596 | F24: 0 | G24: 0 | H24: 0 | I24: 89948569

Sheet 9
B1: Berhida Város Önkormányzata | C1: 9 melléklet
B2: 2016. évi költségvetés | C2: a 9/2017. (V.31.) önkormányzati rendelethez
C3: adatok Ft-ban
A4: 9 - Mérleg
B5: Megnevezés | C5: Előző időszak | D5: Módosítások (+/-) | E5: Tárgyi időszak
A6: 1 | B6: A/I/1 Vagyoni értékű jogok | C6: 6669069 | D6: 0 | E6: 8093779
A7: 2 | B7: A/I/2 Szellemi termékek | C7: 30793 | D7: 0 | E7: 28871
A8: 3 | B8: A/I Immateriális javak (=A/I/1+A/I/2+A/I/3) | C8: 6699862 | D8: 0 | E8: 8122650
A9: 4 | B9: A/II/1 Ingatlanok és a kapcsolódó vagyoni értékű jogok | C9: 2534064403 | D9: 0 | E9: 2543733192
A10: 5 | B10: A/II/2 Gépek, berendezések, felszerelések, járművek | C10: 31217235 | D10: 0 | E10: 36497118
A11: 6 | B11: A/II/4 Beruházások, felújítások | C11: 46460115 | D11: 0 | E11: 61393729
A12: 7 | B12: A/II Tárgyi eszközök (=A/II/1+...+A/II/5) | C12: 2611741753 | D12: 0 | E12: 2641624039
A13: 8 | B13: A/III/1 Tartós részesedések (=A/III/1a+…+A/III/1e) | C13: 11150000 | D13: 0 | E13: 11150000
A14: 9 | B14: A/III/1b - ebből: tartós részesedések nem pénzügyi vállalkozásban | C14: 11150000 | D14: 0 | E14: 11150000
A15: 10 | B15: A/III Befektetett pénzügyi eszközök (=A/III/1+A/III/2+A/III/3) | C15: 11150000 | D15: 0 | E15: 11150000
A16: 11 | B16: A/IV/1 Koncesszióba, vagyonkezelésbe adott eszközök (=A/IV/1a+A/IV/1b+A/IV/1c) | C16: 140408537 | D16: 0 | E16: 135314035
A17: 12 | B17: A/IV/1b - ebből: tárgyi eszközök | C17: 140408537 | D17: 0 | E17: 135314035
... A88: 83 | B88: FORRÁSOK ÖSSZESEN (=G+H+I+J) | C88: 3371905370 | D88: 0 | E88: 3426420398
B89: A/II/1 Ingatlanok és a kapcsolódó vagyoni értékű jogok | E89: =SUM(E90:E92) -> 0
B90: -ebből forgalomképtelen
B91: - ebből korlátozottan forgalomképes
B92: - ebből forgalomképes, üzleti vagyon
B95: a.) 0-ra leírt eszközök
B96: b.) használatban lévő kisértékű immateriális javak és tárgyi eszközök
B97: c.) kulturális javak állománya

Sheet 10
B1: Berhida Város Önkormányzata | C1: 10. melléklet
B2: 2016. évi költségvetés | C2: a 9/2017. (V.31.) önkormányzati rendelethez
C3: adatok Ft-ban
A4: 10 - Eredménykimutatás
B5: Megnevezés | C5: Előző időszak | D5: Módosítások (+/-) | E5: Tárgyi időszak
A6: 1 | B6: 01 Közhatalmi eredményszemléletű bevételek | C6: 310704745 | D6: 0 | E6: 317038649
A7: 2 | B7: 02 Eszközök és szolgáltatások értékesítése nettó eredményszemléletű bevételei | C7: 25973220 | D7: 0 | E7: 20508828
A8: 3 | B8: 03 Tevékenység egyéb nettó eredményszemléletű bevételei | C8: 25452521 | D8: 0 | E8: 23797585
A9: 4 | B9: I Tevékenység nettó eredményszemléletű bevétele (=01+02+03) | C9: 362130486 | D9: 0 | E9: 361345062
A10: 5 | B10: 06 Központi működési célú támogatások eredményszemléletű bevételei | C10: 818966279 | D10: 0 | E10: 784086654
A11: 6 | B11: 07 Egyéb működési célú támogatások eredményszemléletű bevételei | C11: 110289721 | D11: 0 | E11: 103735500
A12: 7 | B12: 08 Felhalmozási célú támogatások eredményszemléletű bevételei | C12: 48105174 | D12: 0 | E12: 35975100
A13: 8 | B13: 09 Különféle egyéb eredményszemléletű bevételek | C13: 3390253 | D13: 0 | E13: 16751457
A14: 9 | B14: III Egyéb eredményszemléletű bevételek (=06+07+08+09) | C14: 980751427 | D14: 0 | E14: 940548711
A15: 10 | B15: 10 Anyagköltség | C15: 35793519 | D15: 0 | E15: 34380337
A16: 11 | B16: 11 Igénybe vett szolgáltatások értéke | C16: 110073057 | D16: 0 | E16: 117519914
A17: 12 | B17: 13 Eladott (közvetített) szolgáltatások értéke | C17: 3852367 | D17: 0 | E17: 2631783
... A34: 29 | B34: C) MÉRLEG SZERINTI EREDMÉNY (=±A±B) | C34: 89483567 | D34: 0 | E34: -97742013

Sheet 11
B1: Berhida Város Önkormányzatának
B2: 2016. Évi költségvetéséhez
A3: Az önkormányzat által adott közvetett támogatások, kedvezmények
C4: 11. melléklet
C5: a 9/2017. (V.31.) önkormányzati rendelethez
C6: adatok ezer Ft-ban
A8: A | B8: B | C8: C | D8: D
A9: Sorszám | B9: Bevételi jogcím | C9: Kedvezmény nélkül | D9: Kedvezmények
C10: elérhető | D10: összege
C11: bevétel e/Ft | D11: e/Ft
A12: 1. | B12: 2. | C12: 3. | D12: 4.
A13: 1. | B13: házi gondozás térítési díj | C13: 8160 | D13: 3944
A14: 2. | B14: idősek nappali ell térítési díj | C14: 2986 | D14: 1936
A15: 3. | B15: szoc. étkeztetés térítési díj | C15: 4516 | D15: 649
A16: 4. | B16: gépjármű adó bevétel | C16: 11612 | D16: 924
A17: 5. | B17: magánsz kommunális adó bev | C17: 15219 | D17: 649
A18: 6.
A19: 7.
A20: 8.
A21: 9.
A22: 27. | B22: Összesen: | C22: =SUM(C13:C21) -> 42493 | D22: =SUM(D13:D21) -> 8102

Sheet 12. mell
B1: Berhida Város Önkormányzatának
B2: 2016. Év | H2: 12. melléklet
H3: a 9/2017. (V.31.) önkormányzati rendelethez
A5: Több éves kihatással járó döntésekből származó kötelezettségek célok szerint, évenkénti bontásban
A6: Lejárat és eszközök szerinti bontásban (e/Ft-ban)
B9: A | C9: B | D9: C | E9: D | F9: E | G9: F | H9: G | I9: H | J9: I | K9: J | L9: K
C10: Kötelezett- | D10: Lejárat | E10: 2015
B11: Hitel jellege | C11: ségváll. | D11: éve | E11: előtti | F11: 2015. | G11: 2016. | H11: 2017. | I11: 2018. | J11: 2019. | K11: 2019. után | L11: Összesen
C12: éve | E12: kifizetés
A13: 1. | B13: Működési célú
A14: 2.
A15: 3.
A16: 4.
A17: 5.
A18: 6. | B18: Felhalmozási célú hitel áll.
A19: *7. | L19: =SUM(E19:K19) -> 0
A20: 8. | L20: =SUM(E20:K20) -> 0
A21: 9. | L21: =SUM(E21:K21) -> 0
A22: 10. | L22: =SUM(E22:K22) -> 0
A23: 11. | B23: Összesen: (1+6) | E23: =SUM(E19:E21) -> 0 | F23: =SUM(F19:F21) -> 0 | G23: =SUM(G19:G21) -> 0 | H23: =SUM(H19:H21) -> 0 | I23: =SUM(I19:I21) -> 0 | J23: =SUM(J19:J21) -> 0 | K23: =SUM(K19:K21) -> 0 | L23: =SUM(E23:K23) -> 0

Sheet 13
B1: Berhida Város Önkormányzata | D1: 13 melléklet
B2: 2014. évi költségvetés | D2: a 9/2017. (V.31.) önkormányzati rendelethez
B3: Bevételek | D3: adatok ezer Ft-ban
B4: Teljesítés 12.31
D5: Összesen | E5: Önkorm | F5: Hivatal | G5: TESZ | H5: Süni | I5: Kultúrház
A6: Sor- szám | B6: Rovat megnevezése | C6: Rovat száma | D6: Teljesítés | E6: Teljesítés | F6: Teljesítés | G6: Teljesítés | H6: Teljesítés | I6: Teljesítés
A7: 1. | B7: 2. | C7: 3. | D7: 4 | E7: 5 | F7: 6 | G7: 7 | H7: 8 | I7: 9
A8: 01 | B8: Helyi önkormányzatok működésének általános támogatása | C8: B111 | D8: =SUM(E8:I8) -> 168873 | E8: 168873
A9: 02 | B9: Települési önkormányzatok egyes köznevelési feladatainak támogatása | C9: B112 | D9: =SUM(E9:I9) -> 110352 | E9: 110352
A10: 03 | B10: Települési önkormányzatok szociális és gyermekjóléti feladatainak támogatása | C10: B113 | D10: =SUM(E10:I10) -> 130710 | E10: 130710
A11: 04 | B11: Települési önkormányzatok kulturális feladatainak támogatása | C11: B114 | D11: =SUM(E11:I11) -> 6975 | E11: 6975
A12: 05 | B12: Működési célú központosított előirányzatok | C12: B115 | D12: =SUM(E12:I12) -> 6907 | E12: 6907
A13: 06 | B13: Helyi önkormányzatok kiegészítő támogatásai | C13: B116 | D13: =SUM(E13:I13) -> 7491 | E13: 7491
A14: 07 | B14: Önkormányzatok működési támogatásai | C14: B11 | D14: =SUM(E14:I14) -> 431308 | E14: =SUM(E8:E13) -> 431308 | F14: =SUM(F8:F13) -> 0 | G14: =SUM(G8:G13) -> 0 | H14: =SUM(H8:H13) -> 0 | I14: =SUM(I8:I13) -> 0
A15: 08 | B15: Elvonások és befizetések bevételei | C15: B12 | D15: =SUM(E15:I15) -> 0
A16: 09 | B16: Működési célú garancia- és kezességvállalásból származó megtérülések államháztartáson belülről | C16: B13 | D16: =SUM(E16:I16) -> 0
A17: 10 | B17: Működési célú visszatérítendő támogatások, kölcsönök visszatérülése államháztartáson belülről | C17: B14 | D17: =SUM(E17:I17) -> 0
A18: 11 | B18: Működési célú visszatérítendő támogatások, kölcsönök igénybevétele államháztartáson belülről | C18: B15 | D18: =SUM(E18:I18) -> 0
A19: 12 | B19: Egyéb működési célú támogatások bevételei államháztartáson belülről | C19: B16 | D19: =SUM(E19:I19) -> 148187 | E19: =SUM(E20:E27) -> 30764 | F19: =SUM(F20:F27) -> 4491 | G19: =SUM(G20:G27) -> 111755 | H19: =SUM(H20:H27) -> 1177 | I19: =SUM(I20:I27) -> 0
B20: - ebből központi költségvetési szervek | C20: B161 | D20: =SUM(E20:I20) -> 4211 | F20: 4211
B21: - ebből Társadalombiztosítási Alapok | C21: B162 | D21: =SUM(E21:I21) -> 12932 | E21: 12932
B22: - ebből elkülönített állami alapok | C22: B163 | D22: =SUM(E22:I22) -> 112932 | G22: 111755 | H22: 1177
B23: - ebből helyi önkormányzatok és költségvetési szerveik | C23: B164 | D23: =SUM(E23:I23) -> 3066 | E23: 2786 | F23: 280
B24: - ebből helyi helyi önkorm.tól átvett kv-i mardból | D24: =SUM(E24:I24) -> 0
B25: - ebből társulások és költségvetési szerveik | C25: B165 | D25: =SUM(E25:I25) -> 5020 | E25: 5020
B26: - ebből nemzetiségi önkormányzatok és költségvetési szerveik | C26: B166 | D26: =SUM(E26:I26) -> 0
B27: - ebből fejezeti kezelésű | C27: B167 | D27: =SUM(E27:I27) -> 10026 | E27: 10026
A28: 13 | B28: Működési célú támogatások államháztartáson belülről | C28: B1 | D28: =SUM(E28:I28) -> 579495 | E28: =SUM(E14:E19) -> 462072 | F28: =SUM(F14:F19) -> 4491 | G28: =SUM(G14:G19) -> 111755 | H28: =SUM(H14:H19) -> 1177 | I28: =SUM(I14:I19) -> 0
A29: 14 | B29: Felhalmozási célú önkormányzati támogatások | C29: B21 | D29: =SUM(E29:I29) -> 226 | E29: 226
A30: 15 | B30: Felhalmozási célú garancia- és kezességvállalásból származó megtérülések államháztartáson belülről | C30: B22 | D30: =SUM(E30:I30) -> 0
A31: 16 | B31: Felhalmozási célú visszatérítendő támogatások, kölcsönök visszatérülése államháztartáson belülről | C31: B23 | D31: =SUM(E31:I31) -> 0
A32: 17 | B32: Felhalmozási célú visszatérítendő támogatások, kölcsönök igénybevétele államháztartáson belülről | C32: B24 | D32: =SUM(E32:I32) -> 0
A33: 18 | B33: Egyéb felhalmozási célú támogatások bevételei államháztartáson belülről | C33: B25 | D33: =SUM(E33:I33) -> 15358 | E33: 13345 | G33: 2013
