Workbook

Sheet össz 2
B1: Összesítés | C1: 2015 Előirányzat | F1: 2016 Előirányzat | M1: 2016 Tény 01-06. hó
C2: Önkormányzat összesen | D2: Intézmények (PH+Int.) összesen | E2: Mindösszesen | F2: Önkormányzat összesen | G2: Intézmények (PH+Int.) összesen | H2: Mindösszesen | I2: 1.módosítás | J2: 2. módosítás | K2: 3. módosítás | L2: Módosított előirányzat | M2: EFt | N2: %
A3: I. | B3: KÖLTSÉGVETÉSI BEVÉTELEK | C3: =C6+C7+C8+C15+C27+C31+C32 -> 5463440.3 | D3: =D6+D7+D8+D15+D27+D31+D32 -> 986840 | E3: =E6+E7+E8+E15+E27+E31+E32 -> 6450280.3 | F3: =F6+F7+F8+F15+F27+F31+F32 -> 4756032.3 | G3: =G6+G7+G8+G15+G27+G31+G32 -> 841608 | H3: =H6+H7+H8+H15+H27+H31+H32 -> 5597640.3 | I3: =I6+I7+I8+I15+I27+I31+I32 -> 38290 | J3: =J6+J7+J8+J15+J27+J31+J32 -> 25120 | ... M3: =M6+M7+M8+M15+M27+M31+M32 -> 2722269.7 | N3: =M3/L3 -> 0.47239915
A4: B11 | B4: Önkormányzatok működési támogatásai | C4: 1383056 | D4: ='PH 2b'!C4+'SZEI 2c'!C4+'PMK 2d'!C4+'FMC 2e'!C4+'Óvoda 2f'!C4+'Bölcsőde 2g'!C4+'Gondozási 2h'!C4 -> 9387 | E4: =C4+D4 -> 1392443 | F4: 1428547 | G4: ='PH 2b'!F4+'SZEI 2c'!H4+'PMK 2d'!I4+'FMC 2e'!I4+'Óvoda 2f'!J4+'Bölcsőde 2g'!I4+'Gondozási 2h'!H4 -> 0 | H4: =F4+G4 -> 1428547 | I4: ='Önk 2a'!J4+'PH 2b'!H4+'SZEI 2c'!J4+'PMK 2d'!K4+'FMC 2e'!K4+'Óvoda 2f'!L4+'Bölcsőde 2g'!K4+'Gondozási 2h'!J4 -> 11133 | J4: ='Önk 2a'!K4+'PH 2b'!I4+'SZEI 2c'!K4+'PMK 2d'!L4+'FMC 2e'!L4+'Óvoda 2f'!M4+'Bölcsőde 2g'!L4+'Gondozási 2h'!K4 -> 21499 | K4: ='Önk 2a'!L4 -> 26303.959 | L4: =H4+I4+J4+K4 -> 1487483 | M4: =+'Önk 2a'!N4+'PH 2b'!L4+'SZEI 2c'!N4+'PMK 2d'!O4+'FMC 2e'!O4+'Óvoda 2f'!P4+'Bölcsőde 2g'!O4+'Gondozási 2h'!N4 -> 800509.03 | N4: =M4/L4 -> 0.5381635
A5: B16 | B5: Egyéb működési célú támogatások ÁHT-n belülről OEP finanszírozás | C5: 31394 | D5: ='PH 2b'!C5+'SZEI 2c'!C5+'PMK 2d'!C5+'FMC 2e'!C5+'Óvoda 2f'!C5+'Bölcsőde 2g'!C5+'Gondozási 2h'!C5 -> 561279 | E5: =C5+D5 -> 592673 | F5: 39610 | G5: ='PH 2b'!F5+'SZEI 2c'!H5+'PMK 2d'!I5+'FMC 2e'!I5+'Óvoda 2f'!J5+'Bölcsőde 2g'!I5+'Gondozási 2h'!H5 -> 567579 | H5: =F5+G5 -> 607189 | I5: ='Önk 2a'!J5+'PH 2b'!H5+'SZEI 2c'!J5+'PMK 2d'!K5+'FMC 2e'!K5+'Óvoda 2f'!L5+'Bölcsőde 2g'!K5+'Gondozási 2h'!J5 -> 3048 | J5: ='Önk 2a'!K5+'PH 2b'!I5+'SZEI 2c'!K5+'PMK 2d'!L5+'FMC 2e'!L5+'Óvoda 2f'!M5+'Bölcsőde 2g'!L5+'Gondozási 2h'!K5 -> -1700 | K5: ='Önk 2a'!L5+'PH 2b'!J5+'SZEI 2c'!L5+'PMK 2d'!M5+'FMC 2e'!M5+'Óvoda 2f'!N5+'Bölcsőde 2g'!M5+'Gondozási 2h'!L5 -> 16890.9 | L5: =H5+I5+J5+K5 -> 625427.9 | M5: =+'Önk 2a'!N5+'PH 2b'!L5+'SZEI 2c'!N5+'PMK 2d'!O5+'FMC 2e'!O5+'Óvoda 2f'!P5+'Bölcsőde 2g'!O5+'Gondozási 2h'!N5 -> 286244.33 | N5: =M5/L5 -> 0.45767759
A6: B1 | B6: Működési célú támogatások államháztartáson belülről | C6: =SUM(C4:C5) -> 1414450 | D6: =SUM(D4:D5) -> 570666 | E6: =SUM(E4:E5) -> 1985116 | F6: =SUM(F4:F5) -> 1468157 | G6: =SUM(G4:G5) -> 567579 | H6: =SUM(H4:H5) -> 2035736 | I6: =SUM(I4:I5) -> 14181 | J6: =SUM(J4:J5) -> 19799 | ... L6: =SUM(L4:L5) -> 2112910.9 | M6: =M4+M5 -> 1086753.4 | N6: =M6/L6 -> 0.51433943 | O6: =M6/M3 -> 0.39920857
A7: B2 | B7: Felhalmozási célú támogatások államháztartáson belülről | C7: 1067671 | D7: ='PH 2b'!C7+'SZEI 2c'!C7+'PMK 2d'!C7+'FMC 2e'!C7+'Óvoda 2f'!C7+'Bölcsőde 2g'!C7+'Gondozási 2h'!C7 -> 90557 | E7: =C7+D7 -> 1158228 | F7: 64300 | G7: ='PH 2b'!F7+'SZEI 2c'!H7+'PMK 2d'!I7+'FMC 2e'!I7+'Óvoda 2f'!J7+'Bölcsőde 2g'!I7+'Gondozási 2h'!H7 -> 9000 | H7: =F7+G7 -> 73300 | I7: ='Önk 2a'!J7+'PH 2b'!H7+'SZEI 2c'!J7+'PMK 2d'!K7+'FMC 2e'!K7+'Óvoda 2f'!L7+'Bölcsőde 2g'!K7+'Gondozási 2h'!J7 -> 0 | J7: ='Önk 2a'!K7+'PH 2b'!I7+'SZEI 2c'!K7+'PMK 2d'!L7+'FMC 2e'!L7+'Óvoda 2f'!M7+'Bölcsőde 2g'!L7+'Gondozási 2h'!K7 -> 0 | K7: ='Önk 2a'!L7+'PH 2b'!J7+'SZEI 2c'!L7+'PMK 2d'!M7+'FMC 2e'!M7+'Óvoda 2f'!N7+'Bölcsőde 2g'!M7+'Gondozási 2h'!L7 -> 14340 | L7: =H7+I7+J7+K7 -> 87640 | M7: =+'Önk 2a'!N7+'PH 2b'!L7+'SZEI 2c'!N7+'PMK 2d'!O7+'FMC 2e'!O7+'Óvoda 2f'!P7+'Bölcsőde 2g'!O7+'Gondozási 2h'!N7 -> 29626.87 | N7: =M7/L7 -> 0.33805192
A8: B3 | B8: Közhatalmi bevételek | C8: =SUM(C9,C10,C14) -> 1926600 | D8: =SUM(D9,D10,D14) -> 1200 | E8: =SUM(E9,E10,E14) -> 1927800 | F8: =SUM(F9,F10,F14) -> 2130000 | G8: =SUM(G9,G10,G14) -> 210 | H8: =SUM(H9,H10,H14) -> 2130210 | I8: =SUM(I9,I10,I14) -> 0 | J8: =SUM(J9,J10,J14) -> 190 | ... M8: =SUM(M9,M10,M14) -> 1100904 | N8: =M8/L8 -> 0.51681024
A9: B34 | B9: Vagyoni tipusú adók (építményadó, ép.utáni IFA, magánsz.komm.adója, telekadó) | C9: 550000 | D9: ='PH 2b'!C9+'SZEI 2c'!C9+'PMK 2d'!C9+'FMC 2e'!C9+'Óvoda 2f'!C9+'Bölcsőde 2g'!C9+'Gondozási 2h'!C9 -> 0 | E9: =C9+D9 -> 550000 | F9: 670000 | G9: ='PH 2b'!F9+'SZEI 2c'!H9+'PMK 2d'!I9+'FMC 2e'!I9+'Óvoda 2f'!J9+'Bölcsőde 2g'!I9+'Gondozási 2h'!H9 -> 0 | H9: =F9+G9 -> 670000 | I9: ='Önk 2a'!J9+'PH 2b'!H9+'SZEI 2c'!J9+'PMK 2d'!K9+'FMC 2e'!K9+'Óvoda 2f'!L9+'Bölcsőde 2g'!K9+'Gondozási 2h'!J9 -> 0 | J9: ='Önk 2a'!K9+'PH 2b'!I9+'SZEI 2c'!K9+'PMK 2d'!L9+'FMC 2e'!L9+'Óvoda 2f'!M9+'Bölcsőde 2g'!L9+'Gondozási 2h'!K9 -> 0 | K9: ='Önk 2a'!L9 -> 0 | L9: =H9+I9+J9+K9 -> 670000 | M9: ='Önk 2a'!N9+'PH 2b'!L9+'SZEI 2c'!N9+'PMK 2d'!O9+'FMC 2e'!O9+'Óvoda 2f'!P9+'Bölcsőde 2g'!O9+'Gondozási 2h'!N9 -> 384834.8 | N9: =M9/L9 -> 0.5743803
A10: B35 | B10: Termékek és szolgáltatások adói | C10: 1355200 | D10: ='PH 2b'!C10+'SZEI 2c'!C10+'PMK 2d'!C10+'FMC 2e'!C10+'Óvoda 2f'!C10+'Bölcsőde 2g'!C10+'Gondozási 2h'!C10 -> 0 | E10: =SUM(E11:E13) -> 1355200 | F10: 1425000 | G10: =SUM(G11:G13) -> 0 | H10: =SUM(H11:H13) -> 1425000 | I10: =SUM(I11:I13) -> 0 | J10: =SUM(J11:J13) -> 0 | K10: ='Önk 2a'!L11 -> 0 | L10: =SUM(L11:L13) -> 1425000 | M10: =SUM(M11:M13) -> 704764.02 | N10: =M10/L10 -> 0.49457124
A11: B351 | B11: Értékesítési és forgalmi adók (IPA) | C11: 1250000 | D11: ='PH 2b'!C11+'SZEI 2c'!C11+'PMK 2d'!C11+'FMC 2e'!C11+'Óvoda 2f'!C11+'Bölcsőde 2g'!C11+'Gondozási 2h'!C11 -> 0 | E11: =C11+D11 -> 1250000 | F11: 1300000 | G11: ='PH 2b'!F11+'SZEI 2c'!H11+'PMK 2d'!I11+'FMC 2e'!I11+'Óvoda 2f'!J11+'Bölcsőde 2g'!I11+'Gondozási 2h'!H11 -> 0 | H11: =F11+G11 -> 1300000 | I11: ='Önk 2a'!J11+'PH 2b'!H11+'SZEI 2c'!J11+'PMK 2d'!K11+'FMC 2e'!K11+'Óvoda 2f'!L11+'Bölcsőde 2g'!K11+'Gondozási 2h'!J11 -> 0 | J11: ='Önk 2a'!K11+'PH 2b'!I11+'SZEI 2c'!K11+'PMK 2d'!L11+'FMC 2e'!L11+'Óvoda 2f'!M11+'Bölcsőde 2g'!L11+'Gondozási 2h'!K11 -> 0 | K11: ='Önk 2a'!L11 -> 0 | L11: =H11+I11+J11+K11 -> 1300000 | M11: ='Önk 2a'!N11+'PH 2b'!L11+'SZEI 2c'!N11+'PMK 2d'!O11+'FMC 2e'!O11+'Óvoda 2f'!P11+'Bölcsőde 2g'!O11+'Gondozási 2h'!N11 -> 633592.15 | N11: =M11/L11 -> 0.48737858
A12: B354 | B12: Gépjármű adók | C12: 92000 | D12: ='PH 2b'!C12+'SZEI 2c'!C12+'PMK 2d'!C12+'FMC 2e'!C12+'Óvoda 2f'!C12+'Bölcsőde 2g'!C12+'Gondozási 2h'!C12 -> 0 | E12: =C12+D12 -> 92000 | F12: 110000 | G12: ='PH 2b'!F12+'SZEI 2c'!H12+'PMK 2d'!I12+'FMC 2e'!I12+'Óvoda 2f'!J12+'Bölcsőde 2g'!I12+'Gondozási 2h'!H12 -> 0 | H12: =F12+G12 -> 110000 | I12: ='Önk 2a'!J12+'PH 2b'!H12+'SZEI 2c'!J12+'PMK 2d'!K12+'FMC 2e'!K12+'Óvoda 2f'!L12+'Bölcsőde 2g'!K12+'Gondozási 2h'!J12 -> 0 | J12: ='Önk 2a'!K12+'PH 2b'!I12+'SZEI 2c'!K12+'PMK 2d'!L12+'FMC 2e'!L12+'Óvoda 2f'!M12+'Bölcsőde 2g'!L12+'Gondozási 2h'!K12 -> 0 | K12: ='Önk 2a'!L12 -> 0 | L12: =H12+I12+J12+K12 -> 110000 | M12: ='Önk 2a'!N12+'PH 2b'!L12+'SZEI 2c'!N12+'PMK 2d'!O12+'FMC 2e'!O12+'Óvoda 2f'!P12+'Bölcsőde 2g'!O12+'Gondozási 2h'!N12 -> 65575.988 | N12: =M12/L12 -> 0.59614535
A13: B355 | B13: Egyéb áruhasználati és szolgáltatási adók (tart.utáni IFA, talajterhelési díj) | C13: 13200 | D13: ='PH 2b'!C13+'SZEI 2c'!C13+'PMK 2d'!C13+'FMC 2e'!C13+'Óvoda 2f'!C13+'Bölcsőde 2g'!C13+'Gondozási 2h'!C13 -> 0 | E13: =C13+D13 -> 13200 | F13: 15000 | G13: ='PH 2b'!F13+'SZEI 2c'!H13+'PMK 2d'!I13+'FMC 2e'!I13+'Óvoda 2f'!J13+'Bölcsőde 2g'!I13+'Gondozási 2h'!H13 -> 0 | H13: =F13+G13 -> 15000 | I13: ='Önk 2a'!J13+'PH 2b'!H13+'SZEI 2c'!J13+'PMK 2d'!K13+'FMC 2e'!K13+'Óvoda 2f'!L13+'Bölcsőde 2g'!K13+'Gondozási 2h'!J13 -> 0 | J13: ='Önk 2a'!K13+'PH 2b'!I13+'SZEI 2c'!K13+'PMK 2d'!L13+'FMC 2e'!L13+'Óvoda 2f'!M13+'Bölcsőde 2g'!L13+'Gondozási 2h'!K13 -> 0 | K13: ='Önk 2a'!L13 -> 0 | L13: =H13+I13+J13+K13 -> 15000 | M13: ='Önk 2a'!N13+'PH 2b'!L13+'SZEI 2c'!N13+'PMK 2d'!O13+'FMC 2e'!O13+'Óvoda 2f'!P13+'Bölcsőde 2g'!O13+'Gondozási 2h'!N13 -> 5595.886 | N13: =M13/L13 -> 0.37305907
A14: B36 | B14: Egyéb közhatalmi bevételek (illeték, bírság) | C14: 21400 | D14: ='PH 2b'!C14+'SZEI 2c'!C14+'PMK 2d'!C14+'FMC 2e'!C14+'Óvoda 2f'!C14+'Bölcsőde 2g'!C14+'Gondozási 2h'!C14 -> 1200 | E14: =C14+D14 -> 22600 | F14: 35000 | G14: ='PH 2b'!F14+'SZEI 2c'!H14+'PMK 2d'!I14+'FMC 2e'!I14+'Óvoda 2f'!J14+'Bölcsőde 2g'!I14+'Gondozási 2h'!H14 -> 210 | H14: =F14+G14 -> 35210 | I14: ='Önk 2a'!J14+'PH 2b'!H14+'SZEI 2c'!J14+'PMK 2d'!K14+'FMC 2e'!K14+'Óvoda 2f'!L14+'Bölcsőde 2g'!K14+'Gondozási 2h'!J14 -> 0 | J14: ='Önk 2a'!K14+'PH 2b'!I14+'SZEI 2c'!K14+'PMK 2d'!L14+'FMC 2e'!L14+'Óvoda 2f'!M14+'Bölcsőde 2g'!L14+'Gondozási 2h'!K14 -> 190 | K14: ='Önk 2a'!L14+'PH 2b'!J14 -> -210 | L14: =H14+I14+J14+K14 -> 35190 | M14: ='Önk 2a'!N14+'PH 2b'!L14+'SZEI 2c'!N14+'PMK 2d'!O14+'FMC 2e'!O14+'Óvoda 2f'!P14+'Bölcsőde 2g'!O14+'Gondozási 2h'!N14 -> 11305.178 | N14: =M14/L14 -> 0.3212611
A15: B4 | B15: Működési bevételek | C15: =SUM(C16:C26) -> 624482.35 | D15: =SUM(D16:D26) -> 322717 | E15: =SUM(E16:E26) -> 947199.35 | F15: =SUM(F16:F26) -> 648385.83 | G15: =SUM(G16:G26) -> 264129 | H15: =SUM(H16:H26) -> 912514.83 | I15: =SUM(I16:I26) -> 3924 | J15: =SUM(J16:J26) -> 2707 | ... M15: =SUM(M16:M26) -> 412815.8 | N15: =M15/L15 -> 0.44833475 | O15: ='Önk 2a'!N15 -> 306558.34 | P15: =M15-O15 -> 106257.46 | Q15: =P15/(G15+1615) -> 0.39984894
A16: B401 | B16: Készletértékesítés ellenértéke | C16: 300 | D16: ='PH 2b'!C16+'SZEI 2c'!C16+'PMK 2d'!C16+'FMC 2e'!C16+'Óvoda 2f'!C16+'Bölcsőde 2g'!C16+'Gondozási 2h'!C16 -> 6000 | E16: =C16+D16 -> 6300 | F16: 0 | G16: ='PH 2b'!F16+'SZEI 2c'!H16+'PMK 2d'!I16+'FMC 2e'!I16+'Óvoda 2f'!J16+'Bölcsőde 2g'!I16+'Gondozási 2h'!H16 -> 3800 | H16: =F16+G16 -> 3800 | I16: ='Önk 2a'!J16+'PH 2b'!H16+'SZEI 2c'!J16+'PMK 2d'!K16+'FMC 2e'!K16+'Óvoda 2f'!L16+'Bölcsőde 2g'!K16+'Gondozási 2h'!J16 -> 0 | J16: ='Önk 2a'!K16+'PH 2b'!I16+'SZEI 2c'!K16+'PMK 2d'!L16+'FMC 2e'!L16+'Óvoda 2f'!M16+'Bölcsőde 2g'!L16+'Gondozási 2h'!K16 -> 0 | K16: ='Önk 2a'!L16+'PH 2b'!J16+'SZEI 2c'!L16+'FMC 2e'!M16+'Óvoda 2f'!N16+'Bölcsőde 2g'!M16+'Gondozási 2h'!L16+'PMK 2d'!M16 -> 0 | L16: =H16+I16+J16+K16 -> 3800 | M16: ='Önk 2a'!N16+'PH 2b'!L16+'SZEI 2c'!N16+'PMK 2d'!O16+'FMC 2e'!O16+'Óvoda 2f'!P16+'Bölcsőde 2g'!O16+'Gondozási 2h'!N16 -> 806.018 | N16: =M16/L16 -> 0.21211 | P16: =G15+1616 -> 265745 | Q16: =P15/P16 -> 0.39984744
A17: B402 | B17: Szolgáltatások ellenértéke | C17: 378305 | D17: ='PH 2b'!C17+'SZEI 2c'!C17+'PMK 2d'!C17+'FMC 2e'!C17+'Óvoda 2f'!C17+'Bölcsőde 2g'!C17+'Gondozási 2h'!C17 -> 162123 | E17: =C17+D17 -> 540428 | F17: 401022 | G17: ='PH 2b'!F17+'SZEI 2c'!H17+'PMK 2d'!I17+'FMC 2e'!I17+'Óvoda 2f'!J17+'Bölcsőde 2g'!I17+'Gondozási 2h'!H17 -> 143468 | H17: =F17+G17 -> 544490 | I17: ='Önk 2a'!J17+'PH 2b'!H17+'SZEI 2c'!J17+'PMK 2d'!K17+'FMC 2e'!K17+'Óvoda 2f'!L17+'Bölcsőde 2g'!K17+'Gondozási 2h'!J17 -> -3 | J17: ='Önk 2a'!K17+'PH 2b'!I17+'SZEI 2c'!K17+'PMK 2d'!L17+'FMC 2e'!L17+'Óvoda 2f'!M17+'Bölcsőde 2g'!L17+'Gondozási 2h'!K17 -> 1700 | K17: ='Önk 2a'!L17+'PH 2b'!J17+'SZEI 2c'!L17+'PMK 2d'!M17+'FMC 2e'!M17+'Óvoda 2f'!N17+'Bölcsőde 2g'!M17+'Gondozási 2h'!L17 -> 450 | L17: =H17+I17+J17+K17 -> 546637 | M17: ='Önk 2a'!N17+'PH 2b'!L17+'SZEI 2c'!N17+'PMK 2d'!O17+'FMC 2e'!O17+'Óvoda 2f'!P17+'Bölcsőde 2g'!O17+'Gondozási 2h'!N17 -> 251570.16 | N17: =M17/L17 -> 0.4602143
A18: B403 | B18: Közvetített szolgáltatások ellenértéke | C18: 21100 | D18: ='PH 2b'!C18+'SZEI 2c'!C18+'PMK 2d'!C18+'FMC 2e'!C18+'Óvoda 2f'!C18+'Bölcsőde 2g'!C18+'Gondozási 2h'!C18 -> 4240 | E18: =C18+D18 -> 25340 | F18: 51346.457 | G18: ='PH 2b'!F18+'SZEI 2c'!H18+'PMK 2d'!I18+'FMC 2e'!I18+'Óvoda 2f'!J18+'Bölcsőde 2g'!I18+'Gondozási 2h'!H18 -> 3350 | H18: =F18+G18 -> 54696.457 | I18: ='Önk 2a'!J18+'PH 2b'!H18+'SZEI 2c'!J18+'PMK 2d'!K18+'FMC 2e'!K18+'Óvoda 2f'!L18+'Bölcsőde 2g'!K18+'Gondozási 2h'!J18 -> 0 | J18: ='Önk 2a'!K18+'PH 2b'!I18+'SZEI 2c'!K18+'PMK 2d'!L18+'FMC 2e'!L18+'Óvoda 2f'!M18+'Bölcsőde 2g'!L18+'Gondozási 2h'!K18 -> 0 | K18: ='Önk 2a'!L18+'PH 2b'!J18+'SZEI 2c'!L18+'PMK 2d'!M18+'FMC 2e'!M18+'Óvoda 2f'!N18+'Bölcsőde 2g'!M18+'Gondozási 2h'!L18 -> 0 | L18: =H18+I18+J18+K18 -> 54696.457 | M18: ='Önk 2a'!N18+'PH 2b'!L18+'SZEI 2c'!N18+'PMK 2d'!O18+'FMC 2e'!O18+'Óvoda 2f'!P18+'Bölcsőde 2g'!O18+'Gondozási 2h'!N18 -> 13151.673 | N18: =M18/L18 -> 0.24044835
A19: B404 | B19: Tulajdonosi bevételek | C19: 6600 | D19: ='PH 2b'!C19+'SZEI 2c'!C19+'PMK 2d'!C19+'FMC 2e'!C19+'Óvoda 2f'!C19+'Bölcsőde 2g'!C19+'Gondozási 2h'!C19 -> 0 | E19: =C19+D19 -> 6600 | F19: 4000 | G19: ='PH 2b'!F19+'SZEI 2c'!H19+'PMK 2d'!I19+'FMC 2e'!I19+'Óvoda 2f'!J19+'Bölcsőde 2g'!I19+'Gondozási 2h'!H19 -> 0 | H19: =F19+G19 -> 4000 | I19: ='Önk 2a'!J19+'PH 2b'!H19+'SZEI 2c'!J19+'PMK 2d'!K19+'FMC 2e'!K19+'Óvoda 2f'!L19+'Bölcsőde 2g'!K19+'Gondozási 2h'!J19 -> 0 | J19: ='Önk 2a'!K19+'PH 2b'!I19+'SZEI 2c'!K19+'PMK 2d'!L19+'FMC 2e'!L19+'Óvoda 2f'!M19+'Bölcsőde 2g'!L19+'Gondozási 2h'!K19 -> 0 | K19: ='Önk 2a'!L19+'PH 2b'!J19+'SZEI 2c'!L19+'PMK 2d'!M19+'FMC 2e'!M19+'Óvoda 2f'!N19+'Bölcsőde 2g'!M19+'Gondozási 2h'!L19 -> 0 | L19: =H19+I19+J19+K19 -> 4000 | M19: ='Önk 2a'!N19+'PH 2b'!L19+'SZEI 2c'!N19+'PMK 2d'!O19+'FMC 2e'!O19+'Óvoda 2f'!P19+'Bölcsőde 2g'!O19+'Gondozási 2h'!N19 -> 1605.695 | N19: =M19/L19 -> 0.40142375
A20: B405 | B20: Ellátási díjak | C20: 62450 | D20: ='PH 2b'!C20+'SZEI 2c'!C20+'PMK 2d'!C20+'FMC 2e'!C20+'Óvoda 2f'!C20+'Bölcsőde 2g'!C20+'Gondozási 2h'!C20 -> 60930 | E20: =C20+D20 -> 123380 | F20: 62599.024 | G20: ='PH 2b'!F20+'SZEI 2c'!H20+'PMK 2d'!I20+'FMC 2e'!I20+'Óvoda 2f'!J20+'Bölcsőde 2g'!I20+'Gondozási 2h'!H20 -> 50074 | H20: =F20+G20 -> 112673.02 | I20: ='Önk 2a'!J20+'PH 2b'!H20+'SZEI 2c'!J20+'PMK 2d'!K20+'FMC 2e'!K20+'Óvoda 2f'!L20+'Bölcsőde 2g'!K20+'Gondozási 2h'!J20 -> 1616 | J20: ='Önk 2a'!K20+'PH 2b'!I20+'SZEI 2c'!K20+'PMK 2d'!L20+'FMC 2e'!L20+'Óvoda 2f'!M20+'Bölcsőde 2g'!L20+'Gondozási 2h'!K20 -> 0 | K20: ='Önk 2a'!L20+'PH 2b'!J20+'SZEI 2c'!L20+'PMK 2d'!M20+'FMC 2e'!M20+'Óvoda 2f'!N20+'Bölcsőde 2g'!M20+'Gondozási 2h'!L20 -> 500 | L20: =H20+I20+J20+K20 -> 114789.02 | M20: ='Önk 2a'!N20+'PH 2b'!L20+'SZEI 2c'!N20+'PMK 2d'!O20+'FMC 2e'!O20+'Óvoda 2f'!P20+'Bölcsőde 2g'!O20+'Gondozási 2h'!N20 -> 67578.923 | N20: =M20/L20 -> 0.58872287
A21: B406 | B21: Kiszámlázott általános forgalmi adó | C21: 125913.35 | D21: ='PH 2b'!C21+'SZEI 2c'!C21+'PMK 2d'!C21+'FMC 2e'!C21+'Óvoda 2f'!C21+'Bölcsőde 2g'!C21+'Gondozási 2h'!C21 -> 52444 | E21: =C21+D21 -> 178357.35 | F21: 124586.35 | G21: ='PH 2b'!F21+'SZEI 2c'!H21+'PMK 2d'!I21+'FMC 2e'!I21+'Óvoda 2f'!J21+'Bölcsőde 2g'!I21+'Gondozási 2h'!H21 -> 28857 | H21: =F21+G21 -> 153443.35 | I21: ='Önk 2a'!J21+'PH 2b'!H21+'SZEI 2c'!J21+'PMK 2d'!K21+'FMC 2e'!K21+'Óvoda 2f'!L21+'Bölcsőde 2g'!K21+'Gondozási 2h'!J21 -> 0 | J21: ='Önk 2a'!K21+'PH 2b'!I21+'SZEI 2c'!K21+'PMK 2d'!L21+'FMC 2e'!L21+'Óvoda 2f'!M21+'Bölcsőde 2g'!L21+'Gondozási 2h'!K21 -> 0 | K21: ='Önk 2a'!L21+'PH 2b'!J21+'SZEI 2c'!L21+'PMK 2d'!M21+'FMC 2e'!M21+'Óvoda 2f'!N21+'Bölcsőde 2g'!M21+'Gondozási 2h'!L21 -> 0 | L21: =H21+I21+J21+K21 -> 153443.35 | M21: ='Önk 2a'!N21+'PH 2b'!L21+'SZEI 2c'!N21+'PMK 2d'!O21+'FMC 2e'!O21+'Óvoda 2f'!P21+'Bölcsőde 2g'!O21+'Gondozási 2h'!N21 -> 59795.103 | N21: =M21/L21 -> 0.38968847
A22: B407 | B22: Általános forgalmi adó visszatérítése | C22: 9065 | D22: ='PH 2b'!C22+'SZEI 2c'!C22+'PMK 2d'!C22+'FMC 2e'!C22+'Óvoda 2f'!C22+'Bölcsőde 2g'!C22+'Gondozási 2h'!C22 -> 1000 | E22: =C22+D22 -> 10065 | F22: 0 | G22: ='PH 2b'!F22+'SZEI 2c'!H22+'PMK 2d'!I22+'FMC 2e'!I22+'Óvoda 2f'!J22+'Bölcsőde 2g'!I22+'Gondozási 2h'!H22 -> 1200 | H22: =F22+G22 -> 1200 | I22: ='Önk 2a'!J22+'PH 2b'!H22+'SZEI 2c'!J22+'PMK 2d'!K22+'FMC 2e'!K22+'Óvoda 2f'!L22+'Bölcsőde 2g'!K22+'Gondozási 2h'!J22 -> 0 | J22: ='Önk 2a'!K22+'PH 2b'!I22+'SZEI 2c'!K22+'PMK 2d'!L22+'FMC 2e'!L22+'Óvoda 2f'!M22+'Bölcsőde 2g'!L22+'Gondozási 2h'!K22 -> 1007 | K22: ='Önk 2a'!L22+'PH 2b'!J22+'SZEI 2c'!L22+'PMK 2d'!M22+'FMC 2e'!M22+'Óvoda 2f'!N22+'Bölcsőde 2g'!M22+'Gondozási 2h'!L22 -> 0 | L22: =H22+I22+J22+K22 -> 2207 | M22: ='Önk 2a'!N22+'PH 2b'!L22+'SZEI 2c'!N22+'PMK 2d'!O22+'FMC 2e'!O22+'Óvoda 2f'!P22+'Bölcsőde 2g'!O22+'Gondozási 2h'!N22 -> 4611.381 | N22: =M22/L22 -> 2.0894341
A23: B408 | B23: Kamatbevételek | C23: 15000 | D23: ='PH 2b'!C23+'SZEI 2c'!C23+'PMK 2d'!C23+'FMC 2e'!C23+'Óvoda 2f'!C23+'Bölcsőde 2g'!C23+'Gondozási 2h'!C23 -> 85 | E23: =C23+D23 -> 15085 | F23: 0 | G23: ='PH 2b'!F23+'SZEI 2c'!H23+'PMK 2d'!I23+'FMC 2e'!I23+'Óvoda 2f'!J23+'Bölcsőde 2g'!I23+'Gondozási 2h'!H23 -> 85 | H23: =F23+G23 -> 85 | I23: ='Önk 2a'!J23+'PH 2b'!H23+'SZEI 2c'!J23+'PMK 2d'!K23+'FMC 2e'!K23+'Óvoda 2f'!L23+'Bölcsőde 2g'!K23+'Gondozási 2h'!J23 -> 0 | J23: ='Önk 2a'!K23+'PH 2b'!I23+'SZEI 2c'!K23+'PMK 2d'!L23+'FMC 2e'!L23+'Óvoda 2f'!M23+'Bölcsőde 2g'!L23+'Gondozási 2h'!K23 -> 0 | K23: ='Önk 2a'!L23+'PH 2b'!J23+'SZEI 2c'!L23+'PMK 2d'!M23+'FMC 2e'!M23+'Óvoda 2f'!N23+'Bölcsőde 2g'!M23+'Gondozási 2h'!L23 -> 0 | L23: =H23+I23+J23+K23 -> 85 | M23: ='Önk 2a'!N23+'PH 2b'!L23+'SZEI 2c'!N23+'PMK 2d'!O23+'FMC 2e'!O23+'Óvoda 2f'!P23+'Bölcsőde 2g'!O23+'Gondozási 2h'!N23 -> 3764.588 | N23: =M23/L23 -> 44.289271
A24: B409 | B24: Egyéb pénzügyi műveletek bevételei | C24: 0 | D24: ='PH 2b'!C24+'SZEI 2c'!C24+'PMK 2d'!C24+'FMC 2e'!C24+'Óvoda 2f'!C24+'Bölcsőde 2g'!C24+'Gondozási 2h'!C24 -> 0 | E24: =C24+D24 -> 0 | F24: 0 | G24: ='PH 2b'!F24+'SZEI 2c'!H24+'PMK 2d'!I24+'FMC 2e'!I24+'Óvoda 2f'!J24+'Bölcsőde 2g'!I24+'Gondozási 2h'!H24 -> 0 | H24: =F24+G24 -> 0 | I24: ='Önk 2a'!J24+'PH 2b'!H24+'SZEI 2c'!J24+'PMK 2d'!K24+'FMC 2e'!K24+'Óvoda 2f'!L24+'Bölcsőde 2g'!K24+'Gondozási 2h'!J24 -> 0 | J24: ='Önk 2a'!K24+'PH 2b'!I24+'SZEI 2c'!K24+'PMK 2d'!L24+'FMC 2e'!L24+'Óvoda 2f'!M24+'Bölcsőde 2g'!L24+'Gondozási 2h'!K24 -> 0 | K24: ='Önk 2a'!L24+'PH 2b'!J24+'SZEI 2c'!L24+'PMK 2d'!M24+'FMC 2e'!M24+'Óvoda 2f'!N24+'Bölcsőde 2g'!M24+'Gondozási 2h'!L24 -> 0 | L24: =H24+I24+J24+K24 -> 0 | M24: ='Önk 2a'!N24+'PH 2b'!L24+'SZEI 2c'!N24+'PMK 2d'!O24+'FMC 2e'!O24+'Óvoda 2f'!P24+'Bölcsőde 2g'!O24+'Gondozási 2h'!N24 -> 0
A25: B410 | B25: Biztosító által fizetett kártérítés | C25: 5749 | D25: ='PH 2b'!C25+'SZEI 2c'!C25+'PMK 2d'!C25+'FMC 2e'!C25+'Óvoda 2f'!C25+'Bölcsőde 2g'!C25+'Gondozási 2h'!C25 -> 0 | E25: =C25+D25 -> 5749 | F25: 0 | G25: ='PH 2b'!F25+'SZEI 2c'!H25+'PMK 2d'!I25+'FMC 2e'!I25+'Óvoda 2f'!J25+'Bölcsőde 2g'!I25+'Gondozási 2h'!H25 -> 0 | H25: =F25+G25 -> 0 | I25: ='Önk 2a'!J25+'PH 2b'!H25+'SZEI 2c'!J25+'PMK 2d'!K25+'FMC 2e'!K25+'Óvoda 2f'!L25+'Bölcsőde 2g'!K25+'Gondozási 2h'!J25 -> 0 | J25: ='Önk 2a'!K25+'PH 2b'!I25+'SZEI 2c'!K25+'PMK 2d'!L25+'FMC 2e'!L25+'Óvoda 2f'!M25+'Bölcsőde 2g'!L25+'Gondozási 2h'!K25 -> 0 | K25: ='Önk 2a'!L25+'PH 2b'!J25+'SZEI 2c'!L25+'PMK 2d'!M25+'FMC 2e'!M25+'Óvoda 2f'!N25+'Bölcsőde 2g'!M25+'Gondozási 2h'!L25 -> 0 | L25: =H25+I25+J25+K25 -> 0 | M25: ='Önk 2a'!N25+'PH 2b'!L25+'SZEI 2c'!N25+'PMK 2d'!O25+'FMC 2e'!O25+'Óvoda 2f'!P25+'Bölcsőde 2g'!O25+'Gondozási 2h'!N25 -> 123.935
A26: B411 | B26: Egyéb működési bevételek | C26: 0 | D26: ='PH 2b'!C26+'SZEI 2c'!C26+'PMK 2d'!C26+'FMC 2e'!C26+'Óvoda 2f'!C26+'Bölcsőde 2g'!C26+'Gondozási 2h'!C26 -> 35895 | E26: =C26+D26 -> 35895 | F26: 4832 | G26: ='PH 2b'!F26+'SZEI 2c'!H26+'PMK 2d'!I26+'FMC 2e'!I26+'Óvoda 2f'!J26+'Bölcsőde 2g'!I26+'Gondozási 2h'!H26 -> 33295 | H26: =F26+G26 -> 38127 | I26: ='Önk 2a'!J26+'PH 2b'!H26+'SZEI 2c'!J26+'PMK 2d'!K26+'FMC 2e'!K26+'Óvoda 2f'!L26+'Bölcsőde 2g'!K26+'Gondozási 2h'!J26 -> 2311 | J26: ='Önk 2a'!K26+'PH 2b'!I26+'SZEI 2c'!K26+'PMK 2d'!L26+'FMC 2e'!L26+'Óvoda 2f'!M26+'Bölcsőde 2g'!L26+'Gondozási 2h'!K26 -> 0 | K26: ='Önk 2a'!L26+'PH 2b'!J26+'SZEI 2c'!L26+'PMK 2d'!M26+'FMC 2e'!M26+'Óvoda 2f'!N26+'Bölcsőde 2g'!M26+'Gondozási 2h'!L26 -> 680 | L26: =H26+I26+J26+K26 -> 41118 | M26: ='Önk 2a'!N26+'PH 2b'!L26+'SZEI 2c'!N26+'PMK 2d'!O26+'FMC 2e'!O26+'Óvoda 2f'!P26+'Bölcsőde 2g'!O26+'Gondozási 2h'!N26 -> 9808.318 | N26: =M26/L26 -> 0.23854074
A27: B5 | B27: Felhalmozási bevételek | C27: =SUM(C28:C30) -> 350974 | D27: =SUM(D28:D30) -> 0 | E27: =SUM(E28:E30) -> 350974 | F27: =SUM(F28:F30) -> 402494.5 | G27: =SUM(G28:G30) -> 0 | H27: =SUM(H28:H30) -> 402494.5 | I27: =SUM(I28:I30) -> 11238 | J27: =SUM(J28:J30) -> 0 | ... M27: =SUM(M28:M30) -> 72440.593 | N27: =M27/L27 -> 0.17240474
A28: B51 | B28: Immateriális javak értékesítése | C28: 0 | D28: ='PH 2b'!C28+'SZEI 2c'!C28+'PMK 2d'!C28+'FMC 2e'!C28+'Óvoda 2f'!C28+'Bölcsőde 2g'!C28+'Gondozási 2h'!C28 -> 0 | E28: =C28+D28 -> 0 | F28: 0 | G28: ='PH 2b'!F28+'SZEI 2c'!H28+'PMK 2d'!I28+'FMC 2e'!I28+'Óvoda 2f'!J28+'Bölcsőde 2g'!I28+'Gondozási 2h'!H28 -> 0 | H28: =F28+G28 -> 0 | I28: ='Önk 2a'!J28+'PH 2b'!H28+'SZEI 2c'!J28+'PMK 2d'!K28+'FMC 2e'!K28+'Óvoda 2f'!L28+'Bölcsőde 2g'!K28+'Gondozási 2h'!J28 -> 0 | J28: ='Önk 2a'!K28+'PH 2b'!I28+'SZEI 2c'!K28+'PMK 2d'!L28+'FMC 2e'!L28+'Óvoda 2f'!M28+'Bölcsőde 2g'!L28+'Gondozási 2h'!K28 -> 0 | K28: ='Önk 2a'!L28+'PH 2b'!J28+'SZEI 2c'!L28+'PMK 2d'!M28+'FMC 2e'!M28+'Óvoda 2f'!N28+'Bölcsőde 2g'!M28+'Gondozási 2h'!L28 -> 0 | L28: =H28+I28+J28+K28 -> 0 | M28: ='Önk 2a'!N28+'PH 2b'!L28+'SZEI 2c'!N28+'PMK 2d'!O28+'FMC 2e'!O28+'Óvoda 2f'!P28+'Bölcsőde 2g'!O28+'Gondozási 2h'!N28 -> 0
A29: B52 | B29: Ingatlanok értékesítése | C29: 350974 | D29: ='PH 2b'!C29+'SZEI 2c'!C29+'PMK 2d'!C29+'FMC 2e'!C29+'Óvoda 2f'!C29+'Bölcsőde 2g'!C29+'Gondozási 2h'!C29 -> 0 | E29: =C29+D29 -> 350974 | F29: 402494.5 | G29: ='PH 2b'!F29+'SZEI 2c'!H29+'PMK 2d'!I29+'FMC 2e'!I29+'Óvoda 2f'!J29+'Bölcsőde 2g'!I29+'Gondozási 2h'!H29 -> 0 | H29: =F29+G29 -> 402494.5 | I29: ='Önk 2a'!J29+'PH 2b'!H29+'SZEI 2c'!J29+'PMK 2d'!K29+'FMC 2e'!K29+'Óvoda 2f'!L29+'Bölcsőde 2g'!K29+'Gondozási 2h'!J29 -> 11235 | J29: ='Önk 2a'!K29+'PH 2b'!I29+'SZEI 2c'!K29+'PMK 2d'!L29+'FMC 2e'!L29+'Óvoda 2f'!M29+'Bölcsőde 2g'!L29+'Gondozási 2h'!K29 -> 0 | K29: ='Önk 2a'!L29+'PH 2b'!J29+'SZEI 2c'!L29+'PMK 2d'!M29+'FMC 2e'!M29+'Óvoda 2f'!N29+'Bölcsőde 2g'!M29+'Gondozási 2h'!L29 -> 0 | L29: =H29+I29+J29+K29 -> 413729.5 | M29: ='Önk 2a'!N29+'PH 2b'!L29+'SZEI 2c'!N29+'PMK 2d'!O29+'FMC 2e'!O29+'Óvoda 2f'!P29+'Bölcsőde 2g'!O29+'Gondozási 2h'!N29 -> 72437.593 | N29: =M29/L29 -> 0.17508443
A30: B53 | B30: Egyéb tárgyi eszközök értékesítése | C30: 0 | D30: ='PH 2b'!C30+'SZEI 2c'!C30+'PMK 2d'!C30+'FMC 2e'!C30+'Óvoda 2f'!C30+'Bölcsőde 2g'!C30+'Gondozási 2h'!C30 -> 0 | E30: =C30+D30 -> 0 | F30: 0 | G30: ='PH 2b'!F30+'SZEI 2c'!H30+'PMK 2d'!I30+'FMC 2e'!I30+'Óvoda 2f'!J30+'Bölcsőde 2g'!I30+'Gondozási 2h'!H30 -> 0 | H30: =F30+G30 -> 0 | I30: ='Önk 2a'!J30+'PH 2b'!H30+'SZEI 2c'!J30+'PMK 2d'!K30+'FMC 2e'!K30+'Óvoda 2f'!L30+'Bölcsőde 2g'!K30+'Gondozási 2h'!J30 -> 3 | J30: ='Önk 2a'!K30+'PH 2b'!I30+'SZEI 2c'!K30+'PMK 2d'!L30+'FMC 2e'!L30+'Óvoda 2f'!M30+'Bölcsőde 2g'!L30+'Gondozási 2h'!K30 -> 0 | K30: ='Önk 2a'!L30+'PH 2b'!J30+'SZEI 2c'!L30+'PMK 2d'!M30+'FMC 2e'!M30+'Óvoda 2f'!N30+'Bölcsőde 2g'!M30+'Gondozási 2h'!L30 -> 6445 | L30: =H30+I30+J30+K30 -> 6448 | M30: ='Önk 2a'!N30+'PH 2b'!L30+'SZEI 2c'!N30+'PMK 2d'!O30+'FMC 2e'!O30+'Óvoda 2f'!P30+'Bölcsőde 2g'!O30+'Gondozási 2h'!N30 -> 3 | N30: =M30/L30 -> 0.00046526055
A31: B6 | B31: Működési célú átvett pénzeszköz | C31: 13300 | D31: ='PH 2b'!C31+'SZEI 2c'!C31+'PMK 2d'!C31+'FMC 2e'!C31+'Óvoda 2f'!C31+'Bölcsőde 2g'!C31+'Gondozási 2h'!C31 -> 1700 | E31: =C31+D31 -> 15000 | F31: 42695 | G31: ='PH 2b'!F31+'SZEI 2c'!H31+'PMK 2d'!I31+'FMC 2e'!I31+'Óvoda 2f'!J31+'Bölcsőde 2g'!I31+'Gondozási 2h'!H31 -> 690 | H31: =F31+G31 -> 43385 | I31: ='Önk 2a'!J31+'PH 2b'!H31+'SZEI 2c'!J31+'PMK 2d'!K31+'FMC 2e'!K31+'Óvoda 2f'!L31+'Bölcsőde 2g'!K31+'Gondozási 2h'!J31 -> 0 | J31: ='Önk 2a'!K31+'PH 2b'!I31+'SZEI 2c'!K31+'PMK 2d'!L31+'FMC 2e'!L31+'Óvoda 2f'!M31+'Bölcsőde 2g'!L31+'Gondozási 2h'!K31 -> 1488 | K31: ='Önk 2a'!L31+'PH 2b'!J31+'SZEI 2c'!L31+'PMK 2d'!M31+'FMC 2e'!M31+'Óvoda 2f'!N31+'Bölcsőde 2g'!M31+'Gondozási 2h'!L31 -> 23354.876 | L31: =H31+I31+J31+K31 -> 68227.876 | M31: ='Önk 2a'!N31+'PH 2b'!L31+'SZEI 2c'!N31+'PMK 2d'!O31+'FMC 2e'!O31+'Óvoda 2f'!P31+'Bölcsőde 2g'!O31+'Gondozási 2h'!N31 -> 9878.808 | N31: =M31/L31 -> 0.14479138
A32: B7 | B32: Felhalmozási célú átvett pénzeszköz | C32: 65963 | D32: ='PH 2b'!C32+'SZEI 2c'!C32+'PMK 2d'!C32+'FMC 2e'!C32+'Óvoda 2f'!C32+'Bölcsőde 2g'!C32+'Gondozási 2h'!C32 -> 0 | E32: =C32+D32 -> 65963 | F32: 0 | G32: ='PH 2b'!F32+'SZEI 2c'!H32+'PMK 2d'!I32+'FMC 2e'!I32+'Óvoda 2f'!J32+'Bölcsőde 2g'!I32+'Gondozási 2h'!H32 -> 0 | H32: =F32+G32 -> 0 | I32: ='Önk 2a'!J32+'PH 2b'!H32+'SZEI 2c'!J32+'PMK 2d'!K32+'FMC 2e'!K32+'Óvoda 2f'!L32+'Bölcsőde 2g'!K32+'Gondozási 2h'!J32 -> 8947 | J32: ='Önk 2a'!K32+'PH 2b'!I32+'SZEI 2c'!K32+'PMK 2d'!L32+'FMC 2e'!L32+'Óvoda 2f'!M32+'Bölcsőde 2g'!L32+'Gondozási 2h'!K32 -> 936 | K32: ='Önk 2a'!L32+'PH 2b'!J32+'SZEI 2c'!L32+'PMK 2d'!M32+'FMC 2e'!M32+'Óvoda 2f'!N32+'Bölcsőde 2g'!M32+'Gondozási 2h'!L32 -> 12842.155 | L32: =H32+I32+J32+K32 -> 22725.155 | M32: ='Önk 2a'!N32+'PH 2b'!L32+'SZEI 2c'!N32+'PMK 2d'!O32+'FMC 2e'!O32+'Óvoda 2f'!P32+'Bölcsőde 2g'!O32+'Gondozási 2h'!N32 -> 9850.221 | N32: =M32/L32 -> 0.43345011
A33: II. | B33: KÖLTSÉGVETÉSI KIADÁSOK | C33: =C34+C37+C38+C44+C45+C50+C51+C52 -> 3692812.3 | D33: =D34+D37+D38+D44+D45+D50+D51+D52 -> 3014064 | E33: =E34+E37+E38+E44+E45+E50+E51+E52 -> 6706876.3 | F33: =F34+F37+F38+F44+F45+F50+F51+F52 -> 2899756 | G33: =G34+G37+G38+G44+G45+G50+G51+G52 -> 2908779 | H33: =H34+H37+H38+H44+H45+H50+H51+H52 -> 5808535 | I33: =I34+I37+I38+I44+I45+I50+I51+I52 -> 270664 | J33: =J34+J37+J38+J44+J45+J50+J51+J52 -> 25120 | ... L33: =L34+L37+L38+L44+L45+L50+L51+L52 -> 6205915.9 | M33: =SUM(M34,M37,M38,M44,M45,M50,M52,M51) -> 2421540.7 | N33: =M33/L33 -> 0.39019877
A34: K1 | B34: Személyi juttatások | C34: 4680 | D34: ='PH 2b'!C34+'SZEI 2c'!C34+'PMK 2d'!C34+'FMC 2e'!C34+'Óvoda 2f'!C34+'Bölcsőde 2g'!C34+'Gondozási 2h'!C34 -> 1615272 | E34: =C34+D34 -> 1619952 | F34: =SUM(F35:F36) -> 4650 | G34: =SUM(G35:G36) -> 1608461 | H34: =SUM(H35:H36) -> 1613111 | I34: =SUM(I35:I36) -> 24636 | J34: =SUM(J35:J36) -> 4298 | K34: =SUM(K35:K36) -> 4674 | L34: =SUM(L35:L36) -> 1646719 | M34: =SUM(M35:M36) -> 786284.73 | N34: =M34/L34 -> 0.47748567
A35: K11 | B35: Foglalkoztatottak személyi juttatásai | C35: 0 | E35: =C35+D35 -> 0 | F35: ='Önk 2a'!G35 -> 0 | G35: ='PH 2b'!F35+'SZEI 2c'!H35+'PMK 2d'!I35+'FMC 2e'!I35+'Óvoda 2f'!J35+'Bölcsőde 2g'!I35+'Gondozási 2h'!H35 -> 1503940 | H35: =F35+G35 -> 1503940 | I35: ='Önk 2a'!J35+'PH 2b'!H35+'SZEI 2c'!J35+'PMK 2d'!K35+'FMC 2e'!K35+'Óvoda 2f'!L35+'Bölcsőde 2g'!K35+'Gondozási 2h'!J35 -> 24026 | J35: ='Önk 2a'!K35+'PH 2b'!I35+'SZEI 2c'!K35+'PMK 2d'!L35+'FMC 2e'!L35+'Óvoda 2f'!M35+'Bölcsőde 2g'!L35+'Gondozási 2h'!K35 -> 4298 | K35: ='Önk 2a'!L35+'PH 2b'!J35+'SZEI 2c'!L35+'PMK 2d'!M35+'FMC 2e'!M35+'Óvoda 2f'!N35+'Bölcsőde 2g'!M35+'Gondozási 2h'!L35 -> 3149 | L35: =H35+I35+J35+K35 -> 1535413 | M35: ='Önk 2a'!N35+'PH 2b'!L35+'SZEI 2c'!N35+'PMK 2d'!O35+'FMC 2e'!O35+'Óvoda 2f'!P35+'Bölcsőde 2g'!O35+'Gondozási 2h'!N35 -> 735321.68 | N35: =M35/L35 -> 0.47890807
A36: K12 | B36: Külső személyi juttatások | C36: 4680 | E36: =C36+D36 -> 4680 | F36: ='Önk 2a'!G36 -> 4650 | G36: ='PH 2b'!F36+'SZEI 2c'!H36+'PMK 2d'!I36+'FMC 2e'!I36+'Óvoda 2f'!J36+'Bölcsőde 2g'!I36+'Gondozási 2h'!H36 -> 104521 | H36: =F36+G36 -> 109171 | I36: ='Önk 2a'!J36+'PH 2b'!H36+'SZEI 2c'!J36+'PMK 2d'!K36+'FMC 2e'!K36+'Óvoda 2f'!L36+'Bölcsőde 2g'!K36+'Gondozási 2h'!J36 -> 610 | J36: ='Önk 2a'!K36+'PH 2b'!I36+'SZEI 2c'!K36+'PMK 2d'!L36+'FMC 2e'!L36+'Óvoda 2f'!M36+'Bölcsőde 2g'!L36+'Gondozási 2h'!K36 -> 0 | K36: ='Önk 2a'!L36+'PH 2b'!J36+'SZEI 2c'!L36+'PMK 2d'!M36+'FMC 2e'!M36+'Óvoda 2f'!N36+'Bölcsőde 2g'!M36+'Gondozási 2h'!L36 -> 1525 | L36: =H36+I36+J36+K36 -> 111306 | M36: ='Önk 2a'!N36+'PH 2b'!L36+'SZEI 2c'!N36+'PMK 2d'!O36+'FMC 2e'!O36+'Óvoda 2f'!P36+'Bölcsőde 2g'!O36+'Gondozási 2h'!N36 -> 50963.054 | N36: =M36/L36 -> 0.45786439
A37: K2 | B37: Munkaadókat terhelő járulékok és szociális hozzájárulási adó | C37: 0 | D37: ='PH 2b'!C37+'SZEI 2c'!C37+'PMK 2d'!C37+'FMC 2e'!C37+'Óvoda 2f'!C37+'Bölcsőde 2g'!C37+'Gondozási 2h'!C37 -> 444038 | E37: =C37+D37 -> 444038 | F37: 0 | G37: ='PH 2b'!F37+'SZEI 2c'!H37+'PMK 2d'!I37+'FMC 2e'!I37+'Óvoda 2f'!J37+'Bölcsőde 2g'!I37+'Gondozási 2h'!H37 -> 453811 | H37: =F37+G37 -> 453811 | I37: ='Önk 2a'!J37+'PH 2b'!H37+'SZEI 2c'!J37+'PMK 2d'!K37+'FMC 2e'!K37+'Óvoda 2f'!L37+'Bölcsőde 2g'!K37+'Gondozási 2h'!J37 -> 7695 | J37: ='Önk 2a'!K37+'PH 2b'!I37+'SZEI 2c'!K37+'PMK 2d'!L37+'FMC 2e'!L37+'Óvoda 2f'!M37+'Bölcsőde 2g'!L37+'Gondozási 2h'!K37 -> 6297 | K37: ='Önk 2a'!L37+'PH 2b'!J37+'SZEI 2c'!L37+'PMK 2d'!M37+'FMC 2e'!M37+'Óvoda 2f'!N37+'Bölcsőde 2g'!M37+'Gondozási 2h'!L37 -> 1950.9 | L37: =H37+I37+J37+K37 -> 469753.9 | M37: ='Önk 2a'!N37+'PH 2b'!L37+'SZEI 2c'!N37+'PMK 2d'!O37+'FMC 2e'!O37+'Óvoda 2f'!P37+'Bölcsőde 2g'!O37+'Gondozási 2h'!N37 -> 223190.64 | N37: =M37/L37 -> 0.47512248
A38: K3 | B38: Dologi kiadások | C38: 1491124.3 | D38: ='PH 2b'!C38+'SZEI 2c'!C38+'PMK 2d'!C38+'FMC 2e'!C38+'Óvoda 2f'!C38+'Bölcsőde 2g'!C38+'Gondozási 2h'!C38 -> 794737 | E38: =C38+D38 -> 2285861.3 | F38: =SUM(F39:F43) -> 1083656.3 | G38: =SUM(G39:G43) -> 775036 | H38: =SUM(H39:H43) -> 1858692.3 | I38: =SUM(I39:I43) -> 75493 | J38: =SUM(J39:J43) -> 21839 | K38: =SUM(K39:K43) -> 57035.89 | L38: =SUM(L39:L43) -> 2013060.2 | M38: =SUM(M39:M43) -> 886089.32 | N38: =M38/L38 -> 0.44017031
A39: K31 | B39: Készletbeszerzés | C39: 7302 | D39: ='PH 2b'!C40+'SZEI 2c'!R47+'PMK 2d'!R46+'FMC 2e'!R46+'Óvoda 2f'!S47+'Bölcsőde 2g'!R46+'Gondozási 2h'!R46 -> 15945 | E39: =C39+D39 -> 23247 | F39: ='Önk 2a'!G39 -> 14841 | G39: ='PH 2b'!F39+'SZEI 2c'!H39+'PMK 2d'!I39+'FMC 2e'!I39+'Óvoda 2f'!J39+'Bölcsőde 2g'!I39+'Gondozási 2h'!H39 -> 101007 | H39: =F39+G39 -> 115848 | I39: ='Önk 2a'!J39+'PH 2b'!H39+'SZEI 2c'!J39+'PMK 2d'!K39+'FMC 2e'!K39+'Óvoda 2f'!L39+'Bölcsőde 2g'!K39+'Gondozási 2h'!J39 -> 0 | J39: ='Önk 2a'!K39+'PH 2b'!I39+'SZEI 2c'!K39+'PMK 2d'!L39+'FMC 2e'!L39+'Óvoda 2f'!M39+'Bölcsőde 2g'!L39+'Gondozási 2h'!K39 -> 0 | K39: ='Önk 2a'!L39+'PH 2b'!J39+'SZEI 2c'!L39+'PMK 2d'!M39+'FMC 2e'!M39+'Óvoda 2f'!N39+'Bölcsőde 2g'!M39+'Gondozási 2h'!L39 -> 0 | L39: =H39+I39+J39+K39 -> 115848 | M39: ='Önk 2a'!N39+'PH 2b'!L39+'SZEI 2c'!N39+'PMK 2d'!O39+'FMC 2e'!O39+'Óvoda 2f'!P39+'Bölcsőde 2g'!O39+'Gondozási 2h'!N39 -> 50219.09 | N39: =M39/L39 -> 0.43349121
A40: K32 | B40: Kommunikációs szolgáltatások | C40: 11499 | D40: ='PH 2b'!C41+'SZEI 2c'!R48+'PMK 2d'!R47+'FMC 2e'!R47+'Óvoda 2f'!S48+'Bölcsőde 2g'!R47+'Gondozási 2h'!R47 -> 78621 | E40: =C40+D40 -> 90120 | F40: ='Önk 2a'!G40 -> 15655 | G40: ='PH 2b'!F40+'SZEI 2c'!H40+'PMK 2d'!I40+'FMC 2e'!I40+'Óvoda 2f'!J40+'Bölcsőde 2g'!I40+'Gondozási 2h'!H40 -> 27299 | H40: =F40+G40 -> 42954 | I40: ='Önk 2a'!J40+'PH 2b'!H40+'SZEI 2c'!J40+'PMK 2d'!K40+'FMC 2e'!K40+'Óvoda 2f'!L40+'Bölcsőde 2g'!K40+'Gondozási 2h'!J40 -> 0 | J40: ='Önk 2a'!K40+'PH 2b'!I40+'SZEI 2c'!K40+'PMK 2d'!L40+'FMC 2e'!L40+'Óvoda 2f'!M40+'Bölcsőde 2g'!L40+'Gondozási 2h'!K40 -> 0 | K40: ='Önk 2a'!L40+'PH 2b'!J40+'SZEI 2c'!L40+'PMK 2d'!M40+'FMC 2e'!M40+'Óvoda 2f'!N40+'Bölcsőde 2g'!M40+'Gondozási 2h'!L40 -> 0 | L40: =H40+I40+J40+K40 -> 42954 | M40: ='Önk 2a'!N40+'PH 2b'!L40+'SZEI 2c'!N40+'PMK 2d'!O40+'FMC 2e'!O40+'Óvoda 2f'!P40+'Bölcsőde 2g'!O40+'Gondozási 2h'!N40 -> 24117.889 | N40: =M40/L40 -> 0.56148179
...

Sheet Önk 2a
B1: Szentendre Város Önkormányzata | C1: 2015 Előirányzat | F1: 2015 tény 2016.01.25. | G1: 2016 Előirányzat | N1: 2016 Tény 01-06. hó
C2: Kötelező feladatok | D2: Nem kötelező feladatok | E2: Összesen | G2: Kötelező feladatok | H2: Nem kötelező feladatok | I2: Összesen | J2: 1. módosítás | K2: 2. módosítás | L2: 3. módosítás | M2: Módosított előirányzat | N2: EFt | O2: %
A3: I. | B3: KÖLTSÉGVETÉSI BEVÉTELEK | C3: =SUM(C6,C7,C8,C15,C27,C31,C32) -> 5463440.3 | D3: 0 | E3: 5463440.3 | F3: =F6+F7+F8+F15+F27+F31+F32 -> 6397372 | G3: =G6+G7+G8+G15+G27+G31+G32 -> 4756032.9 | H3: =H6+H7+H8+H15+H27+H31+H32 -> 0 | I3: =I6+I7+I8+I15+I27+I31+I32 -> 4756032.9 | J3: =J6+J7+J8+J15+J27+J31+J32 -> 33626 | K3: =K6+K7+K8+K15+K27+K31+K32 -> 22435 | L3: =L6+L7+L8+L15+L27+L31+L32 -> 67366.749 | M3: =M6+M7+M8+M15+M27+M31+M32 -> 4879460.6 | N3: =N6+N7+N8+N15+N27+N31+N32 -> 2334740.8 | O3: =N3/M3 -> 0.47848338
A4: B11,B12 | B4: Önkormányzatok működési támogatásai | C4: 1383056 | E4: 1383056 | F4: =1447711+8952 -> 1456663 | G4: 1428548 | I4: =SUM(G4:H4) -> 1428548 | J4: =4385+2433+4305-53+62+1 -> 11133 | K4: =2328+5099+2595+2275+1640+7562 -> 21499 | L4: =('[1]Állami támogatás'!$C$15+'[1]Állami támogatás'!$C$19+'[1]Állami támogatás'!$C$24+'[1]Állami támogatás'!$C$27+'[1]Állami támogatás'!$C$31)/1000 -> 26303.959 | M4: =SUM(I4:L4) -> 1487484 | N4: =800509.028 -> 800509.03 | O4: =N4/M4 -> 0.53816313
A5: B16 | B5: Egyéb működési célú támogatások ÁHT-n belülről OEP finanszírozás | C5: 31394 | E5: 31394 | F5: 47478 | G5: 39610 | I5: =SUM(G5:H5) -> 39610 | M5: =SUM(I5:L5) -> 39610 | N5: 10179.834 | O5: =N5/M5 -> 0.25700162
A6: B1 | B6: Működési célú támogatások államháztartáson belülről | C6: 1414450 | E6: 1414450 | F6: =SUM(F4:F5) -> 1504141 | G6: =G4+G5 -> 1468158 | H6: =H4+H5 -> 0 | I6: =I4+I5 -> 1468158 | J6: =J4+J5 -> 11133 | K6: =K4+K5 -> 21499 | L6: =L4+L5 -> 26303.959 | M6: =M4+M5 -> 1527094 | N6: =N4+N5 -> 810688.86 | O6: =N6/M6 -> 0.53087032
A7: B2 | B7: Felhalmozási célú támogatások államháztartáson belülről | C7: 1067671 | E7: 1067671 | F7: 380231 | G7: 64300 | I7: 64300 | L7: =('[1]Állami támogatás'!$C$5+'[1]Állami támogatás'!$C$6+'[1]Állami támogatás'!$C$7)/1000 -> 14340 | M7: =SUM(I7:L7) -> 78640 | N7: 26181.795 | O7: =N7/M7 -> 0.33293229
A8: B3 | B8: Közhatalmi bevételek | C8: 1926600 | E8: 1926600 | F8: =SUM(F9,F10,F14) -> 1981150 | G8: =SUM(G9,G10,G14) -> 2130000 | H8: =SUM(H9,H10,H14) -> 0 | I8: =SUM(I9,I10,I14) -> 2130000 | J8: =SUM(J9,J10,J14) -> 0 | K8: =SUM(K9,K10,K14) -> 0 | L8: =SUM(L9,L10,L14) -> 0 | M8: =SUM(M9,M10,M14) -> 2130000 | N8: =SUM(N9,N10,N14) -> 1100864 | O8: =N8/M8 -> 0.51683756
A9: B34 | B9: Vagyoni tipusú adók (építményadó, ép.utáni IFA, magánsz.komm.adója, telekadó) | C9: 550000 | E9: 550000 | F9: 615619 | G9: 670000 | I9: =SUM(G9:H9) -> 670000 | M9: =SUM(I9:L9) -> 670000 | N9: 384834.8 | O9: =N9/M9 -> 0.5743803
A10: B35 | B10: Termékek és szolgáltatások adói | C10: 1355200 | E10: 1355200 | F10: =SUM(F11:F13) -> 1331849 | G10: =SUM(G11:G13) -> 1425000 | H10: =SUM(H11:H13) -> 0 | I10: =SUM(G10:H10) -> 1425000 | J10: =SUM(J11:J13) -> 0 | K10: =SUM(K11:K13) -> 0 | L10: =SUM(L11:L13) -> 0 | M10: =SUM(M11:M13) -> 1425000 | N10: =SUM(N11:N13) -> 704764.02 | O10: =N10/M10 -> 0.49457124
A11: B351 | B11: ebből Értékesítési és forgalmi adók (IPA) | C11: 1250000 | E11: 1250000 | F11: 1213148 | G11: 1300000 | I11: =SUM(G11:H11) -> 1300000 | M11: =SUM(I11:L11) -> 1300000 | N11: 633592.15 | O11: =N11/M11 -> 0.48737858
A12: B354 | B12: ebből Gépjármű adók | C12: 92000 | E12: 92000 | F12: 104820 | G12: 110000 | I12: =SUM(G12:H12) -> 110000 | M12: =SUM(I12:L12) -> 110000 | N12: 65575.988 | O12: =N12/M12 -> 0.59614535
A13: B355 | B13: ebből Egyéb áruhasználati és szolgáltatási adók (tart.utáni IFA, talajterhelési díj) | C13: 13200 | E13: 13200 | F13: 13881 | G13: 15000 | I13: =SUM(G13:H13) -> 15000 | M13: =SUM(I13:L13) -> 15000 | N13: 5595.886 | O13: =N13/M13 -> 0.37305907
A14: B36 | B14: Egyéb közhatalmi bevételek (illeték, bírság) | C14: 21400 | E14: 21400 | F14: 33682 | G14: 35000 | I14: =SUM(G14:H14) -> 35000 | M14: =SUM(I14:L14) -> 35000 | N14: 11265.178 | O14: =N14/M14 -> 0.32186223
A15: B4 | B15: Működési bevételek | C15: 624482.35 | E15: 624482.35 | F15: =SUM(F16:F26) -> 628014 | G15: =SUM(G16:G26) -> 648385.37 | H15: =SUM(H16:H26) -> 0 | I15: =SUM(I16:I26) -> 648385.37 | J15: =SUM(J16:J26) -> 2311 | K15: =SUM(K16:K26) -> 0 | L15: =SUM(L16:L26) -> 680 | M15: =SUM(M16:M26) -> 651376.37 | N15: =SUM(N16:N26) -> 306558.34 | O15: =N15/M15 -> 0.47063166
A16: B401 | B16: Készletértékesítés ellenértéke | C16: 300 | E16: 300 | F16: 91 | G16: 0 | I16: =SUM(G16:H16) -> 0 | M16: =SUM(I16:L16) -> 0
A17: B402 | B17: Szolgáltatások ellenértéke | C17: 378305 | E17: 378305 | F17: 358084 | G17: 401022 | I17: =SUM(G17:H17) -> 401022 | M17: =SUM(I17:L17) -> 401022 | N17: 200230.48 | O17: =N17/M17 -> 0.49930048
A18: B403 | B18: Közvetített szolgáltatások ellenértéke | C18: 21100 | E18: 21100 | F18: 22791 | G18: 51346 | I18: =SUM(G18:H18) -> 51346 | M18: =SUM(I18:L18) -> 51346 | N18: 9472.644 | O18: =N18/M18 -> 0.1844865
A19: B404 | B19: Tulajdonosi bevételek | C19: 6600 | E19: 6600 | F19: 4141 | G19: 4000 | I19: =SUM(G19:H19) -> 4000 | M19: =SUM(I19:L19) -> 4000 | N19: 1605.695 | O19: =N19/M19 -> 0.40142375
A20: B405 | B20: Ellátási díjak | C20: 62450 | E20: 62450 | F20: 86998 | G20: 62599.024 | I20: =SUM(G20:H20) -> 62599.024 | M20: =SUM(I20:L20) -> 62599.024 | N20: 37109.951 | O20: =N20/M20 -> 0.59281997
A21: B406 | B21: Kiszámlázott általános forgalmi adó | C21: 125913.35 | E21: 125913.35 | F21: 118429 | G21: 124586.35 | I21: =SUM(G21:H21) -> 124586.35 | M21: =SUM(I21:L21) -> 124586.35 | N21: 47571.583 | O21: =N21/M21 -> 0.38183625
A22: B407 | B22: Általános forgalmi adó visszatérítése | C22: 9065 | E22: 9065 | F22: 0 | G22: 0 | I22: =SUM(G22:H22) -> 0 | M22: =SUM(I22:L22) -> 0
A23: B408 | B23: Kamatbevételek | C23: 15000 | E23: 15000 | F23: 11353 | G23: 0 | I23: =SUM(G23:H23) -> 0 | M23: =SUM(I23:L23) -> 0 | N23: 2915.842
A24: B409 | B24: Egyéb pénzügyi műveletek bevételei | C24: 0 | E24: 0 | G24: 0 | I24: =SUM(G24:H24) -> 0 | M24: =SUM(I24:L24) -> 0
A25: B410 | B25: Biztosító által fizetett kártérítés | C25: 5749 | E25: 5749 | F25: 2632 | G25: 2632 | I25: =SUM(G25:H25) -> 2632 | M25: =SUM(I25:L25) -> 2632 | N25: 92.866
A26: B411 | B26: Egyéb működési bevételek | C26: 0 | E26: 0 | F26: 23495 | G26: 2200 | I26: =SUM(G26:H26) -> 2200 | J26: 2311 | L26: ='[1]Testületi kezdv ei mód'!$C$4/1000 -> 680 | M26: =SUM(I26:L26) -> 5191 | N26: 7559.282 | O26: =N26/M26 -> 1.4562285
A27: B5 | B27: Felhalmozási bevételek | C27: 350974 | E27: 350974 | F27: =F28+F29+F30 -> 120460 | G27: =SUM(G28:G30) -> 402494.5 | H27: =SUM(H28:H30) -> 0 | I27: =SUM(I28:I30) -> 402494.5 | J27: =SUM(J28:J30) -> 11235 | K27: =SUM(K28:K30) -> 0 | L27: =SUM(L28:L30) -> 0 | M27: =SUM(M28:M30) -> 413729.5 | N27: =SUM(N28:N30) -> 72437.593 | O27: =N27/M27 -> 0.17508443
A28: B51 | B28: Immateriális javak értékesítése | C28: 0 | E28: 0 | G28: 0 | I28: =SUM(G28:H28) -> 0 | M28: =SUM(I28:L28) -> 0
A29: B52 | B29: Ingatlanok értékesítése | C29: 350974 | E29: 350974 | F29: 120460 | G29: 402494.5 | I29: =SUM(G29:H29) -> 402494.5 | J29: 11235 | M29: =SUM(I29:L29) -> 413729.5 | N29: 72437.593 | O29: =N29/M29 -> 0.17508443
A30: B53 | B30: Egyéb tárgyi eszközök értékesítése | C30: 0 | E30: 0 | G30: 0 | I30: =SUM(G30:H30) -> 0 | J30: 0 | M30: =SUM(I30:L30) -> 0
A31: B6 | B31: Működési célú átvett pénzeszköz | C31: 13300 | E31: 13300 | F31: 1758101 | G31: 42695 | H31: 0 | I31: 42695 | J31: 0 | L31: ='[1]Egyéb ei módosítás'!$C$21/1000+'[1]Egyéb ei módosítás'!$C$27/1000+'[1]Egyéb ei módosítás'!$C$33/1000 -> 13200.635 | M31: =SUM(I31:L31) -> 55895.635 | N31: 8200.635 | O31: =N31/M31 -> 0.14671333
A32: B7 | B32: Felhalmozási célú átvett pénzeszköz | C32: 65963 | E32: 65963 | F32: 25275 | G32: 0 | H32: 0 | I32: 0 | J32: 8947 | K32: 936 | L32: ='[1]Egyéb ei módosítás'!$C$13/1000+'[1]Egyéb ei módosítás'!$C$17/1000 -> 12842.155 | M32: =SUM(I32:L32) -> 22725.155 | N32: 9809.602 | O32: =N32/M32 -> 0.43166271
A33: II. | B33: KÖLTSÉGVETÉSI KIADÁSOK | C33: 1942300 | D33: 1750512 | E33: 3692812 | F33: =F34+F37+F38+F44+F45+F50+F51+F52 -> 4612774 | G33: =SUM(G34,G37,G38,G44,G45,G50,G52,G51) -> 2110255 | H33: =SUM(H34,H37,H38,H44,H45,H50,H52,H51) -> 789501 | I33: =SUM(I34,I37,I38,I44,I45,I50,I52,I51) -> 2899756 | J33: =SUM(J34,J37,J38,J44,J45,J50,J52,J51) -> 141567 | K33: =SUM(K34,K37,K38,K44,K45,K50,K52,K51) -> 61233 | L33: =SUM(L34,L37,L38,L44,L45,L50,L52,L51) -> 28026.749 | M33: =SUM(M34,M37,M38,M44,M45,M50,M52,M51) -> 3130582.7 | N33: =SUM(N34,N37,N38,N44,N45,N50,N52,N51) -> 951664.87 | O33: =N33/M33 -> 0.30398969
A34: K1 | B34: Személyi juttatások | C34: 4680 | E34: 4680 | F34: =F35+F36 -> 2360 | G34: =SUM(G35:G36) -> 4650 | H34: =SUM(H35:H36) -> 0 | I34: =SUM(I35:I36) -> 4650 | J34: =SUM(J35:J36) -> -650 | K34: =SUM(K35:K36) -> 55473 | L34: =SUM(L35:L36) -> 1525 | M34: =SUM(M35:M36) -> 60998 | N34: =SUM(N35:N36) -> 646.688 | O34: =N34/M34 -> 0.01060179
A35: K11 | B35: Foglalkoztatottak személyi juttatásai | C35: 0 | E35: 0 | F35: 1333 | G35: 0 | H35: 0 | I35: =SUM(G35:H35) -> 0 | M35: =SUM(I35:L35) -> 0 | O35: =N35/M35 -> #DIV/0!
A36: K12 | B36: Külső személyi juttatások | C36: 4680 | E36: 4680 | F36: 1027 | G36: 4650 | I36: =SUM(G36:H36) -> 4650 | J36: -650 | K36: 55473 | L36: ='[1]Egyéb ei módosítás'!$D$22/1000+'[1]Egyéb ei módosítás'!$D$28/1000 -> 1525 | M36: =SUM(I36:L36) -> 60998 | N36: 646.688 | O36: =N36/M36 -> 0.01060179
A37: K2 | B37: Munkaadókat terhelő járulékok és szociális hozzájárulási adó | C37: 0 | E37: 0 | F37: 501 | G37: 0 | H37: 0 | I37: 0 | J37: 650 | K37: 14978 | L37: ='[1]Egyéb ei módosítás'!$D$23/1000+'[1]Egyéb ei módosítás'!$D$29/1000 -> 412 | M37: =SUM(I37:L37) -> 16040 | N37: 325.523 | O37: =N37/M37 -> 0.020294451
A38: K3 | B38: Dologi kiadások | C38: 1491124.3 | E38: 1491124.3 | F38: =SUM(F39:F43) -> 992396 | G38: =SUM(G39:G43) -> 1083656.3 | H38: =SUM(H39:H43) -> 0 | I38: =SUM(I39:I43) -> 1083656.3 | J38: =SUM(J39:J43) -> 27245 | K38: =SUM(K39:K43) -> 7418 | L38: =SUM(L39:L43) -> 4963 | M38: =SUM(M39:M43) -> 1123282.3 | N38: =SUM(N39:N43) -> 498944.58 | O38: =N38/M38 -> 0.4441845
A39: K31 | B39: Készletbeszerzés | C39: 7302 | E39: 7302 | F39: 7850 | G39: 14841 | I39: =SUM(G39:H39) -> 14841 | M39: =SUM(I39:L39) -> 14841 | N39: 13664.267 | O39: =N39/M39 -> 0.92071067
A40: K32 | B40: Kommunikációs szolgáltatások | C40: 11499 | E40: 11499 | F40: 19393 | G40: 15655 | I40: =SUM(G40:H40) -> 15655 | M40: =SUM(I40:L40) -> 15655 | N40: 3937.122 | O40: =N40/M40 -> 0.25149294
...

Sheet PH 2b
B1: Polgármesteri Hivatal | C1: 2015 Előirányzat | E1: 2015 tény 2016.01.25. | F1: 2016 Előirányzat | L1: 2016 Tény 01-06. hó
C2: Kötelező feladatok | D2: Nem kötelező feladatok | F2: Kötelező feladatok | G2: Nem kötelező feladatok | H2: 1. módosítás | I2: 2. módosítás | J2: 3. módosítás | K2: Módosított előirányzat | L2: EFt | M2: %
A3: I. | B3: KÖLTSÉGVETÉSI BEVÉTELEK | C3: 12287 | D3: 0 | E3: 3958 | F3: =F6+F7+F8+F15+F27+F31+F32 -> 7060 | G3: =G6+G7+G8+G15+G27+G31+G32 -> 0 | H3: =H6+H7+H8+H15+H27+H31+H32 -> 0 | I3: =I6+I7+I8+I15+I27+I31+I32 -> 0 | J3: =J6+J7+J8+J15+J27+J31+J32 -> 0 | K3: =K6+K7+K8+K15+K27+K31+K32 -> 7060 | L3: =L6+L7+L8+L15+L27+L31+L32 -> 1594.439 | M3: =L3/K3 -> 0.22584122
A4: B11 | B4: Önkormányzatok működési támogatásai | C4: 9387 | D4: 0 | F4: 0 | G4: 0 | K4: =SUM(F4:J4) -> 0
A5: B16 | B5: Egyéb működési célú támogatások ÁHT-n belülről OEP finanszírozás | C5: 0 | D5: 0 | E5: 300 | F5: 4300 | G5: 0 | I5: =-1700 -> -1700 | K5: =SUM(F5:J5) -> 2600 | M5: =L5/K5 -> 0
A6: B1 | B6: Működési célú támogatások államháztartáson belülről | C6: 9387 | D6: 0 | E6: 300 | F6: =SUM(F4:F5) -> 4300 | G6: =SUM(G4:G5) -> 0 | H6: =SUM(H4:H5) -> 0 | I6: =SUM(I4:I5) -> -1700 | J6: =SUM(J4:J5) -> 0 | K6: =SUM(K4:K5) -> 2600 | L6: =SUM(L4:L5) -> 0 | M6: =L6/K6 -> 0
A7: B2 | B7: Felhalmozási célú támogatások államháztartáson belülről | C7: 0 | D7: 0 | F7: 0 | G7: 0 | K7: =SUM(F7:J7) -> 0
A8: B3 | B8: Közhatalmi bevételek | C8: 1200 | D8: 0 | E8: 249 | F8: =SUM(F9,F10,F14) -> 210 | G8: =SUM(G9,G10,G14) -> 0 | H8: =SUM(H9,H10,H14) -> 0 | I8: =SUM(I9,I10,I14) -> 190 | J8: =SUM(J9,J10,J14) -> -210 | K8: =SUM(K9,K10,K14) -> 190 | L8: =SUM(L9,L10,L14) -> 40 | M8: =L8/K8 -> 0.21052632
A9: B34 | B9: Vagyoni tipusú adók (építményadó, ép.utáni IFA, magánsz.komm.adója, telekadó) | C9: 0 | F9: 0 | K9: =SUM(F9:J9) -> 0
A10: B35 | B10: Termékek és szolgáltatások adói | C10: 0 | D10: 0 | F10: =SUM(F11:F13) -> 0 | G10: =SUM(G11:G13) -> 0 | H10: =SUM(H11:H13) -> 0 | I10: =SUM(I11:I13) -> 0 | J10: =SUM(J11:J13) -> 0 | K10: =SUM(K11:K13) -> 0 | L10: =SUM(L11:L13) -> 0
A11: B351 | B11: Értékesítési és forgalmi adók (IPA) | C11: 0 | F11: 0 | K11: =SUM(F11:J11) -> 0
A12: B354 | B12: Gépjármű adók | C12: 0 | F12: 0 | K12: =SUM(F12:J12) -> 0
A13: B355 | B13: Egyéb áruhasználati és szolgáltatási adók (tart.utáni IFA, talajterhelési díj) | C13: 0 | F13: 0 | K13: =SUM(F13:J13) -> 0
A14: B36 | B14: Egyéb közhatalmi bevételek (illeték, bírság) | C14: 1200 | E14: 249 | F14: 210 | I14: =190 -> 190 | J14: ='[1]Egyéb ei módosítás'!$C$50/1000 -> -210 | K14: =SUM(F14:J14) -> 190 | L14: 40 | M14: =L14/K14 -> 0.21052632
A15: B4 | B15: Működési bevételek | C15: 0 | D15: 0 | E15: 2721 | F15: =SUM(F16:F26) -> 1860 | G15: =SUM(G16:G26) -> 0 | H15: =SUM(H16:H26) -> 0 | I15: =SUM(I16:I26) -> 1700 | J15: =SUM(J16:J26) -> 450 | K15: =SUM(K16:K26) -> 4010 | L15: =SUM(L16:L26) -> 1554.439 | M15: =L15/K15 -> 0.38764065
A16: B401 | B16: Készletértékesítés ellenértéke | C16: 0 | F16: 0 | K16: =SUM(F16:J16) -> 0
A17: B402 | B17: Szolgáltatások ellenértéke | C17: 0 | E17: 1969 | F17: 1800 | I17: =1700 -> 1700 | J17: ='[1]Egyéb ei módosítás'!$C$51/1000 -> 450 | K17: =SUM(F17:J17) -> 3950 | L17: 1243.134 | M17: =L17/K17 -> 0.31471747
A18: B403 | B18: Közvetített szolgáltatások ellenértéke | C18: 0 | E18: 353 | F18: 0 | K18: =SUM(F18:J18) -> 0 | L18: 134.495
A19: B404 | B19: Tulajdonosi bevételek | C19: 0 | F19: 0 | K19: =SUM(F19:J19) -> 0
A20: B405 | B20: Ellátási díjak | C20: 0 | F20: 0 | K20: =SUM(F20:J20) -> 0
A21: B406 | B21: Kiszámlázott általános forgalmi adó | C21: 0 | E21: 105 | F21: 60 | K21: =SUM(F21:J21) -> 60 | L21: 64.161 | M21: =L21/K21 -> 1.06935
A22: B407 | B22: Általános forgalmi adó visszatérítése | C22: 0 | F22: 0 | K22: =SUM(F22:J22) -> 0
A23: B408 | B23: Kamatbevételek | C23: 0 | E23: 25 | F23: 0 | K23: =SUM(F23:J23) -> 0 | L23: 7.798
A24: B409 | B24: Egyéb pénzügyi műveletek bevételei | C24: 0 | E24: 31 | F24: 0 | K24: =SUM(F24:J24) -> 0
A25: B410 | B25: Biztosító által fizetett kártérítés | C25: 0 | F25: 0 | K25: =SUM(F25:J25) -> 0
A26: B411 | B26: Egyéb működési bevételek | C26: 0 | E26: 238 | F26: 0 | K26: =SUM(F26:J26) -> 0 | L26: 104.851
A27: B5 | B27: Felhalmozási bevételek | C27: 0 | D27: 0 | E27: 0 | F27: 0 | G27: 0 | K27: =SUM(F27:J27) -> 0 | L27: =SUM(L28:L30) -> 0
A28: B51 | B28: Immateriális javak értékesítése | C28: 0 | F28: 0 | K28: =SUM(F28:J28) -> 0
A29: B52 | B29: Ingatlanok értékesítése | C29: 0 | F29: 0 | K29: =SUM(F29:J29) -> 0
A30: B53 | B30: Egyéb tárgyi eszközök értékesítése | F30: 0 | K30: =SUM(F30:J30) -> 0
A31: B6 | B31: Működési célú átvett pénzeszköz | C31: 1700 | D31: 0 | E31: 688 | F31: 690 | G31: 0 | I31: =-190 -> -190 | J31: ='[1]Egyéb ei módosítás'!$C$52/1000 -> -240 | K31: =SUM(F31:J31) -> 260 | M31: =L31/K31 -> 0
A32: B7 | B32: Felhalmozási célú átvett pénzeszköz | C32: 0 | D32: 0 | F32: 0 | G32: 0 | K32: =SUM(F32:J32) -> 0 | L32: =SUM(H32:K32) -> 0
A33: II. | B33: KÖLTSÉGVETÉSI KIADÁSOK | C33: 811374 | D33: 0 | E33: 695922 | F33: =SUM(F34,F37,F38,F44,F45,F50,F52,F51) -> 771416 | G33: =SUM(G34,G37,G38,G44,G45,G50,G52,G51) -> 0 | H33: =SUM(H34,H37,H38,H44,H45,H50,H52,H51) -> 9612 | I33: =SUM(I34,I37,I38,I44,I45,I50,I52,I51) -> -70030 | J33: =SUM(J34,J37,J38,J44,J45,J50,J52,J51) -> 0 | K33: =SUM(K34,K37,K38,K44,K45,K50,K52,K51) -> 710998 | L33: =SUM(L34,L37,L38,L44,L45,L50,L52,L51) -> 360319.52 | M33: =L33/K33 -> 0.50677993
A34: K1 | B34: Személyi juttatások | C34: 508580 | D34: 0 | E34: 447141 | F34: =SUM(F35:F36) -> 517611 | G34: =SUM(G35:G36) -> 0 | H34: =SUM(H35:H36) -> 1260 | I34: =SUM(I35:I36) -> -55142 | J34: =SUM(J35:J36) -> 0 | K34: =SUM(K35:K36) -> 463729 | L34: =SUM(L35:L36) -> 237253.6 | M34: =L34/K34 -> 0.51162122
A35: K11 | B35: Foglalkoztatottak személyi juttatásai | C35: 436288 | E35: 393729 | F35: 421218 | H35: 0 | I35: =331 -> 331 | K35: =SUM(F35:J35) -> 421549 | L35: 198731.33 | M35: =L35/K35 -> 0.47143115
A36: K12 | B36: Külső személyi juttatások | C36: 72292 | D36: 0 | E36: 53412 | F36: 96393 | G36: 0 | H36: 1260 | I36: =-55473 -> -55473 | K36: =SUM(F36:J36) -> 42180 | L36: 38522.267 | M36: =L36/K36 -> 0.91328276
A37: K2 | B37: Munkaadókat terhelő járulékok és szociális hozzájárulási adó | C37: 140499 | D37: 0 | E37: 120925 | F37: 154501 | G37: 0 | H37: 340 | I37: =90-14978 -> -14888 | K37: =SUM(F37:J37) -> 139953 | L37: 65344.722 | M37: =L37/K37 -> 0.46690476
A38: K3 | B38: Dologi kiadások | C38: 157115 | D38: 0 | E38: 102285 | F38: =SUM(F39:F43) -> 98614 | G38: =SUM(G39:G43) -> 0 | H38: =SUM(H39:H43) -> 3012 | I38: =SUM(I39:I43) -> 0 | J38: =SUM(J39:J43) -> 0 | K38: =SUM(K39:K43) -> 101626 | L38: =SUM(L39:L43) -> 56008.469 | M38: =L38/K38 -> 0.55112342
A39: K31 | B39: Készletbeszerzés | C39: 10281 | E39: 9263 | F39: 14961 | K39: =SUM(F39:J39) -> 14961 | L39: 4227.8 | M39: =L39/K39 -> 0.28258806
A40: K32 | B40: Kommunikációs szolgáltatások | C40: 15945 | D40: 0 | E40: 12431 | F40: 7801 | G40: 0 | K40: =SUM(F40:J40) -> 7801 | L40: 7909.523 | M40: =L40/K40 -> 1.0139114
...

Sheet SZEI 2c
B1: Szentendre Egészségügyi Intézményei | C1: 2015 Előirányzat | G1: 2015 tény 2016.01.25. | H1: 2016 Előirányzat | N1: 2016 Tény 01-06. hó
C2: Nem kötelező feladatok | D2: 1. módosítás | E2: Kötelező feladatok | F2: Összesen módosításokkal | H2: Nem kötelező feladatok | I2: Kötelező feladatok | J2: 1. módosítás | K2: 2. módosítás | L2: 3. módosítás | M2: Módosított előirányzat | N2: EFt | O2: %
A3: I. | B3: KÖLTSÉGVETÉSI BEVÉTELEK | C3: =C6+C7+C8+C15+C27+C31+C32 -> 525400 | D3: =D6+D7+D8+D15+D27+D31+D32 -> 0 | E3: =E6+E7+E8+E15+E27+E31+E32 -> 0 | F3: =F6+F7+F8+F15+F27+F31+F32 -> 525400 | G3: =G6+G7+G8+G15+G27+G31+G32 -> 552386 | H3: =H6+H7+H8+H15+H27+H31+H32 -> 524800 | I3: =I6+I7+I8+I15+I27+I31+I32 -> 0 | J3: =J6+J7+J8+J15+J27+J31+J32 -> 0 | ... N3: =N6+N7+N8+N15+N27+N31+N32 -> 248626.09 | O3: =N3/M3 -> 0.47224402
A4: B11 | B4: Önkormányzatok működési támogatásai | F4: =SUM(C4:E4) -> 0
A5: B16 | B5: Egyéb működési célú támogatások ÁHT-n belülről OEP finanszírozás | C5: 491400 | F5: =SUM(C5:E5) -> 491400 | G5: 508743 | H5: 493400 | M5: =SUM(H5:L5) -> 493400 | N5: 233366.3 | O5: =N5/M5 -> 0.47297588
A6: B1 | B6: Működési célú támogatások államháztartáson belülről | C6: =SUM(C4:C5) -> 491400 | D6: =SUM(D4:D5) -> 0 | E6: =SUM(E4:E5) -> 0 | F6: =SUM(F4:F5) -> 491400 | G6: =SUM(G4:G5) -> 508743 | H6: =SUM(H4:H5) -> 493400 | I6: =SUM(I4:I5) -> 0 | J6: =SUM(J4:J5) -> 0 | ... N6: =SUM(N4:N5) -> 233366.3 | O6: =N6/M6 -> 0.47297588
A7: B2 | B7: Felhalmozási célú támogatások államháztartáson belülről | D7: =[3]összefogl!$C$50 -> 1200 | F7: =SUM(C7:E7) -> 1200 | G7: 3982
A8: B3 | B8: Közhatalmi bevételek | C8: =SUM(C9,C10,C14) -> 0 | D8: =SUM(D9,D10,D14) -> 0 | E8: =SUM(E9,E10,E14) -> 0 | F8: =SUM(F9,F10,F14) -> 0 | G8: =SUM(G9,G10,G14) -> 0 | H8: =SUM(H9,H10,H14) -> 0 | I8: =I9+I11+I12+I13+I14 -> 0 | J8: =J9+J11+J12+J13+J14 -> 0 | K8: =K9+K11+K12+K13+K14 -> 0 | L8: =L9+L11+L12+L13+L14 -> 0 | M8: =M9+M11+M12+M13+M14 -> 0 | N8: =N9+N11+N12+N13+N14 -> 0
A9: B34 | B9: Vagyoni tipusú adók | F9: =SUM(C9:E9) -> 0
A10: B35 | B10: Termékek és szolgáltatások adói | C10: =SUM(C11:C13) -> 0 | E10: =SUM(E11:E13) -> 0 | F10: =SUM(F11:F13) -> 0 | H10: =SUM(H11:H13) -> 0 | I10: =SUM(I11:I13) -> 0 | J10: =SUM(J11:J13) -> 0 | K10: =SUM(K11:K13) -> 0 | L10: =SUM(L11:L13) -> 0 | M10: =SUM(M11:M13) -> 0 | N10: =SUM(N11:N13) -> 0
A11: B351 | B11: Értékesítési és forgalmi adók | F11: =SUM(C11:E11) -> 0
A12: B354 | B12: Gépjármű adók | F12: =SUM(C12:E12) -> 0
A13: B355 | B13: Egyéb áruhasználati és szolgáltatási adók | F13: =SUM(C13:E13) -> 0
A14: B36 | B14: Egyéb közhatalmi bevételek | F14: =SUM(C14:E14) -> 0
A15: B4 | B15: Működési bevételek | C15: =SUM(C16:C26) -> 34000 | D15: =SUM(D16:D26) -> -6200 | E15: =SUM(E16:E26) -> 0 | F15: =SUM(F16:F26) -> 27800 | G15: =SUM(G16:G26) -> 26193 | H15: =SUM(H16:H26) -> 31400 | I15: =SUM(I16:I26) -> 0 | J15: =SUM(J16:J26) -> 0 | ... N15: =SUM(N16:N26) -> 13581.613 | O15: =N15/M15 -> 0.43253545
A16: B401 | B16: Készletértékesítés ellenértéke | F16: =SUM(C16:E16) -> 0
A17: B402 | B17: Szolgáltatások ellenértéke | D17: =[3]összefogl!$E$50 -> -6200 | F17: =SUM(C17:E17) -> -6200 | G17: 21572 | N17: 10690.148
A18: B403 | B18: Közvetített szolgáltatások ellenértéke | F18: =SUM(C18:E18) -> 0 | G18: 3965 | N18: 1572.858
A19: B404 | B19: Tulajdonosi bevételek | F19: =SUM(C19:E19) -> 0
A20: B405 | B20: Ellátási díjak | F20: =SUM(C20:E20) -> 0
A21: B406 | B21: Kiszámlázott általános forgalmi adó | F21: =SUM(C21:E21) -> 0
A22: B407 | B22: Általános forgalmi adó visszatérítése | F22: =SUM(C22:E22) -> 0
A23: B408 | B23: Kamatbevételek | F23: =SUM(C23:E23) -> 0 | G23: 183 | N23: 98.648
A24: B409 | B24: Egyéb pénzügyi műveletek bevételei | F24: =SUM(C24:E24) -> 0
A25: B410 | B25: Biztosító által fizetett kártérítés | F25: =SUM(C25:E25) -> 0 | N25: 31.069
A26: B411 | B26: Egyéb működési bevételek | C26: 34000 | F26: =SUM(C26:E26) -> 34000 | G26: 473 | H26: 31400 | M26: =SUM(H26:K26) -> 31400 | N26: 1188.89 | O26: =N26/M26 -> 0.037862739
A27: B5 | B27: Felhalmozási bevételek | C27: =C28+C29+C30 -> 0 | D27: =D28+D29+D30 -> 0 | E27: =E28+E29+E30 -> 0 | F27: =F28+F29+F30 -> 0 | G27: =G28+G29+G30 -> 0 | H27: =H28+H29+H30 -> 0 | I27: =I28+I29+I30 -> 0 | J27: =J28+J29+J30 -> 0 | ... N27: =N28+N29+N30 -> 0
A28: B51 | B28: Immateriális javak értékesítése | F28: =SUM(C28:E28) -> 0
A29: B52 | B29: Ingatlanok értékesítése | F29: =SUM(C29:E29) -> 0
A30: B53 | B30: Egyéb tárgyi eszközök értékesítése | F30: =SUM(C30:E30) -> 0
A31: B6 | B31: Működési célú átvett pénzeszköz | D31: =[3]összefogl!$Q$50 -> 5000 | F31: =SUM(C31:E31) -> 5000 | G31: 13468 | K31: =1678 -> 1678 | M31: =H31+I31+J31+K31+L31 -> 1678 | N31: 1678.173
A32: B7 | B32: Felhalmozási célú átvett pénzeszköz | F32: =SUM(C32:E32) -> 0 | N32: 0
A33: II. | B33: KÖLTSÉGVETÉSI KIADÁSOK | C33: =C34+C37+C38+C44+C45+C50+C51+C52 -> 525400 | D33: =D34+D37+D38+D44+D45+D50+D51+D52 -> 8342 | E33: =E34+E37+E38+E44+E45+E50+E51+E52 -> 0 | F33: =F34+F37+F38+F44+F45+F50+F51+F52 -> 533742 | G33: =G34+G37+G38+G44+G45+G50+G51+G52 -> 546741 | H33: =H34+H37+H38+H44+H45+H50+H51+H52 -> 526800 | I33: =I34+I37+I38+I44+I45+I50+I51+I52 -> 0 | J33: =J34+J37+J38+J44+J45+J50+J51+J52 -> 26954 | ... N33: =N34+N37+N38+N44+N45+N50+N51+N52 -> 255146.78 | O33: =N33/M33 -> 0.46033439
A34: K1 | B34: Személyi juttatások | C34: 222200 | D34: 4767 | E34: 0 | F34: =SUM(C34:E34) -> 226967 | G34: 226780 | H34: =SUM(H35:H36) -> 227422 | I34: =SUM(I35:I36) -> 0 | J34: =SUM(J35:J36) -> 8920 | K34: =SUM(K35:K36) -> -920 | L34: =SUM(L35:L36) -> -2550 | M34: =SUM(M35:M36) -> 232872 | N34: =SUM(N35:N36) -> 101911.7 | O34: =N34/M34 -> 0.43762969
A35: K11 | B35: Foglalkoztatottak személyi juttatásai | H35: 227422 | J35: =920+8000 -> 8920 | K35: =-920 -> -920 | L35: ='[1]Egyéb ei módosítás'!$D$45/1000 -> -2550 | M35: =SUM(H35:L35) -> 232872 | N35: 99238.485 | O35: =N35/M35 -> 0.42615035
A36: K12 | B36: Külső személyi juttatások | N36: 2673.216
A37: K2 | B37: Munkaadókat terhelő járulékok és szociális hozzájárulási adó | C37: 60185 | D37: 613 | F37: =SUM(C37:E37) -> 60798 | G37: 61417 | H37: 61478 | J37: =248+2486 -> 2734 | K37: -248 | M37: =SUM(H37:L37) -> 63964 | N37: 30561.396 | O37: =N37/M37 -> 0.47779057
A38: K3 | B38: Dologi kiadások | C38: 243015 | D38: =[3]összefogl!$Z$50 -> 0 | E38: 0 | F38: =SUM(C38:E38) -> 243015 | G38: 257027 | H38: =SUM(H39:H43) -> 237900 | I38: =SUM(I39:I43) -> 0 | J38: =SUM(J39:J43) -> 5000 | K38: =SUM(K39:K43) -> 0 | L38: =SUM(L39:L43) -> 1700 | M38: =SUM(M39:M43) -> 244600 | N38: =SUM(N39:N43) -> 118192.93 | O38: =N38/M38 -> 0.48320905
A39: K31 | B39: Készletbeszerzés | H39: 21900 | M39: =SUM(H39:L39) -> 21900 | N39: 13874.927 | O39: =N39/M39 -> 0.63355831
A40: K32 | B40: Kommunikációs szolgáltatások | H40: 5900 | M40: =SUM(H40:L40) -> 5900 | N40: 1435.068 | O40: =N40/M40 -> 0.24323186
...

Sheet PMK 2d
B1: Pest Megyei Könyvtár | C1: 2015 Előirányzat | H1: 2015 tény 2016.01.25. | I1: 2016 Előirányzat | O1: 2016 Tény 01-06. hó
C2: Kötelező feladatok | D2: 1. módosítás | E2: 2. módosítás 2015.09.15. | F2: Nem kötelező feladatok | G2: Összesen módosításokkal | I2: Kötelező feladatok | J2: Nem kötelező feladatok | K2: 1. módosítás | L2: 2. módosítás | M2: 3. módosítás | N2: Módosított előirányzat | O2: EFt | P2: %
A3: I. | B3: KÖLTSÉGVETÉSI BEVÉTELEK | C3: =C6+C7+C8+C15+C27+C31+C32 -> 13321 | D3: =D6+D7+D8+D15+D27+D31+D32 -> 0 | E3: =E6+E7+E8+E15+E27+E31+E32 -> 1500 | F3: =F6+F7+F8+F15+F27+F31+F32 -> 0 | G3: =G6+G7+G8+G15+G27+G31+G32 -> 14821 | H3: =H6+H7+H8+H15+H27+H31+H32 -> 18225 | I3: =I6+I7+I8+I15+I27+I31+I32 -> 10285 | J3: =J6+J7+J8+J15+J27+J31+J32 -> 0 | ... O3: =O6+O7+O8+O15+O27+O31+O32 -> 8537.067 | P3: =O3/N3 -> 0.45067133
A4: B11 | B4: Önkormányzatok működési támogatásai | G4: =SUM(C4:F4) -> 0
A5: B16 | B5: Egyéb működési célú támogatások ÁHT-n belülről OEP finanszírozás | G5: =SUM(C5:F5) -> 0 | H5: 4130 | K5: 3048 | M5: =('[1]Intézményi kezd. ei mód'!$C$16+'[1]Intézményi kezd. ei mód'!$C$19+'[1]Intézményi kezd. ei mód'!$C$22+'[1]Intézményi kezd. ei mód'!$C$25)/1000 -> 4603 | N5: =SUM(I5:M5) -> 7651 | O5: 3048 | P5: =O5/N5 -> 0.3983793
A6: B1 | B6: Működési célú támogatások államháztartáson belülről | C6: =SUM(C4:C5) -> 0 | D6: =SUM(D4:D5) -> 0 | F6: =SUM(F4:F5) -> 0 | G6: =SUM(G4:G5) -> 0 | H6: =SUM(H4:H5) -> 4130 | I6: =SUM(I4:I5) -> 0 | J6: =SUM(J4:J5) -> 0 | K6: =SUM(K4:K5) -> 3048 | L6: =SUM(L4:L5) -> 0 | M6: =SUM(M4:M5) -> 4603 | ... O6: =SUM(O4:O5) -> 3048 | P6: =O6/N6 -> 0.3983793
A7: B2 | B7: Felhalmozási célú támogatások államháztartáson belülről | E7: 1500 | G7: =SUM(C7:F7) -> 1500 | N7: =SUM(I7:M7) -> 0
A8: B3 | B8: Közhatalmi bevételek | C8: =SUM(C9,C10,C14) -> 0 | D8: =SUM(D9,D10,D14) -> 0 | F8: =SUM(F9,F10,F14) -> 0 | G8: =SUM(G9,G10,G14) -> 0 | H8: =SUM(H9,H10,H14) -> 0 | I8: =SUM(I9,I10,I14) -> 0 | J8: =SUM(J9,J10,J14) -> 0 | K8: =SUM(K9,K10,K14) -> 0 | L8: =SUM(L9,L10,L14) -> 0 | M8: =SUM(M9,M10,M14) -> 0 | N8: =SUM(N9,N10,N14) -> 0 | O8: =O9+O11+O12+O13+O14 -> 0
A9: B34 | B9: Vagyoni tipusú adók | G9: =SUM(C9:F9) -> 0 | N9: =SUM(I9:M9) -> 0
A10: B35 | B10: Termékek és szolgáltatások adói | C10: =SUM(C11:C13) -> 0 | F10: =SUM(F11:F13) -> 0 | G10: =SUM(G11:G13) -> 0 | I10: =SUM(I11:I13) -> 0 | J10: =SUM(J11:J13) -> 0 | K10: =SUM(K11:K13) -> 0 | L10: =SUM(L11:L13) -> 0 | N10: =SUM(N11:N13) -> 0 | O10: =SUM(O11:O13) -> 0
A11: B351 | B11: Értékesítési és forgalmi adók | G11: =SUM(C11:F11) -> 0 | N11: =SUM(I11:M11) -> 0
A12: B354 | B12: Gépjármű adók | G12: =SUM(C12:F12) -> 0 | N12: =SUM(I12:M12) -> 0
A13: B355 | B13: Egyéb áruhasználati és szolgáltatási adók | G13: =SUM(C13:F13) -> 0 | N13: =SUM(I13:M13) -> 0
A14: B36 | B14: Egyéb közhatalmi bevételek | G14: =SUM(C14:F14) -> 0 | N14: =SUM(I14:M14) -> 0
A15: B4 | B15: Működési bevételek | C15: =SUM(C16:C26) -> 13321 | D15: =SUM(D16:D26) -> 0 | F15: =SUM(F16:F26) -> 0 | G15: =SUM(G16:G26) -> 13321 | H15: =SUM(H16:H26) -> 13434 | I15: =SUM(I16:I26) -> 10285 | J15: =SUM(J16:J26) -> 0 | K15: =SUM(K16:K26) -> 0 | L15: =SUM(L16:L26) -> 1007 | M15: =SUM(M16:M26) -> 0 | ... O15: =SUM(O16:O26) -> 5448.448 | P15: =O15/N15 -> 0.48250514
A16: B401 | B16: Készletértékesítés ellenértéke | G16: =SUM(C16:F16) -> 0 | H16: 119 | I16: 0 | N16: =SUM(I16:M16) -> 0 | O16: 15.762
A17: B402 | B17: Szolgáltatások ellenértéke | C17: =4816+5440 -> 10256 | G17: =SUM(C17:F17) -> 10256 | H17: 10610 | I17: 7316 | N17: =SUM(I17:M17) -> 7316 | O17: 3448.788 | P17: =O17/N17 -> 0.4714035
A18: B403 | B18: Közvetített szolgáltatások ellenértéke | C18: 40 | G18: =SUM(C18:F18) -> 40 | H18: 18 | N18: =SUM(I18:M18) -> 0 | O18: 6.836
A19: B404 | B19: Tulajdonosi bevételek | G19: =SUM(C19:F19) -> 0 | N19: =SUM(I19:M19) -> 0 | O19: 0
A20: B405 | B20: Ellátási díjak | G20: =SUM(C20:F20) -> 0 | N20: =SUM(I20:M20) -> 0 | O20: 0
A21: B406 | B21: Kiszámlázott általános forgalmi adó | C21: 1335 | G21: =SUM(C21:F21) -> 1335 | H21: 811 | I21: 1279 | N21: =SUM(I21:M21) -> 1279 | O21: 404.533 | P21: =O21/N21 -> 0.31628851
A22: B407 | B22: Általános forgalmi adó visszatérítése | G22: =SUM(C22:F22) -> 0 | L22: 1007 | N22: =SUM(I22:M22) -> 1007 | O22: 1006.553
