Workbook

Sheet össz 2
B1: Összesítés | C1: 2015 Előirányzat | F1: 2016 Előirányzat | M1: 2016 Tény 01-06. hó
C2: Önkormányzat összesen | D2: Intézmények (PH+Int.) összesen | E2: Mindösszesen | F2: Önkormányzat összesen | G2: Intézmények (PH+Int.) összesen | H2: Mindösszesen | I2: 1.módosítás | J2: 2. módosítás | K2: 3. módosítás | L2: Módosított előirányzat | M2: EFt | N2: %
A3: I. | B3: KÖLTSÉGVETÉSI BEVÉTELEK | C3: =C6+C7+C8+C15+C27+C31+C32 -> 5463440.3 | D3: =D6+D7+D8+D15+D27+D31+D32 -> 986840 | E3: =E6+E7+E8+E15+E27+E31+E32 -> 6450280.3 | F3: =F6+F7+F8+F15+F27+F31+F32 -> 4756032.3 | G3: =G6+G7+G8+G15+G27+G31+G32 -> 841608 | H3: =H6+H7+H8+H15+H27+H31+H32 -> 5597640.3 | I3: =I6+I7+I8+I15+I27+I31+I32 -> 38290 | J3: =J6+J7+J8+J15+J27+J31+J32 -> 25120 | ... M3: =M6+M7+M8+M15+M27+M31+M32 -> 2722269.7 | N3: =M3/L3 -> 0.47239915
A4: B11 | B4: Önkormányzatok működési támogatásai | C4: 1383056 | D4: ='PH 2b'!C4+'SZEI 2c'!C4+'PMK 2d'!C4+'FMC 2e'!C4+'Óvoda 2f'!C4+'Bölcsőde 2g'!C4+'Gondozási 2h'!C4 -> 9387 | E4: =C4+D4 -> 1392443 | F4: 1428547 | G4: ='PH 2b'!F4+'SZEI 2c'!H4+'PMK 2d'!I4+'FMC 2e'!I4+'Óvoda 2f'!J4+'Bölcsőde 2g'!I4+'Gondozási 2h'!H4 -> 0 | H4: =F4+G4 -> 1428547 | I4: ='Önk 2a'!J4+'PH 2b'!H4+'SZEI 2c'!J4+'PMK 2d'!K4+'FMC 2e'!K4+'Óvoda 2f'!L4+'Bölcsőde 2g'!K4+'Gondozási 2h'!J4 -> 11133 | J4: ='Önk 2a'!K4+'PH 2b'!I4+'SZEI 2c'!K4+'PMK 2d'!L4+'FMC 2e'!L4+'Óvoda 2f'!M4+'Bölcsőde 2g'!L4+'Gondozási 2h'!K4 -> 21499 | K4: ='Önk 2a'!L4 -> 26303.959 | L4: =H4+I4+J4+K4 -> 1487483 | M4: =+'Önk 2a'!N4+'PH 2b'!L4+'SZEI 2c'!N4+'PMK 2d'!O4+'FMC 2e'!O4+'Óvoda 2f'!P4+'Bölcsőde 2g'!O4+'Gondozási 2h'!N4 -> 800509.03 | N4: =M4/L4 -> 0.5381635
A5: B16 | B5: Egyéb működési célú támogatások ÁHT-n belülről OEP finanszírozás | C5: 31394 | D5: ='PH 2b'!C5+'SZEI 2c'!C5+'PMK 2d'!C5+'FMC 2e'!C5+'Óvoda 2f'!C5+'Bölcsőde 2g'!C5+'Gondozási 2h'!C5 -> 561279 | E5: =C5+D5 -> 592673 | F5: 39610 | G5: ='PH 2b'!F5+'SZEI 2c'!H5+'PMK 2d'!I5+'FMC 2e'!I5+'Óvoda 2f'!J5+'Bölcsőde 2g'!I5+'Gondozási 2h'!H5 -> 567579 | H5: =F5+G5 -> 607189 | I5: ='Önk 2a'!J5+'PH 2b'!H5+'SZEI 2c'!J5+'PMK 2d'!K5+'FMC 2e'!K5+'Óvoda 2f'!L5+'Bölcsőde 2g'!K5+'Gondozási 2h'!J5 -> 3048 | J5: ='Önk 2a'!K5+'PH 2b'!I5+'SZEI 2c'!K5+'PMK 2d'!L5+'FMC 2e'!L5+'Óvoda 2f'!M5+'Bölcsőde 2g'!L5+'Gondozási 2h'!K5 -> -1700 | K5: ='Önk 2a'!L5+'PH 2b'!J5+'SZEI 2c'!L5+'PMK 2d'!M5+'FMC 2e'!M5+'Óvoda 2f'!N5+'Bölcsőde 2g'!M5+'Gondozási 2h'!L5 -> 16890.9 | L5: =H5+I5+J5+K5 -> 625427.9 | M5: =+'Önk 2a'!N5+'PH 2b'!L5+'SZEI 2c'!N5+'PMK 2d'!O5+'FMC 2e'!O5+'Óvoda 2f'!P5+'Bölcsőde 2g'!O5+'Gondozási 2h'!N5 -> 286244.33 | N5: =M5/L5 -> 0.45767759
A6: B1 | B6: Működési célú támogatások államháztartáson belülről | C6: =SUM(C4:C5) -> 1414450 | D6: =SUM(D4:D5) -> 570666 | E6: =SUM(E4:E5) -> 1985116 | F6: =SUM(F4:F5) -> 1468157 | G6: =SUM(G4:G5) -> 567579 | H6: =SUM(H4:H5) -> 2035736 | I6: =SUM(I4:I5) -> 14181 | J6: =SUM(J4:J5) -> 19799 | ... L6: =SUM(L4:L5) -> 2112910.9 | M6: =M4+M5 -> 1086753.4 | N6: =M6/L6 -> 0.51433943 | O6: =M6/M3 -> 0.39920857
A7: B2 | B7: Felhalmozási célú támogatások államháztartáson belülről | C7: 1067671 | D7: ='PH 2b'!C7+'SZEI 2c'!C7+'PMK 2d'!C7+'FMC 2e'!C7+'Óvoda 2f'!C7+'Bölcsőde 2g'!C7+'Gondozási 2h'!C7 -> 90557 | E7: =C7+D7 -> 1158228 | F7: 64300 | G7: ='PH 2b'!F7+'SZEI 2c'!H7+'PMK 2d'!I7+'FMC 2e'!I7+'Óvoda 2f'!J7+'Bölcsőde 2g'!I7+'Gondozási 2h'!H7 -> 9000 | H7: =F7+G7 -> 73300 | I7: ='Önk 2a'!J7+'PH 2b'!H7+'SZEI 2c'!J7+'PMK 2d'!K7+'FMC 2e'!K7+'Óvoda 2f'!L7+'Bölcsőde 2g'!K7+'Gondozási 2h'!J7 -> 0 | J7: ='Önk 2a'!K7+'PH 2b'!I7+'SZEI 2c'!K7+'PMK 2d'!L7+'FMC 2e'!L7+'Óvoda 2f'!M7+'Bölcsőde 2g'!L7+'Gondozási 2h'!K7 -> 0 | K7: ='Önk 2a'!L7+'PH 2b'!J7+'SZEI 2c'!L7+'PMK 2d'!M7+'FMC 2e'!M7+'Óvoda 2f'!N7+'Bölcsőde 2g'!M7+'Gondozási 2h'!L7 -> 14340 | L7: =H7+I7+J7+K7 -> 87640 | M7: =+'Önk 2a'!N7+'PH 2b'!L7+'SZEI 2c'!N7+'PMK 2d'!O7+'FMC 2e'!O7+'Óvoda 2f'!P7+'Bölcsőde 2g'!O7+'Gondozási 2h'!N7 -> 29626.87 | N7: =M7/L7 -> 0.33805192
A8: B3 | B8: Közhatalmi bevételek | C8: =SUM(C9,C10,C14) -> 1926600 | D8: =SUM(D9,D10,D14) -> 1200 | E8: =SUM(E9,E10,E14) -> 1927800 | F8: =SUM(F9,F10,F14) -> 2130000 | G8: =SUM(G9,G10,G14) -> 210 | H8: =SUM(H9,H10,H14) -> 2130210 | I8: =SUM(I9,I10,I14) -> 0 | J8: =SUM(J9,J10,J14) -> 190 | ... M8: =SUM(M9,M10,M14) -> 1100904 | N8: =M8/L8 -> 0.51681024
A9: B34 | B9: Vagyoni tipusú adók (építményadó, ép.utáni IFA, magánsz.komm.adója, telekadó) | C9: 550000 | D9: ='PH 2b'!C9+'SZEI 2c'!C9+'PMK 2d'!C9+'FMC 2e'!C9+'Óvoda 2f'!C9+'Bölcsőde 2g'!C9+'Gondozási 2h'!C9 -> 0 | E9: =C9+D9 -> 550000 | F9: 670000 | G9: ='PH 2b'!F9+'SZEI 2c'!H9+'PMK 2d'!I9+'FMC 2e'!I9+'Óvoda 2f'!J9+'Bölcsőde 2g'!I9+'Gondozási 2h'!H9 -> 0 | H9: =F9+G9 -> 670000 | I9: ='Önk 2a'!J9+'PH 2b'!H9+'SZEI 2c'!J9+'PMK 2d'!K9+'FMC 2e'!K9+'Óvoda 2f'!L9+'Bölcsőde 2g'!K9+'Gondozási 2h'!J9 -> 0 | J9: ='Önk 2a'!K9+'PH 2b'!I9+'SZEI 2c'!K9+'PMK 2d'!L9+'FMC 2e'!L9+'Óvoda 2f'!M9+'Bölcsőde 2g'!L9+'Gondozási 2h'!K9 -> 0 | K9: ='Önk 2a'!L9 -> 0 | L9: =H9+I9+J9+K9 -> 670000 | M9: ='Önk 2a'!N9+'PH 2b'!L9+'SZEI 2c'!N9+'PMK 2d'!O9+'FMC 2e'!O9+'Óvoda 2f'!P9+'Bölcsőde 2g'!O9+'Gondozási 2h'!N9 -> 384834.8 | N9: =M9/L9 -> 0.5743803
A10: B35 | B10: Termékek és szolgáltatások adói | C10: 1355200 | D10: ='PH 2b'!C10+'SZEI 2c'!C10+'PMK 2d'!C10+'FMC 2e'!C10+'Óvoda 2f'!C10+'Bölcsőde 2g'!C10+'Gondozási 2h'!C10 -> 0 | E10: =SUM(E11:E13) -> 1355200 | F10: 1425000 | G10: =SUM(G11:G13) -> 0 | H10: =SUM(H11:H13) -> 1425000 | I10: =SUM(I11:I13) -> 0 | J10: =SUM(J11:J13) -> 0 | K10: ='Önk 2a'!L11 -> 0 | L10: =SUM(L11:L13) -> 1425000 | M10: =SUM(M11:M13) -> 704764.02 | N10: =M10/L10 -> 0.49457124
A11: B351 | B11: Értékesítési és forgalmi adók (IPA) | C11: 1250000 | D11: ='PH 2b'!C11+'SZEI 2c'!C11+'PMK 2d'!C11+'FMC 2e'!C11+'Óvoda 2f'!C11+'Bölcsőde 2g'!C11+'Gondozási 2h'!C11 -> 0 | E11: =C11+D11 -> 1250000 | F11: 1300000 | G11: ='PH 2b'!F11+'SZEI 2c'!H11+'PMK 2d'!I11+'FMC 2e'!I11+'Óvoda 2f'!J11+'Bölcsőde 2g'!I11+'Gondozási 2h'!H11 -> 0 | H11: =F11+G11 -> 1300000 | I11: ='Önk 2a'!J11+'PH 2b'!H11+'SZEI 2c'!J11+'PMK 2d'!K11+'FMC 2e'!K11+'Óvoda 2f'!L11+'Bölcsőde 2g'!K11+'Gondozási 2h'!J11 -> 0 | J11: ='Önk 2a'!K11+'PH 2b'!I11+'SZEI 2c'!K11+'PMK 2d'!L11+'FMC 2e'!L11+'Óvoda 2f'!M11+'Bölcsőde 2g'!L11+'Gondozási 2h'!K11 -> 0 | K11: ='Önk 2a'!L11 -> 0 | L11: =H11+I11+J11+K11 -> 1300000 | M11: ='Önk 2a'!N11+'PH 2b'!L11+'SZEI 2c'!N11+'PMK 2d'!O11+'FMC 2e'!O11+'Óvoda 2f'!P11+'Bölcsőde 2g'!O11+'Gondozási 2h'!N11 -> 633592.15 | N11: =M11/L11 -> 0.48737858
A12: B354 | B12: Gépjármű adók | C12: 92000 | D12: ='PH 2b'!C12+'SZEI 2c'!C12+'PMK 2d'!C12+'FMC 2e'!C12+'Óvoda 2f'!C12+'Bölcsőde 2g'!C12+'Gondozási 2h'!C12 -> 0 | E12: =C12+D12 -> 92000 | F12: 110000 | G12: ='PH 2b'!F12+'SZEI 2c'!H12+'PMK 2d'!I12+'FMC 2e'!I12+'Óvoda 2f'!J12+'Bölcsőde 2g'!I12+'Gondozási 2h'!H12 -> 0 | H12: =F12+G12 -> 110000 | I12: ='Önk 2a'!J12+'PH 2b'!H12+'SZEI 2c'!J12+'PMK 2d'!K12+'FMC 2e'!K12+'Óvoda 2f'!L12+'Bölcsőde 2g'!K12+'Gondozási 2h'!J12 -> 0 | J12: ='Önk 2a'!K12+'PH 2b'!I12+'SZEI 2c'!K12+'PMK 2d'!L12+'FMC 2e'!L12+'Óvoda 2f'!M12+'Bölcsőde 2g'!L12+'Gondozási 2h'!K12 -> 0 | K12: ='Önk 2a'!L12 -> 0 | L12: =H12+I12+J12+K12 -> 110000 | M12: ='Önk 2a'!N12+'PH 2b'!L12+'SZEI 2c'!N12+'PMK 2d'!O12+'FMC 2e'!O12+'Óvoda 2f'!P12+'Bölcsőde 2g'!O12+'Gondozási 2h'!N12 -> 65575.988 | N12: =M12/L12 -> 0.59614535
A13: B355 | B13: Egyéb áruhasználati és szolgáltatási adók (tart.utáni IFA, talajterhelési díj) | C13: 13200 | D13: ='PH 2b'!C13+'SZEI 2c'!C13+'PMK 2d'!C13+'FMC 2e'!C13+'Óvoda 2f'!C13+'Bölcsőde 2g'!C13+'Gondozási 2h'!C13 -> 0 | E13: =C13+D13 -> 13200 | F13: 15000 | G13: ='PH 2b'!F13+'SZEI 2c'!H13+'PMK 2d'!I13+'FMC 2e'!I13+'Óvoda 2f'!J13+'Bölcsőde 2g'!I13+'Gondozási 2h'!H13 -> 0 | H13: =F13+G13 -> 15000 | I13: ='Önk 2a'!J13+'PH 2b'!H13+'SZEI 2c'!J13+'PMK 2d'!K13+'FMC 2e'!K13+'Óvoda 2f'!L13+'Bölcsőde 2g'!K13+'Gondozási 2h'!J13 -> 0 | J13: ='Önk 2a'!K13+'PH 2b'!I13+'SZEI 2c'!K13+'PMK 2d'!L13+'FMC 2e'!L13+'Óvoda 2f'!M13+'Bölcsőde 2g'!L13+'Gondozási 2h'!K13 -> 0 | K13: ='Önk 2a'!L13 -> 0 | L13: =H13+I13+J13+K13 -> 15000 | M13: ='Önk 2a'!N13+'PH 2b'!L13+'SZEI 2c'!N13+'PMK 2d'!O13+'FMC 2e'!O13+'Óvoda 2f'!P13+'Bölcsőde 2g'!O13+'Gondozási 2h'!N13 -> 5595.886 | N13: =M13/L13 -> 0.37305907
A14: B36 | B14: Egyéb közhatalmi bevételek (illeték, bírság) | C14: 21400 | D14: ='PH 2b'!C14+'SZEI 2c'!C14+'PMK 2d'!C14+'FMC 2e'!C14+'Óvoda 2f'!C14+'Bölcsőde 2g'!C14+'Gondozási 2h'!C14 -> 1200 | E14: =C14+D14 -> 22600 | F14: 35000 | G14: ='PH 2b'!F14+'SZEI 2c'!H14+'PMK 2d'!I14+'FMC 2e'!I14+'Óvoda 2f'!J14+'Bölcsőde 2g'!I14+'Gondozási 2h'!H14 -> 210 | H14: =F14+G14 -> 35210 | I14: ='Önk 2a'!J14+'PH 2b'!H14+'SZEI 2c'!J14+'PMK 2d'!K14+'FMC 2e'!K14+'Óvoda 2f'!L14+'Bölcsőde 2g'!K14+'Gondozási 2h'!J14 -> 0 | J14: ='Önk 2a'!K14+'PH 2b'!I14+'SZEI 2c'!K14+'PMK 2d'!L14+'FMC 2e'!L14+'Óvoda 2f'!M14+'Bölcsőde 2g'!L14+'Gondozási 2h'!K14 -> 190 | K14: ='Önk 2a'!L14+'PH 2b'!J14 -> -210 | L14: =H14+I14+J14+K14 -> 35190 | M14: ='Önk 2a'!N14+'PH 2b'!L14+'SZEI 2c'!N14+'PMK 2d'!O14+'FMC 2e'!O14+'Óvoda 2f'!P14+'Bölcsőde 2g'!O14+'Gondozási 2h'!N14 -> 11305.178 | N14: =M14/L14 -> 0.3212611
A15: B4 | B15: Működési bevételek | C15: =SUM(C16:C26) -> 624482.35 | D15: =SUM(D16:D26) -> 322717 | E15: =SUM(E16:E26) -> 947199.35 | F15: =SUM(F16:F26) -> 648385.83 | G15: =SUM(G16:G26) -> 264129 | H15: =SUM(H16:H26) -> 912514.83 | I15: =SUM(I16:I26) -> 3924 | J15: =SUM(J16:J26) -> 2707 | ... M15: =SUM(M16:M26) -> 412815.8 | N15: =M15/L15 -> 0.44833475 | O15: ='Önk 2a'!N15 -> 306558.34 | P15: =M15-O15 -> 106257.46 | Q15: =P15/(G15+1615) -> 0.39984894
A16: B401 | B16: Készletértékesítés ellenértéke | C16: 300 | D16: ='PH 2b'!C16+'SZEI 2c'!C16+'PMK 2d'!C16+'FMC 2e'!C16+'Óvoda 2f'!C16+'Bölcsőde 2g'!C16+'Gondozási 2h'!C16 -> 6000 | E16: =C16+D16 -> 6300 | F16: 0 | G16: ='PH 2b'!F16+'SZEI 2c'!H16+'PMK 2d'!I16+'FMC 2e'!I16+'Óvoda 2f'!J16+'Bölcsőde 2g'!I16+'Gondozási 2h'!H16 -> 3800 | H16: =F16+G16 -> 3800 | I16: ='Önk 2a'!J16+'PH 2b'!H16+'SZEI 2c'!J16+'PMK 2d'!K16+'FMC 2e'!K16+'Óvoda 2f'!L16+'Bölcsőde 2g'!K16+'Gondozási 2h'!J16 -> 0 | J16: ='Önk 2a'!K16+'PH 2b'!I16+'SZEI 2c'!K16+'PMK 2d'!L16+'FMC 2e'!L16+'Óvoda 2f'!M16+'Bölcsőde 2g'!L16+'Gondozási 2h'!K16 -> 0 | K16: ='Önk 2a'!L16+'PH 2b'!J16+'SZEI 2c'!L16+'FMC 2e'!M16+'Óvoda 2f'!N16+'Bölcsőde 2g'!M16+'Gondozási 2h'!L16+'PMK 2d'!M16 -> 0 | L16: =H16+I16+J16+K16 -> 3800 | M16: ='Önk 2a'!N16+'PH 2b'!L16+'SZEI 2c'!N16+'PMK 2d'!O16+'FMC 2e'!O16+'Óvoda 2f'!P16+'Bölcsőde 2g'!O16+'Gondozási 2h'!N16 -> 806.018 | N16: =M16/L16 -> 0.21211 | P16: =G15+1616 -> 265745 | Q16: =P15/P16 -> 0.39984744
A17: B402 | B17: Szolgáltatások ellenértéke | C17: 378305 | D17: ='PH 2b'!C17+'SZEI 2c'!C17+'PMK 2d'!C17+'FMC 2e'!C17+'Óvoda 2f'!C17+'Bölcsőde 2g'!C17+'Gondozási 2h'!C17 -> 162123 | E17: =C17+D17 -> 540428 | F17: 401022 | G17: ='PH 2b'!F17+'SZEI 2c'!H17+'PMK 2d'!I17+'FMC 2e'!I17+'Óvoda 2f'!J17+'Bölcsőde 2g'!I17+'Gondozási 2h'!H17 -> 143468 | H17: =F17+G17 -> 544490 | I17: ='Önk 2a'!J17+'PH 2b'!H17+'SZEI 2c'!J17+'PMK 2d'!K17+'FMC 2e'!K17+'Óvoda 2f'!L17+'Bölcsőde 2g'!K17+'Gondozási 2h'!J17 -> -3 | J17: ='Önk 2a'!K17+'PH 2b'!I17+'SZEI 2c'!K17+'PMK 2d'!L17+'FMC 2e'!L17+'Óvoda 2f'!M17+'Bölcsőde 2g'!L17+'Gondozási 2h'!K17 -> 1700 | K17: ='Önk 2a'!L17+'PH 2b'!J17+'SZEI 2c'!L17+'PMK 2d'!M17+'FMC 2e'!M17+'Óvoda 2f'!N17+'Bölcsőde 2g'!M17+'Gondozási 2h'!L17 -> 450 | L17: =H17+I17+J17+K17 -> 546637 | M17: ='Önk 2a'!N17+'PH 2b'!L17+'SZEI 2c'!N17+'PMK 2d'!O17+'FMC 2e'!O17+'Óvoda 2f'!P17+'Bölcsőde 2g'!O17+'Gondozási 2h'!N17 -> 251570.16 | N17: =M17/L17 -> 0.4602143
A18: B403 | B18: Közvetített szolgáltatások ellenértéke | C18: 21100 | D18: ='PH 2b'!C18+'SZEI 2c'!C18+'PMK 2d'!C18+'FMC 2e'!C18+'Óvoda 2f'!C18+'Bölcsőde 2g'!C18+'Gondozási 2h'!C18 -> 4240 | E18: =C18+D18 -> 25340 | F18: 51346.457 | G18: ='PH 2b'!F18+'SZEI 2c'!H18+'PMK 2d'!I18+'FMC 2e'!I18+'Óvoda 2f'!J18+'Bölcsőde 2g'!I18+'Gondozási 2h'!H18 -> 3350 | H18: =F18+G18 -> 54696.457 | I18: ='Önk 2a'!J18+'PH 2b'!H18+'SZEI 2c'!J18+'PMK 2d'!K18+'FMC 2e'!K18+'Óvoda 2f'!L18+'Bölcsőde 2g'!K18+'Gondozási 2h'!J18 -> 0 | J18: ='Önk 2a'!K18+'PH 2b'!I18+'SZEI 2c'!K18+'PMK 2d'!L18+'FMC 2e'!L18+'Óvoda 2f'!M18+'Bölcsőde 2g'!L18+'Gondozási 2h'!K18 -> 0 | K18: ='Önk 2a'!L18+'PH 2b'!J18+'SZEI 2c'!L18+'PMK 2d'!M18+'FMC 2e'!M18+'Óvoda 2f'!N18+'Bölcsőde 2g'!M18+'Gondozási 2h'!L18 -> 0 | L18: =H18+I18+J18+K18 -> 54696.457 | M18: ='Önk 2a'!N18+'PH 2b'!L18+'SZEI 2c'!N18+'PMK 2d'!O18+'FMC 2e'!O18+'Óvoda 2f'!P18+'Bölcsőde 2g'!O18+'Gondozási 2h'!N18 -> 13151.673 | N18: =M18/L18 -> 0.24044835
A19: B404 | B19: Tulajdonosi bevételek | C19: 6600 | D19: ='PH 2b'!C19+'SZEI 2c'!C19+'PMK 2d'!C19+'FMC 2e'!C19+'Óvoda 2f'!C19+'Bölcsőde 2g'!C19+'Gondozási 2h'!C19 -> 0 | E19: =C19+D19 -> 6600 | F19: 4000 | G19: ='PH 2b'!F19+'SZEI 2c'!H19+'PMK 2d'!I19+'FMC 2e'!I19+'Óvoda 2f'!J19+'Bölcsőde 2g'!I19+'Gondozási 2h'!H19 -> 0 | H19: =F19+G19 -> 4000 | I19: ='Önk 2a'!J19+'PH 2b'!H19+'SZEI 2c'!J19+'PMK 2d'!K19+'FMC 2e'!K19+'Óvoda 2f'!L19+'Bölcsőde 2g'!K19+'Gondozási 2h'!J19 -> 0 | J19: ='Önk 2a'!K19+'PH 2b'!I19+'SZEI 2c'!K19+'PMK 2d'!L19+'FMC 2e'!L19+'Óvoda 2f'!M19+'Bölcsőde 2g'!L19+'Gondozási 2h'!K19 -> 0 | K19: ='Önk 2a'!L19+'PH 2b'!J19+'SZEI 2c'!L19+'PMK 2d'!M19+'FMC 2e'!M19+'Óvoda 2f'!N19+'Bölcsőde 2g'!M19+'Gondozási 2h'!L19 -> 0 | L19: =H19+I19+J19+K19 -> 4000 | M19: ='Önk 2a'!N19+'PH 2b'!L19+'SZEI 2c'!N19+'PMK 2d'!O19+'FMC 2e'!O19+'Óvoda 2f'!P19+'Bölcsőde 2g'!O19+'Gondozási 2h'!N19 -> 1605.695 | N19: =M19/L19 -> 0.40142375
A20: B405 | B20: Ellátási díjak | C20: 62450 | D20: ='PH 2b'!C20+'SZEI 2c'!C20+'PMK 2d'!C20+'FMC 2e'!C20+'Óvoda 2f'!C20+'Bölcsőde 2g'!C20+'Gondozási 2h'!C20 -> 60930 | E20: =C20+D20 -> 123380 | F20: 62599.024 | G20: ='PH 2b'!F20+'SZEI 2c'!H20+'PMK 2d'!I20+'FMC 2e'!I20+'Óvoda 2f'!J20+'Bölcsőde 2g'!I20+'Gondozási 2h'!H20 -> 50074 | H20: =F20+G20 -> 112673.02 | I20: ='Önk 2a'!J20+'PH 2b'!H20+'SZEI 2c'!J20+'PMK 2d'!K20+'FMC 2e'!K20+'Óvoda 2f'!L20+'Bölcsőde 2g'!K20+'Gondozási 2h'!J20 -> 1616 | J20: ='Önk 2a'!K20+'PH 2b'!I20+'SZEI 2c'!K20+'PMK 2d'!L20+'FMC 2e'!L20+'Óvoda 2f'!M20+'Bölcsőde 2g'!L20+'Gondozási 2h'!K20 -> 0 | K20: ='Önk 2a'!L20+'PH 2b'!J20+'SZEI 2c'!L20+'PMK 2d'!M20+'FMC 2e'!M20+'Óvoda 2f'!N20+'Bölcsőde 2g'!M20+'Gondozási 2h'!L20 -> 500 | L20: =H20+I20+J20+K20 -> 114789.02 | M20: ='Önk 2a'!N20+'PH 2b'!L20+'SZEI 2c'!N20+'PMK 2d'!O20+'FMC 2e'!O20+'Óvoda 2f'!P20+'Bölcsőde 2g'!O20+'Gondozási 2h'!N20 -> 67578.923 | N20: =M20/L20 -> 0.58872287
A21: B406 | B21: Kiszámlázott általános forgalmi adó | C21: 125913.35 | D21: ='PH 2b'!C21+'SZEI 2c'!C21+'PMK 2d'!C21+'FMC 2e'!C21+'Óvoda 2f'!C21+'Bölcsőde 2g'!C21+'Gondozási 2h'!C21 -> 52444 | E21: =C21+D21 -> 178357.35 | F21: 124586.35 | G21: ='PH 2b'!F21+'SZEI 2c'!H21+'PMK 2d'!I21+'FMC 2e'!I21+'Óvoda 2f'!J21+'Bölcsőde 2g'!I21+'Gondozási 2h'!H21 -> 28857 | H21: =F21+G21 -> 153443.35 | I21: ='Önk 2a'!J21+'PH 2b'!H21+'SZEI 2c'!J21+'PMK 2d'!K21+'FMC 2e'!K21+'Óvoda 2f'!L21+'Bölcsőde 2g'!K21+'Gondozási 2h'!J21 -> 0 | J21: ='Önk 2a'!K21+'PH 2b'!I21+'SZEI 2c'!K21+'PMK 2d'!L21+'FMC 2e'!L21+'Óvoda 2f'!M21+'Bölcsőde 2g'!L21+'Gondozási 2h'!K21 -> 0 | K21: ='Önk 2a'!L21+'PH 2b'!J21+'SZEI 2c'!L21+'PMK 2d'!M21+'FMC 2e'!M21+'Óvoda 2f'!N21+'Bölcsőde 2g'!M21+'Gondozási 2h'!L21 -> 0 | L21: =H21+I21+J21+K21 -> 153443.35 | M21: ='Önk 2a'!N21+'PH 2b'!L21+'SZEI 2c'!N21+'PMK 2d'!O21+'FMC 2e'!O21+'Óvoda 2f'!P21+'Bölcsőde 2g'!O21+'Gondozási 2h'!N21 -> 59795.103 | N21: =M21/L21 -> 0.38968847
A22: B407 | B22: Általános forgalmi adó visszatérítése | C22: 9065 | D22: ='PH 2b'!C22+'SZEI 2c'!C22+'PMK 2d'!C22+'FMC 2e'!C22+'Óvoda 2f'!C22+'Bölcsőde 2g'!C22+'Gondozási 2h'!C22 -> 1000 | E22: =C22+D22 -> 10065 | F22: 0 | G22: ='PH 2b'!F22+'SZEI 2c'!H22+'PMK 2d'!I22+'FMC 2e'!I22+'Óvoda 2f'!J22+'Bölcsőde 2g'!I22+'Gondozási 2h'!H22 -> 1200 | H22: =F22+G22 -> 1200 | I22: ='Önk 2a'!J22+'PH 2b'!H22+'SZEI 2c'!J22+'PMK 2d'!K22+'FMC 2e'!K22+'Óvoda 2f'!L22+'Bölcsőde 2g'!K22+'Gondozási 2h'!J22 -> 0 | J22: ='Önk 2a'!K22+'PH 2b'!I22+'SZEI 2c'!K22+'PMK 2d'!L22+'FMC 2e'!L22+'Óvoda 2f'!M22+'Bölcsőde 2g'!L22+'Gondozási 2h'!K22 -> 1007 | K22: ='Önk 2a'!L22+'PH 2b'!J22+'SZEI 2c'!L22+'PMK 2d'!M22+'FMC 2e'!M22+'Óvoda 2f'!N22+'Bölcsőde 2g'!M22+'Gondozási 2h'!L22 -> 0 | L22: =H22+I22+J22+K22 -> 2207 | M22: ='Önk 2a'!N22+'PH 2b'!L22+'SZEI 2c'!N22+'PMK 2d'!O22+'FMC 2e'!O22+'Óvoda 2f'!P22+'Bölcsőde 2g'!O22+'Gondozási 2h'!N22 -> 4611.381 | N22: =M22/L22 -> 2.0894341
A23: B408 | B23: Kamatbevételek | C23: 15000 | D23: ='PH 2b'!C23+'SZEI 2c'!C23+'PMK 2d'!C23+'FMC 2e'!C23+'Óvoda 2f'!C23+'Bölcsőde 2g'!C23+'Gondozási 2h'!C23 -> 85 | E23: =C23+D23 -> 15085 | F23: 0 | G23: ='PH 2b'!F23+'SZEI 2c'!H23+'PMK 2d'!I23+'FMC 2e'!I23+'Óvoda 2f'!J23+'Bölcsőde 2g'!I23+'Gondozási 2h'!H23 -> 85 | H23: =F23+G23 -> 85 | I23: ='Önk 2a'!J23+'PH 2b'!H23+'SZEI 2c'!J23+'PMK 2d'!K23+'FMC 2e'!K23+'Óvoda 2f'!L23+'Bölcsőde 2g'!K23+'Gondozási 2h'!J23 -> 0 | J23: ='Önk 2a'!K23+'PH 2b'!I23+'SZEI 2c'!K23+'PMK 2d'!L23+'FMC 2e'!L23+'Óvoda 2f'!M23+'Bölcsőde 2g'!L23+'Gondozási 2h'!K23 -> 0 | K23: ='Önk 2a'!L23+'PH 2b'!J23+'SZEI 2c'!L23+'PMK 2d'!M23+'FMC 2e'!M23+'Óvoda 2f'!N23+'Bölcsőde 2g'!M23+'Gondozási 2h'!L23 -> 0 | L23: =H23+I23+J23+K23 -> 85 | M23: ='Önk 2a'!N23+'PH 2b'!L23+'SZEI 2c'!N23+'PMK 2d'!O23+'FMC 2e'!O23+'Óvoda 2f'!P23+'Bölcsőde 2g'!O23+'Gondozási 2h'!N23 -> 3764.588 | N23: =M23/L23 -> 44.289271
A24: B409 | B24: Egyéb pénzügyi műveletek bevételei | C24: 0 | D24: ='PH 2b'!C24+'SZEI 2c'!C24+'PMK 2d'!C24+'FMC 2e'!C24+'Óvoda 2f'!C24+'Bölcsőde 2g'!C24+'Gondozási 2h'!C24 -> 0 | E24: =C24+D24 -> 0 | F24: 0 | G24: ='PH 2b'!F24+'SZEI 2c'!H24+'PMK 2d'!I24+'FMC 2e'!I24+'Óvoda 2f'!J24+'Bölcsőde 2g'!I24+'Gondozási 2h'!H24 -> 0 | H24: =F24+G24 -> 0 | I24: ='Önk 2a'!J24+'PH 2b'!H24+'SZEI 2c'!J24+'PMK 2d'!K24+'FMC 2e'!K24+'Óvoda 2f'!L24+'Bölcsőde 2g'!K24+'Gondozási 2h'!J24 -> 0 | J24: ='Önk 2a'!K24+'PH 2b'!I24+'SZEI 2c'!K24+'PMK 2d'!L24+'FMC 2e'!L24+'Óvoda 2f'!M24+'Bölcsőde 2g'!L24+'Gondozási 2h'!K24 -> 0 | K24: ='Önk 2a'!L24+'PH 2b'!J24+'SZEI 2c'!L24+'PMK 2d'!M24+'FMC 2e'!M24+'Óvoda 2f'!N24+'Bölcsőde 2g'!M24+'Gondozási 2h'!L24 -> 0 | L24: =H24+I24+J24+K24 -> 0 | M24: ='Önk 2a'!N24+'PH 2b'!L24+'SZEI 2c'!N24+'PMK 2d'!O24+'FMC 2e'!O24+'Óvoda 2f'!P24+'Bölcsőde 2g'!O24+'Gondozási 2h'!N24 -> 0
A25: B410 | B25: Biztosító által fizetett kártérítés | C25: 5749 | D25: ='PH 2b'!C25+'SZEI 2c'!C25+'PMK 2d'!C25+'FMC 2e'!C25+'Óvoda 2f'!C25+'Bölcsőde 2g'!C25+'Gondozási 2h'!C25 -> 0 | E25: =C25+D25 -> 5749 | F25: 0 | G25: ='PH 2b'!F25+'SZEI 2c'!H25+'PMK 2d'!I25+'FMC 2e'!I25+'Óvoda 2f'!J25+'Bölcsőde 2g'!I25+'Gondozási 2h'!H25 -> 0 | H25: =F25+G25 -> 0 | I25: ='Önk 2a'!J25+'PH 2b'!H25+'SZEI 2c'!J25+'PMK 2d'!K25+'FMC 2e'!K25+'Óvoda 2f'!L25+'Bölcsőde 2g'!K25+'Gondozási 2h'!J25 -> 0 | J25: ='Önk 2a'!K25+'PH 2b'!I25+'SZEI 2c'!K25+'PMK 2d'!L25+'FMC 2e'!L25+'Óvoda 2f'!M25+'Bölcsőde 2g'!L25+'Gondozási 2h'!K25 -> 0 | K25: ='Önk 2a'!L25+'PH 2b'!J25+'SZEI 2c'!L25+'PMK 2d'!M25+'FMC 2e'!M25+'Óvoda 2f'!N25+'Bölcsőde 2g'!M25+'Gondozási 2h'!L25 -> 0 | L25: =H25+I25+J25+K25 -> 0 | M25: ='Önk 2a'!N25+'PH 2b'!L25+'SZEI 2c'!N25+'PMK 2d'!O25+'FMC 2e'!O25+'Óvoda 2f'!P25+'Bölcsőde 2g'!O25+'Gondozási 2h'!N25 -> 123.935
A26: B411 | B26: Egyéb működési bevételek | C26: 0 | D26: ='PH 2b'!C26+'SZEI 2c'!C26+'PMK 2d'!C26+'FMC 2e'!C26+'Óvoda 2f'!C26+'Bölcsőde 2g'!C26+'Gondozási 2h'!C26 -> 35895 | E26: =C26+D26 -> 35895 | F26: 4832 | G26: ='PH 2b'!F26+'SZEI 2c'!H26+'PMK 2d'!I26+'FMC 2e'!I26+'Óvoda 2f'!J26+'Bölcsőde 2g'!I26+'Gondozási 2h'!H26 -> 33295 | H26: =F26+G26 -> 38127 | I26: ='Önk 2a'!J26+'PH 2b'!H26+'SZEI 2c'!J26+'PMK 2d'!K26+'FMC 2e'!K26+'Óvoda 2f'!L26+'Bölcsőde 2g'!K26+'Gondozási 2h'!J26 -> 2311 | J26: ='Önk 2a'!K26+'PH 2b'!I26+'SZEI 2c'!K26+'PMK 2d'!L26+'FMC 2e'!L26+'Óvoda 2f'!M26+'Bölcsőde 2g'!L26+'Gondozási 2h'!K26 -> 0 | K26: ='Önk 2a'!L26+'PH 2b'!J26+'SZEI 2c'!L26+'PMK 2d'!M26+'FMC 2e'!M26+'Óvoda 2f'!N26+'Bölcsőde 2g'!M26+'Gondozási 2h'!L26 -> 680 | L26: =H26+I26+J26+K26 -> 41118 | M26: ='Önk 2a'!N26+'PH 2b'!L26+'SZEI 2c'!N26+'PMK 2d'!O26+'FMC 2e'!O26+'Óvoda 2f'!P26+'Bölcsőde 2g'!O26+'Gondozási 2h'!N26 -> 9808.318 | N26: =M26/L26 -> 0.23854074
A27: B5 | B27: Felhalmozási bevételek | C27: =SUM(C28:C30) -> 350974 | D27: =SUM(D28:D30) -> 0 | E27: =SUM(E28:E30) -> 350974 | F27: =SUM(F28:F30) -> 402494.5 | G27: =SUM(G28:G30) -> 0 | H27: =SUM(H28:H30) -> 402494.5 | I27: =SUM(I28:I30) -> 11238 | J27: =SUM(J28:J30) -> 0 | ... M27: =SUM(M28:M30) -> 72440.593 | N27: =M27/L27 -> 0.17240474
A28: B51 | B28: Immateriális javak értékesítése | C28: 0 | D28: ='PH 2b'!C28+'SZEI 2c'!C28+'PMK 2d'!C28+'FMC 2e'!C28+'Óvoda 2f'!C28+'Bölcsőde 2g'!C28+'Gondozási 2h'!C28 -> 0 | E28: =C28+D28 -> 0 | F28: 0 | G28: ='PH 2b'!F28+'SZEI 2c'!H28+'PMK 2d'!I28+'FMC 2e'!I28+'Óvoda 2f'!J28+'Bölcsőde 2g'!I28+'Gondozási 2h'!H28 -> 0 | H28: =F28+G28 -> 0 | I28: ='Önk 2a'!J28+'PH 2b'!H28+'SZEI 2c'!J28+'PMK 2d'!K28+'FMC 2e'!K28+'Óvoda 2f'!L28+'Bölcsőde 2g'!K28+'Gondozási 2h'!J28 -> 0 | J28: ='Önk 2a'!K28+'PH 2b'!I28+'SZEI 2c'!K28+'PMK 2d'!L28+'FMC 2e'!L28+'Óvoda 2f'!M28+'Bölcsőde 2g'!L28+'Gondozási 2h'!K28 -> 0 | K28: ='Önk 2a'!L28+'PH 2b'!J28+'SZEI 2c'!L28+'PMK 2d'!M28+'FMC 2e'!M28+'Óvoda 2f'!N28+'Bölcsőde 2g'!M28+'Gondozási 2h'!L28 -> 0 | L28: =H28+I28+J28+K28 -> 0 | M28: ='Önk 2a'!N28+'PH 2b'!L28+'SZEI 2c'!N28+'PMK 2d'!O28+'FMC 2e'!O28+'Óvoda 2f'!P28+'Bölcsőde 2g'!O28+'Gondozási 2h'!N28 -> 0
A29: B52 | B29: Ingatlanok értékesítése | C29: 350974 | D29: ='PH 2b'!C29+'SZEI 2c'!C29+'PMK 2d'!C29+'FMC 2e'!C29+'Óvoda 2f'!C29+'Bölcsőde 2g'!C29+'Gondozási 2h'!C29 -> 0 | E29: =C29+D29 -> 350974 | F29: 402494.5 | G29: ='PH 2b'!F29+'SZEI 2c'!H29+'PMK 2d'!I29+'FMC 2e'!I29+'Óvoda 2f'!J29+'Bölcsőde 2g'!I29+'Gondozási 2h'!H29 -> 0 | H29: =F29+G29 -> 402494.5 | I29: ='Önk 2a'!J29+'PH 2b'!H29+'SZEI 2c'!J29+'PMK 2d'!K29+'FMC 2e'!K29+'Óvoda 2f'!L29+'Bölcsőde 2g'!K29+'Gondozási 2h'!J29 -> 11235 | J29: ='Önk 2a'!K29+'PH 2b'!I29+'SZEI 2c'!K29+'PMK 2d'!L29+'FMC 2e'!L29+'Óvoda 2f'!M29+'Bölcsőde 2g'!L29+'Gondozási 2h'!K29 -> 0 | K29: ='Önk 2a'!L29+'PH 2b'!J29+'SZEI 2c'!L29+'PMK 2d'!M29+'FMC 2e'!M29+'Óvoda 2f'!N29+'Bölcsőde 2g'!M29+'Gondozási 2h'!L29 -> 0 | L29: =H29+I29+J29+K29 -> 413729.5 | M29: ='Önk 2a'!N29+'PH 2b'!L29+'SZEI 2c'!N29+'PMK 2d'!O29+'FMC 2e'!O29+'Óvoda 2f'!P29+'Bölcsőde 2g'!O29+'Gondozási 2h'!N29 -> 72437.593 | N29: =M29/L29 -> 0.17508443
A30: B53 | B30: Egyéb tárgyi eszközök értékesítése | C30: 0 | D30: ='PH 2b'!C30+'SZEI 2c'!C30+'PMK 2d'!C30+'FMC 2e'!C30+'Óvoda 2f'!C30+'Bölcsőde 2g'!C30+'Gondozási 2h'!C30 -> 0 | E30: =C30+D30 -> 0 | F30: 0 | G30: ='PH 2b'!F30+'SZEI 2c'!H30+'PMK 2d'!I30+'FMC 2e'!I30+'Óvoda 2f'!J30+'Bölcsőde 2g'!I30+'Gondozási 2h'!H30 -> 0 | H30: =F30+G30 -> 0 | I30: ='Önk 2a'!J30+'PH 2b'!H30+'SZEI 2c'!J30+'PMK 2d'!K30+'FMC 2e'!K30+'Óvoda 2f'!L30+'Bölcsőde 2g'!K30+'Gondozási 2h'!J30 -> 3 | J30: ='Önk 2a'!K30+'PH 2b'!I30+'SZEI 2c'!K30+'PMK 2d'!L30+'FMC 2e'!L30+'Óvoda 2f'!M30+'Bölcsőde 2g'!L30+'Gondozási 2h'!K30 -> 0 | K30: ='Önk 2a'!L30+'PH 2b'!J30+'SZEI 2c'!L30+'PMK 2d'!M30+'FMC 2e'!M30+'Óvoda 2f'!N30+'Bölcsőde 2g'!M30+'Gondozási 2h'!L30 -> 6445 | L30: =H30+I30+J30+K30 -> 6448 | M30: ='Önk 2a'!N30+'PH 2b'!L30+'SZEI 2c'!N30+'PMK 2d'!O30+'FMC 2e'!O30+'Óvoda 2f'!P30+'Bölcsőde 2g'!O30+'Gondozási 2h'!N30 -> 3 | N30: =M30/L30 -> 0.00046526055
A31: B6 | B31: Működési célú átvett pénzeszköz | C31: 13300 | D31: ='PH 2b'!C31+'SZEI 2c'!C31+'PMK 2d'!C31+'FMC 2e'!C31+'Óvoda 2f'!C31+'Bölcsőde 2g'!C31+'Gondozási 2h'!C31 -> 1700 | E31: =C31+D31 -> 15000 | F31: 42695 | G31: ='PH 2b'!F31+'SZEI 2c'!H31+'PMK 2d'!I31+'FMC 2e'!I31+'Óvoda 2f'!J31+'Bölcsőde 2g'!I31+'Gondozási 2h'!H31 -> 690 | H31: =F31+G31 -> 43385 | I31: ='Önk 2a'!J31+'PH 2b'!H31+'SZEI 2c'!J31+'PMK 2d'!K31+'FMC 2e'!K31+'Óvoda 2f'!L31+'Bölcsőde 2g'!K31+'Gondozási 2h'!J31 -> 0 | J31: ='Önk 2a'!K31+'PH 2b'!I31+'SZEI 2c'!K31+'PMK 2d'!L31+'FMC 2e'!L31+'Óvoda 2f'!M31+'Bölcsőde 2g'!L31+'Gondozási 2h'!K31 -> 1488 | K31: ='Önk 2a'!L31+'PH 2b'!J31+'SZEI 2c'!L31+'PMK 2d'!M31+'FMC 2e'!M31+'Óvoda 2f'!N31+'Bölcsőde 2g'!M31+'Gondozási 2h'!L31 -> 23354.876 | L31: =H31+I31+J31+K31 -> 68227.876 | M31: ='Önk 2a'!N31+'PH 2b'!L31+'SZEI 2c'!N31+'PMK 2d'!O31+'FMC 2e'!O31+'Óvoda 2f'!P31+'Bölcsőde 2g'!O31+'Gondozási 2h'!N31 -> 9878.808 | N31: =M31/L31 -> 0.14479138
A32: B7 | B32: Felhalmozási célú átvett pénzeszköz | C32: 65963 | D32: ='PH 2b'!C32+'SZEI 2c'!C32+'PMK 2d'!C32+'FMC 2e'!C32+'Óvoda 2f'!C32+'Bölcsőde 2g'!C32+'Gondozási 2h'!C32 -> 0 | E32: =C32+D32 -> 65963 | F32: 0 | G32: ='PH 2b'!F32+'SZEI 2c'!H32+'PMK 2d'!I32+'FMC 2e'!I32+'Óvoda 2f'!J32+'Bölcsőde 2g'!I32+'Gondozási 2h'!H32 -> 0 | H32: =F32+G32 -> 0 | I32: ='Önk 2a'!J32+'PH 2b'!H32+'SZEI 2c'!J32+'PMK 2d'!K32+'FMC 2e'!K32+'Óvoda 2f'!L32+'Bölcsőde 2g'!K32+'Gondozási 2h'!J32 -> 8947 | J32: ='Önk 2a'!K32+'PH 2b'!I32+'SZEI 2c'!K32+'PMK 2d'!L32+'FMC 2e'!L32+'Óvoda 2f'!M32+'Bölcsőde 2g'!L32+'Gondozási 2h'!K32 -> 936 | K32: ='Önk 2a'!L32+'PH 2b'!J32+'SZEI 2c'!L32+'PMK 2d'!M32+'FMC 2e'!M32+'Óvoda 2f'!N32+'Bölcsőde 2g'!M32+'Gondozási 2h'!L32 -> 12842.155 | L32: =H32+I32+J32+K32 -> 22725.155 | M32: ='Önk 2a'!N32+'PH 2b'!L32+'SZEI 2c'!N32+'PMK 2d'!O32+'FMC 2e'!O32+'Óvoda 2f'!P32+'Bölcsőde 2g'!O32+'Gondozási 2h'!N32 -> 9850.221 | N32: =M32/L32 -> 0.43345011
A33: II. | B33: KÖLTSÉGVETÉSI KIADÁSOK | C33: =C34+C37+C38+C44+C45+C50+C51+C52 -> 3692812.3 | D33: =D34+D37+D38+D44+D45+D50+D51+D52 -> 3014064 | E33: =E34+E37+E38+E44+E45+E50+E51+E52 -> 6706876.3 | F33: =F34+F37+F38+F44+F45+F50+F51+F52 -> 2899756 | G33: =G34+G37+G38+G44+G45+G50+G51+G52 -> 2908779 | H33: =H34+H37+H38+H44+H45+H50+H51+H52 -> 5808535 | I33: =I34+I37+I38+I44+I45+I50+I51+I52 -> 270664 | J33: =J34+J37+J38+J44+J45+J50+J51+J52 -> 25120 | ... L33: =L34+L37+L38+L44+L45+L50+L51+L52 -> 6205915.9 | M33: =SUM(M34,M37,M38,M44,M45,M50,M52,M51) -> 2421540.7 | N33: =M33/L33 -> 0.39019877
A34: K1 | B34: Személyi juttatások | C34: 4680 | D34: ='PH 2b'!C34+'SZEI 2c'!C34+'PMK 2d'!C34+'FMC 2e'!C34+'Óvoda 2f'!C34+'Bölcsőde 2g'!C34+'Gondozási 2h'!C34 -> 1615272 | E34: =C34+D34 -> 1619952 | F34: =SUM(F35:F36) -> 4650 | G34: =SUM(G35:G36) -> 1608461 | H34: =SUM(H35:H36) -> 1613111 | I34: =SUM(I35:I36) -> 24636 | J34: =SUM(J35:J36) -> 4298 | K34: =SUM(K35:K36) -> 4674 | L34: =SUM(L35:L36) -> 1646719 | M34: =SUM(M35:M36) -> 786284.73 | N34: =M34/L34 -> 0.47748567
A35: K11 | B35: Foglalkoztatottak személyi juttatásai | C35: 0 | E35: =C35+D35 -> 0 | F35: ='Önk 2a'!G35 -> 0 | G35: ='PH 2b'!F35+'SZEI 2c'!H35+'PMK 2d'!I35+'FMC 2e'!I35+'Óvoda 2f'!J35+'Bölcsőde 2g'!I35+'Gondozási 2h'!H35 -> 1503940 | H35: =F35+G35 -> 1503940 | I35: ='Önk 2a'!J35+'PH 2b'!H35+'SZEI 2c'!J35+'PMK 2d'!K35+'FMC 2e'!K35+'Óvoda 2f'!L35+'Bölcsőde 2g'!K35+'Gondozási 2h'!J35 -> 24026 | J35: ='Önk 2a'!K35+'PH 2b'!I35+'SZEI 2c'!K35+'PMK 2d'!L35+'FMC 2e'!L35+'Óvoda 2f'!M35+'Bölcsőde 2g'!L35+'Gondozási 2h'!K35 -> 4298 | K35: ='Önk 2a'!L35+'PH 2b'!J35+'SZEI 2c'!L35+'PMK 2d'!M35+'FMC 2e'!M35+'Óvoda 2f'!N35+'Bölcsőde 2g'!M35+'Gondozási 2h'!L35 -> 3149 | L35: =H35+I35+J35+K35 -> 1535413 | M35: ='Önk 2a'!N35+'PH 2b'!L35+'SZEI 2c'!N35+'PMK 2d'!O35+'FMC 2e'!O35+'Óvoda 2f'!P35+'Bölcsőde 2g'!O35+'Gondozási 2h'!N35 -> 735321.68 | N35: =M35/L35 -> 0.47890807
A36: K12 | B36: Külső személyi juttatások | C36: 4680 | E36: =C36+D36 -> 4680 | F36: ='Önk 2a'!G36 -> 4650 | G36: ='PH 2b'!F36+'SZEI 2c'!H36+'PMK 2d'!I36+'FMC 2e'!I36+'Óvoda 2f'!J36+'Bölcsőde 2g'!I36+'Gondozási 2h'!H36 -> 104521 | H36: =F36+G36 -> 109171 | I36: ='Önk 2a'!J36+'PH 2b'!H36+'SZEI 2c'!J36+'PMK 2d'!K36+'FMC 2e'!K36+'Óvoda 2f'!L36+'Bölcsőde 2g'!K36+'Gondozási 2h'!J36 -> 610 | J36: ='Önk 2a'!K36+'PH 2b'!I36+'SZEI 2c'!K36+'PMK 2d'!L36+'FMC 2e'!L36+'Óvoda 2f'!M36+'Bölcsőde 2g'!L36+'Gondozási 2h'!K36 -> 0 | K36: ='Önk 2a'!L36+'PH 2b'!J36+'SZEI 2c'!L36+'PMK 2d'!M36+'FMC 2e'!M36+'Óvoda 2f'!N36+'Bölcsőde 2g'!M36+'Gondozási 2h'!L36 -> 1525 | L36: =H36+I36+J36+K36 -> 111306 | M36: ='Önk 2a'!N36+'PH 2b'!L36+'SZEI 2c'!N36+'PMK 2d'!O36+'FMC 2e'!O36+'Óvoda 2f'!P36+'Bölcsőde 2g'!O36+'Gondozási 2h'!N36 -> 50963.054 | N36: =M36/L36 -> 0.45786439
A37: K2 | B37: Munkaadókat terhelő járulékok és szociális hozzájárulási adó | C37: 0 | D37: ='PH 2b'!C37+'SZEI 2c'!C37+'PMK 2d'!C37+'FMC 2e'!C37+'Óvoda 2f'!C37+'Bölcsőde 2g'!C37+'Gondozási 2h'!C37 -> 444038 | E37: =C37+D37 -> 444038 | F37: 0 | G37: ='PH 2b'!F37+'SZEI 2c'!H37+'PMK 2d'!I37+'FMC 2e'!I37+'Óvoda 2f'!J37+'Bölcsőde 2g'!I37+'Gondozási 2h'!H37 -> 453811 | H37: =F37+G37 -> 453811 | I37: ='Önk 2a'!J37+'PH 2b'!H37+'SZEI 2c'!J37+'PMK 2d'!K37+'FMC 2e'!K37+'Óvoda 2f'!L37+'Bölcsőde 2g'!K37+'Gondozási 2h'!J37 -> 7695 | J37: ='Önk 2a'!K37+'PH 2b'!I37+'SZEI 2c'!K37+'PMK 2d'!L37+'FMC 2e'!L37+'Óvoda 2f'!M37+'Bölcsőde 2g'!L37+'Gondozási 2h'!K37 -> 6297 | K37: ='Önk 2a'!L37+'PH 2b'!J37+'SZEI 2c'!L37+'PMK 2d'!M37+'FMC 2e'!M37+'Óvoda 2f'!N37+'Bölcsőde 2g'!M37+'Gondozási 2h'!L37 -> 1950.9 | L37: =H37+I37+J37+K37 -> 469753.9 | M37: ='Önk 2a'!N37+'PH 2b'!L37+'SZEI 2c'!N37+'PMK 2d'!O37+'FMC 2e'!O37+'Óvoda 2f'!P37+'Bölcsőde 2g'!O37+'Gondozási 2h'!N37 -> 223190.64 | N37: =M37/L37 -> 0.47512248
A38: K3 | B38: Dologi kiadások | C38: 1491124.3 | D38: ='PH 2b'!C38+'SZEI 2c'!C38+'PMK 2d'!C38+'FMC 2e'!C38+'Óvoda 2f'!C38+'Bölcsőde 2g'!C38+'Gondozási 2h'!C38 -> 794737 | E38: =C38+D38 -> 2285861.3 | F38: =SUM(F39:F43) -> 1083656.3 | G38: =SUM(G39:G43) -> 775036 | H38: =SUM(H39:H43) -> 1858692.3 | I38: =SUM(I39:I43) -> 75493 | J38: =SUM(J39:J43) -> 21839 | K38: =SUM(K39:K43) -> 57035.89 | L38: =SUM(L39:L43) -> 2013060.2 | M38: =SUM(M39:M43) -> 886089.32 | N38: =M38/L38 -> 0.44017031
A39: K31 | B39: Készletbeszerzés | C39: 7302 | D39: ='PH 2b'!C40+'SZEI 2c'!R47+'PMK 2d'!R46+'FMC 2e'!R46+'Óvoda 2f'!S47+'Bölcsőde 2g'!R46+'Gondozási 2h'!R46 -> 15945 | E39: =C39+D39 -> 23247 | F39: ='Önk 2a'!G39 -> 14841 | G39: ='PH 2b'!F39+'SZEI 2c'!H39+'PMK 2d'!I39+'FMC 2e'!I39+'Óvoda 2f'!J39+'Bölcsőde 2g'!I39+'Gondozási 2h'!H39 -> 101007 | H39: =F39+G39 -> 115848 | I39: ='Önk 2a'!J39+'PH 2b'!H39+'SZEI 2c'!J39+'PMK 2d'!K39+'FMC 2e'!K39+'Óvoda 2f'!L39+'Bölcsőde 2g'!K39+'Gondozási 2h'!J39 -> 0 | J39: ='Önk 2a'!K39+'PH 2b'!I39+'SZEI 2c'!K39+'PMK 2d'!L39+'FMC 2e'!L39+'Óvoda 2f'!M39+'Bölcsőde 2g'!L39+'Gondozási 2h'!K39 -> 0 | K39: ='Önk 2a'!L39+'PH 2b'!J39+'SZEI 2c'!L39+'PMK 2d'!M39+'FMC 2e'!M39+'Óvoda 2f'!N39+'Bölcsőde 2g'!M39+'Gondozási 2h'!L39 -> 0 | L39: =H39+I39+J39+K39 -> 115848 | M39: ='Önk 2a'!N39+'PH 2b'!L39+'SZEI 2c'!N39+'PMK 2d'!O39+'FMC 2e'!O39+'Óvoda 2f'!P39+'Bölcsőde 2g'!O39+'Gondozási 2h'!N39 -> 50219.09 | N39: =M39/L39 -> 0.43349121
A40: K32 | B40: Kommunikációs szolgáltatások | C40: 11499 | D40: ='PH 2b'!C41+'SZEI 2c'!R48+'PMK 2d'!R47+'FMC 2e'!R47+'Óvoda 2f'!S48+'Bölcsőde 2g'!R47+'Gondozási 2h'!R47 -> 78621 | E40: =C40+D40 -> 90120 | F40: ='Önk 2a'!G40 -> 15655 | G40: ='PH 2b'!F40+'SZEI 2c'!H40+'PMK 2d'!I40+'FMC 2e'!I40+'Óvoda 2f'!J40+'Bölcsőde 2g'!I40+'Gondozási 2h'!H40 -> 27299 | H40: =F40+G40 -> 42954 | I40: ='Önk 2a'!J40+'PH 2b'!H40+'SZEI 2c'!J40+'PMK 2d'!K40+'FMC 2e'!K40+'Óvoda 2f'!L40+'Bölcsőde 2g'!K40+'Gondozási 2h'!J40 -> 0 | J40: ='Önk 2a'!K40+'PH 2b'!I40+'SZEI 2c'!K40+'PMK 2d'!L40+'FMC 2e'!L40+'Óvoda 2f'!M40+'Bölcsőde 2g'!L40+'Gondozási 2h'!K40 -> 0 | K40: ='Önk 2a'!L40+'PH 2b'!J40+'SZEI 2c'!L40+'PMK 2d'!M40+'FMC 2e'!M40+'Óvoda 2f'!N40+'Bölcsőde 2g'!M40+'Gondozási 2h'!L40 -> 0 | L40: =H40+I40+J40+K40 -> 42954 | M40: ='Önk 2a'!N40+'PH 2b'!L40+'SZEI 2c'!N40+'PMK 2d'!O40+'FMC 2e'!O40+'Óvoda 2f'!P40+'Bölcsőde 2g'!O40+'Gondozási 2h'!N40 -> 24117.889 | N40: =M40/L40 -> 0.56148179
A41: K33 | B41: Szolgáltatási kiadások | C41: 1144094 | D41: ='PH 2b'!C42+'SZEI 2c'!R49+'PMK 2d'!R48+'FMC 2e'!R48+'Óvoda 2f'!S49+'Bölcsőde 2g'!R48+'Gondozási 2h'!R48 -> 1528 | E41: =C41+D41 -> 1145622 | F41: ='Önk 2a'!G41 -> 733063.27 | G41: ='PH 2b'!F41+'SZEI 2c'!H41+'PMK 2d'!I41+'FMC 2e'!I41+'Óvoda 2f'!J41+'Bölcsőde 2g'!I41+'Gondozási 2h'!H41 -> 508524 | H41: =F41+G41 -> 1241587.3 | I41: ='Önk 2a'!J41+'PH 2b'!H41+'SZEI 2c'!J41+'PMK 2d'!K41+'FMC 2e'!K41+'Óvoda 2f'!L41+'Bölcsőde 2g'!K41+'Gondozási 2h'!J41 -> 74954 | J41: ='Önk 2a'!K41+'PH 2b'!I41+'SZEI 2c'!K41+'PMK 2d'!L41+'FMC 2e'!L41+'Óvoda 2f'!M41+'Bölcsőde 2g'!L41+'Gondozási 2h'!K41 -> 25180 | K41: ='Önk 2a'!L41+'PH 2b'!J41+'SZEI 2c'!L41+'PMK 2d'!M41+'FMC 2e'!M41+'Óvoda 2f'!N41+'Bölcsőde 2g'!M41+'Gondozási 2h'!L41 -> 57035.89 | L41: =H41+I41+J41+K41 -> 1398757.2 | M41: ='Önk 2a'!N41+'PH 2b'!L41+'SZEI 2c'!N41+'PMK 2d'!O41+'FMC 2e'!O41+'Óvoda 2f'!P41+'Bölcsőde 2g'!O41+'Gondozási 2h'!N41 -> 614242.96 | N41: =M41/L41 -> 0.43913481
A42: K34 | B42: Kiküldetések, reklám- és propaganda kiadások | C42: 1250 | D42: ='PH 2b'!C43+'SZEI 2c'!R50+'PMK 2d'!R49+'FMC 2e'!R49+'Óvoda 2f'!S50+'Bölcsőde 2g'!R49+'Gondozási 2h'!R49 -> 50740 | E42: =C42+D42 -> 51990 | F42: ='Önk 2a'!G42 -> 1998 | G42: ='PH 2b'!F42+'SZEI 2c'!H42+'PMK 2d'!I42+'FMC 2e'!I42+'Óvoda 2f'!J42+'Bölcsőde 2g'!I42+'Gondozási 2h'!H42 -> 5094 | H42: =F42+G42 -> 7092 | I42: ='Önk 2a'!J42+'PH 2b'!H42+'SZEI 2c'!J42+'PMK 2d'!K42+'FMC 2e'!K42+'Óvoda 2f'!L42+'Bölcsőde 2g'!K42+'Gondozási 2h'!J42 -> 0 | J42: ='Önk 2a'!K42+'PH 2b'!I42+'SZEI 2c'!K42+'PMK 2d'!L42+'FMC 2e'!L42+'Óvoda 2f'!M42+'Bölcsőde 2g'!L42+'Gondozási 2h'!K42 -> 0 | K42: ='Önk 2a'!L42+'PH 2b'!J42+'SZEI 2c'!L42+'PMK 2d'!M42+'FMC 2e'!M42+'Óvoda 2f'!N42+'Bölcsőde 2g'!M42+'Gondozási 2h'!L42 -> 0 | L42: =H42+I42+J42+K42 -> 7092 | M42: ='Önk 2a'!N42+'PH 2b'!L42+'SZEI 2c'!N42+'PMK 2d'!O42+'FMC 2e'!O42+'Óvoda 2f'!P42+'Bölcsőde 2g'!O42+'Gondozási 2h'!N42 -> 8071.314 | N42: =M42/L42 -> 1.1380871
A43: K35 | B43: Különféle befizetések és egyéb dologi kiadások | C43: 326979.28 | D43: ='PH 2b'!C44+'SZEI 2c'!R51+'PMK 2d'!R50+'FMC 2e'!R50+'Óvoda 2f'!S51+'Bölcsőde 2g'!R50+'Gondozási 2h'!R50 -> 5180 | E43: =C43+D43 -> 332159.28 | F43: ='Önk 2a'!G43 -> 318099.03 | G43: ='PH 2b'!F43+'SZEI 2c'!H43+'PMK 2d'!I43+'FMC 2e'!I43+'Óvoda 2f'!J43+'Bölcsőde 2g'!I43+'Gondozási 2h'!H43 -> 133112 | H43: =F43+G43 -> 451211.03 | I43: ='Önk 2a'!J43+'PH 2b'!H43+'SZEI 2c'!J43+'PMK 2d'!K43+'FMC 2e'!K43+'Óvoda 2f'!L43+'Bölcsőde 2g'!K43+'Gondozási 2h'!J43 -> 539 | J43: ='Önk 2a'!K43+'PH 2b'!I43+'SZEI 2c'!K43+'PMK 2d'!L43+'FMC 2e'!L43+'Óvoda 2f'!M43+'Bölcsőde 2g'!L43+'Gondozási 2h'!K43 -> -3341 | K43: ='Önk 2a'!L43+'PH 2b'!J43+'SZEI 2c'!L43+'PMK 2d'!M43+'FMC 2e'!M43+'Óvoda 2f'!N43+'Bölcsőde 2g'!M43+'Gondozási 2h'!L43 -> 0 | L43: =H43+I43+J43+K43 -> 448409.03 | M43: ='Önk 2a'!N43+'PH 2b'!L43+'SZEI 2c'!N43+'PMK 2d'!O43+'FMC 2e'!O43+'Óvoda 2f'!P43+'Bölcsőde 2g'!O43+'Gondozási 2h'!N43 -> 189438.06 | N43: =M43/L43 -> 0.4224671
A44: K4 | B44: Ellátottak pénzbeli juttatásai (6.sz.melléklet) | C44: 15010 | D44: ='PH 2b'!C44+'SZEI 2c'!C44+'PMK 2d'!C44+'FMC 2e'!C44+'Óvoda 2f'!C44+'Bölcsőde 2g'!C44+'Gondozási 2h'!C44 -> 5180 | E44: =C44+D44 -> 20190 | F44: ='Önk 2a'!G44 -> 20250 | G44: ='PH 2b'!F44+'SZEI 2c'!H44+'PMK 2d'!I44+'FMC 2e'!I44+'Óvoda 2f'!J44+'Bölcsőde 2g'!I44+'Gondozási 2h'!H44 -> 690 | H44: =F44+G44 -> 20940 | I44: ='Önk 2a'!J44+'PH 2b'!H44+'SZEI 2c'!J44+'PMK 2d'!K44+'FMC 2e'!K44+'Óvoda 2f'!L44+'Bölcsőde 2g'!K44+'Gondozási 2h'!J44 -> 0 | J44: ='Önk 2a'!K44+'PH 2b'!I44+'SZEI 2c'!K44+'PMK 2d'!L44+'FMC 2e'!L44+'Óvoda 2f'!M44+'Bölcsőde 2g'!L44+'Gondozási 2h'!K44 -> 0 | K44: ='Önk 2a'!L44+'PH 2b'!J44+'SZEI 2c'!L44+'PMK 2d'!M44+'FMC 2e'!M44+'Óvoda 2f'!N44+'Bölcsőde 2g'!M44+'Gondozási 2h'!L44 -> 0 | L44: =H44+I44+J44+K44 -> 20940 | M44: ='Önk 2a'!N44+'PH 2b'!L44+'SZEI 2c'!N44+'PMK 2d'!O44+'FMC 2e'!O44+'Óvoda 2f'!P44+'Bölcsőde 2g'!O44+'Gondozási 2h'!N44 -> 8214.238 | N44: =M44/L44 -> 0.39227498
A45: K5 | B45: Egyéb működési célú kiadások (4. és 8-sz.melléklet) | C45: =SUM(C46,C47) -> 364678 | D45: =SUM(D46,D47) -> 600 | E45: =SUM(E46,E47) -> 365278 | F45: =SUM(F46,F47) -> 1155612.7 | G45: =SUM(G46,G47) -> 0 | H45: =SUM(H46,H47) -> 1155612.7 | I45: =SUM(I46,I47) -> 13096 | J45: =SUM(J46,J47) -> -7585 | ... M45: =SUM(M46,M47) -> 232815.14 | N45: =M45/L45 -> 0.19059488
A46: K50-K513 | B46: Ebből: egyéb működési célú támogatások (8.sz.melléklet) | C46: 284678 | D46: ='PH 2b'!C46+'SZEI 2c'!C46+'PMK 2d'!C46+'FMC 2e'!C46+'Óvoda 2f'!C46+'Bölcsőde 2g'!C46+'Gondozási 2h'!C46 -> 600 | E46: =C46+D46 -> 285278 | F46: ='Önk 2a'!I46 -> 1104244.3 | G46: ='PH 2b'!F46+'SZEI 2c'!H46+'PMK 2d'!I46+'FMC 2e'!I46+'Óvoda 2f'!J46+'Bölcsőde 2g'!I46+'Gondozási 2h'!H46 -> 0 | H46: =F46+G46 -> 1104244.3 | I46: ='Önk 2a'!J46+'PH 2b'!H46+'SZEI 2c'!J46+'PMK 2d'!K46+'FMC 2e'!K46+'Óvoda 2f'!L46+'Bölcsőde 2g'!K46+'Gondozási 2h'!J46 -> 2482 | J46: ='Önk 2a'!K46+'PH 2b'!I46+'SZEI 2c'!K46+'PMK 2d'!L46+'FMC 2e'!L46+'Óvoda 2f'!M46+'Bölcsőde 2g'!L46+'Gondozási 2h'!K46 -> 5123 | K46: ='Önk 2a'!L46+'PH 2b'!J46+'SZEI 2c'!L46+'PMK 2d'!M46+'FMC 2e'!M46+'Óvoda 2f'!N46+'Bölcsőde 2g'!M46+'Gondozási 2h'!L46 -> 44162.296 | L46: =H46+I46+J46+K46 -> 1156011.6 | M46: ='Önk 2a'!N46+'PH 2b'!L46+'SZEI 2c'!N46+'PMK 2d'!O46+'FMC 2e'!O46+'Óvoda 2f'!P46+'Bölcsőde 2g'!O46+'Gondozási 2h'!N46 -> 232815.14 | N46: =M46/L46 -> 0.20139516
A47: K513 | B47: Ebből: tartalék (4.sz.melléklet) | C47: 80000 | D47: =SUM(D48:D49) -> 0 | E47: =SUM(E48:E49) -> 80000 | F47: =SUM(F48:F49) -> 51368.4 | G47: =SUM(G48:G49) -> 0 | H47: =SUM(H48:H49) -> 51368.4 | I47: =SUM(I48:I49) -> 10614 | J47: =SUM(J48:J49) -> -12708 | K47: =SUM(K48:K49) -> 16232.321 | L47: =H47+I47+J47+K47 -> 65506.721 | M47: =SUM(M48:M49) -> 0 | N47: =M47/L47 -> 0
B48: Működési tartalék | C48: 80000 | D48: ='PH 2b'!C49+'SZEI 2c'!R56+'PMK 2d'!R55+'FMC 2e'!R55+'Óvoda 2f'!S56+'Bölcsőde 2g'!R55+'Gondozási 2h'!R55 -> 0 | E48: =C48+D48 -> 80000 | F48: ='Önk 2a'!I48 -> 51368.4 | G48: ='PH 2b'!F48+'SZEI 2c'!H48+'PMK 2d'!I48+'FMC 2e'!I48+'Óvoda 2f'!J48+'Bölcsőde 2g'!I48+'Gondozási 2h'!H48 -> 0 | H48: =F48+G48 -> 51368.4 | I48: ='Önk 2a'!J48+'PH 2b'!H48+'SZEI 2c'!J48+'PMK 2d'!K48+'FMC 2e'!K48+'Óvoda 2f'!L48+'Bölcsőde 2g'!K48+'Gondozási 2h'!J48 -> 10614 | J48: ='Önk 2a'!K48+'PH 2b'!I48+'SZEI 2c'!K48+'PMK 2d'!L48+'FMC 2e'!L48+'Óvoda 2f'!M48+'Bölcsőde 2g'!L48+'Gondozási 2h'!K48 -> -12708 | K48: ='Önk 2a'!L48+'PH 2b'!J48+'SZEI 2c'!L48+'PMK 2d'!M48+'FMC 2e'!M48+'Óvoda 2f'!N48+'Bölcsőde 2g'!M48+'Gondozási 2h'!L48 -> 16232.321 | L48: =H48+I48+J48+K48 -> 65506.721 | M48: ='Önk 2a'!N48+'PH 2b'!L48+'SZEI 2c'!N48+'PMK 2d'!O48+'FMC 2e'!O48+'Óvoda 2f'!P48+'Bölcsőde 2g'!O48+'Gondozási 2h'!N48 -> 0 | N48: =M48/L48 -> 0
B49: Felhalmozási tartalék | C49: 0 | D49: ='PH 2b'!C50+'SZEI 2c'!R57+'PMK 2d'!R56+'FMC 2e'!R56+'Óvoda 2f'!S57+'Bölcsőde 2g'!R56+'Gondozási 2h'!R56 -> 0 | E49: =C49+D49 -> 0 | F49: ='Önk 2a'!I49 -> 0 | G49: ='PH 2b'!F49+'SZEI 2c'!H49+'PMK 2d'!I49+'FMC 2e'!I49+'Óvoda 2f'!J49+'Bölcsőde 2g'!I49+'Gondozási 2h'!H49 -> 0 | H49: =F49+G49 -> 0 | I49: ='Önk 2a'!J49+'PH 2b'!H49+'SZEI 2c'!J49+'PMK 2d'!K49+'FMC 2e'!K49+'Óvoda 2f'!L49+'Bölcsőde 2g'!K49+'Gondozási 2h'!J49 -> 0 | J49: ='Önk 2a'!K49+'PH 2b'!I49+'SZEI 2c'!K49+'PMK 2d'!L49+'FMC 2e'!L49+'Óvoda 2f'!M49+'Bölcsőde 2g'!L49+'Gondozási 2h'!K49 -> 0 | L49: =H49+J49+I49+K49 -> 0 | M49: ='Önk 2a'!N49+'PH 2b'!L49+'SZEI 2c'!N49+'PMK 2d'!O49+'FMC 2e'!O49+'Óvoda 2f'!P49+'Bölcsőde 2g'!O49+'Gondozási 2h'!N49 -> 0
A50: K6 | B50: Beruházások (3/a sz.melléklet) | C50: 1405767 | D50: ='PH 2b'!C50+'SZEI 2c'!C50+'PMK 2d'!C50+'FMC 2e'!C50+'Óvoda 2f'!C50+'Bölcsőde 2g'!C50+'Gondozási 2h'!C50 -> 106237 | E50: =C50+D50 -> 1512004 | F50: ='Önk 2a'!I50 -> 150727 | G50: ='PH 2b'!F50+'SZEI 2c'!H50+'PMK 2d'!I50+'FMC 2e'!I50+'Óvoda 2f'!J50+'Bölcsőde 2g'!I50+'Gondozási 2h'!H50 -> 70781 | H50: =F50+G50 -> 221508 | I50: ='Önk 2a'!J50+'PH 2b'!H50+'SZEI 2c'!J50+'PMK 2d'!K50+'FMC 2e'!K50+'Óvoda 2f'!L50+'Bölcsőde 2g'!K50+'Gondozási 2h'!J50 -> 83010 | J50: ='Önk 2a'!K50+'PH 2b'!I50+'SZEI 2c'!K50+'PMK 2d'!L50+'FMC 2e'!L50+'Óvoda 2f'!M50+'Bölcsőde 2g'!L50+'Gondozási 2h'!K50 -> 14536 | K50: ='Önk 2a'!L50+'PH 2b'!J50+'SZEI 2c'!L50+'PMK 2d'!M50+'FMC 2e'!M50+'Óvoda 2f'!N50+'Bölcsőde 2g'!M50+'Gondozási 2h'!L50 -> 18559.351 | L50: =H50++J50+I50+K50 -> 337613.35 | M50: ='Önk 2a'!N50+'PH 2b'!L50+'SZEI 2c'!N50+'PMK 2d'!O50+'FMC 2e'!O50+'Óvoda 2f'!P50+'Bölcsőde 2g'!O50+'Gondozási 2h'!N50 -> 139033.02 | N50: =M50/L50 -> 0.41181137
A51: K7 | B51: Felújítások (3/c sz. melléklet) | C51: 389510 | D51: ='PH 2b'!C51+'SZEI 2c'!C51+'PMK 2d'!C51+'FMC 2e'!C51+'Óvoda 2f'!C51+'Bölcsőde 2g'!C51+'Gondozási 2h'!C51 -> 48000 | E51: =C51+D51 -> 437510 | F51: ='Önk 2a'!I51 -> 392700 | G51: ='PH 2b'!F51+'SZEI 2c'!H51+'PMK 2d'!I51+'FMC 2e'!I51+'Óvoda 2f'!J51+'Bölcsőde 2g'!I51+'Gondozási 2h'!H51 -> 0 | H51: =F51+G51 -> 392700 | I51: ='Önk 2a'!J51+'PH 2b'!H51+'SZEI 2c'!J51+'PMK 2d'!K51+'FMC 2e'!K51+'Óvoda 2f'!L51+'Bölcsőde 2g'!K51+'Gondozási 2h'!J51 -> 66734 | J51: ='Önk 2a'!K51+'PH 2b'!I51+'SZEI 2c'!K51+'PMK 2d'!L51+'FMC 2e'!L51+'Óvoda 2f'!M51+'Bölcsőde 2g'!L51+'Gondozási 2h'!K51 -> -16805 | K51: ='Önk 2a'!L51+'PH 2b'!J51+'SZEI 2c'!L51+'PMK 2d'!M51+'FMC 2e'!M51+'Óvoda 2f'!N51+'Bölcsőde 2g'!M51+'Gondozási 2h'!L51 -> -46200 | L51: =H51+J51+I51+K51 -> 396429 | M51: ='Önk 2a'!N51+'PH 2b'!L51+'SZEI 2c'!N51+'PMK 2d'!O51+'FMC 2e'!O51+'Óvoda 2f'!P51+'Bölcsőde 2g'!O51+'Gondozási 2h'!N51 -> 111537.47 | N51: =M51/L51 -> 0.28135547
A52: K8 | B52: Egyéb felhalmozási célú kiadások (6.sz.melléklet) | C52: 22043 | D52: ='PH 2b'!C52+'SZEI 2c'!C52+'PMK 2d'!C52+'FMC 2e'!C52+'Óvoda 2f'!C52+'Bölcsőde 2g'!C52+'Gondozási 2h'!C52 -> 0 | E52: =C52+D52 -> 22043 | F52: ='Önk 2a'!I52 -> 92160 | G52: ='PH 2b'!F52+'SZEI 2c'!H52+'PMK 2d'!I52+'FMC 2e'!I52+'Óvoda 2f'!J52+'Bölcsőde 2g'!I52+'Gondozási 2h'!H52 -> 0 | H52: =F52+G52 -> 92160 | I52: ='Önk 2a'!J52+'PH 2b'!H52+'SZEI 2c'!J52+'PMK 2d'!K52+'FMC 2e'!K52+'Óvoda 2f'!L52+'Bölcsőde 2g'!K52+'Gondozási 2h'!J52 -> 0 | J52: ='Önk 2a'!K52+'PH 2b'!I52+'SZEI 2c'!K52+'PMK 2d'!L52+'FMC 2e'!L52+'Óvoda 2f'!M52+'Bölcsőde 2g'!L52+'Gondozási 2h'!K52 -> 2540 | K52: ='Önk 2a'!L52+'PH 2b'!J52+'SZEI 2c'!L52+'PMK 2d'!M52+'FMC 2e'!M52+'Óvoda 2f'!N52+'Bölcsőde 2g'!M52+'Gondozási 2h'!L52 -> 5182.132 | L52: =H52+J52+I52+K52 -> 99882.132 | M52: ='Önk 2a'!N52+'PH 2b'!L52+'SZEI 2c'!N52+'PMK 2d'!O52+'FMC 2e'!O52+'Óvoda 2f'!P52+'Bölcsőde 2g'!O52+'Gondozási 2h'!N52 -> 34376.169 | N52: =M52/L52 -> 0.34416735
B53: EGYENLEG (I.-II.) | C53: =C3-C33 -> 1770628.1 | D53: =D3-D33 -> -2027224 | E53: =E3-E33 -> -256595.93 | F53: =F3-F33 -> 1856276.3 | G53: =G3-G33 -> -2067171 | H53: =H3-H33 -> -210894.67 | I53: =I3-I33 -> -232374 | J53: =J3-J33 -> 0 | ... M53: =M3-M33 -> 300728.93 | N53: =M53/L53 -> -0.67843489
B54: Működési | C54: =C6+C8+C15+C31-C34-C37-C38-C44-C45 -> 2103340.1 | D54: =D6+D8+D15+D31-D34-D37-D38-D44-D45 -> -1963544 | E54: =E6+E8+E15+E31-E34-E37-E38-E44-E45 -> 139796.07 | F54: =F6+F8+F15+F31-F34-F37-F38-F44-F45 -> 2025068.8 | G54: =G6+G8+G15+G31-G34-G37-G38-G44-G45 -> -2005390 | H54: =H6+H8+H15+H31-H34-H37-H38-H44-H45 -> 19678.83 | I54: =I6+I8+I15+I31-I34-I37-I38-I44-I45 -> -102815 | J54: =J6+J8+J15+J31-J34-J37-J38-J44-J45 -> -665 | ... L54: =L6+L8+L15+L31-L34-L37-L38-L44-L45 -> -139886.84 | M54: =M6+M8+M15+M31-M34-M37-M38-M44-M45+M49 -> 473757.9 | N54: =M54/L54 -> -3.3867224
B55: Felhalmozási | C55: =C7+C27+C32-C52-C51-C50 -> -332712 | D55: =D7+D27+D32-D52-D51-D50 -> -63680 | E55: =E7+E27+E32-E52-E51-E50 -> -396392 | F55: =F7+F27+F32-F52-F51-F50 -> -168792.5 | G55: =G7+G27+G32-G52-G51-G50 -> -61781 | H55: =H7+H27+H32-H52-H51-H50 -> -230573.5 | I55: =I7+I27+I32-I52-I51-I50 -> -129559 | J55: =J7+J27+J32-J52-J51-J50 -> 665 | ... L55: =L7+L27+L32-L52-L51-L50 -> -303381.83 | M55: =M7+M27+M32-M49-M50-M51-M52 -> -173028.97 | N55: =M55/L55 -> 0.570334
A56: III.B8 | B56: FINANSZÍROZÁSI BEVÉTELEK | C56: =C57+C65 -> 406596 | D56: =D57+D65 -> 0 | E56: =E57+E65 -> 406596 | F56: =F57+F65 -> 360894 | G56: =G57+G65 -> 2067170.9 | H56: =H57+H65 -> 2428064.9 | I56: =I57+I65 -> 317950 | J56: =J57+J65 -> 361202 | ... L56: =L57+L65 -> 3146556.9 | M56: =M57 -> 1640174.8 | N56: =M56/L56 -> 0.52126018
A57: B81 | B57: Belföldi finanszírozás bevételei | C57: =C58+C59+C60+C63+C64 -> 406596 | D57: =D58+D59+D60+D63+D64 -> 0 | E57: =E58+E59+E60+E63+E64 -> 406596 | F57: =F58+F59+F60+F63+F64 -> 360894 | G57: =G58+G59+G60+G63+G64 -> 2067170.9 | H57: =H58+H59+H60+H63+H64 -> 2428064.9 | I57: =I58+I59+I60+I63+I64 -> 317950 | J57: =J58+J59+J60+J63+J64 -> 361202 | ... L57: =L58+L59+L60+L63+L64 -> 3146556.9 | M57: =M58+M59+M60+M64 -> 1640174.8 | N57: =M57/L57 -> 0.52126018
A58: B811 | B58: Hitel-, kölcsönfelvétel államháztartáson kívülről | C58: 150000 | D58: ='PH 2b'!C58+'SZEI 2c'!C58+'PMK 2d'!C58+'FMC 2e'!C58+'Óvoda 2f'!C58+'Bölcsőde 2g'!C58+'Gondozási 2h'!C58 -> 0 | E58: =C58+D58 -> 150000 | F58: ='Önk 2a'!I58 -> 150000 | G58: ='PH 2b'!F58+'SZEI 2c'!H58+'PMK 2d'!I58+'FMC 2e'!I58+'Óvoda 2f'!J58+'Bölcsőde 2g'!I58+'Gondozási 2h'!H58 -> 0 | H58: =F58+G58 -> 150000 | I58: ='Önk 2a'!J58+'PH 2b'!H58+'SZEI 2c'!J58+'PMK 2d'!K58+'FMC 2e'!K58+'Óvoda 2f'!L58+'Bölcsőde 2g'!K58+'Gondozási 2h'!J58 -> 0 | J58: ='Önk 2a'!K58+'PH 2b'!I58+'SZEI 2c'!K58+'PMK 2d'!L58+'FMC 2e'!L58+'Óvoda 2f'!M58+'Bölcsőde 2g'!L58+'Gondozási 2h'!K58 -> 400000 | K58: ='Önk 2a'!L58+'PH 2b'!J58+'SZEI 2c'!L58+'PMK 2d'!M58+'FMC 2e'!M58+'Óvoda 2f'!N58+'Bölcsőde 2g'!M58+'Gondozási 2h'!L58 -> 0 | L58: =H58+I58+J58+K58 -> 550000 | M58: ='Önk 2a'!N58+'PH 2b'!L58+'SZEI 2c'!N58+'PMK 2d'!O58+'FMC 2e'!O58+'Óvoda 2f'!P58+'Bölcsőde 2g'!O58+'Gondozási 2h'!N58 -> 50000 | N58: =M58/L58 -> 0.090909091
A59: B812 | B59: Belföldi értékpapírok bevételei | C59: 0 | D59: ='PH 2b'!C59+'SZEI 2c'!C59+'PMK 2d'!C59+'FMC 2e'!C59+'Óvoda 2f'!C59+'Bölcsőde 2g'!C59+'Gondozási 2h'!C59 -> 0 | E59: =C59+D59 -> 0 | F59: ='Önk 2a'!I59 -> 0 | G59: ='PH 2b'!F59+'SZEI 2c'!H59+'PMK 2d'!I59+'FMC 2e'!I59+'Óvoda 2f'!J59+'Bölcsőde 2g'!I59+'Gondozási 2h'!H59 -> 0 | H59: =F59+G59 -> 0 | I59: ='Önk 2a'!J59+'PH 2b'!H59+'SZEI 2c'!J59+'PMK 2d'!K59+'FMC 2e'!K59+'Óvoda 2f'!L59+'Bölcsőde 2g'!K59+'Gondozási 2h'!J59 -> 0 | J59: ='Önk 2a'!K59+'PH 2b'!I59+'SZEI 2c'!K59+'PMK 2d'!L59+'FMC 2e'!L59+'Óvoda 2f'!M59+'Bölcsőde 2g'!L59+'Gondozási 2h'!K59 -> 0 | K59: ='Önk 2a'!L59+'PH 2b'!J59+'SZEI 2c'!L59+'PMK 2d'!M59+'FMC 2e'!M59+'Óvoda 2f'!N59+'Bölcsőde 2g'!M59+'Gondozási 2h'!L59 -> 0 | L59: =H59+I59+J59+K59 -> 0 | M59: ='Önk 2a'!N59+'PH 2b'!L59+'SZEI 2c'!N59+'PMK 2d'!O59+'FMC 2e'!O59+'Óvoda 2f'!P59+'Bölcsőde 2g'!O59+'Gondozási 2h'!N59 -> 0
A60: B813 | B60: Maradvány igénybevétele | C60: =SUM(C61,C62) -> 256596 | D60: =SUM(D61,D62) -> 0 | E60: =SUM(E61,E62) -> 256596 | F60: =SUM(F61,F62) -> 210894 | G60: =SUM(G61,G62) -> 0 | H60: =SUM(H61,H62) -> 210894 | I60: =SUM(I61:I62) -> 276512 | J60: =SUM(J61:J62) -> 0 | K60: =SUM(K61:K62) -> 0 | L60: =SUM(L61:L62) -> 487406 | M60: ='Önk 2a'!N60+'PH 2b'!L60+'SZEI 2c'!N60+'PMK 2d'!O60+'FMC 2e'!O60+'Óvoda 2f'!P60+'Bölcsőde 2g'!O60+'Gondozási 2h'!N60 -> 487406.2 | N60: =M60/L60 -> 1.0000004
B61: Ebből: működési | C61: 208568 | D61: ='PH 2b'!C61+'SZEI 2c'!C61+'PMK 2d'!C61+'FMC 2e'!C61+'Óvoda 2f'!C61+'Bölcsőde 2g'!C61+'Gondozási 2h'!C61 -> 0 | E61: =C61+D61 -> 208568 | F61: ='Önk 2a'!I61 -> 95894 | G61: ='PH 2b'!F61+'SZEI 2c'!H61+'PMK 2d'!I61+'FMC 2e'!I61+'Óvoda 2f'!J61+'Bölcsőde 2g'!I61+'Gondozási 2h'!H61 -> 0 | H61: =F61+G61 -> 95894 | I61: ='Önk 2a'!J61+'PH 2b'!H61+'SZEI 2c'!J61+'PMK 2d'!K61+'FMC 2e'!K61+'Óvoda 2f'!L61+'Bölcsőde 2g'!K61+'Gondozási 2h'!J61 -> 248377 | J61: ='Önk 2a'!K61+'PH 2b'!I61+'SZEI 2c'!K61+'PMK 2d'!L61+'FMC 2e'!L61+'Óvoda 2f'!M61+'Bölcsőde 2g'!L61+'Gondozási 2h'!K61 -> 0 | K61: ='Önk 2a'!L61+'PH 2b'!J61+'SZEI 2c'!L61+'PMK 2d'!M61+'FMC 2e'!M61+'Óvoda 2f'!N61+'Bölcsőde 2g'!M61+'Gondozási 2h'!L61 -> 0 | L61: =H61+I61+J61+K61 -> 344271 | N61: =M61/L61 -> 0
B62: fejlesztései | C62: 48028 | D62: ='PH 2b'!C62+'SZEI 2c'!C62+'PMK 2d'!C62+'FMC 2e'!C62+'Óvoda 2f'!C62+'Bölcsőde 2g'!C62+'Gondozási 2h'!C62 -> 0 | E62: =C62+D62 -> 48028 | F62: ='Önk 2a'!I62 -> 115000 | G62: ='PH 2b'!F62+'SZEI 2c'!H62+'PMK 2d'!I62+'FMC 2e'!I62+'Óvoda 2f'!J62+'Bölcsőde 2g'!I62+'Gondozási 2h'!H62 -> 0 | H62: =F62+G62 -> 115000 | I62: ='Önk 2a'!J62+'PH 2b'!H62+'SZEI 2c'!J62+'PMK 2d'!K62+'FMC 2e'!K62+'Óvoda 2f'!L62+'Bölcsőde 2g'!K62+'Gondozási 2h'!J62 -> 28135 | J62: ='Önk 2a'!K62+'PH 2b'!I62+'SZEI 2c'!K62+'PMK 2d'!L62+'FMC 2e'!L62+'Óvoda 2f'!M62+'Bölcsőde 2g'!L62+'Gondozási 2h'!K62 -> 0 | L62: =H62+I62+J62+K62 -> 143135 | N62: =M62/L62 -> 0
A63: B814 | B63: Államháztartáson belüli megelőlegezések | D63: ='PH 2b'!C63+'SZEI 2c'!C63+'PMK 2d'!C63+'FMC 2e'!C63+'Óvoda 2f'!C63+'Bölcsőde 2g'!C63+'Gondozási 2h'!C63 -> 0 | E63: =C63+D63 -> 0 | F63: ='Önk 2a'!I63 -> 0 | G63: ='PH 2b'!F63+'SZEI 2c'!H63+'PMK 2d'!I63+'FMC 2e'!I63+'Óvoda 2f'!J63+'Bölcsőde 2g'!I63+'Gondozási 2h'!H63 -> 0 | H63: =F63+G63 -> 0 | I63: ='Önk 2a'!J63+'PH 2b'!H63+'SZEI 2c'!J63+'PMK 2d'!K63+'FMC 2e'!K63+'Óvoda 2f'!L63+'Bölcsőde 2g'!K63+'Gondozási 2h'!J63 -> 0 | J63: ='Önk 2a'!K63+'PH 2b'!I63+'SZEI 2c'!K63+'PMK 2d'!L63+'FMC 2e'!L63+'Óvoda 2f'!M63+'Bölcsőde 2g'!L63+'Gondozási 2h'!K63 -> 0 | L63: =H63+I63+J63+K63 -> 0 | M63: ='Önk 2a'!N63+'PH 2b'!L63+'SZEI 2c'!N63+'PMK 2d'!O63+'FMC 2e'!O63+'Óvoda 2f'!P63+'Bölcsőde 2g'!O63+'Gondozási 2h'!N63 -> 0
A64: B816 | B64: Központi, önkormányzattól kapott támogatás | E64: =C64+D64 -> 0 | F64: ='Önk 2a'!I64 -> 0 | G64: ='PH 2b'!F64+'SZEI 2c'!H64+'PMK 2d'!I64+'FMC 2e'!I64+'Óvoda 2f'!J64+'Bölcsőde 2g'!I64+'Gondozási 2h'!H64 -> 2067170.9 | H64: =F64+G64 -> 2067170.9 | I64: ='Önk 2a'!J64+'PH 2b'!H64+'SZEI 2c'!J64+'PMK 2d'!K64+'FMC 2e'!K64+'Óvoda 2f'!L64+'Bölcsőde 2g'!K64+'Gondozási 2h'!J64 -> 41438 | J64: ='Önk 2a'!K64+'PH 2b'!I64+'SZEI 2c'!K64+'PMK 2d'!L64+'FMC 2e'!L64+'Óvoda 2f'!M64+'Bölcsőde 2g'!L64+'Gondozási 2h'!K64 -> -38798 | K64: ='Önk 2a'!L64+'PH 2b'!J64+'SZEI 2c'!L64+'PMK 2d'!M64+'FMC 2e'!M64+'Óvoda 2f'!N64+'Bölcsőde 2g'!M64+'Gondozási 2h'!L64 -> 39340 | L64: =H64+I64+J64+K64 -> 2109150.9 | M64: ='Önk 2a'!N64+'PH 2b'!L64+'SZEI 2c'!N64+'PMK 2d'!O64+'FMC 2e'!O64+'Óvoda 2f'!P64+'Bölcsőde 2g'!O64+'Gondozási 2h'!N64 -> 1102768.6 | N64: =M64/L64 -> 0.52284956
A65: B82 | B65: Külföldi finanszírozás bevételei | D65: ='PH 2b'!C66+'SZEI 2c'!R73+'PMK 2d'!R72+'FMC 2e'!R72+'Óvoda 2f'!S73+'Bölcsőde 2g'!R72+'Gondozási 2h'!R72 -> 0 | E65: =C65+D65 -> 0 | F65: ='Önk 2a'!I65 -> 0 | G65: ='PH 2b'!F65+'SZEI 2c'!H65+'PMK 2d'!I65+'FMC 2e'!I65+'Óvoda 2f'!J65+'Bölcsőde 2g'!I65+'Gondozási 2h'!H65 -> 0 | H65: =F65+G65 -> 0 | I65: ='Önk 2a'!J65+'PH 2b'!H65+'SZEI 2c'!J65+'PMK 2d'!K65+'FMC 2e'!K65+'Óvoda 2f'!L65+'Bölcsőde 2g'!K65+'Gondozási 2h'!J65 -> 0 | J65: ='Önk 2a'!K65+'PH 2b'!I65+'SZEI 2c'!K65+'PMK 2d'!L65+'FMC 2e'!L65+'Óvoda 2f'!M65+'Bölcsőde 2g'!L65+'Gondozási 2h'!K65 -> 0 | M65: =SUM(H65:L65) -> 0
A66: IV.K9 | B66: FINANSZÍROZÁSI KIADÁSOK | C66: =C67 -> 150000 | D66: =D67 -> 0 | E66: =E67 -> 150000 | F66: =F67 -> 2217170.5 | G66: =G67 -> 0 | H66: =H67 -> 2217170.5 | I66: =I67+I71 -> 85576 | J66: =J67+J71 -> 361202 | K66: =K67+K71 -> 39340 | L66: =L67+L71 -> 2663948.5 | M66: =M67+M71 -> 1200906.1 | N66: =M66/L66 -> 0.4507993
A67: K91 | B67: Belföldi finanszírozás kiadásai | C67: =SUM(C68:C70) -> 150000 | D67: =SUM(D68:D70) -> 0 | E67: =SUM(E68:E70) -> 150000 | F67: =SUM(F68:F70) -> 2217170.5 | G67: =SUM(G68:G70) -> 0 | H67: =SUM(H68:H70) -> 2217170.5 | I67: =SUM(I68:I70) -> 85576 | J67: =SUM(J68:J70) -> 361202 | ... L67: =SUM(L68:L70) -> 2663948.5 | M67: =M68+M69+M70 -> 1200906.1 | N67: =M67/L67 -> 0.4507993
A68: K911 | B68: Hitel-, kölcsöntörlesztés államháztartáson kívülre | C68: 150000 | D68: ='PH 2b'!C68+'SZEI 2c'!C68+'PMK 2d'!C68+'FMC 2e'!C68+'Óvoda 2f'!C68+'Bölcsőde 2g'!C68+'Gondozási 2h'!C68 -> 0 | E68: =C68+D68 -> 150000 | F68: ='Önk 2a'!I68 -> 150000 | G68: ='PH 2b'!F68+'SZEI 2c'!H68+'PMK 2d'!I68+'FMC 2e'!I68+'Óvoda 2f'!J68+'Bölcsőde 2g'!I68+'Gondozási 2h'!H68 -> 0 | H68: =F68+G68 -> 150000 | I68: ='Önk 2a'!J68+'PH 2b'!H68+'SZEI 2c'!J68+'PMK 2d'!K68+'FMC 2e'!K68+'Óvoda 2f'!L68+'Bölcsőde 2g'!K68+'Gondozási 2h'!J68 -> 0 | J68: ='Önk 2a'!K68+'PH 2b'!I68+'SZEI 2c'!K68+'PMK 2d'!L68+'FMC 2e'!L68+'Óvoda 2f'!M68+'Bölcsőde 2g'!L68+'Gondozási 2h'!K68 -> 400000 | K68: ='Önk 2a'!L68+'PH 2b'!J68+'SZEI 2c'!L68+'PMK 2d'!M68+'FMC 2e'!M68+'Óvoda 2f'!N68+'Bölcsőde 2g'!M68+'Gondozási 2h'!L68 -> 0 | L68: =H68+I68+J68 -> 550000 | M68: ='Önk 2a'!N68+'PH 2b'!L68+'SZEI 2c'!N68+'PMK 2d'!O68+'FMC 2e'!O68+'Óvoda 2f'!P68+'Bölcsőde 2g'!O68+'Gondozási 2h'!N68 -> 50000 | N68: =M68/L68 -> 0.090909091
A69: K912-K914 | B69: Belföldi értékpapírok kiadásai, Államháztartáson belüli megelőlegezések | D69: ='PH 2b'!C69+'SZEI 2c'!C69+'PMK 2d'!C69+'FMC 2e'!C69+'Óvoda 2f'!C69+'Bölcsőde 2g'!C69+'Gondozási 2h'!C69 -> 0 | E69: =C69+D69 -> 0 | F69: ='Önk 2a'!I69 -> 0 | G69: ='PH 2b'!F69+'SZEI 2c'!H69+'PMK 2d'!I69+'FMC 2e'!I69+'Óvoda 2f'!J69+'Bölcsőde 2g'!I69+'Gondozási 2h'!H69 -> 0 | H69: =F69+G69 -> 0 | I69: ='Önk 2a'!J69+'PH 2b'!H69+'SZEI 2c'!J69+'PMK 2d'!K69+'FMC 2e'!K69+'Óvoda 2f'!L69+'Bölcsőde 2g'!K69+'Gondozási 2h'!J69 -> 44138 | J69: ='Önk 2a'!K69+'PH 2b'!I69+'SZEI 2c'!K69+'PMK 2d'!L69+'FMC 2e'!L69+'Óvoda 2f'!M69+'Bölcsőde 2g'!L69+'Gondozási 2h'!K69 -> 0 | K69: 0 | L69: =H69+I69+J69 -> 44138 | M69: ='Önk 2a'!N69+'PH 2b'!L69+'SZEI 2c'!N69+'PMK 2d'!O69+'FMC 2e'!O69+'Óvoda 2f'!P69+'Bölcsőde 2g'!O69+'Gondozási 2h'!N69 -> 48137.517 | N69: =M69/L69 -> 1.0906139
A70: K915 | B70: Központi, irányító szervi támogatások folyósítása | D70: ='PH 2b'!C70+'SZEI 2c'!C70+'PMK 2d'!C70+'FMC 2e'!C70+'Óvoda 2f'!C70+'Bölcsőde 2g'!C70+'Gondozási 2h'!C70 -> 0 | E70: =C70+D70 -> 0 | F70: ='Önk 2a'!I70 -> 2067170.5 | G70: ='PH 2b'!F70+'SZEI 2c'!H70+'PMK 2d'!I70+'FMC 2e'!I70+'Óvoda 2f'!J70+'Bölcsőde 2g'!I70+'Gondozási 2h'!H70 -> 0 | H70: =F70+G70 -> 2067170.5 | I70: ='Önk 2a'!J70+'PH 2b'!H70+'SZEI 2c'!J70+'PMK 2d'!K70+'FMC 2e'!K70+'Óvoda 2f'!L70+'Bölcsőde 2g'!K70+'Gondozási 2h'!J70 -> 41438 | J70: ='Önk 2a'!K70+'PH 2b'!I70+'SZEI 2c'!K70+'PMK 2d'!L70+'FMC 2e'!L70+'Óvoda 2f'!M70+'Bölcsőde 2g'!L70+'Gondozási 2h'!K70 -> -38798 | K70: ='Önk 2a'!L70+'PH 2b'!J70+'SZEI 2c'!L70+'PMK 2d'!M70+'FMC 2e'!M70+'Óvoda 2f'!N70+'Bölcsőde 2g'!M70+'Gondozási 2h'!L70 -> 39340 | L70: =H70+I70+J70 -> 2069810.5 | M70: ='Önk 2a'!N70+'PH 2b'!L70+'SZEI 2c'!N70+'PMK 2d'!O70+'FMC 2e'!O70+'Óvoda 2f'!P70+'Bölcsőde 2g'!O70+'Gondozási 2h'!N70 -> 1102768.6 | N70: =M70/L70 -> 0.53278723
A71: K92 | B71: Külföldi finanszírozás kiadásai | D71: ='PH 2b'!C71+'SZEI 2c'!C71+'PMK 2d'!C71+'FMC 2e'!C71+'Óvoda 2f'!C71+'Bölcsőde 2g'!C71+'Gondozási 2h'!C71 -> 0 | E71: =C71+D71 -> 0 | F71: 0 | G71: ='PH 2b'!F71+'SZEI 2c'!H71+'PMK 2d'!I71+'FMC 2e'!I71+'Óvoda 2f'!J71+'Bölcsőde 2g'!I71+'Gondozási 2h'!H71 -> 0 | H71: =F71+G71 -> 0 | I71: ='Önk 2a'!J71+'PH 2b'!H71+'SZEI 2c'!J71+'PMK 2d'!K71+'FMC 2e'!K71+'Óvoda 2f'!L71+'Bölcsőde 2g'!K71+'Gondozási 2h'!J71 -> 0 | J71: ='Önk 2a'!K71+'PH 2b'!I71+'SZEI 2c'!K71+'PMK 2d'!L71+'FMC 2e'!L71+'Óvoda 2f'!M71+'Bölcsőde 2g'!L71+'Gondozási 2h'!K71 -> 0
B72: FINANSZÍROZÁSI EGYENLEG (III.-IV.) | C72: =+C56-C66 -> 256596 | D72: =+D56-D66 -> 0 | E72: =+E56-E66 -> 256596 | F72: =+F56-F66 -> -1856276.5 | G72: =+G56-G66 -> 2067170.9 | H72: =+H56-H66 -> 210894.4 | I72: =I56-I66 -> 232374 | J72: =J56-J66 -> 0 | K72: =K56-K66 -> 0 | L72: =L56-L66 -> 482608.4 | M72: =+M56-M66 -> 439268.68 | N72: =M72/L72 -> 0.91019693
B73: BEVÉTELEK MINDÖSSZESEN (I.+III.) | C73: =+C3+C56 -> 5870036.3 | D73: =+D3+D56 -> 986840 | E73: =+E3+E56 -> 6856876.3 | F73: =+F3+F56-F64 -> 5116926.3 | G73: =+G3+G56-G64 -> 841608 | H73: =+H3+H56-H64 -> 5958534.3 | I73: =I3+I56-I64 -> 314802 | J73: =J3+J56-J64 -> 425120 | K73: =K3+K56-K64 -> 101596.89 | L73: =L3+L56-L64 -> 6800053.2 | M73: =+M3+M56 -> 4362444.5 | N73: =M73/L73 -> 0.64153093
B74: Ebből: Működési | C74: =+C6+C8+C15+C31 -> 3978832.4 | D74: =+D6+D8+D15+D31 -> 896283 | E74: =+E6+E8+E15+E31 -> 4875115.3 | F74: =+F6+F8+F15+F31 -> 4289237.8 | G74: =+G6+G8+G15+G31 -> 832608 | H74: =+H6+H8+H15+H31 -> 5121845.8 | I74: =I6+I8+I15+I31 -> 18105 | J74: =J6+J8+J15+J31 -> 24184 | K74: =K6+K8+K15+K31 -> 67969.735 | L74: =L6+L8+L15+L31 -> 5232104.6 | M74: =+M6+M8+M15+M31 -> 2610352 | N74: =M74/L74 -> 0.49891051
B75: Ebből: Felhalmozási | C75: =C7+C27+C32 -> 1484608 | D75: =D7+D27+D32 -> 90557 | E75: =E7+E27+E32 -> 1575165 | F75: =F7+F27+F32 -> 466794.5 | G75: =G7+G27+G32 -> 9000 | H75: =H7+H27+H32+H63 -> 475794.5 | I75: =I7+I27+I32 -> 20185 | J75: =J7+J27+J32 -> 936 | K75: =K7+K27+K32 -> 33627.155 | L75: =L7+L27+L32 -> 530542.66 | M75: =M7+M27+M32 -> 111917.68 | N75: =M75/L75 -> 0.21094946
B76: Ebből: Finanszírozási | C76: =C68+C60 -> 406596 | D76: =D68+D60 -> 0 | E76: =E68+E60 -> 406596 | F76: =F68+F60 -> 360894 | G76: =G68+G60 -> 0 | H76: =H56-H64 -> 360894 | I76: =I56-I64 -> 276512 | J76: =J56-J64 -> 400000 | K76: =K56-K64 -> 0 | L76: =L56-L64 -> 1037406 | M76: =M68+M64 -> 1152768.6 | N76: =M76/L76 -> 1.111203
B77: KIADÁSOK MINDÖSSZESEN (II.+IV.) | C77: =C33+C66 -> 3842812.3 | D77: =D33+D66 -> 3014064 | E77: =E33+E66 -> 6856876.3 | F77: =F33+F66-F70-1 -> 3049755 | G77: =G33+G66 -> 2908779 | H77: =H33+H66-H70-1 -> 5958534 | I77: =I33+I66-I70 -> 314802 | J77: =J33+J66-J70 -> 425120 | K77: =K33+K66-K70 -> 101596.89 | L77: =L33+L66-L70-1 -> 6800052.9 | M77: =M33+M66 -> 3622446.8 | N77: =M77/L77 -> 0.53270863 | O77: =M77/M73 -> 0.83037088
B78: Ebből: Működési | C78: =+C34+C37+C38+C44+C45-C49 -> 1875492.3 | D78: =+D34+D37+D38+D44+D45-D49 -> 2859827 | E78: =+E34+E37+E38+E44+E45-E49 -> 4735319.3 | F78: =+F34+F37+F38+F44+F45-F49-1 -> 2264168 | G78: =+G34+G37+G38+G44+G45-G49 -> 2837998 | H78: =+H34+H37+H38+H44+H45-H49-1 -> 5102166 | I78: =I34+I37+I38+I44+I45-I49 -> 120920 | J78: =J34+J37+J38+J44+J45-J49 -> 24849 | K78: =K34+K37+K38+K44+K45-K49 -> 124055.41 | L78: =L34+L37+L38+L44+L45-L49-1 -> 5371990.4 | M78: =+M34+M37+M38+M44+M45-M49 -> 2136594.1 | N78: =M78/L78 -> 0.39772857
B79: Ebből: Felhalmozási | C79: =C49+C50+C51+C52 -> 1817320 | D79: =D49+D50+D51+D52 -> 154237 | E79: =E49+E50+E51+E52 -> 1971557 | F79: =F49+F50+F51+F52 -> 635587 | G79: =G49+G50+G51+G52 -> 70781 | H79: =H49+H50+H51+H52 -> 706368 | I79: =I49+I50+I51+I52 -> 149744 | J79: =J49+J50+J51+J52 -> 271 | ... M79: =M49+M50+M51+M52 -> 284946.65 | N79: =M79/L79 -> 0.34169359
B80: Ebből: Finanszírozási | C80: =+C66 -> 150000 | D80: =+D66 -> 0 | E80: =+E66 -> 150000 | F80: =+F66-F70 -> 150000 | G80: =+G66 -> 0 | H80: =+H66-H70 -> 150000 | I80: =I66-I70 -> 44138 | J80: =J66-J70 -> 400000 | K80: =K66-K70 -> 0 | L80: =L66-L70 -> 594138 | M80: =+M66 -> 1200906.1 | N80: =M80/L80 -> 2.0212579
B81: KÖLTSÉGVETÉSI EGYENLEG | C81: =+C73-C77 -> 2027224.1 | D81: =+D73-D77 -> -2027224 | E81: =+E73-E77 -> 0.069999999 | F81: =+F73-F77 -> 2067171.3 | G81: =+G73-G77 -> -2067171 | H81: =+H73-H77 -> 0.32971654 | I81: =I73-I77 -> 0 | J81: =J73-J77 -> 0 | K81: =K73-K77 -> 0 | L81: =L73-L77 -> 0.32971654 | M81: =+M73-M77 -> 739997.61
B82: Ebből: Működési | C82: =+C74-C78 -> 2103340.1 | D82: =+D74-D78 -> -1963544 | E82: =+E74-E78 -> 139796.07 | F82: =+F74-F78 -> 2025069.8 | G82: =+G74-G78 -> -2005390 | H82: =+H74-H78 -> 19679.83 | I82: =I74-I78 -> -102815 | J82: =J74-J78 -> -665 | K82: =K74-K78 -> -56085.672 | L82: =L74-L78 -> -139885.84 | M82: =+M74-M78 -> 473757.9 | N82: =M82/L82 -> -3.3867466
B83: Ebből: Felhalmozási | C83: =C75-C79 -> -332712 | D83: =D75-D79 -> -63680 | E83: =E75-E79 -> -396392 | F83: =F75-F79 -> -168792.5 | G83: =G75-G79 -> -61781 | H83: =H75-H79 -> -230573.5 | I83: =I75-I79 -> -129559 | J83: =J75-J79 -> 665 | ... M83: =M75-M79 -> -173028.97 | N83: =M83/L83 -> 0.570334
B84: Ebből: Finanszírozási | C84: =C76-C80 -> 256596 | D84: =D76-D80 -> 0 | E84: =E76-E80 -> 256596 | F84: =F76-F80 -> 210894 | G84: =G76-G80 -> 0 | H84: =H76-H80 -> 210894 | I84: =I76-I80 -> 232374 | J84: =J76-J80 -> 0 | ... M84: =M76-M80 -> -48137.517 | N84: =M84/L84 -> -0.10859687

Sheet Önk 2a
B1: Szentendre Város Önkormányzata | C1: 2015 Előirányzat | F1: 2015 tény 2016.01.25. | G1: 2016 Előirányzat | N1: 2016 Tény 01-06. hó
C2: Kötelező feladatok | D2: Nem kötelező feladatok | E2: Összesen | G2: Kötelező feladatok | H2: Nem kötelező feladatok | I2: Összesen | J2: 1. módosítás | K2: 2. módosítás | L2: 3. módosítás | M2: Módosított előirányzat | N2: EFt | O2: %
A3: I. | B3: KÖLTSÉGVETÉSI BEVÉTELEK | C3: =SUM(C6,C7,C8,C15,C27,C31,C32) -> 5463440.3 | D3: 0 | E3: 5463440.3 | F3: =F6+F7+F8+F15+F27+F31+F32 -> 6397372 | G3: =G6+G7+G8+G15+G27+G31+G32 -> 4756032.9 | H3: =H6+H7+H8+H15+H27+H31+H32 -> 0 | I3: =I6+I7+I8+I15+I27+I31+I32 -> 4756032.9 | J3: =J6+J7+J8+J15+J27+J31+J32 -> 33626 | K3: =K6+K7+K8+K15+K27+K31+K32 -> 22435 | L3: =L6+L7+L8+L15+L27+L31+L32 -> 67366.749 | M3: =M6+M7+M8+M15+M27+M31+M32 -> 4879460.6 | N3: =N6+N7+N8+N15+N27+N31+N32 -> 2334740.8 | O3: =N3/M3 -> 0.47848338
A4: B11,B12 | B4: Önkormányzatok működési támogatásai | C4: 1383056 | E4: 1383056 | F4: =1447711+8952 -> 1456663 | G4: 1428548 | I4: =SUM(G4:H4) -> 1428548 | J4: =4385+2433+4305-53+62+1 -> 11133 | K4: =2328+5099+2595+2275+1640+7562 -> 21499 | L4: =('[1]Állami támogatás'!$C$15+'[1]Állami támogatás'!$C$19+'[1]Állami támogatás'!$C$24+'[1]Állami támogatás'!$C$27+'[1]Állami támogatás'!$C$31)/1000 -> 26303.959 | M4: =SUM(I4:L4) -> 1487484 | N4: =800509.028 -> 800509.03 | O4: =N4/M4 -> 0.53816313
A5: B16 | B5: Egyéb működési célú támogatások ÁHT-n belülről OEP finanszírozás | C5: 31394 | E5: 31394 | F5: 47478 | G5: 39610 | I5: =SUM(G5:H5) -> 39610 | M5: =SUM(I5:L5) -> 39610 | N5: 10179.834 | O5: =N5/M5 -> 0.25700162
A6: B1 | B6: Működési célú támogatások államháztartáson belülről | C6: 1414450 | E6: 1414450 | F6: =SUM(F4:F5) -> 1504141 | G6: =G4+G5 -> 1468158 | H6: =H4+H5 -> 0 | I6: =I4+I5 -> 1468158 | J6: =J4+J5 -> 11133 | K6: =K4+K5 -> 21499 | L6: =L4+L5 -> 26303.959 | M6: =M4+M5 -> 1527094 | N6: =N4+N5 -> 810688.86 | O6: =N6/M6 -> 0.53087032
A7: B2 | B7: Felhalmozási célú támogatások államháztartáson belülről | C7: 1067671 | E7: 1067671 | F7: 380231 | G7: 64300 | I7: 64300 | L7: =('[1]Állami támogatás'!$C$5+'[1]Állami támogatás'!$C$6+'[1]Állami támogatás'!$C$7)/1000 -> 14340 | M7: =SUM(I7:L7) -> 78640 | N7: 26181.795 | O7: =N7/M7 -> 0.33293229
A8: B3 | B8: Közhatalmi bevételek | C8: 1926600 | E8: 1926600 | F8: =SUM(F9,F10,F14) -> 1981150 | G8: =SUM(G9,G10,G14) -> 2130000 | H8: =SUM(H9,H10,H14) -> 0 | I8: =SUM(I9,I10,I14) -> 2130000 | J8: =SUM(J9,J10,J14) -> 0 | K8: =SUM(K9,K10,K14) -> 0 | L8: =SUM(L9,L10,L14) -> 0 | M8: =SUM(M9,M10,M14) -> 2130000 | N8: =SUM(N9,N10,N14) -> 1100864 | O8: =N8/M8 -> 0.51683756
A9: B34 | B9: Vagyoni tipusú adók (építményadó, ép.utáni IFA, magánsz.komm.adója, telekadó) | C9: 550000 | E9: 550000 | F9: 615619 | G9: 670000 | I9: =SUM(G9:H9) -> 670000 | M9: =SUM(I9:L9) -> 670000 | N9: 384834.8 | O9: =N9/M9 -> 0.5743803
A10: B35 | B10: Termékek és szolgáltatások adói | C10: 1355200 | E10: 1355200 | F10: =SUM(F11:F13) -> 1331849 | G10: =SUM(G11:G13) -> 1425000 | H10: =SUM(H11:H13) -> 0 | I10: =SUM(G10:H10) -> 1425000 | J10: =SUM(J11:J13) -> 0 | K10: =SUM(K11:K13) -> 0 | L10: =SUM(L11:L13) -> 0 | M10: =SUM(M11:M13) -> 1425000 | N10: =SUM(N11:N13) -> 704764.02 | O10: =N10/M10 -> 0.49457124
A11: B351 | B11: ebből Értékesítési és forgalmi adók (IPA) | C11: 1250000 | E11: 1250000 | F11: 1213148 | G11: 1300000 | I11: =SUM(G11:H11) -> 1300000 | M11: =SUM(I11:L11) -> 1300000 | N11: 633592.15 | O11: =N11/M11 -> 0.48737858
A12: B354 | B12: ebből Gépjármű adók | C12: 92000 | E12: 92000 | F12: 104820 | G12: 110000 | I12: =SUM(G12:H12) -> 110000 | M12: =SUM(I12:L12) -> 110000 | N12: 65575.988 | O12: =N12/M12 -> 0.59614535
A13: B355 | B13: ebből Egyéb áruhasználati és szolgáltatási adók (tart.utáni IFA, talajterhelési díj) | C13: 13200 | E13: 13200 | F13: 13881 | G13: 15000 | I13: =SUM(G13:H13) -> 15000 | M13: =SUM(I13:L13) -> 15000 | N13: 5595.886 | O13: =N13/M13 -> 0.37305907
A14: B36 | B14: Egyéb közhatalmi bevételek (illeték, bírság) | C14: 21400 | E14: 21400 | F14: 33682 | G14: 35000 | I14: =SUM(G14:H14) -> 35000 | M14: =SUM(I14:L14) -> 35000 | N14: 11265.178 | O14: =N14/M14 -> 0.32186223
A15: B4 | B15: Működési bevételek | C15: 624482.35 | E15: 624482.35 | F15: =SUM(F16:F26) -> 628014 | G15: =SUM(G16:G26) -> 648385.37 | H15: =SUM(H16:H26) -> 0 | I15: =SUM(I16:I26) -> 648385.37 | J15: =SUM(J16:J26) -> 2311 | K15: =SUM(K16:K26) -> 0 | L15: =SUM(L16:L26) -> 680 | M15: =SUM(M16:M26) -> 651376.37 | N15: =SUM(N16:N26) -> 306558.34 | O15: =N15/M15 -> 0.47063166
A16: B401 | B16: Készletértékesítés ellenértéke | C16: 300 | E16: 300 | F16: 91 | G16: 0 | I16: =SUM(G16:H16) -> 0 | M16: =SUM(I16:L16) -> 0
A17: B402 | B17: Szolgáltatások ellenértéke | C17: 378305 | E17: 378305 | F17: 358084 | G17: 401022 | I17: =SUM(G17:H17) -> 401022 | M17: =SUM(I17:L17) -> 401022 | N17: 200230.48 | O17: =N17/M17 -> 0.49930048
A18: B403 | B18: Közvetített szolgáltatások ellenértéke | C18: 21100 | E18: 21100 | F18: 22791 | G18: 51346 | I18: =SUM(G18:H18) -> 51346 | M18: =SUM(I18:L18) -> 51346 | N18: 9472.644 | O18: =N18/M18 -> 0.1844865
A19: B404 | B19: Tulajdonosi bevételek | C19: 6600 | E19: 6600 | F19: 4141 | G19: 4000 | I19: =SUM(G19:H19) -> 4000 | M19: =SUM(I19:L19) -> 4000 | N19: 1605.695 | O19: =N19/M19 -> 0.40142375
A20: B405 | B20: Ellátási díjak | C20: 62450 | E20: 62450 | F20: 86998 | G20: 62599.024 | I20: =SUM(G20:H20) -> 62599.024 | M20: =SUM(I20:L20) -> 62599.024 | N20: 37109.951 | O20: =N20/M20 -> 0.59281997
A21: B406 | B21: Kiszámlázott általános forgalmi adó | C21: 125913.35 | E21: 125913.35 | F21: 118429 | G21: 124586.35 | I21: =SUM(G21:H21) -> 124586.35 | M21: =SUM(I21:L21) -> 124586.35 | N21: 47571.583 | O21: =N21/M21 -> 0.38183625
A22: B407 | B22: Általános forgalmi adó visszatérítése | C22: 9065 | E22: 9065 | F22: 0 | G22: 0 | I22: =SUM(G22:H22) -> 0 | M22: =SUM(I22:L22) -> 0
A23: B408 | B23: Kamatbevételek | C23: 15000 | E23: 15000 | F23: 11353 | G23: 0 | I23: =SUM(G23:H23) -> 0 | M23: =SUM(I23:L23) -> 0 | N23: 2915.842
A24: B409 | B24: Egyéb pénzügyi műveletek bevételei | C24: 0 | E24: 0 | G24: 0 | I24: =SUM(G24:H24) -> 0 | M24: =SUM(I24:L24) -> 0
A25: B410 | B25: Biztosító által fizetett kártérítés | C25: 5749 | E25: 5749 | F25: 2632 | G25: 2632 | I25: =SUM(G25:H25) -> 2632 | M25: =SUM(I25:L25) -> 2632 | N25: 92.866
A26: B411 | B26: Egyéb működési bevételek | C26: 0 | E26: 0 | F26: 23495 | G26: 2200 | I26: =SUM(G26:H26) -> 2200 | J26: 2311 | L26: ='[1]Testületi kezdv ei mód'!$C$4/1000 -> 680 | M26: =SUM(I26:L26) -> 5191 | N26: 7559.282 | O26: =N26/M26 -> 1.4562285
A27: B5 | B27: Felhalmozási bevételek | C27: 350974 | E27: 350974 | F27: =F28+F29+F30 -> 120460 | G27: =SUM(G28:G30) -> 402494.5 | H27: =SUM(H28:H30) -> 0 | I27: =SUM(I28:I30) -> 402494.5 | J27: =SUM(J28:J30) -> 11235 | K27: =SUM(K28:K30) -> 0 | L27: =SUM(L28:L30) -> 0 | M27: =SUM(M28:M30) -> 413729.5 | N27: =SUM(N28:N30) -> 72437.593 | O27: =N27/M27 -> 0.17508443
A28: B51 | B28: Immateriális javak értékesítése | C28: 0 | E28: 0 | G28: 0 | I28: =SUM(G28:H28) -> 0 | M28: =SUM(I28:L28) -> 0
A29: B52 | B29: Ingatlanok értékesítése | C29: 350974 | E29: 350974 | F29: 120460 | G29: 402494.5 | I29: =SUM(G29:H29) -> 402494.5 | J29: 11235 | M29: =SUM(I29:L29) -> 413729.5 | N29: 72437.593 | O29: =N29/M29 -> 0.17508443
A30: B53 | B30: Egyéb tárgyi eszközök értékesítése | C30: 0 | E30: 0 | G30: 0 | I30: =SUM(G30:H30) -> 0 | J30: 0 | M30: =SUM(I30:L30) -> 0
A31: B6 | B31: Működési célú átvett pénzeszköz | C31: 13300 | E31: 13300 | F31: 1758101 | G31: 42695 | H31: 0 | I31: 42695 | J31: 0 | L31: ='[1]Egyéb ei módosítás'!$C$21/1000+'[1]Egyéb ei módosítás'!$C$27/1000+'[1]Egyéb ei módosítás'!$C$33/1000 -> 13200.635 | M31: =SUM(I31:L31) -> 55895.635 | N31: 8200.635 | O31: =N31/M31 -> 0.14671333
A32: B7 | B32: Felhalmozási célú átvett pénzeszköz | C32: 65963 | E32: 65963 | F32: 25275 | G32: 0 | H32: 0 | I32: 0 | J32: 8947 | K32: 936 | L32: ='[1]Egyéb ei módosítás'!$C$13/1000+'[1]Egyéb ei módosítás'!$C$17/1000 -> 12842.155 | M32: =SUM(I32:L32) -> 22725.155 | N32: 9809.602 | O32: =N32/M32 -> 0.43166271
A33: II. | B33: KÖLTSÉGVETÉSI KIADÁSOK | C33: 1942300 | D33: 1750512 | E33: 3692812 | F33: =F34+F37+F38+F44+F45+F50+F51+F52 -> 4612774 | G33: =SUM(G34,G37,G38,G44,G45,G50,G52,G51) -> 2110255 | H33: =SUM(H34,H37,H38,H44,H45,H50,H52,H51) -> 789501 | I33: =SUM(I34,I37,I38,I44,I45,I50,I52,I51) -> 2899756 | J33: =SUM(J34,J37,J38,J44,J45,J50,J52,J51) -> 141567 | K33: =SUM(K34,K37,K38,K44,K45,K50,K52,K51) -> 61233 | L33: =SUM(L34,L37,L38,L44,L45,L50,L52,L51) -> 28026.749 | M33: =SUM(M34,M37,M38,M44,M45,M50,M52,M51) -> 3130582.7 | N33: =SUM(N34,N37,N38,N44,N45,N50,N52,N51) -> 951664.87 | O33: =N33/M33 -> 0.30398969
A34: K1 | B34: Személyi juttatások | C34: 4680 | E34: 4680 | F34: =F35+F36 -> 2360 | G34: =SUM(G35:G36) -> 4650 | H34: =SUM(H35:H36) -> 0 | I34: =SUM(I35:I36) -> 4650 | J34: =SUM(J35:J36) -> -650 | K34: =SUM(K35:K36) -> 55473 | L34: =SUM(L35:L36) -> 1525 | M34: =SUM(M35:M36) -> 60998 | N34: =SUM(N35:N36) -> 646.688 | O34: =N34/M34 -> 0.01060179
A35: K11 | B35: Foglalkoztatottak személyi juttatásai | C35: 0 | E35: 0 | F35: 1333 | G35: 0 | H35: 0 | I35: =SUM(G35:H35) -> 0 | M35: =SUM(I35:L35) -> 0 | O35: =N35/M35 -> #DIV/0!
A36: K12 | B36: Külső személyi juttatások | C36: 4680 | E36: 4680 | F36: 1027 | G36: 4650 | I36: =SUM(G36:H36) -> 4650 | J36: -650 | K36: 55473 | L36: ='[1]Egyéb ei módosítás'!$D$22/1000+'[1]Egyéb ei módosítás'!$D$28/1000 -> 1525 | M36: =SUM(I36:L36) -> 60998 | N36: 646.688 | O36: =N36/M36 -> 0.01060179
A37: K2 | B37: Munkaadókat terhelő járulékok és szociális hozzájárulási adó | C37: 0 | E37: 0 | F37: 501 | G37: 0 | H37: 0 | I37: 0 | J37: 650 | K37: 14978 | L37: ='[1]Egyéb ei módosítás'!$D$23/1000+'[1]Egyéb ei módosítás'!$D$29/1000 -> 412 | M37: =SUM(I37:L37) -> 16040 | N37: 325.523 | O37: =N37/M37 -> 0.020294451
A38: K3 | B38: Dologi kiadások | C38: 1491124.3 | E38: 1491124.3 | F38: =SUM(F39:F43) -> 992396 | G38: =SUM(G39:G43) -> 1083656.3 | H38: =SUM(H39:H43) -> 0 | I38: =SUM(I39:I43) -> 1083656.3 | J38: =SUM(J39:J43) -> 27245 | K38: =SUM(K39:K43) -> 7418 | L38: =SUM(L39:L43) -> 4963 | M38: =SUM(M39:M43) -> 1123282.3 | N38: =SUM(N39:N43) -> 498944.58 | O38: =N38/M38 -> 0.4441845
A39: K31 | B39: Készletbeszerzés | C39: 7302 | E39: 7302 | F39: 7850 | G39: 14841 | I39: =SUM(G39:H39) -> 14841 | M39: =SUM(I39:L39) -> 14841 | N39: 13664.267 | O39: =N39/M39 -> 0.92071067
A40: K32 | B40: Kommunikációs szolgáltatások | C40: 11499 | E40: 11499 | F40: 19393 | G40: 15655 | I40: =SUM(G40:H40) -> 15655 | M40: =SUM(I40:L40) -> 15655 | N40: 3937.122 | O40: =N40/M40 -> 0.25149294
A41: K33 | B41: Szolgáltatási kiadások | C41: 1144094 | E41: 1144094 | F41: 607641 | G41: 733063.27 | I41: =SUM(G41:H41) -> 733063.27 | J41: 27245 | K41: =5499+5499-3580 -> 7418 | L41: ='[1]Egyéb ei módosítás'!$D$24/1000+'[1]Egyéb ei módosítás'!$D$30/1000+'[2]Egyéb ei módosítás'!$D$6/1000 -> 4963 | M41: =SUM(I41:L41) -> 772689.27 | N41: 349045.86 | O41: =N41/M41 -> 0.45172862
A42: K34 | B42: Kiküldetések, reklám- és propaganda kiadások | C42: 1250 | E42: 1250 | F42: 4433 | G42: 1998 | I42: =SUM(G42:H42) -> 1998 | M42: =SUM(I42:L42) -> 1998 | N42: 3783.861 | O42: =N42/M42 -> 1.8938243
A43: K35 | B43: Különféle befizetések és egyéb dologi kiadások | C43: 326979.28 | E43: 326979.28 | F43: 353079 | G43: 318099.03 | I43: =SUM(G43:H43) -> 318099.03 | M43: =SUM(I43:L43) -> 318099.03 | N43: 128513.48 | O43: =N43/M43 -> 0.40400461
A44: K4 | B44: Ellátottak pénzbeli juttatásai (6.sz.melléklet) | C44: 0 | D44: 15010 | E44: 15010 | F44: 39391 | G44: 20250 | H44: 0 | I44: 20250 | M44: =SUM(I44:L44) -> 20250 | N44: 7739.238 | O44: =N44/M44 -> 0.38218459
A45: K5 | B45: Egyéb működési célú kiadások (4. és 8-sz.melléklet) | C45: 80000 | D45: 284678 | E45: 364678 | F45: =SUM(F47,F46) -> 2802905 | G45: =SUM(G46,G47) -> 928698.7 | H45: =SUM(H46,H47) -> 226914 | I45: =SUM(I46,I47) -> 1155612.7 | J45: =SUM(J46,J47) -> 9080 | K45: =SUM(K46,K47) -> -9218 | L45: =SUM(L46,L47) -> 60373.617 | M45: =SUM(M46,M47) -> 1215848.3 | N45: =SUM(N46,N47) -> 227052.75 | O45: =N45/M45 -> 0.18674431
A46: K50-K513 | B46: Ebből: egyéb működési célú támogatások (8.sz.melléklet) | C46: 0 | D46: 284678 | E46: 284678 | F46: 2802905 | G46: =874830+2500.3 -> 877330.3 | H46: 226914 | I46: =SUM(G46:H46) -> 1104244.3 | J46: -1534 | K46: =296+2036+1158 -> 3490 | L46: ='[1]Testületi kezdv ei mód'!$D$8/1000+'[1]Testületi kezdv ei mód'!$D$35/1000+'[1]Testületi kezdv ei mód'!$D$19/1000+'[1]Egyéb ei módosítás'!$D$4/1000+'[1]Egyéb ei módosítás'!$D$5/1000+'[1]Egyéb ei módosítás'!$D$9/1000 -> 44141.296 | M46: =SUM(I46:L46) -> 1150341.6 | N46: 227052.75 | O46: =N46/M46 -> 0.19737854
A47: K513 | B47: Ebből: tartalék (4.sz.melléklet) | C47: 80000 | D47: 0 | E47: 80000 | F47: =SUM(F48:F49) -> 0 | G47: =G48+G49 -> 51368.4 | H47: =H48+H49 -> 0 | I47: =I48+I49 -> 51368.4 | J47: =SUM(J48:J49) -> 10614 | K47: =SUM(K48:K49) -> -12708 | L47: =SUM(L48:L49) -> 16232.321 | M47: =SUM(M48:M49) -> 65506.721 | N47: =SUM(N48:N49) -> 0 | O47: =N47/M47 -> 0
B48: Működési tartalék | C48: 80000 | E48: 80000 | G48: =50000+1368.4 -> 51368.4 | H48: 0 | I48: =SUM(G48:H48) -> 51368.4 | J48: 10614 | K48: =2050+-2433+-1083+7562-21107+936+199+1168 -> -12708 | L48: ='[1]Állami támogatás'!$D$16/1000+'[1]Állami támogatás'!$D$20/1000+'[1]Állami támogatás'!$D$23/1000+'[1]Állami támogatás'!$D$28/1000+'[1]Állami támogatás'!$D$32/1000+'[1]Testületi kezdv ei mód'!$D$5/1000+'[1]Testületi kezdv ei mód'!$D$9/1000+'[1]Testületi kezdv ei mód'!$D$13/1000+'[1]Testületi kezdv ei mód'!$D$31/1000+'[1]Egyéb ei módosítás'!$D$14/1000+'[1]Egyéb ei módosítás'!$D$34/1000 -> 16232.321 | M48: =SUM(I48:L48) -> 65506.721 | N48: 0 | O48: =N48/M48 -> 0
B49: Felhalmozási tartalék | C49: 0 | E49: 0 | G49: 0 | H49: 0 | I49: =SUM(G49:H49) -> 0 | M49: =SUM(I49:L49) -> 0 | N49: 0
A50: K6 | B50: Beruházások (3/a sz.melléklet) | C50: 301575 | D50: 1104192 | E50: 1405767 | F50: 494778 | G50: 0 | H50: 150727 | I50: 150727 | J50: =28780+14121-500 -> 42401 | K50: =-2540+4000+3580 -> 5040 | L50: ='[1]Testületi kezdv ei mód'!$D$25/1000+'[1]Testületi kezdv ei mód'!$D$27/1000+'[1]Testületi kezdv ei mód'!$D$30/1000+'[1]Testületi kezdv ei mód'!$D$34/1000 -> 1771 | M50: =SUM(I50:L50) -> 199939 | N50: 71042.449 | O50: =N50/M50 -> 0.35532062
A51: K7 | B51: Felújítások (3/b,c sz. melléklet) | C51: 48000 | D51: 341510 | E51: 389510 | F51: 246672 | G51: 48000 | H51: 344700 | I51: 392700 | J51: =14014+11235+6000+12000+5499+500+13593 -> 62841 | K51: =-5499-5499-4000 -> -14998 | L51: ='[1]Testületi kezdv ei mód'!$D$20/1000+'[1]Testületi kezdv ei mód'!$D$21/1000+'[1]Testületi kezdv ei mód'!$D$24/1000+'[1]Testületi kezdv ei mód'!$D$28/1000 -> -46200 | M51: =SUM(I51:L51) -> 394343 | N51: 111537.47 | O51: =N51/M51 -> 0.28284379
A52: K8 | B52: Egyéb felhalmozási célú kiadások (8.sz.melléklet) | C52: 16921 | D52: 5122 | E52: 22043 | F52: 33771 | G52: 25000 | H52: 67160 | I52: 92160 | K52: =2540 -> 2540 | L52: ='[1]Egyéb ei módosítás'!$D$10/1000+'[1]Egyéb ei módosítás'!$D$18/1000 -> 5182.132 | M52: =SUM(I52:L52) -> 99882.132 | N52: 34376.169 | O52: =N52/M52 -> 0.34416735
B53: EGYENLEG (I.-II.) | C53: =C3-C33 -> 3521140.3 | D53: =D3-D33 -> -1750512 | E53: =E3-E33 -> 1770628.3 | F53: =F3-F33 -> 1784598 | G53: =G3-G33 -> 2645777.9 | H53: =H3-H33 -> -789501 | I53: =I3-I33 -> 1856276.9 | J53: =J3-J33 -> -107941 | ... N53: =N3-N33 -> 1383076 | O53: =N53/M53 -> 0.79083622
B54: Működési | C54: =C6+C8+C15+C31-C34-C37-C38-C44-C45+C49 -> 2403028.1 | D54: =D6+D8+D15+D31-D34-D37-D38-D44-D45+D49 -> -299688 | E54: =E6+E8+E15+E31-E34-E37-E38-E44-E45+E49 -> 2103340.1 | F54: =F6+F8+F15+F31-F34-F37-F38-F44-F45+F49 -> 2033853 | G54: =G6+G8+G15+G31-G34-G37-G38-G44-G45+G49 -> 2251983.4 | H54: =H6+H8+H15+H31-H34-H37-H38-H44-H45+H49 -> -226914 | I54: =I6+I8+I15+I31-I34-I37-I38-I44-I45+I49 -> 2025069.4 | J54: =J6+J8+J15+J31-J34-J37-J38-J44-J45+J49 -> -22881 | ... N54: =N6+N8+N15+N31-N34-N37-N38-N44-N45+N49 -> 1491603.1 | O54: =N54/M54 -> 0.77367417
B55: Felhalmozási | C55: =C7+C27+C32-C49-C50-C51-C52 -> 1118112 | D55: =D7+D27+D32-D49-D50-D51-D52 -> -1450824 | E55: =E7+E27+E32-E49-E50-E51-E52 -> -332712 | F55: =F7+F27+F32-F49-F50-F51-F52 -> -249255 | G55: =G7+G27+G32-G49-G50-G51-G52 -> 393794.5 | H55: =H7+H27+H32-H49-H50-H51-H52 -> -562587 | I55: =I7+I27+I32-I49-I50-I51-I52 -> -168792.5 | J55: =J7+J27+J32-J49-J50-J51-J52 -> -85060 | ... N55: =N7+N27+N32-N49-N50-N51-N52 -> -108527.1 | O55: =N55/M55 -> 0.60606139
A56: III.B8 | B56: FINANSZÍROZÁSI BEVÉTELEK | C56: =C57 -> 406596 | D56: =D57 -> 0 | E56: =E57 -> 406596 | F56: =F57 -> 990741 | G56: =G57 -> 360894 | H56: =H57 -> 0 | I56: =I57 -> 360894 | J56: =J57 -> 193517 | ... N56: =N57 -> 454411 | O56: =N56/M56 -> 0.47611668
A57: B81 | B57: Belföldi finanszírozás bevételei | C57: 406596 | D57: 0 | E57: 406596 | F57: =SUM(F58,F59,F60,F63,) -> 990741 | G57: 360894 | H57: 0 | I57: 360894 | J57: =J58+J59+J60+J64 -> 193517 | K57: =K58+K59+K60+K64 -> 400000 | L57: =L58+L59+L60+L64 -> 0 | M57: =M58+M59+M60+M64 -> 954411 | N57: =N58+N59+N60+N64 -> 454411 | O57: =N57/M57 -> 0.47611668
A58: B811 | B58: Hitel-, kölcsönfelvétel államháztartáson kívülről | C58: 150000 | E58: 150000 | F58: 300000 | G58: 150000 | I58: =SUM(G58:H58) -> 150000 | K58: 400000 | M58: =SUM(I58:L58) -> 550000 | N58: 50000 | O58: =N58/M58 -> 0.090909091
A59: B812 | B59: Belföldi értékpapírok bevételei | C59: 0 | E59: 0 | G59: 0 | H59: 0 | I59: 0 | M59: =SUM(I59:L59) -> 0 | N59: =SUM(J59:M59) -> 0
A60: B813 | B60: Maradvány igénybevétele | C60: 256596 | D60: 0 | E60: 256596 | F60: =SUM(F61:F62) -> 642603 | G60: 210894 | H60: 0 | I60: 210894 | J60: =SUM(J61:J62) -> 193517 | K60: =SUM(K61:K62) -> 0 | L60: =SUM(L61:L62) -> 0 | M60: =SUM(M61:M62) -> 404411 | N60: 404411 | O60: =N60/M60 -> 1
B61: Ebből: működési | C61: 208568 | E61: 208568 | F61: 642603 | G61: 95894 | I61: =SUM(G61:H61) -> 95894 | J61: 165382 | M61: =SUM(I61:L61) -> 261276 | O61: =N61/M61 -> 0
B62: fejlesztései | C62: 48028 | E62: 48028 | G62: 115000 | I62: =SUM(G62:H62) -> 115000 | J62: 28135 | M62: =SUM(I62:L62) -> 143135 | O62: =N62/M62 -> 0
A63: B814 | B63: Államháztartáson belüli megelőlegezések | E63: 0 | F63: 48138 | G63: 0 | H63: 0 | I63: =SUM(G63:H63) -> 0 | J63: 0 | M63: =SUM(I63:L63) -> 0 | N63: =SUM(J63:M63) -> 0
A64: B816 | B64: Központi, önkormányzattól kapott támogatás | C64: 2027224 | E64: 2027224 | G64: 0 | H64: 0 | I64: 0 | M64: =SUM(I64:L64) -> 0 | N64: =SUM(J64:M64) -> 0 | O64: =N64/M64 -> #DIV/0!
A65: B82 | B65: Külföldi finanszírozás bevételei | E65: 0 | G65: 0 | H65: 0 | I65: 0 | M65: =SUM(I65:L65) -> 0 | N65: =SUM(J65:M65) -> 0
A66: IV.K9 | B66: FINANSZÍROZÁSI KIADÁSOK | C66: =C67 -> 2177224 | D66: =D67 -> 0 | E66: =E67 -> 2177224 | F66: =F67 -> 2325961 | G66: =G67 -> 2217170.5 | H66: =H67 -> 0 | I66: =I67 -> 2217170.5 | J66: =J67+J71 -> 85576 | K66: =K67+K71 -> 361202 | L66: =L67+L71 -> 39340 | M66: =M67+M71 -> 2703288.5 | N66: =N67+N71 -> 1200906.1 | O66: =N66/M66 -> 0.44423898
A67: K91 | B67: Belföldi finanszírozás kiadásai | C67: =C68+C70 -> 2177224 | D67: =D68+D70 -> 0 | E67: =E68+E70 -> 2177224 | F67: =F68+F70 -> 2325961 | G67: =G68+G70 -> 2217170.5 | H67: =H68+H70 -> 0 | I67: =I68+I70 -> 2217170.5 | J67: =J68+J69+J70 -> 85576 | K67: =K68+K69+K70 -> 361202 | L67: =L68+L69+L70 -> 39340 | M67: =M68+M69+M70 -> 2703288.5 | N67: =N68+N69+N70 -> 1200906.1 | O67: =N67/M67 -> 0.44423898
A68: K911 | B68: Hitel-, kölcsöntörlesztés államháztartáson kívülre | C68: 150000 | E68: 150000 | F68: 300000 | G68: 150000 | I68: 150000 | K68: 400000 | M68: =SUM(I68:L68) -> 550000 | N68: 50000 | O68: =N68/M68 -> 0.090909091
A69: K912, K914 | B69: Belföldi értékpapírok kiadásai, Államháztartáson belüli megelőlegezések | E69: 0 | F69: 44848 | G69: 0 | H69: 0 | I69: 0 | J69: =44138 -> 44138 | M69: =SUM(I69:L69) -> 44138 | N69: 48137.517 | O69: =N69/M69 -> 1.0906139
A70: K915 | B70: Központi, irányító szervi támogatások folyósítása | C70: 2027224 | E70: 2027224 | F70: 2025961 | G70: 2067170.5 | I70: 2067170.5 | J70: 41438 | K70: -38798 | L70: ='[1]Állami támogatás'!$D$8/1000+'[1]Testületi kezdv ei mód'!$D$12/1000 -> 39340 | M70: =SUM(I70:L70) -> 2109150.5 | N70: 1102768.6 | O70: =N70/M70 -> 0.52284965
A71: K92 | B71: Külföldi finanszírozás kiadásai | E71: 0 | G71: 0 | H71: 0 | I71: 0 | J71: 0 | N71: 0
B72: FINANSZÍROZÁSI EGYENLEG (III.-IV.) | C72: =+C56-C66 -> -1770628 | D72: =+D56-D66 -> 0 | E72: =+E56-E66 -> -1770628 | F72: =+F56-F66 -> -1335220 | G72: =+G56-G66 -> -1856276.5 | H72: =+H56-H66 -> 0 | I72: =+I56-I66 -> -1856276.5 | J72: =+J56-J66 -> 107941 | ... N72: =+N56-N66 -> -746495.13 | O72: =N72/M72 -> 0.42684243
B73: BEVÉTELEK MINDÖSSZESEN (I.+III.) | C73: =+C3+C56 -> 5870036.3 | D73: =+D3+D56 -> 0 | E73: =+E3+E56 -> 5870036.3 | F73: =+F3+F56 -> 7388113 | G73: =+G3+G56 -> 5116926.9 | H73: =+H3+H56 -> 0 | I73: =+I3+I56 -> 5116926.9 | J73: =+J3+J56 -> 227143 | ... N73: =+N3+N56 -> 2789151.8 | O73: =N73/M73 -> 0.4780962
B74: Ebből: Működési | C74: =+C6+C8+C15+C31 -> 3978832.4 | D74: =+D6+D8+D15+D31 -> 0 | E74: =+E6+E8+E15+E31 -> 3978832.4 | F74: =+F6+F8+F15+F31 -> 5871406 | G74: =+G6+G8+G15+G31 -> 4289238.4 | H74: =+H6+H8+H15+H31 -> 0 | I74: =+I6+I8+I15+I31 -> 4289238.4 | J74: =+J6+J8+J15+J31 -> 13444 | ... N74: =+N6+N8+N15+N31 -> 2226311.8 | O74: =N74/M74 -> 0.51011117
B75: Ebből: Felhalmozási | C75: =C7+C27+C32 -> 1484608 | D75: =D7+D27+D32 -> 0 | E75: =E7+E27+E32 -> 1484608 | F75: =F7+F27+F32 -> 525966 | G75: =G7+G27+G32 -> 466794.5 | H75: =H7+H27+H32 -> 0 | I75: =I7+I27+I32 -> 466794.5 | J75: =J7+J27+J32 -> 20182 | ... N75: =N7+N27+N32 -> 108428.99 | O75: =N75/M75 -> 0.21050304
B76: Ebből: Finanszírozási | C76: =C68+C60 -> 406596 | D76: =D68+D60 -> 0 | E76: =E68+E60 -> 406596 | F76: =F68+F60 -> 942603 | G76: =G68+G60 -> 360894 | H76: =H68+H60 -> 0 | I76: =I68+I60 -> 360894 | J76: =J68+J60 -> 193517 | ... N76: =N68+N60 -> 454411 | O76: =N76/M76 -> 0.47611668
B77: KIADÁSOK MINDÖSSZESEN (II.+IV.) | C77: =C33+C66 -> 4119524 | D77: =D33+D66 -> 1750512 | E77: =E33+E66 -> 5870036 | F77: =F33+F66 -> 6938735 | G77: =G33+G66 -> 4327425.5 | H77: =H33+H66 -> 789501 | I77: =I33+I66 -> 5116926.5 | J77: =J33+J66 -> 227143 | ... N77: =N33+N66 -> 2152571 | O77: =N77/M77 -> 0.36897815
B78: Ebből: Működési | C78: =+C34+C37+C38+C44+C45-C49 -> 1575804.3 | D78: =+D34+D37+D38+D44+D45-D49 -> 299688 | E78: =+E34+E37+E38+E44+E45-E49 -> 1875492.3 | F78: =+F34+F37+F38+F44+F45-F49 -> 3837553 | G78: =+G34+G37+G38+G44+G45-G49 -> 2037255 | H78: =+H34+H37+H38+H44+H45-H49 -> 226914 | I78: =+I34+I37+I38+I44+I45-I49 -> 2264169 | J78: =+J34+J37+J38+J44+J45-J49 -> 36325 | ... N78: =+N34+N37+N38+N44+N45-N49 -> 734708.78 | O78: =N78/M78 -> 0.30155277
B79: Ebből: Felhalmozási | C79: =C49+C50+C51+C52 -> 366496 | D79: =D49+D50+D51+D52 -> 1450824 | E79: =E49+E50+E51+E52 -> 1817320 | F79: =F49+F50+F51+F52 -> 775221 | G79: =G49+G50+G51+G52 -> 73000 | H79: =H49+H50+H51+H52 -> 562587 | I79: =I49+I50+I51+I52 -> 635587 | J79: =J49+J50+J51+J52 -> 105242 | ... N79: =N49+N50+N51+N52 -> 216956.09 | O79: =N79/M79 -> 0.31254292
B80: Ebből: Finanszírozási | C80: =+C66 -> 2177224 | D80: =+D66 -> 0 | E80: =+E66 -> 2177224 | F80: =+F66 -> 2325961 | G80: =+G66 -> 2217170.5 | H80: =+H66 -> 0 | I80: =+I66 -> 2217170.5 | J80: =+J66 -> 85576 | ... N80: =+N66 -> 1200906.1 | O80: =N80/M80 -> 0.44423898
B81: KÖLTSÉGVETÉSI EGYENLEG | C81: =+C73-C77 -> 1750512.3 | D81: =+D73-D77 -> -1750512 | E81: =+E73-E77 -> 0.35 | F81: =+F73-F77 -> 449378 | G81: =+G73-G77 -> 789501.37 | H81: =+H73-H77 -> -789501 | I81: =+I73-I77 -> 0.37302362 | J81: =+J73-J77 -> 0 | ... N81: =+N73-N77 -> 636580.83
B82: Ebből: Működési | C82: =+C74-C78 -> 2403028.1 | D82: =+D74-D78 -> -299688 | E82: =+E74-E78 -> 2103340.1 | F82: =+F74-F78 -> 2033853 | G82: =+G74-G78 -> 2251983.4 | H82: =+H74-H78 -> -226914 | I82: =+I74-I78 -> 2025069.4 | J82: =+J74-J78 -> -22881 | ... N82: =+N74-N78 -> 1491603.1 | O82: =N82/M82 -> 0.77367417
B83: Ebből: Felhalmozási | C83: =C75-C79 -> 1118112 | D83: =D75-D79 -> -1450824 | E83: =E75-E79 -> -332712 | F83: =F75-F79 -> -249255 | G83: =G75-G79 -> 393794.5 | H83: =H75-H79 -> -562587 | I83: =I75-I79 -> -168792.5 | J83: =J75-J79 -> -85060 | ... N83: =N75-N79 -> -108527.1 | O83: =N83/M83 -> 0.60606139
B84: Ebből: Finanszírozási | C84: =C76-C80 -> -1770628 | D84: =D76-D80 -> 0 | E84: =E76-E80 -> -1770628 | F84: =F76-F80 -> -1383358 | G84: =G76-G80 -> -1856276.5 | H84: =H76-H80 -> 0 | I84: =I76-I80 -> -1856276.5 | J84: =J76-J80 -> 107941 | ... N84: =N76-N80 -> -746495.13 | O84: =N84/M84 -> 0.42684243

Sheet PH 2b
B1: Polgármesteri Hivatal | C1: 2015 Előirányzat | E1: 2015 tény 2016.01.25. | F1: 2016 Előirányzat | L1: 2016 Tény 01-06. hó
C2: Kötelező feladatok | D2: Nem kötelező feladatok | F2: Kötelező feladatok | G2: Nem kötelező feladatok | H2: 1. módosítás | I2: 2. módosítás | J2: 3. módosítás | K2: Módosított előirányzat | L2: EFt | M2: %
A3: I. | B3: KÖLTSÉGVETÉSI BEVÉTELEK | C3: 12287 | D3: 0 | E3: 3958 | F3: =F6+F7+F8+F15+F27+F31+F32 -> 7060 | G3: =G6+G7+G8+G15+G27+G31+G32 -> 0 | H3: =H6+H7+H8+H15+H27+H31+H32 -> 0 | I3: =I6+I7+I8+I15+I27+I31+I32 -> 0 | J3: =J6+J7+J8+J15+J27+J31+J32 -> 0 | K3: =K6+K7+K8+K15+K27+K31+K32 -> 7060 | L3: =L6+L7+L8+L15+L27+L31+L32 -> 1594.439 | M3: =L3/K3 -> 0.22584122
A4: B11 | B4: Önkormányzatok működési támogatásai | C4: 9387 | D4: 0 | F4: 0 | G4: 0 | K4: =SUM(F4:J4) -> 0
A5: B16 | B5: Egyéb működési célú támogatások ÁHT-n belülről OEP finanszírozás | C5: 0 | D5: 0 | E5: 300 | F5: 4300 | G5: 0 | I5: =-1700 -> -1700 | K5: =SUM(F5:J5) -> 2600 | M5: =L5/K5 -> 0
A6: B1 | B6: Működési célú támogatások államháztartáson belülről | C6: 9387 | D6: 0 | E6: 300 | F6: =SUM(F4:F5) -> 4300 | G6: =SUM(G4:G5) -> 0 | H6: =SUM(H4:H5) -> 0 | I6: =SUM(I4:I5) -> -1700 | J6: =SUM(J4:J5) -> 0 | K6: =SUM(K4:K5) -> 2600 | L6: =SUM(L4:L5) -> 0 | M6: =L6/K6 -> 0
A7: B2 | B7: Felhalmozási célú támogatások államháztartáson belülről | C7: 0 | D7: 0 | F7: 0 | G7: 0 | K7: =SUM(F7:J7) -> 0
A8: B3 | B8: Közhatalmi bevételek | C8: 1200 | D8: 0 | E8: 249 | F8: =SUM(F9,F10,F14) -> 210 | G8: =SUM(G9,G10,G14) -> 0 | H8: =SUM(H9,H10,H14) -> 0 | I8: =SUM(I9,I10,I14) -> 190 | J8: =SUM(J9,J10,J14) -> -210 | K8: =SUM(K9,K10,K14) -> 190 | L8: =SUM(L9,L10,L14) -> 40 | M8: =L8/K8 -> 0.21052632
A9: B34 | B9: Vagyoni tipusú adók (építményadó, ép.utáni IFA, magánsz.komm.adója, telekadó) | C9: 0 | F9: 0 | K9: =SUM(F9:J9) -> 0
A10: B35 | B10: Termékek és szolgáltatások adói | C10: 0 | D10: 0 | F10: =SUM(F11:F13) -> 0 | G10: =SUM(G11:G13) -> 0 | H10: =SUM(H11:H13) -> 0 | I10: =SUM(I11:I13) -> 0 | J10: =SUM(J11:J13) -> 0 | K10: =SUM(K11:K13) -> 0 | L10: =SUM(L11:L13) -> 0
A11: B351 | B11: Értékesítési és forgalmi adók (IPA) | C11: 0 | F11: 0 | K11: =SUM(F11:J11) -> 0
A12: B354 | B12: Gépjármű adók | C12: 0 | F12: 0 | K12: =SUM(F12:J12) -> 0
A13: B355 | B13: Egyéb áruhasználati és szolgáltatási adók (tart.utáni IFA, talajterhelési díj) | C13: 0 | F13: 0 | K13: =SUM(F13:J13) -> 0
A14: B36 | B14: Egyéb közhatalmi bevételek (illeték, bírság) | C14: 1200 | E14: 249 | F14: 210 | I14: =190 -> 190 | J14: ='[1]Egyéb ei módosítás'!$C$50/1000 -> -210 | K14: =SUM(F14:J14) -> 190 | L14: 40 | M14: =L14/K14 -> 0.21052632
A15: B4 | B15: Működési bevételek | C15: 0 | D15: 0 | E15: 2721 | F15: =SUM(F16:F26) -> 1860 | G15: =SUM(G16:G26) -> 0 | H15: =SUM(H16:H26) -> 0 | I15: =SUM(I16:I26) -> 1700 | J15: =SUM(J16:J26) -> 450 | K15: =SUM(K16:K26) -> 4010 | L15: =SUM(L16:L26) -> 1554.439 | M15: =L15/K15 -> 0.38764065
A16: B401 | B16: Készletértékesítés ellenértéke | C16: 0 | F16: 0 | K16: =SUM(F16:J16) -> 0
A17: B402 | B17: Szolgáltatások ellenértéke | C17: 0 | E17: 1969 | F17: 1800 | I17: =1700 -> 1700 | J17: ='[1]Egyéb ei módosítás'!$C$51/1000 -> 450 | K17: =SUM(F17:J17) -> 3950 | L17: 1243.134 | M17: =L17/K17 -> 0.31471747
A18: B403 | B18: Közvetített szolgáltatások ellenértéke | C18: 0 | E18: 353 | F18: 0 | K18: =SUM(F18:J18) -> 0 | L18: 134.495
A19: B404 | B19: Tulajdonosi bevételek | C19: 0 | F19: 0 | K19: =SUM(F19:J19) -> 0
A20: B405 | B20: Ellátási díjak | C20: 0 | F20: 0 | K20: =SUM(F20:J20) -> 0
A21: B406 | B21: Kiszámlázott általános forgalmi adó | C21: 0 | E21: 105 | F21: 60 | K21: =SUM(F21:J21) -> 60 | L21: 64.161 | M21: =L21/K21 -> 1.06935
A22: B407 | B22: Általános forgalmi adó visszatérítése | C22: 0 | F22: 0 | K22: =SUM(F22:J22) -> 0
A23: B408 | B23: Kamatbevételek | C23: 0 | E23: 25 | F23: 0 | K23: =SUM(F23:J23) -> 0 | L23: 7.798
A24: B409 | B24: Egyéb pénzügyi műveletek bevételei | C24: 0 | E24: 31 | F24: 0 | K24: =SUM(F24:J24) -> 0
A25: B410 | B25: Biztosító által fizetett kártérítés | C25: 0 | F25: 0 | K25: =SUM(F25:J25) -> 0
A26: B411 | B26: Egyéb működési bevételek | C26: 0 | E26: 238 | F26: 0 | K26: =SUM(F26:J26) -> 0 | L26: 104.851
A27: B5 | B27: Felhalmozási bevételek | C27: 0 | D27: 0 | E27: 0 | F27: 0 | G27: 0 | K27: =SUM(F27:J27) -> 0 | L27: =SUM(L28:L30) -> 0
A28: B51 | B28: Immateriális javak értékesítése | C28: 0 | F28: 0 | K28: =SUM(F28:J28) -> 0
A29: B52 | B29: Ingatlanok értékesítése | C29: 0 | F29: 0 | K29: =SUM(F29:J29) -> 0
A30: B53 | B30: Egyéb tárgyi eszközök értékesítése | F30: 0 | K30: =SUM(F30:J30) -> 0
A31: B6 | B31: Működési célú átvett pénzeszköz | C31: 1700 | D31: 0 | E31: 688 | F31: 690 | G31: 0 | I31: =-190 -> -190 | J31: ='[1]Egyéb ei módosítás'!$C$52/1000 -> -240 | K31: =SUM(F31:J31) -> 260 | M31: =L31/K31 -> 0
A32: B7 | B32: Felhalmozási célú átvett pénzeszköz | C32: 0 | D32: 0 | F32: 0 | G32: 0 | K32: =SUM(F32:J32) -> 0 | L32: =SUM(H32:K32) -> 0
A33: II. | B33: KÖLTSÉGVETÉSI KIADÁSOK | C33: 811374 | D33: 0 | E33: 695922 | F33: =SUM(F34,F37,F38,F44,F45,F50,F52,F51) -> 771416 | G33: =SUM(G34,G37,G38,G44,G45,G50,G52,G51) -> 0 | H33: =SUM(H34,H37,H38,H44,H45,H50,H52,H51) -> 9612 | I33: =SUM(I34,I37,I38,I44,I45,I50,I52,I51) -> -70030 | J33: =SUM(J34,J37,J38,J44,J45,J50,J52,J51) -> 0 | K33: =SUM(K34,K37,K38,K44,K45,K50,K52,K51) -> 710998 | L33: =SUM(L34,L37,L38,L44,L45,L50,L52,L51) -> 360319.52 | M33: =L33/K33 -> 0.50677993
A34: K1 | B34: Személyi juttatások | C34: 508580 | D34: 0 | E34: 447141 | F34: =SUM(F35:F36) -> 517611 | G34: =SUM(G35:G36) -> 0 | H34: =SUM(H35:H36) -> 1260 | I34: =SUM(I35:I36) -> -55142 | J34: =SUM(J35:J36) -> 0 | K34: =SUM(K35:K36) -> 463729 | L34: =SUM(L35:L36) -> 237253.6 | M34: =L34/K34 -> 0.51162122
A35: K11 | B35: Foglalkoztatottak személyi juttatásai | C35: 436288 | E35: 393729 | F35: 421218 | H35: 0 | I35: =331 -> 331 | K35: =SUM(F35:J35) -> 421549 | L35: 198731.33 | M35: =L35/K35 -> 0.47143115
A36: K12 | B36: Külső személyi juttatások | C36: 72292 | D36: 0 | E36: 53412 | F36: 96393 | G36: 0 | H36: 1260 | I36: =-55473 -> -55473 | K36: =SUM(F36:J36) -> 42180 | L36: 38522.267 | M36: =L36/K36 -> 0.91328276
A37: K2 | B37: Munkaadókat terhelő járulékok és szociális hozzájárulási adó | C37: 140499 | D37: 0 | E37: 120925 | F37: 154501 | G37: 0 | H37: 340 | I37: =90-14978 -> -14888 | K37: =SUM(F37:J37) -> 139953 | L37: 65344.722 | M37: =L37/K37 -> 0.46690476
A38: K3 | B38: Dologi kiadások | C38: 157115 | D38: 0 | E38: 102285 | F38: =SUM(F39:F43) -> 98614 | G38: =SUM(G39:G43) -> 0 | H38: =SUM(H39:H43) -> 3012 | I38: =SUM(I39:I43) -> 0 | J38: =SUM(J39:J43) -> 0 | K38: =SUM(K39:K43) -> 101626 | L38: =SUM(L39:L43) -> 56008.469 | M38: =L38/K38 -> 0.55112342
A39: K31 | B39: Készletbeszerzés | C39: 10281 | E39: 9263 | F39: 14961 | K39: =SUM(F39:J39) -> 14961 | L39: 4227.8 | M39: =L39/K39 -> 0.28258806
A40: K32 | B40: Kommunikációs szolgáltatások | C40: 15945 | D40: 0 | E40: 12431 | F40: 7801 | G40: 0 | K40: =SUM(F40:J40) -> 7801 | L40: 7909.523 | M40: =L40/K40 -> 1.0139114
A41: K33 | B41: Szolgáltatási kiadások | C41: 78621 | E41: 64022 | F41: 61169 | H41: 3012 | K41: =SUM(F41:J41) -> 64181 | L41: 34483.314 | M41: =L41/K41 -> 0.53728228
A42: K34 | B42: Kiküldetések, reklám- és propaganda kiadások | C42: 1528 | E42: 21 | F42: 121 | K42: =SUM(F42:J42) -> 121 | L42: 154.542 | M42: =L42/K42 -> 1.2772066
A43: K35 | B43: Különféle befizetések és egyéb dologi kiadások | C43: 50740 | E43: 16548 | F43: 14562 | K43: =SUM(F43:J43) -> 14562 | L43: 9233.29 | M43: =L43/K43 -> 0.63406744
A44: K4 | B44: Ellátottak pénzbeli juttatásai (6.sz.melléklet) | C44: 5180 | D44: 0 | E44: 16011 | F44: 690 | G44: 0 | K44: =SUM(F44:J44) -> 690 | L44: 475 | M44: =L44/K44 -> 0.6884058
A45: K5 | B45: Egyéb működési célú kiadások (4. és 8-sz.melléklet) | C45: 0 | D45: 0 | E45: 7203 | F45: 0 | G45: 0 | K45: =SUM(F45:J45) -> 0 | L45: =SUM(L46,L47) -> 0
A46: K50-K513 | B46: Ebből: egyéb működési célú támogatások (8.sz.melléklet) | C46: 0 | D46: 0 | E46: 7203 | G46: 0 | K46: =SUM(F46:J46) -> 0
A47: K512 | B47: Ebből: tartalék (4.sz.melléklet) | C47: 0 | D47: 0 | F47: 0 | G47: 0 | K47: =SUM(F47:J47) -> 0 | L47: =SUM(L48:L49) -> 0
B48: Működési tartalék | C48: 0 | D48: 0 | F48: 0 | G48: 0 | K48: =SUM(F48:J48) -> 0
B49: Felhalmozási tartalék | C49: 0 | D49: 0 | F49: 0 | G49: 0 | K49: =SUM(F49:J49) -> 0
A50: K6 | B50: Beruházások (3/a sz.melléklet) | C50: 0 | D50: 0 | E50: 2357 | F50: 0 | G50: 0 | H50: =5000 -> 5000 | K50: =SUM(F50:J50) -> 5000 | L50: 1237.727 | M50: =L50/K50 -> 0.2475454
A51: K7 | B51: Felújítások (3/b sz. melléklet) | C51: 0 | D51: 0 | F51: 0 | G51: 0 | K51: =SUM(F51:J51) -> 0 | L51: 0
A52: K8 | B52: Egyéb felhalmozási célú kiadások (8.sz.melléklet) | C52: 0 | D52: 0 | F52: 0 | G52: 0 | K52: =SUM(F52:J52) -> 0 | L52: 0
B53: EGYENLEG (I.-II.) | C53: -799087 | D53: 0 | E53: -691964 | F53: =F3-F33 -> -764356 | G53: =G3-G33 -> 0 | H53: =H3-H33 -> -9612 | I53: =I3-I33 -> 70030 | J53: =J3-J33 -> 0 | K53: =K3-K33 -> -703938 | L53: =L3-L33 -> -358725.08 | M53: =L53/K53 -> 0.50959755
B54: Működési | C54: -799087 | D54: 0 | E54: -689607 | F54: =F6+F8+F15+F31-F34-F37-F38-F44-F45+F49 -> -764356 | G54: =G6+G8+G15+G31-G34-G37-G38-G44-G45+G49 -> 0 | H54: =H6+H8+H15+H31-H34-H37-H38-H44-H45+H49 -> -4612 | I54: =I6+I8+I15+I31-I34-I37-I38-I44-I45+I49 -> 70030 | J54: =J6+J8+J15+J31-J34-J37-J38-J44-J45+J49 -> 0 | K54: =K6+K8+K15+K31-K34-K37-K38-K44-K45+K49 -> -698938 | L54: =L6+L8+L15+L31-L34-L37-L38-L44-L45+L49 -> -357487.35 | M54: =L54/K54 -> 0.51147219
B55: Felhalmozási | C55: 0 | D55: 0 | E55: -2357 | F55: =F7+F27+F32-F49-F50-F51-F52 -> 0 | G55: =G7+G27+G32-G49-G50-G51-G52 -> 0 | H55: =H7+H27+H32-H49-H50-H51-H52 -> -5000 | I55: =I7+I27+I32-I49-I50-I51-I52 -> 0 | J55: =J7+J27+J32-J49-J50-J51-J52 -> 0 | K55: =K7+K27+K32-K49-K50-K51-K52 -> -5000 | L55: =L7+L27+L32-L49-L50-L51-L52 -> -1237.727 | M55: =L55/K55 -> 0.2475454
A56: III.B8 | B56: FINANSZÍROZÁSI BEVÉTELEK | C56: 799087 | D56: 0 | E56: 696068 | F56: =F57 -> 764355.9 | G56: =G57 -> 0 | H56: =H57 -> 9612 | I56: =I57 -> -70030 | J56: =J57 -> 0 | K56: =K57 -> 703937.9 | L56: =L57 -> 375584.9 | M56: =L56/K56 -> 0.53354834
A57: B81 | B57: Belföldi finanszírozás bevételei | C57: 799087 | D57: 0 | E57: 696068 | F57: =F58+F59+F60+F63+F64 -> 764355.9 | G57: =G58+G59+G60+G63+G64 -> 0 | H57: =H58+H59+H60+H63+H64 -> 9612 | I57: =I58+I59+I60+I63+I64 -> -70030 | J57: =J58+J59+J60+J63+J64 -> 0 | K57: =K58+K59+K60+K63+K64 -> 703937.9 | L57: =L58+L59+L60+L64 -> 375584.9 | M57: =L57/K57 -> 0.53354834
A58: B811 | B58: Hitel-, kölcsönfelvétel államháztartáson kívülről | C58: 0 | D58: 0 | F58: 0 | G58: 0 | K58: =SUM(F58:J58) -> 0
A59: B812 | B59: Belföldi értékpapírok bevételei | C59: 0 | D59: 0 | F59: 0 | G59: 0 | K59: =SUM(F59:J59) -> 0 | L59: =SUM(H59:K59) -> 0
A60: B813 | B60: Maradvány igénybevétele | C60: 0 | D60: 0 | E60: 7788 | F60: 0 | G60: 0 | H60: =H61+H62 -> 14143 | I60: =I61+I62 -> 0 | J60: =J61+J62 -> 0 | K60: =K61+K62 -> 14143 | L60: =SUM(L61:L62) -> 14143 | M60: =L60/K60 -> 1
B61: Ebből: működési | C61: 0 | D61: 0 | E61: 7788 | F61: 0 | G61: 0 | H61: 14143 | K61: =SUM(F61:J61) -> 14143 | L61: 14143 | M61: =L61/K61 -> 1
B62: fejlesztései | C62: 0 | F62: 0 | K62: =SUM(F62:J62) -> 0
A63: B814 | B63: Államháztartáson belüli megelőlegezések | C63: 0 | F63: 0 | K63: =SUM(F63:J63) -> 0 | L63: =SUM(H63:K63) -> 0
A64: B816 | B64: Központi, önkormányzattól kapott támogatás | C64: 799087 | D64: 0 | E64: 688280 | F64: 764355.9 | G64: 0 | H64: =1600-6131 -> -4531 | I64: =421-70451 -> -70030 | K64: =SUM(F64:J64) -> 689794.9 | L64: 361441.9 | M64: =L64/K64 -> 0.52398459
A65: B82 | B65: Külföldi finanszírozás bevételei | C65: 0 | D65: 0 | F65: 0 | G65: 0 | K65: 0 | L65: =SUM(H65:K65) -> 0
A66: IV.K9 | B66: FINANSZÍROZÁSI KIADÁSOK | C66: 0 | D66: 0 | E66: 0 | F66: =F67+F71 -> 0 | G66: =G67+G71 -> 0 | H66: =H67+H71 -> 0 | I66: =I67+I71 -> 0 | J66: =J67+J71 -> 0 | K66: =K67+K71 -> 0 | L66: =L67+L71 -> 0
A67: K91 | B67: Belföldi finanszírozás kiadásai | C67: 0 | D67: 0 | F67: 0 | G67: 0 | H67: 0 | I67: 0 | J67: 0 | K67: 0 | L67: =L68+L69+L70 -> 0
A68: K911 | B68: Hitel-, kölcsöntörlesztés államháztartáson kívülre | C68: 0 | D68: 0 | G68: 0 | K68: 0
A69: K912 | B69: Belföldi értékpapírok kiadásai | C69: 0 | D69: 0 | F69: 0 | G69: 0 | K69: 0
A70: K915 | B70: Központi, irányító szervi támogatások folyósítása | C70: 0 | D70: 0 | F70: 0 | G70: 0 | K70: 0
A71: K92 | B71: Külföldi finanszírozás kiadásai | C71: 0 | D71: 0 | F71: 0 | G71: 0 | K71: 0
B72: FINANSZÍROZÁSI EGYENLEG (III.-IV.) | C72: 799087 | D72: 0 | E72: 696068 | F72: =+F56-F66 -> 764355.9 | G72: =+G56-G66 -> 0 | H72: =+H56-H66 -> 9612 | I72: =+I56-I66 -> -70030 | J72: =+J56-J66 -> 0 | K72: =+K56-K66 -> 703937.9 | L72: =+L56-L66 -> 375584.9 | M72: =L72/K72 -> 0.53354834
B73: BEVÉTELEK MINDÖSSZESEN (I.+III.) | C73: 811374 | D73: 0 | E73: 700026 | F73: =+F3+F56 -> 771415.9 | G73: =+G3+G56 -> 0 | H73: =+H3+H56 -> 9612 | I73: =+I3+I56 -> -70030 | J73: =+J3+J56 -> 0 | K73: =+K3+K56 -> 710997.9 | L73: =+L3+L56 -> 377179.34 | M73: =L73/K73 -> 0.5304929
B74: Ebből: Működési | C74: 12287 | D74: 0 | E74: 11746 | F74: =+F6+F8+F15+F31 -> 7060 | G74: =+G6+G8+G15+G31 -> 0 | H74: =+H6+H8+H15+H31 -> 0 | I74: =+I6+I8+I15+I31 -> 0 | J74: =+J6+J8+J15+J31 -> 0 | K74: =+K6+K8+K15+K31 -> 7060 | L74: =+L6+L8+L15+L31 -> 1594.439 | M74: =L74/K74 -> 0.22584122
B75: Ebből: Felhalmozási | C75: 0 | D75: 0 | E75: 0 | F75: =F7+F27+F32 -> 0 | G75: =G7+G27+G32 -> 0 | H75: =H7+H27+H32 -> 0 | I75: =I7+I27+I32 -> 0 | J75: =J7+J27+J32 -> 0 | K75: =K7+K27+K32 -> 0 | L75: =L7+L27+L32 -> 0
B76: Ebből: Finanszírozási | C76: 799087 | D76: 0 | E76: 688280 | F76: =F56 -> 764355.9 | G76: =G56 -> 0 | H76: =H56 -> 9612 | I76: =I56 -> -70030 | J76: =J56 -> 0 | K76: =K56 -> 703937.9 | L76: =L56 -> 375584.9 | M76: =L76/K76 -> 0.53354834
B77: KIADÁSOK MINDÖSSZESEN (II.+IV.) | C77: 811374 | D77: 0 | E77: 695922 | F77: =F33+F66 -> 771416 | G77: =G33+G66 -> 0 | H77: =H33+H66 -> 9612 | I77: =I33+I66 -> -70030 | J77: =J33+J66 -> 0 | K77: =K33+K66 -> 710998 | L77: =L33+L66 -> 360319.52 | M77: =L77/K77 -> 0.50677993
B78: Ebből: Működési | C78: 811374 | D78: 0 | E78: 693565 | F78: =+F34+F37+F38+F44+F45-F49 -> 771416 | G78: =+G34+G37+G38+G44+G45-G49 -> 0 | H78: =+H34+H37+H38+H44+H45-H49 -> 4612 | I78: =+I34+I37+I38+I44+I45-I49 -> -70030 | J78: =+J34+J37+J38+J44+J45-J49 -> 0 | K78: =+K34+K37+K38+K44+K45-K49 -> 705998 | L78: =+L34+L37+L38+L44+L45-L49 -> 359081.79 | M78: =L78/K78 -> 0.50861587
B79: Ebből: Felhalmozási | C79: 0 | D79: 0 | E79: 2357 | F79: =F49+F50+F51+F52 -> 0 | G79: =G49+G50+G51+G52 -> 0 | H79: =H49+H50+H51+H52 -> 5000 | I79: =I49+I50+I51+I52 -> 0 | J79: =J49+J50+J51+J52 -> 0 | K79: =K49+K50+K51+K52 -> 5000 | L79: =L49+L50+L51+L52 -> 1237.727 | M79: =L79/K79 -> 0.2475454
B80: Ebből: Finanszírozási | C80: 0 | D80: 0 | E80: 0 | F80: =+F66 -> 0 | G80: =+G66 -> 0 | H80: =+H66 -> 0 | I80: =+I66 -> 0 | J80: =+J66 -> 0 | K80: =+K66 -> 0 | L80: =+L66 -> 0
B81: KÖLTSÉGVETÉSI EGYENLEG | C81: 0 | D81: 0 | E81: 4104 | F81: =+F73-F77 -> -0.1 | G81: =+G73-G77 -> 0 | H81: =+H73-H77 -> 0 | I81: =+I73-I77 -> 0 | J81: =+J73-J77 -> 0 | K81: =+K73-K77 -> -0.1 | L81: =+L73-L77 -> 16859.822
B82: Ebből: Működési | C82: -799087 | D82: 0 | E82: -681819 | F82: =+F74-F78 -> -764356 | G82: =+G74-G78 -> 0 | H82: =+H74-H78 -> -4612 | I82: =+I74-I78 -> 70030 | J82: =+J74-J78 -> 0 | K82: =+K74-K78 -> -698938 | L82: =+L74-L78 -> -357487.35 | M82: =L82/K82 -> 0.51147219
B83: Ebből: Felhalmozási | C83: 0 | D83: 0 | E83: -2357 | F83: =F75-F79 -> 0 | G83: =G75-G79 -> 0 | H83: =H75-H79 -> -5000 | I83: =I75-I79 -> 0 | J83: =J75-J79 -> 0 | K83: =K75-K79 -> -5000 | L83: =L75-L79 -> -1237.727 | M83: =L83/K83 -> 0.2475454
B84: Ebből: Finanszírozási | C84: 799087 | D84: 0 | E84: 688280 | F84: =F76-F80 -> 764355.9 | G84: =G76-G80 -> 0 | H84: =H76-H80 -> 9612 | I84: =I76-I80 -> -70030 | J84: =J76-J80 -> 0 | K84: =K76-K80 -> 703937.9 | L84: =L76-L80 -> 375584.9 | M84: =L84/K84 -> 0.53354834
F85: =SUM(F61:F62) -> 0 | G85: =SUM(G61:G62) -> 0 | H85: =SUM(H61:H62) -> 14143 | I85: =SUM(I58:I59) -> 0 | J85: =SUM(J58:J59) -> 0 | K85: =SUM(K61:K62) -> 14143

Sheet SZEI 2c
B1: Szentendre Egészségügyi Intézményei | C1: 2015 Előirányzat | G1: 2015 tény 2016.01.25. | H1: 2016 Előirányzat | N1: 2016 Tény 01-06. hó
C2: Nem kötelező feladatok | D2: 1. módosítás | E2: Kötelező feladatok | F2: Összesen módosításokkal | H2: Nem kötelező feladatok | I2: Kötelező feladatok | J2: 1. módosítás | K2: 2. módosítás | L2: 3. módosítás | M2: Módosított előirányzat | N2: EFt | O2: %
A3: I. | B3: KÖLTSÉGVETÉSI BEVÉTELEK | C3: =C6+C7+C8+C15+C27+C31+C32 -> 525400 | D3: =D6+D7+D8+D15+D27+D31+D32 -> 0 | E3: =E6+E7+E8+E15+E27+E31+E32 -> 0 | F3: =F6+F7+F8+F15+F27+F31+F32 -> 525400 | G3: =G6+G7+G8+G15+G27+G31+G32 -> 552386 | H3: =H6+H7+H8+H15+H27+H31+H32 -> 524800 | I3: =I6+I7+I8+I15+I27+I31+I32 -> 0 | J3: =J6+J7+J8+J15+J27+J31+J32 -> 0 | ... N3: =N6+N7+N8+N15+N27+N31+N32 -> 248626.09 | O3: =N3/M3 -> 0.47224402
A4: B11 | B4: Önkormányzatok működési támogatásai | F4: =SUM(C4:E4) -> 0
A5: B16 | B5: Egyéb működési célú támogatások ÁHT-n belülről OEP finanszírozás | C5: 491400 | F5: =SUM(C5:E5) -> 491400 | G5: 508743 | H5: 493400 | M5: =SUM(H5:L5) -> 493400 | N5: 233366.3 | O5: =N5/M5 -> 0.47297588
A6: B1 | B6: Működési célú támogatások államháztartáson belülről | C6: =SUM(C4:C5) -> 491400 | D6: =SUM(D4:D5) -> 0 | E6: =SUM(E4:E5) -> 0 | F6: =SUM(F4:F5) -> 491400 | G6: =SUM(G4:G5) -> 508743 | H6: =SUM(H4:H5) -> 493400 | I6: =SUM(I4:I5) -> 0 | J6: =SUM(J4:J5) -> 0 | ... N6: =SUM(N4:N5) -> 233366.3 | O6: =N6/M6 -> 0.47297588
A7: B2 | B7: Felhalmozási célú támogatások államháztartáson belülről | D7: =[3]összefogl!$C$50 -> 1200 | F7: =SUM(C7:E7) -> 1200 | G7: 3982
A8: B3 | B8: Közhatalmi bevételek | C8: =SUM(C9,C10,C14) -> 0 | D8: =SUM(D9,D10,D14) -> 0 | E8: =SUM(E9,E10,E14) -> 0 | F8: =SUM(F9,F10,F14) -> 0 | G8: =SUM(G9,G10,G14) -> 0 | H8: =SUM(H9,H10,H14) -> 0 | I8: =I9+I11+I12+I13+I14 -> 0 | J8: =J9+J11+J12+J13+J14 -> 0 | K8: =K9+K11+K12+K13+K14 -> 0 | L8: =L9+L11+L12+L13+L14 -> 0 | M8: =M9+M11+M12+M13+M14 -> 0 | N8: =N9+N11+N12+N13+N14 -> 0
A9: B34 | B9: Vagyoni tipusú adók | F9: =SUM(C9:E9) -> 0
A10: B35 | B10: Termékek és szolgáltatások adói | C10: =SUM(C11:C13) -> 0 | E10: =SUM(E11:E13) -> 0 | F10: =SUM(F11:F13) -> 0 | H10: =SUM(H11:H13) -> 0 | I10: =SUM(I11:I13) -> 0 | J10: =SUM(J11:J13) -> 0 | K10: =SUM(K11:K13) -> 0 | L10: =SUM(L11:L13) -> 0 | M10: =SUM(M11:M13) -> 0 | N10: =SUM(N11:N13) -> 0
A11: B351 | B11: Értékesítési és forgalmi adók | F11: =SUM(C11:E11) -> 0
A12: B354 | B12: Gépjármű adók | F12: =SUM(C12:E12) -> 0
A13: B355 | B13: Egyéb áruhasználati és szolgáltatási adók | F13: =SUM(C13:E13) -> 0
A14: B36 | B14: Egyéb közhatalmi bevételek | F14: =SUM(C14:E14) -> 0
A15: B4 | B15: Működési bevételek | C15: =SUM(C16:C26) -> 34000 | D15: =SUM(D16:D26) -> -6200 | E15: =SUM(E16:E26) -> 0 | F15: =SUM(F16:F26) -> 27800 | G15: =SUM(G16:G26) -> 26193 | H15: =SUM(H16:H26) -> 31400 | I15: =SUM(I16:I26) -> 0 | J15: =SUM(J16:J26) -> 0 | ... N15: =SUM(N16:N26) -> 13581.613 | O15: =N15/M15 -> 0.43253545
A16: B401 | B16: Készletértékesítés ellenértéke | F16: =SUM(C16:E16) -> 0
A17: B402 | B17: Szolgáltatások ellenértéke | D17: =[3]összefogl!$E$50 -> -6200 | F17: =SUM(C17:E17) -> -6200 | G17: 21572 | N17: 10690.148
A18: B403 | B18: Közvetített szolgáltatások ellenértéke | F18: =SUM(C18:E18) -> 0 | G18: 3965 | N18: 1572.858
A19: B404 | B19: Tulajdonosi bevételek | F19: =SUM(C19:E19) -> 0
A20: B405 | B20: Ellátási díjak | F20: =SUM(C20:E20) -> 0
A21: B406 | B21: Kiszámlázott általános forgalmi adó | F21: =SUM(C21:E21) -> 0
A22: B407 | B22: Általános forgalmi adó visszatérítése | F22: =SUM(C22:E22) -> 0
A23: B408 | B23: Kamatbevételek | F23: =SUM(C23:E23) -> 0 | G23: 183 | N23: 98.648
A24: B409 | B24: Egyéb pénzügyi műveletek bevételei | F24: =SUM(C24:E24) -> 0
A25: B410 | B25: Biztosító által fizetett kártérítés | F25: =SUM(C25:E25) -> 0 | N25: 31.069
A26: B411 | B26: Egyéb működési bevételek | C26: 34000 | F26: =SUM(C26:E26) -> 34000 | G26: 473 | H26: 31400 | M26: =SUM(H26:K26) -> 31400 | N26: 1188.89 | O26: =N26/M26 -> 0.037862739
A27: B5 | B27: Felhalmozási bevételek | C27: =C28+C29+C30 -> 0 | D27: =D28+D29+D30 -> 0 | E27: =E28+E29+E30 -> 0 | F27: =F28+F29+F30 -> 0 | G27: =G28+G29+G30 -> 0 | H27: =H28+H29+H30 -> 0 | I27: =I28+I29+I30 -> 0 | J27: =J28+J29+J30 -> 0 | ... N27: =N28+N29+N30 -> 0
A28: B51 | B28: Immateriális javak értékesítése | F28: =SUM(C28:E28) -> 0
A29: B52 | B29: Ingatlanok értékesítése | F29: =SUM(C29:E29) -> 0
A30: B53 | B30: Egyéb tárgyi eszközök értékesítése | F30: =SUM(C30:E30) -> 0
A31: B6 | B31: Működési célú átvett pénzeszköz | D31: =[3]összefogl!$Q$50 -> 5000 | F31: =SUM(C31:E31) -> 5000 | G31: 13468 | K31: =1678 -> 1678 | M31: =H31+I31+J31+K31+L31 -> 1678 | N31: 1678.173
A32: B7 | B32: Felhalmozási célú átvett pénzeszköz | F32: =SUM(C32:E32) -> 0 | N32: 0
A33: II. | B33: KÖLTSÉGVETÉSI KIADÁSOK | C33: =C34+C37+C38+C44+C45+C50+C51+C52 -> 525400 | D33: =D34+D37+D38+D44+D45+D50+D51+D52 -> 8342 | E33: =E34+E37+E38+E44+E45+E50+E51+E52 -> 0 | F33: =F34+F37+F38+F44+F45+F50+F51+F52 -> 533742 | G33: =G34+G37+G38+G44+G45+G50+G51+G52 -> 546741 | H33: =H34+H37+H38+H44+H45+H50+H51+H52 -> 526800 | I33: =I34+I37+I38+I44+I45+I50+I51+I52 -> 0 | J33: =J34+J37+J38+J44+J45+J50+J51+J52 -> 26954 | ... N33: =N34+N37+N38+N44+N45+N50+N51+N52 -> 255146.78 | O33: =N33/M33 -> 0.46033439
A34: K1 | B34: Személyi juttatások | C34: 222200 | D34: 4767 | E34: 0 | F34: =SUM(C34:E34) -> 226967 | G34: 226780 | H34: =SUM(H35:H36) -> 227422 | I34: =SUM(I35:I36) -> 0 | J34: =SUM(J35:J36) -> 8920 | K34: =SUM(K35:K36) -> -920 | L34: =SUM(L35:L36) -> -2550 | M34: =SUM(M35:M36) -> 232872 | N34: =SUM(N35:N36) -> 101911.7 | O34: =N34/M34 -> 0.43762969
A35: K11 | B35: Foglalkoztatottak személyi juttatásai | H35: 227422 | J35: =920+8000 -> 8920 | K35: =-920 -> -920 | L35: ='[1]Egyéb ei módosítás'!$D$45/1000 -> -2550 | M35: =SUM(H35:L35) -> 232872 | N35: 99238.485 | O35: =N35/M35 -> 0.42615035
A36: K12 | B36: Külső személyi juttatások | N36: 2673.216
A37: K2 | B37: Munkaadókat terhelő járulékok és szociális hozzájárulási adó | C37: 60185 | D37: 613 | F37: =SUM(C37:E37) -> 60798 | G37: 61417 | H37: 61478 | J37: =248+2486 -> 2734 | K37: -248 | M37: =SUM(H37:L37) -> 63964 | N37: 30561.396 | O37: =N37/M37 -> 0.47779057
A38: K3 | B38: Dologi kiadások | C38: 243015 | D38: =[3]összefogl!$Z$50 -> 0 | E38: 0 | F38: =SUM(C38:E38) -> 243015 | G38: 257027 | H38: =SUM(H39:H43) -> 237900 | I38: =SUM(I39:I43) -> 0 | J38: =SUM(J39:J43) -> 5000 | K38: =SUM(K39:K43) -> 0 | L38: =SUM(L39:L43) -> 1700 | M38: =SUM(M39:M43) -> 244600 | N38: =SUM(N39:N43) -> 118192.93 | O38: =N38/M38 -> 0.48320905
A39: K31 | B39: Készletbeszerzés | H39: 21900 | M39: =SUM(H39:L39) -> 21900 | N39: 13874.927 | O39: =N39/M39 -> 0.63355831
A40: K32 | B40: Kommunikációs szolgáltatások | H40: 5900 | M40: =SUM(H40:L40) -> 5900 | N40: 1435.068 | O40: =N40/M40 -> 0.24323186
A41: K33 | B41: Szolgáltatási kiadások | H41: 189550 | J41: 5000 | L41: ='[1]Egyéb ei módosítás'!$D$46/1000 -> 1700 | M41: =SUM(H41:L41) -> 196250 | N41: 94752.245 | O41: =N41/M41 -> 0.48281399
A42: K34 | B42: Kiküldetések, reklám- és propaganda kiadások | H42: 150 | M42: =SUM(H42:L42) -> 150 | N42: 0 | O42: =N42/M42 -> 0
A43: K35 | B43: Különféle befizetések és egyéb dologi kiadások | H43: 20400 | M43: =SUM(H43:L43) -> 20400 | N43: 8130.694 | O43: =N43/M43 -> 0.39856343
A44: K4 | B44: Ellátottak pénzbeli juttatásai | C44: 0 | F44: =SUM(C44:E44) -> 0 | H44: 0 | M44: =SUM(H44:L44) -> 0 | N44: 0
A45: K5 | B45: Egyéb működési célú kiadások | C45: =SUM(C47,C46) -> 0 | D45: =SUM(D47,D46) -> 0 | E45: =SUM(E47,E46) -> 0 | F45: =SUM(F47,F46) -> 0 | G45: =SUM(G47,G46) -> 0 | H45: =SUM(H47,H46) -> 0 | I45: =SUM(I47,I46) -> 0 | J45: =SUM(J47,J46) -> 0 | ... N45: =SUM(N47,N46) -> 0
A46: K50-K513 | B46: Ebből: egyéb működési célú támogatások | F46: =SUM(C46:E46) -> 0 | M46: =SUM(H46:L46) -> 0 | N46: 0
A47: K513 | B47: Ebből: tartalék | C47: =SUM(C48:C49) -> 0 | D47: =SUM(D48:D49) -> 0 | E47: =SUM(E48:E49) -> 0 | F47: =SUM(F48:F49) -> 0 | G47: =SUM(G48:G49) -> 0 | H47: =SUM(H48:H49) -> 0 | I47: =SUM(I48:I49) -> 0 | J47: =SUM(J48:J49) -> 0 | ... N47: =SUM(N48:N49) -> 0
B48: Működési tartalék | F48: =SUM(C48:E48) -> 0 | M48: =SUM(H48:L48) -> 0
B49: Felhalmozási tartalék | F49: =SUM(C49:E49) -> 0 | M49: =SUM(H49:L49) -> 0
A50: K6 | B50: Beruházások | D50: 2962 | F50: =SUM(C50:E50) -> 2962 | G50: 1517 | H50: 0 | I50: 0 | J50: 10300 | K50: =1678 -> 1678 | L50: ='[1]Egyéb ei módosítás'!$D$47/1000 -> 850 | M50: =SUM(H50:L50) -> 12828 | N50: 4480.752 | O50: =N50/M50 -> 0.34929467
A51: K7 | B51: Felújítások | F51: =SUM(C51:E51) -> 0 | H51: =SUM(H44:H50) -> 0 | I51: =SUM(I44:I50) -> 0 | J51: 0 | M51: =SUM(H51:L51) -> 0 | N51: 0
A52: K8 | B52: Egyéb felhalmozási célú kiadások | F52: =SUM(C52:E52) -> 0 | H52: 0 | I52: 0 | J52: 0 | M52: =SUM(H52:L52) -> 0 | N52: 0
B53: EGYENLEG (I.-II.) | C53: =C3-C33 -> 0 | D53: =D3-D33 -> -8342 | E53: =E3-E33 -> 0 | F53: =F3-F33 -> -8342 | G53: =G3-G33 -> 5645 | H53: =H3-H33 -> -2000 | I53: =I3-I33 -> 0 | J53: =J3-J33 -> -26954 | ... N53: =N3-N33 -> -6520.697 | O53: =N53/M53 -> 0.23467563
B54: Működési | C54: =C6+C8+C15+C31-C34-C37-C38-C44-C45-C50-C51 -> 0 | D54: =D6+D8+D15+D31-D34-D37-D38-D44-D45-D50-D51 -> -9542 | E54: =E6+E8+E15+E31-E34-E37-E38-E44-E45-E50-E51 -> 0 | F54: =F6+F8+F15+F31-F34-F37-F38-F44-F45-F50-F51 -> -9542 | G54: =G6+G8+G15+G31-G34-G37-G38-G44-G45-G50-G51 -> 1663 | H54: =H6+H8+H15+H31-H34-H37-H38-H44-H45-H50-H51 -> -2000 | I54: =I6+I8+I15+I31-I34-I37-I38-I44-I45-I50-I51 -> 0 | J54: =J6+J8+J15+J31-J34-J37-J38-J44-J45-J50-J51 -> -26954 | ... N54: =N6+N8+N15+N31-N34-N37-N38-N44-N45-N50-N51 -> -6520.697 | O54: =N54/M54 -> 0.23467563
B55: Felhalmozási | C55: =C7+C27+C32-C52 -> 0 | D55: =D7+D27+D32-D52 -> 1200 | E55: =E7+E27+E32-E52 -> 0 | F55: =F7+F27+F32-F52 -> 1200 | G55: =G7+G27+G32-G52 -> 3982 | H55: =H7+H27+H32-H52 -> 0 | I55: =I7+I27+I32-I52 -> 0 | J55: =J7+J27+J32-J52 -> 0 | ... N55: =N7+N27+N32-N52 -> 0
A56: III.B8 | B56: FINANSZÍROZÁSI BEVÉTELEK | C56: =C57+C65 -> 0 | D56: =D57+D65 -> 8342 | E56: =E57+E65 -> 0 | F56: =F57+F65 -> 8342 | G56: =G57+G65 -> 25550 | H56: =H57+H65 -> 2000 | I56: =I57+I65 -> 0 | J56: =J57+J65 -> 26954 | ... N56: =N57+N65 -> 26954.727 | O56: =N56/M56 -> 0.97008303
A57: B81 | B57: Belföldi finanszírozás bevételei | C57: =SUM(C58,C59,C60,C63,C64) -> 0 | D57: =SUM(D58,D59,D60,D63,D64) -> 8342 | E57: =SUM(E58,E59,E60,E63,E64) -> 0 | F57: =SUM(F58,F59,F60,F63,F64) -> 8342 | G57: =SUM(G58,G59,G60,G63,G64) -> 25550 | H57: =SUM(H58,H59,H60,H63,H64) -> 2000 | I57: =SUM(I58,I59,I60,I63,I64) -> 0 | J57: =SUM(J58,J59,J60,J63,J64) -> 26954 | ... N57: =SUM(N58,N59,N60,N63,N64) -> 26954.727 | O57: =N57/M57 -> 0.97008303
A58: B811 | B58: Hitel-, kölcsönfelvétel államháztartáson kívülről | F58: =SUM(C58:E58) -> 0 | H58: 0 | M58: =SUM(H58:L58) -> 0
A59: B812 | B59: Belföldi értékpapírok bevételei | F59: =SUM(C59:E59) -> 0 | H59: 0 | M59: =SUM(H59:L59) -> 0
A60: B813 | B60: Maradvány igénybevétele | C60: =SUM(C61:C62) -> 0 | D60: 5462 | E60: =SUM(E61:E62) -> 0 | F60: =SUM(F61:F62) -> 5462 | G60: =SUM(G61:G62) -> 5462 | H60: =SUM(H61:H62) -> 0 | I60: =SUM(I61:I62) -> 0 | J60: =SUM(J61:J62) -> 25786 | K60: =SUM(K61:K62) -> 0 | L60: =SUM(L61:L62) -> 0 | ... N60: =SUM(N61:N62) -> 25786.2 | O60: =N60/M60 -> 1.0000078
B61: Ebből: működési | D61: 5462 | F61: =SUM(C61:E61) -> 5462 | G61: 5462 | H61: 0 | I61: 0 | J61: 25786 | M61: =SUM(H61:L61) -> 25786 | N61: 25786.2 | O61: =N61/M61 -> 1.0000078
B62: fejlesztései | F62: =SUM(C62:E62) -> 0
A63: B814 | B63: Államháztartáson belüli megelőlegezések | F63: =SUM(C63:E63) -> 0 | G63: 16222
A64: B816 | B64: Központi, önkormányzattól kapott támogatás | D64: 2880 | F64: =SUM(C64:E64) -> 2880 | G64: 3866 | H64: 2000 | J64: 1168 | K64: -1168 | M64: =SUM(H64:L64) -> 2000 | N64: 1168.527 | O64: =N64/M64 -> 0.5842635
A65: B82 | B65: Külföldi finanszírozás bevételei | F65: =SUM(C65:E65) -> 0
A66: IV.K9 | B66: FINANSZÍROZÁSI KIADÁSOK | C66: =C67+C71 -> 0 | D66: =D67+D71 -> 0 | E66: =E67+E71 -> 0 | F66: =F67+F71 -> 0 | G66: =G67+G71 -> 0 | H66: =H67+H71 -> 0 | I66: =I67+I71 -> 0 | J66: =J67+J71 -> 0 | ... N66: =N67+N71 -> 0
A67: K91 | B67: Belföldi finanszírozás kiadásai | C67: =SUM(C68:C70) -> 0 | D67: =SUM(D68:D70) -> 0 | E67: =SUM(E68:E70) -> 0 | F67: =SUM(F68:F70) -> 0 | H67: =SUM(H68:H70) -> 0 | I67: =SUM(I68:I70) -> 0 | J67: =SUM(J68:J70) -> 0 | K67: =SUM(K68:K70) -> 0 | L67: =SUM(L68:L70) -> 0 | M67: =SUM(M68:M70) -> 0 | N67: =SUM(N68:N70) -> 0
A68: K911 | B68: Hitel-, kölcsöntörlesztés államháztartáson kívülre | F68: =SUM(C68:E68) -> 0 | M68: =SUM(H68:L68) -> 0
A69: K914 | B69: ÁH-n belüli megelőlegezések visszafizetése | F69: =SUM(C69:E69) -> 0 | M69: =SUM(H69:L69) -> 0
A70: K915 | B70: Központi, irányító szervi támogatások folyósítása | F70: =SUM(C70:E70) -> 0 | M70: =SUM(H70:L70) -> 0
A71: K92 | B71: Külföldi finanszírozás kiadásai | F71: =SUM(C71:E71) -> 0
B72: FINANSZÍROZÁSI EGYENLEG (III.-IV.) | C72: =C56-C66 -> 0 | D72: =D56-D66 -> 8342 | E72: =E56-E66 -> 0 | F72: =F56-F66 -> 8342 | G72: =G56-G66 -> 25550 | H72: =H56-H66 -> 2000 | I72: =I56-I66 -> 0 | J72: =J56-J66 -> 26954 | ... N72: =N56-N66 -> 26954.727 | O72: =N72/M72 -> 0.97008303
B73: BEVÉTELEK MINDÖSSZESEN (I.+III.) | C73: =C3+C56 -> 525400 | D73: =D3+D56 -> 8342 | E73: =E3+E56 -> 0 | F73: =F3+F56 -> 533742 | G73: =G3+G56 -> 577936 | H73: =H3+H56 -> 526800 | I73: =I3+I56 -> 0 | J73: =J3+J56 -> 26954 | ... N73: =N3+N56 -> 275580.81 | O73: =N73/M73 -> 0.49720136
B74: Ebből: Működési | C74: =C6+C8+C15+C31 -> 525400 | D74: =D6+D8+D15+D31 -> -1200 | E74: =E6+E8+E15+E31 -> 0 | F74: =F6+F8+F15+F31 -> 524200 | G74: =G6+G8+G15+G31 -> 548404 | H74: =H6+H8+H15+H31 -> 524800 | I74: =I6+I8+I15+I31 -> 0 | J74: =J6+J8+J15+J31 -> 0 | ... N74: =N6+N8+N15+N31 -> 248626.09 | O74: =N74/M74 -> 0.47224402
B75: Ebből: Felhalmozási | C75: =C7+C27+C32 -> 0 | D75: =D7+D27+D32 -> 1200 | E75: =E7+E27+E32 -> 0 | F75: =F7+F27+F32 -> 1200 | G75: =G7+G27+G32 -> 3982 | H75: =H7+H27+H32 -> 0 | I75: =I7+I27+I32 -> 0 | J75: =J7+J27+J32 -> 0 | ... N75: =N7+N27+N32 -> 0
B76: Ebből: Finanszírozási | C76: =C56 -> 0 | D76: =D56 -> 8342 | E76: =E56 -> 0 | F76: =F56 -> 8342 | G76: =G56 -> 25550 | H76: =H56 -> 2000 | I76: =I56 -> 0 | J76: =J56 -> 26954 | ... N76: =N56 -> 26954.727 | O76: =N76/M76 -> 0.97008303
B77: KIADÁSOK MINDÖSSZESEN (II.+IV.) | C77: =C33+C66 -> 525400 | D77: =D33+D66 -> 8342 | E77: =E33+E66 -> 0 | F77: =F33+F66 -> 533742 | G77: =G33+G66 -> 546741 | H77: =H33+H66 -> 526800 | I77: =I33+I66 -> 0 | J77: =J33+J66 -> 26954 | ... N77: =N33+N66 -> 255146.78 | O77: =N77/M77 -> 0.46033439
B78: Ebből: Működési | C78: =C34+C37+C38+C44+C45-C49 -> 525400 | D78: =D34+D37+D38+D44+D45-D49 -> 5380 | E78: =E34+E37+E38+E44+E45-E49 -> 0 | F78: =F34+F37+F38+F44+F45-F49 -> 530780 | G78: =G34+G37+G38+G44+G45-G49 -> 545224 | H78: =H34+H37+H38+H44+H45-H49 -> 526800 | I78: =I34+I37+I38+I44+I45-I49 -> 0 | J78: =J34+J37+J38+J44+J45-J49 -> 16654 | ... N78: =N34+N37+N38+N44+N45-N49 -> 250666.03 | O78: =N78/M78 -> 0.46296521
B79: Ebből: Felhalmozási | C79: =C49+C50+C51+C52 -> 0 | D79: =D49+D50+D51+D52 -> 2962 | E79: =E49+E50+E51+E52 -> 0 | F79: =F49+F50+F51+F52 -> 2962 | G79: =G49+G50+G51+G52 -> 1517 | H79: =H49+H50+H51+H52 -> 0 | I79: =I49+I50+I51+I52 -> 0 | J79: =J49+J50+J51+J52 -> 10300 | ... N79: =N49+N50+N51+N52 -> 4480.752 | O79: =N79/M79 -> 0.34929467
B80: Ebből: Finanszírozási | C80: =C66 -> 0 | D80: =D66 -> 0 | E80: =E66 -> 0 | F80: =F66 -> 0 | G80: =G66 -> 0 | H80: =H66 -> 0 | I80: =I66 -> 0 | J80: =J66 -> 0 | ... N80: =N66 -> 0
B81: KÖLTSÉGVETÉSI EGYENLEG | C81: =C73-C77 -> 0 | D81: =D73-D77 -> 0 | E81: =E73-E77 -> 0 | F81: =F73-F77 -> 0 | G81: =G73-G77 -> 31195 | H81: =H73-H77 -> 0 | I81: =I73-I77 -> 0 | J81: =J73-J77 -> 0 | ... N81: =N73-N77 -> 20434.03
B82: Ebből: Működési | C82: =C74-C78 -> 0 | D82: =D74-D78 -> -6580 | E82: =E74-E78 -> 0 | F82: =F74-F78 -> -6580 | G82: =G74-G78 -> 3180 | H82: =H74-H78 -> -2000 | I82: =I74-I78 -> 0 | J82: =J74-J78 -> -16654 | ... N82: =N74-N78 -> -2039.945 | O82: =N82/M82 -> 0.13637819
B83: Ebből: Felhalmozási | C83: =C75-C79 -> 0 | D83: =D75-D79 -> -1762 | E83: =E75-E79 -> 0 | F83: =F75-F79 -> -1762 | G83: =G75-G79 -> 2465 | H83: =H75-H79 -> 0 | I83: =I75-I79 -> 0 | J83: =J75-J79 -> -10300 | ... N83: =N75-N79 -> -4480.752 | O83: =N83/M83 -> 0.34929467
B84: Ebből: Finanszírozási | C84: =C76-C80 -> 0 | D84: =D76-D80 -> 8342 | E84: =E76-E80 -> 0 | F84: =F76-F80 -> 8342 | G84: =G72 -> 25550 | H84: =H72 -> 2000 | I84: =I72 -> 0 | J84: =J72 -> 26954 | K84: =K72 -> -1168 | L84: =L72 -> 0 | M84: =M72 -> 27786 | N84: =N72 -> 26954.727 | O84: =N84/M84 -> 0.97008303

Sheet PMK 2d
B1: Pest Megyei Könyvtár | C1: 2015 Előirányzat | H1: 2015 tény 2016.01.25. | I1: 2016 Előirányzat | O1: 2016 Tény 01-06. hó
C2: Kötelező feladatok | D2: 1. módosítás | E2: 2. módosítás 2015.09.15. | F2: Nem kötelező feladatok | G2: Összesen módosításokkal | I2: Kötelező feladatok | J2: Nem kötelező feladatok | K2: 1. módosítás | L2: 2. módosítás | M2: 3. módosítás | N2: Módosított előirányzat | O2: EFt | P2: %
A3: I. | B3: KÖLTSÉGVETÉSI BEVÉTELEK | C3: =C6+C7+C8+C15+C27+C31+C32 -> 13321 | D3: =D6+D7+D8+D15+D27+D31+D32 -> 0 | E3: =E6+E7+E8+E15+E27+E31+E32 -> 1500 | F3: =F6+F7+F8+F15+F27+F31+F32 -> 0 | G3: =G6+G7+G8+G15+G27+G31+G32 -> 14821 | H3: =H6+H7+H8+H15+H27+H31+H32 -> 18225 | I3: =I6+I7+I8+I15+I27+I31+I32 -> 10285 | J3: =J6+J7+J8+J15+J27+J31+J32 -> 0 | ... O3: =O6+O7+O8+O15+O27+O31+O32 -> 8537.067 | P3: =O3/N3 -> 0.45067133
A4: B11 | B4: Önkormányzatok működési támogatásai | G4: =SUM(C4:F4) -> 0
A5: B16 | B5: Egyéb működési célú támogatások ÁHT-n belülről OEP finanszírozás | G5: =SUM(C5:F5) -> 0 | H5: 4130 | K5: 3048 | M5: =('[1]Intézményi kezd. ei mód'!$C$16+'[1]Intézményi kezd. ei mód'!$C$19+'[1]Intézményi kezd. ei mód'!$C$22+'[1]Intézményi kezd. ei mód'!$C$25)/1000 -> 4603 | N5: =SUM(I5:M5) -> 7651 | O5: 3048 | P5: =O5/N5 -> 0.3983793
A6: B1 | B6: Működési célú támogatások államháztartáson belülről | C6: =SUM(C4:C5) -> 0 | D6: =SUM(D4:D5) -> 0 | F6: =SUM(F4:F5) -> 0 | G6: =SUM(G4:G5) -> 0 | H6: =SUM(H4:H5) -> 4130 | I6: =SUM(I4:I5) -> 0 | J6: =SUM(J4:J5) -> 0 | K6: =SUM(K4:K5) -> 3048 | L6: =SUM(L4:L5) -> 0 | M6: =SUM(M4:M5) -> 4603 | ... O6: =SUM(O4:O5) -> 3048 | P6: =O6/N6 -> 0.3983793
A7: B2 | B7: Felhalmozási célú támogatások államháztartáson belülről | E7: 1500 | G7: =SUM(C7:F7) -> 1500 | N7: =SUM(I7:M7) -> 0
A8: B3 | B8: Közhatalmi bevételek | C8: =SUM(C9,C10,C14) -> 0 | D8: =SUM(D9,D10,D14) -> 0 | F8: =SUM(F9,F10,F14) -> 0 | G8: =SUM(G9,G10,G14) -> 0 | H8: =SUM(H9,H10,H14) -> 0 | I8: =SUM(I9,I10,I14) -> 0 | J8: =SUM(J9,J10,J14) -> 0 | K8: =SUM(K9,K10,K14) -> 0 | L8: =SUM(L9,L10,L14) -> 0 | M8: =SUM(M9,M10,M14) -> 0 | N8: =SUM(N9,N10,N14) -> 0 | O8: =O9+O11+O12+O13+O14 -> 0
A9: B34 | B9: Vagyoni tipusú adók | G9: =SUM(C9:F9) -> 0 | N9: =SUM(I9:M9) -> 0
A10: B35 | B10: Termékek és szolgáltatások adói | C10: =SUM(C11:C13) -> 0 | F10: =SUM(F11:F13) -> 0 | G10: =SUM(G11:G13) -> 0 | I10: =SUM(I11:I13) -> 0 | J10: =SUM(J11:J13) -> 0 | K10: =SUM(K11:K13) -> 0 | L10: =SUM(L11:L13) -> 0 | N10: =SUM(N11:N13) -> 0 | O10: =SUM(O11:O13) -> 0
A11: B351 | B11: Értékesítési és forgalmi adók | G11: =SUM(C11:F11) -> 0 | N11: =SUM(I11:M11) -> 0
A12: B354 | B12: Gépjármű adók | G12: =SUM(C12:F12) -> 0 | N12: =SUM(I12:M12) -> 0
A13: B355 | B13: Egyéb áruhasználati és szolgáltatási adók | G13: =SUM(C13:F13) -> 0 | N13: =SUM(I13:M13) -> 0
A14: B36 | B14: Egyéb közhatalmi bevételek | G14: =SUM(C14:F14) -> 0 | N14: =SUM(I14:M14) -> 0
A15: B4 | B15: Működési bevételek | C15: =SUM(C16:C26) -> 13321 | D15: =SUM(D16:D26) -> 0 | F15: =SUM(F16:F26) -> 0 | G15: =SUM(G16:G26) -> 13321 | H15: =SUM(H16:H26) -> 13434 | I15: =SUM(I16:I26) -> 10285 | J15: =SUM(J16:J26) -> 0 | K15: =SUM(K16:K26) -> 0 | L15: =SUM(L16:L26) -> 1007 | M15: =SUM(M16:M26) -> 0 | ... O15: =SUM(O16:O26) -> 5448.448 | P15: =O15/N15 -> 0.48250514
A16: B401 | B16: Készletértékesítés ellenértéke | G16: =SUM(C16:F16) -> 0 | H16: 119 | I16: 0 | N16: =SUM(I16:M16) -> 0 | O16: 15.762
A17: B402 | B17: Szolgáltatások ellenértéke | C17: =4816+5440 -> 10256 | G17: =SUM(C17:F17) -> 10256 | H17: 10610 | I17: 7316 | N17: =SUM(I17:M17) -> 7316 | O17: 3448.788 | P17: =O17/N17 -> 0.4714035
A18: B403 | B18: Közvetített szolgáltatások ellenértéke | C18: 40 | G18: =SUM(C18:F18) -> 40 | H18: 18 | N18: =SUM(I18:M18) -> 0 | O18: 6.836
A19: B404 | B19: Tulajdonosi bevételek | G19: =SUM(C19:F19) -> 0 | N19: =SUM(I19:M19) -> 0 | O19: 0
A20: B405 | B20: Ellátási díjak | G20: =SUM(C20:F20) -> 0 | N20: =SUM(I20:M20) -> 0 | O20: 0
A21: B406 | B21: Kiszámlázott általános forgalmi adó | C21: 1335 | G21: =SUM(C21:F21) -> 1335 | H21: 811 | I21: 1279 | N21: =SUM(I21:M21) -> 1279 | O21: 404.533 | P21: =O21/N21 -> 0.31628851
A22: B407 | B22: Általános forgalmi adó visszatérítése | G22: =SUM(C22:F22) -> 0 | L22: 1007 | N22: =SUM(I22:M22) -> 1007 | O22: 1006.553
A23: B408 | B23: Kamatbevételek | G23: =SUM(C23:F23) -> 0 | H23: 621 | N23: =SUM(I23:M23) -> 0 | O23: 146.575
A24: B409 | B24: Egyéb pénzügyi műveletek bevételei | G24: =SUM(C24:F24) -> 0 | N24: =SUM(I24:M24) -> 0
A25: B410 | B25: Biztosító által fizetett kártérítés | H25: 164 | N25: =SUM(I25:M25) -> 0
A26: B411 | B26: Egyéb működési bevételek | C26: 1690 | G26: =SUM(C26:F26) -> 1690 | H26: 1091 | I26: 1690 | N26: =SUM(I26:M26) -> 1690 | O26: 419.401 | P26: =O26/N26 -> 0.24816627
A27: B5 | B27: Felhalmozási bevételek | C27: =C28+C29+C30 -> 0 | D27: =D28+D29+D30 -> 0 | F27: =F28+F29+F30 -> 0 | G27: =G28+G29+G30 -> 0 | H27: =H28+H29+H30 -> 0 | I27: =I28+I29+I30 -> 0 | J27: =J28+J29+J30 -> 0 | K27: =K28+K29+K30 -> 0 | L27: =L28+L29+L30 -> 0 | M27: =M28+M29+M30 -> 0 | ... O27: =O28+O29+O30 -> 0
A28: B51 | B28: Immateriális javak értékesítése | G28: =SUM(C28:F28) -> 0
A29: B52 | B29: Ingatlanok értékesítése | G29: =SUM(C29:F29) -> 0
A30: B53 | B30: Egyéb tárgyi eszközök értékesítése | G30: =SUM(C30:F30) -> 0
A31: B6 | B31: Működési célú átvett pénzeszköz | G31: =SUM(C31:F31) -> 0 | H31: 109 | N31: =SUM(I31:M31) -> 0
A32: B7 | B32: Felhalmozási célú átvett pénzeszköz | G32: =SUM(C32:F32) -> 0 | H32: 552 | N32: =SUM(I32:M32) -> 0 | O32: 40.619
A33: II. | B33: KÖLTSÉGVETÉSI KIADÁSOK | C33: =C34+C37+C38+C44+C45+C50+C51+C52 -> 203610 | D33: =D34+D37+D38+D44+D45+D50+D51+D52 -> 5016 | E33: =E34+E37+E38+E44+E45+E50+E51+E52 -> -2274 | F33: =F34+F37+F38+F44+F45+F50+F51+F52 -> 0 | G33: =G34+G37+G38+G44+G45+G50+G51+G52 -> 206352 | H33: =H34+H37+H38+H44+H45+H50+H51+H52 -> 206649 | I33: =I34+I37+I38+I44+I45+I50+I51+I52 -> 214907 | J33: =J34+J37+J38+J44+J45+J50+J51+J52 -> 0 | ... O33: =O34+O37+O38+O44+O45+O50+O51+O52 -> 98671.957 | P33: =O33/N33 -> 0.43077657
A34: K1 | B34: Személyi juttatások | C34: 67966 | D34: =[3]összefogl!$X$58 -> 554 | E34: =488-694 -> -206 | F34: 0 | G34: =SUM(C34:F34) -> 68314 | H34: 70646 | I34: =SUM(I35:I36) -> 72422 | K34: =SUM(K35:K36) -> 936 | L34: =SUM(L35:L36) -> 275 | M34: =SUM(M35:M36) -> 0 | N34: =SUM(N35:N36) -> 73633 | O34: =SUM(O35:O36) -> 33611.21 | P34: =O34/N34 -> 0.45646938
A35: K11 | B35: Foglalkoztatottak személyi juttatásai | I35: 71404 | K35: 936 | L35: =275 -> 275 | N35: =SUM(I35:M35) -> 72615 | O35: 33122.336 | P35: =O35/N35 -> 0.45613628
A36: K12 | B36: Külső személyi juttatások | I36: 1018 | N36: =SUM(I36:M36) -> 1018 | O36: 488.874 | P36: =O36/N36 -> 0.48022986
A37: K2 | B37: Munkaadókat terhelő járulékok és szociális hozzájárulási adó | C37: 19008 | D37: =[3]összefogl!$Y$58 -> 150 | E37: =132-193 -> -61 | G37: =SUM(C37:F37) -> 19097 | H37: 19498 | I37: 20304 | K37: =253 -> 253 | L37: =74 -> 74 | N37: =SUM(I37:M37) -> 20631 | O37: 9140.498 | P37: =O37/N37 -> 0.44304677
A38: K3 | B38: Dologi kiadások | C38: 64466 | D38: =[3]összefogl!$Z$58 -> 3698 | E38: =1394+106-3507 -> -2007 | F38: 0 | G38: =SUM(C38:F38) -> 66157 | H38: 53327 | I38: =SUM(I39:I43) -> 60900 | J38: =SUM(J39:J43) -> 0 | K38: =SUM(K39:K43) -> 3673 | L38: =SUM(L39:L43) -> -2875 | M38: =SUM(M39:M43) -> 1715 | N38: =SUM(N39:N43) -> 63413 | O38: =SUM(O39:O43) -> 20305.632 | P38: =O38/N38 -> 0.32021245
A39: K31 | B39: Készletbeszerzés | I39: 13414 | N39: =SUM(I39:M39) -> 13414 | O39: 2186.012 | P39: =O39/N39 -> 0.16296496
A40: K32 | B40: Kommunikációs szolgáltatások | I40: 4036 | N40: =SUM(I40:M40) -> 4036 | O40: 5951.821 | P40: =O40/N40 -> 1.4746831
A41: K33 | B41: Szolgáltatási kiadások | I41: 27714 | K41: =484+625+3048-484 -> 3673 | L41: =466 -> 466 | M41: =('[1]Intézményi kezd. ei mód'!$D$20+'[1]Intézményi kezd. ei mód'!$D$27+'[1]Intézményi kezd. ei mód'!$D$28+'[1]Intézményi kezd. ei mód'!$D$29+'[1]Intézményi kezd. ei mód'!$D$23)/1000 -> 1715 | N41: =SUM(I41:M41) -> 33568 | O41: 8482.515 | P41: =O41/N41 -> 0.25269647
A42: K34 | B42: Kiküldetések, reklám- és propaganda kiadások | I42: 1710 | N42: =SUM(I42:M42) -> 1710 | O42: 26.386 | P42: =O42/N42 -> 0.015430409
A43: K35 | B43: Különféle befizetések és egyéb dologi kiadások | I43: 14026 | L43: =-3341 -> -3341 | N43: =SUM(I43:M43) -> 10685 | O43: 3658.898 | P43: =O43/N43 -> 0.34243313
A44: K4 | B44: Ellátottak pénzbeli juttatásai | G44: =SUM(C44:F44) -> 0 | I44: 0 | N44: =SUM(I44:M44) -> 0 | O44: 0
A45: K5 | B45: Egyéb működési célú kiadások | C45: =SUM(C47,C46) -> 0 | D45: =SUM(D47,D46) -> 0 | F45: =SUM(F47,F46) -> 0 | G45: =SUM(G47,G46) -> 0 | H45: =SUM(H47,H46) -> 1170 | I45: =SUM(I47,I46) -> 0 | J45: =SUM(J47,J46) -> 0 | K45: =SUM(K47,K46) -> 0 | L45: =SUM(L47,L46) -> 0 | M45: =SUM(M47,M46) -> 0 | ... O45: =SUM(O47,O46) -> 113.885
A46: K50-K513 | B46: Ebből: egyéb működési célú támogatások | G46: =SUM(C46:F46) -> 0 | H46: 1170 | I46: 0 | N46: =SUM(I46:M46) -> 0 | O46: 113.885
A47: K513 | B47: Ebből: tartalék | C47: =SUM(C48:C49) -> 0 | D47: =SUM(D48:D49) -> 0 | F47: =SUM(F48:F49) -> 0 | G47: =SUM(G48:G49) -> 0 | I47: =SUM(I48:I49) -> 0 | N47: =SUM(I47:M47) -> 0 | O47: =SUM(O48:O49) -> 0
B48: Működési tartalék | G48: =SUM(C48:F48) -> 0 | I48: 0 | N48: =SUM(I48:M48) -> 0
B49: Felhalmozási tartalék | G49: =SUM(C49:F49) -> 0 | I49: 0 | N49: =SUM(I49:M49) -> 0
A50: K6 | B50: Beruházások | C50: 52170 | D50: =[3]összefogl!$AF$58 -> 614 | G50: =SUM(C50:F50) -> 52784 | H50: 62008 | I50: 61281 | K50: 1000 | L50: =1862+4348 -> 6210 | M50: =('[1]Intézményi kezd. ei mód'!$D$17+'[1]Intézményi kezd. ei mód'!$D$26)/1000 -> 2888 | N50: =SUM(I50:M50) -> 71379 | O50: 35500.732 | P50: =O50/N50 -> 0.49735541
A51: K7 | B51: Felújítások | G51: =SUM(C51:F51) -> 0 | I51: 0 | N51: =SUM(I51:M51) -> 0 | O51: 0
A52: K8 | B52: Egyéb felhalmozási célú kiadások | G52: =SUM(C52:F52) -> 0 | I52: 0 | N52: =SUM(I52:M52) -> 0 | O52: 0
B53: EGYENLEG (I.-II.) | C53: =C3-C33 -> -190289 | D53: =D3-D33 -> -5016 | E53: =E3-E33 -> 3774 | F53: =F3-F33 -> 0 | G53: =G3-G33 -> -191531 | H53: =H3-H33 -> -188424 | I53: =I3-I33 -> -204622 | J53: =J3-J33 -> 0 | ... O53: =O3-O33 -> -90134.89 | P53: =O53/N53 -> 0.42898293
B54: Működési | C54: =C6+C8+C15+C31-C34-C37-C38-C44-C45-C50-C51 -> -190289 | D54: =D6+D8+D15+D31-D34-D37-D38-D44-D45-D50-D51 -> -5016 | E54: =E6+E8+E15+E31-E34-E37-E38-E44-E45-E50-E51 -> 2274 | F54: =F6+F8+F15+F31-F34-F37-F38-F44-F45-F50-F51 -> 0 | G54: =G6+G8+G15+G31-G34-G37-G38-G44-G45-G50-G51 -> -193031 | H54: =H6+H8+H15+H31-H34-H37-H38-H44-H45-H50-H51 -> -188976 | I54: =I6+I8+I15+I31-I34-I37-I38-I44-I45-I50-I51 -> -204622 | J54: =J6+J8+J15+J31-J34-J37-J38-J44-J45-J50-J51 -> 0 | ... O54: =O6+O8+O15+O31-O34-O37-O38-O44-O45-O50-O51 -> -90175.509 | P54: =O54/N54 -> 0.42917625
B55: Felhalmozási | C55: =C7+C27+C32-C52 -> 0 | D55: =D7+D27+D32-D52 -> 0 | E55: =E7+E27+E32-E52 -> 1500 | F55: =F7+F27+F32-F52 -> 0 | G55: =G7+G27+G32-G52 -> 1500 | H55: =H7+H27+H32-H52 -> 552 | I55: =I7+I27+I32-I52 -> 0 | J55: =J7+J27+J32-J52 -> 0 | ... O55: =O7+O27+O32-O52 -> 40.619
A56: III.B8 | B56: FINANSZÍROZÁSI BEVÉTELEK | C56: =C57+C65 -> 190289 | D56: =D57+D65 -> 5016 | E56: =E57+E65 -> -3774 | F56: =F57+F65 -> 0 | G56: =G57+G65 -> 191531 | H56: =H57+H65 -> 193807 | I56: =I57+I65 -> 204622 | J56: =J57+J65 -> 0 | ... O56: =O57+O65 -> 130176.11 | P56: =O56/N56 -> 0.61955288
A57: B81 | B57: Belföldi finanszírozás bevételei | C57: =SUM(C58,C59,C60,C63,C64) -> 190289 | D57: =SUM(D58,D59,D60,D63,D64) -> 5016 | E57: =SUM(E58,E59,E60,E63,E64) -> -3774 | F57: =SUM(F58,F59,F60,F63,F64) -> 0 | G57: =SUM(G58,G59,G60,G63,G64) -> 191531 | H57: =SUM(H58,H59,H60,H63,H64) -> 193807 | I57: =SUM(I58,I59,I60,I63,I64) -> 204622 | J57: =SUM(J58,J59,J60,J63,J64) -> 0 | ... O57: =SUM(O58,O59,O60,O63,O64) -> 130176.11 | P57: =O57/N57 -> 0.61955288
A58: B811 | B58: Hitel-, kölcsönfelvétel államháztartáson kívülről | G58: =SUM(C58:F58) -> 0 | N58: =SUM(I58:M58) -> 0
A59: B812 | B59: Belföldi értékpapírok bevételei | G59: =SUM(C59:F59) -> 0 | N59: =SUM(I59:M59) -> 0
A60: B813 | B60: Maradvány igénybevétele | C60: =SUM(C61:C62) -> 0 | D60: =SUM(D61:D62) -> 3198 | F60: =SUM(F61:F62) -> 0 | G60: =SUM(G61:G62) -> 3198 | H60: =SUM(H61:H62) -> 4368 | I60: =SUM(I61:I62) -> 0 | K60: =K62+K61 -> 6051 | L60: =L62+L61 -> 0 | M60: =M62+M61 -> 0 | N60: =N62+N61 -> 6051 | O60: =SUM(O61:O62) -> 6051 | P60: =O60/N60 -> 1
B61: Ebből: működési | D61: 3198 | G61: =SUM(C61:F61) -> 3198 | H61: 4368 | K61: 6051 | N61: =SUM(I61:M61) -> 6051 | O61: 6051 | P61: =O61/N61 -> 1
B62: fejlesztései | G62: =SUM(C62:F62) -> 0 | N62: =SUM(I62:M62) -> 0
A63: B814 | B63: Államháztartáson belüli megelőlegezések | G63: =SUM(C63:F63) -> 0
A64: B816 | B64: Központi, önkormányzattól kapott támogatás | C64: 190289 | D64: =[3]összefogl!$S$58 -> 1818 | E64: =620-4394 -> -3774 | G64: =SUM(C64:F64) -> 188333 | H64: 189439 | I64: =169706+34916 -> 204622 | K64: -3237 | L64: =2328+349 -> 2677 | N64: =SUM(I64:M64) -> 204062 | O64: 124125.11 | P64: =O64/N64 -> 0.60827157
A65: B82 | B65: Külföldi finanszírozás bevételei | G65: =SUM(C65:F65) -> 0
A66: IV.K9 | B66: FINANSZÍROZÁSI KIADÁSOK | C66: =C67+C71 -> 0 | D66: =D67+D71 -> 0 | E66: =E67+E71 -> 0 | F66: =F67+F71 -> 0 | G66: =G67+G71 -> 0 | H66: =H67+H71 -> 0 | I66: =I67+I71 -> 0 | J66: =J67+J71 -> 0 | ... O66: =O67+O71 -> 0
A67: K91 | B67: Belföldi finanszírozás kiadásai | C67: =SUM(C68:C70) -> 0 | D67: =SUM(D68:D70) -> 0 | F67: =SUM(F68:F70) -> 0 | G67: =SUM(G68:G70) -> 0 | I67: =SUM(I68:I70) -> 0 | O67: =SUM(O68:O70) -> 0
A68: K911 | B68: Hitel-, kölcsöntörlesztés államháztartáson kívülre | G68: =SUM(C68:F68) -> 0
A69: K914 | B69: ÁH-n belüli megelőlegezések visszafizetése | G69: =SUM(C69:F69) -> 0
A70: K915 | B70: Központi, irányító szervi támogatások folyósítása | G70: =SUM(C70:F70) -> 0
A71: K92 | B71: Külföldi finanszírozás kiadásai | G71: =SUM(C71:F71) -> 0
B72: FINANSZÍROZÁSI EGYENLEG (III.-IV.) | C72: =C56-C66 -> 190289 | D72: =D56-D66 -> 5016 | E72: =E56-E66 -> -3774 | F72: =F56-F66 -> 0 | G72: =G56-G66 -> 191531 | H72: =H56-H66 -> 193807 | I72: =I56-I66 -> 204622 | J72: =J56-J66 -> 0 | ... O72: =O56-O66 -> 130176.11 | P72: =O72/N72 -> 0.61955288
B73: BEVÉTELEK MINDÖSSZESEN (I.+III.) | C73: =C3+C56 -> 203610 | D73: =D3+D56 -> 5016 | E73: =E3+E56 -> -2274 | F73: =F3+F56 -> 0 | G73: =G3+G56 -> 206352 | H73: =H3+H56 -> 212032 | I73: =I3+I56 -> 214907 | J73: =J3+J56 -> 0 | ... O73: =O3+O56 -> 138713.18 | P73: =O73/N73 -> 0.60558632
B74: Ebből: Működési | C74: =C6+C8+C15+C31 -> 13321 | D74: =D6+D8+D15+D31 -> 0 | E74: =E6+E8+E15+E31 -> 0 | F74: =F6+F8+F15+F31 -> 0 | G74: =G6+G8+G15+G31 -> 13321 | H74: =H6+H8+H15+H31+H61 -> 22041 | I74: =I6+I8+I15+I31+I61 -> 10285 | J74: =J6+J8+J15+J31+J61 -> 0 | K74: =K6+K8+K15+K31+K61 -> 9099 | L74: =L6+L8+L15+L31+L61 -> 1007 | M74: =M6+M8+M15+M31+M61 -> 4603 | N74: =N6+N8+N15+N31+N61 -> 24994 | O74: =O6+O8+O15+O31 -> 8496.448 | P74: =O74/N74 -> 0.33993951
B75: Ebből: Felhalmozási | C75: =C7+C27+C32 -> 0 | D75: =D7+D27+D32 -> 0 | E75: =E7+E27+E32 -> 1500 | F75: =F7+F27+F32 -> 0 | G75: =G7+G27+G32 -> 1500 | H75: =H7+H27+H32+H62 -> 552 | I75: =I7+I27+I32+I62 -> 0 | J75: =J7+J27+J32+J62 -> 0 | K75: =K7+K27+K32+K62 -> 0 | L75: =L7+L27+L32+L62 -> 0 | M75: =M7+M27+M32+M62 -> 0 | N75: =N7+N27+N32+N62 -> 0 | O75: =O7+O27+O32 -> 40.619
B76: Ebből: Finanszírozási | C76: =C56 -> 190289 | D76: =D56 -> 5016 | E76: =E56 -> -3774 | F76: =F56 -> 0 | G76: =G56 -> 191531 | H76: =H56-H60 -> 189439 | I76: =I56-I60 -> 204622 | J76: =J56-J60 -> 0 | K76: =K56-K60 -> -3237 | L76: =L56-L60 -> 2677 | M76: =M56-M60 -> 0 | N76: =N56-N60 -> 204062 | O76: =O56 -> 130176.11 | P76: =O76/N76 -> 0.63792433
B77: KIADÁSOK MINDÖSSZESEN (II.+IV.) | C77: =C33+C66 -> 203610 | D77: =D33+D66 -> 5016 | E77: =E33+E66 -> -2274 | F77: =F33+F66 -> 0 | G77: =G33+G66 -> 206352 | H77: =H33+H66 -> 206649 | I77: =I33+I66 -> 214907 | J77: =J33+J66 -> 0 | ... O77: =O33+O66 -> 98671.957 | P77: =O77/N77 -> 0.43077657
B78: Ebből: Működési | C78: =C34+C37+C38+C44+C45-C49 -> 151440 | D78: =D34+D37+D38+D44+D45-D49 -> 4402 | E78: =E34+E37+E38+E44+E45-E49 -> -2274 | F78: =F34+F37+F38+F44+F45-F49 -> 0 | G78: =G34+G37+G38+G44+G45-G49 -> 153568 | H78: =H34+H37+H38+H44+H45-H49 -> 144641 | I78: =I34+I37+I38+I44+I45-I49 -> 153626 | J78: =J34+J37+J38+J44+J45-J49 -> 0 | ... O78: =O34+O37+O38+O44+O45-O49 -> 63171.225 | P78: =O78/N78 -> 0.4006369
B79: Ebből: Felhalmozási | C79: =C49+C50+C51+C52 -> 52170 | D79: =D49+D50+D51+D52 -> 614 | E79: =E49+E50+E51+E52 -> 0 | F79: =F49+F50+F51+F52 -> 0 | G79: =G49+G50+G51+G52 -> 52784 | H79: =H49+H50+H51+H52 -> 62008 | I79: =I49+I50+I51+I52 -> 61281 | J79: =J49+J50+J51+J52 -> 0 | ... O79: =O49+O50+O51+O52 -> 35500.732 | P79: =O79/N79 -> 0.49735541
B80: Ebből: Finanszírozási | C80: =C66 -> 0 | D80: =D66 -> 0 | E80: =E66 -> 0 | F80: =F66 -> 0 | G80: =G66 -> 0 | H80: =H66 -> 0 | I80: =I66 -> 0 | J80: =J66 -> 0 | ... O80: =O66 -> 0
B81: KÖLTSÉGVETÉSI EGYENLEG | C81: =C73-C77 -> 0 | D81: =D73-D77 -> 0 | E81: =E73-E77 -> 0 | F81: =F73-F77 -> 0 | G81: =G73-G77 -> 0 | H81: =H73-H77 -> 5383 | I81: =I73-I77 -> 0 | J81: =J73-J77 -> 0 | ... O81: =O73-O77 -> 40041.224
B82: Ebből: Működési | C82: =C74-C78 -> -138119 | D82: =D74-D78 -> -4402 | E82: =E74-E78 -> 2274 | F82: =F74-F78 -> 0 | G82: =G74-G78 -> -140247 | H82: =H74-H78 -> -122600 | I82: =I74-I78 -> -143341 | J82: =J74-J78 -> 0 | ... O82: =O74-O78 -> -54674.777 | P82: =O82/N82 -> 0.4120707
B83: Ebből: Felhalmozási | C83: =C75-C79 -> -52170 | D83: =D75-D79 -> -614 | E83: =E75-E79 -> 1500 | F83: =F75-F79 -> 0 | G83: =G75-G79 -> -51284 | H83: =H75-H79 -> -61456 | I83: =I75-I79 -> -61281 | J83: =J75-J79 -> 0 | ... O83: =O75-O79 -> -35460.113 | P83: =O83/N83 -> 0.49678635
B84: Ebből: Finanszírozási | C84: =C76-C80 -> 190289 | D84: =D76-D80 -> 5016 | E84: =E76-E80 -> -3774 | F84: =F76-F80 -> 0 | G84: =G76-G80 -> 191531 | H84: =H72-H61-H62 -> 189439 | I84: =I72-I61-I62 -> 204622 | J84: =J72-J61-J62 -> 0 | K84: =K72-K61-K62 -> -3237 | L84: =L72-L61-L62 -> 2677 | M84: =M72-M61-M62 -> 0 | N84: =N72-N61-N62 -> 204062 | O84: =O72 -> 130176.11 | P84: =O84/N84 -> 0.63792433

Sheet FMC 2e
B1: Ferenczy Múzeumi Centrum | C1: 2015 Előirányzat | H1: 2015 tény 2016.01.25. | I1: 2016 Előirányzat | O1: 2016 Tény 01-06. hó
C2: Kötelező feladatok | D2: 1. módosítás | E2: 2. módosítzás 2015.09.15. | F2: Nem kötelező feladatok | G2: Összesen módosításokkal | I2: Kötelező feladatok | J2: Nem kötelező feladatok | K2: 1. módosítás | L2: 2. módosítás | M2: 3. módosítás | N2: Módosított előirányzat | O2: EFt | P2: %
A3: I. | B3: KÖLTSÉGVETÉSI BEVÉTELEK | C3: =C6+C7+C8+C15+C27+C31+C32 -> 286981 | D3: =D6+D7+D8+D15+D27+D31+D32 -> 0 | E3: =E6+E7+E8+E15+E27+E31+E32 -> 52000 | F3: =F6+F7+F8+F15+F27+F31+F32 -> 0 | G3: =G6+G7+G8+G15+G27+G31+G32 -> 338981 | H3: =H6+H7+H8+H15+H27+H31+H32 -> 237767 | I3: =I6+I7+I8+I15+I27+I31+I32 -> 168198 | J3: =J6+J7+J8+J15+J27+J31+J32 -> 0 | ... O3: =O6+O7+O8+O15+O27+O31+O32 -> 51413.1 | P3: =O3/N3 -> 0.27226144
A4: B11 | B4: Önkormányzatok működési támogatásai | G4: =SUM(C4:F4) -> 0 | N4: =SUM(I4:M4) -> 0
A5: B16 | B5: Egyéb működési célú támogatások ÁHT-n belülről OEP finanszírozás | E5: 34140 | G5: =SUM(C5:F5) -> 34140 | H5: 57187 | M5: ='[1]Egyéb ei módosítás'!$C$37/1000 -> 3800 | N5: =SUM(I5:M5) -> 3800 | O5: 2000
A6: B1 | B6: Működési célú támogatások államháztartáson belülről | C6: =SUM(C4:C5) -> 0 | D6: =SUM(D4:D5) -> 0 | E6: =SUM(E4:E5) -> 34140 | F6: =SUM(F4:F5) -> 0 | G6: =SUM(G4:G5) -> 34140 | H6: =SUM(H4:H5) -> 57187 | I6: =SUM(I4:I5) -> 0 | J6: =SUM(J4:J5) -> 0 | ... O6: =SUM(O4:O5) -> 2000
A7: B2 | B7: Felhalmozási célú támogatások államháztartáson belülről | C7: =48000+42557 -> 90557 | E7: =13860+600+700+200+2500-9450 -> 8410 | G7: =SUM(C7:F7) -> 98967 | H7: 58225 | I7: 9000 | N7: =SUM(I7:M7) -> 9000 | O7: 3445.075 | P7: =O7/N7 -> 0.38278611
A8: B3 | B8: Közhatalmi bevételek | C8: =SUM(C9,C10,C14) -> 0 | D8: =SUM(D9,D10,D14) -> 0 | F8: =SUM(F9,F10,F14) -> 0 | G8: =SUM(G9,G10,G14) -> 0 | H8: =SUM(H9,H10,H14) -> 0 | I8: =SUM(I9,I10,I14) -> 0 | J8: =J9+J11+J12+J13+J14 -> 0 | K8: =K9+K11+K12+K13+K14 -> 0 | L8: =L9+L11+L12+L13+L14 -> 0 | M8: =M9+M11+M12+M13+M14 -> 0 | N8: =N9+N11+N12+N13+N14 -> 0 | O8: =O9+O11+O12+O13+O14 -> 0
A9: B34 | B9: Vagyoni tipusú adók | G9: =SUM(C9:F9) -> 0
A10: B35 | B10: Termékek és szolgáltatások adói | C10: =SUM(C11:C13) -> 0 | F10: =SUM(F11:F13) -> 0 | G10: =SUM(G11:G13) -> 0 | I10: =SUM(I11:I13) -> 0 | J10: =SUM(J11:J13) -> 0 | K10: =SUM(K11:K13) -> 0 | L10: =SUM(L11:L13) -> 0 | M10: =SUM(M11:M13) -> 0 | N10: =SUM(N11:N13) -> 0 | O10: =SUM(O11:O13) -> 0
A11: B351 | B11: Értékesítési és forgalmi adók | G11: =SUM(C11:F11) -> 0
A12: B354 | B12: Gépjármű adók | G12: =SUM(C12:F12) -> 0
A13: B355 | B13: Egyéb áruhasználati és szolgáltatási adók | G13: =SUM(C13:F13) -> 0
A14: B36 | B14: Egyéb közhatalmi bevételek | G14: =SUM(C14:F14) -> 0
A15: B4 | B15: Működési bevételek | C15: =SUM(C16:C26) -> 196424 | D15: =SUM(D16:D26) -> 0 | E15: =SUM(E16:E26) -> 9450 | F15: =SUM(F16:F26) -> 0 | G15: =SUM(G16:G26) -> 205874 | H15: =SUM(H16:H26) -> 122303 | I15: =SUM(I16:I26) -> 159198 | J15: =SUM(J16:J26) -> 0 | ... O15: =SUM(O16:O26) -> 45965.025 | P15: =O15/N15 -> 0.2887341
A16: B401 | B16: Készletértékesítés ellenértéke | C16: 6000 | G16: =SUM(C16:F16) -> 6000 | H16: 3224 | I16: 3800 | N16: =SUM(I16:M16) -> 3800 | O16: 790.256 | P16: =O16/N16 -> 0.20796211
A17: B402 | B17: Szolgáltatások ellenértéke | C17: =142215+9500 -> 151715 | G17: =SUM(C17:F17) -> 151715 | H17: 94593 | I17: 134200 | K17: -3 | N17: =SUM(I17:M17) -> 134197 | O17: 35686.811 | P17: =O17/N17 -> 0.26592853
A18: B403 | B18: Közvetített szolgáltatások ellenértéke | G18: =SUM(C18:F18) -> 0 | H18: 473 | N18: =SUM(I18:M18) -> 0 | O18: 44.047
A19: B404 | B19: Tulajdonosi bevételek | G19: =SUM(C19:F19) -> 0 | H19: 30 | N19: =SUM(I19:M19) -> 0
A20: B405 | B20: Ellátási díjak | G20: =SUM(C20:F20) -> 0 | N20: =SUM(I20:M20) -> 0
A21: B406 | B21: Kiszámlázott általános forgalmi adó | C21: 38709 | G21: =SUM(C21:F21) -> 38709 | H21: 23097 | I21: 21198 | N21: =SUM(I21:M21) -> 21198 | O21: 8595.175 | P21: =O21/N21 -> 0.40547104
A22: B407 | B22: Általános forgalmi adó visszatérítése | G22: =SUM(C22:F22) -> 0 | N22: =SUM(I22:M22) -> 0
A23: B408 | B23: Kamatbevételek | G23: =SUM(C23:F23) -> 0 | H23: 300 | N23: =SUM(I23:M23) -> 0 | O23: 488.38
A24: B409 | B24: Egyéb pénzügyi műveletek bevételei | G24: =SUM(C24:F24) -> 0 | N24: =SUM(I24:M24) -> 0
A25: B410 | B25: Biztosító által fizetett kártérítés | H25: 347 | N25: =SUM(I25:M25) -> 0
A26: B411 | B26: Egyéb működési bevételek | E26: 9450 | G26: =SUM(C26:F26) -> 9450 | H26: 239 | N26: =SUM(I26:M26) -> 0 | O26: 360.356
A27: B5 | B27: Felhalmozási bevételek | C27: =C28+C29+C30 -> 0 | D27: =D28+D29+D30 -> 0 | E27: =E28+E29+E30 -> 0 | F27: =F28+F29+F30 -> 0 | G27: =G28+G29+G30 -> 0 | H27: =H28+H29+H30 -> 52 | I27: =I28+I29+I30 -> 0 | J27: =J28+J29+J30 -> 0 | K27: 3 | L27: =L28+L29+L30 -> 0 | M27: =M28+M29+M30 -> 6445 | N27: =N28+N29+N30 -> 6448 | O27: =O28+O29+O30 -> 3 | P27: =O27/N27 -> 0.00046526055
A28: B51 | B28: Immateriális javak értékesítése | G28: =SUM(C28:F28) -> 0 | N28: =SUM(I28:M28) -> 0
A29: B52 | B29: Ingatlanok értékesítése | G29: =SUM(C29:F29) -> 0 | N29: =SUM(I29:M29) -> 0
A30: B53 | B30: Egyéb tárgyi eszközök értékesítése | G30: =SUM(C30:F30) -> 0 | H30: 52 | K30: 3 | M30: ='[1]Egyéb ei módosítás'!$C$38/1000 -> 6445 | N30: =SUM(I30:M30) -> 6448 | O30: 3 | P30: =O30/N30 -> 0.00046526055
A31: B6 | B31: Működési célú átvett pénzeszköz | G31: =SUM(C31:F31) -> 0 | M31: ='[1]Egyéb ei módosítás'!$C$39/1000 -> 10394.241 | N31: =SUM(I31:M31) -> 10394.241
A32: B7 | B32: Felhalmozási célú átvett pénzeszköz | G32: =SUM(C32:F32) -> 0 | N32: =SUM(I32:M32) -> 0
A33: II. | B33: KÖLTSÉGVETÉSI KIADÁSOK | C33: =C34+C37+C38+C44+C45+C50+C51+C52 -> 623459 | D33: =D34+D37+D38+D44+D45+D50+D51+D52 -> 12471 | E33: =E34+E37+E38+E44+E45+E50+E51+E52 -> 56700 | F33: =F34+F37+F38+F44+F45+F50+F51+F52 -> 0 | G33: =G34+G37+G38+G44+G45+G50+G51+G52 -> 692630 | H33: =H34+H37+H38+H44+H45+H50+H51+H52 -> 760868 | I33: =I34+I37+I38+I44+I45+I50+I51+I52 -> 504676 | J33: =J34+J37+J38+J44+J45+J50+J51+J52 -> 0 | K33: =K34+K37+K38+K45+K50+K51+K52 -> 54135 | L33: =L34+L37+L38+L44+L45+L50+L51+L52 -> 21910 | M33: =M34+M37+M38+M44+M45+M50+M51+M52 -> 59979.241 | N33: =N34+N37+N38+N44+N45+N50+N51+N52 -> 640700.24 | O33: =O34+O37+O38+O44+O45+O50+O51+O52 -> 339581.5 | P33: =O33/N33 -> 0.53001618
A34: K1 | B34: Személyi juttatások | C34: 346262 | D34: =[3]összefogl!$X$68 -> 8804 | E34: 1760 | F34: 0 | G34: =SUM(C34:F34) -> 356826 | H34: 327753 | I34: =SUM(I35:I36) -> 294352 | J34: =SUM(J35:J36) -> 0 | K34: =SUM(K35:K36) -> 2359 | L34: =SUM(L35:L36) -> -1697 | M34: =SUM(M35:M36) -> 0 | N34: =SUM(N35:N36) -> 295014 | O34: =SUM(O35:O36) -> 177068.19 | P34: =O34/N34 -> 0.60020268
A35: K11 | B35: Foglalkoztatottak személyi juttatásai | I35: 288152 | K35: 2359 | L35: =-18929+16600+632 -> -1697 | N35: =SUM(I35:M35) -> 288814 | O35: 168579.92 | P35: =O35/N35 -> 0.5836972
A36: K12 | B36: Külső személyi juttatások | I36: 6200 | N36: =SUM(I36:M36) -> 6200 | O36: 8488.269 | P36: =O36/N36 -> 1.3690756
A37: K2 | B37: Munkaadókat terhelő járulékok és szociális hozzájárulási adó | C37: 87996 | D37: =[3]összefogl!$Y$68 -> 2377 | E37: 538 | G37: =SUM(C37:F37) -> 90911 | H37: 85952 | I37: 74704 | K37: =637 -> 637 | L37: =4507+171 -> 4678 | M37: 0 | N37: =SUM(I37:M37) -> 80019 | O37: 49006.627 | P37: =O37/N37 -> 0.61243738
A38: K3 | B38: Dologi kiadások | C38: 91134 | D38: 1290 | E38: =33042+9450 -> 42492 | F38: 0 | G38: =SUM(C38:F38) -> 134916 | H38: 223411 | I38: =SUM(I39:I43) -> 126620 | J38: =SUM(J39:J43) -> 0 | K38: =SUM(K39:K43) -> 26084 | L38: =SUM(L39:L43) -> 17296 | M38: =SUM(M39:M43) -> 48407.89 | N38: =SUM(N39:N43) -> 218407.89 | O38: =SUM(O39:O43) -> 81924.138 | P38: =O38/N38 -> 0.37509697
A39: K31 | B39: Készletbeszerzés | I39: 15485 | N39: =SUM(I39:M39) -> 15485 | O39: 11526.364 | P39: =O39/N39 -> 0.74435673
A40: K32 | B40: Kommunikációs szolgáltatások | I40: 5307 | N40: =SUM(I40:M40) -> 5307 | O40: 3337.429 | P40: =O40/N40 -> 0.628873
A41: K33 | B41: Szolgáltatási kiadások | I41: 76226 | K41: 26084 | L41: =17296 -> 17296 | M41: =('[1]Állami támogatás'!$D$10+'[1]Testületi kezdv ei mód'!$D$16+'[1]Egyéb ei módosítás'!$D$40)/1000 -> 48407.89 | N41: =SUM(I41:M41) -> 168013.89 | O41: 45162.582 | P41: =O41/N41 -> 0.26880267
A42: K34 | B42: Kiküldetések, reklám- és propaganda kiadások | I42: 1825 | N42: =SUM(I42:M42) -> 1825 | O42: 3559.14 | P42: =O42/N42 -> 1.9502137
A43: K35 | B43: Különféle befizetések és egyéb dologi kiadások | I43: 27777 | N43: =SUM(I43:M43) -> 27777 | O43: 18338.623 | P43: =O43/N43 -> 0.66020891
A44: K4 | B44: Ellátottak pénzbeli juttatásai | G44: =SUM(C44:F44) -> 0 | H44: 50 | I44: 0 | N44: =SUM(I44:M44) -> 0 | O44: 0
A45: K5 | B45: Egyéb működési célú kiadások | C45: =SUM(C47,C46) -> 0 | D45: =SUM(D47,D46) -> 0 | F45: =SUM(F47,F46) -> 0 | G45: =SUM(G47,G46) -> 0 | H45: =SUM(H47,H46) -> 0 | I45: =SUM(I47,I46) -> 0 | J45: =SUM(J47,J46) -> 0 | K45: =SUM(K46:K47) -> 4016 | L45: =SUM(L46:L47) -> 1633 | M45: =SUM(M46:M47) -> 21 | N45: =SUM(N46:N47) -> 5670 | O45: =SUM(O47,O46) -> 5648.505 | P45: =O45/N45 -> 0.99620899
A46: K50-K513 | B46: Ebből: egyéb működési célú támogatások | G46: =SUM(C46:F46) -> 0 | I46: 0 | K46: 4016 | L46: 1633 | M46: ='[1]Egyéb ei módosítás'!$D$41/1000 -> 21 | N46: =SUM(I46:M46) -> 5670 | O46: 5648.505 | P46: =O46/N46 -> 0.99620899
A47: K513 | B47: Ebből: tartalék | C47: =SUM(C48:C49) -> 0 | D47: =SUM(D48:D49) -> 0 | F47: =SUM(F48:F49) -> 0 | G47: =SUM(G48:G49) -> 0 | I47: =SUM(I48:I49) -> 0 | J47: =SUM(J48:J49) -> 0 | N47: =SUM(N48:N49) -> 0 | O47: =SUM(O48:O49) -> 0
B48: Működési tartalék | G48: =SUM(C48:F48) -> 0 | I48: 0 | O48: 0
B49: Felhalmozási tartalék | G49: =SUM(C49:F49) -> 0 | I49: 0 | O49: 0
A50: K6 | B50: Beruházások | C50: 50067 | E50: =3500+14317+10500+10150 -> 38467 | G50: =SUM(C50:F50) -> 88534 | H50: 68200 | I50: 9000 | K50: =10599+6547 -> 17146 | L50: =1807 -> 1807 | M50: =('[1]Állami támogatás'!$D$11+'[1]Egyéb ei módosítás'!$D$42)/1000 -> 11550.351 | N50: =SUM(I50:M50) -> 39503.351 | O50: 25934.034 | P50: =O50/N50 -> 0.65650213
A51: K7 | B51: Felújítások | C51: 48000 | E51: =3543-30100 -> -26557 | G51: =SUM(C51:F51) -> 21443 | H51: 55502 | K51: 3893 | L51: =-1807 -> -1807 | N51: =SUM(I51:M51) -> 2086 | O51: 0 | P51: =O51/N51 -> 0
A52: K8 | B52: Egyéb felhalmozási célú kiadások | G52: =SUM(C52:F52) -> 0 | N52: =SUM(I52:M52) -> 0 | O52: 0
B53: EGYENLEG (I.-II.) | C53: =C3-C33 -> -336478 | D53: =D3-D33 -> -12471 | E53: =E3-E33 -> -4700 | F53: =F3-F33 -> 0 | G53: =G3-G33 -> -353649 | H53: =H3-H33 -> -523101 | I53: =I3-I33 -> -336478 | J53: =J3-J33 -> 0 | ... O53: =O3-O33 -> -288168.4 | P53: =O53/N53 -> 0.637734
B54: Működési | C54: =C6+C8+C15+C31-C34-C37-C38-C44-C45-C50-C51 -> -427035 | D54: =D6+D8+D15+D31-D34-D37-D38-D44-D45-D50-D51 -> -12471 | E54: =E6+E8+E15+E31-E34-E37-E38-E44-E45-E50-E51 -> -13110 | F54: =F6+F8+F15+F31-F34-F37-F38-F44-F45-F50-F51 -> 0 | G54: =G6+G8+G15+G31-G34-G37-G38-G44-G45-G50-G51 -> -452616 | H54: =H6+H8+H15+H31-H34-H37-H38-H44-H45-H50-H51 -> -581378 | I54: =I6+I8+I15+I31-I34-I37-I38-I44-I45-I50-I51 -> -345478 | J54: =J6+J8+J15+J31-J34-J37-J38-J44-J45-J50-J51 -> 0 | ... O54: =O6+O8+O15+O31-O34-O37-O38-O44-O45-O50-O51 -> -291616.47 | P54: =O54/N54 -> 0.62403083
B55: Felhalmozási | C55: =C7+C27+C32-C52 -> 90557 | D55: =D7+D27+D32-D52 -> 0 | E55: =E7+E27+E32-E52 -> 8410 | F55: =F7+F27+F32-F52 -> 0 | G55: =G7+G27+G32-G52 -> 98967 | H55: =H7+H27+H32-H52 -> 58277 | I55: =I7+I27+I32-I52 -> 9000 | J55: =J7+J27+J32-J52 -> 0 | ... O55: =O7+O27+O32-O52 -> 3448.075 | P55: =O55/N55 -> 0.22320527
A56: III.B8 | B56: FINANSZÍROZÁSI BEVÉTELEK | C56: =C57+C65 -> 336478 | D56: =D57+D65 -> 12471 | E56: =E57+E65 -> 4700 | F56: =F57+F65 -> 0 | G56: =G57+G65 -> 353649 | H56: =H57+H65 -> 532317 | I56: =I57+I65 -> 336478 | J56: =J57+J65 -> 0 | ... O56: =O57+O65 -> 290621.18 | P56: =O56/N56 -> 0.64316216
A57: B81 | B57: Belföldi finanszírozás bevételei | C57: =SUM(C58,C59,C60,C63,C64) -> 336478 | D57: =SUM(D58,D59,D60,D63,D64) -> 12471 | E57: =SUM(E58,E59,E60,E63,E64) -> 4700 | F57: =SUM(F58,F59,F60,F63,F64) -> 0 | G57: =SUM(G58,G59,G60,G63,G64) -> 353649 | H57: =SUM(H58,H59,H60,H63,H64) -> 532317 | I57: =SUM(I58,I59,I60,I63,I64) -> 336478 | J57: =SUM(J58,J59,J60,J63,J64) -> 0 | ... O57: =SUM(O58,O59,O60,O63,O64) -> 290621.18 | P57: =O57/N57 -> 0.64316216
A58: B811 | B58: Hitel-, kölcsönfelvétel államháztartáson kívülről | G58: =SUM(C58:F58) -> 0
A59: B812 | B59: Belföldi értékpapírok bevételei | G59: =SUM(C59:F59) -> 0
A60: B813 | B60: Maradvány igénybevétele | C60: =SUM(C61:C62) -> 0 | D60: =SUM(D61:D62) -> 1290 | F60: =SUM(F61:F62) -> 0 | G60: =SUM(G61:G62) -> 1290 | H60: =SUM(H61:H62) -> 1290 | I60: =SUM(I61:I62) -> 0 | J60: =SUM(J61:J62) -> 0 | K60: =K61+K62 -> 10599 | L60: =L61+L62 -> 0 | M60: =M61+M62 -> 0 | N60: =SUM(N61:N62) -> 10599 | O60: =SUM(O61:O62) -> 10599 | P60: =O60/N60 -> 1
B61: Ebből: működési | D61: 1290 | G61: =SUM(C61:F61) -> 1290 | H61: 1290 | K61: 10599 | N61: =SUM(I61:M61) -> 10599 | O61: 10599 | P61: =O61/N61 -> 1
B62: fejlesztései | G62: =SUM(C62:F62) -> 0
A63: B814 | B63: Államháztartáson belüli megelőlegezések | G63: =SUM(C63:F63) -> 0
A64: B816 | B64: Központi, önkormányzattól kapott támogatás | C64: 336478 | D64: =[3]összefogl!$S$68 -> 11181 | E64: =3500+1200 -> 4700 | G64: =SUM(C64:F64) -> 352359 | H64: 531027 | I64: 336478 | K64: =3893+36647+2996 -> 43536 | L64: =21107+803 -> 21910 | M64: =('[1]Állami támogatás'!$C$12+'[1]Testületi kezdv ei mód'!$C$15)/1000 -> 39340 | N64: =SUM(I64:M64) -> 441264 | O64: 280022.18 | P64: =O64/N64 -> 0.63459104
A65: B82 | B65: Külföldi finanszírozás bevételei | G65: =SUM(C65:F65) -> 0
A66: IV.K9 | B66: FINANSZÍROZÁSI KIADÁSOK | C66: =C67+C71 -> 0 | D66: =D67+D71 -> 0 | E66: =E67+E71 -> 0 | F66: =F67+F71 -> 0 | G66: =G67+G71 -> 0 | H66: =H67+H71 -> 0 | I66: =I67+I71 -> 0 | J66: =J67+J71 -> 0 | ... O66: =O67+O71 -> 0
A67: K91 | B67: Belföldi finanszírozás kiadásai | C67: =SUM(C68:C70) -> 0 | D67: =SUM(D68:D70) -> 0 | E67: =SUM(E68:E70) -> 0 | F67: =SUM(F68:F70) -> 0 | G67: =SUM(G68:G70) -> 0 | I67: =SUM(I68:I70) -> 0 | J67: =SUM(J68:J70) -> 0 | K67: =SUM(K68:K70) -> 0 | L67: =SUM(L68:L70) -> 0 | M67: =SUM(M68:M70) -> 0 | N67: =SUM(N68:N70) -> 0 | O67: =SUM(O68:O70) -> 0
A68: K911 | B68: Hitel-, kölcsöntörlesztés államháztartáson kívülre | G68: =SUM(C68:F68) -> 0
A69: K914 | B69: ÁH-n belüli megelőlegezések visszafizetése | G69: =SUM(C69:F69) -> 0
A70: K915 | B70: Központi, irányító szervi támogatások folyósítása | G70: =SUM(C70:F70) -> 0
A71: K92 | B71: Külföldi finanszírozás kiadásai | G71: =SUM(C71:F71) -> 0
B72: FINANSZÍROZÁSI EGYENLEG (III.-IV.) | C72: =C56-C66 -> 336478 | D72: =D56-D66 -> 12471 | E72: =E56-E66 -> 4700 | F72: =F56-F66 -> 0 | G72: =G56-G66 -> 353649 | H72: =H56-H66 -> 532317 | I72: =I56-I66 -> 336478 | J72: =J56-J66 -> 0 | ... O72: =O56-O66 -> 290621.18 | P72: =O72/N72 -> 0.64316216
B73: BEVÉTELEK MINDÖSSZESEN (I.+III.) | C73: =C3+C56 -> 623459 | D73: =D3+D56 -> 12471 | E73: =E3+E56 -> 56700 | F73: =F3+F56 -> 0 | G73: =G3+G56 -> 692630 | H73: =H3+H56 -> 770084 | I73: =I3+I56 -> 504676 | J73: =J3+J56 -> 0 | ... O73: =O3+O56 -> 342034.28 | P73: =O73/N73 -> 0.53384447
B74: Ebből: Működési | C74: =C6+C8+C15+C31 -> 196424 | D74: =D6+D8+D15+D31 -> 0 | E74: =E6+E8+E15+E31 -> 43590 | F74: =F6+F8+F15+F31 -> 0 | G74: =G6+G8+G15+G31 -> 240014 | H74: =H6+H8+H15+H31+H61 -> 180780 | I74: =I6+I8+I15+I31+I61 -> 159198 | J74: =J6+J8+J15+J31+J61 -> 0 | K74: =K6+K8+K15+K31+K61 -> 10596 | L74: =L6+L8+L15+L31+L61 -> 0 | M74: =M6+M8+M15+M31+M61 -> 14194.241 | N74: =N6+N8+N15+N31+N61 -> 183988.24 | O74: =O6+O8+O15+O31 -> 47965.025 | P74: =O74/N74 -> 0.26069614
B75: Ebből: Felhalmozási | C75: =C7+C27+C32 -> 90557 | D75: =D7+D27+D32 -> 0 | E75: =E7+E27+E32 -> 8410 | F75: =F7+F27+F32 -> 0 | G75: =G7+G27+G32 -> 98967 | H75: =H7+H27+H32+H62 -> 58277 | I75: =I7+I27+I32+I62 -> 9000 | J75: =J7+J27+J32+J62 -> 0 | K75: =K7+K27+K32+K62 -> 3 | L75: =L7+L27+L32+L62 -> 0 | M75: =M7+M27+M32+M62 -> 6445 | N75: =N7+N27+N32+N62 -> 15448 | O75: =O7+O27+O32 -> 3448.075 | P75: =O75/N75 -> 0.22320527
B76: Ebből: Finanszírozási | C76: =C56 -> 336478 | D76: =D56 -> 12471 | E76: =E56 -> 4700 | F76: =F56 -> 0 | G76: =G56 -> 353649 | H76: =H56-H60 -> 531027 | I76: =I56-I60 -> 336478 | J76: =J56-J60 -> 0 | K76: =K56-K60 -> 43536 | L76: =L56-L60 -> 21910 | M76: =M56-M60 -> 39340 | N76: =N56-N60 -> 441264 | O76: =O56 -> 290621.18 | P76: =O76/N76 -> 0.65861068
B77: KIADÁSOK MINDÖSSZESEN (II.+IV.) | C77: =C33+C66 -> 623459 | D77: =D33+D66 -> 12471 | E77: =E33+E66 -> 56700 | F77: =F33+F66 -> 0 | G77: =G33+G66 -> 692630 | H77: =H33+H66 -> 760868 | I77: =I33+I66 -> 504676 | J77: =J33+J66 -> 0 | ... O77: =O33+O66 -> 339581.5 | P77: =O77/N77 -> 0.53001618
B78: Ebből: Működési | C78: =C34+C37+C38+C44+C45-C49 -> 525392 | D78: =D34+D37+D38+D44+D45-D49 -> 12471 | E78: =E34+E37+E38+E44+E45-E49 -> 44790 | F78: =F34+F37+F38+F44+F45-F49 -> 0 | G78: =G34+G37+G38+G44+G45-G49 -> 582653 | H78: =H34+H37+H38+H44+H45-H49 -> 637166 | I78: =I34+I37+I38+I44+I45-I49 -> 495676 | J78: =J34+J37+J38+J44+J45-J49 -> 0 | ... O78: =O34+O37+O38+O44+O45-O49 -> 313647.46 | P78: =O78/N78 -> 0.52352155
B79: Ebből: Felhalmozási | C79: =C49+C50+C51+C52 -> 98067 | D79: =D49+D50+D51+D52 -> 0 | E79: =E49+E50+E51+E52 -> 11910 | F79: =F49+F50+F51+F52 -> 0 | G79: =G49+G50+G51+G52 -> 109977 | H79: =H49+H50+H51+H52 -> 123702 | I79: =I49+I50+I51+I52 -> 9000 | J79: =J49+J50+J51+J52 -> 0 | ... O79: =O49+O50+O51+O52 -> 25934.034 | P79: =O79/N79 -> 0.6235739
B80: Ebből: Finanszírozási | C80: =C66 -> 0 | D80: =D66 -> 0 | E80: =E66 -> 0 | F80: =F66 -> 0 | G80: =G66 -> 0 | H80: =H66 -> 0 | I80: =I66 -> 0 | J80: =J66 -> 0 | ... O80: =O66 -> 0
B81: KÖLTSÉGVETÉSI EGYENLEG | C81: =C73-C77 -> 0 | D81: =D73-D77 -> 0 | E81: =E73-E77 -> 0 | F81: =F73-F77 -> 0 | G81: =G73-G77 -> 0 | H81: =H73-H77 -> 9216 | I81: =I73-I77 -> 0 | J81: =J73-J77 -> 0 | ... O81: =O73-O77 -> 2452.785
B82: Ebből: Működési | C82: =C74-C78 -> -328968 | D82: =D74-D78 -> -12471 | E82: =E74-E78 -> -1200 | F82: =F74-F78 -> 0 | G82: =G74-G78 -> -342639 | H82: =H74-H78 -> -456386 | I82: =I74-I78 -> -336478 | J82: =J74-J78 -> 0 | ... O82: =O74-O78 -> -265682.44 | P82: =O82/N82 -> 0.6400095
B83: Ebből: Felhalmozási | C83: =C75-C79 -> -7510 | D83: =D75-D79 -> 0 | E83: =E75-E79 -> -3500 | F83: =F75-F79 -> 0 | G83: =G75-G79 -> -11010 | H83: =H75-H79 -> -65425 | I83: =I75-I79 -> 0 | J83: =J75-J79 -> 0 | ... O83: =O75-O79 -> -22485.959 | P83: =O83/N83 -> 0.86016821
B84: Ebből: Finanszírozási | C84: =C76-C80 -> 336478 | D84: =D76-D80 -> 12471 | E84: =E76-E80 -> 4700 | F84: =F76-F80 -> 0 | G84: =G76-G80 -> 353649 | H84: =H72-H61-H62 -> 531027 | I84: =I72-I61-I62 -> 336478 | J84: =J72-J61-J62 -> 0 | K84: =K72-K61-K62 -> 43536 | L84: =L72-L61-L62 -> 21910 | M84: =M72-M61-M62 -> 39340 | N84: =N72-N61-N62 -> 441264 | O84: =O72 -> 290621.18 | P84: =O84/N84 -> 0.65861068

Sheet Óvoda 2f
B1: Szentendre Városi Óvodák | C1: 2015 Előirányzat | I1: 2015 tény 2016.01.25. | J1: 2016 Előirányzat | P1: 2016 Tény 01-06. hó
C2: Kötelező feladatok | D2: 1. módosítás | E2: 2. módosítás 2015.09.15. | F2: ebből: Egres úti tagóvoda | G2: 1. módosítás | H2: Összesen módosításokkal | J2: Kötelező feladatok | K2: Nem kötelező feladatok | L2: 1. módosítás | M2: 2. módosítás | N2: 3. módosítás | O2: Módosított előirányzat | P2: EFt | Q2: %
A3: I. | B3: KÖLTSÉGVETÉSI BEVÉTELEK | C3: =C6+C7+C8+C15+C27+C31+C32 -> 43520 | D3: =D6+D7+D8+D15+D27+D31+D32 -> 10000 | E3: =E6+E7+E8+E15+E27+E31+E32 -> 0 | F3: =F6+F7+F8+F15+F27+F31+F32 -> 2827 | G3: =G6+G7+G8+G15+G27+G31+G32 -> 0 | H3: =H6+H7+H8+H15+H27+H31+H32 -> 56347 | I3: =I6+I7+I8+I15+I27+I31+I32 -> 57949 | J3: =J6+J7+J8+J15+J27+J31+J32 -> 22078 | ... P3: =P6+P7+P8+P15+P27+P31+P32 -> 14996.549 | Q3: =P3/O3 -> 0.64285618
A4: B11 | B4: Önkormányzatok működési támogatásai | H4: =SUM(C4:G4) -> 0 | O4: =SUM(J4:N4) -> 0
A5: B16 | B5: Egyéb működési célú támogatások ÁHT-n belülről OEP finanszírozás | H5: =SUM(C5:G5) -> 0 | I5: 2123 | J5: 0 | K5: 0 | N5: ='[1]Intézményi kezd. ei mód'!$C$8/1000 -> 1250 | O5: =SUM(J5:N5) -> 1250
A6: B1 | B6: Működési célú támogatások államháztartáson belülről | C6: =SUM(C4:C5) -> 0 | D6: =SUM(D4:D5) -> 0 | F6: =SUM(F4:F5) -> 0 | G6: =SUM(G4:G5) -> 0 | H6: =SUM(H4:H5) -> 0 | I6: =SUM(I4:I5) -> 2123 | J6: =J4 -> 0 | K6: 0 | L6: =L4 -> 0 | M6: =M4 -> 0 | N6: =N4+N5 -> 1250 | O6: =O4+O5 -> 1250 | P6: =SUM(P4:P5) -> 0
A7: B2 | B7: Felhalmozási célú támogatások államháztartáson belülről | H7: =SUM(C7:G7) -> 0 | J7: 0 | K7: 0 | O7: =SUM(J7:N7) -> 0
A8: B3 | B8: Közhatalmi bevételek | C8: =C9+C11+C12+C13+C14 -> 0 | D8: =D9+D11+D12+D13+D14 -> 0 | F8: =F9+F11+F12+F13+F14 -> 0 | G8: =G9+G11+G12+G13+G14 -> 0 | H8: =H9+H11+H12+H13+H14 -> 0 | I8: =I9+I11+I12+I13+I14 -> 0 | J8: 0 | K8: 0 | L8: =L9+L11+L12+L13+L14 -> 0 | M8: =M9+M11+M12+M13+M14 -> 0 | N8: =N9+N11+N12+N13+N14 -> 0 | O8: =O9+O11+O12+O13+O14 -> 0 | P8: =P9+P11+P12+P13+P14 -> 0
A9: B34 | B9: Vagyoni tipusú adók | H9: =SUM(C9:G9) -> 0 | J9: 0 | O9: =SUM(J9:N9) -> 0
A10: B35 | B10: Termékek és szolgáltatások adói | C10: =SUM(C11:C13) -> 0 | D10: =SUM(D11:D13) -> 0 | F10: =SUM(F11:F13) -> 0 | G10: =SUM(G11:G13) -> 0 | H10: =SUM(H11:H13) -> 0 | J10: =SUM(J11:J13) -> 0 | K10: =SUM(K11:K13) -> 0 | L10: =SUM(L11:L13) -> 0 | M10: =SUM(M11:M13) -> 0 | O10: =SUM(O11:O13) -> 0 | P10: =SUM(P11:P13) -> 0
A11: B351 | B11: Értékesítési és forgalmi adók | H11: =SUM(C11:G11) -> 0 | J11: 0 | O11: =SUM(J11:N11) -> 0
A12: B354 | B12: Gépjármű adók | H12: =SUM(C12:G12) -> 0 | J12: 0 | O12: =SUM(J12:N12) -> 0
A13: B355 | B13: Egyéb áruhasználati és szolgáltatási adók | H13: =SUM(C13:G13) -> 0 | J13: 0 | O13: =SUM(J13:N13) -> 0
A14: B36 | B14: Egyéb közhatalmi bevételek | H14: =SUM(C14:G14) -> 0 | J14: 0 | O14: =SUM(J14:N14) -> 0
A15: B4 | B15: Működési bevételek | C15: =SUM(C16:C26) -> 43520 | D15: =SUM(D16:D26) -> 10000 | F15: =SUM(F16:F26) -> 2827 | G15: =SUM(G16:G26) -> 0 | H15: =SUM(H16:H26) -> 56347 | I15: =SUM(I16:I26) -> 55826 | J15: =SUM(J16:J26) -> 22078 | K15: =SUM(K16:K26) -> 0 | L15: =SUM(L16:L26) -> 0 | M15: =SUM(M16:M26) -> 0 | ... P15: =SUM(P16:P26) -> 14996.549 | Q15: =P15/O15 -> 0.67925306
A16: B401 | B16: Készletértékesítés ellenértéke | H16: =SUM(C16:G16) -> 0 | J16: 0 | K16: 0 | L16: 0 | M16: 0 | O16: =SUM(J16:N16) -> 0
A17: B402 | B17: Szolgáltatások ellenértéke | C17: 152 | H17: =SUM(C17:G17) -> 152 | I17: 187 | J17: 152 | K17: 0 | L17: 0 | M17: 0 | O17: =SUM(J17:N17) -> 152 | P17: 190.5 | Q17: =P17/O17 -> 1.2532895
A18: B403 | B18: Közvetített szolgáltatások ellenértéke | C18: 2000 | H18: =SUM(C18:G18) -> 2000 | I18: 879 | J18: 1150 | K18: 0 | L18: 0 | M18: 0 | O18: =SUM(J18:N18) -> 1150 | P18: 447.189 | Q18: =P18/O18 -> 0.38886
A19: B404 | B19: Tulajdonosi bevételek | H19: =SUM(C19:G19) -> 0 | J19: 0 | K19: 0 | L19: 0 | M19: 0 | O19: =SUM(J19:N19) -> 0
A20: B405 | B20: Ellátási díjak | C20: 31932 | D20: =[3]összefogl!$H$43 -> 10000 | F20: 2226 | H20: =SUM(C20:G20) -> 44158 | I20: 39446 | J20: 16143 | K20: 0 | L20: 0 | M20: 0 | O20: =SUM(J20:N20) -> 16143 | P20: 8660.488 | Q20: =P20/O20 -> 0.53648566
A21: B406 | B21: Kiszámlázott általános forgalmi adó | C21: 9161 | F21: 601 | H21: =SUM(C21:G21) -> 9762 | I21: 9494 | J21: 4358 | K21: 0 | L21: 0 | M21: 0 | O21: =SUM(J21:N21) -> 4358 | P21: 2437.022 | Q21: =P21/O21 -> 0.55920652
A22: B407 | B22: Általános forgalmi adó visszatérítése | H22: =SUM(C22:G22) -> 0 | I22: 5698 | J22: 0 | K22: 0 | L22: 0 | M22: 0 | O22: =SUM(J22:M22) -> 0 | P22: 3117
A23: B408 | B23: Kamatbevételek | C23: 70 | H23: =SUM(C23:G23) -> 70 | I23: 51 | J23: 70 | K23: 0 | L23: 0 | M23: 0 | O23: =SUM(J23:N23) -> 70 | P23: 21.682 | Q23: =P23/O23 -> 0.30974286
A24: B409 | B24: Egyéb pénzügyi műveletek bevételei | H24: =SUM(C24:G24) -> 0 | J24: 0 | K24: 0 | L24: 0 | M24: 0 | O24: =SUM(J24:N24) -> 0
A25: B410 | B25: Biztosító által fizetett kártérítés | J25: 0 | K25: 0 | L25: 0 | M25: 0 | O25: =SUM(J25:N25) -> 0
A26: B411 | B26: Egyéb működési bevételek | C26: 205 | H26: =SUM(C26:G26) -> 205 | I26: 71 | J26: 205 | K26: 0 | L26: 0 | M26: 0 | O26: =SUM(J26:N26) -> 205 | P26: 122.668 | Q26: =P26/O26 -> 0.59838049
A27: B5 | B27: Felhalmozási bevételek | C27: =C28+C29+C30 -> 0 | D27: =D28+D29+D30 -> 0 | F27: =F28+F29+F30 -> 0 | G27: =G28+G29+G30 -> 0 | H27: =H28+H29+H30 -> 0 | I27: =I28+I29+I30 -> 0 | J27: =J28+J29+J30 -> 0 | K27: =K28+K29+K30 -> 0 | L27: =L28+L29+L30 -> 0 | M27: =M28+M29+M30 -> 0 | ... P27: =P28+P29+P30 -> 0
A28: B51 | B28: Immateriális javak értékesítése | H28: =SUM(C28:G28) -> 0 | J28: 0 | K28: 0 | O28: 0
A29: B52 | B29: Ingatlanok értékesítése | H29: =SUM(C29:G29) -> 0 | J29: 0 | O29: 0
A30: B53 | B30: Egyéb tárgyi eszközök értékesítése | H30: =SUM(C30:G30) -> 0 | J30: 0 | O30: 0
A31: B6 | B31: Működési célú átvett pénzeszköz | H31: =SUM(C31:G31) -> 0 | J31: 0 | O31: =SUM(J31:N31) -> 0
A32: B7 | B32: Felhalmozási célú átvett pénzeszköz | H32: =SUM(C32:G32) -> 0 | J32: 0 | O32: =SUM(J32:N32) -> 0
A33: II. | B33: KÖLTSÉGVETÉSI KIADÁSOK | C33: =C34+C37+C38+C44+C45+C50+C51+C52 -> 563215 | D33: =D34+D37+D38+D44+D45+D50+D51+D52 -> 12616 | E33: =E34+E37+E38+E44+E45+E50+E51+E52 -> 0 | F33: =F34+F37+F38+F44+F45+F50+F51+F52 -> 23110 | G33: =G34+G37+G38+G44+G45+G50+G51+G52 -> 0 | H33: =H34+H37+H38+H44+H45+H50+H51+H52 -> 588941 | I33: =I34+I37+I38+I44+I45+I50+I51+I52 -> 496245 | J33: =J34+J37+J38+J44+J45+J50+J51+J52 -> 588067 | ... P33: =P34+P37+P38+P44+P45+P50+P51+P52 -> 272348.9 | Q33: =P33/O33 -> 0.45574694
A34: K1 | B34: Személyi juttatások | C34: 327976 | D34: =[3]összefogl!$X$43 -> 512 | F34: 11098 | G34: 0 | H34: =SUM(C34:G34) -> 339586 | I34: 292083 | J34: =SUM(J35:J36) -> 347283 | K34: =SUM(K35:K36) -> 0 | L34: =SUM(L35:L36) -> 657 | M34: =SUM(M35:M36) -> 174 | N34: =SUM(N35:N36) -> 0 | O34: =SUM(O35:O36) -> 348114 | P34: =SUM(P35:P36) -> 156725.13 | Q34: =P34/O34 -> 0.45021209
A35: K11 | B35: Foglalkoztatottak személyi juttatásai | J35: 346503 | L35: 657 | M35: =174 -> 174 | O35: =SUM(J35:N35) -> 347334 | P35: 156641.95 | Q35: =P35/O35 -> 0.45098365
A36: K12 | B36: Külső személyi juttatások | J36: 780 | O36: =SUM(J36:N36) -> 780 | P36: 83.175 | Q36: =P36/O36 -> 0.10663462
A37: K2 | B37: Munkaadókat terhelő járulékok és szociális hozzájárulási adó | C37: 93954 | D37: =[3]összefogl!$Y$43 -> 138 | F37: 3237 | H37: =SUM(C37:G37) -> 97329 | I37: 81318 | J37: 98957 | L37: =177 -> 177 | M37: =47 -> 47 | O37: =SUM(J37:N37) -> 99181 | P37: 46554.088 | Q37: =P37/O37 -> 0.46938514
A38: K3 | B38: Dologi kiadások | C38: 141285 | D38: =[3]összefogl!$Z$43 -> 11966 | E38: -10000 | F38: 8775 | G38: 0 | H38: =SUM(C38:G38) -> 152026 | I38: 121784 | J38: =SUM(J39:J43) -> 141827 | K38: =SUM(K39:K43) -> 0 | L38: =SUM(L39:L43) -> 6716 | M38: =SUM(M39:M43) -> 0 | N38: =SUM(N39:N43) -> -50 | O38: =SUM(O39:O43) -> 148493 | P38: =SUM(P39:P43) -> 68778.942 | Q38: =P38/O38 -> 0.46317969
A39: K31 | B39: Készletbeszerzés | J39: 11625 | O39: =SUM(J39:N39) -> 11625 | P39: 1770.709 | Q39: =P39/O39 -> 0.15231905
A40: K32 | B40: Kommunikációs szolgáltatások | J40: 1250 | O40: =SUM(J40:N40) -> 1250 | P40: 164.826 | Q40: =P40/O40 -> 0.1318608
A41: K33 | B41: Szolgáltatási kiadások | J41: 94741 | L41: 6716 | N41: =('[1]Intézményi kezd. ei mód'!$D$9+'[1]Intézményi kezd. ei mód'!$D$12)/1000 -> -50 | O41: =SUM(J41:N41) -> 101407 | P41: 53107.812 | Q41: =P41/O41 -> 0.52370953
A42: K34 | B42: Kiküldetések, reklám- és propaganda kiadások | J42: 50 | O42: =SUM(J42:N42) -> 50 | P42: 0 | Q42: =P42/O42 -> 0
A43: K35 | B43: Különféle befizetések és egyéb dologi kiadások | J43: 34161 | O43: =SUM(J43:N43) -> 34161 | P43: 13735.595 | Q43: =P43/O43 -> 0.4020841
A44: K4 | B44: Ellátottak pénzbeli juttatásai | E44: 10000 | O44: =SUM(J44:N44) -> 0
A45: K5 | B45: Egyéb működési célú kiadások | C45: =SUM(C47,C46) -> 0 | D45: =SUM(D47,D46) -> 0 | F45: =SUM(F47,F46) -> 0 | G45: =SUM(G47,G46) -> 0 | H45: =SUM(H47,H46) -> 0 | I45: =SUM(I47,I46) -> 0 | J45: =SUM(J47,J46) -> 0 | K45: =SUM(K47,K46) -> 0 | L45: =SUM(L47,L46) -> 0 | M45: =SUM(M47,M46) -> 0 | ... P45: =SUM(P47,P46) -> 0
A46: K50-K513 | B46: Ebből: egyéb működési célú támogatások | H46: =SUM(C46:G46) -> 0 | P46: 0
A47: K513 | B47: Ebből: tartalék | C47: =SUM(C48:C49) -> 0 | D47: =SUM(D48:D49) -> 0 | F47: =SUM(F48:F49) -> 0 | G47: =SUM(G48:G49) -> 0 | H47: =SUM(H48:H49) -> 0 | I47: =SUM(I48:I49) -> 0 | J47: =SUM(J48:J49) -> 0 | K47: =SUM(K48:K49) -> 0 | L47: =SUM(L48:L49) -> 0 | M47: =SUM(M48:M49) -> 0 | ... P47: =SUM(P48:P49) -> 0
B48: Működési tartalék | H48: =SUM(C48:G48) -> 0 | P48: 0
B49: Felhalmozási tartalék | H49: =SUM(C49:G49) -> 0 | P49: 0
A50: K6 | B50: Beruházások | H50: =SUM(C50:G50) -> 0 | I50: 1060 | J50: 0 | L50: =500 -> 500 | N50: ='[1]Intézményi kezd. ei mód'!$D$11/1000 -> 1300 | O50: =SUM(J50:N50) -> 1800 | P50: 290.745 | Q50: =P50/O50 -> 0.161525
A51: K7 | B51: Felújítások | H51: =SUM(C51:G51) -> 0 | J51: =SUM(J50) -> 0 | K51: =SUM(K50) -> 0 | M51: =SUM(M50) -> 0 | O51: =SUM(J51:N51) -> 0 | P51: 0
A52: K8 | B52: Egyéb felhalmozási célú kiadások | H52: =SUM(C52:G52) -> 0 | J52: =SUM(J51) -> 0 | K52: =SUM(K51) -> 0 | M52: =SUM(M51) -> 0 | O52: =SUM(J52:N52) -> 0 | P52: 0
B53: EGYENLEG (I.-II.) | C53: =C3-C33 -> -519695 | D53: =D3-D33 -> -2616 | E53: =E3-E33 -> 0 | F53: =F3-F33 -> -20283 | G53: =G3-G33 -> 0 | H53: =H3-H33 -> -532594 | I53: =I3-I33 -> -438296 | J53: =J3-J33 -> -565989 | ... P53: =P3-P33 -> -257352.36 | Q53: =P53/O53 -> 0.44814606
B54: Működési | C54: =C6+C8+C15+C31-C34-C37-C38-C44-C45-C50-C51 -> -519695 | D54: =D6+D8+D15+D31-D34-D37-D38-D44-D45-D50-D51 -> -2616 | E54: =E6+E8+E15+E31-E34-E37-E38-E44-E45-E50-E51 -> 0 | F54: =F6+F8+F15+F31-F34-F37-F38-F44-F45-F50-F51 -> -20283 | G54: =G6+G8+G15+G31-G34-G37-G38-G44-G45-G50-G51 -> 0 | H54: =H6+H8+H15+H31-H34-H37-H38-H44-H45-H50-H51 -> -532594 | I54: =I6+I8+I15+I31-I34-I37-I38-I44-I45-I50-I51 -> -438296 | J54: =J6+J8+J15+J31-J34-J37-J38-J44-J45-J50-J51 -> -565989 | ... P54: =P6+P8+P15+P31-P34-P37-P38-P44-P45-P50-P51 -> -257352.36 | Q54: =P54/O54 -> 0.44814606
B55: Felhalmozási | C55: =C7+C27+C32-C52 -> 0 | D55: =D7+D27+D32-D52 -> 0 | E55: =E7+E27+E32-E52 -> 0 | F55: =F7+F27+F32-F52 -> 0 | G55: =G7+G27+G32-G52 -> 0 | H55: =H7+H27+H32-H52 -> 0 | I55: =I7+I27+I32-I52 -> 0 | J55: =J7+J27+J32-J52 -> 0 | ... P55: =P7+P27+P32-P52 -> 0
A56: III.B8 | B56: FINANSZÍROZÁSI BEVÉTELEK | C56: =C57+C65 -> 519695 | D56: =D57+D65 -> 2616 | E56: =E57+E65 -> 0 | F56: =F57+F65 -> 20283 | G56: =G57+G65 -> 0 | H56: =H57+H65 -> 542594 | I56: =I57+I65 -> 465434 | J56: =J57+J65 -> 565989 | ... P56: =P57+P65 -> 264371.7 | Q56: =P56/O56 -> 0.46036935
A57: B81 | B57: Belföldi finanszírozás bevételei | C57: =SUM(C58,C59,C60,C63,C64) -> 519695 | D57: =SUM(D58,D59,D60,D63,D64) -> 2616 | E57: =SUM(E58,E59,E60,E63,E64) -> 0 | F57: =SUM(F58,F59,F60,F63,F64) -> 20283 | G57: =SUM(G58,G59,G60,G63,G64) -> 0 | H57: =SUM(H58,H59,H60,H63,H64) -> 542594 | I57: =SUM(I58,I59,I60,I63,I64) -> 465434 | J57: =SUM(J58,J59,J60,J63,J64) -> 565989 | ... P57: =SUM(P58,P59,P60,P63,P64) -> 264371.7 | Q57: =P57/O57 -> 0.46036935
A58: B811 | B58: Hitel-, kölcsönfelvétel államháztartáson kívülről | H58: =SUM(C58:G58) -> 0 | O58: 0
A59: B812 | B59: Belföldi értékpapírok bevételei | H59: =SUM(C59:G59) -> 0 | O59: 0
A60: B813 | B60: Maradvány igénybevétele | C60: =SUM(C61:C62) -> 0 | D60: =SUM(D61:D62) -> 1966 | F60: =SUM(F61:F62) -> 0 | G60: =SUM(G61:G62) -> 0 | H60: =SUM(H61:H62) -> 1966 | I60: =SUM(I61:I62) -> 1966 | J60: =SUM(J61:J62) -> 0 | K60: =SUM(K61:K62) -> 0 | L60: =L61+L62 -> 8882 | M60: =M61+M62 -> 0 | N60: =N61+N62 -> 0 | O60: =SUM(O61:O62) -> 8882 | P60: =SUM(P61:P62) -> 8882 | Q60: =P60/O60 -> 1
B61: Ebből: működési | D61: 1966 | H61: =SUM(C61:G61) -> 1966 | I61: 1966 | J61: 0 | L61: 8882 | O61: =SUM(J61:N61) -> 8882 | P61: 8882 | Q61: =P61/O61 -> 1
B62: fejlesztései | H62: =SUM(C62:G62) -> 0 | J62: 0 | K62: 0 | L62: 0 | M62: 0 | O62: =SUM(J62:N62) -> 0
A63: B814 | B63: Államháztartáson belüli megelőlegezések | H63: =SUM(C63:G63) -> 0 | O63: =SUM(J63:N63) -> 0
A64: B816 | B64: Központi, önkormányzattól kapott támogatás | C64: 519695 | D64: =[3]összefogl!$S$43 -> 650 | F64: 20283 | H64: =SUM(C64:G64) -> 540628 | I64: 463468 | J64: =600255-34266 -> 565989 | L64: =835-1667 -> -832 | M64: =221 -> 221 | O64: =SUM(J64:N64) -> 565378 | P64: 255489.7 | Q64: =P64/O64 -> 0.45189184
A65: B82 | B65: Külföldi finanszírozás bevételei | H65: =SUM(C65:G65) -> 0
A66: IV.K9 | B66: FINANSZÍROZÁSI KIADÁSOK | C66: =C67+C71 -> 0 | D66: =D67+D71 -> 0 | F66: =F67+F71 -> 0 | G66: =G67+G71 -> 0 | H66: =H67+H71 -> 0 | I66: =I67+I71 -> 0 | J66: =J67+J71 -> 0 | K66: =K67+K71 -> 0 | L66: =L67+L71 -> 0 | M66: =M67+M71 -> 0 | ... P66: =P67+P71 -> 0
A67: K91 | B67: Belföldi finanszírozás kiadásai | C67: =SUM(C68:C70) -> 0 | D67: =SUM(D68:D70) -> 0 | F67: =SUM(F68:F70) -> 0 | G67: =SUM(G68:G70) -> 0 | H67: =SUM(H68:H70) -> 0 | I67: =SUM(I68:I70) -> 0 | J67: =SUM(J68:J70) -> 0 | K67: =SUM(K68:K70) -> 0 | L67: =SUM(L68:L70) -> 0 | M67: =SUM(M68:M70) -> 0 | ... P67: =SUM(P68:P70) -> 0
A68: K911 | B68: Hitel-, kölcsöntörlesztés államháztartáson kívülre | H68: =SUM(C68:G68) -> 0
A69: K914 | B69: ÁH-n belüli megelőlegezések visszafizetése | H69: =SUM(C69:G69) -> 0
A70: K915 | B70: Központi, irányító szervi támogatások folyósítása | H70: =SUM(C70:G70) -> 0 | O70: =SUM(F70:N70) -> 0
A71: K92 | B71: Külföldi finanszírozás kiadásai | H71: =SUM(C71:G71) -> 0
B72: FINANSZÍROZÁSI EGYENLEG (III.-IV.) | C72: =C56-C66 -> 519695 | D72: =D56-D66 -> 2616 | E72: =E56-E66 -> 0 | F72: =F56-F66 -> 20283 | G72: =G56-G66 -> 0 | H72: =H56-H66 -> 542594 | I72: =I56-I66 -> 465434 | J72: =J56-J66 -> 565989 | ... P72: =P56-P66 -> 264371.7 | Q72: =P72/O72 -> 0.46036935
B73: BEVÉTELEK MINDÖSSZESEN (I.+III.) | C73: =C3+C56 -> 563215 | D73: =D3+D56 -> 12616 | E73: =E3+E56 -> 0 | F73: =F3+F56 -> 23110 | G73: =G3+G56 -> 0 | H73: =H3+H56 -> 598941 | I73: =I3+I56 -> 523383 | J73: =J3+J56 -> 588067 | ... P73: =P3+P56 -> 279368.25 | Q73: =P73/O73 -> 0.46749308
B74: Ebből: Működési | C74: =C6+C8+C15+C31 -> 43520 | D74: =D6+D8+D15+D31 -> 10000 | E74: =E6+E8+E15+E31 -> 0 | F74: =F6+F8+F15+F31 -> 2827 | G74: =G6+G8+G15+G31 -> 0 | H74: =H6+H8+H15+H31 -> 56347 | I74: =I6+I8+I15+I31 -> 57949 | J74: =J6+J8+J15+J31 -> 22078 | ... N74: =N6+N8+N15+N31 -> 1250 | O74: =O6+O7+O8+O15+O31 -> 23328 | P74: =P6+P8+P15+P31 -> 14996.549 | Q74: =P74/O74 -> 0.64285618
B75: Ebből: Felhalmozási | C75: =C7+C27+C32 -> 0 | D75: =D7+D27+D32 -> 0 | E75: =E7+E27+E32 -> 0 | F75: =F7+F27+F32 -> 0 | G75: =G7+G27+G32 -> 0 | H75: =H7+H27+H32 -> 0 | I75: =I7+I27+I32 -> 0 | J75: =J7+J27+J32 -> 0 | ... P75: =P7+P27+P32 -> 0
B76: Ebből: Finanszírozási | C76: =C56 -> 519695 | D76: =D56 -> 2616 | E76: =E56 -> 0 | F76: =F56 -> 20283 | G76: =G56 -> 0 | H76: =H56 -> 542594 | I76: =I56 -> 465434 | J76: =J56 -> 565989 | ... P76: =P56 -> 264371.7 | Q76: =P76/O76 -> 0.46036935
B77: KIADÁSOK MINDÖSSZESEN (II.+IV.) | C77: =C33+C66 -> 563215 | D77: =D33+D66 -> 12616 | E77: =E33+E66 -> 0 | F77: =F33+F66 -> 23110 | G77: =G33+G66 -> 0 | H77: =H33+H66 -> 588941 | I77: =I33+I66 -> 496245 | J77: =J33+J66 -> 588067 | ... P77: =P33+P66 -> 272348.9 | Q77: =P77/O77 -> 0.45574694
B78: Ebből: Működési | C78: =C34+C37+C38+C44+C45-C49 -> 563215 | D78: =D34+D37+D38+D44+D45-D49 -> 12616 | E78: =E34+E37+E38+E44+E45-E49 -> 0 | F78: =F34+F37+F38+F44+F45-F49 -> 23110 | G78: =G34+G37+G38+G44+G45-G49 -> 0 | H78: =H34+H37+H38+H44+H45-H49 -> 588941 | I78: =I34+I37+I38+I44+I45-I49 -> 495185 | J78: =J34+J37+J38+J44+J45-J49 -> 588067 | ... P78: =P34+P37+P38+P44+P45-P49 -> 272058.16 | Q78: =P78/O78 -> 0.45663585
B79: Ebből: Felhalmozási | C79: =C49+C50+C51+C52 -> 0 | D79: =D49+D50+D51+D52 -> 0 | E79: =E49+E50+E51+E52 -> 0 | F79: =F49+F50+F51+F52 -> 0 | G79: =G49+G50+G51+G52 -> 0 | H79: =H49+H50+H51+H52 -> 0 | I79: =I49+I50+I51+I52 -> 1060 | J79: =J49+J50+J51+J52 -> 0 | ... P79: =P49+P50+P51+P52 -> 290.745 | Q79: =P79/O79 -> 0.161525
B80: Ebből: Finanszírozási | C80: =C66 -> 0 | D80: =D66 -> 0 | E80: =E66 -> 0 | F80: =F66 -> 0 | G80: =G66 -> 0 | H80: =H66 -> 0 | I80: =I66 -> 0 | J80: =J66 -> 0 | ... P80: =P66 -> 0
B81: KÖLTSÉGVETÉSI EGYENLEG | C81: =C73-C77 -> 0 | D81: =D73-D77 -> 0 | E81: =E73-E77 -> 0 | F81: =F73-F77 -> 0 | G81: =G73-G77 -> 0 | H81: =H73-H77 -> 10000 | I81: =I73-I77 -> 27138 | J81: =J73-J77 -> 0 | ... P81: =P73-P77 -> 7019.348
B82: Ebből: Működési | C82: =C74-C78 -> -519695 | D82: =D74-D78 -> -2616 | E82: =E74-E78 -> 0 | F82: =F74-F78 -> -20283 | G82: =G74-G78 -> 0 | H82: =H74-H78 -> -532594 | I82: =I74-I78 -> -437236 | J82: =J74-J78 -> -565989 | ... P82: =P74-P78 -> -257061.61 | Q82: =P82/O82 -> 0.44904729
B83: Ebből: Felhalmozási | C83: =C75-C79 -> 0 | D83: =D75-D79 -> 0 | E83: =E75-E79 -> 0 | F83: =F75-F79 -> 0 | G83: =G75-G79 -> 0 | H83: =H75-H79 -> 0 | I83: =I75-I79 -> -1060 | J83: =J75-J79 -> 0 | ... P83: =P75-P79 -> -290.745 | Q83: =P83/O83 -> 0.161525
B84: Ebből: Finanszírozási | C84: =C76-C80 -> 519695 | D84: =D76-D80 -> 2616 | E84: =E76-E80 -> 0 | F84: =F76-F80 -> 20283 | G84: =G76-G80 -> 0 | H84: =H76-H80 -> 542594 | I84: =I72 -> 465434 | J84: =J72 -> 565989 | K84: =K72 -> 0 | L84: =L72 -> 8050 | M84: =M72 -> 221 | N84: =N72 -> 0 | O84: =O72 -> 574260 | P84: =P72 -> 264371.7 | Q84: =P84/O84 -> 0.46036935

Sheet Bölcsőde 2g
B1: Püspökmajor-lakótelepi Bölcsőde | C1: 2015 Előirányzat | H1: 2015 tény 2016.01.25. | I1: 2016 Előirányzat | O1: 2016 Tény 01-06. hó
C2: Kötelező feladatok | D2: 1. módosítás | E2: 2. módosítás 2015.09.15. | F2: Nem kötelező feladatok | G2: Összesen módosításokkal | I2: Kötelező feladatok | J2: Nem kötelező feladatok | K2: 1. módosítás | L2: 2. módosítás | M2: 3. módosítás | N2: Módosított előirányzat | O2: EFt | P2: %
A3: I. | B3: KÖLTSÉGVETÉSI BEVÉTELEK | C3: =C6+C7+C8+C15+C27+C31+C32 -> 18452 | D3: =D6+D7+D8+D15+D27+D31+D32 -> 2600 | E3: =E6+E7+E8+E15+E27+E31+E32 -> 811 | F3: =F6+F7+F8+F15+F27+F31+F32 -> 0 | G3: =G6+G7+G8+G15+G27+G31+G32 -> 21863 | H3: =H6+H7+H8+H15+H27+H31+H32 -> 23045 | I3: =I6+I7+I8+I15+I27+I31+I32 -> 14955 | J3: =J6+J7+J8+J15+J27+J31+J32 -> 0 | ... O3: =O6+O7+O8+O15+O27+O31+O32 -> 8230.796 | P3: =O3/N3 -> 0.55037085
A4: B11 | B4: Önkormányzatok működési támogatásai | G4: =SUM(C4:F4) -> 0 | N4: =I4+J4+K4+L4+M4 -> 0
A5: B16 | B5: Egyéb működési célú támogatások ÁHT-n belülről OEP finanszírozás | G5: =SUM(C5:F5) -> 0 | N5: =I5+J5+K5+L5+M5 -> 0
A6: B1 | B6: Működési célú támogatások államháztartáson belülről | C6: =SUM(C4:C5) -> 0 | D6: =SUM(D4:D5) -> 0 | F6: =SUM(F4:F5) -> 0 | G6: =SUM(G4:G5) -> 0 | H6: =SUM(H4:H5) -> 0 | I6: =SUM(I4:I5) -> 0 | J6: =SUM(J4:J5) -> 0 | K6: =SUM(K4:K5) -> 0 | L6: =SUM(L4:L5) -> 0 | M6: =SUM(M4:M5) -> 0 | ... O6: =SUM(O4:O5) -> 0
A7: B2 | B7: Felhalmozási célú támogatások államháztartáson belülről | G7: =SUM(C7:F7) -> 0 | I7: 0 | J7: 0 | K7: 0 | L7: 0 | N7: =I7+J7+K7+L7+M7 -> 0
A8: B3 | B8: Közhatalmi bevételek | C8: =SUM(C9,C10,C14) -> 0 | D8: =SUM(D9,D10,D14) -> 0 | F8: =SUM(F9,F10,F14) -> 0 | G8: =SUM(G9,G10,G14) -> 0 | H8: =SUM(H9,H10,H14) -> 0 | I8: =SUM(I9,I10,I14) -> 0 | J8: =J9+J11+J12+J13+J14 -> 0 | K8: =K9+K11+K12+K13+K14 -> 0 | L8: =L9+L11+L12+L13+L14 -> 0 | M8: =M9+M11+M12+M13+M14 -> 0 | N8: =N9+N11+N12+N13+N14 -> 0 | O8: =O9+O11+O12+O13+O14 -> 0
A9: B34 | B9: Vagyoni tipusú adók | G9: =SUM(C9:F9) -> 0
A10: B35 | B10: Termékek és szolgáltatások adói | C10: =SUM(C11:C13) -> 0 | F10: =SUM(F11:F13) -> 0 | G10: =SUM(G11:G13) -> 0 | I10: =SUM(I11:I13) -> 0 | J10: =SUM(J11:J13) -> 0 | K10: =SUM(K11:K13) -> 0 | L10: =SUM(L11:L13) -> 0 | M10: =SUM(M11:M13) -> 0 | N10: =SUM(N11:N13) -> 0 | O10: =SUM(O11:O13) -> 0
A11: B351 | B11: Értékesítési és forgalmi adók | G11: =SUM(C11:F11) -> 0
A12: B354 | B12: Gépjármű adók | G12: =SUM(C12:F12) -> 0
A13: B355 | B13: Egyéb áruhasználati és szolgáltatási adók | G13: =SUM(C13:F13) -> 0
A14: B36 | B14: Egyéb közhatalmi bevételek | G14: =SUM(C14:F14) -> 0
A15: B4 | B15: Működési bevételek | C15: =SUM(C16:C26) -> 18452 | D15: =SUM(D16:D26) -> 2600 | E15: =SUM(E16:E26) -> 811 | F15: =SUM(F16:F26) -> 0 | G15: =SUM(G16:G26) -> 21863 | H15: =SUM(H16:H26) -> 23045 | I15: =SUM(I16:I26) -> 14955 | J15: =SUM(J16:J26) -> 0 | ... O15: =SUM(O16:O26) -> 8230.796 | P15: =O15/N15 -> 0.55037085
A16: B401 | B16: Készletértékesítés ellenértéke | G16: =SUM(C16:F16) -> 0 | N16: =I16+J16+K16+L16+M16 -> 0
A17: B402 | B17: Szolgáltatások ellenértéke | G17: =SUM(C17:F17) -> 0 | N17: =I17+J17+K17+L17+M17 -> 0
A18: B403 | B18: Közvetített szolgáltatások ellenértéke | C18: 2200 | D18: =[3]összefogl!$F$76 -> 800 | G18: =SUM(C18:F18) -> 3000 | H18: 3680 | I18: 2200 | N18: =SUM(I18:M18) -> 2200 | O18: 996.519 | P18: =O18/N18 -> 0.45296318
A19: B404 | B19: Tulajdonosi bevételek | G19: =SUM(C19:F19) -> 0
A20: B405 | B20: Ellátási díjak | C20: 11998 | D20: =[3]összefogl!$H$76 -> 1800 | G20: =SUM(C20:F20) -> 13798 | H20: 14634 | I20: =13200-3622 -> 9578 | N20: =SUM(I20:M20) -> 9578 | O20: 6017.885 | P20: =O20/N20 -> 0.62830288
A21: B406 | B21: Kiszámlázott általános forgalmi adó | C21: 3239 | E21: 811 | G21: =SUM(C21:F21) -> 4050 | H21: 2927 | I21: =2940-978 -> 1962 | N21: =SUM(I21:M21) -> 1962 | O21: 703.539 | P21: =O21/N21 -> 0.35858257
A22: B407 | B22: Általános forgalmi adó visszatérítése | C22: 1000 | G22: =SUM(C22:F22) -> 1000 | H22: 1788 | I22: 1200 | N22: =SUM(I22:M22) -> 1200 | O22: 487.828 | P22: =O22/N22 -> 0.40652333
A23: B408 | B23: Kamatbevételek | C23: 15 | G23: =SUM(C23:F23) -> 15 | H23: 16 | I23: 15 | N23: =SUM(I23:M23) -> 15 | O23: 4.401 | P23: =O23/N23 -> 0.2934
A24: B409 | B24: Egyéb pénzügyi műveletek bevételei | G24: =SUM(C24:F24) -> 0
A25: B410 | B25: Biztosító által fizetett kártérítés
A26: B411 | B26: Egyéb működési bevételek | G26: =SUM(C26:F26) -> 0 | N26: =SUM(I26:M26) -> 0 | O26: 20.624
A27: B5 | B27: Felhalmozási bevételek | C27: =C28+C29+C30 -> 0 | D27: =D28+D29+D30 -> 0 | F27: =F28+F29+F30 -> 0 | G27: =G28+G29+G30 -> 0 | H27: =H28+H29+H30 -> 0 | I27: =I28+I29+I30 -> 0 | J27: =J28+J29+J30 -> 0 | K27: =K28+K29+K30 -> 0 | L27: =L28+L29+L30 -> 0 | M27: =M28+M29+M30 -> 0 | ... O27: =O28+O29+O30 -> 0
A28: B51 | B28: Immateriális javak értékesítése | G28: =SUM(C28:F28) -> 0
A29: B52 | B29: Ingatlanok értékesítése | G29: =SUM(C29:F29) -> 0
A30: B53 | B30: Egyéb tárgyi eszközök értékesítése | G30: =SUM(C30:F30) -> 0
A31: B6 | B31: Működési célú átvett pénzeszköz | G31: =SUM(C31:F31) -> 0 | I31: 0 | N31: =SUM(I31:M31) -> 0
A32: B7 | B32: Felhalmozási célú átvett pénzeszköz | G32: =SUM(C32:F32) -> 0 | I32: 0 | N32: =SUM(I32:M32) -> 0
A33: II. | B33: KÖLTSÉGVETÉSI KIADÁSOK | C33: =C34+C37+C38+C44+C45+C50+C51+C52 -> 127021 | D33: =D34+D37+D38+D44+D45+D50+D51+D52 -> 2997 | E33: =E34+E37+E38+E44+E45+E50+E51+E52 -> 811 | F33: =F34+F37+F38+F44+F45+F50+F51+F52 -> 0 | G33: =G34+G37+G38+G44+G45+G50+G51+G52 -> 130829 | H33: =H34+H37+H38+H44+H45+H50+H51+H52 -> 122843 | I33: =I34+I37+I38+I44+I45+I50+I51+I52 -> 127292 | J33: =J34+J37+J38+J44+J45+J50+J51+J52 -> 0 | ... O33: =O34+O37+O38+O44+O45+O50+O51+O52 -> 68728.953 | P33: =O33/N33 -> 0.50312548
A34: K1 | B34: Személyi juttatások | C34: 67662 | D34: =[3]összefogl!$X$76 -> 761 | F34: 0 | G34: =SUM(C34:F34) -> 68423 | H34: 67298 | I34: =SUM(I35:I36) -> 68653 | J34: =SUM(J35:J36) -> 0 | K34: =SUM(K35:K36) -> 3227 | L34: =SUM(L35:L36) -> 3556 | M34: =SUM(M35:M36) -> 0 | N34: =SUM(N35:N36) -> 75436 | O34: =SUM(O35:O36) -> 38881.663 | P34: =O34/N34 -> 0.51542583
A35: K11 | B35: Foglalkoztatottak személyi juttatásai | I35: 68523 | K35: 3227 | L35: =320+2576+660 -> 3556 | N35: =SUM(I35:M35) -> 75306 | O35: 38829.098 | P35: =O35/N35 -> 0.51561759
A36: K12 | B36: Külső személyi juttatások | I36: 130 | N36: =SUM(I36:M36) -> 130 | O36: 52.565 | P36: =O36/N36 -> 0.40434615
A37: K2 | B37: Munkaadókat terhelő járulékok és szociális hozzájárulási adó | C37: 20145 | D37: =[3]összefogl!$Y$76 -> 206 | G37: =SUM(C37:F37) -> 20351 | H37: 19529 | I37: 20444 | K37: =318+446 -> 764 | L37: =86+696+178 -> 960 | N37: =SUM(I37:M37) -> 22168 | O37: 11432.642 | P37: =O37/N37 -> 0.51572726
A38: K3 | B38: Dologi kiadások | C38: 38614 | D38: =[3]összefogl!$Z$76 -> 2030 | E38: 811 | F38: 0 | G38: =SUM(C38:F38) -> 41455 | H38: 34344 | I38: =SUM(I39:I43) -> 37695 | J38: =SUM(J39:J43) -> 0 | K38: =SUM(K39:K43) -> 1004 | L38: =SUM(L39:L43) -> 0 | M38: =SUM(M39:M43) -> -200 | N38: =SUM(N39:N43) -> 38499 | O38: =SUM(O39:O43) -> 18365.766 | P38: =O38/N38 -> 0.47704527
A39: K31 | B39: Készletbeszerzés | I39: 2510 | N39: =SUM(I39:M39) -> 2510 | O39: 717.174 | P39: =O39/N39 -> 0.28572669
A40: K32 | B40: Kommunikációs szolgáltatások | I40: 150 | N40: =SUM(I40:M40) -> 150 | O40: 55.472 | P40: =O40/N40 -> 0.36981333
A41: K33 | B41: Szolgáltatási kiadások | I41: 28335 | K41: 465 | M41: ='[1]Intézményi kezd. ei mód'!$D$4/1000 -> -200 | N41: =SUM(I41:M41) -> 28600 | O41: 14355.955 | P41: =O41/N41 -> 0.50195647
A42: K34 | B42: Kiküldetések, reklám- és propaganda kiadások | I42: 100 | N42: =SUM(I42:M42) -> 100 | O42: 12.11 | P42: =O42/N42 -> 0.1211
A43: K35 | B43: Különféle befizetések és egyéb dologi kiadások | I43: 6600 | K43: 539 | N43: =SUM(I43:M43) -> 7139 | O43: 3225.055 | P43: =O43/N43 -> 0.45175165
A44: K4 | B44: Ellátottak pénzbeli juttatásai | N44: =SUM(I44:M44) -> 0 | O44: 0
A45: K5 | B45: Egyéb működési célú kiadások | C45: =SUM(C47,C46) -> 600 | D45: =SUM(D47,D46) -> -550 | F45: =SUM(F47,F46) -> 0 | G45: =SUM(G47,G46) -> 50 | H45: =SUM(H47,H46) -> 1509 | I45: =SUM(I47,I46) -> 0 | J45: =SUM(J47,J46) -> 0 | K45: =SUM(K47,K46) -> 0 | L45: =SUM(L47,L46) -> 0 | M45: =SUM(M47,M46) -> 0 | ... O45: =SUM(O47,O46) -> 0
A46: K50-K513 | B46: Ebből: egyéb működési célú támogatások | C46: 600 | D46: =[3]összefogl!$AE$76 -> -550 | G46: =SUM(C46:F46) -> 50 | H46: 1509 | K46: 0 | O46: 0
A47: K513 | B47: Ebből: tartalék | C47: =SUM(C48:C49) -> 0 | D47: =SUM(D48:D49) -> 0 | F47: =SUM(F48:F49) -> 0 | G47: =SUM(G48:G49) -> 0 | H47: =SUM(H48:H49) -> 0 | I47: =SUM(I48:I49) -> 0 | J47: =SUM(J48:J49) -> 0 | K47: =SUM(K48:K49) -> 0 | L47: =SUM(L48:L49) -> 0 | M47: =SUM(M48:M49) -> 0 | ... O47: =SUM(O48:O49) -> 0
B48: Működési tartalék | G48: =SUM(C48:F48) -> 0 | K48: 0 | O48: 0
B49: Felhalmozási tartalék | G49: =SUM(C49:F49) -> 0 | O49: 0
A50: K6 | B50: Beruházások | D50: =[3]összefogl!$AF$76 -> 550 | G50: =SUM(C50:F50) -> 550 | H50: 163 | I50: 500 | L50: =-199 -> -199 | M50: ='[1]Intézményi kezd. ei mód'!$D$5/1000 -> 200 | N50: =SUM(I50:M50) -> 501 | O50: 48.882 | P50: =O50/N50 -> 0.097568862
A51: K7 | B51: Felújítások | G51: =SUM(C51:F51) -> 0 | I51: 0 | N51: =SUM(I51:M51) -> 0 | O51: 0
A52: K8 | B52: Egyéb felhalmozási célú kiadások | G52: =SUM(C52:F52) -> 0 | I52: 0 | N52: =SUM(I52:M52) -> 0 | O52: 0
B53: EGYENLEG (I.-II.) | C53: =C3-C33 -> -108569 | D53: =D3-D33 -> -397 | E53: =E3-E33 -> 0 | F53: =F3-F33 -> 0 | G53: =G3-G33 -> -108966 | H53: =H3-H33 -> -99798 | I53: =I3-I33 -> -112337 | J53: =J3-J33 -> 0 | ... O53: =O3-O33 -> -60498.157 | P53: =O53/N53 -> 0.49731734
B54: Működési | C54: =C6+C8+C15+C31-C34-C37-C38-C44-C45-C50-C51 -> -108569 | D54: =D6+D8+D15+D31-D34-D37-D38-D44-D45-D50-D51 -> -397 | E54: =E6+E8+E15+E31-E34-E37-E38-E44-E45-E50-E51 -> 0 | F54: =F6+F8+F15+F31-F34-F37-F38-F44-F45-F50-F51 -> 0 | G54: =G6+G8+G15+G31-G34-G37-G38-G44-G45-G50-G51 -> -108966 | H54: =H6+H8+H15+H31-H34-H37-H38-H44-H45-H50-H51 -> -99798 | I54: =I6+I8+I15+I31-I34-I37-I38-I44-I45-I50-I51 -> -112337 | J54: =J6+J8+J15+J31-J34-J37-J38-J44-J45-J50-J51 -> 0 | ... O54: =O6+O8+O15+O31-O34-O37-O38-O44-O45-O50-O51 -> -60498.157 | P54: =O54/N54 -> 0.49731734
B55: Felhalmozási | C55: =C7+C27+C32-C52 -> 0 | D55: =D7+D27+D32-D52 -> 0 | E55: =E7+E27+E32-E52 -> 0 | F55: =F7+F27+F32-F52 -> 0 | G55: =G7+G27+G32-G52 -> 0 | H55: =H7+H27+H32-H52 -> 0 | I55: =I7+I27+I32-I52 -> 0 | J55: =J7+J27+J32-J52 -> 0 | ... O55: =O7+O27+O32-O52 -> 0
A56: III.B8 | B56: FINANSZÍROZÁSI BEVÉTELEK | C56: =C57+C65 -> 108569 | D56: =D57+D65 -> 2197 | E56: =E57+E65 -> 0 | F56: =F57+F65 -> 0 | G56: =G57+G65 -> 110766 | H56: =H57+H65 -> 103781 | I56: =I57+I65 -> 112337 | J56: =J57+J65 -> 0 | ... O56: =O57+O65 -> 63107.305 | P56: =O56/N56 -> 0.51876551
A57: B81 | B57: Belföldi finanszírozás bevételei | C57: =SUM(C58,C59,C60,C63,C64) -> 108569 | D57: =SUM(D58,D59,D60,D63,D64) -> 2197 | E57: =SUM(E58,E59,E60,E63,E64) -> 0 | F57: =SUM(F58,F59,F60,F63,F64) -> 0 | G57: =SUM(G58,G59,G60,G63,G64) -> 110766 | H57: =SUM(H58,H59,H60,H63,H64) -> 103781 | I57: =SUM(I58,I59,I60,I63,I64) -> 112337 | J57: =SUM(J58,J59,J60,J63,J64) -> 0 | ... O57: =SUM(O58,O59,O60,O63,O64) -> 63107.305 | P57: =O57/N57 -> 0.51876551
A58: B811 | B58: Hitel-, kölcsönfelvétel államháztartáson kívülről | G58: =SUM(C58:F58) -> 0
A59: B812 | B59: Belföldi értékpapírok bevételei | G59: =SUM(C59:F59) -> 0
A60: B813 | B60: Maradvány igénybevétele | C60: =SUM(C61:C62) -> 0 | D60: =SUM(D61:D62) -> 1230 | F60: =SUM(F61:F62) -> 0 | G60: =SUM(G61:G62) -> 1230 | H60: =SUM(H61:H62) -> 2695 | I60: =SUM(I61:I62) -> 0 | J60: =SUM(J61:J62) -> 0 | K60: =SUM(K61:K62) -> 3349 | L60: =SUM(L61:L62) -> 0 | M60: =SUM(M61:M62) -> 0 | ... O60: =SUM(O61:O62) -> 3349 | P60: =O60/N60 -> 1
B61: Ebből: működési | D61: 1230 | G61: =SUM(C61:F61) -> 1230 | H61: 2695 | K61: 3349 | N61: =SUM(K61:M61) -> 3349 | O61: 3349 | P61: =O61/N61 -> 1
B62: fejlesztései | G62: =SUM(C62:F62) -> 0 | K62: 0 | N62: =SUM(K62:M62) -> 0
A63: B814 | B63: Államháztartáson belüli megelőlegezések | G63: =SUM(C63:F63) -> 0
A64: B816 | B64: Központi, önkormányzattól kapott támogatás | C64: 108569 | D64: =[3]összefogl!$S$76 -> 967 | G64: =SUM(C64:F64) -> 109536 | H64: 101086 | I64: =114233-1896 -> 112337 | K64: =1494+2097-1945 -> 1646 | L64: =-199+406+3272+838 -> 4317 | N64: =SUM(I64:M64) -> 118300 | O64: 59758.305 | P64: =O64/N64 -> 0.50514205
A65: B82 | B65: Külföldi finanszírozás bevételei | G65: =SUM(C65:F65) -> 0
A66: IV.K9 | B66: FINANSZÍROZÁSI KIADÁSOK | C66: =C67+C71 -> 0 | D66: =D67+D71 -> 0 | E66: =E67+E71 -> 0 | F66: =F67+F71 -> 0 | G66: =G67+G71 -> 0 | H66: =H67+H71 -> 0 | I66: =I67+I71 -> 0 | J66: =J67+J71 -> 0 | ... O66: =O67+O71 -> 0
A67: K91 | B67: Belföldi finanszírozás kiadásai | C67: =SUM(C68:C70) -> 0 | D67: =SUM(D68:D70) -> 0 | F67: =SUM(F68:F70) -> 0 | G67: =SUM(G68:G70) -> 0 | I67: =SUM(I68:I70) -> 0 | J67: =SUM(J68:J70) -> 0 | K67: =SUM(K68:K70) -> 0 | L67: =SUM(L68:L70) -> 0 | M67: =SUM(M68:M70) -> 0 | N67: =SUM(N68:N70) -> 0 | O67: =SUM(O68:O70) -> 0
A68: K911 | B68: Hitel-, kölcsöntörlesztés államháztartáson kívülre | G68: =SUM(C68:F68) -> 0 | I68: 0 | J68: 0 | K68: 0 | L68: 0 | N68: 0
A69: K914 | B69: ÁH-n belüli megelőlegezések visszafizetése | G69: =SUM(C69:F69) -> 0 | I69: 0 | J69: 0 | K69: 0 | L69: 0 | N69: 0
A70: K915 | B70: Központi, irányító szervi támogatások folyósítása | G70: =SUM(C70:F70) -> 0 | I70: =SUM(I69) -> 0 | J70: =SUM(J69) -> 0 | K70: =SUM(K69) -> 0 | L70: =SUM(L69) -> 0 | N70: =SUM(N69) -> 0
A71: K92 | B71: Külföldi finanszírozás kiadásai | G71: =SUM(C71:F71) -> 0
B72: FINANSZÍROZÁSI EGYENLEG (III.-IV.) | C72: =C56-C66 -> 108569 | D72: =D56-D66 -> 2197 | E72: =E56-E66 -> 0 | F72: =F56-F66 -> 0 | G72: =G56-G66 -> 110766 | H72: =H56-H66 -> 103781 | I72: =I56-I66 -> 112337 | J72: =J56-J66 -> 0 | ... O72: =O56-O66 -> 63107.305 | P72: =O72/N72 -> 0.51876551
B73: BEVÉTELEK MINDÖSSZESEN (I.+III.) | C73: =C3+C56 -> 127021 | D73: =D3+D56 -> 4797 | E73: =E3+E56 -> 811 | F73: =F3+F56 -> 0 | G73: =G3+G56 -> 132629 | H73: =H3+H56 -> 126826 | I73: =I3+I56 -> 127292 | J73: =J3+J56 -> 0 | ... O73: =O3+O56 -> 71338.101 | P73: =O73/N73 -> 0.52222556
B74: Ebből: Működési | C74: =C6+C8+C15+C31 -> 18452 | D74: =D6+D8+D15+D31 -> 2600 | E74: =E6+E8+E15+E31 -> 811 | F74: =F6+F8+F15+F31 -> 0 | G74: =G6+G8+G15+G31 -> 21863 | H74: =H6+H8+H15+H31+H61 -> 25740 | I74: =I6+I8+I15+I31+I61 -> 14955 | J74: =J6+J8+J15+J31+J61 -> 0 | K74: =K6+K8+K15+K31+K61 -> 3349 | L74: =L6+L8+L15+L31+L61 -> 0 | M74: =M6+M8+M15+M31+M61 -> 0 | N74: =N6+N8+N15+N31+N61 -> 18304 | O74: =O6+O8+O15+O31 -> 8230.796 | P74: =O74/N74 -> 0.44967198
B75: Ebből: Felhalmozási | C75: =C7+C27+C32 -> 0 | D75: =D7+D27+D32 -> 0 | E75: =E7+E27+E32 -> 0 | F75: =F7+F27+F32 -> 0 | G75: =G7+G27+G32 -> 0 | H75: =H7+H27+H32+H62 -> 0 | I75: =I7+I27+I32+I62 -> 0 | J75: =J7+J27+J32+J62 -> 0 | K75: =K7+K27+K32+K62 -> 0 | L75: =L7+L27+L32+L62 -> 0 | M75: =M7+M27+M32+M62 -> 0 | N75: =N7+N27+N32+N62 -> 0 | O75: =O7+O27+O32 -> 0
B76: Ebből: Finanszírozási | C76: =C56 -> 108569 | D76: =D56 -> 2197 | E76: =E56 -> 0 | F76: =F56 -> 0 | G76: =G56 -> 110766 | H76: =H56-H60 -> 101086 | I76: =I56-I60 -> 112337 | J76: =J56-J60 -> 0 | K76: =K56-K60 -> 1646 | L76: =L56-L60 -> 4317 | M76: =M56-M60 -> 0 | N76: =N56-N60 -> 118300 | O76: =O56 -> 63107.305 | P76: =O76/N76 -> 0.53345144
B77: KIADÁSOK MINDÖSSZESEN (II.+IV.) | C77: =C33+C66 -> 127021 | D77: =D33+D66 -> 2997 | E77: =E33+E66 -> 811 | F77: =F33+F66 -> 0 | G77: =G33+G66 -> 130829 | H77: =H33+H66 -> 122843 | I77: =I33+I66 -> 127292 | J77: =J33+J66 -> 0 | ... O77: =O33+O66 -> 68728.953 | P77: =O77/N77 -> 0.50312548
B78: Ebből: Működési | C78: =C34+C37+C38+C44+C45-C49 -> 127021 | D78: =D34+D37+D38+D44+D45-D49 -> 2447 | E78: =E34+E37+E38+E44+E45-E49 -> 811 | F78: =F34+F37+F38+F44+F45-F49 -> 0 | G78: =G34+G37+G38+G44+G45-G49 -> 130279 | H78: =H34+H37+H38+H44+H45-H49 -> 122680 | I78: =I34+I37+I38+I44+I45-I49 -> 126792 | J78: =J34+J37+J38+J44+J45-J49 -> 0 | ... O78: =O34+O37+O38+O44+O45-O49 -> 68680.071 | P78: =O78/N78 -> 0.50461835
B79: Ebből: Felhalmozási | C79: =C49+C50+C51+C52 -> 0 | D79: =D49+D50+D51+D52 -> 550 | E79: =E49+E50+E51+E52 -> 0 | F79: =F49+F50+F51+F52 -> 0 | G79: =G49+G50+G51+G52 -> 550 | H79: =H49+H50+H51+H52 -> 163 | I79: =I49+I50+I51+I52 -> 500 | J79: =J49+J50+J51+J52 -> 0 | ... O79: =O49+O50+O51+O52 -> 48.882 | P79: =O79/N79 -> 0.097568862
B80: Ebből: Finanszírozási | C80: =C66 -> 0 | D80: =D66 -> 0 | E80: =E66 -> 0 | F80: =F66 -> 0 | G80: =G66 -> 0 | H80: =H66 -> 0 | I80: =I66 -> 0 | J80: =J66 -> 0 | ... O80: =O66 -> 0
B81: KÖLTSÉGVETÉSI EGYENLEG | C81: =C73-C77 -> 0 | D81: =D73-D77 -> 1800 | E81: =E73-E77 -> 0 | F81: =F73-F77 -> 0 | G81: =G73-G77 -> 1800 | H81: =H73-H77 -> 3983 | I81: =I73-I77 -> 0 | J81: =J73-J77 -> 0 | ... O81: =O73-O77 -> 2609.148
B82: Ebből: Működési | C82: =C74-C78 -> -108569 | D82: =D74-D78 -> 153 | E82: =E74-E78 -> 0 | F82: =F74-F78 -> 0 | G82: =G74-G78 -> -108416 | H82: =H74-H78 -> -96940 | I82: =I74-I78 -> -111837 | J82: =J74-J78 -> 0 | ... O82: =O74-O78 -> -60449.275 | P82: =O82/N82 -> 0.5131561
B83: Ebből: Felhalmozási | C83: =C75-C79 -> 0 | D83: =D75-D79 -> -550 | E83: =E75-E79 -> 0 | F83: =F75-F79 -> 0 | G83: =G75-G79 -> -550 | H83: =H75-H79 -> -163 | I83: =I75-I79 -> -500 | J83: =J75-J79 -> 0 | ... O83: =O75-O79 -> -48.882 | P83: =O83/N83 -> 0.097568862
B84: Ebből: Finanszírozási | C84: =C76-C80 -> 108569 | D84: =D76-D80 -> 2197 | E84: =E76-E80 -> 0 | F84: =F76-F80 -> 0 | G84: =G76-G80 -> 110766 | H84: =H72-H61-H62 -> 101086 | I84: =I72 -> 112337 | J84: =J72 -> 0 | K84: =K72 -> 4995 | L84: =L72 -> 4317 | M84: =M72 -> 0 | N84: =N72 -> 121649 | O84: =O72 -> 63107.305 | P84: =O84/N84 -> 0.51876551

Sheet Gondozási 2h
B1: Gondozási Központ Szentendre | C1: 2015 Előirányzat | G1: 2015 tény 2016.01.25. | H1: 2016 Előirányzat | N1: 2016 Tény 01-06. hó
C2: Kötelező feladatok | D2: 1. módosítás | E2: Nem kötelező feladatok | F2: Összesen módosításokkal | H2: Kötelező feladatok | I2: Nem kötelező feladatok | J2: 1. módosítás | K2: 2. módosítás | L2: 3. módosítás | M2: Módosított előirányzat | N2: EFt | O2: %
A3: I. | B3: KÖLTSÉGVETÉSI BEVÉTELEK | C3: =C6+C7+C8+C15+C27+C31+C32 -> 86879 | D3: =D6+D7+D8+D15+D27+D31+D32 -> 1505 | E3: =E6+E7+E8+E15+E27+E31+E32 -> 0 | F3: =F6+F7+F8+F15+F27+F31+F32 -> 88384 | G3: =G6+G7+G8+G15+G27+G31+G32 -> 73860 | H3: =H6+H7+H8+H15+H27+H31+H32 -> 94232 | I3: =I6+I7+I8+I15+I27+I31+I32 -> 0 | J3: =J6+J7+J8+J15+J27+J31+J32 -> 1616 | ... N3: =N6+N7+N8+N15+N27+N31+N32 -> 54130.787 | O3: =N3/M3 -> 0.52256907
A4: B11 | B4: Önkormányzatok működési támogatásai | F4: =SUM(C4:E4) -> 0
A5: B16 | B5: Egyéb működési célú támogatások ÁHT-n belülről OEP finanszírozás | C5: 69879 | F5: =SUM(C5:E5) -> 69879 | G5: 72478 | H5: 69879 | L5: =('[1]Intézményi kezd. ei mód'!$C$32+'[1]Intézményi kezd. ei mód'!$C$33+'[1]Intézményi kezd. ei mód'!$C$39)/1000 -> 7237.9 | M5: =SUM(H5:L5) -> 77116.9 | N5: 37650.2 | O5: =N5/M5 -> 0.48822243
A6: B1 | B6: Működési célú támogatások államháztartáson belülről | C6: =SUM(C4:C5) -> 69879 | D6: =SUM(D4:D5) -> 0 | E6: =SUM(E4:E5) -> 0 | F6: =SUM(F4:F5) -> 69879 | G6: =SUM(G4:G5) -> 72478 | H6: =SUM(H4:H5) -> 69879 | I6: =SUM(I4:I5) -> 0 | J6: =SUM(J4:J5) -> 0 | ... N6: =SUM(N4:N5) -> 37650.2 | O6: =N6/M6 -> 0.48822243
A7: B2 | B7: Felhalmozási célú támogatások államháztartáson belülről | F7: =SUM(C7:E7) -> 0 | H7: 0 | I7: 0 | J7: 0 | K7: 0 | M7: =SUM(H7:L7) -> 0 | N7: 0
A8: B3 | B8: Közhatalmi bevételek | C8: =SUM(C9,C10,C14) -> 0 | D8: =SUM(D9,D10,D14) -> 0 | E8: =SUM(E9,E10,E14) -> 0 | F8: =SUM(F9,F10,F14) -> 0 | G8: =SUM(G9,G10,G14) -> 0 | H8: =SUM(H9,H10,H14) -> 0 | I8: =I9+I11+I12+I13+I14 -> 0 | J8: =J9+J11+J12+J13+J14 -> 0 | K8: =K9+K11+K12+K13+K14 -> 0 | M8: =M9+M11+M12+M13+M14 -> 0 | N8: =N9+N11+N12+N13+N14 -> 0
A9: B34 | B9: Vagyoni tipusú adók | F9: =SUM(C9:E9) -> 0 | O9: =N9/M9 -> #DIV/0!
A10: B35 | B10: Termékek és szolgáltatások adói | C10: =SUM(C11:C13) -> 0 | E10: =SUM(E11:E13) -> 0 | F10: =SUM(F11:F13) -> 0 | H10: =SUM(H11:H13) -> 0 | I10: =SUM(I11:I13) -> 0 | J10: =SUM(J11:J13) -> 0 | K10: =SUM(K11:K13) -> 0 | M10: =SUM(M11:M13) -> 0 | N10: =SUM(N11:N13) -> 0 | O10: =N10/M10 -> #DIV/0!
A11: B351 | B11: Értékesítési és forgalmi adók | F11: =SUM(C11:E11) -> 0 | O11: =N11/M11 -> #DIV/0!
A12: B354 | B12: Gépjármű adók | F12: =SUM(C12:E12) -> 0 | O12: =N12/M12 -> #DIV/0!
A13: B355 | B13: Egyéb áruhasználati és szolgáltatási adók | F13: =SUM(C13:E13) -> 0 | O13: =N13/M13 -> #DIV/0!
A14: B36 | B14: Egyéb közhatalmi bevételek | F14: =SUM(C14:E14) -> 0 | O14: =N14/M14 -> #DIV/0!
A15: B4 | B15: Működési bevételek | C15: =SUM(C16:C26) -> 17000 | D15: =SUM(D16:D26) -> 1105 | E15: =SUM(E16:E26) -> 0 | F15: =SUM(F16:F26) -> 18105 | G15: =SUM(G16:G26) -> 982 | H15: =SUM(H16:H26) -> 24353 | I15: =SUM(I16:I26) -> 0 | J15: =SUM(J16:J26) -> 1616 | ... N15: =SUM(N16:N26) -> 16480.587 | O15: =N15/M15 -> 0.62263731
A16: B401 | B16: Készletértékesítés ellenértéke | F16: =SUM(C16:E16) -> 0 | M16: =SUM(H16:L16) -> 0
A17: B402 | B17: Szolgáltatások ellenértéke | F17: =SUM(C17:E17) -> 0 | M17: =SUM(H17:L17) -> 0 | N17: 80.305
A18: B403 | B18: Közvetített szolgáltatások ellenértéke | D18: =[3]összefogl!$F$83 -> 1105 | F18: =SUM(C18:E18) -> 1105 | G18: 909 | M18: =SUM(H18:L18) -> 0 | N18: 477.085
A19: B404 | B19: Tulajdonosi bevételek | F19: =SUM(C19:E19) -> 0 | M19: =SUM(H19:L19) -> 0
A20: B405 | B20: Ellátási díjak | C20: 17000 | F20: =SUM(C20:E20) -> 17000 | H20: 24353 | J20: 1616 | L20: ='[1]Intézményi kezd. ei mód'!$C$43/1000 -> 500 | M20: =SUM(H20:L20) -> 26469 | N20: 15790.599 | O20: =N20/M20 -> 0.59656953
A21: B406 | B21: Kiszámlázott általános forgalmi adó | F21: =SUM(C21:E21) -> 0 | M21: =SUM(H21:L21) -> 0 | N21: 19.09
A22: B407 | B22: Általános forgalmi adó visszatérítése | F22: =SUM(C22:E22) -> 0 | M22: =SUM(H22:L22) -> 0
A23: B408 | B23: Kamatbevételek | F23: =SUM(C23:E23) -> 0 | M23: =SUM(H23:L23) -> 0 | N23: 81.262
A24: B409 | B24: Egyéb pénzügyi műveletek bevételei | F24: =SUM(C24:E24) -> 0 | M24: =SUM(H24:L24) -> 0
A25: B410 | B25: Biztosító által fizetett kártérítés | M25: =SUM(H25:L25) -> 0
A26: B411 | B26: Egyéb működési bevételek | F26: =SUM(C26:E26) -> 0 | G26: 73 | M26: =SUM(H26:L26) -> 0 | N26: 32.246
A27: B5 | B27: Felhalmozási bevételek | C27: =C28+C29+C30 -> 0 | D27: =D28+D29+D30 -> 0 | E27: =E28+E29+E30 -> 0 | F27: =F28+F29+F30 -> 0 | G27: =G28+G29+G30 -> 0 | H27: =H28+H29+H30 -> 0 | I27: =I28+I29+I30 -> 0 | J27: =J28+J29+J30 -> 0 | ... L27: =L28+L29+L30 -> 0 | M27: =SUM(H27:L27) -> 0 | N27: =N28+N29+N30 -> 0
A28: B51 | B28: Immateriális javak értékesítése | F28: =SUM(C28:E28) -> 0 | M28: =SUM(H28:L28) -> 0
A29: B52 | B29: Ingatlanok értékesítése | F29: =SUM(C29:E29) -> 0 | M29: =SUM(H29:L29) -> 0
A30: B53 | B30: Egyéb tárgyi eszközök értékesítése | F30: =SUM(C30:E30) -> 0 | M30: =SUM(H30:L30) -> 0
A31: B6 | B31: Működési célú átvett pénzeszköz | F31: =SUM(C31:E31) -> 0 | H31: 0 | M31: =SUM(H31:L31) -> 0 | N31: 0
A32: B7 | B32: Felhalmozási célú átvett pénzeszköz | D32: =[3]összefogl!$R$83 -> 400 | F32: =SUM(C32:E32) -> 400 | G32: 400 | H32: =SUM(H27:H31) -> 0 | I32: =SUM(I27:I31) -> 0 | M32: =SUM(H32:L32) -> 0 | N32: 0
A33: II. | B33: KÖLTSÉGVETÉSI KIADÁSOK | C33: =C34+C37+C38+C44+C45+C50+C51+C52 -> 159985 | D33: =D34+D37+D38+D44+D45+D50+D51+D52 -> 19445 | E33: =E34+E37+E38+E44+E45+E50+E51+E52 -> 0 | F33: =F34+F37+F38+F44+F45+F50+F51+F52 -> 179430 | G33: =G34+G37+G38+G44+G45+G50+G51+G52 -> 158039 | H33: =H34+H37+H38+H44+H45+H50+H51+H52 -> 175621 | I33: =I34+I37+I38+I44+I45+I50+I51+I52 -> 0 | J33: =J34+J37+J38+J44+J45+J50+J51+J52 -> 19489 | ... N33: =N34+N37+N38+N44+N45+N50+N51+N52 -> 75078.244 | O33: =N33/M33 -> 0.36424019
A34: K1 | B34: Személyi juttatások | C34: 74626 | D34: =[3]összefogl!$X$83 -> 5399 | E34: 0 | F34: =SUM(C34:E34) -> 80025 | G34: 83862 | H34: =SUM(H35:H36) -> 80718 | I34: =SUM(I35:I36) -> 0 | J34: =SUM(J35:J36) -> 7927 | K34: =SUM(K35:K36) -> 2579 | L34: =SUM(L35:L36) -> 5699 | M34: =SUM(M35:M36) -> 96923 | N34: =SUM(N35:N36) -> 40186.549 | O34: =N34/M34 -> 0.41462345
A35: K11 | B35: Foglalkoztatottak személyi juttatásai | H35: 80718 | J35: =1465+1439+5023 -> 7927 | K35: =436+1571+572 -> 2579 | L35: =('[1]Intézményi kezd. ei mód'!$D$34+'[1]Intézményi kezd. ei mód'!$D$35+'[1]Intézményi kezd. ei mód'!$D$40)/1000 -> 5699 | M35: =SUM(H35:L35) -> 96923 | N35: 40178.549 | O35: =N35/M35 -> 0.41454091
A36: K12 | B36: Külső személyi juttatások | H36: 0 | M36: =SUM(H36:L36) -> 0 | N36: 8
A37: K2 | B37: Munkaadókat terhelő járulékok és szociális hozzájárulási adó | C37: 22251 | D37: =[3]összefogl!$Y$83 -> 1504 | F37: =SUM(C37:E37) -> 23755 | G37: 21311 | H37: 23423 | J37: =395+389+1356 -> 2140 | K37: =118+424+154 -> 696 | L37: =('[1]Intézményi kezd. ei mód'!$D$36+'[1]Intézményi kezd. ei mód'!$D$37+'[1]Intézményi kezd. ei mód'!$D$41)/1000 -> 1538.9 | M37: =SUM(H37:L37) -> 27797.9 | N37: 10825.143 | O37: =N37/M37 -> 0.38942305
A38: K3 | B38: Dologi kiadások | C38: 59108 | D38: =[3]összefogl!$Z$83 -> 10227 | E38: 0 | F38: =SUM(C38:E38) -> 69335 | G38: 44030 | H38: =SUM(H39:H43) -> 71480 | I38: =SUM(I39:I43) -> 0 | J38: =SUM(J39:J43) -> 2759 | K38: =SUM(K39:K43) -> 0 | L38: =SUM(L39:L43) -> 500 | M38: =SUM(M39:M43) -> 74739 | N38: =SUM(N39:N43) -> 23568.856 | O38: =N38/M38 -> 0.31534883
A39: K31 | B39: Készletbeszerzés | H39: 21112 | M39: =SUM(H39:L39) -> 21112 | N39: 2251.837 | O39: =N39/M39 -> 0.10666147
A40: K32 | B40: Kommunikációs szolgáltatások | H40: 2855 | M40: =SUM(H40:L40) -> 2855 | N40: 1326.628 | O40: =N40/M40 -> 0.4646683
A41: K33 | B41: Szolgáltatási kiadások | H41: 30789 | J41: 2759 | L41: ='[1]Intézményi kezd. ei mód'!$D$44/1000 -> 500 | M41: =SUM(H41:L41) -> 34048 | N41: 14852.685 | O41: =N41/M41 -> 0.43622783
A42: K34 | B42: Kiküldetések, reklám- és propaganda kiadások | H42: 1138 | M42: =SUM(H42:L42) -> 1138 | N42: 535.275 | O42: =N42/M42 -> 0.47036467
A43: K35 | B43: Különféle befizetések és egyéb dologi kiadások | H43: 15586 | M43: =SUM(H43:L43) -> 15586 | N43: 4602.431 | O43: =N43/M43 -> 0.29529263
A44: K4 | B44: Ellátottak pénzbeli juttatásai | F44: =SUM(C44:E44) -> 0 | H44: 0 | M44: =SUM(H44:L44) -> 0 | N44: 0
A45: K5 | B45: Egyéb működési célú kiadások | C45: =SUM(C47,C46) -> 0 | D45: =SUM(D47,D46) -> 0 | E45: =SUM(E47,E46) -> 0 | F45: =SUM(F47,F46) -> 0 | G45: =SUM(G47,G46) -> 0 | L45: =L46+L47 -> 0 | M45: =SUM(H45:L45) -> 0 | N45: 0
A46: K50-K513 | B46: Ebből: egyéb működési célú támogatások | F46: =SUM(C46:E46) -> 0 | M46: =SUM(H46:L46) -> 0
A47: K513 | B47: Ebből: tartalék | C47: =SUM(C48:C49) -> 0 | D47: =SUM(D48:D49) -> 0 | E47: =SUM(E48:E49) -> 0 | F47: =SUM(F48:F49) -> 0 | G47: =SUM(G48:G49) -> 0 | H47: =SUM(H48:H49) -> 0 | I47: =SUM(I48:I49) -> 0 | J47: =SUM(J48:J49) -> 0 | ... N47: =SUM(N48:N49) -> 0
B48: Működési tartalék | F48: =SUM(C48:E48) -> 0
B49: Felhalmozási tartalék | F49: =SUM(C49:E49) -> 0
A50: K6 | B50: Beruházások | C50: 4000 | D50: =[3]összefogl!$AF$83 -> 2315 | F50: =SUM(C50:E50) -> 6315 | G50: 8836 | H50: 0 | I50: 0 | J50: 6663 | M50: =SUM(H50:L50) -> 6663 | N50: 497.696 | O50: =N50/M50 -> 0.074695483
A51: K7 | B51: Felújítások | F51: =SUM(C51:E51) -> 0 | H51: 0 | I51: 0 | J51: 0 | M51: =SUM(H51:L51) -> 0 | N51: 0
A52: K8 | B52: Egyéb felhalmozási célú kiadások | F52: =SUM(C52:E52) -> 0 | H52: 0 | I52: 0 | J52: 0 | M52: =SUM(H52:L52) -> 0 | N52: 0
B53: EGYENLEG (I.-II.) | C53: =C3-C33 -> -73106 | D53: =D3-D33 -> -17940 | E53: =E3-E33 -> 0 | F53: =F3-F33 -> -91046 | G53: =G3-G33 -> -84179 | H53: =H3-H33 -> -81389 | I53: =I3-I33 -> 0 | J53: =J3-J33 -> -17873 | ... N53: =N3-N33 -> -20947.457 | O53: =N53/M53 -> 0.20429169
B54: Működési | C54: =C6+C8+C15+C31-C34-C37-C38-C44-C45-C50-C51 -> -73106 | D54: =D6+D8+D15+D31-D34-D37-D38-D44-D45-D50-D51 -> -18340 | E54: =E6+E8+E15+E31-E34-E37-E38-E44-E45-E50-E51 -> 0 | F54: =F6+F8+F15+F31-F34-F37-F38-F44-F45-F50-F51 -> -91446 | G54: =G6+G8+G15+G31-G34-G37-G38-G44-G45-G50-G51 -> -84579 | H54: =H6+H8+H15+H31-H34-H37-H38-H44-H45-H50-H51 -> -81389 | I54: =I6+I8+I15+I31-I34-I37-I38-I44-I45-I50-I51 -> 0 | J54: =J6+J8+J15+J31-J34-J37-J38-J44-J45-J50-J51 -> -17873 | ... N54: =N6+N8+N15+N31-N34-N37-N38-N44-N45-N50-N51 -> -20947.457 | O54: =N54/M54 -> 0.20429169
