Workbook

Sheet 1.1.sz.mell.
A1: B E V É T E L E K
A2: 1. sz. táblázat | G2: Ezer forintban
A3: Sor- szám | B3: Bevételi jogcím | C3: =+CONCATENATE(LEFT(#REF!,4),". évi") -> #REF!
C4: Eredeti előirányzat | D4: Módosított 2015.06.30 előirányzat | E4: Módosított 2015.09.30 előirányzat | F4: Módosított 2016.03.23 előirányzat | G4: =+CONCATENATE(LEFT(#REF!,4),". XII. 31.",CHAR(10),"teljesítés") -> #REF!
A5: A | B5: B | C5: C | D5: D | G5: E
A6: 1. | B6: Önkormányzat működési támogatásai (1.1.+…+.1.6.) | C6: =+C7+C8+C9+C10+C11+C12 -> 12737 | D6: =+D7+D8+D9+D10+D11+D12 -> 13937 | E6: =+E7+E8+E9+E10+E11+E12 -> 13937 | F6: =+F7+F8+F9+F10+F11+F12 -> 14522 | G6: =+G7+G8+G9+G10+G11+G12 -> 14522
A7: 1.1. | B7: Helyi önkormányzatok működésének általános támogatása | C7: 12242 | D7: 12242 | E7: 12242 | F7: 12578 | G7: 12578
A8: 1.2. | B8: Önkormányzatok egyes köznevelési feladatainak támogatása
A9: 1.3. | B9: Önkormányzatok szociális és gyermekjóléti feladatainak támogatása
A10: 1.4. | B10: Önkormányzatok kulturális feladatainak támogatása | C10: 0 | D10: 1200 | E10: 1200 | F10: 1200 | G10: 1200
A11: 1.5. | B11: Működési célú kvi támogatások és kiegészítő támogatások | C11: 495 | D11: 495 | E11: 495 | F11: 371 | G11: 371
A12: 1.6. | B12: Elszámolásból származó bevételek | F12: 373 | G12: 373
A13: 2. | B13: Működési célú támogatások államháztartáson belülről (2.1.+…+.2.5.) | C13: =+C14+C15+C16+C17+C18 -> 1797 | D13: =+D14+D15+D16+D17+D18 -> 1797 | E13: =+E14+E15+E16+E17+E18 -> 1797 | F13: =+F14+F15+F16+F17+F18 -> 1292 | G13: =+G14+G15+G16+G17+G18 -> 888
A14: 2.1. | B14: Elvonások és befizetések bevételei
A15: 2.2. | B15: Működési célú garancia- és kezességvállalásból megtérülések
A16: 2.3. | B16: Működési célú visszatérítendő támogatások, kölcsönök visszatérülése | C16: 1797 | D16: 1797 | E16: 1797 | F16: 1292 | G16: 888
A17: 2.4. | B17: Működési célú visszatérítendő támogatások, kölcsönök igénybevétele
A18: 2.5. | B18: Egyéb működési célú támogatások bevételei
A19: 2.6. | B19: 2.5.-ből EU-s támogatás
A20: 3. | B20: Felhalmozási célú támogatások államháztartáson belülről (3.1.+…+3.5.) | C20: =+C21+C22+C23+C24+C25 -> 0 | D20: =+D21+D22+D23+D24+D25 -> 0 | G20: =+G21+G22+G23+G24+G25 -> 0
A21: 3.1. | B21: Felhalmozási célú önkormányzati támogatások
A22: 3.2. | B22: Felhalmozási célú garancia- és kezességvállalásból megtérülések
A23: 3.3. | B23: Felhalmozási célú visszatérítendő támogatások, kölcsönök visszatérülése
A24: 3.4. | B24: Felhalmozási célú visszatérítendő támogatások, kölcsönök igénybevétele
A25: 3.5. | B25: Egyéb felhalmozási célú támogatások bevételei
A26: 3.6. | B26: 3.5.-ből EU-s támogatás
A27: 4. | B27: Közhatalmi bevételek (4.1.+4.2.+4.3.+4.4.) | C27: =+C28+C32+C33+C34 -> 2745 | D27: =+D28+D32+D33+D34 -> 2745 | E27: =+E28+E32+E33+E34 -> 2745 | F27: =+F28+F32+F33+F34 -> 3049 | G27: =+G28+G32+G33+G34 -> 2743
A28: 4.1. | B28: Helyi adók (4.1.1.+...+4.1.3.) | C28: =+C29+C30+C31 -> 2345 | D28: =+D29+D30+D31 -> 2345 | E28: 2345 | F28: 2447 | G28: =+G29+G30+G31 -> 2323
A29: 4.1.1. | B29: - Vagyoni típusú adók | C29: 1000 | D29: 1000 | E29: 1000 | F29: 1197 | G29: 1084
A30: 4.1.2. | B30: - Termékek és szolgáltatások adói | C30: 1345 | D30: 1345 | E30: 1345 | F30: 1250 | G30: 1239
A31: 4.1.3. | B31: - Értékesítési és forgalmi adók (iparűzési adó)
A32: 4.2. | B32: Gépjárműadó | C32: 400 | D32: 400 | E32: 400 | F32: 445 | G32: 392
A33: 4.3. | B33: Egyéb áruhasználati és szolgáltatási adók | F33: 143 | G33: 14
A34: 4.4. | B34: Egyéb közhatalmi bevételek | F34: 14 | G34: 14
A35: 5. | B35: Működési bevételek (5.1.+…+ 5.11.) | C35: =SUM(C36:C46) -> 535 | D35: =SUM(D36:D46) -> 535 | E35: =SUM(E36:E46) -> 535 | F35: =SUM(F36:F46) -> 505 | G35: 445
A36: 5.1. | B36: Készletértékesítés ellenértéke
A37: 5.2. | B37: Szolgáltatások ellenértéke | C37: 30 | D37: 30 | E37: 30 | F37: 10 | G37: 3
A38: 5.3. | B38: Közvetített szolgáltatások értéke | C38: 40 | D38: 40 | E38: 40 | F38: 40 | G38: 10
A39: 5.4. | B39: Tulajdonosi bevételek | C39: 425 | D39: 425 | E39: 425 | F39: 425 | G39: 425
A40: 5.5. | B40: Ellátási díjak
...

Sheet 1.2.sz.mell.
A1: Pula község Önkormányzat 2015. ÉVI KÖLTSÉGVETÉS KÖTELEZŐ FELADATAINAK MÉRLEGE
A2: B E V É T E L E K
A3: 1. sz. táblázat | G3: Ezer forintban
A4: Sor- szám | B4: Bevételi jogcím | C4: =+CONCATENATE(LEFT(#REF!,4),". évi") -> #REF!
C5: Eredeti előirányzat | D5: Módosított előirányzat | E5: Módosított előirányzat | F5: Módosított 2016.03.23 előirányzat | G5: =+CONCATENATE(LEFT(#REF!,4),". XII. 31.",CHAR(10),"teljesítés") -> #REF!
A6: A | B6: B | C6: C | D6: D | G6: E
A7: 1. | B7: Önkormányzat működési támogatásai (1.1.+…+.1.6.) | C7: =+C8+C9+C10+C11+C12+C13 -> 12737 | D7: =+D8+D9+D10+D11+D12+D13 -> 13937 | E7: =+E8+E9+E10+E11+E12+E13 -> 13937 | F7: =+F8+F9+F10+F11+F12+F13 -> 14522 | G7: =+G8+G9+G10+G11+G12+G13 -> 14522
A8: 1.1. | B8: Helyi önkormányzatok működésének általános támogatása | C8: 12242 | D8: 12242 | E8: 12242 | F8: 12578 | G8: 12578
A9: 1.2. | B9: Önkormányzatok egyes köznevelési feladatainak támogatása
A10: 1.3. | B10: Önkormányzatok szociális és gyermekjóléti feladatainak támogatása
A11: 1.4. | B11: Önkormányzatok kulturális feladatainak támogatása | D11: 1200 | E11: 1200 | F11: 1200 | G11: 1200
A12: 1.5. | B12: Működési célú kvi támogatások és kiegészítő támogatások | C12: 495 | D12: 495 | E12: 495 | F12: 371 | G12: 371
A13: 1.6. | B13: Elszámolásból származó bevételek | F13: 373 | G13: 373
A14: 2. | B14: Működési célú támogatások államháztartáson belülről (2.1.+…+.2.5.) | C14: =+C15+C16+C17+C18+C19 -> 1797 | D14: =+D15+D16+D17+D18+D19 -> 1797 | E14: =+E15+E16+E17+E18+E19 -> 1797 | F14: =+F15+F16+F17+F18+F19 -> 1292 | G14: =+G15+G16+G17+G18+G19 -> 888
A15: 2.1. | B15: Elvonások és befizetések bevételei
A16: 2.2. | B16: Működési célú garancia- és kezességvállalásból megtérülések
A17: 2.3. | B17: Működési célú visszatérítendő támogatások, kölcsönök visszatérülése | C17: 1797 | D17: 1797 | E17: 1797 | F17: 1292 | G17: 888
A18: 2.4. | B18: Működési célú visszatérítendő támogatások, kölcsönök igénybevétele
A19: 2.5. | B19: Egyéb működési célú támogatások bevételei
A20: 2.6. | B20: 2.5.-ből EU-s támogatás
A21: 3. | B21: Felhalmozási célú támogatások államháztartáson belülről (3.1.+…+3.5.) | C21: =+C22+C23+C24+C25+C26 -> 0 | D21: =+D22+D23+D24+D25+D26 -> 0 | G21: =+G22+G23+G24+G25+G26 -> 0
A22: 3.1. | B22: Felhalmozási célú önkormányzati támogatások
A23: 3.2. | B23: Felhalmozási célú garancia- és kezességvállalásból megtérülések
A24: 3.3. | B24: Felhalmozási célú visszatérítendő támogatások, kölcsönök visszatérülése
A25: 3.4. | B25: Felhalmozási célú visszatérítendő támogatások, kölcsönök igénybevétele
A26: 3.5. | B26: Egyéb felhalmozási célú támogatások bevételei
A27: 3.6. | B27: 3.5.-ből EU-s támogatás
A28: 4. | B28: Közhatalmi bevételek (4.1.+4.2.+4.3.+4.4.) | C28: =+C29+C33+C34+C35 -> 2745 | D28: =+D29+D33+D34+D35 -> 2745 | E28: =+E29+E33+E34+E35 -> 2745 | F28: =+F29+F33+F34+F35 -> 3049 | G28: =+G29+G33+G34+G35 -> 2743
A29: 4.1. | B29: Helyi adók (4.1.1.+...+4.1.3.) | C29: =+C30+C31+C32 -> 2345 | D29: =+D30+D31+D32 -> 2345 | E29: 2345 | F29: 2447 | G29: 2323
A30: 4.1.1. | B30: - Vagyoni típusú adók | C30: 1000 | D30: 1000 | E30: 1000 | F30: 1197 | G30: 1084
A31: 4.1.2. | B31: - Termékek és szolgáltatások adói | C31: 1345 | D31: 1345 | E31: 1345 | F31: 1250 | G31: 1239
A32: 4.1.3. | B32: - Értékesítési és forgalmi adók (iparűzési adó)
A33: 4.2. | B33: Gépjárműadó | C33: 400 | D33: 400 | E33: 400 | F33: 445 | G33: 392
A34: 4.3. | B34: Egyéb áruhasználati és szolgáltatási adók | F34: 143 | G34: 14
A35: 4.4. | B35: Egyéb közhatalmi bevételek | F35: 14 | G35: 14
A36: 5. | B36: Működési bevételek (5.1.+…+ 5.11.) | C36: =SUM(C37:C47) -> 535 | D36: =SUM(D37:D47) -> 535 | E36: =SUM(E37:E47) -> 535 | F36: =SUM(F37:F47) -> 505 | G36: =SUM(G37:G47) -> 445
A37: 5.1. | B37: Készletértékesítés ellenértéke
A38: 5.2. | B38: Szolgáltatások ellenértéke | C38: 30 | D38: 30 | E38: 30 | F38: 10 | G38: 3
A39: 5.3. | B39: Közvetített szolgáltatások értéke | C39: 40 | D39: 40 | E39: 40 | F39: 40 | G39: 10
A40: 5.4. | B40: Tulajdonosi bevételek | C40: 425 | D40: 425 | E40: 425 | F40: 425 | G40: 425
...

Sheet 1.3.sz.mell.
A1: B E V É T E L E K
A2: 1. sz. táblázat | E2: Ezer forintban
A3: Sor- szám | B3: Bevételi jogcím | C3: =+CONCATENATE(LEFT(#REF!,4),". évi") -> #REF!
C4: Eredeti előirányzat | D4: Módosított előirányzat | E4: =+CONCATENATE(LEFT(#REF!,4),". VI. 30.",CHAR(10),"teljesítés") -> #REF!
A5: A | B5: B | C5: C | D5: D | E5: E
A6: 1. | B6: Önkormányzat működési támogatásai (1.1.+…+.1.6.) | C6: =+C7+C8+C9+C10+C11+C12 -> 0 | D6: =+D7+D8+D9+D10+D11+D12 -> 0 | E6: =+E7+E8+E9+E10+E11+E12 -> 0
A7: 1.1. | B7: Helyi önkormányzatok működésének általános támogatása
A8: 1.2. | B8: Önkormányzatok egyes köznevelési feladatainak támogatása
A9: 1.3. | B9: Önkormányzatok szociális és gyermekjóléti feladatainak támogatása
A10: 1.4. | B10: Önkormányzatok kulturális feladatainak támogatása
A11: 1.5. | B11: Működési célú kvi támogatások és kiegészítő támogatások
A12: 1.6. | B12: Elszámolásból származó bevételek
A13: 2. | B13: Működési célú támogatások államháztartáson belülről (2.1.+…+.2.5.) | C13: =+C14+C15+C16+C17+C18 -> 0 | D13: =+D14+D15+D16+D17+D18 -> 0 | E13: =+E14+E15+E16+E17+E18 -> 0
A14: 2.1. | B14: Elvonások és befizetések bevételei
A15: 2.2. | B15: Működési célú garancia- és kezességvállalásból megtérülések
A16: 2.3. | B16: Működési célú visszatérítendő támogatások, kölcsönök visszatérülése
A17: 2.4. | B17: Működési célú visszatérítendő támogatások, kölcsönök igénybevétele
A18: 2.5. | B18: Egyéb működési célú támogatások bevételei
A19: 2.6. | B19: 2.5.-ből EU-s támogatás
A20: 3. | B20: Felhalmozási célú támogatások államháztartáson belülről (3.1.+…+3.5.) | C20: =+C21+C22+C23+C24+C25 -> 0 | D20: =+D21+D22+D23+D24+D25 -> 0 | E20: =+E21+E22+E23+E24+E25 -> 0
A21: 3.1. | B21: Felhalmozási célú önkormányzati támogatások
A22: 3.2. | B22: Felhalmozási célú garancia- és kezességvállalásból megtérülések
A23: 3.3. | B23: Felhalmozási célú visszatérítendő támogatások, kölcsönök visszatérülése
A24: 3.4. | B24: Felhalmozási célú visszatérítendő támogatások, kölcsönök igénybevétele
A25: 3.5. | B25: Egyéb felhalmozási célú támogatások bevételei
A26: 3.6. | B26: 3.5.-ből EU-s támogatás
A27: 4. | B27: Közhatalmi bevételek (4.1.+4.2.+4.3.+4.4.) | C27: =+C28+C32+C33+C34 -> 0 | D27: =+D28+D32+D33+D34 -> 0 | E27: =+E28+E32+E33+E34 -> 0
A28: 4.1. | B28: Helyi adók (4.1.1.+...+4.1.3.) | C28: =+C29+C30+C31 -> 0 | D28: =+D29+D30+D31 -> 0 | E28: =+E29+E30+E31 -> 0
A29: 4.1.1. | B29: - Vagyoni típusú adók
A30: 4.1.2. | B30: - Termékek és szolgáltatások adói
A31: 4.1.3. | B31: - Értékesítési és forgalmi adók (iparűzési adó)
A32: 4.2. | B32: Gépjárműadó
A33: 4.3. | B33: Egyéb áruhasználati és szolgáltatási adók
A34: 4.4. | B34: Egyéb közhatalmi bevételek
A35: 5. | B35: Működési bevételek (5.1.+…+ 5.11.) | C35: =SUM(C36:C46) -> 0 | D35: =SUM(D36:D46) -> 0 | E35: =SUM(E36:E46) -> 0
A36: 5.1. | B36: Készletértékesítés ellenértéke
A37: 5.2. | B37: Szolgáltatások ellenértéke
A38: 5.3. | B38: Közvetített szolgáltatások értéke
A39: 5.4. | B39: Tulajdonosi bevételek
A40: 5.5. | B40: Ellátási díjak
...

Sheet 1.4.sz.mell.
A1: B E V É T E L E K
A2: 1. sz. táblázat | E2: Ezer forintban
A3: Sor- szám | B3: Bevételi jogcím | C3: =+CONCATENATE(LEFT(#REF!,4),". évi") -> #REF!
C4: Eredeti előirányzat | D4: Módosított előirányzat | E4: =+CONCATENATE(LEFT(#REF!,4),". VI. 30.",CHAR(10),"teljesítés") -> #REF!
A5: A | B5: B | C5: C | D5: D | E5: E
A6: 1. | B6: Önkormányzat működési támogatásai (1.1.+…+.1.6.) | C6: =+C7+C8+C9+C10+C11+C12 -> 0 | D6: =+D7+D8+D9+D10+D11+D12 -> 0 | E6: =+E7+E8+E9+E10+E11+E12 -> 0
A7: 1.1. | B7: Helyi önkormányzatok működésének általános támogatása
A8: 1.2. | B8: Önkormányzatok egyes köznevelési feladatainak támogatása
A9: 1.3. | B9: Önkormányzatok szociális és gyermekjóléti feladatainak támogatása
A10: 1.4. | B10: Önkormányzatok kulturális feladatainak támogatása
A11: 1.5. | B11: Működési célú kvi támogatások és kiegészítő támogatások
A12: 1.6. | B12: Elszámolásból származó bevételek
A13: 2. | B13: Működési célú támogatások államháztartáson belülről (2.1.+…+.2.5.) | C13: =+C14+C15+C16+C17+C18 -> 0 | D13: =+D14+D15+D16+D17+D18 -> 0 | E13: =+E14+E15+E16+E17+E18 -> 0
A14: 2.1. | B14: Elvonások és befizetések bevételei
A15: 2.2. | B15: Működési célú garancia- és kezességvállalásból megtérülések
A16: 2.3. | B16: Működési célú visszatérítendő támogatások, kölcsönök visszatérülése
A17: 2.4. | B17: Működési célú visszatérítendő támogatások, kölcsönök igénybevétele
A18: 2.5. | B18: Egyéb működési célú támogatások bevételei
A19: 2.6. | B19: 2.5.-ből EU-s támogatás
A20: 3. | B20: Felhalmozási célú támogatások államháztartáson belülről (3.1.+…+3.5.) | C20: =+C21+C22+C23+C24+C25 -> 0 | D20: =+D21+D22+D23+D24+D25 -> 0 | E20: =+E21+E22+E23+E24+E25 -> 0
A21: 3.1. | B21: Felhalmozási célú önkormányzati támogatások
A22: 3.2. | B22: Felhalmozási célú garancia- és kezességvállalásból megtérülések
A23: 3.3. | B23: Felhalmozási célú visszatérítendő támogatások, kölcsönök visszatérülése
A24: 3.4. | B24: Felhalmozási célú visszatérítendő támogatások, kölcsönök igénybevétele
A25: 3.5. | B25: Egyéb felhalmozási célú támogatások bevételei
A26: 3.6. | B26: 3.5.-ből EU-s támogatás
A27: 4. | B27: Közhatalmi bevételek (4.1.+4.2.+4.3.+4.4.) | C27: =+C28+C32+C33+C34 -> 0 | D27: =+D28+D32+D33+D34 -> 0 | E27: =+E28+E32+E33+E34 -> 0
A28: 4.1. | B28: Helyi adók (4.1.1.+...+4.1.3.) | C28: =+C29+C30+C31 -> 0 | D28: =+D29+D30+D31 -> 0 | E28: =+E29+E30+E31 -> 0
A29: 4.1.1. | B29: - Vagyoni típusú adók
A30: 4.1.2. | B30: - Termékek és szolgáltatások adói
A31: 4.1.3. | B31: - Értékesítési és forgalmi adók (iparűzési adó)
A32: 4.2. | B32: Gépjárműadó
A33: 4.3. | B33: Egyéb áruhasználati és szolgáltatási adók
A34: 4.4. | B34: Egyéb közhatalmi bevételek
A35: 5. | B35: Működési bevételek (5.1.+…+ 5.11.) | C35: =SUM(C36:C46) -> 0 | D35: =SUM(D36:D46) -> 0 | E35: =SUM(E36:E46) -> 0
A36: 5.1. | B36: Készletértékesítés ellenértéke
A37: 5.2. | B37: Szolgáltatások ellenértéke
A38: 5.3. | B38: Közvetített szolgáltatások értéke
A39: 5.4. | B39: Tulajdonosi bevételek
A40: 5.5. | B40: Ellátási díjak
...

Sheet 2.1.sz.mell  
B1: I. Működési célú bevételek és kiadások mérlege (Önkormányzati szinten) | N1: 2.1. melléklet a 4/2016.(IV.01.) önkormányzati rendelethez
M2: Ezer forintban !
A3: Sor- szám | B3: Bevételek | H3: Kiadások
B4: Megnevezés | C4: =+CONCATENATE('1.1.sz.mell.'!C3," eredeti előirányzat") -> #REF! | D4: =+CONCATENATE('1.1.sz.mell.'!C3," módosított előirányzat") -> #REF! | E4: =+CONCATENATE('1.1.sz.mell.'!D3," módosított előirányzat") -> módosított előirányzat | F4: Módosított 2016.03.23 előirányzat | G4: =+CONCATENATE(LEFT('1.1.sz.mell.'!C3,4),". XII. 31. teljesítés") -> #REF! | H4: Megnevezés | I4: =+C4 -> #REF! | J4: =+D4 -> #REF! | K4: =+CONCATENATE('1.1.sz.mell.'!J3," módosított előirányzat") -> módosított előirányzat | L4: Módosított 2016.03.23 előirányzat | M4: =+G4 -> #REF!
A5: A | B5: B | C5: C | D5: D | G5: E | H5: F | I5: G | J5: H | M5: I
A6: 1. | B6: Önkormányzatok működési támogatásai | C6: 12737 | D6: 13937 | E6: 13937 | F6: 14522 | G6: 14522 | H6: Személyi juttatások | I6: 5617 | J6: 5617 | K6: 5617 | L6: 5617 | M6: 5182
A7: 2. | B7: Működési célú támogatások államháztartáson belülről | C7: 1797 | D7: 1797 | E7: 1797 | F7: 1292 | G7: 888 | H7: Munkaadókat terhelő járulékok és szociális hozzájárulási adó | I7: 1549 | J7: 1549 | K7: 1549 | L7: 1549 | M7: 1250
A8: 3. | B8: 2.-ból EU-s támogatás | H8: Dologi kiadások | I8: 9696 | J8: 9696 | K8: 9696 | L8: 7618 | M8: 4601
A9: 4. | B9: Közhatalmi bevételek | C9: 2745 | D9: 2745 | E9: 2745 | F9: 3049 | G9: 2743 | H9: Ellátottak pénzbeli juttatásai | I9: 1933 | J9: 1933 | K9: 1933 | L9: 1896 | M9: 1076
A10: 5. | B10: Működési bevételek | C10: 535 | D10: 535 | E10: 535 | F10: 505 | G10: 445 | H10: Egyéb működési célú kiadások | I10: 1654 | J10: 1724 | K10: 1724 | L10: 6790 | M10: 576
A11: 6. | B11: Működési célú átvett pénzeszközök | H11: Tartalékok | I11: 2294 | J11: 4086 | K11: 3563 | L11: 5136
A12: 7. | B12: 6.-ból EU-s támogatás (közvetlen)
A13: 8.
A14: 9.
A15: 10.
A16: 11.
A17: 12.
A18: 13. | B18: Költségvetési bevételek összesen (1.+2.+4.+5.+6.+8.+…+12.) | C18: =SUM(C6:C17) -> 17814 | D18: =SUM(D6:D17) -> 19014 | E18: =SUM(E6:E17) -> 19014 | F18: =SUM(F6:F17) -> 19368 | G18: =SUM(G6:G17) -> 18598 | H18: Költségvetési kiadások összesen (1.+...+12.) | I18: =SUM(I6:I17) -> 22743 | J18: =SUM(J6:J17) -> 24605 | K18: =SUM(K6:K17) -> 24082 | L18: =SUM(L6:L17) -> 28606 | M18: =SUM(M6:M17) -> 12685
A19: 14. | B19: Hiány belső finanszírozásának bevételei (15.+…+18. ) | C19: =+C20+C21+C22+C23 -> 4929 | D19: =+D20+D21+D22+D23 -> 5541 | E19: =+E20+E21+E22+E23 -> 5041 | F19: =+F20+F21+F22+F23 -> 4027 | G19: =+G20+G21+G22+G23 -> 0 | H19: Értékpapír vásárlása, visszavásárlása
A20: 15. | B20: Költségvetési maradvány igénybevétele | C20: 4929 | D20: 5541 | E20: 5041 | F20: 4027 | H20: Likviditási célú hitelek törlesztése
A21: 16. | B21: Vállalkozási maradvány igénybevétele | H21: Rövid lejáratú hitelek törlesztése
A22: 17. | B22: Betét visszavonásából származó bevétel | H22: Hosszú lejáratú hitelek törlesztése
A23: 18. | B23: Egyéb belső finanszírozási bevételek | H23: Kölcsön törlesztése
A24: 19. | B24: Hiány külső finanszírozásának bevételei (20.+…+21.) | C24: =+C25+C26 -> 0 | D24: =+D25+D26 -> 0 | G24: =+G25+G26 -> 0 | H24: Forgatási célú belföldi, külföldi értékpapírok vásárlása
A25: 20. | B25: Likviditási célú hitelek, kölcsönök felvétele | H25: Pénzeszközök lekötött betétként elhelyezése
A26: 21. | B26: Értékpapírok bevételei | H26: Adóssághoz nem kapcsolódó származékos ügyletek
A27: 22. | B27: Áht-n belüli megelőlegezések | F27: 818 | G27: 818 | H27: Váltókiadások
A28: 23. | B28: Adóssághoz nem kapcsolódó származékos ügyletek bevételei | H28: ÁHT-n belüli meglőleg. Visszafiz | L28: 743 | M28: 743
A29: 24. | B29: Működési célú finanszírozási bevételek összesen (14.+19.+22.+23.) | C29: =+C19+C24+C27+C28 -> 4929 | D29: =+D19+D24+D27+D28 -> 5541 | E29: =+E19+E24+E27+E28 -> 5041 | F29: =+F19+F24+F27+F28 -> 4845 | G29: =+G19+G24+G27+G28 -> 818 | H29: Működési célú finanszírozási kiadások összesen (14.+...+23.) | I29: =SUM(I19:I28) -> 0 | J29: =SUM(J19:J28) -> 0 | M29: =SUM(M19:M28) -> 743
A30: 25. | B30: BEVÉTEL ÖSSZESEN (13.+24.) | C30: =+C18+C29 -> 22743 | D30: =+D18+D29 -> 24555 | E30: =+E18+E29 -> 24055 | F30: =+F18+F29 -> 24213 | G30: =+G18+G29 -> 19416 | H30: KIADÁSOK ÖSSZESEN (13.+24.) | I30: =+I18+I29 -> 22743 | J30: =+J18+J29 -> 24605 | K30: =+K18+K29 -> 24082 | L30: =+L18+L29 -> 28606 | M30: =+M18+M29 -> 13428
A31: 26. | B31: Költségvetési hiány: | C31: =IF(C18-I18<0,I18-C18,"-") -> 4929 | D31: =IF(D18-J18<0,J18-D18,"-") -> 5591 | E31: =IF(E18-K18<0,K18-E18,"-") -> 5068 | F31: =IF(F18-L18<0,L18-F18,"-") -> 9238 | G31: =IF(G18-M18<0,M18-G18,"-") -> - | H31: Költségvetési többlet: | I31: =IF(C18-I18>0,C18-I18,"-") -> - | J31: =IF(D18-J18>0,D18-J18,"-") -> - | K31: =IF(E18-K18>0,E18-K18,"-") -> - | L31: =IF(F18-L18>0,F18-L18,"-") -> - | M31: =IF(G18-M18>0,G18-M18,"-") -> 5913
A32: 27. | B32: Tárgyévi hiány: | C32: =IF(C18+C29-I30<0,I30-(C18+C29),"-") -> - | D32: =IF(D18+D29-J30<0,J30-(D18+D29),"-") -> 50 | G32: =IF(G18+G29-M30<0,M30-(G18+G29),"-") -> - | H32: Tárgyévi többlet: | I32: =IF(C18+C29-I30>0,C18+C29-I30,"-") -> - | J32: =IF(D18+D29-J30>0,D18+D29-J30,"-") -> - | K32: =IF(E18+E29-K30>0,E18+E29-K30,"-") -> - | L32: =IF(F18+F29-L30>0,F18+F29-L30,"-") -> - | M32: =IF(G18+G29-M30>0,G18+G29-M30,"-") -> 5988

Sheet 2.2.sz.mell  
B1: II. Felhalmozási célú bevételek és kiadások mérlege (Önkormányzati szinten) | N1: 2.2. melléklet a 4/2016.(IV.01.) önkormányzati rendelethez
I2: Ezer forintban !
A3: Sor- szám | B3: Bevételek | H3: Kiadások
B4: Megnevezés | C4: =+CONCATENATE('1.1.sz.mell.'!C3," eredeti előirányzat") -> #REF! | D4: =+CONCATENATE('1.1.sz.mell.'!C3," módosított előirányzat") -> #REF! | E4: =+CONCATENATE('1.1.sz.mell.'!D3," módosított előirányzat") -> módosított előirányzat | F4: Módosított 2016.03.23 előirányzat | G4: =+CONCATENATE(LEFT('1.1.sz.mell.'!C3,4),". IX. 30. teljesítés") -> #REF! | H4: Megnevezés | I4: =+C4 -> #REF! | J4: =+D4 -> #REF! | K4: =+E4 -> módosított előirányzat | L4: Módosított 2016.03.23 előirányzat | M4: =+G4 -> #REF!
A5: A | B5: B | C5: C | D5: D | G5: E | H5: F | I5: G | J5: H | M5: I
A6: 1. | B6: Felhalmozási célú támogatások államháztartáson belülről | H6: Beruházások | I6: 571 | J6: 571 | K6: 1071 | L6: 921 | M6: 524
A7: 2. | B7: 1.-ből EU-s támogatás | H7: 1.-ből EU-s forrásból megvalósuló beruházás
A8: 3. | B8: Felhalmozási bevételek | H8: Felújítások | J8: 1415 | K8: 1415
A9: 4. | B9: Felhalmozási célú átvett pénzeszközök átvétele | H9: 3.-ból EU-s forrásból megvalósuló felújítás
A10: 5. | B10: 4.-ből EU-s támogatás (közvetlen) | H10: Egyéb felhalmozási kiadások
A11: 6. | B11: Egyéb felhalmozási célú bevételek
A12: 7.
A13: 8.
A14: 9.
A15: 10.
A16: 11. | H16: Tartalékok
A17: 12. | B17: Költségvetési bevételek összesen: (1.+3.+4.+6.+…+11.) | C17: =+C6+C8+C9+C11+C12+C13+C14+C15+C16 -> 0 | D17: =+D6+D8+D9+D11+D12+D13+D14+D15+D16 -> 0 | G17: =+G6+G8+G9+G11+G12+G13+G14+G15+G16 -> 0 | H17: Költségvetési kiadások összesen: (1.+3.+5.+...+11.) | I17: =+I6+I8+I10+I11+I12+I13+I14+I15+I16 -> 571 | J17: =+J6+J8+J10+J11+J12+J13+J14+J15+J16 -> 1986 | K17: =+K6+K8+K10+K11+K12+K13+K14+K15+K16 -> 2486 | L17: =+L6+L8+L10+L11+L12+L13+L14+L15+L16 -> 921 | M17: =+M6+M8+M10+M11+M12+M13+M14+M15+M16 -> 524
A18: 13. | B18: Hiány belső finanszírozás bevételei ( 14+…+18) | C18: =+C19+C20+C21+C22+C23 -> 571 | D18: =+D19+D20+D21+D22+D23 -> 1986 | E18: =+E19+E20+E21+E22+E23 -> 2486 | F18: =+F19+F20+F21+F22+F23 -> 921 | G18: =+G19+G20+G21+G22+G23 -> 524 | H18: Értékpapír vásárlása, visszavásárlása
A19: 14. | B19: Költségvetési maradvány igénybevétele | C19: 571 | D19: 1986 | E19: 2486 | F19: 921 | G19: 524 | H19: Hitelek törlesztése
A20: 15. | B20: Vállalkozási maradvány igénybevétele | H20: Rövid lejáratú hitelek törlesztése
A21: 16. | B21: Betét visszavonásából származó bevétel | H21: Hosszú lejáratú hitelek törlesztése
A22: 17. | B22: Értékpapír értékesítése | H22: Kölcsön törlesztése
A23: 18. | B23: Egyéb belső finanszírozási bevételek | H23: Befektetési célú belföldi, külföldi értékpapírok vásárlása
A24: 19. | B24: Hiány külső finanszírozásának bevételei (20+…+24 ) | C24: =+C25+C26+C27+C28+C29 -> 0 | D24: =+D25+D26+D27+D28+D29 -> 0 | G24: =+G25+G26+G27+G28+G29 -> 0 | H24: Betét elhelyezése
A25: 20. | B25: Hosszú lejáratú hitelek, kölcsönök felvétele | H25: Pénzügyi lízing kiadásai
A26: 21. | B26: Likviditási célú hitelek, kölcsönök felvétele
A27: 22. | B27: Rövid lejáratú hitelek, kölcsönök felvétele
A28: 23. | B28: Értékpapírok kibocsátása
A29: 24. | B29: Egyéb külső finanszírozási bevételek
A30: 25. | B30: Felhalmozási célú finanszírozási bevételek összesen (13.+19.) | C30: =+C18+C24 -> 571 | D30: =+D18+D24 -> 1986 | E30: =+E18+E24 -> 2486 | F30: =+F18+F24 -> 921 | G30: =+G18+G24 -> 524 | H30: Felhalmozási célú finanszírozási kiadások összesen (13.+...+24.) | I30: =SUM(I18:I29) -> 0 | J30: =SUM(J18:J29) -> 0 | M30: =SUM(M18:M29) -> 0
A31: 26. | B31: BEVÉTEL ÖSSZESEN (12+25) | C31: =+C17+C30 -> 571 | D31: =+D17+D30 -> 1986 | E31: =+E17+E30 -> 2486 | F31: =+F17+F30 -> 921 | G31: =+G17+G30 -> 524 | H31: KIADÁSOK ÖSSZESEN (12+25) | I31: =+I17+I30 -> 571 | J31: =+J17+J30 -> 1986 | K31: =+K17+K30 -> 2486 | L31: =+L17+L30 -> 921 | M31: =+M17+M30 -> 524
A32: 27. | B32: Költségvetési hiány: | C32: =IF(C17-I17<0,I17-C17,"-") -> 571 | D32: =IF(D17-J17<0,J17-D17,"-") -> 1986 | E32: =IF(E17-K17<0,K17-E17,"-") -> 2486 | F32: =IF(F17-L17<0,L17-F17,"-") -> 921 | G32: =IF(G17-M17<0,M17-G17,"-") -> 524 | H32: Költségvetési többlet: | I32: =IF(C17-I17>0,C17-I17,"-") -> - | J32: =IF(D17-J17>0,D17-J17,"-") -> - | K32: =IF(E17-K17>0,E17-K17,"-") -> - | L32: =IF(F17-L17>0,F17-L17,"-") -> - | M32: =IF(G17-M17>0,G17-M17,"-") -> -
A33: 28. | B33: Tárgyévi hiány: | C33: =IF(C17+C30-I26<0,I26-(C17+C30),"-") -> - | D33: =IF(D17+D30-J26<0,J26-(D17+D30),"-") -> - | E33: =IF(E17+E30-K26<0,K26-(E17+E30),"-") -> - | F33: =IF(F17+F30-L26<0,L26-(F17+F30),"-") -> - | G33: =IF(G17+G30-M26<0,M26-(G17+G30),"-") -> - | H33: Tárgyévi többlet: | I33: =IF(C17+C30-I26>0,C17+C30-I26,"-") -> 571 | J33: =IF(D17+D30-J26>0,D17+D30-J26,"-") -> 1986 | K33: =IF(E17+E30-K26>0,E17+E30-K26,"-") -> 2486 | L33: =IF(F17+F30-L26>0,F17+F30-L26,"-") -> 921 | M33: =IF(G17+G30-M26>0,G17+G30-M26,"-") -> 524

Sheet 3.sz.mell.
A1: Beruházási (felhalmozási) kiadások előirányzata beruházásonként
G2: Ezer forintban !
A3: Beruházás megnevezése | B3: Teljes költség | C3: Kivitelezés kezdési és befejezési éve | E3: 2015. Évi módosított előirányzat | F3: Teljesítés 2015. VI. 30-ig | G3: =+CONCATENATE("Összes teljesítés",CHAR(10),LEFT(#REF!,4),". VI. 30-ig") -> #REF!
A4: A | B4: B | C4: C | D4: D | E4: E | F4: F | G4: G=(D+F)
A5: Kistraktor beszerzés | B5: 571 | E5: 571 | G5: =B5-D5-F5 -> 571
A6: Laptop | B6: 150 | E6: 150 | F6: 156 | G6: =B6-D6-F6 -> -6
A7: Eü. Ház 1/10 rész | B7: 350 | E7: 350 | G7: =B7-D7-F7 -> 350
G8: =B8-D8-F8 -> 0
G9: =B9-D9-F9 -> 0
G10: =B10-D10-F10 -> 0
G11: =B11-D11-F11 -> 0
G12: =B12-D12-F12 -> 0
G13: =B13-D13-F13 -> 0
G14: =B14-D14-F14 -> 0
G15: =B15-D15-F15 -> 0
G16: =B16-D16-F16 -> 0
G17: =B17-D17-F17 -> 0
G18: =B18-D18-F18 -> 0
G19: =B19-D19-F19 -> 0
... G22: =B22-D22-F22 -> 0
A23: ÖSSZESEN: | B23: =SUM(B5:B22) -> 1071 | D23: =SUM(D5:D22) -> 0 | F23: =SUM(F5:F22) -> 156 | G23: =SUM(G5:G22) -> 915

Sheet 4.sz.mell.
A1: Felújítási kiadások előirányzata felújításonként
G2: Ezer forintban !
A3: Felújítás megnevezése | B3: Teljes költség | C3: Kivitelezés kezdési és befejezési éve | D3: =+'3.sz.mell.'!D3 -> 0 | E3: =+CONCATENATE(LEFT(#REF!,4),". évi",CHAR(10),"módosított előirányzat") -> #REF! | F3: =+CONCATENATE("Teljesítés",CHAR(10),LEFT(#REF!,4),". VI. 30-ig") -> #REF! | G3: =+CONCATENATE("Összes teljesítés",CHAR(10),LEFT(#REF!,4),". VI. 30-ig") -> #REF!
A4: A | B4: B | C4: C | D4: D | E4: E | F4: F | G4: G=(D+F)
A5: Kis utca útkorszerűsítés pályázat önrész | B5: 1415 | E5: 1415 | G5: =B5-D5-F5 -> 1415
G6: =B6-D6-F6 -> 0
G7: =B7-D7-F7 -> 0
G8: =B8-D8-F8 -> 0
G9: =B9-D9-F9 -> 0
G10: =B10-D10-F10 -> 0
G11: =B11-D11-F11 -> 0
G12: =B12-D12-F12 -> 0
G13: =B13-D13-F13 -> 0
G14: =B14-D14-F14 -> 0
G15: =B15-D15-F15 -> 0
G16: =B16-D16-F16 -> 0
G17: =B17-D17-F17 -> 0
... G23: =B23-D23-F23 -> 0
A24: ÖSSZESEN: | B24: =SUM(B5:B23) -> 1415 | D24: =SUM(D5:D23) -> 0 | F24: =SUM(F5:F23) -> 0 | G24: =SUM(G5:G23) -> 1415

Sheet 5. sz. mell. 
A1: EU-s projekt neve, azonosítója:* | N1: 5. melléklet
L2: Ezer forintban !
A3: Források | B3: Támogatási szerződés szerinti bevételek, kiadások | J3: Teljesítés
B4: Eredeti | C4: Módosított | D4: Évenkénti üteme
D5: Eredeti | E5: Módosított | F5: Eredeti | G5: Módosított | H5: Eredeti | I5: Módosított
B6: Összes bevétel, kiadás | D6: =+CONCATENATE(LEFT(#REF!,4),". előtt") -> #REF! | F6: =+CONCATENATE(LEFT(#REF!,4),". VI.30.") -> #REF! | H6: =+CONCATENATE(LEFT(#REF!,4),". után") -> #REF! | J6: =+D6 -> #REF! | K6: =+F6 -> #REF! | L6: Összesen | M6: =+CONCATENATE("Teljesítés %-a ",LEFT(#REF!,4),". VI. 30-ig") -> #REF!
A7: A | B7: B | C7: C | D7: D | E7: E | F7: F | G7: G | H7: H | I7: I | J7: J | K7: K | L7: L=(J+K) | M7: M=(L/C)
A8: Saját erő | L8: =+J8+K8 -> 0 | M8: =IF((C8<>0),ROUND((L8/C8)*100,1),"")
A9: - saját erőből központi támogatás | L9: =+J9+K9 -> 0 | M9: =IF((C9<>0),ROUND((L9/C9)*100,1),"")
A10: EU-s forrás | L10: =+J10+K10 -> 0 | M10: =IF((C10<>0),ROUND((L10/C10)*100,1),"")
A11: Társfinanszírozás | L11: =+J11+K11 -> 0 | M11: =IF((C11<>0),ROUND((L11/C11)*100,1),"")
A12: Hitel | L12: =+J12+K12 -> 0 | M12: =IF((C12<>0),ROUND((L12/C12)*100,1),"")
A13: Egyéb forrás | L13: =+J13+K13 -> 0 | M13: =IF((C13<>0),ROUND((L13/C13)*100,1),"")
L14: =+J14+K14 -> 0 | M14: =IF((C14<>0),ROUND((L14/C14)*100,1),"")
A15: Források összesen: | B15: =B8+SUM(B10:B14) -> 0 | C15: =C8+SUM(C10:C14) -> 0 | D15: =D8+SUM(D10:D14) -> 0 | E15: =E8+SUM(E10:E14) -> 0 | F15: =F8+SUM(F10:F14) -> 0 | G15: =G8+SUM(G10:G14) -> 0 | H15: =H8+SUM(H10:H14) -> 0 | I15: =I8+SUM(I10:I14) -> 0 | ... L15: =L8+SUM(L10:L14) -> 0 | M15: =IF((C15<>0),ROUND((L15/C15)*100,1),"")
A17: Kiadások, költségek
A18: Személyi jellegű | L18: =+J18+K18 -> 0 | M18: =IF((C18<>0),ROUND((L18/C18)*100,1),"")
A19: Beruházások, beszerzések | L19: =+J19+K19 -> 0 | M19: =IF((C19<>0),ROUND((L19/C19)*100,1),"")
A20: Szolgáltatások igénybe vétele | L20: =+J20+K20 -> 0 | M20: =IF((C20<>0),ROUND((L20/C20)*100,1),"")
A21: Adminisztratív költségek | L21: =+J21+K21 -> 0 | M21: =IF((C21<>0),ROUND((L21/C21)*100,1),"")
L22: =+J22+K22 -> 0 | M22: =IF((C22<>0),ROUND((L22/C22)*100,1),"")
L23: =+J23+K23 -> 0 | M23: =IF((C23<>0),ROUND((L23/C23)*100,1),"")
A24: Kiadások összesen: | B24: =SUM(B18:B23) -> 0 | C24: =SUM(C18:C23) -> 0 | D24: =SUM(D18:D23) -> 0 | E24: =SUM(E18:E23) -> 0 | F24: =SUM(F18:F23) -> 0 | G24: =SUM(G18:G23) -> 0 | H24: =SUM(H18:H23) -> 0 | I24: =SUM(I18:I23) -> 0 | ... L24: =SUM(L18:L23) -> 0 | M24: =IF((C24<>0),ROUND((L24/C24)*100,1),"")
A25: * Amennyiben több projekt megvalósítása történi egy időben akkor azokat külön-külön, projektenként be kell mutatni!
A27: =+CONCATENATE("Önkormányzaton kívüli EU-s projekthez történő hozzájárulás ",LEFT(#REF!,4),". VI. 30. előirányzata és teljesítése") -> #REF!
L28: Ezer forintban !
A29: Támogatott neve | K29: Eredeti ei. | L29: Módosított ei. | M29: Teljesítés
A32: Összesen: | K32: =SUM(K30:K31) -> 0 | L32: =SUM(L30:L31) -> 0 | M32: =SUM(M30:M31) -> 0

Sheet 6.1. sz. mell
E1: 6.1. melléklet
A2: Megnevezés | B2: Önkormányzat | E2: 01
A3: Feladat megnevezése | B3: Összes bevétel, kiadás | E3: 01
E4: Ezer forintban !
A5: Száma | B5: Előirányzat-csoport, kiemelt előirányzat megnevezése | C5: Eredeti előirányzat | D5: Módosított előirányzat | E5: =+CONCATENATE("Teljesítés",CHAR(10),LEFT(#REF!,4),". VI. 30.") -> #REF!
A6: A | B6: B | C6: C | D6: D | E6: E
A7: Bevételek
A8: 1. | B8: Önkormányzat működési támogatásai (1.1.+…+.1.6.) | C8: =+C9+C10+C11+C12+C13+C14 -> 0 | D8: =+D9+D10+D11+D12+D13+D14 -> 0 | E8: =+E9+E10+E11+E12+E13+E14 -> 0
A9: 1.1. | B9: Helyi önkormányzatok működésének általános támogatása
A10: 1.2. | B10: Önkormányzatok egyes köznevelési feladatainak támogatása
A11: 1.3. | B11: Önkormányzatok szociális és gyermekjóléti feladatainak támogatása
A12: 1.4. | B12: Önkormányzatok kulturális feladatainak támogatása
A13: 1.5. | B13: Működési célú kvi támogatások és kiegészítő támogatások
A14: 1.6. | B14: Elszámolásból származó bevételek
A15: 2. | B15: Működési célú támogatások államháztartáson belülről (2.1.+…+.2.5.) | C15: =+C16+C17+C18+C19+C20 -> 0 | D15: =+D16+D17+D18+D19+D20 -> 0 | E15: =+E16+E17+E18+E19+E20 -> 0
A16: 2.1. | B16: Elvonások és befizetések bevételei
A17: 2.2. | B17: Működési célú garancia- és kezességvállalásból megtérülések
A18: 2.3. | B18: Működési célú visszatérítendő támogatások, kölcsönök visszatérülése
A19: 2.4. | B19: Működési célú visszatérítendő támogatások, kölcsönök igénybevétele
A20: 2.5. | B20: Egyéb működési célú támogatások bevételei
A21: 2.6. | B21: 2.5.-ből EU-s támogatás
A22: 3. | B22: Felhalmozási célú támogatások államháztartáson belülről (3.1.+…+3.5.) | C22: =+C23+C24+C25+C26+C27 -> 0 | D22: =+D23+D24+D25+D26+D27 -> 0 | E22: =+E23+E24+E25+E26+E27 -> 0
A23: 3.1. | B23: Felhalmozási célú önkormányzati támogatások
A24: 3.2. | B24: Felhalmozási célú garancia- és kezességvállalásból megtérülések
A25: 3.3. | B25: Felhalmozási célú visszatérítendő támogatások, kölcsönök visszatérülése
A26: 3.4. | B26: Felhalmozási célú visszatérítendő támogatások, kölcsönök igénybevétele
A27: 3.5. | B27: Egyéb felhalmozási célú támogatások bevételei
A28: 3.6. | B28: 3.5.-ből EU-s támogatás
A29: 4. | B29: Közhatalmi bevételek (4.1.+4.2.+4.3.+4.4.) | C29: =+C30+C34+C35+C36 -> 0 | D29: =+D30+D34+D35+D36 -> 0 | E29: =+E30+E34+E35+E36 -> 0
A30: 4.1. | B30: Helyi adók (4.1.1.+…+4.1.3.) | C30: =+C31+C32+C33 -> 0 | D30: =+D31+D32+D33 -> 0 | E30: =+E31+E32+E33 -> 0
A31: 4.1.1. | B31: - Vagyoni típusú adók
A32: 4.1.2. | B32: - Termékek és szolgáltatások adói
A33: 4.1.3. | B33: - Értékesítési és forgalmi adók (iparűzési adó)
A34: 4.2. | B34: Gépjárműadó
A35: 4.3. | B35: Egyéb áruhasználati és szolgáltatási adók
A36: 4.4. | B36: Egyéb közhatalmi bevételek
A37: 5. | B37: Működési bevételek (5.1.+…+ 5.11.) | C37: =SUM(C38:C48) -> 0 | D37: =SUM(D38:D48) -> 0 | E37: =SUM(E38:E48) -> 0
A38: 5.1. | B38: Készletértékesítés ellenértéke
A39: 5.2. | B39: Szolgáltatások ellenértéke
A40: 5.3. | B40: Közvetített szolgáltatások értéke
...

Sheet 6.1.1. sz. mell
E1: 6.1.1. melléklet
A2: Megnevezés | B2: Önkormányzat | E2: 01
A3: Feladat megnevezése | B3: Kötelező feladatok bevételei, kiadásai | E3: 02
E4: Ezer forintban !
A5: Száma | B5: Előirányzat-csoport, kiemelt előirányzat megnevezése | C5: Eredeti előirányzat | D5: Módosított előirányzat | E5: =+CONCATENATE("Teljesítés",CHAR(10),LEFT(#REF!,4),". VI. 30.") -> #REF!
A6: A | B6: B | C6: C | D6: D | E6: E
A7: Bevételek
A8: 1. | B8: Önkormányzat működési támogatásai (1.1.+…+.1.6.) | C8: =+C9+C10+C11+C12+C13+C14 -> 0 | D8: =+D9+D10+D11+D12+D13+D14 -> 0 | E8: =+E9+E10+E11+E12+E13+E14 -> 0
A9: 1.1. | B9: Helyi önkormányzatok működésének általános támogatása
A10: 1.2. | B10: Önkormányzatok egyes köznevelési feladatainak támogatása
A11: 1.3. | B11: Önkormányzatok szociális és gyermekjóléti feladatainak támogatása
A12: 1.4. | B12: Önkormányzatok kulturális feladatainak támogatása
A13: 1.5. | B13: Működési célú kvi támogatások és kiegészítő támogatások
A14: 1.6. | B14: Elszámolásból származó bevételek
A15: 2. | B15: Működési célú támogatások államháztartáson belülről (2.1.+…+.2.5.) | C15: =+C16+C17+C18+C19+C20 -> 0 | D15: =+D16+D17+D18+D19+D20 -> 0 | E15: =+E16+E17+E18+E19+E20 -> 0
A16: 2.1. | B16: Elvonások és befizetések bevételei
A17: 2.2. | B17: Működési célú garancia- és kezességvállalásból megtérülések
A18: 2.3. | B18: Működési célú visszatérítendő támogatások, kölcsönök visszatérülése
A19: 2.4. | B19: Működési célú visszatérítendő támogatások, kölcsönök igénybevétele
A20: 2.5. | B20: Egyéb működési célú támogatások bevételei
A21: 2.6. | B21: 2.5.-ből EU-s támogatás
A22: 3. | B22: Felhalmozási célú támogatások államháztartáson belülről (3.1.+…+3.5.) | C22: =+C23+C24+C25+C26+C27 -> 0 | D22: =+D23+D24+D25+D26+D27 -> 0 | E22: =+E23+E24+E25+E26+E27 -> 0
A23: 3.1. | B23: Felhalmozási célú önkormányzati támogatások
A24: 3.2. | B24: Felhalmozási célú garancia- és kezességvállalásból megtérülések
A25: 3.3. | B25: Felhalmozási célú visszatérítendő támogatások, kölcsönök visszatérülése
A26: 3.4. | B26: Felhalmozási célú visszatérítendő támogatások, kölcsönök igénybevétele
A27: 3.5. | B27: Egyéb felhalmozási célú támogatások bevételei
A28: 3.6. | B28: 3.5.-ből EU-s támogatás
A29: 4. | B29: Közhatalmi bevételek (4.1.+4.2.+4.3.+4.4.) | C29: =+C30+C34+C35+C36 -> 0 | D29: =+D30+D34+D35+D36 -> 0 | E29: =+E30+E34+E35+E36 -> 0
A30: 4.1. | B30: Helyi adók (4.1.1.+…+4.1.3.) | C30: =+C31+C32+C33 -> 0 | D30: =+D31+D32+D33 -> 0 | E30: =+E31+E32+E33 -> 0
A31: 4.1.1. | B31: - Vagyoni típusú adók
A32: 4.1.2. | B32: - Termékek és szolgáltatások adói
A33: 4.1.3. | B33: - Értékesítési és forgalmi adók (iparűzési adó)
A34: 4.2. | B34: Gépjárműadó
A35: 4.3. | B35: Egyéb áruhasználati és szolgáltatási adók
A36: 4.4. | B36: Egyéb közhatalmi bevételek
A37: 5. | B37: Működési bevételek (5.1.+…+ 5.11.) | C37: =SUM(C38:C48) -> 0 | D37: =SUM(D38:D48) -> 0 | E37: =SUM(E38:E48) -> 0
A38: 5.1. | B38: Készletértékesítés ellenértéke
A39: 5.2. | B39: Szolgáltatások ellenértéke
A40: 5.3. | B40: Közvetített szolgáltatások értéke
...

Sheet 6.1.2. sz. mell
E1: 6.1.2. melléklet
A2: Megnevezés | B2: Önkormányzat | E2: 01
A3: Feladat megnevezése | B3: Önként vállalt feladatok bevételei, kiadásai | E3: 02
E4: Ezer forintban !
A5: Száma | B5: Előirányzat-csoport, kiemelt előirányzat megnevezése | C5: Eredeti előirányzat | D5: Módosított előirányzat | E5: =+CONCATENATE("Teljesítés",CHAR(10),LEFT(#REF!,4),". VI. 30.") -> #REF!
A6: A | B6: B | C6: C | D6: D | E6: E
A7: Bevételek
A8: 1. | B8: Önkormányzat működési támogatásai (1.1.+…+.1.6.) | C8: =+C9+C10+C11+C12+C13+C14 -> 0 | D8: =+D9+D10+D11+D12+D13+D14 -> 0 | E8: =+E9+E10+E11+E12+E13+E14 -> 0
A9: 1.1. | B9: Helyi önkormányzatok működésének általános támogatása
A10: 1.2. | B10: Önkormányzatok egyes köznevelési feladatainak támogatása
A11: 1.3. | B11: Önkormányzatok szociális és gyermekjóléti feladatainak támogatása
A12: 1.4. | B12: Önkormányzatok kulturális feladatainak támogatása
A13: 1.5. | B13: Működési célú kvi támogatások és kiegészítő támogatások
A14: 1.6. | B14: Elszámolásból származó bevételek
A15: 2. | B15: Működési célú támogatások államháztartáson belülről (2.1.+…+.2.5.) | C15: =+C16+C17+C18+C19+C20 -> 0 | D15: =+D16+D17+D18+D19+D20 -> 0 | E15: =+E16+E17+E18+E19+E20 -> 0
A16: 2.1. | B16: Elvonások és befizetések bevételei
A17: 2.2. | B17: Működési célú garancia- és kezességvállalásból megtérülések
A18: 2.3. | B18: Működési célú visszatérítendő támogatások, kölcsönök visszatérülése
A19: 2.4. | B19: Működési célú visszatérítendő támogatások, kölcsönök igénybevétele
A20: 2.5. | B20: Egyéb működési célú támogatások bevételei
A21: 2.6. | B21: 2.5.-ből EU-s támogatás
A22: 3. | B22: Felhalmozási célú támogatások államháztartáson belülről (3.1.+…+3.5.) | C22: =+C23+C24+C25+C26+C27 -> 0 | D22: =+D23+D24+D25+D26+D27 -> 0 | E22: =+E23+E24+E25+E26+E27 -> 0
A23: 3.1. | B23: Felhalmozási célú önkormányzati támogatások
A24: 3.2. | B24: Felhalmozási célú garancia- és kezességvállalásból megtérülések
A25: 3.3. | B25: Felhalmozási célú visszatérítendő támogatások, kölcsönök visszatérülése
A26: 3.4. | B26: Felhalmozási célú visszatérítendő támogatások, kölcsönök igénybevétele
A27: 3.5. | B27: Egyéb felhalmozási célú támogatások bevételei
A28: 3.6. | B28: 3.5.-ből EU-s támogatás
A29: 4. | B29: Közhatalmi bevételek (4.1.+4.2.+4.3.+4.4.) | C29: =+C30+C34+C35+C36 -> 0 | D29: =+D30+D34+D35+D36 -> 0 | E29: =+E30+E34+E35+E36 -> 0
A30: 4.1. | B30: Helyi adók (4.1.1.+…+4.1.3.) | C30: =+C31+C32+C33 -> 0 | D30: =+D31+D32+D33 -> 0 | E30: =+E31+E32+E33 -> 0
A31: 4.1.1. | B31: - Vagyoni típusú adók
A32: 4.1.2. | B32: - Termékek és szolgáltatások adói
A33: 4.1.3. | B33: - Értékesítési és forgalmi adók (iparűzési adó)
A34: 4.2. | B34: Gépjárműadó
A35: 4.3. | B35: Egyéb áruhasználati és szolgáltatási adók
A36: 4.4. | B36: Egyéb közhatalmi bevételek
A37: 5. | B37: Működési bevételek (5.1.+…+ 5.11.) | C37: =SUM(C38:C48) -> 0 | D37: =SUM(D38:D48) -> 0 | E37: =SUM(E38:E48) -> 0
A38: 5.1. | B38: Készletértékesítés ellenértéke
A39: 5.2. | B39: Szolgáltatások ellenértéke
A40: 5.3. | B40: Közvetített szolgáltatások értéke
...

Sheet 6.1.3. sz. mell
E1: 6.1.3. melléklet
A2: Megnevezés | B2: Önkormányzat | E2: 01
A3: Feladat megnevezése | B3: Államigazgatási feladatok bevételei, kiadásai | E3: 02
E4: Ezer forintban !
A5: Száma | B5: Előirányzat-csoport, kiemelt előirányzat megnevezése | C5: Eredeti előirányzat | D5: Módosított előirányzat | E5: =+CONCATENATE("Teljesítés",CHAR(10),LEFT(#REF!,4),". VI. 30.") -> #REF!
A6: A | B6: B | C6: C | D6: D | E6: E
A7: Bevételek
A8: 1. | B8: Önkormányzat működési támogatásai (1.1.+…+.1.6.) | C8: =+C9+C10+C11+C12+C13+C14 -> 0 | D8: =+D9+D10+D11+D12+D13+D14 -> 0 | E8: =+E9+E10+E11+E12+E13+E14 -> 0
A9: 1.1. | B9: Helyi önkormányzatok működésének általános támogatása
A10: 1.2. | B10: Önkormányzatok egyes köznevelési feladatainak támogatása
A11: 1.3. | B11: Önkormányzatok szociális és gyermekjóléti feladatainak támogatása
A12: 1.4. | B12: Önkormányzatok kulturális feladatainak támogatása
A13: 1.5. | B13: Működési célú kvi támogatások és kiegészítő támogatások
A14: 1.6. | B14: Elszámolásból származó bevételek
A15: 2. | B15: Működési célú támogatások államháztartáson belülről (2.1.+…+.2.5.) | C15: =+C16+C17+C18+C19+C20 -> 0 | D15: =+D16+D17+D18+D19+D20 -> 0 | E15: =+E16+E17+E18+E19+E20 -> 0
A16: 2.1. | B16: Elvonások és befizetések bevételei
A17: 2.2. | B17: Működési célú garancia- és kezességvállalásból megtérülések
A18: 2.3. | B18: Működési célú visszatérítendő támogatások, kölcsönök visszatérülése
A19: 2.4. | B19: Működési célú visszatérítendő támogatások, kölcsönök igénybevétele
A20: 2.5. | B20: Egyéb működési célú támogatások bevételei
A21: 2.6. | B21: 2.5.-ből EU-s támogatás
A22: 3. | B22: Felhalmozási célú támogatások államháztartáson belülről (3.1.+…+3.5.) | C22: =+C23+C24+C25+C26+C27 -> 0 | D22: =+D23+D24+D25+D26+D27 -> 0 | E22: =+E23+E24+E25+E26+E27 -> 0
A23: 3.1. | B23: Felhalmozási célú önkormányzati támogatások
A24: 3.2. | B24: Felhalmozási célú garancia- és kezességvállalásból megtérülések
A25: 3.3. | B25: Felhalmozási célú visszatérítendő támogatások, kölcsönök visszatérülése
A26: 3.4. | B26: Felhalmozási célú visszatérítendő támogatások, kölcsönök igénybevétele
A27: 3.5. | B27: Egyéb felhalmozási célú támogatások bevételei
A28: 3.6. | B28: 3.5.-ből EU-s támogatás
A29: 4. | B29: Közhatalmi bevételek (4.1.+4.2.+4.3.+4.4.) | C29: =+C30+C34+C35+C36 -> 0 | D29: =+D30+D34+D35+D36 -> 0 | E29: =+E30+E34+E35+E36 -> 0
A30: 4.1. | B30: Helyi adók (4.1.1.+…+4.1.3.) | C30: =+C31+C32+C33 -> 0 | D30: =+D31+D32+D33 -> 0 | E30: =+E31+E32+E33 -> 0
A31: 4.1.1. | B31: - Vagyoni típusú adók
A32: 4.1.2. | B32: - Termékek és szolgáltatások adói
A33: 4.1.3. | B33: - Értékesítési és forgalmi adók (iparűzési adó)
A34: 4.2. | B34: Gépjárműadó
A35: 4.3. | B35: Egyéb áruhasználati és szolgáltatási adók
A36: 4.4. | B36: Egyéb közhatalmi bevételek
A37: 5. | B37: Működési bevételek (5.1.+…+ 5.11.) | C37: =SUM(C38:C48) -> 0 | D37: =SUM(D38:D48) -> 0 | E37: =SUM(E38:E48) -> 0
A38: 5.1. | B38: Készletértékesítés ellenértéke
A39: 5.2. | B39: Szolgáltatások ellenértéke
A40: 5.3. | B40: Közvetített szolgáltatások értéke
...

Sheet 6.2. sz. mell
E1: 6.2. melléklet
A2: Költségvetési szerv | B2: Polgármesteri /közös/ hivatal | E2: 02
A3: Feladat megnevezése | B3: Összes bevétel, kiadás | E3: 01
E4: Ezer forintban !
A5: Száma | B5: Előirányzat-csoport, kiemelt előirányzat megnevezése | C5: Eredeti előirányzat | D5: Módosított előirányzat | E5: =+CONCATENATE("Teljesítés",CHAR(10),LEFT(#REF!,4),". VI. 30.") -> #REF!
A6: A | B6: B | C6: C | D6: D | E6: E
A7: Bevételek
A8: 1. | B8: Működési bevételek (1.1.+…+1.11.) | C8: =SUM(C9:C19) -> 0 | D8: =SUM(D9:D19) -> 0 | E8: =SUM(E9:E19) -> 0
A9: 1.1. | B9: Készletértékesítés ellenértéke
A10: 1.2. | B10: Szolgáltatások ellenértéke
A11: 1.3. | B11: Közvetített szolgáltatások értéke
A12: 1.4. | B12: Tulajdonosi bevételek
A13: 1.5. | B13: Ellátási díjak
A14: 1.6. | B14: Kiszámlázott általános forgalmi adó
A15: 1.7. | B15: Általános forgalmi adó visszatérülése
A16: 1.8. | B16: Kamatbevételek
A17: 1.9. | B17: Egyéb pénzügyi műveletek bevételei
A18: 1.10. | B18: Biztosító által fizetett kártérítés
A19: 1.11. | B19: Egyéb működési bevételek
A20: 2. | B20: Működési célú támogatások államháztartáson belülről (2.1.+…+2.3.) | C20: =SUM(C21:C23) -> 0 | D20: =SUM(D21:D23) -> 0 | E20: =SUM(E21:E23) -> 0
A21: 2.1. | B21: Elvonások és befizetések bevételei
A22: 2.2. | B22: Visszatérítendő támogatások, kölcsönök visszatérülése ÁH-n belülről
A23: 2.3. | B23: Egyéb működési célú támogatások bevételei államháztartáson belülről
A24: 2.4. | B24: 2.3-ból EU támogatás
A25: 3. | B25: Közhatalmi bevételek
A26: 4. | B26: Felhalmozási célú támogatások államháztartáson belülről (4.1.+…+4.3.) | C26: =+C27+C28+C29 -> 0 | D26: =+D27+D28+D29 -> 0 | E26: =+E27+E28+E29 -> 0
A27: 4.1. | B27: Felhalmozási célú önkormányzati támogatások
A28: 4.2. | B28: Visszatérítendő támogatások, kölcsönök visszatérülése ÁH-n belülről
A29: 4.3. | B29: Egyéb felhalmozási célú támogatások bevételei államháztartáson belülről
A30: 4.4. | B30: 4.3.-ból EU-s támogatás
A31: 5. | B31: Felhalmozási bevételek (5.1.+…+5.3.) | C31: =+C32+C33+C34 -> 0 | D31: =+D32+D33+D34 -> 0 | E31: =+E32+E33+E34 -> 0
A32: 5.1. | B32: Immateriális javak értékesítése
A33: 5.2. | B33: Ingatlanok értékesítése
A34: 5.3. | B34: Egyéb tárgyi eszközök értékesítése
A35: 6. | B35: Működési célú átvett pénzeszközök
A36: 7. | B36: Felhalmozási célú átvett pénzeszközök
A37: 8. | B37: Költségvetési bevételek összesen (1.+…+7.) | C37: =+C8+C20+C25+C26+C31+C35+C36 -> 0 | D37: =+D8+D20+D25+D26+D31+D35+D36 -> 0 | E37: =+E8+E20+E25+E26+E31+E35+E36 -> 0
A38: 9. | B38: Finanszírozási bevételek (9.1.+…+9.3.) | C38: =+C39+C40+C41 -> 0 | D38: =+D39+D40+D41 -> 0 | E38: =+E39+E40+E41 -> 0
A39: 9.1. | B39: Költségvetési maradvány igénybevétele
A40: 9.2. | B40: Vállalkozási maradvány igénybevétele
...

Sheet 6.2.1. sz. mell
E1: 6.2.1. melléklet
A2: Költségvetési szerv | B2: Polgármesteri /közös/ hivatal | E2: 02
A3: Feladat megnevezése | B3: Kötelező feladatok bevételei, kiadásai | E3: 02
E4: Ezer forintban !
A5: Száma | B5: Előirányzat-csoport, kiemelt előirányzat megnevezése | C5: Eredeti előirányzat | D5: Módosított előirányzat | E5: =+CONCATENATE("Teljesítés",CHAR(10),LEFT(#REF!,4),". VI. 30.") -> #REF!
A6: A | B6: B | C6: C | D6: D | E6: E
A7: Bevételek
A8: 1. | B8: Működési bevételek (1.1.+…+1.11.) | C8: =SUM(C9:C19) -> 0 | D8: =SUM(D9:D19) -> 0 | E8: =SUM(E9:E19) -> 0
A9: 1.1. | B9: Készletértékesítés ellenértéke
A10: 1.2. | B10: Szolgáltatások ellenértéke
A11: 1.3. | B11: Közvetített szolgáltatások értéke
A12: 1.4. | B12: Tulajdonosi bevételek
A13: 1.5. | B13: Ellátási díjak
A14: 1.6. | B14: Kiszámlázott általános forgalmi adó
A15: 1.7. | B15: Általános forgalmi adó visszatérülése
A16: 1.8. | B16: Kamatbevételek
A17: 1.9. | B17: Egyéb pénzügyi műveletek bevételei
A18: 1.10. | B18: Biztosító által fizetett kártérítés
A19: 1.11. | B19: Egyéb működési bevételek
A20: 2. | B20: Működési célú támogatások államháztartáson belülről (2.1.+…+2.3.) | C20: =SUM(C21:C23) -> 0 | D20: =SUM(D21:D23) -> 0 | E20: =SUM(E21:E23) -> 0
A21: 2.1. | B21: Elvonások és befizetések bevételei
A22: 2.2. | B22: Visszatérítendő támogatások, kölcsönök visszatérülése ÁH-n belülről
A23: 2.3. | B23: Egyéb működési célú támogatások bevételei államháztartáson belülről
A24: 2.4. | B24: 2.3-ból EU támogatás
A25: 3. | B25: Közhatalmi bevételek
A26: 4. | B26: Felhalmozási célú támogatások államháztartáson belülről (4.1.+…+4.3.) | C26: =+C27+C28+C29 -> 0 | D26: =+D27+D28+D29 -> 0 | E26: =+E27+E28+E29 -> 0
A27: 4.1. | B27: Felhalmozási célú önkormányzati támogatások
A28: 4.2. | B28: Visszatérítendő támogatások, kölcsönök visszatérülése ÁH-n belülről
A29: 4.3. | B29: Egyéb felhalmozási célú támogatások bevételei államháztartáson belülről
A30: 4.4. | B30: 4.3.-ból EU-s támogatás
A31: 5. | B31: Felhalmozási bevételek (5.1.+…+5.3.) | C31: =+C32+C33+C34 -> 0 | D31: =+D32+D33+D34 -> 0 | E31: =+E32+E33+E34 -> 0
A32: 5.1. | B32: Immateriális javak értékesítése
A33: 5.2. | B33: Ingatlanok értékesítése
A34: 5.3. | B34: Egyéb tárgyi eszközök értékesítése
A35: 6. | B35: Működési célú átvett pénzeszközök
A36: 7. | B36: Felhalmozási célú átvett pénzeszközök
A37: 8. | B37: Költségvetési bevételek összesen (1.+…+7.) | C37: =+C8+C20+C25+C26+C31+C35+C36 -> 0 | D37: =+D8+D20+D25+D26+D31+D35+D36 -> 0 | E37: =+E8+E20+E25+E26+E31+E35+E36 -> 0
A38: 9. | B38: Finanszírozási bevételek (9.1.+…+9.3.) | C38: =+C39+C40+C41 -> 0 | D38: =+D39+D40+D41 -> 0 | E38: =+E39+E40+E41 -> 0
A39: 9.1. | B39: Költségvetési maradvány igénybevétele
A40: 9.2. | B40: Vállalkozási maradvány igénybevétele
...

Sheet 6.2.2. sz. mell
E1: 6.2.2. melléklet
A2: Költségvetési szerv | B2: Polgármesteri /közös/ hivatal | E2: 02
A3: Feladat megnevezése | B3: Önként vállalt feladatok bevételei, kiadásai | E3: 03
E4: Ezer forintban !
A5: Száma | B5: Előirányzat-csoport, kiemelt előirányzat megnevezése | C5: Eredeti előirányzat | D5: Módosított előirányzat | E5: =+CONCATENATE("Teljesítés",CHAR(10),LEFT(#REF!,4),". VI. 30.") -> #REF!
A6: A | B6: B | C6: C | D6: D | E6: E
A7: Bevételek
A8: 1. | B8: Működési bevételek (1.1.+…+1.11.) | C8: =SUM(C9:C19) -> 0 | D8: =SUM(D9:D19) -> 0 | E8: =SUM(E9:E19) -> 0
A9: 1.1. | B9: Készletértékesítés ellenértéke
A10: 1.2. | B10: Szolgáltatások ellenértéke
A11: 1.3. | B11: Közvetített szolgáltatások értéke
A12: 1.4. | B12: Tulajdonosi bevételek
A13: 1.5. | B13: Ellátási díjak
A14: 1.6. | B14: Kiszámlázott általános forgalmi adó
A15: 1.7. | B15: Általános forgalmi adó visszatérülése
A16: 1.8. | B16: Kamatbevételek
A17: 1.9. | B17: Egyéb pénzügyi műveletek bevételei
A18: 1.10. | B18: Biztosító által fizetett kártérítés
A19: 1.11. | B19: Egyéb működési bevételek
A20: 2. | B20: Működési célú támogatások államháztartáson belülről (2.1.+…+2.3.) | C20: =SUM(C21:C23) -> 0 | D20: =SUM(D21:D23) -> 0 | E20: =SUM(E21:E23) -> 0
A21: 2.1. | B21: Elvonások és befizetések bevételei
A22: 2.2. | B22: Visszatérítendő támogatások, kölcsönök visszatérülése ÁH-n belülről
A23: 2.3. | B23: Egyéb működési célú támogatások bevételei államháztartáson belülről
A24: 2.4. | B24: 2.3-ból EU támogatás
A25: 3. | B25: Közhatalmi bevételek
A26: 4. | B26: Felhalmozási célú támogatások államháztartáson belülről (4.1.+…+4.3.) | C26: =+C27+C28+C29 -> 0 | D26: =+D27+D28+D29 -> 0 | E26: =+E27+E28+E29 -> 0
A27: 4.1. | B27: Felhalmozási célú önkormányzati támogatások
A28: 4.2. | B28: Visszatérítendő támogatások, kölcsönök visszatérülése ÁH-n belülről
A29: 4.3. | B29: Egyéb felhalmozási célú támogatások bevételei államháztartáson belülről
A30: 4.4. | B30: 4.3.-ból EU-s támogatás
A31: 5. | B31: Felhalmozási bevételek (5.1.+…+5.3.) | C31: =+C32+C33+C34 -> 0 | D31: =+D32+D33+D34 -> 0 | E31: =+E32+E33+E34 -> 0
A32: 5.1. | B32: Immateriális javak értékesítése
A33: 5.2. | B33: Ingatlanok értékesítése
A34: 5.3. | B34: Egyéb tárgyi eszközök értékesítése
A35: 6. | B35: Működési célú átvett pénzeszközök
A36: 7. | B36: Felhalmozási célú átvett pénzeszközök
A37: 8. | B37: Költségvetési bevételek összesen (1.+…+7.) | C37: =+C8+C20+C25+C26+C31+C35+C36 -> 0 | D37: =+D8+D20+D25+D26+D31+D35+D36 -> 0 | E37: =+E8+E20+E25+E26+E31+E35+E36 -> 0
A38: 9. | B38: Finanszírozási bevételek (9.1.+…+9.3.) | C38: =+C39+C40+C41 -> 0 | D38: =+D39+D40+D41 -> 0 | E38: =+E39+E40+E41 -> 0
A39: 9.1. | B39: Költségvetési maradvány igénybevétele
A40: 9.2. | B40: Vállalkozási maradvány igénybevétele
...

Sheet 6.2.3. sz. mell
E1: 6.2.3. melléklet
A2: Költségvetési szerv | B2: Polgármesteri /közös/ hivatal | E2: 02
A3: Feladat megnevezése | B3: Államigazgatási feladatok bevételei, kiadásai | E3: 04
E4: Ezer forintban !
A5: Száma | B5: Előirányzat-csoport, kiemelt előirányzat megnevezése | C5: Eredeti előirányzat | D5: Módosított előirányzat | E5: =+CONCATENATE("Teljesítés",CHAR(10),LEFT(#REF!,4),". VI. 30.") -> #REF!
A6: A | B6: B | C6: C | D6: D | E6: E
A7: Bevételek
A8: 1. | B8: Működési bevételek (1.1.+…+1.11.) | C8: =SUM(C9:C19) -> 0 | D8: =SUM(D9:D19) -> 0 | E8: =SUM(E9:E19) -> 0
A9: 1.1. | B9: Készletértékesítés ellenértéke
A10: 1.2. | B10: Szolgáltatások ellenértéke
A11: 1.3. | B11: Közvetített szolgáltatások értéke
A12: 1.4. | B12: Tulajdonosi bevételek
A13: 1.5. | B13: Ellátási díjak
A14: 1.6. | B14: Kiszámlázott általános forgalmi adó
A15: 1.7. | B15: Általános forgalmi adó visszatérülése
A16: 1.8. | B16: Kamatbevételek
A17: 1.9. | B17: Egyéb pénzügyi műveletek bevételei
A18: 1.10. | B18: Biztosító által fizetett kártérítés
A19: 1.11. | B19: Egyéb működési bevételek
A20: 2. | B20: Működési célú támogatások államháztartáson belülről (2.1.+…+2.3.) | C20: =SUM(C21:C23) -> 0 | D20: =SUM(D21:D23) -> 0 | E20: =SUM(E21:E23) -> 0
A21: 2.1. | B21: Elvonások és befizetések bevételei
A22: 2.2. | B22: Visszatérítendő támogatások, kölcsönök visszatérülése ÁH-n belülről
A23: 2.3. | B23: Egyéb működési célú támogatások bevételei államháztartáson belülről
A24: 2.4. | B24: 2.3-ból EU támogatás
A25: 3. | B25: Közhatalmi bevételek
A26: 4. | B26: Felhalmozási célú támogatások államháztartáson belülről (4.1.+…+4.3.) | C26: =+C27+C28+C29 -> 0 | D26: =+D27+D28+D29 -> 0 | E26: =+E27+E28+E29 -> 0
A27: 4.1. | B27: Felhalmozási célú önkormányzati támogatások
A28: 4.2. | B28: Visszatérítendő támogatások, kölcsönök visszatérülése ÁH-n belülről
A29: 4.3. | B29: Egyéb felhalmozási célú támogatások bevételei államháztartáson belülről
A30: 4.4. | B30: 4.3.-ból EU-s támogatás
A31: 5. | B31: Felhalmozási bevételek (5.1.+…+5.3.) | C31: =+C32+C33+C34 -> 0 | D31: =+D32+D33+D34 -> 0 | E31: =+E32+E33+E34 -> 0
A32: 5.1. | B32: Immateriális javak értékesítése
A33: 5.2. | B33: Ingatlanok értékesítése
A34: 5.3. | B34: Egyéb tárgyi eszközök értékesítése
A35: 6. | B35: Működési célú átvett pénzeszközök
A36: 7. | B36: Felhalmozási célú átvett pénzeszközök
A37: 8. | B37: Költségvetési bevételek összesen (1.+…+7.) | C37: =+C8+C20+C25+C26+C31+C35+C36 -> 0 | D37: =+D8+D20+D25+D26+D31+D35+D36 -> 0 | E37: =+E8+E20+E25+E26+E31+E35+E36 -> 0
A38: 9. | B38: Finanszírozási bevételek (9.1.+…+9.3.) | C38: =+C39+C40+C41 -> 0 | D38: =+D39+D40+D41 -> 0 | E38: =+E39+E40+E41 -> 0
A39: 9.1. | B39: Költségvetési maradvány igénybevétele
A40: 9.2. | B40: Vállalkozási maradvány igénybevétele
...

Sheet 6.3. sz. mell
E1: 6.3. melléklet
A2: Költségvetési szerv | B2: Költségvetési szerv I. | E2: 03
A3: Feladat megnevezése | B3: Összes bevétel, kiadás | E3: 01
E4: Ezer forintban !
A5: Száma | B5: Előirányzat-csoport, kiemelt előirányzat megnevezése | C5: Eredeti előirányzat | D5: Módosított előirányzat | E5: =+CONCATENATE("Teljesítés",CHAR(10),LEFT(#REF!,4),". VI. 30.") -> #REF!
A6: A | B6: B | C6: C | D6: D | E6: E
A7: Bevételek
A8: 1. | B8: Működési bevételek (1.1.+…+1.11.) | C8: =SUM(C9:C19) -> 0 | D8: =SUM(D9:D19) -> 0 | E8: =SUM(E9:E19) -> 0
A9: 1.1. | B9: Készletértékesítés ellenértéke
A10: 1.2. | B10: Szolgáltatások ellenértéke
A11: 1.3. | B11: Közvetített szolgáltatások értéke
A12: 1.4. | B12: Tulajdonosi bevételek
A13: 1.5. | B13: Ellátási díjak
A14: 1.6. | B14: Kiszámlázott általános forgalmi adó
A15: 1.7. | B15: Általános forgalmi adó visszatérülése
A16: 1.8. | B16: Kamatbevételek
A17: 1.9. | B17: Egyéb pénzügyi műveletek bevételei
A18: 1.10. | B18: Biztosító által fizetett kártérítés
A19: 1.11. | B19: Egyéb működési bevételek
A20: 2. | B20: Működési célú támogatások államháztartáson belülről (2.1.+…+2.3.) | C20: =SUM(C21:C23) -> 0 | D20: =SUM(D21:D23) -> 0 | E20: =SUM(E21:E23) -> 0
A21: 2.1. | B21: Elvonások és befizetések bevételei
A22: 2.2. | B22: Visszatérítendő támogatások, kölcsönök visszatérülése ÁH-n belülről
A23: 2.3. | B23: Egyéb működési célú támogatások bevételei államháztartáson belülről
A24: 2.4. | B24: 2.3.-ból EU támogatás
A25: 3. | B25: Közhatalmi bevételek
A26: 4. | B26: Felhalmozási célú támogatások államháztartáson belülről (4.1.+4.2.) | C26: =+C27+C28 -> 0 | D26: =+D27+D28 -> 0 | E26: =+E27+E28 -> 0
A27: 4.1. | B27: Visszatérítendő támogatások, kölcsönök visszatérülése ÁH-n belülről
A28: 4.2. | B28: Egyéb felhalmozási célú támogatások bevételei államháztartáson belülről
A29: 4.3. | B29: 4.2.-ből EU-s támogatás
A30: 5. | B30: Felhalmozási bevételek (5.1.+…+5.3.) | C30: =+C31+C32+C33 -> 0 | D30: =+D31+D32+D33 -> 0 | E30: =+E31+E32+E33 -> 0
A31: 5.1. | B31: Immateriális javak értékesítése
A32: 5.2. | B32: Ingatlanok értékesítése
A33: 5.3. | B33: Egyéb tárgyi eszközök értékesítése
A34: 6. | B34: Működési célú átvett pénzeszközök
A35: 7. | B35: Felhalmozási célú átvett pénzeszközök
A36: 8. | B36: KÖLTSÉGVETÉSI BEVÉTELEK ÖSSZESEN (1.+…+7.) | C36: =+C8+C20+C25+C26+C30+C34+C35 -> 0 | D36: =+D8+D20+D25+D26+D30+D34+D35 -> 0 | E36: =+E8+E20+E25+E26+E30+E34+E35 -> 0
A37: 9. | B37: Finanszírozási bevételek (9.1.+…+9.3.) | C37: =+C38+C39+C40 -> 0 | D37: =+D38+D39+D40 -> 0 | E37: =+E38+E39+E40 -> 0
A38: 9.1. | B38: Költségvetési maradvány igénybevétele
A39: 9.2. | B39: Vállalkozási maradvány igénybevétele
A40: 9.3. | B40: Irányító szervi (önkormányzati) támogatás (intézményfinanszírozás)
...

Sheet 6.3.1. sz. mell
E1: 6.3.1. melléklet
A2: Költségvetési szerv | B2: Költségvetési szerv I. | E2: 03
A3: Feladat megnevezése | B3: Kötelező feladatok bevételei, kiadásai | E3: 02
E4: Ezer forintban !
A5: Száma | B5: Előirányzat-csoport, kiemelt előirányzat megnevezése | C5: Eredeti előirányzat | D5: Módosított előirányzat | E5: =+CONCATENATE("Teljesítés",CHAR(10),LEFT(#REF!,4),". VI. 30.") -> #REF!
A6: A | B6: B | C6: C | D6: D | E6: E
A7: Bevételek
A8: 1. | B8: Működési bevételek (1.1.+…+1.11.) | C8: =SUM(C9:C19) -> 0 | D8: =SUM(D9:D19) -> 0 | E8: =SUM(E9:E19) -> 0
A9: 1.1. | B9: Készletértékesítés ellenértéke
A10: 1.2. | B10: Szolgáltatások ellenértéke
A11: 1.3. | B11: Közvetített szolgáltatások értéke
A12: 1.4. | B12: Tulajdonosi bevételek
A13: 1.5. | B13: Ellátási díjak
A14: 1.6. | B14: Kiszámlázott általános forgalmi adó
A15: 1.7. | B15: Általános forgalmi adó visszatérülése
A16: 1.8. | B16: Kamatbevételek
A17: 1.9. | B17: Egyéb pénzügyi műveletek bevételei
A18: 1.10. | B18: Biztosító által fizetett kártérítés
A19: 1.11. | B19: Egyéb működési bevételek
A20: 2. | B20: Működési célú támogatások államháztartáson belülről (2.1.+…+2.3.) | C20: =SUM(C21:C23) -> 0 | D20: =SUM(D21:D23) -> 0 | E20: =SUM(E21:E23) -> 0
A21: 2.1. | B21: Elvonások és befizetések bevételei
A22: 2.2. | B22: Visszatérítendő támogatások, kölcsönök visszatérülése ÁH-n belülről
A23: 2.3. | B23: Egyéb működési célú támogatások bevételei államháztartáson belülről
A24: 2.4. | B24: 2.3.-ból EU támogatás
A25: 3. | B25: Közhatalmi bevételek
A26: 4. | B26: Felhalmozási célú támogatások államháztartáson belülről (4.1.+4.2.) | C26: =+C27+C28 -> 0 | D26: =+D27+D28 -> 0 | E26: =+E27+E28 -> 0
A27: 4.1. | B27: Visszatérítendő támogatások, kölcsönök visszatérülése ÁH-n belülről
A28: 4.2. | B28: Egyéb felhalmozási célú támogatások bevételei államháztartáson belülről
A29: 4.3. | B29: 4.2.-ből EU-s támogatás
A30: 5. | B30: Felhalmozási bevételek (5.1.+…+5.3.) | C30: =+C31+C32+C33 -> 0 | D30: =+D31+D32+D33 -> 0 | E30: =+E31+E32+E33 -> 0
A31: 5.1. | B31: Immateriális javak értékesítése
A32: 5.2. | B32: Ingatlanok értékesítése
A33: 5.3. | B33: Egyéb tárgyi eszközök értékesítése
A34: 6. | B34: Működési célú átvett pénzeszközök
A35: 7. | B35: Felhalmozási célú átvett pénzeszközök
A36: 8. | B36: KÖLTSÉGVETÉSI BEVÉTELEK ÖSSZESEN (1.+…+7.) | C36: =+C8+C20+C25+C26+C30+C34+C35 -> 0 | D36: =+D8+D20+D25+D26+D30+D34+D35 -> 0 | E36: =+E8+E20+E25+E26+E30+E34+E35 -> 0
A37: 9. | B37: Finanszírozási bevételek (9.1.+…+9.3.) | C37: =+C38+C39+C40 -> 0 | D37: =+D38+D39+D40 -> 0 | E37: =+E38+E39+E40 -> 0
A38: 9.1. | B38: Költségvetési maradvány igénybevétele
A39: 9.2. | B39: Vállalkozási maradvány igénybevétele
A40: 9.3. | B40: Irányító szervi (önkormányzati) támogatás (intézményfinanszírozás)
...

Sheet 6.3.2. sz. mell
E1: 6.3.2. melléklet
A2: Költségvetési szerv | B2: Költségvetési szerv I. | E2: 03
A3: Feladat megnevezése | B3: Önként vállalt feladatok bevételei, kiadásai | E3: 03
E4: Ezer forintban !
A5: Száma | B5: Előirányzat-csoport, kiemelt előirányzat megnevezése | C5: Eredeti előirányzat | D5: Módosított előirányzat | E5: =+CONCATENATE("Teljesítés",CHAR(10),LEFT(#REF!,4),". VI. 30.") -> #REF!
A6: A | B6: B | C6: C | D6: D | E6: E
A7: Bevételek
A8: 1. | B8: Működési bevételek (1.1.+…+1.11.) | C8: =SUM(C9:C19) -> 0 | D8: =SUM(D9:D19) -> 0 | E8: =SUM(E9:E19) -> 0
A9: 1.1. | B9: Készletértékesítés ellenértéke
A10: 1.2. | B10: Szolgáltatások ellenértéke
A11: 1.3. | B11: Közvetített szolgáltatások értéke
A12: 1.4. | B12: Tulajdonosi bevételek
A13: 1.5. | B13: Ellátási díjak
A14: 1.6. | B14: Kiszámlázott általános forgalmi adó
A15: 1.7. | B15: Általános forgalmi adó visszatérülése
A16: 1.8. | B16: Kamatbevételek
A17: 1.9. | B17: Egyéb pénzügyi műveletek bevételei
A18: 1.10. | B18: Biztosító által fizetett kártérítés
A19: 1.11. | B19: Egyéb működési bevételek
A20: 2. | B20: Működési célú támogatások államháztartáson belülről (2.1.+…+2.3.) | C20: =SUM(C21:C23) -> 0 | D20: =SUM(D21:D23) -> 0 | E20: =SUM(E21:E23) -> 0
A21: 2.1. | B21: Elvonások és befizetések bevételei
A22: 2.2. | B22: Visszatérítendő támogatások, kölcsönök visszatérülése ÁH-n belülről
A23: 2.3. | B23: Egyéb működési célú támogatások bevételei államháztartáson belülről
A24: 2.4. | B24: 2.3.-ból EU támogatás
