Workbook
Name _4._sz._sor_részletezése: #REF!
Name _4._sz._sor_részletezése: #REF!
Name _4._sz._sor_részletezése: #REF!
Name _4._sz._sor_részletezése: #REF!
Name _4._sz._sor_részletezése: #REF!
Name _4._sz._sor_részletezése: #REF!
Name _4._sz._sor_részletezése: #REF!
Name _4._sz._sor_részletezése: #REF!
Name _4._sz._sor_részletezése: #REF!
Name _4._sz._sor_részletezése: #REF!
Name _4._sz._sor_részletezése: #REF!

Sheet Összefoglaló 
B1: ÖSSZEFOGLALÓ TÁBLA
B2: a bevételi és kiadási előirányzatok módosításáról
B3: 2020. október hó
E4: adatok eFt-ban
D5: A | E5: B
D6: Megnevezés | E6: Összesen
A7: 1 | B7: I. | D7: BEVÉTELEK
A8: 2 | C8: 1. | D8: Helyi önkormányzatok általános működéséhez és ágazati feladataihoz kapcsolódó támogatás
A9: 3 | D9: Kulturális illetmény pótlék (2020. augusztus hó) | E9: 5342
A10: 4 | D10: Szociális ágazati összevont pótlék (2020. augusztus hó) | E10: 14671
A11: 5 | D11: Szociális ágazatban foglalkoztatottak egészségügyi kiegészítő pótléka (2020. augusztus hó) | E11: 317
A12: 6 | D12: Bérkompenzáció (2020. augusztus hó) | E12: 505
A13: 7 | D13: Gyermekétkeztetés támogatása | E13: -73304
A14: 8 | D14: Összesen | E14: =SUM(E9:E13) -> -52469
A15: 9 | C15: 2. | D15: Egyéb működési célú támogatások
A16: 10 | D16: TOP-6.5.1-16-VP1-2018-00002 Völgyikút utca 2. szám alatti épület energetikai megújítása | E16: 3632
A17: 11 | D17: Összesen | E17: =SUM(E16:E16) -> 3632
A18: 12 | C18: 3. | D18: Önkormányzati Intézmények működési célú támogatások Áht-on belülről
A19: 13 | D19: Művészetek Háza Veszprém Művelődési Ház és Kiállítóhely
A20: 14 | D20: Tempus Közalapítvány, NKA pályázati bevételek, Kormányhivataltól kapott támogatás | E20: 4642
A21: 15 | D21: Eötvös Károly Megyei Könyvtár - NKA pályázati támogatás | E21: 250
A22: 16 | D22: Összesen | E22: =SUM(E19:E21) -> 4892
A23: 17 | C23: 4. | D23: Közhatalmi bevételek
A24: 18 | D24: Adók - Iparűzési adó | E24: 100000
A25: 19
A26: 20 | C26: 5. | D26: Önkormányzat működési bevételei
A27: 21 | D27: Szolgáltatások, közvetített szolgáltatások ellenértéke | E27: 1329
A28: 22 | D28: Tulajdonosi bevételek - Bakonykarszt - lakossági vízbekötés ellentételezése | E28: 124
A29: 23 | D29: ÁFA bevételek és visszatérülések | E29: =359+34 -> 393
A30: 24 | D30: Összesen | E30: =SUM(E27:E29) -> 1846
A31: 25 | C31: 6. | D31: Önkormányzati intézmények működési bevételei
A32: 26 | D32: Veszprémi Egry Úti Körzeti Óvoda - térítési díj bevételi többlet | E32: 897
A33: 27 | D33: Eötvös Károly Megyei Könyvtár - várható áfa bevételi többlet | E33: 6951
A34: 28 | D34: Átcsoportosítás
A35: 29 | D35: Veszprémi Intézményi Szolgáltató Szervezet | E35: -600
A36: 30 | D36: Összesen | E36: =SUM(E32:E35) -> 7248
A37: 31 | C37: 7. | D37: Felhalmozási célú támogatások Áht-on belülről
A38: 32 | D38: TOP-6.5.1-16-VP1-2018-00005 - Március 15. utcai Sportcsarnok és Uszoda energetikai megújítása - projekt visszaadása | E38: -41400
A39: 33 | D39: TOP-6.5.1-16-VP1-2018-00002 Völgyikút utca 2. szám alatti épület energetikai megújítása | E39: 130641
A40: 34 | D40: Összesen | E40: =SUM(E38:E39) -> 89241
A41: 35 | C41: 8. | D41: Önkormányzati intézmények felhalmozási bevétele
A42: 36 | D42: Veszprémi Bölcsődei és Egészségügyi Alapellátási Integrált Intézmény - gépjármű értékesítés többlet bevétele | E42: 350
A43: 37 | D43: Átcsoportosítás
A44: 38 | D44: Veszprémi Intézményi Szolgáltató Szervezet - gépkocsi eladás | E44: 600
A45: 39 | D45: Összesen | E45: =SUM(E42:E44) -> 950
A46: 40 | B46: I. | D46: BEVÉTELEK ÖSSZESEN: | E46: =E22+E17+E14+E36+E45+E40+E30+E24 -> 155340
A47: 41 | B47: II. | D47: KIADÁSOK
A48: 42 | C48: 1. | D48: VMJV Önkormányzat működési kiadások (6.Önk.műk.)
A49: 43 | D49: Bevételi források változásából adódóan, valamint feladatok közötti átcsoportosításból
A50: 44 | D50: Veszprémi Kistérségi Társulásnak pénzeszköz átadás (ESZI)
A51: 45 | D51: Szociális ágazati összevont pótlék (2020. augusztus hó) | E51: 6602
A52: 46 | D52: Egészségügyi kiegészítő pótlék (2020. augusztus hó) | E52: 317
A53: 47 | D53: Bérkompenzáció (2020. augusztus hó) | E53: 64
A54: 48 | D54: Állam felé befizetési kötelezettség | E54: =162088-6158 -> 155930
A55: 49 | D55: Nemzeti ünnepek kiadásai
A56: 50 | D56: átcsoportosítás Agóra VKK-nak - október 6-i rendezvény lebonyolításának költségeire | E56: -140
A57: 51 | D57: Programiroda nemzeti ünnepekkel kapcsolatos költségeire | E57: 2209
A58: 52 | D58: Közművelődési szolgáltatás
A59: 53 | D59: Programiroda városi szilveszter költségeire | E59: 2500
A60: 54 | D60: Eseti rendezvények
A61: 55 | D61: Veszprém "10+10 éve" - Konferencia, workshop és kiadvány, díjátadó és polgármesteri évértékelő rendezvényre | E61: 3500
A62: 56 | D62: Közterület Felügyelet, gyepmesteri telep | E62: 1688
A63: 57 | D63: Parkfenntartás - erdők ápolása, utógondozása | E63: 2000
A64: 58 | D64: DAT térképfrissítés, földkönyv, közműnyilvántartás, GPS | E64: -2000
A65: 59 | D65: Városi TV közszolgálati műsorok támogatása | E65: 28650
A66: 60 | D66: TDM Irodától szolgáltatás vásárlása
A67: 61 | D67: átcsoportosítás törzstőke emelésre és tartalékba helyezésre | E67: -4010
A68: 62 | D68: átcsoportosítás szolgáltatás vásárlásra | E68: =9300+990 -> 10290
A69: 63 | D69: Összesen | E69: =SUM(E51:E68) -> 207600
A70: 64
A71: 65 | D71: Európai Uniós forrásból finanszírozott támogatással megvalósuló programok, projektek (9.Projekt)
A72: 66 | D72: Bevételi források változásából adódóan, valamint feladatok közötti átcsoportosításból
A73: 67 | D73: TOP-6.5.1-16-VP1-2018-00005 - Március 15. utcai Sportcsarnok és Uszoda energetikai megújítása - dologi kiadások | E73: -10750
A74: 68 | D74: TOP-6.5.1-16-VP1-2018-00005 - Március 15. utcai Sportcsarnok és Uszoda energetikai megújítása - egyéb működési célú kiadások - projekt visszaadása | E74: 24602
A75: 69 | D75: TOP-6.5.1-16-VP1-2018-00002 Völgyikút utca 2. szám alatti épület energetikai megújítása - projekt előleg visszautalása az Államkincstárnak | E75: 3632
A76: 70 | D76: Összesen | E76: =SUM(E73:E75) -> 17484
A77: 71 | D77: Európa Kulturális Főváros működési kiadása (11.EKF. I.ütem)
A78: 72 | D78: átcsoportosítás személyi kiadásokról -1.000 eFt., munkaadót terhelő szoc.hóról -500 eFt. | E78: -1500
A79: 73 | D79: dologi kiadásokra | E79: 1222
A80: 74 | D80: átcsoportosítás egyéb működési célú kiadásokra - elszámolás | E80: 350
A81: 75 | D81: Összesen | E81: =SUM(E78:E80) -> 72
A82: 76 | D82: VMJV Önkormányzata működési kiadás mindösszesen | E82: =E76+E69+E81 -> 225156
A83: 77 | C83: 2. | D83: Felhalmozási kiadások
A84: 78 | D84: Beruházási kiadások
A85: 79 | D85: Bevételi források változásából adódóan, valamint feladatok közötti átcsoportosításból
A86: 80 | D86: Saját forrásból megvalósuló beruházási és felhalmozási kiadások (7.Beruh.)
A87: 81 | D87: Lakossági vízbekötések -Bakonykarszt számla és analitika szerint | E87: 158
A88: 82 | D88: Infrastruktúra fejlesztési feladatokhoz kapcsolódó kiadások | E88: -4000
A89: 83 | D89: Önkormányzati érdekeket érintő településrendezése eszközök módosítása | E89: 4000
A90: 84 | D90: Veszprémi Turisztikai Kft. törzstőke emelés | E90: 10
A91: 85 | D91: Veszprémi Turisztikai Kft. tőketartalékba helyezés | E91: 4000
A92: 86 | D92: Összesen | E92: =SUM(E86:E91) -> 4168
A93: 87
A94: 88 | D94: Európai Uniós forrásból finanszírozott támogatással megvalósuló programok, projektek (9.Projekt)
A95: 89 | D95: TOP-6.5.1-16-VP1-2018-00005 - Március 15. utcai Sportcsarnok és Uszoda energetikai megújítása - beruházási kiadások | E95: -771853
A96: 90 | D96: TOP-6.5.1-16-VP1-2018-00005 - Március 15. utcai Sportcsarnok és Uszoda energetikai megújítása - egyéb felhalmozási célú kiadások - projekt visszaadása | E96: 763513
A97: 91 | D97: TOP-6.5.1-16-VP1-2018-00002 Völgyikút utca 2. szám alatti épület energetikai megújítása - projekt előleg visszautalása az Államkincstárnak | E97: 130641
A98: 92 | D98: Összesen | E98: =SUM(E95:E97) -> 122301
A99: 93 | D99: Európa Kulturális Fővárosa felhalmozási kiadása (11.EKF I.ütem)
A100: 94 | D100: Haszkovó lakótelep fejlesztései - átcsoportosítás | E100: -1222
...

Sheet 1.Onbe
B1: 1. melléklet a 2020. évi költségvetésről szóló 5/2020. (II. 27.) önkormányzati rendelet módosításáról szóló 39/2020. (X.29.) önkormányzati rendelethez
B2: "1. melléklet VMJV Önkormányzata Közgyűlésének 5/2020. (II. 27.) önkormányzati rendeletéhez"
B4: Veszprém Megyei Jogú Város Önkormányzatának
B5: 2020. évi költségvetési bevételei
M6: adatok eFt-ban
B7: A | C7: B | D7: C | E7: D | F7: E | G7: F | H7: G | I7: H | J7: I | K7: J | L7: K | M7: L
B8: Cím | C8: Alcím | D8: Előir. csop. | E8: Kie-melt előir. | F8: Megnevezés | G8: 2018. évi tény | H8: 2019. évi eredeti előirányzat | I8: 2019. évi tény | J8: 2020. évi eredeti előirányzat | K8: 2020. évi módosított előirányzat 3. | L8: Módosítás | M8: 2020. évi módosított előirányzat 4.
A9: 1 | D9: 1 | F9: Működési költségvetési bevételek | G9: =SUM(G10,G17,G27,G33,G35,G16,G32) -> 14062643 | H9: =SUM(H10,H17,H27,H33,H35,H16,H32) -> 12977517 | I9: =SUM(I10,I17,I27,I33,I35,I16,I32) -> 14853364 | J9: =SUM(J10,J17,J27,J33,J35,J16,J32) -> 15115259 | K9: =SUM(K10,K17,K27,K33,K35,K16,K32) -> 13925030 | L9: =SUM(L10,L17,L27,L33,L35,L16,L32) -> 65149 | M9: =SUM(M10,M17,M27,M33,M35,M16,M32) -> 13990179
A10: 2 | B10: 18 | E10: 1 | F10: Működési célú támogatások Áht-on belülről | G10: =SUM(G11,G14:G14) -> 3706565 | H10: =SUM(H11,H14:H14) -> 3419289 | I10: =SUM(I11,I14:I14) -> 4483032 | J10: =SUM(J11,J14:J14) -> 4404208 | K10: =SUM(K11,K14:K14) -> 4425412 | L10: =SUM(L11,L14:L14) -> -48837 | M10: =SUM(M11,M14:M14) -> 4376575
A11: 3 | F11: Önkormányzatok működési támogatásai | G11: =SUM(G12:G13) -> 3341151 | H11: =SUM(H12:H13) -> 3194545 | I11: =SUM(I12:I13) -> 3563207 | J11: =SUM(J12:J13) -> 3066627 | K11: =SUM(K12:K13) -> 3431177 | L11: =SUM(L12:L13) -> -52469 | M11: =SUM(M12:M13) -> 3378708
A12: 4 | F12: Helyi önkormányzatok működésének általános és ágazati feladataihoz kapcsolódó támogatás | G12: 3286398 | H12: 3194545 | I12: 3533067 | J12: 3066627 | K12: 3428227 | L12: -52469 | M12: =SUM(K12:L12) -> 3375758
A13: 5 | F13: Működési célú költségvetési támogatások és kiegészítő támogatások | G13: 54753 | I13: 30140 | K13: 2950 | M13: =SUM(K13:L13) -> 2950
A14: 6 | F14: Egyéb működési célú támogatások bevételei | G14: 365414 | H14: 224744 | I14: 919825 | J14: 1337581 | K14: 994235 | L14: 3632 | M14: =SUM(K14:L14) -> 997867
A15: 7 | F15: ebből: Társadalombizt. Alapból származó támogatás | G15: 148540 | H15: 147600 | I15: 160234 | J15: 180000 | K15: 199387 | M15: =SUM(K15:L15) -> 199387
A16: 8 | B16: 1-17 | E16: 2 | F16: Önkormányzati Intézmények működési célú támogatások Áht-on belülről | G16: 216590 | H16: 117496 | I16: 317352 | J16: 236049 | K16: 194057 | L16: 4892 | M16: =SUM(K16:L16) -> 198949
A17: 9 | B17: 18 | E17: 3 | F17: Közhatalmi bevételek | G17: =SUM(G18,G26:G26) -> 8049548 | H17: =SUM(H18,H26:H26) -> 7765600 | I17: =SUM(I18,I26:I26) -> 8108452 | J17: =SUM(J18,J26:J26) -> 7945120 | K17: =SUM(K18,K26:K26) -> 7280120 | L17: =SUM(L18,L26:L26) -> 100000 | M17: =SUM(M18,M26:M26) -> 7380120
A18: 10 | F18: Adók | G18: =SUM(G19:G25) -> 8043412 | H18: =SUM(H19:H25) -> 7760000 | I18: =SUM(I19:I25) -> 8100342 | J18: =SUM(J19:J25) -> 7940000 | K18: =SUM(K19:K25) -> 7275000 | L18: =SUM(L19:L25) -> 100000 | M18: =SUM(M19:M25) -> 7375000
A19: 11 | F19: Építményadó | G19: 1300333 | H19: 1300000 | I19: 1353716 | J19: 1320000 | K19: 1320000 | M19: =SUM(K19:L19) -> 1320000
A20: 12 | F20: Idegenforgalmi adó | G20: 44141 | H20: 45000 | I20: 45085 | J20: 55000 | K20: 10000 | M20: =SUM(K20:L20) -> 10000
A21: 13 | F21: Kommunális adó | G21: 143422 | H21: 145000 | I21: 142925 | J21: 143000 | K21: 143000 | M21: =SUM(K21:L21) -> 143000
A22: 14 | F22: Telekadó | G22: 95735 | H22: 95000 | I22: 91186 | J22: 92000 | K22: 92000 | M22: =SUM(K22:L22) -> 92000
A23: 15 | F23: Iparűzési adó | G23: 6222826 | H23: 5950000 | I23: 6222920 | J23: 6100000 | K23: 5700000 | L23: 100000 | M23: =SUM(K23:L23) -> 5800000
A24: 16 | F24: Gépjárműadó | G24: 215843 | H24: 210000 | I24: 230151 | J24: 220000 | K24: 0 | M24: =SUM(K24:L24) -> 0
A25: 17 | F25: Egyéb pótlékok, bírságok | G25: 21112 | H25: 15000 | I25: 14359 | J25: 10000 | K25: 10000 | M25: =SUM(K25:L25) -> 10000
A26: 18 | F26: Egyéb közhatalmi bevételek (bírságok, igazgatási szolgáltatási díjak) | G26: 6136 | H26: 5600 | I26: 8110 | J26: 5120 | K26: 5120 | M26: =SUM(K26:L26) -> 5120
A27: 19 | B27: 18 | E27: 4 | F27: Működési bevételek | G27: =SUM(G28:G31) -> 1035546 | H27: =SUM(H28:H31) -> 765238 | I27: =SUM(I28:I31) -> 818620 | J27: =SUM(J28:J31) -> 1501270 | K27: =SUM(K28:K31) -> 1134028 | L27: =SUM(L28:L31) -> 1846 | M27: =SUM(M28:M31) -> 1135874
A28: 20 | F28: Szolgáltatások, közvetített szolgáltatások ellenértéke | G28: 319006 | H28: 367526 | I28: 335480 | J28: 327392 | K28: 263773 | L28: 1329 | M28: =SUM(K28:L28) -> 265102
A29: 21 | F29: Tulajdonosi bevételek | G29: 155541 | H29: 192783 | I29: 219462 | J29: 280770 | K29: 281160 | L29: 124 | M29: =SUM(K29:L29) -> 281284
A30: 22 | F30: ÁFA bevételek és visszatérülések | G30: 490423 | H30: 204929 | I30: 219034 | J30: 889171 | K30: 584630 | L30: =359+34 -> 393 | M30: =SUM(K30:L30) -> 585023
A31: 23 | F31: Egyéb működési bevételek | G31: 70576 | I31: 44644 | J31: 3937 | K31: 4465 | M31: =SUM(K31:L31) -> 4465
A32: 24 | B32: 1-17 | E32: 5 | F32: Önkormányzati Intézmények működési bevételek | G32: 998980 | H32: 909894 | I32: 1111879 | J32: 1028612 | K32: 879787 | L32: 7248 | M32: =SUM(K32:L32) -> 887035
A33: 25 | B33: 18 | E33: 6 | F33: Működési célú átvett pénzeszközök | G33: 41080 | I33: 5713 | K33: 10120 | M33: =SUM(K33:L33) -> 10120
A34: 26 | F34: ebből: Koronavírus elleni védekezésre adomány | K34: 6120 | M34: =SUM(K34:L34) -> 6120
A35: 27 | B35: 1-17 | E35: 7 | F35: Önkormányzati Intézmények működési célú átvett pénzeszközök | G35: 14334 | I35: 8316 | K35: 1506 | M35: =SUM(K35:L35) -> 1506
A36: 28 | D36: 2 | F36: Felhalmozási költségvetési bevételek | G36: =SUM(G37,G40:G41,G43:G45) -> 12772481 | H36: =SUM(H37,H40:H41,H43:H45) -> 5648160 | I36: =SUM(I37,I40:I41,I43:I45) -> 6259786 | J36: =SUM(J37,J40:J41,J43:J45) -> 8363612 | K36: =SUM(K37,K40:K41,K43:K45) -> 10416945 | L36: =SUM(L37,L40:L41,L43:L45) -> 90191 | M36: =SUM(M37,M40:M41,M43:M45) -> 10507136
A37: 29 | E37: 8 | F37: Felhalmozási célú támogatások Áht-on belülről | G37: =SUM(G38,G39) -> 12588575 | H37: =SUM(H38,H39) -> 5270260 | I37: =SUM(I38,I39) -> 5463793 | J37: =SUM(J38,J39) -> 8162019 | K37: =SUM(K38,K39) -> 10218410 | L37: =SUM(L38,L39) -> 89241 | M37: =SUM(M38,M39) -> 10307651
A38: 30 | B38: 18 | F38: Felhalmozási célú önkormányzati támogatások | G38: 4325400 | I38: 6456
A39: 31 | B39: 18 | F39: Egyéb felhalmozási célú támogatások bevételei | G39: 8263175 | H39: 5270260 | I39: 5457337 | J39: 8162019 | K39: 10218410 | L39: 89241 | M39: =SUM(K39:L39) -> 10307651
A40: 32 | B40: 1-17 | E40: 9 | F40: Önkormányzati Intézmények felhalmozási célú támogatások Áht-on belülről | G40: 40469 | H40: 2900 | I40: 14183 | J40: 4050 | K40: 4135 | M40: =SUM(K40:L40) -> 4135
A41: 33 | B41: 18 | E41: 10 | F41: Felhalmozási bevételek | G41: =SUM(G42:G42) -> 136583 | H41: =SUM(H42:H42) -> 225000 | I41: =SUM(I42:I42) -> 153966 | J41: =SUM(J42:J42) -> 190000 | K41: =SUM(K42:K42) -> 190000 | L41: =SUM(L42:L42) -> 0 | M41: =SUM(M42:M42) -> 190000
A42: 34 | F42: Ingatlanok értékesítése | G42: 136583 | H42: 225000 | I42: 153966 | J42: 190000 | K42: 190000 | M42: =SUM(K42:L42) -> 190000
A43: 35 | E43: 11 | F43: Önkormányzati Intézmények felhalmozási bevételei | G43: 957 | I43: 939 | J43: 7543 | K43: 4400 | L43: 950 | M43: =SUM(K43:L43) -> 5350
A44: 36 | B44: 18 | E44: 12 | F44: Felhalmozási célú átvett pénzeszközök | G44: 5897 | H44: 150000 | I44: 626905
A45: 37 | B45: 1-17 | E45: 13 | F45: Önkormányzati Intézmények felhalmozási célú átvett pénzeszközök
A46: 38 | B46: 18 | F46: Lakásalap | G46: =SUM(G47:G47) -> 700 | H46: =SUM(H47:H47) -> 0 | I46: =SUM(I47:I47) -> 183 | J46: =SUM(J47:J47) -> 0 | K46: =SUM(K47:K47) -> 0 | L46: =SUM(L47:L47) -> 0 | M46: =SUM(M47:M47) -> 0
A47: 39 | F47: Felhalmozási célú átvett pénzeszközök (kölcsönök visszatérülése) | G47: 700 | I47: 183
A48: 40 | F48: Költségvetési bevételek összesen | G48: =SUM(G9,G36,G46) -> 26835824 | H48: =SUM(H9,H36,H46) -> 18625677 | I48: =SUM(I9,I36,I46) -> 21113333 | J48: =SUM(J9,J36,J46) -> 23478871 | K48: =SUM(K9,K36,K46) -> 24341975 | L48: =SUM(L9,L36,L46) -> 155340 | M48: =SUM(M9,M36,M46) -> 24497315
A49: 41 | F49: Költségvetési egyenleg összege | G49: =+G48-'2.Onki'!G35 -> 6257189 | H49: =+H48-'2.Onki'!H35 -> -8870872 | I49: =+I48-'2.Onki'!I35 -> 1177920 | J49: =J48-'2.Onki'!J35 -> -14073403 | K49: =+K48-'2.Onki'!K35 -> -15255267 | L49: =+L48-'2.Onki'!L35 -> 0 | M49: =+M48-'2.Onki'!M35 -> -15255267
A50: 42 | E50: 14 | F50: Finanszírozási bevételek | G50: =SUM(G52,G61)+G51 -> 7032676 | H50: =SUM(H52,H61)+H51 -> 9080507 | I50: =SUM(I52,I61)+I51 -> 13278366 | J50: =SUM(J52,J61)+J51 -> 14293174 | K50: =SUM(K52,K61)+K51 -> 15475038 | L50: =SUM(L52,L61)+L51 -> 0 | M50: =SUM(M52,M61)+M51 -> 15475038
A51: 43 | D51: 1 | F51: Államháztartáson belüli megelőlegezések | G51: 107506 | I51: 143801
A52: 44 | F52: Költségvetési hiány belső finanszírozására szolgáló bevételek | G52: =SUM(G53,G57) -> 6873658 | H52: =SUM(H53,H57) -> 8404019 | I52: =SUM(I53,I57) -> 13087077 | J52: =SUM(J53,J57) -> 12883374 | K52: =SUM(K53,K57) -> 14215038 | L52: =SUM(L53,L57) -> 0 | M52: =SUM(M53,M57) -> 14215038
A53: 45 | D53: 1 | F53: Működési célú költségvetési maradvány igénybevétele | G53: =SUM(G54:G56) -> 1957723 | H53: =SUM(H54:H56) -> 1315949 | I53: =SUM(I54:I56) -> 2879946 | J53: =SUM(J54:J56) -> 1081085 | K53: =SUM(K54:K56) -> 2384006 | L53: =SUM(L54:L56) -> 0 | M53: =SUM(M54:M56) -> 2384006
A54: 46 | B54: 1-16 | F54: Intézmények | G54: 612577 | H54: 137936 | I54: 573305 | J54: 31301 | K54: 661346 | M54: =SUM(K54:L54) -> 661346
A55: 47 | B55: 17 | F55: VMJV Polgármesteri Hivatala | G55: 251672 | H55: 14861 | I55: 294771 | J55: 75474 | K55: 360284 | M55: =SUM(K55:L55) -> 360284
A56: 48 | B56: 18 | F56: VMJV Önkormányzata | G56: 1093474 | H56: 1163152 | I56: 2011870 | J56: 974310 | K56: 1362376 | M56: =SUM(K56:L56) -> 1362376
A57: 49 | D57: 2 | F57: Felhalmozási célú költségvetési maradvány igénybevétele | G57: =SUM(G58:G60) -> 4915935 | H57: =H58+H60 -> 7088070 | I57: =SUM(I58:I60) -> 10207131 | J57: =SUM(J58:J60) -> 11802289 | K57: =SUM(K58:K60) -> 11831032 | L57: =SUM(L58:L60) -> 0 | M57: =SUM(M58:M60) -> 11831032
A58: 50 | B58: 1-16 | F58: Intézmények | G58: 48512 | H58: 58070 | I58: 127144 | J58: 12621 | K58: 27970 | M58: =SUM(K58:L58) -> 27970
A59: 51 | B59: 17 | F59: VMJV Polgármesteri Hivatala | G59: 16696 | I59: 24251 | J59: 16985 | K59: 24177 | M59: =SUM(K59:L59) -> 24177
A60: 52 | B60: 18 | F60: VMJV Önkormányzat | G60: 4850727 | H60: 7030000 | I60: 10055736 | J60: 11772683 | K60: 11778885 | M60: =SUM(K60:L60) -> 11778885
A61: 53 | F61: Költségvetési hiány külső finanszírozására szolgáló bevételek | G61: =SUM(G62:G64) -> 51512 | H61: =SUM(H62:H64) -> 676488 | I61: =SUM(I62:I64) -> 47488 | J61: =SUM(J62:J64) -> 1409800 | K61: =SUM(K62:K64) -> 1260000 | L61: =SUM(L62:L64) -> 0 | M61: =SUM(M62:M64) -> 1260000
A62: 54 | B62: 18 | D62: 2 | F62: Beruházási hitelfelvétel
A63: 55 | F63: Beruházási hitelfelvétel | H63: 629000 | J63: 780800 | K63: 631000 | M63: =SUM(K63:L63) -> 631000
A64: 56 | F64: Előző évi hitelszerződéseken alapuló felvétel | G64: 51512 | H64: 47488 | I64: 47488 | J64: 629000 | K64: 629000 | M64: =SUM(K64:L64) -> 629000
A65: 57 | F65: Bevételi főösszeg | G65: =SUM(G48,G50) -> 33868500 | H65: =SUM(H48,H50) -> 27706184 | I65: =SUM(I48,I50) -> 34391699 | J65: =SUM(J48,J50) -> 37772045 | K65: =SUM(K48,K50) -> 39817013 | L65: =SUM(L48,L50) -> 155340 | M65: =SUM(M48,M50) -> 39972353

Sheet 1.A Norm
B1: 1.A. melléklet a .../2020. (…….) önkormányzati rendelethez
B2: Helyi önkormányzatok általános működéséhez és ágazati feladataihoz kapcsolódó támogatások
B3: alakulása 2019. és 2020. évben
G4: adatok eFt-ban
B5: A | C5: B | D5: C | G5: D
B6: Megnevezés | C6: 2019. év | D6: 2020. év | E6: Módosítás | F6: 2020. év összesen | G6: Változás %-a
G7: 2020/2019.
A8: 1 | B8: 1. Helyi önkormányzatok működésének általános támogatása | C8: 0 | D8: 0 | E8: 7199 | F8: =SUM(D8:E8) -> 7199
A9: 2 | B9: 2. Települési önkormányzatok egyes köznevelési feladatainak támogatása | C9: =SUM(C10:C13) -> 1108325 | D9: =SUM(D10:D13) -> 1125011 | E9: =SUM(E10:E13) -> 3733 | F9: =SUM(F10:F13) -> 1128744 | G9: =(F9/C9) -> 1.0184233
A10: 3 | B10: Óvodapedagógusok és az óvodapedagógusok nevelő munkáját közvetlenül segítők bértámogatása | C10: 911028 | D10: 927157 | F10: =SUM(D10:E10) -> 927157 | G10: =(F10/C10) -> 1.0177042
A11: 4 | B11: Óvodaműködtetési támogatás | C11: 165613 | D11: 162239 | F11: =SUM(D11:E11) -> 162239 | G11: =(F11/C11) -> 0.9796272
A12: 5 | B12: Kiegészítő támogatás az óvodapedagógusok minősítéséből adódó többletkiadásokhoz | C12: 28306 | D12: 30745 | E12: 3733 | F12: =SUM(D12:E12) -> 34478 | G12: =(F12/C12) -> 1.2180456
A13: 6 | B13: Nemzetiségi pótlék | C13: 3378 | D13: 4870 | F13: =SUM(D13:E13) -> 4870 | G13: =(F13/C13) -> 1.4416815
A14: 7 | B14: 3. Települési önkormányzatok szociális, gyermekjóléti és gyermek-étkeztetési feladatainak támogatása | C14: =SUM(C15:C27) -> 1319428 | D14: =SUM(D15:D27) -> 1480333 | E14: =SUM(E15:E27) -> 2828 | F14: =SUM(F15:F27) -> 1483161 | G14: =(F14/C14) -> 1.1240939
A15: 8 | B15: Család- és gyermekjóléti szolgálat | C15: 35020 | D15: 35020 | E15: 3158 | F15: =SUM(D15:E15) -> 38178 | G15: =(F15/C15) -> 1.090177
A16: 9 | B16: Család- és gyermekjóléti központ | C16: 39270 | D16: 39270 | E16: -330 | F16: =SUM(D16:E16) -> 38940 | G16: =(F16/C16) -> 0.99159664
A17: 10 | B17: Szociális étkeztetés | C17: 39887 | D17: 49393 | F17: =SUM(D17:E17) -> 49393 | G17: =(F17/C17) -> 1.2383233
A18: 11 | B18: Házi segítségnyújtás | C18: 52463 | D18: 65687 | F18: =SUM(D18:E18) -> 65687 | G18: =(F18/C18) -> 1.2520634
A19: 12 | B19: Időskorúak nappali intézményi ellátása | C19: 26160 | D19: 39900 | F19: =SUM(D19:E19) -> 39900 | G19: =(F19/C19) -> 1.5252294
A20: 13 | B20: Fogyatékos személyek nappali intézményi ellátása | C20: 22000 | D20: 32245 | F20: =SUM(D20:E20) -> 32245 | G20: =(F20/C20) -> 1.4656818
A21: 14 | B21: Demens személyek nappali intézményi ellátása | C21: 8500 | D21: 13780 | F21: =SUM(D21:E21) -> 13780 | G21: =(F21/C21) -> 1.6211765
A22: 15 | B22: Óvodai és iskolaiszociális segítő tevékenység támogatása | C22: 54369 | D22: 54612 | F22: =SUM(D22:E22) -> 54612 | G22: =(F22/C22) -> 1.0044695
A23: 16 | B23: Családok és hajléktalanok átmeneti elhelyezése | C23: 9398 | D23: 19290 | F23: =SUM(D23:E23) -> 19290 | G23: =(F23/C23) -> 2.0525644
A24: 17 | B24: Idősek átmeneti és tartós szociális szakosított ellátásának támogatása | C24: 111469 | D24: =142747+30058 -> 172805 | F24: =SUM(D24:E24) -> 172805 | G24: =(F24/C24) -> 1.5502516
A25: 18 | B25: Gyermekétkeztetés támogatása | C25: 482460 | D25: 501906 | F25: =SUM(D25:E25) -> 501906 | G25: =(F25/C25) -> 1.0403059
A26: 19 | B26: Rászoruló gyermekek intézményen kívüli szünidei étkeztetése | C26: 133 | D26: 76 | F26: =SUM(D26:E26) -> 76 | G26: =(F26/C26) -> 0.57142857
A27: 20 | B27: Bölcsődei, mini bölcsődei ellátás (kedvezményes étk. támog. nélkül) | C27: 438299 | D27: 456349 | F27: =SUM(D27:E27) -> 456349 | G27: =(F27/C27) -> 1.0411819
A28: 21 | B28: 4. Települési önkormányzatok kulturális feladatainak támogatása | C28: =SUM(C29:C34) -> 766792 | D28: =SUM(D29:D34) -> 461283 | E28: =SUM(E29:E34) -> 417327 | F28: =SUM(F29:F34) -> 878610 | G28: =(F28/C28) -> 1.1458257
A29: 22 | B29: Megyei hatáskörű városi múzeumok feladatainak támogatása | C29: 117500 | D29: 120660 | F29: =SUM(D29:E29) -> 120660 | G29: =(F29/C29) -> 1.0268936
A30: 23 | B30: Megyei könyvtárak feladatainak támogatása | C30: 140200 | D30: 140200 | F30: =SUM(D30:E30) -> 140200 | G30: =(F30/C30) -> 1
A31: 24 | B31: Megyeszékhely megyei jogú városok közművelődési támogatása | C31: 25588 | D31: 25675 | F31: =SUM(D31:E31) -> 25675 | G31: =(F31/C31) -> 1.0034
A32: 25 | B32: Megyei könyvtár kistelepülési könyvtári célú kiegészítő támogatása | C32: 149704 | D32: 150648 | F32: =SUM(D32:E32) -> 150648 | G32: =(F32/C32) -> 1.0063058
A33: 26 | B33: Színművészeti szervezetek támogatása* | C33: 308800 | E33: 417327 | F33: =SUM(D33:E33) -> 417327 | G33: =(F33/C33) -> 1.3514475
A34: 27 | B34: Zenekarok támogatása | C34: 25000 | D34: 24100 | F34: =SUM(D34:E34) -> 24100 | G34: =(F34/C34) -> 0.964
A35: 28 | B35: MINDÖSSZESEN: | C35: =SUM(C8:C9,C14,C28) -> 3194545 | D35: =SUM(D8:D9,D14,D28) -> 3066627 | E35: =SUM(E8:E9,E14,E28) -> 431087 | F35: =SUM(F8:F9,F14,F28) -> 3497714 | G35: =(F35/C35) -> 1.0949021
B36: * Megjegyzés: A Magyar Államkincstár tájékoztatása szerint a Magyarország 2020. évi központi költségvetéséről szóló 2019. évi LXXI. Törvény 3. melléklet I. 13. e) pontjában szereplő Színházművészeti szervezetek támogatása jogcímen eredeti előirányzatként 0 forintot kell az elemi költségvetésben tervezni. A színművészeti szervezetek finanszírozására VMJV Önkormányzata és Magyrország Kormány között Társműködtetői megállapodás jött létre.

Sheet 2.Onki
B1: 2. melléklet a 2020. évi költségvetésről szóló 5/2020. (II. 27.) önkormányzati rendelet módosításáról szóló 39/2020. (X.29.) önkormányzati rendelethez
B2: "2. melléklet VMJV Önkormányzata Közgyűlésének 5/2020. (II. 27.) önkormányzati rendeletéhez"
B4: Veszprém Megyei Jogú Város Önkormányzatának
B5: 2020. évi költségvetési kiadásai
M6: adatok eFt-ban
B7: A | C7: B | D7: C | E7: D | F7: E | G7: F | H7: G | I7: H | J7: I | K7: J | L7: K | M7: L
B8: Cím | C8: Alcím | D8: Előir. csop. | E8: Kie-melt előir. | F8: Megnevezés | G8: 2018. évi tény | H8: 2019. évi eredeti előirányzat | I8: 2019. évi tény | J8: 2020. évi eredeti előirányzat | K8: 2020. évi módosított előirányzat 3. | L8: Módosítás | M8: 2020. évi módosított előirányzat 4.
A9: 1 | B9: 1-17 | F9: Intézményi költségvetési kiadások | G9: =SUM(G10:G11) -> 7353582 | H9: =SUM(H10:H11) -> 7596089 | I9: =SUM(I10:I11) -> 8054296 | J9: =SUM(J10:J11) -> 8038573 | K9: =SUM(K10:K11) -> 8985521 | L9: =SUM(L10:L11) -> -75620 | M9: =SUM(M10:M11) -> 8909901
A10: 2 | D10: 1 | F10: Működési költségvetési kiadások | G10: 7197678 | H10: 7431316 | I10: 7776616 | J10: 7971537 | K10: 8813666 | L10: -95562 | M10: =SUM(K10:L10) -> 8718104
A11: 3 | D11: 2 | F11: Felhalmozási költségvetési kiadások | G11: =SUM(G12:G13) -> 155904 | H11: =SUM(H12:H13) -> 164773 | I11: =SUM(I12:I13) -> 277680 | J11: =SUM(J12:J13) -> 67036 | K11: =SUM(K12:K13) -> 171855 | L11: =SUM(L12:L13) -> 19942 | M11: =SUM(M12:M13) -> 191797
A12: 4 | E12: 1 | F12: Beruházási kiadások | G12: 155449 | H12: 164773 | I12: 277321 | J12: 67036 | K12: 168700 | L12: 19980 | M12: =SUM(K12:L12) -> 188680
A13: 5 | E13: 2 | F13: Felújítási kiadások | G13: 455 | I13: 359 | K13: 3155 | L13: -38 | M13: =SUM(K13:L13) -> 3117
A14: 6 | B14: 18 | F14: VMJV Önkormányzata | G14: =SUM(G15:G16,G27,G28) -> 13225053 | H14: =SUM(H15:H16,H27,H28) -> 19900460 | I14: =SUM(I15:I16,I27,I28) -> 11881117 | J14: =SUM(J15:J16,J27,J28) -> 29513701 | K14: =SUM(K15:K16,K27,K28) -> 30611721 | L14: =SUM(L15:L16,L27,L28) -> 230960 | M14: =SUM(M15:M16,M27,M28) -> 30842681
A15: 7 | D15: 1 | F15: Működési költségvetési kiadások | G15: 4718378 | H15: 5579739 | I15: 6400942 | J15: 6655947 | K15: 6163654 | L15: ='6.Önk.műk.'!I982+'7.Beruh.'!I331+'8.Felúj.'!I137+'8.Projekt'!I209+'8.Projekt'!J209+'8.Projekt'!K209+'8.Projekt'!L209+'10.MVP és hazai'!I78+'10.MVP és hazai'!J78+'10.MVP és hazai'!K78+'10.MVP és hazai'!L78+'9.EKF'!I187+'9.EKF'!J187+'9.EKF'!K187+'9.EKF'!L187 -> 225156 | M15: =SUM(K15:L15) -> 6388810
A16: 8 | F16: Céltartalékok | G16: =SUM(G17,G23) -> 0 | H16: =SUM(H17,H23) -> 394518 | I16: =SUM(I17,I23) -> 0 | J16: =SUM(J17,J23) -> 520204 | K16: =SUM(K17,K23) -> 571250 | L16: =SUM(L17,L23) -> -67080 | M16: =SUM(M17,M23) -> 504170
A17: 9 | D17: 1 | F17: Működési célú céltartalékok | G17: =SUM(G18:G21) -> 0 | H17: =SUM(H18:H21) -> 105109 | I17: =SUM(I18:I22) -> 0 | J17: =SUM(J18:J21) -> 135616 | K17: =SUM(K18:K21) -> 77662 | L17: =SUM(L18:L21) -> -67080 | M17: =SUM(K17:L17) -> 10582
A18: 10 | F18: - Felmentési idő, jub.jut., végkielégítés | H18: 76368 | J18: 111616 | K18: 77662 | L18: -67080 | M18: =SUM(K18:L18) -> 10582
A19: 11 | F19: - Képviselői keret | H19: 24000 | J19: 24000 | K19: 0 | M19: =SUM(K19:L19) -> 0
A20: 12 | F20: - Intézményi beruházáshoz kapcsolódó létszámbővítés | H20: 4741 | M20: =SUM(K20:L20) -> 0
A21: 13 | F21: - Működési kiadásokra képzett céltartalék | M21: =SUM(K21:L21) -> 0
A22: 14 | F22: - Adóbevételekkel szembeni kötelezettség | M22: =SUM(K22:L22) -> 0
A23: 15 | D23: 2 | F23: Felhalmozási célú céltartalékok | G23: =SUM(G24:G26) -> 0 | H23: =SUM(H24:H26) -> 289409 | J23: =SUM(J24:J26) -> 384588 | K23: =SUM(K24:K26) -> 493588 | L23: =SUM(L24:L26) -> 0 | M23: =SUM(M24:M26) -> 493588
A24: 16 | F24: - Előző évi hitelszerződéshez kapcs. feladat
A25: 17 | F25: - Beruházási kiadásokra képzett céltartalék | H25: 248370 | K25: 109000 | M25: =SUM(K25:L25) -> 109000
A26: 18 | F26: - Viziközmű fejlesztés | H26: 41039 | J26: 384588 | K26: 384588 | M26: =SUM(K26:L26) -> 384588
A27: 19 | F27: Általános tartalék | H27: 150000 | J27: 177471 | K27: 63922 | L27: -53513 | M27: =SUM(K27:L27) -> 10409
A28: 20 | D28: 2 | F28: Felhalmozási költségvetési kiadások | G28: =SUM(G29:G31) -> 8506675 | H28: =SUM(H29:H31) -> 13776203 | I28: =SUM(I29:I31) -> 5480175 | J28: =SUM(J29:J31) -> 22160079 | K28: =SUM(K29:K31) -> 23812895 | L28: =SUM(L29:L31) -> 126397 | M28: =SUM(M29:M31) -> 23939292
A29: 21 | E29: 1 | F29: Beruházási kiadások | G29: 7792799 | H29: 13014190 | I29: 5000126 | J29: 21222147 | K29: 21370591 | L29: ='7.Beruh.'!J331+'8.Projekt'!M209+'10.MVP és hazai'!M78+'9.EKF'!M187 -> -768907 | M29: =SUM(K29:L29) -> 20601684
A30: 22 | E30: 2 | F30: Egyéb felhalmozási célú kiadások | G30: 502120 | H30: 197022 | I30: 55982 | J30: 549493 | K30: 2072229 | L30: ='7.Beruh.'!K331+'8.Projekt'!N209+'10.MVP és hazai'!N78+'9.EKF'!O187 -> 895304 | M30: =SUM(K30:L30) -> 2967533
A31: 23 | E31: 3 | F31: Felújítási kiadások | G31: 211756 | H31: 564991 | I31: 424067 | J31: 388439 | K31: 370075 | L31: ='8.Felúj.'!J137+'9.EKF'!N187 -> 0 | M31: =SUM(K31:L31) -> 370075
A32: 24 | B32: 18 | F32: Lakásalap kiadása | G32: =SUM(G33:G34) -> 0 | H32: =SUM(H33:H34) -> 0 | I32: =SUM(I33:I34) -> 0 | J32: =SUM(J33:J34) -> 0 | K32: =SUM(K33:K34) -> 0 | L32: =SUM(L33:L34) -> 0 | M32: =SUM(M33:M34) -> 0
A33: 25 | D33: 1 | F33: Működési költségvetési kiadások
A34: 26 | D34: 2 | F34: Felhalmozási költségvetési kiadások
A35: 27 | F35: Költségvetési kiadások összesen | G35: =SUM(G9,G14,G32) -> 20578635 | H35: =SUM(H9,H14,H32) -> 27496549 | I35: =SUM(I9,I14,I32) -> 19935413 | J35: =SUM(J9,J14,J32) -> 37552274 | K35: =SUM(K9,K14,K32) -> 39597242 | L35: =SUM(L9,L14,L32) -> 155340 | M35: =SUM(M9,M14,M32) -> 39752582
A36: 28 | B36: 18 | F36: Finanszírozási kiadások | G36: =SUM(G40:G41,G37:G38) -> 215713 | H36: =SUM(H40:H41,H37:H38) -> 209635 | I36: =SUM(I40:I41,I37:I38) -> 241248 | J36: =SUM(J40:J41,J37:J38) -> 219771 | K36: =SUM(K40:K41,K37:K38) -> 219771 | L36: =SUM(L40:L41,L37:L38) -> 0 | M36: =SUM(M40:M41,M37:M38) -> 219771
A37: 29 | D37: 1 | F37: Működési finanszírozási kiadások
A38: 30 | D38: 1 | F38: Államháztartáson belüli megelőlegezések visszafizetése | G38: 108118 | H38: 96040 | I38: 127653 | J38: 111267 | K38: 111267 | M38: =SUM(K38:L38) -> 111267
A39: 31 | D39: 2 | F39: Felhalmozási finanszírozási kiadások
A40: 32 | F40: - Hiteltörlesztés | G40: 107595 | H40: 113595 | I40: 113595 | J40: 108504 | K40: 108504 | M40: =SUM(K40:L40) -> 108504
A41: 33 | F41: - Lakásalap hiteltörlesztése
A42: 34 | F42: Kiadási főösszeg | G42: =SUM(G35:G36) -> 20794348 | H42: =SUM(H35:H36) -> 27706184 | I42: =SUM(I35:I36) -> 20176661 | J42: =SUM(J35:J36) -> 37772045 | K42: =SUM(K35:K36) -> 39817013 | L42: =SUM(L35:L36) -> 155340 | M42: =SUM(M35:M36) -> 39972353
G43: =+'1.Onbe'!G65-'2.Onki'!G42 -> 13074152 | H43: =+'1.Onbe'!H65-'2.Onki'!H42 -> 0 | I43: =+'1.Onbe'!I65-'2.Onki'!I42 -> 14215038 | K43: =+'1.Onbe'!K65-'2.Onki'!K42 -> 0

Sheet 3.Inbe 
B1: 3. melléklet a 2020. évi költségvetésről szóló 5/2020. (II. 27.) önkormányzati rendelet módosításáról szóló 39/2020. (X.29.) önkormányzati rendelethez
B2: "3. melléklet VMJV Önkormányzata Közgyűlésének 5/2020. (II. 27.) önkormányzati rendeletéhez"
B4: Veszprém Megyei Jogú Város Önkormányzata Intézményei
B5: 2020. évi költségvetési bevételei
N6: adatok eFt-ban
B7: A | C7: B | D7: C | F7: D | G7: E | H7: F | I7: G | J7: H | K7: I | L7: J | M7: K | N7: L | O7: M
B8: Cím | C8: Alcím | D8: Megnevezés | F8: Működési költségvetési bevételek | I8: Felhalmozási költségvetési bevételek | L8: Előző évi költségvetési maradvány | M8: Irányító szervtől kapott támogatás | O8: 2020. évi bevételi előirányzat
F9: Működési bevételek | G9: Működési célú támogatás Áht-on belülről | H9: Működési célú átvett pénzeszköz | I9: Felhalmozási bevétel | J9: Felhalmozási célú támogatás Áht.-on belülről | K9: Felhalmozási célú átvett pénzeszköz | M9: Összesen | N9: Ebből: költségvetési támogatás
A10: 1 | B10: 1 | D10: Veszprémi Vadvirág Körzeti Óvoda
A11: 2 | D11: (Csillagvár Waldorf Tagóvoda, Vadvirág Óvoda)
A12: 3 | E12: eredeti előirányzat | F12: 4940 | L12: 710 | M12: 207975 | N12: 142608 | O12: =SUM(F12:M12) -> 213625
A13: 4 | E13: módosított előirányzat 3. | F13: 4940 | L13: 6146 | M13: 209171 | N13: 154385 | O13: =SUM(F13:M13) -> 220257
A14: 5 | E14: módosítás- jubileumi jutalom, felmentési idő | M14: 4291 | O14: =SUM(F14:M14) -> 4291
A15: 6 | E15: Pedagógus bérfejlesztés 2020. július 1-től | M15: 4140 | O15: =SUM(F15:M15) -> 4140
A16: 7 | E16: Gyermekétkeztetés költségeinek rendezése | M16: -7700 | O16: =SUM(F16:M16) -> -7700
A17: 8 | E17: módosított előirányzat 4. | F17: =SUM(F13:F16) -> 4940 | L17: =SUM(L13:L16) -> 6146 | M17: =SUM(M13:M16) -> 209902 | N17: =SUM(N13:N16) -> 154385 | O17: =SUM(F17:M17) -> 220988
A18: 9 | B18: 2 | D18: Veszprémi Bóbita Körzeti Óvoda
A19: 10 | D19: (Hársfa Tagóvoda, Bóbita Óvoda)
A20: 11 | E20: eredeti előirányzat | F20: 9516 | L20: 700 | M20: 356874 | N20: 277977 | O20: =SUM(F20:M20) -> 367090
A21: 12 | E21: módosított előirányzat 3. | F21: 7516 | L21: 28037 | M21: 358740 | N21: 296260 | O21: =SUM(F21:M21) -> 394293
A22: 13 | E22: módosítás- jubileumi jutalom, felmentési idő | M22: 10193 | O22: =SUM(F22:M22) -> 10193
A23: 14 | E23: Pedagógus bérfejlesztés 2020. július 1-től | M23: 7787 | O23: =SUM(F23:M23) -> 7787
A24: 15 | E24: Gyermekétkeztetés költségeinek rendezése | M24: -12819 | O24: =SUM(F24:M24) -> -12819
A25: 16 | E25: Bérkompenzáció (2020. augusztus hó) | M25: 2 | N25: 2 | O25: =SUM(F25:M25) -> 2
A26: 17 | E26: módosított előirányzat 4. | F26: =SUM(F21:F25) -> 7516 | L26: =SUM(L21:L25) -> 28037 | M26: =SUM(M21:M25) -> 363903 | N26: =SUM(N21:N25) -> 296262 | O26: =SUM(F26:M26) -> 399456
A27: 18 | B27: 3 | D27: Veszprémi Ringató Körzeti Óvoda
A28: 19 | D28: (Ringató Óvoda, Erdei Tagóvoda, Kuckó Tagóvoda)
A29: 20 | E29: eredeti előirányzat | F29: 17581 | M29: 411379 | N29: 365584 | O29: =SUM(F29:M29) -> 428960
A30: 21 | E30: módosított előirányzat 3. | F30: 12581 | L30: 14688 | M30: 417705 | N30: 389335 | O30: =SUM(F30:M30) -> 444974
A31: 22 | E31: módosítás- Egry Óvodába visszaköltözött csoportok működési kiadásaira | M31: -1848 | O31: =SUM(F31:M31) -> -1848
A32: 23 | E32: Jubileumi jutalom, felmentési idő | M32: 10909 | O32: =SUM(F32:M32) -> 10909
A33: 24 | E33: Pedagógus bérfejlesztés 2020. július 1-től | M33: 8510 | O33: =SUM(F33:M33) -> 8510
A34: 25 | E34: Gyermekétkeztetés költségeinek rendezése | M34: -12025 | O34: =SUM(F34:M34) -> -12025
A35: 26 | E35: módosított előirányzat 4. | F35: =SUM(F30:F34) -> 12581 | L35: =SUM(L30:L34) -> 14688 | M35: =SUM(M30:M34) -> 423251 | N35: =SUM(N30:N34) -> 389335 | O35: =SUM(F35:M35) -> 450520
A36: 27 | B36: 4 | D36: Veszprémi Egry úti Körzeti Óvoda
A37: 28 | D37: (Egry ltp. Óvoda, Nárcisz Tagóvoda)
A38: 29 | E38: eredeti előirányzat | F38: 10020 | M38: 309492 | N38: 193144 | O38: =SUM(F38:M38) -> 319512
A39: 30 | E39: módosított előirányzat 3. | F39: 7133 | L39: 18600 | M39: 309512 | N39: 208832 | O39: =SUM(F39:M39) -> 335245
A40: 31 | E40: módosítás- térítési díj bevételi többlet | F40: 897 | O40: =SUM(F40:M40) -> 897
A41: 32 | E41: Jubileumi jutalom, felmentési idő | M41: 5591 | O41: =SUM(F41:M41) -> 5591
A42: 33 | E42: Ringató Óvodából visszaköltözött csoport működési költségeire | M42: 1848 | O42: =SUM(F42:M42) -> 1848
A43: 34 | E43: Bérkompenzáció (2020. augusztus hó) | M43: 2 | N43: 2 | O43: =SUM(F43:M43) -> 2
A44: 35 | E44: Pedagógus bérfejlesztés 2020. július 1-től | M44: 5611 | O44: =SUM(F44:M44) -> 5611
A45: 36 | E45: Gyermekétkeztetés költségeinek rendezése | M45: -15627 | O45: =SUM(F45:M45) -> -15627
A46: 37 | E46: módosított előirányzat 4. | F46: =SUM(F39:F45) -> 8030 | L46: =SUM(L39:L45) -> 18600 | M46: =SUM(M39:M45) -> 306937 | N46: =SUM(N39:N45) -> 208834 | O46: =SUM(F46:M46) -> 333567
A47: 38 | B47: 5 | D47: Veszprémi Csillag úti Körzeti Óvoda
A48: 39 | D48: (Csillag úti Óvoda, Cholnoky ltp. Óvoda)
A49: 40 | E49: eredeti előirányzat | F49: 18635 | M49: 322903 | N49: 237570 | O49: =SUM(F49:M49) -> 341538
A50: 41 | E50: módosított előirányzat 3. | F50: 18635 | L50: 11955 | M50: 333916 | N50: 256969 | O50: =SUM(F50:M50) -> 364506
A51: 42 | E51: módosítás- Jubileumi jutalom, felmentési idő | M51: 9620 | O51: =SUM(F51:M51) -> 9620
A52: 43 | E52: Pedagógus bérfejlesztés 2020. július 1-től | M52: 6991 | O52: =SUM(F52:M52) -> 6991
A53: 44 | E53: Gyermekétkeztetés költségeinek rendezése | M53: -10905 | O53: =SUM(F53:M53) -> -10905
A54: 45 | E54: módosított előirányzat 4. | F54: =SUM(F50:F53) -> 18635 | L54: =SUM(L50:L53) -> 11955 | M54: =SUM(M50:M53) -> 339622 | N54: =SUM(N50:N53) -> 256969 | O54: =SUM(F54:M54) -> 370212
A55: 46 | B55: 6 | D55: Veszprémi Kastélykert Körzeti Óvoda
A56: 47 | D56: (Kastélykert Óvoda, Ficánka Óvoda)
A57: 48 | E57: eredeti előirányzat | F57: 5441 | M57: 166965 | N57: 119083 | O57: =SUM(F57:M57) -> 172406
A58: 49 | E58: módosított előirányzat 3. | F58: 2968 | L58: 15535 | M58: 166965 | N58: 126050 | O58: =SUM(F58:M58) -> 185468
A59: 50 | E59: módosítás- jubileumi jutalom, felmentési idő | M59: 5214 | O59: =SUM(F59:M59) -> 5214
A60: 51 | E60: Pedagógus bérfejlesztés 2020. július 1-től | M60: 3989 | O60: =SUM(F60:M60) -> 3989
A61: 52 | E61: Gyermekétkeztetés költségeinek rendezése | M61: -7008 | O61: =SUM(F61:M61) -> -7008
A62: 53 | E62: módosított előirányzat 4. | F62: =SUM(F58:F61) -> 2968 | L62: =SUM(L58:L61) -> 15535 | M62: =SUM(M58:M61) -> 169160 | N62: =SUM(N58:N61) -> 126050 | O62: =SUM(F62:M62) -> 187663
A63: 54 | C63: 1 | D63: Közcélú és közhasznú foglalkoztatás
A64: 55 | E64: eredeti előirányzat | G64: 2225 | O64: =SUM(F64:M64) -> 2225
A65: 56 | E65: módosított előirányzat 3. | G65: 2225 | O65: =SUM(F65:M65) -> 2225
A66: 57 | E66: módosítás- | O66: =SUM(F66:M66) -> 0
A67: 58 | E67: módosított előirányzat 4. | G67: =SUM(G65:G66) -> 2225 | O67: =SUM(F67:M67) -> 2225
A68: 59 | C68: Óvodák összesen:
A69: 60 | E69: eredeti előirányzat | F69: =SUM(F12,F20,F29,F38,F49,F57,F64) -> 66133 | G69: =SUM(G12,G20,G29,G38,G49,G57,G64) -> 2225 | H69: =SUM(H12,H20,H29,H38,H49,H57,H64) -> 0 | I69: =SUM(I12,I20,I29,I38,I49,I57,I64) -> 0 | J69: =SUM(J12,J20,J29,J38,J49,J57,J64) -> 0 | K69: =SUM(K12,K20,K29,K38,K49,K57,K64) -> 0 | L69: =SUM(L12,L20,L29,L38,L49,L57,L64) -> 1410 | M69: =SUM(M12,M20,M29,M38,M49,M57,M64) -> 1775588 | N69: =SUM(N12,N20,N29,N38,N49,N57,N64) -> 1335966 | O69: =SUM(F69:M69) -> 1845356
A70: 61 | E70: módosított előirányzat 3. | F70: =SUM(F13,F21,F30,F39,F50,F58,F65) -> 53773 | G70: =SUM(G13,G21,G30,G39,G50,G58,G65) -> 2225 | H70: =SUM(H13,H21,H30,H39,H50,H58,H65) -> 0 | I70: =SUM(I13,I21,I30,I39,I50,I58,I65) -> 0 | J70: =SUM(J13,J21,J30,J39,J50,J58,J65) -> 0 | K70: =SUM(K13,K21,K30,K39,K50,K58,K65) -> 0 | L70: =SUM(L13,L21,L30,L39,L50,L58,L65) -> 94961 | M70: =SUM(M13,M21,M30,M39,M50,M58,M65) -> 1796009 | N70: =SUM(N13,N21,N30,N39,N50,N58,N65) -> 1431831 | O70: =SUM(F70:M70) -> 1946968
A71: 62 | E71: módosítás- | F71: =SUM(F14:F16,F22:F25,F31:F34,F40:F45,F51:F53,F59:F61,F66) -> 897 | G71: =SUM(G14:G16,G22:G25,G31:G34,G40:G45,G51:G53,G59:G61,G66) -> 0 | H71: =SUM(H14:H16,H22:H25,H31:H34,H40:H45,H51:H53,H59:H61,H66) -> 0 | I71: =SUM(I14:I16,I22:I25,I31:I34,I40:I45,I51:I53,I59:I61,I66) -> 0 | J71: =SUM(J14:J16,J22:J25,J31:J34,J40:J45,J51:J53,J59:J61,J66) -> 0 | K71: =SUM(K14:K16,K22:K25,K31:K34,K40:K45,K51:K53,K59:K61,K66) -> 0 | L71: =SUM(L14:L16,L22:L25,L31:L34,L40:L45,L51:L53,L59:L61,L66) -> 0 | M71: =SUM(M14:M16,M22:M25,M31:M34,M40:M45,M51:M53,M59:M61,M66) -> 16766 | N71: =SUM(N14:N16,N22:N25,N31:N34,N40:N45,N51:N53,N59:N61,N66) -> 4 | O71: =SUM(F71:M71) -> 17663
A72: 63 | E72: módosított előirányzat 4. | F72: =SUM(F70:F71) -> 54670 | G72: =SUM(G70:G71) -> 2225 | H72: =SUM(H70:H71) -> 0 | I72: =SUM(I70:I71) -> 0 | J72: =SUM(J70:J71) -> 0 | K72: =SUM(K70:K71) -> 0 | L72: =SUM(L70:L71) -> 94961 | M72: =SUM(M70:M71) -> 1812775 | N72: =SUM(N70:N71) -> 1431835 | O72: =SUM(F72:M72) -> 1964631
A73: 64 | B73: 7 | D73: Veszprémi Bölcsődei és Egészségügyi Alapellátási Integrált Intézmény
A74: 65 | E74: eredeti előirányzat | F74: 21777 | G74: 1473 | L74: 1630 | M74: 972097 | N74: 747388 | O74: =SUM(F74:M74) -> 996977
A75: 66 | E75: módosított előirányzat 3. | F75: 15700 | G75: 8330 | I75: 1200 | L75: 49233 | M75: 1011032 | N75: 790581 | O75: =SUM(F75:M75) -> 1085495
A76: 67 | E76: módosítás- gépjármű értékesítés | I76: 350 | O76: =SUM(F76:M76) -> 350
A77: 68 | E77: Jubileumi jutalom, felmentési idő | M77: 11778 | O77: =SUM(F77:M77) -> 11778
A78: 69 | E78: Bérkompenzáció (2020. augusztus hó) | M78: 218 | N78: 218 | O78: =SUM(F78:M78) -> 218
A79: 70 | E79: Szociális ágazati összevont pótlék (2020. augusztus hó) | M79: 1197 | N79: 1197 | O79: =SUM(F79:M79) -> 1197
A80: 71 | E80: Gyermekétkeztetés költségeinek rendezése | M80: -11874 | O80: =SUM(F80:M80) -> -11874
A81: 72 | E81: módosított előirányzat 4. | F81: =SUM(F75:F80) -> 15700 | G81: =SUM(G75:G80) -> 8330 | I81: =SUM(I75:I80) -> 1550 | L81: =SUM(L75:L80) -> 49233 | M81: =SUM(M75:M80) -> 1012351 | N81: =SUM(N75:N80) -> 791996 | O81: =SUM(F81:M81) -> 1087164
A82: 73 | B82: 8 | D82: Göllesz Viktor Fogyatékos Személyek Nappali Intézménye
A83: 74 | E83: eredeti előirányzat | F83: 13800 | M83: 55450 | N83: 32245 | O83: =SUM(F83:M83) -> 69250
A84: 75 | E84: módosított előirányzat 3. | F84: 10425 | L84: 16508 | M84: 70229 | N84: 49036 | O84: =SUM(F84:M84) -> 97162
A85: 76 | E85: módosítás- Jubileumi jutalom, felmentési idő | M85: 3286 | O85: =SUM(F85:M85) -> 3286
A86: 77 | E86: Bérkompenzáció (2020. augusztus hó) | M86: 32 | N86: 32 | O86: =SUM(F86:M86) -> 32
A87: 78 | E87: Szociális ágazati összevont pótlék (2020. augusztus hó) | M87: 1026 | N87: 1026 | O87: =SUM(F87:M87) -> 1026
A88: 79 | E88: módosított előirányzat 4. | F88: =SUM(F84:F87) -> 10425 | L88: =SUM(L84:L87) -> 16508 | M88: =SUM(M84:M87) -> 74573 | N88: =SUM(N84:N87) -> 50094 | O88: =SUM(F88:M88) -> 101506
A89: 80 | B89: 9 | D89: Veszprémi Családsegítő és Gyermekjóléti Integrált Intézmény
A90: 81 | E90: eredeti előirányzat | F90: 1800 | L90: 1150 | M90: 240692 | N90: 148192 | O90: =SUM(F90:M90) -> 243642
A91: 82 | E91: módosított előirányzat 3. | F91: 1800 | L91: 29468 | M91: 288786 | N91: 208822 | O91: =SUM(F91:M91) -> 320054
A92: 83 | E92: módosítás- jubileumi jutalom | M92: 492 | O92: =SUM(F92:M92) -> 492
A93: 84 | E93: Bérkompenzáció (2020. augusztus hó) | M93: 84 | N93: 84 | O93: =SUM(F93:M93) -> 84
A94: 85 | E94: Szociális ágazati összevont pótlék (2020. augusztus hó) | M94: 5846 | N94: 5846 | O94: =SUM(F94:M94) -> 5846
A95: 86 | E95: módosított előirányzat 4. | F95: =SUM(F91:F94) -> 1800 | L95: =SUM(L91:L94) -> 29468 | M95: =SUM(M91:M94) -> 295208 | N95: =SUM(N91:N94) -> 214752 | O95: =SUM(F95:M95) -> 326476
A96: 87 | C96: Egészségügyi és szociális intézmények összesen:
A97: 88 | E97: eredeti előirányzat | F97: =SUM(F74,F83,F90) -> 37377 | G97: =SUM(G74,G83,G90) -> 1473 | H97: =SUM(H74,H83,H90) -> 0 | I97: =SUM(I74,I83,I90) -> 0 | J97: =SUM(J74,J83,J90) -> 0 | K97: =SUM(K74,K83,K90) -> 0 | L97: =SUM(L74,L83,L90) -> 2780 | M97: =SUM(M74,M83,M90) -> 1268239 | N97: =SUM(N74,N83,N90) -> 927825 | O97: =SUM(F97:M97) -> 1309869
A98: 89 | E98: módosított előirányzat 3. | F98: =SUM(F75,F84,F91) -> 27925 | G98: =SUM(G75,G84,G91) -> 8330 | H98: =SUM(H75,H84,H91) -> 0 | I98: =SUM(I75,I84,I91) -> 1200 | J98: =SUM(J75,J84,J91) -> 0 | K98: =SUM(K75,K84,K91) -> 0 | L98: =SUM(L75,L84,L91) -> 95209 | M98: =SUM(M75,M84,M91) -> 1370047 | N98: =SUM(N75,N84,N91) -> 1048439 | O98: =SUM(F98:M98) -> 1502711
A99: 90 | E99: módosítás- | F99: =SUM(F76:F80,F85:F87,F92:F94) -> 0 | G99: =SUM(G76:G80,G85:G87,G92:G94) -> 0 | H99: =SUM(H76:H80,H85:H87,H92:H94) -> 0 | I99: =SUM(I76:I80,I85:I87,I92:I94) -> 350 | J99: =SUM(J76:J80,J85:J87,J92:J94) -> 0 | K99: =SUM(K76:K80,K85:K87,K92:K94) -> 0 | L99: =SUM(L76:L80,L85:L87,L92:L94) -> 0 | M99: =SUM(M76:M80,M85:M87,M92:M94) -> 12085 | N99: =SUM(N76:N80,N85:N87,N92:N94) -> 8403 | O99: =SUM(F99:M99) -> 12435
A100: 91 | E100: módosított előirányzat 4. | F100: =SUM(F98:F99) -> 27925 | G100: =SUM(G98:G99) -> 8330 | H100: =SUM(H98:H99) -> 0 | I100: =SUM(I98:I99) -> 1550 | J100: =SUM(J98:J99) -> 0 | K100: =SUM(K98:K99) -> 0 | L100: =SUM(L98:L99) -> 95209 | M100: =SUM(M98:M99) -> 1382132 | N100: =SUM(N98:N99) -> 1056842 | O100: =SUM(F100:M100) -> 1515146
A101: 92 | B101: 10 | D101: Agóra Veszprém Kulturális Központ
...

Sheet 3A Inbe
B1: 3/A. melléklet a 2020. évi költségvetésről szóló 5/2020. (II. 27.) önkormányzati rendelet módosításáról szóló 39/2020. (X.29.) önkormányzati rendelethez
B2: "3/A. melléklet VMJV Önkormányzata Közgyűlésének 5/2020. (II. 27.) önkormányzati rendeletéhez"
B4: Veszprém Megyei Jogú Város Önkormányzata Intézményei
B5: 2020. évi saját bevételei
H6: adatok eFt-ban
B7: A | C7: B | D7: C | E7: D | F7: E | G7: F | H7: G
B8: Cím | C8: Alcím | D8: Megnevezés | E8: 2018. évi tény | F8: 2019. évi eredeti előirányzat | G8: 2019. évi tény | H8: 2020. évi előirányzat
A10: 1 | B10: 1 | D10: Veszprémi Vadvirág Körzeti Óvoda (Csillagvár Waldorf Tagóvoda, Vadvirág Óvoda) | E10: 4241 | F10: 4458 | G10: 4440 | H10: 4940
A11: 2 | B11: 2 | D11: Veszprémi Bóbita Körzeti Óvoda (Hársfa Tagóvoda, Bóbita Óvoda) | E11: 8290 | F11: 10813 | G11: 8462 | H11: 7516
A12: 3 | B12: 3 | D12: Veszprémi Ringató Körzeti Óvoda (Ringató Óvoda, Erdei Tagóvoda, Kuckó Tagóvoda) | E12: 16663 | F12: 17490 | G12: 15398 | H12: 12581
A13: 4 | B13: 4 | D13: Veszprémi Egry úti Körzeti Óvoda (Egry ltp. Óvoda, Nárcisz Tagóvoda) | E13: 12417 | F13: 13993 | G13: 10994 | H13: 8030
A14: 5 | B14: 5 | D14: Veszprémi Csillag úti Körzeti Óvoda (Csillag úti Óvoda, Cholnoky ltp. Óvoda) | E14: 14656 | F14: 15663 | G14: 17279 | H14: 18635
A15: 6 | B15: 6 | D15: Veszprémi Kastélykert Körzeti Óvoda (Kastélykert Óvoda, Ficánka Óvoda) | E15: 3862 | F15: 3794 | G15: 4464 | H15: 2968
A16: 7 | D16: Óvodák összesen: | E16: =SUM(E10:E15) -> 60129 | F16: =SUM(F10:F15) -> 66211 | G16: =SUM(G10:G15) -> 61037 | H16: =SUM(H10:H15) -> 54670
A17: 8 | B17: 7 | D17: Veszprémi Bölcsődei és Egészségügyi Alapellátási Integrált Intézmény | E17: 43118 | F17: 19344 | G17: 23407 | H17: 15700
A18: 9 | B18: 8 | D18: Göllesz Viktor Fogyatékos Személyek Nappali Intézménye | E18: 15040 | F18: 13500 | G18: 15109 | H18: 10425
A19: 10 | B19: 9 | D19: Veszprémi Családsegítő és Gyermekjóléti Integrált Intézmény | F19: 1800 | G19: 2909 | H19: 1800
A20: 11 | D20: Egészségügyi és szociális intézmények összesen: | E20: =SUM(E17:E19) -> 58158 | F20: =SUM(F17:F19) -> 34644 | G20: =SUM(G17:G19) -> 41425 | H20: =SUM(H17:H19) -> 27925
A21: 12 | B21: 10 | D21: Agóra Veszprém Kulturális Központ | E21: 39591 | F21: 39584 | G21: 43824 | H21: 23539
A22: 13 | B22: 11 | D22: Művészetek Háza Veszprém Művelődési Ház és Kiállítóhely | E22: 4063 | F22: 7001 | G22: 8889 | H22: 6527
A23: 14 | B23: 12 | D23: Eötvös Károly Megyei Könyvtár | E23: 36291 | F23: 21200 | G23: 31157 | H23: 24865
A24: 15 | B24: 13 | D24: Laczkó Dezső Múzeum | E24: 129584 | F24: =113894+11447 -> 125341 | G24: 200194 | H24: 209389
A25: 16 | B25: 14 | D25: Kabóca Bábszínház | E25: 29609 | F25: 33854 | G25: 25393 | H25: =15414+228 -> 15642
A26: 17 | B26: 15 | D26: Veszprémi Petőfi Színház | E26: 273726 | F26: 203000 | G26: 303830 | H26: 139433
A27: 18 | D27: Kulturális és közművelődési intézmények összesen: | E27: =SUM(E21:E26) -> 512864 | F27: =SUM(F21:F26) -> 429980 | G27: =SUM(G21:G26) -> 613287 | H27: =SUM(H21:H26) -> 419395
A28: 19 | B28: 16 | D28: Veszprémi Intézményi Szolgáltató Szervezet | E28: 362984 | F28: 379059 | G28: 386604 | H28: 380502
A29: 20 | B29: INTÉZMÉNYEK ÖSSZESEN: | E29: =SUM(E16,E20,E27,E28) -> 994135 | F29: =SUM(F16,F20,F27,F28) -> 909894 | G29: =SUM(G16,G20,G27,G28) -> 1102353 | H29: =SUM(H16,H20,H27,H28) -> 882492
A30: 21 | B30: 17 | D30: VMJV Polgármesteri Hivatal által ellátott kötelező és önként vállalt feladatok | E30: 4845 | G30: 9526 | H30: 4543
A31: 22 | B31: MINDÖSSZESEN: | E31: =SUM(E29,E30) -> 998980 | F31: =SUM(F29,F30) -> 909894 | G31: =SUM(G29,G30) -> 1111879 | H31: =SUM(H29,H30) -> 887035
E32: =+E31-'1.Onbe'!G32 -> 0 | F32: =+F31-'1.Onbe'!H32 -> 0 | G32: =+G31-'1.Onbe'!I32 -> 0 | H32: =H31-'1.Onbe'!M32 -> 0

Sheet 4.Inki
B1: 4. melléklet a 2020. évi költségvetésről szóló 5/2020. (II. 27.) önkormányzati rendelet módosításáról szóló 39/2020. (X.29.) önkormányzati rendelethez
B2: "4. melléklet VMJV Önkormányzata Közgyűlésének 5/2020. (II. 27.) önkormányzati rendeletéhez"
B4: Veszprém Megyei Jogú Város Önkormányzata Intézményei
B5: 2020. évi költségvetési kiadásai
Q6: adatok eFt-ban
B7: A | C7: B | D7: C | F7: D | G7: E | H7: F | I7: G | J7: H | K7: I | L7: J | M7: K | N7: L | O7: M | P7: N | Q7: O | R7: P
B8: Cím | C8: Alcím | D8: Megnevezés | F8: Feladatellátás jellege* | G8: 2018. évi tény | H8: 2019. évi eredeti előirányzat | I8: 2019. évi tény | J8: 2020. évi kiadási előirányzat | K8: Működési költségvetési kiadások | P8: Felhalmozási költségvetési kiadások
K9: Személyi juttatások | L9: Munk.a. terh. jár. és szoc.hj.adó | M9: Dologi kiadások | N9: Ellátottak pénzbeli juttatásai | O9: Egyéb működési kiadások | P9: Beruházási kiadások | Q9: Felújítási kiadások | R9: Egyéb felhalmozási célú kiadások
A10: 1 | B10: 1 | D10: Veszprémi Vadvirág Körzeti Óvoda | F10: K | G10: 206614 | H10: 209393 | I10: 212753
A11: 2 | D11: (Csillagvár Waldorf Tagóvoda, Vadvirág Óvoda)
A12: 3 | E12: eredeti előirányzat | J12: =SUM(K12:R12) -> 213625 | K12: 134372 | L12: 26600 | M12: 51943 | P12: 710
A13: 4 | E13: módosított előirányzat 3. | J13: =SUM(K13:R13) -> 220257 | K13: 134300 | L13: 27417 | M13: 57810 | P13: 522 | Q13: 208
A14: 6 | E14: Jubileumi jutalom, felmentési idő | J14: =SUM(K14:R14) -> 4291 | K14: 3715 | L14: 576
A15: 7 | E15: átcsoportosítás | J15: =SUM(K15:R15) -> 0 | M15: -100 | P15: 138 | Q15: -38
A16: 8 | E16: Pedagógus bérfejlesztés 2020. július 1-től | J16: =SUM(K16:R16) -> 4140 | K16: 3584 | L16: 556
A17: 9 | E17: Gyermekétkeztetés költségeinek rendezése | J17: =SUM(K17:R17) -> -7700 | M17: -7700
A18: 10 | E18: módosított előirányzat 4. | J18: =SUM(K18:R18) -> 220988 | K18: =SUM(K13:K17) -> 141599 | L18: =SUM(L13:L17) -> 28549 | M18: =SUM(M13:M17) -> 50010 | P18: =SUM(P13:P17) -> 660 | Q18: =SUM(Q13:Q17) -> 170
A19: 11 | B19: 2 | D19: Veszprémi Bóbita Körzeti Óvoda | F19: K | G19: 351654 | H19: 356328 | I19: 358902
A20: 12 | D20: (Hársfa Tagóvoda, Bóbita Óvoda)
A21: 13 | E21: eredeti előirányzat | J21: =SUM(K21:R21) -> 367090 | K21: 241291 | L21: 48109 | M21: 76990 | P21: 700
A22: 14 | E22: módosított előirányzat 3. | J22: =SUM(K22:R22) -> 394293 | K22: 241285 | L22: 48164 | M22: 90253 | P22: 11644 | Q22: 2947
E23: módosítás- Bérkompenzáció (2020. augusztus hó) | J23: =SUM(K23:R23) -> 2 | K23: 2
A24: 15 | E24: Jubileumi jutalom, felmentési idő | J24: =SUM(K24:R24) -> 10193 | K24: 8825 | L24: 1368
A25: 16 | E25: átcsoportosítás | J25: =SUM(K25:R25) -> 0 | M25: -1420 | P25: 1420
A26: 17 | E26: Pedagógus bérfejlesztés 2020. július 1-től | J26: =SUM(K26:R26) -> 7787 | K26: 6771 | L26: 1016
A27: 18 | E27: Gyermekétkeztetés költségeinek rendezése | J27: =SUM(K27:R27) -> -12819 | M27: -12819
A28: 19 | E28: módosított előirányzat 4. | J28: =SUM(K28:R28) -> 399456 | K28: =SUM(K22:K27) -> 256883 | L28: =SUM(L22:L27) -> 50548 | M28: =SUM(M22:M27) -> 76014 | P28: =SUM(P22:P27) -> 13064 | Q28: =SUM(Q22:Q27) -> 2947
A29: 20 | B29: 3 | D29: Veszprémi Ringató Körzeti Óvoda | F29: K | G29: 431588 | H29: 425240 | I29: 431030
A30: 21 | D30: (Ringató Óvoda, Erdei Tagóvoda, Kuckó Tagóvoda)
A31: 22 | E31: eredeti előirányzat | J31: =SUM(K31:R31) -> 428960 | K31: 291221 | L31: 57361 | M31: 80378
A32: 23 | E32: módosított előirányzat 3. | J32: =SUM(K32:R32) -> 444974 | K32: 299510 | L32: 58873 | M32: 85271 | P32: 1320
A33: 24 | E33: módosítás- Egry Óvodába visszaköltözött csoportok működési kiadásaira | J33: =SUM(K33:R33) -> -1848 | M33: -1848
A34: 25 | E34: Jubileumi jutalom, felmentési idő | J34: =SUM(K34:R34) -> 10909 | K34: 9445 | L34: 1464
A35: 26 | E35: átcsoportosítás | J35: =SUM(K35:R35) -> 0 | M35: -441 | P35: 441
A36: 27 | E36: átcsoportosítás | J36: =SUM(K36:R36) -> 0 | K36: -3896 | L36: -604 | M36: 4500
A37: 28 | E37: Pedagógus bérfejlesztés 2020. július 1-től | J37: =SUM(K37:R37) -> 8510 | K37: 7368 | L37: 1142
A38: 29 | E38: Gyermekétkeztetés költségeinek rendezése | J38: =SUM(K38:R38) -> -12025 | M38: -12025
A39: 30 | E39: módosított előirányzat 4. | J39: =SUM(K39:R39) -> 450520 | K39: =SUM(K32:K38) -> 312427 | L39: =SUM(L32:L38) -> 60875 | M39: =SUM(M32:M38) -> 75457 | P39: =SUM(P32:P38) -> 1761
A40: 31 | B40: 4 | D40: Veszprémi Egry úti Körzeti Óvoda | F40: K | G40: 302390 | H40: 310528 | I40: 318994
A41: 32 | D41: (Egry ltp. Óvoda, Nárcisz Tagóvoda)
A42: 33 | E42: eredeti előirányzat | J42: =SUM(K42:R42) -> 319512 | K42: 213322 | L42: 42437 | M42: 63753
A43: 34 | E43: módosított előirányzat 3. | J43: =SUM(K43:R43) -> 335245 | K43: 213712 | L43: 42573 | M43: 78960
A44: 35 | E44: módosítás- térítési díj bevételi többlet | J44: =SUM(K44:R44) -> 897 | M44: 897
A45: 36 | E45: Jubileumi jutalom, felmentési idő | J45: =SUM(K45:R45) -> 5591 | K45: =1942+2886 -> 4828 | L45: =763 -> 763
A46: 37 | E46: Ringató Óvodából visszaköltözött csoport működési költségeire | J46: =SUM(K46:R46) -> 1848 | M46: 1848
A47: 38 | E47: átcsoportosítás | J47: =SUM(K47:R47) -> 0 | M47: -1170 | P47: 1170
A48: 39 | E48: átcsoportosítás | J48: =SUM(K48:R48) -> 0 | K48: 10380 | L48: 1560 | M48: =-10380-1560 -> -11940
A49: 40 | E49: Pedagógus bérfejlesztés 2020. július 1-től | J49: =SUM(K49:R49) -> 5611 | K49: 4879 | L49: 732
A50: 41 | E50: Gyermekétkeztetés költségeinek rendezése | J50: =SUM(K50:R50) -> -15627 | M50: -15627
A51: 42 | E51: Bérkompenzáció (2020. augusztus hó) | J51: =SUM(K51:R51) -> 2 | K51: 2
A52: 43 | E52: módosított előirányzat 4. | J52: =SUM(K52:R52) -> 333567 | K52: =SUM(K43:K51) -> 233801 | L52: =SUM(L43:L51) -> 45628 | M52: =SUM(M43:M51) -> 52968 | P52: =SUM(P43:P51) -> 1170
A53: 44 | B53: 5 | D53: Veszprémi Csillag úti Körzeti Óvoda | F53: K | G53: 336173 | H53: 339061 | I53: 350092
A54: 45 | D54: (Csillag úti Óvoda, Cholnoky ltp. Óvoda)
A55: 46 | E55: eredeti előirányzat | J55: =SUM(K55:R55) -> 341538 | K55: 213361 | L55: 42331 | M55: 85846
A56: 47 | E56: módosított előirányzat 3. | J56: =SUM(K56:R56) -> 364506 | K56: 223592 | L56: 44860 | M56: 95654 | P56: 400
A57: 48 | E57: módosítás- jubileumi jutalom, felmentési idő | J57: =SUM(K57:R57) -> 9620 | K57: 8329 | L57: 1291
A58: 49 | E58: Pedagógus bérfejlesztés 2020. július 1-től | J58: =SUM(K58:R58) -> 6991 | K58: 6053 | L58: 938
A59: 50 | E59: Gyermekétkeztetés költségeinek rendezése | J59: =SUM(K59:R59) -> -10905 | M59: -10905
A60: 51 | E60: módosított előirányzat 4. | J60: =SUM(K60:R60) -> 370212 | K60: =SUM(K56:K59) -> 237974 | L60: =SUM(L56:L59) -> 47089 | M60: =SUM(M56:M59) -> 84749 | P60: =SUM(P56:P59) -> 400
A61: 52 | B61: 6 | D61: Veszprémi Kastélykert Körzeti Óvoda | F61: K | G61: 156041 | H61: 165684 | I61: 168688
A62: 53 | D62: (Kastélykert Óvoda, Ficánka Óvoda)
A63: 54 | E63: eredeti előirányzat | J63: =SUM(K63:R63) -> 172406 | K63: 113388 | L63: 22885 | M63: 36133
A64: 55 | E64: módosított előirányzat 3. | J64: =SUM(K64:R64) -> 185468 | K64: 113920 | L64: 23188 | M64: 46120 | O64: 179 | P64: 2061
A65: 56 | E65: módosítás- jubileumi jutalom, felmentési idő | J65: =SUM(K65:R65) -> 5214 | K65: 4514 | L65: 700
A66: 57 | E66: átcsoportosítás | J66: =SUM(K66:R66) -> 0 | M66: -610 | P66: 610
A67: 58 | E67: Pedagógus bérfejlesztés 2020. július 1-től | J67: =SUM(K67:R67) -> 3989 | K67: 3448 | L67: 541
A68: 59 | E68: Gyermekétkeztetés költségeinek rendezése | J68: =SUM(K68:R68) -> -7008 | M68: -7008
A69: 60 | E69: módosított előirányzat 4. | J69: =SUM(K69:R69) -> 187663 | K69: =SUM(K64:K68) -> 121882 | L69: =SUM(L64:L68) -> 24429 | M69: =SUM(M64:M68) -> 38502 | O69: =SUM(O64:O68) -> 179 | P69: =SUM(P64:P68) -> 2671
A70: 61 | C70: 1 | D70: Közcélú és közhasznú foglalkoztatás | G70: 1006 | H70: 2245 | I70: 179
A71: 62 | E71: eredeti előirányzat | J71: =SUM(K71:R71) -> 2225 | K71: 1957 | L71: 171 | M71: 97
A72: 63 | E72: módosított előirányzat 3. | J72: =SUM(K72:R72) -> 2225 | K72: 1957 | L72: 171 | M72: 97
A73: 64 | E73: módosítás- | J73: =SUM(K73:R73) -> 0
A74: 65 | E74: módosított előirányzat 4. | J74: =SUM(K74:R74) -> 2225 | K74: =SUM(K72:K73) -> 1957 | L74: =SUM(L72:L73) -> 171 | M74: =SUM(M72:M73) -> 97
A75: 66 | C75: Óvodák összesen: | G75: =SUM(G10:G71) -> 1785466 | H75: =SUM(H10:H71) -> 1808479 | I75: =SUM(I10:I71) -> 1840638
A76: 67 | E76: eredeti előirányzat | J76: =SUM(K76:R76) -> 1845356 | K76: =SUM(K12,K21,K31,K42,K55,K63,K71) -> 1208912 | L76: =SUM(L12,L21,L31,L42,L55,L63,L71) -> 239894 | M76: =SUM(M12,M21,M31,M42,M55,M63,M71) -> 395140 | N76: =SUM(N12,N21,N31,N42,N55,N63,N71) -> 0 | O76: =SUM(O12,O21,O31,O42,O55,O63,O71) -> 0 | P76: =SUM(P12,P21,P31,P42,P55,P63,P71) -> 1410 | Q76: =SUM(Q12,Q21,Q31,Q42,Q55,Q63,Q71) -> 0 | R76: =SUM(R12,R21,R31,R42,R55,R63,R71) -> 0 | S76: =+'[1]4.Inbe'!O29-'4.Inki'!J76 -> 0
A77: 68 | E77: módosított előirányzat 3. | J77: =SUM(K77:R77) -> 1946968 | K77: =SUM(K13,K22,K32,K43,K56,K64,K72) -> 1228276 | L77: =SUM(L13,L22,L32,L43,L56,L64,L72) -> 245246 | M77: =SUM(M13,M22,M32,M43,M56,M64,M72) -> 454165 | N77: =SUM(N13,N22,N32,N43,N56,N64,N72) -> 0 | O77: =SUM(O13,O22,O32,O43,O56,O64,O72) -> 179 | P77: =SUM(P13,P22,P32,P43,P56,P64,P72) -> 15947 | Q77: =SUM(Q13,Q22,Q32,Q43,Q56,Q64,Q72) -> 3155 | R77: =SUM(R13,R22,R32,R43,R56,R64,R72) -> 0
A78: 69 | E78: módosítás- | J78: =SUM(K78:R78) -> 17663 | K78: =SUM(K14:K17,K23:K27,K33:K38,K44:K51,K57:K59,K65:K68,K73:K73,) -> 78247 | L78: =SUM(L14:L17,L23:L27,L33:L38,L44:L51,L57:L59,L65:L68,L73:L73,) -> 12043 | M78: =SUM(M14:M17,M23:M27,M33:M38,M44:M51,M57:M59,M65:M68,M73:M73,) -> -76368 | N78: =SUM(N14:N17,N23:N27,N33:N38,N44:N51,N57:N59,N65:N68,N73:N73,) -> 0 | O78: =SUM(O14:O17,O23:O27,O33:O38,O44:O51,O57:O59,O65:O68,O73:O73,) -> 0 | P78: =SUM(P14:P17,P23:P27,P33:P38,P44:P51,P57:P59,P65:P68,P73:P73,) -> 3779 | Q78: =SUM(Q14:Q17,Q23:Q27,Q33:Q38,Q44:Q51,Q57:Q59,Q65:Q68,Q73:Q73,) -> -38 | R78: =SUM(R14:R17,R23:R27,R33:R38,R44:R51,R57:R59,R65:R68,R73:R73,) -> 0
A79: 70 | E79: módosított előirányzat 4. | J79: =SUM(K79:R79) -> 1964631 | K79: =SUM(K77:K78) -> 1306523 | L79: =SUM(L77:L78) -> 257289 | M79: =SUM(M77:M78) -> 377797 | N79: =SUM(N77:N78) -> 0 | O79: =SUM(O77:O78) -> 179 | P79: =SUM(P77:P78) -> 19726 | Q79: =SUM(Q77:Q78) -> 3117 | R79: =SUM(R77:R78) -> 0
A80: 71 | B80: 7 | D80: Veszprémi Bölcsődei és Egészségügyi Alapellátási Integrált Intézmény | F80: K | G80: 902499 | H80: 882986 | I80: 946591
A81: 72 | E81: eredeti előirányzat | J81: =SUM(K81:R81) -> 996977 | K81: 713799 | L81: 141390 | M81: 140158 | P81: 1630
A82: 73 | E82: módosított előirányzat 3. | J82: =SUM(K82:R82) -> 1085495 | K82: 754053 | L82: 148819 | M82: 179993 | P82: 2630
A83: 74 | E83: módosítás- Bérkompenzáció (2020. augusztus hó) | J83: =SUM(K83:R83) -> 218 | K83: 189 | L83: 29
A84: 75 | E84: Szociális ágazati összevont pótlék (2020. augusztus hó) | J84: =SUM(K84:R84) -> 1197 | K84: 1036 | L84: 161
A85: 76 | E85: Jubileumi jutalom, felmentési idő | J85: =SUM(K85:R85) -> 11778 | K85: 10180 | L85: 1598
A86: 77 | E86: bevételi többletből | J86: =SUM(K86:R86) -> 350 | P86: 350
A87: 78 | E87: Gyermekétkeztetés költségeinek rendezése | J87: =SUM(K87:R87) -> -11874 | M87: -11874
A88: 79 | E88: módosított előirányzat 4. | J88: =SUM(K88:R88) -> 1087164 | K88: =SUM(K82:K87) -> 765458 | L88: =SUM(L82:L87) -> 150607 | M88: =SUM(M82:M87) -> 168119 | P88: =SUM(P82:P87) -> 2980
A89: 80 | C89: 1 | D89: EFOP-1.9.9-17-2017-00004 Még jobb kezekben - Veszprémben | G89: 4233 | H89: 10080 | I89: 10041
A90: 81 | E90: módosított előirányzat 3. | J90: =SUM(K90:R90) -> 0
A91: 82 | E91: módosítás- | J91: =SUM(K91:R91) -> 0
A92: 83 | E92: módosított előirányzat 4. | J92: =SUM(K92:R92) -> 0
A93: 84 | B93: 8 | D93: Göllesz Viktor Fogyatékos Személyek Nappali Intézménye | F93: K | G93: 82024 | H93: 66825 | I93: 85870
A94: 85 | E94: eredeti előirányzat | J94: =SUM(K94:R94) -> 69250 | K94: 40442 | L94: 7151 | M94: 21657
A95: 86 | E95: módosított előirányzat 3. | J95: =SUM(K95:R95) -> 97162 | K95: 54916 | L95: 8510 | M95: 33077 | P95: 659
A96: 87 | E96: módosítás- Bérkompenzáció (2020. augusztus hó) | J96: =SUM(K96:R96) -> 32 | K96: 28 | L96: 4
A97: 88 | E97: Szociális ágazati összevont pótlék (2020. augusztus hó) | J97: =SUM(K97:R97) -> 1026 | K97: 888 | L97: 138
A98: 89 | E98: Jubileumi jutalom, felmentési idő | J98: =SUM(K98:R98) -> 3286 | K98: 2845 | L98: 441
A99: 90 | E99: módosított előirányzat 4. | J99: =SUM(K99:R99) -> 101506 | K99: =SUM(K95:K98) -> 58677 | L99: =SUM(L95:L98) -> 9093 | M99: =SUM(M95:M98) -> 33077 | P99: =SUM(P95:P98) -> 659
A100: 91 | C100: 1 | D100: Közcélú és közhasznú foglalkoztatás | G100: 89 | H100: 269
A101: 92 | B101: 9 | D101: Veszprémi Családsegítő és Gyermekjóléti Integrált Intézmény | F101: K | H101: 236700 | I101: =275013-163-17 -> 274833
...

Sheet 5.Infelhki
B1: 5. melléklet a 2020. évi költségvetésről szóló 5/2020. (II. 27.) önkormányzati rendelet módosításáról szóló 39/2020. (X.29.) önkormányzati rendelethez
B2: "5. melléklet VMJV Önkormányzata Közgyűlésének 5/2020. (II. 27.) önkormányzati rendeletéhez"
B4: Veszprém Megyei Jogú Város Önkormányzata Intézményei
B5: 2020. évi felhalmozási költségvetési kiadások előirányzatai
L6: adatok eFt-ban
B7: A | C7: B | D7: C | E7: D | F7: E | G7: F | H7: G | I7: H | J7: I | K7: J | L7: K
B8: Cím | C8: Alcím | D8: Megnevezés | E8: Feladatellátás jellege | F8: 2018. évi tény | G8: 2019. évi eredeti előirányzat | H8: 2019. évi tény | I8: 2020. évi eredeti előirányzat | J8: 2020. évi módosított előirányzat 3. | K8: Módosítás | L8: 2020. évi módosított előirányzat 4.
A10: 1 | C10: Beruházási kiadások
A11: 2 | B11: 1 | C11: Veszprémi Vadvirág Körzeti Óvoda | E11: K | F11: 1695 | G11: 1800 | H11: 3100
A12: 3 | C12: 1 | D12: Bábos raktár nyitott bútorzat befejezése | I12: 510 | J12: 502 | L12: =SUM(J12:K12) -> 502
A13: 4 | C13: 2 | D13: Kisértékű tárgyi eszközök (Vákuumfóliázó - védőmaszkok varrása utáni csomagoláshoz, érintésmentes lázmérő, elektromos konzervnyitó és késélező | J13: 20 | K13: 58 | L13: =SUM(J13:K13) -> 78
A14: 5 | C14: Csillagvár Waldorf Tagóvoda | F14: 217 | G14: 900 | H14: 1294
A15: 6 | C15: 3 | D15: Mosókonyha bejárati ajtó csere | I15: 200 | J15: 0 | L15: =SUM(J15:K15) -> 0
A16: 7 | C16: 4 | D16: Kisértékű tárgyi eszközök ( érintésmentes lázmérő, átfolyó vízmelegítő) | K16: 80 | L16: =SUM(J16:K16) -> 80
A17: 8 | B17: 2 | C17: Veszprémi Bóbita Körzeti Óvoda | E17: K | F17: 2509 | G17: 3300 | H17: 3496
A18: 9 | C18: 1 | D18: Asztali számítógép, laptop beszerzése | I18: 700 | J18: 700 | L18: =SUM(J18:K18) -> 700
A19: 10 | C19: 2 | D19: Udvari játékok (Bóbita és Hársfa Tagóvoda) | J19: 4137 | L19: =SUM(J19:K19) -> 4137
A20: 11 | C20: 3 | D20: Kisértékű tárgyi eszközök (mosógép, porszívó, mobiltelefon, gyermekszék, gyermekfektető és tartó, függöny, redőny, szúnyogháló, roló, konyhai kisgép, érintés nélküli lázmérő, tartós szakmai játék, számítástechnikai eszközök, karnis) | J20: 2550 | K20: =199+500+100+100 -> 899 | L20: =SUM(J20:K20) -> 3449
A21: 12 | C21: Hársfa Tagóvoda | F21: 1162 | H21: 1094
A22: 13 | C22: 4 | D22: Udvari játékok | J22: 2817 | L22: =SUM(J22:K22) -> 2817
A23: 14 | C23: 5 | D23: Kisértékű tárgyi eszközök (mosógép, porszívó, mobiltelefon, gyermekszék, szőnyeg, redőny, roló, szúnyogháló, konyhai kisgép, érintés nélküli lázmérő, tartós szakmai játék, számítástechnikai eszközök, hűtő) | J23: 1240 | K23: =121+300+100 -> 521 | L23: =SUM(J23:K23) -> 1761
A24: 15 | C24: 6 | D24: Bútorzat főzőkonyhára | J24: 200 | L24: =SUM(J24:K24) -> 200
A25: 16 | B25: 3 | C25: Veszprémi Ringató Körzeti Óvoda | E25: K | F25: 5920 | G25: 1500 | H25: 6208
A26: 17 | C26: 1 | D26: Tárgyi eszközök beszerzésére (Mobiltelefon, laptop, irodai székek, mosógép, légtisztító berendezések, hőmérő, nyomtató, irodai spirálozó gép) | J26: 780 | K26: 413 | L26: =SUM(J26:K26) -> 1193
A27: 18 | C27: 2 | D27: Fa kerti tároló | J27: 220 | L27: =SUM(J27:K27) -> 220
A28: 19 | C28: Erdei és Kuckó Tagóvoda | F28: 7972 | G28: 1500 | H28: 3386 | L28: =SUM(J28:K28) -> 0
A29: 20 | C29: 3 | D29: Kisértékű tárgyi eszközök (Hűtőszekrény főzőkonyhába, irodai székek, hőmérők) | J29: 320 | K29: 28 | L29: =SUM(J29:K29) -> 348
A30: 21 | B30: 4 | C30: Veszprémi Egry úti Körzeti Óvoda | E30: K | F30: 3926 | G30: 1000 | H30: 1347 | L30: =SUM(J30:K30) -> 0
A31: 22 | C31: 1 | D31: Tárgyi eszközök beszerzésére (Higiéniai eszközök, csöpögtető öntöző berendezés, wifi hálózat kiépítése, takarító eszközök, konyhai eszközök, járványügyi eszközök, létrák, salgó polcok, hirdető tábla) | K31: 1170 | L31: =SUM(J31:K31) -> 1170
A32: 23 | C32: Nárcisz Tagóvoda | F32: 2560 | G32: 900 | H32: 2216 | L32: =SUM(J32:K32) -> 0
A33: 24 | C33: 2 | D33: Tárgyi eszközök beszerzésére | L33: =SUM(J33:K33) -> 0
A34: 25 | B34: 5 | C34: Veszprémi Csillag úti Körzeti Óvoda | E34: K | F34: 4964 | G34: 2400 | H34: 6273 | L34: =SUM(J34:K34) -> 0
A35: 26 | C35: 1 | D35: Kézfertőtlenítő adagolók, érintés nélküli lázmérők | J35: 200 | L35: =SUM(J35:K35) -> 200
A36: 27 | C36: Cholnoky Jenő Ltp. Tagóvoda | F36: 4686 | G36: 2900 | H36: 6233 | L36: =SUM(J36:K36) -> 0
A37: 28 | C37: 2 | D37: Kézfertőtlenítő adagolók, érintés nélküli lázmérők | J37: 200 | L37: =SUM(J37:K37) -> 200
A38: 29 | B38: 6 | C38: Veszprémi Kastélykert Körzeti Óvoda | E38: K | F38: 527 | G38: 500 | H38: 6174 | L38: =SUM(J38:K38) -> 0
A39: 30 | C39: 1 | D39: Tárgyi eszközök beszerzésére (Katica csoport: polcos szekrény, babakonyha szekrény, tálaló szekrény, foglalkoztató szekrény, játéktároló, ágyazó, tükrök, élősarokpolc, teakonyha polc, ágyazó polc, szőnyegek, konyhai eszközök, étel-ital szállító badellák, botmixer, serpenyő, érintésmentes kézfertőtlenítő, lázmérők, komód) | J39: 1460 | K39: 165 | L39: =SUM(J39:K39) -> 1625
A40: 31 | C40: 2 | D40: Laptop | J40: 200 | K40: 300 | L40: =SUM(J40:K40) -> 500
A41: 32 | C41: Ficánka Tagóvoda | F41: 15 | G41: 600 | H41: 324 | L41: =SUM(J41:K41) -> 0
A42: 33 | C42: 3 | D42: Gőzállomás, varrógép, széf, érintésmentes kézfertőtlenítő, nyomtató-fénymásoló, lázmérők, fénymásoló, gyerek kanapé) | J42: 401 | K42: 145 | L42: =SUM(J42:K42) -> 546
A43: 34 | B43: 7 | C43: Veszprémi Bölcsődei és Egészségügyi Alapellátási Integrált Intézmény | E43: K
A44: 35 | C44: Napsugár Bölcsőde | F44: 1083 | G44: 300 | H44: 1129
A45: 36 | C45: 1 | D45: Tárgyi eszközök beszerzése (mosógép, szakmai eszlözök) | I45: 120 | J45: 120 | K45: 30 | L45: =SUM(J45:K45) -> 150
A46: 37 | C46: 2 | D46: 20 m2-es faház, játéktárolónak | I46: 300 | J46: 300 | L46: =SUM(J46:K46) -> 300
A47: 38 | C47: Hóvirág Bölcsőde | F47: 1293 | G47: 320 | H47: 1450
A48: 39 | C48: 3 | D48: Tárgyi eszközök beszerzése (mosógép, gáztűzhely, szakmai eszközök) | I48: 190 | J48: 190 | K48: 70 | L48: =SUM(J48:K48) -> 260
A49: 40 | C49: Vackor Bölcsőde | F49: 2601 | G49: 1300 | H49: 2493
A50: 41 | C50: 4 | D50: Tárgyi eszközök beszerzése (öltöző szekrény, varrógép, szakmai eszközök) | I50: 260 | J50: 260 | K50: 100 | L50: =SUM(J50:K50) -> 360
A51: 42 | C51: Módszertani Bölcsőde | F51: 2227 | G51: 1500 | H51: 3057
A52: 43 | C52: 5 | D52: Tárgyi eszközök beszerzése (mosógép, szárítógép, hűtőszekrény, szakmai eszközök) | I52: 340 | J52: 340 | K52: 80 | L52: =SUM(J52:K52) -> 420
A53: 44 | C53: Aprófalvi Bölcsőde | F53: 1803 | G53: 800 | H53: 1244
A54: 45 | C54: 6 | D54: Tárgyi eszközök beszerzése (mosógép, hűtőszekrény, szakmai eszközök) | I54: 220 | J54: 220 | K54: 70 | L54: =SUM(J54:K54) -> 290
A55: 46 | C55: Gyulafirátóti Bölcsőde | H55: 193
A56: 47 | C56: Eü. Alapellátás | F56: 5072 | G56: 2260 | H56: 15436
A57: 48 | C57: 7 | D57: Koronavírus-járványügyi vészhelyzettel kapcsolatos beszerzések: érintés nélküli lázmérők, kártyaolvasók, mobiltelefonok, számítógép, szakmai eszközök, Viktória ügyeleti program) | J57: 1000 | L57: =SUM(J57:K57) -> 1000
A58: 49 | C58: Védőnői Szolgálat
A59: 50 | C59: 8 | D59: Oktatási eszközök vásárlása iskolavédőnők részére | I59: 200 | J59: 200 | L59: =SUM(J59:K59) -> 200
A60: 51 | B60: 8 | C60: Göllesz Viktor Fogyatékos Személyek Nappali Intézménye | E60: K | F60: 905 | H60: 2004
A61: 52 | C61: 1 | D61: Mobiltelefon törlesztés | J61: 59 | L61: =SUM(J61:K61) -> 59
A62: 53 | C62: 2 | D62: Tárgyi eszköz beszerzések (szekrény, ventilátorok, klaviatúrák, vízforraló, mobil telefon, érintős lázmérők, mobilklímák) | J62: 600 | L62: =SUM(J62:K62) -> 600
A63: 54 | B63: 9 | C63: Veszprémi Családsegítő és Gyermekjóléti Integrált Intézmény | E63: K | G63: 4385 | H63: 5998
A64: 55 | C64: 1 | D64: Tárgyi eszközök beszerzése Mikszáth K.u.13. (kézfertőtlenítő állomás, bútor, szőnyeg, függöny, mobiltelefon, mikró, kávéfőző, vízmelegítő, tűzhely, ventilátor/hősugárzó, külső winchester, router, iratmegsemmisítő, porszívó, játék/társasjáték) | I64: 500 | J64: 500 | L64: =SUM(J64:K64) -> 500
A65: 56 | C65: 2 | D65: Tárgyi eszközök beszerzése Pápai út 37. - CSÁO (kézfertőtlenítő állomás, bútor, szőnyeg, függöny, mobiltelefon, mikró, kávéfőző, vízmelegítő, ventilátor/hősugárzó, külső winchester, router, iratmegsemmisítő, porszívó, mérleg, szárítógép) | I65: 300 | J65: 300 | L65: =SUM(J65:K65) -> 300
A66: 57 | C66: 3 | D66: Tárgyi eszközök beszerzése Rózsa u. 48 (kézfertőtlenítő állomás, bútor, szőnyeg, függöny, mobiltelefon, mikró, kávéfőző, vízmelegítő, ventilátor/hősugárzó, külső winchester, router, iratmegsemmisítő, porszívó, mérleg, szárítógép, játék/társasjáték) | I66: 200 | J66: 200 | L66: =SUM(J66:K66) -> 200
A67: 58 | C67: 4 | D67: Mosógép vásárlás (kigyulladt lakás károsultjának megsegítésére) | I67: 150 | J67: 150 | L67: =SUM(J67:K67) -> 150
A68: 59 | C68: 5 | D68: Laptopok szoftverrel | J68: 1400 | L68: =SUM(J68:K68) -> 1400
A69: 60 | C69: 6 | D69: Digitális lázmérők, érintésmentes asztali kézfertőtlenítő adagolók, kézfertőtlenítő állomások | K69: 700 | L69: =SUM(J69:K69) -> 700
A70: 61 | B70: 10 | C70: Agóra Veszprém Kulturális Központ | E70: K | F70: 13964 | G70: 5000 | H70: 4955
A71: 62 | C71: 1 | D71: Tárgyi eszközök beszerzésére
A72: 63 | C72: 1 | D72: TOP – 6.9.2 -16-VP1-2018-00001 Közösségfejlesztés Veszprém város településrészein | I72: 4050 | J72: 4050 | L72: =SUM(J72:K72) -> 4050
A73: 64 | C73: 2 | D73: Közművelődési érdekeltségnövelő pályázat | J73: 1268 | L73: =SUM(J73:K73) -> 1268
A74: 65 | C74: 3 | D74: Számítógépek | J74: 1000 | L74: =SUM(J74:K74) -> 1000
A75: 66 | B75: 11 | C75: Művészetek Háza Veszprém Művelődési Ház és Kiállítóhely | E75: K | F75: 10145 | G75: 4400 | H75: 8894
A76: 67 | C76: 1 | D76: Közművelődési érdekeltségnövelő pályázat | J76: 794 | L76: =SUM(J76:K76) -> 794
A77: 68 | C77: 2 | D77: Notebook, monitor, programok | J77: 643 | L77: =SUM(J77:K77) -> 643
A78: 69 | C78: 3 | D78: Készlet és pénztár program | J78: 345 | L78: =SUM(J78:K78) -> 345
A79: 70 | C79: 4 | D79: Szekrény | J79: 173 | L79: =SUM(J79:K79) -> 173
A80: 71 | C80: 5 | D80: Mini keverő (MANK Nonprofit rendezvény) | J80: 127 | L80: =SUM(J80:K80) -> 127
A81: 72 | B81: 12 | C81: Eötvös Károly Megyei Könyvtár | E81: K | F81: 7550 | G81: 2000 | H81: =1106+1737+1848+92 -> 4783
A82: 73 | C82: 1 | D82: Tárgyi eszközök beszerzésére
A83: 74 | C83: 1 | D83: Megyei Könyvtár kistelepülési könyvtári és közművelődési célú kiegészítő állami támogatás | F83: 21775 | G83: 15000 | H83: 20716 | I83: 16000 | J83: 56000 | K83: 6000 | L83: =SUM(J83:K83) -> 62000
A84: 75 | C84: 2 | D84: TOP – 6.9.2 -16-VP1-2018-00001 Közösségfejlesztés Veszprém város településrészein | I84: 2400 | J84: 2400 | L84: =SUM(J84:K84) -> 2400
A85: 76 | C85: 3 | D85: Könyvek, egyéb könyvtári dokumentumok | J85: 12633 | K85: 2207 | L85: =SUM(J85:K85) -> 14840
A86: 77 | C86: 4 | D86: Egyéb tárgyi eszköz beszerzés (plexifal, karbantartáshoz kapcsolható eszköz, telefon, játék) | J86: 935 | K86: 299 | L86: =SUM(J86:K86) -> 1234
A87: 78 | C87: 5 | D87: Szoftver beszerzés, honlap beszerzés | J87: 15 | K87: 635 | L87: =SUM(J87:K87) -> 650
A88: 79 | C88: 6 | D88: Könyvtári érdekeltségnövelő támogatásból műszaki, technikai, informatikai eszközök | J88: 420 | K88: 110 | L88: =SUM(J88:K88) -> 530
A89: 80 | B89: 13 | C89: Laczkó Dezső Múzeum | E89: K | F89: =7372-1016 -> 6356 | G89: 25158 | H89: 50840
A90: 81 | C90: 1 | D90: Tárgyi eszközök beszerzésére (számítástechnikai beszerzések, kisértékű eszközök cseréje | I90: 700 | J90: 890 | L90: =SUM(J90:K90) -> 890
A91: 82 | C91: 2 | D91: Műtárgybeszerzés (NKA pályázat) | I91: 500 | J91: 900 | L91: =SUM(J91:K91) -> 900
A92: 83 | C92: 3 | D92: EFOP-4.1.9-16-2017-00014 A múzeumi és levéltári intézményrendszer tanulás segítő infrastrukturális fejlesztései -Laczkó Dezső Múzeumban oktatótermek és kiszolgáló helyiségek kialakítása | F92: 1016 | G92: 53846 | H92: 54424 | L92: =SUM(J92:K92) -> 0
A93: 84 | C93: 4 | D93: Salgó polcrendszer a Felsőörsi raktárbázisra | J93: 1000 | L93: =SUM(J93:K93) -> 1000
A94: 85 | C94: 5 | D94: Nyílászáró cserék a Török I. u. műtárgy-raktárban és műtárgyvédelmi központban | J94: 1804 | L94: =SUM(J94:K94) -> 1804
A95: 86 | C95: 6 | D95: Műtárgyvásárlás | J95: 110 | L95: =SUM(J95:K95) -> 110
A96: 87 | C96: 7 | D96: Adattári polcok, lemezszekrények (Levéltárból történő kiköltözéshez) | J96: 2500 | L96: =SUM(J96:K96) -> 2500
A97: 88 | C97: 8 | D97: Aggregátor, szivattyú (régészeti feltárásokra) | J97: 175 | L97: =SUM(J97:K97) -> 175
A98: 89 | C98: 9 | D98: Laptopok | J98: 600 | L98: =SUM(J98:K98) -> 600
A99: 90 | C99: 10 | D99: Nyilvános WC beléptető rendszer | J99: 300 | L99: =SUM(J99:K99) -> 300
A100: 91 | B100: 14 | C100: Kabóca Bábszínház | E100: NK | F100: 6210 | G100: 4000 | H100: 2197
A101: 92 | C101: 1 | D101: EFOP-3.3.2-16-2016-00107 Kulturális intézmények a köznevelés eredményességéért | F101: 597 | G101: 1879 | H101: 835 | I101: 2831 | J101: 869 | L101: =SUM(J101:K101) -> 869
A102: 93 | C102: 2 | D102: EMT-Te-19-0345 pályázat - mikroportok, kézzel varrott bőrcipő, hordozható hangfal, asztal, CAJUN hangszerek, fémből készült díszlet | J102: 2847 | L102: =SUM(J102:K102) -> 2847
...

Sheet 6.Önk.műk.
B1: 6. melléklet a 2020. évi költségvetésről szóló 5/2020. (II. 27.) önkormányzati rendelet módosításáról szóló 39/2020. (X.29.) önkormányzati rendelethez
B2: "6. melléklet VMJV Önkormányzata Közgyűlésének 5/2020. (II. 27.) önkormányzati rendeletéhez"
B4: Veszprém Megyei Jogú Város Önkormányzata
B5: Önkormányzati feladatok és egyéb kötelezettségek 2020. évi működési költségvetési kiadásai
M6: adatok eFt-ban
B7: A | C7: B | D7: C | E7: D | F7: E | G7: F | H7: G | I7: H | J7: I | K7: J | L7: K | M7: L | N7: M
B8: Cím | C8: Alcím | D8: Megnevezés | E8: 2018. évi tény | F8: 2019. évi eredeti előirányzat | G8: 2019. évi tény | H8: Feladatellátás jellege* | I8: 2020. évi előirányzat | J8: Működési költségvetési kiadások
J9: Személyi juttatások | K9: Munk.a. terh. jár. és szoc.hj.adó | L9: Dologi kiadások | M9: Ellátottak pénzbeli juttatásai | N9: Egyéb működési kiadások
A10: 1 | B10: 18 | C10: Önkormányzati működési kiadások
A11: 2 | C11: 1 | D11: Nemzeti ünnepek kiadásaira | E11: 6918 | F11: 7000 | G11: 1779 | H11: K
A12: 3 | D12: módosított előirányzat 3. | I12: =SUM(J12:N12) -> 296 | L12: 296
A13: 4 | D13: módosítás- átcsoportosítás Agóra VKK-nak október 6-ai rendezvény költségeire | I13: =SUM(J13:N13) -> -140 | L13: -140
A14: 5 | D14: Programiroda nemzeti ünnepekkel kapcsolatos költségeire | I14: =SUM(J14:N14) -> 2209 | L14: =606+603+1000 -> 2209
A15: 6 | D15: módosított előirányzat 4. | I15: =SUM(J15:N15) -> 2365 | L15: =SUM(L12:L14) -> 2365
A16: 7 | C16: 2 | D16: Közművelődési szolgált. | E16: 4298 | F16: 5000 | G16: 3685 | H16: NK
A17: 8 | D17: módosított előirányzat 3. | I17: =SUM(J17:N17) -> 4000 | J17: 22 | K17: 12 | L17: 3966
A18: 9 | D18: módosítás- Programiroda városi szilveszter rendezvényének költségeire | I18: =SUM(J18:N18) -> 2500 | L18: 2500
A19: 10 | D19: módosított előirányzat 4. | I19: =SUM(J19:N19) -> 6500 | J19: =SUM(J17:J18) -> 22 | K19: =SUM(K17:K18) -> 12 | L19: =SUM(L17:L18) -> 6466
A20: 11 | C20: 3 | D20: Nemzetközi kapcsolatok | E20: 15651 | F20: 10000 | G20: 7056 | H20: NK
A21: 12 | D21: eredeti előirányzat | I21: =SUM(J21:N21) -> 3000 | L21: 3000
A22: 13 | D22: módosított előirányzat 3. | I22: =SUM(J22:N22) -> 3737 | J22: 30 | K22: 42 | L22: 3665
A23: 14 | D23: módosítás- | I23: =SUM(J23:N23) -> 0
A24: 15 | D24: módosított előirányzat 4. | I24: =SUM(J24:N24) -> 3737 | J24: =SUM(J22:J23) -> 30 | K24: =SUM(K22:K23) -> 42 | L24: =SUM(L22:L23) -> 3665
A25: 16 | C25: 4 | D25: Marketing tevékenység, marketing stratégia | E25: 12950 | F25: 11000 | G25: 13218 | H25: NK
A26: 17 | D26: módosított előirányzat 3. | I26: =SUM(J26:N26) -> 11235 | L26: 11235
A27: 18 | D27: módosítás- | I27: =SUM(J27:N27) -> 0
A28: 19 | D28: módosított előirányzat 4. | I28: =SUM(J28:N28) -> 11235 | L28: =SUM(L26:L27) -> 11235
A29: 20 | C29: 5 | D29: Kitüntetések | E29: 8243 | F29: 10167 | G29: 9366 | H29: NK
A30: 21 | D30: eredeti előirányzat | I30: =SUM(J30:N30) -> 9601 | J30: 3800 | K30: 1100 | L30: 4701
A31: 22 | D31: módosított előirányzat 3. | I31: =SUM(J31:N31) -> 9601 | J31: 3500 | K31: 1061 | L31: 4701 | N31: 339
A32: 23 | D32: módosítás- | I32: =SUM(J32:N32) -> 0
A33: 24 | D33: módosított előirányzat 4. | I33: =SUM(J33:N33) -> 9601 | J33: =SUM(J31:J32) -> 3500 | K33: =SUM(K31:K32) -> 1061 | L33: =SUM(L31:L32) -> 4701 | N33: =SUM(N31:N32) -> 339
A34: 25 | C34: 6 | D34: Mihály-napi búcsú | E34: 1000 | F34: 1000 | H34: NK
A35: 26 | C35: 7 | D35: Városi kiemelt fesztiválok | E35: =SUM(E36,E37,E38,E39,E41,E40) -> 72000 | F35: =SUM(F36,F37,F38,F39,F41,F40) -> 74000 | G35: =SUM(G36,G37,G38,G39,G41,G40) -> 74000 | H35: NK
A36: 27 | D36: ebből: - Veszprémi Ünnepi Játékok | E36: 30000 | F36: 30000 | G36: 30000
A37: 28 | D37: - Gizella Napok | E37: 15000 | F37: 15000 | G37: 15000
A38: 29 | D38: - Tánc Fesztivál | E38: 5000 | F38: 2000 | G38: 2000
A39: 30 | D39: - Veszprémi Utcazene Fesztivál | E39: 15000 | F39: 15000 | G39: 15000
A40: 31 | D40: - Auer Hegedűfesztivál | E40: 5000 | F40: 10000 | G40: 10000
A41: 32 | C41: 8 | D41: Magyar Kórusok találkozója | E41: 2000 | F41: 2000 | G41: 2000 | H41: NK
A42: 33 | C42: 9 | D42: Városi rendezvények | E42: 7817 | F42: 10000 | G42: 16207 | H42: NK
A43: 34 | D43: módosított előirányzat 3. | I43: =SUM(J43:N43) -> 6657 | L43: 6657
A44: 35 | D44: módosítás- | I44: =SUM(J44:N44) -> 0
A45: 36 | D45: módosított előirányzat 4. | I45: =SUM(J45:N45) -> 6657 | L45: =SUM(L43:L44) -> 6657
A46: 37 | C46: 10 | D46: Eseti rendezvények | E46: 6008 | F46: 4500 | G46: 22414 | H46: NK
A47: 38 | D47: módosított előirányzat 3. | I47: =SUM(J47:N47) -> 3499 | L47: =1554+1945 -> 3499
A48: 39 | D48: módosítás- átcsoportosítás | I48: =SUM(J48:N48) -> 3500 | L48: 3500
A49: 40 | D49: módosított előirányzat 4. | I49: =SUM(J49:N49) -> 6999 | L49: =SUM(L47:L48) -> 6999
A50: 41 | C50: 11 | D50: Köztéri szobrok, emléktáblák, lektorátus | E50: 21 | F50: 2000 | G50: 450 | H50: NK
A51: 42 | D51: eredeti előirányzat | I51: =SUM(J51:N51) -> 1000 | L51: 1000
A52: 43 | D52: módosított előirányzat 3. | I52: =SUM(J52:N52) -> 1750 | L52: 1750
A53: 44 | D53: módosítás- | I53: =SUM(J53:N53) -> 0
A54: 45 | D54: módosított előirányzat 4. | I54: =SUM(J54:N54) -> 1750 | L54: =SUM(L52:L53) -> 1750
A55: 46 | C55: 12 | D55: I. Világháborús Centenáriumi Emlékezés költségei | E55: 2657 | F55: 4000 | G55: 1887 | H55: NK
A56: 47 | D56: eredeti előirányzat | I56: =SUM(J56:N56) -> 2000 | L56: 2000
A57: 48 | D57: módosított előirányzat 3. | I57: =SUM(J57:N57) -> 0 | L57: 0
A58: 49 | D58: módosítás- | I58: =SUM(J58:N58) -> 0
A59: 50 | D59: módosított előirányzat 4. | I59: =SUM(J59:N59) -> 0 | L59: =SUM(L57:L58) -> 0
A60: 51 | C60: 13 | D60: Kiadványok, folyóiratok támogatása | E60: =SUM(E65,E70,E75,E80) -> 5498 | F60: =SUM(F65,F70,F75,F80)+F81+F82 -> 13000 | G60: =SUM(G65,G70,G75,G80)+G83 -> 7346 | H60: NK
A61: 52 | D61: eredeti előirányzat | I61: =SUM(J61:N61) -> 2925 | J61: =SUM(J66,J71,J76,) -> 0 | K61: =SUM(K66,K71,K76,) -> 0 | L61: =SUM(L66,L71,L76,) -> 0 | M61: =SUM(M66,M71,M76,) -> 0 | N61: =SUM(N66,N71,N76,) -> 2925
A62: 53 | D62: módosított előirányzat 3. | I62: =SUM(J62:N62) -> 0 | J62: =SUM(J67,J72,J77,) -> 0 | K62: =SUM(K67,K72,K77,) -> 0 | L62: =SUM(L67,L72,L77,) -> 0 | M62: =SUM(M67,M72,M77,) -> 0 | N62: =SUM(N67,N72,N77,) -> 0
A63: 54 | D63: módosítás- | I63: =SUM(J63:N63) -> 0 | J63: =J68+J73+J78 -> 0 | K63: =K68+K73+K78 -> 0 | L63: =L68+L73+L78 -> 0 | M63: =M68+M73+M78 -> 0 | N63: =N68+N73+N78 -> 0
A64: 55 | D64: módosított előirányzat 4. | I64: =SUM(J64:N64) -> 0 | J64: =SUM(J62:J63) -> 0 | K64: =SUM(K62:K63) -> 0 | L64: =SUM(L62:L63) -> 0 | M64: =SUM(M62:M63) -> 0 | N64: =SUM(N62:N63) -> 0
A65: 56 | D65: ebből: - Vár Ucca Műhely támogatása | F65: 1500
A66: 57 | D66: eredeti előirányzat | I66: =SUM(J66:N66) -> 1000 | N66: 1000
A67: 58 | D67: módosított előirányzat 3. | I67: =SUM(J67:N67) -> 0 | N67: 0
A68: 59 | D68: módosítás- átcsoportosítás | I68: =SUM(J68:N68) -> 0
A69: 60 | D69: módosított előirányzat 4. | I69: =SUM(J69:N69) -> 0 | N69: =SUM(N67:N68) -> 0
A70: 61 | D70: - Veszprémi Szemle Várostörténeti Közhasznú Alapítvány Támogatása | E70: 2998 | F70: 2000 | G70: 2846
A71: 62 | D71: eredeti előirányzat | I71: =SUM(J71:N71) -> 1500 | N71: 1500
A72: 63 | D72: módosított előirányzat 3. | I72: =SUM(J72:N72) -> 0 | N72: 0
A73: 64 | D73: módosítás- átcsoportosítás | I73: =SUM(J73:N73) -> 0
A74: 65 | D74: módosított előirányzat 4. | I74: =SUM(J74:N74) -> 0 | N74: =SUM(N72:N73) -> 0
A75: 66 | D75: - Comitatus Társadalomkutató Egyesület - Comitatus Önkormányzati Szemle | E75: 500 | F75: 500 | G75: 500
A76: 67 | D76: eredeti előirányzat | I76: =SUM(J76:N76) -> 425 | N76: 425
A77: 68 | D77: módosított előirányzat 3. | I77: =SUM(J77:N77) -> 0 | N77: 0
A78: 69 | D78: módosítás- átcsoportosítás | I78: =SUM(J78:N78) -> 0
A79: 70 | D79: módosított előirányzat 4. | I79: =SUM(J79:N79) -> 0 | N79: =SUM(N77:N78) -> 0
A80: 71 | D80: - Ex Symposion Alapítvány | E80: 2000 | F80: 2000 | G80: 2000
A81: 72 | D81: - Veszprémi Kaleidoszkóp 1-2 újraindítása | F81: 2000
A82: 73 | D82: - 10 éves kiadvány | F82: 5000
A83: 74 | D83: - Veszprémi várostörténeti kiadványok előkészítése | G83: 2000
A84: 75 | C84: 14 | D84: Közösség Kádártáért Egyesület | H84: NK
A85: 76 | D85: eredeti előirányzat | I85: =SUM(J85:N85) -> 2550 | N85: 2550
A86: 77 | D86: módosított előirányzat 3. | I86: =SUM(J86:N86) -> 1000 | N86: 1000
A87: 78 | D87: módosítás- | I87: =SUM(J87:N87) -> 0
A88: 79 | D88: módosított előirányzat 4. | I88: =SUM(J88:N88) -> 1000 | N88: =SUM(N86:N87) -> 1000
A89: 80 | C89: 15 | D89: Virágzó Veszprém Egyesület | H89: NK
A90: 81 | D90: eredeti előirányzat | I90: =SUM(J90:N90) -> 2550 | N90: 2550
A91: 82 | D91: módosított előirányzat 3. | I91: =SUM(J91:N91) -> 1000 | N91: 1000
A92: 83 | D92: módosítás- | I92: =SUM(J92:N92) -> 0
A93: 84 | D93: módosított előirányzat 4. | I93: =SUM(J93:N93) -> 1000 | N93: =SUM(N91:N92) -> 1000
A94: 85 | C94: 16 | D94: Lokálpatrióták a Városért Egyesület | H94: NK
A95: 86 | D95: eredeti előirányzat | I95: =SUM(J95:N95) -> 850 | N95: 850
A96: 87 | D96: módosított előirányzat 3. | I96: =SUM(J96:N96) -> 450 | N96: 450
A97: 88 | D97: módosítás- | I97: =SUM(J97:N97) -> 0
A98: 89 | D98: módosított előirányzat 4. | I98: =SUM(J98:N98) -> 450 | N98: =SUM(N96:N97) -> 450
A99: 90 | C99: 17 | D99: Brusznyai Árpád Alapítvány támogatása | E99: 500 | F99: 650 | G99: 650 | H99: NK
A100: 91 | D100: eredeti előirányzat | I100: =SUM(J100:N100) -> 553 | N100: 553
A101: 92 | D101: módosított előirányzat 3. | I101: =SUM(J101:N101) -> 500 | N101: =0+500 -> 500
...

Sheet 6.A Alapítv
B1: 6/A. melléklet a 2020. évi költségvetésről szóló 5/2020. (II. 27.) önkormányzati rendelet módosításáról szóló 39/2020. (X.29.) önkormányzati rendelethez
B2: "6/A. melléklet VMJV Önkormányzata Közgyűlésének 5/2020. (II. 27.) önkormányzati rendeletéhez"
B4: KIMUTATÁS
B5: Veszprém Megyei Jogú Város Önkormányzata által
B6: alapítványoknak, egyesületeknek, civil szervezeteknek, társadalmi szervezeteknek nyújtott támogatásokról 2020. évben
B7: adatok eFt-ban
B8: A | C8: B
B9: Alapítvány / egyesület / civil szervezet / társadalmi szervezet megnevezése | C9: Támogatás összege
A11: 1 | B11: Alkohol-Drogsegély Ambulancia/Szenvedélybetegek ellátásnak működési kiadásaihoz támogatás | C11: 10200
A12: 2 | B12: Közösség Kádártáért Egyesület | C12: =2550-1550 -> 1000
A13: 3 | B13: Virágzó Veszprém Egyesület | C13: =2550-1550 -> 1000
A14: 4 | B14: Lokálpatrióták a Városért Egyesület | C14: =850-400 -> 450
A15: 5 | B15: Brusznyai Árpád Alapítvány támogatása | C15: =553-553+500 -> 500
A16: 6 | B16: Mendelssohn Kamarazenekar | C16: =25975+4880 -> 30855
A17: 7 | B17: Veszprém Város Vegyeskara | C17: =6460-5994 -> 466
A18: 8 | B18: Veszprémi Ifjúsági Közalapítvány | C18: =11900-1900-4445 -> 5555
A19: 9 | B19: Máltai Szeretetszolgálat | C19: 60000
A20: 10 | B20: Pszichiátriai betegek nappali ellátása ("Horgony" Pszichiátriai Betegekért Közhasznú Alapítvány) | C20: 1275
A21: 11 | B21: 8.vk. Városi Nyilvánosságért Alapítvány - karácsonyi ajándékcsomagok beszerzésére | C21: 50
A22: 12 | B22: Kórház Bébi Koraszülött Mentő Alapítványa részére - echocardiograf eszközbeszerzésre | C22: 10000
A23: 13 | B23: Veszprémi Táncegyüttesért Alapítvány | C23: 375
A24: 14 | B24: Liszt F. Kórus | C24: 83
A25: 15 | B25: Gizella Kórus/Dowland Alapítvány | C25: 250
A26: 16 | B26: Közbiztonsági feladatok / Gyulafirátóti Polgárőrség | C26: 1375
A27: 17 | B27: Verseny és élsport - működési támogatások
A28: 18 | B28: Veszprém Foci Centrum Utánpótlás SE | C28: =17000-8500 -> 8500
A29: 19 | B29: Veszprémi Egyetemi és Diák Atlétikai Club | C29: =28000-15500 -> 12500
A30: 20 | B30: Futsal Club Veszprém | C30: =30000-15000 -> 15000
A31: 21 | B31: Pannon SE női kézilabda | C31: 3000
A32: 22 | B32: Veszprémi Úszó Klub | C32: 1500
A33: 23 | B33: Balaton Úszó Klub | C33: 1750
A34: 24 | B34: Veszprémi Torna Club | C34: 3000
A35: 25 | B35: VESC női röplabda | C35: 2500
A36: 26 | B36: Szilágyi DSE | C36: 1600
A37: 27 | B37: Dózsavárosi DSE | C37: 500
A38: 28 | B38: Sportolj Velünk SE | C38: 4750
A39: 29 | B39: Gyulafirátót SE | C39: 1500
A40: 30 | B40: Veszprémi Jégkorong SE | C40: 700
A41: 31 | B41: Veszprémi Taekwon-do SE | C41: 300
A42: 32 | B42: Veszprémi Asztalitenisz Sportegyesület | C42: 300
... A58: 48 | B58: Golding Táncsport Egyesület | C58: 50
A59: 49 | B59: Olimpiai felkészülés céljára támogatás
A60: 50 | B60: Sportolj Velünk SE (Bartha-Kéri Bianka) | C60: 600
A61: 51 | B61: VEDAC (Orbán Éva) | C61: 600
A62: 52 | B62: Veszprémi Sí Egylet (Kónya Ádám) | C62: 600
A63: 53 | B63: Balaton Úszó Klub (Rasovszky Kristóf) | C63: 1800
B64: MINDÖSSZESEN: | C64: =SUM(C11:C63) -> 185709

Sheet 7.Beruh.
B1: 7. melléklet a 2020. évi költségvetésről szóló 5/2020. (II. 27.) önkormányzati rendelet módosításáról szóló 39/2020. (X.29.) önkormányzati rendelethez
B2: "7. melléklet VMJV Önkormányzata Közgyűlésének 5/2020. (II. 27.) önkormányzati rendeletéhez"
B4: Veszprém Megyei Jogú Város Önkormányzata
B5: 2020. évi beruházási és egyéb felhalmozási célú kiadások előirányzatai
M6: adatok eFt-ban
B7: A | C7: B | D7: C | E7: D | F7: E | G7: F | H7: G | I7: H | J7: I | K7: J | L7: K | M7: L
B8: Cím | C8: Alcím | D8: Megnevezés | E8: Teljes költség | F8: Teljesítés 2018. 12.31.-ig | G8: 2019. évi tény | H8: Feladatellátás jellege | I8: 2020. évi előirányzat | M8: 2020. év utáni javaslat
I9: Működési költségvetési kiadások | J9: Felhalmozási költségvetési kiadások | L9: Összesen
I10: Dologi kiadások | J10: Beruházási kiadások | K10: Egyéb felhalmozási célú kiadások
A11: 1 | B11: 18 | C11: Önkormányzati beruházási kiadások
A12: 2 | C12: 1 | D12: Önkormányzati érdekeket érintő településrendezési eszközök módosítása | E12: =F12+G12+L16+M13 -> 15906 | G12: 5652 | H12: NK
A13: 3 | D13: eredeti előirányzat | J13: 4554 | L13: =SUM(I13:K13) -> 4554
A14: 4 | D14: módosított előirányzat 3. | J14: 6254 | L14: =SUM(I14:K14) -> 6254
A15: 5 | D15: módosítás- átcsoportosítás | J15: 4000 | L15: =SUM(I15:K15) -> 4000
A16: 6 | D16: módosított előirányzat 4. | J16: =SUM(J14:J15) -> 10254 | K16: =SUM(K13:K15) -> 0 | L16: =SUM(I16:K16) -> 10254
A17: 7 | C17: 2 | D17: Petőfi Sándor utca rekonstrukciója I-III. ütem | E17: =F17+G17+L21+M18 -> 218705 | F17: =83462 -> 83462 | G17: =134105 -> 134105 | H17: NK
A18: 8 | D18: eredeti előirányzat | I18: 500 | J18: 638 | L18: =SUM(I18:K18) -> 1138
A19: 9 | D19: módosított előirányzat 3. | I19: 500 | J19: 638 | L19: =SUM(I19:K19) -> 1138
A20: 10 | D20: módosítás- | L20: =SUM(I20:K20) -> 0
A21: 11 | D21: módosított előirányzat 4. | I21: =SUM(I19:I20) -> 500 | J21: =SUM(J19:J20) -> 638 | K21: =SUM(K19:K20) -> 0 | L21: =SUM(I21:K21) -> 1138
A22: 12 | C22: 3 | D22: Vörösmarty tér tömbbelső fejlesztés, I. ütem (csapadékvíz elvezetés kiépítése) + II. ütem | E22: =F22+G22+L26+M23 -> 74702 | F22: 18391 | G22: =26497+3 -> 26500 | H22: NK
A23: 13 | D23: eredeti előirányzat | I23: 327 | J23: 29484 | L23: =SUM(I23:K23) -> 29811
A24: 14 | D24: módosított előirányzat 3. | I24: 327 | J24: 29484 | L24: =SUM(I24:K24) -> 29811
A25: 15 | D25: módosítás- | L25: =SUM(I25:K25) -> 0
A26: 16 | D26: módosított előirányzat 4. | I26: =SUM(I24:I25) -> 327 | J26: =SUM(J24:J25) -> 29484 | K26: =SUM(K24:K25) -> 0 | L26: =SUM(I26:K26) -> 29811
A27: 17 | C27: 4 | D27: Kulturális negyed tervezése II. ütem | E27: =F27+G27+L31+M28 -> 3175 | H27: NK
A28: 18 | D28: eredeti előirányzat | J28: 3175 | L28: =SUM(I28:K28) -> 3175
A29: 19 | D29: módosított előirányzat 3. | J29: 3175 | L29: =SUM(I29:K29) -> 3175
A30: 20 | D30: módosítás- | L30: =SUM(I30:K30) -> 0
A31: 21 | D31: módosított előirányzat 4. | J31: =SUM(J29:J30) -> 3175 | K31: =SUM(K29:K30) -> 0 | L31: =SUM(I31:K31) -> 3175
A32: 22 | C32: 5 | D32: Bolgár Mihály utcai híd áteresz kapacitás bővítés, tervezés, engedélyezés, kivitelezés | E32: =F32+G32+L36+M33 -> 1905 | H32: NK
A33: 23 | D33: eredeti előirányzat | J33: 2000 | L33: =SUM(I33:K33) -> 2000
A34: 24 | D34: módosított előirányzat 3. | J34: 1905 | L34: =SUM(I34:K34) -> 1905
A35: 25 | D35: módosítás- | L35: =SUM(I35:K35) -> 0
A36: 26 | D36: módosított előirányzat 4. | J36: =SUM(J34:J35) -> 1905 | K36: =SUM(K34:K35) -> 0 | L36: =SUM(I36:K36) -> 1905
A37: 27 | C37: 6 | D37: Egry utcai óvoda új villamos és gáz betáp vezeték tervezése és kiépítése, villamos kapacitásbővítés | E37: =F37+G37+L41+M38 -> 4260 | G37: 305 | H37: NK
A38: 28 | D38: eredeti előirányzat | J38: 3955 | L38: =SUM(I38:K38) -> 3955
A39: 29 | D39: módosított előirányzat 3. | J39: 3955 | L39: =SUM(I39:K39) -> 3955
A40: 30 | D40: módosítás- | L40: =SUM(I40:K40) -> 0
A41: 31 | D41: módosított előirányzat 4. | J41: =SUM(J39:J40) -> 3955 | K41: =SUM(K39:K40) -> 0 | L41: =SUM(I41:K41) -> 3955
A42: 32 | C42: 7 | D42: Gyulafirátóti köztéri játszótér eszközeinek elhelyezése | E42: =F42+G42+L46+M43 -> 3000 | H42: NK
A43: 33 | D43: eredeti előirányzat | J43: 3000 | L43: =SUM(I43:K43) -> 3000
A44: 34 | D44: módosított előirányzat 3. | J44: 3000 | L44: =SUM(I44:K44) -> 3000
A45: 35 | D45: módosítás- | L45: =SUM(I45:K45) -> 0
A46: 36 | D46: módosított előirányzat 4. | J46: =SUM(J44:J45) -> 3000 | K46: =SUM(K44:K45) -> 0 | L46: =SUM(I46:K46) -> 3000
A47: 37 | C47: 8 | D47: 82-es út közlekedésbiztonsági fejlesztése | E47: =F47+G47+L51+M48 -> 25000 | G47: 12491 | H47: NK
A48: 38 | D48: eredeti előirányzat | J48: 12509 | L48: =SUM(I48:K48) -> 12509
A49: 39 | D49: módosított előirányzat 3. | J49: 12509 | L49: =SUM(I49:K49) -> 12509
A50: 40 | D50: módosítás- | L50: =SUM(I50:K50) -> 0
A51: 41 | D51: módosított előirányzat 4. | J51: =SUM(J49:J50) -> 12509 | K51: =SUM(K49:K50) -> 0 | L51: =SUM(I51:K51) -> 12509
A52: 42 | C52: 9 | D52: Programiroda Kft. törzstőke emelés | E52: =F52+G52+L56+M53 -> 3520 | F52: =3210+110 -> 3320 | G52: 100 | H52: NK
A53: 43 | D53: eredeti előirányzat | J53: 100 | L53: =SUM(I53:K53) -> 100
A54: 44 | D54: módosított előirányzat 3. | J54: 100 | L54: =SUM(I54:K54) -> 100
A55: 45 | D55: módosítás- | L55: =SUM(I55:K55) -> 0
A56: 46 | D56: módosított előirányzat 4. | J56: =SUM(J54:J55) -> 100 | K56: =SUM(K54:K55) -> 0 | L56: =SUM(I56:K56) -> 100
A57: 47 | C57: 10 | D57: Programiroda Kft. tőketartalékba helyezés | E57: =F57+G57+L61+M58 -> 165780 | F57: =84090+35890 -> 119980 | G57: 22900 | H57: NK
A58: 48 | D58: eredeti előirányzat | J58: 22900 | L58: =SUM(I58:K58) -> 22900
A59: 49 | D59: módosított előirányzat 3. | J59: 22900 | L59: =SUM(I59:K59) -> 22900
A60: 50 | D60: módosítás- | L60: =SUM(I60:K60) -> 0
A61: 51 | D61: módosított előirányzat 4. | J61: =SUM(J59:J60) -> 22900 | K61: =SUM(K59:K60) -> 0 | L61: =SUM(I61:K61) -> 22900
A62: 52 | C62: 11 | D62: Swing-Swing Kft. törzstőke emelés | E62: =F62+G62+L66+M63 -> 100080 | F62: =100050+10 -> 100060 | G62: 10 | H62: NK
A63: 53 | D63: eredeti előirányzat | J63: 10 | L63: =SUM(I63:K63) -> 10
A64: 54 | D64: módosított előirányzat 3. | J64: 10 | L64: =SUM(I64:K64) -> 10
A65: 55 | D65: módosítás- | L65: =SUM(I65:K65) -> 0
A66: 56 | D66: módosított előirányzat 4. | J66: =SUM(J64:J65) -> 10 | K66: =SUM(K64:K65) -> 0 | L66: =SUM(I66:K66) -> 10
A67: 57 | C67: 12 | D67: Swing-Swing Kft. tőketartalékba helyezés | E67: =F67+G67+L71+M68 -> 739920 | F67: =379950+119990 -> 499940 | G67: 119990 | H67: NK
A68: 58 | D68: eredeti előirányzat | J68: 119990 | L68: =SUM(I68:K68) -> 119990
A69: 59 | D69: módosított előirányzat 3. | J69: 119990 | L69: =SUM(I69:K69) -> 119990
A70: 60 | D70: módosítás- | L70: =SUM(I70:K70) -> 0
A71: 61 | D71: módosított előirányzat 4. | J71: =SUM(J69:J70) -> 119990 | K71: =SUM(K69:K70) -> 0 | L71: =SUM(I71:K71) -> 119990
A72: 62 | C72: 13 | D72: Swing-Swing Kft. üzletrész vásárlás | E72: =F72+G72+L76+M73 -> 251652 | H72: NK
A73: 63 | D73: eredeti előirányzat | J73: 251652 | L73: =SUM(I73:K73) -> 251652
A74: 64 | D74: módosított előirányzat 3. | J74: 251652 | L74: =SUM(I74:K74) -> 251652
A75: 65 | D75: módosítás- | L75: =SUM(I75:K75) -> 0
A76: 66 | D76: módosított előirányzat 4. | J76: =SUM(J74:J75) -> 251652 | K76: =SUM(K74:K75) -> 0 | L76: =SUM(I76:K76) -> 251652
A77: 67 | C77: 14 | D77: Veszprém - Balaton 2023 Zrt. törzstőke emelés | E77: =F77+G77+L81+M78 -> 3600 | F77: 100 | G77: 1500 | H77: NK
A78: 68 | D78: eredeti előirányzat | J78: 2000 | L78: =SUM(I78:K78) -> 2000
A79: 69 | D79: módosított előirányzat 3. | J79: 2000 | L79: =SUM(I79:K79) -> 2000
A80: 70 | D80: módosítás- | L80: =SUM(I80:K80) -> 0
A81: 71 | D81: módosított előirányzat 4. | J81: =SUM(J79:J80) -> 2000 | K81: =SUM(K79:K80) -> 0 | L81: =SUM(I81:K81) -> 2000
A82: 72 | C82: 15 | D82: Veszprém - Balaton 2023 Zrt. tőketartalékba helyezés | E82: =F82+G82+L86+M83 -> 376100 | F82: 82900 | G82: 195200 | H82: NK
A83: 73 | D83: eredeti előirányzat | J83: 98000 | L83: =SUM(I83:K83) -> 98000
A84: 74 | D84: módosított előirányzat 3. | J84: 98000 | L84: =SUM(I84:K84) -> 98000
A85: 75 | D85: módosítás- | L85: =SUM(I85:K85) -> 0
A86: 76 | D86: módosított előirányzat 4. | J86: =SUM(J84:J85) -> 98000 | K86: =SUM(K84:K85) -> 0 | L86: =SUM(I86:K86) -> 98000
A87: 77 | C87: 16 | D87: Erdőtelepítés és utógondozás (a 241/2009.(IX.15.) Közgyűlési határozat; Erdészeti Hatóság 28.3/1176-7/2010.(V.25.) és VE-G-001/3883-8/2013. sz. határozata; 298/2009.(X.20.) Vfkb és 48/2010.(II.16.) Vfkb | E87: =F87+G87+L91+M88 -> 39628 | F87: =11933+7351 -> 19284 | G87: 12596 | H87: NK
A88: 78 | D88: eredeti előirányzat | J88: 13952 | L88: =SUM(I88:K88) -> 13952
A89: 79 | D89: módosított előirányzat 3. | J89: 7748 | L89: =SUM(I89:K89) -> 7748
A90: 80 | D90: módosítás- | L90: =SUM(I90:K90) -> 0
A91: 81 | D91: módosított előirányzat 4. | J91: =SUM(J89:J90) -> 7748 | K91: =SUM(K89:K90) -> 0 | L91: =SUM(I91:K91) -> 7748
A92: 82 | C92: 17 | D92: Utcanévtáblák | E92: =F92+G92+L96+M93 -> 3058 | F92: 2058 | G92: 269 | H92: NK
A93: 83 | D93: eredeti előirányzat | J93: 7173 | L93: =SUM(I93:K93) -> 7173
A94: 84 | D94: módosított előirányzat 3. | J94: 731 | L94: =SUM(I94:K94) -> 731
A95: 85 | D95: módosítás- | L95: =SUM(I95:K95) -> 0
A96: 86 | D96: módosított előirányzat 4. | J96: =SUM(J94:J95) -> 731 | K96: =SUM(K93:K95) -> 0 | L96: =SUM(I96:K96) -> 731
A97: 87 | C97: 18 | D97: Kézi hulladékgyűjtők beszerzése | E97: =F97+G97+L101+M98 -> 3145 | F97: =248+251 -> 499 | G97: 1455 | H97: NK
A98: 88 | D98: eredeti előirányzat | J98: 5046 | L98: =SUM(I98:K98) -> 5046
A99: 89 | D99: módosított előirányzat 3. | J99: 1191 | L99: =SUM(I99:K99) -> 1191
A100: 90 | D100: módosítás- | L100: =SUM(I100:K100) -> 0
A101: 91 | D101: módosított előirányzat 4. | J101: =SUM(J99:J100) -> 1191 | K101: =SUM(K99:K100) -> 0 | L101: =SUM(I101:K101) -> 1191
...

Sheet 8.Felúj.
B1: 8. melléklet a .../2020. (…….) önkormányzati rendelethez
B2: Veszprém Megyei Jogú Város Önkormányzata
B3: 2020. évi felújítási kiadások előirányzatának módosítása - 2020. október
L4: adatok eFt-ban
B5: A | C5: B | D5: C | E5: D | F5: E | G5: F | H5: G | I5: H | J5: I | K5: J | L5: K
B6: Cím | C6: Alcím | D6: Megnevezés | E6: Teljes költség | F6: 2018. évi tény | G6: 2019. évi tény | H6: Feladatellátás jellege | I6: 2020. évi előirányzat | L6: 2020. év utáni javaslat
I7: Működési költségvetési kiadások | J7: Felhalmozási költségvetési kiadások | K7: Összesen
I8: Dologi kiadások | J8: Felújítási kiadások
A9: 1 | B9: 18 | C9: Önkormányzati felújítási kiadások
A10: 2 | C10: 1 | D10: Játszóeszközök felújítása (78/2003 GKM rendelet) | E10: =F10+G10+K14+L11 -> 21500 | F10: 10000 | G10: 9000 | H10: K
A11: 3 | D11: eredeti előirányzat | J11: 5000 | K11: =SUM(I11:J11) -> 5000
A12: 4 | D12: módosított előirányzat 3. | J12: 2500 | K12: =SUM(I12:J12) -> 2500
A13: 5 | D13: módosítás- | K13: =SUM(I13:J13) -> 0
A14: 6 | D14: módosított előirányzat 4. | J14: =SUM(J12:J13) -> 2500 | K14: =SUM(I14:J14) -> 2500
A15: 7 | C15: 2 | D15: Nagyfelületű út- és járdafelújítások | E15: =F15+G15+K19+L16 -> 310601 | F15: 127108 | G15: 129978 | H15: NK
A16: 8 | D16: eredeti előirányzat | J16: 158122 | K16: =SUM(I16:J16) -> 158122
A17: 9 | D17: módosított előirányzat 3. | J17: 53515 | K17: =SUM(I17:J17) -> 53515
A18: 10 | D18: módosítás- | K18: =SUM(I18:J18) -> 0
A19: 11 | D19: módosított előirányzat 4. | J19: =SUM(J17:J18) -> 53515 | K19: =SUM(I19:J19) -> 53515
A20: 12 | C20: 3 | D20: Vízrendezési feladatok, árkok felújítása | E20: =F20+G20+K24+L21 -> 50000 | G20: 450 | H20: K
A21: 13 | D21: eredeti előirányzat | J21: 49550 | K21: =SUM(I21:J21) -> 49550
A22: 14 | D22: módosított előirányzat 3. | J22: 49550 | K22: 49550
A23: 15 | D23: módosítás- | K23: =SUM(I23:J23) -> 0
A24: 16 | D24: módosított előirányzat 4. | J24: =SUM(J22:J23) -> 49550 | K24: =SUM(I24:J24) -> 49550
A25: 17 | C25: 4 | D25: Védett sírok felújítása az Alsóvárosi temetőben | E25: =F25+G25+K29+L26 -> 11252 | F25: 9999 | H25: NK
A26: 18 | D26: eredeti előirányzat | J26: 1235 | K26: =SUM(I26:J26) -> 1235
A27: 19 | D27: módosított előirányzat 3. | I27: 18 | J27: 1235 | K27: =SUM(I27:J27) -> 1253
A28: 20 | D28: módosítás- | K28: =SUM(I28:J28) -> 0
A29: 21 | D29: módosított előirányzat 4. | I29: =SUM(I27:I28) -> 18 | J29: =SUM(J27:J28) -> 1235 | K29: =SUM(I29:J29) -> 1253
A30: 22 | C30: 5 | D30: Polgármesteri Hivatal felújítási munkák | E30: =F30+G30+K34+L31 -> 3085 | F30: 2350 | G30: 735 | H30: NK
A31: 23 | D31: eredeti előirányzat | J31: 95 | K31: =SUM(I31:J31) -> 95
A32: 24 | D32: módosított előirányzat 3. | J32: 0 | K32: =SUM(I32:J32) -> 0
A33: 25 | D33: módosítás-
A34: 26 | D34: módosított előirányzat 4. | J34: =SUM(J32:J33) -> 0 | K34: =SUM(I34:J34) -> 0
A35: 27 | C35: 6 | D35: Kertészeti felújítások | E35: =F35+G35+K39+L36 -> 28500 | G35: 20000 | H35: NK
A36: 28 | D36: eredeti előirányzat | J36: 8500 | K36: =SUM(I36:J36) -> 8500
A37: 29 | D37: módosított előirányzat 3. | J37: 8500 | K37: =SUM(I37:J37) -> 8500
A38: 30 | D38: módosítás- | K38: =SUM(I38:J38) -> 0
A39: 31 | D39: módosított előirányzat 4. | J39: =SUM(J37:J38) -> 8500 | K39: =SUM(I39:J39) -> 8500
A40: 32 | C40: 7 | D40: Kertvárosi utcák felújítása víziközmű rekonstrukció után | E40: =F40+G40+K44+L41 -> 77497 | F40: 330 | G40: 77167 | H40: NK
A41: 33 | D41: eredeti előirányzat | J41: 25503 | K41: =SUM(I41:J41) -> 25503
A42: 34 | D42: módosított előirányzat 3. | J42: 0 | K42: =SUM(I42:J42) -> 0
A43: 35 | D43: módosítás- átcsoportosítás | K43: =SUM(I43:J43) -> 0
A44: 36 | D44: módosított előirányzat 4. | J44: =SUM(J42:J43) -> 0 | K44: =SUM(I44:J44) -> 0
A45: 37 | C45: 8 | D45: Önkormányzati bérlakások felújítása | E45: =F45+G45+K49+L46 -> 6728 | G45: 6728 | H45: K
A46: 38 | D46: eredeti előirányzat | I46: 300 | J46: 25372 | K46: =SUM(I46:J46) -> 25672
A47: 39 | D47: módosított előirányzat 3. | I47: 0 | J47: 0 | K47: =SUM(I47:J47) -> 0
A48: 40 | D48: módosítás- | K48: =SUM(I48:J48) -> 0
A49: 41 | D49: módosított előirányzat 4. | I49: =SUM(I47:I48) -> 0 | J49: =SUM(J47:J48) -> 0 | K49: =SUM(I49:J49) -> 0
A50: 42 | D50: Veszprémi Vadvirág Körzeti Óvoda | H50: K
A51: 43 | C51: 9 | D51: Elkorhadt nyílászárók cseréje II. ütem | E51: =F51+G51+K55+L52 -> 6929 | G51: 6789
A52: 44 | D52: eredeti előirányzat | J52: 211 | K52: =SUM(I52:J52) -> 211
A53: 45 | D53: módosított előirányzat 3. | J53: 140 | K53: =SUM(I53:J53) -> 140
A54: 46 | D54: módosítás- | K54: =SUM(I54:J54) -> 0
A55: 47 | D55: módosított előirányzat 4. | J55: =SUM(J53:J54) -> 140 | K55: =SUM(I55:J55) -> 140
A56: 48 | D56: Veszprémi Bóbita Körzeti Óvoda | H56: K
A57: 49 | C57: 10 | D57: Árnyékolás két pavilon teraszán | E57: =F57+G57+K61+L58 -> 6265
A58: 50 | D58: eredeti előirányzat | J58: 6300 | K58: =SUM(I58:J58) -> 6300
A59: 51 | D59: módosított előirányzat 3. | J59: 6265 | K59: =SUM(I59:J59) -> 6265
A60: 52 | D60: módosítás- | K60: =SUM(I60:J60) -> 0
A61: 53 | D61: módosított előirányzat 4. | J61: =SUM(J59:J60) -> 6265 | K61: =SUM(I61:J61) -> 6265
A62: 54 | D62: Hársfa Tagóvoda
A63: 55 | C63: 11 | D63: Hátsó épület utólagos vízszigetelése, külső terepszint süllyesztése | E63: =F63+G63+K67+L64 -> 9226 | G63: 7268
A64: 56 | D64: eredeti előirányzat | J64: 2232 | K64: =SUM(I64:J64) -> 2232
A65: 57 | D65: módosított előirányzat 3. | J65: 1958 | K65: =SUM(I65:J65) -> 1958
A66: 58 | D66: módosítás- | K66: =SUM(I66:J66) -> 0
A67: 59 | D67: módosított előirányzat 4. | J67: =SUM(J65:J66) -> 1958 | K67: =SUM(I67:J67) -> 1958
A68: 60 | D68: Veszprémi Ringató Körzeti Óvoda | H68: K
A69: 61 | D69: Erdei Tagóvoda
A70: 62 | C70: 12 | D70: Terasz árnyékolás | E70: =F70+G70+K74+L71 -> 3476
A71: 63 | D71: eredeti előirányzat | J71: 3500 | K71: =SUM(I71:J71) -> 3500
A72: 64 | D72: módosított előirányzat 3. | J72: 3476 | K72: =SUM(I72:J72) -> 3476
A73: 65 | D73: módosítás- | K73: =SUM(I73:J73) -> 0
A74: 66 | D74: módosított előirányzat 4. | J74: =SUM(J72:J73) -> 3476 | K74: =SUM(I74:J74) -> 3476
A75: 67 | D75: Kuckó Tagóvoda
A76: 68 | C76: 13 | D76: Terasz árnyékolás | E76: =F76+G76+K80+L77 -> 9385
A77: 69 | D77: eredeti előirányzat | J77: 9400 | K77: =SUM(I77:J77) -> 9400
A78: 70 | D78: módosított előirányzat 3. | J78: 9385 | K78: =SUM(I78:J78) -> 9385
A79: 71 | D79: módosítás- | K79: =SUM(I79:J79) -> 0
A80: 72 | D80: módosított előirányzat 4. | J80: =SUM(J78:J79) -> 9385 | K80: =SUM(I80:J80) -> 9385
A81: 73 | D81: Veszprémi Egry Úti Körzeti Óvoda | H81: K
A82: 74 | D82: Nárcisz Tagóvoda
A83: 75 | C83: 14 | D83: Ereszcsatorna bővítés, csapadékelvezetés | E83: =F83+G83+K87+L84 -> 1976 | G83: 1231
A84: 76 | D84: eredeti előirányzat | J84: 769 | K84: =SUM(I84:J84) -> 769
A85: 77 | D85: módosított előirányzat 3. | J85: 745 | K85: =SUM(I85:J85) -> 745
A86: 78 | D86: módosítás- | K86: =SUM(I86:J86) -> 0
A87: 79 | D87: módosított előirányzat 4. | J87: =SUM(J85:J86) -> 745 | K87: =SUM(I87:J87) -> 745
A88: 80 | C88: 15 | D88: Burkolat cseréje szélfogóban, folyosón | E88: =F88+G88+K92+L89 -> 4691 | G88: 4551
A89: 81 | D89: eredeti előirányzat | J89: 249 | K89: =SUM(I89:J89) -> 249
A90: 82 | D90: módosított előirányzat 3. | J90: 140 | K90: =SUM(I90:J90) -> 140
A91: 83 | D91: módosítás- | K91: =SUM(I91:J91) -> 0
A92: 84 | D92: módosított előirányzat 4. | J92: =SUM(J90:J91) -> 140 | K92: =SUM(I92:J92) -> 140
A93: 85 | D93: Veszprémi Csillag Úti Körzeti Óvoda | H93: K
A94: 86 | D94: Cholnoky Jenő Tagóvoda
A95: 87 | C95: 16 | D95: Éjszakai áramkör kialakítása | E95: =F95+G95+K99+L96 -> 1163 | G95: 1125
A96: 88 | D96: eredeti előirányzat | J96: 75 | K96: =SUM(I96:J96) -> 75
A97: 89 | D97: módosított előirányzat 3. | J97: 38 | K97: =SUM(I97:J97) -> 38
A98: 90 | D98: módosítás- | K98: =SUM(I98:J98) -> 0
A99: 91 | D99: módosított előirányzat 4. | J99: =SUM(J97:J98) -> 38 | K99: =SUM(I99:J99) -> 38
A100: 92 | C100: 17 | D100: Elektromos hálózat felújítása I. ütem | E100: =F100+G100+K104+L101 -> 0
...

Sheet 8.Projekt
B1: 8. melléklet a 2020. évi költségvetésről szóló 5/2020. (II. 27.) önkormányzati rendelet módosításáról szóló 39/2020. (X.29.) önkormányzati rendelethez
B2: "9. melléklet VMJV Önkormányzata Közgyűlésének 5/2020. (II. 27.) önkormányzati rendeletéhez"
A4: Veszprém Megyei Jogú Város Önkormányzata
A5: Európai Uniós forrásból finanszírozott támogatással megvalósuló programok, projektek 2020. évi költségvetési kiadásainak előirányzata
P6: adatok eFt-ban
B7: A | C7: B | D7: C | E7: D | F7: E | G7: F | H7: G | I7: H | J7: I | K7: J | L7: K | M7: L | N7: M | O7: N | P7: O
B8: Cím | C8: Alcím | D8: Megnevezés | E8: Teljes költség* | F8: Teljesítés 2018. 12.31.-ig* | G8: 2019. évi tény* | H8: Feladatellátás jellege* | I8: 2020. évi előirányzat | P8: 2020. év utáni javaslat
I9: Működési költségvetési kiadások | M9: Felhalmozási költségvetési kiadások | O9: Összesen
I10: Személyi juttatások | J10: Munk.a. terh. Jár. És szoc.hj.adó | K10: Dologi kiadások | L10: Egyéb működési célú kiadások | M10: Beruházási kiadások | N10: Egyéb felhalmozási célú kiadások
A11: 1 | B11: 18 | C11: Veszprém Megyei Jogú Város Önkormányzata
A12: 2 | C12: 1 | D12: TOP-6.2.1-16-VP1-2018-00002 Egry úti óvoda újjáépítése | H12: NK
A13: 3 | D13: eredeti előirányzat | E13: =F13+G13+O16+P16 -> 1119735 | G13: 237 | K13: 1398 | M13: =201554+916546 -> 1118100 | O13: =SUM(I13:N13) -> 1119498
A14: 4 | D14: módosított előirányzat 3. | K14: 1698 | M14: 1117800 | O14: =SUM(I14:N14) -> 1119498
A15: 5 | D15: módosítás- | O15: =SUM(I15:N15) -> 0
A16: 6 | D16: módosított előirányzat 4. | K16: =SUM(K14:K15) -> 1698 | M16: =SUM(M14:M15) -> 1117800 | O16: =SUM(I16:N16) -> 1119498
A17: 7 | C17: 2 | D17: EFOP-1.9.9-17-2017-00004 Még jobb kezekben - Veszprémben | H17: NK
A18: 8 | D18: eredeti előirányzat | E18: =F18+G18+O21+P21 -> 25975 | F18: =6208+6205 -> 12413 | G18: =2345+10041 -> 12386 | I18: 73 | J18: 73 | K18: 509 | O18: =SUM(I18:N18) -> 655
A19: 9 | D19: módosított előirányzat 3. | I19: 74 | J19: 40 | K19: 302 | L19: 760 | O19: =SUM(I19:N19) -> 1176
A20: 10 | D20: módosítás- | O20: =SUM(I20:N20) -> 0
A21: 11 | D21: módosított előirányzat 4. | I21: =SUM(I19:I20) -> 74 | J21: =SUM(J19:J20) -> 40 | K21: =SUM(K19:K20) -> 302 | L21: =SUM(L19:L20) -> 760 | O21: =SUM(I21:N21) -> 1176
A22: 12 | C22: 3 | D22: TOP-6.5.1-16-VP1-2018-00004 Aprófalvi bölcsőde energetikai korszerűsítése | H22: NK
A23: 13 | D23: eredeti előirányzat | E23: =F23+G23+O26+P26 -> 282576 | F23: 6699 | K23: 278 | M23: =52777+222822 -> 275599 | O23: =SUM(I23:N23) -> 275877
A24: 14 | D24: módosított előirányzat 3. | K24: 278 | M24: 275599 | O24: =SUM(I24:N24) -> 275877
A25: 15 | D25: módosítás- | O25: =SUM(I25:N25) -> 0
A26: 16 | D26: módosított előirányzat 4. | K26: =SUM(K24:K25) -> 278 | M26: =SUM(M24:M25) -> 275599 | O26: =SUM(I26:N26) -> 275877
A27: 17 | C27: 4 | D27: TOP-6.6.1-16-VP1-2017-00002 Kádártai rendelő kialakítása | H27: NK
A28: 18 | D28: eredeti előirányzat | E28: =F28+G28+O31+P31 -> 66636 | F28: 143 | G28: =196+62988+1540 -> 64724 | K28: 61 | M28: 1708 | O28: =SUM(I28:N28) -> 1769
A29: 19 | D29: módosított előirányzat 3. | K29: 61 | M29: 1708 | O29: =SUM(I29:N29) -> 1769
A30: 20 | D30: módosítás- | O30: =SUM(I30:N30) -> 0
A31: 21 | D31: módosított előirányzat 4. | K31: =SUM(K29:K30) -> 61 | M31: =SUM(M29:M30) -> 1708 | O31: =SUM(I31:N31) -> 1769
A32: 22 | C32: 5 | D32: TOP-6.5.1-16-VP1-2018-00002 Völgyikút utca 2. szám alatti épület energetikai megújítása | H32: NK
A33: 23 | D33: eredeti előirányzat | E33: =F33+G33+O36+P36+3250-134273 -> 175747 | F33: 6541 | K33: 382 | M33: =34933+130641 -> 165574 | O33: =SUM(I33:N33) -> 165956
A34: 24 | D34: módosított előirányzat 3. | K34: 382 | M34: 165574 | O34: =SUM(I34:N34) -> 165956
A35: 25 | D35: módosítás- projetk előleg visszautalása az Államkincstárnak | L35: 3632 | N35: 130641 | O35: =SUM(I35:N35) -> 134273
A36: 26 | D36: módosított előirányzat 4. | K36: =SUM(K34:K35) -> 382 | L36: =SUM(L34:L35) -> 3632 | M36: =SUM(M34:M35) -> 165574 | N36: =SUM(N34:N35) -> 130641 | O36: =SUM(I36:N36) -> 300229
A37: 27 | C37: 6 | D37: TOP-6.6.1-16-VP1-2018-00004 Vilonyai utca 2/B szám alatti orvosi rendelő megújítása | H37: NK
A38: 28 | D38: eredeti előirányzat | E38: =F38+G38+O41+P41 -> 50792 | F38: 1956 | K38: 270 | M38: =7068+41498 -> 48566 | O38: =SUM(I38:N38) -> 48836
A39: 29 | D39: módosított előirányzat 3. | K39: 270 | M39: 48566 | O39: =SUM(I39:N39) -> 48836
A40: 30 | D40: módosítás- | O40: =SUM(I40:N40) -> 0
A41: 31 | D41: módosított előirányzat 4. | K41: =SUM(K39:K40) -> 270 | M41: =SUM(M39:M40) -> 48566 | O41: =SUM(I41:N41) -> 48836
A42: 32 | C42: 7 | D42: TOP-6.6.1-16-VP1-2018-00005 Ördögárok u. 5. szám alatti orvosi rendelő megújítása | H42: NK
A43: 33 | D43: eredeti előirányzat | E43: =F43+G43+O46+P46 -> 93009 | F43: 2459 | K43: 270 | M43: =37058+53222 -> 90280 | O43: =SUM(I43:N43) -> 90550
A44: 34 | D44: módosított előirányzat 3. | K44: 270 | M44: 90280 | O44: =SUM(I44:N44) -> 90550
A45: 35 | D45: módosítás- | O45: =SUM(I45:N45) -> 0
A46: 36 | D46: módosított előirányzat 4. | K46: =SUM(K44:K45) -> 270 | M46: =SUM(M44:M45) -> 90280 | O46: =SUM(I46:N46) -> 90550
A47: 37 | C47: 8 | D47: TOP-6.6.1-16-VP1 Jutasi u. 59. sz. alatti rendelő megújítása | H47: NK
A48: 38 | D48: eredeti előirányzat | E48: =F48+G48+O51+P51 -> 72672 | F48: 4926 | G48: =120+67252+329 -> 67701 | K48: 45 | O48: =SUM(I48:N48) -> 45
A49: 39 | D49: módosított előirányzat 3. | K49: 0 | L49: 45 | O49: =SUM(I49:N49) -> 45
A50: 40 | D50: módosítás- | O50: =SUM(I50:N50) -> 0
A51: 41 | D51: módosított előirányzat 4. | K51: =SUM(K49:K50) -> 0 | L51: =SUM(L49:L50) -> 45 | O51: =SUM(I51:N51) -> 45
A52: 42 | C52: 9 | D52: TOP-6.2.1-16-VP1-2018-00001 A Veszprémi Bölcsődei és Egészségügyi Alapellátási Integrált Intézmény Módszertani Bölcsődéje megújítása, illetve bölcsődei eszközbeszerzések | H52: NK
A53: 43 | D53: eredeti előirányzat | E53: =F53+G53+O56+P56 -> 91960 | F53: 4834 | G53: 40 | K53: 395 | M53: =760+194617 -> 195377 | O53: =SUM(I53:N53) -> 195772
A54: 44 | D54: módosított előirányzat 3. | K54: 0 | L54: 435 | M54: 0 | N54: 86651 | O54: =SUM(I54:N54) -> 87086
A55: 45 | D55: módosítás- | O55: =SUM(I55:N55) -> 0
A56: 46 | D56: módosított előirányzat 4. | K56: =SUM(K54:K55) -> 0 | L56: =SUM(L54:L55) -> 435 | M56: =SUM(M54:M55) -> 0 | N56: =SUM(N54:N55) -> 86651 | O56: =SUM(I56:N56) -> 87086
A57: 47 | C57: 10 | D57: TOP-6.5.1-16-VP1-2018-00006 Módszertani bölcsőde energetikai megújítása | H57: NK
A58: 48 | D58: eredeti előirányzat | E58: =F58+G58+O61+P61 -> 334981 | F58: 6401 | G58: 100 | K58: 278 | M58: =29875+298327 -> 328202 | O58: =SUM(I58:N58) -> 328480
A59: 49 | D59: módosított előirányzat 3. | K59: 278 | M59: 328202 | O59: =SUM(I59:N59) -> 328480
A60: 50 | D60: módosítás- | O60: =SUM(I60:N60) -> 0
A61: 51 | D61: módosított előirányzat 4. | K61: =SUM(K59:K60) -> 278 | M61: =SUM(M59:M60) -> 328202 | O61: =SUM(I61:N61) -> 328480
A62: 52 | C62: 11 | D62: TOP-6.1.5-16-VP1-2017-00001 Északi Iparterület Közlekedés-fejlesztése | H62: NK
A63: 53 | D63: eredeti előirányzat | E63: =F63+G63+O66+P66 -> 3597000 | F63: 450951 | G63: =1230725+544 -> 1231269 | K63: 1422 | M63: =294000+1619358 -> 1913358 | O63: =SUM(I63:N63) -> 1914780
A64: 54 | D64: módosított előirányzat 3. | K64: 1422 | M64: 1913358 | O64: =SUM(I64:N64) -> 1914780
A65: 55 | D65: módosítás- | O65: =SUM(I65:N65) -> 0
A66: 56 | D66: módosított előirányzat 4. | K66: =SUM(K64:K65) -> 1422 | M66: =SUM(M64:M65) -> 1913358 | O66: =SUM(I66:N66) -> 1914780
A67: 57 | C67: 12 | D67: TOP-6.4.1-16-VP1-17-00001 Szabadságpuszta településrész és Felsőörs Község közötti kerékpárút beruházása | H67: NK
A68: 58 | D68: eredeti előirányzat | E68: =F68+G68+O71+P71+6000 -> 240000 | F68: 9749 | G68: =2883+952 -> 3835 | K68: 3015 | M68: =12000+205401 -> 217401 | O68: =SUM(I68:N68) -> 220416
A69: 59 | D69: módosított előirányzat 3. | K69: 3015 | M69: 217401 | O69: =SUM(I69:N69) -> 220416
A70: 60 | D70: módosítás- | O70: =SUM(I70:N70) -> 0
A71: 61 | D71: módosított előirányzat 4. | K71: =SUM(K69:K70) -> 3015 | M71: =SUM(M69:M70) -> 217401 | O71: =SUM(I71:N71) -> 220416
A72: 62 | C72: 13 | D72: TOP-6.4.1-16-VP1-2018-00002 Márkó-Bánd települések irányába kerékpárút építése | H72: NK
A73: 63 | D73: eredeti előirányzat | E73: =F73+G73+O76+P76+12000 -> 501600 | F73: 326 | G73: =16713+414 -> 17127 | K73: 9860 | M73: 462287 | O73: =SUM(I73:N73) -> 472147
A74: 64 | D74: módosított előirányzat 3. | K74: 9860 | M74: 462287 | O74: =SUM(I74:N74) -> 472147
A75: 65 | D75: módosítás- | O75: =SUM(I75:N75) -> 0
A76: 66 | D76: módosított előirányzat 4. | K76: =SUM(K74:K75) -> 9860 | M76: =SUM(M74:M75) -> 462287 | O76: =SUM(I76:N76) -> 472147
A77: 67 | C77: 14 | D77: TOP-6.4.1-15-VP1-2016-00001"Közlekedésbiztonsági és kerékpárosbarát fejlesztések megvalósulása Veszprém város területén" | H77: NK
A78: 68 | D78: eredeti előirányzat | E78: =F78+G78+O81+P81 -> 1147594 | F78: =25062+32060+393153 -> 450275 | G78: =682686+5740+11 -> 688437 | K78: 8968 | O78: =SUM(I78:N78) -> 8968
A79: 69 | D79: módosított előirányzat 3. | K79: 8882 | O79: =SUM(I79:N79) -> 8882
A80: 70 | D80: módosítás- átcsoportosítás | O80: =SUM(I80:N80) -> 0
A81: 71 | D81: módosított előirányzat 4. | K81: =SUM(K79:K80) -> 8882 | O81: =SUM(I81:N81) -> 8882
A82: 72 | C82: 15 | D82: TOP-6.4.1-16 Kerékpárút és kerékpárforgalmi létesítmények építése Veszprém-Gyulafirátót | H82: NK
A83: 73 | D83: eredeti előirányzat | E83: =F83+G83+O86+P86 -> 906000 | M83: 906000 | O83: =SUM(I83:N83) -> 906000
A84: 74 | D84: módosított előirányzat 3. | M84: 906000 | O84: =SUM(I84:N84) -> 906000
A85: 75 | D85: módosítás- | O85: =SUM(I85:N85) -> 0
A86: 76 | D86: módosított előirányzat 4. | M86: =SUM(M84:M85) -> 906000 | O86: =SUM(I86:N86) -> 906000
A87: 77 | C87: 16 | D87: TOP-6.3.3-16-VP1-2017-00001 Dózsaváros, Pápai úti csapadékvíz-elvezető rendszer fejlesztése | H87: NK
A88: 78 | D88: eredeti előirányzat | E88: =F88+G88+O91+P91+5962 -> 300876 | F88: 4460 | G88: =264851+2602 -> 267453 | K88: 1087 | M88: 21914 | O88: =SUM(I88:N88) -> 23001
A89: 79 | D89: módosított előirányzat 3. | K89: 1087 | M89: 21914 | O89: =SUM(I89:N89) -> 23001
A90: 80 | D90: módosítás- | O90: =SUM(I90:N90) -> 0
A91: 81 | D91: módosított előirányzat 4. | K91: =SUM(K89:K90) -> 1087 | M91: =SUM(M89:M90) -> 21914 | O91: =SUM(I91:N91) -> 23001
A92: 82 | C92: 17 | D92: TOP-6.5.1-16-VP1-2018-00005 - Március 15. utcai Sportcsarnok és Uszoda energetikai megújítása | H92: NK
A93: 83 | D93: eredeti előirányzat | E93: =F93+G93+O96+P96+13852 -> 835027 | F93: 6414 | G93: =26646 -> 26646 | K93: 10750 | M93: =41400+730453 -> 771853 | O93: =SUM(I93:N93) -> 782603
A94: 84 | D94: módosított előirányzat 3. | K94: 10750 | M94: 771853 | O94: =SUM(I94:N94) -> 782603
A95: 85 | D95: módosítás- projekt visszaadása | K95: -10750 | L95: 24602 | M95: -771853 | N95: 763513 | O95: =SUM(I95:N95) -> 5512
A96: 86 | D96: módosított előirányzat 4. | K96: =SUM(K94:K95) -> 0 | L96: =SUM(L94:L95) -> 24602 | M96: =SUM(M94:M95) -> 0 | N96: =SUM(N94:N95) -> 763513 | O96: =SUM(I96:N96) -> 788115
A97: 87 | C97: 18 | D97: TOP-6.5-1-19 Laczkó Dezső Múzeum energetikai megújítása | H97: NK
A98: 88 | D98: eredeti előirányzat | E98: =F98+G98+O101+P101 -> 390564 | M98: 390564 | O98: =SUM(I98:N98) -> 390564
A99: 89 | D99: módosított előirányzat 3. | M99: 390564 | O99: =SUM(I99:N99) -> 390564
A100: 90 | D100: módosítás- | O100: =SUM(I100:N100) -> 0
A101: 91 | D101: módosított előirányzat 4. | M101: =SUM(M99:M100) -> 390564 | O101: =SUM(I101:N101) -> 390564
...

Sheet 10.MVP és hazai
A1: 10. melléklet a .../2020. (…….) önkormányzati rendelethez
A2: Veszprém Megyei Jogú Város Önkormányzata
A3: Modern Városok Program és más hazai finanszírozásból megvalósuló feladatok 2020. évi költségvetési kiadásainak előirányzata -2020 október
P4: adatok eFt-ban
B5: A | C5: B | D5: C | E5: D | F5: E | G5: F | H5: G | I5: H | J5: I | K5: J | L5: K | M5: L | N5: M | O5: N | P5: O
B6: Cím | C6: Alcím | D6: Megnevezés | E6: Teljes költség* | F6: Teljesítés 2018. 12.31.-ig** | G6: 2019. évi tény* | H6: Feladatellátás jellege* | I6: 2020. évi előirányzat | P6: 2020. év utáni javaslat
I7: Működési költségvetési kiadások | M7: Felhalmozási költségvetési kiadások | O7: Összesen
I8: Személyi juttatások | J8: Munk.a. terh. Jár. És szoc.hj.adó | K8: Dologi kiadások | L8: Egyéb működési célú kiadások | M8: Beruházási kiadások | N8: Egyéb felhalmozási célú kiadások
A9: 1 | B9: 18 | C9: Veszprém Megyei Jogú Város Önkormányzata
A10: 2 | C10: 1 | D10: Iparos Park | H10: NK
A11: 3 | D11: eredeti előirányzat | E11: =F11+G11+O14+P11 -> 8822998 | G11: =106200 -> 106200 | K11: 34384 | M11: 694452 | O11: =SUM(I11:N11) -> 728836 | P11: 4397322
A12: 4 | D12: módosított előirányzat 3. | K12: 97709 | M12: 4221767 | O12: =SUM(I12:N12) -> 4319476
A13: 5 | D13: módosítás- | O13: =SUM(I13:N13) -> 0
A14: 6 | D14: módosított előirányzat 4. | K14: =SUM(K12:K13) -> 97709 | M14: =SUM(M12:M13) -> 4221767 | O14: =SUM(I14:N14) -> 4319476
A15: 7 | C15: 2 | D15: Veszprémi Petőfi Színház komplex fejlesztése | H15: NK
A16: 8 | D16: eredeti előirányzat | E16: =F16+G16+O19+P16 -> 14460580 | F16: 324476 | G16: =2834+481562 -> 484396 | K16: 499 | M16: 3870629 | O16: =SUM(I16:N16) -> 3871128 | P16: 9780580
A17: 9 | D17: módosított előirányzat 3. | K17: 5715 | M17: 3865413 | O17: =SUM(I17:N17) -> 3871128
A18: 10 | D18: módosítás- | O18: =SUM(I18:N18) -> 0
A19: 11 | D19: módosított előirányzat 4. | K19: =SUM(K17:K18) -> 5715 | M19: =SUM(M17:M18) -> 3865413 | O19: =SUM(I19:N19) -> 3871128
A20: 12 | C20: 3 | D20: Kittenberger Kálmán Növény- és Vadaspark fejlesztése és bővítése | H20: NK
A21: 13 | D21: eredeti előirányzat | E21: =F21+G21+O24+P21 -> 1793189 | F21: 1281902 | G21: =1692 -> 1692 | K21: 658 | M21: =371256+137681 -> 508937 | O21: =SUM(I21:N21) -> 509595
A22: 14 | D22: módosított előirányzat 3. | K22: 658 | M22: 508937 | O22: =SUM(I22:N22) -> 509595
A23: 15 | D23: módosítás- | O23: =SUM(I23:N23) -> 0
A24: 16 | D24: módosított előirányzat 4. | K24: =SUM(K22:K23) -> 658 | M24: =SUM(M22:M23) -> 508937 | O24: =SUM(I24:N24) -> 509595
A25: 17 | C25: 4 | D25: Veszprémi Zeneművészeti Szakgimnázium és Alapfokú Művészeti Iskola intézményegysége, a Csermák Antal Zeneiskola felújításának megvalósítása | H25: NK
A26: 18 | D26: eredeti előirányzat | E26: =F26+G26+O29+P26 -> 1658925 | F26: 7043 | G26: =15189+980 -> 16169 | M26: =78617+738788 -> 817405 | O26: =SUM(I26:N26) -> 817405 | P26: =818308 -> 818308
A27: 19 | D27: módosított előirányzat 3. | K27: 15710 | M27: =817405-15710 -> 801695 | O27: =SUM(I27:N27) -> 817405
A28: 20 | D28: módosítás- | O28: =SUM(I28:N28) -> 0
A29: 21 | D29: módosított előirányzat 4. | K29: =SUM(K27:K28) -> 15710 | M29: =SUM(M27:M28) -> 801695 | O29: =SUM(I29:N29) -> 817405
A30: 22 | C30: 5 | D30: Veszprémi új Városi Jégcsarnok építése | H30: NK
A31: 23 | D31: eredeti előirányzat | E31: =F31+G31+O34+P31 -> 76282 | F31: 10737 | G31: 25052 | N31: 40493 | O31: =SUM(I31:N31) -> 40493
A32: 24 | D32: módosított előirányzat 3. | N32: 40493 | O32: =SUM(I32:N32) -> 40493
A33: 25 | D33: módosítás- | O33: =SUM(I33:N33) -> 0
A34: 26 | D34: módosított előirányzat 4. | N34: =SUM(N32:N33) -> 40493 | O34: =SUM(I34:N34) -> 40493
A35: 27 | C35: 6 | D35: Veszprémi Atlétikai Stadion felújítása - I. ütem (BMSK) | H35: NK
A36: 28 | D36: eredeti előirányzat | E36: =F36+G36+O39+P36 -> 250000 | K36: 500 | M36: 249500 | O36: =SUM(I36:N36) -> 250000
A37: 29 | D37: módosított előirányzat 3. | K37: 500 | M37: 249500 | O37: =SUM(I37:N37) -> 250000
A38: 30 | D38: módosítás- | O38: =SUM(I38:N38) -> 0
A39: 31 | D39: módosított előirányzat 4. | K39: =SUM(K37:K38) -> 500 | M39: =SUM(M37:M38) -> 249500 | O39: =SUM(I39:N39) -> 250000
A40: 32 | C40: 7 | D40: Veszprémi Atlétikai Stadion komplex megújítás (tornász gyakorló csarnok) - I. ütem | H40: NK
A41: 33 | D41: eredeti előirányzat | E41: =F41+G41+O44+P41 -> 957296 | G41: 820 | M41: 360738 | O41: =SUM(I41:N41) -> 360738 | P41: =611414-7838-603576 -> 0
A42: 34 | D42: módosított előirányzat 3. | K42: 676 | M42: 955800 | O42: =SUM(I42:N42) -> 956476
A43: 35 | D43: módosítás- | O43: =SUM(I43:N43) -> 0
A44: 36 | D44: módosított előirányzat 4. | K44: =SUM(K42:K43) -> 676 | M44: =SUM(M42:M43) -> 955800 | O44: =SUM(I44:N44) -> 956476
A45: 37 | C45: 8 | D45: Sportterület közmű-, út infrastruktúra fejlesztés | H45: NK
A46: 38 | D46: eredeti előirányzat | E46: =F46+G46+O49+P46 -> 3901162 | M46: 981338 | O46: =SUM(I46:N46) -> 981338 | P46: 2919824
A47: 39 | D47: módosított előirányzat 3. | M47: 981338 | O47: =SUM(I47:N47) -> 981338
A48: 40 | D48: módosítás- | O48: =SUM(I48:N48) -> 0
A49: 41 | D49: módosított előirányzat 4. | M49: =SUM(M47:M48) -> 981338 | O49: =SUM(I49:N49) -> 981338
A50: 42 | C50: 9 | D50: MVP feladatok előkészítés költségei | H50: NK
A51: 43 | D51: eredeti előirányzat | E51: =F51+G51+O54+P51 -> 3095 | K51: =5000-1905 -> 3095 | O51: =SUM(I51:N51) -> 3095
A52: 44 | D52: módosított előirányzat 3. | K52: 3095 | O52: =SUM(I52:N52) -> 3095
A53: 45 | D53: módosítás- | O53: =SUM(I53:N53) -> 0
A54: 46 | D54: módosított előirányzat 4. | K54: =SUM(K52:K53) -> 3095 | O54: =SUM(I54:N54) -> 3095
A55: 47 | C55: 10 | D55: Kelet-nyugati gyűjtőút zajvédő létesítmény tervezése | H55: NK
A56: 48 | D56: eredeti előirányzat | E56: =F56+G56+O59+P56 -> 1905 | M56: 1905 | O56: =SUM(I56:N56) -> 1905
A57: 49 | D57: módosított előirányzat 3. | M57: 1905 | O57: =SUM(I57:N57) -> 1905
A58: 50 | D58: módosítás- | O58: =SUM(I58:N58) -> 0
A59: 51 | D59: módosított előirányzat 4. | M59: =SUM(M57:M58) -> 1905 | O59: =SUM(I59:N59) -> 1905
A60: 52 | C60: 11 | D60: Aszfalt burkolatok, útlapok és makadám burkolatok, földmunkák | H60: NK
A61: 53 | D61: eredeti előirányzat | E61: =F61+G61+O64+P61 -> 3755 | M61: 3755 | O61: =SUM(I61:N61) -> 3755
A62: 54 | D62: módosított előirányzat 3. | M62: 3755 | O62: =SUM(I62:N62) -> 3755
A63: 55 | D63: módosítás- | O63: =SUM(I63:N63) -> 0
A64: 56 | D64: módosított előirányzat 4. | M64: =SUM(M62:M63) -> 3755 | O64: =SUM(I64:N64) -> 3755
A65: 57 | C65: 12 | D65: Járásszékhely múzeumok szakmai támogatása | H65: NK
A66: 58 | D66: eredeti előirányzat | E66: =F66+G66+O69+P66 -> 3979 | K66: 79 | M66: 3900 | O66: =SUM(I66:N66) -> 3979
A67: 59 | D67: módosított előirányzat 3. | K67: 79 | M67: 3900 | O67: =SUM(I67:N67) -> 3979
A68: 60 | D68: módosítás- | O68: =SUM(I68:N68) -> 0
A69: 61 | D69: módosított előirányzat 4. | K69: =SUM(K67:K68) -> 79 | M69: =SUM(M67:M68) -> 3900 | O69: =SUM(I69:N69) -> 3979
A70: 62 | C70: 13 | D70: Kubinyi Ágoston program | H70: NK
A71: 63 | D71: eredeti előirányzat | E71: =F71+G71+O74+P71 -> 2000 | M71: 2000 | O71: =SUM(I71:N71) -> 2000
A72: 64 | D72: módosított előirányzat 3. | M72: 2000 | O72: =SUM(I72:N72) -> 2000
A73: 65 | D73: módosítás- | O73: =SUM(I73:N73) -> 0
A74: 66 | D74: módosított előirányzat 4. | M74: =SUM(M72:M73) -> 2000 | O74: =SUM(I74:N74) -> 2000
A75: 67 | B75: MINDÖSSZESEN:
A76: 68 | D76: eredeti előirányzat | I76: =I71+I66+I61+I56+I51+I46+I41+I36+I31+I26+I21+I16+I11 -> 0 | J76: =J71+J66+J61+J56+J51+J46+J41+J36+J31+J26+J21+J16+J11 -> 0 | K76: =K71+K66+K61+K56+K51+K46+K41+K36+K31+K26+K21+K16+K11 -> 39215 | L76: =L71+L66+L61+L56+L51+L46+L41+L36+L31+L26+L21+L16+L11 -> 0 | M76: =M71+M66+M61+M56+M51+M46+M41+M36+M31+M26+M21+M16+M11 -> 7494559 | N76: =N71+N66+N61+N56+N51+N46+N41+N36+N31+N26+N21+N16+N11 -> 40493 | O76: =O71+O66+O61+O56+O51+O46+O41+O36+O31+O26+O21+O16+O11 -> 7574267 | P76: =SUM(P9:P75) -> 17916034
A77: 69 | D77: módosított előirányzat 3. | I77: =I72+I67+I62+I57+I52+I47+I42+I37+I32+I27+I22+I17+I12 -> 0 | J77: =J72+J67+J62+J57+J52+J47+J42+J37+J32+J27+J22+J17+J12 -> 0 | K77: =K72+K67+K62+K57+K52+K47+K42+K37+K32+K27+K22+K17+K12 -> 124142 | L77: =L72+L67+L62+L57+L52+L47+L42+L37+L32+L27+L22+L17+L12 -> 0 | M77: =M72+M67+M62+M57+M52+M47+M42+M37+M32+M27+M22+M17+M12 -> 11596010 | N77: =N72+N67+N62+N57+N52+N47+N42+N37+N32+N27+N22+N17+N12 -> 40493 | O77: =O72+O67+O62+O57+O52+O47+O42+O37+O32+O27+O22+O17+O12 -> 11760645
A78: 70 | D78: módosítás- | I78: =I73+I68+I63+I58+I53+I48+I43+I38+I33+I28+I23+I18+I13 -> 0 | J78: =J73+J68+J63+J58+J53+J48+J43+J38+J33+J28+J23+J18+J13 -> 0 | K78: =K73+K68+K63+K58+K53+K48+K43+K38+K33+K28+K23+K18+K13 -> 0 | L78: =L73+L68+L63+L58+L53+L48+L43+L38+L33+L28+L23+L18+L13 -> 0 | M78: =M73+M68+M63+M58+M53+M48+M43+M38+M33+M28+M23+M18+M13 -> 0 | N78: =N73+N68+N63+N58+N53+N48+N43+N38+N33+N28+N23+N18+N13 -> 0 | O78: =I78+J78+K78+L78+M78+N78 -> 0
A79: 71 | D79: módosított előirányzat 4. | I79: =SUM(I77:I78) -> 0 | J79: =SUM(J77:J78) -> 0 | K79: =SUM(K77:K78) -> 124142 | L79: =SUM(L77:L78) -> 0 | M79: =SUM(M77:M78) -> 11596010 | N79: =SUM(N77:N78) -> 40493 | O79: =SUM(O77:O78) -> 11760645
B80: * Feladatellátás jellege:
B81: K= Magyarország helyi önkormányzatairól szóló 2011. évi CLXXXIX. törvény 13. § (1) bekezdése szerinti kötelező feladatok
B82: NK= Önkormányzat által önként vállalt feladatok
B83: **Az intézményeknél kimutatott adatokat is tartalmazza

Sheet 9.EKF
B1: 9. melléklet a 2020. évi költségvetésről szóló 5/2020. (II. 27.) önkormányzati rendelet módosításáról szóló 39/2020. (X.29.) önkormányzati rendelethez
B2: "11. melléklet VMJV Önkormányzata Közgyűlésének 5/2020. (II. 27.) önkormányzati rendeletéhez"
A4: Veszprém Megyei Jogú Város Önkormányzata
A5: Európa Kulturális Főváros 2020. évi költségvetési kiadásainak előirányzatai
Q6: adatok eFt-ban
B7: A | C7: B | D7: C | E7: D | F7: E | G7: F | H7: G | I7: H | J7: I | K7: J | L7: K | M7: L | N7: M | O7: N | P7: O | Q7: P
B8: Cím | C8: Alcím | D8: Megnevezés | E8: Teljes költség* | F8: Teljesítés 2018. 12.31.-ig** | G8: 2019. évi tény* | H8: Feladatellátás jellege* | I8: 2020. évi előirányzat | Q8: 2020. év utáni javaslat
I9: Működési költségvetési kiadások | M9: Felhalmozási költségvetési kiadások | P9: Összesen
I10: Személyi juttatások | J10: Munk.a. terh. Jár. És szoc.hj.adó | K10: Dologi kiadások | L10: Egyéb működési célú kiadások | M10: Beruházási kiadások | N10: Felújítási kiadások | O10: Egyéb felhalmozási célú kiadások
A11: 1 | B11: 18 | C11: Veszprém Megyei Jogú Város Önkormányzata
A12: 2 | C12: 1 | D12: Európa Kulturális Fővárosa I. ütem | H12: NK
A13: 3 | D13: Működési kiadások
A14: 4 | D14: eredeti előirányzat | E14: =F14+G14+P19+2261 -> 338971 | G14: =50667+10996+4445+8177+635-1891 -> 73029 | I14: 1000 | J14: 500 | K14: =320196-4230-1500 -> 314466 | P14: =SUM(I14:O14) -> 315966
A15: 5 | D15: módosított előirányzat 3. | I15: 1000 | J15: 500 | K15: 258850 | P15: =SUM(I15:O15) -> 260350
A16: 6 | D16: módosítás- átcsoportosítás | I16: -1000 | J16: -500 | K16: 1500 | P16: =SUM(I16:O16) -> 0
A17: 7 | D17: átcsoportosítás | K17: 1222 | P17: =SUM(I17:O17) -> 1222
A18: 8 | D18: átcsoportosítás | K18: 609 | L18: 350 | O18: 1150 | P18: =SUM(I18:O18) -> 2109
A19: 9 | D19: módosított előirányzat 4. | I19: =SUM(I15:I18) -> 0 | J19: =SUM(J15:J18) -> 0 | K19: =SUM(K15:K18) -> 262181 | L19: =SUM(L15:L18) -> 350 | O19: =SUM(O15:O18) -> 1150 | P19: =SUM(P15:P18) -> 263681
A20: 10 | D20: Felhalmozási kiadások
A21: 11 | D21: Dózsa György u. 2sz. Alatti épület felújítása (tervezés-előkészítés)
A22: 12 | D22: eredeti előirányzat | E22: =F22+G22+P25 -> 0 | N22: 68500 | P22: =SUM(I22:O22) -> 68500
A23: 13 | D23: módosított előirányzat 3. | N23: 0 | P23: =SUM(I23:O23) -> 0
A24: 14 | D24: módosítás- | P24: =SUM(I24:O24) -> 0
A25: 15 | D25: módosított előirányzat 4. | N25: =SUM(N23:N24) -> 0 | P25: =SUM(I25:O25) -> 0
A26: 16 | D26: Európa Kulturális Fővárosa beruházási feladatok (tervezés-előkészítés)
A27: 17 | D27: eredeti előirányzat | E27: =F27+G27+P30 -> 0 | M27: 38500 | P27: =SUM(I27:O27) -> 38500
A28: 18 | D28: módosított előirányzat 3. | M28: 0 | P28: =SUM(I28:O28) -> 0
A29: 19 | D29: módosítás- | P29: =SUM(I29:O29) -> 0
A30: 20 | D30: módosított előirányzat 4. | M30: =SUM(M28:M29) -> 0 | P30: =SUM(I30:O30) -> 0
A31: 21 | D31: Európa Kulturális Fővárosa I. ütem - nem elszámolható költségek
A32: 22 | D32: eredeti előirányzat | E32: =F32+G32+P36 -> 4012 | G32: 1891 | K32: 4230 | P32: =SUM(I32:O32) -> 4230
A33: 23 | D33: módosított előirányzat 3. | K33: 4230 | P33: =SUM(I33:O33) -> 4230
A34: 24 | D34: módosítás- átcsoportosítás | K34: -609 | P34: =SUM(I34:O34) -> -609
A35: 25 | D35: átcsoportosítás | K35: -1500 | P35: =SUM(I35:O35) -> -1500
A36: 26 | D36: módosított előirányzat 4. | K36: =SUM(K33:K35) -> 2121 | P36: =SUM(I36:O36) -> 2121
A37: 27 | D37: SMART Veszprém alapinfrastruktúra I.
A38: 28 | D38: módosított előirányzat 3. | E38: =F38+G38+P40 -> 45022 | M38: 45022 | P38: =SUM(I38:O38) -> 45022
A39: 29 | D39: módosítás- | P39: =SUM(I39:O39) -> 0
A40: 30 | D40: módosított előirányzat 4. | M40: =SUM(M38:M39) -> 45022 | P40: =SUM(I40:O40) -> 45022
A41: 31 | D41: Kulturális negyed tervezése II. ütem - Pannon Egyetem Campus
A42: 32 | D42: módosított előirányzat 3. | E42: =F42+G42+P44 -> 86233 | M42: 86233 | P42: =SUM(I42:O42) -> 86233
A43: 33 | D43: módosítás- | P43: =SUM(I43:O43) -> 0
A44: 34 | D44: módosított előirányzat 4. | M44: =SUM(M42:M43) -> 86233 | P44: =SUM(I44:O44) -> 86233
A45: 35 | D45: Vár, Jókai utca 8.
A46: 36 | D46: módosított előirányzat 3. | E46: =F46+G46+P48 -> 4328 | M46: 4328 | P46: =SUM(I46:O46) -> 4328
A47: 37 | D47: módosítás- | P47: =SUM(I47:O47) -> 0
A48: 38 | D48: módosított előirányzat 4. | M48: =SUM(M46:M47) -> 4328 | P48: =SUM(I48:O48) -> 4328
A49: 39 | D49: Vár FutureLabs, Vár utca 17.
A50: 40 | D50: módosított előirányzat 3. | E50: =F50+G50+P52 -> 3021 | M50: 3021 | P50: =SUM(I50:O50) -> 3021
A51: 41 | D51: módosítás- átcsoportosítás | P51: =SUM(I51:O51) -> 0
A52: 42 | D52: módosított előirányzat 4. | M52: =SUM(M50:M51) -> 3021 | P52: =SUM(I52:O52) -> 3021
A53: 43 | D53: Vár, Óváros tér, Vár utca fejlesztései
A54: 44 | D54: módosított előirányzat 3. | E54: =F54+G54+P56 -> 1397 | M54: 1397 | P54: =SUM(I54:O54) -> 1397
A55: 45 | D55: módosítás- | P55: =SUM(I55:O55) -> 0
A56: 46 | D56: módosított előirányzat 4. | M56: =SUM(M54:M55) -> 1397 | P56: =SUM(I56:O56) -> 1397
A57: 47 | D57: Haszkovó lakótelep fejlesztései
A58: 48 | D58: módosított előirányzat 3. | E58: =F58+G58+P60 -> 6096 | M58: 7318 | P58: =SUM(I58:O58) -> 7318
A59: 49 | D59: módosítás- átcsoportosítás | M59: -1222 | P59: =SUM(I59:O59) -> -1222
A60: 50 | D60: módosított előirányzat 4. | M60: =SUM(M58:M59) -> 6096 | P60: =SUM(I60:O60) -> 6096
A61: 51 | D61: SÉD-völgy Kolostorok és kertek I. ütem
A62: 52 | D62: módosított előirányzat 3. | E62: =F62+G62+P64 -> 1016 | M62: 1016 | P62: =SUM(I62:O62) -> 1016
A63: 53 | D63: módosítás- | P63: =SUM(I63:O63) -> 0
A64: 54 | D64: módosított előirányzat 4. | M64: =SUM(M62:M63) -> 1016 | P64: =SUM(I64:O64) -> 1016
A65: 55 | D65: Buszpályaudvar
A66: 56 | D66: módosított előirányzat 3. | E66: =F66+G66+P68 -> 1206 | M66: 1206 | P66: =SUM(I66:O66) -> 1206
A67: 57 | D67: módosítás- | P67: =SUM(I67:O67) -> 0
A68: 58 | D68: módosított előirányzat 4. | M68: =SUM(M66:M67) -> 1206 | P68: =SUM(I68:O68) -> 1206
A69: 59 | D69: Kossuth utca fejlesztései
A70: 60 | D70: módosított előirányzat 3. | E70: =F70+G70+P72 -> 502 | M70: 502 | P70: =SUM(I70:O70) -> 502
A71: 61 | D71: módosítás- | P71: =SUM(I71:O71) -> 0
A72: 62 | D72: módosított előirányzat 4. | M72: =SUM(M70:M71) -> 502 | P72: =SUM(I72:O72) -> 502
A73: 63 | D73: Átfogó infrastruktúra fejlesztés Megvalósíthatósági Tanulmány
A74: 64 | D74: módosított előirányzat 3. | E74: =F74+G74+P76 -> 12573 | M74: 12573 | P74: =SUM(I74:O74) -> 12573
A75: 65 | D75: módosítás- | P75: =SUM(I75:O75) -> 0
A76: 66 | D76: módosított előirányzat 4. | M76: =SUM(M74:M75) -> 12573 | P76: =SUM(I76:O76) -> 12573
A77: 67 | D77: I. ütem összesen | E77: =E32+E27+E22+E14+E42+E46+E50+E54+E58+E62+E66+E70+E74+E38 -> 504377 | F77: =F32+F27+F22+F14+F13 -> 0 | G77: =G32+G27+G22+G14 -> 74920
A78: 68 | D78: eredeti előirányzat | I78: =I32+I27+I22+I14 -> 1000 | J78: =J32+J27+J22+J14 -> 500 | K78: =K32+K27+K22+K14 -> 318696 | L78: =L32+L27+L22+L14 -> 0 | M78: =M32+M27+M22+M14 -> 38500 | N78: =N32+N27+N22+N14 -> 68500 | O78: =O32+O27+O22+O14 -> 0 | P78: =P32+P27+P22+P14 -> 427196
A79: 69 | D79: módosított előirányzat 3. | I79: =I33+I28+I23+I15+I74+I70+I66+I62+I58+I54+I50+I46+I42+I38 -> 1000 | J79: =J33+J28+J23+J15+J74+J70+J66+J62+J58+J54+J50+J46+J42+J38 -> 500 | K79: =K33+K28+K23+K15+K74+K70+K66+K62+K58+K54+K50+K46+K42+K38 -> 263080 | L79: =L33+L28+L23+L15+L74+L70+L66+L62+L58+L54+L50+L46+L42+L38 -> 0 | M79: =M33+M28+M23+M15+M74+M70+M66+M62+M58+M54+M50+M46+M42+M38 -> 162616 | N79: =N33+N28+N23+N15+N74+N70+N66+N62+N58+N54+N50+N46+N42+N38 -> 0 | O79: =O33+O28+O23+O15+O74+O70+O66+O62+O58+O54+O50+O46+O42+O38 -> 0 | P79: =P33+P28+P23+P15+P74+P70+P66+P62+P58+P54+P50+P46+P42+P38 -> 427196
A80: 70 | D80: módosítás- | I80: =I34+I29+I24+I16+I43+I47+I51+I75+I71+I67+I63+I59+I55+I39+I35+I18+I17 -> -1000 | J80: =J34+J29+J24+J16+J43+J47+J51+J75+J71+J67+J63+J59+J55+J39+J35+J18+J17 -> -500 | K80: =K34+K29+K24+K16+K43+K47+K51+K75+K71+K67+K63+K59+K55+K39+K35+K18+K17 -> 1222 | L80: =L34+L29+L24+L16+L43+L47+L51+L75+L71+L67+L63+L59+L55+L39+L35+L18+L17 -> 350 | M80: =M34+M29+M24+M16+M43+M47+M51+M75+M71+M67+M63+M59+M55+M39+M35+M18+M17 -> -1222 | N80: =N34+N29+N24+N16+N43+N47+N51+N75+N71+N67+N63+N59+N55+N39+N35+N18+N17 -> 0 | O80: =O34+O29+O24+O16+O43+O47+O51+O75+O71+O67+O63+O59+O55+O39+O35+O18+O17 -> 1150 | P80: =SUM(I80:O80) -> 0
A81: 71 | D81: módosított előirányzat 4. | I81: =SUM(I79:I80) -> 0 | J81: =SUM(J79:J80) -> 0 | K81: =SUM(K79:K80) -> 264302 | L81: =SUM(L79:L80) -> 350 | M81: =SUM(M79:M80) -> 161394 | N81: =SUM(N79:N80) -> 0 | O81: =SUM(O79:O80) -> 1150 | P81: =SUM(P79:P80) -> 427196
A82: 72 | C82: 2 | D82: Európa Kulturális Fővárosa II. ütem | H82: NK
A83: 73 | D83: Működési kiadások | E83: =F83+G83+P87 -> 2450
A84: 74 | D84: eredeti előirányzat | K84: =197850-25400 -> 172450 | L84: 165075 | P84: =SUM(I84:O84) -> 337525
A85: 75 | D85: módosított előirányzat 3. | K85: 2450 | L85: 0 | P85: =SUM(I85:O85) -> 2450
A86: 76 | D86: módosítás- | P86: =SUM(I86:O86) -> 0
A87: 77 | D87: módosított előirányzat 4. | K87: =SUM(K85:K86) -> 2450 | L87: =SUM(L85:L86) -> 0 | P87: =SUM(P85:P86) -> 2450
A88: 78 | D88: Vár u. 10. volt piarista gimnázium | E88: =F88+G88+P91 -> 10160
A89: 79 | D89: módosított előirányzat 3. | N89: 10160 | P89: =SUM(P87:P88) -> 2450
A90: 80 | D90: módosítás- | P90: =SUM(I90:O90) -> 0
A91: 81 | D91: módosított előirányzat 4. | N91: =SUM(N89:N90) -> 10160 | P91: =SUM(I91:O91) -> 10160
A92: 82 | D92: Jókai utca 8. | E92: =F92+G92+P95 -> 37846
A93: 83 | D93: módosított előirányzat 3. | N93: 37846 | P93: =SUM(P90:P92) -> 10160
A94: 84 | D94: módosítás- | P94: =SUM(I94:O94) -> 0
A95: 85 | D95: módosított előirányzat 4. | N95: =SUM(N93:N94) -> 37846 | P95: =SUM(I95:O95) -> 37846
A96: 86 | D96: Acticity - Hóvirág u. 1. | E96: =F96+G96+P99 -> 85090
A97: 87 | D97: módosított előirányzat 3. | N97: 85090 | P97: =SUM(P94:P96) -> 37846
A98: 88 | D98: módosítás- | P98: =SUM(I98:O98) -> 0
A99: 89 | D99: módosított előirányzat 4. | N99: =SUM(N97:N98) -> 85090 | P99: =SUM(I99:O99) -> 85090
A100: 90 | D100: Haszkovó lakótelep újjáélesztése | E100: =F100+G100+P103 -> 25860
A101: 91 | D101: módosított előirányzat 3. | N101: 25860 | P101: =SUM(P98:P100) -> 85090
...

Sheet 10.Mérleg
C1: 10. melléklet a 2020. évi költségvetésről szóló 5/2020. (II. 27.) önkormányzati rendelet módosításáról szóló 39/2020. (X.29.) önkormányzati rendelethez
C2: "12. melléklet VMJV Önkormányzata Közgyűlésének 5/2020. (II. 27.) önkormányzati rendeletéhez"
B4: VESZPRÉM MEGYEI JOGÚ VÁROS ÖNKORMÁNYZATÁNAK MŰKÖDÉSI ÉS FELHALMOZÁSI
B5: KÖLTSÉGVETÉSI BEVÉTELEI ÉS KIADÁSAI 2020. ÉVBEN
I6: adatok eFt-ban
B7: A | C7: B | D7: C | E7: D | F7: E | G7: F | H7: G | I7: H
A8: 1 | C8: MŰKÖDÉSI KÖLTSÉGVETÉSI BEVÉTELEK | D8: 2020. évi eredeti előirányzat | E8: 2020. évi módosított előirányzat 4. | G8: MŰKÖDÉSI KÖLTSÉGVETÉSI KIADÁSOK | H8: 2020. évi eredeti előirányzat | I8: 2020. évi módosított előirányzat 4.
A9: 2 | B9: 1. | C9: Működési célú támogatások államháztartáson belülről | D9: ='1.Onbe'!J10+'1.Onbe'!J16 -> 4640257 | E9: ='1.Onbe'!M10+'1.Onbe'!M16 -> 4575524 | F9: 1. | G9: Személyi juttatások | H9: ='4.Inki'!K332+'6.Önk.műk.'!J980+'8.Projekt'!I207+'10.MVP és hazai'!I76+'9.EKF'!I185 -> 4606337 | I9: ='4.Inki'!K335+'6.Önk.műk.'!J983+'8.Projekt'!I210+'10.MVP és hazai'!I79+'9.EKF'!I188 -> 5046200
A10: 3 | B10: 2. | C10: Közhatalmi bevételek | D10: ='1.Onbe'!J17 -> 7945120 | E10: ='1.Onbe'!M17 -> 7380120 | F10: 2. | G10: Munkaadókat terhelő járulékok és szociális hozzájárulási adó | H10: ='4.Inki'!L332+'6.Önk.műk.'!K980+'8.Projekt'!J207+'10.MVP és hazai'!J76+'9.EKF'!J185 -> 881200 | I10: ='4.Inki'!L335+'6.Önk.műk.'!K983+'8.Projekt'!J210+'10.MVP és hazai'!J79+'9.EKF'!J188 -> 977466
A11: 4 | B11: 3. | C11: Működési bevételek | D11: ='1.Onbe'!J27+'1.Onbe'!J32 -> 2529882 | E11: ='1.Onbe'!M27+'1.Onbe'!M32 -> 2022909 | F11: 3. | G11: Dologi kiadások | H11: ='4.Inki'!M332+'6.Önk.műk.'!L980+'7.Beruh.'!I329+'8.Felúj.'!I135+'8.Projekt'!K207+'10.MVP és hazai'!K76+'9.EKF'!K185 -> 5506893 | I11: ='4.Inki'!M335+'6.Önk.műk.'!L983+'7.Beruh.'!I332+'8.Felúj.'!I138+'8.Projekt'!K210+'10.MVP és hazai'!K79+'9.EKF'!K188 -> 5358929
A12: 5 | B12: 4. | C12: Működési célú átvett pénzeszközök | D12: ='1.Onbe'!J33 -> 0 | E12: ='1.Onbe'!M33+'1.Onbe'!M35 -> 11626 | F12: 4. | G12: Ellátottak pénzbeli juttatásai | H12: ='4.Inki'!N332+'6.Önk.műk.'!M980 -> 23248 | I12: ='4.Inki'!N335+'6.Önk.műk.'!M983 -> 32198
A13: 6 | F13: 5. | G13: Egyéb működési célú kiadások (tartalékok nélkül) | H13: ='4.Inki'!O332+'6.Önk.műk.'!N980+'8.Projekt'!L207+'10.MVP és hazai'!L76+'9.EKF'!L185 -> 3609806 | I13: ='4.Inki'!O335+'6.Önk.műk.'!N983+'8.Projekt'!L210+'10.MVP és hazai'!L79+'9.EKF'!L188 -> 3692121
A14: 7 | F14: 6. | G14: Működési célú tartalékok | H14: ='2.Onki'!J17+'2.Onki'!J27 -> 313087 | I14: ='2.Onki'!M17+'2.Onki'!M27 -> 20991
A15: 8 | C15: Működési költségvetési bevételek összesen | D15: =SUM(D9:D14) -> 15115259 | E15: =SUM(E9:E14) -> 13990179 | G15: Működési költségvetési kiadások összesen | H15: =SUM(H9:H14) -> 14940571 | I15: =SUM(I9:I14) -> 15127905
A16: 9 | C16: FELHALMOZÁSI KÖLTSÉGVETÉSI BEVÉTELEK | G16: FELHALMOZÁSI KÖLTSÉGVETÉSI KIADÁSOK
A17: 10 | B17: 1. | C17: Felhalmozási célú támogatások államháztartáson belülről | D17: ='1.Onbe'!J37+'1.Onbe'!J40 -> 8166069 | E17: ='1.Onbe'!M37+'1.Onbe'!M40 -> 10311786 | F17: 1. | G17: Beruházási kiadások | H17: ='2.Onki'!J29+'2.Onki'!J12 -> 21289183 | I17: ='2.Onki'!M12+'2.Onki'!M29 -> 20790364
A18: 11 | B18: 2. | C18: Felhalmozási bevételek | D18: ='1.Onbe'!J41+'1.Onbe'!J43 -> 197543 | E18: ='1.Onbe'!M41+'1.Onbe'!M43 -> 195350 | F18: 2. | G18: Egyéb felhalmozási célú kiadások | H18: ='2.Onki'!J30 -> 549493 | I18: ='2.Onki'!M30 -> 2967533
A19: 12 | B19: 3. | C19: Felhalmozási célú átvett pénzeszközök | D19: ='1.Onbe'!K44+'1.Onbe'!K45+'1.Onbe'!K46 -> 0 | E19: ='1.Onbe'!M44+'1.Onbe'!M45+'1.Onbe'!M46 -> 0 | F19: 3. | G19: Felújítási kiadások | H19: ='2.Onki'!J31+'2.Onki'!J13 -> 388439 | I19: ='2.Onki'!M31+'2.Onki'!M13 -> 373192
A20: 13 | F20: 4. | G20: Felhalmozási célú tartalékok | H20: ='2.Onki'!J23 -> 384588 | I20: ='2.Onki'!M23 -> 493588
A21: 14 | C21: Felhalmozási költségvetési bevételek összesen | D21: =SUM(D17:D20) -> 8363612 | E21: =SUM(E17:E20) -> 10507136 | G21: Felhalmozási költségvetési kiadások összesen | H21: =SUM(H17:H20) -> 22611703 | I21: =SUM(I17:I20) -> 24624677
A22: 15 | C22: Költségvetési bevételek összesen | D22: =SUM(D15,D21) -> 23478871 | E22: =SUM(E15,E21) -> 24497315 | G22: Költségvetési kiadások összesen | H22: =SUM(H15,H21) -> 37552274 | I22: =SUM(I15,I21) -> 39752582
A23: 16 | C23: MŰKÖDÉSI FINANSZÍROZÁSI BEVÉTELEK | G23: MŰKÖDÉSI FINANSZÍROZÁSI KIADÁSOK
A24: 17 | B24: 1. | C24: Rövid lejáratú hitel felvétele | F24: 1. | G24: Rövid lejáratú hitel tőkeösszegének törlesztése
A25: 18 | B25: 2. | C25: Költségvetési maradvány | D25: ='1.Onbe'!J53 -> 1081085 | E25: ='1.Onbe'!M53 -> 2384006 | F25: 2. | G25: Államháztartáson belüli megelőlegezések visszafizetése | H25: ='2.Onki'!J38 -> 111267 | I25: ='2.Onki'!M38 -> 111267
A26: 19 | B26: 3. | C26: Államháztartáson belüli megelőlegezések | D26: ='1.Onbe'!J51 -> 0 | E26: ='1.Onbe'!M51 -> 0
A27: 20 | C27: FELHALMOZÁSI FINANSZÍROZÁSI BEVÉTELEK | G27: FELHALMOZÁSI FINANSZÍROZÁSI KIADÁSOK
A28: 21 | B28: 4. | C28: Hosszú lejáratú hitel felvétele | D28: ='1.Onbe'!J61 -> 1409800 | E28: ='1.Onbe'!M63+'1.Onbe'!M64 -> 1260000 | F28: 3. | G28: Hosszú lejáratú hitel tőkeösszegének törlesztése | H28: ='2.Onki'!J40 -> 108504 | I28: ='2.Onki'!M40 -> 108504
A29: 22 | B29: 5. | C29: Rövid lejáratú hitel felvétele | F29: 4. | G29: Rövid lejáratú hitel tőkeösszegének törlesztése
A30: 23 | B30: 6. | C30: Költségvetési maradvány | D30: ='1.Onbe'!J57 -> 11802289 | E30: ='1.Onbe'!M57 -> 11831032
A31: 24 | C31: Finanszírozási bevételek összesen | D31: =SUM(D23:D30) -> 14293174 | E31: =SUM(E23:E30) -> 15475038 | G31: Finanszírozási kiadások összesen | H31: =SUM(H23:H30) -> 219771 | I31: =SUM(I23:I30) -> 219771
A32: 25 | C32: ÖSSZES BEVÉTEL | D32: =SUM(D22,D31) -> 37772045 | E32: =SUM(E22,E31) -> 39972353 | G32: ÖSSZES KIADÁS | H32: =SUM(H22,H31) -> 37772045 | I32: =SUM(I22,I31) -> 39972353
A33: 26 | C33: Költségvetési egyenleg összege | D33: =+D22-H22 -> -14073403 | E33: =+E22-I22 -> -15255267
A34: 27 | C34: ebből működési: | D34: =+D15-H15 -> 174688 | E34: =+E15-I15 -> -1137726
A35: 28 | C35: ebből felhalmozási: | D35: =+D21-H21 -> -14248091 | E35: =+E21-I21 -> -14117541
A36: 29 | C36: Finanszírozási kiadásokkal korrigált hiány összege | D36: =+D33-H31 -> -14293174 | E36: =+E33-I31 -> -15475038
A37: 30 | C37: Hiány finanszírozása belső finanszírozásra szolgáló költségvetési bevétel összegével | D37: =D30+D25 -> 12883374 | E37: =E30+E25 -> 14215038
A38: 31 | C38: Hiány finanszírozása külső finanszírozásra szolgáló költségvetési bevétel összegével | D38: =D28 -> 1409800 | E38: =E28 -> 1260000
A39: 32 | C39: Működési bevételek aránya %-ban | D39: =(D15+D24+D25+D26)/D32 -> 0.42879182 | E39: =(E15+E24+E25+E26)/E32 -> 0.40963776 | G39: Működési kiadások aránya %-ban | H39: =(H15+H24+H25)/H32 -> 0.39849148 | I39: =(I15+I24+I25)/I32 -> 0.38124281
A40: 33 | C40: Felhalmozási bevételek aránya %-ban | D40: =(D21+D28+D29+D30)/D32 -> 0.57120818 | E40: =(E21+E28+E29+E30)/E32 -> 0.59036224 | G40: Felhalmozási kiadások aránya %-ban | H40: =(H21+H28+H29)/H32 -> 0.60150852 | I40: =(I21+I28+I29)/I32 -> 0.61875719

Sheet 13.Létszám
B1: 13. melléklet a .../2020. (…….) önkormányzati rendelethez
C2: KIMUTATÁS
B3: a 2020. évi engedélyezett létszámról - 2020. szeptember
B4: A | C4: B | D4: C | E4: D | F4: E | G4: F
B5: Cím | C5: Megnevezés | D5: 2020. évi engedélyezett létszám | E5: Módosítás | F5: 2020. évi engedélyezett létszám | G5: Megjegyzés
A6: 1 | B6: 1 | C6: Veszprémi Vadvirág Körzeti Óvoda | D6: 38 | F6: =SUM(D6:E6) -> 38
A7: 2 | B7: 2 | C7: Veszprémi Bóbita Körzeti Óvoda | D7: 70 | F7: =SUM(D7:E7) -> 70
A8: 3 | B8: 3 | C8: Veszprémi Ringató Körzeti Óvoda | D8: 83.5 | F8: =SUM(D8:E8) -> 83.5
A9: 4 | B9: 4 | C9: Veszprémi Egry úti Körzeti Óvoda | D9: 60 | F9: =SUM(D9:E9) -> 60
A10: 5 | B10: 5 | C10: Veszprémi Csillag úti Körzeti Óvoda | D10: 61.5 | F10: =SUM(D10:E10) -> 61.5
A11: 6 | B11: 6 | C11: Veszprémi Kastélykert Körzeti Óvoda | D11: 36 | F11: =SUM(D11:E11) -> 36 | G11: 2020. szeptember 1-től (2 fő óvodapedagógus, 1 fő dajka)
A12: 7 | C12: Közfoglalkoztatottak létszáma | D12: 2 | F12: =SUM(D12:E12) -> 2
A13: 8 | B13: 7 | C13: Veszprémi Bölcsődei és Egészségügyi Alapellátási Integrált Intézmény | D13: 200 | F13: =SUM(D13:E13) -> 200
A14: 9 | B14: 8 | C14: Göllesz Viktor Fogyatékos Személyek Nappali Intézménye | D14: 13.25 | F14: =SUM(D14:E14) -> 13.25
A15: 10 | B15: 9 | C15: Veszprémi Családsegítő és Gyermekjóléti Integrált Intézmény | D15: 63 | F15: =SUM(D15:E15) -> 63
A16: 11 | C16: Közfoglalkoztatottak létszáma | D16: 0 | F16: =SUM(D16:E16) -> 0
A17: 12 | B17: 10 | C17: Agóra Veszprém Kulturális Központ | D17: 24.25 | F17: =SUM(D17:E17) -> 24.25
A18: 13 | B18: 11 | C18: Művészetek Háza Veszprém Művelődési Ház és Kiállítóhely | D18: 22 | F18: =SUM(D18:E18) -> 22
A19: 14 | B19: 12 | C19: Eötvös Károly Megyei Könyvtár | D19: 51.5 | F19: =SUM(D19:E19) -> 51.5
A20: 15 | B20: 13 | C20: Laczkó Dezső Múzeum | D20: 53 | F20: =SUM(D20:E20) -> 53
A21: 16 | C21: határozott idejű foglalkozatottak létszáma (2020. március 1 - 2021. december 31) | D21: 6 | F21: =SUM(D21:E21) -> 6 | G21: 2020. január 1. - 2020. február 29. között 4 fő
A22: 17 | B22: 14 | C22: Kabóca Bábszínház | D22: 22 | F22: =SUM(D22:E22) -> 22 | G22: 2020. július 1. - 2020. december 31. 1,5 fő
A23: 18 | C23: Közfoglalkoztatottak létszáma | D23: 1 | F23: =SUM(D23:E23) -> 1
A24: 19 | B24: 15 | C24: Veszprémi Petőfi Színház | D24: 102 | F24: =SUM(D24:E24) -> 102
A25: 20 | B25: 16 | C25: Veszprémi Intézményi Szolgáltató Szervezet | D25: 53.25 | F25: =SUM(D25:E25) -> 53.25
A26: 21 | C26: Intézmények összesen: | D26: =SUM(D6:D25) -> 962.25 | E26: =SUM(E6:E25) -> 0 | F26: =SUM(F6:F25) -> 962.25
A27: 22 | B27: 17 | C27: VMJV Polgármesteri Hivatal | D27: 200 | F27: =SUM(D27:E27) -> 200
A28: 23 | B28: 18 | C28: VMJV Önkormányzata | F28: =SUM(D28:E28) -> 0
A29: 24 | C29: Polgármester, Alpolgármesterek | D29: 3 | F29: =SUM(D29:E29) -> 3
A30: 25 | C30: Közfoglalkoztatottak és diákmunkások létszáma | D30: 9.88 | F30: =SUM(D30:E30) -> 9.88
A31: 26 | C31: MINDÖSSZESEN: | D31: =SUM(D26:D30) -> 1175.13 | E31: =SUM(E26:E30) -> 0 | F31: =SUM(F26:F30) -> 1175.13
A32: 27 | C32: ebből:
A33: 28 | C33: Közfoglalkoztatottak és diákmunkások létszáma | D33: =SUM(D12,D16,D23,D30) -> 12.88 | E33: =SUM(E12,E16,E23,E30) -> 0 | F33: =SUM(F12,F16,F23,F30) -> 12.88

Sheet 14. Többéves
B1: 14. melléklet a ….../2020. (……..) önkormányzati rendelethez
A3: Több éves kihatással járó döntések számszerűsítése éves bontásban
A4: tájékoztató jelleggel az Áht. 24.§ (4) bekezdés b) pontja alapján
F5: adatok eFt-ban
B6: A | C6: B | D6: C | E6: D | F6: E | G6: D
A7: Sorszám | B7: Megnevezés | C7: 2020. év | D7: 2021. év | E7: 2022. év | F7: 2023. év | G7: 2023. évi előirányzat
A9: 1 | B9: Játszóeszközök kopásból, elhasználódásból adódó karbantartása, felújítása | C9: 5000
A10: 2 | B10: TOP-6.6.1-16-VP1-2018-00005 Ördögárok u. 5. szám alatti orvosi rendelő megújítása (saját forrás) | C10: 37058
A11: 3 | B11: TOP-6.6.1-16-VP1-2018-00004 Vilonyai utca 2/B szám alatti orvosi rendelő megújítása (saját forrás) | C11: 7068
A12: 4 | B12: TOP-6.2.1-16-VP1-2018-00002 Egry úti óvoda újjáépítése (saját forrás) | C12: 186554
A13: 5 | B13: TOP-6.5.1-16-VP1-2018-00002 Völgyikút utca 2. szám alatti épület energetikai megújítása (saját forrás) | C13: 34933
A14: 6 | B14: TOP-6.5.1-16-VP1-2018-00004 Aprófalvi bölcsőde energetikai korszerűsítése (saját forrás) | C14: 52777
A15: 7 | B15: TOP-6.5.1-16-VP1-2018-00006 Módszertani bölcsőde energetikai megújítása (saját forrás) | C15: 29875
A16: 8 | B16: TOP-6.2.1-16-VP1-2018-00001 A Veszprémi Bölcsődei és Egészségügyi Alapellátási Integrált Intézmény Módszertani Bölcsődéje megújítása, illetve bölcsődei eszközbeszerzések (saját forrás) | C16: 760
A17: 9 | B17: a TOP-6.1.5-16-VP1-2017-00001 Északi Iparterület Közlekedés-fejlesztése elnevezésű projekthez szükséges kiegészítő pénzügyi forrással kapcsolatos pénzügyi kötelezettségvállalás (saját forrás) | C17: 294000
A18: 10 | B18: Döntés pályázat benyújtásáról az "Urban Innovative Actions" elnevezésű Európai Uniós közösségi kezdeményezés pályázati felhívására | C18: 13000 | D18: 13000 | E18: 13000
A19: 11 | B19: Döntés a helyi közösségi közlekedés biztosításához kapcsolódó autóbuszbeszerzési szerződés és előzetes kötelelezettségvállalás jóváhagyásáról | C19: 480000
A20: 12 | B20: Pályázat benyújtása az Magyar Labdarúgó Szövetség TAO pályaépítési programjához (saját forrás) | C20: =7620/2 -> 3810
A21: Beruházás / felújítás / projekt kötelezettségvállalások összesen | C21: =SUM(C9:C19) -> 1141025 | D21: =SUM(D9:D19) -> 13000 | E21: =SUM(E9:E19) -> 13000 | F21: =SUM(F9:F19) -> 0
A22: 13 | B22: Rekultivációt megelőző telephely fenntartási költség | C22: 17000
A23: 14 | B23: Döntés az "ELENA" elnevezésű projektfejlesztési támogatásra benyújtott Európai Uniós pályázat konzorciumi szerződés módosítás tárgyában | C23: =6000+3000+3000 -> 12000 | D23: =6000+3000+3000 -> 12000
A24: 15 | B24: Kittenberger K. Növény és Vadaspark Kht. működéséhez hozzájárulás | C24: 103000 | D24: 103000 | E24: 103000 | F24: 103000
A25: 16 | B25: Veszprém TV közszolgálati műsorok támogatása | C25: 29500 | D25: 29500 | E25: 29500 | F25: 29500
A26: 17 | B26: Swing-Swing Kft. törzstőke emelés, tőketartalékba helyezés (Hangvilla üzletrész vásárlás) | C26: 120000 | D26: 120000
A27: 18 | B27: Swing-Swing Kft. üzletrész vásárlás | C27: 50326 | D27: 50348
A28: 19 | B28: Swing-Swing Kft. (Hangvilla) szolgáltatási szerződés | C28: 38100 | D28: 38100 | G28: 38324
A29: 20 | B29: V-Busz Kft. Szolgáltatás vásárlás | C29: 881516 | D29: 881516 | E29: 881516 | F29: 881516
A30: 21 | B30: V-Busz Kft. 2019. évi ellentételezés | C30: 153947
A31: 22 | B31: Az ÉNYKK Északnyugat-magyarországi Közlekedési Központ Zrt. által 2018. évben ellátott helyi menetrend szerinti közösségi közlekedés közszolgáltatás ellentételezése | C31: =100000-29240 -> 70760 | G31: 38100
B32: VKSZ Zrt. által ellátott városüzemeltetési feladatok közszolgáltatási keretmegállapodás alapján:
A33: 23 | B33: Parkfenntartás | C33: 277100 | D33: 277100 | E33: 277100 | F33: 277100
A34: 24 | B34: Köztisztasági feladatok | C34: 259250 | D34: 259250 | E34: 259250 | F34: 259250
A35: 25 | B35: Egyéb városüzemeltetési feladatok | C35: 45900 | D35: 45900 | E35: 45900 | F35: 45900 | G35: 270000
A36: 26 | B36: Temetők üzemeltetésével kapcsolatos feladatok | C36: 36550 | D36: 36550 | E36: 36550 | F36: 36550 | G36: 288725
A37: 27 | B37: Intézményi karbantartási költségek | C37: 42500 | D37: 42500 | E37: 42500 | F37: 42500 | G37: 21000
A38: 28 | B38: Intézményi működtetők költsége | C38: 169738 | D38: 169738 | E38: 169738 | F38: 169738 | G38: 186000
A39: 29 | B39: Intézményi közüzemi költségek | C39: 130000 | D39: 130000 | E39: 130000 | F39: 130000 | G39: 180000
A40: 30 | B40: Villamos energia beszerzés (Intézmények) | C40: 150000 | D40: 150000 | G40: 20000
A41: 31 | B41: Villamos energia beszerzés (Közvilágítás célú) | C41: 120000 | D41: 120000
A42: 32 | B42: Földgáz energia beszerzés | C42: 105000 | D42: 70000
A43: 33 | B43: Nagyfelületű út- és járdafelújítások | C43: 100000
A44: 34 | B44: Veszprém Stromfeld A. u. 9/E. szám alatti ingatlanrész rendőrségi körzeti megbízotti iroda működtetése céljára | C44: 239 | D44: 239 | E44: 239 | F44: 239
A45: 35 | B45: Sport marketing tárgyú több éves szolgáltatásvásárlási szerződés megkötése érdekében pénzügyi kötelezettségvállalás | C45: 140000 | D45: 140000 | G45: 239
A46: 36 | B46: Veszprém Egyetemi és Diák Atlétikai Club | C46: 25000 | D46: 25000 | E46: 25000 | F46: 25000
A47: 37 | B47: Veszprém Kosárlabda Korlátolt Felelősségű Társasággal együttműködési megállapodás (Veszprémi Egyetemi SC kosárlabda szakosztály) | C47: 25000 | G47: 25000
A48: 38 | B48: Veszprémi Foci Centrum Utánpótlás SE | C48: 17000 | D48: 17000 | E48: 17000
A49: 39 | B49: Futsal Club Veszprém | C49: 30000
A50: 40 | B50: Veszprémi Labdarúgó és Sportszervező Korlátolt Felelősségű Társaság támogatása | C50: =40000+40000 -> 80000 | D50: =40000+40000 -> 80000
A51: 41 | B51: Veszprém Fiatal Sportolóiért Közhasznú Alapítvány támogatása élsport, versenysport és utánpótlás nevelési feladatokhoz kapcsolódóan | C51: 25000 | D51: 25000 | E51: 25000 | F51: 25000
A52: 42 | B52: A Magyar Kézilabda Szövetség Országos Tornaterem Felújítási Programjához kapcsolódó támogatási igény benyújtása és előzetes kötelezettségvállalás a veszprémi stadion területén található sportcsarnok belső felújítása érdekében | C52: 24000
A53: 43 | B53: Jutasi úti műfüves sportpálya fenntartása és működtetése | C53: 22000
A54: 44 | B54: Stadion üzemeltetése | C54: =46997-32000 -> 14997 | D54: =46997-32000 -> 14997 | E54: =46997-32000 -> 14997 | F54: =46997-32000 -> 14997
A55: 45 | B55: Signator Audit Könyvvizsgáló Kft-vel kötött megbízási szerződés könyvvizsgálói feladatok ellátására | C55: =800*1.27 -> 1016 | G55: 3840
A56: 46 | B56: Foglalkozás egészségügyi szolgáltatás ellátásával kapcsolatos pénzügyi kötelezettségvállalás | C56: 917 | G56: 4000
A57: 47 | B57: VMJV Önkormányzatánál, költségvetési szerveinél, valamint a Veszprémi Kistérség Többcélú Társulása Egyesített Szociális Intézménynél foglalkozás-egészségügyi szolgáltatás ellátásával kapcsolatos pénzügyi kötelezettségvállalás | C57: 4583 | D57: 5500 | E57: 917 | G57: 300
A58: 48 | B58: Fogorvosok működési hozzájárulás | C58: 3264 | D58: 3264 | E58: 3264 | F58: 3264 | G58: 127
A59: 49 | B59: Fogorvosi körzet pályázati alap | C59: 3400 | D59: 3400 | E59: 3400 | F59: 3400 | G59: 1200
A60: 50 | B60: Cuha Völgye Egyesületi tagdíj (5 Ft/lakos) | C60: 300 | D60: 300 | E60: 300 | F60: 300 | G60: 300
A61: 51 | B61: ÖKOpolisz Klaszter tagdíj | C61: 127 | D61: 127 | E61: 127 | F61: 127 | G61: 120
A62: 52 | B62: A Települési Önkormányzatok Országos Szövetségéhez történő csatlakozás | C62: 1200 | D62: 1200 | E62: 1200 | F62: 1200 | G62: 1700
A63: 53 | B63: A Klímabarát Települések Szövetségéhez történő csatlakozás | C63: 300 | D63: 300 | E63: 300 | F63: 300 | G63: 600
A64: 54 | B64: Balatoni Szövetség | C64: 120 | D64: 120 | E64: 120 | F64: 120 | G64: 12000
A65: 55 | B65: Megyei Jogú Városok Szövetsége tagdíj | C65: 1700 | D65: 1700 | E65: 1700 | F65: 1700 | G65: 356958
A66: 56 | B66: Szenvedélybetegek ellátásának működési kiadásaihoz támogatás (Alkohol-Drogsegély Ambulancia - ellátási szerződés) | C66: 10200 | D66: 10200 | E66: 10200 | F66: 10200 | G66: 38148
A67: 57 | B67: Veszprémi Kistérségi Társulásnak pénzeszköz átadás (Egyesített Szoc.Int.) | C67: 143385 | D67: 143385 | E67: 143385 | F67: 143385
A68: 58 | B68: Máltai Szeretetszolgálat (ellátási szerződés) | C68: 60000 | D68: 60000 | E68: 60000 | F68: 60000 | G68: 95000
A69: 59 | B69: Polgármesteri Hivatal használatában lévő nyomatkészítő eszközök tartós üzemeltetése | C69: =7400*1.27 -> 9398 | G69: 5600
A70: 60 | B70: Megállapodás megkötése üzemidő hasznosítás tárgyában a Veszprémi Programiroda Rendezvényszervező és Kulturális Szolgáltató Kft-vel | C70: 34150
A71: 61 | B71: Kolostorok és Kertek működtetése | C71: 57501 | D71: 57501 | E71: 57501 | F71: 57501
A72: 62 | B72: Az Önkormányzat vagyonbiztosításával kapcsolatos pénzügyi kötelezettségvállalás | C72: 8800 | G72: 53800
A73: 63 | B73: Városi lap kiadásai | C73: =30000*1.27 -> 38100 | D73: =30000*1.27 -> 38100 | E73: =30000*1.27 -> 38100 | F73: =30000*1.27 -> 38100 | G73: 72000
A74: 64 | B74: Kitüntetések | C74: 9601 | D74: 9601 | E74: 9601 | F74: 9601
A75: 65 | B75: Polgármesteri Hivatal épületeinek takarítási feladatainak ellátása | C75: =14980*1.27 -> 19024.6 | G75: =30000*1.27 -> 38100
A76: 66 | B76: Polgármesteri Hivatal „Őrzés-védelmi és portaszolgálat feladatainak” ellátása 2 évre | C76: =6700*1.27 -> 8509 | D76: =6700*1.27 -> 8509 | G76: 9653
A77: 67 | B77: Központi orvosi ügyelet külső szolgáltatóval történő működtetése, az alapellátási központi orvosi ügyelet további működtetése | C77: 80578
A78: 68 | B78: Egészségügyi feladatok ellátása - Veszprémi Csolnoky Ferenc Kórházzal kötött használati szerződés | C78: 5100 | D78: 5100 | E78: 5100 | F78: 5100
A79: 69 | B79: Munka- és tűzvédelmi feladatok; 2019.01.01-2020.02.29. és 2020.03.01-2022.02.28. | C79: 5200 | D79: 5200 | G79: 6000
A80: 70 | B80: Német Nemzetiségi Önk. helyiségének bérleti díja | C80: =15*12 -> 180 | D80: =15*12 -> 180 | E80: =15*12 -> 180 | F80: 180
A81: 71 | B81: A diákétkeztetésre vonatkozó szolgáltatási díj emelése | C81: 417000
A82: 72 | B82: a Veszprémi Intézményi Szolgáltató Szervezet diákétkeztetési közfeladatainak ellátásához szükséges étkezési nyilvántartó program beszerzésével kapcsolatos pénzügyi kötelezettségvállalás | C82: =1224*1.27 -> 1554.48 | G82: =15*12 -> 180
A83: 73 | B83: Veszprémi óvodák gyermekétkeztetési közfeladat ellátása érdekében élelmezési nyilvántartó program beszerzéséhez szükséges pénzügyi kötelezettségvállalás | C83: 2896
A84: 74 | B84: Veszprémi óvodák gyermekétkeztetési közfeladat ellátása érdekében vásárolt élelmezés beszerzéséhez szükséges pénzügyi kötelezettségvállalások | C84: 94299
A85: Önkormányzati kiadások összesen: | C85: =SUM(C22:C84) -> 4337826.1 | D85: =SUM(D22:D84) -> 3191425 | E85: =SUM(E22:E84) -> 2392685 | F85: =SUM(F22:F84) -> 2374768 | G85: =SUM(G28:G84) -> 1767014
A86: MINDÖSSZESEN: | C86: =SUM(C85,C21) -> 5478851.1 | D86: =SUM(D85,D21) -> 3204425 | E86: =SUM(E85,E21) -> 2405685 | F86: =SUM(F85,F21) -> 2374768 | G86: =SUM(G85,#REF!) -> #REF!

Sheet 15.Hitel
B1: 15. melléklet a .../2020. (……...) önkormányzati rendelethez
B2: KIMUTATÁS
B3: Veszprém Megyei Jogú Város Önkormányzata
B4: hiteltörlesztésének, hitelállományának és egyéb kötelezettségeinek alakulásáról
T5: adatok eFt-ban
B6: A | D6: B | E6: C | F6: D | G6: E | H6: F | I6: G | J6: H | K6: I | L6: J | M6: K | N6: L | O6: M | P6: N | Q6: O | R6: P | S6: Q | T6: R | U6: S
B7: Hitel megnevezése | D7: Hitelt nyújtó pénzintézet | E7: Hitelszerződés dátuma | F7: Lejárat idő- pontja | G7: Hitelkeret | H7: Hitel-állomány 2019.12.31 | I7: Hitelfelvétel 2019. (előző évek hitelszerződésén alapuló) | J7: Hitelfelvétel 2019-es | K7: Hitelfelvétel 2020-as | L7: Tőke-törlesztés 2020 | M7: Hitel-állomány 2020.12.31 | N7: Kamat 2020 | O7: Tőke-törlesztés 2021 | P7: Tőke-törlesztés 2022 | Q7: Tőke-törlesztés 2023 | R7: Tőke-törlesztés 2024-tól | S7: Kamat 2021 | T7: Kamat 2022 | U7: Kamat 2023
A8: 1 | B8: 1. | C8: Rövid lejáratú hitel (1500M Ft) | D8: OTP Bank | E8: 2020.06.01 | F8: 44104 | G8: 1500000 | H8: 0 | J8: 0 | K8: 0 | L8: 0 | M8: =H8+J8-L8+I8 -> 0 | N8: =4000+10000 -> 14000 | O8: 0
A9: 2 | B9: 2. | C9: Beruházási hitel - SMO 2011. | D9: UniCredit Bank | E9: 40736 | F9: 48040 | G9: 484000 | H9: 39625 | J9: 0 | K9: 0 | L9: 12340 | M9: =H9+J9-L9+I9 -> 27285 | N9: 818 | O9: 12341 | P9: 12340 | Q9: 2604 | R9: =M9-O9-P9-Q9 -> 0 | S9: 530 | T9: 241 | U9: 15
A10: 3 | B10: 3. | C10: Beruházási hitel - Célhitel 2013. | D10: UniCredit Bank | E10: 41502 | F10: 45153 | G10: 650000 | H10: 46681 | J10: 0 | K10: 0 | L10: 46681 | M10: =H10+J10-L10+I10 -> 0 | N10: 686 | O10: 0 | P10: 0 | S10: 0 | T10: 0
A11: 4 | B11: 4. | C11: Beruházási hitel - MFB 2013. | D11: Takarékbank | E11: 41555 | F11: 48859 | G11: 200000 | H11: 112411 | J11: 0 | K11: 0 | L11: 8918 | M11: =H11+J11-L11+I11 -> 103493 | N11: 3406 | O11: 8918 | P11: 8918 | Q11: 8918 | R11: =M11-O11-P11-Q11 -> 76739 | S11: 3128 | T11: 2829 | U11: 2571
A12: 5 | B12: 5. | C12: Beruházási hitel - MFB 2014 | D12: UniCredit Bank | E12: 41759 | F12: 49064 | G12: 200000 | H12: 128840 | J12: 0 | K12: 0 | L12: 8886 | M12: =H12+J12-L12+I12 -> 119954 | N12: 2869 | O12: 8886 | P12: 8886 | Q12: 8886 | R12: =M12-P12-Q12-O12 -> 93296 | S12: 2666 | T12: 2463 | U12: 2260
A13: 6 | B13: 6. | C13: Beruházási hitel - Célhitel 2014 | D13: OTP Bank | E13: 41759 | F13: 45285 | G13: 151317 | H13: 77521 | J13: 0 | K13: 0 | L13: 19679 | M13: =H13+J13-L13+I13 -> 57842 | N13: 1192 | O13: 19679 | P13: 19678 | Q13: 18485 | R13: =M13-P13-Q13-O13 -> 0 | S13: 858 | T13: 523 | U13: 187
A14: 7 | B14: 7. | C14: Fejlesztési hitel - Célhitel 2017 | D14: OTP Bank | E14: 42943 | F14: 46568 | G14: 99000 | H14: 93000 | J14: 0 | K14: 0 | L14: 12000 | M14: =H14+J14-L14+I14 -> 81000 | N14: 1336 | O14: 12000 | P14: 12000 | Q14: 12000 | R14: =M14-P14-Q14-O14 -> 45000 | S14: 1155 | T14: 974 | U14: 793
A15: 8 | B15: 8. | C15: Fejlesztési hitel - Célhitel 2019 | D15: OTP Bank | E15: 43641 | F15: 47299 | G15: 1260000 | H15: 0 | J15: 629000 | K15: 631000 | L15: 0 | M15: =H15+J15-L15+I15+K15 -> 1260000 | N15: 13999 | O15: 76364 | P15: 152727 | Q15: 152727 | R15: =M15-P15-Q15-O15 -> 878182 | S15: 15881 | T15: 13305 | U15: 12365
A16: 9 | B16: 9. | C16: Fejlesztési hitel - Célhitel 2020 | E16: 2020.XX.XX | F16: 2030.XX.XX | G16: 149000 | H16: 0 | J16: 0 | K16: 149800 | L16: 0 | M16: 149800 | N16: 2277 | O16: 0 | P16: 9079 | Q16: 18157 | R16: =M16-P16-Q16-O16 -> 122564 | S16: 3726 | T16: 3310 | U16: 2849
A17: 10 | B17: I. | C17: Pénzintézetekkel szemben fenálló kötelezettségek összesen | H17: =SUM(H8:H16) -> 498078 | I17: =SUM(I8:I16) -> 0 | J17: =SUM(J8:J16) -> 629000 | K17: =SUM(K8:K16) -> 780800 | L17: =SUM(L8:L16) -> 108504 | M17: =SUM(M8:M16) -> 1799374 | N17: =SUM(N8:N16) -> 40583 | O17: =SUM(O8:O16) -> 138188 | ... U17: =SUM(U8:U16) -> 21040

Sheet 15.A Beruh.hitel
B1: 15.A. melléklet a ….../2020 (……..) önkormányzati rendelethez
B3: Veszprém Megyei Jogú Város Önkormányzatának 2019. évi
B4: hitelszerződésen alapuló 2019. és 2020. évre vonatkozó beruházási hitelfelvétele feladatonként *
F6: adatok eFt-ban
B7: A | E7: B | F7: C
A8: 1 | B8: Adósságot Keletkeztető Ügyletek fejlesztési célok szerinti besorolása | E8: Hitel összege 2019 | F8: Hitel összege 2020
A9: 2 | B9: 1 | C9: Környezetvédelemhez és természeti katasztrófák elhárításához kapcsolódó beruházási célok (szennyvízelvezetés és szennyvíztisztítás, csapadékvíz-elvezetés, hulladékkezelés, árvíz/belvíz elleni védekezés stb.) | E9: 50000
D10: Vízrendezési feladatok, árkok felújítása
A11: 3 | B11: 2 | C11: Közoktatási célú beruházási célok (óvodák, iskolák, tornaterem, tanuszoda, egyéb köznevelési intézmények építése, felújítása stb.) | E11: 50000 | F11: 184000
D12: TOP-6.2.1-15-VP1-2016-00002 Gyulafirátóti óvoda újjáépítése
D13: TOP-6.2.1-16-VP1-2018-00002 Egry úti óvoda újjáépítése
A14: 4 | B14: 3 | C14: Szociális, gyermekjóléti és gyermekvédelmi célok (bölcsődék, időskorúak ellátását, gyermekek és családok átmeneti gondozását szolgáló beruházások stb.) | E14: 232000 | F14: 109000
D15: TOP-6.5.1-16-VPI-2018-00006 Módszertani Bölcsőde energetikai megújítása
D16: TOP-6.2.1-16-VP1-2018-00001 Módszertani Bölcsőde megújítása – eszközbeszerzés
D17: TOP-6.5.1 Aprófalvi Bölcsőde energetikai megújítása
D18: TOP-6.5.1 Völgyikút utca 2. szám alatti épület energetikai megújítása
A19: 5 | B19: 4 | C19: Egészségügyi szolgáltatások fejlesztése (egészségházak, orvosi, gyermekorvosi, fogorvosi szakrendelők felújítása, eszközbeszerzések stb.) | F19: 44000
D20: TOP - Vilonyai u. 2/B sz. gyermekorvosi rendelők felújítása
D21: TOP - Ördögárok u. 5. sz. gyermekorvosi rendelők felújítása
A22: 6 | B22: 5 | C22: Egyéb feladatokhoz kapcsolódó célok (közutak építése, felújítása, közbiztonság növelése, egyéb önkormányzati tulajdonú létesítmények felújítása, fejlesztése, város és település-rehabilitáció stb.) | E22: 297000 | F22: 294000
D23: Petőfi Sándor utca rekonstrukciója III. ütem
D24: Vörösmarty tér tömbbelső fejlesztés, I. ütem (csapadékvíz elvezetés kiépítése) + II. ütem
D25: Török I. u. - Aulich L. u. összekötés
D26: Közvilágítás bővítések (tervezés, kivitelezés) 2011. évi CLXXXIX törvény
D27: 82-es út közlekedésbiztonsági fejlesztése
D28: Nagyfelületű út- és járdafelújítások
D29: Kertvárosi utcák felújítása víziközmű rekonstrukció után
D30: TOP-6.1.5-16-VP1-2017-00001 Északi Iparterület Közlekedés-fejlesztése
A31: 7 | B31: I. Adósságot keletkeztető ügyletek összesen | E31: 629000 | F31: 631000
A32: 8 | B32: II. Adósságot keletkeztető ügyletek mindösszesen | E32: 1260000
B33: * Magyarország gazdasági stabilitásáról szóló 2011. évi CXCIV. törvény szerint Kormányengedélyhez kötött, adósságot keletkeztető ügylet jóváhagyása megtörtént az önkormányzatok adósságot keletkeztető, valamint kezesség-, illetve garanciavállalásra vonatkozó ügyleteihez történő 2019. áprilisi előzetes kormányzati hozzájárulásról szóló 1356/2019. (VI.14.) Korm. határozatában.

Sheet 15.B Beruh.hitel
B1: 15.B. melléklet a .../2020. (…….) önkormányzati rendelethez
B3: Veszprém Megyei Jogú Város Önkormányzatának 2020. évi
B4: új hitelszerződésen alapuló beruházási hitelfelvétele feladatonként
B6: Magyarország gazdasági stabilitásáról szóló 2011. évi CXCIV. törvény szerint Kormányengedélyhez kötött, adósságot keletkeztető ügylet
C8: adatok eFt-ban
B9: A | C9: B
B10: Adósságot Keletkeztető Ügyletek fejlesztési célok szerinti besorolása | C10: Hitel összege 2020. év
A11: 1 | B11: Közutak, hidak építése, felújítása | C11: 135800
A12: 2 | B12: Egyéb, törvény által az önkormányzatok számára előírt feladatok teljesítéséhez szükséges infrastrukturális beruházások | C12: 14000
A13: 3 | B13: Adósságot keletkeztető ügyletek összesen | C13: =SUM(C11:C12) -> 149800

Sheet 11.EU
B1: 11. melléklet a 2020. évi költségvetésről szóló 5/2020. (II. 27.) önkormányzati rendelet módosításáról szóló 39/2020. (X.29.) önkormányzati rendelethez
B2: "16. melléklet VMJV Önkormányzata Közgyűlésének 5/2020. (II. 27.) önkormányzati rendeletéhez"
B4: KIMUTATÁS
B5: a Veszprém Megyei Jogú Város Önkormányzata Támogatási Szerződéssel rendelkező
B6: Európai Uniós forrásból finanszírozott támogatással megvalósuló programok, projektek bevételeiről és kiadásairól az Ávr. 24. § (1) bekezdés a.) és bd.) pontjainak megfelelően
U7: adatok eFt-ban
B8: A | C8: B | D8: C | E8: D | G8: E | H8: F | I8: G | J8: H | K8: I | L8: J | M8: K | N8: L | O8: M | P8: N | Q8: O | R8: P | S8: Q | T8: R | U8: S | V8: T
B9: Cím | C9: Alcím | D9: Program megnevezés | E9: Program megvalósításának ideje | G9: Projekt forrás összetétel | P9: Projekt költség megbontás | V9: Projekt teljes költség
G10: Saját erő | H10: Projekthez kapcsolódó működési bevétel (ÁFA) | I10: EU támogatás | O10: EU támogatás összesen
I11: 2016. évi tény | J11: 2017. évi tény | K11: 2018. évi tény | L11: 2019. évi tény | M11: 2020. | N11: 2021-től | P11: 2016. évi tény | Q11: 2017. évi tény | R11: 2018. évi tény | S11: 2019. évi tény | T11: 2020. | U11: 2021-től
A12: 1 | B12: 18 | C12: Veszprém Megyei Jogú Város Önkormányzata
A13: 2 | C13: 1 | D13: TOP-6.2.1-16-VP1-2018-00002 Egry úti óvoda újjáépítése | E13: 2018-2021 | G13: =+V13-O13-H13 -> 187554 | L13: 917181 | M13: 15000 | O13: =SUM(I13:N13) -> 932181 | S13: 237 | T13: 1119498 | V13: =SUM(P13:U13) -> 1119735
A14: 3 | C14: 2 | D14: EFOP-1.9.9-17-2017-00004 Még jobb kezekben - Veszprémben | E14: 2018-2019 | G14: =+V14-O14-H14 -> 0 | K14: 17017 | L14: 8958 | O14: =SUM(I14:N14) -> 25975 | R14: 12413 | S14: =2345+10041 -> 12386 | T14: =655+482+39 -> 1176 | V14: =SUM(P14:U14) -> 25975
A15: 4 | C15: 3 | D15: TOP-6.5.1-16-VP1-2018-00004 Aprófalvi bölcsőde energetikai korszerűsítése | E15: 2018-2021 | G15: =+V15-O15-H15 -> 59476 | M15: 223100 | O15: =SUM(I15:N15) -> 223100 | Q15: 6699 | T15: 275877 | V15: =SUM(P15:U15) -> 282576
A16: 5 | C16: 4 | D16: TOP-6.6.1-16-VP1-2017-00002 Kádártai rendelő kialakítása | E16: 2018-2019 | G16: =+V16-O16-H16 -> 5021 | K16: 58534 | M16: 3081 | O16: =SUM(I16:N16) -> 61615 | R16: 143 | S16: 64724 | T16: 1769 | V16: =SUM(P16:U16) -> 66636
A17: 6 | C17: 5 | D17: TOP-6.5.1-16-VP1-2018-00002 Völgyikút utca 2. szám alatti épület energetikai megújítása | E17: 2018-2021 | G17: =+V17-O17-H17 -> 41474 | L17: 134273 | M17: 0 | O17: =SUM(I17:N17) -> 134273 | P17: 2921 | Q17: 3620 | T17: =165956+3250 -> 169206 | V17: =SUM(P17:U17) -> 175747
A18: 7 | C18: 6 | D18: TOP-6.6.1-16-VP1-2018-00004 Vilonyai utca 2/B szám alatti orvosi rendelő megújítása | E18: 2019-2020 | G18: =+V18-O18-H18 -> 14154 | L18: 19069 | M18: =20344-2775 -> 17569 | O18: =SUM(I18:N18) -> 36638 | R18: 1956 | T18: 48836 | V18: =SUM(P18:U18) -> 50792
A19: 8 | C19: 7 | D19: TOP-6.6.1-16-VP1-2018-00005 Ördögárok u. 5. szám alatti orvosi rendelő megújítása | E19: 2019-2020 | G19: =+V19-O19-H19 -> 39517 | L19: 27673 | M19: =25819 -> 25819 | O19: =SUM(I19:N19) -> 53492 | R19: 2459 | T19: =90550 -> 90550 | V19: =SUM(P19:U19) -> 93009
A20: 9 | C20: 8 | D20: TOP-6.6.1-16-VP1-2018-00003 Jutasi u. 59. szám alatti orvosi rendelő megújítása | E20: 2018-2019 | G20: =+V20-O20-H20 -> 1320 | K20: 71352 | M20: -45 | O20: =SUM(I20:N20) -> 71307 | R20: 4926 | S20: 67701 | V20: =SUM(P20:U20) -> 72627
A21: 10 | C21: 9 | D21: TOP-6.2.1-16-VP1-2018-00001 A Veszprémi Bölcsődei és Egészségügyi Alapellátási Integrált Intézmény Módszertani Bölcsődéje megújítása, illetve bölcsődei eszközbeszerzések | E21: 2018-2021 | G21: =+V21-O21-H21 -> 3810 | L21: 87086 | M21: -87086 | O21: =SUM(I21:N21) -> 0 | R21: =4834-1024 -> 3810 | S21: =40-40 -> 0 | T21: =195772-195772 -> 0 | V21: =SUM(P21:U21) -> 3810
A22: 11 | C22: 10 | D22: TOP-6.2.1-16-VP1-2020-00003 A Veszprémi Bölcsődei és Egészségügyi Alapellátási Integrált Intézmény Módszertani Bölcsődéje megújítása, illetve bölcsődei eszközbeszerzések | E22: 2020-2021 | G22: =+V22-O22-H22 -> 750 | M22: 307086 | O22: =SUM(I22:N22) -> 307086 | R22: =984+40 -> 1024 | S22: 40 | T22: =307086-1064+750 -> 306772 | V22: =SUM(P22:U22) -> 307836
A23: 12 | C23: 11 | D23: TOP-6.5.1-16-VP1-2018-00006 Módszertani bölcsőde energetikai megújítása | E23: 2018-2021 | G23: =+V23-O23-H23 -> 161006 | L23: 173975 | M23: 0 | O23: =SUM(I23:N23) -> 173975 | R23: 6401 | S23: 100 | T23: 328480 | V23: =SUM(P23:U23) -> 334981
A24: 13 | C24: 12 | D24: TOP-6.1.5-16-VP1-2017-00001 Északi Iparterület Közlekedés-fejlesztése | E24: 2016-2021 | G24: =+V24-O24-H24 -> 397000 | K24: 2092161 | M24: 1107839 | O24: =SUM(I24:N24) -> 3200000 | P24: 40063 | Q24: 83854 | R24: 327034 | S24: 1231269 | T24: 1914780 | V24: =SUM(P24:U24) -> 3597000
A25: 14 | C25: 13 | D25: TOP-6.4.1-16-VP1-17-00001 Szabadságpuszta településrész és Felsőörs Község közötti kerékpárút beruházása | E25: 2017-2020 | G25: =+V25-O25-H25 -> 0 | K25: 19671 | M25: =12000+208329 -> 220329 | O25: =SUM(I25:N25) -> 240000 | R25: 9749 | S25: 3835 | T25: =220416+6000 -> 226416 | V25: =SUM(P25:U25) -> 240000
A26: 15 | C26: 14 | D26: TOP-6.4.1-16-VP1-2018-00002 Márkó-Bánd települések irányába kerékpárút építése | E26: 2018-2020 | G26: =+V26-O26-H26 -> 0 | L26: 480600 | M26: 21000 | O26: =SUM(I26:N26) -> 501600 | R26: 326 | S26: 17127 | T26: =472147+12000 -> 484147 | V26: =SUM(P26:U26) -> 501600
A27: 16 | C27: 15 | D27: TOP-6.4.1-15-VP1-2016-00001 Közlekedésbiztonsági és kerékpárosbarát fejlesztések megvalósulása Veszprém város területén | E27: 2016-2019 | G27: =+V27-O27-H27 -> 143176 | I27: 977327 | M27: 27091 | O27: =SUM(I27:N27) -> 1004418 | P27: 25062 | Q27: 32060 | R27: 393153 | S27: =688437 -> 688437 | T27: =8968-86 -> 8882 | V27: =SUM(P27:U27) -> 1147594
A28: 17 | C28: 16 | D28: TOP-6.3.3-16-VP1-2017-00001 Dózsaváros, Pápai úti csapadékvíz-elvezető rendszer fejlesztése | E28: 2018-2019 | G28: =+V28-O28-H28 -> 62406 | K28: 227554 | M28: 10916 | O28: =SUM(I28:N28) -> 238470 | R28: 4460 | S28: 267453 | T28: =23001+5962 -> 28963 | V28: =SUM(P28:U28) -> 300876
A29: 18 | C29: 17 | D29: TOP-6.5.1-16-VP1-2018-00005 - Március 15. utcai Sportcsarnok és Uszoda energetikai megújítása | E29: 2018-2021 | G29: =+V29-O29-H29 -> 33060 | L29: 788115 | M29: =41400-41400-788115 -> -788115 | O29: =SUM(I29:N29) -> 0 | R29: 6414 | S29: 26646 | T29: =782603+13852-13852-10750-771853 -> 0 | V29: =SUM(P29:U29) -> 33060
A30: 19 | C30: 18 | D30: TOP-6.3.2-16-VP1-2018-00001 Kulturális negyed | E30: 2019-2021 | G30: =+V30-O30-H30 -> 96381 | L30: 1544000 | M30: =76000-76000-1544000 -> -1544000 | O30: =SUM(I30:N30) -> 0 | R30: 16599 | S30: 79782 | T30: =1561731+22278-1561731-22278 -> 0 | V30: =SUM(P30:U30) -> 96381
A31: 20 | C31: 19 | D31: GINOP - 7.1.9-17-2018-00023 Veszprém kulturális turisztikai kínálatának fejlesztése | E31: 2018-2020 | G31: =+V31-O31-H31 -> 0 | H31: 277946 | K31: 558299 | M31: 793085 | O31: =SUM(I31:N31) -> 1351384 | R31: 28000 | S31: 26441 | T31: 1574889 | V31: =SUM(P31:U31) -> 1629330
A32: 21 | C32: 20 | D32: KEHOP-5.4.1-16-2016-00142 "Veszprém, az energiatudatos város" | E32: 2019-2020 | G32: =+V32-O32-H32 -> 0 | L32: 815 | M32: =3977-3977 -> 0 | O32: =SUM(I32:N32) -> 815 | T32: =4792-3977 -> 815 | V32: =SUM(P32:U32) -> 815
A33: 22 | C33: 21 | D33: TOP-7.1.1-16-H-ERFA-2019-00078 Szent Miklós-szegi Kálvária domb és környékének infrastrukturális felújítása és funkcióbővítése | E33: 2019-2021 | G33: =+V33-O33-H33 -> 12126 | L33: 243150 | M33: 11850 | O33: =SUM(I33:N33) -> 255000 | R33: 4379 | S33: 12827 | T33: 249920 | V33: =SUM(P33:U33) -> 267126
A34: 23 | C34: 22 | D34: TOP-6.9.2-16-VP1-2018-00001 Közösségfejlesztés Veszprém város településrészein | E34: 2019-2022 | G34: =+V34-O34-H34 -> 0 | L34: =23652+14397 -> 38049 | M34: =31805+70955+43191 -> 145951 | O34: =SUM(I34:N34) -> 184000 | R34: 9200 | S34: =3350+5228+2097 -> 10675 | T34: =19255+89379+55491 -> 164125 | V34: =SUM(P34:U34) -> 184000
A35: 24 | C35: 23 | D35: 601835-CITIZ-1-2018-1-HU-CITIZ-NT Reveal YouropEaN Cultural Heritage/Tárd fel európai kulturális örökségedet (ENriCH) | E35: 2018-2020 | G35: =+V35-O35-H35 -> 695 | K35: 24175 | M35: 24175 | O35: =SUM(I35:N35) -> 48350 | R35: 1176 | S35: 23808 | T35: =24004+62-5 -> 24061 | V35: =SUM(P35:U35) -> 49045
A36: 25 | C36: 24 | D36: Erasmus +K3 SporTown | E36: 2018-2019 | G36: =+V36-O36-H36 -> 0 | K36: 9031 | L36: 8 | M36: 0 | O36: =SUM(I36:N36) -> 9039 | R36: 7830 | S36: 186 | T36: 1023 | V36: =SUM(P36:U36) -> 9039
A37: 26 | C37: 25 | D37: Urbact Innova-tor * | E37: 2019-2021 | G37: =+V37-O37-H37 -> 11302 | M37: =11175+5830 -> 17005 | O37: =SUM(I37:N37) -> 17005 | S37: 8399 | T37: =19581+327 -> 19908 | V37: =SUM(P37:U37) -> 28307
A38: 27 | C38: 26 | D38: KÖFOP-1.2.1-VEKOP-16-2017-01268 Veszprém Megyei Jogú Város Önkormányzata ASP Központhoz való csatlakozása ** | E38: 2017-2018 | G38: =+V38-O38-H38 -> 220 | J38: 9000 | K38: -2700 | M38: -325 | O38: =SUM(I38:N38) -> 5975 | R38: 1582 | S38: 4613 | T38: =239-239 -> 0 | V38: =SUM(P38:U38) -> 6195
A39: 28 | C39: 27 | D39: TOP-7.1.1-16-H-ERFA-2019-00372 Barátságparki csalánkert | E39: 2019-2021 | G39: =+V39-O39-H39 -> 0 | M39: 40000 | O39: =SUM(I39:N39) -> 40000 | T39: 40000 | V39: =SUM(P39:U39) -> 40000
A40: 29 | C40: 28 | D40: KEHOP-1.2.1-18-2019-00247 Veszprém MJV klímastratégia kidolgozása és klímatudatosságot erősítő, szemléletformáló programok megvalósítása | E40: 2019-2021 | G40: =+V40-O40-H40 -> 0 | M40: 19985 | O40: =SUM(I40:N40) -> 19985 | T40: 19985 | V40: =SUM(P40:U40) -> 19985
A41: 30 | B41: 14 | C41: Kabóca Bábszínház
A42: 31 | C42: 2 | D42: EFOP-3.3.2-16-2016-00107 Kulturális intézmények a köznevelés eredményességéért*** | E42: 2018-2019 | G42: =+V42-O42-H42 -> 0 | H42: =1926+228 -> 2154 | K42: 27687 | O42: =SUM(I42:N42) -> 27687 | R42: 5105 | S42: 19384 | T42: 5352 | V42: =SUM(P42:U42) -> 29841
A43: 32 | B43: Összesen | G43: =SUM(G13:G42) -> 1270448 | I43: =SUM(I13:I42) -> 977327 | J43: =SUM(J13:J42) -> 9000 | K43: =SUM(K13:K42) -> 3102781 | L43: =SUM(L13:L42) -> 4462952 | M43: =SUM(M13:M42) -> 611310 | N43: =SUM(N13:N42) -> 0 | O43: =SUM(O13:O42) -> 9163370 | P43: =SUM(P13:P42) -> 68046 | ... V43: =SUM(V13:V42) -> 10713918
B44: * Az Urbact Innova-tor támogatása a szerződésben €-ban van meghatározva, az átszámítás 316.39 Ft/EUR-val történt
B45: ** Ezen projektek esetében a 2018. évi EU támogatás negatív előirányzata az EU támogatás visszautalását jelenti.
B46: *** A projekt a támogatási szerződés szerint nettó módon finanszírozott.

Sheet 17.Közv.tám.
B1: 17. melléklet a .../2020. (…….) önkormányzati rendelethez
B3: KIMUTATÁS
B4: a 2020. évi közvetett támogatásokról
B5: tájékoztató jelleggel az Áht. 24. § (4) bekezdés c) pontja alapján
B6: A | D6: B
B7: Törvények és helyi rendeletek által nyújtott mentességek, kedvezmények | D7: Közvetett támogatás ezer Forintban
A8: 1 | B8: 1. | C8: Adóhivatal:
A9: 2 | C9: Iparűzési adó | D9: 150000
A10: 3 | C10: Építményadó | D10: 30000
A11: 4 | C11: Telekadó | D11: 150000
A12: 5 | C12: Kommunális adó | D12: 14000
A13: 6 | C13: Idegenforgalmi adó | D13: 42000
A14: 7 | C14: Gépjárműadó | D14: 100000
A15: 8 | D15: =SUM(D9:D14) -> 486000
A16: 9 | B16: 2. | C16: Ellátottak térítési díjának, illetve kártérítésének méltányossági alapon történő elengedésének összege | D16: 113
A17: 10 | B17: 3. | C17: Lakosság részére lakásépítéshez, lakásfelújításhoz nyújtott kölcsönök elengedésének összege
A18: 11 | B18: 4. | C18: Helyiségek, eszközök hasznosításából származó bevételből nyújtott kedvezmény, mentesség összege | D18: 1476
A19: 12 | B19: 5. | C19: Egyéb nyújtott kedvezmény, vagy kölcsön elengedésének összege
A20: 13 | B20: Összesen: | D20: =SUM(D15:D19) -> 487589
