Workbook
Name _4._sz._sor_részletezése: #REF!
Name _4._sz._sor_részletezése: #REF!
Name _4._sz._sor_részletezése: #REF!
Name _4._sz._sor_részletezése: #REF!
Name _4._sz._sor_részletezése: #REF!
Name _4._sz._sor_részletezése: #REF!
Name _4._sz._sor_részletezése: #REF!
Name _4._sz._sor_részletezése: #REF!
Name _4._sz._sor_részletezése: #REF!
Name _4._sz._sor_részletezése: #REF!
Name _4._sz._sor_részletezése: #REF!

Sheet Összefoglaló 
B1: ÖSSZEFOGLALÓ TÁBLA
B2: a bevételi és kiadási előirányzatok módosításáról
B3: 2020. október hó
E4: adatok eFt-ban
D5: A | E5: B
D6: Megnevezés | E6: Összesen
A7: 1 | B7: I. | D7: BEVÉTELEK
A8: 2 | C8: 1. | D8: Helyi önkormányzatok általános működéséhez és ágazati feladataihoz kapcsolódó támogatás
A9: 3 | D9: Kulturális illetmény pótlék (2020. augusztus hó) | E9: 5342
A10: 4 | D10: Szociális ágazati összevont pótlék (2020. augusztus hó) | E10: 14671
A11: 5 | D11: Szociális ágazatban foglalkoztatottak egészségügyi kiegészítő pótléka (2020. augusztus hó) | E11: 317
A12: 6 | D12: Bérkompenzáció (2020. augusztus hó) | E12: 505
A13: 7 | D13: Gyermekétkeztetés támogatása | E13: -73304
A14: 8 | D14: Összesen | E14: =SUM(E9:E13) -> -52469
A15: 9 | C15: 2. | D15: Egyéb működési célú támogatások
A16: 10 | D16: TOP-6.5.1-16-VP1-2018-00002 Völgyikút utca 2. szám alatti épület energetikai megújítása | E16: 3632
A17: 11 | D17: Összesen | E17: =SUM(E16:E16) -> 3632
A18: 12 | C18: 3. | D18: Önkormányzati Intézmények működési célú támogatások Áht-on belülről
A19: 13 | D19: Művészetek Háza Veszprém Művelődési Ház és Kiállítóhely
A20: 14 | D20: Tempus Közalapítvány, NKA pályázati bevételek, Kormányhivataltól kapott támogatás | E20: 4642
A21: 15 | D21: Eötvös Károly Megyei Könyvtár - NKA pályázati támogatás | E21: 250
A22: 16 | D22: Összesen | E22: =SUM(E19:E21) -> 4892
A23: 17 | C23: 4. | D23: Közhatalmi bevételek
A24: 18 | D24: Adók - Iparűzési adó | E24: 100000
A25: 19
A26: 20 | C26: 5. | D26: Önkormányzat működési bevételei
A27: 21 | D27: Szolgáltatások, közvetített szolgáltatások ellenértéke | E27: 1329
A28: 22 | D28: Tulajdonosi bevételek - Bakonykarszt - lakossági vízbekötés ellentételezése | E28: 124
A29: 23 | D29: ÁFA bevételek és visszatérülések | E29: =359+34 -> 393
A30: 24 | D30: Összesen | E30: =SUM(E27:E29) -> 1846
A31: 25 | C31: 6. | D31: Önkormányzati intézmények működési bevételei
A32: 26 | D32: Veszprémi Egry Úti Körzeti Óvoda - térítési díj bevételi többlet | E32: 897
A33: 27 | D33: Eötvös Károly Megyei Könyvtár - várható áfa bevételi többlet | E33: 6951
A34: 28 | D34: Átcsoportosítás
A35: 29 | D35: Veszprémi Intézményi Szolgáltató Szervezet | E35: -600
A36: 30 | D36: Összesen | E36: =SUM(E32:E35) -> 7248
A37: 31 | C37: 7. | D37: Felhalmozási célú támogatások Áht-on belülről
A38: 32 | D38: TOP-6.5.1-16-VP1-2018-00005 - Március 15. utcai Sportcsarnok és Uszoda energetikai megújítása - projekt visszaadása | E38: -41400
A39: 33 | D39: TOP-6.5.1-16-VP1-2018-00002 Völgyikút utca 2. szám alatti épület energetikai megújítása | E39: 130641
A40: 34 | D40: Összesen | E40: =SUM(E38:E39) -> 89241
...

Sheet 1.Onbe
B1: 1. melléklet a 2020. évi költségvetésről szóló 5/2020. (II. 27.) önkormányzati rendelet módosításáról szóló 39/2020. (X.29.) önkormányzati rendelethez
B2: "1. melléklet VMJV Önkormányzata Közgyűlésének 5/2020. (II. 27.) önkormányzati rendeletéhez"
B4: Veszprém Megyei Jogú Város Önkormányzatának
B5: 2020. évi költségvetési bevételei
M6: adatok eFt-ban
B7: A | C7: B | D7: C | E7: D | F7: E | G7: F | H7: G | I7: H | J7: I | K7: J | L7: K | M7: L
B8: Cím | C8: Alcím | D8: Előir. csop. | E8: Kie-melt előir. | F8: Megnevezés | G8: 2018. évi tény | H8: 2019. évi eredeti előirányzat | I8: 2019. évi tény | J8: 2020. évi eredeti előirányzat | K8: 2020. évi módosított előirányzat 3. | L8: Módosítás | M8: 2020. évi módosított előirányzat 4.
A9: 1 | D9: 1 | F9: Működési költségvetési bevételek | G9: =SUM(G10,G17,G27,G33,G35,G16,G32) -> 14062643 | H9: =SUM(H10,H17,H27,H33,H35,H16,H32) -> 12977517 | I9: =SUM(I10,I17,I27,I33,I35,I16,I32) -> 14853364 | J9: =SUM(J10,J17,J27,J33,J35,J16,J32) -> 15115259 | K9: =SUM(K10,K17,K27,K33,K35,K16,K32) -> 13925030 | L9: =SUM(L10,L17,L27,L33,L35,L16,L32) -> 65149 | M9: =SUM(M10,M17,M27,M33,M35,M16,M32) -> 13990179
A10: 2 | B10: 18 | E10: 1 | F10: Működési célú támogatások Áht-on belülről | G10: =SUM(G11,G14:G14) -> 3706565 | H10: =SUM(H11,H14:H14) -> 3419289 | I10: =SUM(I11,I14:I14) -> 4483032 | J10: =SUM(J11,J14:J14) -> 4404208 | K10: =SUM(K11,K14:K14) -> 4425412 | L10: =SUM(L11,L14:L14) -> -48837 | M10: =SUM(M11,M14:M14) -> 4376575
A11: 3 | F11: Önkormányzatok működési támogatásai | G11: =SUM(G12:G13) -> 3341151 | H11: =SUM(H12:H13) -> 3194545 | I11: =SUM(I12:I13) -> 3563207 | J11: =SUM(J12:J13) -> 3066627 | K11: =SUM(K12:K13) -> 3431177 | L11: =SUM(L12:L13) -> -52469 | M11: =SUM(M12:M13) -> 3378708
A12: 4 | F12: Helyi önkormányzatok működésének általános és ágazati feladataihoz kapcsolódó támogatás | G12: 3286398 | H12: 3194545 | I12: 3533067 | J12: 3066627 | K12: 3428227 | L12: -52469 | M12: =SUM(K12:L12) -> 3375758
A13: 5 | F13: Működési célú költségvetési támogatások és kiegészítő támogatások | G13: 54753 | I13: 30140 | K13: 2950 | M13: =SUM(K13:L13) -> 2950
A14: 6 | F14: Egyéb működési célú támogatások bevételei | G14: 365414 | H14: 224744 | I14: 919825 | J14: 1337581 | K14: 994235 | L14: 3632 | M14: =SUM(K14:L14) -> 997867
A15: 7 | F15: ebből: Társadalombizt. Alapból származó támogatás | G15: 148540 | H15: 147600 | I15: 160234 | J15: 180000 | K15: 199387 | M15: =SUM(K15:L15) -> 199387
A16: 8 | B16: 1-17 | E16: 2 | F16: Önkormányzati Intézmények működési célú támogatások Áht-on belülről | G16: 216590 | H16: 117496 | I16: 317352 | J16: 236049 | K16: 194057 | L16: 4892 | M16: =SUM(K16:L16) -> 198949
A17: 9 | B17: 18 | E17: 3 | F17: Közhatalmi bevételek | G17: =SUM(G18,G26:G26) -> 8049548 | H17: =SUM(H18,H26:H26) -> 7765600 | I17: =SUM(I18,I26:I26) -> 8108452 | J17: =SUM(J18,J26:J26) -> 7945120 | K17: =SUM(K18,K26:K26) -> 7280120 | L17: =SUM(L18,L26:L26) -> 100000 | M17: =SUM(M18,M26:M26) -> 7380120
A18: 10 | F18: Adók | G18: =SUM(G19:G25) -> 8043412 | H18: =SUM(H19:H25) -> 7760000 | I18: =SUM(I19:I25) -> 8100342 | J18: =SUM(J19:J25) -> 7940000 | K18: =SUM(K19:K25) -> 7275000 | L18: =SUM(L19:L25) -> 100000 | M18: =SUM(M19:M25) -> 7375000
A19: 11 | F19: Építményadó | G19: 1300333 | H19: 1300000 | I19: 1353716 | J19: 1320000 | K19: 1320000 | M19: =SUM(K19:L19) -> 1320000
A20: 12 | F20: Idegenforgalmi adó | G20: 44141 | H20: 45000 | I20: 45085 | J20: 55000 | K20: 10000 | M20: =SUM(K20:L20) -> 10000
A21: 13 | F21: Kommunális adó | G21: 143422 | H21: 145000 | I21: 142925 | J21: 143000 | K21: 143000 | M21: =SUM(K21:L21) -> 143000
A22: 14 | F22: Telekadó | G22: 95735 | H22: 95000 | I22: 91186 | J22: 92000 | K22: 92000 | M22: =SUM(K22:L22) -> 92000
A23: 15 | F23: Iparűzési adó | G23: 6222826 | H23: 5950000 | I23: 6222920 | J23: 6100000 | K23: 5700000 | L23: 100000 | M23: =SUM(K23:L23) -> 5800000
A24: 16 | F24: Gépjárműadó | G24: 215843 | H24: 210000 | I24: 230151 | J24: 220000 | K24: 0 | M24: =SUM(K24:L24) -> 0
A25: 17 | F25: Egyéb pótlékok, bírságok | G25: 21112 | H25: 15000 | I25: 14359 | J25: 10000 | K25: 10000 | M25: =SUM(K25:L25) -> 10000
A26: 18 | F26: Egyéb közhatalmi bevételek (bírságok, igazgatási szolgáltatási díjak) | G26: 6136 | H26: 5600 | I26: 8110 | J26: 5120 | K26: 5120 | M26: =SUM(K26:L26) -> 5120
A27: 19 | B27: 18 | E27: 4 | F27: Működési bevételek | G27: =SUM(G28:G31) -> 1035546 | H27: =SUM(H28:H31) -> 765238 | I27: =SUM(I28:I31) -> 818620 | J27: =SUM(J28:J31) -> 1501270 | K27: =SUM(K28:K31) -> 1134028 | L27: =SUM(L28:L31) -> 1846 | M27: =SUM(M28:M31) -> 1135874
A28: 20 | F28: Szolgáltatások, közvetített szolgáltatások ellenértéke | G28: 319006 | H28: 367526 | I28: 335480 | J28: 327392 | K28: 263773 | L28: 1329 | M28: =SUM(K28:L28) -> 265102
A29: 21 | F29: Tulajdonosi bevételek | G29: 155541 | H29: 192783 | I29: 219462 | J29: 280770 | K29: 281160 | L29: 124 | M29: =SUM(K29:L29) -> 281284
A30: 22 | F30: ÁFA bevételek és visszatérülések | G30: 490423 | H30: 204929 | I30: 219034 | J30: 889171 | K30: 584630 | L30: =359+34 -> 393 | M30: =SUM(K30:L30) -> 585023
A31: 23 | F31: Egyéb működési bevételek | G31: 70576 | I31: 44644 | J31: 3937 | K31: 4465 | M31: =SUM(K31:L31) -> 4465
A32: 24 | B32: 1-17 | E32: 5 | F32: Önkormányzati Intézmények működési bevételek | G32: 998980 | H32: 909894 | I32: 1111879 | J32: 1028612 | K32: 879787 | L32: 7248 | M32: =SUM(K32:L32) -> 887035
A33: 25 | B33: 18 | E33: 6 | F33: Működési célú átvett pénzeszközök | G33: 41080 | I33: 5713 | K33: 10120 | M33: =SUM(K33:L33) -> 10120
A34: 26 | F34: ebből: Koronavírus elleni védekezésre adomány | K34: 6120 | M34: =SUM(K34:L34) -> 6120
A35: 27 | B35: 1-17 | E35: 7 | F35: Önkormányzati Intézmények működési célú átvett pénzeszközök | G35: 14334 | I35: 8316 | K35: 1506 | M35: =SUM(K35:L35) -> 1506
A36: 28 | D36: 2 | F36: Felhalmozási költségvetési bevételek | G36: =SUM(G37,G40:G41,G43:G45) -> 12772481 | H36: =SUM(H37,H40:H41,H43:H45) -> 5648160 | I36: =SUM(I37,I40:I41,I43:I45) -> 6259786 | J36: =SUM(J37,J40:J41,J43:J45) -> 8363612 | K36: =SUM(K37,K40:K41,K43:K45) -> 10416945 | L36: =SUM(L37,L40:L41,L43:L45) -> 90191 | M36: =SUM(M37,M40:M41,M43:M45) -> 10507136
A37: 29 | E37: 8 | F37: Felhalmozási célú támogatások Áht-on belülről | G37: =SUM(G38,G39) -> 12588575 | H37: =SUM(H38,H39) -> 5270260 | I37: =SUM(I38,I39) -> 5463793 | J37: =SUM(J38,J39) -> 8162019 | K37: =SUM(K38,K39) -> 10218410 | L37: =SUM(L38,L39) -> 89241 | M37: =SUM(M38,M39) -> 10307651
A38: 30 | B38: 18 | F38: Felhalmozási célú önkormányzati támogatások | G38: 4325400 | I38: 6456
A39: 31 | B39: 18 | F39: Egyéb felhalmozási célú támogatások bevételei | G39: 8263175 | H39: 5270260 | I39: 5457337 | J39: 8162019 | K39: 10218410 | L39: 89241 | M39: =SUM(K39:L39) -> 10307651
A40: 32 | B40: 1-17 | E40: 9 | F40: Önkormányzati Intézmények felhalmozási célú támogatások Áht-on belülről | G40: 40469 | H40: 2900 | I40: 14183 | J40: 4050 | K40: 4135 | M40: =SUM(K40:L40) -> 4135
A41: 33 | B41: 18 | E41: 10 | F41: Felhalmozási bevételek | G41: =SUM(G42:G42) -> 136583 | H41: =SUM(H42:H42) -> 225000 | I41: =SUM(I42:I42) -> 153966 | J41: =SUM(J42:J42) -> 190000 | K41: =SUM(K42:K42) -> 190000 | L41: =SUM(L42:L42) -> 0 | M41: =SUM(M42:M42) -> 190000
...

Sheet 1.A Norm
B1: 1.A. melléklet a .../2020. (…….) önkormányzati rendelethez
B2: Helyi önkormányzatok általános működéséhez és ágazati feladataihoz kapcsolódó támogatások
B3: alakulása 2019. és 2020. évben
G4: adatok eFt-ban
B5: A | C5: B | D5: C | G5: D
B6: Megnevezés | C6: 2019. év | D6: 2020. év | E6: Módosítás | F6: 2020. év összesen | G6: Változás %-a
G7: 2020/2019.
A8: 1 | B8: 1. Helyi önkormányzatok működésének általános támogatása | C8: 0 | D8: 0 | E8: 7199 | F8: =SUM(D8:E8) -> 7199
A9: 2 | B9: 2. Települési önkormányzatok egyes köznevelési feladatainak támogatása | C9: =SUM(C10:C13) -> 1108325 | D9: =SUM(D10:D13) -> 1125011 | E9: =SUM(E10:E13) -> 3733 | F9: =SUM(F10:F13) -> 1128744 | G9: =(F9/C9) -> 1.0184233
A10: 3 | B10: Óvodapedagógusok és az óvodapedagógusok nevelő munkáját közvetlenül segítők bértámogatása | C10: 911028 | D10: 927157 | F10: =SUM(D10:E10) -> 927157 | G10: =(F10/C10) -> 1.0177042
A11: 4 | B11: Óvodaműködtetési támogatás | C11: 165613 | D11: 162239 | F11: =SUM(D11:E11) -> 162239 | G11: =(F11/C11) -> 0.9796272
A12: 5 | B12: Kiegészítő támogatás az óvodapedagógusok minősítéséből adódó többletkiadásokhoz | C12: 28306 | D12: 30745 | E12: 3733 | F12: =SUM(D12:E12) -> 34478 | G12: =(F12/C12) -> 1.2180456
A13: 6 | B13: Nemzetiségi pótlék | C13: 3378 | D13: 4870 | F13: =SUM(D13:E13) -> 4870 | G13: =(F13/C13) -> 1.4416815
A14: 7 | B14: 3. Települési önkormányzatok szociális, gyermekjóléti és gyermek-étkeztetési feladatainak támogatása | C14: =SUM(C15:C27) -> 1319428 | D14: =SUM(D15:D27) -> 1480333 | E14: =SUM(E15:E27) -> 2828 | F14: =SUM(F15:F27) -> 1483161 | G14: =(F14/C14) -> 1.1240939
A15: 8 | B15: Család- és gyermekjóléti szolgálat | C15: 35020 | D15: 35020 | E15: 3158 | F15: =SUM(D15:E15) -> 38178 | G15: =(F15/C15) -> 1.090177
A16: 9 | B16: Család- és gyermekjóléti központ | C16: 39270 | D16: 39270 | E16: -330 | F16: =SUM(D16:E16) -> 38940 | G16: =(F16/C16) -> 0.99159664
A17: 10 | B17: Szociális étkeztetés | C17: 39887 | D17: 49393 | F17: =SUM(D17:E17) -> 49393 | G17: =(F17/C17) -> 1.2383233
A18: 11 | B18: Házi segítségnyújtás | C18: 52463 | D18: 65687 | F18: =SUM(D18:E18) -> 65687 | G18: =(F18/C18) -> 1.2520634
A19: 12 | B19: Időskorúak nappali intézményi ellátása | C19: 26160 | D19: 39900 | F19: =SUM(D19:E19) -> 39900 | G19: =(F19/C19) -> 1.5252294
A20: 13 | B20: Fogyatékos személyek nappali intézményi ellátása | C20: 22000 | D20: 32245 | F20: =SUM(D20:E20) -> 32245 | G20: =(F20/C20) -> 1.4656818
A21: 14 | B21: Demens személyek nappali intézményi ellátása | C21: 8500 | D21: 13780 | F21: =SUM(D21:E21) -> 13780 | G21: =(F21/C21) -> 1.6211765
A22: 15 | B22: Óvodai és iskolaiszociális segítő tevékenység támogatása | C22: 54369 | D22: 54612 | F22: =SUM(D22:E22) -> 54612 | G22: =(F22/C22) -> 1.0044695
A23: 16 | B23: Családok és hajléktalanok átmeneti elhelyezése | C23: 9398 | D23: 19290 | F23: =SUM(D23:E23) -> 19290 | G23: =(F23/C23) -> 2.0525644
A24: 17 | B24: Idősek átmeneti és tartós szociális szakosított ellátásának támogatása | C24: 111469 | D24: =142747+30058 -> 172805 | F24: =SUM(D24:E24) -> 172805 | G24: =(F24/C24) -> 1.5502516
A25: 18 | B25: Gyermekétkeztetés támogatása | C25: 482460 | D25: 501906 | F25: =SUM(D25:E25) -> 501906 | G25: =(F25/C25) -> 1.0403059
A26: 19 | B26: Rászoruló gyermekek intézményen kívüli szünidei étkeztetése | C26: 133 | D26: 76 | F26: =SUM(D26:E26) -> 76 | G26: =(F26/C26) -> 0.57142857
A27: 20 | B27: Bölcsődei, mini bölcsődei ellátás (kedvezményes étk. támog. nélkül) | C27: 438299 | D27: 456349 | F27: =SUM(D27:E27) -> 456349 | G27: =(F27/C27) -> 1.0411819
A28: 21 | B28: 4. Települési önkormányzatok kulturális feladatainak támogatása | C28: =SUM(C29:C34) -> 766792 | D28: =SUM(D29:D34) -> 461283 | E28: =SUM(E29:E34) -> 417327 | F28: =SUM(F29:F34) -> 878610 | G28: =(F28/C28) -> 1.1458257
A29: 22 | B29: Megyei hatáskörű városi múzeumok feladatainak támogatása | C29: 117500 | D29: 120660 | F29: =SUM(D29:E29) -> 120660 | G29: =(F29/C29) -> 1.0268936
A30: 23 | B30: Megyei könyvtárak feladatainak támogatása | C30: 140200 | D30: 140200 | F30: =SUM(D30:E30) -> 140200 | G30: =(F30/C30) -> 1
A31: 24 | B31: Megyeszékhely megyei jogú városok közművelődési támogatása | C31: 25588 | D31: 25675 | F31: =SUM(D31:E31) -> 25675 | G31: =(F31/C31) -> 1.0034
A32: 25 | B32: Megyei könyvtár kistelepülési könyvtári célú kiegészítő támogatása | C32: 149704 | D32: 150648 | F32: =SUM(D32:E32) -> 150648 | G32: =(F32/C32) -> 1.0063058
A33: 26 | B33: Színművészeti szervezetek támogatása* | C33: 308800 | E33: 417327 | F33: =SUM(D33:E33) -> 417327 | G33: =(F33/C33) -> 1.3514475
A34: 27 | B34: Zenekarok támogatása | C34: 25000 | D34: 24100 | F34: =SUM(D34:E34) -> 24100 | G34: =(F34/C34) -> 0.964
A35: 28 | B35: MINDÖSSZESEN: | C35: =SUM(C8:C9,C14,C28) -> 3194545 | D35: =SUM(D8:D9,D14,D28) -> 3066627 | E35: =SUM(E8:E9,E14,E28) -> 431087 | F35: =SUM(F8:F9,F14,F28) -> 3497714 | G35: =(F35/C35) -> 1.0949021
B36: * Megjegyzés: A Magyar Államkincstár tájékoztatása szerint a Magyarország 2020. évi központi költségvetéséről szóló 2019. évi LXXI. Törvény 3. melléklet I. 13. e) pontjában szereplő Színházművészeti szervezetek támogatása jogcímen eredeti előirányzatként 0 forintot kell az elemi költségvetésben tervezni. A színművészeti szervezetek finanszírozására VMJV Önkormányzata és Magyrország Kormány között Társműködtetői megállapodás jött létre.

Sheet 2.Onki
B1: 2. melléklet a 2020. évi költségvetésről szóló 5/2020. (II. 27.) önkormányzati rendelet módosításáról szóló 39/2020. (X.29.) önkormányzati rendelethez
B2: "2. melléklet VMJV Önkormányzata Közgyűlésének 5/2020. (II. 27.) önkormányzati rendeletéhez"
B4: Veszprém Megyei Jogú Város Önkormányzatának
B5: 2020. évi költségvetési kiadásai
M6: adatok eFt-ban
B7: A | C7: B | D7: C | E7: D | F7: E | G7: F | H7: G | I7: H | J7: I | K7: J | L7: K | M7: L
B8: Cím | C8: Alcím | D8: Előir. csop. | E8: Kie-melt előir. | F8: Megnevezés | G8: 2018. évi tény | H8: 2019. évi eredeti előirányzat | I8: 2019. évi tény | J8: 2020. évi eredeti előirányzat | K8: 2020. évi módosított előirányzat 3. | L8: Módosítás | M8: 2020. évi módosított előirányzat 4.
A9: 1 | B9: 1-17 | F9: Intézményi költségvetési kiadások | G9: =SUM(G10:G11) -> 7353582 | H9: =SUM(H10:H11) -> 7596089 | I9: =SUM(I10:I11) -> 8054296 | J9: =SUM(J10:J11) -> 8038573 | K9: =SUM(K10:K11) -> 8985521 | L9: =SUM(L10:L11) -> -75620 | M9: =SUM(M10:M11) -> 8909901
A10: 2 | D10: 1 | F10: Működési költségvetési kiadások | G10: 7197678 | H10: 7431316 | I10: 7776616 | J10: 7971537 | K10: 8813666 | L10: -95562 | M10: =SUM(K10:L10) -> 8718104
A11: 3 | D11: 2 | F11: Felhalmozási költségvetési kiadások | G11: =SUM(G12:G13) -> 155904 | H11: =SUM(H12:H13) -> 164773 | I11: =SUM(I12:I13) -> 277680 | J11: =SUM(J12:J13) -> 67036 | K11: =SUM(K12:K13) -> 171855 | L11: =SUM(L12:L13) -> 19942 | M11: =SUM(M12:M13) -> 191797
A12: 4 | E12: 1 | F12: Beruházási kiadások | G12: 155449 | H12: 164773 | I12: 277321 | J12: 67036 | K12: 168700 | L12: 19980 | M12: =SUM(K12:L12) -> 188680
A13: 5 | E13: 2 | F13: Felújítási kiadások | G13: 455 | I13: 359 | K13: 3155 | L13: -38 | M13: =SUM(K13:L13) -> 3117
A14: 6 | B14: 18 | F14: VMJV Önkormányzata | G14: =SUM(G15:G16,G27,G28) -> 13225053 | H14: =SUM(H15:H16,H27,H28) -> 19900460 | I14: =SUM(I15:I16,I27,I28) -> 11881117 | J14: =SUM(J15:J16,J27,J28) -> 29513701 | K14: =SUM(K15:K16,K27,K28) -> 30611721 | L14: =SUM(L15:L16,L27,L28) -> 230960 | M14: =SUM(M15:M16,M27,M28) -> 30842681
A15: 7 | D15: 1 | F15: Működési költségvetési kiadások | G15: 4718378 | H15: 5579739 | I15: 6400942 | J15: 6655947 | K15: 6163654 | L15: ='6.Önk.műk.'!I982+'7.Beruh.'!I331+'8.Felúj.'!I137+'8.Projekt'!I209+'8.Projekt'!J209+'8.Projekt'!K209+'8.Projekt'!L209+'10.MVP és hazai'!I78+'10.MVP és hazai'!J78+'10.MVP és hazai'!K78+'10.MVP és hazai'!L78+'9.EKF'!I187+'9.EKF'!J187+'9.EKF'!K187+'9.EKF'!L187 -> 225156 | M15: =SUM(K15:L15) -> 6388810
A16: 8 | F16: Céltartalékok | G16: =SUM(G17,G23) -> 0 | H16: =SUM(H17,H23) -> 394518 | I16: =SUM(I17,I23) -> 0 | J16: =SUM(J17,J23) -> 520204 | K16: =SUM(K17,K23) -> 571250 | L16: =SUM(L17,L23) -> -67080 | M16: =SUM(M17,M23) -> 504170
A17: 9 | D17: 1 | F17: Működési célú céltartalékok | G17: =SUM(G18:G21) -> 0 | H17: =SUM(H18:H21) -> 105109 | I17: =SUM(I18:I22) -> 0 | J17: =SUM(J18:J21) -> 135616 | K17: =SUM(K18:K21) -> 77662 | L17: =SUM(L18:L21) -> -67080 | M17: =SUM(K17:L17) -> 10582
A18: 10 | F18: - Felmentési idő, jub.jut., végkielégítés | H18: 76368 | J18: 111616 | K18: 77662 | L18: -67080 | M18: =SUM(K18:L18) -> 10582
A19: 11 | F19: - Képviselői keret | H19: 24000 | J19: 24000 | K19: 0 | M19: =SUM(K19:L19) -> 0
A20: 12 | F20: - Intézményi beruházáshoz kapcsolódó létszámbővítés | H20: 4741 | M20: =SUM(K20:L20) -> 0
A21: 13 | F21: - Működési kiadásokra képzett céltartalék | M21: =SUM(K21:L21) -> 0
A22: 14 | F22: - Adóbevételekkel szembeni kötelezettség | M22: =SUM(K22:L22) -> 0
A23: 15 | D23: 2 | F23: Felhalmozási célú céltartalékok | G23: =SUM(G24:G26) -> 0 | H23: =SUM(H24:H26) -> 289409 | J23: =SUM(J24:J26) -> 384588 | K23: =SUM(K24:K26) -> 493588 | L23: =SUM(L24:L26) -> 0 | M23: =SUM(M24:M26) -> 493588
A24: 16 | F24: - Előző évi hitelszerződéshez kapcs. feladat
A25: 17 | F25: - Beruházási kiadásokra képzett céltartalék | H25: 248370 | K25: 109000 | M25: =SUM(K25:L25) -> 109000
A26: 18 | F26: - Viziközmű fejlesztés | H26: 41039 | J26: 384588 | K26: 384588 | M26: =SUM(K26:L26) -> 384588
A27: 19 | F27: Általános tartalék | H27: 150000 | J27: 177471 | K27: 63922 | L27: -53513 | M27: =SUM(K27:L27) -> 10409
A28: 20 | D28: 2 | F28: Felhalmozási költségvetési kiadások | G28: =SUM(G29:G31) -> 8506675 | H28: =SUM(H29:H31) -> 13776203 | I28: =SUM(I29:I31) -> 5480175 | J28: =SUM(J29:J31) -> 22160079 | K28: =SUM(K29:K31) -> 23812895 | L28: =SUM(L29:L31) -> 126397 | M28: =SUM(M29:M31) -> 23939292
A29: 21 | E29: 1 | F29: Beruházási kiadások | G29: 7792799 | H29: 13014190 | I29: 5000126 | J29: 21222147 | K29: 21370591 | L29: ='7.Beruh.'!J331+'8.Projekt'!M209+'10.MVP és hazai'!M78+'9.EKF'!M187 -> -768907 | M29: =SUM(K29:L29) -> 20601684
A30: 22 | E30: 2 | F30: Egyéb felhalmozási célú kiadások | G30: 502120 | H30: 197022 | I30: 55982 | J30: 549493 | K30: 2072229 | L30: ='7.Beruh.'!K331+'8.Projekt'!N209+'10.MVP és hazai'!N78+'9.EKF'!O187 -> 895304 | M30: =SUM(K30:L30) -> 2967533
A31: 23 | E31: 3 | F31: Felújítási kiadások | G31: 211756 | H31: 564991 | I31: 424067 | J31: 388439 | K31: 370075 | L31: ='8.Felúj.'!J137+'9.EKF'!N187 -> 0 | M31: =SUM(K31:L31) -> 370075
A32: 24 | B32: 18 | F32: Lakásalap kiadása | G32: =SUM(G33:G34) -> 0 | H32: =SUM(H33:H34) -> 0 | I32: =SUM(I33:I34) -> 0 | J32: =SUM(J33:J34) -> 0 | K32: =SUM(K33:K34) -> 0 | L32: =SUM(L33:L34) -> 0 | M32: =SUM(M33:M34) -> 0
A33: 25 | D33: 1 | F33: Működési költségvetési kiadások
A34: 26 | D34: 2 | F34: Felhalmozási költségvetési kiadások
A35: 27 | F35: Költségvetési kiadások összesen | G35: =SUM(G9,G14,G32) -> 20578635 | H35: =SUM(H9,H14,H32) -> 27496549 | I35: =SUM(I9,I14,I32) -> 19935413 | J35: =SUM(J9,J14,J32) -> 37552274 | K35: =SUM(K9,K14,K32) -> 39597242 | L35: =SUM(L9,L14,L32) -> 155340 | M35: =SUM(M9,M14,M32) -> 39752582
A36: 28 | B36: 18 | F36: Finanszírozási kiadások | G36: =SUM(G40:G41,G37:G38) -> 215713 | H36: =SUM(H40:H41,H37:H38) -> 209635 | I36: =SUM(I40:I41,I37:I38) -> 241248 | J36: =SUM(J40:J41,J37:J38) -> 219771 | K36: =SUM(K40:K41,K37:K38) -> 219771 | L36: =SUM(L40:L41,L37:L38) -> 0 | M36: =SUM(M40:M41,M37:M38) -> 219771
A37: 29 | D37: 1 | F37: Működési finanszírozási kiadások
A38: 30 | D38: 1 | F38: Államháztartáson belüli megelőlegezések visszafizetése | G38: 108118 | H38: 96040 | I38: 127653 | J38: 111267 | K38: 111267 | M38: =SUM(K38:L38) -> 111267
A39: 31 | D39: 2 | F39: Felhalmozási finanszírozási kiadások
A40: 32 | F40: - Hiteltörlesztés | G40: 107595 | H40: 113595 | I40: 113595 | J40: 108504 | K40: 108504 | M40: =SUM(K40:L40) -> 108504
A41: 33 | F41: - Lakásalap hiteltörlesztése
...

Sheet 3.Inbe 
B1: 3. melléklet a 2020. évi költségvetésről szóló 5/2020. (II. 27.) önkormányzati rendelet módosításáról szóló 39/2020. (X.29.) önkormányzati rendelethez
B2: "3. melléklet VMJV Önkormányzata Közgyűlésének 5/2020. (II. 27.) önkormányzati rendeletéhez"
B4: Veszprém Megyei Jogú Város Önkormányzata Intézményei
B5: 2020. évi költségvetési bevételei
N6: adatok eFt-ban
B7: A | C7: B | D7: C | F7: D | G7: E | H7: F | I7: G | J7: H | K7: I | L7: J | M7: K | N7: L | O7: M
B8: Cím | C8: Alcím | D8: Megnevezés | F8: Működési költségvetési bevételek | I8: Felhalmozási költségvetési bevételek | L8: Előző évi költségvetési maradvány | M8: Irányító szervtől kapott támogatás | O8: 2020. évi bevételi előirányzat
F9: Működési bevételek | G9: Működési célú támogatás Áht-on belülről | H9: Működési célú átvett pénzeszköz | I9: Felhalmozási bevétel | J9: Felhalmozási célú támogatás Áht.-on belülről | K9: Felhalmozási célú átvett pénzeszköz | M9: Összesen | N9: Ebből: költségvetési támogatás
A10: 1 | B10: 1 | D10: Veszprémi Vadvirág Körzeti Óvoda
A11: 2 | D11: (Csillagvár Waldorf Tagóvoda, Vadvirág Óvoda)
A12: 3 | E12: eredeti előirányzat | F12: 4940 | L12: 710 | M12: 207975 | N12: 142608 | O12: =SUM(F12:M12) -> 213625
A13: 4 | E13: módosított előirányzat 3. | F13: 4940 | L13: 6146 | M13: 209171 | N13: 154385 | O13: =SUM(F13:M13) -> 220257
A14: 5 | E14: módosítás- jubileumi jutalom, felmentési idő | M14: 4291 | O14: =SUM(F14:M14) -> 4291
A15: 6 | E15: Pedagógus bérfejlesztés 2020. július 1-től | M15: 4140 | O15: =SUM(F15:M15) -> 4140
A16: 7 | E16: Gyermekétkeztetés költségeinek rendezése | M16: -7700 | O16: =SUM(F16:M16) -> -7700
A17: 8 | E17: módosított előirányzat 4. | F17: =SUM(F13:F16) -> 4940 | L17: =SUM(L13:L16) -> 6146 | M17: =SUM(M13:M16) -> 209902 | N17: =SUM(N13:N16) -> 154385 | O17: =SUM(F17:M17) -> 220988
A18: 9 | B18: 2 | D18: Veszprémi Bóbita Körzeti Óvoda
A19: 10 | D19: (Hársfa Tagóvoda, Bóbita Óvoda)
A20: 11 | E20: eredeti előirányzat | F20: 9516 | L20: 700 | M20: 356874 | N20: 277977 | O20: =SUM(F20:M20) -> 367090
A21: 12 | E21: módosított előirányzat 3. | F21: 7516 | L21: 28037 | M21: 358740 | N21: 296260 | O21: =SUM(F21:M21) -> 394293
A22: 13 | E22: módosítás- jubileumi jutalom, felmentési idő | M22: 10193 | O22: =SUM(F22:M22) -> 10193
A23: 14 | E23: Pedagógus bérfejlesztés 2020. július 1-től | M23: 7787 | O23: =SUM(F23:M23) -> 7787
A24: 15 | E24: Gyermekétkeztetés költségeinek rendezése | M24: -12819 | O24: =SUM(F24:M24) -> -12819
A25: 16 | E25: Bérkompenzáció (2020. augusztus hó) | M25: 2 | N25: 2 | O25: =SUM(F25:M25) -> 2
A26: 17 | E26: módosított előirányzat 4. | F26: =SUM(F21:F25) -> 7516 | L26: =SUM(L21:L25) -> 28037 | M26: =SUM(M21:M25) -> 363903 | N26: =SUM(N21:N25) -> 296262 | O26: =SUM(F26:M26) -> 399456
A27: 18 | B27: 3 | D27: Veszprémi Ringató Körzeti Óvoda
A28: 19 | D28: (Ringató Óvoda, Erdei Tagóvoda, Kuckó Tagóvoda)
A29: 20 | E29: eredeti előirányzat | F29: 17581 | M29: 411379 | N29: 365584 | O29: =SUM(F29:M29) -> 428960
A30: 21 | E30: módosított előirányzat 3. | F30: 12581 | L30: 14688 | M30: 417705 | N30: 389335 | O30: =SUM(F30:M30) -> 444974
A31: 22 | E31: módosítás- Egry Óvodába visszaköltözött csoportok működési kiadásaira | M31: -1848 | O31: =SUM(F31:M31) -> -1848
A32: 23 | E32: Jubileumi jutalom, felmentési idő | M32: 10909 | O32: =SUM(F32:M32) -> 10909
A33: 24 | E33: Pedagógus bérfejlesztés 2020. július 1-től | M33: 8510 | O33: =SUM(F33:M33) -> 8510
A34: 25 | E34: Gyermekétkeztetés költségeinek rendezése | M34: -12025 | O34: =SUM(F34:M34) -> -12025
A35: 26 | E35: módosított előirányzat 4. | F35: =SUM(F30:F34) -> 12581 | L35: =SUM(L30:L34) -> 14688 | M35: =SUM(M30:M34) -> 423251 | N35: =SUM(N30:N34) -> 389335 | O35: =SUM(F35:M35) -> 450520
A36: 27 | B36: 4 | D36: Veszprémi Egry úti Körzeti Óvoda
A37: 28 | D37: (Egry ltp. Óvoda, Nárcisz Tagóvoda)
A38: 29 | E38: eredeti előirányzat | F38: 10020 | M38: 309492 | N38: 193144 | O38: =SUM(F38:M38) -> 319512
A39: 30 | E39: módosított előirányzat 3. | F39: 7133 | L39: 18600 | M39: 309512 | N39: 208832 | O39: =SUM(F39:M39) -> 335245
A40: 31 | E40: módosítás- térítési díj bevételi többlet | F40: 897 | O40: =SUM(F40:M40) -> 897
A41: 32 | E41: Jubileumi jutalom, felmentési idő | M41: 5591 | O41: =SUM(F41:M41) -> 5591
...

Sheet 3A Inbe
B1: 3/A. melléklet a 2020. évi költségvetésről szóló 5/2020. (II. 27.) önkormányzati rendelet módosításáról szóló 39/2020. (X.29.) önkormányzati rendelethez
B2: "3/A. melléklet VMJV Önkormányzata Közgyűlésének 5/2020. (II. 27.) önkormányzati rendeletéhez"
B4: Veszprém Megyei Jogú Város Önkormányzata Intézményei
B5: 2020. évi saját bevételei
H6: adatok eFt-ban
B7: A | C7: B | D7: C | E7: D | F7: E | G7: F | H7: G
B8: Cím | C8: Alcím | D8: Megnevezés | E8: 2018. évi tény | F8: 2019. évi eredeti előirányzat | G8: 2019. évi tény | H8: 2020. évi előirányzat
A10: 1 | B10: 1 | D10: Veszprémi Vadvirág Körzeti Óvoda (Csillagvár Waldorf Tagóvoda, Vadvirág Óvoda) | E10: 4241 | F10: 4458 | G10: 4440 | H10: 4940
A11: 2 | B11: 2 | D11: Veszprémi Bóbita Körzeti Óvoda (Hársfa Tagóvoda, Bóbita Óvoda) | E11: 8290 | F11: 10813 | G11: 8462 | H11: 7516
A12: 3 | B12: 3 | D12: Veszprémi Ringató Körzeti Óvoda (Ringató Óvoda, Erdei Tagóvoda, Kuckó Tagóvoda) | E12: 16663 | F12: 17490 | G12: 15398 | H12: 12581
A13: 4 | B13: 4 | D13: Veszprémi Egry úti Körzeti Óvoda (Egry ltp. Óvoda, Nárcisz Tagóvoda) | E13: 12417 | F13: 13993 | G13: 10994 | H13: 8030
A14: 5 | B14: 5 | D14: Veszprémi Csillag úti Körzeti Óvoda (Csillag úti Óvoda, Cholnoky ltp. Óvoda) | E14: 14656 | F14: 15663 | G14: 17279 | H14: 18635
A15: 6 | B15: 6 | D15: Veszprémi Kastélykert Körzeti Óvoda (Kastélykert Óvoda, Ficánka Óvoda) | E15: 3862 | F15: 3794 | G15: 4464 | H15: 2968
A16: 7 | D16: Óvodák összesen: | E16: =SUM(E10:E15) -> 60129 | F16: =SUM(F10:F15) -> 66211 | G16: =SUM(G10:G15) -> 61037 | H16: =SUM(H10:H15) -> 54670
A17: 8 | B17: 7 | D17: Veszprémi Bölcsődei és Egészségügyi Alapellátási Integrált Intézmény | E17: 43118 | F17: 19344 | G17: 23407 | H17: 15700
A18: 9 | B18: 8 | D18: Göllesz Viktor Fogyatékos Személyek Nappali Intézménye | E18: 15040 | F18: 13500 | G18: 15109 | H18: 10425
A19: 10 | B19: 9 | D19: Veszprémi Családsegítő és Gyermekjóléti Integrált Intézmény | F19: 1800 | G19: 2909 | H19: 1800
A20: 11 | D20: Egészségügyi és szociális intézmények összesen: | E20: =SUM(E17:E19) -> 58158 | F20: =SUM(F17:F19) -> 34644 | G20: =SUM(G17:G19) -> 41425 | H20: =SUM(H17:H19) -> 27925
A21: 12 | B21: 10 | D21: Agóra Veszprém Kulturális Központ | E21: 39591 | F21: 39584 | G21: 43824 | H21: 23539
A22: 13 | B22: 11 | D22: Művészetek Háza Veszprém Művelődési Ház és Kiállítóhely | E22: 4063 | F22: 7001 | G22: 8889 | H22: 6527
A23: 14 | B23: 12 | D23: Eötvös Károly Megyei Könyvtár | E23: 36291 | F23: 21200 | G23: 31157 | H23: 24865
A24: 15 | B24: 13 | D24: Laczkó Dezső Múzeum | E24: 129584 | F24: =113894+11447 -> 125341 | G24: 200194 | H24: 209389
A25: 16 | B25: 14 | D25: Kabóca Bábszínház | E25: 29609 | F25: 33854 | G25: 25393 | H25: =15414+228 -> 15642
A26: 17 | B26: 15 | D26: Veszprémi Petőfi Színház | E26: 273726 | F26: 203000 | G26: 303830 | H26: 139433
A27: 18 | D27: Kulturális és közművelődési intézmények összesen: | E27: =SUM(E21:E26) -> 512864 | F27: =SUM(F21:F26) -> 429980 | G27: =SUM(G21:G26) -> 613287 | H27: =SUM(H21:H26) -> 419395
A28: 19 | B28: 16 | D28: Veszprémi Intézményi Szolgáltató Szervezet | E28: 362984 | F28: 379059 | G28: 386604 | H28: 380502
A29: 20 | B29: INTÉZMÉNYEK ÖSSZESEN: | E29: =SUM(E16,E20,E27,E28) -> 994135 | F29: =SUM(F16,F20,F27,F28) -> 909894 | G29: =SUM(G16,G20,G27,G28) -> 1102353 | H29: =SUM(H16,H20,H27,H28) -> 882492
A30: 21 | B30: 17 | D30: VMJV Polgármesteri Hivatal által ellátott kötelező és önként vállalt feladatok | E30: 4845 | G30: 9526 | H30: 4543
A31: 22 | B31: MINDÖSSZESEN: | E31: =SUM(E29,E30) -> 998980 | F31: =SUM(F29,F30) -> 909894 | G31: =SUM(G29,G30) -> 1111879 | H31: =SUM(H29,H30) -> 887035
E32: =+E31-'1.Onbe'!G32 -> 0 | F32: =+F31-'1.Onbe'!H32 -> 0 | G32: =+G31-'1.Onbe'!I32 -> 0 | H32: =H31-'1.Onbe'!M32 -> 0

Sheet 4.Inki
B1: 4. melléklet a 2020. évi költségvetésről szóló 5/2020. (II. 27.) önkormányzati rendelet módosításáról szóló 39/2020. (X.29.) önkormányzati rendelethez
B2: "4. melléklet VMJV Önkormányzata Közgyűlésének 5/2020. (II. 27.) önkormányzati rendeletéhez"
B4: Veszprém Megyei Jogú Város Önkormányzata Intézményei
B5: 2020. évi költségvetési kiadásai
Q6: adatok eFt-ban
B7: A | C7: B | D7: C | F7: D | G7: E | H7: F | I7: G | J7: H | K7: I | L7: J | M7: K | N7: L | O7: M | P7: N | Q7: O | R7: P
B8: Cím | C8: Alcím | D8: Megnevezés | F8: Feladatellátás jellege* | G8: 2018. évi tény | H8: 2019. évi eredeti előirányzat | I8: 2019. évi tény | J8: 2020. évi kiadási előirányzat | K8: Működési költségvetési kiadások | P8: Felhalmozási költségvetési kiadások
K9: Személyi juttatások | L9: Munk.a. terh. jár. és szoc.hj.adó | M9: Dologi kiadások | N9: Ellátottak pénzbeli juttatásai | O9: Egyéb működési kiadások | P9: Beruházási kiadások | Q9: Felújítási kiadások | R9: Egyéb felhalmozási célú kiadások
A10: 1 | B10: 1 | D10: Veszprémi Vadvirág Körzeti Óvoda | F10: K | G10: 206614 | H10: 209393 | I10: 212753
A11: 2 | D11: (Csillagvár Waldorf Tagóvoda, Vadvirág Óvoda)
A12: 3 | E12: eredeti előirányzat | J12: =SUM(K12:R12) -> 213625 | K12: 134372 | L12: 26600 | M12: 51943 | P12: 710
A13: 4 | E13: módosított előirányzat 3. | J13: =SUM(K13:R13) -> 220257 | K13: 134300 | L13: 27417 | M13: 57810 | P13: 522 | Q13: 208
A14: 6 | E14: Jubileumi jutalom, felmentési idő | J14: =SUM(K14:R14) -> 4291 | K14: 3715 | L14: 576
A15: 7 | E15: átcsoportosítás | J15: =SUM(K15:R15) -> 0 | M15: -100 | P15: 138 | Q15: -38
A16: 8 | E16: Pedagógus bérfejlesztés 2020. július 1-től | J16: =SUM(K16:R16) -> 4140 | K16: 3584 | L16: 556
A17: 9 | E17: Gyermekétkeztetés költségeinek rendezése | J17: =SUM(K17:R17) -> -7700 | M17: -7700
A18: 10 | E18: módosított előirányzat 4. | J18: =SUM(K18:R18) -> 220988 | K18: =SUM(K13:K17) -> 141599 | L18: =SUM(L13:L17) -> 28549 | M18: =SUM(M13:M17) -> 50010 | P18: =SUM(P13:P17) -> 660 | Q18: =SUM(Q13:Q17) -> 170
A19: 11 | B19: 2 | D19: Veszprémi Bóbita Körzeti Óvoda | F19: K | G19: 351654 | H19: 356328 | I19: 358902
A20: 12 | D20: (Hársfa Tagóvoda, Bóbita Óvoda)
A21: 13 | E21: eredeti előirányzat | J21: =SUM(K21:R21) -> 367090 | K21: 241291 | L21: 48109 | M21: 76990 | P21: 700
A22: 14 | E22: módosított előirányzat 3. | J22: =SUM(K22:R22) -> 394293 | K22: 241285 | L22: 48164 | M22: 90253 | P22: 11644 | Q22: 2947
E23: módosítás- Bérkompenzáció (2020. augusztus hó) | J23: =SUM(K23:R23) -> 2 | K23: 2
A24: 15 | E24: Jubileumi jutalom, felmentési idő | J24: =SUM(K24:R24) -> 10193 | K24: 8825 | L24: 1368
A25: 16 | E25: átcsoportosítás | J25: =SUM(K25:R25) -> 0 | M25: -1420 | P25: 1420
A26: 17 | E26: Pedagógus bérfejlesztés 2020. július 1-től | J26: =SUM(K26:R26) -> 7787 | K26: 6771 | L26: 1016
A27: 18 | E27: Gyermekétkeztetés költségeinek rendezése | J27: =SUM(K27:R27) -> -12819 | M27: -12819
A28: 19 | E28: módosított előirányzat 4. | J28: =SUM(K28:R28) -> 399456 | K28: =SUM(K22:K27) -> 256883 | L28: =SUM(L22:L27) -> 50548 | M28: =SUM(M22:M27) -> 76014 | P28: =SUM(P22:P27) -> 13064 | Q28: =SUM(Q22:Q27) -> 2947
A29: 20 | B29: 3 | D29: Veszprémi Ringató Körzeti Óvoda | F29: K | G29: 431588 | H29: 425240 | I29: 431030
A30: 21 | D30: (Ringató Óvoda, Erdei Tagóvoda, Kuckó Tagóvoda)
A31: 22 | E31: eredeti előirányzat | J31: =SUM(K31:R31) -> 428960 | K31: 291221 | L31: 57361 | M31: 80378
A32: 23 | E32: módosított előirányzat 3. | J32: =SUM(K32:R32) -> 444974 | K32: 299510 | L32: 58873 | M32: 85271 | P32: 1320
A33: 24 | E33: módosítás- Egry Óvodába visszaköltözött csoportok működési kiadásaira | J33: =SUM(K33:R33) -> -1848 | M33: -1848
A34: 25 | E34: Jubileumi jutalom, felmentési idő | J34: =SUM(K34:R34) -> 10909 | K34: 9445 | L34: 1464
A35: 26 | E35: átcsoportosítás | J35: =SUM(K35:R35) -> 0 | M35: -441 | P35: 441
A36: 27 | E36: átcsoportosítás | J36: =SUM(K36:R36) -> 0 | K36: -3896 | L36: -604 | M36: 4500
A37: 28 | E37: Pedagógus bérfejlesztés 2020. július 1-től | J37: =SUM(K37:R37) -> 8510 | K37: 7368 | L37: 1142
A38: 29 | E38: Gyermekétkeztetés költségeinek rendezése | J38: =SUM(K38:R38) -> -12025 | M38: -12025
A39: 30 | E39: módosított előirányzat 4. | J39: =SUM(K39:R39) -> 450520 | K39: =SUM(K32:K38) -> 312427 | L39: =SUM(L32:L38) -> 60875 | M39: =SUM(M32:M38) -> 75457 | P39: =SUM(P32:P38) -> 1761
A40: 31 | B40: 4 | D40: Veszprémi Egry úti Körzeti Óvoda | F40: K | G40: 302390 | H40: 310528 | I40: 318994
A41: 32 | D41: (Egry ltp. Óvoda, Nárcisz Tagóvoda)
...

Sheet 5.Infelhki
B1: 5. melléklet a 2020. évi költségvetésről szóló 5/2020. (II. 27.) önkormányzati rendelet módosításáról szóló 39/2020. (X.29.) önkormányzati rendelethez
B2: "5. melléklet VMJV Önkormányzata Közgyűlésének 5/2020. (II. 27.) önkormányzati rendeletéhez"
B4: Veszprém Megyei Jogú Város Önkormányzata Intézményei
B5: 2020. évi felhalmozási költségvetési kiadások előirányzatai
L6: adatok eFt-ban
B7: A | C7: B | D7: C | E7: D | F7: E | G7: F | H7: G | I7: H | J7: I | K7: J | L7: K
B8: Cím | C8: Alcím | D8: Megnevezés | E8: Feladatellátás jellege | F8: 2018. évi tény | G8: 2019. évi eredeti előirányzat | H8: 2019. évi tény | I8: 2020. évi eredeti előirányzat | J8: 2020. évi módosított előirányzat 3. | K8: Módosítás | L8: 2020. évi módosított előirányzat 4.
A10: 1 | C10: Beruházási kiadások
A11: 2 | B11: 1 | C11: Veszprémi Vadvirág Körzeti Óvoda | E11: K | F11: 1695 | G11: 1800 | H11: 3100
A12: 3 | C12: 1 | D12: Bábos raktár nyitott bútorzat befejezése | I12: 510 | J12: 502 | L12: =SUM(J12:K12) -> 502
A13: 4 | C13: 2 | D13: Kisértékű tárgyi eszközök (Vákuumfóliázó - védőmaszkok varrása utáni csomagoláshoz, érintésmentes lázmérő, elektromos konzervnyitó és késélező | J13: 20 | K13: 58 | L13: =SUM(J13:K13) -> 78
A14: 5 | C14: Csillagvár Waldorf Tagóvoda | F14: 217 | G14: 900 | H14: 1294
A15: 6 | C15: 3 | D15: Mosókonyha bejárati ajtó csere | I15: 200 | J15: 0 | L15: =SUM(J15:K15) -> 0
A16: 7 | C16: 4 | D16: Kisértékű tárgyi eszközök ( érintésmentes lázmérő, átfolyó vízmelegítő) | K16: 80 | L16: =SUM(J16:K16) -> 80
A17: 8 | B17: 2 | C17: Veszprémi Bóbita Körzeti Óvoda | E17: K | F17: 2509 | G17: 3300 | H17: 3496
A18: 9 | C18: 1 | D18: Asztali számítógép, laptop beszerzése | I18: 700 | J18: 700 | L18: =SUM(J18:K18) -> 700
A19: 10 | C19: 2 | D19: Udvari játékok (Bóbita és Hársfa Tagóvoda) | J19: 4137 | L19: =SUM(J19:K19) -> 4137
A20: 11 | C20: 3 | D20: Kisértékű tárgyi eszközök (mosógép, porszívó, mobiltelefon, gyermekszék, gyermekfektető és tartó, függöny, redőny, szúnyogháló, roló, konyhai kisgép, érintés nélküli lázmérő, tartós szakmai játék, számítástechnikai eszközök, karnis) | J20: 2550 | K20: =199+500+100+100 -> 899 | L20: =SUM(J20:K20) -> 3449
A21: 12 | C21: Hársfa Tagóvoda | F21: 1162 | H21: 1094
A22: 13 | C22: 4 | D22: Udvari játékok | J22: 2817 | L22: =SUM(J22:K22) -> 2817
A23: 14 | C23: 5 | D23: Kisértékű tárgyi eszközök (mosógép, porszívó, mobiltelefon, gyermekszék, szőnyeg, redőny, roló, szúnyogháló, konyhai kisgép, érintés nélküli lázmérő, tartós szakmai játék, számítástechnikai eszközök, hűtő) | J23: 1240 | K23: =121+300+100 -> 521 | L23: =SUM(J23:K23) -> 1761
A24: 15 | C24: 6 | D24: Bútorzat főzőkonyhára | J24: 200 | L24: =SUM(J24:K24) -> 200
A25: 16 | B25: 3 | C25: Veszprémi Ringató Körzeti Óvoda | E25: K | F25: 5920 | G25: 1500 | H25: 6208
A26: 17 | C26: 1 | D26: Tárgyi eszközök beszerzésére (Mobiltelefon, laptop, irodai székek, mosógép, légtisztító berendezések, hőmérő, nyomtató, irodai spirálozó gép) | J26: 780 | K26: 413 | L26: =SUM(J26:K26) -> 1193
A27: 18 | C27: 2 | D27: Fa kerti tároló | J27: 220 | L27: =SUM(J27:K27) -> 220
A28: 19 | C28: Erdei és Kuckó Tagóvoda | F28: 7972 | G28: 1500 | H28: 3386 | L28: =SUM(J28:K28) -> 0
A29: 20 | C29: 3 | D29: Kisértékű tárgyi eszközök (Hűtőszekrény főzőkonyhába, irodai székek, hőmérők) | J29: 320 | K29: 28 | L29: =SUM(J29:K29) -> 348
A30: 21 | B30: 4 | C30: Veszprémi Egry úti Körzeti Óvoda | E30: K | F30: 3926 | G30: 1000 | H30: 1347 | L30: =SUM(J30:K30) -> 0
A31: 22 | C31: 1 | D31: Tárgyi eszközök beszerzésére (Higiéniai eszközök, csöpögtető öntöző berendezés, wifi hálózat kiépítése, takarító eszközök, konyhai eszközök, járványügyi eszközök, létrák, salgó polcok, hirdető tábla) | K31: 1170 | L31: =SUM(J31:K31) -> 1170
A32: 23 | C32: Nárcisz Tagóvoda | F32: 2560 | G32: 900 | H32: 2216 | L32: =SUM(J32:K32) -> 0
A33: 24 | C33: 2 | D33: Tárgyi eszközök beszerzésére | L33: =SUM(J33:K33) -> 0
A34: 25 | B34: 5 | C34: Veszprémi Csillag úti Körzeti Óvoda | E34: K | F34: 4964 | G34: 2400 | H34: 6273 | L34: =SUM(J34:K34) -> 0
A35: 26 | C35: 1 | D35: Kézfertőtlenítő adagolók, érintés nélküli lázmérők | J35: 200 | L35: =SUM(J35:K35) -> 200
A36: 27 | C36: Cholnoky Jenő Ltp. Tagóvoda | F36: 4686 | G36: 2900 | H36: 6233 | L36: =SUM(J36:K36) -> 0
A37: 28 | C37: 2 | D37: Kézfertőtlenítő adagolók, érintés nélküli lázmérők | J37: 200 | L37: =SUM(J37:K37) -> 200
A38: 29 | B38: 6 | C38: Veszprémi Kastélykert Körzeti Óvoda | E38: K | F38: 527 | G38: 500 | H38: 6174 | L38: =SUM(J38:K38) -> 0
A39: 30 | C39: 1 | D39: Tárgyi eszközök beszerzésére (Katica csoport: polcos szekrény, babakonyha szekrény, tálaló szekrény, foglalkoztató szekrény, játéktároló, ágyazó, tükrök, élősarokpolc, teakonyha polc, ágyazó polc, szőnyegek, konyhai eszközök, étel-ital szállító badellák, botmixer, serpenyő, érintésmentes kézfertőtlenítő, lázmérők, komód) | J39: 1460 | K39: 165 | L39: =SUM(J39:K39) -> 1625
A40: 31 | C40: 2 | D40: Laptop | J40: 200 | K40: 300 | L40: =SUM(J40:K40) -> 500
A41: 32 | C41: Ficánka Tagóvoda | F41: 15 | G41: 600 | H41: 324 | L41: =SUM(J41:K41) -> 0
A42: 33 | C42: 3 | D42: Gőzállomás, varrógép, széf, érintésmentes kézfertőtlenítő, nyomtató-fénymásoló, lázmérők, fénymásoló, gyerek kanapé) | J42: 401 | K42: 145 | L42: =SUM(J42:K42) -> 546
...

Sheet 6.Önk.műk.
B1: 6. melléklet a 2020. évi költségvetésről szóló 5/2020. (II. 27.) önkormányzati rendelet módosításáról szóló 39/2020. (X.29.) önkormányzati rendelethez
B2: "6. melléklet VMJV Önkormányzata Közgyűlésének 5/2020. (II. 27.) önkormányzati rendeletéhez"
B4: Veszprém Megyei Jogú Város Önkormányzata
B5: Önkormányzati feladatok és egyéb kötelezettségek 2020. évi működési költségvetési kiadásai
M6: adatok eFt-ban
B7: A | C7: B | D7: C | E7: D | F7: E | G7: F | H7: G | I7: H | J7: I | K7: J | L7: K | M7: L | N7: M
B8: Cím | C8: Alcím | D8: Megnevezés | E8: 2018. évi tény | F8: 2019. évi eredeti előirányzat | G8: 2019. évi tény | H8: Feladatellátás jellege* | I8: 2020. évi előirányzat | J8: Működési költségvetési kiadások
J9: Személyi juttatások | K9: Munk.a. terh. jár. és szoc.hj.adó | L9: Dologi kiadások | M9: Ellátottak pénzbeli juttatásai | N9: Egyéb működési kiadások
A10: 1 | B10: 18 | C10: Önkormányzati működési kiadások
A11: 2 | C11: 1 | D11: Nemzeti ünnepek kiadásaira | E11: 6918 | F11: 7000 | G11: 1779 | H11: K
A12: 3 | D12: módosított előirányzat 3. | I12: =SUM(J12:N12) -> 296 | L12: 296
A13: 4 | D13: módosítás- átcsoportosítás Agóra VKK-nak október 6-ai rendezvény költségeire | I13: =SUM(J13:N13) -> -140 | L13: -140
A14: 5 | D14: Programiroda nemzeti ünnepekkel kapcsolatos költségeire | I14: =SUM(J14:N14) -> 2209 | L14: =606+603+1000 -> 2209
A15: 6 | D15: módosított előirányzat 4. | I15: =SUM(J15:N15) -> 2365 | L15: =SUM(L12:L14) -> 2365
A16: 7 | C16: 2 | D16: Közművelődési szolgált. | E16: 4298 | F16: 5000 | G16: 3685 | H16: NK
A17: 8 | D17: módosított előirányzat 3. | I17: =SUM(J17:N17) -> 4000 | J17: 22 | K17: 12 | L17: 3966
A18: 9 | D18: módosítás- Programiroda városi szilveszter rendezvényének költségeire | I18: =SUM(J18:N18) -> 2500 | L18: 2500
A19: 10 | D19: módosított előirányzat 4. | I19: =SUM(J19:N19) -> 6500 | J19: =SUM(J17:J18) -> 22 | K19: =SUM(K17:K18) -> 12 | L19: =SUM(L17:L18) -> 6466
A20: 11 | C20: 3 | D20: Nemzetközi kapcsolatok | E20: 15651 | F20: 10000 | G20: 7056 | H20: NK
A21: 12 | D21: eredeti előirányzat | I21: =SUM(J21:N21) -> 3000 | L21: 3000
A22: 13 | D22: módosított előirányzat 3. | I22: =SUM(J22:N22) -> 3737 | J22: 30 | K22: 42 | L22: 3665
A23: 14 | D23: módosítás- | I23: =SUM(J23:N23) -> 0
A24: 15 | D24: módosított előirányzat 4. | I24: =SUM(J24:N24) -> 3737 | J24: =SUM(J22:J23) -> 30 | K24: =SUM(K22:K23) -> 42 | L24: =SUM(L22:L23) -> 3665
A25: 16 | C25: 4 | D25: Marketing tevékenység, marketing stratégia | E25: 12950 | F25: 11000 | G25: 13218 | H25: NK
A26: 17 | D26: módosított előirányzat 3. | I26: =SUM(J26:N26) -> 11235 | L26: 11235
A27: 18 | D27: módosítás- | I27: =SUM(J27:N27) -> 0
A28: 19 | D28: módosított előirányzat 4. | I28: =SUM(J28:N28) -> 11235 | L28: =SUM(L26:L27) -> 11235
A29: 20 | C29: 5 | D29: Kitüntetések | E29: 8243 | F29: 10167 | G29: 9366 | H29: NK
A30: 21 | D30: eredeti előirányzat | I30: =SUM(J30:N30) -> 9601 | J30: 3800 | K30: 1100 | L30: 4701
A31: 22 | D31: módosított előirányzat 3. | I31: =SUM(J31:N31) -> 9601 | J31: 3500 | K31: 1061 | L31: 4701 | N31: 339
A32: 23 | D32: módosítás- | I32: =SUM(J32:N32) -> 0
A33: 24 | D33: módosított előirányzat 4. | I33: =SUM(J33:N33) -> 9601 | J33: =SUM(J31:J32) -> 3500 | K33: =SUM(K31:K32) -> 1061 | L33: =SUM(L31:L32) -> 4701 | N33: =SUM(N31:N32) -> 339
A34: 25 | C34: 6 | D34: Mihály-napi búcsú | E34: 1000 | F34: 1000 | H34: NK
A35: 26 | C35: 7 | D35: Városi kiemelt fesztiválok | E35: =SUM(E36,E37,E38,E39,E41,E40) -> 72000 | F35: =SUM(F36,F37,F38,F39,F41,F40) -> 74000 | G35: =SUM(G36,G37,G38,G39,G41,G40) -> 74000 | H35: NK
A36: 27 | D36: ebből: - Veszprémi Ünnepi Játékok | E36: 30000 | F36: 30000 | G36: 30000
A37: 28 | D37: - Gizella Napok | E37: 15000 | F37: 15000 | G37: 15000
A38: 29 | D38: - Tánc Fesztivál | E38: 5000 | F38: 2000 | G38: 2000
A39: 30 | D39: - Veszprémi Utcazene Fesztivál | E39: 15000 | F39: 15000 | G39: 15000
A40: 31 | D40: - Auer Hegedűfesztivál | E40: 5000 | F40: 10000 | G40: 10000
A41: 32 | C41: 8 | D41: Magyar Kórusok találkozója | E41: 2000 | F41: 2000 | G41: 2000 | H41: NK
...

Sheet 6.A Alapítv
B1: 6/A. melléklet a 2020. évi költségvetésről szóló 5/2020. (II. 27.) önkormányzati rendelet módosításáról szóló 39/2020. (X.29.) önkormányzati rendelethez
B2: "6/A. melléklet VMJV Önkormányzata Közgyűlésének 5/2020. (II. 27.) önkormányzati rendeletéhez"
B4: KIMUTATÁS
B5: Veszprém Megyei Jogú Város Önkormányzata által
B6: alapítványoknak, egyesületeknek, civil szervezeteknek, társadalmi szervezeteknek nyújtott támogatásokról 2020. évben
B7: adatok eFt-ban
B8: A | C8: B
B9: Alapítvány / egyesület / civil szervezet / társadalmi szervezet megnevezése | C9: Támogatás összege
A11: 1 | B11: Alkohol-Drogsegély Ambulancia/Szenvedélybetegek ellátásnak működési kiadásaihoz támogatás | C11: 10200
A12: 2 | B12: Közösség Kádártáért Egyesület | C12: =2550-1550 -> 1000
A13: 3 | B13: Virágzó Veszprém Egyesület | C13: =2550-1550 -> 1000
A14: 4 | B14: Lokálpatrióták a Városért Egyesület | C14: =850-400 -> 450
A15: 5 | B15: Brusznyai Árpád Alapítvány támogatása | C15: =553-553+500 -> 500
A16: 6 | B16: Mendelssohn Kamarazenekar | C16: =25975+4880 -> 30855
A17: 7 | B17: Veszprém Város Vegyeskara | C17: =6460-5994 -> 466
A18: 8 | B18: Veszprémi Ifjúsági Közalapítvány | C18: =11900-1900-4445 -> 5555
A19: 9 | B19: Máltai Szeretetszolgálat | C19: 60000
A20: 10 | B20: Pszichiátriai betegek nappali ellátása ("Horgony" Pszichiátriai Betegekért Közhasznú Alapítvány) | C20: 1275
A21: 11 | B21: 8.vk. Városi Nyilvánosságért Alapítvány - karácsonyi ajándékcsomagok beszerzésére | C21: 50
A22: 12 | B22: Kórház Bébi Koraszülött Mentő Alapítványa részére - echocardiograf eszközbeszerzésre | C22: 10000
A23: 13 | B23: Veszprémi Táncegyüttesért Alapítvány | C23: 375
A24: 14 | B24: Liszt F. Kórus | C24: 83
A25: 15 | B25: Gizella Kórus/Dowland Alapítvány | C25: 250
A26: 16 | B26: Közbiztonsági feladatok / Gyulafirátóti Polgárőrség | C26: 1375
A27: 17 | B27: Verseny és élsport - működési támogatások
A28: 18 | B28: Veszprém Foci Centrum Utánpótlás SE | C28: =17000-8500 -> 8500
A29: 19 | B29: Veszprémi Egyetemi és Diák Atlétikai Club | C29: =28000-15500 -> 12500
A30: 20 | B30: Futsal Club Veszprém | C30: =30000-15000 -> 15000
A31: 21 | B31: Pannon SE női kézilabda | C31: 3000
A32: 22 | B32: Veszprémi Úszó Klub | C32: 1500
A33: 23 | B33: Balaton Úszó Klub | C33: 1750
A34: 24 | B34: Veszprémi Torna Club | C34: 3000
A35: 25 | B35: VESC női röplabda | C35: 2500
A36: 26 | B36: Szilágyi DSE | C36: 1600
A37: 27 | B37: Dózsavárosi DSE | C37: 500
A38: 28 | B38: Sportolj Velünk SE | C38: 4750
A39: 29 | B39: Gyulafirátót SE | C39: 1500
A40: 30 | B40: Veszprémi Jégkorong SE | C40: 700
A41: 31 | B41: Veszprémi Taekwon-do SE | C41: 300
A42: 32 | B42: Veszprémi Asztalitenisz Sportegyesület | C42: 300
...

Sheet 7.Beruh.
B1: 7. melléklet a 2020. évi költségvetésről szóló 5/2020. (II. 27.) önkormányzati rendelet módosításáról szóló 39/2020. (X.29.) önkormányzati rendelethez
B2: "7. melléklet VMJV Önkormányzata Közgyűlésének 5/2020. (II. 27.) önkormányzati rendeletéhez"
B4: Veszprém Megyei Jogú Város Önkormányzata
B5: 2020. évi beruházási és egyéb felhalmozási célú kiadások előirányzatai
M6: adatok eFt-ban
B7: A | C7: B | D7: C | E7: D | F7: E | G7: F | H7: G | I7: H | J7: I | K7: J | L7: K | M7: L
B8: Cím | C8: Alcím | D8: Megnevezés | E8: Teljes költség | F8: Teljesítés 2018. 12.31.-ig | G8: 2019. évi tény | H8: Feladatellátás jellege | I8: 2020. évi előirányzat | M8: 2020. év utáni javaslat
I9: Működési költségvetési kiadások | J9: Felhalmozási költségvetési kiadások | L9: Összesen
I10: Dologi kiadások | J10: Beruházási kiadások | K10: Egyéb felhalmozási célú kiadások
A11: 1 | B11: 18 | C11: Önkormányzati beruházási kiadások
A12: 2 | C12: 1 | D12: Önkormányzati érdekeket érintő településrendezési eszközök módosítása | E12: =F12+G12+L16+M13 -> 15906 | G12: 5652 | H12: NK
A13: 3 | D13: eredeti előirányzat | J13: 4554 | L13: =SUM(I13:K13) -> 4554
A14: 4 | D14: módosított előirányzat 3. | J14: 6254 | L14: =SUM(I14:K14) -> 6254
A15: 5 | D15: módosítás- átcsoportosítás | J15: 4000 | L15: =SUM(I15:K15) -> 4000
A16: 6 | D16: módosított előirányzat 4. | J16: =SUM(J14:J15) -> 10254 | K16: =SUM(K13:K15) -> 0 | L16: =SUM(I16:K16) -> 10254
A17: 7 | C17: 2 | D17: Petőfi Sándor utca rekonstrukciója I-III. ütem | E17: =F17+G17+L21+M18 -> 218705 | F17: =83462 -> 83462 | G17: =134105 -> 134105 | H17: NK
A18: 8 | D18: eredeti előirányzat | I18: 500 | J18: 638 | L18: =SUM(I18:K18) -> 1138
A19: 9 | D19: módosított előirányzat 3. | I19: 500 | J19: 638 | L19: =SUM(I19:K19) -> 1138
A20: 10 | D20: módosítás- | L20: =SUM(I20:K20) -> 0
A21: 11 | D21: módosított előirányzat 4. | I21: =SUM(I19:I20) -> 500 | J21: =SUM(J19:J20) -> 638 | K21: =SUM(K19:K20) -> 0 | L21: =SUM(I21:K21) -> 1138
A22: 12 | C22: 3 | D22: Vörösmarty tér tömbbelső fejlesztés, I. ütem (csapadékvíz elvezetés kiépítése) + II. ütem | E22: =F22+G22+L26+M23 -> 74702 | F22: 18391 | G22: =26497+3 -> 26500 | H22: NK
A23: 13 | D23: eredeti előirányzat | I23: 327 | J23: 29484 | L23: =SUM(I23:K23) -> 29811
A24: 14 | D24: módosított előirányzat 3. | I24: 327 | J24: 29484 | L24: =SUM(I24:K24) -> 29811
A25: 15 | D25: módosítás- | L25: =SUM(I25:K25) -> 0
A26: 16 | D26: módosított előirányzat 4. | I26: =SUM(I24:I25) -> 327 | J26: =SUM(J24:J25) -> 29484 | K26: =SUM(K24:K25) -> 0 | L26: =SUM(I26:K26) -> 29811
A27: 17 | C27: 4 | D27: Kulturális negyed tervezése II. ütem | E27: =F27+G27+L31+M28 -> 3175 | H27: NK
A28: 18 | D28: eredeti előirányzat | J28: 3175 | L28: =SUM(I28:K28) -> 3175
A29: 19 | D29: módosított előirányzat 3. | J29: 3175 | L29: =SUM(I29:K29) -> 3175
A30: 20 | D30: módosítás- | L30: =SUM(I30:K30) -> 0
A31: 21 | D31: módosított előirányzat 4. | J31: =SUM(J29:J30) -> 3175 | K31: =SUM(K29:K30) -> 0 | L31: =SUM(I31:K31) -> 3175
A32: 22 | C32: 5 | D32: Bolgár Mihály utcai híd áteresz kapacitás bővítés, tervezés, engedélyezés, kivitelezés | E32: =F32+G32+L36+M33 -> 1905 | H32: NK
A33: 23 | D33: eredeti előirányzat | J33: 2000 | L33: =SUM(I33:K33) -> 2000
A34: 24 | D34: módosított előirányzat 3. | J34: 1905 | L34: =SUM(I34:K34) -> 1905
A35: 25 | D35: módosítás- | L35: =SUM(I35:K35) -> 0
A36: 26 | D36: módosított előirányzat 4. | J36: =SUM(J34:J35) -> 1905 | K36: =SUM(K34:K35) -> 0 | L36: =SUM(I36:K36) -> 1905
A37: 27 | C37: 6 | D37: Egry utcai óvoda új villamos és gáz betáp vezeték tervezése és kiépítése, villamos kapacitásbővítés | E37: =F37+G37+L41+M38 -> 4260 | G37: 305 | H37: NK
A38: 28 | D38: eredeti előirányzat | J38: 3955 | L38: =SUM(I38:K38) -> 3955
A39: 29 | D39: módosított előirányzat 3. | J39: 3955 | L39: =SUM(I39:K39) -> 3955
A40: 30 | D40: módosítás- | L40: =SUM(I40:K40) -> 0
A41: 31 | D41: módosított előirányzat 4. | J41: =SUM(J39:J40) -> 3955 | K41: =SUM(K39:K40) -> 0 | L41: =SUM(I41:K41) -> 3955
...

Sheet 8.Felúj.
B1: 8. melléklet a .../2020. (…….) önkormányzati rendelethez
B2: Veszprém Megyei Jogú Város Önkormányzata
B3: 2020. évi felújítási kiadások előirányzatának módosítása - 2020. október
L4: adatok eFt-ban
B5: A | C5: B | D5: C | E5: D | F5: E | G5: F | H5: G | I5: H | J5: I | K5: J | L5: K
B6: Cím | C6: Alcím | D6: Megnevezés | E6: Teljes költség | F6: 2018. évi tény | G6: 2019. évi tény | H6: Feladatellátás jellege | I6: 2020. évi előirányzat | L6: 2020. év utáni javaslat
I7: Működési költségvetési kiadások | J7: Felhalmozási költségvetési kiadások | K7: Összesen
I8: Dologi kiadások | J8: Felújítási kiadások
A9: 1 | B9: 18 | C9: Önkormányzati felújítási kiadások
A10: 2 | C10: 1 | D10: Játszóeszközök felújítása (78/2003 GKM rendelet) | E10: =F10+G10+K14+L11 -> 21500 | F10: 10000 | G10: 9000 | H10: K
A11: 3 | D11: eredeti előirányzat | J11: 5000 | K11: =SUM(I11:J11) -> 5000
A12: 4 | D12: módosított előirányzat 3. | J12: 2500 | K12: =SUM(I12:J12) -> 2500
A13: 5 | D13: módosítás- | K13: =SUM(I13:J13) -> 0
A14: 6 | D14: módosított előirányzat 4. | J14: =SUM(J12:J13) -> 2500 | K14: =SUM(I14:J14) -> 2500
A15: 7 | C15: 2 | D15: Nagyfelületű út- és járdafelújítások | E15: =F15+G15+K19+L16 -> 310601 | F15: 127108 | G15: 129978 | H15: NK
A16: 8 | D16: eredeti előirányzat | J16: 158122 | K16: =SUM(I16:J16) -> 158122
A17: 9 | D17: módosított előirányzat 3. | J17: 53515 | K17: =SUM(I17:J17) -> 53515
A18: 10 | D18: módosítás- | K18: =SUM(I18:J18) -> 0
A19: 11 | D19: módosított előirányzat 4. | J19: =SUM(J17:J18) -> 53515 | K19: =SUM(I19:J19) -> 53515
A20: 12 | C20: 3 | D20: Vízrendezési feladatok, árkok felújítása | E20: =F20+G20+K24+L21 -> 50000 | G20: 450 | H20: K
A21: 13 | D21: eredeti előirányzat | J21: 49550 | K21: =SUM(I21:J21) -> 49550
A22: 14 | D22: módosított előirányzat 3. | J22: 49550 | K22: 49550
A23: 15 | D23: módosítás- | K23: =SUM(I23:J23) -> 0
A24: 16 | D24: módosított előirányzat 4. | J24: =SUM(J22:J23) -> 49550 | K24: =SUM(I24:J24) -> 49550
A25: 17 | C25: 4 | D25: Védett sírok felújítása az Alsóvárosi temetőben | E25: =F25+G25+K29+L26 -> 11252 | F25: 9999 | H25: NK
A26: 18 | D26: eredeti előirányzat | J26: 1235 | K26: =SUM(I26:J26) -> 1235
A27: 19 | D27: módosított előirányzat 3. | I27: 18 | J27: 1235 | K27: =SUM(I27:J27) -> 1253
A28: 20 | D28: módosítás- | K28: =SUM(I28:J28) -> 0
A29: 21 | D29: módosított előirányzat 4. | I29: =SUM(I27:I28) -> 18 | J29: =SUM(J27:J28) -> 1235 | K29: =SUM(I29:J29) -> 1253
A30: 22 | C30: 5 | D30: Polgármesteri Hivatal felújítási munkák | E30: =F30+G30+K34+L31 -> 3085 | F30: 2350 | G30: 735 | H30: NK
A31: 23 | D31: eredeti előirányzat | J31: 95 | K31: =SUM(I31:J31) -> 95
A32: 24 | D32: módosított előirányzat 3. | J32: 0 | K32: =SUM(I32:J32) -> 0
A33: 25 | D33: módosítás-
A34: 26 | D34: módosított előirányzat 4. | J34: =SUM(J32:J33) -> 0 | K34: =SUM(I34:J34) -> 0
A35: 27 | C35: 6 | D35: Kertészeti felújítások | E35: =F35+G35+K39+L36 -> 28500 | G35: 20000 | H35: NK
A36: 28 | D36: eredeti előirányzat | J36: 8500 | K36: =SUM(I36:J36) -> 8500
A37: 29 | D37: módosított előirányzat 3. | J37: 8500 | K37: =SUM(I37:J37) -> 8500
A38: 30 | D38: módosítás- | K38: =SUM(I38:J38) -> 0
A39: 31 | D39: módosított előirányzat 4. | J39: =SUM(J37:J38) -> 8500 | K39: =SUM(I39:J39) -> 8500
A40: 32 | C40: 7 | D40: Kertvárosi utcák felújítása víziközmű rekonstrukció után | E40: =F40+G40+K44+L41 -> 77497 | F40: 330 | G40: 77167 | H40: NK
...

Sheet 8.Projekt
B1: 8. melléklet a 2020. évi költségvetésről szóló 5/2020. (II. 27.) önkormányzati rendelet módosításáról szóló 39/2020. (X.29.) önkormányzati rendelethez
B2: "9. melléklet VMJV Önkormányzata Közgyűlésének 5/2020. (II. 27.) önkormányzati rendeletéhez"
A4: Veszprém Megyei Jogú Város Önkormányzata
A5: Európai Uniós forrásból finanszírozott támogatással megvalósuló programok, projektek 2020. évi költségvetési kiadásainak előirányzata
P6: adatok eFt-ban
B7: A | C7: B | D7: C | E7: D | F7: E | G7: F | H7: G | I7: H | J7: I | K7: J | L7: K | M7: L | N7: M | O7: N | P7: O
B8: Cím | C8: Alcím | D8: Megnevezés | E8: Teljes költség* | F8: Teljesítés 2018. 12.31.-ig* | G8: 2019. évi tény* | H8: Feladatellátás jellege* | I8: 2020. évi előirányzat | P8: 2020. év utáni javaslat
I9: Működési költségvetési kiadások | M9: Felhalmozási költségvetési kiadások | O9: Összesen
I10: Személyi juttatások | J10: Munk.a. terh. Jár. És szoc.hj.adó | K10: Dologi kiadások | L10: Egyéb működési célú kiadások | M10: Beruházási kiadások | N10: Egyéb felhalmozási célú kiadások
A11: 1 | B11: 18 | C11: Veszprém Megyei Jogú Város Önkormányzata
A12: 2 | C12: 1 | D12: TOP-6.2.1-16-VP1-2018-00002 Egry úti óvoda újjáépítése | H12: NK
A13: 3 | D13: eredeti előirányzat | E13: =F13+G13+O16+P16 -> 1119735 | G13: 237 | K13: 1398 | M13: =201554+916546 -> 1118100 | O13: =SUM(I13:N13) -> 1119498
A14: 4 | D14: módosított előirányzat 3. | K14: 1698 | M14: 1117800 | O14: =SUM(I14:N14) -> 1119498
A15: 5 | D15: módosítás- | O15: =SUM(I15:N15) -> 0
A16: 6 | D16: módosított előirányzat 4. | K16: =SUM(K14:K15) -> 1698 | M16: =SUM(M14:M15) -> 1117800 | O16: =SUM(I16:N16) -> 1119498
A17: 7 | C17: 2 | D17: EFOP-1.9.9-17-2017-00004 Még jobb kezekben - Veszprémben | H17: NK
A18: 8 | D18: eredeti előirányzat | E18: =F18+G18+O21+P21 -> 25975 | F18: =6208+6205 -> 12413 | G18: =2345+10041 -> 12386 | I18: 73 | J18: 73 | K18: 509 | O18: =SUM(I18:N18) -> 655
A19: 9 | D19: módosított előirányzat 3. | I19: 74 | J19: 40 | K19: 302 | L19: 760 | O19: =SUM(I19:N19) -> 1176
A20: 10 | D20: módosítás- | O20: =SUM(I20:N20) -> 0
A21: 11 | D21: módosított előirányzat 4. | I21: =SUM(I19:I20) -> 74 | J21: =SUM(J19:J20) -> 40 | K21: =SUM(K19:K20) -> 302 | L21: =SUM(L19:L20) -> 760 | O21: =SUM(I21:N21) -> 1176
A22: 12 | C22: 3 | D22: TOP-6.5.1-16-VP1-2018-00004 Aprófalvi bölcsőde energetikai korszerűsítése | H22: NK
A23: 13 | D23: eredeti előirányzat | E23: =F23+G23+O26+P26 -> 282576 | F23: 6699 | K23: 278 | M23: =52777+222822 -> 275599 | O23: =SUM(I23:N23) -> 275877
A24: 14 | D24: módosított előirányzat 3. | K24: 278 | M24: 275599 | O24: =SUM(I24:N24) -> 275877
A25: 15 | D25: módosítás- | O25: =SUM(I25:N25) -> 0
A26: 16 | D26: módosított előirányzat 4. | K26: =SUM(K24:K25) -> 278 | M26: =SUM(M24:M25) -> 275599 | O26: =SUM(I26:N26) -> 275877
A27: 17 | C27: 4 | D27: TOP-6.6.1-16-VP1-2017-00002 Kádártai rendelő kialakítása | H27: NK
A28: 18 | D28: eredeti előirányzat | E28: =F28+G28+O31+P31 -> 66636 | F28: 143 | G28: =196+62988+1540 -> 64724 | K28: 61 | M28: 1708 | O28: =SUM(I28:N28) -> 1769
A29: 19 | D29: módosított előirányzat 3. | K29: 61 | M29: 1708 | O29: =SUM(I29:N29) -> 1769
A30: 20 | D30: módosítás- | O30: =SUM(I30:N30) -> 0
A31: 21 | D31: módosított előirányzat 4. | K31: =SUM(K29:K30) -> 61 | M31: =SUM(M29:M30) -> 1708 | O31: =SUM(I31:N31) -> 1769
A32: 22 | C32: 5 | D32: TOP-6.5.1-16-VP1-2018-00002 Völgyikút utca 2. szám alatti épület energetikai megújítása | H32: NK
A33: 23 | D33: eredeti előirányzat | E33: =F33+G33+O36+P36+3250-134273 -> 175747 | F33: 6541 | K33: 382 | M33: =34933+130641 -> 165574 | O33: =SUM(I33:N33) -> 165956
A34: 24 | D34: módosított előirányzat 3. | K34: 382 | M34: 165574 | O34: =SUM(I34:N34) -> 165956
A35: 25 | D35: módosítás- projetk előleg visszautalása az Államkincstárnak | L35: 3632 | N35: 130641 | O35: =SUM(I35:N35) -> 134273
A36: 26 | D36: módosított előirányzat 4. | K36: =SUM(K34:K35) -> 382 | L36: =SUM(L34:L35) -> 3632 | M36: =SUM(M34:M35) -> 165574 | N36: =SUM(N34:N35) -> 130641 | O36: =SUM(I36:N36) -> 300229
A37: 27 | C37: 6 | D37: TOP-6.6.1-16-VP1-2018-00004 Vilonyai utca 2/B szám alatti orvosi rendelő megújítása | H37: NK
A38: 28 | D38: eredeti előirányzat | E38: =F38+G38+O41+P41 -> 50792 | F38: 1956 | K38: 270 | M38: =7068+41498 -> 48566 | O38: =SUM(I38:N38) -> 48836
A39: 29 | D39: módosított előirányzat 3. | K39: 270 | M39: 48566 | O39: =SUM(I39:N39) -> 48836
A40: 30 | D40: módosítás- | O40: =SUM(I40:N40) -> 0
A41: 31 | D41: módosított előirányzat 4. | K41: =SUM(K39:K40) -> 270 | M41: =SUM(M39:M40) -> 48566 | O41: =SUM(I41:N41) -> 48836
...

Sheet 10.MVP és hazai
A1: 10. melléklet a .../2020. (…….) önkormányzati rendelethez
A2: Veszprém Megyei Jogú Város Önkormányzata
A3: Modern Városok Program és más hazai finanszírozásból megvalósuló feladatok 2020. évi költségvetési kiadásainak előirányzata -2020 október
P4: adatok eFt-ban
B5: A | C5: B | D5: C | E5: D | F5: E | G5: F | H5: G | I5: H | J5: I | K5: J | L5: K | M5: L | N5: M | O5: N | P5: O
B6: Cím | C6: Alcím | D6: Megnevezés | E6: Teljes költség* | F6: Teljesítés 2018. 12.31.-ig** | G6: 2019. évi tény* | H6: Feladatellátás jellege* | I6: 2020. évi előirányzat | P6: 2020. év utáni javaslat
I7: Működési költségvetési kiadások | M7: Felhalmozási költségvetési kiadások | O7: Összesen
I8: Személyi juttatások | J8: Munk.a. terh. Jár. És szoc.hj.adó | K8: Dologi kiadások | L8: Egyéb működési célú kiadások | M8: Beruházási kiadások | N8: Egyéb felhalmozási célú kiadások
A9: 1 | B9: 18 | C9: Veszprém Megyei Jogú Város Önkormányzata
A10: 2 | C10: 1 | D10: Iparos Park | H10: NK
