Workbook

Sheet ÖSSZEFÜGGÉSEK
A2: Költségvetési rendelet űrlapjainak összefüggései:
A5: 2015. évi előirányzat BEVÉTELEK
A7: 1.1. sz. melléklet Bevételek táblázat C. oszlop 9 sora = | B7: 2.1. számú melléklet C. oszlop 13. sor + 2.2. számú melléklet C. oszlop 12. sor
A8: 1.1. sz. melléklet Bevételek táblázat C. oszlop 17 sora = | B8: 2.1. számú melléklet C. oszlop 24. sor + 2.2. számú melléklet C. oszlop 25. sor
A9: 1.1. sz. melléklet Bevételek táblázat C. oszlop 18 sora = | B9: 2.1. számú melléklet C. oszlop 25. sor + 2.2. számú melléklet C. oszlop 26. sor
A12: =+CONCATENATE(LEFT(A5,4),". évi előirányzat KIADÁSOK") -> 2015. évi előirányzat KIADÁSOK
A14: 1.1. sz. melléklet Kiadások táblázat C. oszlop 3 sora = | B14: 2.1. számú melléklet E. oszlop 13. sor + 2.2. számú melléklet E. oszlop 12. sor
A15: 1.1. sz. melléklet Kiadások táblázat C. oszlop 10 sora = | B15: 2.1. számú melléklet E. oszlop 24. sor + 2.2. számú melléklet E. oszlop 25. sor
A16: 1.1. sz. melléklet Kiadások táblázat C. oszlop 11 sora = | B16: 2.1. számú melléklet E. oszlop 25. sor + 2.2. számú melléklet E. oszlop 26. sor

Sheet 1.1.sz.mell. Önk. szumma
B1: B E V É T E L E K
F2: Ezer forintban
A3: Sor- szám | B3: Bevételi jogcím | C3: 2015. évi előirányzat | D3: Korábbi módosítás | E3: Jelenlegi módosítás | F3: 2015. évi módosított előirányzat
A4: A | B4: B | C4: C | D4: D | E4: E | F4: F
A5: 1. | B5: Önkormányzat működési támogatásai (1.1.+…+.1.6.) | C5: =+C6+C7+C8+C9+C10+C11 -> 284600 | D5: =+D6+D7+D8+D9+D10+D11 -> 43715 | E5: =+E6+E7+E8+E9+E10+E11 -> 3123 | F5: =+F6+F7+F8+F9+F10+F11 -> 331438 | G5: =+'1.2.1.sz.mell. Önk. összes'!F5+'1.2.2.sz.mell. Hivatal össz.'!F5+'1.2.3.sz.mell.Műv.össz.'!F5+'1.2.4.sz.mell.Vágo.össz.'!F5 -> 331438 | H5: =+F5-G5 -> 0
A6: 1.1. | B6: Helyi önkormányzatok működésének általános támogatása | C6: =+'1.2.1.sz.mell. Önk. összes'!C6+'1.2.2.sz.mell. Hivatal össz.'!C6+'1.2.3.sz.mell.Műv.össz.'!C6+'1.2.4.sz.mell.Vágo.össz.'!C6 -> 134598 | D6: =+'1.2.1.sz.mell. Önk. összes'!D6+'1.2.2.sz.mell. Hivatal össz.'!D6+'1.2.3.sz.mell.Műv.össz.'!D6+'1.2.4.sz.mell.Vágo.össz.'!D6 -> 27672 | E6: =+'1.2.1.sz.mell. Önk. összes'!E6+'1.2.2.sz.mell. Hivatal össz.'!E6+'1.2.3.sz.mell.Műv.össz.'!E6+'1.2.4.sz.mell.Vágo.össz.'!E6 -> -1314 | F6: =+C6+D6+E6 -> 160956 | G6: =+'1.2.1.sz.mell. Önk. összes'!F6+'1.2.2.sz.mell. Hivatal össz.'!F6+'1.2.3.sz.mell.Műv.össz.'!F6+'1.2.4.sz.mell.Vágo.össz.'!F6 -> 160956 | H6: =+F6-G6 -> 0
A7: 1.2. | B7: Önkormányzatok egyes köznevelési feladatainak támogatása | C7: =+'1.2.1.sz.mell. Önk. összes'!C7+'1.2.2.sz.mell. Hivatal össz.'!C7+'1.2.3.sz.mell.Műv.össz.'!C7+'1.2.4.sz.mell.Vágo.össz.'!C7 -> 62198 | D7: =+'1.2.1.sz.mell. Önk. összes'!D7+'1.2.2.sz.mell. Hivatal össz.'!D7+'1.2.3.sz.mell.Műv.össz.'!D7+'1.2.4.sz.mell.Vágo.össz.'!D7 -> -10673 | E7: =+'1.2.1.sz.mell. Önk. összes'!E7+'1.2.2.sz.mell. Hivatal össz.'!E7+'1.2.3.sz.mell.Műv.össz.'!E7+'1.2.4.sz.mell.Vágo.össz.'!E7 -> -5529 | F7: =+C7+D7+E7 -> 45996 | G7: =+'1.2.1.sz.mell. Önk. összes'!F7+'1.2.2.sz.mell. Hivatal össz.'!F7+'1.2.3.sz.mell.Műv.össz.'!F7+'1.2.4.sz.mell.Vágo.össz.'!F7 -> 45996 | H7: =+F7-G7 -> 0
A8: 1.3. | B8: Önkormányzatok szociális és gyermekjóléti feladatainak támogatása | C8: =+'1.2.1.sz.mell. Önk. összes'!C8+'1.2.2.sz.mell. Hivatal össz.'!C8+'1.2.3.sz.mell.Műv.össz.'!C8+'1.2.4.sz.mell.Vágo.össz.'!C8 -> 40414 | D8: =+'1.2.1.sz.mell. Önk. összes'!D8+'1.2.2.sz.mell. Hivatal össz.'!D8+'1.2.3.sz.mell.Műv.össz.'!D8+'1.2.4.sz.mell.Vágo.össz.'!D8 -> 71109 | E8: =+'1.2.1.sz.mell. Önk. összes'!E8+'1.2.2.sz.mell. Hivatal össz.'!E8+'1.2.3.sz.mell.Műv.össz.'!E8+'1.2.4.sz.mell.Vágo.össz.'!E8 -> -39082 | F8: =+C8+D8+E8 -> 72441 | G8: =+'1.2.1.sz.mell. Önk. összes'!F8+'1.2.2.sz.mell. Hivatal össz.'!F8+'1.2.3.sz.mell.Műv.össz.'!F8+'1.2.4.sz.mell.Vágo.össz.'!F8 -> 72441 | H8: =+F8-G8 -> 0
A9: 1.4. | B9: Önkormányzatok kulturális feladatainak támogatása | C9: =+'1.2.1.sz.mell. Önk. összes'!C9+'1.2.2.sz.mell. Hivatal össz.'!C9+'1.2.3.sz.mell.Műv.össz.'!C9+'1.2.4.sz.mell.Vágo.össz.'!C9 -> 2997 | D9: =+'1.2.1.sz.mell. Önk. összes'!D9+'1.2.2.sz.mell. Hivatal össz.'!D9+'1.2.3.sz.mell.Műv.össz.'!D9+'1.2.4.sz.mell.Vágo.össz.'!D9 -> 0 | E9: =+'1.2.1.sz.mell. Önk. összes'!E9+'1.2.2.sz.mell. Hivatal össz.'!E9+'1.2.3.sz.mell.Műv.össz.'!E9+'1.2.4.sz.mell.Vágo.össz.'!E9 -> 138 | F9: =+C9+D9+E9 -> 3135 | G9: =+'1.2.1.sz.mell. Önk. összes'!F9+'1.2.2.sz.mell. Hivatal össz.'!F9+'1.2.3.sz.mell.Műv.össz.'!F9+'1.2.4.sz.mell.Vágo.össz.'!F9 -> 3135 | H9: =+F9-G9 -> 0
A10: 1.5. | B10: Működési célú kvi támogatások és kiegészítő támogatások | C10: =+'1.2.1.sz.mell. Önk. összes'!C10+'1.2.2.sz.mell. Hivatal össz.'!C10+'1.2.3.sz.mell.Műv.össz.'!C10+'1.2.4.sz.mell.Vágo.össz.'!C10 -> 34919 | D10: =+'1.2.1.sz.mell. Önk. összes'!D10+'1.2.2.sz.mell. Hivatal össz.'!D10+'1.2.3.sz.mell.Műv.össz.'!D10+'1.2.4.sz.mell.Vágo.össz.'!D10 -> -34919 | E10: =+'1.2.1.sz.mell. Önk. összes'!E10+'1.2.2.sz.mell. Hivatal össz.'!E10+'1.2.3.sz.mell.Műv.össz.'!E10+'1.2.4.sz.mell.Vágo.össz.'!E10 -> 48910 | F10: =+C10+D10+E10 -> 48910 | G10: =+'1.2.1.sz.mell. Önk. összes'!F10+'1.2.2.sz.mell. Hivatal össz.'!F10+'1.2.3.sz.mell.Műv.össz.'!F10+'1.2.4.sz.mell.Vágo.össz.'!F10 -> 48910 | H10: =+F10-G10 -> 0
A11: 1.6. | B11: Elszámolásból származó bevételek | C11: =+'1.2.1.sz.mell. Önk. összes'!C11+'1.2.2.sz.mell. Hivatal össz.'!C11+'1.2.3.sz.mell.Műv.össz.'!C11+'1.2.4.sz.mell.Vágo.össz.'!C11 -> 9474 | D11: =+'1.2.1.sz.mell. Önk. összes'!D11+'1.2.2.sz.mell. Hivatal össz.'!D11+'1.2.3.sz.mell.Műv.össz.'!D11+'1.2.4.sz.mell.Vágo.össz.'!D11 -> -9474 | E11: =+'1.2.1.sz.mell. Önk. összes'!E11+'1.2.2.sz.mell. Hivatal össz.'!E11+'1.2.3.sz.mell.Műv.össz.'!E11+'1.2.4.sz.mell.Vágo.össz.'!E11 -> 0 | F11: =+C11+D11+E11 -> 0 | G11: =+'1.2.1.sz.mell. Önk. összes'!F11+'1.2.2.sz.mell. Hivatal össz.'!F11+'1.2.3.sz.mell.Műv.össz.'!F11+'1.2.4.sz.mell.Vágo.össz.'!F11 -> 0 | H11: =+F11-G11 -> 0
A12: 2. | B12: Működési célú támogatások államháztartáson belülről (2.1.+…+.2.5.) | C12: =+C13+C14+C15+C16+C17 -> 19440 | D12: =+D13+D14+D15+D16+D17 -> 143203 | E12: =+E13+E14+E15+E16+E17 -> 10629 | F12: =+F13+F14+F15+F16+F17 -> 173272 | G12: =+'1.2.1.sz.mell. Önk. összes'!F12+'1.2.2.sz.mell. Hivatal össz.'!F12+'1.2.3.sz.mell.Műv.össz.'!F12+'1.2.4.sz.mell.Vágo.össz.'!F12 -> 173272 | H12: =+F12-G12 -> 0
A13: 2.1. | B13: Elvonások és befizetések bevételei | C13: =+'1.2.1.sz.mell. Önk. összes'!C13+'1.2.2.sz.mell. Hivatal össz.'!C13+'1.2.3.sz.mell.Műv.össz.'!C13+'1.2.4.sz.mell.Vágo.össz.'!C13 -> 0 | D13: =+'1.2.1.sz.mell. Önk. összes'!D13+'1.2.2.sz.mell. Hivatal össz.'!D13+'1.2.3.sz.mell.Műv.össz.'!D13+'1.2.4.sz.mell.Vágo.össz.'!D13 -> 0 | E13: =+'1.2.1.sz.mell. Önk. összes'!E13+'1.2.2.sz.mell. Hivatal össz.'!E13+'1.2.3.sz.mell.Műv.össz.'!E13+'1.2.4.sz.mell.Vágo.össz.'!E13 -> 0 | F13: =+C13+D13+E13 -> 0 | G13: =+'1.2.1.sz.mell. Önk. összes'!F13+'1.2.2.sz.mell. Hivatal össz.'!F13+'1.2.3.sz.mell.Műv.össz.'!F13+'1.2.4.sz.mell.Vágo.össz.'!F13 -> 0 | H13: =+F13-G13 -> 0
A14: 2.2. | B14: Működési célú garancia- és kezességvállalásból megtérülések | C14: =+'1.2.1.sz.mell. Önk. összes'!C14+'1.2.2.sz.mell. Hivatal össz.'!C14+'1.2.3.sz.mell.Műv.össz.'!C14+'1.2.4.sz.mell.Vágo.össz.'!C14 -> 0 | D14: =+'1.2.1.sz.mell. Önk. összes'!D14+'1.2.2.sz.mell. Hivatal össz.'!D14+'1.2.3.sz.mell.Műv.össz.'!D14+'1.2.4.sz.mell.Vágo.össz.'!D14 -> 0 | E14: =+'1.2.1.sz.mell. Önk. összes'!E14+'1.2.2.sz.mell. Hivatal össz.'!E14+'1.2.3.sz.mell.Műv.össz.'!E14+'1.2.4.sz.mell.Vágo.össz.'!E14 -> 0 | F14: =+C14+D14+E14 -> 0 | G14: =+'1.2.1.sz.mell. Önk. összes'!F14+'1.2.2.sz.mell. Hivatal össz.'!F14+'1.2.3.sz.mell.Műv.össz.'!F14+'1.2.4.sz.mell.Vágo.össz.'!F14 -> 0 | H14: =+F14-G14 -> 0
A15: 2.3. | B15: Működési célú visszatérítendő támogatások, kölcsönök visszatérülése | C15: =+'1.2.1.sz.mell. Önk. összes'!C15+'1.2.2.sz.mell. Hivatal össz.'!C15+'1.2.3.sz.mell.Műv.össz.'!C15+'1.2.4.sz.mell.Vágo.össz.'!C15 -> 0 | D15: =+'1.2.1.sz.mell. Önk. összes'!D15+'1.2.2.sz.mell. Hivatal össz.'!D15+'1.2.3.sz.mell.Műv.össz.'!D15+'1.2.4.sz.mell.Vágo.össz.'!D15 -> 0 | E15: =+'1.2.1.sz.mell. Önk. összes'!E15+'1.2.2.sz.mell. Hivatal össz.'!E15+'1.2.3.sz.mell.Műv.össz.'!E15+'1.2.4.sz.mell.Vágo.össz.'!E15 -> 0 | F15: =+C15+D15+E15 -> 0 | G15: =+'1.2.1.sz.mell. Önk. összes'!F15+'1.2.2.sz.mell. Hivatal össz.'!F15+'1.2.3.sz.mell.Műv.össz.'!F15+'1.2.4.sz.mell.Vágo.össz.'!F15 -> 0 | H15: =+F15-G15 -> 0
A16: 2.4. | B16: Működési célú visszatérítendő támogatások, kölcsönök igénybevétele | C16: =+'1.2.1.sz.mell. Önk. összes'!C16+'1.2.2.sz.mell. Hivatal össz.'!C16+'1.2.3.sz.mell.Műv.össz.'!C16+'1.2.4.sz.mell.Vágo.össz.'!C16 -> 0 | D16: =+'1.2.1.sz.mell. Önk. összes'!D16+'1.2.2.sz.mell. Hivatal össz.'!D16+'1.2.3.sz.mell.Műv.össz.'!D16+'1.2.4.sz.mell.Vágo.össz.'!D16 -> 0 | E16: =+'1.2.1.sz.mell. Önk. összes'!E16+'1.2.2.sz.mell. Hivatal össz.'!E16+'1.2.3.sz.mell.Műv.össz.'!E16+'1.2.4.sz.mell.Vágo.össz.'!E16 -> 0 | F16: =+C16+D16+E16 -> 0 | G16: =+'1.2.1.sz.mell. Önk. összes'!F16+'1.2.2.sz.mell. Hivatal össz.'!F16+'1.2.3.sz.mell.Műv.össz.'!F16+'1.2.4.sz.mell.Vágo.össz.'!F16 -> 0 | H16: =+F16-G16 -> 0
A17: 2.5. | B17: Egyéb működési célú támogatások bevételei | C17: =+'1.2.1.sz.mell. Önk. összes'!C17+'1.2.2.sz.mell. Hivatal össz.'!C17+'1.2.3.sz.mell.Műv.össz.'!C17+'1.2.4.sz.mell.Vágo.össz.'!C17 -> 19440 | D17: =+'1.2.1.sz.mell. Önk. összes'!D17+'1.2.2.sz.mell. Hivatal össz.'!D17+'1.2.3.sz.mell.Műv.össz.'!D17+'1.2.4.sz.mell.Vágo.össz.'!D17 -> 143203 | E17: 10629 | F17: =+C17+D17+E17 -> 173272 | G17: =+'1.2.1.sz.mell. Önk. összes'!F17+'1.2.2.sz.mell. Hivatal össz.'!F17+'1.2.3.sz.mell.Műv.össz.'!F17+'1.2.4.sz.mell.Vágo.össz.'!F17 -> 173272 | H17: =+F17-G17 -> 0
A18: 2.6. | B18: 2.5.-ből EU-s támogatás | C18: =+'1.2.1.sz.mell. Önk. összes'!C18+'1.2.2.sz.mell. Hivatal össz.'!C18+'1.2.3.sz.mell.Műv.össz.'!C18+'1.2.4.sz.mell.Vágo.össz.'!C18 -> 0 | D18: =+'1.2.1.sz.mell. Önk. összes'!D18+'1.2.2.sz.mell. Hivatal össz.'!D18+'1.2.3.sz.mell.Műv.össz.'!D18+'1.2.4.sz.mell.Vágo.össz.'!D18 -> 0 | E18: =+'1.2.1.sz.mell. Önk. összes'!E18+'1.2.2.sz.mell. Hivatal össz.'!E18+'1.2.3.sz.mell.Műv.össz.'!E18+'1.2.4.sz.mell.Vágo.össz.'!E18 -> 0 | F18: =+C18+D18+E18 -> 0 | G18: =+'1.2.1.sz.mell. Önk. összes'!F18+'1.2.2.sz.mell. Hivatal össz.'!F18+'1.2.3.sz.mell.Műv.össz.'!F18+'1.2.4.sz.mell.Vágo.össz.'!F18 -> 0 | H18: =+F18-G18 -> 0
A19: 3. | B19: Felhalmozási célú támogatások államháztartáson belülről (3.1.+…+3.5.) | C19: =+C20+C21+C22+C23+C24 -> 0 | D19: =+D20+D21+D22+D23+D24 -> 0 | E19: =+E20+E21+E22+E23+E24 -> 80060 | F19: =+F20+F21+F22+F23+F24 -> 80060 | G19: =+'1.2.1.sz.mell. Önk. összes'!F19+'1.2.2.sz.mell. Hivatal össz.'!F19+'1.2.3.sz.mell.Műv.össz.'!F19+'1.2.4.sz.mell.Vágo.össz.'!F19 -> 80060 | H19: =+F19-G19 -> 0
A20: 3.1. | B20: Felhalmozási célú önkormányzati támogatások | C20: =+'1.2.1.sz.mell. Önk. összes'!C20+'1.2.2.sz.mell. Hivatal össz.'!C20+'1.2.3.sz.mell.Műv.össz.'!C20+'1.2.4.sz.mell.Vágo.össz.'!C20 -> 0 | D20: =+'1.2.1.sz.mell. Önk. összes'!D20+'1.2.2.sz.mell. Hivatal össz.'!D20+'1.2.3.sz.mell.Műv.össz.'!D20+'1.2.4.sz.mell.Vágo.össz.'!D20 -> 0 | E20: =+'1.2.1.sz.mell. Önk. összes'!E20+'1.2.2.sz.mell. Hivatal össz.'!E20+'1.2.3.sz.mell.Műv.össz.'!E20+'1.2.4.sz.mell.Vágo.össz.'!E20 -> 28500 | F20: =+C20+D20+E20 -> 28500 | G20: =+'1.2.1.sz.mell. Önk. összes'!F20+'1.2.2.sz.mell. Hivatal össz.'!F20+'1.2.3.sz.mell.Műv.össz.'!F20+'1.2.4.sz.mell.Vágo.össz.'!F20 -> 28500 | H20: =+F20-G20 -> 0
A21: 3.2. | B21: Felhalmozási célú garancia- és kezességvállalásból megtérülések | C21: =+'1.2.1.sz.mell. Önk. összes'!C21+'1.2.2.sz.mell. Hivatal össz.'!C21+'1.2.3.sz.mell.Műv.össz.'!C21+'1.2.4.sz.mell.Vágo.össz.'!C21 -> 0 | D21: =+'1.2.1.sz.mell. Önk. összes'!D21+'1.2.2.sz.mell. Hivatal össz.'!D21+'1.2.3.sz.mell.Műv.össz.'!D21+'1.2.4.sz.mell.Vágo.össz.'!D21 -> 0 | E21: =+'1.2.1.sz.mell. Önk. összes'!E21+'1.2.2.sz.mell. Hivatal össz.'!E21+'1.2.3.sz.mell.Műv.össz.'!E21+'1.2.4.sz.mell.Vágo.össz.'!E21 -> 0 | F21: =+C21+D21+E21 -> 0 | G21: =+'1.2.1.sz.mell. Önk. összes'!F21+'1.2.2.sz.mell. Hivatal össz.'!F21+'1.2.3.sz.mell.Műv.össz.'!F21+'1.2.4.sz.mell.Vágo.össz.'!F21 -> 0 | H21: =+F21-G21 -> 0
A22: 3.3. | B22: Felhalmozási célú visszatérítendő támogatások, kölcsönök visszatérülése | C22: =+'1.2.1.sz.mell. Önk. összes'!C22+'1.2.2.sz.mell. Hivatal össz.'!C22+'1.2.3.sz.mell.Műv.össz.'!C22+'1.2.4.sz.mell.Vágo.össz.'!C22 -> 0 | D22: =+'1.2.1.sz.mell. Önk. összes'!D22+'1.2.2.sz.mell. Hivatal össz.'!D22+'1.2.3.sz.mell.Műv.össz.'!D22+'1.2.4.sz.mell.Vágo.össz.'!D22 -> 0 | E22: =+'1.2.1.sz.mell. Önk. összes'!E22+'1.2.2.sz.mell. Hivatal össz.'!E22+'1.2.3.sz.mell.Műv.össz.'!E22+'1.2.4.sz.mell.Vágo.össz.'!E22 -> 0 | F22: =+C22+D22+E22 -> 0 | G22: =+'1.2.1.sz.mell. Önk. összes'!F22+'1.2.2.sz.mell. Hivatal össz.'!F22+'1.2.3.sz.mell.Műv.össz.'!F22+'1.2.4.sz.mell.Vágo.össz.'!F22 -> 0 | H22: =+F22-G22 -> 0
A23: 3.4. | B23: Felhalmozási célú visszatérítendő támogatások, kölcsönök igénybevétele | C23: =+'1.2.1.sz.mell. Önk. összes'!C23+'1.2.2.sz.mell. Hivatal össz.'!C23+'1.2.3.sz.mell.Műv.össz.'!C23+'1.2.4.sz.mell.Vágo.össz.'!C23 -> 0 | D23: =+'1.2.1.sz.mell. Önk. összes'!D23+'1.2.2.sz.mell. Hivatal össz.'!D23+'1.2.3.sz.mell.Műv.össz.'!D23+'1.2.4.sz.mell.Vágo.össz.'!D23 -> 0 | E23: =+'1.2.1.sz.mell. Önk. összes'!E23+'1.2.2.sz.mell. Hivatal össz.'!E23+'1.2.3.sz.mell.Műv.össz.'!E23+'1.2.4.sz.mell.Vágo.össz.'!E23 -> 0 | F23: =+C23+D23+E23 -> 0 | G23: =+'1.2.1.sz.mell. Önk. összes'!F23+'1.2.2.sz.mell. Hivatal össz.'!F23+'1.2.3.sz.mell.Műv.össz.'!F23+'1.2.4.sz.mell.Vágo.össz.'!F23 -> 0 | H23: =+F23-G23 -> 0
A24: 3.5. | B24: Egyéb felhalmozási célú támogatások bevételei | C24: =+'1.2.1.sz.mell. Önk. összes'!C24+'1.2.2.sz.mell. Hivatal össz.'!C24+'1.2.3.sz.mell.Műv.össz.'!C24+'1.2.4.sz.mell.Vágo.össz.'!C24 -> 0 | D24: =+'1.2.1.sz.mell. Önk. összes'!D24+'1.2.2.sz.mell. Hivatal össz.'!D24+'1.2.3.sz.mell.Műv.össz.'!D24+'1.2.4.sz.mell.Vágo.össz.'!D24 -> 0 | E24: ='1.2.1.sz.mell. Önk. összes'!E24 -> 51560 | F24: =+C24+D24+E24 -> 51560 | G24: =+'1.2.1.sz.mell. Önk. összes'!F24+'1.2.2.sz.mell. Hivatal össz.'!F24+'1.2.3.sz.mell.Műv.össz.'!F24+'1.2.4.sz.mell.Vágo.össz.'!F24 -> 51560 | H24: =+F24-G24 -> 0
A25: 3.6. | B25: 3.5.-ből EU-s támogatás | C25: =+'1.2.1.sz.mell. Önk. összes'!C25+'1.2.2.sz.mell. Hivatal össz.'!C25+'1.2.3.sz.mell.Műv.össz.'!C25+'1.2.4.sz.mell.Vágo.össz.'!C25 -> 0 | D25: =+'1.2.1.sz.mell. Önk. összes'!D25+'1.2.2.sz.mell. Hivatal össz.'!D25+'1.2.3.sz.mell.Műv.össz.'!D25+'1.2.4.sz.mell.Vágo.össz.'!D25 -> 0 | E25: =+'1.2.1.sz.mell. Önk. összes'!E25+'1.2.2.sz.mell. Hivatal össz.'!E25+'1.2.3.sz.mell.Műv.össz.'!E25+'1.2.4.sz.mell.Vágo.össz.'!E25 -> 0 | F25: =+C25+D25+E25 -> 0 | G25: =+'1.2.1.sz.mell. Önk. összes'!F25+'1.2.2.sz.mell. Hivatal össz.'!F25+'1.2.3.sz.mell.Műv.össz.'!F25+'1.2.4.sz.mell.Vágo.össz.'!F25 -> 0 | H25: =+F25-G25 -> 0
A26: 4. | B26: Közhatalmi bevételek (4.1.+4.2.+4.3.+4.4.) | C26: =+C27+C31+C32+C33 -> 209000 | D26: =+D27+D31+D32+D33 -> 0 | E26: =+E27+E31+E32+E33 -> 0 | F26: =+F27+F31+F32+F33 -> 209000 | G26: =+'1.2.1.sz.mell. Önk. összes'!F26+'1.2.2.sz.mell. Hivatal össz.'!F26+'1.2.3.sz.mell.Műv.össz.'!F26+'1.2.4.sz.mell.Vágo.össz.'!F26 -> 209000 | H26: =+F26-G26 -> 0
A27: 4.1. | B27: Helyi adók (4.1.1.+...+4.1.3.) | C27: =+C28+C29+C30 -> 201000 | D27: =+D28+D29+D30 -> 0 | E27: =+E28+E29+E30 -> 0 | F27: =+C27+D27+E27 -> 201000 | G27: =+'1.2.1.sz.mell. Önk. összes'!F27+'1.2.2.sz.mell. Hivatal össz.'!F27+'1.2.3.sz.mell.Műv.össz.'!F27+'1.2.4.sz.mell.Vágo.össz.'!F27 -> 201000 | H27: =+F27-G27 -> 0
A28: 4.1.1. | B28: - Vagyoni típusú adók | C28: =+'1.2.1.sz.mell. Önk. összes'!C28+'1.2.2.sz.mell. Hivatal össz.'!C28+'1.2.3.sz.mell.Műv.össz.'!C28+'1.2.4.sz.mell.Vágo.össz.'!C28 -> 125000 | D28: =+'1.2.1.sz.mell. Önk. összes'!D28+'1.2.2.sz.mell. Hivatal össz.'!D28+'1.2.3.sz.mell.Műv.össz.'!D28+'1.2.4.sz.mell.Vágo.össz.'!D28 -> 0 | E28: =+'1.2.1.sz.mell. Önk. összes'!E28+'1.2.2.sz.mell. Hivatal össz.'!E28+'1.2.3.sz.mell.Műv.össz.'!E28+'1.2.4.sz.mell.Vágo.össz.'!E28 -> 0 | F28: =+C28+D28+E28 -> 125000 | G28: =+'1.2.1.sz.mell. Önk. összes'!F28+'1.2.2.sz.mell. Hivatal össz.'!F28+'1.2.3.sz.mell.Műv.össz.'!F28+'1.2.4.sz.mell.Vágo.össz.'!F28 -> 125000 | H28: =+F28-G28 -> 0
A29: 4.1.2. | B29: - Termékek és szolgáltatások adói | C29: =+'1.2.1.sz.mell. Önk. összes'!C29+'1.2.2.sz.mell. Hivatal össz.'!C29+'1.2.3.sz.mell.Műv.össz.'!C29+'1.2.4.sz.mell.Vágo.össz.'!C29 -> 18000 | D29: =+'1.2.1.sz.mell. Önk. összes'!D29+'1.2.2.sz.mell. Hivatal össz.'!D29+'1.2.3.sz.mell.Műv.össz.'!D29+'1.2.4.sz.mell.Vágo.össz.'!D29 -> 0 | E29: =+'1.2.1.sz.mell. Önk. összes'!E29+'1.2.2.sz.mell. Hivatal össz.'!E29+'1.2.3.sz.mell.Műv.össz.'!E29+'1.2.4.sz.mell.Vágo.össz.'!E29 -> 0 | F29: =+C29+D29+E29 -> 18000 | G29: =+'1.2.1.sz.mell. Önk. összes'!F29+'1.2.2.sz.mell. Hivatal össz.'!F29+'1.2.3.sz.mell.Műv.össz.'!F29+'1.2.4.sz.mell.Vágo.össz.'!F29 -> 18000 | H29: =+F29-G29 -> 0
A30: 4.1.3. | B30: - Értékesítési és forgalmi adók (iparűzési adó) | C30: =+'1.2.1.sz.mell. Önk. összes'!C30+'1.2.2.sz.mell. Hivatal össz.'!C30+'1.2.3.sz.mell.Műv.össz.'!C30+'1.2.4.sz.mell.Vágo.össz.'!C30 -> 58000 | D30: =+'1.2.1.sz.mell. Önk. összes'!D30+'1.2.2.sz.mell. Hivatal össz.'!D30+'1.2.3.sz.mell.Műv.össz.'!D30+'1.2.4.sz.mell.Vágo.össz.'!D30 -> 0 | E30: =+'1.2.1.sz.mell. Önk. összes'!E30+'1.2.2.sz.mell. Hivatal össz.'!E30+'1.2.3.sz.mell.Műv.össz.'!E30+'1.2.4.sz.mell.Vágo.össz.'!E30 -> 0 | F30: =+C30+D30+E30 -> 58000 | G30: =+'1.2.1.sz.mell. Önk. összes'!F30+'1.2.2.sz.mell. Hivatal össz.'!F30+'1.2.3.sz.mell.Műv.össz.'!F30+'1.2.4.sz.mell.Vágo.össz.'!F30 -> 58000 | H30: =+F30-G30 -> 0
A31: 4.2. | B31: Gépjárműadó | C31: =+'1.2.1.sz.mell. Önk. összes'!C31+'1.2.2.sz.mell. Hivatal össz.'!C31+'1.2.3.sz.mell.Műv.össz.'!C31+'1.2.4.sz.mell.Vágo.össz.'!C31 -> 7000 | D31: =+'1.2.1.sz.mell. Önk. összes'!D31+'1.2.2.sz.mell. Hivatal össz.'!D31+'1.2.3.sz.mell.Műv.össz.'!D31+'1.2.4.sz.mell.Vágo.össz.'!D31 -> 0 | E31: =+'1.2.1.sz.mell. Önk. összes'!E31+'1.2.2.sz.mell. Hivatal össz.'!E31+'1.2.3.sz.mell.Műv.össz.'!E31+'1.2.4.sz.mell.Vágo.össz.'!E31 -> 0 | F31: =+C31+D31+E31 -> 7000 | G31: =+'1.2.1.sz.mell. Önk. összes'!F31+'1.2.2.sz.mell. Hivatal össz.'!F31+'1.2.3.sz.mell.Műv.össz.'!F31+'1.2.4.sz.mell.Vágo.össz.'!F31 -> 7000 | H31: =+F31-G31 -> 0
A32: 4.3. | B32: Egyéb áruhasználati és szolgáltatási adók | C32: =+'1.2.1.sz.mell. Önk. összes'!C32+'1.2.2.sz.mell. Hivatal össz.'!C32+'1.2.3.sz.mell.Műv.össz.'!C32+'1.2.4.sz.mell.Vágo.össz.'!C32 -> 0 | D32: =+'1.2.1.sz.mell. Önk. összes'!D32+'1.2.2.sz.mell. Hivatal össz.'!D32+'1.2.3.sz.mell.Műv.össz.'!D32+'1.2.4.sz.mell.Vágo.össz.'!D32 -> 0 | E32: =+'1.2.1.sz.mell. Önk. összes'!E32+'1.2.2.sz.mell. Hivatal össz.'!E32+'1.2.3.sz.mell.Műv.össz.'!E32+'1.2.4.sz.mell.Vágo.össz.'!E32 -> 0 | F32: =+C32+D32+E32 -> 0 | G32: =+'1.2.1.sz.mell. Önk. összes'!F32+'1.2.2.sz.mell. Hivatal össz.'!F32+'1.2.3.sz.mell.Műv.össz.'!F32+'1.2.4.sz.mell.Vágo.össz.'!F32 -> 0 | H32: =+F32-G32 -> 0
A33: 4.4. | B33: Egyéb közhatalmi bevételek | C33: =+'1.2.1.sz.mell. Önk. összes'!C33+'1.2.2.sz.mell. Hivatal össz.'!C33+'1.2.3.sz.mell.Műv.össz.'!C33+'1.2.4.sz.mell.Vágo.össz.'!C33 -> 1000 | D33: =+'1.2.1.sz.mell. Önk. összes'!D33+'1.2.2.sz.mell. Hivatal össz.'!D33+'1.2.3.sz.mell.Műv.össz.'!D33+'1.2.4.sz.mell.Vágo.össz.'!D33 -> 0 | E33: =+'1.2.1.sz.mell. Önk. összes'!E33+'1.2.2.sz.mell. Hivatal össz.'!E33+'1.2.3.sz.mell.Műv.össz.'!E33+'1.2.4.sz.mell.Vágo.össz.'!E33 -> 0 | F33: =+C33+D33+E33 -> 1000 | G33: =+'1.2.1.sz.mell. Önk. összes'!F33+'1.2.2.sz.mell. Hivatal össz.'!F33+'1.2.3.sz.mell.Műv.össz.'!F33+'1.2.4.sz.mell.Vágo.össz.'!F33 -> 1000 | H33: =+F33-G33 -> 0
A34: 5. | B34: Működési bevételek (5.1.+…+ 5.11.) | C34: =SUM(C35:C45) -> 102389 | D34: =SUM(D35:D45) -> 5650 | E34: =SUM(E35:E45) -> 14319 | F34: =SUM(F35:F45) -> 122358 | G34: =+'1.2.1.sz.mell. Önk. összes'!F34+'1.2.2.sz.mell. Hivatal össz.'!F34+'1.2.3.sz.mell.Műv.össz.'!F34+'1.2.4.sz.mell.Vágo.össz.'!F34 -> 122358 | H34: =+F34-G34 -> 0
A35: 5.1. | B35: Készletértékesítés ellenértéke | C35: =+'1.2.1.sz.mell. Önk. összes'!C35+'1.2.2.sz.mell. Hivatal össz.'!C35+'1.2.3.sz.mell.Műv.össz.'!C35+'1.2.4.sz.mell.Vágo.össz.'!C35 -> 0 | D35: =+'1.2.1.sz.mell. Önk. összes'!D35+'1.2.2.sz.mell. Hivatal össz.'!D35+'1.2.3.sz.mell.Műv.össz.'!D35+'1.2.4.sz.mell.Vágo.össz.'!D35 -> 0 | E35: =+'1.2.1.sz.mell. Önk. összes'!E35+'1.2.2.sz.mell. Hivatal össz.'!E35+'1.2.3.sz.mell.Műv.össz.'!E35+'1.2.4.sz.mell.Vágo.össz.'!E35 -> 0 | F35: =+C35+D35+E35 -> 0 | G35: =+'1.2.1.sz.mell. Önk. összes'!F35+'1.2.2.sz.mell. Hivatal össz.'!F35+'1.2.3.sz.mell.Műv.össz.'!F35+'1.2.4.sz.mell.Vágo.össz.'!F35 -> 0 | H35: =+F35-G35 -> 0
A36: 5.2. | B36: Szolgáltatások ellenértéke | C36: =+'1.2.1.sz.mell. Önk. összes'!C36+'1.2.2.sz.mell. Hivatal össz.'!C36+'1.2.3.sz.mell.Műv.össz.'!C36+'1.2.4.sz.mell.Vágo.össz.'!C36 -> 62900 | D36: =+'1.2.1.sz.mell. Önk. összes'!D36+'1.2.2.sz.mell. Hivatal össz.'!D36+'1.2.3.sz.mell.Műv.össz.'!D36+'1.2.4.sz.mell.Vágo.össz.'!D36 -> 12170 | E36: =+'1.2.1.sz.mell. Önk. összes'!E36+'1.2.2.sz.mell. Hivatal össz.'!E36+'1.2.3.sz.mell.Műv.össz.'!E36+'1.2.4.sz.mell.Vágo.össz.'!E36 -> 558 | F36: =+C36+D36+E36 -> 75628 | G36: =+'1.2.1.sz.mell. Önk. összes'!F36+'1.2.2.sz.mell. Hivatal össz.'!F36+'1.2.3.sz.mell.Műv.össz.'!F36+'1.2.4.sz.mell.Vágo.össz.'!F36 -> 75628 | H36: =+F36-G36 -> 0
A37: 5.3. | B37: Közvetített szolgáltatások értéke | C37: =+'1.2.1.sz.mell. Önk. összes'!C37+'1.2.2.sz.mell. Hivatal össz.'!C37+'1.2.3.sz.mell.Műv.össz.'!C37+'1.2.4.sz.mell.Vágo.össz.'!C37 -> 2000 | D37: =+'1.2.1.sz.mell. Önk. összes'!D37+'1.2.2.sz.mell. Hivatal össz.'!D37+'1.2.3.sz.mell.Műv.össz.'!D37+'1.2.4.sz.mell.Vágo.össz.'!D37 -> 1200 | E37: =+'1.2.1.sz.mell. Önk. összes'!E37+'1.2.2.sz.mell. Hivatal össz.'!E37+'1.2.3.sz.mell.Műv.össz.'!E37+'1.2.4.sz.mell.Vágo.össz.'!E37 -> 2875 | F37: =+C37+D37+E37 -> 6075 | G37: =+'1.2.1.sz.mell. Önk. összes'!F37+'1.2.2.sz.mell. Hivatal össz.'!F37+'1.2.3.sz.mell.Műv.össz.'!F37+'1.2.4.sz.mell.Vágo.össz.'!F37 -> 6075 | H37: =+F37-G37 -> 0
A38: 5.4. | B38: Tulajdonosi bevételek | C38: =+'1.2.1.sz.mell. Önk. összes'!C38+'1.2.2.sz.mell. Hivatal össz.'!C38+'1.2.3.sz.mell.Műv.össz.'!C38+'1.2.4.sz.mell.Vágo.össz.'!C38 -> 5010 | D38: =+'1.2.1.sz.mell. Önk. összes'!D38+'1.2.2.sz.mell. Hivatal össz.'!D38+'1.2.3.sz.mell.Műv.össz.'!D38+'1.2.4.sz.mell.Vágo.össz.'!D38 -> -1010 | E38: =+'1.2.1.sz.mell. Önk. összes'!E38+'1.2.2.sz.mell. Hivatal össz.'!E38+'1.2.3.sz.mell.Műv.össz.'!E38+'1.2.4.sz.mell.Vágo.össz.'!E38 -> 1430 | F38: =+C38+D38+E38 -> 5430 | G38: =+'1.2.1.sz.mell. Önk. összes'!F38+'1.2.2.sz.mell. Hivatal össz.'!F38+'1.2.3.sz.mell.Műv.össz.'!F38+'1.2.4.sz.mell.Vágo.össz.'!F38 -> 5430 | H38: =+F38-G38 -> 0
A39: 5.5. | B39: Ellátási díjak | C39: =+'1.2.1.sz.mell. Önk. összes'!C39+'1.2.2.sz.mell. Hivatal össz.'!C39+'1.2.3.sz.mell.Műv.össz.'!C39+'1.2.4.sz.mell.Vágo.össz.'!C39 -> 8800 | D39: =+'1.2.1.sz.mell. Önk. összes'!D39+'1.2.2.sz.mell. Hivatal össz.'!D39+'1.2.3.sz.mell.Műv.össz.'!D39+'1.2.4.sz.mell.Vágo.össz.'!D39 -> 100 | E39: =+'1.2.1.sz.mell. Önk. összes'!E39+'1.2.2.sz.mell. Hivatal össz.'!E39+'1.2.3.sz.mell.Műv.össz.'!E39+'1.2.4.sz.mell.Vágo.össz.'!E39 -> 100 | F39: =+C39+D39+E39 -> 9000 | G39: =+'1.2.1.sz.mell. Önk. összes'!F39+'1.2.2.sz.mell. Hivatal össz.'!F39+'1.2.3.sz.mell.Műv.össz.'!F39+'1.2.4.sz.mell.Vágo.össz.'!F39 -> 9000 | H39: =+F39-G39 -> 0
A40: 5.6. | B40: Kiszámlázott általános forgalmi adó | C40: =+'1.2.1.sz.mell. Önk. összes'!C40+'1.2.2.sz.mell. Hivatal össz.'!C40+'1.2.3.sz.mell.Műv.össz.'!C40+'1.2.4.sz.mell.Vágo.össz.'!C40 -> 11879 | D40: =+'1.2.1.sz.mell. Önk. összes'!D40+'1.2.2.sz.mell. Hivatal össz.'!D40+'1.2.3.sz.mell.Műv.össz.'!D40+'1.2.4.sz.mell.Vágo.össz.'!D40 -> 2160 | E40: =+'1.2.1.sz.mell. Önk. összes'!E40+'1.2.2.sz.mell. Hivatal össz.'!E40+'1.2.3.sz.mell.Műv.össz.'!E40+'1.2.4.sz.mell.Vágo.össz.'!E40 -> 356 | F40: =+C40+D40+E40 -> 14395 | G40: =+'1.2.1.sz.mell. Önk. összes'!F40+'1.2.2.sz.mell. Hivatal össz.'!F40+'1.2.3.sz.mell.Műv.össz.'!F40+'1.2.4.sz.mell.Vágo.össz.'!F40 -> 14395 | H40: =+F40-G40 -> 0
A41: 5.7. | B41: Általános forgalmi adó visszatérítése | C41: =+'1.2.1.sz.mell. Önk. összes'!C41+'1.2.2.sz.mell. Hivatal össz.'!C41+'1.2.3.sz.mell.Műv.össz.'!C41+'1.2.4.sz.mell.Vágo.össz.'!C41 -> 1700 | D41: =+'1.2.1.sz.mell. Önk. összes'!D41+'1.2.2.sz.mell. Hivatal össz.'!D41+'1.2.3.sz.mell.Műv.össz.'!D41+'1.2.4.sz.mell.Vágo.össz.'!D41 -> 0 | E41: =+'1.2.1.sz.mell. Önk. összes'!E41+'1.2.2.sz.mell. Hivatal össz.'!E41+'1.2.3.sz.mell.Műv.össz.'!E41+'1.2.4.sz.mell.Vágo.össz.'!E41 -> 0 | F41: =+C41+D41+E41 -> 1700 | G41: =+'1.2.1.sz.mell. Önk. összes'!F41+'1.2.2.sz.mell. Hivatal össz.'!F41+'1.2.3.sz.mell.Műv.össz.'!F41+'1.2.4.sz.mell.Vágo.össz.'!F41 -> 1700 | H41: =+F41-G41 -> 0
A42: 5.8. | B42: Kamatbevételek | C42: =+'1.2.1.sz.mell. Önk. összes'!C42+'1.2.2.sz.mell. Hivatal össz.'!C42+'1.2.3.sz.mell.Műv.össz.'!C42+'1.2.4.sz.mell.Vágo.össz.'!C42 -> 1100 | D42: =+'1.2.1.sz.mell. Önk. összes'!D42+'1.2.2.sz.mell. Hivatal össz.'!D42+'1.2.3.sz.mell.Műv.össz.'!D42+'1.2.4.sz.mell.Vágo.össz.'!D42 -> 30 | E42: =+'1.2.1.sz.mell. Önk. összes'!E42+'1.2.2.sz.mell. Hivatal össz.'!E42+'1.2.3.sz.mell.Műv.össz.'!E42+'1.2.4.sz.mell.Vágo.össz.'!E42 -> 0 | F42: =+C42+D42+E42 -> 1130 | G42: =+'1.2.1.sz.mell. Önk. összes'!F42+'1.2.2.sz.mell. Hivatal össz.'!F42+'1.2.3.sz.mell.Műv.össz.'!F42+'1.2.4.sz.mell.Vágo.össz.'!F42 -> 1130 | H42: =+F42-G42 -> 0
A43: 5.9. | B43: Egyéb pénzügyi műveletek bevételei | C43: =+'1.2.1.sz.mell. Önk. összes'!C43+'1.2.2.sz.mell. Hivatal össz.'!C43+'1.2.3.sz.mell.Műv.össz.'!C43+'1.2.4.sz.mell.Vágo.össz.'!C43 -> 0 | D43: =+'1.2.1.sz.mell. Önk. összes'!D43+'1.2.2.sz.mell. Hivatal össz.'!D43+'1.2.3.sz.mell.Műv.össz.'!D43+'1.2.4.sz.mell.Vágo.össz.'!D43 -> 0 | E43: =+'1.2.1.sz.mell. Önk. összes'!E43+'1.2.2.sz.mell. Hivatal össz.'!E43+'1.2.3.sz.mell.Műv.össz.'!E43+'1.2.4.sz.mell.Vágo.össz.'!E43 -> 0 | F43: =+C43+D43+E43 -> 0 | G43: =+'1.2.1.sz.mell. Önk. összes'!F43+'1.2.2.sz.mell. Hivatal össz.'!F43+'1.2.3.sz.mell.Műv.össz.'!F43+'1.2.4.sz.mell.Vágo.össz.'!F43 -> 0 | H43: =+F43-G43 -> 0
A44: 5.10. | B44: Biztosító által fizetett kártérítés | C44: =+'1.2.1.sz.mell. Önk. összes'!C44+'1.2.2.sz.mell. Hivatal össz.'!C44+'1.2.3.sz.mell.Műv.össz.'!C44+'1.2.4.sz.mell.Vágo.össz.'!C44 -> 0 | D44: =+'1.2.1.sz.mell. Önk. összes'!D44+'1.2.2.sz.mell. Hivatal össz.'!D44+'1.2.3.sz.mell.Műv.össz.'!D44+'1.2.4.sz.mell.Vágo.össz.'!D44 -> 0 | E44: =+'1.2.1.sz.mell. Önk. összes'!E44+'1.2.2.sz.mell. Hivatal össz.'!E44+'1.2.3.sz.mell.Műv.össz.'!E44+'1.2.4.sz.mell.Vágo.össz.'!E44 -> 0 | F44: =+C44+D44+E44 -> 0 | G44: =+'1.2.1.sz.mell. Önk. összes'!F44+'1.2.2.sz.mell. Hivatal össz.'!F44+'1.2.3.sz.mell.Műv.össz.'!F44+'1.2.4.sz.mell.Vágo.össz.'!F44 -> 0 | H44: =+F44-G44 -> 0
A45: 5.11. | B45: Egyéb működési bevételek | C45: =+'1.2.1.sz.mell. Önk. összes'!C45+'1.2.2.sz.mell. Hivatal össz.'!C45+'1.2.3.sz.mell.Műv.össz.'!C45+'1.2.4.sz.mell.Vágo.össz.'!C45 -> 9000 | D45: =+'1.2.1.sz.mell. Önk. összes'!D45+'1.2.2.sz.mell. Hivatal össz.'!D45+'1.2.3.sz.mell.Műv.össz.'!D45+'1.2.4.sz.mell.Vágo.össz.'!D45 -> -9000 | E45: =+'1.2.1.sz.mell. Önk. összes'!E45+'1.2.2.sz.mell. Hivatal össz.'!E45+'1.2.3.sz.mell.Műv.össz.'!E45+'1.2.4.sz.mell.Vágo.össz.'!E45 -> 9000 | F45: =+C45+D45+E45 -> 9000 | G45: =+'1.2.1.sz.mell. Önk. összes'!F45+'1.2.2.sz.mell. Hivatal össz.'!F45+'1.2.3.sz.mell.Műv.össz.'!F45+'1.2.4.sz.mell.Vágo.össz.'!F45 -> 9000 | H45: =+F45-G45 -> 0
A46: 6. | B46: Felhalmozási bevételek (6.1.+…+6.5.) | C46: =SUM(C47:C51) -> 0 | D46: =SUM(D47:D51) -> 0 | E46: =SUM(E47:E51) -> 0 | F46: =SUM(F47:F51) -> 0 | G46: =+'1.2.1.sz.mell. Önk. összes'!F46+'1.2.2.sz.mell. Hivatal össz.'!F46+'1.2.3.sz.mell.Műv.össz.'!F46+'1.2.4.sz.mell.Vágo.össz.'!F46 -> 0 | H46: =+F46-G46 -> 0
A47: 6.1. | B47: Immateriális javak értékesítése | C47: =+'1.2.1.sz.mell. Önk. összes'!C47+'1.2.2.sz.mell. Hivatal össz.'!C47+'1.2.3.sz.mell.Műv.össz.'!C47+'1.2.4.sz.mell.Vágo.össz.'!C47 -> 0 | D47: =+'1.2.1.sz.mell. Önk. összes'!D47+'1.2.2.sz.mell. Hivatal össz.'!D47+'1.2.3.sz.mell.Műv.össz.'!D47+'1.2.4.sz.mell.Vágo.össz.'!D47 -> 0 | E47: =+'1.2.1.sz.mell. Önk. összes'!E47+'1.2.2.sz.mell. Hivatal össz.'!E47+'1.2.3.sz.mell.Műv.össz.'!E47+'1.2.4.sz.mell.Vágo.össz.'!E47 -> 0 | F47: =+C47+D47+E47 -> 0 | G47: =+'1.2.1.sz.mell. Önk. összes'!F47+'1.2.2.sz.mell. Hivatal össz.'!F47+'1.2.3.sz.mell.Műv.össz.'!F47+'1.2.4.sz.mell.Vágo.össz.'!F47 -> 0 | H47: =+F47-G47 -> 0
A48: 6.2. | B48: Ingatlanok értékesítése | C48: =+'1.2.1.sz.mell. Önk. összes'!C48+'1.2.2.sz.mell. Hivatal össz.'!C48+'1.2.3.sz.mell.Műv.össz.'!C48+'1.2.4.sz.mell.Vágo.össz.'!C48 -> 0 | D48: =+'1.2.1.sz.mell. Önk. összes'!D48+'1.2.2.sz.mell. Hivatal össz.'!D48+'1.2.3.sz.mell.Műv.össz.'!D48+'1.2.4.sz.mell.Vágo.össz.'!D48 -> 0 | E48: =+'1.2.1.sz.mell. Önk. összes'!E48+'1.2.2.sz.mell. Hivatal össz.'!E48+'1.2.3.sz.mell.Műv.össz.'!E48+'1.2.4.sz.mell.Vágo.össz.'!E48 -> 0 | F48: =+C48+D48+E48 -> 0 | G48: =+'1.2.1.sz.mell. Önk. összes'!F48+'1.2.2.sz.mell. Hivatal össz.'!F48+'1.2.3.sz.mell.Műv.össz.'!F48+'1.2.4.sz.mell.Vágo.össz.'!F48 -> 0 | H48: =+F48-G48 -> 0
A49: 6.3. | B49: Egyéb tárgyi eszközök értékesítése | C49: =+'1.2.1.sz.mell. Önk. összes'!C49+'1.2.2.sz.mell. Hivatal össz.'!C49+'1.2.3.sz.mell.Műv.össz.'!C49+'1.2.4.sz.mell.Vágo.össz.'!C49 -> 0 | D49: =+'1.2.1.sz.mell. Önk. összes'!D49+'1.2.2.sz.mell. Hivatal össz.'!D49+'1.2.3.sz.mell.Műv.össz.'!D49+'1.2.4.sz.mell.Vágo.össz.'!D49 -> 0 | E49: =+'1.2.1.sz.mell. Önk. összes'!E49+'1.2.2.sz.mell. Hivatal össz.'!E49+'1.2.3.sz.mell.Műv.össz.'!E49+'1.2.4.sz.mell.Vágo.össz.'!E49 -> 0 | F49: =+C49+D49+E49 -> 0 | G49: =+'1.2.1.sz.mell. Önk. összes'!F49+'1.2.2.sz.mell. Hivatal össz.'!F49+'1.2.3.sz.mell.Műv.össz.'!F49+'1.2.4.sz.mell.Vágo.össz.'!F49 -> 0 | H49: =+F49-G49 -> 0
A50: 6.4. | B50: Részesedések értékesítése | C50: =+'1.2.1.sz.mell. Önk. összes'!C50+'1.2.2.sz.mell. Hivatal össz.'!C50+'1.2.3.sz.mell.Műv.össz.'!C50+'1.2.4.sz.mell.Vágo.össz.'!C50 -> 0 | D50: =+'1.2.1.sz.mell. Önk. összes'!D50+'1.2.2.sz.mell. Hivatal össz.'!D50+'1.2.3.sz.mell.Műv.össz.'!D50+'1.2.4.sz.mell.Vágo.össz.'!D50 -> 0 | E50: =+'1.2.1.sz.mell. Önk. összes'!E50+'1.2.2.sz.mell. Hivatal össz.'!E50+'1.2.3.sz.mell.Műv.össz.'!E50+'1.2.4.sz.mell.Vágo.össz.'!E50 -> 0 | F50: =+C50+D50+E50 -> 0 | G50: =+'1.2.1.sz.mell. Önk. összes'!F50+'1.2.2.sz.mell. Hivatal össz.'!F50+'1.2.3.sz.mell.Műv.össz.'!F50+'1.2.4.sz.mell.Vágo.össz.'!F50 -> 0 | H50: =+F50-G50 -> 0
A51: 6.5. | B51: Részesedések megszűnéséhez kapcsolódó bevételek | C51: =+'1.2.1.sz.mell. Önk. összes'!C51+'1.2.2.sz.mell. Hivatal össz.'!C51+'1.2.3.sz.mell.Műv.össz.'!C51+'1.2.4.sz.mell.Vágo.össz.'!C51 -> 0 | D51: =+'1.2.1.sz.mell. Önk. összes'!D51+'1.2.2.sz.mell. Hivatal össz.'!D51+'1.2.3.sz.mell.Műv.össz.'!D51+'1.2.4.sz.mell.Vágo.össz.'!D51 -> 0 | E51: =+'1.2.1.sz.mell. Önk. összes'!E51+'1.2.2.sz.mell. Hivatal össz.'!E51+'1.2.3.sz.mell.Műv.össz.'!E51+'1.2.4.sz.mell.Vágo.össz.'!E51 -> 0 | F51: =+C51+D51+E51 -> 0 | G51: =+'1.2.1.sz.mell. Önk. összes'!F51+'1.2.2.sz.mell. Hivatal össz.'!F51+'1.2.3.sz.mell.Műv.össz.'!F51+'1.2.4.sz.mell.Vágo.össz.'!F51 -> 0 | H51: =+F51-G51 -> 0
A52: 7. | B52: Működési célú átvett pénzeszközök (7.1. + … + 7.3.) | C52: =SUM(C53:C55) -> 18520 | D52: =SUM(D53:D55) -> 1242 | E52: =SUM(E53:E55) -> 0 | F52: =SUM(F53:F55) -> 19762 | G52: =+'1.2.1.sz.mell. Önk. összes'!F52+'1.2.2.sz.mell. Hivatal össz.'!F52+'1.2.3.sz.mell.Műv.össz.'!F52+'1.2.4.sz.mell.Vágo.össz.'!F52 -> 19762 | H52: =+F52-G52 -> 0
A53: 7.1. | B53: Működési célú garancia- és kezességvállalásból megtérülések ÁH-n kívülről | C53: =+'1.2.1.sz.mell. Önk. összes'!C53+'1.2.2.sz.mell. Hivatal össz.'!C53+'1.2.3.sz.mell.Műv.össz.'!C53+'1.2.4.sz.mell.Vágo.össz.'!C53 -> 0 | D53: =+'1.2.1.sz.mell. Önk. összes'!D53+'1.2.2.sz.mell. Hivatal össz.'!D53+'1.2.3.sz.mell.Műv.össz.'!D53+'1.2.4.sz.mell.Vágo.össz.'!D53 -> 0 | E53: =+'1.2.1.sz.mell. Önk. összes'!E53+'1.2.2.sz.mell. Hivatal össz.'!E53+'1.2.3.sz.mell.Műv.össz.'!E53+'1.2.4.sz.mell.Vágo.össz.'!E53 -> 0 | F53: =+C53+D53+E53 -> 0 | G53: =+'1.2.1.sz.mell. Önk. összes'!F53+'1.2.2.sz.mell. Hivatal össz.'!F53+'1.2.3.sz.mell.Műv.össz.'!F53+'1.2.4.sz.mell.Vágo.össz.'!F53 -> 0 | H53: =+F53-G53 -> 0
A54: 7.2. | B54: Működési célú visszatérítendő támogatások, kölcsönök visszatér. ÁH-n kívülről | C54: =+'1.2.1.sz.mell. Önk. összes'!C54+'1.2.2.sz.mell. Hivatal össz.'!C54+'1.2.3.sz.mell.Műv.össz.'!C54+'1.2.4.sz.mell.Vágo.össz.'!C54 -> 0 | D54: =+'1.2.1.sz.mell. Önk. összes'!D54+'1.2.2.sz.mell. Hivatal össz.'!D54+'1.2.3.sz.mell.Műv.össz.'!D54+'1.2.4.sz.mell.Vágo.össz.'!D54 -> 1242 | E54: =+'1.2.1.sz.mell. Önk. összes'!E54+'1.2.2.sz.mell. Hivatal össz.'!E54+'1.2.3.sz.mell.Műv.össz.'!E54+'1.2.4.sz.mell.Vágo.össz.'!E54 -> 0 | F54: =+C54+D54+E54 -> 1242 | G54: =+'1.2.1.sz.mell. Önk. összes'!F54+'1.2.2.sz.mell. Hivatal össz.'!F54+'1.2.3.sz.mell.Műv.össz.'!F54+'1.2.4.sz.mell.Vágo.össz.'!F54 -> 1242 | H54: =+F54-G54 -> 0
A55: 7.3. | B55: Egyéb működési célú átvett pénzeszköz | C55: =+'1.2.1.sz.mell. Önk. összes'!C55+'1.2.2.sz.mell. Hivatal össz.'!C55+'1.2.3.sz.mell.Műv.össz.'!C55+'1.2.4.sz.mell.Vágo.össz.'!C55 -> 18520 | D55: =+'1.2.1.sz.mell. Önk. összes'!D55+'1.2.2.sz.mell. Hivatal össz.'!D55+'1.2.3.sz.mell.Műv.össz.'!D55+'1.2.4.sz.mell.Vágo.össz.'!D55 -> 0 | E55: =+'1.2.1.sz.mell. Önk. összes'!E55+'1.2.2.sz.mell. Hivatal össz.'!E55+'1.2.3.sz.mell.Műv.össz.'!E55+'1.2.4.sz.mell.Vágo.össz.'!E55 -> 0 | F55: =+C55+D55+E55 -> 18520 | G55: =+'1.2.1.sz.mell. Önk. összes'!F55+'1.2.2.sz.mell. Hivatal össz.'!F55+'1.2.3.sz.mell.Műv.össz.'!F55+'1.2.4.sz.mell.Vágo.össz.'!F55 -> 18520 | H55: =+F55-G55 -> 0
A56: 7.4. | B56: 7.3.-ból EU-s támogatás (közvetlen) | C56: =+'1.2.1.sz.mell. Önk. összes'!C56+'1.2.2.sz.mell. Hivatal össz.'!C56+'1.2.3.sz.mell.Műv.össz.'!C56+'1.2.4.sz.mell.Vágo.össz.'!C56 -> 9000 | D56: =+'1.2.1.sz.mell. Önk. összes'!D56+'1.2.2.sz.mell. Hivatal össz.'!D56+'1.2.3.sz.mell.Műv.össz.'!D56+'1.2.4.sz.mell.Vágo.össz.'!D56 -> 0 | E56: =+'1.2.1.sz.mell. Önk. összes'!E56+'1.2.2.sz.mell. Hivatal össz.'!E56+'1.2.3.sz.mell.Műv.össz.'!E56+'1.2.4.sz.mell.Vágo.össz.'!E56 -> 0 | F56: =+C56+D56+E56 -> 9000 | G56: =+'1.2.1.sz.mell. Önk. összes'!F56+'1.2.2.sz.mell. Hivatal össz.'!F56+'1.2.3.sz.mell.Műv.össz.'!F56+'1.2.4.sz.mell.Vágo.össz.'!F56 -> 9000 | H56: =+F56-G56 -> 0
A57: 8. | B57: Felhalmozási célú átvett pénzeszközök (8.1.+8.2.+8.3.) | C57: =SUM(C58:C60) -> 261680 | D57: =SUM(D58:D60) -> -99083 | E57: =SUM(E58:E60) -> -80060 | F57: =SUM(F58:F60) -> 82537 | G57: =+'1.2.1.sz.mell. Önk. összes'!F57+'1.2.2.sz.mell. Hivatal össz.'!F57+'1.2.3.sz.mell.Műv.össz.'!F57+'1.2.4.sz.mell.Vágo.össz.'!F57 -> 82537 | H57: =+F57-G57 -> 0
A58: 8.1. | B58: Felhalm. célú garancia- és kezességvállalásból megtérülések ÁH-n kívülről | C58: =+'1.2.1.sz.mell. Önk. összes'!C58+'1.2.2.sz.mell. Hivatal össz.'!C58+'1.2.3.sz.mell.Műv.össz.'!C58+'1.2.4.sz.mell.Vágo.össz.'!C58 -> 0 | D58: =+'1.2.1.sz.mell. Önk. összes'!D58+'1.2.2.sz.mell. Hivatal össz.'!D58+'1.2.3.sz.mell.Műv.össz.'!D58+'1.2.4.sz.mell.Vágo.össz.'!D58 -> 0 | E58: =+'1.2.1.sz.mell. Önk. összes'!E58+'1.2.2.sz.mell. Hivatal össz.'!E58+'1.2.3.sz.mell.Műv.össz.'!E58+'1.2.4.sz.mell.Vágo.össz.'!E58 -> 0 | F58: =+C58+D58+E58 -> 0 | G58: =+'1.2.1.sz.mell. Önk. összes'!F58+'1.2.2.sz.mell. Hivatal össz.'!F58+'1.2.3.sz.mell.Műv.össz.'!F58+'1.2.4.sz.mell.Vágo.össz.'!F58 -> 0 | H58: =+F58-G58 -> 0
A59: 8.2. | B59: Felhalm. célú visszatérítendő támogatások, kölcsönök visszatér. ÁH-n kívülről | C59: =+'1.2.1.sz.mell. Önk. összes'!C59+'1.2.2.sz.mell. Hivatal össz.'!C59+'1.2.3.sz.mell.Műv.össz.'!C59+'1.2.4.sz.mell.Vágo.össz.'!C59 -> 0 | D59: =+'1.2.1.sz.mell. Önk. összes'!D59+'1.2.2.sz.mell. Hivatal össz.'!D59+'1.2.3.sz.mell.Műv.össz.'!D59+'1.2.4.sz.mell.Vágo.össz.'!D59 -> 0 | E59: =+'1.2.1.sz.mell. Önk. összes'!E59+'1.2.2.sz.mell. Hivatal össz.'!E59+'1.2.3.sz.mell.Műv.össz.'!E59+'1.2.4.sz.mell.Vágo.össz.'!E59 -> 0 | F59: =+C59+D59+E59 -> 0 | G59: =+'1.2.1.sz.mell. Önk. összes'!F59+'1.2.2.sz.mell. Hivatal össz.'!F59+'1.2.3.sz.mell.Műv.össz.'!F59+'1.2.4.sz.mell.Vágo.össz.'!F59 -> 0 | H59: =+F59-G59 -> 0
A60: 8.3. | B60: Egyéb felhalmozási célú átvett pénzeszköz | C60: =+'1.2.1.sz.mell. Önk. összes'!C60+'1.2.2.sz.mell. Hivatal össz.'!C60+'1.2.3.sz.mell.Műv.össz.'!C60+'1.2.4.sz.mell.Vágo.össz.'!C60 -> 261680 | D60: =+'1.2.1.sz.mell. Önk. összes'!D60+'1.2.2.sz.mell. Hivatal össz.'!D60+'1.2.3.sz.mell.Műv.össz.'!D60+'1.2.4.sz.mell.Vágo.össz.'!D60 -> -99083 | E60: =+'1.2.1.sz.mell. Önk. összes'!E60+'1.2.2.sz.mell. Hivatal össz.'!E60+'1.2.3.sz.mell.Műv.össz.'!E60+'1.2.4.sz.mell.Vágo.össz.'!E60 -> -80060 | F60: =+C60+D60+E60 -> 82537 | G60: =+'1.2.1.sz.mell. Önk. összes'!F60+'1.2.2.sz.mell. Hivatal össz.'!F60+'1.2.3.sz.mell.Műv.össz.'!F60+'1.2.4.sz.mell.Vágo.össz.'!F60 -> 82537 | H60: =+F60-G60 -> 0
A61: 8.4. | B61: 8.3.-ból EU-s támogatás (közvetlen) | C61: =+'1.2.1.sz.mell. Önk. összes'!C61+'1.2.2.sz.mell. Hivatal össz.'!C61+'1.2.3.sz.mell.Műv.össz.'!C61+'1.2.4.sz.mell.Vágo.össz.'!C61 -> 247218 | D61: =+'1.2.1.sz.mell. Önk. összes'!D61+'1.2.2.sz.mell. Hivatal össz.'!D61+'1.2.3.sz.mell.Műv.össz.'!D61+'1.2.4.sz.mell.Vágo.össz.'!D61 -> -130695 | E61: =+'1.2.1.sz.mell. Önk. összes'!E61+'1.2.2.sz.mell. Hivatal össz.'!E61+'1.2.3.sz.mell.Műv.össz.'!E61+'1.2.4.sz.mell.Vágo.össz.'!E61 -> -116523 | F61: =+C61+D61+E61 -> 0 | G61: =+'1.2.1.sz.mell. Önk. összes'!F61+'1.2.2.sz.mell. Hivatal össz.'!F61+'1.2.3.sz.mell.Műv.össz.'!F61+'1.2.4.sz.mell.Vágo.össz.'!F61 -> 0 | H61: =+F61-G61 -> 0
A62: 9. | B62: KÖLTSÉGVETÉSI BEVÉTELEK ÖSSZESEN: (1+…+8) | C62: =+C5+C12+C19+C26+C34+C46+C52+C57 -> 895629 | D62: =+D5+D12+D19+D26+D34+D46+D52+D57 -> 94727 | E62: =+E5+E12+E19+E26+E34+E46+E52+E57 -> 28071 | F62: =+F5+F12+F19+F26+F34+F46+F52+F57 -> 1018427 | G62: =+'1.2.1.sz.mell. Önk. összes'!F62+'1.2.2.sz.mell. Hivatal össz.'!F62+'1.2.3.sz.mell.Műv.össz.'!F62+'1.2.4.sz.mell.Vágo.össz.'!F62 -> 1018427 | H62: =+F62-G62 -> 0
A63: 10. | B63: Hitel-, kölcsönfelvétel államháztartáson kívülről (10.1.+10.3.) | C63: =SUM(C64:C66) -> 0 | D63: =SUM(D64:D66) -> 0 | E63: =SUM(E64:E66) -> 0 | F63: =SUM(F64:F66) -> 0 | G63: =+'1.2.1.sz.mell. Önk. összes'!F63+'1.2.2.sz.mell. Hivatal össz.'!F63+'1.2.3.sz.mell.Műv.össz.'!F63+'1.2.4.sz.mell.Vágo.össz.'!F63 -> 0 | H63: =+F63-G63 -> 0
A64: 10.1. | B64: Hosszú lejáratú hitelek, kölcsönök felvétele | C64: =+'1.2.1.sz.mell. Önk. összes'!C64+'1.2.2.sz.mell. Hivatal össz.'!C64+'1.2.3.sz.mell.Műv.össz.'!C64+'1.2.4.sz.mell.Vágo.össz.'!C64 -> 0 | D64: =+'1.2.1.sz.mell. Önk. összes'!D64+'1.2.2.sz.mell. Hivatal össz.'!D64+'1.2.3.sz.mell.Műv.össz.'!D64+'1.2.4.sz.mell.Vágo.össz.'!D64 -> 0 | E64: =+'1.2.1.sz.mell. Önk. összes'!E64+'1.2.2.sz.mell. Hivatal össz.'!E64+'1.2.3.sz.mell.Műv.össz.'!E64+'1.2.4.sz.mell.Vágo.össz.'!E64 -> 0 | F64: =+C64+D64+E64 -> 0 | G64: =+'1.2.1.sz.mell. Önk. összes'!F64+'1.2.2.sz.mell. Hivatal össz.'!F64+'1.2.3.sz.mell.Műv.össz.'!F64+'1.2.4.sz.mell.Vágo.össz.'!F64 -> 0 | H64: =+F64-G64 -> 0
A65: 10.2. | B65: Likviditási célú hitelek, kölcsönök felvétele pénzügyi vállalkozástól | C65: =+'1.2.1.sz.mell. Önk. összes'!C65+'1.2.2.sz.mell. Hivatal össz.'!C65+'1.2.3.sz.mell.Műv.össz.'!C65+'1.2.4.sz.mell.Vágo.össz.'!C65 -> 0 | D65: =+'1.2.1.sz.mell. Önk. összes'!D65+'1.2.2.sz.mell. Hivatal össz.'!D65+'1.2.3.sz.mell.Műv.össz.'!D65+'1.2.4.sz.mell.Vágo.össz.'!D65 -> 0 | E65: =+'1.2.1.sz.mell. Önk. összes'!E65+'1.2.2.sz.mell. Hivatal össz.'!E65+'1.2.3.sz.mell.Műv.össz.'!E65+'1.2.4.sz.mell.Vágo.össz.'!E65 -> 0 | F65: =+C65+D65+E65 -> 0 | G65: =+'1.2.1.sz.mell. Önk. összes'!F65+'1.2.2.sz.mell. Hivatal össz.'!F65+'1.2.3.sz.mell.Műv.össz.'!F65+'1.2.4.sz.mell.Vágo.össz.'!F65 -> 0 | H65: =+F65-G65 -> 0
A66: 10.3. | B66: Rövid lejáratú hitelek, kölcsönök felvétele | C66: =+'1.2.1.sz.mell. Önk. összes'!C66+'1.2.2.sz.mell. Hivatal össz.'!C66+'1.2.3.sz.mell.Műv.össz.'!C66+'1.2.4.sz.mell.Vágo.össz.'!C66 -> 0 | D66: =+'1.2.1.sz.mell. Önk. összes'!D66+'1.2.2.sz.mell. Hivatal össz.'!D66+'1.2.3.sz.mell.Műv.össz.'!D66+'1.2.4.sz.mell.Vágo.össz.'!D66 -> 0 | E66: =+'1.2.1.sz.mell. Önk. összes'!E66+'1.2.2.sz.mell. Hivatal össz.'!E66+'1.2.3.sz.mell.Műv.össz.'!E66+'1.2.4.sz.mell.Vágo.össz.'!E66 -> 0 | F66: =+C66+D66+E66 -> 0 | G66: =+'1.2.1.sz.mell. Önk. összes'!F66+'1.2.2.sz.mell. Hivatal össz.'!F66+'1.2.3.sz.mell.Műv.össz.'!F66+'1.2.4.sz.mell.Vágo.össz.'!F66 -> 0 | H66: =+F66-G66 -> 0
A67: 11. | B67: Belföldi értékpapírok bevételei (11.1. +…+ 11.4.) | C67: =SUM(C68:C71) -> 0 | D67: =SUM(D68:D71) -> 0 | E67: =SUM(E68:E71) -> 0 | F67: =SUM(F68:F71) -> 0 | G67: =+'1.2.1.sz.mell. Önk. összes'!F67+'1.2.2.sz.mell. Hivatal össz.'!F67+'1.2.3.sz.mell.Műv.össz.'!F67+'1.2.4.sz.mell.Vágo.össz.'!F67 -> 0 | H67: =+F67-G67 -> 0
A68: 11.1. | B68: Forgatási célú belföldi értékpapírok beváltása, értékesítése | C68: =+'1.2.1.sz.mell. Önk. összes'!C68+'1.2.2.sz.mell. Hivatal össz.'!C68+'1.2.3.sz.mell.Műv.össz.'!C68+'1.2.4.sz.mell.Vágo.össz.'!C68 -> 0 | D68: =+'1.2.1.sz.mell. Önk. összes'!D68+'1.2.2.sz.mell. Hivatal össz.'!D68+'1.2.3.sz.mell.Műv.össz.'!D68+'1.2.4.sz.mell.Vágo.össz.'!D68 -> 0 | E68: =+'1.2.1.sz.mell. Önk. összes'!E68+'1.2.2.sz.mell. Hivatal össz.'!E68+'1.2.3.sz.mell.Műv.össz.'!E68+'1.2.4.sz.mell.Vágo.össz.'!E68 -> 0 | F68: =+C68+D68+E68 -> 0 | G68: =+'1.2.1.sz.mell. Önk. összes'!F68+'1.2.2.sz.mell. Hivatal össz.'!F68+'1.2.3.sz.mell.Műv.össz.'!F68+'1.2.4.sz.mell.Vágo.össz.'!F68 -> 0 | H68: =+F68-G68 -> 0
A69: 11.2. | B69: Forgatási célú belföldi értékpapírok kibocsátása | C69: =+'1.2.1.sz.mell. Önk. összes'!C69+'1.2.2.sz.mell. Hivatal össz.'!C69+'1.2.3.sz.mell.Műv.össz.'!C69+'1.2.4.sz.mell.Vágo.össz.'!C69 -> 0 | D69: =+'1.2.1.sz.mell. Önk. összes'!D69+'1.2.2.sz.mell. Hivatal össz.'!D69+'1.2.3.sz.mell.Műv.össz.'!D69+'1.2.4.sz.mell.Vágo.össz.'!D69 -> 0 | E69: =+'1.2.1.sz.mell. Önk. összes'!E69+'1.2.2.sz.mell. Hivatal össz.'!E69+'1.2.3.sz.mell.Műv.össz.'!E69+'1.2.4.sz.mell.Vágo.össz.'!E69 -> 0 | F69: =+C69+D69+E69 -> 0 | G69: =+'1.2.1.sz.mell. Önk. összes'!F69+'1.2.2.sz.mell. Hivatal össz.'!F69+'1.2.3.sz.mell.Műv.össz.'!F69+'1.2.4.sz.mell.Vágo.össz.'!F69 -> 0 | H69: =+F69-G69 -> 0
A70: 11.3. | B70: Befektetési célú belföldi értékpapírok beváltása, értékesítése | C70: =+'1.2.1.sz.mell. Önk. összes'!C70+'1.2.2.sz.mell. Hivatal össz.'!C70+'1.2.3.sz.mell.Műv.össz.'!C70+'1.2.4.sz.mell.Vágo.össz.'!C70 -> 0 | D70: =+'1.2.1.sz.mell. Önk. összes'!D70+'1.2.2.sz.mell. Hivatal össz.'!D70+'1.2.3.sz.mell.Műv.össz.'!D70+'1.2.4.sz.mell.Vágo.össz.'!D70 -> 0 | E70: =+'1.2.1.sz.mell. Önk. összes'!E70+'1.2.2.sz.mell. Hivatal össz.'!E70+'1.2.3.sz.mell.Műv.össz.'!E70+'1.2.4.sz.mell.Vágo.össz.'!E70 -> 0 | F70: =+C70+D70+E70 -> 0 | G70: =+'1.2.1.sz.mell. Önk. összes'!F70+'1.2.2.sz.mell. Hivatal össz.'!F70+'1.2.3.sz.mell.Műv.össz.'!F70+'1.2.4.sz.mell.Vágo.össz.'!F70 -> 0 | H70: =+F70-G70 -> 0
A71: 11.4. | B71: Befektetési célú belföldi értékpapírok kibocsátása | C71: =+'1.2.1.sz.mell. Önk. összes'!C71+'1.2.2.sz.mell. Hivatal össz.'!C71+'1.2.3.sz.mell.Műv.össz.'!C71+'1.2.4.sz.mell.Vágo.össz.'!C71 -> 0 | D71: =+'1.2.1.sz.mell. Önk. összes'!D71+'1.2.2.sz.mell. Hivatal össz.'!D71+'1.2.3.sz.mell.Műv.össz.'!D71+'1.2.4.sz.mell.Vágo.össz.'!D71 -> 0 | E71: =+'1.2.1.sz.mell. Önk. összes'!E71+'1.2.2.sz.mell. Hivatal össz.'!E71+'1.2.3.sz.mell.Műv.össz.'!E71+'1.2.4.sz.mell.Vágo.össz.'!E71 -> 0 | F71: =+C71+D71+E71 -> 0 | G71: =+'1.2.1.sz.mell. Önk. összes'!F71+'1.2.2.sz.mell. Hivatal össz.'!F71+'1.2.3.sz.mell.Műv.össz.'!F71+'1.2.4.sz.mell.Vágo.össz.'!F71 -> 0 | H71: =+F71-G71 -> 0
A72: 12. | B72: Maradvány igénybevétele (12.1. + 12.2.) | C72: =SUM(C73:C74) -> 205502 | D72: =SUM(D73:D74) -> 0 | E72: =SUM(E73:E74) -> 16829 | F72: =SUM(F73:F74) -> 222331 | G72: =+'1.2.1.sz.mell. Önk. összes'!F72+'1.2.2.sz.mell. Hivatal össz.'!F72+'1.2.3.sz.mell.Műv.össz.'!F72+'1.2.4.sz.mell.Vágo.össz.'!F72 -> 222331 | H72: =+F72-G72 -> 0
A73: 12.1. | B73: Előző év költségvetési maradványának igénybevétele | C73: =+'1.2.1.sz.mell. Önk. összes'!C73+'1.2.2.sz.mell. Hivatal össz.'!C73+'1.2.3.sz.mell.Műv.össz.'!C73+'1.2.4.sz.mell.Vágo.össz.'!C73 -> 205502 | D73: =+'1.2.1.sz.mell. Önk. összes'!D73+'1.2.2.sz.mell. Hivatal össz.'!D73+'1.2.3.sz.mell.Műv.össz.'!D73+'1.2.4.sz.mell.Vágo.össz.'!D73 -> 0 | E73: =+'1.2.1.sz.mell. Önk. összes'!E73+'1.2.2.sz.mell. Hivatal össz.'!E73+'1.2.3.sz.mell.Műv.össz.'!E73+'1.2.4.sz.mell.Vágo.össz.'!E73 -> 16829 | F73: =+C73+D73+E73 -> 222331 | G73: =+'1.2.1.sz.mell. Önk. összes'!F73+'1.2.2.sz.mell. Hivatal össz.'!F73+'1.2.3.sz.mell.Műv.össz.'!F73+'1.2.4.sz.mell.Vágo.össz.'!F73 -> 222331 | H73: =+F73-G73 -> 0
A74: 12.2. | B74: Előző év vállalkozási maradványának igénybevétele | C74: =+'1.2.1.sz.mell. Önk. összes'!C74+'1.2.2.sz.mell. Hivatal össz.'!C74+'1.2.3.sz.mell.Műv.össz.'!C74+'1.2.4.sz.mell.Vágo.össz.'!C74 -> 0 | D74: =+'1.2.1.sz.mell. Önk. összes'!D74+'1.2.2.sz.mell. Hivatal össz.'!D74+'1.2.3.sz.mell.Műv.össz.'!D74+'1.2.4.sz.mell.Vágo.össz.'!D74 -> 0 | E74: =+'1.2.1.sz.mell. Önk. összes'!E74+'1.2.2.sz.mell. Hivatal össz.'!E74+'1.2.3.sz.mell.Műv.össz.'!E74+'1.2.4.sz.mell.Vágo.össz.'!E74 -> 0 | F74: =+C74+D74+E74 -> 0 | G74: =+'1.2.1.sz.mell. Önk. összes'!F74+'1.2.2.sz.mell. Hivatal össz.'!F74+'1.2.3.sz.mell.Műv.össz.'!F74+'1.2.4.sz.mell.Vágo.össz.'!F74 -> 0 | H74: =+F74-G74 -> 0
A75: 13. | B75: Belföldi finanszírozás bevételei (13.1. + … + 13.3.) | C75: =SUM(C76:C78) -> 0 | D75: =SUM(D76:D78) -> 2547 | E75: =SUM(E76:E78) -> 12784 | F75: =SUM(F76:F78) -> 15331 | G75: =+'1.2.1.sz.mell. Önk. összes'!F75+'1.2.2.sz.mell. Hivatal össz.'!F75+'1.2.3.sz.mell.Műv.össz.'!F75+'1.2.4.sz.mell.Vágo.össz.'!F75 -> 179468 | H75: =+F75-G75 -> -164137
A76: 13.1. | B76: Allamháztatáson belüli megelőlegezések | D76: 2547 | E76: 12784 | F76: =+C76+D76+E76 -> 15331 | G76: =+'1.2.1.sz.mell. Önk. összes'!F76+'1.2.2.sz.mell. Hivatal össz.'!F76+'1.2.3.sz.mell.Műv.össz.'!F76+'1.2.4.sz.mell.Vágo.össz.'!F76 -> 117227 | H76: =+F76-G76 -> -101896
A77: 13.2. | B77: Önkormányzati támogatás Kenese | F77: =+C77+D77+E77 -> 0 | G77: =+'1.2.1.sz.mell. Önk. összes'!F77+'1.2.2.sz.mell. Hivatal össz.'!F77+'1.2.3.sz.mell.Műv.össz.'!F77+'1.2.4.sz.mell.Vágo.össz.'!F77 -> 62241 | H77: =+F77-G77 -> -62241
A78: 13.3. | B78: Önkormányzati támogatás más önkormányzat | C78: =+'1.2.1.sz.mell. Önk. összes'!C78+'1.2.2.sz.mell. Hivatal össz.'!C78+'1.2.3.sz.mell.Műv.össz.'!C78+'1.2.4.sz.mell.Vágo.össz.'!C78 -> 0 | D78: =+'1.2.1.sz.mell. Önk. összes'!D78+'1.2.2.sz.mell. Hivatal össz.'!D78+'1.2.3.sz.mell.Műv.össz.'!D78+'1.2.4.sz.mell.Vágo.össz.'!D78 -> 0 | E78: =+'1.2.1.sz.mell. Önk. összes'!E78+'1.2.2.sz.mell. Hivatal össz.'!E78+'1.2.3.sz.mell.Műv.össz.'!E78+'1.2.4.sz.mell.Vágo.össz.'!E78 -> 0 | F78: =+C78+D78+E78 -> 0 | G78: =+'1.2.1.sz.mell. Önk. összes'!F78+'1.2.2.sz.mell. Hivatal össz.'!F78+'1.2.3.sz.mell.Műv.össz.'!F78+'1.2.4.sz.mell.Vágo.össz.'!F78 -> 0 | H78: =+F78-G78 -> 0
A79: 14. | B79: Külföldi finanszírozás bevételei (14.1.+…14.4.) | C79: =SUM(C80:C83) -> 0 | D79: =SUM(D80:D83) -> 0 | E79: =SUM(E80:E83) -> 0 | F79: =SUM(F80:F83) -> 0 | G79: =+'1.2.1.sz.mell. Önk. összes'!F79+'1.2.2.sz.mell. Hivatal össz.'!F79+'1.2.3.sz.mell.Műv.össz.'!F79+'1.2.4.sz.mell.Vágo.össz.'!F79 -> 0 | H79: =+F79-G79 -> 0
A80: 14.1. | B80: Forgatási célú külföldi értékpapírok beváltása, értékesítése | C80: =+'1.2.1.sz.mell. Önk. összes'!C80+'1.2.2.sz.mell. Hivatal össz.'!C80+'1.2.3.sz.mell.Műv.össz.'!C80+'1.2.4.sz.mell.Vágo.össz.'!C80 -> 0 | D80: =+'1.2.1.sz.mell. Önk. összes'!D80+'1.2.2.sz.mell. Hivatal össz.'!D80+'1.2.3.sz.mell.Műv.össz.'!D80+'1.2.4.sz.mell.Vágo.össz.'!D80 -> 0 | E80: =+'1.2.1.sz.mell. Önk. összes'!E80+'1.2.2.sz.mell. Hivatal össz.'!E80+'1.2.3.sz.mell.Műv.össz.'!E80+'1.2.4.sz.mell.Vágo.össz.'!E80 -> 0 | F80: =+C80+D80+E80 -> 0 | G80: =+'1.2.1.sz.mell. Önk. összes'!F80+'1.2.2.sz.mell. Hivatal össz.'!F80+'1.2.3.sz.mell.Műv.össz.'!F80+'1.2.4.sz.mell.Vágo.össz.'!F80 -> 0 | H80: =+F80-G80 -> 0
A81: 14.2. | B81: Befektetési célú külföldi értékpapírok beváltása, értékesítése | C81: =+'1.2.1.sz.mell. Önk. összes'!C81+'1.2.2.sz.mell. Hivatal össz.'!C81+'1.2.3.sz.mell.Műv.össz.'!C81+'1.2.4.sz.mell.Vágo.össz.'!C81 -> 0 | D81: =+'1.2.1.sz.mell. Önk. összes'!D81+'1.2.2.sz.mell. Hivatal össz.'!D81+'1.2.3.sz.mell.Műv.össz.'!D81+'1.2.4.sz.mell.Vágo.össz.'!D81 -> 0 | E81: =+'1.2.1.sz.mell. Önk. összes'!E81+'1.2.2.sz.mell. Hivatal össz.'!E81+'1.2.3.sz.mell.Műv.össz.'!E81+'1.2.4.sz.mell.Vágo.össz.'!E81 -> 0 | F81: =+C81+D81+E81 -> 0 | G81: =+'1.2.1.sz.mell. Önk. összes'!F81+'1.2.2.sz.mell. Hivatal össz.'!F81+'1.2.3.sz.mell.Műv.össz.'!F81+'1.2.4.sz.mell.Vágo.össz.'!F81 -> 0 | H81: =+F81-G81 -> 0
A82: 14.3. | B82: Külföldi értékpapírok kibocsátása | C82: =+'1.2.1.sz.mell. Önk. összes'!C82+'1.2.2.sz.mell. Hivatal össz.'!C82+'1.2.3.sz.mell.Műv.össz.'!C82+'1.2.4.sz.mell.Vágo.össz.'!C82 -> 0 | D82: =+'1.2.1.sz.mell. Önk. összes'!D82+'1.2.2.sz.mell. Hivatal össz.'!D82+'1.2.3.sz.mell.Műv.össz.'!D82+'1.2.4.sz.mell.Vágo.össz.'!D82 -> 0 | E82: =+'1.2.1.sz.mell. Önk. összes'!E82+'1.2.2.sz.mell. Hivatal össz.'!E82+'1.2.3.sz.mell.Műv.össz.'!E82+'1.2.4.sz.mell.Vágo.össz.'!E82 -> 0 | F82: =+C82+D82+E82 -> 0 | G82: =+'1.2.1.sz.mell. Önk. összes'!F82+'1.2.2.sz.mell. Hivatal össz.'!F82+'1.2.3.sz.mell.Műv.össz.'!F82+'1.2.4.sz.mell.Vágo.össz.'!F82 -> 0 | H82: =+F82-G82 -> 0
A83: 14.4. | B83: Külföldi hitelek, kölcsönök felvétele | C83: =+'1.2.1.sz.mell. Önk. összes'!C83+'1.2.2.sz.mell. Hivatal össz.'!C83+'1.2.3.sz.mell.Műv.össz.'!C83+'1.2.4.sz.mell.Vágo.össz.'!C83 -> 0 | D83: =+'1.2.1.sz.mell. Önk. összes'!D83+'1.2.2.sz.mell. Hivatal össz.'!D83+'1.2.3.sz.mell.Műv.össz.'!D83+'1.2.4.sz.mell.Vágo.össz.'!D83 -> 0 | E83: =+'1.2.1.sz.mell. Önk. összes'!E83+'1.2.2.sz.mell. Hivatal össz.'!E83+'1.2.3.sz.mell.Műv.össz.'!E83+'1.2.4.sz.mell.Vágo.össz.'!E83 -> 0 | F83: =+C83+D83+E83 -> 0 | G83: =+'1.2.1.sz.mell. Önk. összes'!F83+'1.2.2.sz.mell. Hivatal össz.'!F83+'1.2.3.sz.mell.Műv.össz.'!F83+'1.2.4.sz.mell.Vágo.össz.'!F83 -> 0 | H83: =+F83-G83 -> 0
A84: 15. | B84: Váltóbevételek | C84: =+'1.2.1.sz.mell. Önk. összes'!C84+'1.2.2.sz.mell. Hivatal össz.'!C84+'1.2.3.sz.mell.Műv.össz.'!C84+'1.2.4.sz.mell.Vágo.össz.'!C84 -> 0 | D84: =+'1.2.1.sz.mell. Önk. összes'!D84+'1.2.2.sz.mell. Hivatal össz.'!D84+'1.2.3.sz.mell.Műv.össz.'!D84+'1.2.4.sz.mell.Vágo.össz.'!D84 -> 0 | E84: =+'1.2.1.sz.mell. Önk. összes'!E84+'1.2.2.sz.mell. Hivatal össz.'!E84+'1.2.3.sz.mell.Műv.össz.'!E84+'1.2.4.sz.mell.Vágo.össz.'!E84 -> 0 | F84: =+C84+D84+E84 -> 0 | G84: =+'1.2.1.sz.mell. Önk. összes'!F84+'1.2.2.sz.mell. Hivatal össz.'!F84+'1.2.3.sz.mell.Műv.össz.'!F84+'1.2.4.sz.mell.Vágo.össz.'!F84 -> 0 | H84: =+F84-G84 -> 0
A85: 16. | B85: Adóssághoz nem kapcsolódó származékos ügyletek bevételei | C85: =+'1.2.1.sz.mell. Önk. összes'!C85+'1.2.2.sz.mell. Hivatal össz.'!C85+'1.2.3.sz.mell.Műv.össz.'!C85+'1.2.4.sz.mell.Vágo.össz.'!C85 -> 0 | D85: =+'1.2.1.sz.mell. Önk. összes'!D85+'1.2.2.sz.mell. Hivatal össz.'!D85+'1.2.3.sz.mell.Műv.össz.'!D85+'1.2.4.sz.mell.Vágo.össz.'!D85 -> 0 | E85: =+'1.2.1.sz.mell. Önk. összes'!E85+'1.2.2.sz.mell. Hivatal össz.'!E85+'1.2.3.sz.mell.Műv.össz.'!E85+'1.2.4.sz.mell.Vágo.össz.'!E85 -> 0 | F85: =+C85+D85+E85 -> 0 | G85: =+'1.2.1.sz.mell. Önk. összes'!F85+'1.2.2.sz.mell. Hivatal össz.'!F85+'1.2.3.sz.mell.Műv.össz.'!F85+'1.2.4.sz.mell.Vágo.össz.'!F85 -> 0 | H85: =+F85-G85 -> 0
A86: 17. | B86: FINANSZÍROZÁSI BEVÉTELEK ÖSSZESEN: (10. + … +16.) | C86: =+C63+C67+C72+C75+C79+C85+C84 -> 205502 | D86: =+D63+D67+D72+D75+D79+D85+D84 -> 2547 | E86: =+E63+E67+E72+E75+E79+E85+E84 -> 29613 | F86: =+F63+F67+F72+F75+F79+F85+F84 -> 237662 | G86: =+'1.2.1.sz.mell. Önk. összes'!F86+'1.2.2.sz.mell. Hivatal össz.'!F86+'1.2.3.sz.mell.Műv.össz.'!F86+'1.2.4.sz.mell.Vágo.össz.'!F86 -> 401799 | H86: =+F86-G86 -> -164137
A87: 18. | B87: KÖLTSÉGVETÉSI ÉS FINANSZÍROZÁSI BEVÉTELEK ÖSSZESEN: (9+17) | C87: =+C62+C86 -> 1101131 | D87: =+D62+D86 -> 97274 | E87: =+E62+E86 -> 57684 | F87: =+F62+F86 -> 1256089 | G87: =+'1.2.1.sz.mell. Önk. összes'!F87+'1.2.2.sz.mell. Hivatal össz.'!F87+'1.2.3.sz.mell.Műv.össz.'!F87+'1.2.4.sz.mell.Vágo.össz.'!F87 -> 1420226 | H87: =+F87-G87 -> -164137
G88: =+'1.2.1.sz.mell. Önk. összes'!F88+'1.2.2.sz.mell. Hivatal össz.'!F88+'1.2.3.sz.mell.Műv.össz.'!F88+'1.2.4.sz.mell.Vágo.össz.'!F88 -> 0 | H88: =+F88-G88 -> 0
B89: K I A D Á S O K | G89: =+'1.2.1.sz.mell. Önk. összes'!F89+'1.2.2.sz.mell. Hivatal össz.'!F89+'1.2.3.sz.mell.Műv.össz.'!F89+'1.2.4.sz.mell.Vágo.össz.'!F89 -> 0 | H89: =+F89-G89 -> 0
F90: Ezer forintban
A91: Sor- szám | B91: Kiadási jogcímek | C91: 2015. évi előirányzat | D91: Korábbi módosítás | E91: Jelenlegi módosítás | F91: 2015. évi módosított előirányzat
A92: A | B92: B | C92: C | D92: D | E92: E | F92: F
A93: 1. | B93: Működési költségvetés kiadásai (1.1+…+1.5.+1.18.) | C93: =C94+C95+C96+C97+C98+C111 -> 820133 | D93: =D94+D95+D96+D97+D98+D111 -> 117371 | E93: =E94+E95+E96+E97+E98+E111 -> 107630 | F93: =F94+F95+F96+F97+F98+F111 -> 1045134 | G93: =+'1.2.1.sz.mell. Önk. összes'!F93+'1.2.2.sz.mell. Hivatal össz.'!F93+'1.2.3.sz.mell.Műv.össz.'!F93+'1.2.4.sz.mell.Vágo.össz.'!F93 -> 1045134 | H93: =+F93-G93 -> 0
A94: 1.1. | B94: Személyi juttatások | C94: =+'1.2.1.sz.mell. Önk. összes'!C94+'1.2.2.sz.mell. Hivatal össz.'!C94+'1.2.3.sz.mell.Műv.össz.'!C94+'1.2.4.sz.mell.Vágo.össz.'!C94 -> 174235 | D94: =+'1.2.1.sz.mell. Önk. összes'!D94+'1.2.2.sz.mell. Hivatal össz.'!D94+'1.2.3.sz.mell.Műv.össz.'!D94+'1.2.4.sz.mell.Vágo.össz.'!D94 -> 14374 | E94: =+'1.2.1.sz.mell. Önk. összes'!E94+'1.2.2.sz.mell. Hivatal össz.'!E94+'1.2.3.sz.mell.Műv.össz.'!E94+'1.2.4.sz.mell.Vágo.össz.'!E94 -> 6503 | F94: =+C94+D94+E94 -> 195112 | G94: =+'1.2.1.sz.mell. Önk. összes'!F94+'1.2.2.sz.mell. Hivatal össz.'!F94+'1.2.3.sz.mell.Műv.össz.'!F94+'1.2.4.sz.mell.Vágo.össz.'!F94 -> 195112 | H94: =+F94-G94 -> 0
A95: 1.2. | B95: Munkaadókat terhelő járulékok és szociális hozzájárulási adó | C95: =+'1.2.1.sz.mell. Önk. összes'!C95+'1.2.2.sz.mell. Hivatal össz.'!C95+'1.2.3.sz.mell.Műv.össz.'!C95+'1.2.4.sz.mell.Vágo.össz.'!C95 -> 47779 | D95: =+'1.2.1.sz.mell. Önk. összes'!D95+'1.2.2.sz.mell. Hivatal össz.'!D95+'1.2.3.sz.mell.Műv.össz.'!D95+'1.2.4.sz.mell.Vágo.össz.'!D95 -> 2807 | E95: =+'1.2.1.sz.mell. Önk. összes'!E95+'1.2.2.sz.mell. Hivatal össz.'!E95+'1.2.3.sz.mell.Műv.össz.'!E95+'1.2.4.sz.mell.Vágo.össz.'!E95 -> 404 | F95: =+C95+D95+E95 -> 50990 | G95: =+'1.2.1.sz.mell. Önk. összes'!F95+'1.2.2.sz.mell. Hivatal össz.'!F95+'1.2.3.sz.mell.Műv.össz.'!F95+'1.2.4.sz.mell.Vágo.össz.'!F95 -> 50990 | H95: =+F95-G95 -> 0
A96: 1.3. | B96: Dologi kiadások | C96: =+'1.2.1.sz.mell. Önk. összes'!C96+'1.2.2.sz.mell. Hivatal össz.'!C96+'1.2.3.sz.mell.Műv.össz.'!C96+'1.2.4.sz.mell.Vágo.össz.'!C96 -> 286787 | D96: =+'1.2.1.sz.mell. Önk. összes'!D96+'1.2.2.sz.mell. Hivatal össz.'!D96+'1.2.3.sz.mell.Műv.össz.'!D96+'1.2.4.sz.mell.Vágo.össz.'!D96 -> 153552 | E96: =+'1.2.1.sz.mell. Önk. összes'!E96+'1.2.2.sz.mell. Hivatal össz.'!E96+'1.2.3.sz.mell.Műv.össz.'!E96+'1.2.4.sz.mell.Vágo.össz.'!E96 -> 12122 | F96: =+C96+D96+E96 -> 452461 | G96: =+'1.2.1.sz.mell. Önk. összes'!F96+'1.2.2.sz.mell. Hivatal össz.'!F96+'1.2.3.sz.mell.Műv.össz.'!F96+'1.2.4.sz.mell.Vágo.össz.'!F96 -> 452461 | H96: =+F96-G96 -> 0
A97: 1.4. | B97: Ellátottak pénzbeli juttatásai | C97: =+'1.2.1.sz.mell. Önk. összes'!C97+'1.2.2.sz.mell. Hivatal össz.'!C97+'1.2.3.sz.mell.Műv.össz.'!C97+'1.2.4.sz.mell.Vágo.össz.'!C97 -> 11588 | D97: =+'1.2.1.sz.mell. Önk. összes'!D97+'1.2.2.sz.mell. Hivatal össz.'!D97+'1.2.3.sz.mell.Műv.össz.'!D97+'1.2.4.sz.mell.Vágo.össz.'!D97 -> 3958 | E97: =+'1.2.1.sz.mell. Önk. összes'!E97+'1.2.2.sz.mell. Hivatal össz.'!E97+'1.2.3.sz.mell.Műv.össz.'!E97+'1.2.4.sz.mell.Vágo.össz.'!E97 -> 1970 | F97: =+C97+D97+E97 -> 17516 | G97: =+'1.2.1.sz.mell. Önk. összes'!F97+'1.2.2.sz.mell. Hivatal össz.'!F97+'1.2.3.sz.mell.Műv.össz.'!F97+'1.2.4.sz.mell.Vágo.össz.'!F97 -> 17516 | H97: =+F97-G97 -> 0
A98: 1.5 | B98: Egyéb működési célú kiadások | C98: =SUM(C99:C110) -> 151868 | D98: =SUM(D99:D110) -> 20844 | E98: =SUM(E99:E110) -> 51812 | F98: =+C98+D98+E98 -> 224524 | G98: =+'1.2.1.sz.mell. Önk. összes'!F98+'1.2.2.sz.mell. Hivatal össz.'!F98+'1.2.3.sz.mell.Műv.össz.'!F98+'1.2.4.sz.mell.Vágo.össz.'!F98 -> 224524 | H98: =+F98-G98 -> 0
A99: 1.6. | B99: - az 1.5-ből: - Előző évi elszámolásból származó befizetések | C99: =+'1.2.1.sz.mell. Önk. összes'!C99+'1.2.2.sz.mell. Hivatal össz.'!C99+'1.2.3.sz.mell.Műv.össz.'!C99+'1.2.4.sz.mell.Vágo.össz.'!C99 -> 0 | D99: =+'1.2.1.sz.mell. Önk. összes'!D99+'1.2.2.sz.mell. Hivatal össz.'!D99+'1.2.3.sz.mell.Műv.össz.'!D99+'1.2.4.sz.mell.Vágo.össz.'!D99 -> 0 | E99: =+'1.2.1.sz.mell. Önk. összes'!E99+'1.2.2.sz.mell. Hivatal össz.'!E99+'1.2.3.sz.mell.Műv.össz.'!E99+'1.2.4.sz.mell.Vágo.össz.'!E99 -> 0 | F99: =+C99+D99+E99 -> 0 | G99: =+'1.2.1.sz.mell. Önk. összes'!F99+'1.2.2.sz.mell. Hivatal össz.'!F99+'1.2.3.sz.mell.Műv.össz.'!F99+'1.2.4.sz.mell.Vágo.össz.'!F99 -> 0 | H99: =+F99-G99 -> 0
A100: 1.7. | B100: - Törvényi előíráson alapuló befizetések | C100: =+'1.2.1.sz.mell. Önk. összes'!C100+'1.2.2.sz.mell. Hivatal össz.'!C100+'1.2.3.sz.mell.Műv.össz.'!C100+'1.2.4.sz.mell.Vágo.össz.'!C100 -> 0 | D100: =+'1.2.1.sz.mell. Önk. összes'!D100+'1.2.2.sz.mell. Hivatal össz.'!D100+'1.2.3.sz.mell.Műv.össz.'!D100+'1.2.4.sz.mell.Vágo.össz.'!D100 -> 0 | E100: =+'1.2.1.sz.mell. Önk. összes'!E100+'1.2.2.sz.mell. Hivatal össz.'!E100+'1.2.3.sz.mell.Műv.össz.'!E100+'1.2.4.sz.mell.Vágo.össz.'!E100 -> 0 | F100: =+C100+D100+E100 -> 0 | G100: =+'1.2.1.sz.mell. Önk. összes'!F100+'1.2.2.sz.mell. Hivatal össz.'!F100+'1.2.3.sz.mell.Műv.össz.'!F100+'1.2.4.sz.mell.Vágo.össz.'!F100 -> 0 | H100: =+F100-G100 -> 0
...

Sheet 1.2.1.sz.mell. Önk. összes
B1: B E V É T E L E K
F2: Ezer forintban
A3: Sor- szám | B3: Bevételi jogcím | C3: 2015. évi előirányzat | D3: Korábbi módosítás | E3: Jelenlegi módosítás | F3: 2015. évi módosított előirányzat
A4: A | B4: B | C4: C | D4: D | E4: E | F4: F
A5: 1. | B5: Önkormányzat működési támogatásai (1.1.+…+.1.6.) | C5: =+C6+C7+C8+C9+C10+C11 -> 284600 | D5: =+D6+D7+D8+D9+D10+D11 -> 43715 | E5: =+E6+E7+E8+E9+E10+E11 -> 3123 | F5: =+F6+F7+F8+F9+F10+F11 -> 331438
A6: 1.1. | B6: Helyi önkormányzatok működésének általános támogatása | C6: 134598 | D6: =34919+2989+4743-14979 -> 27672 | E6: -1314 | F6: =+C6+D6+E6 -> 160956
A7: 1.2. | B7: Önkormányzatok egyes köznevelési feladatainak támogatása | C7: 62198 | D7: =-12960+2287 -> -10673 | E7: -5529 | F7: =+C7+D7+E7 -> 45996
A8: 1.3. | B8: Önkormányzatok szociális és gyermekjóléti feladatainak támogatása | C8: 40414 | D8: =67929+3180 -> 71109 | E8: -39082 | F8: =+C8+D8+E8 -> 72441
A9: 1.4. | B9: Önkormányzatok kulturális feladatainak támogatása | C9: 2997 | E9: 138 | F9: =+C9+D9+E9 -> 3135
A10: 1.5. | B10: Működési célú kvi támogatások és kiegészítő támogatások | C10: 34919 | D10: -34919 | E10: 48910 | F10: =+C10+D10+E10 -> 48910
A11: 1.6. | B11: Elszámolásból származó bevételek | C11: 9474 | D11: -9474 | F11: =+C11+D11+E11 -> 0
A12: 2. | B12: Működési célú támogatások államháztartáson belülről (2.1.+…+.2.5.) | C12: =+C13+C14+C15+C16+C17 -> 16657 | D12: =+D13+D14+D15+D16+D17 -> 143203 | E12: =+E13+E14+E15+E16+E17 -> 10629 | F12: =+F13+F14+F15+F16+F17 -> 170489
A13: 2.1. | B13: Elvonások és befizetések bevételei | C13: 0 | F13: =+C13+D13+E13 -> 0
A14: 2.2. | B14: Működési célú garancia- és kezességvállalásból megtérülések | C14: 0 | F14: =+C14+D14+E14 -> 0
A15: 2.3. | B15: Működési célú visszatérítendő támogatások, kölcsönök visszatérülése | C15: 0 | F15: =+C15+D15+E15 -> 0
A16: 2.4. | B16: Működési célú visszatérítendő támogatások, kölcsönök igénybevétele | C16: 0 | F16: =+C16+D16+E16 -> 0
A17: 2.5. | B17: Egyéb működési célú támogatások bevételei | C17: 16657 | D17: =-4000-2626+149829 -> 143203 | E17: 10629 | F17: =+C17+D17+E17 -> 170489
A18: 2.6. | B18: 2.5.-ből EU-s támogatás | C18: 0 | F18: =+C18+D18+E18 -> 0
A19: 3. | B19: Felhalmozási célú támogatások államháztartáson belülről (3.1.+…+3.5.) | C19: =+C20+C21+C22+C23+C24 -> 0 | D19: =+D20+D21+D22+D23+D24 -> 0 | E19: =+E20+E21+E22+E23+E24 -> 80060 | F19: =+F20+F21+F22+F23+F24 -> 80060
A20: 3.1. | B20: Felhalmozási célú önkormányzati támogatások | C20: 0 | E20: 28500 | F20: =+C20+D20+E20 -> 28500
A21: 3.2. | B21: Felhalmozási célú garancia- és kezességvállalásból megtérülések | C21: 0 | F21: =+C21+D21+E21 -> 0
A22: 3.3. | B22: Felhalmozási célú visszatérítendő támogatások, kölcsönök visszatérülése | C22: 0 | F22: =+C22+D22+E22 -> 0
A23: 3.4. | B23: Felhalmozási célú visszatérítendő támogatások, kölcsönök igénybevétele | C23: 0 | F23: =+C23+D23+E23 -> 0
A24: 3.5. | B24: Egyéb felhalmozási célú támogatások bevételei | C24: 0 | E24: 51560 | F24: =+C24+D24+E24 -> 51560
A25: 3.6. | B25: 3.5.-ből EU-s támogatás | C25: 0 | F25: =+C25+D25+E25 -> 0
A26: 4. | B26: Közhatalmi bevételek (4.1.+4.2.+4.3.+4.4.) | C26: =+C27+C31+C32+C33 -> 209000 | D26: =+D27+D31+D32+D33 -> 0 | E26: =+E27+E31+E32+E33 -> 0 | F26: =+F27+F31+F32+F33 -> 209000
A27: 4.1. | B27: Helyi adók (4.1.1.+...+4.1.3.) | C27: =SUM(C28:C30) -> 201000 | D27: =SUM(D28:D30) -> 0 | E27: =SUM(E28:E30) -> 0 | F27: =+C27+D27+E27 -> 201000
A28: 4.1.1. | B28: - Vagyoni típusú adók | C28: 125000 | D28: 0 | F28: =+C28+D28+E28 -> 125000
A29: 4.1.2. | B29: - Termékek és szolgáltatások adói | C29: 18000 | D29: 0 | F29: =+C29+D29+E29 -> 18000
A30: 4.1.3. | B30: - Értékesítési és forgalmi adók (iparűzési adó) | C30: 58000 | D30: 0 | E30: 0 | F30: =+C30+D30+E30 -> 58000
A31: 4.2. | B31: Gépjárműadó | C31: 7000 | D31: 0 | E31: 0 | F31: =+C31+D31+E31 -> 7000
A32: 4.3. | B32: Egyéb áruhasználati és szolgáltatási adók | C32: 0 | D32: 0 | E32: 0 | F32: =+C32+D32+E32 -> 0
A33: 4.4. | B33: Egyéb közhatalmi bevételek | C33: 1000 | D33: 0 | E33: 0 | F33: =+C33+D33+E33 -> 1000
A34: 5. | B34: Működési bevételek (5.1.+…+ 5.11.) | C34: =SUM(C35:C45) -> 58622 | D34: =SUM(D35:D45) -> 5575 | E34: =SUM(E35:E45) -> 0 | F34: =SUM(F35:F45) -> 64197
A35: 5.1. | B35: Készletértékesítés ellenértéke | C35: 0 | D35: 0 | E35: 0 | F35: =+C35+D35+E35 -> 0
A36: 5.2. | B36: Szolgáltatások ellenértéke | C36: 37400 | D36: 5475 | E36: -1420 | F36: =+C36+D36+E36 -> 41455
A37: 5.3. | B37: Közvetített szolgáltatások értéke | C37: 900 | D37: 0 | E37: 0 | F37: =+C37+D37+E37 -> 900
A38: 5.4. | B38: Tulajdonosi bevételek | C38: 4000 | E38: 420 | F38: =+C38+D38+E38 -> 4420
A39: 5.5. | B39: Ellátási díjak | C39: 8800 | D39: 100 | E39: 100 | F39: =+C39+D39+E39 -> 9000
A40: 5.6. | B40: Kiszámlázott általános forgalmi adó | C40: 4722 | D40: 0 | E40: 900 | F40: =+C40+D40+E40 -> 5622
A41: 5.7. | B41: Általános forgalmi adó visszatérítése | C41: 1700 | D41: 0 | E41: 0 | F41: =+C41+D41+E41 -> 1700
A42: 5.8. | B42: Kamatbevételek | C42: 1100 | D42: 0 | E42: 0 | F42: =+C42+D42+E42 -> 1100
A43: 5.9. | B43: Egyéb pénzügyi műveletek bevételei | C43: 0 | D43: 0 | E43: 0 | F43: =+C43+D43+E43 -> 0
A44: 5.10. | B44: Biztosító által fizetett kártérítés | C44: 0 | D44: 0 | E44: 0 | F44: =+C44+D44+E44 -> 0
A45: 5.11. | B45: Egyéb működési bevételek | C45: 0 | D45: 0 | E45: 0 | F45: =+C45+D45+E45 -> 0
A46: 6. | B46: Felhalmozási bevételek (6.1.+…+6.5.) | C46: =SUM(C47:C51) -> 0 | D46: =SUM(D47:D51) -> 0 | E46: =SUM(E47:E51) -> 0 | F46: =SUM(F47:F51) -> 0
A47: 6.1. | B47: Immateriális javak értékesítése | C47: 0 | D47: 0 | E47: 0 | F47: =+C47+D47+E47 -> 0
A48: 6.2. | B48: Ingatlanok értékesítése | C48: 0 | D48: 0 | E48: 0 | F48: =+C48+D48+E48 -> 0
A49: 6.3. | B49: Egyéb tárgyi eszközök értékesítése | C49: 0 | D49: 0 | E49: 0 | F49: =+C49+D49+E49 -> 0
A50: 6.4. | B50: Részesedések értékesítése | C50: 0 | D50: 0 | E50: 0 | F50: =+C50+D50+E50 -> 0
A51: 6.5. | B51: Részesedések megszűnéséhez kapcsolódó bevételek | C51: 0 | D51: 0 | E51: 0 | F51: =+C51+D51+E51 -> 0
A52: 7. | B52: Működési célú átvett pénzeszközök (7.1. + … + 7.3.) | C52: =SUM(C53:C55) -> 9520 | D52: =SUM(D53:D55) -> 1242 | E52: =SUM(E53:E55) -> 0 | F52: =SUM(F53:F55) -> 10762
A53: 7.1. | B53: Működési célú garancia- és kezességvállalásból megtérülések ÁH-n kívülről | C53: 0 | D53: 0 | E53: 0 | F53: =+C53+D53+E53 -> 0
A54: 7.2. | B54: Működési célú visszatérítendő támogatások, kölcsönök visszatér. ÁH-n kívülről | C54: 0 | D54: 1242 | F54: =+C54+D54+E54 -> 1242
A55: 7.3. | B55: Egyéb működési célú átvett pénzeszköz | C55: 9520 | F55: =+C55+D55+E55 -> 9520
A56: 7.4. | B56: 7.3.-ból EU-s támogatás (közvetlen) | C56: 0 | D56: 0 | E56: 0 | F56: =+C56+D56+E56 -> 0
A57: 8. | B57: Felhalmozási célú átvett pénzeszközök (8.1.+8.2.+8.3.) | C57: =SUM(C58:C60) -> 261680 | D57: =SUM(D58:D60) -> -99083 | E57: =SUM(E58:E60) -> -80060 | F57: =SUM(F58:F60) -> 82537
A58: 8.1. | B58: Felhalm. célú garancia- és kezességvállalásból megtérülések ÁH-n kívülről | C58: 0 | D58: 0 | E58: 0 | F58: =+C58+D58+E58 -> 0
A59: 8.2. | B59: Felhalm. célú visszatérítendő támogatások, kölcsönök visszatér. ÁH-n kívülről | C59: 0 | D59: 0 | E59: 0 | F59: =+C59+D59+E59 -> 0
A60: 8.3. | B60: Egyéb felhalmozási célú átvett pénzeszköz | C60: 261680 | D60: =-145157+46074 -> -99083 | E60: -80060 | F60: =+C60+D60+E60 -> 82537
A61: 8.4. | B61: 8.3.-ból EU-s támogatás (közvetlen) | C61: 247218 | D61: -130695 | E61: -116523 | F61: =+C61+D61+E61 -> 0
A62: 9. | B62: KÖLTSÉGVETÉSI BEVÉTELEK ÖSSZESEN: (1+…+8) | C62: =+C5+C12+C19+C26+C34+C46+C52+C57 -> 840079 | D62: =+D5+D12+D19+D26+D34+D46+D52+D57 -> 94652 | E62: =+E5+E12+E19+E26+E34+E46+E52+E57 -> 13752 | F62: =+F5+F12+F19+F26+F34+F46+F52+F57 -> 948483
A63: 10. | B63: Hitel-, kölcsönfelvétel államháztartáson kívülről (10.1.+10.3.) | C63: =SUM(C64:C66) -> 0 | D63: =SUM(D64:D66) -> 0 | E63: =SUM(E64:E66) -> 0 | F63: =SUM(F64:F66) -> 0
A64: 10.1. | B64: Hosszú lejáratú hitelek, kölcsönök felvétele | C64: 0 | D64: 0 | E64: 0 | F64: =+C64+D64+E64 -> 0
A65: 10.2. | B65: Likviditási célú hitelek, kölcsönök felvétele pénzügyi vállalkozástól | C65: 0 | D65: 0 | E65: 0 | F65: =+C65+D65+E65 -> 0
A66: 10.3. | B66: Rövid lejáratú hitelek, kölcsönök felvétele | C66: 0 | D66: 0 | E66: 0 | F66: =+C66+D66+E66 -> 0
A67: 11. | B67: Belföldi értékpapírok bevételei (11.1. +…+ 11.4.) | C67: =SUM(C68:C71) -> 0 | D67: =SUM(D68:D71) -> 0 | E67: =SUM(E68:E71) -> 0 | F67: =SUM(F68:F71) -> 0
A68: 11.1. | B68: Forgatási célú belföldi értékpapírok beváltása, értékesítése | C68: 0 | D68: 0 | E68: 0 | F68: =+C68+D68+E68 -> 0
A69: 11.2. | B69: Forgatási célú belföldi értékpapírok kibocsátása | C69: 0 | D69: 0 | E69: 0 | F69: =+C69+D69+E69 -> 0
A70: 11.3. | B70: Befektetési célú belföldi értékpapírok beváltása, értékesítése | C70: 0 | D70: 0 | E70: 0 | F70: =+C70+D70+E70 -> 0
A71: 11.4. | B71: Befektetési célú belföldi értékpapírok kibocsátása | C71: 0 | D71: 0 | E71: 0 | F71: =+C71+D71+E71 -> 0
A72: 12. | B72: Maradvány igénybevétele (12.1. + 12.2.) | C72: =SUM(C73:C74) -> 167830 | D72: =SUM(D73:D74) -> 0 | E72: =SUM(E73:E74) -> 11369 | F72: =SUM(F73:F74) -> 179199
A73: 12.1. | B73: Előző év költségvetési maradványának igénybevétele | C73: 167830 | D73: 0 | E73: 11369 | F73: =+C73+D73+E73 -> 179199
A74: 12.2. | B74: Előző év vállalkozási maradványának igénybevétele | C74: 0 | D74: 0 | E74: 0 | F74: =+C74+D74+E74 -> 0
A75: 13. | B75: Belföldi finanszírozás bevételei (13.1. + … + 13.3.) | C75: =SUM(C76:C78) -> 0 | D75: =SUM(D76:D78) -> 2547 | E75: =SUM(E76:E78) -> 12784 | F75: =SUM(F76:F78) -> 15331
A76: 13.1. | B76: Allamháztatáson belüli megelőlegezések | C76: 0 | D76: =0+2547 -> 2547 | E76: 12784 | F76: =+C76+D76+E76 -> 15331
A77: 13.2. | B77: Önkormányzati támogatás Kenese | C77: 0 | D77: 0 | E77: 0 | F77: =+C77+D77+E77 -> 0
A78: 13.3. | B78: Önkormányzati támogatás más önkormányzat | C78: 0 | D78: 0 | E78: 0 | F78: =+C78+D78+E78 -> 0
A79: 14. | B79: Külföldi finanszírozás bevételei (14.1.+…14.4.) | C79: =SUM(C80:C83) -> 0 | D79: =SUM(D80:D83) -> 0 | E79: =SUM(E80:E83) -> 0 | F79: =SUM(F80:F83) -> 0
A80: 14.1. | B80: Forgatási célú külföldi értékpapírok beváltása, értékesítése | C80: 0 | D80: 0 | E80: 0 | F80: =+C80+D80+E80 -> 0
A81: 14.2. | B81: Befektetési célú külföldi értékpapírok beváltása, értékesítése | C81: 0 | D81: 0 | E81: 0 | F81: =+C81+D81+E81 -> 0
A82: 14.3. | B82: Külföldi értékpapírok kibocsátása | C82: 0 | D82: 0 | E82: 0 | F82: =+C82+D82+E82 -> 0
A83: 14.4. | B83: Külföldi hitelek, kölcsönök felvétele | C83: 0 | D83: 0 | E83: 0 | F83: =+C83+D83+E83 -> 0
A84: 15. | B84: Váltóbevételek | C84: 0 | D84: 0 | E84: 0 | F84: =+C84+D84+E84 -> 0
A85: 16. | B85: Adóssághoz nem kapcsolódó származékos ügyletek bevételei | F85: =+C85+D85+E85 -> 0
A86: 17. | B86: FINANSZÍROZÁSI BEVÉTELEK ÖSSZESEN: (10. + … +16.) | C86: =+C63+C67+C72+C75+C79+C85+C84 -> 167830 | D86: =+D63+D67+D72+D75+D79+D85+D84 -> 2547 | E86: =+E63+E67+E72+E75+E79+E85+E84 -> 24153 | F86: =+F63+F67+F72+F75+F79+F85+F84 -> 194530
A87: 18. | B87: KÖLTSÉGVETÉSI ÉS FINANSZÍROZÁSI BEVÉTELEK ÖSSZESEN: (9+17) | C87: =+C62+C86 -> 1007909 | D87: =+D62+D86 -> 97199 | E87: =+E62+E86 -> 37905 | F87: =+F62+F86 -> 1143013
B89: K I A D Á S O K
F90: Ezer forintban
A91: Sor- szám | B91: Kiadási jogcímek | C91: 2015. évi előirányzat | D91: Korábbi módosítás | E91: Jelenlegi módosítás | F91: 2015. évi módosított előirányzat
A92: A | B92: B | C92: C | D92: D | E92: E | F92: F
A93: 1. | B93: Működési költségvetés kiadásai (1.1+…+1.5.+1.18.) | C93: =C94+C95+C96+C97+C98+C111 -> 570505 | D93: =D94+D95+D96+D97+D98+D111 -> 106494 | E93: =E94+E95+E96+E97+E98+E111 -> 93356 | F93: =F94+F95+F96+F97+F98+F111 -> 770355
A94: 1.1. | B94: Személyi juttatások | C94: 49369 | D94: =122+116+166+100-1564+548+5090+128+129+129+127+126+2526+-4255+31+5154 -> 8673 | E94: 6381 | F94: =+C94+D94+E94 -> 64423
A95: 1.2. | B95: Munkaadókat terhelő járulékok és szociális hozzájárulási adó | C95: 13592 | D95: =33+31+45+27-422+148+688+35+35+35+34+34+682+-1047+1139 -> 1497 | E95: 385 | F95: =+C95+D95+E95 -> 15474
A96: 1.3. | B96: Dologi kiadások | C96: 196212 | D96: =80-35722+645+635+1016+508+305+3309+11672+300+8955+454+-1047+9567+1016+10250+50+139755 -> 151748 | E96: -1789 | F96: =+C96+D96+E96 -> 346171
A97: 1.4. | B97: Ellátottak pénzbeli juttatásai | C97: 11588 | D97: =421+340+264+11+11+637+302+242+214+182+173+167+157 -> 3121 | E97: 2020 | F97: =+C97+D97+E97 -> 16729
A98: 1.5 | B98: Egyéb működési célú kiadások | C98: =SUM(C100:C110) -> 151868 | D98: =SUM(D100:D110) -> 19619 | E98: =SUM(E100:E110) -> 51540 | F98: =+C98+D98+E98 -> 223027
A99: 1.6. | B99: - az 1.5-ből: - Előző évi elszámolásból származó befizetések | C99: 0 | D99: 0 | E99: 0 | F99: =+C99+D99+E99 -> 0
A100: 1.7. | B100: - Törvényi előíráson alapuló befizetések | C100: 0 | D100: 0 | E100: 0 | F100: =+C100+D100+E100 -> 0
A101: 1.8. | B101: - Elvonások és befizetések | C101: 0 | D101: 0 | E101: 52761 | F101: =+C101+D101+E101 -> 52761
...

Sheet 1.2.2.sz.mell. Hivatal össz.
B1: B E V É T E L E K
F2: Ezer forintban
A3: Sor- szám | B3: Bevételi jogcím | C3: 2015. évi előirányzat | D3: Korábbi módosítás | E3: Jelenlegi módosítás | F3: 2015. évi módosított előirányzat
A4: A | B4: B | C4: C | D4: D | E4: E | F4: F
A5: 1. | B5: Önkormányzat működési támogatásai (1.1.+…+.1.6.) | C5: =+C6+C7+C8+C9+C10+C11 -> 0 | D5: =+D6+D7+D8+D9+D10+D11 -> 0 | E5: =+E6+E7+E8+E9+E10+E11 -> 0 | F5: =+F6+F7+F8+F9+F10+F11 -> 0
A6: 1.1. | B6: Helyi önkormányzatok működésének általános támogatása | F6: =+C6+D6+E6 -> 0
A7: 1.2. | B7: Önkormányzatok egyes köznevelési feladatainak támogatása | F7: =+C7+D7+E7 -> 0
A8: 1.3. | B8: Önkormányzatok szociális és gyermekjóléti feladatainak támogatása | F8: =+C8+D8+E8 -> 0
A9: 1.4. | B9: Önkormányzatok kulturális feladatainak támogatása | F9: =+C9+D9+E9 -> 0
A10: 1.5. | B10: Működési célú kvi támogatások és kiegészítő támogatások | F10: =+C10+D10+E10 -> 0
A11: 1.6. | B11: Elszámolásból származó bevételek | F11: =+C11+D11+E11 -> 0
A12: 2. | B12: Működési célú támogatások államháztartáson belülről (2.1.+…+.2.5.) | C12: =+C13+C14+C15+C16+C17 -> 2783 | D12: =+D13+D14+D15+D16+D17 -> 0 | E12: =+E13+E14+E15+E16+E17 -> 0 | F12: =+F13+F14+F15+F16+F17 -> 2783
A13: 2.1. | B13: Elvonások és befizetések bevételei | C13: 0 | F13: =+C13+D13+E13 -> 0
A14: 2.2. | B14: Működési célú garancia- és kezességvállalásból megtérülések | C14: 0 | F14: =+C14+D14+E14 -> 0
A15: 2.3. | B15: Működési célú visszatérítendő támogatások, kölcsönök visszatérülése | C15: 0 | F15: =+C15+D15+E15 -> 0
A16: 2.4. | B16: Működési célú visszatérítendő támogatások, kölcsönök igénybevétele | C16: 0 | F16: =+C16+D16+E16 -> 0
A17: 2.5. | B17: Egyéb működési célú támogatások bevételei | C17: 2783 | F17: =+C17+D17+E17 -> 2783
A18: 2.6. | B18: 2.5.-ből EU-s támogatás | C18: 0 | F18: =+C18+D18+E18 -> 0
A19: 3. | B19: Felhalmozási célú támogatások államháztartáson belülről (3.1.+…+3.5.) | C19: =+C20+C21+C22+C23+C24 -> 0 | D19: =+D20+D21+D22+D23+D24 -> 0 | E19: =+E20+E21+E22+E23+E24 -> 0 | F19: =+F20+F21+F22+F23+F24 -> 0
A20: 3.1. | B20: Felhalmozási célú önkormányzati támogatások | C20: 0 | F20: =+C20+D20+E20 -> 0
A21: 3.2. | B21: Felhalmozási célú garancia- és kezességvállalásból megtérülések | C21: 0 | F21: =+C21+D21+E21 -> 0
A22: 3.3. | B22: Felhalmozási célú visszatérítendő támogatások, kölcsönök visszatérülése | C22: 0 | F22: =+C22+D22+E22 -> 0
A23: 3.4. | B23: Felhalmozási célú visszatérítendő támogatások, kölcsönök igénybevétele | C23: 0 | F23: =+C23+D23+E23 -> 0
A24: 3.5. | B24: Egyéb felhalmozási célú támogatások bevételei | C24: 0 | F24: =+C24+D24+E24 -> 0
A25: 3.6. | B25: 3.5.-ből EU-s támogatás | C25: 0 | F25: =+C25+D25+E25 -> 0
A26: 4. | B26: Közhatalmi bevételek (4.1.+4.2.+4.3.+4.4.) | C26: =+C27+C31+C32+C33 -> 0 | D26: =+D27+D31+D32+D33 -> 0 | E26: =+E27+E31+E32+E33 -> 0 | F26: =+F27+F31+F32+F33 -> 0
A27: 4.1. | B27: Helyi adók (4.1.1.+...+4.1.3.) | C27: =SUM(C28:C30) -> 0 | D27: =SUM(D28:D30) -> 0 | E27: =SUM(E28:E30) -> 0 | F27: =+C27+D27+E27 -> 0
A28: 4.1.1. | B28: - Vagyoni típusú adók | D28: 0 | E28: 0 | F28: =+C28+D28+E28 -> 0
A29: 4.1.2. | B29: - Termékek és szolgáltatások adói | D29: 0 | E29: 0 | F29: =+C29+D29+E29 -> 0
A30: 4.1.3. | B30: - Értékesítési és forgalmi adók (iparűzési adó) | D30: 0 | E30: 0 | F30: =+C30+D30+E30 -> 0
A31: 4.2. | B31: Gépjárműadó | D31: 0 | E31: 0 | F31: =+C31+D31+E31 -> 0
A32: 4.3. | B32: Egyéb áruhasználati és szolgáltatási adók | D32: 0 | E32: 0 | F32: =+C32+D32+E32 -> 0
A33: 4.4. | B33: Egyéb közhatalmi bevételek | D33: 0 | E33: 0 | F33: =+C33+D33+E33 -> 0
A34: 5. | B34: Működési bevételek (5.1.+…+ 5.11.) | C34: =SUM(C35:C45) -> 0 | D34: =SUM(D35:D45) -> 0 | E34: =SUM(E35:E45) -> 0 | F34: =SUM(F35:F45) -> 0
A35: 5.1. | B35: Készletértékesítés ellenértéke | D35: 0 | E35: 0 | F35: =+C35+D35+E35 -> 0
A36: 5.2. | B36: Szolgáltatások ellenértéke | D36: 0 | E36: 0 | F36: =+C36+D36+E36 -> 0
A37: 5.3. | B37: Közvetített szolgáltatások értéke | D37: 0 | E37: 0 | F37: =+C37+D37+E37 -> 0
A38: 5.4. | B38: Tulajdonosi bevételek | D38: 0 | E38: 0 | F38: =+C38+D38+E38 -> 0
A39: 5.5. | B39: Ellátási díjak | D39: 0 | E39: 0 | F39: =+C39+D39+E39 -> 0
A40: 5.6. | B40: Kiszámlázott általános forgalmi adó | D40: 0 | E40: 0 | F40: =+C40+D40+E40 -> 0
A41: 5.7. | B41: Általános forgalmi adó visszatérítése | D41: 0 | E41: 0 | F41: =+C41+D41+E41 -> 0
A42: 5.8. | B42: Kamatbevételek | D42: 0 | E42: 0 | F42: =+C42+D42+E42 -> 0
A43: 5.9. | B43: Egyéb pénzügyi műveletek bevételei | D43: 0 | E43: 0 | F43: =+C43+D43+E43 -> 0
A44: 5.10. | B44: Biztosító által fizetett kártérítés | D44: 0 | E44: 0 | F44: =+C44+D44+E44 -> 0
A45: 5.11. | B45: Egyéb működési bevételek | C45: 0 | D45: 0 | E45: 0 | F45: =+C45+D45+E45 -> 0
A46: 6. | B46: Felhalmozási bevételek (6.1.+…+6.5.) | C46: =SUM(C47:C51) -> 0 | D46: =SUM(D47:D51) -> 0 | E46: =SUM(E47:E51) -> 0 | F46: =SUM(F47:F51) -> 0
A47: 6.1. | B47: Immateriális javak értékesítése | C47: 0 | D47: 0 | E47: 0 | F47: =+C47+D47+E47 -> 0
A48: 6.2. | B48: Ingatlanok értékesítése | C48: 0 | D48: 0 | E48: 0 | F48: =+C48+D48+E48 -> 0
A49: 6.3. | B49: Egyéb tárgyi eszközök értékesítése | C49: 0 | D49: 0 | E49: 0 | F49: =+C49+D49+E49 -> 0
A50: 6.4. | B50: Részesedések értékesítése | C50: 0 | D50: 0 | E50: 0 | F50: =+C50+D50+E50 -> 0
A51: 6.5. | B51: Részesedések megszűnéséhez kapcsolódó bevételek | C51: 0 | D51: 0 | E51: 0 | F51: =+C51+D51+E51 -> 0
A52: 7. | B52: Működési célú átvett pénzeszközök (7.1. + … + 7.3.) | C52: =SUM(C53:C55) -> 0 | D52: =SUM(D53:D55) -> 0 | E52: =SUM(E53:E55) -> 0 | F52: =SUM(F53:F55) -> 0
A53: 7.1. | B53: Működési célú garancia- és kezességvállalásból megtérülések ÁH-n kívülről | C53: 0 | D53: 0 | E53: 0 | F53: =+C53+D53+E53 -> 0
A54: 7.2. | B54: Működési célú visszatérítendő támogatások, kölcsönök visszatér. ÁH-n kívülről | C54: 0 | D54: 0 | E54: 0 | F54: =+C54+D54+E54 -> 0
A55: 7.3. | B55: Egyéb működési célú átvett pénzeszköz | D55: 0 | E55: 0 | F55: =+C55+D55+E55 -> 0
A56: 7.4. | B56: 7.3.-ból EU-s támogatás (közvetlen) | C56: 0 | D56: 0 | E56: 0 | F56: =+C56+D56+E56 -> 0
A57: 8. | B57: Felhalmozási célú átvett pénzeszközök (8.1.+8.2.+8.3.) | C57: =SUM(C58:C60) -> 0 | D57: =SUM(D58:D60) -> 0 | E57: =SUM(E58:E60) -> 0 | F57: =SUM(F58:F60) -> 0
A58: 8.1. | B58: Felhalm. célú garancia- és kezességvállalásból megtérülések ÁH-n kívülről | C58: 0 | D58: 0 | E58: 0 | F58: =+C58+D58+E58 -> 0
A59: 8.2. | B59: Felhalm. célú visszatérítendő támogatások, kölcsönök visszatér. ÁH-n kívülről | C59: 0 | D59: 0 | E59: 0 | F59: =+C59+D59+E59 -> 0
A60: 8.3. | B60: Egyéb felhalmozási célú átvett pénzeszköz | D60: 0 | E60: 0 | F60: =+C60+D60+E60 -> 0
A61: 8.4. | B61: 8.3.-ból EU-s támogatás (közvetlen) | D61: 0 | E61: 0 | F61: =+C61+D61+E61 -> 0
A62: 9. | B62: KÖLTSÉGVETÉSI BEVÉTELEK ÖSSZESEN: (1+…+8) | C62: =+C5+C12+C19+C26+C34+C46+C52+C57 -> 2783 | D62: =+D5+D12+D19+D26+D34+D46+D52+D57 -> 0 | E62: =+E5+E12+E19+E26+E34+E46+E52+E57 -> 0 | F62: =+F5+F12+F19+F26+F34+F46+F52+F57 -> 2783
A63: 10. | B63: Hitel-, kölcsönfelvétel államháztartáson kívülről (10.1.+10.3.) | C63: =SUM(C64:C66) -> 0 | D63: =SUM(D64:D66) -> 0 | E63: =SUM(E64:E66) -> 0 | F63: =SUM(F64:F66) -> 0
A64: 10.1. | B64: Hosszú lejáratú hitelek, kölcsönök felvétele | C64: 0 | D64: 0 | E64: 0 | F64: =+C64+D64+E64 -> 0
A65: 10.2. | B65: Likviditási célú hitelek, kölcsönök felvétele pénzügyi vállalkozástól | C65: 0 | D65: 0 | E65: 0 | F65: =+C65+D65+E65 -> 0
A66: 10.3. | B66: Rövid lejáratú hitelek, kölcsönök felvétele | C66: 0 | D66: 0 | E66: 0 | F66: =+C66+D66+E66 -> 0
A67: 11. | B67: Belföldi értékpapírok bevételei (11.1. +…+ 11.4.) | C67: =SUM(C68:C71) -> 0 | D67: =SUM(D68:D71) -> 0 | E67: =SUM(E68:E71) -> 0 | F67: =SUM(F68:F71) -> 0
A68: 11.1. | B68: Forgatási célú belföldi értékpapírok beváltása, értékesítése | C68: 0 | D68: 0 | E68: 0 | F68: =+C68+D68+E68 -> 0
A69: 11.2. | B69: Forgatási célú belföldi értékpapírok kibocsátása | C69: 0 | D69: 0 | E69: 0 | F69: =+C69+D69+E69 -> 0
A70: 11.3. | B70: Befektetési célú belföldi értékpapírok beváltása, értékesítése | C70: 0 | D70: 0 | E70: 0 | F70: =+C70+D70+E70 -> 0
A71: 11.4. | B71: Befektetési célú belföldi értékpapírok kibocsátása | C71: 0 | D71: 0 | E71: 0 | F71: =+C71+D71+E71 -> 0
A72: 12. | B72: Maradvány igénybevétele (12.1. + 12.2.) | C72: =SUM(C73:C74) -> 6779 | D72: =SUM(D73:D74) -> 0 | E72: =SUM(E73:E74) -> 3274 | F72: =SUM(F73:F74) -> 10053
A73: 12.1. | B73: Előző év költségvetési maradványának igénybevétele | C73: 6779 | D73: 0 | E73: 3274 | F73: =+C73+D73+E73 -> 10053
A74: 12.2. | B74: Előző év vállalkozási maradványának igénybevétele | C74: 0 | D74: 0 | E74: 0 | F74: =+C74+D74+E74 -> 0
A75: 13. | B75: Belföldi finanszírozás bevételei (13.1. + … + 13.3.) | C75: =SUM(C76:C78) -> 94516 | D75: =SUM(D76:D78) -> 6385 | E75: =SUM(E76:E78) -> -3324 | F75: =SUM(F76:F78) -> 97577
A76: 13.1. | B76: Normatíva bevétel | C76: 61922 | D76: =140+182+111+432+107 -> 972 | F76: =+C76+D76+E76 -> 62894
A77: 13.2. | B77: Önkormányzati támogatás Kenese | C77: 32594 | D77: =50+737+3179+1447 -> 5413 | E77: -3324 | F77: =+C77+D77+E77 -> 34683
A78: 13.3. | B78: Önkormányzati támogatás más önkormányzat | C78: 0 | D78: 0 | E78: 0 | F78: =+C78+D78+E78 -> 0
A79: 14. | B79: Külföldi finanszírozás bevételei (14.1.+…14.4.) | C79: =SUM(C80:C83) -> 0 | D79: =SUM(D80:D83) -> 0 | E79: =SUM(E80:E83) -> 0 | F79: =SUM(F80:F83) -> 0
A80: 14.1. | B80: Forgatási célú külföldi értékpapírok beváltása, értékesítése | C80: 0 | D80: 0 | E80: 0 | F80: =+C80+D80+E80 -> 0
A81: 14.2. | B81: Befektetési célú külföldi értékpapírok beváltása, értékesítése | C81: 0 | D81: 0 | E81: 0 | F81: =+C81+D81+E81 -> 0
A82: 14.3. | B82: Külföldi értékpapírok kibocsátása | C82: 0 | D82: 0 | E82: 0 | F82: =+C82+D82+E82 -> 0
A83: 14.4. | B83: Külföldi hitelek, kölcsönök felvétele | C83: 0 | D83: 0 | E83: 0 | F83: =+C83+D83+E83 -> 0
A84: 15. | B84: Váltóbevételek | C84: 0 | D84: 0 | E84: 0 | F84: =+C84+D84+E84 -> 0
A85: 16. | B85: Adóssághoz nem kapcsolódó származékos ügyletek bevételei | F85: =+C85+D85+E85 -> 0
A86: 17. | B86: FINANSZÍROZÁSI BEVÉTELEK ÖSSZESEN: (10. + … +16.) | C86: =+C63+C67+C72+C75+C79+C85+C84 -> 101295 | D86: =+D63+D67+D72+D75+D79+D85+D84 -> 6385 | E86: =+E63+E67+E72+E75+E79+E85+E84 -> -50 | F86: =+F63+F67+F72+F75+F79+F85+F84 -> 107630
A87: 18. | B87: KÖLTSÉGVETÉSI ÉS FINANSZÍROZÁSI BEVÉTELEK ÖSSZESEN: (9+17) | C87: =+C62+C86 -> 104078 | D87: =+D62+D86 -> 6385 | E87: =+E62+E86 -> -50 | F87: =+F62+F86 -> 110413
B89: K I A D Á S O K
F90: Ezer forintban
A91: Sor- szám | B91: Kiadási jogcímek | C91: 2015. évi előirányzat | D91: Korábbi módosítás | E91: Jelenlegi módosítás | F91: 2015. évi módosított előirányzat
A92: A | B92: B | C92: C | D92: D | E92: E | F92: F
A93: 1. | B93: Működési költségvetés kiadásai (1.1+…+1.5.+1.18.) | C93: =C94+C95+C96+C97+C98+C111 -> 102078 | D93: =D94+D95+D96+D97+D98+D111 -> 8185 | E93: =E94+E95+E96+E97+E98+E111 -> -139 | F93: =F94+F95+F96+F97+F98+F111 -> 110124
A94: 1.1. | B94: Személyi juttatások | C94: 62382 | D94: =110+144+87+2686+1495 -> 4522 | E94: 50 | F94: =+C94+D94+E94 -> 66954
A95: 1.2. | B95: Munkaadókat terhelő járulékok és szociális hozzájárulási adó | C95: 17125 | D95: =30+38+24+575+324 -> 991 | F95: =+C95+D95+E95 -> 18116
A96: 1.3. | B96: Dologi kiadások | C96: 22571 | D96: =2100-265 -> 1835 | E96: -139 | F96: =+C96+D96+E96 -> 24267
A97: 1.4. | B97: Ellátottak pénzbeli juttatásai | D97: =50+737+50 -> 837 | E97: -50 | F97: =+C97+D97+E97 -> 787
A98: 1.5 | B98: Egyéb működési célú kiadások | C98: =SUM(C100:C110) -> 0 | D98: =SUM(D100:D110) -> 0 | E98: =SUM(E100:E110) -> 0 | F98: =+C98+D98+E98 -> 0
A99: 1.6. | B99: - az 1.5-ből: - Előző évi elszámolásból származó befizetések | C99: 0 | D99: 0 | E99: 0 | F99: =+C99+D99+E99 -> 0
A100: 1.7. | B100: - Törvényi előíráson alapuló befizetések | C100: 0 | D100: 0 | E100: 0 | F100: =+C100+D100+E100 -> 0
A101: 1.8. | B101: - Elvonások és befizetések | C101: 0 | D101: 0 | E101: 0 | F101: =+C101+D101+E101 -> 0
...

Sheet 1.2.3.sz.mell.Műv.össz.
B1: B E V É T E L E K
F2: Ezer forintban
A3: Sor- szám | B3: Bevételi jogcím | C3: 2015. évi előirányzat | D3: Korábbi módosítás | E3: Jelenlegi módosítás | F3: 2015. évi módosított előirányzat
A4: A | B4: B | C4: C | D4: D | E4: E | F4: F
A5: 1. | B5: Önkormányzat működési támogatásai (1.1.+…+.1.6.) | C5: =+C6+C7+C8+C9+C10+C11 -> 0 | D5: =+D6+D7+D8+D9+D10+D11 -> 0 | E5: =+E6+E7+E8+E9+E10+E11 -> 0 | F5: =+F6+F7+F8+F9+F10+F11 -> 0
A6: 1.1. | B6: Helyi önkormányzatok működésének általános támogatása | F6: =+C6+D6+E6 -> 0
A7: 1.2. | B7: Önkormányzatok egyes köznevelési feladatainak támogatása | F7: =+C7+D7+E7 -> 0
A8: 1.3. | B8: Önkormányzatok szociális és gyermekjóléti feladatainak támogatása | F8: =+C8+D8+E8 -> 0
A9: 1.4. | B9: Önkormányzatok kulturális feladatainak támogatása | F9: =+C9+D9+E9 -> 0
A10: 1.5. | B10: Működési célú kvi támogatások és kiegészítő támogatások | F10: =+C10+D10+E10 -> 0
A11: 1.6. | B11: Elszámolásból származó bevételek | F11: =+C11+D11+E11 -> 0
A12: 2. | B12: Működési célú támogatások államháztartáson belülről (2.1.+…+.2.5.) | C12: =+C13+C14+C15+C16+C17 -> 0 | D12: =+D13+D14+D15+D16+D17 -> 0 | E12: =+E13+E14+E15+E16+E17 -> 0 | F12: =+F13+F14+F15+F16+F17 -> 0
A13: 2.1. | B13: Elvonások és befizetések bevételei | C13: 0 | F13: =+C13+D13+E13 -> 0
A14: 2.2. | B14: Működési célú garancia- és kezességvállalásból megtérülések | C14: 0 | F14: =+C14+D14+E14 -> 0
A15: 2.3. | B15: Működési célú visszatérítendő támogatások, kölcsönök visszatérülése | C15: 0 | F15: =+C15+D15+E15 -> 0
A16: 2.4. | B16: Működési célú visszatérítendő támogatások, kölcsönök igénybevétele | C16: 0 | F16: =+C16+D16+E16 -> 0
A17: 2.5. | B17: Egyéb működési célú támogatások bevételei | F17: =+C17+D17+E17 -> 0
A18: 2.6. | B18: 2.5.-ből EU-s támogatás | C18: 0 | F18: =+C18+D18+E18 -> 0
A19: 3. | B19: Felhalmozási célú támogatások államháztartáson belülről (3.1.+…+3.5.) | C19: =+C20+C21+C22+C23+C24 -> 0 | D19: =+D20+D21+D22+D23+D24 -> 0 | E19: =+E20+E21+E22+E23+E24 -> 0 | F19: =+F20+F21+F22+F23+F24 -> 0
A20: 3.1. | B20: Felhalmozási célú önkormányzati támogatások | C20: 0 | F20: =+C20+D20+E20 -> 0
A21: 3.2. | B21: Felhalmozási célú garancia- és kezességvállalásból megtérülések | C21: 0 | F21: =+C21+D21+E21 -> 0
A22: 3.3. | B22: Felhalmozási célú visszatérítendő támogatások, kölcsönök visszatérülése | C22: 0 | F22: =+C22+D22+E22 -> 0
A23: 3.4. | B23: Felhalmozási célú visszatérítendő támogatások, kölcsönök igénybevétele | C23: 0 | F23: =+C23+D23+E23 -> 0
A24: 3.5. | B24: Egyéb felhalmozási célú támogatások bevételei | C24: 0 | F24: =+C24+D24+E24 -> 0
A25: 3.6. | B25: 3.5.-ből EU-s támogatás | C25: 0 | F25: =+C25+D25+E25 -> 0
A26: 4. | B26: Közhatalmi bevételek (4.1.+4.2.+4.3.+4.4.) | C26: =+C27+C31+C32+C33 -> 0 | D26: =+D27+D31+D32+D33 -> 0 | E26: =+E27+E31+E32+E33 -> 0 | F26: =+F27+F31+F32+F33 -> 0
A27: 4.1. | B27: Helyi adók (4.1.1.+...+4.1.3.) | C27: =SUM(C28:C30) -> 0 | D27: =SUM(D28:D30) -> 0 | E27: =SUM(E28:E30) -> 0 | F27: =+C27+D27+E27 -> 0
A28: 4.1.1. | B28: - Vagyoni típusú adók | D28: 0 | E28: 0 | F28: =+C28+D28+E28 -> 0
A29: 4.1.2. | B29: - Termékek és szolgáltatások adói | D29: 0 | E29: 0 | F29: =+C29+D29+E29 -> 0
A30: 4.1.3. | B30: - Értékesítési és forgalmi adók (iparűzési adó) | D30: 0 | E30: 0 | F30: =+C30+D30+E30 -> 0
A31: 4.2. | B31: Gépjárműadó | D31: 0 | E31: 0 | F31: =+C31+D31+E31 -> 0
A32: 4.3. | B32: Egyéb áruhasználati és szolgáltatási adók | D32: 0 | E32: 0 | F32: =+C32+D32+E32 -> 0
A33: 4.4. | B33: Egyéb közhatalmi bevételek | D33: 0 | E33: 0 | F33: =+C33+D33+E33 -> 0
A34: 5. | B34: Működési bevételek (5.1.+…+ 5.11.) | C34: =SUM(C35:C45) -> 9000 | D34: =SUM(D35:D45) -> -9000 | E34: =SUM(E35:E45) -> 9000 | F34: =SUM(F35:F45) -> 9000
A35: 5.1. | B35: Készletértékesítés ellenértéke | D35: 0 | E35: 0 | F35: =+C35+D35+E35 -> 0
A36: 5.2. | B36: Szolgáltatások ellenértéke | D36: 0 | E36: 0 | F36: =+C36+D36+E36 -> 0
A37: 5.3. | B37: Közvetített szolgáltatások értéke | D37: 0 | E37: 0 | F37: =+C37+D37+E37 -> 0
A38: 5.4. | B38: Tulajdonosi bevételek | D38: 0 | E38: 0 | F38: =+C38+D38+E38 -> 0
A39: 5.5. | B39: Ellátási díjak | D39: 0 | E39: 0 | F39: =+C39+D39+E39 -> 0
A40: 5.6. | B40: Kiszámlázott általános forgalmi adó | D40: 0 | E40: 0 | F40: =+C40+D40+E40 -> 0
A41: 5.7. | B41: Általános forgalmi adó visszatérítése | D41: 0 | E41: 0 | F41: =+C41+D41+E41 -> 0
A42: 5.8. | B42: Kamatbevételek | D42: 0 | E42: 0 | F42: =+C42+D42+E42 -> 0
A43: 5.9. | B43: Egyéb pénzügyi műveletek bevételei | D43: 0 | E43: 0 | F43: =+C43+D43+E43 -> 0
A44: 5.10. | B44: Biztosító által fizetett kártérítés | D44: 0 | E44: 0 | F44: =+C44+D44+E44 -> 0
A45: 5.11. | B45: Egyéb működési bevételek | C45: 9000 | D45: -9000 | E45: 9000 | F45: =+C45+D45+E45 -> 9000
A46: 6. | B46: Felhalmozási bevételek (6.1.+…+6.5.) | C46: =SUM(C47:C51) -> 0 | D46: =SUM(D47:D51) -> 0 | E46: =SUM(E47:E51) -> 0 | F46: =SUM(F47:F51) -> 0
A47: 6.1. | B47: Immateriális javak értékesítése | C47: 0 | D47: 0 | E47: 0 | F47: =+C47+D47+E47 -> 0
A48: 6.2. | B48: Ingatlanok értékesítése | C48: 0 | D48: 0 | E48: 0 | F48: =+C48+D48+E48 -> 0
A49: 6.3. | B49: Egyéb tárgyi eszközök értékesítése | C49: 0 | D49: 0 | E49: 0 | F49: =+C49+D49+E49 -> 0
A50: 6.4. | B50: Részesedések értékesítése | C50: 0 | D50: 0 | E50: 0 | F50: =+C50+D50+E50 -> 0
A51: 6.5. | B51: Részesedések megszűnéséhez kapcsolódó bevételek | C51: 0 | D51: 0 | E51: 0 | F51: =+C51+D51+E51 -> 0
A52: 7. | B52: Működési célú átvett pénzeszközök (7.1. + … + 7.3.) | C52: =SUM(C53:C55) -> 9000 | D52: =SUM(D53:D55) -> 0 | E52: =SUM(E53:E55) -> 0 | F52: =SUM(F53:F55) -> 9000
A53: 7.1. | B53: Működési célú garancia- és kezességvállalásból megtérülések ÁH-n kívülről | C53: 0 | D53: 0 | E53: 0 | F53: =+C53+D53+E53 -> 0
A54: 7.2. | B54: Működési célú visszatérítendő támogatások, kölcsönök visszatér. ÁH-n kívülről | C54: 0 | D54: 0 | E54: 0 | F54: =+C54+D54+E54 -> 0
A55: 7.3. | B55: Egyéb működési célú átvett pénzeszköz | C55: 9000 | D55: 0 | E55: 0 | F55: =+C55+D55+E55 -> 9000
A56: 7.4. | B56: 7.3.-ból EU-s támogatás (közvetlen) | C56: 9000 | D56: 0 | E56: 0 | F56: =+C56+D56+E56 -> 9000
A57: 8. | B57: Felhalmozási célú átvett pénzeszközök (8.1.+8.2.+8.3.) | C57: =SUM(C58:C60) -> 0 | D57: =SUM(D58:D60) -> 0 | E57: =SUM(E58:E60) -> 0 | F57: =SUM(F58:F60) -> 0
A58: 8.1. | B58: Felhalm. célú garancia- és kezességvállalásból megtérülések ÁH-n kívülről | C58: 0 | D58: 0 | E58: 0 | F58: =+C58+D58+E58 -> 0
A59: 8.2. | B59: Felhalm. célú visszatérítendő támogatások, kölcsönök visszatér. ÁH-n kívülről | C59: 0 | D59: 0 | E59: 0 | F59: =+C59+D59+E59 -> 0
A60: 8.3. | B60: Egyéb felhalmozási célú átvett pénzeszköz | D60: 0 | E60: 0 | F60: =+C60+D60+E60 -> 0
A61: 8.4. | B61: 8.3.-ból EU-s támogatás (közvetlen) | D61: 0 | E61: 0 | F61: =+C61+D61+E61 -> 0
A62: 9. | B62: KÖLTSÉGVETÉSI BEVÉTELEK ÖSSZESEN: (1+…+8) | C62: =+C5+C12+C19+C26+C34+C46+C52+C57 -> 18000 | D62: =+D5+D12+D19+D26+D34+D46+D52+D57 -> -9000 | E62: =+E5+E12+E19+E26+E34+E46+E52+E57 -> 9000 | F62: =+F5+F12+F19+F26+F34+F46+F52+F57 -> 18000
A63: 10. | B63: Hitel-, kölcsönfelvétel államháztartáson kívülről (10.1.+10.3.) | C63: =SUM(C64:C66) -> 0 | D63: =SUM(D64:D66) -> 0 | E63: =SUM(E64:E66) -> 0 | F63: =SUM(F64:F66) -> 0
A64: 10.1. | B64: Hosszú lejáratú hitelek, kölcsönök felvétele | C64: 0 | D64: 0 | E64: 0 | F64: =+C64+D64+E64 -> 0
A65: 10.2. | B65: Likviditási célú hitelek, kölcsönök felvétele pénzügyi vállalkozástól | C65: 0 | D65: 0 | E65: 0 | F65: =+C65+D65+E65 -> 0
A66: 10.3. | B66: Rövid lejáratú hitelek, kölcsönök felvétele | C66: 0 | D66: 0 | E66: 0 | F66: =+C66+D66+E66 -> 0
A67: 11. | B67: Belföldi értékpapírok bevételei (11.1. +…+ 11.4.) | C67: =SUM(C68:C71) -> 0 | D67: =SUM(D68:D71) -> 0 | E67: =SUM(E68:E71) -> 0 | F67: =SUM(F68:F71) -> 0
A68: 11.1. | B68: Forgatási célú belföldi értékpapírok beváltása, értékesítése | C68: 0 | D68: 0 | E68: 0 | F68: =+C68+D68+E68 -> 0
A69: 11.2. | B69: Forgatási célú belföldi értékpapírok kibocsátása | C69: 0 | D69: 0 | E69: 0 | F69: =+C69+D69+E69 -> 0
A70: 11.3. | B70: Befektetési célú belföldi értékpapírok beváltása, értékesítése | C70: 0 | D70: 0 | E70: 0 | F70: =+C70+D70+E70 -> 0
A71: 11.4. | B71: Befektetési célú belföldi értékpapírok kibocsátása | C71: 0 | D71: 0 | E71: 0 | F71: =+C71+D71+E71 -> 0
A72: 12. | B72: Maradvány igénybevétele (12.1. + 12.2.) | C72: =SUM(C73:C74) -> 131 | D72: =SUM(D73:D74) -> 0 | E72: =SUM(E73:E74) -> 266 | F72: =SUM(F73:F74) -> 397
A73: 12.1. | B73: Előző év költségvetési maradványának igénybevétele | C73: 131 | D73: 0 | E73: 266 | F73: =+C73+D73+E73 -> 397
A74: 12.2. | B74: Előző év vállalkozási maradványának igénybevétele | C74: 0 | D74: 0 | E74: 0 | F74: =+C74+D74+E74 -> 0
A75: 13. | B75: Belföldi finanszírozás bevételei (13.1. + … + 13.3.) | C75: =SUM(C76:C78) -> 28215 | D75: =SUM(D76:D78) -> 1611 | E75: =SUM(E76:E78) -> -175 | F75: =SUM(F76:F78) -> 29651
A76: 13.1. | B76: Normatíva bevétel | C76: 2997 | D76: =44+41+27+247+27 -> 386 | F76: =+C76+D76+E76 -> 3383
A77: 13.2. | B77: Önkormányzati támogatás Kenese | C77: 25218 | D77: 1225 | E77: -175 | F77: =+C77+D77+E77 -> 26268
A78: 13.3. | B78: Önkormányzati támogatás más önkormányzat | C78: 0 | D78: 0 | E78: 0 | F78: =+C78+D78+E78 -> 0
A79: 14. | B79: Külföldi finanszírozás bevételei (14.1.+…14.4.) | C79: =SUM(C80:C83) -> 0 | D79: =SUM(D80:D83) -> 0 | E79: =SUM(E80:E83) -> 0 | F79: =SUM(F80:F83) -> 0
A80: 14.1. | B80: Forgatási célú külföldi értékpapírok beváltása, értékesítése | C80: 0 | D80: 0 | E80: 0 | F80: =+C80+D80+E80 -> 0
A81: 14.2. | B81: Befektetési célú külföldi értékpapírok beváltása, értékesítése | C81: 0 | D81: 0 | E81: 0 | F81: =+C81+D81+E81 -> 0
A82: 14.3. | B82: Külföldi értékpapírok kibocsátása | C82: 0 | D82: 0 | E82: 0 | F82: =+C82+D82+E82 -> 0
A83: 14.4. | B83: Külföldi hitelek, kölcsönök felvétele | C83: 0 | D83: 0 | E83: 0 | F83: =+C83+D83+E83 -> 0
A84: 15. | B84: Váltóbevételek | C84: 0 | D84: 0 | E84: 0 | F84: =+C84+D84+E84 -> 0
A85: 16. | B85: Adóssághoz nem kapcsolódó származékos ügyletek bevételei | F85: =+C85+D85+E85 -> 0
A86: 17. | B86: FINANSZÍROZÁSI BEVÉTELEK ÖSSZESEN: (10. + … +16.) | C86: =+C63+C67+C72+C75+C79+C85+C84 -> 28346 | D86: =+D63+D67+D72+D75+D79+D85+D84 -> 1611 | E86: =+E63+E67+E72+E75+E79+E85+E84 -> 91 | F86: =+F63+F67+F72+F75+F79+F85+F84 -> 30048
A87: 18. | B87: KÖLTSÉGVETÉSI ÉS FINANSZÍROZÁSI BEVÉTELEK ÖSSZESEN: (9+17) | C87: =+C62+C86 -> 46346 | D87: =+D62+D86 -> -7389 | E87: =+E62+E86 -> 9091 | F87: =+F62+F86 -> 48048
B89: K I A D Á S O K
F90: Ezer forintban
A91: Sor- szám | B91: Kiadási jogcímek | C91: 2015. évi előirányzat | D91: Korábbi módosítás | E91: Jelenlegi módosítás | F91: 2015. évi módosított előirányzat
A92: A | B92: B | C92: C | D92: D | E92: E | F92: F
A93: 1. | B93: Működési költségvetés kiadásai (1.1+…+1.5.+1.18.) | C93: =C94+C95+C96+C97+C98+C111 -> 45846 | D93: =D94+D95+D96+D97+D98+D111 -> -7608 | E93: =E94+E95+E96+E97+E98+E111 -> 9089 | F93: =F94+F95+F96+F97+F98+F111 -> 47327
A94: 1.1. | B94: Személyi juttatások | C94: 13066 | D94: =35+32+21+86+21 -> 195 | E94: 72 | F94: =+C94+D94+E94 -> 13333
A95: 1.2. | B95: Munkaadókat terhelő járulékok és szociális hozzájárulási adó | C95: 3586 | D95: =9+9+6+23+6 -> 53 | E95: 19 | F95: =+C95+D95+E95 -> 3658
A96: 1.3. | B96: Dologi kiadások | C96: 29194 | D96: =-9076-5 -> -9081 | E96: 8726 | F96: =+C96+D96+E96 -> 28839
A97: 1.4. | B97: Ellátottak pénzbeli juttatásai | D97: 0 | F97: =+C97+D97+E97 -> 0
A98: 1.5 | B98: Egyéb működési célú kiadások | C98: =SUM(C100:C110) -> 0 | D98: =SUM(D100:D110) -> 1225 | E98: =SUM(E100:E110) -> 272 | F98: =+C98+D98+E98 -> 1497
A99: 1.6. | B99: - az 1.5-ből: - Előző évi elszámolásból származó befizetések | C99: 0 | D99: 0 | F99: =+C99+D99+E99 -> 0
A100: 1.7. | B100: - Törvényi előíráson alapuló befizetések | C100: 0 | D100: 0 | E100: 0 | F100: =+C100+D100+E100 -> 0
A101: 1.8. | B101: - Elvonások és befizetések | C101: 0 | D101: 0 | E101: 0 | F101: =+C101+D101+E101 -> 0
...

Sheet 1.2.4.sz.mell.Vágo.össz.
B1: B E V É T E L E K
F2: Ezer forintban
A3: Sor- szám | B3: Bevételi jogcím | C3: 2015. évi előirányzat | D3: Korábbi módosítás | E3: Jelenlegi módosítás | F3: 2015. évi módosított előirányzat
A4: A | B4: B | C4: C | D4: D | E4: E | F4: F
A5: 1. | B5: Önkormányzat működési támogatásai (1.1.+…+.1.6.) | C5: =+C6+C7+C8+C9+C10+C11 -> 0 | D5: =+D6+D7+D8+D9+D10+D11 -> 0 | E5: =+E6+E7+E8+E9+E10+E11 -> 0 | F5: =+F6+F7+F8+F9+F10+F11 -> 0
A6: 1.1. | B6: Helyi önkormányzatok működésének általános támogatása | F6: =+C6+D6+E6 -> 0
A7: 1.2. | B7: Önkormányzatok egyes köznevelési feladatainak támogatása | F7: =+C7+D7+E7 -> 0
A8: 1.3. | B8: Önkormányzatok szociális és gyermekjóléti feladatainak támogatása | F8: =+C8+D8+E8 -> 0
A9: 1.4. | B9: Önkormányzatok kulturális feladatainak támogatása | F9: =+C9+D9+E9 -> 0
A10: 1.5. | B10: Működési célú kvi támogatások és kiegészítő támogatások | F10: =+C10+D10+E10 -> 0
A11: 1.6. | B11: Elszámolásból származó bevételek | F11: =+C11+D11+E11 -> 0
A12: 2. | B12: Működési célú támogatások államháztartáson belülről (2.1.+…+.2.5.) | C12: =+C13+C14+C15+C16+C17 -> 0 | D12: =+D13+D14+D15+D16+D17 -> 0 | E12: =+E13+E14+E15+E16+E17 -> 0 | F12: =+F13+F14+F15+F16+F17 -> 0
A13: 2.1. | B13: Elvonások és befizetések bevételei | C13: 0 | F13: =+C13+D13+E13 -> 0
A14: 2.2. | B14: Működési célú garancia- és kezességvállalásból megtérülések | C14: 0 | F14: =+C14+D14+E14 -> 0
A15: 2.3. | B15: Működési célú visszatérítendő támogatások, kölcsönök visszatérülése | C15: 0 | F15: =+C15+D15+E15 -> 0
A16: 2.4. | B16: Működési célú visszatérítendő támogatások, kölcsönök igénybevétele | C16: 0 | F16: =+C16+D16+E16 -> 0
A17: 2.5. | B17: Egyéb működési célú támogatások bevételei | F17: =+C17+D17+E17 -> 0
A18: 2.6. | B18: 2.5.-ből EU-s támogatás | C18: 0 | F18: =+C18+D18+E18 -> 0
A19: 3. | B19: Felhalmozási célú támogatások államháztartáson belülről (3.1.+…+3.5.) | C19: =+C20+C21+C22+C23+C24 -> 0 | D19: =+D20+D21+D22+D23+D24 -> 0 | E19: =+E20+E21+E22+E23+E24 -> 0 | F19: =+F20+F21+F22+F23+F24 -> 0
A20: 3.1. | B20: Felhalmozási célú önkormányzati támogatások | C20: 0 | F20: =+C20+D20+E20 -> 0
A21: 3.2. | B21: Felhalmozási célú garancia- és kezességvállalásból megtérülések | C21: 0 | F21: =+C21+D21+E21 -> 0
A22: 3.3. | B22: Felhalmozási célú visszatérítendő támogatások, kölcsönök visszatérülése | C22: 0 | F22: =+C22+D22+E22 -> 0
A23: 3.4. | B23: Felhalmozási célú visszatérítendő támogatások, kölcsönök igénybevétele | C23: 0 | F23: =+C23+D23+E23 -> 0
A24: 3.5. | B24: Egyéb felhalmozási célú támogatások bevételei | C24: 0 | F24: =+C24+D24+E24 -> 0
A25: 3.6. | B25: 3.5.-ből EU-s támogatás | C25: 0 | F25: =+C25+D25+E25 -> 0
A26: 4. | B26: Közhatalmi bevételek (4.1.+4.2.+4.3.+4.4.) | C26: =+C27+C31+C32+C33 -> 0 | D26: =+D27+D31+D32+D33 -> 0 | E26: =+E27+E31+E32+E33 -> 0 | F26: =+F27+F31+F32+F33 -> 0
A27: 4.1. | B27: Helyi adók (4.1.1.+...+4.1.3.) | C27: =SUM(C28:C30) -> 0 | D27: =SUM(D28:D30) -> 0 | E27: =SUM(E28:E30) -> 0 | F27: =+C27+D27+E27 -> 0
A28: 4.1.1. | B28: - Vagyoni típusú adók | D28: 0 | E28: 0 | F28: =+C28+D28+E28 -> 0
A29: 4.1.2. | B29: - Termékek és szolgáltatások adói | D29: 0 | E29: 0 | F29: =+C29+D29+E29 -> 0
A30: 4.1.3. | B30: - Értékesítési és forgalmi adók (iparűzési adó) | D30: 0 | E30: 0 | F30: =+C30+D30+E30 -> 0
A31: 4.2. | B31: Gépjárműadó | D31: 0 | E31: 0 | F31: =+C31+D31+E31 -> 0
A32: 4.3. | B32: Egyéb áruhasználati és szolgáltatási adók | D32: 0 | E32: 0 | F32: =+C32+D32+E32 -> 0
A33: 4.4. | B33: Egyéb közhatalmi bevételek | D33: 0 | E33: 0 | F33: =+C33+D33+E33 -> 0
A34: 5. | B34: Működési bevételek (5.1.+…+ 5.11.) | C34: =SUM(C35:C45) -> 34767 | D34: =SUM(D35:D45) -> 9075 | E34: =SUM(E35:E45) -> 5319 | F34: =SUM(F35:F45) -> 49161
A35: 5.1. | B35: Készletértékesítés ellenértéke | D35: 0 | E35: 0 | F35: =+C35+D35+E35 -> 0
A36: 5.2. | B36: Szolgáltatások ellenértéke | C36: 25500 | D36: 6695 | E36: 1978 | F36: =+C36+D36+E36 -> 34173
A37: 5.3. | B37: Közvetített szolgáltatások értéke | C37: 1100 | D37: 1200 | E37: 2875 | F37: =+C37+D37+E37 -> 5175
A38: 5.4. | B38: Tulajdonosi bevételek | C38: 1010 | D38: -1010 | E38: 1010 | F38: =+C38+D38+E38 -> 1010
A39: 5.5. | B39: Ellátási díjak | D39: 0 | F39: =+C39+D39+E39 -> 0
A40: 5.6. | B40: Kiszámlázott általános forgalmi adó | C40: 7157 | D40: 2160 | E40: -544 | F40: =+C40+D40+E40 -> 8773
A41: 5.7. | B41: Általános forgalmi adó visszatérítése | D41: 0 | F41: =+C41+D41+E41 -> 0
A42: 5.8. | B42: Kamatbevételek | D42: 30 | F42: =+C42+D42+E42 -> 30
A43: 5.9. | B43: Egyéb pénzügyi műveletek bevételei | D43: 0 | E43: 0 | F43: =+C43+D43+E43 -> 0
A44: 5.10. | B44: Biztosító által fizetett kártérítés | D44: 0 | E44: 0 | F44: =+C44+D44+E44 -> 0
A45: 5.11. | B45: Egyéb működési bevételek | D45: 0 | E45: 0 | F45: =+C45+D45+E45 -> 0
A46: 6. | B46: Felhalmozási bevételek (6.1.+…+6.5.) | C46: =SUM(C47:C51) -> 0 | D46: =SUM(D47:D51) -> 0 | E46: =SUM(E47:E51) -> 0 | F46: =SUM(F47:F51) -> 0
A47: 6.1. | B47: Immateriális javak értékesítése | C47: 0 | D47: 0 | E47: 0 | F47: =+C47+D47+E47 -> 0
A48: 6.2. | B48: Ingatlanok értékesítése | C48: 0 | D48: 0 | E48: 0 | F48: =+C48+D48+E48 -> 0
A49: 6.3. | B49: Egyéb tárgyi eszközök értékesítése | C49: 0 | D49: 0 | E49: 0 | F49: =+C49+D49+E49 -> 0
A50: 6.4. | B50: Részesedések értékesítése | C50: 0 | D50: 0 | E50: 0 | F50: =+C50+D50+E50 -> 0
A51: 6.5. | B51: Részesedések megszűnéséhez kapcsolódó bevételek | C51: 0 | D51: 0 | E51: 0 | F51: =+C51+D51+E51 -> 0
A52: 7. | B52: Működési célú átvett pénzeszközök (7.1. + … + 7.3.) | C52: =SUM(C53:C55) -> 0 | D52: =SUM(D53:D55) -> 0 | E52: =SUM(E53:E55) -> 0 | F52: =SUM(F53:F55) -> 0
A53: 7.1. | B53: Működési célú garancia- és kezességvállalásból megtérülések ÁH-n kívülről | C53: 0 | D53: 0 | E53: 0 | F53: =+C53+D53+E53 -> 0
A54: 7.2. | B54: Működési célú visszatérítendő támogatások, kölcsönök visszatér. ÁH-n kívülről | C54: 0 | D54: 0 | E54: 0 | F54: =+C54+D54+E54 -> 0
A55: 7.3. | B55: Egyéb működési célú átvett pénzeszköz | D55: 0 | E55: 0 | F55: =+C55+D55+E55 -> 0
A56: 7.4. | B56: 7.3.-ból EU-s támogatás (közvetlen) | D56: 0 | E56: 0 | F56: =+C56+D56+E56 -> 0
A57: 8. | B57: Felhalmozási célú átvett pénzeszközök (8.1.+8.2.+8.3.) | C57: =SUM(C58:C60) -> 0 | D57: =SUM(D58:D60) -> 0 | E57: =SUM(E58:E60) -> 0 | F57: =SUM(F58:F60) -> 0
A58: 8.1. | B58: Felhalm. célú garancia- és kezességvállalásból megtérülések ÁH-n kívülről | C58: 0 | D58: 0 | E58: 0 | F58: =+C58+D58+E58 -> 0
A59: 8.2. | B59: Felhalm. célú visszatérítendő támogatások, kölcsönök visszatér. ÁH-n kívülről | C59: 0 | D59: 0 | E59: 0 | F59: =+C59+D59+E59 -> 0
A60: 8.3. | B60: Egyéb felhalmozási célú átvett pénzeszköz | D60: 0 | E60: 0 | F60: =+C60+D60+E60 -> 0
A61: 8.4. | B61: 8.3.-ból EU-s támogatás (közvetlen) | D61: 0 | E61: 0 | F61: =+C61+D61+E61 -> 0
A62: 9. | B62: KÖLTSÉGVETÉSI BEVÉTELEK ÖSSZESEN: (1+…+8) | C62: =+C5+C12+C19+C26+C34+C46+C52+C57 -> 34767 | D62: =+D5+D12+D19+D26+D34+D46+D52+D57 -> 9075 | E62: =+E5+E12+E19+E26+E34+E46+E52+E57 -> 5319 | F62: =+F5+F12+F19+F26+F34+F46+F52+F57 -> 49161
A63: 10. | B63: Hitel-, kölcsönfelvétel államháztartáson kívülről (10.1.+10.3.) | C63: =SUM(C64:C66) -> 0 | D63: =SUM(D64:D66) -> 0 | E63: =SUM(E64:E66) -> 0 | F63: =SUM(F64:F66) -> 0
A64: 10.1. | B64: Hosszú lejáratú hitelek, kölcsönök felvétele | C64: 0 | D64: 0 | E64: 0 | F64: =+C64+D64+E64 -> 0
A65: 10.2. | B65: Likviditási célú hitelek, kölcsönök felvétele pénzügyi vállalkozástól | C65: 0 | D65: 0 | E65: 0 | F65: =+C65+D65+E65 -> 0
A66: 10.3. | B66: Rövid lejáratú hitelek, kölcsönök felvétele | C66: 0 | D66: 0 | E66: 0 | F66: =+C66+D66+E66 -> 0
A67: 11. | B67: Belföldi értékpapírok bevételei (11.1. +…+ 11.4.) | C67: =SUM(C68:C71) -> 0 | D67: =SUM(D68:D71) -> 0 | E67: =SUM(E68:E71) -> 0 | F67: =SUM(F68:F71) -> 0
A68: 11.1. | B68: Forgatási célú belföldi értékpapírok beváltása, értékesítése | C68: 0 | D68: 0 | E68: 0 | F68: =+C68+D68+E68 -> 0
A69: 11.2. | B69: Forgatási célú belföldi értékpapírok kibocsátása | C69: 0 | D69: 0 | E69: 0 | F69: =+C69+D69+E69 -> 0
A70: 11.3. | B70: Befektetési célú belföldi értékpapírok beváltása, értékesítése | C70: 0 | D70: 0 | E70: 0 | F70: =+C70+D70+E70 -> 0
A71: 11.4. | B71: Befektetési célú belföldi értékpapírok kibocsátása | C71: 0 | D71: 0 | E71: 0 | F71: =+C71+D71+E71 -> 0
A72: 12. | B72: Maradvány igénybevétele (12.1. + 12.2.) | C72: =SUM(C73:C74) -> 30762 | D72: =SUM(D73:D74) -> 0 | E72: =SUM(E73:E74) -> 1920 | F72: =SUM(F73:F74) -> 32682
A73: 12.1. | B73: Előző év költségvetési maradványának igénybevétele | C73: 30762 | D73: 0 | E73: 1920 | F73: =+C73+D73+E73 -> 32682
A74: 12.2. | B74: Előző év vállalkozási maradványának igénybevétele | C74: 0 | D74: 0 | E74: 0 | F74: =+C74+D74+E74 -> 0
A75: 13. | B75: Belföldi finanszírozás bevételei (13.1. + … + 13.3.) | C75: =SUM(C76:C78) -> 36429 | D75: =SUM(D76:D78) -> 2395 | E75: =SUM(E76:E78) -> -1915 | F75: =SUM(F76:F78) -> 36909
A76: 13.1. | B76: Normatíva bevétel | C76: 34369 | D76: =152+213+168+574+143 -> 1250 | F76: =+C76+D76+E76 -> 35619
A77: 13.2. | B77: Önkormányzati támogatás Kenese | C77: 2060 | D77: 1145 | E77: -1915 | F77: =+C77+D77+E77 -> 1290
A78: 13.3. | B78: Önkormányzati támogatás más önkormányzat | C78: 0 | D78: 0 | F78: =+C78+D78+E78 -> 0
A79: 14. | B79: Külföldi finanszírozás bevételei (14.1.+…14.4.) | C79: =SUM(C80:C83) -> 0 | D79: =SUM(D80:D83) -> 0 | E79: =SUM(E80:E83) -> 0 | F79: =SUM(F80:F83) -> 0
A80: 14.1. | B80: Forgatási célú külföldi értékpapírok beváltása, értékesítése | C80: 0 | D80: 0 | E80: 0 | F80: =+C80+D80+E80 -> 0
A81: 14.2. | B81: Befektetési célú külföldi értékpapírok beváltása, értékesítése | C81: 0 | D81: 0 | E81: 0 | F81: =+C81+D81+E81 -> 0
A82: 14.3. | B82: Külföldi értékpapírok kibocsátása | C82: 0 | D82: 0 | E82: 0 | F82: =+C82+D82+E82 -> 0
A83: 14.4. | B83: Külföldi hitelek, kölcsönök felvétele | C83: 0 | D83: 0 | E83: 0 | F83: =+C83+D83+E83 -> 0
A84: 15. | B84: Váltóbevételek | C84: 0 | D84: 0 | E84: 0 | F84: =+C84+D84+E84 -> 0
A85: 16. | B85: Adóssághoz nem kapcsolódó származékos ügyletek bevételei | F85: =+C85+D85+E85 -> 0
A86: 17. | B86: FINANSZÍROZÁSI BEVÉTELEK ÖSSZESEN: (10. + … +16.) | C86: =+C63+C67+C72+C75+C79+C85+C84 -> 67191 | D86: =+D63+D67+D72+D75+D79+D85+D84 -> 2395 | E86: =+E63+E67+E72+E75+E79+E85+E84 -> 5 | F86: =+F63+F67+F72+F75+F79+F85+F84 -> 69591
A87: 18. | B87: KÖLTSÉGVETÉSI ÉS FINANSZÍROZÁSI BEVÉTELEK ÖSSZESEN: (9+17) | C87: =+C62+C86 -> 101958 | D87: =+D62+D86 -> 11470 | E87: =+E62+E86 -> 5324 | F87: =+F62+F86 -> 118752
B89: K I A D Á S O K
F90: Ezer forintban
A91: Sor- szám | B91: Kiadási jogcímek | C91: 2015. évi előirányzat | D91: Korábbi módosítás | E91: Jelenlegi módosítás | F91: 2015. évi módosított előirányzat
A92: A | B92: B | C92: C | D92: D | E92: E | F92: F
A93: 1. | B93: Működési költségvetés kiadásai (1.1+…+1.5.+1.18.) | C93: =C94+C95+C96+C97+C98+C111 -> 101704 | D93: =D94+D95+D96+D97+D98+D111 -> 10300 | E93: =E94+E95+E96+E97+E98+E111 -> 5324 | F93: =F94+F95+F96+F97+F98+F111 -> 117328
A94: 1.1. | B94: Személyi juttatások | C94: 49418 | D94: =120+167+132+452+113 -> 984 | F94: =+C94+D94+E94 -> 50402
A95: 1.2. | B95: Munkaadókat terhelő járulékok és szociális hozzájárulási adó | C95: 13476 | D95: =32+46+36+122+30 -> 266 | F95: =+C95+D95+E95 -> 13742
A96: 1.3. | B96: Dologi kiadások | C96: 38810 | D96: =9070-20 -> 9050 | E96: 5324 | F96: =+C96+D96+E96 -> 53184
A97: 1.4. | B97: Ellátottak pénzbeli juttatásai | D97: 0 | E97: 0 | F97: =+C97+D97+E97 -> 0
A98: 1.5 | B98: Egyéb működési célú kiadások | C98: =SUM(C100:C110) -> 0 | D98: =SUM(D100:D110) -> 0 | E98: =SUM(E100:E110) -> 0 | F98: =+C98+D98+E98 -> 0
A99: 1.6. | B99: - az 1.5-ből: - Előző évi elszámolásból származó befizetések | C99: 0 | D99: 0 | E99: 0 | F99: =+C99+D99+E99 -> 0
A100: 1.7. | B100: - Törvényi előíráson alapuló befizetések | C100: 0 | D100: 0 | E100: 0 | F100: =+C100+D100+E100 -> 0
A101: 1.8. | B101: - Elvonások és befizetések | C101: 0 | D101: 0 | E101: 0 | F101: =+C101+D101+E101 -> 0
...

Sheet 2.1.sz.mell  
B1: I. Működési célú bevételek és kiadások mérlege (Önkormányzati szinten) | F1: =+CONCATENATE("2.1. melléklet a ………../",LEFT(ÖSSZEFÜGGÉSEK!A5,4),". (……….) önkormányzati rendelethez") -> 2.1. melléklet a ………../2015. (……….) önkormányzati rendelethez
E2: Ezer forintban !
A3: Sor- szám | B3: Bevételek | D3: Kiadások
B4: Megnevezés | C4: =+'1.1.sz.mell. Önk. szumma'!C3 -> 2015. évi előirányzat | D4: Megnevezés | E4: =+C4 -> 2015. évi előirányzat
A5: A | B5: B | C5: C | D5: D | E5: E
A6: 1. | B6: Önkormányzatok működési támogatásai | C6: 284600 | D6: Személyi juttatások | E6: 174235
A7: 2. | B7: Működési célú támogatások államháztartáson belülről | C7: 19440 | D7: Munkaadókat terhelő járulékok és szociális hozzájárulási adó | E7: 47779
A8: 3. | B8: 2.-ból EU-s támogatás | C8: 2841 | D8: Dologi kiadások | E8: 286787
A9: 4. | B9: Közhatalmi bevételek | C9: 209000 | D9: Ellátottak pénzbeli juttatásai | E9: 11588
A10: 5. | B10: Működési bevételek | C10: 102389 | D10: Egyéb működési célú kiadások | E10: 151868
A11: 6. | B11: Működési célú átvett pénzeszközök | C11: 18520 | D11: Tartalékok | E11: 147876
A12: 7. | B12: 6.-ból EU-s támogatás (közvetlen) | C12: 9000
A13: 8.
A14: 9.
A15: 10.
A16: 11.
A17: 12.
A18: 13. | B18: Költségvetési bevételek összesen (1.+2.+4.+5.+6.+8.+…+12.) | C18: =SUM(C6:C17)-C8-C12 -> 633949 | D18: Költségvetési kiadások összesen (1.+...+12.) | E18: =SUM(E6:E17) -> 820133
A19: 14. | B19: Hiány belső finanszírozásának bevételei (15.+…+18. ) | C19: =+C20+C21+C22+C23 -> 186184 | D19: Értékpapír vásárlása, visszavásárlása
A20: 15. | B20: Költségvetési maradvány igénybevétele | C20: 186184 | D20: Likviditási célú hitelek törlesztése
A21: 16. | B21: Vállalkozási maradvány igénybevétele | D21: Rövid lejáratú hitelek törlesztése
A22: 17. | B22: Betét visszavonásából származó bevétel | D22: Hosszú lejáratú hitelek törlesztése
A23: 18. | B23: Egyéb belső finanszírozási bevételek | D23: Kölcsön törlesztése
A24: 19. | B24: Hiány külső finanszírozásának bevételei (20.+…+21.) | C24: =+C25+C26 -> 0 | D24: Forgatási célú belföldi, külföldi értékpapírok vásárlása
A25: 20. | B25: Likviditási célú hitelek, kölcsönök felvétele | D25: Pénzeszközök lekötött betétként elhelyezése
A26: 21. | B26: Értékpapírok bevételei | D26: Adóssághoz nem kapcsolódó származékos ügyletek
A27: 22. | B27: Váltóbevételek | D27: Váltókiadások
A28: 23. | B28: Adóssághoz nem kapcsolódó származékos ügyletek bevételei
A29: 24. | B29: Működési célú finanszírozási bevételek összesen (14.+19.+22.+23.) | C29: =+C19+C24+C27+C28 -> 186184 | D29: Működési célú finanszírozási kiadások összesen (14.+...+23.) | E29: =SUM(E19:E28) -> 0
A30: 25. | B30: BEVÉTEL ÖSSZESEN (13.+24.) | C30: =+C18+C29 -> 820133 | D30: KIADÁSOK ÖSSZESEN (13.+24.) | E30: =+E18+E29 -> 820133
A31: 26. | B31: Költségvetési hiány: | C31: =IF(C18-E18<0,E18-C18,"-") -> 186184 | D31: Költségvetési többlet: | E31: =IF(C18-E18>0,C18-E18,"-") -> -
A32: 27. | B32: Tárgyévi hiány: | C32: =IF(C18+C29-E30<0,E30-(C18+C29),"-") -> - | D32: Tárgyévi többlet: | E32: =IF(C18+C29-E30>0,C18+C29-E30,"-") -> -

Sheet 2.2.sz.mell  
B1: II. Felhalmozási célú bevételek és kiadások mérlege (Önkormányzati szinten) | F1: =+CONCATENATE("2.2. melléklet a ………../",LEFT(ÖSSZEFÜGGÉSEK!A5,4),". (……….) önkormányzati rendelethez") -> 2.2. melléklet a ………../2015. (……….) önkormányzati rendelethez
E2: Ezer forintban !
A3: Sor- szám | B3: Bevételek | D3: Kiadások
B4: Megnevezés | C4: =+'2.1.sz.mell '!C4 -> 2015. évi előirányzat | D4: Megnevezés | E4: =+'2.1.sz.mell '!C4 -> 2015. évi előirányzat
A5: A | B5: B | C5: C | D5: D | E5: E
A6: 1. | B6: Felhalmozási célú támogatások államháztartáson belülről | D6: Beruházások | E6: 220558
A7: 2. | B7: 1.-ből EU-s támogatás | D7: 1.-ből EU-s forrásból megvalósuló beruházás
A8: 3. | B8: Felhalmozási bevételek | D8: Felújítások | E8: 60440
A9: 4. | B9: Felhalmozási célú átvett pénzeszközök átvétele | C9: 261680 | D9: 3.-ból EU-s forrásból megvalósuló felújítás
A10: 5. | B10: 4.-ből EU-s támogatás (közvetlen) | C10: 247218 | D10: Egyéb felhalmozási kiadások
A11: 6. | B11: Egyéb felhalmozási célú bevételek
A12: 7.
A13: 8.
A14: 9.
A15: 10.
A16: 11. | D16: Tartalékok
A17: 12. | B17: Költségvetési bevételek összesen: (1.+3.+4.+6.+…+11.) | C17: =+C6+C8+C9+C11+C12+C13+C14+C15+C16 -> 261680 | D17: Költségvetési kiadások összesen: (1.+3.+5.+...+11.) | E17: =+E6+E8+E10+E11+E12+E13+E14+E15+E16 -> 280998
A18: 13. | B18: Hiány belső finanszírozás bevételei ( 14+…+18) | C18: =+C19+C20+C21+C22+C23 -> 19318 | D18: Értékpapír vásárlása, visszavásárlása
A19: 14. | B19: Költségvetési maradvány igénybevétele | C19: 19318 | D19: Hitelek törlesztése
A20: 15. | B20: Vállalkozási maradvány igénybevétele | D20: Rövid lejáratú hitelek törlesztése
A21: 16. | B21: Betét visszavonásából származó bevétel | D21: Hosszú lejáratú hitelek törlesztése
A22: 17. | B22: Értékpapír értékesítése | D22: Kölcsön törlesztése
A23: 18. | B23: Egyéb belső finanszírozási bevételek | D23: Befektetési célú belföldi, külföldi értékpapírok vásárlása
A24: 19. | B24: Hiány külső finanszírozásának bevételei (20+…+24 ) | C24: =+C25+C26+C27+C28+C29 -> 0 | D24: Betét elhelyezése
A25: 20. | B25: Hosszú lejáratú hitelek, kölcsönök felvétele | D25: Pénzügyi lízing kiadásai
A26: 21. | B26: Likviditási célú hitelek, kölcsönök felvétele
A27: 22. | B27: Rövid lejáratú hitelek, kölcsönök felvétele
A28: 23. | B28: Értékpapírok kibocsátása
A29: 24. | B29: Egyéb külső finanszírozási bevételek
A30: 25. | B30: Felhalmozási célú finanszírozási bevételek összesen (13.+19.) | C30: =+C18+C24 -> 19318 | D30: Felhalmozási célú finanszírozási kiadások összesen (13.+...+24.) | E30: =SUM(E18:E29) -> 0
A31: 26. | B31: BEVÉTEL ÖSSZESEN (12+25) | C31: =+C17+C30 -> 280998 | D31: KIADÁSOK ÖSSZESEN (12+25) | E31: =+E17+E30 -> 280998
A32: 27. | B32: Költségvetési hiány: | C32: =IF(C17-E17<0,E17-C17,"-") -> 19318 | D32: Költségvetési többlet: | E32: =IF(C17-E17>0,C17-E17,"-") -> -
A33: 28. | B33: Tárgyévi hiány: | C33: =IF(C17+C30-E26<0,E26-(C17+C30),"-") -> - | D33: Tárgyévi többlet: | E33: =IF(C19+C30-E31>0,C19+C30-E31,"-") -> -

Sheet ELLENŐRZÉS-1.sz.2.a.sz.2.b.sz.
A1: Költségvetési rendelet űrlapjainak összefüggései: | E1: ELTÉRÉS
A4: =+ÖSSZEFÜGGÉSEK!A5 -> 2015. évi előirányzat BEVÉTELEK
A6: 1.1. sz. melléklet Bevételek táblázat C. oszlop 9 sora = | B6: =+'1.1.sz.mell. Önk. szumma'!C62 -> 895629 | C6: 2.1. számú melléklet C. oszlop 13. sor + 2.2. számú melléklet C. oszlop 12. sor | D6: =+'2.1.sz.mell '!C18+'2.2.sz.mell '!C17 -> 895629 | E6: =+B6-D6 -> 0
A7: 1.1. sz. melléklet Bevételek táblázat C. oszlop 17 sora = | B7: =+'1.1.sz.mell. Önk. szumma'!C86 -> 205502 | C7: 2.1. számú melléklet C. oszlop 24. sor + 2.2. számú melléklet C. oszlop 25. sor | D7: =+'2.1.sz.mell '!C29+'2.2.sz.mell '!C30 -> 205502 | E7: =+B7-D7 -> 0
A8: 1.1. sz. melléklet Bevételek táblázat C. oszlop 18 sora = | B8: =+'1.1.sz.mell. Önk. szumma'!C87 -> 1101131 | C8: 2.1. számú melléklet C. oszlop 25. sor + 2.2. számú melléklet C. oszlop 26. sor | D8: =+'2.1.sz.mell '!C30+'2.2.sz.mell '!C31 -> 1101131 | E8: =+B8-D8 -> 0
A11: =+ÖSSZEFÜGGÉSEK!A12 -> 2015. évi előirányzat KIADÁSOK
A13: 1.1. sz. melléklet Kiadások táblázat C. oszlop 3 sora = | B13: =+'1.1.sz.mell. Önk. szumma'!C128 -> 1101131 | C13: 2.1. számú melléklet E. oszlop 13. sor + 2.2. számú melléklet E. oszlop 12. sor | D13: =+'2.1.sz.mell '!E18+'2.2.sz.mell '!E17 -> 1101131 | E13: =+B13-D13 -> 0
A14: 1.1. sz. melléklet Kiadások táblázat C. oszlop 10 sora = | B14: =+'1.1.sz.mell. Önk. szumma'!C153 -> 0 | C14: 2.1. számú melléklet E. oszlop 24. sor + 2.2. számú melléklet E. oszlop 25. sor | D14: =+'2.1.sz.mell '!E29+'2.2.sz.mell '!E30 -> 0 | E14: =+B14-D14 -> 0
A15: 1.1. sz. melléklet Kiadások táblázat C. oszlop 11 sora = | B15: =+'1.1.sz.mell. Önk. szumma'!C154 -> 1101131 | C15: 2.1. számú melléklet E. oszlop 25. sor + 2.2. számú melléklet E. oszlop 26. sor | D15: =+'2.1.sz.mell '!E30+'2.2.sz.mell '!E31 -> 1101131 | E15: =+B15-D15 -> 0

Sheet 3.sz.mell.  
A1: ………….. Önkormányzat adósságot keletkeztető ügyletekből és kezességvállalásokból fennálló kötelezettségei
E2: Ezer forintban !
A3: Sor-szám | B3: MEGNEVEZÉS | C3: Évek | F3: Összesen (F=C+D+E)
C4: =+LEFT(ÖSSZEFÜGGÉSEK!A5,4)+1 -> 2016 | D4: =+C4+1 -> 2017 | E4: =+D4+1 -> 2018
A5: A | B5: B | C5: C | D5: D | E5: E | F5: F
A6: 1. | F6: =SUM(C6:E6) -> 0
A7: 2. | F7: =SUM(C7:E7) -> 0
A8: 3. | F8: =SUM(C8:E8) -> 0
A9: 4. | F9: =SUM(C9:E9) -> 0
A10: 5. | F10: =SUM(C10:E10) -> 0
A11: 6. | B11: ÖSSZES KÖTELEZETTSÉG | C11: =SUM(C6:C10) -> 0 | D11: =SUM(D6:D10) -> 0 | E11: =SUM(E6:E10) -> 0 | F11: =SUM(F6:F10) -> 0

Sheet 4.sz.mell.
A1: ………….. Önkormányzat saját bevételeinek részletezése az adósságot keletkeztető ügyletből származó tárgyévi fizetési kötelezettség megállapításához
C2: Ezer forintban !
A3: Sor-szám | B3: Bevételi jogcímek | C3: =+'1.1.sz.mell. Önk. szumma'!C3 -> 2015. évi előirányzat
A4: A | B4: B | C4: C
A5: 1. | B5: Helyi adóból és a települési adóból származó bevétel
A6: 2. | B6: Az önkormányzati vagyon és az önkormányzatot megillető vagyoni értékű jog értékesítéséből és hasznosításából származó bevétel
A7: 3. | B7: Osztalék, koncessziós díj és hozambevétel
A8: 4. | B8: Tárgyi eszköz és az immateriális jószág, részvény, részesedés, vállalat értékesítéséből vagy privatizációból származó bevétel
A9: 5. | B9: Bírság-, pótlék- és díjbevétel
A10: 6. | B10: Kezesség-, illetve garanciavállalással kapcsolatos megtérülés
A11: SAJÁT BEVÉTELEK ÖSSZESEN* | C11: =SUM(C5:C10) -> 0
A12: *Az adósságot keletkeztető ügyletekhez történő hozzájárulás részletes szabályairól szóló 353/2011. (XII.31.) Korm. Rendelet 2.§ (1) bekezdése alapján.

Sheet 5.sz.mell.
A1: =+CONCATENATE("………….. Önkormányzat ",CONCATENATE(LEFT(ÖSSZEFÜGGÉSEK!A5,4),". évi adósságot keletkeztető fejlesztési céljai")) -> ………….. Önkormányzat 2015. évi adósságot keletkeztető fejlesztési céljai
C2: Ezer forintban !
A3: Sor-szám | B3: Fejlesztési cél leírása | C3: Fejlesztés várható kiadása
A4: A | B4: B | C4: C
A5: 1.
A6: 2.
A7: 3.
A8: 4. | B8: ADÓSSÁGOT KELETKEZTETŐ ÜGYLETEK VÁRHATÓ EGYÜTTES ÖSSZEGE | C8: =SUM(C5:C7) -> 0

Sheet 1.2.5.sz.mell. Óvoda össz.
B1: B E V É T E L E K
F2: Ezer forintban
A3: Sor- szám | B3: Bevételi jogcím | C3: 2015. évi előirányzat | D3: Korábbi módosítás | E3: Jelenlegi módosítás | F3: 2015. évi módosított előirányzat
A4: A | B4: B | C4: C | D4: D | E4: E | F4: F
A5: 1. | B5: Önkormányzat működési támogatásai (1.1.+…+.1.6.) | C5: =+C6+C7+C8+C9+C10+C11 -> 0 | D5: =+D6+D7+D8+D9+D10+D11 -> 0 | E5: =+E6+E7+E8+E9+E10+E11 -> 0 | F5: =+F6+F7+F8+F9+F10+F11 -> 0
A6: 1.1. | B6: Helyi önkormányzatok működésének általános támogatása | F6: =+C6+D6+E6 -> 0
A7: 1.2. | B7: Önkormányzatok egyes köznevelési feladatainak támogatása | F7: =+C7+D7+E7 -> 0
A8: 1.3. | B8: Önkormányzatok szociális és gyermekjóléti feladatainak támogatása | F8: =+C8+D8+E8 -> 0
A9: 1.4. | B9: Önkormányzatok kulturális feladatainak támogatása | F9: =+C9+D9+E9 -> 0
A10: 1.5. | B10: Működési célú kvi támogatások és kiegészítő támogatások | F10: =+C10+D10+E10 -> 0
A11: 1.6. | B11: Elszámolásból származó bevételek | F11: =+C11+D11+E11 -> 0
A12: 2. | B12: Működési célú támogatások államháztartáson belülről (2.1.+…+.2.5.) | C12: =+C13+C14+C15+C16+C17 -> 0 | D12: =+D13+D14+D15+D16+D17 -> 0 | E12: =+E13+E14+E15+E16+E17 -> 0 | F12: =+F13+F14+F15+F16+F17 -> 0
A13: 2.1. | B13: Elvonások és befizetések bevételei | C13: 0 | F13: =+C13+D13+E13 -> 0
A14: 2.2. | B14: Működési célú garancia- és kezességvállalásból megtérülések | C14: 0 | F14: =+C14+D14+E14 -> 0
A15: 2.3. | B15: Működési célú visszatérítendő támogatások, kölcsönök visszatérülése | C15: 0 | F15: =+C15+D15+E15 -> 0
A16: 2.4. | B16: Működési célú visszatérítendő támogatások, kölcsönök igénybevétele | C16: 0 | F16: =+C16+D16+E16 -> 0
A17: 2.5. | B17: Egyéb működési célú támogatások bevételei | F17: =+C17+D17+E17 -> 0
A18: 2.6. | B18: 2.5.-ből EU-s támogatás | C18: 0 | F18: =+C18+D18+E18 -> 0
A19: 3. | B19: Felhalmozási célú támogatások államháztartáson belülről (3.1.+…+3.5.) | C19: =+C20+C21+C22+C23+C24 -> 0 | D19: =+D20+D21+D22+D23+D24 -> 0 | E19: =+E20+E21+E22+E23+E24 -> 0 | F19: =+F20+F21+F22+F23+F24 -> 0
A20: 3.1. | B20: Felhalmozási célú önkormányzati támogatások | C20: 0 | F20: =+C20+D20+E20 -> 0
A21: 3.2. | B21: Felhalmozási célú garancia- és kezességvállalásból megtérülések | C21: 0 | F21: =+C21+D21+E21 -> 0
A22: 3.3. | B22: Felhalmozási célú visszatérítendő támogatások, kölcsönök visszatérülése | C22: 0 | F22: =+C22+D22+E22 -> 0
A23: 3.4. | B23: Felhalmozási célú visszatérítendő támogatások, kölcsönök igénybevétele | C23: 0 | F23: =+C23+D23+E23 -> 0
A24: 3.5. | B24: Egyéb felhalmozási célú támogatások bevételei | C24: 0 | F24: =+C24+D24+E24 -> 0
A25: 3.6. | B25: 3.5.-ből EU-s támogatás | C25: 0 | F25: =+C25+D25+E25 -> 0
A26: 4. | B26: Közhatalmi bevételek (4.1.+4.2.+4.3.+4.4.) | C26: =+C27+C31+C32+C33 -> 0 | D26: =+D27+D31+D32+D33 -> 0 | E26: =+E27+E31+E32+E33 -> 0 | F26: =+F27+F31+F32+F33 -> 0
A27: 4.1. | B27: Helyi adók (4.1.1.+...+4.1.3.) | C27: =SUM(C28:C30) -> 0 | D27: =SUM(D28:D30) -> 0 | E27: =SUM(E28:E30) -> 0 | F27: =+C27+D27+E27 -> 0
A28: 4.1.1. | B28: - Vagyoni típusú adók | D28: 0 | E28: 0 | F28: =+C28+D28+E28 -> 0
A29: 4.1.2. | B29: - Termékek és szolgáltatások adói | D29: 0 | E29: 0 | F29: =+C29+D29+E29 -> 0
A30: 4.1.3. | B30: - Értékesítési és forgalmi adók (iparűzési adó) | D30: 0 | E30: 0 | F30: =+C30+D30+E30 -> 0
A31: 4.2. | B31: Gépjárműadó | D31: 0 | E31: 0 | F31: =+C31+D31+E31 -> 0
A32: 4.3. | B32: Egyéb áruhasználati és szolgáltatási adók | D32: 0 | E32: 0 | F32: =+C32+D32+E32 -> 0
A33: 4.4. | B33: Egyéb közhatalmi bevételek | D33: 0 | E33: 0 | F33: =+C33+D33+E33 -> 0
A34: 5. | B34: Működési bevételek (5.1.+…+ 5.11.) | C34: =SUM(C35:C45) -> 5500 | D34: =SUM(D35:D45) -> -300 | E34: =SUM(E35:E45) -> 0 | F34: =SUM(F35:F45) -> 5200
A35: 5.1. | B35: Készletértékesítés ellenértéke | D35: 0 | E35: 0 | F35: =+C35+D35+E35 -> 0
A36: 5.2. | B36: Szolgáltatások ellenértéke | C36: 5500 | D36: -300 | E36: 0 | F36: =+C36+D36+E36 -> 5200
A37: 5.3. | B37: Közvetített szolgáltatások értéke | C37: 0 | D37: 0 | E37: 0 | F37: =+C37+D37+E37 -> 0
A38: 5.4. | B38: Tulajdonosi bevételek | C38: 0 | D38: 0 | E38: 0 | F38: =+C38+D38+E38 -> 0
A39: 5.5. | B39: Ellátási díjak | C39: 0 | D39: 0 | E39: 0 | F39: =+C39+D39+E39 -> 0
A40: 5.6. | B40: Kiszámlázott általános forgalmi adó | C40: 0 | D40: 0 | E40: 0 | F40: =+C40+D40+E40 -> 0
A41: 5.7. | B41: Általános forgalmi adó visszatérítése | D41: 0 | E41: 0 | F41: =+C41+D41+E41 -> 0
A42: 5.8. | B42: Kamatbevételek | D42: 0 | E42: 0 | F42: =+C42+D42+E42 -> 0
A43: 5.9. | B43: Egyéb pénzügyi műveletek bevételei | D43: 0 | E43: 0 | F43: =+C43+D43+E43 -> 0
A44: 5.10. | B44: Biztosító által fizetett kártérítés | D44: 0 | E44: 0 | F44: =+C44+D44+E44 -> 0
A45: 5.11. | B45: Egyéb működési bevételek | D45: 0 | E45: 0 | F45: =+C45+D45+E45 -> 0
A46: 6. | B46: Felhalmozási bevételek (6.1.+…+6.5.) | C46: =SUM(C47:C51) -> 0 | D46: =SUM(D47:D51) -> 0 | E46: =SUM(E47:E51) -> 0 | F46: =SUM(F47:F51) -> 0
A47: 6.1. | B47: Immateriális javak értékesítése | C47: 0 | D47: 0 | E47: 0 | F47: =+C47+D47+E47 -> 0
A48: 6.2. | B48: Ingatlanok értékesítése | C48: 0 | D48: 0 | E48: 0 | F48: =+C48+D48+E48 -> 0
A49: 6.3. | B49: Egyéb tárgyi eszközök értékesítése | C49: 0 | D49: 0 | E49: 0 | F49: =+C49+D49+E49 -> 0
A50: 6.4. | B50: Részesedések értékesítése | C50: 0 | D50: 0 | E50: 0 | F50: =+C50+D50+E50 -> 0
A51: 6.5. | B51: Részesedések megszűnéséhez kapcsolódó bevételek | C51: 0 | D51: 0 | E51: 0 | F51: =+C51+D51+E51 -> 0
A52: 7. | B52: Működési célú átvett pénzeszközök (7.1. + … + 7.3.) | C52: =SUM(C53:C55) -> 0 | D52: =SUM(D53:D55) -> 0 | E52: =SUM(E53:E55) -> 0 | F52: =SUM(F53:F55) -> 0
A53: 7.1. | B53: Működési célú garancia- és kezességvállalásból megtérülések ÁH-n kívülről | C53: 0 | D53: 0 | E53: 0 | F53: =+C53+D53+E53 -> 0
A54: 7.2. | B54: Működési célú visszatérítendő támogatások, kölcsönök visszatér. ÁH-n kívülről | C54: 0 | D54: 0 | E54: 0 | F54: =+C54+D54+E54 -> 0
A55: 7.3. | B55: Egyéb működési célú átvett pénzeszköz | D55: 0 | E55: 0 | F55: =+C55+D55+E55 -> 0
A56: 7.4. | B56: 7.3.-ból EU-s támogatás (közvetlen) | D56: 0 | E56: 0 | F56: =+C56+D56+E56 -> 0
A57: 8. | B57: Felhalmozási célú átvett pénzeszközök (8.1.+8.2.+8.3.) | C57: =SUM(C58:C60) -> 0 | D57: =SUM(D58:D60) -> 0 | E57: =SUM(E58:E60) -> 0 | F57: =SUM(F58:F60) -> 0
A58: 8.1. | B58: Felhalm. célú garancia- és kezességvállalásból megtérülések ÁH-n kívülről | C58: 0 | D58: 0 | E58: 0 | F58: =+C58+D58+E58 -> 0
A59: 8.2. | B59: Felhalm. célú visszatérítendő támogatások, kölcsönök visszatér. ÁH-n kívülről | C59: 0 | D59: 0 | E59: 0 | F59: =+C59+D59+E59 -> 0
A60: 8.3. | B60: Egyéb felhalmozási célú átvett pénzeszköz | C60: 0 | D60: 0 | E60: 0 | F60: =+C60+D60+E60 -> 0
A61: 8.4. | B61: 8.3.-ból EU-s támogatás (közvetlen) | C61: 0 | D61: 0 | E61: 0 | F61: =+C61+D61+E61 -> 0
A62: 9. | B62: KÖLTSÉGVETÉSI BEVÉTELEK ÖSSZESEN: (1+…+8) | C62: =+C5+C12+C19+C26+C34+C46+C52+C57 -> 5500 | D62: =+D5+D12+D19+D26+D34+D46+D52+D57 -> -300 | E62: =+E5+E12+E19+E26+E34+E46+E52+E57 -> 0 | F62: =+F5+F12+F19+F26+F34+F46+F52+F57 -> 5200
A63: 10. | B63: Hitel-, kölcsönfelvétel államháztartáson kívülről (10.1.+10.3.) | C63: =SUM(C64:C66) -> 0 | D63: =SUM(D64:D66) -> 0 | E63: =SUM(E64:E66) -> 0 | F63: =SUM(F64:F66) -> 0
A64: 10.1. | B64: Hosszú lejáratú hitelek, kölcsönök felvétele | C64: 0 | D64: 0 | E64: 0 | F64: =+C64+D64+E64 -> 0
A65: 10.2. | B65: Likviditási célú hitelek, kölcsönök felvétele pénzügyi vállalkozástól | C65: 0 | D65: 0 | E65: 0 | F65: =+C65+D65+E65 -> 0
A66: 10.3. | B66: Rövid lejáratú hitelek, kölcsönök felvétele | C66: 0 | D66: 0 | E66: 0 | F66: =+C66+D66+E66 -> 0
A67: 11. | B67: Belföldi értékpapírok bevételei (11.1. +…+ 11.4.) | C67: =SUM(C68:C71) -> 0 | D67: =SUM(D68:D71) -> 0 | E67: =SUM(E68:E71) -> 0 | F67: =SUM(F68:F71) -> 0
A68: 11.1. | B68: Forgatási célú belföldi értékpapírok beváltása, értékesítése | C68: 0 | D68: 0 | E68: 0 | F68: =+C68+D68+E68 -> 0
A69: 11.2. | B69: Forgatási célú belföldi értékpapírok kibocsátása | C69: 0 | D69: 0 | E69: 0 | F69: =+C69+D69+E69 -> 0
A70: 11.3. | B70: Befektetési célú belföldi értékpapírok beváltása, értékesítése | C70: 0 | D70: 0 | E70: 0 | F70: =+C70+D70+E70 -> 0
A71: 11.4. | B71: Befektetési célú belföldi értékpapírok kibocsátása | C71: 0 | D71: 0 | E71: 0 | F71: =+C71+D71+E71 -> 0
A72: 12. | B72: Maradvány igénybevétele (12.1. + 12.2.) | C72: =SUM(C73:C74) -> 2959 | D72: =SUM(D73:D74) -> 0 | E72: =SUM(E73:E74) -> 2393 | F72: =SUM(F73:F74) -> 5352
A73: 12.1. | B73: Előző év költségvetési maradványának igénybevétele | C73: 2959 | D73: 0 | E73: 2393 | F73: =+C73+D73+E73 -> 5352
A74: 12.2. | B74: Előző év vállalkozási maradványának igénybevétele | C74: 0 | D74: 0 | E74: 0 | F74: =+C74+D74+E74 -> 0
A75: 13. | B75: Belföldi finanszírozás bevételei (13.1. + … + 13.3.) | C75: =SUM(C76:C78) -> 83278 | D75: =SUM(D76:D78) -> -3617 | E75: =SUM(E76:E78) -> -2145 | F75: =SUM(F76:F78) -> 77516
A76: 13.1. | B76: Normatíva bevétel | C76: 52203 | D76: =117+193+117+127+120+2-2138+471 -> -991 | F76: =+C76+D76+E76 -> 51212
A77: 13.2. | B77: Önkormányzati támogatás Kenese | C77: 21316 | D77: 0 | E77: 0 | F77: =+C77+D77+E77 -> 21316
A78: 13.3. | B78: Önkormányzati támogatás más önkormányzat | C78: 9759 | D78: -2626 | E78: -2145 | F78: =+C78+D78+E78 -> 4988
A79: 14. | B79: Külföldi finanszírozás bevételei (14.1.+…14.4.) | C79: =SUM(C80:C83) -> 0 | D79: =SUM(D80:D83) -> 0 | E79: =SUM(E80:E83) -> 0 | F79: =SUM(F80:F83) -> 0
A80: 14.1. | B80: Forgatási célú külföldi értékpapírok beváltása, értékesítése | C80: 0 | D80: 0 | E80: 0 | F80: =+C80+D80+E80 -> 0
A81: 14.2. | B81: Befektetési célú külföldi értékpapírok beváltása, értékesítése | C81: 0 | D81: 0 | E81: 0 | F81: =+C81+D81+E81 -> 0
A82: 14.3. | B82: Külföldi értékpapírok kibocsátása | C82: 0 | D82: 0 | E82: 0 | F82: =+C82+D82+E82 -> 0
A83: 14.4. | B83: Külföldi hitelek, kölcsönök felvétele | C83: 0 | D83: 0 | E83: 0 | F83: =+C83+D83+E83 -> 0
A84: 15. | B84: Váltóbevételek | C84: 0 | D84: 0 | E84: 0 | F84: =+C84+D84+E84 -> 0
A85: 16. | B85: Adóssághoz nem kapcsolódó származékos ügyletek bevételei | F85: =+C85+D85+E85 -> 0
A86: 17. | B86: FINANSZÍROZÁSI BEVÉTELEK ÖSSZESEN: (10. + … +16.) | C86: =+C63+C67+C72+C75+C79+C85+C84 -> 86237 | D86: =+D63+D67+D72+D75+D79+D85+D84 -> -3617 | E86: =+E63+E67+E72+E75+E79+E85+E84 -> 248 | F86: =+F63+F67+F72+F75+F79+F85+F84 -> 82868
A87: 18. | B87: KÖLTSÉGVETÉSI ÉS FINANSZÍROZÁSI BEVÉTELEK ÖSSZESEN: (9+17) | C87: =+C62+C86 -> 91737 | D87: =+D62+D86 -> -3917 | E87: =+E62+E86 -> 248 | F87: =+F62+F86 -> 88068
B89: K I A D Á S O K
F90: Ezer forintban
A91: Sor- szám | B91: Kiadási jogcímek | C91: 2015. évi előirányzat | D91: Korábbi módosítás | E91: Jelenlegi módosítás | F91: 2015. évi módosított előirányzat
A92: A | B92: B | C92: C | D92: D | E92: E | F92: F
A93: 1. | B93: Működési költségvetés kiadásai (1.1+…+1.5.+1.18.) | C93: =C94+C95+C96+C97+C98+C111 -> 91610 | D93: =D94+D95+D96+D97+D98+D111 -> -3917 | E93: =E94+E95+E96+E97+E98+E111 -> 28 | F93: =F94+F95+F96+F97+F98+F111 -> 87721
A94: 1.1. | B94: Személyi juttatások | C94: 56777 | D94: =92+152+92+94+2-2498+92 -> -1974 | E94: 195 | F94: =+C94+D94+E94 -> 54998
A95: 1.2. | B95: Munkaadókat terhelő járulékok és szociális hozzájárulási adó | C95: 15389 | D95: =25+41+25+26-836+25 -> -694 | E95: 53 | F95: =+C95+D95+E95 -> 14748
A96: 1.3. | B96: Dologi kiadások | C96: 19444 | D96: =127-300-1430+354 -> -1249 | E96: -220 | F96: =+C96+D96+E96 -> 17975
A97: 1.4. | B97: Ellátottak pénzbeli juttatásai | D97: 0 | E97: 0 | F97: =+C97+D97+E97 -> 0
A98: 1.5 | B98: Egyéb működési célú kiadások | C98: =SUM(C100:C110) -> 0 | D98: =SUM(D100:D110) -> 0 | E98: =SUM(E100:E110) -> 0 | F98: =+C98+D98+E98 -> 0
A99: 1.6. | B99: - az 1.5-ből: - Előző évi elszámolásból származó befizetések | C99: 0 | D99: 0 | E99: 0 | F99: =+C99+D99+E99 -> 0
A100: 1.7. | B100: - Törvényi előíráson alapuló befizetések | C100: 0 | D100: 0 | E100: 0 | F100: =+C100+D100+E100 -> 0
A101: 1.8. | B101: - Elvonások és befizetések | C101: 0 | D101: 0 | E101: 0 | F101: =+C101+D101+E101 -> 0
...

Sheet 1.2.6.sz. mell. TSZSZI
B1: B E V É T E L E K
F2: Ezer forintban
A3: Sor- szám | B3: Bevételi jogcím | C3: 2015. évi előirányzat | D3: Korábbi módosítás | E3: Jelenlegi módosítás | F3: 2015. évi módosított előirányzat
A4: A | B4: B | C4: C | D4: D | E4: E | F4: F
A5: 1. | B5: Önkormányzat működési támogatásai (1.1.+…+.1.6.) | C5: =+C6+C7+C8+C9+C10+C11 -> 0 | D5: =+D6+D7+D8+D9+D10+D11 -> 0 | E5: =+E6+E7+E8+E9+E10+E11 -> 0 | F5: =+F6+F7+F8+F9+F10+F11 -> 0
A6: 1.1. | B6: Helyi önkormányzatok működésének általános támogatása | F6: =+C6+D6+E6 -> 0 | H6: =+[1]TSZSZI!$R180 -> 0
A7: 1.2. | B7: Önkormányzatok egyes köznevelési feladatainak támogatása | F7: =+C7+D7+E7 -> 0 | H7: =+[1]TSZSZI!$R181 -> 0
A8: 1.3. | B8: Önkormányzatok szociális és gyermekjóléti feladatainak támogatása | F8: =+C8+D8+E8 -> 0 | H8: =+[1]TSZSZI!$R182 -> 0
A9: 1.4. | B9: Önkormányzatok kulturális feladatainak támogatása | F9: =+C9+D9+E9 -> 0 | H9: =+[1]TSZSZI!$R183 -> 0
A10: 1.5. | B10: Működési célú kvi támogatások és kiegészítő támogatások | F10: =+C10+D10+E10 -> 0 | H10: =+[1]TSZSZI!$R184 -> 0
A11: 1.6. | B11: Elszámolásból származó bevételek | F11: =+C11+D11+E11 -> 0 | H11: =+[1]TSZSZI!$R185 -> 0
A12: 2. | B12: Működési célú támogatások államháztartáson belülről (2.1.+…+.2.5.) | C12: =+C13+C14+C15+C16+C17 -> 0 | D12: =+D13+D14+D15+D16+D17 -> 0 | E12: =+E13+E14+E15+E16+E17 -> 0 | F12: =+F13+F14+F15+F16+F17 -> 0
A13: 2.1. | B13: Elvonások és befizetések bevételei | C13: 0 | F13: =+C13+D13+E13 -> 0 | H13: =+[1]TSZSZI!$R187 -> 0
A14: 2.2. | B14: Működési célú garancia- és kezességvállalásból megtérülések | C14: 0 | F14: =+C14+D14+E14 -> 0 | H14: =+[1]TSZSZI!$R188 -> 0
A15: 2.3. | B15: Működési célú visszatérítendő támogatások, kölcsönök visszatérülése | C15: 0 | F15: =+C15+D15+E15 -> 0 | H15: =+[1]TSZSZI!$R189 -> 0
A16: 2.4. | B16: Működési célú visszatérítendő támogatások, kölcsönök igénybevétele | C16: 0 | F16: =+C16+D16+E16 -> 0 | H16: =+[1]TSZSZI!$R190 -> 0
A17: 2.5. | B17: Egyéb működési célú támogatások bevételei | F17: =+C17+D17+E17 -> 0 | H17: =+[1]TSZSZI!$R193 -> 0
A18: 2.6. | B18: 2.5.-ből EU-s támogatás | C18: 0 | F18: =+C18+D18+E18 -> 0 | H18: =+[1]TSZSZI!$R192 -> 0
A19: 3. | B19: Felhalmozási célú támogatások államháztartáson belülről (3.1.+…+3.5.) | C19: =+C20+C21+C22+C23+C24 -> 0 | D19: =+D20+D21+D22+D23+D24 -> 0 | E19: =+E20+E21+E22+E23+E24 -> 0 | F19: =+F20+F21+F22+F23+F24 -> 0
A20: 3.1. | B20: Felhalmozási célú önkormányzati támogatások | C20: 0 | F20: =+C20+D20+E20 -> 0 | H20: =+[1]TSZSZI!$R195 -> 0
A21: 3.2. | B21: Felhalmozási célú garancia- és kezességvállalásból megtérülések | C21: 0 | F21: =+C21+D21+E21 -> 0 | H21: =+[1]TSZSZI!$R196 -> 0
A22: 3.3. | B22: Felhalmozási célú visszatérítendő támogatások, kölcsönök visszatérülése | C22: 0 | F22: =+C22+D22+E22 -> 0 | H22: =+[1]TSZSZI!$R197 -> 0
A23: 3.4. | B23: Felhalmozási célú visszatérítendő támogatások, kölcsönök igénybevétele | C23: 0 | F23: =+C23+D23+E23 -> 0 | H23: =+[1]TSZSZI!$R198 -> 0
A24: 3.5. | B24: Egyéb felhalmozási célú támogatások bevételei | C24: 0 | F24: =+C24+D24+E24 -> 0 | H24: =+[1]TSZSZI!$R199 -> 0
A25: 3.6. | B25: 3.5.-ből EU-s támogatás | C25: 0 | F25: =+C25+D25+E25 -> 0 | H25: =+[1]TSZSZI!$R199 -> 0
A26: 4. | B26: Közhatalmi bevételek (4.1.+4.2.+4.3.+4.4.) | C26: =+C27+C31+C32+C33 -> 0 | D26: =+D27+D31+D32+D33 -> 0 | E26: =+E27+E31+E32+E33 -> 0 | F26: =+F27+F31+F32+F33 -> 0
A27: 4.1. | B27: Helyi adók (4.1.1.+...+4.1.3.) | C27: =SUM(C28:C30) -> 0 | D27: =SUM(D28:D30) -> 0 | E27: =SUM(E28:E30) -> 0 | F27: =+C27+D27+E27 -> 0
A28: 4.1.1. | B28: - Vagyoni típusú adók | D28: 0 | E28: 0 | F28: =+C28+D28+E28 -> 0 | H28: =+[1]TSZSZI!$R208 -> 0
A29: 4.1.2. | B29: - Termékek és szolgáltatások adói | D29: 0 | E29: 0 | F29: =+C29+D29+E29 -> 0 | H29: =+[1]TSZSZI!$R215 -> 0
A30: 4.1.3. | B30: - Értékesítési és forgalmi adók (iparűzési adó) | D30: 0 | E30: 0 | F30: =+C30+D30+E30 -> 0 | H30: =+[1]TSZSZI!$R209 -> 0
A31: 4.2. | B31: Gépjárműadó | D31: 0 | E31: 0 | F31: =+C31+D31+E31 -> 0 | H31: =+[1]TSZSZI!$R212 -> 0
A32: 4.3. | B32: Egyéb áruhasználati és szolgáltatási adók | D32: 0 | E32: 0 | F32: =+C32+D32+E32 -> 0 | H32: =+[1]TSZSZI!$R214 -> 0
A33: 4.4. | B33: Egyéb közhatalmi bevételek | D33: 0 | E33: 0 | F33: =+C33+D33+E33 -> 0 | H33: =+[1]TSZSZI!$R223 -> 0
A34: 5. | B34: Működési bevételek (5.1.+…+ 5.11.) | C34: =SUM(C35:C45) -> 14186 | D34: =SUM(D35:D45) -> -242 | E34: =SUM(E35:E45) -> 1814 | F34: =SUM(F35:F45) -> 15758
A35: 5.1. | B35: Készletértékesítés ellenértéke | D35: 0 | E35: 0 | F35: =+C35+D35+E35 -> 0 | H35: =+[1]TSZSZI!$R225 -> 0
A36: 5.2. | B36: Szolgáltatások ellenértéke | C36: 0 | D36: 0 | E36: 1431 | F36: =+C36+D36+E36 -> 1431 | H36: =+[1]TSZSZI!$R229 -> 0
A37: 5.3. | B37: Közvetített szolgáltatások értéke | C37: 0 | D37: 0 | E37: 141 | F37: =+C37+D37+E37 -> 141 | H37: =+[1]TSZSZI!$R232 -> 0
A38: 5.4. | B38: Tulajdonosi bevételek | C38: 0 | D38: 0 | E38: 0 | F38: =+C38+D38+E38 -> 0 | H38: =+[1]TSZSZI!$R237 -> 0
A39: 5.5. | B39: Ellátási díjak | C39: 14186 | D39: -242 | E39: 242 | F39: =+C39+D39+E39 -> 14186 | H39: =+[1]TSZSZI!$R240 -> 14186
A40: 5.6. | B40: Kiszámlázott általános forgalmi adó | C40: 0 | D40: 0 | E40: 0 | F40: =+C40+D40+E40 -> 0 | H40: =+[1]TSZSZI!$R241 -> 0
A41: 5.7. | B41: Általános forgalmi adó visszatérítése | D41: 0 | E41: 0 | F41: =+C41+D41+E41 -> 0 | H41: =+[1]TSZSZI!$R242 -> 0
A42: 5.8. | B42: Kamatbevételek | D42: 0 | E42: 0 | F42: =+C42+D42+E42 -> 0 | H42: =+[1]TSZSZI!$R243 -> 0
A43: 5.9. | B43: Egyéb pénzügyi műveletek bevételei | D43: 0 | E43: 0 | F43: =+C43+D43+E43 -> 0 | H43: =+[1]TSZSZI!$R246 -> 0
A44: 5.10. | B44: Biztosító által fizetett kártérítés | D44: 0 | E44: 0 | F44: =+C44+D44+E44 -> 0 | H44: =+[1]TSZSZI!$R248 -> 0
A45: 5.11. | B45: Egyéb működési bevételek | D45: 0 | E45: 0 | F45: =+C45+D45+E45 -> 0 | H45: =+[1]TSZSZI!$R250-[2]Önkorm.!$R$248 -> 0
A46: 6. | B46: Felhalmozási bevételek (6.1.+…+6.5.) | C46: =SUM(C47:C51) -> 0 | D46: =SUM(D47:D51) -> 0 | E46: =SUM(E47:E51) -> 0 | F46: =SUM(F47:F51) -> 0
A47: 6.1. | B47: Immateriális javak értékesítése | C47: 0 | D47: 0 | E47: 0 | F47: =+C47+D47+E47 -> 0
A48: 6.2. | B48: Ingatlanok értékesítése | C48: 0 | D48: 0 | E48: 0 | F48: =+C48+D48+E48 -> 0
A49: 6.3. | B49: Egyéb tárgyi eszközök értékesítése | C49: 0 | D49: 0 | E49: 0 | F49: =+C49+D49+E49 -> 0
A50: 6.4. | B50: Részesedések értékesítése | C50: 0 | D50: 0 | E50: 0 | F50: =+C50+D50+E50 -> 0
A51: 6.5. | B51: Részesedések megszűnéséhez kapcsolódó bevételek | C51: 0 | D51: 0 | E51: 0 | F51: =+C51+D51+E51 -> 0
A52: 7. | B52: Működési célú átvett pénzeszközök (7.1. + … + 7.3.) | C52: =SUM(C53:C55) -> 0 | D52: =SUM(D53:D55) -> 0 | E52: =SUM(E53:E55) -> 0 | F52: =SUM(F53:F55) -> 0
A53: 7.1. | B53: Működési célú garancia- és kezességvállalásból megtérülések ÁH-n kívülről | C53: 0 | D53: 0 | E53: 0 | F53: =+C53+D53+E53 -> 0 | H53: =+[1]TSZSZI!$R253 -> 0
A54: 7.2. | B54: Működési célú visszatérítendő támogatások, kölcsönök visszatér. ÁH-n kívülről | C54: 0 | D54: 0 | E54: 0 | F54: =+C54+D54+E54 -> 0 | H54: =+[1]TSZSZI!$R256 -> 0
A55: 7.3. | B55: Egyéb működési célú átvett pénzeszköz | D55: 0 | E55: 0 | F55: =+C55+D55+E55 -> 0 | H55: =+[1]TSZSZI!$R262 -> 0
A56: 7.4. | B56: 7.3.-ból EU-s támogatás (közvetlen) | D56: 0 | E56: 0 | F56: =+C56+D56+E56 -> 0 | H56: =+[1]TSZSZI!$R261 -> 0
A57: 8. | B57: Felhalmozási célú átvett pénzeszközök (8.1.+8.2.+8.3.) | C57: =SUM(C58:C60) -> 0 | D57: =SUM(D58:D60) -> 0 | E57: =SUM(E58:E60) -> 0 | F57: =SUM(F58:F60) -> 0
A58: 8.1. | B58: Felhalm. célú garancia- és kezességvállalásból megtérülések ÁH-n kívülről | C58: 0 | D58: 0 | E58: 0 | F58: =+C58+D58+E58 -> 0 | H58: =+[1]TSZSZI!$R264 -> 0
A59: 8.2. | B59: Felhalm. célú visszatérítendő támogatások, kölcsönök visszatér. ÁH-n kívülről | C59: 0 | D59: 0 | E59: 0 | F59: =+C59+D59+E59 -> 0 | H59: =+[1]TSZSZI!$R266 -> 0
A60: 8.3. | B60: Egyéb felhalmozási célú átvett pénzeszköz | C60: 0 | D60: 0 | E60: 0 | F60: =+C60+D60+E60 -> 0 | H60: =+[1]TSZSZI!$R269 -> 0
A61: 8.4. | B61: 8.3.-ból EU-s támogatás (közvetlen) | C61: 0 | D61: 0 | E61: 0 | F61: =+C61+D61+E61 -> 0 | H61: =+[1]TSZSZI!$R268 -> 0
A62: 9. | B62: KÖLTSÉGVETÉSI BEVÉTELEK ÖSSZESEN: (1+…+8) | C62: =+C5+C12+C19+C26+C34+C46+C52+C57 -> 14186 | D62: =+D5+D12+D19+D26+D34+D46+D52+D57 -> -242 | E62: =+E5+E12+E19+E26+E34+E46+E52+E57 -> 1814 | F62: =+F5+F12+F19+F26+F34+F46+F52+F57 -> 15758
A63: 10. | B63: Hitel-, kölcsönfelvétel államháztartáson kívülről (10.1.+10.3.) | C63: =SUM(C64:C66) -> 0 | D63: =SUM(D64:D66) -> 0 | E63: =SUM(E64:E66) -> 0 | F63: =SUM(F64:F66) -> 0
A64: 10.1. | B64: Hosszú lejáratú hitelek, kölcsönök felvétele | C64: 0 | D64: 0 | E64: 0 | F64: =+C64+D64+E64 -> 0
A65: 10.2. | B65: Likviditási célú hitelek, kölcsönök felvétele pénzügyi vállalkozástól | C65: 0 | D65: 0 | E65: 0 | F65: =+C65+D65+E65 -> 0
A66: 10.3. | B66: Rövid lejáratú hitelek, kölcsönök felvétele | C66: 0 | D66: 0 | E66: 0 | F66: =+C66+D66+E66 -> 0 | H66: =+[1]TSZSZI!$R272 -> 0
A67: 11. | B67: Belföldi értékpapírok bevételei (11.1. +…+ 11.4.) | C67: =SUM(C68:C71) -> 0 | D67: =SUM(D68:D71) -> 0 | E67: =SUM(E68:E71) -> 0 | F67: =SUM(F68:F71) -> 0
A68: 11.1. | B68: Forgatási célú belföldi értékpapírok beváltása, értékesítése | C68: 0 | D68: 0 | E68: 0 | F68: =+C68+D68+E68 -> 0
A69: 11.2. | B69: Forgatási célú belföldi értékpapírok kibocsátása | C69: 0 | D69: 0 | E69: 0 | F69: =+C69+D69+E69 -> 0
A70: 11.3. | B70: Befektetési célú belföldi értékpapírok beváltása, értékesítése | C70: 0 | D70: 0 | E70: 0 | F70: =+C70+D70+E70 -> 0
A71: 11.4. | B71: Befektetési célú belföldi értékpapírok kibocsátása | C71: 0 | D71: 0 | E71: 0 | F71: =+C71+D71+E71 -> 0 | H71: =+[1]TSZSZI!$R273 -> 0
A72: 12. | B72: Maradvány igénybevétele (12.1. + 12.2.) | C72: =SUM(C73:C74) -> 67 | D72: =SUM(D73:D74) -> 0 | E72: =SUM(E73:E74) -> 1173 | F72: =SUM(F73:F74) -> 1240
A73: 12.1. | B73: Előző év költségvetési maradványának igénybevétele | C73: 67 | D73: 0 | E73: 1173 | F73: =+C73+D73+E73 -> 1240 | H73: =+[1]TSZSZI!$R274 -> 67
A74: 12.2. | B74: Előző év vállalkozási maradványának igénybevétele | C74: 0 | D74: 0 | E74: 0 | F74: =+C74+D74+E74 -> 0
A75: 13. | B75: Belföldi finanszírozás bevételei (13.1. + … + 13.3.) | C75: =SUM(C76:C78) -> 36065 | D75: =SUM(D76:D78) -> 699 | E75: =SUM(E76:E78) -> 1822 | F75: =SUM(F76:F78) -> 38586
A76: 13.1. | B76: Normatíva bevétel | C76: 25862 | D76: =128+217+145+430+4+2363-2560 -> 727 | E76: 1822 | F76: =+C76+D76+E76 -> 28411 | H76: =+[1]TSZSZI!$R275 -> 25862
A77: 13.2. | B77: Önkormányzati támogatás Kenese | C77: 7450 | D77: 135 | F77: =+C77+D77+E77 -> 7585 | H77: =+'[1]TSZSZI megoszt.'!$G$117 -> 7450
A78: 13.3. | B78: Önkormányzati támogatás más önkormányzat | C78: 2753 | D78: =0-163 -> -163 | F78: =+C78+D78+E78 -> 2590 | H78: =+'[1]TSZSZI megoszt.'!$G$116 -> 2753
A79: 14. | B79: Külföldi finanszírozás bevételei (14.1.+…14.4.) | C79: =SUM(C80:C83) -> 0 | D79: =SUM(D80:D83) -> 0 | E79: =SUM(E80:E83) -> 0 | F79: =SUM(F80:F83) -> 0
A80: 14.1. | B80: Forgatási célú külföldi értékpapírok beváltása, értékesítése | C80: 0 | D80: 0 | E80: 0 | F80: =+C80+D80+E80 -> 0
A81: 14.2. | B81: Befektetési célú külföldi értékpapírok beváltása, értékesítése | C81: 0 | D81: 0 | E81: 0 | F81: =+C81+D81+E81 -> 0
A82: 14.3. | B82: Külföldi értékpapírok kibocsátása | C82: 0 | D82: 0 | E82: 0 | F82: =+C82+D82+E82 -> 0
A83: 14.4. | B83: Külföldi hitelek, kölcsönök felvétele | C83: 0 | D83: 0 | E83: 0 | F83: =+C83+D83+E83 -> 0
A84: 15. | B84: Váltóbevételek | C84: 0 | D84: 0 | E84: 0 | F84: =+C84+D84+E84 -> 0
A85: 16. | B85: Adóssághoz nem kapcsolódó származékos ügyletek bevételei | F85: =+C85+D85+E85 -> 0
A86: 17. | B86: FINANSZÍROZÁSI BEVÉTELEK ÖSSZESEN: (10. + … +16.) | C86: =+C63+C67+C72+C75+C79+C85+C84 -> 36132 | D86: =+D63+D67+D72+D75+D79+D85+D84 -> 699 | E86: =+E63+E67+E72+E75+E79+E85+E84 -> 2995 | F86: =+F63+F67+F72+F75+F79+F85+F84 -> 39826
A87: 18. | B87: KÖLTSÉGVETÉSI ÉS FINANSZÍROZÁSI BEVÉTELEK ÖSSZESEN: (9+17) | C87: =+C62+C86 -> 50318 | D87: =+D62+D86 -> 457 | E87: =+E62+E86 -> 4809 | F87: =+F62+F86 -> 55584
B89: K I A D Á S O K
F90: Ezer forintban
A91: Sor- szám | B91: Kiadási jogcímek | C91: 2015. évi előirányzat | D91: Korábbi módosítás | E91: Jelenlegi módosítás | F91: 2015. évi módosított előirányzat
A92: A | B92: B | C92: C | D92: D | E92: E | F92: F
A93: 1. | B93: Működési költségvetés kiadásai (1.1+…+1.5.+1.18.) | C93: =C94+C95+C96+C97+C98+C111 -> 50318 | D93: =D94+D95+D96+D97+D98+D111 -> 342 | E93: =E94+E95+E96+E97+E98+E111 -> 4809 | F93: =F94+F95+F96+F97+F98+F111 -> 55469
A94: 1.1. | B94: Személyi juttatások | C94: 26248 | D94: =101+171+114+339+3+1861-1123 -> 1466 | E94: 1395 | F94: =+C94+D94+E94 -> 29109 | H94: =+[1]TSZSZI!$R35 -> 26248
A95: 1.2. | B95: Munkaadókat terhelő járulékok és szociális hozzájárulási adó | C95: 7179 | D95: =27+46+31+91+1+502-312 -> 386 | E95: 429 | F95: =+C95+D95+E95 -> 7994 | H95: =+[1]TSZSZI!$R41 -> 7179
A96: 1.3. | B96: Dologi kiadások | C96: 16891 | D96: =55-1645 -> -1590 | E96: 2985 | F96: =+C96+D96+E96 -> 18286 | H96: =+[1]TSZSZI!$R107 -> 16891
A97: 1.4. | B97: Ellátottak pénzbeli juttatásai | D97: 0 | F97: =+C97+D97+E97 -> 0 | H97: =+[1]TSZSZI!$R127 -> 0
A98: 1.5 | B98: Egyéb működési célú kiadások | C98: =SUM(C100:C110) -> 0 | D98: =SUM(D100:D110) -> 80 | E98: =SUM(E100:E110) -> 0 | F98: =+C98+D98+E98 -> 80 | H98: =+[1]TSZSZI!$R128 -> 0
A99: 1.6. | B99: - az 1.5-ből: - Előző évi elszámolásból származó befizetések | C99: 0 | D99: 0 | E99: 0 | F99: =+C99+D99+E99 -> 0
A100: 1.7. | B100: - Törvényi előíráson alapuló befizetések | C100: 0 | D100: 0 | E100: 0 | F100: =+C100+D100+E100 -> 0
A101: 1.8. | B101: - Elvonások és befizetések | C101: 0 | D101: 0 | E101: 0 | F101: =+C101+D101+E101 -> 0 | H101: =+[1]TSZSZI!$R129 -> 0
...

Sheet 1.2.8.sz.mell. Okt.társ.
B1: B E V É T E L E K
F2: Ezer forintban
A3: Sor- szám | B3: Bevételi jogcím | C3: 2015. évi előirányzat | D3: Korábbi módosítás | E3: Jelenlegi módosítás | F3: 2015. évi módosított előirányzat
A4: A | B4: B | C4: C | D4: D | E4: E | F4: F
A5: 1. | B5: Önkormányzat működési támogatásai (1.1.+…+.1.6.) | C5: =+C6+C7+C8+C9+C10+C11 -> 0 | D5: =+D6+D7+D8+D9+D10+D11 -> 0 | E5: =+E6+E7+E8+E9+E10+E11 -> 0 | F5: =+F6+F7+F8+F9+F10+F11 -> 0
A6: 1.1. | B6: Helyi önkormányzatok működésének általános támogatása | F6: =+C6+D6+E6 -> 0 | H6: =+[1]TSZSZI!$R180 -> 0
A7: 1.2. | B7: Önkormányzatok egyes köznevelési feladatainak támogatása | F7: =+C7+D7+E7 -> 0 | H7: =+[1]TSZSZI!$R181 -> 0
A8: 1.3. | B8: Önkormányzatok szociális és gyermekjóléti feladatainak támogatása | F8: =+C8+D8+E8 -> 0 | H8: =+[1]TSZSZI!$R182 -> 0
A9: 1.4. | B9: Önkormányzatok kulturális feladatainak támogatása | F9: =+C9+D9+E9 -> 0 | H9: =+[1]TSZSZI!$R183 -> 0
A10: 1.5. | B10: Működési célú kvi támogatások és kiegészítő támogatások | F10: =+C10+D10+E10 -> 0 | H10: =+[1]TSZSZI!$R184 -> 0
A11: 1.6. | B11: Elszámolásból származó bevételek | F11: =+C11+D11+E11 -> 0 | H11: =+[1]TSZSZI!$R185 -> 0
A12: 2. | B12: Működési célú támogatások államháztartáson belülről (2.1.+…+.2.5.) | C12: =+C13+C14+C15+C16+C17 -> 83528 | D12: =+D13+D14+D15+D16+D17 -> -3617 | E12: =+E13+E14+E15+E16+E17 -> -2145 | F12: =+F13+F14+F15+F16+F17 -> 77766
A13: 2.1. | B13: Elvonások és befizetések bevételei | C13: 0 | F13: =+C13+D13+E13 -> 0 | H13: =+[1]TSZSZI!$R187 -> 0
A14: 2.2. | B14: Működési célú garancia- és kezességvállalásból megtérülések | C14: 0 | F14: =+C14+D14+E14 -> 0 | H14: =+[1]TSZSZI!$R188 -> 0
A15: 2.3. | B15: Működési célú visszatérítendő támogatások, kölcsönök visszatérülése | C15: 0 | F15: =+C15+D15+E15 -> 0 | H15: =+[1]TSZSZI!$R189 -> 0
A16: 2.4. | B16: Működési célú visszatérítendő támogatások, kölcsönök igénybevétele | C16: 0 | F16: =+C16+D16+E16 -> 0 | H16: =+[1]TSZSZI!$R190 -> 0
A17: 2.5. | B17: Egyéb működési célú támogatások bevételei | C17: 83528 | D17: =117+193+117+127+120+2-4764+471 -> -3617 | E17: -2145 | F17: =+C17+D17+E17 -> 77766 | H17: =+[1]TSZSZI!$R193 -> 0
A18: 2.6. | B18: 2.5.-ből EU-s támogatás | C18: 0 | F18: =+C18+D18+E18 -> 0 | H18: =+[1]TSZSZI!$R192 -> 0
A19: 3. | B19: Felhalmozási célú támogatások államháztartáson belülről (3.1.+…+3.5.) | C19: =+C20+C21+C22+C23+C24 -> 0 | D19: =+D20+D21+D22+D23+D24 -> 0 | E19: =+E20+E21+E22+E23+E24 -> 0 | F19: =+F20+F21+F22+F23+F24 -> 0
A20: 3.1. | B20: Felhalmozási célú önkormányzati támogatások | C20: 0 | F20: =+C20+D20+E20 -> 0 | H20: =+[1]TSZSZI!$R195 -> 0
A21: 3.2. | B21: Felhalmozási célú garancia- és kezességvállalásból megtérülések | C21: 0 | F21: =+C21+D21+E21 -> 0 | H21: =+[1]TSZSZI!$R196 -> 0
A22: 3.3. | B22: Felhalmozási célú visszatérítendő támogatások, kölcsönök visszatérülése | C22: 0 | F22: =+C22+D22+E22 -> 0 | H22: =+[1]TSZSZI!$R197 -> 0
A23: 3.4. | B23: Felhalmozási célú visszatérítendő támogatások, kölcsönök igénybevétele | C23: 0 | F23: =+C23+D23+E23 -> 0 | H23: =+[1]TSZSZI!$R198 -> 0
A24: 3.5. | B24: Egyéb felhalmozási célú támogatások bevételei | C24: 0 | F24: =+C24+D24+E24 -> 0 | H24: =+[1]TSZSZI!$R199 -> 0
A25: 3.6. | B25: 3.5.-ből EU-s támogatás | C25: 0 | F25: =+C25+D25+E25 -> 0 | H25: =+[1]TSZSZI!$R199 -> 0
A26: 4. | B26: Közhatalmi bevételek (4.1.+4.2.+4.3.+4.4.) | C26: =+C27+C31+C32+C33 -> 0 | D26: =+D27+D31+D32+D33 -> 0 | E26: =+E27+E31+E32+E33 -> 0 | F26: =+F27+F31+F32+F33 -> 0
A27: 4.1. | B27: Helyi adók (4.1.1.+...+4.1.3.) | C27: =SUM(C28:C30) -> 0 | D27: =SUM(D28:D30) -> 0 | E27: =SUM(E28:E30) -> 0 | F27: =+C27+D27+E27 -> 0
A28: 4.1.1. | B28: - Vagyoni típusú adók | D28: 0 | E28: 0 | F28: =+C28+D28+E28 -> 0 | H28: =+[1]TSZSZI!$R208 -> 0
A29: 4.1.2. | B29: - Termékek és szolgáltatások adói | D29: 0 | E29: 0 | F29: =+C29+D29+E29 -> 0 | H29: =+[1]TSZSZI!$R215 -> 0
A30: 4.1.3. | B30: - Értékesítési és forgalmi adók (iparűzési adó) | D30: 0 | E30: 0 | F30: =+C30+D30+E30 -> 0 | H30: =+[1]TSZSZI!$R209 -> 0
A31: 4.2. | B31: Gépjárműadó | D31: 0 | E31: 0 | F31: =+C31+D31+E31 -> 0 | H31: =+[1]TSZSZI!$R212 -> 0
A32: 4.3. | B32: Egyéb áruhasználati és szolgáltatási adók | D32: 0 | E32: 0 | F32: =+C32+D32+E32 -> 0 | H32: =+[1]TSZSZI!$R214 -> 0
A33: 4.4. | B33: Egyéb közhatalmi bevételek | D33: 0 | E33: 0 | F33: =+C33+D33+E33 -> 0 | H33: =+[1]TSZSZI!$R223 -> 0
A34: 5. | B34: Működési bevételek (5.1.+…+ 5.11.) | C34: =SUM(C35:C45) -> 0 | D34: =SUM(D35:D45) -> 0 | E34: =SUM(E35:E45) -> 0 | F34: =SUM(F35:F45) -> 0
A35: 5.1. | B35: Készletértékesítés ellenértéke | D35: 0 | E35: 0 | F35: =+C35+D35+E35 -> 0 | H35: =+[1]TSZSZI!$R225 -> 0
A36: 5.2. | B36: Szolgáltatások ellenértéke | C36: 0 | D36: 0 | E36: 0 | F36: =+C36+D36+E36 -> 0 | H36: =+[1]TSZSZI!$R229 -> 0
A37: 5.3. | B37: Közvetített szolgáltatások értéke | C37: 0 | D37: 0 | E37: 0 | F37: =+C37+D37+E37 -> 0 | H37: =+[1]TSZSZI!$R232 -> 0
A38: 5.4. | B38: Tulajdonosi bevételek | C38: 0 | D38: 0 | E38: 0 | F38: =+C38+D38+E38 -> 0 | H38: =+[1]TSZSZI!$R237 -> 0
A39: 5.5. | B39: Ellátási díjak | D39: 0 | E39: 0 | F39: =+C39+D39+E39 -> 0 | H39: =+[1]TSZSZI!$R240 -> 14186
A40: 5.6. | B40: Kiszámlázott általános forgalmi adó | C40: 0 | D40: 0 | E40: 0 | F40: =+C40+D40+E40 -> 0 | H40: =+[1]TSZSZI!$R241 -> 0
A41: 5.7. | B41: Általános forgalmi adó visszatérítése | D41: 0 | E41: 0 | F41: =+C41+D41+E41 -> 0 | H41: =+[1]TSZSZI!$R242 -> 0
A42: 5.8. | B42: Kamatbevételek | D42: 0 | E42: 0 | F42: =+C42+D42+E42 -> 0 | H42: =+[1]TSZSZI!$R243 -> 0
A43: 5.9. | B43: Egyéb pénzügyi műveletek bevételei | D43: 0 | E43: 0 | F43: =+C43+D43+E43 -> 0 | H43: =+[1]TSZSZI!$R246 -> 0
A44: 5.10. | B44: Biztosító által fizetett kártérítés | D44: 0 | E44: 0 | F44: =+C44+D44+E44 -> 0 | H44: =+[1]TSZSZI!$R248 -> 0
A45: 5.11. | B45: Egyéb működési bevételek | D45: 0 | E45: 0 | F45: =+C45+D45+E45 -> 0 | H45: =+[1]TSZSZI!$R250-[2]Önkorm.!$R$248 -> 0
A46: 6. | B46: Felhalmozási bevételek (6.1.+…+6.5.) | C46: =SUM(C47:C51) -> 0 | D46: =SUM(D47:D51) -> 0 | E46: =SUM(E47:E51) -> 0 | F46: =SUM(F47:F51) -> 0
A47: 6.1. | B47: Immateriális javak értékesítése | C47: 0 | D47: 0 | E47: 0 | F47: =+C47+D47+E47 -> 0
A48: 6.2. | B48: Ingatlanok értékesítése | C48: 0 | D48: 0 | E48: 0 | F48: =+C48+D48+E48 -> 0
A49: 6.3. | B49: Egyéb tárgyi eszközök értékesítése | C49: 0 | D49: 0 | E49: 0 | F49: =+C49+D49+E49 -> 0
A50: 6.4. | B50: Részesedések értékesítése | C50: 0 | D50: 0 | E50: 0 | F50: =+C50+D50+E50 -> 0
A51: 6.5. | B51: Részesedések megszűnéséhez kapcsolódó bevételek | C51: 0 | D51: 0 | E51: 0 | F51: =+C51+D51+E51 -> 0
A52: 7. | B52: Működési célú átvett pénzeszközök (7.1. + … + 7.3.) | C52: =SUM(C53:C55) -> 0 | D52: =SUM(D53:D55) -> 0 | E52: =SUM(E53:E55) -> 0 | F52: =SUM(F53:F55) -> 0
A53: 7.1. | B53: Működési célú garancia- és kezességvállalásból megtérülések ÁH-n kívülről | C53: 0 | D53: 0 | E53: 0 | F53: =+C53+D53+E53 -> 0 | H53: =+[1]TSZSZI!$R253 -> 0
A54: 7.2. | B54: Működési célú visszatérítendő támogatások, kölcsönök visszatér. ÁH-n kívülről | C54: 0 | D54: 0 | E54: 0 | F54: =+C54+D54+E54 -> 0 | H54: =+[1]TSZSZI!$R256 -> 0
A55: 7.3. | B55: Egyéb működési célú átvett pénzeszköz | D55: 0 | E55: 0 | F55: =+C55+D55+E55 -> 0 | H55: =+[1]TSZSZI!$R262 -> 0
A56: 7.4. | B56: 7.3.-ból EU-s támogatás (közvetlen) | D56: 0 | E56: 0 | F56: =+C56+D56+E56 -> 0 | H56: =+[1]TSZSZI!$R261 -> 0
A57: 8. | B57: Felhalmozási célú átvett pénzeszközök (8.1.+8.2.+8.3.) | C57: =SUM(C58:C60) -> 0 | D57: =SUM(D58:D60) -> 0 | E57: =SUM(E58:E60) -> 0 | F57: =SUM(F58:F60) -> 0
A58: 8.1. | B58: Felhalm. célú garancia- és kezességvállalásból megtérülések ÁH-n kívülről | C58: 0 | D58: 0 | E58: 0 | F58: =+C58+D58+E58 -> 0 | H58: =+[1]TSZSZI!$R264 -> 0
A59: 8.2. | B59: Felhalm. célú visszatérítendő támogatások, kölcsönök visszatér. ÁH-n kívülről | C59: 0 | D59: 0 | E59: 0 | F59: =+C59+D59+E59 -> 0 | H59: =+[1]TSZSZI!$R266 -> 0
A60: 8.3. | B60: Egyéb felhalmozási célú átvett pénzeszköz | C60: 0 | D60: 0 | E60: 0 | F60: =+C60+D60+E60 -> 0 | H60: =+[1]TSZSZI!$R269 -> 0
A61: 8.4. | B61: 8.3.-ból EU-s támogatás (közvetlen) | C61: 0 | D61: 0 | E61: 0 | F61: =+C61+D61+E61 -> 0 | H61: =+[1]TSZSZI!$R268 -> 0
A62: 9. | B62: KÖLTSÉGVETÉSI BEVÉTELEK ÖSSZESEN: (1+…+8) | C62: =+C5+C12+C19+C26+C34+C46+C52+C57 -> 83528 | D62: =+D5+D12+D19+D26+D34+D46+D52+D57 -> -3617 | E62: =+E5+E12+E19+E26+E34+E46+E52+E57 -> -2145 | F62: =+F5+F12+F19+F26+F34+F46+F52+F57 -> 77766
A63: 10. | B63: Hitel-, kölcsönfelvétel államháztartáson kívülről (10.1.+10.3.) | C63: =SUM(C64:C66) -> 0 | D63: =SUM(D64:D66) -> 0 | E63: =SUM(E64:E66) -> 0 | F63: =SUM(F64:F66) -> 0
A64: 10.1. | B64: Hosszú lejáratú hitelek, kölcsönök felvétele | C64: 0 | D64: 0 | E64: 0 | F64: =+C64+D64+E64 -> 0
A65: 10.2. | B65: Likviditási célú hitelek, kölcsönök felvétele pénzügyi vállalkozástól | C65: 0 | D65: 0 | E65: 0 | F65: =+C65+D65+E65 -> 0
A66: 10.3. | B66: Rövid lejáratú hitelek, kölcsönök felvétele | C66: 0 | D66: 0 | E66: 0 | F66: =+C66+D66+E66 -> 0 | H66: =+[1]TSZSZI!$R272 -> 0
A67: 11. | B67: Belföldi értékpapírok bevételei (11.1. +…+ 11.4.) | C67: =SUM(C68:C71) -> 0 | D67: =SUM(D68:D71) -> 0 | E67: =SUM(E68:E71) -> 0 | F67: =SUM(F68:F71) -> 0
A68: 11.1. | B68: Forgatási célú belföldi értékpapírok beváltása, értékesítése | C68: 0 | D68: 0 | E68: 0 | F68: =+C68+D68+E68 -> 0
A69: 11.2. | B69: Forgatási célú belföldi értékpapírok kibocsátása | C69: 0 | D69: 0 | E69: 0 | F69: =+C69+D69+E69 -> 0
A70: 11.3. | B70: Befektetési célú belföldi értékpapírok beváltása, értékesítése | C70: 0 | D70: 0 | E70: 0 | F70: =+C70+D70+E70 -> 0
A71: 11.4. | B71: Befektetési célú belföldi értékpapírok kibocsátása | C71: 0 | D71: 0 | E71: 0 | F71: =+C71+D71+E71 -> 0 | H71: =+[1]TSZSZI!$R273 -> 0
A72: 12. | B72: Maradvány igénybevétele (12.1. + 12.2.) | C72: =SUM(C73:C74) -> 0 | D72: =SUM(D73:D74) -> 0 | E72: =SUM(E73:E74) -> 38 | F72: =SUM(F73:F74) -> 38
A73: 12.1. | B73: Előző év költségvetési maradványának igénybevétele | C73: 0 | D73: 0 | E73: 38 | F73: =+C73+D73+E73 -> 38 | H73: =+[1]TSZSZI!$R274 -> 67
A74: 12.2. | B74: Előző év vállalkozási maradványának igénybevétele | C74: 0 | D74: 0 | E74: 0 | F74: =+C74+D74+E74 -> 0
A75: 13. | B75: Belföldi finanszírozás bevételei (13.1. + … + 13.3.) | C75: =SUM(C76:C78) -> 0 | D75: =SUM(D76:D78) -> 0 | E75: =SUM(E76:E78) -> 0 | F75: =SUM(F76:F78) -> 0
A76: 13.1. | B76: Normatíva bevétel | C76: 0 | D76: 0 | E76: 0 | F76: =+C76+D76+E76 -> 0 | H76: =+[1]TSZSZI!$R275 -> 25862
A77: 13.2. | B77: Önkormányzati támogatás Kenese | C77: 0 | D77: 0 | E77: 0 | F77: =+C77+D77+E77 -> 0 | H77: =+'[1]TSZSZI megoszt.'!$G$117 -> 7450
A78: 13.3. | B78: Önkormányzati támogatás más önkormányzat | C78: 0 | D78: 0 | E78: 0 | F78: =+C78+D78+E78 -> 0 | H78: =+'[1]TSZSZI megoszt.'!$G$116 -> 2753
A79: 14. | B79: Külföldi finanszírozás bevételei (14.1.+…14.4.) | C79: =SUM(C80:C83) -> 0 | D79: =SUM(D80:D83) -> 0 | E79: =SUM(E80:E83) -> 0 | F79: =SUM(F80:F83) -> 0
A80: 14.1. | B80: Forgatási célú külföldi értékpapírok beváltása, értékesítése | C80: 0 | D80: 0 | E80: 0 | F80: =+C80+D80+E80 -> 0
A81: 14.2. | B81: Befektetési célú külföldi értékpapírok beváltása, értékesítése | C81: 0 | D81: 0 | E81: 0 | F81: =+C81+D81+E81 -> 0
A82: 14.3. | B82: Külföldi értékpapírok kibocsátása | C82: 0 | D82: 0 | E82: 0 | F82: =+C82+D82+E82 -> 0
A83: 14.4. | B83: Külföldi hitelek, kölcsönök felvétele | C83: 0 | D83: 0 | E83: 0 | F83: =+C83+D83+E83 -> 0
A84: 15. | B84: Váltóbevételek | C84: 0 | D84: 0 | E84: 0 | F84: =+C84+D84+E84 -> 0
A85: 16. | B85: Adóssághoz nem kapcsolódó származékos ügyletek bevételei | F85: =+C85+D85+E85 -> 0
A86: 17. | B86: FINANSZÍROZÁSI BEVÉTELEK ÖSSZESEN: (10. + … +16.) | C86: =+C63+C67+C72+C75+C79+C85+C84 -> 0 | D86: =+D63+D67+D72+D75+D79+D85+D84 -> 0 | E86: =+E63+E67+E72+E75+E79+E85+E84 -> 38 | F86: =+F63+F67+F72+F75+F79+F85+F84 -> 38
A87: 18. | B87: KÖLTSÉGVETÉSI ÉS FINANSZÍROZÁSI BEVÉTELEK ÖSSZESEN: (9+17) | C87: =+C62+C86 -> 83528 | D87: =+D62+D86 -> -3617 | E87: =+E62+E86 -> -2107 | F87: =+F62+F86 -> 77804
B89: K I A D Á S O K
F90: Ezer forintban
A91: Sor- szám | B91: Kiadási jogcímek | C91: 2015. évi előirányzat | D91: Korábbi módosítás | E91: Jelenlegi módosítás | F91: 2015. évi módosított előirányzat
A92: A | B92: B | C92: C | D92: D | E92: E | F92: F
A93: 1. | B93: Működési költségvetés kiadásai (1.1+…+1.5.+1.18.) | C93: =C94+C95+C96+C97+C98+C111 -> 250 | D93: =D94+D95+D96+D97+D98+D111 -> 0 | E93: =E94+E95+E96+E97+E98+E111 -> 38 | F93: =F94+F95+F96+F97+F98+F111 -> 288
A94: 1.1. | B94: Személyi juttatások | C94: 0 | D94: 0 | E94: 0 | F94: =+C94+D94+E94 -> 0 | H94: =+[1]TSZSZI!$R35 -> 26248
A95: 1.2. | B95: Munkaadókat terhelő járulékok és szociális hozzájárulási adó | C95: 0 | D95: 0 | E95: 0 | F95: =+C95+D95+E95 -> 0 | H95: =+[1]TSZSZI!$R41 -> 7179
A96: 1.3. | B96: Dologi kiadások | C96: 240 | D96: 0 | E96: 0 | F96: =+C96+D96+E96 -> 240 | H96: =+[1]TSZSZI!$R107 -> 16891
A97: 1.4. | B97: Ellátottak pénzbeli juttatásai | D97: 0 | E97: 0 | F97: =+C97+D97+E97 -> 0 | H97: =+[1]TSZSZI!$R127 -> 0
A98: 1.5 | B98: Egyéb működési célú kiadások | C98: =SUM(C100:C110) -> 0 | D98: =SUM(D100:D110) -> 0 | E98: =SUM(E100:E110) -> 0 | F98: =+C98+D98+E98 -> 0 | H98: =+[1]TSZSZI!$R128 -> 0
A99: 1.6. | B99: - az 1.5-ből: - Előző évi elszámolásból származó befizetések | C99: 0 | D99: 0 | E99: 0 | F99: =+C99+D99+E99 -> 0
A100: 1.7. | B100: - Törvényi előíráson alapuló befizetések | C100: 0 | D100: 0 | E100: 0 | F100: =+C100+D100+E100 -> 0
A101: 1.8. | B101: - Elvonások és befizetések | C101: 0 | D101: 0 | E101: 0 | F101: =+C101+D101+E101 -> 0 | H101: =+[1]TSZSZI!$R129 -> 0
...

Sheet 1.2.9.sz.mell. Szoc.társ.
B1: B E V É T E L E K
F2: Ezer forintban
A3: Sor- szám | B3: Bevételi jogcím | C3: 2015. évi előirányzat | D3: Korábbi módosítás | E3: Jelenlegi módosítás | F3: 2015. évi módosított előirányzat
A4: A | B4: B | C4: C | D4: D | E4: E | F4: F
A5: 1. | B5: Önkormányzat működési támogatásai (1.1.+…+.1.6.) | C5: =+C6+C7+C8+C9+C10+C11 -> 0 | D5: =+D6+D7+D8+D9+D10+D11 -> 0 | E5: =+E6+E7+E8+E9+E10+E11 -> 0 | F5: =+F6+F7+F8+F9+F10+F11 -> 0
A6: 1.1. | B6: Helyi önkormányzatok működésének általános támogatása | F6: =+C6+D6+E6 -> 0 | H6: =+[1]TSZSZI!$R180 -> 0
A7: 1.2. | B7: Önkormányzatok egyes köznevelési feladatainak támogatása | F7: =+C7+D7+E7 -> 0 | H7: =+[1]TSZSZI!$R181 -> 0
A8: 1.3. | B8: Önkormányzatok szociális és gyermekjóléti feladatainak támogatása | F8: =+C8+D8+E8 -> 0 | H8: =+[1]TSZSZI!$R182 -> 0
A9: 1.4. | B9: Önkormányzatok kulturális feladatainak támogatása | F9: =+C9+D9+E9 -> 0 | H9: =+[1]TSZSZI!$R183 -> 0
A10: 1.5. | B10: Működési célú kvi támogatások és kiegészítő támogatások | F10: =+C10+D10+E10 -> 0 | H10: =+[1]TSZSZI!$R184 -> 0
A11: 1.6. | B11: Elszámolásból származó bevételek | F11: =+C11+D11+E11 -> 0 | H11: =+[1]TSZSZI!$R185 -> 0
A12: 2. | B12: Működési célú támogatások államháztartáson belülről (2.1.+…+.2.5.) | C12: =+C13+C14+C15+C16+C17 -> 36200 | D12: =+D13+D14+D15+D16+D17 -> 699 | E12: =+E13+E14+E15+E16+E17 -> 1822 | F12: =+F13+F14+F15+F16+F17 -> 38721
A13: 2.1. | B13: Elvonások és befizetések bevételei | C13: 0 | F13: =+C13+D13+E13 -> 0 | H13: =+[1]TSZSZI!$R187 -> 0
A14: 2.2. | B14: Működési célú garancia- és kezességvállalásból megtérülések | C14: 0 | F14: =+C14+D14+E14 -> 0 | H14: =+[1]TSZSZI!$R188 -> 0
A15: 2.3. | B15: Működési célú visszatérítendő támogatások, kölcsönök visszatérülése | C15: 0 | F15: =+C15+D15+E15 -> 0 | H15: =+[1]TSZSZI!$R189 -> 0
A16: 2.4. | B16: Működési célú visszatérítendő támogatások, kölcsönök igénybevétele | C16: 0 | F16: =+C16+D16+E16 -> 0 | H16: =+[1]TSZSZI!$R190 -> 0
A17: 2.5. | B17: Egyéb működési célú támogatások bevételei | C17: 36200 | D17: =128+217+145+430+4+2498-2723 -> 699 | E17: 1822 | F17: =+C17+D17+E17 -> 38721 | H17: =+[1]TSZSZI!$R193 -> 0
A18: 2.6. | B18: 2.5.-ből EU-s támogatás | C18: 0 | F18: =+C18+D18+E18 -> 0 | H18: =+[1]TSZSZI!$R192 -> 0
A19: 3. | B19: Felhalmozási célú támogatások államháztartáson belülről (3.1.+…+3.5.) | C19: =+C20+C21+C22+C23+C24 -> 0 | D19: =+D20+D21+D22+D23+D24 -> 0 | E19: =+E20+E21+E22+E23+E24 -> 0 | F19: =+F20+F21+F22+F23+F24 -> 0
A20: 3.1. | B20: Felhalmozási célú önkormányzati támogatások | C20: 0 | F20: =+C20+D20+E20 -> 0 | H20: =+[1]TSZSZI!$R195 -> 0
A21: 3.2. | B21: Felhalmozási célú garancia- és kezességvállalásból megtérülések | C21: 0 | F21: =+C21+D21+E21 -> 0 | H21: =+[1]TSZSZI!$R196 -> 0
A22: 3.3. | B22: Felhalmozási célú visszatérítendő támogatások, kölcsönök visszatérülése | C22: 0 | F22: =+C22+D22+E22 -> 0 | H22: =+[1]TSZSZI!$R197 -> 0
A23: 3.4. | B23: Felhalmozási célú visszatérítendő támogatások, kölcsönök igénybevétele | C23: 0 | F23: =+C23+D23+E23 -> 0 | H23: =+[1]TSZSZI!$R198 -> 0
A24: 3.5. | B24: Egyéb felhalmozási célú támogatások bevételei | C24: 0 | F24: =+C24+D24+E24 -> 0 | H24: =+[1]TSZSZI!$R199 -> 0
A25: 3.6. | B25: 3.5.-ből EU-s támogatás | C25: 0 | F25: =+C25+D25+E25 -> 0 | H25: =+[1]TSZSZI!$R199 -> 0
A26: 4. | B26: Közhatalmi bevételek (4.1.+4.2.+4.3.+4.4.) | C26: =+C27+C31+C32+C33 -> 0 | D26: =+D27+D31+D32+D33 -> 0 | E26: =+E27+E31+E32+E33 -> 0 | F26: =+F27+F31+F32+F33 -> 0
A27: 4.1. | B27: Helyi adók (4.1.1.+...+4.1.3.) | C27: =SUM(C28:C30) -> 0 | D27: =SUM(D28:D30) -> 0 | E27: =SUM(E28:E30) -> 0 | F27: =+C27+D27+E27 -> 0
A28: 4.1.1. | B28: - Vagyoni típusú adók | D28: 0 | E28: 0 | F28: =+C28+D28+E28 -> 0 | H28: =+[1]TSZSZI!$R208 -> 0
A29: 4.1.2. | B29: - Termékek és szolgáltatások adói | D29: 0 | E29: 0 | F29: =+C29+D29+E29 -> 0 | H29: =+[1]TSZSZI!$R215 -> 0
A30: 4.1.3. | B30: - Értékesítési és forgalmi adók (iparűzési adó) | D30: 0 | E30: 0 | F30: =+C30+D30+E30 -> 0 | H30: =+[1]TSZSZI!$R209 -> 0
A31: 4.2. | B31: Gépjárműadó | D31: 0 | E31: 0 | F31: =+C31+D31+E31 -> 0 | H31: =+[1]TSZSZI!$R212 -> 0
A32: 4.3. | B32: Egyéb áruhasználati és szolgáltatási adók | D32: 0 | E32: 0 | F32: =+C32+D32+E32 -> 0 | H32: =+[1]TSZSZI!$R214 -> 0
A33: 4.4. | B33: Egyéb közhatalmi bevételek | D33: 0 | E33: 0 | F33: =+C33+D33+E33 -> 0 | H33: =+[1]TSZSZI!$R223 -> 0
A34: 5. | B34: Működési bevételek (5.1.+…+ 5.11.) | C34: =SUM(C35:C45) -> 0 | D34: =SUM(D35:D45) -> 0 | E34: =SUM(E35:E45) -> 0 | F34: =SUM(F35:F45) -> 0
A35: 5.1. | B35: Készletértékesítés ellenértéke | D35: 0 | E35: 0 | F35: =+C35+D35+E35 -> 0 | H35: =+[1]TSZSZI!$R225 -> 0
A36: 5.2. | B36: Szolgáltatások ellenértéke | C36: 0 | D36: 0 | E36: 0 | F36: =+C36+D36+E36 -> 0 | H36: =+[1]TSZSZI!$R229 -> 0
A37: 5.3. | B37: Közvetített szolgáltatások értéke | C37: 0 | D37: 0 | E37: 0 | F37: =+C37+D37+E37 -> 0 | H37: =+[1]TSZSZI!$R232 -> 0
A38: 5.4. | B38: Tulajdonosi bevételek | C38: 0 | D38: 0 | E38: 0 | F38: =+C38+D38+E38 -> 0 | H38: =+[1]TSZSZI!$R237 -> 0
A39: 5.5. | B39: Ellátási díjak | D39: 0 | E39: 0 | F39: =+C39+D39+E39 -> 0 | H39: =+[1]TSZSZI!$R240 -> 14186
A40: 5.6. | B40: Kiszámlázott általános forgalmi adó | C40: 0 | D40: 0 | E40: 0 | F40: =+C40+D40+E40 -> 0 | H40: =+[1]TSZSZI!$R241 -> 0
A41: 5.7. | B41: Általános forgalmi adó visszatérítése | D41: 0 | E41: 0 | F41: =+C41+D41+E41 -> 0 | H41: =+[1]TSZSZI!$R242 -> 0
A42: 5.8. | B42: Kamatbevételek | D42: 0 | E42: 0 | F42: =+C42+D42+E42 -> 0 | H42: =+[1]TSZSZI!$R243 -> 0
A43: 5.9. | B43: Egyéb pénzügyi műveletek bevételei | D43: 0 | E43: 0 | F43: =+C43+D43+E43 -> 0 | H43: =+[1]TSZSZI!$R246 -> 0
A44: 5.10. | B44: Biztosító által fizetett kártérítés | D44: 0 | E44: 0 | F44: =+C44+D44+E44 -> 0 | H44: =+[1]TSZSZI!$R248 -> 0
A45: 5.11. | B45: Egyéb működési bevételek | D45: 0 | E45: 0 | F45: =+C45+D45+E45 -> 0 | H45: =+[1]TSZSZI!$R250-[2]Önkorm.!$R$248 -> 0
A46: 6. | B46: Felhalmozási bevételek (6.1.+…+6.5.) | C46: =SUM(C47:C51) -> 0 | D46: =SUM(D47:D51) -> 0 | E46: =SUM(E47:E51) -> 0 | F46: =SUM(F47:F51) -> 0
A47: 6.1. | B47: Immateriális javak értékesítése | C47: 0 | D47: 0 | E47: 0 | F47: =+C47+D47+E47 -> 0
A48: 6.2. | B48: Ingatlanok értékesítése | C48: 0 | D48: 0 | E48: 0 | F48: =+C48+D48+E48 -> 0
A49: 6.3. | B49: Egyéb tárgyi eszközök értékesítése | C49: 0 | D49: 0 | E49: 0 | F49: =+C49+D49+E49 -> 0
A50: 6.4. | B50: Részesedések értékesítése | C50: 0 | D50: 0 | E50: 0 | F50: =+C50+D50+E50 -> 0
A51: 6.5. | B51: Részesedések megszűnéséhez kapcsolódó bevételek | C51: 0 | D51: 0 | E51: 0 | F51: =+C51+D51+E51 -> 0
A52: 7. | B52: Működési célú átvett pénzeszközök (7.1. + … + 7.3.) | C52: =SUM(C53:C55) -> 0 | D52: =SUM(D53:D55) -> 0 | E52: =SUM(E53:E55) -> 0 | F52: =SUM(F53:F55) -> 0
A53: 7.1. | B53: Működési célú garancia- és kezességvállalásból megtérülések ÁH-n kívülről | C53: 0 | D53: 0 | E53: 0 | F53: =+C53+D53+E53 -> 0 | H53: =+[1]TSZSZI!$R253 -> 0
A54: 7.2. | B54: Működési célú visszatérítendő támogatások, kölcsönök visszatér. ÁH-n kívülről | C54: 0 | D54: 0 | E54: 0 | F54: =+C54+D54+E54 -> 0 | H54: =+[1]TSZSZI!$R256 -> 0
A55: 7.3. | B55: Egyéb működési célú átvett pénzeszköz | D55: 0 | E55: 0 | F55: =+C55+D55+E55 -> 0 | H55: =+[1]TSZSZI!$R262 -> 0
A56: 7.4. | B56: 7.3.-ból EU-s támogatás (közvetlen) | D56: 0 | E56: 0 | F56: =+C56+D56+E56 -> 0 | H56: =+[1]TSZSZI!$R261 -> 0
A57: 8. | B57: Felhalmozási célú átvett pénzeszközök (8.1.+8.2.+8.3.) | C57: =SUM(C58:C60) -> 0 | D57: =SUM(D58:D60) -> 0 | E57: =SUM(E58:E60) -> 0 | F57: =SUM(F58:F60) -> 0
A58: 8.1. | B58: Felhalm. célú garancia- és kezességvállalásból megtérülések ÁH-n kívülről | C58: 0 | D58: 0 | E58: 0 | F58: =+C58+D58+E58 -> 0 | H58: =+[1]TSZSZI!$R264 -> 0
A59: 8.2. | B59: Felhalm. célú visszatérítendő támogatások, kölcsönök visszatér. ÁH-n kívülről | C59: 0 | D59: 0 | E59: 0 | F59: =+C59+D59+E59 -> 0 | H59: =+[1]TSZSZI!$R266 -> 0
A60: 8.3. | B60: Egyéb felhalmozási célú átvett pénzeszköz | C60: 0 | D60: 0 | E60: 0 | F60: =+C60+D60+E60 -> 0 | H60: =+[1]TSZSZI!$R269 -> 0
A61: 8.4. | B61: 8.3.-ból EU-s támogatás (közvetlen) | C61: 0 | D61: 0 | E61: 0 | F61: =+C61+D61+E61 -> 0 | H61: =+[1]TSZSZI!$R268 -> 0
A62: 9. | B62: KÖLTSÉGVETÉSI BEVÉTELEK ÖSSZESEN: (1+…+8) | C62: =+C5+C12+C19+C26+C34+C46+C52+C57 -> 36200 | D62: =+D5+D12+D19+D26+D34+D46+D52+D57 -> 699 | E62: =+E5+E12+E19+E26+E34+E46+E52+E57 -> 1822 | F62: =+F5+F12+F19+F26+F34+F46+F52+F57 -> 38721
A63: 10. | B63: Hitel-, kölcsönfelvétel államháztartáson kívülről (10.1.+10.3.) | C63: =SUM(C64:C66) -> 0 | D63: =SUM(D64:D66) -> 0 | E63: =SUM(E64:E66) -> 0 | F63: =SUM(F64:F66) -> 0
A64: 10.1. | B64: Hosszú lejáratú hitelek, kölcsönök felvétele | C64: 0 | D64: 0 | E64: 0 | F64: =+C64+D64+E64 -> 0
A65: 10.2. | B65: Likviditási célú hitelek, kölcsönök felvétele pénzügyi vállalkozástól | C65: 0 | D65: 0 | E65: 0 | F65: =+C65+D65+E65 -> 0
A66: 10.3. | B66: Rövid lejáratú hitelek, kölcsönök felvétele | C66: 0 | D66: 0 | E66: 0 | F66: =+C66+D66+E66 -> 0 | H66: =+[1]TSZSZI!$R272 -> 0
A67: 11. | B67: Belföldi értékpapírok bevételei (11.1. +…+ 11.4.) | C67: =SUM(C68:C71) -> 0 | D67: =SUM(D68:D71) -> 0 | E67: =SUM(E68:E71) -> 0 | F67: =SUM(F68:F71) -> 0
A68: 11.1. | B68: Forgatási célú belföldi értékpapírok beváltása, értékesítése | C68: 0 | D68: 0 | E68: 0 | F68: =+C68+D68+E68 -> 0
A69: 11.2. | B69: Forgatási célú belföldi értékpapírok kibocsátása | C69: 0 | D69: 0 | E69: 0 | F69: =+C69+D69+E69 -> 0
A70: 11.3. | B70: Befektetési célú belföldi értékpapírok beváltása, értékesítése | C70: 0 | D70: 0 | E70: 0 | F70: =+C70+D70+E70 -> 0
A71: 11.4. | B71: Befektetési célú belföldi értékpapírok kibocsátása | C71: 0 | D71: 0 | E71: 0 | F71: =+C71+D71+E71 -> 0 | H71: =+[1]TSZSZI!$R273 -> 0
A72: 12. | B72: Maradvány igénybevétele (12.1. + 12.2.) | C72: =SUM(C73:C74) -> 0 | D72: =SUM(D73:D74) -> 0 | E72: =SUM(E73:E74) -> 19 | F72: =SUM(F73:F74) -> 19
A73: 12.1. | B73: Előző év költségvetési maradványának igénybevétele | C73: 0 | D73: 0 | E73: 19 | F73: =+C73+D73+E73 -> 19 | H73: =+[1]TSZSZI!$R274 -> 67
A74: 12.2. | B74: Előző év vállalkozási maradványának igénybevétele | C74: 0 | D74: 0 | E74: 0 | F74: =+C74+D74+E74 -> 0
A75: 13. | B75: Belföldi finanszírozás bevételei (13.1. + … + 13.3.) | C75: =SUM(C76:C78) -> 0 | D75: =SUM(D76:D78) -> 0 | E75: =SUM(E76:E78) -> 0 | F75: =SUM(F76:F78) -> 0
A76: 13.1. | B76: Normatíva bevétel | C76: 0 | D76: 0 | E76: 0 | F76: =+C76+D76+E76 -> 0 | H76: =+[1]TSZSZI!$R275 -> 25862
A77: 13.2. | B77: Önkormányzati támogatás Kenese | C77: 0 | D77: 0 | E77: 0 | F77: =+C77+D77+E77 -> 0 | H77: =+'[1]TSZSZI megoszt.'!$G$117 -> 7450
A78: 13.3. | B78: Önkormányzati támogatás más önkormányzat | C78: 0 | D78: 0 | E78: 0 | F78: =+C78+D78+E78 -> 0 | H78: =+'[1]TSZSZI megoszt.'!$G$116 -> 2753
A79: 14. | B79: Külföldi finanszírozás bevételei (14.1.+…14.4.) | C79: =SUM(C80:C83) -> 0 | D79: =SUM(D80:D83) -> 0 | E79: =SUM(E80:E83) -> 0 | F79: =SUM(F80:F83) -> 0
A80: 14.1. | B80: Forgatási célú külföldi értékpapírok beváltása, értékesítése | C80: 0 | D80: 0 | E80: 0 | F80: =+C80+D80+E80 -> 0
A81: 14.2. | B81: Befektetési célú külföldi értékpapírok beváltása, értékesítése | C81: 0 | D81: 0 | E81: 0 | F81: =+C81+D81+E81 -> 0
A82: 14.3. | B82: Külföldi értékpapírok kibocsátása | C82: 0 | D82: 0 | E82: 0 | F82: =+C82+D82+E82 -> 0
A83: 14.4. | B83: Külföldi hitelek, kölcsönök felvétele | C83: 0 | D83: 0 | E83: 0 | F83: =+C83+D83+E83 -> 0
A84: 15. | B84: Váltóbevételek | C84: 0 | D84: 0 | E84: 0 | F84: =+C84+D84+E84 -> 0
A85: 16. | B85: Adóssághoz nem kapcsolódó származékos ügyletek bevételei | F85: =+C85+D85+E85 -> 0
A86: 17. | B86: FINANSZÍROZÁSI BEVÉTELEK ÖSSZESEN: (10. + … +16.) | C86: =+C63+C67+C72+C75+C79+C85+C84 -> 0 | D86: =+D63+D67+D72+D75+D79+D85+D84 -> 0 | E86: =+E63+E67+E72+E75+E79+E85+E84 -> 19 | F86: =+F63+F67+F72+F75+F79+F85+F84 -> 19
A87: 18. | B87: KÖLTSÉGVETÉSI ÉS FINANSZÍROZÁSI BEVÉTELEK ÖSSZESEN: (9+17) | C87: =+C62+C86 -> 36200 | D87: =+D62+D86 -> 699 | E87: =+E62+E86 -> 1841 | F87: =+F62+F86 -> 38740
B89: K I A D Á S O K
F90: Ezer forintban
A91: Sor- szám | B91: Kiadási jogcímek | C91: 2015. évi előirányzat | D91: Korábbi módosítás | E91: Jelenlegi módosítás | F91: 2015. évi módosított előirányzat
A92: A | B92: B | C92: C | D92: D | E92: E | F92: F
A93: 1. | B93: Működési költségvetés kiadásai (1.1+…+1.5.+1.18.) | C93: =C94+C95+C96+C97+C98+C111 -> 135 | D93: =D94+D95+D96+D97+D98+D111 -> 0 | E93: =E94+E95+E96+E97+E98+E111 -> 19 | F93: =F94+F95+F96+F97+F98+F111 -> 154
A94: 1.1. | B94: Személyi juttatások | C94: 0 | D94: 0 | E94: 0 | F94: =+C94+D94+E94 -> 0 | H94: =+[1]TSZSZI!$R35 -> 26248
A95: 1.2. | B95: Munkaadókat terhelő járulékok és szociális hozzájárulási adó | C95: 0 | D95: 0 | E95: 0 | F95: =+C95+D95+E95 -> 0 | H95: =+[1]TSZSZI!$R41 -> 7179
A96: 1.3. | B96: Dologi kiadások | C96: 130 | D96: 0 | E96: 0 | F96: =+C96+D96+E96 -> 130 | H96: =+[1]TSZSZI!$R107 -> 16891
A97: 1.4. | B97: Ellátottak pénzbeli juttatásai | D97: 0 | E97: 0 | F97: =+C97+D97+E97 -> 0 | H97: =+[1]TSZSZI!$R127 -> 0
A98: 1.5 | B98: Egyéb működési célú kiadások | C98: =SUM(C100:C110) -> 0 | D98: =SUM(D100:D110) -> 0 | E98: =SUM(E100:E110) -> 0 | F98: =+C98+D98+E98 -> 0 | H98: =+[1]TSZSZI!$R128 -> 0
A99: 1.6. | B99: - az 1.5-ből: - Előző évi elszámolásból származó befizetések | C99: 0 | D99: 0 | E99: 0 | F99: =+C99+D99+E99 -> 0
A100: 1.7. | B100: - Törvényi előíráson alapuló befizetések | C100: 0 | D100: 0 | E100: 0 | F100: =+C100+D100+E100 -> 0
A101: 1.8. | B101: - Elvonások és befizetések | C101: 0 | D101: 0 | E101: 0 | F101: =+C101+D101+E101 -> 0 | H101: =+[1]TSZSZI!$R129 -> 0
...

Sheet 6.sz.mell. Beruházások
A1: Beruházási (felhalmozási) kiadások előirányzata beruházásonként
G2: Ezer forintban !
A3: Beruházás megnevezése | B3: Teljes költség | C3: Kivitelezés kezdési és befejezési éve | D3: Felhasználás 2014.XII:31-ig | E3: 2015. évi eredeti dologi és személyi előirányzat | F3: 2015. évi eredeti beruházási előirányzat | G3: 2015. évi módosított dologi és személyi előirányzat | H3: 2015. évi módosított beruházási előirányzat
A4: A | B4: B | C4: C | D4: D | E4: E | F4: F | G4: G | H4: H
A5: KDOP 4.1.1/C-11-2012-0003 Gabion támfal | B5: 88684 | C5: 2014/2015 | D5: 4363 | E5: =11080+15571 -> 26651 | F5: 61676 | G5: 15571 | H5: =+F5 -> 61676
A6: KDOP 4.1.1/E-11-2012-0009 Csapadékvíz | B6: 171043 | C6: 2015/2015 | D6: 12317 | E6: =1986+3600+31202+1000 -> 37788 | F6: 120938 | G6: 1096 | H6: 0
A7: KDOP-2.1.1/D-12-2012-0040 Kerékpáros | B7: 95483 | C7: 2014/2014 | D7: 60589 | E7: =599+1271 -> 1870 | F7: 33024 | G7: =+E7 -> 1870 | H7: =+F7 -> 33024
A8: LEADER vizesblokk | B8: 31858 | C8: 2014/2014 | D8: =B8 -> 31858 | F8: 0 | G8: 50 | H8: 1048
A9: LEADER Iskola u. Közösségi ház és könyvtár | B9: 19500 | C9: 2014/2014 | D9: 19500 | F9: 0 | G9: =+E9 -> 0 | H9: =+F9 -> 0
A10: Konyha számítógép beszerzés | B10: 230 | C10: 2015 | D10: 0 | F10: 230 | G10: =+E10 -> 0 | H10: =+F10 -> 230
A11: Térfigyelő kamera kiépítése | B11: 5942 | C11: 2015 | D11: 0 | F11: 5942 | G11: =+E11 -> 0 | H11: =+F11 -> 5942
A12: Orvosi Rendelő felújítása 158/2015 hat. | B12: 30000 | C12: 2015 | H12: 27000
A13: KEOP 4.10.1/A Napelemes pályázat | B13: 0 | C13: 2013/2014 | E13: 0 | H13: 15023
A14: Önkormányzat összesen | B14: =SUM(B5:B13) -> 442740 | C14: =SUM(C5:C13) -> 0 | D14: =SUM(D5:D13) -> 128627 | E14: =SUM(E5:E13) -> 66309 | F14: =SUM(F5:F13) -> 221810 | G14: =SUM(G5:G13) -> 18587 | H14: =SUM(H5:H13) -> 143943
A15: Közművelődés sörpad garn, létra, porszívó | B15: 500 | C15: 2015 | F15: 500 | G15: =+E15 -> 0 | H15: 721
A16: Közművelődési intézmény összesen | B16: =SUM(B15) -> 500 | D16: =SUM(D15) -> 0 | E16: =SUM(E15) -> 0 | F16: =SUM(F15) -> 500 | G16: =SUM(G15) -> 0 | H16: =SUM(H15) -> 721
A17: Hivatal informatikai hálózat fejlesztése | B17: 2000 | C17: 2015 | F17: 2000 | G17: =+E17 -> 0 | H17: 289
A18: Polgármesteri Hivatal összesen | B18: =SUM(B17) -> 2000 | D18: =SUM(D17) -> 0 | E18: =SUM(E17) -> 0 | F18: =SUM(F17) -> 2000 | G18: =SUM(G17) -> 0 | H18: =SUM(H17) -> 289
A19: Városgondnokság számítógép beszerzése | B19: 254 | C19: 2015 | D19: 0 | F19: 254 | G19: =+E19 -> 0 | H19: 254
A20: Vágo napernyő és nyugágy beszerzése | B20: 1154 | C20: 2015 | F20: 0 | H20: 1150
A21: Városgondnokság összesen: | B21: =SUM(B19:B20) -> 1408 | C21: =SUM(C19:C20) -> 0 | D21: =SUM(D19:D20) -> 0 | E21: =SUM(E19:E20) -> 0 | F21: =SUM(F19:F20) -> 254 | G21: =SUM(G19:G20) -> 0 | H21: =SUM(H19:H20) -> 1404
A24: ÖSSZESEN: | B24: =+B14+B16+B18+B21+B23 -> 446648 | D24: =+D14+D16+D18+D21+D23 -> 128627 | F24: =+F14+F16+F18+F21+F23 -> 224564 | G24: =+G14+G16+G18+G21+G23 -> 18587 | H24: =+H14+H16+H18+H21+H23 -> 146357
A27: Társulások kimutatása | G27: Ezer forintban !
A28: Beruházás megnevezése | B28: Teljes költség | C28: Kivitelezés kezdési és befejezési éve | D28: Felhasználás 2014.XII:31-ig | E28: 2015. évi eredeti dologi és személyi előirányzat | F28: 2015. évi eredeti beruházási előirányzat | G28: 2015. évi módosított dologi és személyi előirányzat | H28: 2015. évi módosított beruházási előirányzat
A29: A | B29: B | C29: C | D29: D | E29: E | F29: F | G29: G | H29: H
A30: Tszszi számítógép+nyomtató | B30: 115 | C30: 2015 | E30: 115 | H30: 115
A31: TSZSZI összesen | B31: =SUM(B30) -> 115 | C31: =SUM(C30) -> 0 | D31: =SUM(D30) -> 0 | E31: =SUM(E30) -> 115 | F31: =SUM(F30) -> 0 | G31: =SUM(G30) -> 0 | H31: =SUM(H30) -> 115
A32: Óvoda eszközök | B32: 127 | C32: 2015 | E32: 127 | H32: 347
A33: Óvoda összesen: | B33: =SUM(B32) -> 127 | C33: =SUM(C32) -> 0 | D33: =SUM(D32) -> 0 | E33: =SUM(E32) -> 127 | F33: =SUM(F32) -> 0 | G33: =SUM(G32) -> 0 | H33: =SUM(H32) -> 347
A34: TÁRSULÁSOK ÖSSZESEN: | B34: =+B33+B31 -> 242 | D34: =+D33+D31 -> 0 | E34: =+E33+E31 -> 242 | F34: =+F33+F31 -> 0 | G34: =+G33+G31 -> 0 | H34: =+H33+H31 -> 462

Sheet 7.sz.mell.Felújítások
A1: Felújítási (felhalmozási) kiadások előirányzata felújításonként
F2: Ezer forintban !
A3: Felújítás megnevezése | B3: Teljes költség | C3: Kivitelezés kezdési és befejezési éve | D3: Felhasználás 2014. XII.31-ig | E3: 2015. évi előirányzat | F3: 2015. évi módosított előirányzat
A4: 1 | B4: 2 | C4: 3 | D4: 4 | E4: 5 | F4: 6
A5: Strandtér (Vak Bottyán) | B5: 45000 | C5: 2015 | D5: 0 | E5: 45000 | F5: 34750
A6: Rendőrségi épület Balatonkenese | B6: =ROUND(12000*1.27,0) -> 15240 | C6: 2015 | D6: 0 | E6: 15240 | F6: 15240
A7: Pilinszky Iskola informatikai eszközök felújítása | B7: 200 | C7: 2015 | E7: 200 | F7: 0
A8: Önkormányzat összesen: | B8: =SUM(B5:B7) -> 60440 | D8: =SUM(D5:D7) -> 0 | E8: =SUM(E5:E7) -> 60440 | F8: =SUM(F5:F7) -> 49990
A9: Díszkút feljjítása | B9: 20 | E9: 0 | F9: 20
A10: Városgondnokság összesen: | B10: =+B9 -> 20 | D10: =+D9 -> 0 | E10: =+E9 -> 0 | F10: =+F9 -> 20
F11: =B11-D11-E11 -> 0
F12: =B12-D12-E12 -> 0
F13: =B13-D13-E13 -> 0
F14: =B14-D14-E14 -> 0
F15: =B15-D15-E15 -> 0
F16: =B16-D16-E16 -> 0
F17: =B17-D17-E17 -> 0
F18: =B18-D18-E18 -> 0
F19: =B19-D19-E19 -> 0
F20: =B20-D20-E20 -> 0
A21: ÖSSZESEN: | B21: =+B8+B10 -> 60460 | D21: =+D8+D10 -> 0 | E21: =+E8+E10 -> 60440 | F21: =+F8+F10 -> 50010

Sheet 9.1. sz. mell
C1: =+CONCATENATE("9.1. melléklet a ……/",LEFT(ÖSSZEFÜGGÉSEK!A5,4),". (….) önkormányzati rendelethez") -> 9.1. melléklet a ……/2015. (….) önkormányzati rendelethez
A2: Megnevezés | B2: Önkormányzat | C2: 01
A3: Feladat megnevezése | B3: Összes bevétel, kiadás | C3: 01
C4: Ezer forintban !
A5: Száma | B5: Előirányzat-csoport, kiemelt előirányzat megnevezése | C5: Előirányzat
A6: A | B6: B | C6: C
B7: Bevételek
A8: 1. | B8: Önkormányzat működési támogatásai (1.1.+…+.1.6.) | C8: =+C9+C10+C11+C12+C13+C14 -> 0
A9: 1.1. | B9: Helyi önkormányzatok működésének általános támogatása
A10: 1.2. | B10: Önkormányzatok egyes köznevelési feladatainak támogatása
A11: 1.3. | B11: Önkormányzatok szociális és gyermekjóléti feladatainak támogatása
A12: 1.4. | B12: Önkormányzatok kulturális feladatainak támogatása
A13: 1.5. | B13: Működési célú kvi támogatások és kiegészítő támogatások
A14: 1.6. | B14: Elszámolásból származó bevételek
A15: 2. | B15: Működési célú támogatások államháztartáson belülről (2.1.+…+.2.5.) | C15: =+C16+C17+C18+C19+C20 -> 0
A16: 2.1. | B16: Elvonások és befizetések bevételei
A17: 2.2. | B17: Működési célú garancia- és kezességvállalásból megtérülések
A18: 2.3. | B18: Működési célú visszatérítendő támogatások, kölcsönök visszatérülése
A19: 2.4. | B19: Működési célú visszatérítendő támogatások, kölcsönök igénybevétele
A20: 2.5. | B20: Egyéb működési célú támogatások bevételei
A21: 2.6. | B21: 2.5.-ből EU-s támogatás
A22: 3. | B22: Felhalmozási célú támogatások államháztartáson belülről (3.1.+…+3.5.) | C22: =+C23+C24+C25+C26+C27 -> 0
A23: 3.1. | B23: Felhalmozási célú önkormányzati támogatások
A24: 3.2. | B24: Felhalmozási célú garancia- és kezességvállalásból megtérülések
A25: 3.3. | B25: Felhalmozási célú visszatérítendő támogatások, kölcsönök visszatérülése
A26: 3.4. | B26: Felhalmozási célú visszatérítendő támogatások, kölcsönök igénybevétele
A27: 3.5. | B27: Egyéb felhalmozási célú támogatások bevételei
A28: 3.6. | B28: 3.5.-ből EU-s támogatás
A29: 4. | B29: Közhatalmi bevételek (4.1.+4.2.+4.3.+4.4.) | C29: =+C30+C34+C35+C36 -> 0
A30: 4.1. | B30: Helyi adók (4.1.1.+…+4.1.3.) | C30: =+C31+C32+C33 -> 0
A31: 4.1.1. | B31: - Vagyoni típusú adók
A32: 4.1.2. | B32: - Termékek és szolgáltatások adói
A33: 4.1.3. | B33: - Értékesítési és forgalmi adók (iparűzési adó)
A34: 4.2. | B34: Gépjárműadó
A35: 4.3. | B35: Egyéb áruhasználati és szolgáltatási adók
A36: 4.4. | B36: Egyéb közhatalmi bevételek
A37: 5. | B37: Működési bevételek (5.1.+…+ 5.11.) | C37: =SUM(C38:C48) -> 0
A38: 5.1. | B38: Készletértékesítés ellenértéke
A39: 5.2. | B39: Szolgáltatások ellenértéke
A40: 5.3. | B40: Közvetített szolgáltatások értéke
A41: 5.4. | B41: Tulajdonosi bevételek
A42: 5.5. | B42: Ellátási díjak
A43: 5.6. | B43: Kiszámlázott általános forgalmi adó
A44: 5.7. | B44: Általános forgalmi adó visszatérítése
A45: 5.8. | B45: Kamatbevételek
A46: 5.9. | B46: Egyéb pénzügyi műveletek bevételei
A47: 5.10. | B47: Biztosító által fizetett kártérítés
A48: 5.11. | B48: Egyéb működési bevételek
A49: 6. | B49: Felhalmozási bevételek (6.1.+…+6.5.) | C49: =SUM(C50:C54) -> 0
A50: 6.1. | B50: Immateriális javak értékesítése
A51: 6.2. | B51: Ingatlanok értékesítése
A52: 6.3. | B52: Egyéb tárgyi eszközök értékesítése
A53: 6.4. | B53: Részesedések értékesítése
A54: 6.5. | B54: Részesedések megszűnéséhez kapcsolódó bevételek
A55: 7. | B55: Működési célú átvett pénzeszközök (7.1. + … + 7.3.) | C55: =SUM(C56:C58) -> 0
A56: 7.1. | B56: Működési célú garancia- és kezességvállalásból megtérülések ÁH-n kívülről
A57: 7.2. | B57: Működési célú visszatérítendő támogatások, kölcsönök visszatér. ÁH-n kívülről
A58: 7.3. | B58: Egyéb működési célú átvett pénzeszköz
A59: 7.4. | B59: 7.3.-ból EU-s támogatás (közvetlen)
A60: 8. | B60: Felhalmozási célú átvett pénzeszközök (8.1.+8.2.+8.3.) | C60: =SUM(C61:C63) -> 0
A61: 8.1. | B61: Felhalm. célú garancia- és kezességvállalásból megtérülések ÁH-n kívülről
A62: 8.2. | B62: Felhalm. célú visszatérítendő támogatások, kölcsönök visszatér. ÁH-n kívülről
A63: 8.3. | B63: Egyéb felhalmozási célú átvett pénzeszköz
A64: 8.4. | B64: 8.3.-ból EU-s támogatás (közvetlen)
A65: 9. | B65: KÖLTSÉGVETÉSI BEVÉTELEK ÖSSZESEN: (1+…+8) | C65: =+C8+C15+C22+C29+C37+C49+C55+C60 -> 0
A66: 10. | B66: Hitel-, kölcsönfelvétel államháztartáson kívülről (10.1.+10.3.) | C66: =SUM(C67:C69) -> 0
A67: 10.1. | B67: Hosszú lejáratú hitelek, kölcsönök felvétele
A68: 10.2. | B68: Likviditási célú hitelek, kölcsönök felvétele pénzügyi vállalkozástól
A69: 10.3. | B69: Rövid lejáratú hitelek, kölcsönök felvétele
A70: 11. | B70: Belföldi értékpapírok bevételei (11.1. +…+ 11.4.) | C70: =SUM(C71:C74) -> 0
A71: 11.1. | B71: Forgatási célú belföldi értékpapírok beváltása, értékesítése
A72: 11.2. | B72: Forgatási célú belföldi értékpapírok kibocsátása
A73: 11.3. | B73: Befektetési célú belföldi értékpapírok beváltása, értékesítése
A74: 11.4. | B74: Befektetési célú belföldi értékpapírok kibocsátása
A75: 12. | B75: Maradvány igénybevétele (12.1. + 12.2.) | C75: =SUM(C76:C77) -> 0
A76: 12.1. | B76: Előző év költségvetési maradványának igénybevétele
A77: 12.2. | B77: Előző év vállalkozási maradványának igénybevétele
A78: 13. | B78: Belföldi finanszírozás bevételei (13.1. + … + 13.3.) | C78: =SUM(C79:C81) -> 0
A79: 13.1. | B79: Államháztartáson belüli megelőlegezések
A80: 13.2. | B80: Államháztartáson belüli megelőlegezések törlesztése
A81: 13.3. | B81: Betétek megszüntetése
A82: 14. | B82: Külföldi finanszírozás bevételei (14.1.+…14.4.) | C82: =SUM(C83:C86) -> 0
A83: 14.1. | B83: Forgatási célú külföldi értékpapírok beváltása, értékesítése
A84: 14.2. | B84: Befektetési célú külföldi értékpapírok beváltása, értékesítése
A85: 14.3. | B85: Külföldi értékpapírok kibocsátása
A86: 14.4. | B86: Külföldi hitelek, kölcsönök felvétele
A87: 15. | B87: Váltóbevételek
A88: 16. | B88: Adóssághoz nem kapcsolódó származékos ügyletek bevételei
A89: 17. | B89: FINANSZÍROZÁSI BEVÉTELEK ÖSSZESEN: (10. + … +16.) | C89: =+C66+C70+C75+C78+C82+C88+C87 -> 0
A90: 18. | B90: BEVÉTELEK ÖSSZESEN: (9+17) | C90: =+C65+C89 -> 0
B92: Kiadások
A93: 1. | B93: Működési költségvetés kiadásai (1.1+…+1.5+1.18.) | C93: =+C94+C95+C96+C97+C98+C111 -> 0
A94: 1.1. | B94: Személyi juttatások
A95: 1.2. | B95: Munkaadókat terhelő járulékok és szociális hozzájárulási adó
A96: 1.3. | B96: Dologi kiadások
A97: 1.4. | B97: Ellátottak pénzbeli juttatásai
A98: 1.5 | B98: Egyéb működési célú kiadások
A99: 1.6. | B99: az 1.5-ből: - Előző évi elszámolásból származó befizetések
A100: 1.7. | B100: - Törvényi előíráson alapuló befizetések
A101: 1.8. | B101: - Elvonások és befizetések
...

Sheet 9.1.1. sz. mell 
C1: =+CONCATENATE("9.1.1. melléklet a ……/",LEFT(ÖSSZEFÜGGÉSEK!A5,4),". (….) önkormányzati rendelethez") -> 9.1.1. melléklet a ……/2015. (….) önkormányzati rendelethez
A2: Megnevezés | B2: Önkormányzat | C2: 01
A3: Feladat megnevezése | B3: Kötelező feladatok bevételei, kiadása | C3: 02
C4: Ezer forintban !
A5: Száma | B5: Előirányzat-csoport, kiemelt előirányzat megnevezése | C5: Előirányzat
A6: A | B6: B | C6: C
B7: Bevételek
A8: 1. | B8: Önkormányzat működési támogatásai (1.1.+…+.1.6.) | C8: =+C9+C10+C11+C12+C13+C14 -> 0
A9: 1.1. | B9: Helyi önkormányzatok működésének általános támogatása
A10: 1.2. | B10: Önkormányzatok egyes köznevelési feladatainak támogatása
A11: 1.3. | B11: Önkormányzatok szociális és gyermekjóléti feladatainak támogatása
A12: 1.4. | B12: Önkormányzatok kulturális feladatainak támogatása
A13: 1.5. | B13: Működési célú kvi támogatások és kiegészítő támogatások
A14: 1.6. | B14: Elszámolásból származó bevételek
A15: 2. | B15: Működési célú támogatások államháztartáson belülről (2.1.+…+.2.5.) | C15: =+C16+C17+C18+C19+C20 -> 0
A16: 2.1. | B16: Elvonások és befizetések bevételei
A17: 2.2. | B17: Működési célú garancia- és kezességvállalásból megtérülések
A18: 2.3. | B18: Működési célú visszatérítendő támogatások, kölcsönök visszatérülése
A19: 2.4. | B19: Működési célú visszatérítendő támogatások, kölcsönök igénybevétele
A20: 2.5. | B20: Egyéb működési célú támogatások bevételei
A21: 2.6. | B21: 2.5.-ből EU-s támogatás
A22: 3. | B22: Felhalmozási célú támogatások államháztartáson belülről (3.1.+…+3.5.) | C22: =+C23+C24+C25+C26+C27 -> 0
A23: 3.1. | B23: Felhalmozási célú önkormányzati támogatások
A24: 3.2. | B24: Felhalmozási célú garancia- és kezességvállalásból megtérülések
A25: 3.3. | B25: Felhalmozási célú visszatérítendő támogatások, kölcsönök visszatérülése
A26: 3.4. | B26: Felhalmozási célú visszatérítendő támogatások, kölcsönök igénybevétele
A27: 3.5. | B27: Egyéb felhalmozási célú támogatások bevételei
A28: 3.6. | B28: 3.5.-ből EU-s támogatás
A29: 4. | B29: Közhatalmi bevételek (4.1.+4.2.+4.3.+4.4.) | C29: =+C30+C34+C35+C36 -> 0
A30: 4.1. | B30: Helyi adók (4.1.1.+…+4.1.3.) | C30: =+C31+C32+C33 -> 0
A31: 4.1.1. | B31: - Vagyoni típusú adók
A32: 4.1.2. | B32: - Termékek és szolgáltatások adói
A33: 4.1.3. | B33: - Értékesítési és forgalmi adók (iparűzési adó)
A34: 4.2. | B34: Gépjárműadó
A35: 4.3. | B35: Egyéb áruhasználati és szolgáltatási adók
A36: 4.4. | B36: Egyéb közhatalmi bevételek
A37: 5. | B37: Működési bevételek (5.1.+…+ 5.11.) | C37: =SUM(C38:C48) -> 0
A38: 5.1. | B38: Készletértékesítés ellenértéke
A39: 5.2. | B39: Szolgáltatások ellenértéke
A40: 5.3. | B40: Közvetített szolgáltatások értéke
A41: 5.4. | B41: Tulajdonosi bevételek
A42: 5.5. | B42: Ellátási díjak
A43: 5.6. | B43: Kiszámlázott általános forgalmi adó
A44: 5.7. | B44: Általános forgalmi adó visszatérítése
A45: 5.8. | B45: Kamatbevételek
A46: 5.9. | B46: Egyéb pénzügyi műveletek bevételei
A47: 5.10. | B47: Biztosító által fizetett kártérítés
A48: 5.11. | B48: Egyéb működési bevételek
A49: 6. | B49: Felhalmozási bevételek (6.1.+…+6.5.) | C49: =SUM(C50:C54) -> 0
A50: 6.1. | B50: Immateriális javak értékesítése
A51: 6.2. | B51: Ingatlanok értékesítése
A52: 6.3. | B52: Egyéb tárgyi eszközök értékesítése
A53: 6.4. | B53: Részesedések értékesítése
A54: 6.5. | B54: Részesedések megszűnéséhez kapcsolódó bevételek
A55: 7. | B55: Működési célú átvett pénzeszközök (7.1. + … + 7.3.) | C55: =SUM(C56:C58) -> 0
A56: 7.1. | B56: Működési célú garancia- és kezességvállalásból megtérülések ÁH-n kívülről
A57: 7.2. | B57: Működési célú visszatérítendő támogatások, kölcsönök visszatér. ÁH-n kívülről
A58: 7.3. | B58: Egyéb működési célú átvett pénzeszköz
A59: 7.4. | B59: 7.3.-ból EU-s támogatás (közvetlen)
A60: 8. | B60: Felhalmozási célú átvett pénzeszközök (8.1.+8.2.+8.3.) | C60: =SUM(C61:C63) -> 0
A61: 8.1. | B61: Felhalm. célú garancia- és kezességvállalásból megtérülések ÁH-n kívülről
A62: 8.2. | B62: Felhalm. célú visszatérítendő támogatások, kölcsönök visszatér. ÁH-n kívülről
A63: 8.3. | B63: Egyéb felhalmozási célú átvett pénzeszköz
A64: 8.4. | B64: 8.3.-ból EU-s támogatás (közvetlen)
A65: 9. | B65: KÖLTSÉGVETÉSI BEVÉTELEK ÖSSZESEN: (1+…+8) | C65: =+C8+C15+C22+C29+C37+C49+C55+C60 -> 0
A66: 10. | B66: Hitel-, kölcsönfelvétel államháztartáson kívülről (10.1.+10.3.) | C66: =SUM(C67:C69) -> 0
A67: 10.1. | B67: Hosszú lejáratú hitelek, kölcsönök felvétele
A68: 10.2. | B68: Likviditási célú hitelek, kölcsönök felvétele pénzügyi vállalkozástól
A69: 10.3. | B69: Rövid lejáratú hitelek, kölcsönök felvétele
A70: 11. | B70: Belföldi értékpapírok bevételei (11.1. +…+ 11.4.) | C70: =SUM(C71:C74) -> 0
A71: 11.1. | B71: Forgatási célú belföldi értékpapírok beváltása, értékesítése
A72: 11.2. | B72: Forgatási célú belföldi értékpapírok kibocsátása
A73: 11.3. | B73: Befektetési célú belföldi értékpapírok beváltása, értékesítése
A74: 11.4. | B74: Befektetési célú belföldi értékpapírok kibocsátása
A75: 12. | B75: Maradvány igénybevétele (12.1. + 12.2.) | C75: =SUM(C76:C77) -> 0
A76: 12.1. | B76: Előző év költségvetési maradványának igénybevétele
A77: 12.2. | B77: Előző év vállalkozási maradványának igénybevétele
A78: 13. | B78: Belföldi finanszírozás bevételei (13.1. + … + 13.3.) | C78: =SUM(C79:C81) -> 0
A79: 13.1. | B79: Államháztartáson belüli megelőlegezések
A80: 13.2. | B80: Államháztartáson belüli megelőlegezések törlesztése
A81: 13.3. | B81: Betétek megszüntetése
A82: 14. | B82: Külföldi finanszírozás bevételei (14.1.+…14.4.) | C82: =SUM(C83:C86) -> 0
A83: 14.1. | B83: Forgatási célú külföldi értékpapírok beváltása, értékesítése
A84: 14.2. | B84: Befektetési célú külföldi értékpapírok beváltása, értékesítése
A85: 14.3. | B85: Külföldi értékpapírok kibocsátása
A86: 14.4. | B86: Külföldi hitelek, kölcsönök felvétele
A87: 15. | B87: Váltóbevételek
A88: 16. | B88: Adóssághoz nem kapcsolódó származékos ügyletek bevételei
A89: 17. | B89: FINANSZÍROZÁSI BEVÉTELEK ÖSSZESEN: (10. + … +16.) | C89: =+C66+C70+C75+C78+C82+C88+C87 -> 0
A90: 18. | B90: BEVÉTELEK ÖSSZESEN: (9+17) | C90: =+C65+C89 -> 0
B92: Kiadások
A93: 1. | B93: Működési költségvetés kiadásai (1.1+…+1.5+1.18.) | C93: =+C94+C95+C96+C97+C98+C111 -> 0
A94: 1.1. | B94: Személyi juttatások
A95: 1.2. | B95: Munkaadókat terhelő járulékok és szociális hozzájárulási adó
A96: 1.3. | B96: Dologi kiadások
A97: 1.4. | B97: Ellátottak pénzbeli juttatásai
A98: 1.5 | B98: Egyéb működési célú kiadások
A99: 1.6. | B99: az 1.5-ből: - Előző évi elszámolásból származó befizetések
A100: 1.7. | B100: - Törvényi előíráson alapuló befizetések
A101: 1.8. | B101: - Elvonások és befizetések
...

Sheet 9.1.2. sz. mell 
C1: =+CONCATENATE("9.1.2. melléklet a ……/",LEFT(ÖSSZEFÜGGÉSEK!A5,4),". (….) önkormányzati rendelethez") -> 9.1.2. melléklet a ……/2015. (….) önkormányzati rendelethez
A2: Megnevezés | B2: Önkormányzat | C2: 01
A3: Feladat megnevezése | B3: Önként vállalt feladatok bevételei, kiadása | C3: 03
C4: Ezer forintban !
A5: Száma | B5: Előirányzat-csoport, kiemelt előirányzat megnevezése | C5: Előirányzat
A6: A | B6: B | C6: C
B7: Bevételek
A8: 1. | B8: Önkormányzat működési támogatásai (1.1.+…+.1.6.) | C8: =+C9+C10+C11+C12+C13+C14 -> 0
A9: 1.1. | B9: Helyi önkormányzatok működésének általános támogatása
A10: 1.2. | B10: Önkormányzatok egyes köznevelési feladatainak támogatása
A11: 1.3. | B11: Önkormányzatok szociális és gyermekjóléti feladatainak támogatása
A12: 1.4. | B12: Önkormányzatok kulturális feladatainak támogatása
A13: 1.5. | B13: Működési célú kvi támogatások és kiegészítő támogatások
A14: 1.6. | B14: Elszámolásból származó bevételek
A15: 2. | B15: Működési célú támogatások államháztartáson belülről (2.1.+…+.2.5.) | C15: =+C16+C17+C18+C19+C20 -> 0
A16: 2.1. | B16: Elvonások és befizetések bevételei
A17: 2.2. | B17: Működési célú garancia- és kezességvállalásból megtérülések
A18: 2.3. | B18: Működési célú visszatérítendő támogatások, kölcsönök visszatérülése
A19: 2.4. | B19: Működési célú visszatérítendő támogatások, kölcsönök igénybevétele
A20: 2.5. | B20: Egyéb működési célú támogatások bevételei
A21: 2.6. | B21: 2.5.-ből EU-s támogatás
A22: 3. | B22: Felhalmozási célú támogatások államháztartáson belülről (3.1.+…+3.5.) | C22: =+C23+C24+C25+C26+C27 -> 0
A23: 3.1. | B23: Felhalmozási célú önkormányzati támogatások
A24: 3.2. | B24: Felhalmozási célú garancia- és kezességvállalásból megtérülések
A25: 3.3. | B25: Felhalmozási célú visszatérítendő támogatások, kölcsönök visszatérülése
A26: 3.4. | B26: Felhalmozási célú visszatérítendő támogatások, kölcsönök igénybevétele
A27: 3.5. | B27: Egyéb felhalmozási célú támogatások bevételei
A28: 3.6. | B28: 3.5.-ből EU-s támogatás
A29: 4. | B29: Közhatalmi bevételek (4.1.+4.2.+4.3.+4.4.) | C29: =+C30+C34+C35+C36 -> 0
A30: 4.1. | B30: Helyi adók (4.1.1.+…+4.1.3.) | C30: =+C31+C32+C33 -> 0
A31: 4.1.1. | B31: - Vagyoni típusú adók
A32: 4.1.2. | B32: - Termékek és szolgáltatások adói
A33: 4.1.3. | B33: - Értékesítési és forgalmi adók (iparűzési adó)
A34: 4.2. | B34: Gépjárműadó
A35: 4.3. | B35: Egyéb áruhasználati és szolgáltatási adók
A36: 4.4. | B36: Egyéb közhatalmi bevételek
A37: 5. | B37: Működési bevételek (5.1.+…+ 5.11.) | C37: =SUM(C38:C48) -> 0
A38: 5.1. | B38: Készletértékesítés ellenértéke
A39: 5.2. | B39: Szolgáltatások ellenértéke
A40: 5.3. | B40: Közvetített szolgáltatások értéke
A41: 5.4. | B41: Tulajdonosi bevételek
A42: 5.5. | B42: Ellátási díjak
A43: 5.6. | B43: Kiszámlázott általános forgalmi adó
A44: 5.7. | B44: Általános forgalmi adó visszatérítése
A45: 5.8. | B45: Kamatbevételek
A46: 5.9. | B46: Egyéb pénzügyi műveletek bevételei
A47: 5.10. | B47: Biztosító által fizetett kártérítés
A48: 5.11. | B48: Egyéb működési bevételek
A49: 6. | B49: Felhalmozási bevételek (6.1.+…+6.5.) | C49: =SUM(C50:C54) -> 0
A50: 6.1. | B50: Immateriális javak értékesítése
A51: 6.2. | B51: Ingatlanok értékesítése
A52: 6.3. | B52: Egyéb tárgyi eszközök értékesítése
A53: 6.4. | B53: Részesedések értékesítése
A54: 6.5. | B54: Részesedések megszűnéséhez kapcsolódó bevételek
A55: 7. | B55: Működési célú átvett pénzeszközök (7.1. + … + 7.3.) | C55: =SUM(C56:C58) -> 0
A56: 7.1. | B56: Működési célú garancia- és kezességvállalásból megtérülések ÁH-n kívülről
A57: 7.2. | B57: Működési célú visszatérítendő támogatások, kölcsönök visszatér. ÁH-n kívülről
A58: 7.3. | B58: Egyéb működési célú átvett pénzeszköz
A59: 7.4. | B59: 7.3.-ból EU-s támogatás (közvetlen)
A60: 8. | B60: Felhalmozási célú átvett pénzeszközök (8.1.+8.2.+8.3.) | C60: =SUM(C61:C63) -> 0
A61: 8.1. | B61: Felhalm. célú garancia- és kezességvállalásból megtérülések ÁH-n kívülről
A62: 8.2. | B62: Felhalm. célú visszatérítendő támogatások, kölcsönök visszatér. ÁH-n kívülről
A63: 8.3. | B63: Egyéb felhalmozási célú átvett pénzeszköz
A64: 8.4. | B64: 8.3.-ból EU-s támogatás (közvetlen)
A65: 9. | B65: KÖLTSÉGVETÉSI BEVÉTELEK ÖSSZESEN: (1+…+8) | C65: =+C8+C15+C22+C29+C37+C49+C55+C60 -> 0
A66: 10. | B66: Hitel-, kölcsönfelvétel államháztartáson kívülről (10.1.+10.3.) | C66: =SUM(C67:C69) -> 0
A67: 10.1. | B67: Hosszú lejáratú hitelek, kölcsönök felvétele
A68: 10.2. | B68: Likviditási célú hitelek, kölcsönök felvétele pénzügyi vállalkozástól
A69: 10.3. | B69: Rövid lejáratú hitelek, kölcsönök felvétele
A70: 11. | B70: Belföldi értékpapírok bevételei (11.1. +…+ 11.4.) | C70: =SUM(C71:C74) -> 0
A71: 11.1. | B71: Forgatási célú belföldi értékpapírok beváltása, értékesítése
A72: 11.2. | B72: Forgatási célú belföldi értékpapírok kibocsátása
A73: 11.3. | B73: Befektetési célú belföldi értékpapírok beváltása, értékesítése
A74: 11.4. | B74: Befektetési célú belföldi értékpapírok kibocsátása
A75: 12. | B75: Maradvány igénybevétele (12.1. + 12.2.) | C75: =SUM(C76:C77) -> 0
A76: 12.1. | B76: Előző év költségvetési maradványának igénybevétele
A77: 12.2. | B77: Előző év vállalkozási maradványának igénybevétele
A78: 13. | B78: Belföldi finanszírozás bevételei (13.1. + … + 13.3.) | C78: =SUM(C79:C81) -> 0
A79: 13.1. | B79: Államháztartáson belüli megelőlegezések
A80: 13.2. | B80: Államháztartáson belüli megelőlegezések törlesztése
A81: 13.3. | B81: Betétek megszüntetése
A82: 14. | B82: Külföldi finanszírozás bevételei (14.1.+…14.4.) | C82: =SUM(C83:C86) -> 0
A83: 14.1. | B83: Forgatási célú külföldi értékpapírok beváltása, értékesítése
A84: 14.2. | B84: Befektetési célú külföldi értékpapírok beváltása, értékesítése
A85: 14.3. | B85: Külföldi értékpapírok kibocsátása
A86: 14.4. | B86: Külföldi hitelek, kölcsönök felvétele
A87: 15. | B87: Váltóbevételek
A88: 16. | B88: Adóssághoz nem kapcsolódó származékos ügyletek bevételei
A89: 17. | B89: FINANSZÍROZÁSI BEVÉTELEK ÖSSZESEN: (10. + … +16.) | C89: =+C66+C70+C75+C78+C82+C88+C87 -> 0
A90: 18. | B90: BEVÉTELEK ÖSSZESEN: (9+17) | C90: =+C65+C89 -> 0
B92: Kiadások
A93: 1. | B93: Működési költségvetés kiadásai (1.1+…+1.5+1.18.) | C93: =+C94+C95+C96+C97+C98+C111 -> 0
A94: 1.1. | B94: Személyi juttatások
A95: 1.2. | B95: Munkaadókat terhelő járulékok és szociális hozzájárulási adó
A96: 1.3. | B96: Dologi kiadások
A97: 1.4. | B97: Ellátottak pénzbeli juttatásai
A98: 1.5 | B98: Egyéb működési célú kiadások
A99: 1.6. | B99: az 1.5-ből: - Előző évi elszámolásból származó befizetések
A100: 1.7. | B100: - Törvényi előíráson alapuló befizetések
A101: 1.8. | B101: - Elvonások és befizetések
...

Sheet 9.1.3. sz. mell
C1: =+CONCATENATE("9.1.3. melléklet a ……/",LEFT(ÖSSZEFÜGGÉSEK!A5,4),". (….) önkormányzati rendelethez") -> 9.1.3. melléklet a ……/2015. (….) önkormányzati rendelethez
A2: Megnevezés | B2: Önkormányzat | C2: 01
A3: Feladat megnevezése | B3: Államigazgatási feladatok bevételei, kiadása | C3: 04
C4: Ezer forintban !
A5: Száma | B5: Előirányzat-csoport, kiemelt előirányzat megnevezése | C5: Előirányzat
A6: A | B6: B | C6: C
B7: Bevételek
A8: 1. | B8: Önkormányzat működési támogatásai (1.1.+…+.1.6.) | C8: =+C9+C10+C11+C12+C13+C14 -> 0
A9: 1.1. | B9: Helyi önkormányzatok működésének általános támogatása
A10: 1.2. | B10: Önkormányzatok egyes köznevelési feladatainak támogatása
A11: 1.3. | B11: Önkormányzatok szociális és gyermekjóléti feladatainak támogatása
A12: 1.4. | B12: Önkormányzatok kulturális feladatainak támogatása
A13: 1.5. | B13: Működési célú kvi támogatások és kiegészítő támogatások
A14: 1.6. | B14: Elszámolásból származó bevételek
A15: 2. | B15: Működési célú támogatások államháztartáson belülről (2.1.+…+.2.5.) | C15: =+C16+C17+C18+C19+C20 -> 0
A16: 2.1. | B16: Elvonások és befizetések bevételei
A17: 2.2. | B17: Működési célú garancia- és kezességvállalásból megtérülések
A18: 2.3. | B18: Működési célú visszatérítendő támogatások, kölcsönök visszatérülése
A19: 2.4. | B19: Működési célú visszatérítendő támogatások, kölcsönök igénybevétele
A20: 2.5. | B20: Egyéb működési célú támogatások bevételei
A21: 2.6. | B21: 2.5.-ből EU-s támogatás
A22: 3. | B22: Felhalmozási célú támogatások államháztartáson belülről (3.1.+…+3.5.) | C22: =+C23+C24+C25+C26+C27 -> 0
A23: 3.1. | B23: Felhalmozási célú önkormányzati támogatások
A24: 3.2. | B24: Felhalmozási célú garancia- és kezességvállalásból megtérülések
A25: 3.3. | B25: Felhalmozási célú visszatérítendő támogatások, kölcsönök visszatérülése
A26: 3.4. | B26: Felhalmozási célú visszatérítendő támogatások, kölcsönök igénybevétele
A27: 3.5. | B27: Egyéb felhalmozási célú támogatások bevételei
A28: 3.6. | B28: 3.5.-ből EU-s támogatás
A29: 4. | B29: Közhatalmi bevételek (4.1.+4.2.+4.3.+4.4.) | C29: =+C30+C34+C35+C36 -> 0
A30: 4.1. | B30: Helyi adók (4.1.1.+…+4.1.3.) | C30: =+C31+C32+C33 -> 0
A31: 4.1.1. | B31: - Vagyoni típusú adók
A32: 4.1.2. | B32: - Termékek és szolgáltatások adói
A33: 4.1.3. | B33: - Értékesítési és forgalmi adók (iparűzési adó)
A34: 4.2. | B34: Gépjárműadó
A35: 4.3. | B35: Egyéb áruhasználati és szolgáltatási adók
A36: 4.4. | B36: Egyéb közhatalmi bevételek
A37: 5. | B37: Működési bevételek (5.1.+…+ 5.11.) | C37: =SUM(C38:C48) -> 0
A38: 5.1. | B38: Készletértékesítés ellenértéke
A39: 5.2. | B39: Szolgáltatások ellenértéke
A40: 5.3. | B40: Közvetített szolgáltatások értéke
A41: 5.4. | B41: Tulajdonosi bevételek
A42: 5.5. | B42: Ellátási díjak
A43: 5.6. | B43: Kiszámlázott általános forgalmi adó
A44: 5.7. | B44: Általános forgalmi adó visszatérítése
A45: 5.8. | B45: Kamatbevételek
A46: 5.9. | B46: Egyéb pénzügyi műveletek bevételei
A47: 5.10. | B47: Biztosító által fizetett kártérítés
A48: 5.11. | B48: Egyéb működési bevételek
A49: 6. | B49: Felhalmozási bevételek (6.1.+…+6.5.) | C49: =SUM(C50:C54) -> 0
A50: 6.1. | B50: Immateriális javak értékesítése
A51: 6.2. | B51: Ingatlanok értékesítése
A52: 6.3. | B52: Egyéb tárgyi eszközök értékesítése
A53: 6.4. | B53: Részesedések értékesítése
A54: 6.5. | B54: Részesedések megszűnéséhez kapcsolódó bevételek
A55: 7. | B55: Működési célú átvett pénzeszközök (7.1. + … + 7.3.) | C55: =SUM(C56:C58) -> 0
A56: 7.1. | B56: Működési célú garancia- és kezességvállalásból megtérülések ÁH-n kívülről
A57: 7.2. | B57: Működési célú visszatérítendő támogatások, kölcsönök visszatér. ÁH-n kívülről
A58: 7.3. | B58: Egyéb működési célú átvett pénzeszköz
A59: 7.4. | B59: 7.3.-ból EU-s támogatás (közvetlen)
A60: 8. | B60: Felhalmozási célú átvett pénzeszközök (8.1.+8.2.+8.3.) | C60: =SUM(C61:C63) -> 0
A61: 8.1. | B61: Felhalm. célú garancia- és kezességvállalásból megtérülések ÁH-n kívülről
A62: 8.2. | B62: Felhalm. célú visszatérítendő támogatások, kölcsönök visszatér. ÁH-n kívülről
A63: 8.3. | B63: Egyéb felhalmozási célú átvett pénzeszköz
A64: 8.4. | B64: 8.3.-ból EU-s támogatás (közvetlen)
A65: 9. | B65: KÖLTSÉGVETÉSI BEVÉTELEK ÖSSZESEN: (1+…+8) | C65: =+C8+C15+C22+C29+C37+C49+C55+C60 -> 0
A66: 10. | B66: Hitel-, kölcsönfelvétel államháztartáson kívülről (10.1.+10.3.) | C66: =SUM(C67:C69) -> 0
A67: 10.1. | B67: Hosszú lejáratú hitelek, kölcsönök felvétele
A68: 10.2. | B68: Likviditási célú hitelek, kölcsönök felvétele pénzügyi vállalkozástól
A69: 10.3. | B69: Rövid lejáratú hitelek, kölcsönök felvétele
A70: 11. | B70: Belföldi értékpapírok bevételei (11.1. +…+ 11.4.) | C70: =SUM(C71:C74) -> 0
A71: 11.1. | B71: Forgatási célú belföldi értékpapírok beváltása, értékesítése
A72: 11.2. | B72: Forgatási célú belföldi értékpapírok kibocsátása
A73: 11.3. | B73: Befektetési célú belföldi értékpapírok beváltása, értékesítése
A74: 11.4. | B74: Befektetési célú belföldi értékpapírok kibocsátása
A75: 12. | B75: Maradvány igénybevétele (12.1. + 12.2.) | C75: =SUM(C76:C77) -> 0
A76: 12.1. | B76: Előző év költségvetési maradványának igénybevétele
A77: 12.2. | B77: Előző év vállalkozási maradványának igénybevétele
A78: 13. | B78: Belföldi finanszírozás bevételei (13.1. + … + 13.3.) | C78: =SUM(C79:C81) -> 0
A79: 13.1. | B79: Államháztartáson belüli megelőlegezések
A80: 13.2. | B80: Államháztartáson belüli megelőlegezések törlesztése
A81: 13.3. | B81: Betétek megszüntetése
A82: 14. | B82: Külföldi finanszírozás bevételei (14.1.+…14.4.) | C82: =SUM(C83:C86) -> 0
