Workbook

Sheet ÖSSZEFÜGGÉSEK
A2: Költségvetési rendelet űrlapjainak összefüggései:
A5: 2015. évi előirányzat BEVÉTELEK
A7: 1.1. sz. melléklet Bevételek táblázat C. oszlop 9 sora = | B7: 2.1. számú melléklet C. oszlop 13. sor + 2.2. számú melléklet C. oszlop 12. sor
A8: 1.1. sz. melléklet Bevételek táblázat C. oszlop 17 sora = | B8: 2.1. számú melléklet C. oszlop 24. sor + 2.2. számú melléklet C. oszlop 25. sor
A9: 1.1. sz. melléklet Bevételek táblázat C. oszlop 18 sora = | B9: 2.1. számú melléklet C. oszlop 25. sor + 2.2. számú melléklet C. oszlop 26. sor
A12: =+CONCATENATE(LEFT(A5,4),". évi előirányzat KIADÁSOK") -> 2015. évi előirányzat KIADÁSOK
A14: 1.1. sz. melléklet Kiadások táblázat C. oszlop 3 sora = | B14: 2.1. számú melléklet E. oszlop 13. sor + 2.2. számú melléklet E. oszlop 12. sor
A15: 1.1. sz. melléklet Kiadások táblázat C. oszlop 10 sora = | B15: 2.1. számú melléklet E. oszlop 24. sor + 2.2. számú melléklet E. oszlop 25. sor
A16: 1.1. sz. melléklet Kiadások táblázat C. oszlop 11 sora = | B16: 2.1. számú melléklet E. oszlop 25. sor + 2.2. számú melléklet E. oszlop 26. sor

Sheet 1.1.sz.mell. Önk. szumma
B1: B E V É T E L E K
F2: Ezer forintban
A3: Sor- szám | B3: Bevételi jogcím | C3: 2015. évi előirányzat | D3: Korábbi módosítás | E3: Jelenlegi módosítás | F3: 2015. évi módosított előirányzat
A4: A | B4: B | C4: C | D4: D | E4: E | F4: F
A5: 1. | B5: Önkormányzat működési támogatásai (1.1.+…+.1.6.) | C5: =+C6+C7+C8+C9+C10+C11 -> 284600 | D5: =+D6+D7+D8+D9+D10+D11 -> 43715 | E5: =+E6+E7+E8+E9+E10+E11 -> 3123 | F5: =+F6+F7+F8+F9+F10+F11 -> 331438 | G5: =+'1.2.1.sz.mell. Önk. összes'!F5+'1.2.2.sz.mell. Hivatal össz.'!F5+'1.2.3.sz.mell.Műv.össz.'!F5+'1.2.4.sz.mell.Vágo.össz.'!F5 -> 331438 | H5: =+F5-G5 -> 0
A6: 1.1. | B6: Helyi önkormányzatok működésének általános támogatása | C6: =+'1.2.1.sz.mell. Önk. összes'!C6+'1.2.2.sz.mell. Hivatal össz.'!C6+'1.2.3.sz.mell.Műv.össz.'!C6+'1.2.4.sz.mell.Vágo.össz.'!C6 -> 134598 | D6: =+'1.2.1.sz.mell. Önk. összes'!D6+'1.2.2.sz.mell. Hivatal össz.'!D6+'1.2.3.sz.mell.Műv.össz.'!D6+'1.2.4.sz.mell.Vágo.össz.'!D6 -> 27672 | E6: =+'1.2.1.sz.mell. Önk. összes'!E6+'1.2.2.sz.mell. Hivatal össz.'!E6+'1.2.3.sz.mell.Műv.össz.'!E6+'1.2.4.sz.mell.Vágo.össz.'!E6 -> -1314 | F6: =+C6+D6+E6 -> 160956 | G6: =+'1.2.1.sz.mell. Önk. összes'!F6+'1.2.2.sz.mell. Hivatal össz.'!F6+'1.2.3.sz.mell.Műv.össz.'!F6+'1.2.4.sz.mell.Vágo.össz.'!F6 -> 160956 | H6: =+F6-G6 -> 0
A7: 1.2. | B7: Önkormányzatok egyes köznevelési feladatainak támogatása | C7: =+'1.2.1.sz.mell. Önk. összes'!C7+'1.2.2.sz.mell. Hivatal össz.'!C7+'1.2.3.sz.mell.Műv.össz.'!C7+'1.2.4.sz.mell.Vágo.össz.'!C7 -> 62198 | D7: =+'1.2.1.sz.mell. Önk. összes'!D7+'1.2.2.sz.mell. Hivatal össz.'!D7+'1.2.3.sz.mell.Műv.össz.'!D7+'1.2.4.sz.mell.Vágo.össz.'!D7 -> -10673 | E7: =+'1.2.1.sz.mell. Önk. összes'!E7+'1.2.2.sz.mell. Hivatal össz.'!E7+'1.2.3.sz.mell.Műv.össz.'!E7+'1.2.4.sz.mell.Vágo.össz.'!E7 -> -5529 | F7: =+C7+D7+E7 -> 45996 | G7: =+'1.2.1.sz.mell. Önk. összes'!F7+'1.2.2.sz.mell. Hivatal össz.'!F7+'1.2.3.sz.mell.Műv.össz.'!F7+'1.2.4.sz.mell.Vágo.össz.'!F7 -> 45996 | H7: =+F7-G7 -> 0
A8: 1.3. | B8: Önkormányzatok szociális és gyermekjóléti feladatainak támogatása | C8: =+'1.2.1.sz.mell. Önk. összes'!C8+'1.2.2.sz.mell. Hivatal össz.'!C8+'1.2.3.sz.mell.Műv.össz.'!C8+'1.2.4.sz.mell.Vágo.össz.'!C8 -> 40414 | D8: =+'1.2.1.sz.mell. Önk. összes'!D8+'1.2.2.sz.mell. Hivatal össz.'!D8+'1.2.3.sz.mell.Műv.össz.'!D8+'1.2.4.sz.mell.Vágo.össz.'!D8 -> 71109 | E8: =+'1.2.1.sz.mell. Önk. összes'!E8+'1.2.2.sz.mell. Hivatal össz.'!E8+'1.2.3.sz.mell.Műv.össz.'!E8+'1.2.4.sz.mell.Vágo.össz.'!E8 -> -39082 | F8: =+C8+D8+E8 -> 72441 | G8: =+'1.2.1.sz.mell. Önk. összes'!F8+'1.2.2.sz.mell. Hivatal össz.'!F8+'1.2.3.sz.mell.Műv.össz.'!F8+'1.2.4.sz.mell.Vágo.össz.'!F8 -> 72441 | H8: =+F8-G8 -> 0
A9: 1.4. | B9: Önkormányzatok kulturális feladatainak támogatása | C9: =+'1.2.1.sz.mell. Önk. összes'!C9+'1.2.2.sz.mell. Hivatal össz.'!C9+'1.2.3.sz.mell.Műv.össz.'!C9+'1.2.4.sz.mell.Vágo.össz.'!C9 -> 2997 | D9: =+'1.2.1.sz.mell. Önk. összes'!D9+'1.2.2.sz.mell. Hivatal össz.'!D9+'1.2.3.sz.mell.Műv.össz.'!D9+'1.2.4.sz.mell.Vágo.össz.'!D9 -> 0 | E9: =+'1.2.1.sz.mell. Önk. összes'!E9+'1.2.2.sz.mell. Hivatal össz.'!E9+'1.2.3.sz.mell.Műv.össz.'!E9+'1.2.4.sz.mell.Vágo.össz.'!E9 -> 138 | F9: =+C9+D9+E9 -> 3135 | G9: =+'1.2.1.sz.mell. Önk. összes'!F9+'1.2.2.sz.mell. Hivatal össz.'!F9+'1.2.3.sz.mell.Műv.össz.'!F9+'1.2.4.sz.mell.Vágo.össz.'!F9 -> 3135 | H9: =+F9-G9 -> 0
A10: 1.5. | B10: Működési célú kvi támogatások és kiegészítő támogatások | C10: =+'1.2.1.sz.mell. Önk. összes'!C10+'1.2.2.sz.mell. Hivatal össz.'!C10+'1.2.3.sz.mell.Műv.össz.'!C10+'1.2.4.sz.mell.Vágo.össz.'!C10 -> 34919 | D10: =+'1.2.1.sz.mell. Önk. összes'!D10+'1.2.2.sz.mell. Hivatal össz.'!D10+'1.2.3.sz.mell.Műv.össz.'!D10+'1.2.4.sz.mell.Vágo.össz.'!D10 -> -34919 | E10: =+'1.2.1.sz.mell. Önk. összes'!E10+'1.2.2.sz.mell. Hivatal össz.'!E10+'1.2.3.sz.mell.Műv.össz.'!E10+'1.2.4.sz.mell.Vágo.össz.'!E10 -> 48910 | F10: =+C10+D10+E10 -> 48910 | G10: =+'1.2.1.sz.mell. Önk. összes'!F10+'1.2.2.sz.mell. Hivatal össz.'!F10+'1.2.3.sz.mell.Műv.össz.'!F10+'1.2.4.sz.mell.Vágo.össz.'!F10 -> 48910 | H10: =+F10-G10 -> 0
A11: 1.6. | B11: Elszámolásból származó bevételek | C11: =+'1.2.1.sz.mell. Önk. összes'!C11+'1.2.2.sz.mell. Hivatal össz.'!C11+'1.2.3.sz.mell.Műv.össz.'!C11+'1.2.4.sz.mell.Vágo.össz.'!C11 -> 9474 | D11: =+'1.2.1.sz.mell. Önk. összes'!D11+'1.2.2.sz.mell. Hivatal össz.'!D11+'1.2.3.sz.mell.Műv.össz.'!D11+'1.2.4.sz.mell.Vágo.össz.'!D11 -> -9474 | E11: =+'1.2.1.sz.mell. Önk. összes'!E11+'1.2.2.sz.mell. Hivatal össz.'!E11+'1.2.3.sz.mell.Műv.össz.'!E11+'1.2.4.sz.mell.Vágo.össz.'!E11 -> 0 | F11: =+C11+D11+E11 -> 0 | G11: =+'1.2.1.sz.mell. Önk. összes'!F11+'1.2.2.sz.mell. Hivatal össz.'!F11+'1.2.3.sz.mell.Műv.össz.'!F11+'1.2.4.sz.mell.Vágo.össz.'!F11 -> 0 | H11: =+F11-G11 -> 0
A12: 2. | B12: Működési célú támogatások államháztartáson belülről (2.1.+…+.2.5.) | C12: =+C13+C14+C15+C16+C17 -> 19440 | D12: =+D13+D14+D15+D16+D17 -> 143203 | E12: =+E13+E14+E15+E16+E17 -> 10629 | F12: =+F13+F14+F15+F16+F17 -> 173272 | G12: =+'1.2.1.sz.mell. Önk. összes'!F12+'1.2.2.sz.mell. Hivatal össz.'!F12+'1.2.3.sz.mell.Műv.össz.'!F12+'1.2.4.sz.mell.Vágo.össz.'!F12 -> 173272 | H12: =+F12-G12 -> 0
A13: 2.1. | B13: Elvonások és befizetések bevételei | C13: =+'1.2.1.sz.mell. Önk. összes'!C13+'1.2.2.sz.mell. Hivatal össz.'!C13+'1.2.3.sz.mell.Műv.össz.'!C13+'1.2.4.sz.mell.Vágo.össz.'!C13 -> 0 | D13: =+'1.2.1.sz.mell. Önk. összes'!D13+'1.2.2.sz.mell. Hivatal össz.'!D13+'1.2.3.sz.mell.Műv.össz.'!D13+'1.2.4.sz.mell.Vágo.össz.'!D13 -> 0 | E13: =+'1.2.1.sz.mell. Önk. összes'!E13+'1.2.2.sz.mell. Hivatal össz.'!E13+'1.2.3.sz.mell.Műv.össz.'!E13+'1.2.4.sz.mell.Vágo.össz.'!E13 -> 0 | F13: =+C13+D13+E13 -> 0 | G13: =+'1.2.1.sz.mell. Önk. összes'!F13+'1.2.2.sz.mell. Hivatal össz.'!F13+'1.2.3.sz.mell.Műv.össz.'!F13+'1.2.4.sz.mell.Vágo.össz.'!F13 -> 0 | H13: =+F13-G13 -> 0
A14: 2.2. | B14: Működési célú garancia- és kezességvállalásból megtérülések | C14: =+'1.2.1.sz.mell. Önk. összes'!C14+'1.2.2.sz.mell. Hivatal össz.'!C14+'1.2.3.sz.mell.Műv.össz.'!C14+'1.2.4.sz.mell.Vágo.össz.'!C14 -> 0 | D14: =+'1.2.1.sz.mell. Önk. összes'!D14+'1.2.2.sz.mell. Hivatal össz.'!D14+'1.2.3.sz.mell.Műv.össz.'!D14+'1.2.4.sz.mell.Vágo.össz.'!D14 -> 0 | E14: =+'1.2.1.sz.mell. Önk. összes'!E14+'1.2.2.sz.mell. Hivatal össz.'!E14+'1.2.3.sz.mell.Műv.össz.'!E14+'1.2.4.sz.mell.Vágo.össz.'!E14 -> 0 | F14: =+C14+D14+E14 -> 0 | G14: =+'1.2.1.sz.mell. Önk. összes'!F14+'1.2.2.sz.mell. Hivatal össz.'!F14+'1.2.3.sz.mell.Műv.össz.'!F14+'1.2.4.sz.mell.Vágo.össz.'!F14 -> 0 | H14: =+F14-G14 -> 0
A15: 2.3. | B15: Működési célú visszatérítendő támogatások, kölcsönök visszatérülése | C15: =+'1.2.1.sz.mell. Önk. összes'!C15+'1.2.2.sz.mell. Hivatal össz.'!C15+'1.2.3.sz.mell.Műv.össz.'!C15+'1.2.4.sz.mell.Vágo.össz.'!C15 -> 0 | D15: =+'1.2.1.sz.mell. Önk. összes'!D15+'1.2.2.sz.mell. Hivatal össz.'!D15+'1.2.3.sz.mell.Műv.össz.'!D15+'1.2.4.sz.mell.Vágo.össz.'!D15 -> 0 | E15: =+'1.2.1.sz.mell. Önk. összes'!E15+'1.2.2.sz.mell. Hivatal össz.'!E15+'1.2.3.sz.mell.Műv.össz.'!E15+'1.2.4.sz.mell.Vágo.össz.'!E15 -> 0 | F15: =+C15+D15+E15 -> 0 | G15: =+'1.2.1.sz.mell. Önk. összes'!F15+'1.2.2.sz.mell. Hivatal össz.'!F15+'1.2.3.sz.mell.Műv.össz.'!F15+'1.2.4.sz.mell.Vágo.össz.'!F15 -> 0 | H15: =+F15-G15 -> 0
A16: 2.4. | B16: Működési célú visszatérítendő támogatások, kölcsönök igénybevétele | C16: =+'1.2.1.sz.mell. Önk. összes'!C16+'1.2.2.sz.mell. Hivatal össz.'!C16+'1.2.3.sz.mell.Műv.össz.'!C16+'1.2.4.sz.mell.Vágo.össz.'!C16 -> 0 | D16: =+'1.2.1.sz.mell. Önk. összes'!D16+'1.2.2.sz.mell. Hivatal össz.'!D16+'1.2.3.sz.mell.Műv.össz.'!D16+'1.2.4.sz.mell.Vágo.össz.'!D16 -> 0 | E16: =+'1.2.1.sz.mell. Önk. összes'!E16+'1.2.2.sz.mell. Hivatal össz.'!E16+'1.2.3.sz.mell.Műv.össz.'!E16+'1.2.4.sz.mell.Vágo.össz.'!E16 -> 0 | F16: =+C16+D16+E16 -> 0 | G16: =+'1.2.1.sz.mell. Önk. összes'!F16+'1.2.2.sz.mell. Hivatal össz.'!F16+'1.2.3.sz.mell.Műv.össz.'!F16+'1.2.4.sz.mell.Vágo.össz.'!F16 -> 0 | H16: =+F16-G16 -> 0
A17: 2.5. | B17: Egyéb működési célú támogatások bevételei | C17: =+'1.2.1.sz.mell. Önk. összes'!C17+'1.2.2.sz.mell. Hivatal össz.'!C17+'1.2.3.sz.mell.Műv.össz.'!C17+'1.2.4.sz.mell.Vágo.össz.'!C17 -> 19440 | D17: =+'1.2.1.sz.mell. Önk. összes'!D17+'1.2.2.sz.mell. Hivatal össz.'!D17+'1.2.3.sz.mell.Műv.össz.'!D17+'1.2.4.sz.mell.Vágo.össz.'!D17 -> 143203 | E17: 10629 | F17: =+C17+D17+E17 -> 173272 | G17: =+'1.2.1.sz.mell. Önk. összes'!F17+'1.2.2.sz.mell. Hivatal össz.'!F17+'1.2.3.sz.mell.Műv.össz.'!F17+'1.2.4.sz.mell.Vágo.össz.'!F17 -> 173272 | H17: =+F17-G17 -> 0
A18: 2.6. | B18: 2.5.-ből EU-s támogatás | C18: =+'1.2.1.sz.mell. Önk. összes'!C18+'1.2.2.sz.mell. Hivatal össz.'!C18+'1.2.3.sz.mell.Műv.össz.'!C18+'1.2.4.sz.mell.Vágo.össz.'!C18 -> 0 | D18: =+'1.2.1.sz.mell. Önk. összes'!D18+'1.2.2.sz.mell. Hivatal össz.'!D18+'1.2.3.sz.mell.Műv.össz.'!D18+'1.2.4.sz.mell.Vágo.össz.'!D18 -> 0 | E18: =+'1.2.1.sz.mell. Önk. összes'!E18+'1.2.2.sz.mell. Hivatal össz.'!E18+'1.2.3.sz.mell.Műv.össz.'!E18+'1.2.4.sz.mell.Vágo.össz.'!E18 -> 0 | F18: =+C18+D18+E18 -> 0 | G18: =+'1.2.1.sz.mell. Önk. összes'!F18+'1.2.2.sz.mell. Hivatal össz.'!F18+'1.2.3.sz.mell.Műv.össz.'!F18+'1.2.4.sz.mell.Vágo.össz.'!F18 -> 0 | H18: =+F18-G18 -> 0
A19: 3. | B19: Felhalmozási célú támogatások államháztartáson belülről (3.1.+…+3.5.) | C19: =+C20+C21+C22+C23+C24 -> 0 | D19: =+D20+D21+D22+D23+D24 -> 0 | E19: =+E20+E21+E22+E23+E24 -> 80060 | F19: =+F20+F21+F22+F23+F24 -> 80060 | G19: =+'1.2.1.sz.mell. Önk. összes'!F19+'1.2.2.sz.mell. Hivatal össz.'!F19+'1.2.3.sz.mell.Műv.össz.'!F19+'1.2.4.sz.mell.Vágo.össz.'!F19 -> 80060 | H19: =+F19-G19 -> 0
A20: 3.1. | B20: Felhalmozási célú önkormányzati támogatások | C20: =+'1.2.1.sz.mell. Önk. összes'!C20+'1.2.2.sz.mell. Hivatal össz.'!C20+'1.2.3.sz.mell.Műv.össz.'!C20+'1.2.4.sz.mell.Vágo.össz.'!C20 -> 0 | D20: =+'1.2.1.sz.mell. Önk. összes'!D20+'1.2.2.sz.mell. Hivatal össz.'!D20+'1.2.3.sz.mell.Műv.össz.'!D20+'1.2.4.sz.mell.Vágo.össz.'!D20 -> 0 | E20: =+'1.2.1.sz.mell. Önk. összes'!E20+'1.2.2.sz.mell. Hivatal össz.'!E20+'1.2.3.sz.mell.Műv.össz.'!E20+'1.2.4.sz.mell.Vágo.össz.'!E20 -> 28500 | F20: =+C20+D20+E20 -> 28500 | G20: =+'1.2.1.sz.mell. Önk. összes'!F20+'1.2.2.sz.mell. Hivatal össz.'!F20+'1.2.3.sz.mell.Műv.össz.'!F20+'1.2.4.sz.mell.Vágo.össz.'!F20 -> 28500 | H20: =+F20-G20 -> 0
A21: 3.2. | B21: Felhalmozási célú garancia- és kezességvállalásból megtérülések | C21: =+'1.2.1.sz.mell. Önk. összes'!C21+'1.2.2.sz.mell. Hivatal össz.'!C21+'1.2.3.sz.mell.Műv.össz.'!C21+'1.2.4.sz.mell.Vágo.össz.'!C21 -> 0 | D21: =+'1.2.1.sz.mell. Önk. összes'!D21+'1.2.2.sz.mell. Hivatal össz.'!D21+'1.2.3.sz.mell.Műv.össz.'!D21+'1.2.4.sz.mell.Vágo.össz.'!D21 -> 0 | E21: =+'1.2.1.sz.mell. Önk. összes'!E21+'1.2.2.sz.mell. Hivatal össz.'!E21+'1.2.3.sz.mell.Műv.össz.'!E21+'1.2.4.sz.mell.Vágo.össz.'!E21 -> 0 | F21: =+C21+D21+E21 -> 0 | G21: =+'1.2.1.sz.mell. Önk. összes'!F21+'1.2.2.sz.mell. Hivatal össz.'!F21+'1.2.3.sz.mell.Műv.össz.'!F21+'1.2.4.sz.mell.Vágo.össz.'!F21 -> 0 | H21: =+F21-G21 -> 0
A22: 3.3. | B22: Felhalmozási célú visszatérítendő támogatások, kölcsönök visszatérülése | C22: =+'1.2.1.sz.mell. Önk. összes'!C22+'1.2.2.sz.mell. Hivatal össz.'!C22+'1.2.3.sz.mell.Műv.össz.'!C22+'1.2.4.sz.mell.Vágo.össz.'!C22 -> 0 | D22: =+'1.2.1.sz.mell. Önk. összes'!D22+'1.2.2.sz.mell. Hivatal össz.'!D22+'1.2.3.sz.mell.Műv.össz.'!D22+'1.2.4.sz.mell.Vágo.össz.'!D22 -> 0 | E22: =+'1.2.1.sz.mell. Önk. összes'!E22+'1.2.2.sz.mell. Hivatal össz.'!E22+'1.2.3.sz.mell.Műv.össz.'!E22+'1.2.4.sz.mell.Vágo.össz.'!E22 -> 0 | F22: =+C22+D22+E22 -> 0 | G22: =+'1.2.1.sz.mell. Önk. összes'!F22+'1.2.2.sz.mell. Hivatal össz.'!F22+'1.2.3.sz.mell.Műv.össz.'!F22+'1.2.4.sz.mell.Vágo.össz.'!F22 -> 0 | H22: =+F22-G22 -> 0
A23: 3.4. | B23: Felhalmozási célú visszatérítendő támogatások, kölcsönök igénybevétele | C23: =+'1.2.1.sz.mell. Önk. összes'!C23+'1.2.2.sz.mell. Hivatal össz.'!C23+'1.2.3.sz.mell.Műv.össz.'!C23+'1.2.4.sz.mell.Vágo.össz.'!C23 -> 0 | D23: =+'1.2.1.sz.mell. Önk. összes'!D23+'1.2.2.sz.mell. Hivatal össz.'!D23+'1.2.3.sz.mell.Műv.össz.'!D23+'1.2.4.sz.mell.Vágo.össz.'!D23 -> 0 | E23: =+'1.2.1.sz.mell. Önk. összes'!E23+'1.2.2.sz.mell. Hivatal össz.'!E23+'1.2.3.sz.mell.Műv.össz.'!E23+'1.2.4.sz.mell.Vágo.össz.'!E23 -> 0 | F23: =+C23+D23+E23 -> 0 | G23: =+'1.2.1.sz.mell. Önk. összes'!F23+'1.2.2.sz.mell. Hivatal össz.'!F23+'1.2.3.sz.mell.Műv.össz.'!F23+'1.2.4.sz.mell.Vágo.össz.'!F23 -> 0 | H23: =+F23-G23 -> 0
A24: 3.5. | B24: Egyéb felhalmozási célú támogatások bevételei | C24: =+'1.2.1.sz.mell. Önk. összes'!C24+'1.2.2.sz.mell. Hivatal össz.'!C24+'1.2.3.sz.mell.Műv.össz.'!C24+'1.2.4.sz.mell.Vágo.össz.'!C24 -> 0 | D24: =+'1.2.1.sz.mell. Önk. összes'!D24+'1.2.2.sz.mell. Hivatal össz.'!D24+'1.2.3.sz.mell.Műv.össz.'!D24+'1.2.4.sz.mell.Vágo.össz.'!D24 -> 0 | E24: ='1.2.1.sz.mell. Önk. összes'!E24 -> 51560 | F24: =+C24+D24+E24 -> 51560 | G24: =+'1.2.1.sz.mell. Önk. összes'!F24+'1.2.2.sz.mell. Hivatal össz.'!F24+'1.2.3.sz.mell.Műv.össz.'!F24+'1.2.4.sz.mell.Vágo.össz.'!F24 -> 51560 | H24: =+F24-G24 -> 0
A25: 3.6. | B25: 3.5.-ből EU-s támogatás | C25: =+'1.2.1.sz.mell. Önk. összes'!C25+'1.2.2.sz.mell. Hivatal össz.'!C25+'1.2.3.sz.mell.Műv.össz.'!C25+'1.2.4.sz.mell.Vágo.össz.'!C25 -> 0 | D25: =+'1.2.1.sz.mell. Önk. összes'!D25+'1.2.2.sz.mell. Hivatal össz.'!D25+'1.2.3.sz.mell.Műv.össz.'!D25+'1.2.4.sz.mell.Vágo.össz.'!D25 -> 0 | E25: =+'1.2.1.sz.mell. Önk. összes'!E25+'1.2.2.sz.mell. Hivatal össz.'!E25+'1.2.3.sz.mell.Műv.össz.'!E25+'1.2.4.sz.mell.Vágo.össz.'!E25 -> 0 | F25: =+C25+D25+E25 -> 0 | G25: =+'1.2.1.sz.mell. Önk. összes'!F25+'1.2.2.sz.mell. Hivatal össz.'!F25+'1.2.3.sz.mell.Műv.össz.'!F25+'1.2.4.sz.mell.Vágo.össz.'!F25 -> 0 | H25: =+F25-G25 -> 0
A26: 4. | B26: Közhatalmi bevételek (4.1.+4.2.+4.3.+4.4.) | C26: =+C27+C31+C32+C33 -> 209000 | D26: =+D27+D31+D32+D33 -> 0 | E26: =+E27+E31+E32+E33 -> 0 | F26: =+F27+F31+F32+F33 -> 209000 | G26: =+'1.2.1.sz.mell. Önk. összes'!F26+'1.2.2.sz.mell. Hivatal össz.'!F26+'1.2.3.sz.mell.Műv.össz.'!F26+'1.2.4.sz.mell.Vágo.össz.'!F26 -> 209000 | H26: =+F26-G26 -> 0
A27: 4.1. | B27: Helyi adók (4.1.1.+...+4.1.3.) | C27: =+C28+C29+C30 -> 201000 | D27: =+D28+D29+D30 -> 0 | E27: =+E28+E29+E30 -> 0 | F27: =+C27+D27+E27 -> 201000 | G27: =+'1.2.1.sz.mell. Önk. összes'!F27+'1.2.2.sz.mell. Hivatal össz.'!F27+'1.2.3.sz.mell.Műv.össz.'!F27+'1.2.4.sz.mell.Vágo.össz.'!F27 -> 201000 | H27: =+F27-G27 -> 0
A28: 4.1.1. | B28: - Vagyoni típusú adók | C28: =+'1.2.1.sz.mell. Önk. összes'!C28+'1.2.2.sz.mell. Hivatal össz.'!C28+'1.2.3.sz.mell.Műv.össz.'!C28+'1.2.4.sz.mell.Vágo.össz.'!C28 -> 125000 | D28: =+'1.2.1.sz.mell. Önk. összes'!D28+'1.2.2.sz.mell. Hivatal össz.'!D28+'1.2.3.sz.mell.Műv.össz.'!D28+'1.2.4.sz.mell.Vágo.össz.'!D28 -> 0 | E28: =+'1.2.1.sz.mell. Önk. összes'!E28+'1.2.2.sz.mell. Hivatal össz.'!E28+'1.2.3.sz.mell.Műv.össz.'!E28+'1.2.4.sz.mell.Vágo.össz.'!E28 -> 0 | F28: =+C28+D28+E28 -> 125000 | G28: =+'1.2.1.sz.mell. Önk. összes'!F28+'1.2.2.sz.mell. Hivatal össz.'!F28+'1.2.3.sz.mell.Műv.össz.'!F28+'1.2.4.sz.mell.Vágo.össz.'!F28 -> 125000 | H28: =+F28-G28 -> 0
A29: 4.1.2. | B29: - Termékek és szolgáltatások adói | C29: =+'1.2.1.sz.mell. Önk. összes'!C29+'1.2.2.sz.mell. Hivatal össz.'!C29+'1.2.3.sz.mell.Műv.össz.'!C29+'1.2.4.sz.mell.Vágo.össz.'!C29 -> 18000 | D29: =+'1.2.1.sz.mell. Önk. összes'!D29+'1.2.2.sz.mell. Hivatal össz.'!D29+'1.2.3.sz.mell.Műv.össz.'!D29+'1.2.4.sz.mell.Vágo.össz.'!D29 -> 0 | E29: =+'1.2.1.sz.mell. Önk. összes'!E29+'1.2.2.sz.mell. Hivatal össz.'!E29+'1.2.3.sz.mell.Műv.össz.'!E29+'1.2.4.sz.mell.Vágo.össz.'!E29 -> 0 | F29: =+C29+D29+E29 -> 18000 | G29: =+'1.2.1.sz.mell. Önk. összes'!F29+'1.2.2.sz.mell. Hivatal össz.'!F29+'1.2.3.sz.mell.Műv.össz.'!F29+'1.2.4.sz.mell.Vágo.össz.'!F29 -> 18000 | H29: =+F29-G29 -> 0
A30: 4.1.3. | B30: - Értékesítési és forgalmi adók (iparűzési adó) | C30: =+'1.2.1.sz.mell. Önk. összes'!C30+'1.2.2.sz.mell. Hivatal össz.'!C30+'1.2.3.sz.mell.Műv.össz.'!C30+'1.2.4.sz.mell.Vágo.össz.'!C30 -> 58000 | D30: =+'1.2.1.sz.mell. Önk. összes'!D30+'1.2.2.sz.mell. Hivatal össz.'!D30+'1.2.3.sz.mell.Műv.össz.'!D30+'1.2.4.sz.mell.Vágo.össz.'!D30 -> 0 | E30: =+'1.2.1.sz.mell. Önk. összes'!E30+'1.2.2.sz.mell. Hivatal össz.'!E30+'1.2.3.sz.mell.Műv.össz.'!E30+'1.2.4.sz.mell.Vágo.össz.'!E30 -> 0 | F30: =+C30+D30+E30 -> 58000 | G30: =+'1.2.1.sz.mell. Önk. összes'!F30+'1.2.2.sz.mell. Hivatal össz.'!F30+'1.2.3.sz.mell.Műv.össz.'!F30+'1.2.4.sz.mell.Vágo.össz.'!F30 -> 58000 | H30: =+F30-G30 -> 0
A31: 4.2. | B31: Gépjárműadó | C31: =+'1.2.1.sz.mell. Önk. összes'!C31+'1.2.2.sz.mell. Hivatal össz.'!C31+'1.2.3.sz.mell.Műv.össz.'!C31+'1.2.4.sz.mell.Vágo.össz.'!C31 -> 7000 | D31: =+'1.2.1.sz.mell. Önk. összes'!D31+'1.2.2.sz.mell. Hivatal össz.'!D31+'1.2.3.sz.mell.Műv.össz.'!D31+'1.2.4.sz.mell.Vágo.össz.'!D31 -> 0 | E31: =+'1.2.1.sz.mell. Önk. összes'!E31+'1.2.2.sz.mell. Hivatal össz.'!E31+'1.2.3.sz.mell.Műv.össz.'!E31+'1.2.4.sz.mell.Vágo.össz.'!E31 -> 0 | F31: =+C31+D31+E31 -> 7000 | G31: =+'1.2.1.sz.mell. Önk. összes'!F31+'1.2.2.sz.mell. Hivatal össz.'!F31+'1.2.3.sz.mell.Műv.össz.'!F31+'1.2.4.sz.mell.Vágo.össz.'!F31 -> 7000 | H31: =+F31-G31 -> 0
A32: 4.3. | B32: Egyéb áruhasználati és szolgáltatási adók | C32: =+'1.2.1.sz.mell. Önk. összes'!C32+'1.2.2.sz.mell. Hivatal össz.'!C32+'1.2.3.sz.mell.Műv.össz.'!C32+'1.2.4.sz.mell.Vágo.össz.'!C32 -> 0 | D32: =+'1.2.1.sz.mell. Önk. összes'!D32+'1.2.2.sz.mell. Hivatal össz.'!D32+'1.2.3.sz.mell.Műv.össz.'!D32+'1.2.4.sz.mell.Vágo.össz.'!D32 -> 0 | E32: =+'1.2.1.sz.mell. Önk. összes'!E32+'1.2.2.sz.mell. Hivatal össz.'!E32+'1.2.3.sz.mell.Műv.össz.'!E32+'1.2.4.sz.mell.Vágo.össz.'!E32 -> 0 | F32: =+C32+D32+E32 -> 0 | G32: =+'1.2.1.sz.mell. Önk. összes'!F32+'1.2.2.sz.mell. Hivatal össz.'!F32+'1.2.3.sz.mell.Műv.össz.'!F32+'1.2.4.sz.mell.Vágo.össz.'!F32 -> 0 | H32: =+F32-G32 -> 0
A33: 4.4. | B33: Egyéb közhatalmi bevételek | C33: =+'1.2.1.sz.mell. Önk. összes'!C33+'1.2.2.sz.mell. Hivatal össz.'!C33+'1.2.3.sz.mell.Műv.össz.'!C33+'1.2.4.sz.mell.Vágo.össz.'!C33 -> 1000 | D33: =+'1.2.1.sz.mell. Önk. összes'!D33+'1.2.2.sz.mell. Hivatal össz.'!D33+'1.2.3.sz.mell.Műv.össz.'!D33+'1.2.4.sz.mell.Vágo.össz.'!D33 -> 0 | E33: =+'1.2.1.sz.mell. Önk. összes'!E33+'1.2.2.sz.mell. Hivatal össz.'!E33+'1.2.3.sz.mell.Műv.össz.'!E33+'1.2.4.sz.mell.Vágo.össz.'!E33 -> 0 | F33: =+C33+D33+E33 -> 1000 | G33: =+'1.2.1.sz.mell. Önk. összes'!F33+'1.2.2.sz.mell. Hivatal össz.'!F33+'1.2.3.sz.mell.Műv.össz.'!F33+'1.2.4.sz.mell.Vágo.össz.'!F33 -> 1000 | H33: =+F33-G33 -> 0
A34: 5. | B34: Működési bevételek (5.1.+…+ 5.11.) | C34: =SUM(C35:C45) -> 102389 | D34: =SUM(D35:D45) -> 5650 | E34: =SUM(E35:E45) -> 14319 | F34: =SUM(F35:F45) -> 122358 | G34: =+'1.2.1.sz.mell. Önk. összes'!F34+'1.2.2.sz.mell. Hivatal össz.'!F34+'1.2.3.sz.mell.Műv.össz.'!F34+'1.2.4.sz.mell.Vágo.össz.'!F34 -> 122358 | H34: =+F34-G34 -> 0
A35: 5.1. | B35: Készletértékesítés ellenértéke | C35: =+'1.2.1.sz.mell. Önk. összes'!C35+'1.2.2.sz.mell. Hivatal össz.'!C35+'1.2.3.sz.mell.Műv.össz.'!C35+'1.2.4.sz.mell.Vágo.össz.'!C35 -> 0 | D35: =+'1.2.1.sz.mell. Önk. összes'!D35+'1.2.2.sz.mell. Hivatal össz.'!D35+'1.2.3.sz.mell.Műv.össz.'!D35+'1.2.4.sz.mell.Vágo.össz.'!D35 -> 0 | E35: =+'1.2.1.sz.mell. Önk. összes'!E35+'1.2.2.sz.mell. Hivatal össz.'!E35+'1.2.3.sz.mell.Műv.össz.'!E35+'1.2.4.sz.mell.Vágo.össz.'!E35 -> 0 | F35: =+C35+D35+E35 -> 0 | G35: =+'1.2.1.sz.mell. Önk. összes'!F35+'1.2.2.sz.mell. Hivatal össz.'!F35+'1.2.3.sz.mell.Műv.össz.'!F35+'1.2.4.sz.mell.Vágo.össz.'!F35 -> 0 | H35: =+F35-G35 -> 0
A36: 5.2. | B36: Szolgáltatások ellenértéke | C36: =+'1.2.1.sz.mell. Önk. összes'!C36+'1.2.2.sz.mell. Hivatal össz.'!C36+'1.2.3.sz.mell.Műv.össz.'!C36+'1.2.4.sz.mell.Vágo.össz.'!C36 -> 62900 | D36: =+'1.2.1.sz.mell. Önk. összes'!D36+'1.2.2.sz.mell. Hivatal össz.'!D36+'1.2.3.sz.mell.Műv.össz.'!D36+'1.2.4.sz.mell.Vágo.össz.'!D36 -> 12170 | E36: =+'1.2.1.sz.mell. Önk. összes'!E36+'1.2.2.sz.mell. Hivatal össz.'!E36+'1.2.3.sz.mell.Műv.össz.'!E36+'1.2.4.sz.mell.Vágo.össz.'!E36 -> 558 | F36: =+C36+D36+E36 -> 75628 | G36: =+'1.2.1.sz.mell. Önk. összes'!F36+'1.2.2.sz.mell. Hivatal össz.'!F36+'1.2.3.sz.mell.Műv.össz.'!F36+'1.2.4.sz.mell.Vágo.össz.'!F36 -> 75628 | H36: =+F36-G36 -> 0
A37: 5.3. | B37: Közvetített szolgáltatások értéke | C37: =+'1.2.1.sz.mell. Önk. összes'!C37+'1.2.2.sz.mell. Hivatal össz.'!C37+'1.2.3.sz.mell.Műv.össz.'!C37+'1.2.4.sz.mell.Vágo.össz.'!C37 -> 2000 | D37: =+'1.2.1.sz.mell. Önk. összes'!D37+'1.2.2.sz.mell. Hivatal össz.'!D37+'1.2.3.sz.mell.Műv.össz.'!D37+'1.2.4.sz.mell.Vágo.össz.'!D37 -> 1200 | E37: =+'1.2.1.sz.mell. Önk. összes'!E37+'1.2.2.sz.mell. Hivatal össz.'!E37+'1.2.3.sz.mell.Műv.össz.'!E37+'1.2.4.sz.mell.Vágo.össz.'!E37 -> 2875 | F37: =+C37+D37+E37 -> 6075 | G37: =+'1.2.1.sz.mell. Önk. összes'!F37+'1.2.2.sz.mell. Hivatal össz.'!F37+'1.2.3.sz.mell.Műv.össz.'!F37+'1.2.4.sz.mell.Vágo.össz.'!F37 -> 6075 | H37: =+F37-G37 -> 0
A38: 5.4. | B38: Tulajdonosi bevételek | C38: =+'1.2.1.sz.mell. Önk. összes'!C38+'1.2.2.sz.mell. Hivatal össz.'!C38+'1.2.3.sz.mell.Műv.össz.'!C38+'1.2.4.sz.mell.Vágo.össz.'!C38 -> 5010 | D38: =+'1.2.1.sz.mell. Önk. összes'!D38+'1.2.2.sz.mell. Hivatal össz.'!D38+'1.2.3.sz.mell.Műv.össz.'!D38+'1.2.4.sz.mell.Vágo.össz.'!D38 -> -1010 | E38: =+'1.2.1.sz.mell. Önk. összes'!E38+'1.2.2.sz.mell. Hivatal össz.'!E38+'1.2.3.sz.mell.Műv.össz.'!E38+'1.2.4.sz.mell.Vágo.össz.'!E38 -> 1430 | F38: =+C38+D38+E38 -> 5430 | G38: =+'1.2.1.sz.mell. Önk. összes'!F38+'1.2.2.sz.mell. Hivatal össz.'!F38+'1.2.3.sz.mell.Műv.össz.'!F38+'1.2.4.sz.mell.Vágo.össz.'!F38 -> 5430 | H38: =+F38-G38 -> 0
A39: 5.5. | B39: Ellátási díjak | C39: =+'1.2.1.sz.mell. Önk. összes'!C39+'1.2.2.sz.mell. Hivatal össz.'!C39+'1.2.3.sz.mell.Műv.össz.'!C39+'1.2.4.sz.mell.Vágo.össz.'!C39 -> 8800 | D39: =+'1.2.1.sz.mell. Önk. összes'!D39+'1.2.2.sz.mell. Hivatal össz.'!D39+'1.2.3.sz.mell.Műv.össz.'!D39+'1.2.4.sz.mell.Vágo.össz.'!D39 -> 100 | E39: =+'1.2.1.sz.mell. Önk. összes'!E39+'1.2.2.sz.mell. Hivatal össz.'!E39+'1.2.3.sz.mell.Műv.össz.'!E39+'1.2.4.sz.mell.Vágo.össz.'!E39 -> 100 | F39: =+C39+D39+E39 -> 9000 | G39: =+'1.2.1.sz.mell. Önk. összes'!F39+'1.2.2.sz.mell. Hivatal össz.'!F39+'1.2.3.sz.mell.Műv.össz.'!F39+'1.2.4.sz.mell.Vágo.össz.'!F39 -> 9000 | H39: =+F39-G39 -> 0
A40: 5.6. | B40: Kiszámlázott általános forgalmi adó | C40: =+'1.2.1.sz.mell. Önk. összes'!C40+'1.2.2.sz.mell. Hivatal össz.'!C40+'1.2.3.sz.mell.Műv.össz.'!C40+'1.2.4.sz.mell.Vágo.össz.'!C40 -> 11879 | D40: =+'1.2.1.sz.mell. Önk. összes'!D40+'1.2.2.sz.mell. Hivatal össz.'!D40+'1.2.3.sz.mell.Műv.össz.'!D40+'1.2.4.sz.mell.Vágo.össz.'!D40 -> 2160 | E40: =+'1.2.1.sz.mell. Önk. összes'!E40+'1.2.2.sz.mell. Hivatal össz.'!E40+'1.2.3.sz.mell.Műv.össz.'!E40+'1.2.4.sz.mell.Vágo.össz.'!E40 -> 356 | F40: =+C40+D40+E40 -> 14395 | G40: =+'1.2.1.sz.mell. Önk. összes'!F40+'1.2.2.sz.mell. Hivatal össz.'!F40+'1.2.3.sz.mell.Műv.össz.'!F40+'1.2.4.sz.mell.Vágo.össz.'!F40 -> 14395 | H40: =+F40-G40 -> 0
...

Sheet 1.2.1.sz.mell. Önk. összes
B1: B E V É T E L E K
F2: Ezer forintban
A3: Sor- szám | B3: Bevételi jogcím | C3: 2015. évi előirányzat | D3: Korábbi módosítás | E3: Jelenlegi módosítás | F3: 2015. évi módosított előirányzat
A4: A | B4: B | C4: C | D4: D | E4: E | F4: F
A5: 1. | B5: Önkormányzat működési támogatásai (1.1.+…+.1.6.) | C5: =+C6+C7+C8+C9+C10+C11 -> 284600 | D5: =+D6+D7+D8+D9+D10+D11 -> 43715 | E5: =+E6+E7+E8+E9+E10+E11 -> 3123 | F5: =+F6+F7+F8+F9+F10+F11 -> 331438
A6: 1.1. | B6: Helyi önkormányzatok működésének általános támogatása | C6: 134598 | D6: =34919+2989+4743-14979 -> 27672 | E6: -1314 | F6: =+C6+D6+E6 -> 160956
A7: 1.2. | B7: Önkormányzatok egyes köznevelési feladatainak támogatása | C7: 62198 | D7: =-12960+2287 -> -10673 | E7: -5529 | F7: =+C7+D7+E7 -> 45996
A8: 1.3. | B8: Önkormányzatok szociális és gyermekjóléti feladatainak támogatása | C8: 40414 | D8: =67929+3180 -> 71109 | E8: -39082 | F8: =+C8+D8+E8 -> 72441
A9: 1.4. | B9: Önkormányzatok kulturális feladatainak támogatása | C9: 2997 | E9: 138 | F9: =+C9+D9+E9 -> 3135
A10: 1.5. | B10: Működési célú kvi támogatások és kiegészítő támogatások | C10: 34919 | D10: -34919 | E10: 48910 | F10: =+C10+D10+E10 -> 48910
A11: 1.6. | B11: Elszámolásból származó bevételek | C11: 9474 | D11: -9474 | F11: =+C11+D11+E11 -> 0
A12: 2. | B12: Működési célú támogatások államháztartáson belülről (2.1.+…+.2.5.) | C12: =+C13+C14+C15+C16+C17 -> 16657 | D12: =+D13+D14+D15+D16+D17 -> 143203 | E12: =+E13+E14+E15+E16+E17 -> 10629 | F12: =+F13+F14+F15+F16+F17 -> 170489
A13: 2.1. | B13: Elvonások és befizetések bevételei | C13: 0 | F13: =+C13+D13+E13 -> 0
A14: 2.2. | B14: Működési célú garancia- és kezességvállalásból megtérülések | C14: 0 | F14: =+C14+D14+E14 -> 0
A15: 2.3. | B15: Működési célú visszatérítendő támogatások, kölcsönök visszatérülése | C15: 0 | F15: =+C15+D15+E15 -> 0
A16: 2.4. | B16: Működési célú visszatérítendő támogatások, kölcsönök igénybevétele | C16: 0 | F16: =+C16+D16+E16 -> 0
A17: 2.5. | B17: Egyéb működési célú támogatások bevételei | C17: 16657 | D17: =-4000-2626+149829 -> 143203 | E17: 10629 | F17: =+C17+D17+E17 -> 170489
A18: 2.6. | B18: 2.5.-ből EU-s támogatás | C18: 0 | F18: =+C18+D18+E18 -> 0
A19: 3. | B19: Felhalmozási célú támogatások államháztartáson belülről (3.1.+…+3.5.) | C19: =+C20+C21+C22+C23+C24 -> 0 | D19: =+D20+D21+D22+D23+D24 -> 0 | E19: =+E20+E21+E22+E23+E24 -> 80060 | F19: =+F20+F21+F22+F23+F24 -> 80060
A20: 3.1. | B20: Felhalmozási célú önkormányzati támogatások | C20: 0 | E20: 28500 | F20: =+C20+D20+E20 -> 28500
A21: 3.2. | B21: Felhalmozási célú garancia- és kezességvállalásból megtérülések | C21: 0 | F21: =+C21+D21+E21 -> 0
A22: 3.3. | B22: Felhalmozási célú visszatérítendő támogatások, kölcsönök visszatérülése | C22: 0 | F22: =+C22+D22+E22 -> 0
A23: 3.4. | B23: Felhalmozási célú visszatérítendő támogatások, kölcsönök igénybevétele | C23: 0 | F23: =+C23+D23+E23 -> 0
A24: 3.5. | B24: Egyéb felhalmozási célú támogatások bevételei | C24: 0 | E24: 51560 | F24: =+C24+D24+E24 -> 51560
A25: 3.6. | B25: 3.5.-ből EU-s támogatás | C25: 0 | F25: =+C25+D25+E25 -> 0
A26: 4. | B26: Közhatalmi bevételek (4.1.+4.2.+4.3.+4.4.) | C26: =+C27+C31+C32+C33 -> 209000 | D26: =+D27+D31+D32+D33 -> 0 | E26: =+E27+E31+E32+E33 -> 0 | F26: =+F27+F31+F32+F33 -> 209000
A27: 4.1. | B27: Helyi adók (4.1.1.+...+4.1.3.) | C27: =SUM(C28:C30) -> 201000 | D27: =SUM(D28:D30) -> 0 | E27: =SUM(E28:E30) -> 0 | F27: =+C27+D27+E27 -> 201000
A28: 4.1.1. | B28: - Vagyoni típusú adók | C28: 125000 | D28: 0 | F28: =+C28+D28+E28 -> 125000
A29: 4.1.2. | B29: - Termékek és szolgáltatások adói | C29: 18000 | D29: 0 | F29: =+C29+D29+E29 -> 18000
A30: 4.1.3. | B30: - Értékesítési és forgalmi adók (iparűzési adó) | C30: 58000 | D30: 0 | E30: 0 | F30: =+C30+D30+E30 -> 58000
A31: 4.2. | B31: Gépjárműadó | C31: 7000 | D31: 0 | E31: 0 | F31: =+C31+D31+E31 -> 7000
A32: 4.3. | B32: Egyéb áruhasználati és szolgáltatási adók | C32: 0 | D32: 0 | E32: 0 | F32: =+C32+D32+E32 -> 0
A33: 4.4. | B33: Egyéb közhatalmi bevételek | C33: 1000 | D33: 0 | E33: 0 | F33: =+C33+D33+E33 -> 1000
A34: 5. | B34: Működési bevételek (5.1.+…+ 5.11.) | C34: =SUM(C35:C45) -> 58622 | D34: =SUM(D35:D45) -> 5575 | E34: =SUM(E35:E45) -> 0 | F34: =SUM(F35:F45) -> 64197
A35: 5.1. | B35: Készletértékesítés ellenértéke | C35: 0 | D35: 0 | E35: 0 | F35: =+C35+D35+E35 -> 0
A36: 5.2. | B36: Szolgáltatások ellenértéke | C36: 37400 | D36: 5475 | E36: -1420 | F36: =+C36+D36+E36 -> 41455
A37: 5.3. | B37: Közvetített szolgáltatások értéke | C37: 900 | D37: 0 | E37: 0 | F37: =+C37+D37+E37 -> 900
A38: 5.4. | B38: Tulajdonosi bevételek | C38: 4000 | E38: 420 | F38: =+C38+D38+E38 -> 4420
A39: 5.5. | B39: Ellátási díjak | C39: 8800 | D39: 100 | E39: 100 | F39: =+C39+D39+E39 -> 9000
A40: 5.6. | B40: Kiszámlázott általános forgalmi adó | C40: 4722 | D40: 0 | E40: 900 | F40: =+C40+D40+E40 -> 5622
...

Sheet 1.2.2.sz.mell. Hivatal össz.
B1: B E V É T E L E K
F2: Ezer forintban
A3: Sor- szám | B3: Bevételi jogcím | C3: 2015. évi előirányzat | D3: Korábbi módosítás | E3: Jelenlegi módosítás | F3: 2015. évi módosított előirányzat
A4: A | B4: B | C4: C | D4: D | E4: E | F4: F
A5: 1. | B5: Önkormányzat működési támogatásai (1.1.+…+.1.6.) | C5: =+C6+C7+C8+C9+C10+C11 -> 0 | D5: =+D6+D7+D8+D9+D10+D11 -> 0 | E5: =+E6+E7+E8+E9+E10+E11 -> 0 | F5: =+F6+F7+F8+F9+F10+F11 -> 0
A6: 1.1. | B6: Helyi önkormányzatok működésének általános támogatása | F6: =+C6+D6+E6 -> 0
A7: 1.2. | B7: Önkormányzatok egyes köznevelési feladatainak támogatása | F7: =+C7+D7+E7 -> 0
A8: 1.3. | B8: Önkormányzatok szociális és gyermekjóléti feladatainak támogatása | F8: =+C8+D8+E8 -> 0
A9: 1.4. | B9: Önkormányzatok kulturális feladatainak támogatása | F9: =+C9+D9+E9 -> 0
A10: 1.5. | B10: Működési célú kvi támogatások és kiegészítő támogatások | F10: =+C10+D10+E10 -> 0
A11: 1.6. | B11: Elszámolásból származó bevételek | F11: =+C11+D11+E11 -> 0
A12: 2. | B12: Működési célú támogatások államháztartáson belülről (2.1.+…+.2.5.) | C12: =+C13+C14+C15+C16+C17 -> 2783 | D12: =+D13+D14+D15+D16+D17 -> 0 | E12: =+E13+E14+E15+E16+E17 -> 0 | F12: =+F13+F14+F15+F16+F17 -> 2783
A13: 2.1. | B13: Elvonások és befizetések bevételei | C13: 0 | F13: =+C13+D13+E13 -> 0
A14: 2.2. | B14: Működési célú garancia- és kezességvállalásból megtérülések | C14: 0 | F14: =+C14+D14+E14 -> 0
A15: 2.3. | B15: Működési célú visszatérítendő támogatások, kölcsönök visszatérülése | C15: 0 | F15: =+C15+D15+E15 -> 0
A16: 2.4. | B16: Működési célú visszatérítendő támogatások, kölcsönök igénybevétele | C16: 0 | F16: =+C16+D16+E16 -> 0
A17: 2.5. | B17: Egyéb működési célú támogatások bevételei | C17: 2783 | F17: =+C17+D17+E17 -> 2783
A18: 2.6. | B18: 2.5.-ből EU-s támogatás | C18: 0 | F18: =+C18+D18+E18 -> 0
A19: 3. | B19: Felhalmozási célú támogatások államháztartáson belülről (3.1.+…+3.5.) | C19: =+C20+C21+C22+C23+C24 -> 0 | D19: =+D20+D21+D22+D23+D24 -> 0 | E19: =+E20+E21+E22+E23+E24 -> 0 | F19: =+F20+F21+F22+F23+F24 -> 0
A20: 3.1. | B20: Felhalmozási célú önkormányzati támogatások | C20: 0 | F20: =+C20+D20+E20 -> 0
A21: 3.2. | B21: Felhalmozási célú garancia- és kezességvállalásból megtérülések | C21: 0 | F21: =+C21+D21+E21 -> 0
A22: 3.3. | B22: Felhalmozási célú visszatérítendő támogatások, kölcsönök visszatérülése | C22: 0 | F22: =+C22+D22+E22 -> 0
A23: 3.4. | B23: Felhalmozási célú visszatérítendő támogatások, kölcsönök igénybevétele | C23: 0 | F23: =+C23+D23+E23 -> 0
A24: 3.5. | B24: Egyéb felhalmozási célú támogatások bevételei | C24: 0 | F24: =+C24+D24+E24 -> 0
A25: 3.6. | B25: 3.5.-ből EU-s támogatás | C25: 0 | F25: =+C25+D25+E25 -> 0
A26: 4. | B26: Közhatalmi bevételek (4.1.+4.2.+4.3.+4.4.) | C26: =+C27+C31+C32+C33 -> 0 | D26: =+D27+D31+D32+D33 -> 0 | E26: =+E27+E31+E32+E33 -> 0 | F26: =+F27+F31+F32+F33 -> 0
A27: 4.1. | B27: Helyi adók (4.1.1.+...+4.1.3.) | C27: =SUM(C28:C30) -> 0 | D27: =SUM(D28:D30) -> 0 | E27: =SUM(E28:E30) -> 0 | F27: =+C27+D27+E27 -> 0
A28: 4.1.1. | B28: - Vagyoni típusú adók | D28: 0 | E28: 0 | F28: =+C28+D28+E28 -> 0
A29: 4.1.2. | B29: - Termékek és szolgáltatások adói | D29: 0 | E29: 0 | F29: =+C29+D29+E29 -> 0
A30: 4.1.3. | B30: - Értékesítési és forgalmi adók (iparűzési adó) | D30: 0 | E30: 0 | F30: =+C30+D30+E30 -> 0
A31: 4.2. | B31: Gépjárműadó | D31: 0 | E31: 0 | F31: =+C31+D31+E31 -> 0
A32: 4.3. | B32: Egyéb áruhasználati és szolgáltatási adók | D32: 0 | E32: 0 | F32: =+C32+D32+E32 -> 0
A33: 4.4. | B33: Egyéb közhatalmi bevételek | D33: 0 | E33: 0 | F33: =+C33+D33+E33 -> 0
A34: 5. | B34: Működési bevételek (5.1.+…+ 5.11.) | C34: =SUM(C35:C45) -> 0 | D34: =SUM(D35:D45) -> 0 | E34: =SUM(E35:E45) -> 0 | F34: =SUM(F35:F45) -> 0
A35: 5.1. | B35: Készletértékesítés ellenértéke | D35: 0 | E35: 0 | F35: =+C35+D35+E35 -> 0
A36: 5.2. | B36: Szolgáltatások ellenértéke | D36: 0 | E36: 0 | F36: =+C36+D36+E36 -> 0
A37: 5.3. | B37: Közvetített szolgáltatások értéke | D37: 0 | E37: 0 | F37: =+C37+D37+E37 -> 0
A38: 5.4. | B38: Tulajdonosi bevételek | D38: 0 | E38: 0 | F38: =+C38+D38+E38 -> 0
A39: 5.5. | B39: Ellátási díjak | D39: 0 | E39: 0 | F39: =+C39+D39+E39 -> 0
A40: 5.6. | B40: Kiszámlázott általános forgalmi adó | D40: 0 | E40: 0 | F40: =+C40+D40+E40 -> 0
...

Sheet 1.2.3.sz.mell.Műv.össz.
B1: B E V É T E L E K
F2: Ezer forintban
A3: Sor- szám | B3: Bevételi jogcím | C3: 2015. évi előirányzat | D3: Korábbi módosítás | E3: Jelenlegi módosítás | F3: 2015. évi módosított előirányzat
A4: A | B4: B | C4: C | D4: D | E4: E | F4: F
A5: 1. | B5: Önkormányzat működési támogatásai (1.1.+…+.1.6.) | C5: =+C6+C7+C8+C9+C10+C11 -> 0 | D5: =+D6+D7+D8+D9+D10+D11 -> 0 | E5: =+E6+E7+E8+E9+E10+E11 -> 0 | F5: =+F6+F7+F8+F9+F10+F11 -> 0
A6: 1.1. | B6: Helyi önkormányzatok működésének általános támogatása | F6: =+C6+D6+E6 -> 0
A7: 1.2. | B7: Önkormányzatok egyes köznevelési feladatainak támogatása | F7: =+C7+D7+E7 -> 0
A8: 1.3. | B8: Önkormányzatok szociális és gyermekjóléti feladatainak támogatása | F8: =+C8+D8+E8 -> 0
A9: 1.4. | B9: Önkormányzatok kulturális feladatainak támogatása | F9: =+C9+D9+E9 -> 0
A10: 1.5. | B10: Működési célú kvi támogatások és kiegészítő támogatások | F10: =+C10+D10+E10 -> 0
A11: 1.6. | B11: Elszámolásból származó bevételek | F11: =+C11+D11+E11 -> 0
A12: 2. | B12: Működési célú támogatások államháztartáson belülről (2.1.+…+.2.5.) | C12: =+C13+C14+C15+C16+C17 -> 0 | D12: =+D13+D14+D15+D16+D17 -> 0 | E12: =+E13+E14+E15+E16+E17 -> 0 | F12: =+F13+F14+F15+F16+F17 -> 0
A13: 2.1. | B13: Elvonások és befizetések bevételei | C13: 0 | F13: =+C13+D13+E13 -> 0
A14: 2.2. | B14: Működési célú garancia- és kezességvállalásból megtérülések | C14: 0 | F14: =+C14+D14+E14 -> 0
A15: 2.3. | B15: Működési célú visszatérítendő támogatások, kölcsönök visszatérülése | C15: 0 | F15: =+C15+D15+E15 -> 0
A16: 2.4. | B16: Működési célú visszatérítendő támogatások, kölcsönök igénybevétele | C16: 0 | F16: =+C16+D16+E16 -> 0
A17: 2.5. | B17: Egyéb működési célú támogatások bevételei | F17: =+C17+D17+E17 -> 0
A18: 2.6. | B18: 2.5.-ből EU-s támogatás | C18: 0 | F18: =+C18+D18+E18 -> 0
A19: 3. | B19: Felhalmozási célú támogatások államháztartáson belülről (3.1.+…+3.5.) | C19: =+C20+C21+C22+C23+C24 -> 0 | D19: =+D20+D21+D22+D23+D24 -> 0 | E19: =+E20+E21+E22+E23+E24 -> 0 | F19: =+F20+F21+F22+F23+F24 -> 0
A20: 3.1. | B20: Felhalmozási célú önkormányzati támogatások | C20: 0 | F20: =+C20+D20+E20 -> 0
A21: 3.2. | B21: Felhalmozási célú garancia- és kezességvállalásból megtérülések | C21: 0 | F21: =+C21+D21+E21 -> 0
A22: 3.3. | B22: Felhalmozási célú visszatérítendő támogatások, kölcsönök visszatérülése | C22: 0 | F22: =+C22+D22+E22 -> 0
A23: 3.4. | B23: Felhalmozási célú visszatérítendő támogatások, kölcsönök igénybevétele | C23: 0 | F23: =+C23+D23+E23 -> 0
A24: 3.5. | B24: Egyéb felhalmozási célú támogatások bevételei | C24: 0 | F24: =+C24+D24+E24 -> 0
A25: 3.6. | B25: 3.5.-ből EU-s támogatás | C25: 0 | F25: =+C25+D25+E25 -> 0
A26: 4. | B26: Közhatalmi bevételek (4.1.+4.2.+4.3.+4.4.) | C26: =+C27+C31+C32+C33 -> 0 | D26: =+D27+D31+D32+D33 -> 0 | E26: =+E27+E31+E32+E33 -> 0 | F26: =+F27+F31+F32+F33 -> 0
A27: 4.1. | B27: Helyi adók (4.1.1.+...+4.1.3.) | C27: =SUM(C28:C30) -> 0 | D27: =SUM(D28:D30) -> 0 | E27: =SUM(E28:E30) -> 0 | F27: =+C27+D27+E27 -> 0
A28: 4.1.1. | B28: - Vagyoni típusú adók | D28: 0 | E28: 0 | F28: =+C28+D28+E28 -> 0
A29: 4.1.2. | B29: - Termékek és szolgáltatások adói | D29: 0 | E29: 0 | F29: =+C29+D29+E29 -> 0
A30: 4.1.3. | B30: - Értékesítési és forgalmi adók (iparűzési adó) | D30: 0 | E30: 0 | F30: =+C30+D30+E30 -> 0
A31: 4.2. | B31: Gépjárműadó | D31: 0 | E31: 0 | F31: =+C31+D31+E31 -> 0
A32: 4.3. | B32: Egyéb áruhasználati és szolgáltatási adók | D32: 0 | E32: 0 | F32: =+C32+D32+E32 -> 0
A33: 4.4. | B33: Egyéb közhatalmi bevételek | D33: 0 | E33: 0 | F33: =+C33+D33+E33 -> 0
A34: 5. | B34: Működési bevételek (5.1.+…+ 5.11.) | C34: =SUM(C35:C45) -> 9000 | D34: =SUM(D35:D45) -> -9000 | E34: =SUM(E35:E45) -> 9000 | F34: =SUM(F35:F45) -> 9000
A35: 5.1. | B35: Készletértékesítés ellenértéke | D35: 0 | E35: 0 | F35: =+C35+D35+E35 -> 0
A36: 5.2. | B36: Szolgáltatások ellenértéke | D36: 0 | E36: 0 | F36: =+C36+D36+E36 -> 0
A37: 5.3. | B37: Közvetített szolgáltatások értéke | D37: 0 | E37: 0 | F37: =+C37+D37+E37 -> 0
A38: 5.4. | B38: Tulajdonosi bevételek | D38: 0 | E38: 0 | F38: =+C38+D38+E38 -> 0
A39: 5.5. | B39: Ellátási díjak | D39: 0 | E39: 0 | F39: =+C39+D39+E39 -> 0
A40: 5.6. | B40: Kiszámlázott általános forgalmi adó | D40: 0 | E40: 0 | F40: =+C40+D40+E40 -> 0
...

Sheet 1.2.4.sz.mell.Vágo.össz.
B1: B E V É T E L E K
F2: Ezer forintban
A3: Sor- szám | B3: Bevételi jogcím | C3: 2015. évi előirányzat | D3: Korábbi módosítás | E3: Jelenlegi módosítás | F3: 2015. évi módosított előirányzat
A4: A | B4: B | C4: C | D4: D | E4: E | F4: F
A5: 1. | B5: Önkormányzat működési támogatásai (1.1.+…+.1.6.) | C5: =+C6+C7+C8+C9+C10+C11 -> 0 | D5: =+D6+D7+D8+D9+D10+D11 -> 0 | E5: =+E6+E7+E8+E9+E10+E11 -> 0 | F5: =+F6+F7+F8+F9+F10+F11 -> 0
A6: 1.1. | B6: Helyi önkormányzatok működésének általános támogatása | F6: =+C6+D6+E6 -> 0
A7: 1.2. | B7: Önkormányzatok egyes köznevelési feladatainak támogatása | F7: =+C7+D7+E7 -> 0
A8: 1.3. | B8: Önkormányzatok szociális és gyermekjóléti feladatainak támogatása | F8: =+C8+D8+E8 -> 0
A9: 1.4. | B9: Önkormányzatok kulturális feladatainak támogatása | F9: =+C9+D9+E9 -> 0
A10: 1.5. | B10: Működési célú kvi támogatások és kiegészítő támogatások | F10: =+C10+D10+E10 -> 0
A11: 1.6. | B11: Elszámolásból származó bevételek | F11: =+C11+D11+E11 -> 0
A12: 2. | B12: Működési célú támogatások államháztartáson belülről (2.1.+…+.2.5.) | C12: =+C13+C14+C15+C16+C17 -> 0 | D12: =+D13+D14+D15+D16+D17 -> 0 | E12: =+E13+E14+E15+E16+E17 -> 0 | F12: =+F13+F14+F15+F16+F17 -> 0
A13: 2.1. | B13: Elvonások és befizetések bevételei | C13: 0 | F13: =+C13+D13+E13 -> 0
A14: 2.2. | B14: Működési célú garancia- és kezességvállalásból megtérülések | C14: 0 | F14: =+C14+D14+E14 -> 0
A15: 2.3. | B15: Működési célú visszatérítendő támogatások, kölcsönök visszatérülése | C15: 0 | F15: =+C15+D15+E15 -> 0
A16: 2.4. | B16: Működési célú visszatérítendő támogatások, kölcsönök igénybevétele | C16: 0 | F16: =+C16+D16+E16 -> 0
A17: 2.5. | B17: Egyéb működési célú támogatások bevételei | F17: =+C17+D17+E17 -> 0
A18: 2.6. | B18: 2.5.-ből EU-s támogatás | C18: 0 | F18: =+C18+D18+E18 -> 0
A19: 3. | B19: Felhalmozási célú támogatások államháztartáson belülről (3.1.+…+3.5.) | C19: =+C20+C21+C22+C23+C24 -> 0 | D19: =+D20+D21+D22+D23+D24 -> 0 | E19: =+E20+E21+E22+E23+E24 -> 0 | F19: =+F20+F21+F22+F23+F24 -> 0
A20: 3.1. | B20: Felhalmozási célú önkormányzati támogatások | C20: 0 | F20: =+C20+D20+E20 -> 0
A21: 3.2. | B21: Felhalmozási célú garancia- és kezességvállalásból megtérülések | C21: 0 | F21: =+C21+D21+E21 -> 0
A22: 3.3. | B22: Felhalmozási célú visszatérítendő támogatások, kölcsönök visszatérülése | C22: 0 | F22: =+C22+D22+E22 -> 0
A23: 3.4. | B23: Felhalmozási célú visszatérítendő támogatások, kölcsönök igénybevétele | C23: 0 | F23: =+C23+D23+E23 -> 0
A24: 3.5. | B24: Egyéb felhalmozási célú támogatások bevételei | C24: 0 | F24: =+C24+D24+E24 -> 0
A25: 3.6. | B25: 3.5.-ből EU-s támogatás | C25: 0 | F25: =+C25+D25+E25 -> 0
A26: 4. | B26: Közhatalmi bevételek (4.1.+4.2.+4.3.+4.4.) | C26: =+C27+C31+C32+C33 -> 0 | D26: =+D27+D31+D32+D33 -> 0 | E26: =+E27+E31+E32+E33 -> 0 | F26: =+F27+F31+F32+F33 -> 0
A27: 4.1. | B27: Helyi adók (4.1.1.+...+4.1.3.) | C27: =SUM(C28:C30) -> 0 | D27: =SUM(D28:D30) -> 0 | E27: =SUM(E28:E30) -> 0 | F27: =+C27+D27+E27 -> 0
A28: 4.1.1. | B28: - Vagyoni típusú adók | D28: 0 | E28: 0 | F28: =+C28+D28+E28 -> 0
A29: 4.1.2. | B29: - Termékek és szolgáltatások adói | D29: 0 | E29: 0 | F29: =+C29+D29+E29 -> 0
A30: 4.1.3. | B30: - Értékesítési és forgalmi adók (iparűzési adó) | D30: 0 | E30: 0 | F30: =+C30+D30+E30 -> 0
A31: 4.2. | B31: Gépjárműadó | D31: 0 | E31: 0 | F31: =+C31+D31+E31 -> 0
A32: 4.3. | B32: Egyéb áruhasználati és szolgáltatási adók | D32: 0 | E32: 0 | F32: =+C32+D32+E32 -> 0
A33: 4.4. | B33: Egyéb közhatalmi bevételek | D33: 0 | E33: 0 | F33: =+C33+D33+E33 -> 0
A34: 5. | B34: Működési bevételek (5.1.+…+ 5.11.) | C34: =SUM(C35:C45) -> 34767 | D34: =SUM(D35:D45) -> 9075 | E34: =SUM(E35:E45) -> 5319 | F34: =SUM(F35:F45) -> 49161
A35: 5.1. | B35: Készletértékesítés ellenértéke | D35: 0 | E35: 0 | F35: =+C35+D35+E35 -> 0
A36: 5.2. | B36: Szolgáltatások ellenértéke | C36: 25500 | D36: 6695 | E36: 1978 | F36: =+C36+D36+E36 -> 34173
A37: 5.3. | B37: Közvetített szolgáltatások értéke | C37: 1100 | D37: 1200 | E37: 2875 | F37: =+C37+D37+E37 -> 5175
A38: 5.4. | B38: Tulajdonosi bevételek | C38: 1010 | D38: -1010 | E38: 1010 | F38: =+C38+D38+E38 -> 1010
A39: 5.5. | B39: Ellátási díjak | D39: 0 | F39: =+C39+D39+E39 -> 0
A40: 5.6. | B40: Kiszámlázott általános forgalmi adó | C40: 7157 | D40: 2160 | E40: -544 | F40: =+C40+D40+E40 -> 8773
...

Sheet 2.1.sz.mell  
B1: I. Működési célú bevételek és kiadások mérlege (Önkormányzati szinten) | F1: =+CONCATENATE("2.1. melléklet a ………../",LEFT(ÖSSZEFÜGGÉSEK!A5,4),". (……….) önkormányzati rendelethez") -> 2.1. melléklet a ………../2015. (……….) önkormányzati rendelethez
E2: Ezer forintban !
A3: Sor- szám | B3: Bevételek | D3: Kiadások
B4: Megnevezés | C4: =+'1.1.sz.mell. Önk. szumma'!C3 -> 2015. évi előirányzat | D4: Megnevezés | E4: =+C4 -> 2015. évi előirányzat
A5: A | B5: B | C5: C | D5: D | E5: E
A6: 1. | B6: Önkormányzatok működési támogatásai | C6: 284600 | D6: Személyi juttatások | E6: 174235
A7: 2. | B7: Működési célú támogatások államháztartáson belülről | C7: 19440 | D7: Munkaadókat terhelő járulékok és szociális hozzájárulási adó | E7: 47779
A8: 3. | B8: 2.-ból EU-s támogatás | C8: 2841 | D8: Dologi kiadások | E8: 286787
A9: 4. | B9: Közhatalmi bevételek | C9: 209000 | D9: Ellátottak pénzbeli juttatásai | E9: 11588
A10: 5. | B10: Működési bevételek | C10: 102389 | D10: Egyéb működési célú kiadások | E10: 151868
A11: 6. | B11: Működési célú átvett pénzeszközök | C11: 18520 | D11: Tartalékok | E11: 147876
A12: 7. | B12: 6.-ból EU-s támogatás (közvetlen) | C12: 9000
A13: 8.
A14: 9.
A15: 10.
A16: 11.
A17: 12.
A18: 13. | B18: Költségvetési bevételek összesen (1.+2.+4.+5.+6.+8.+…+12.) | C18: =SUM(C6:C17)-C8-C12 -> 633949 | D18: Költségvetési kiadások összesen (1.+...+12.) | E18: =SUM(E6:E17) -> 820133
A19: 14. | B19: Hiány belső finanszírozásának bevételei (15.+…+18. ) | C19: =+C20+C21+C22+C23 -> 186184 | D19: Értékpapír vásárlása, visszavásárlása
A20: 15. | B20: Költségvetési maradvány igénybevétele | C20: 186184 | D20: Likviditási célú hitelek törlesztése
A21: 16. | B21: Vállalkozási maradvány igénybevétele | D21: Rövid lejáratú hitelek törlesztése
A22: 17. | B22: Betét visszavonásából származó bevétel | D22: Hosszú lejáratú hitelek törlesztése
A23: 18. | B23: Egyéb belső finanszírozási bevételek | D23: Kölcsön törlesztése
A24: 19. | B24: Hiány külső finanszírozásának bevételei (20.+…+21.) | C24: =+C25+C26 -> 0 | D24: Forgatási célú belföldi, külföldi értékpapírok vásárlása
A25: 20. | B25: Likviditási célú hitelek, kölcsönök felvétele | D25: Pénzeszközök lekötött betétként elhelyezése
A26: 21. | B26: Értékpapírok bevételei | D26: Adóssághoz nem kapcsolódó származékos ügyletek
A27: 22. | B27: Váltóbevételek | D27: Váltókiadások
A28: 23. | B28: Adóssághoz nem kapcsolódó származékos ügyletek bevételei
A29: 24. | B29: Működési célú finanszírozási bevételek összesen (14.+19.+22.+23.) | C29: =+C19+C24+C27+C28 -> 186184 | D29: Működési célú finanszírozási kiadások összesen (14.+...+23.) | E29: =SUM(E19:E28) -> 0
A30: 25. | B30: BEVÉTEL ÖSSZESEN (13.+24.) | C30: =+C18+C29 -> 820133 | D30: KIADÁSOK ÖSSZESEN (13.+24.) | E30: =+E18+E29 -> 820133
A31: 26. | B31: Költségvetési hiány: | C31: =IF(C18-E18<0,E18-C18,"-") -> 186184 | D31: Költségvetési többlet: | E31: =IF(C18-E18>0,C18-E18,"-") -> -
A32: 27. | B32: Tárgyévi hiány: | C32: =IF(C18+C29-E30<0,E30-(C18+C29),"-") -> - | D32: Tárgyévi többlet: | E32: =IF(C18+C29-E30>0,C18+C29-E30,"-") -> -

Sheet 2.2.sz.mell  
B1: II. Felhalmozási célú bevételek és kiadások mérlege (Önkormányzati szinten) | F1: =+CONCATENATE("2.2. melléklet a ………../",LEFT(ÖSSZEFÜGGÉSEK!A5,4),". (……….) önkormányzati rendelethez") -> 2.2. melléklet a ………../2015. (……….) önkormányzati rendelethez
E2: Ezer forintban !
A3: Sor- szám | B3: Bevételek | D3: Kiadások
B4: Megnevezés | C4: =+'2.1.sz.mell '!C4 -> 2015. évi előirányzat | D4: Megnevezés | E4: =+'2.1.sz.mell '!C4 -> 2015. évi előirányzat
A5: A | B5: B | C5: C | D5: D | E5: E
A6: 1. | B6: Felhalmozási célú támogatások államháztartáson belülről | D6: Beruházások | E6: 220558
A7: 2. | B7: 1.-ből EU-s támogatás | D7: 1.-ből EU-s forrásból megvalósuló beruházás
A8: 3. | B8: Felhalmozási bevételek | D8: Felújítások | E8: 60440
A9: 4. | B9: Felhalmozási célú átvett pénzeszközök átvétele | C9: 261680 | D9: 3.-ból EU-s forrásból megvalósuló felújítás
A10: 5. | B10: 4.-ből EU-s támogatás (közvetlen) | C10: 247218 | D10: Egyéb felhalmozási kiadások
A11: 6. | B11: Egyéb felhalmozási célú bevételek
A12: 7.
A13: 8.
A14: 9.
A15: 10.
A16: 11. | D16: Tartalékok
A17: 12. | B17: Költségvetési bevételek összesen: (1.+3.+4.+6.+…+11.) | C17: =+C6+C8+C9+C11+C12+C13+C14+C15+C16 -> 261680 | D17: Költségvetési kiadások összesen: (1.+3.+5.+...+11.) | E17: =+E6+E8+E10+E11+E12+E13+E14+E15+E16 -> 280998
A18: 13. | B18: Hiány belső finanszírozás bevételei ( 14+…+18) | C18: =+C19+C20+C21+C22+C23 -> 19318 | D18: Értékpapír vásárlása, visszavásárlása
A19: 14. | B19: Költségvetési maradvány igénybevétele | C19: 19318 | D19: Hitelek törlesztése
A20: 15. | B20: Vállalkozási maradvány igénybevétele | D20: Rövid lejáratú hitelek törlesztése
A21: 16. | B21: Betét visszavonásából származó bevétel | D21: Hosszú lejáratú hitelek törlesztése
A22: 17. | B22: Értékpapír értékesítése | D22: Kölcsön törlesztése
A23: 18. | B23: Egyéb belső finanszírozási bevételek | D23: Befektetési célú belföldi, külföldi értékpapírok vásárlása
A24: 19. | B24: Hiány külső finanszírozásának bevételei (20+…+24 ) | C24: =+C25+C26+C27+C28+C29 -> 0 | D24: Betét elhelyezése
A25: 20. | B25: Hosszú lejáratú hitelek, kölcsönök felvétele | D25: Pénzügyi lízing kiadásai
A26: 21. | B26: Likviditási célú hitelek, kölcsönök felvétele
A27: 22. | B27: Rövid lejáratú hitelek, kölcsönök felvétele
A28: 23. | B28: Értékpapírok kibocsátása
A29: 24. | B29: Egyéb külső finanszírozási bevételek
A30: 25. | B30: Felhalmozási célú finanszírozási bevételek összesen (13.+19.) | C30: =+C18+C24 -> 19318 | D30: Felhalmozási célú finanszírozási kiadások összesen (13.+...+24.) | E30: =SUM(E18:E29) -> 0
A31: 26. | B31: BEVÉTEL ÖSSZESEN (12+25) | C31: =+C17+C30 -> 280998 | D31: KIADÁSOK ÖSSZESEN (12+25) | E31: =+E17+E30 -> 280998
A32: 27. | B32: Költségvetési hiány: | C32: =IF(C17-E17<0,E17-C17,"-") -> 19318 | D32: Költségvetési többlet: | E32: =IF(C17-E17>0,C17-E17,"-") -> -
A33: 28. | B33: Tárgyévi hiány: | C33: =IF(C17+C30-E26<0,E26-(C17+C30),"-") -> - | D33: Tárgyévi többlet: | E33: =IF(C19+C30-E31>0,C19+C30-E31,"-") -> -

Sheet ELLENŐRZÉS-1.sz.2.a.sz.2.b.sz.
A1: Költségvetési rendelet űrlapjainak összefüggései: | E1: ELTÉRÉS
A4: =+ÖSSZEFÜGGÉSEK!A5 -> 2015. évi előirányzat BEVÉTELEK
A6: 1.1. sz. melléklet Bevételek táblázat C. oszlop 9 sora = | B6: =+'1.1.sz.mell. Önk. szumma'!C62 -> 895629 | C6: 2.1. számú melléklet C. oszlop 13. sor + 2.2. számú melléklet C. oszlop 12. sor | D6: =+'2.1.sz.mell '!C18+'2.2.sz.mell '!C17 -> 895629 | E6: =+B6-D6 -> 0
A7: 1.1. sz. melléklet Bevételek táblázat C. oszlop 17 sora = | B7: =+'1.1.sz.mell. Önk. szumma'!C86 -> 205502 | C7: 2.1. számú melléklet C. oszlop 24. sor + 2.2. számú melléklet C. oszlop 25. sor | D7: =+'2.1.sz.mell '!C29+'2.2.sz.mell '!C30 -> 205502 | E7: =+B7-D7 -> 0
A8: 1.1. sz. melléklet Bevételek táblázat C. oszlop 18 sora = | B8: =+'1.1.sz.mell. Önk. szumma'!C87 -> 1101131 | C8: 2.1. számú melléklet C. oszlop 25. sor + 2.2. számú melléklet C. oszlop 26. sor | D8: =+'2.1.sz.mell '!C30+'2.2.sz.mell '!C31 -> 1101131 | E8: =+B8-D8 -> 0
A11: =+ÖSSZEFÜGGÉSEK!A12 -> 2015. évi előirányzat KIADÁSOK
A13: 1.1. sz. melléklet Kiadások táblázat C. oszlop 3 sora = | B13: =+'1.1.sz.mell. Önk. szumma'!C128 -> 1101131 | C13: 2.1. számú melléklet E. oszlop 13. sor + 2.2. számú melléklet E. oszlop 12. sor | D13: =+'2.1.sz.mell '!E18+'2.2.sz.mell '!E17 -> 1101131 | E13: =+B13-D13 -> 0
A14: 1.1. sz. melléklet Kiadások táblázat C. oszlop 10 sora = | B14: =+'1.1.sz.mell. Önk. szumma'!C153 -> 0 | C14: 2.1. számú melléklet E. oszlop 24. sor + 2.2. számú melléklet E. oszlop 25. sor | D14: =+'2.1.sz.mell '!E29+'2.2.sz.mell '!E30 -> 0 | E14: =+B14-D14 -> 0
A15: 1.1. sz. melléklet Kiadások táblázat C. oszlop 11 sora = | B15: =+'1.1.sz.mell. Önk. szumma'!C154 -> 1101131 | C15: 2.1. számú melléklet E. oszlop 25. sor + 2.2. számú melléklet E. oszlop 26. sor | D15: =+'2.1.sz.mell '!E30+'2.2.sz.mell '!E31 -> 1101131 | E15: =+B15-D15 -> 0

Sheet 3.sz.mell.  
A1: ………….. Önkormányzat adósságot keletkeztető ügyletekből és kezességvállalásokból fennálló kötelezettségei
E2: Ezer forintban !
A3: Sor-szám | B3: MEGNEVEZÉS | C3: Évek | F3: Összesen (F=C+D+E)
C4: =+LEFT(ÖSSZEFÜGGÉSEK!A5,4)+1 -> 2016 | D4: =+C4+1 -> 2017 | E4: =+D4+1 -> 2018
A5: A | B5: B | C5: C | D5: D | E5: E | F5: F
A6: 1. | F6: =SUM(C6:E6) -> 0
A7: 2. | F7: =SUM(C7:E7) -> 0
A8: 3. | F8: =SUM(C8:E8) -> 0
A9: 4. | F9: =SUM(C9:E9) -> 0
A10: 5. | F10: =SUM(C10:E10) -> 0
A11: 6. | B11: ÖSSZES KÖTELEZETTSÉG | C11: =SUM(C6:C10) -> 0 | D11: =SUM(D6:D10) -> 0 | E11: =SUM(E6:E10) -> 0 | F11: =SUM(F6:F10) -> 0

Sheet 4.sz.mell.
A1: ………….. Önkormányzat saját bevételeinek részletezése az adósságot keletkeztető ügyletből származó tárgyévi fizetési kötelezettség megállapításához
C2: Ezer forintban !
A3: Sor-szám | B3: Bevételi jogcímek | C3: =+'1.1.sz.mell. Önk. szumma'!C3 -> 2015. évi előirányzat
A4: A | B4: B | C4: C
A5: 1. | B5: Helyi adóból és a települési adóból származó bevétel
A6: 2. | B6: Az önkormányzati vagyon és az önkormányzatot megillető vagyoni értékű jog értékesítéséből és hasznosításából származó bevétel
A7: 3. | B7: Osztalék, koncessziós díj és hozambevétel
A8: 4. | B8: Tárgyi eszköz és az immateriális jószág, részvény, részesedés, vállalat értékesítéséből vagy privatizációból származó bevétel
A9: 5. | B9: Bírság-, pótlék- és díjbevétel
A10: 6. | B10: Kezesség-, illetve garanciavállalással kapcsolatos megtérülés
A11: SAJÁT BEVÉTELEK ÖSSZESEN* | C11: =SUM(C5:C10) -> 0
A12: *Az adósságot keletkeztető ügyletekhez történő hozzájárulás részletes szabályairól szóló 353/2011. (XII.31.) Korm. Rendelet 2.§ (1) bekezdése alapján.

Sheet 5.sz.mell.
A1: =+CONCATENATE("………….. Önkormányzat ",CONCATENATE(LEFT(ÖSSZEFÜGGÉSEK!A5,4),". évi adósságot keletkeztető fejlesztési céljai")) -> ………….. Önkormányzat 2015. évi adósságot keletkeztető fejlesztési céljai
C2: Ezer forintban !
A3: Sor-szám | B3: Fejlesztési cél leírása | C3: Fejlesztés várható kiadása
A4: A | B4: B | C4: C
A5: 1.
A6: 2.
A7: 3.
A8: 4. | B8: ADÓSSÁGOT KELETKEZTETŐ ÜGYLETEK VÁRHATÓ EGYÜTTES ÖSSZEGE | C8: =SUM(C5:C7) -> 0

Sheet 1.2.5.sz.mell. Óvoda össz.
B1: B E V É T E L E K
F2: Ezer forintban
A3: Sor- szám | B3: Bevételi jogcím | C3: 2015. évi előirányzat | D3: Korábbi módosítás | E3: Jelenlegi módosítás | F3: 2015. évi módosított előirányzat
A4: A | B4: B | C4: C | D4: D | E4: E | F4: F
A5: 1. | B5: Önkormányzat működési támogatásai (1.1.+…+.1.6.) | C5: =+C6+C7+C8+C9+C10+C11 -> 0 | D5: =+D6+D7+D8+D9+D10+D11 -> 0 | E5: =+E6+E7+E8+E9+E10+E11 -> 0 | F5: =+F6+F7+F8+F9+F10+F11 -> 0
A6: 1.1. | B6: Helyi önkormányzatok működésének általános támogatása | F6: =+C6+D6+E6 -> 0
A7: 1.2. | B7: Önkormányzatok egyes köznevelési feladatainak támogatása | F7: =+C7+D7+E7 -> 0
A8: 1.3. | B8: Önkormányzatok szociális és gyermekjóléti feladatainak támogatása | F8: =+C8+D8+E8 -> 0
A9: 1.4. | B9: Önkormányzatok kulturális feladatainak támogatása | F9: =+C9+D9+E9 -> 0
A10: 1.5. | B10: Működési célú kvi támogatások és kiegészítő támogatások | F10: =+C10+D10+E10 -> 0
A11: 1.6. | B11: Elszámolásból származó bevételek | F11: =+C11+D11+E11 -> 0
A12: 2. | B12: Működési célú támogatások államháztartáson belülről (2.1.+…+.2.5.) | C12: =+C13+C14+C15+C16+C17 -> 0 | D12: =+D13+D14+D15+D16+D17 -> 0 | E12: =+E13+E14+E15+E16+E17 -> 0 | F12: =+F13+F14+F15+F16+F17 -> 0
A13: 2.1. | B13: Elvonások és befizetések bevételei | C13: 0 | F13: =+C13+D13+E13 -> 0
A14: 2.2. | B14: Működési célú garancia- és kezességvállalásból megtérülések | C14: 0 | F14: =+C14+D14+E14 -> 0
A15: 2.3. | B15: Működési célú visszatérítendő támogatások, kölcsönök visszatérülése | C15: 0 | F15: =+C15+D15+E15 -> 0
A16: 2.4. | B16: Működési célú visszatérítendő támogatások, kölcsönök igénybevétele | C16: 0 | F16: =+C16+D16+E16 -> 0
A17: 2.5. | B17: Egyéb működési célú támogatások bevételei | F17: =+C17+D17+E17 -> 0
A18: 2.6. | B18: 2.5.-ből EU-s támogatás | C18: 0 | F18: =+C18+D18+E18 -> 0
A19: 3. | B19: Felhalmozási célú támogatások államháztartáson belülről (3.1.+…+3.5.) | C19: =+C20+C21+C22+C23+C24 -> 0 | D19: =+D20+D21+D22+D23+D24 -> 0 | E19: =+E20+E21+E22+E23+E24 -> 0 | F19: =+F20+F21+F22+F23+F24 -> 0
A20: 3.1. | B20: Felhalmozási célú önkormányzati támogatások | C20: 0 | F20: =+C20+D20+E20 -> 0
A21: 3.2. | B21: Felhalmozási célú garancia- és kezességvállalásból megtérülések | C21: 0 | F21: =+C21+D21+E21 -> 0
A22: 3.3. | B22: Felhalmozási célú visszatérítendő támogatások, kölcsönök visszatérülése | C22: 0 | F22: =+C22+D22+E22 -> 0
A23: 3.4. | B23: Felhalmozási célú visszatérítendő támogatások, kölcsönök igénybevétele | C23: 0 | F23: =+C23+D23+E23 -> 0
A24: 3.5. | B24: Egyéb felhalmozási célú támogatások bevételei | C24: 0 | F24: =+C24+D24+E24 -> 0
A25: 3.6. | B25: 3.5.-ből EU-s támogatás | C25: 0 | F25: =+C25+D25+E25 -> 0
A26: 4. | B26: Közhatalmi bevételek (4.1.+4.2.+4.3.+4.4.) | C26: =+C27+C31+C32+C33 -> 0 | D26: =+D27+D31+D32+D33 -> 0 | E26: =+E27+E31+E32+E33 -> 0 | F26: =+F27+F31+F32+F33 -> 0
A27: 4.1. | B27: Helyi adók (4.1.1.+...+4.1.3.) | C27: =SUM(C28:C30) -> 0 | D27: =SUM(D28:D30) -> 0 | E27: =SUM(E28:E30) -> 0 | F27: =+C27+D27+E27 -> 0
A28: 4.1.1. | B28: - Vagyoni típusú adók | D28: 0 | E28: 0 | F28: =+C28+D28+E28 -> 0
A29: 4.1.2. | B29: - Termékek és szolgáltatások adói | D29: 0 | E29: 0 | F29: =+C29+D29+E29 -> 0
A30: 4.1.3. | B30: - Értékesítési és forgalmi adók (iparűzési adó) | D30: 0 | E30: 0 | F30: =+C30+D30+E30 -> 0
A31: 4.2. | B31: Gépjárműadó | D31: 0 | E31: 0 | F31: =+C31+D31+E31 -> 0
A32: 4.3. | B32: Egyéb áruhasználati és szolgáltatási adók | D32: 0 | E32: 0 | F32: =+C32+D32+E32 -> 0
A33: 4.4. | B33: Egyéb közhatalmi bevételek | D33: 0 | E33: 0 | F33: =+C33+D33+E33 -> 0
A34: 5. | B34: Működési bevételek (5.1.+…+ 5.11.) | C34: =SUM(C35:C45) -> 5500 | D34: =SUM(D35:D45) -> -300 | E34: =SUM(E35:E45) -> 0 | F34: =SUM(F35:F45) -> 5200
A35: 5.1. | B35: Készletértékesítés ellenértéke | D35: 0 | E35: 0 | F35: =+C35+D35+E35 -> 0
A36: 5.2. | B36: Szolgáltatások ellenértéke | C36: 5500 | D36: -300 | E36: 0 | F36: =+C36+D36+E36 -> 5200
A37: 5.3. | B37: Közvetített szolgáltatások értéke | C37: 0 | D37: 0 | E37: 0 | F37: =+C37+D37+E37 -> 0
A38: 5.4. | B38: Tulajdonosi bevételek | C38: 0 | D38: 0 | E38: 0 | F38: =+C38+D38+E38 -> 0
A39: 5.5. | B39: Ellátási díjak | C39: 0 | D39: 0 | E39: 0 | F39: =+C39+D39+E39 -> 0
A40: 5.6. | B40: Kiszámlázott általános forgalmi adó | C40: 0 | D40: 0 | E40: 0 | F40: =+C40+D40+E40 -> 0
...

Sheet 1.2.6.sz. mell. TSZSZI
B1: B E V É T E L E K
F2: Ezer forintban
A3: Sor- szám | B3: Bevételi jogcím | C3: 2015. évi előirányzat | D3: Korábbi módosítás | E3: Jelenlegi módosítás | F3: 2015. évi módosított előirányzat
A4: A | B4: B | C4: C | D4: D | E4: E | F4: F
A5: 1. | B5: Önkormányzat működési támogatásai (1.1.+…+.1.6.) | C5: =+C6+C7+C8+C9+C10+C11 -> 0 | D5: =+D6+D7+D8+D9+D10+D11 -> 0 | E5: =+E6+E7+E8+E9+E10+E11 -> 0 | F5: =+F6+F7+F8+F9+F10+F11 -> 0
A6: 1.1. | B6: Helyi önkormányzatok működésének általános támogatása | F6: =+C6+D6+E6 -> 0 | H6: =+[1]TSZSZI!$R180 -> 0
A7: 1.2. | B7: Önkormányzatok egyes köznevelési feladatainak támogatása | F7: =+C7+D7+E7 -> 0 | H7: =+[1]TSZSZI!$R181 -> 0
A8: 1.3. | B8: Önkormányzatok szociális és gyermekjóléti feladatainak támogatása | F8: =+C8+D8+E8 -> 0 | H8: =+[1]TSZSZI!$R182 -> 0
A9: 1.4. | B9: Önkormányzatok kulturális feladatainak támogatása | F9: =+C9+D9+E9 -> 0 | H9: =+[1]TSZSZI!$R183 -> 0
A10: 1.5. | B10: Működési célú kvi támogatások és kiegészítő támogatások | F10: =+C10+D10+E10 -> 0 | H10: =+[1]TSZSZI!$R184 -> 0
A11: 1.6. | B11: Elszámolásból származó bevételek | F11: =+C11+D11+E11 -> 0 | H11: =+[1]TSZSZI!$R185 -> 0
A12: 2. | B12: Működési célú támogatások államháztartáson belülről (2.1.+…+.2.5.) | C12: =+C13+C14+C15+C16+C17 -> 0 | D12: =+D13+D14+D15+D16+D17 -> 0 | E12: =+E13+E14+E15+E16+E17 -> 0 | F12: =+F13+F14+F15+F16+F17 -> 0
A13: 2.1. | B13: Elvonások és befizetések bevételei | C13: 0 | F13: =+C13+D13+E13 -> 0 | H13: =+[1]TSZSZI!$R187 -> 0
A14: 2.2. | B14: Működési célú garancia- és kezességvállalásból megtérülések | C14: 0 | F14: =+C14+D14+E14 -> 0 | H14: =+[1]TSZSZI!$R188 -> 0
A15: 2.3. | B15: Működési célú visszatérítendő támogatások, kölcsönök visszatérülése | C15: 0 | F15: =+C15+D15+E15 -> 0 | H15: =+[1]TSZSZI!$R189 -> 0
A16: 2.4. | B16: Működési célú visszatérítendő támogatások, kölcsönök igénybevétele | C16: 0 | F16: =+C16+D16+E16 -> 0 | H16: =+[1]TSZSZI!$R190 -> 0
A17: 2.5. | B17: Egyéb működési célú támogatások bevételei | F17: =+C17+D17+E17 -> 0 | H17: =+[1]TSZSZI!$R193 -> 0
A18: 2.6. | B18: 2.5.-ből EU-s támogatás | C18: 0 | F18: =+C18+D18+E18 -> 0 | H18: =+[1]TSZSZI!$R192 -> 0
A19: 3. | B19: Felhalmozási célú támogatások államháztartáson belülről (3.1.+…+3.5.) | C19: =+C20+C21+C22+C23+C24 -> 0 | D19: =+D20+D21+D22+D23+D24 -> 0 | E19: =+E20+E21+E22+E23+E24 -> 0 | F19: =+F20+F21+F22+F23+F24 -> 0
A20: 3.1. | B20: Felhalmozási célú önkormányzati támogatások | C20: 0 | F20: =+C20+D20+E20 -> 0 | H20: =+[1]TSZSZI!$R195 -> 0
A21: 3.2. | B21: Felhalmozási célú garancia- és kezességvállalásból megtérülések | C21: 0 | F21: =+C21+D21+E21 -> 0 | H21: =+[1]TSZSZI!$R196 -> 0
A22: 3.3. | B22: Felhalmozási célú visszatérítendő támogatások, kölcsönök visszatérülése | C22: 0 | F22: =+C22+D22+E22 -> 0 | H22: =+[1]TSZSZI!$R197 -> 0
A23: 3.4. | B23: Felhalmozási célú visszatérítendő támogatások, kölcsönök igénybevétele | C23: 0 | F23: =+C23+D23+E23 -> 0 | H23: =+[1]TSZSZI!$R198 -> 0
A24: 3.5. | B24: Egyéb felhalmozási célú támogatások bevételei | C24: 0 | F24: =+C24+D24+E24 -> 0 | H24: =+[1]TSZSZI!$R199 -> 0
A25: 3.6. | B25: 3.5.-ből EU-s támogatás | C25: 0 | F25: =+C25+D25+E25 -> 0 | H25: =+[1]TSZSZI!$R199 -> 0
A26: 4. | B26: Közhatalmi bevételek (4.1.+4.2.+4.3.+4.4.) | C26: =+C27+C31+C32+C33 -> 0 | D26: =+D27+D31+D32+D33 -> 0 | E26: =+E27+E31+E32+E33 -> 0 | F26: =+F27+F31+F32+F33 -> 0
A27: 4.1. | B27: Helyi adók (4.1.1.+...+4.1.3.) | C27: =SUM(C28:C30) -> 0 | D27: =SUM(D28:D30) -> 0 | E27: =SUM(E28:E30) -> 0 | F27: =+C27+D27+E27 -> 0
A28: 4.1.1. | B28: - Vagyoni típusú adók | D28: 0 | E28: 0 | F28: =+C28+D28+E28 -> 0 | H28: =+[1]TSZSZI!$R208 -> 0
A29: 4.1.2. | B29: - Termékek és szolgáltatások adói | D29: 0 | E29: 0 | F29: =+C29+D29+E29 -> 0 | H29: =+[1]TSZSZI!$R215 -> 0
