Workbook
Name _____________b00001: [1]Munka3!#REF!
Name _____________b00001: [1]Munka3!#REF!
Name _____________b00001: [1]Munka3!#REF!
Name _____________b00001: [1]Munka3!#REF!
Name _____________e00001: [1]Munka3!#REF!
Name _____________e00001: [1]Munka3!#REF!
Name _____________e00001: [1]Munka3!#REF!
Name _____________e00001: [1]Munka3!#REF!
Name ____________b00001: [1]Munka3!#REF!
Name ____________b00001: [1]Munka3!#REF!
Name ____________b00001: [1]Munka3!#REF!
Name ____________b00001: [1]Munka3!#REF!
Name ____________b00001: [1]Munka3!#REF!
Name ____________e00001: [1]Munka3!#REF!
Name ____________e00001: [1]Munka3!#REF!
Name ____________e00001: [1]Munka3!#REF!
Name ____________e00001: [1]Munka3!#REF!
Name ____________e00001: [1]Munka3!#REF!
Name ___________b00001: [1]Munka3!#REF!
Name ___________b00001: [1]Munka3!#REF!
Name ___________b00001: [1]Munka3!#REF!
Name ___________b00001: [1]Munka3!#REF!
Name ___________b00001: [1]Munka3!#REF!
Name ___________e00001: [1]Munka3!#REF!
Name ___________e00001: [1]Munka3!#REF!
Name ___________e00001: [1]Munka3!#REF!
Name ___________e00001: [1]Munka3!#REF!
Name ___________e00001: [1]Munka3!#REF!
Name __________b00001: [1]Munka3!#REF!
Name __________b00001: [1]Munka3!#REF!
Name __________b00001: [1]Munka3!#REF!
Name __________b00001: [1]Munka3!#REF!
Name __________b00001: [1]Munka3!#REF!
Name __________e00001: [1]Munka3!#REF!
Name __________e00001: [1]Munka3!#REF!
Name __________e00001: [1]Munka3!#REF!
Name __________e00001: [1]Munka3!#REF!
Name __________e00001: [1]Munka3!#REF!
Name _________b00001: [1]Munka3!#REF!
Name _________b00001: [1]Munka3!#REF!
Name _________b00001: [1]Munka3!#REF!
Name _________b00001: [1]Munka3!#REF!
Name _________b00001: [1]Munka3!#REF!
Name _________e00001: [1]Munka3!#REF!
Name _________e00001: [1]Munka3!#REF!
Name _________e00001: [1]Munka3!#REF!
Name _________e00001: [1]Munka3!#REF!
Name _________e00001: [1]Munka3!#REF!
Name ________b00001: [1]Munka3!#REF!
Name ________b00001: [1]Munka3!#REF!
Name ________b00001: [1]Munka3!#REF!
Name ________b00001: [1]Munka3!#REF!
Name ________b00001: [1]Munka3!#REF!
Name ________e00001: [1]Munka3!#REF!
Name ________e00001: [1]Munka3!#REF!
Name ________e00001: [1]Munka3!#REF!
Name ________e00001: [1]Munka3!#REF!
Name ________e00001: [1]Munka3!#REF!
Name _______b00001: [1]Munka3!#REF!
Name _______b00001: [1]Munka3!#REF!

Sheet 1 bevétel (kötelező,önként)
C1: Székesfehérvár Megyei Jogú Város Önkormányzat és Költségvetési szervei | O1: Székesfehérvár Megyei Jogú Város Önkormányzat és Költségvetési szervei | AA1: Székesfehérvár Megyei Jogú Város Önkormányzat és Költségvetési szervei
C2: 2018. évi bevételei eFt-ban | O2: 2018. évi bevételei eFt-ban | AA2: 2018. évi bevételei eFt-ban
C3: II. módosítás | O3: II. módosítás | AA3: II. módosítás
C5: Székesfehérvár Megyei Jogú Város Önkormányzat | O5: Költségvetési szervek összesen | AA5: Összesen
A6: Megnevezés | B6: Rovat száma | C6: Módosított előirányzat | G6: Javasolt módosítás | K6: Új Módosított előirányzat | O6: Módosított előirányzat | S6: Javasolt módosítás | W6: Új Módosított előirányzat | AA6: Módosított előirányzat | AE6: Javasolt módosítás | AI6: Új Módosított előirányzat
C7: Kötelező feladat | D7: Önként vállalt feladat | E7: Államigazgatási feladat | F7: Összesen | G7: Kötelező feladat | H7: Önként vállalt feladat | I7: Államigazgatási feladat | J7: Összesen | K7: Kötelező feladat | L7: Önként vállalt feladat | M7: Államigazgatási feladat | N7: Összesen | O7: Kötelező feladat | P7: Önként vállalt feladat | Q7: Államigazgatási feladat | R7: Összesen | S7: Kötelező feladat | T7: Önként vállalt feladat | U7: Államigazgatási feladat | V7: Összesen | W7: Kötelező feladat | X7: Önként vállalt feladat | Y7: Államigazgatási feladat | Z7: Összesen | AA7: Kötelező feladat | AB7: Önként vállalt feladat | AC7: Államigazgatási feladat | AD7: Összesen | AE7: Kötelező feladat | AF7: Önként vállalt feladat | AG7: Államigazgatási feladat | AH7: Összesen | AI7: Kötelező feladat | AJ7: Önként vállalt feladat | AK7: Államigazgatási feladat | AL7: Összesen
A8: a. | C8: b/1. | G8: b/2. | K8: b/3. | O8: c/1. | S8: c/2. | W8: c/3. | AA8: d/1.=b/1.+c/1. | AE8: d/2.=b/2.+c/2. | AI8: d/3.=b/3.+c/3.
A9: 1, Helyi önkormányzatok működésének általános támogatása | B9: B111 | C9: 3967 | F9: =SUM(C9:E9) -> 3967 | J9: =SUM(G9:I9) -> 0 | K9: =SUM(G9+C9) -> 3967 | L9: =SUM(H9+D9) -> 0 | M9: =SUM(I9+E9) -> 0 | N9: =SUM(K9:M9) -> 3967 | AA9: =SUM(O9+C9) -> 3967 | AB9: =SUM(P9+D9) -> 0 | AC9: =SUM(Q9+E9) -> 0 | AD9: =SUM(AA9:AC9) -> 3967 | AE9: =SUM(S9+G9) -> 0 | AF9: =SUM(T9+H9) -> 0 | AG9: =SUM(U9+I9) -> 0 | AH9: =SUM(AE9:AG9) -> 0 | AI9: =SUM(W9+K9) -> 3967 | AJ9: =SUM(X9+L9) -> 0 | AK9: =SUM(Y9+M9) -> 0 | AL9: =SUM(AI9:AK9) -> 3967
A10: 2, Települési önkormányzatok egyes köznevelési feladatainak támogatása | B10: B112 | C10: 1867433 | F10: =SUM(C10:E10) -> 1867433 | J10: =SUM(G10:I10) -> 0 | K10: =SUM(G10+C10) -> 1867433 | L10: =SUM(H10+D10) -> 0 | M10: =SUM(I10+E10) -> 0 | N10: =SUM(K10:M10) -> 1867433 | AA10: =SUM(O10+C10) -> 1867433 | AB10: =SUM(P10+D10) -> 0 | AC10: =SUM(Q10+E10) -> 0 | AD10: =SUM(AA10:AC10) -> 1867433 | AE10: =SUM(S10+G10) -> 0 | AF10: =SUM(T10+H10) -> 0 | AG10: =SUM(U10+I10) -> 0 | AH10: =SUM(AE10:AG10) -> 0 | AI10: =SUM(W10+K10) -> 1867433 | AJ10: =SUM(X10+L10) -> 0 | AK10: =SUM(Y10+M10) -> 0 | AL10: =SUM(AI10:AK10) -> 1867433
A11: 3, Települési önkormányzatok szociális, gyermekjóléti és gyermekétkeztetési feladatainak támogatása | B11: B113 | C11: 1552555 | F11: =SUM(C11:E11) -> 1552555 | G11: 120069 | J11: =SUM(G11:I11) -> 120069 | K11: =SUM(G11+C11) -> 1672624 | L11: =SUM(H11+D11) -> 0 | M11: =SUM(I11+E11) -> 0 | N11: =SUM(K11:M11) -> 1672624 | AA11: =SUM(O11+C11) -> 1552555 | AB11: =SUM(P11+D11) -> 0 | AC11: =SUM(Q11+E11) -> 0 | AD11: =SUM(AA11:AC11) -> 1552555 | AE11: =SUM(S11+G11) -> 120069 | AF11: =SUM(T11+H11) -> 0 | AG11: =SUM(U11+I11) -> 0 | AH11: =SUM(AE11:AG11) -> 120069 | AI11: =SUM(W11+K11) -> 1672624 | AJ11: =SUM(X11+L11) -> 0 | AK11: =SUM(Y11+M11) -> 0 | AL11: =SUM(AI11:AK11) -> 1672624
A12: 4, Települési önkormányzatok kulturális feladatainak támogatása | B12: B114 | C12: 549237 | D12: 301800 | F12: =SUM(C12:E12) -> 851037 | G12: 29983 | J12: =SUM(G12:I12) -> 29983 | K12: =SUM(G12+C12) -> 579220 | L12: =SUM(H12+D12) -> 301800 | M12: =SUM(I12+E12) -> 0 | N12: =SUM(K12:M12) -> 881020 | AA12: =SUM(C12+O12) -> 549237 | AB12: =SUM(D12+P12) -> 301800 | AC12: =SUM(E12+Q12) -> 0 | AD12: =SUM(F12+R12) -> 851037 | AE12: =SUM(G12+S12) -> 29983 | AF12: =SUM(H12+T12) -> 0 | AG12: =SUM(I12+U12) -> 0 | AH12: =SUM(J12+V12) -> 29983 | ... AL12: =SUM(N12+Z12) -> 881020
A13: ~ ebből: Szent István Király Múzeum támogatása | C13: 233300 | F13: =SUM(C13:E13) -> 233300 | J13: =SUM(G13:I13) -> 0 | K13: =SUM(G13+C13) -> 233300 | L13: =SUM(H13+D13) -> 0 | M13: =SUM(I13+E13) -> 0 | N13: =SUM(K13:M13) -> 233300 | AA13: =SUM(C13+O13) -> 233300 | AB13: =SUM(D13+P13) -> 0 | AC13: =SUM(E13+Q13) -> 0 | AD13: =SUM(F13+R13) -> 233300 | AE13: =SUM(G13+S13) -> 0 | AF13: =SUM(H13+T13) -> 0 | AG13: =SUM(I13+U13) -> 0 | AH13: =SUM(J13+V13) -> 0 | ... AL13: =SUM(N13+Z13) -> 233300
A14: Vörösmarty Mihály Megyei Könyvtár és a városi könyvtár támogatása | C14: 176100 | F14: =SUM(C14:E14) -> 176100 | J14: =SUM(G14:I14) -> 0 | K14: =SUM(G14+C14) -> 176100 | L14: =SUM(H14+D14) -> 0 | M14: =SUM(I14+E14) -> 0 | N14: =SUM(K14:M14) -> 176100 | AA14: =SUM(C14+O14) -> 176100 | AB14: =SUM(D14+P14) -> 0 | AC14: =SUM(E14+Q14) -> 0 | AD14: =SUM(F14+R14) -> 176100 | AE14: =SUM(G14+S14) -> 0 | AF14: =SUM(H14+T14) -> 0 | AG14: =SUM(I14+U14) -> 0 | AH14: =SUM(J14+V14) -> 0 | ... AL14: =SUM(N14+Z14) -> 176100
A15: Vörösmarty Színház támogatása | D15: 301800 | F15: =SUM(C15:E15) -> 301800 | J15: =SUM(G15:I15) -> 0 | K15: =SUM(G15+C15) -> 0 | L15: =SUM(H15+D15) -> 301800 | M15: =SUM(I15+E15) -> 0 | N15: =SUM(K15:M15) -> 301800 | AA15: =SUM(C15+O15) -> 0 | AB15: =SUM(D15+P15) -> 301800 | AC15: =SUM(E15+Q15) -> 0 | AD15: =SUM(F15+R15) -> 301800 | AE15: =SUM(G15+S15) -> 0 | AF15: =SUM(H15+T15) -> 0 | AG15: =SUM(I15+U15) -> 0 | AH15: =SUM(J15+V15) -> 0 | ... AL15: =SUM(N15+Z15) -> 301800
A16: 5, Működési célú központosított előirányzatok | B16: B115 | C16: 218854 | F16: =SUM(C16:E16) -> 218854 | G16: 13114 | J16: =SUM(G16:I16) -> 13114 | K16: =SUM(G16+C16) -> 231968 | L16: =SUM(H16+D16) -> 0 | M16: =SUM(I16+E16) -> 0 | N16: =SUM(K16:M16) -> 231968 | AA16: =SUM(C16+O16) -> 218854 | AB16: =SUM(D16+P16) -> 0 | AC16: =SUM(E16+Q16) -> 0 | AD16: =SUM(F16+R16) -> 218854 | AE16: =SUM(G16+S16) -> 13114 | AF16: =SUM(H16+T16) -> 0 | AG16: =SUM(I16+U16) -> 0 | AH16: =SUM(J16+V16) -> 13114 | ... AL16: =SUM(N16+Z16) -> 231968
A17: 6, Önkormányzatok működési támogatásai összesen (1+2+3+4+5): | B17: B11 | C17: =SUM(C9:C11,C12,C16) -> 4192046 | D17: =SUM(D9:D11,D12,D16) -> 301800 | E17: =SUM(E9:E11,E12,E16) -> 0 | F17: =SUM(F9:F11,F12,F16) -> 4493846 | G17: =SUM(G9:G11,G12,G16) -> 163166 | H17: =SUM(H9:H11,H12,H16) -> 0 | I17: =SUM(I9:I11,I12,I16) -> 0 | J17: =SUM(J9:J11,J12,J16) -> 163166 | ... AL17: =SUM(AL9:AL11,AL12,AL16) -> 4657012
A18: 7, Egyéb működési célú támogatások bevételei államháztartáson belülről | B18: B16 | C18: 21326 | D18: 35772 | F18: =SUM(C18:E18) -> 57098 | H18: 22500 | J18: =SUM(G18:I18) -> 22500 | K18: =SUM(G18+C18) -> 21326 | L18: =SUM(H18+D18) -> 58272 | M18: =SUM(I18+E18) -> 0 | N18: =SUM(K18:M18) -> 79598 | O18: 737644 | P18: 285563 | Q18: 83427 | R18: =SUM(O18:Q18) -> 1106634 | S18: 213247 | T18: 67825 | U18: 0 | V18: =SUM(S18:U18) -> 281072 | W18: =SUM(S18+O18) -> 950891 | X18: =SUM(T18+P18) -> 353388 | Y18: =SUM(Q18+U18) -> 83427 | Z18: =SUM(W18:Y18) -> 1387706 | AA18: =SUM(C18+O18) -> 758970 | AB18: =SUM(D18+P18) -> 321335 | AC18: =SUM(E18+Q18) -> 83427 | AD18: =SUM(F18+R18) -> 1163732 | AE18: =SUM(G18+S18) -> 213247 | AF18: =SUM(H18+T18) -> 90325 | AG18: =SUM(I18+U18) -> 0 | AH18: =SUM(J18+V18) -> 303572 | ... AL18: =SUM(N18+Z18) -> 1467304
A19: 8, Működési célú támogatások államháztartáson belülről összesen (6+7): | B19: B1 | C19: =SUM(C17+C18) -> 4213372 | D19: =SUM(D17+D18) -> 337572 | E19: =SUM(E17+E18) -> 0 | F19: =SUM(F17+F18) -> 4550944 | G19: =SUM(G17+G18) -> 163166 | H19: =SUM(H17+H18) -> 22500 | I19: =SUM(I17+I18) -> 0 | J19: =SUM(J17+J18) -> 185666 | ... AL19: =SUM(AL17+AL18) -> 6124316
A20: 9, Felhalmozási célú önkormányzati támogatások | B20: B21 | C20: 0 | D20: 0 | E20: 0 | F20: =SUM(C20:E20) -> 0 | G20: 488480 | J20: =SUM(G20:I20) -> 488480 | K20: =SUM(G20+C20) -> 488480 | L20: =SUM(H20+D20) -> 0 | M20: =SUM(I20+E20) -> 0 | N20: =SUM(K20:M20) -> 488480 | R20: =SUM(O20:Q20) -> 0 | V20: =SUM(S20:U20) -> 0 | W20: =SUM(S20+O20) -> 0 | X20: =SUM(T20+P20) -> 0 | Y20: =SUM(Q20+U20) -> 0 | Z20: =SUM(W20:Y20) -> 0 | AA20: =SUM(C20+O20) -> 0 | AB20: =SUM(D20+P20) -> 0 | AC20: =SUM(E20+Q20) -> 0 | AD20: =SUM(F20+R20) -> 0 | AE20: =SUM(G20+S20) -> 488480 | AF20: =SUM(H20+T20) -> 0 | AG20: =SUM(I20+U20) -> 0 | AH20: =SUM(J20+V20) -> 488480 | ... AL20: =SUM(N20+Z20) -> 488480
A21: 10, Egyéb felhalmozási célú támogatások bevételei államháztartáson belülről | B21: B25 | C21: 3498336 | D21: 11289214 | E21: 0 | F21: =SUM(C21:E21) -> 14787550 | G21: -71750 | H21: 199750 | J21: =SUM(G21:I21) -> 128000 | K21: =SUM(G21+C21) -> 3426586 | L21: =SUM(H21+D21) -> 11488964 | M21: =SUM(I21+E21) -> 0 | N21: =SUM(K21:M21) -> 14915550 | R21: =SUM(O21:Q21) -> 0 | V21: =SUM(S21:U21) -> 0 | W21: =SUM(S21+O21) -> 0 | X21: =SUM(T21+P21) -> 0 | Y21: =SUM(Q21+U21) -> 0 | Z21: =SUM(W21:Y21) -> 0 | AA21: =SUM(C21+O21) -> 3498336 | AB21: =SUM(D21+P21) -> 11289214 | AC21: =SUM(E21+Q21) -> 0 | AD21: =SUM(F21+R21) -> 14787550 | AE21: =SUM(G21+S21) -> -71750 | AF21: =SUM(H21+T21) -> 199750 | AG21: =SUM(I21+U21) -> 0 | AH21: =SUM(J21+V21) -> 128000 | ... AL21: =SUM(N21+Z21) -> 14915550
A22: 11, Felhalmozási célú támogatások államháztartáson belülről összesen: (9+10) | B22: B2 | C22: =SUM(C20+C21) -> 3498336 | D22: =SUM(D20+D21) -> 11289214 | E22: =SUM(E20+E21) -> 0 | F22: =SUM(F20+F21) -> 14787550 | G22: =SUM(G20+G21) -> 416730 | H22: =SUM(H20+H21) -> 199750 | I22: =SUM(I20+I21) -> 0 | J22: =SUM(J20+J21) -> 616480 | ... AL22: =SUM(AL20+AL21) -> 15404030
A23: 12, Építményadó | B23: B34 | C23: 1875000 | F23: =SUM(C23:E23) -> 1875000 | J23: =SUM(G23:I23) -> 0 | K23: =SUM(G23+C23) -> 1875000 | L23: =SUM(H23+D23) -> 0 | M23: =SUM(I23+E23) -> 0 | N23: =SUM(K23:M23) -> 1875000 | R23: =SUM(O23:Q23) -> 0 | V23: =SUM(S23:U23) -> 0 | W23: =SUM(S23+O23) -> 0 | X23: =SUM(T23+P23) -> 0 | Y23: =SUM(Q23+U23) -> 0 | Z23: =SUM(W23:Y23) -> 0 | AA23: =SUM(O23+C23) -> 1875000 | AB23: =SUM(P23+D23) -> 0 | AC23: =SUM(Q23+E23) -> 0 | AD23: =SUM(AA23:AC23) -> 1875000 | AE23: =SUM(S23+G23) -> 0 | AF23: =SUM(T23+H23) -> 0 | AG23: =SUM(U23+I23) -> 0 | AH23: =SUM(AE23:AG23) -> 0 | AI23: =SUM(W23+K23) -> 1875000 | AJ23: =SUM(X23+L23) -> 0 | AK23: =SUM(Y23+M23) -> 0 | AL23: =SUM(AI23:AK23) -> 1875000
A24: 13, Vagyoni típusú adók összesen: (12) | B24: B34 | C24: =SUM(C23:C23) -> 1875000 | D24: =SUM(D23:D23) -> 0 | E24: =SUM(E23:E23) -> 0 | F24: =SUM(F23:F23) -> 1875000 | G24: =SUM(G23:G23) -> 0 | H24: =SUM(H23:H23) -> 0 | I24: =SUM(I23:I23) -> 0 | J24: =SUM(J23:J23) -> 0 | ... AL24: =SUM(AL23:AL23) -> 1875000
A25: 14, Iparűzési adó | B25: B351 | C25: 16000000 | F25: =SUM(C25:E25) -> 16000000 | J25: =SUM(G25:I25) -> 0 | K25: =SUM(G25+C25) -> 16000000 | L25: =SUM(H25+D25) -> 0 | M25: =SUM(I25+E25) -> 0 | N25: =SUM(K25:M25) -> 16000000 | R25: =SUM(O25:Q25) -> 0 | V25: =SUM(S25:U25) -> 0 | W25: =SUM(S25+O25) -> 0 | X25: =SUM(T25+P25) -> 0 | Y25: =SUM(Q25+U25) -> 0 | Z25: =SUM(W25:Y25) -> 0 | AA25: =SUM(O25+C25) -> 16000000 | AB25: =SUM(P25+D25) -> 0 | AC25: =SUM(Q25+E25) -> 0 | AD25: =SUM(AA25:AC25) -> 16000000 | AE25: =SUM(S25+G25) -> 0 | AF25: =SUM(T25+H25) -> 0 | AG25: =SUM(U25+I25) -> 0 | AH25: =SUM(AE25:AG25) -> 0 | AI25: =SUM(W25+K25) -> 16000000 | AJ25: =SUM(X25+L25) -> 0 | AK25: =SUM(Y25+M25) -> 0 | AL25: =SUM(AI25:AK25) -> 16000000
A26: 15, Értékesítési és forgalmi adók (14) | B26: B351 | C26: =SUM(C25) -> 16000000 | D26: =SUM(D25) -> 0 | E26: =SUM(E25) -> 0 | F26: =SUM(F25) -> 16000000 | G26: =SUM(G25) -> 0 | H26: =SUM(H25) -> 0 | I26: =SUM(I25) -> 0 | J26: =SUM(J25) -> 0 | ... AL26: =SUM(AL25) -> 16000000
A27: 16, Gépjárműadó | B27: B354 | C27: 360000 | F27: =SUM(C27:E27) -> 360000 | J27: =SUM(G27:I27) -> 0 | K27: =SUM(G27+C27) -> 360000 | L27: =SUM(H27+D27) -> 0 | M27: =SUM(I27+E27) -> 0 | N27: =SUM(K27:M27) -> 360000 | V27: =SUM(S27:U27) -> 0 | W27: =SUM(S27+O27) -> 0 | X27: =SUM(T27+P27) -> 0 | Y27: =SUM(Q27+U27) -> 0 | Z27: =SUM(W27:Y27) -> 0 | AA27: =SUM(O27+C27) -> 360000 | AB27: =SUM(P27+D27) -> 0 | AC27: =SUM(Q27+E27) -> 0 | AD27: =SUM(AA27:AC27) -> 360000 | AE27: =SUM(S27+G27) -> 0 | AF27: =SUM(T27+H27) -> 0 | AG27: =SUM(U27+I27) -> 0 | AH27: =SUM(AE27:AG27) -> 0 | AI27: =SUM(W27+K27) -> 360000 | AJ27: =SUM(X27+L27) -> 0 | AK27: =SUM(Y27+M27) -> 0 | AL27: =SUM(AI27:AK27) -> 360000
A28: 17, Idegenforgalmi adó | B28: B355 | C28: 60000 | F28: =SUM(C28:E28) -> 60000 | J28: =SUM(G28:I28) -> 0 | K28: =SUM(G28+C28) -> 60000 | L28: =SUM(H28+D28) -> 0 | M28: =SUM(I28+E28) -> 0 | N28: =SUM(K28:M28) -> 60000 | R28: =SUM(O28:Q28) -> 0 | V28: =SUM(S28:U28) -> 0 | W28: =SUM(S28+O28) -> 0 | X28: =SUM(T28+P28) -> 0 | Y28: =SUM(Q28+U28) -> 0 | Z28: =SUM(W28:Y28) -> 0 | AA28: =SUM(O28+C28) -> 60000 | AB28: =SUM(P28+D28) -> 0 | AC28: =SUM(Q28+E28) -> 0 | AD28: =SUM(AA28:AC28) -> 60000 | AE28: =SUM(S28+G28) -> 0 | AF28: =SUM(T28+H28) -> 0 | AG28: =SUM(U28+I28) -> 0 | AH28: =SUM(AE28:AG28) -> 0 | AI28: =SUM(W28+K28) -> 60000 | AJ28: =SUM(X28+L28) -> 0 | AK28: =SUM(Y28+M28) -> 0 | AL28: =SUM(AI28:AK28) -> 60000
A29: 18, Egyéb áruhasználati és szolgáltatási adók (17) | B29: B355 | C29: =SUM(C28:C28) -> 60000 | D29: =SUM(D28:D28) -> 0 | E29: =SUM(E28:E28) -> 0 | F29: =SUM(F28:F28) -> 60000 | G29: =SUM(G28:G28) -> 0 | H29: =SUM(H28:H28) -> 0 | I29: =SUM(I28:I28) -> 0 | J29: =SUM(J28:J28) -> 0 | ... AL29: =SUM(AL28:AL28) -> 60000
A30: 19, Termékek és szolgáltatások adói összesen (15+16+18): | B30: B35 | C30: =SUM(C29+C27+C26) -> 16420000 | D30: =SUM(D29+D27+D26) -> 0 | E30: =SUM(E29+E27+E26) -> 0 | F30: =SUM(F29+F27+F26) -> 16420000 | G30: =SUM(G29+G27+G26) -> 0 | H30: =SUM(H29+H27+H26) -> 0 | I30: =SUM(I29+I27+I26) -> 0 | J30: =SUM(J29+J27+J26) -> 0 | ... AL30: =SUM(AL29+AL27+AL26) -> 16420000
A31: 20, Egyéb települési adó | B31: B36 | C31: 10000 | F31: =SUM(C31:E31) -> 10000 | J31: =SUM(G31:I31) -> 0 | K31: =SUM(G31+C31) -> 10000 | L31: =SUM(H31+D31) -> 0 | M31: =SUM(I31+E31) -> 0 | N31: =SUM(K31:M31) -> 10000 | R31: =SUM(O31:Q31) -> 0 | V31: =SUM(S31:U31) -> 0 | W31: =SUM(S31+O31) -> 0 | X31: =SUM(T31+P31) -> 0 | Y31: =SUM(Q31+U31) -> 0 | Z31: =SUM(W31:Y31) -> 0 | AA31: =SUM(O31+C31) -> 10000 | AB31: =SUM(P31+D31) -> 0 | AC31: =SUM(Q31+E31) -> 0 | AD31: =SUM(AA31:AC31) -> 10000 | AE31: =SUM(S31+G31) -> 0 | AF31: =SUM(T31+H31) -> 0 | AG31: =SUM(U31+I31) -> 0 | AH31: =SUM(AE31:AG31) -> 0 | AI31: =SUM(W31+K31) -> 10000 | AJ31: =SUM(X31+L31) -> 0 | AK31: =SUM(Y31+M31) -> 0 | AL31: =SUM(AI31:AK31) -> 10000
A32: 21, Adópótlék, adóbírság | B32: B36 | C32: 50000 | F32: =SUM(C32:E32) -> 50000 | J32: =SUM(G32:I32) -> 0 | K32: =SUM(G32+C32) -> 50000 | L32: =SUM(H32+D32) -> 0 | M32: =SUM(I32+E32) -> 0 | N32: =SUM(K32:M32) -> 50000 | R32: =SUM(O32:Q32) -> 0 | V32: =SUM(S32:U32) -> 0 | W32: =SUM(S32+O32) -> 0 | X32: =SUM(T32+P32) -> 0 | Y32: =SUM(Q32+U32) -> 0 | Z32: =SUM(W32:Y32) -> 0 | AA32: =SUM(O32+C32) -> 50000 | AB32: =SUM(P32+D32) -> 0 | AC32: =SUM(Q32+E32) -> 0 | AD32: =SUM(AA32:AC32) -> 50000 | AE32: =SUM(S32+G32) -> 0 | AF32: =SUM(T32+H32) -> 0 | AG32: =SUM(U32+I32) -> 0 | AH32: =SUM(AE32:AG32) -> 0 | AI32: =SUM(W32+K32) -> 50000 | AJ32: =SUM(X32+L32) -> 0 | AK32: =SUM(Y32+M32) -> 0 | AL32: =SUM(AI32:AK32) -> 50000
A33: 22, Szabálysértési pénz és helyszíni bírság és közigazgatási bírság | B33: B36 | C33: 27500 | F33: =SUM(C33:E33) -> 27500 | J33: =SUM(G33:I33) -> 0 | K33: =SUM(G33+C33) -> 27500 | L33: =SUM(H33+D33) -> 0 | M33: =SUM(I33+E33) -> 0 | N33: =SUM(K33:M33) -> 27500 | R33: =SUM(O33:Q33) -> 0 | V33: =SUM(S33:U33) -> 0 | W33: =SUM(S33+O33) -> 0 | X33: =SUM(T33+P33) -> 0 | Y33: =SUM(Q33+U33) -> 0 | Z33: =SUM(W33:Y33) -> 0 | AA33: =SUM(O33+C33) -> 27500 | AB33: =SUM(P33+D33) -> 0 | AC33: =SUM(Q33+E33) -> 0 | AD33: =SUM(AA33:AC33) -> 27500 | AE33: =SUM(S33+G33) -> 0 | AF33: =SUM(T33+H33) -> 0 | AG33: =SUM(U33+I33) -> 0 | AH33: =SUM(AE33:AG33) -> 0 | AI33: =SUM(W33+K33) -> 27500 | AJ33: =SUM(X33+L33) -> 0 | AK33: =SUM(Y33+M33) -> 0 | AL33: =SUM(AI33:AK33) -> 27500
A34: 23, Egyéb bírság | B34: B36 | C34: 5000 | F34: =SUM(C34:E34) -> 5000 | J34: =SUM(G34:I34) -> 0 | K34: =SUM(G34+C34) -> 5000 | L34: =SUM(H34+D34) -> 0 | M34: =SUM(I34+E34) -> 0 | N34: =SUM(K34:M34) -> 5000 | Q34: 200 | R34: =SUM(O34:Q34) -> 200 | V34: =SUM(S34:U34) -> 0 | W34: =SUM(S34+O34) -> 0 | X34: =SUM(T34+P34) -> 0 | Y34: =SUM(Q34+U34) -> 200 | Z34: =SUM(W34:Y34) -> 200 | AA34: =SUM(O34+C34) -> 5000 | AB34: =SUM(P34+D34) -> 0 | AC34: =SUM(Q34+E34) -> 200 | AD34: =SUM(AA34:AC34) -> 5200 | AE34: =SUM(S34+G34) -> 0 | AF34: =SUM(T34+H34) -> 0 | AG34: =SUM(U34+I34) -> 0 | AH34: =SUM(AE34:AG34) -> 0 | AI34: =SUM(W34+K34) -> 5000 | AJ34: =SUM(X34+L34) -> 0 | AK34: =SUM(Y34+M34) -> 200 | AL34: =SUM(AI34:AK34) -> 5200
A35: 24, Egyéb közhatalmi bevételek összesen (20+21+22+23): | B35: B36 | C35: =SUM(C31:C34) -> 92500 | D35: =SUM(D31:D34) -> 0 | E35: =SUM(E31:E34) -> 0 | F35: =SUM(F31:F34) -> 92500 | G35: =SUM(G31:G34) -> 0 | H35: =SUM(H31:H34) -> 0 | I35: =SUM(I31:I34) -> 0 | J35: =SUM(J31:J34) -> 0 | ... AL35: =SUM(AL31:AL34) -> 92700
A36: 25, Közhatalmi bevételek összesen (13+19+24): | B36: B3 | C36: =SUM(C24+C30+C35) -> 18387500 | D36: =SUM(D24+D30+D35) -> 0 | E36: =SUM(E24+E30+E35) -> 0 | F36: =SUM(F24+F30+F35) -> 18387500 | G36: =SUM(G24+G30+G35) -> 0 | H36: =SUM(H24+H30+H35) -> 0 | I36: =SUM(I24+I30+I35) -> 0 | J36: =SUM(J24+J30+J35) -> 0 | ... AL36: =SUM(AL24+AL30+AL35) -> 18387700
A37: 26, Működési bevételek | B37: B4 | C37: 1036081 | D37: 2942746 | F37: =SUM(C37:E37) -> 3978827 | G37: 38000 | H37: 1254298 | J37: =SUM(G37:I37) -> 1292298 | K37: =SUM(G37+C37) -> 1074081 | L37: =SUM(H37+D37) -> 4197044 | M37: =SUM(I37+E37) -> 0 | N37: =SUM(K37:M37) -> 5271125 | O37: 1036992 | P37: 334094 | R37: =SUM(O37:Q37) -> 1371086 | S37: 29727 | T37: 0 | U37: 2268 | V37: =SUM(S37:U37) -> 31995 | W37: =SUM(S37+O37) -> 1066719 | X37: =SUM(T37+P37) -> 334094 | Y37: =SUM(Q37+U37) -> 2268 | Z37: =SUM(W37:Y37) -> 1403081 | AA37: =SUM(O37+C37) -> 2073073 | AB37: =SUM(P37+D37) -> 3276840 | AC37: =SUM(Q37+E37) -> 0 | AD37: =SUM(AA37:AC37) -> 5349913 | AE37: =SUM(S37+G37) -> 67727 | AF37: =SUM(T37+H37) -> 1254298 | AG37: =SUM(U37+I37) -> 2268 | AH37: =SUM(AE37:AG37) -> 1324293 | AI37: =SUM(W37+K37) -> 2140800 | AJ37: =SUM(X37+L37) -> 4531138 | AK37: =SUM(Y37+M37) -> 2268 | AL37: =SUM(AI37:AK37) -> 6674206
A38: ~ ebből: Tulajdonosi bevételek | B38: B404 | C38: 393785 | F38: =SUM(C38:E38) -> 393785 | J38: =SUM(G38:I38) -> 0 | K38: =SUM(G38+C38) -> 393785 | L38: =SUM(H38+D38) -> 0 | M38: =SUM(I38+E38) -> 0 | N38: =SUM(K38:M38) -> 393785 | R38: =SUM(O38:Q38) -> 0 | V38: =SUM(S38:U38) -> 0 | W38: =SUM(S38+O38) -> 0 | X38: =SUM(T38+P38) -> 0 | Y38: =SUM(Q38+U38) -> 0 | Z38: =SUM(W38:Y38) -> 0 | AA38: =SUM(O38+C38) -> 393785 | AB38: =SUM(P38+D38) -> 0 | AC38: =SUM(Q38+E38) -> 0 | AD38: =SUM(AA38:AC38) -> 393785 | AE38: =SUM(S38+G38) -> 0 | AF38: =SUM(T38+H38) -> 0 | AG38: =SUM(U38+I38) -> 0 | AH38: =SUM(AE38:AG38) -> 0 | AI38: =SUM(W38+K38) -> 393785 | AJ38: =SUM(X38+L38) -> 0 | AK38: =SUM(Y38+M38) -> 0 | AL38: =SUM(AI38:AK38) -> 393785
A39: Kiszámlázott általános forgalmi adó, és általános forgalmi adó visszatérítése | B39: B406-B407 | C39: 141643 | D39: 2904852 | F39: =SUM(C39:E39) -> 3046495 | H39: 324 | J39: =SUM(G39:I39) -> 324 | K39: =SUM(G39+C39) -> 141643 | L39: =SUM(H39+D39) -> 2905176 | M39: =SUM(I39+E39) -> 0 | N39: =SUM(K39:M39) -> 3046819 | O39: 264525 | P39: 108794 | R39: =SUM(O39:Q39) -> 373319 | S39: 4136 | U39: 0 | V39: =SUM(S39:U39) -> 4136 | W39: =SUM(S39+O39) -> 268661 | X39: =SUM(T39+P39) -> 108794 | Y39: =SUM(Q39+U39) -> 0 | Z39: =SUM(W39:Y39) -> 377455 | AA39: =SUM(O39+C39) -> 406168 | AB39: =SUM(P39+D39) -> 3013646 | AC39: =SUM(Q39+E39) -> 0 | AD39: =SUM(AA39:AC39) -> 3419814 | AE39: =SUM(S39+G39) -> 4136 | AF39: =SUM(T39+H39) -> 324 | AG39: =SUM(U39+I39) -> 0 | AH39: =SUM(AE39:AG39) -> 4460 | AI39: =SUM(W39+K39) -> 410304 | AJ39: =SUM(X39+L39) -> 3013970 | AK39: =SUM(Y39+M39) -> 0 | AL39: =SUM(AI39:AK39) -> 3424274
A40: Kamatbevételek | B40: B408 | C40: 78000 | F40: =SUM(C40:E40) -> 78000 | G40: 38000 | J40: =SUM(G40:I40) -> 38000 | K40: =SUM(G40+C40) -> 116000 | L40: =SUM(H40+D40) -> 0 | M40: =SUM(I40+E40) -> 0 | N40: =SUM(K40:M40) -> 116000 | R40: =SUM(O40:Q40) -> 0 | V40: =SUM(S40:U40) -> 0 | W40: =SUM(S40+O40) -> 0 | X40: =SUM(T40+P40) -> 0 | Y40: =SUM(Q40+U40) -> 0 | Z40: =SUM(W40:Y40) -> 0 | AA40: =SUM(O40+C40) -> 78000 | AB40: =SUM(P40+D40) -> 0 | AC40: =SUM(Q40+E40) -> 0 | AD40: =SUM(AA40:AC40) -> 78000 | AE40: =SUM(S40+G40) -> 38000 | AF40: =SUM(T40+H40) -> 0 | AG40: =SUM(U40+I40) -> 0 | AH40: =SUM(AE40:AG40) -> 38000 | AI40: =SUM(W40+K40) -> 116000 | AJ40: =SUM(X40+L40) -> 0 | AK40: =SUM(Y40+M40) -> 0 | AL40: =SUM(AI40:AK40) -> 116000
A41: 27, Ingatlanok értékesítése | B41: B52 | C41: 190500 | D41: 88300 | F41: =SUM(C41:E41) -> 278800 | J41: =SUM(G41:I41) -> 0 | K41: =SUM(G41+C41) -> 190500 | L41: =SUM(H41+D41) -> 88300 | M41: =SUM(I41+E41) -> 0 | N41: =SUM(K41:M41) -> 278800 | R41: =SUM(O41:Q41) -> 0 | V41: =SUM(S41:U41) -> 0 | W41: =SUM(S41+O41) -> 0 | X41: =SUM(T41+P41) -> 0 | Y41: =SUM(Q41+U41) -> 0 | Z41: =SUM(W41:Y41) -> 0 | AA41: =SUM(C41+O41) -> 190500 | AB41: =SUM(D41+P41) -> 88300 | AC41: =SUM(E41+Q41) -> 0 | AD41: =SUM(F41+R41) -> 278800 | AE41: =SUM(G41+S41) -> 0 | AF41: =SUM(H41+T41) -> 0 | AG41: =SUM(I41+U41) -> 0 | AH41: =SUM(J41+V41) -> 0 | ... AL41: =SUM(N41+Z41) -> 278800
...

Sheet 2 kiadás (kötelező, önként)
B1: Székesfehérvár Megyei Jogú Város Önkormányzat és Költségvetési szervei | O1: Székesfehérvár Megyei Jogú Város Önkormányzat és Költségvetési szervei | AA1: Székesfehérvár Megyei Jogú Város Önkormányzat és Költségvetési szervei
B2: 2018. évi kiadásai eFt-ban | O2: 2018. évi kiadásai eFt-ban | AA2: 2018. évi kiadásai eFt-ban
B3: II. módosítás | O3: II. módosítás | AA3: II. módosítás
C5: Székesfehérvár Megyei Jogú Város Önkormányzat | O5: Költségvetési szervek összesen | AA5: Összesen
A6: Megnevezés | B6: Rovat száma | C6: Módosított előirányzat | G6: Javasolt módosítás | K6: Új Módosított előirányzat | O6: Módosított előirányzat | S6: Javasolt módosítás | W6: Új Módosított előirányzat | AA6: Módosított előirányzat | AE6: Javasolt módosítás | AI6: Új Módosított előirányzat
C7: Kötelező feladat | D7: Önként vállalt feladat | E7: Államigazgatási feladat | F7: Összesen | G7: Kötelező feladat | H7: Önként vállalt feladat | I7: Államigazgatási feladat | J7: Összesen | K7: Kötelező feladat | L7: Önként vállalt feladat | M7: Államigazgatási feladat | N7: Összesen | O7: Kötelező feladat | P7: Önként vállalt feladat | Q7: Államigazgatási feladat | R7: Összesen | S7: Kötelező feladat | T7: Önként vállalt feladat | U7: Államigazgatási feladat | V7: Összesen | W7: Kötelező feladat | X7: Önként vállalt feladat | Y7: Államigazgatási feladat | Z7: Összesen | AA7: Kötelező feladat | AB7: Önként vállalt feladat | AC7: Államigazgatási feladat | AD7: Összesen | AE7: Kötelező feladat | AF7: Önként vállalt feladat | AG7: Államigazgatási feladat | AH7: Összesen | AI7: Kötelező feladat | AJ7: Önként vállalt feladat | AK7: Államigazgatási feladat | AL7: Összesen
A8: a. | C8: b/1. | G8: b/2. | K8: b/3. | O8: c/1. | S8: c/2. | W8: c/3. | AA8: d/1.=b/1.+c/1. | AE8: d/2.=b/2.+c/2. | AI8: d/3.=b/3.+c/3.
A9: 1, Személyi juttatás | B9: K1 | C9: 293331 | D9: 185299 | E9: 0 | F9: =SUM(C9:E9) -> 478630 | G9: =-298+3391+3992+3743-3260-3200-2000-7500 -> -5132 | H9: =-2-7031+2730+569+443+80+40+1977 -> -1194 | J9: =SUM(G9:I9) -> -6326 | K9: =SUM(C9+G9) -> 288199 | L9: =SUM(D9+H9) -> 184105 | M9: =SUM(E9+I9) -> 0 | N9: =SUM(K9:M9) -> 472304 | O9: 5391371 | P9: 1305289 | Q9: 618691 | R9: =SUM(O9:Q9) -> 7315351 | S9: 139131 | T9: 72048 | U9: 0 | V9: =SUM(S9:U9) -> 211179 | W9: =SUM(O9+S9) -> 5530502 | X9: =SUM(P9+T9) -> 1377337 | Y9: =SUM(Q9+U9) -> 618691 | Z9: =SUM(W9:Y9) -> 7526530 | AA9: =+C9+O9 -> 5684702 | AB9: =+D9+P9 -> 1490588 | AC9: =SUM(Q9+E9) -> 618691 | AD9: =SUM(AA9:AC9) -> 7793981 | AE9: =+G9+S9 -> 133999 | AF9: =+H9+T9 -> 70854 | AG9: =SUM(U9+I9) -> 0 | AH9: =SUM(AE9:AG9) -> 204853 | AI9: =+K9+W9 -> 5818701 | AJ9: =+L9+X9 -> 1561442 | AK9: =SUM(Y9+M9) -> 618691 | AL9: =SUM(AI9:AK9) -> 7998834
A10: 2, Munkaadókat terhelő járulékok és szociális hozzájárulási adó | B10: K2 | C10: 57973 | D10: 56874 | E10: 0 | F10: =SUM(C10:E10) -> 114847 | G10: =661+778+657-1232-351-1316 -> -803 | H10: =716+325+195+8+177 -> 1421 | J10: =SUM(G10:I10) -> 618 | K10: =SUM(C10+G10) -> 57170 | L10: =SUM(D10+H10) -> 58295 | M10: =SUM(E10+I10) -> 0 | N10: =SUM(K10:M10) -> 115465 | O10: 1125709 | P10: 270876 | Q10: 126812 | R10: =SUM(O10:Q10) -> 1523397 | S10: 27267 | T10: 22377 | V10: =SUM(S10:U10) -> 49644 | W10: =SUM(O10+S10) -> 1152976 | X10: =SUM(P10+T10) -> 293253 | Y10: =SUM(Q10+U10) -> 126812 | Z10: =SUM(W10:Y10) -> 1573041 | AA10: =+C10+O10 -> 1183682 | AB10: =+D10+P10 -> 327750 | AC10: =SUM(Q10+E10) -> 126812 | AD10: =SUM(AA10:AC10) -> 1638244 | AE10: =+G10+S10 -> 26464 | AF10: =+H10+T10 -> 23798 | AG10: =SUM(U10+I10) -> 0 | AH10: =SUM(AE10:AG10) -> 50262 | AI10: =+K10+W10 -> 1210146 | AJ10: =+L10+X10 -> 351548 | AK10: =SUM(Y10+M10) -> 126812 | AL10: =SUM(AI10:AK10) -> 1688506
A11: 3, Dologi kiadás | B11: K3 | C11: 2674411 | D11: 5527762 | E11: 0 | F11: =SUM(C11:E11) -> 8202173 | G11: =-13+298+343+438+1793+1968-4107+3615+185216-4400+1889+120+139-39616+55468+23811+18301+2832+15945+39102+5214+13130+33824+8149-3264-73742+32017+4356-38626+776-31933+863-53+5588+5000+305+100000+10743+16829-13000-3829+127000 -> 502489 | H11: =44508-164433-954+2+18517-50+27500+40000+193-4052+583+73579+8999+54837+15000+119-160-48+117 -> 114257 | J11: =SUM(G11:I11) -> 616746 | K11: =SUM(C11+G11) -> 3176900 | L11: =SUM(D11+H11) -> 5642019 | M11: =SUM(E11+I11) -> 0 | N11: =SUM(K11:M11) -> 8818919 | O11: 3769696 | P11: 886682 | Q11: 167096 | R11: =SUM(O11:Q11) -> 4823474 | S11: 266492 | T11: 136222 | U11: 4567 | V11: =SUM(S11:U11) -> 407281 | W11: =SUM(O11+S11) -> 4036188 | X11: =SUM(P11+T11) -> 1022904 | Y11: =SUM(Q11+U11) -> 171663 | Z11: =SUM(W11:Y11) -> 5230755 | AA11: =+C11+O11 -> 6444107 | AB11: =+D11+P11 -> 6414444 | AC11: =SUM(Q11+E11) -> 167096 | AD11: =SUM(AA11:AC11) -> 13025647 | AE11: =+G11+S11 -> 768981 | AF11: =+H11+T11 -> 250479 | AG11: =SUM(U11+I11) -> 4567 | AH11: =SUM(AE11:AG11) -> 1024027 | AI11: =+K11+W11 -> 7213088 | AJ11: =+L11+X11 -> 6664923 | AK11: =SUM(Y11+M11) -> 171663 | AL11: =SUM(AI11:AK11) -> 14049674
A12: 4, Ellátottak pénzbeli juttatásai | B12: K4 | C12: 41014 | D12: 0 | E12: 0 | F12: =SUM(C12:E12) -> 41014 | G12: 7645 | J12: =SUM(G12:I12) -> 7645 | K12: =SUM(C12+G12) -> 48659 | L12: =SUM(D12+H12) -> 0 | M12: =SUM(E12+I12) -> 0 | N12: =SUM(K12:M12) -> 48659 | O12: 10000 | P12: 0 | Q12: 0 | R12: =SUM(O12:Q12) -> 10000 | S12: 63194 | T12: 0 | U12: 0 | V12: =SUM(S12:U12) -> 63194 | W12: =SUM(O12+S12) -> 73194 | X12: =SUM(P12+T12) -> 0 | Y12: =SUM(Q12+U12) -> 0 | Z12: =SUM(W12:Y12) -> 73194 | AA12: =+C12+O12 -> 51014 | AB12: =+D12+P12 -> 0 | AC12: =SUM(Q12+E12) -> 0 | AD12: =SUM(AA12:AC12) -> 51014 | AE12: =+G12+S12 -> 70839 | AF12: =+H12+T12 -> 0 | AG12: =SUM(U12+I12) -> 0 | AH12: =SUM(AE12:AG12) -> 70839 | AI12: =+K12+W12 -> 121853 | AJ12: =+L12+X12 -> 0 | AK12: =SUM(Y12+M12) -> 0 | AL12: =SUM(AI12:AK12) -> 121853
A13: 5, Egyéb működési célú kiadások | B13: K5 (K501-K512) | C13: 10992580 | D13: 2709279 | E13: 0 | F13: =SUM(C13:E13) -> 13701859 | G13: =150000+10242+87102+368 -> 247712 | H13: =164433+50+5000-3500-50000+250+500+2483-3446-1087+1000-1098-500-2400+1000-150-21000-600-1221-562-115+800+2000+30000+2540-400-2477-1248+2286+2000-70000+3406+10000-6457-1500-45-2621-60-50-50-100-100-200-100-300-100-50-50-820-2100 -> 53241 | J13: =SUM(G13:I13) -> 300953 | K13: =SUM(C13+G13) -> 11240292 | L13: =SUM(D13+H13) -> 2762520 | M13: =SUM(E13+I13) -> 0 | N13: =SUM(K13:M13) -> 14002812 | O13: 0 | P13: 0 | Q13: 0 | R13: =SUM(O13:Q13) -> 0 | S13: 20 | T13: 0 | U13: 0 | V13: =SUM(S13:U13) -> 20 | W13: =SUM(O13+S13) -> 20 | X13: =SUM(P13+T13) -> 0 | Y13: =SUM(Q13+U13) -> 0 | Z13: =SUM(W13:Y13) -> 20 | AA13: =+C13+O13 -> 10992580 | AB13: =+D13+P13 -> 2709279 | AC13: =SUM(Q13+E13) -> 0 | AD13: =SUM(AA13:AC13) -> 13701859 | AE13: =+G13+S13 -> 247732 | AF13: =+H13+T13 -> 53241 | AG13: =SUM(U13+I13) -> 0 | AH13: =SUM(AE13:AG13) -> 300973 | AI13: =+K13+W13 -> 11240312 | AJ13: =+L13+X13 -> 2762520 | AK13: =SUM(Y13+M13) -> 0 | AL13: =SUM(AI13:AK13) -> 14002832
A14: 6, Működési költségvetési kiadások összesen | C14: =SUM(C9:C13) -> 14059309 | D14: =SUM(D9:D13) -> 8479214 | E14: =SUM(E9:E13) -> 0 | F14: =SUM(F9:F13) -> 22538523 | G14: =SUM(G9:G13) -> 751911 | H14: =SUM(H9:H13) -> 167725 | I14: =SUM(I9:I13) -> 0 | J14: =SUM(J9:J13) -> 919636 | ... AL14: =SUM(AL9:AL13) -> 37861699
A15: 7, Beruházások | B15: K6 | C15: 7055199 | D15: 21405879 | E15: 0 | F15: =SUM(C15:E15) -> 28461078 | G15: =13+65000+29703+19236+5706+11222+13764+4144+78+44794+11205+1372+395+3615+1800+127+2738+11115+188+23000+4100-4100+13555-13555+13389-17004-185216+393730-1889-120-139+37416-55468-23811-18301-2832-15945-39102-5214-13130-33824-5863+3264+78234-32017-4356+38626-776+35133-863+53+262211+2264+30163+6755+26000+3426+250+3988-200000 -> 528247 | H15: =954-11486+3000-2869-73579-8999-54837+21590+105000+12840+1221 -> -7165 | J15: =SUM(G15:I15) -> 521082 | K15: =SUM(C15+G15) -> 7583446 | L15: =SUM(D15+H15) -> 21398714 | M15: =SUM(E15+I15) -> 0 | N15: =SUM(K15:M15) -> 28982160 | O15: 133403 | P15: 16975 | Q15: 102709 | R15: =SUM(O15:Q15) -> 253087 | S15: 19007 | T15: 1455 | U15: -28842 | V15: =SUM(S15:U15) -> -8380 | W15: =SUM(O15+S15) -> 152410 | X15: =SUM(P15+T15) -> 18430 | Y15: =SUM(Q15+U15) -> 73867 | Z15: =SUM(W15:Y15) -> 244707 | AA15: =+C15+O15 -> 7188602 | AB15: =+D15+P15 -> 21422854 | AC15: =SUM(Q15+E15) -> 102709 | AD15: =SUM(AA15:AC15) -> 28714165 | AE15: =+G15+S15 -> 547254 | AF15: =+H15+T15 -> -5710 | AG15: =SUM(U15+I15) -> -28842 | AH15: =SUM(AE15:AG15) -> 512702 | AI15: =+K15+W15 -> 7735856 | AJ15: =+L15+X15 -> 21417144 | AK15: =SUM(Y15+M15) -> 73867 | AL15: =SUM(AI15:AK15) -> 29226867
A16: 8, Felújítások | B16: K7 | C16: 2141085 | D16: 2389862 | E16: 0 | F16: =SUM(C16:E16) -> 4530947 | G16: =1876-1876+1824+1634-3458+1556-1556-201804-29703-19236-6144-13015-15732-4222-44794-11205-1372-395-3615+2307-127+5756+3300+2200-262211+100000 -> -500012 | H16: -21590 | J16: =SUM(G16:I16) -> -521602 | K16: =SUM(C16+G16) -> 1641073 | L16: =SUM(D16+H16) -> 2368272 | M16: =SUM(E16+I16) -> 0 | N16: =SUM(K16:M16) -> 4009345 | O16: 13848 | P16: 4791 | Q16: 8665 | R16: =SUM(O16:Q16) -> 27304 | S16: -873 | T16: 1139 | U16: -627 | V16: =SUM(S16:U16) -> -361 | W16: =SUM(O16+S16) -> 12975 | X16: =SUM(P16+T16) -> 5930 | Y16: =SUM(Q16+U16) -> 8038 | Z16: =SUM(W16:Y16) -> 26943 | AA16: =+C16+O16 -> 2154933 | AB16: =+D16+P16 -> 2394653 | AC16: =SUM(Q16+E16) -> 8665 | AD16: =SUM(AA16:AC16) -> 4558251 | AE16: =+G16+S16 -> -500885 | AF16: =+H16+T16 -> -20451 | AG16: =SUM(U16+I16) -> -627 | AH16: =SUM(AE16:AG16) -> -521963 | AI16: =+K16+W16 -> 1654048 | AJ16: =+L16+X16 -> 2374202 | AK16: =SUM(Y16+M16) -> 8038 | AL16: =SUM(AI16:AK16) -> 4036288
A17: 9, Egyéb felhalmozási célú kiadások | B17: K8 | C17: 3950 | D17: 970147 | E17: 0 | F17: =SUM(C17:E17) -> 974097 | G17: 201461 | H17: =-5000+3500+50000+2400+10000+21000+70000+6457+1500+350+820+2100 -> 163127 | J17: =SUM(G17:I17) -> 364588 | K17: =SUM(C17+G17) -> 205411 | L17: =SUM(D17+H17) -> 1133274 | M17: =SUM(E17+I17) -> 0 | N17: =SUM(K17:M17) -> 1338685 | O17: 0 | P17: 0 | Q17: 0 | R17: =SUM(O17:Q17) -> 0 | S17: 0 | T17: 0 | U17: 0 | V17: =SUM(S17:U17) -> 0 | W17: =SUM(O17+S17) -> 0 | X17: =SUM(P17+T17) -> 0 | Y17: =SUM(Q17+U17) -> 0 | Z17: =SUM(W17:Y17) -> 0 | AA17: =+C17+O17 -> 3950 | AB17: =+D17+P17 -> 970147 | AC17: =SUM(Q17+E17) -> 0 | AD17: =SUM(AA17:AC17) -> 974097 | AE17: =+G17+S17 -> 201461 | AF17: =+H17+T17 -> 163127 | AG17: =SUM(U17+I17) -> 0 | AH17: =SUM(AE17:AG17) -> 364588 | AI17: =+K17+W17 -> 205411 | AJ17: =+L17+X17 -> 1133274 | AK17: =SUM(Y17+M17) -> 0 | AL17: =SUM(AI17:AK17) -> 1338685
A18: 10, Felhalmozási költségvetési kiadások összesen | C18: =SUM(C15:C17) -> 9200234 | D18: =SUM(D15:D17) -> 24765888 | E18: =SUM(E15:E17) -> 0 | F18: =SUM(F15:F17) -> 33966122 | G18: =SUM(G15:G17) -> 229696 | H18: =SUM(H15:H17) -> 134372 | I18: =SUM(I15:I17) -> 0 | J18: =SUM(J15:J17) -> 364068 | ... AB18: =SUM(AB15:AB17) -> 24787654 | AC18: =SUM(Q18+E18) -> 111374 | AD18: =SUM(AD15:AD17) -> 34246513 | AE18: =SUM(AE15:AE17) -> 247830 | AF18: =SUM(AF15:AF17) -> 136966 | AG18: =SUM(U18+I18) -> -29469 | AH18: =SUM(AH15:AH17) -> 355327 | AI18: =SUM(AI15:AI17) -> 9595315 | AJ18: =SUM(AJ15:AJ17) -> 24924620 | AK18: =SUM(Y18+M18) -> 81905 | AL18: =SUM(AL15:AL17) -> 34601840
A19: 11, Általános tartalék | C19: 0 | D19: 109885 | F19: =SUM(C19:E19) -> 109885 | H19: -36597 | J19: =SUM(G19:I19) -> -36597 | K19: =SUM(C19+G19) -> 0 | L19: =SUM(D19+H19) -> 73288 | M19: =SUM(E19+I19) -> 0 | N19: =SUM(K19:M19) -> 73288 | O19: 0 | P19: 0 | Q19: 0 | R19: =SUM(O19:Q19) -> 0 | S19: 0 | T19: 0 | U19: 0 | V19: =SUM(S19:U19) -> 0 | W19: =SUM(O19+S19) -> 0 | X19: =SUM(P19+T19) -> 0 | Y19: =SUM(Q19+U19) -> 0 | Z19: =SUM(W19:Y19) -> 0 | AA19: =+C19+O19 -> 0 | AB19: =+D19+P19 -> 109885 | AC19: =SUM(Q19+E19) -> 0 | AD19: =SUM(AA19:AC19) -> 109885 | AE19: =+G19+S19 -> 0 | AF19: =+H19+T19 -> -36597 | AG19: =SUM(U19+I19) -> 0 | AH19: =SUM(AE19:AG19) -> -36597 | AI19: =+K19+W19 -> 0 | AJ19: =+L19+X19 -> 73288 | AK19: =SUM(Y19+M19) -> 0 | AL19: =SUM(AI19:AK19) -> 73288
A20: 12, Céltartalék | C20: 1902645 | D20: 182897 | E20: 0 | F20: =SUM(C20:E20) -> 2085542 | G20: 618107 | H20: -76128 | J20: =SUM(G20:I20) -> 541979 | K20: =SUM(C20+G20) -> 2520752 | L20: =SUM(D20+H20) -> 106769 | M20: =SUM(E20+I20) -> 0 | N20: =SUM(K20:M20) -> 2627521 | O20: 0 | P20: 0 | Q20: 0 | R20: =SUM(O20:Q20) -> 0 | S20: 0 | T20: 0 | U20: 0 | V20: =SUM(S20:U20) -> 0 | W20: =SUM(O20+S20) -> 0 | X20: =SUM(P20+T20) -> 0 | Y20: =SUM(Q20+U20) -> 0 | Z20: =SUM(W20:Y20) -> 0 | AA20: =+C20+O20 -> 1902645 | AB20: =+D20+P20 -> 182897 | AC20: =SUM(Q20+E20) -> 0 | AD20: =SUM(AA20:AC20) -> 2085542 | AE20: =+G20+S20 -> 618107 | AF20: =+H20+T20 -> -76128 | AG20: =SUM(U20+I20) -> 0 | AH20: =SUM(AE20:AG20) -> 541979 | AI20: =+K20+W20 -> 2520752 | AJ20: =+L20+X20 -> 106769 | AK20: =SUM(Y20+M20) -> 0 | AL20: =SUM(AI20:AK20) -> 2627521
A21: 13, Tartalékok összesen: | B21: K5 (K513) | C21: =SUM(C19:C20) -> 1902645 | D21: =SUM(D19:D20) -> 292782 | E21: =SUM(E19:E20) -> 0 | F21: =SUM(F19:F20) -> 2195427 | G21: =SUM(G19:G20) -> 618107 | H21: =SUM(H19:H20) -> -112725 | I21: =SUM(I19:I20) -> 0 | J21: =SUM(J19:J20) -> 505382 | ... AL21: =SUM(AL19:AL20) -> 2700809
A22: 14,Költségvetési kiadások összesen: | B22: (K1-8.) | C22: =+C21+C18+C14 -> 25162188 | D22: =+D21+D18+D14 -> 33537884 | E22: =+E21+E18+E14 -> 0 | F22: =+F21+F18+F14 -> 58700072 | G22: =+G21+G18+G14 -> 1599714 | H22: =+H21+H18+H14 -> 189372 | I22: =+I21+I18+I14 -> 0 | J22: =+J21+J18+J14 -> 1789086 | ... AL22: =+AL21+AL18+AL14 -> 75164348
A23: 15, Forgatási célú belföldi értékpapírok vásárlása | B23: K9121 | C23: 0 | D23: 14500000 | E23: 0 | F23: =SUM(C23:E23) -> 14500000 | H23: =18350000-44508 -> 18305492 | J23: =SUM(G23:I23) -> 18305492 | K23: =SUM(C23+G23) -> 0 | L23: =SUM(D23+H23) -> 32805492 | M23: =SUM(E23+I23) -> 0 | N23: =SUM(K23:M23) -> 32805492 | R23: =SUM(O23:Q23) -> 0 | V23: =SUM(S23:U23) -> 0 | W23: =SUM(O23+S23) -> 0 | X23: =SUM(P23+T23) -> 0 | Y23: =SUM(Q23+U23) -> 0 | Z23: =SUM(W23:Y23) -> 0 | AA23: =SUM(O23+C23) -> 0 | AB23: =SUM(P23+D23) -> 14500000 | AC23: =SUM(Q23+E23) -> 0 | AD23: =SUM(R23+F23) -> 14500000 | AE23: =SUM(S23+G23) -> 0 | AF23: =SUM(T23+H23) -> 18305492 | AG23: =SUM(U23+I23) -> 0 | AH23: =SUM(V23+J23) -> 18305492 | ... AL23: =SUM(Z23+N23) -> 32805492
A24: 16, Államháztartáson belüli megelőlegezések visszafizetése | B24: K914 | C24: 138572 | D24: 0 | E24: 0 | F24: =SUM(C24:E24) -> 138572 | G24: -7645 | J24: =SUM(G24:I24) -> -7645 | K24: =SUM(C24+G24) -> 130927 | L24: =SUM(D24+H24) -> 0 | M24: =SUM(E24+I24) -> 0 | N24: =SUM(K24:M24) -> 130927 | R24: =SUM(O24:Q24) -> 0 | V24: =SUM(S24:U24) -> 0 | W24: =SUM(O24+S24) -> 0 | X24: =SUM(P24+T24) -> 0 | Y24: =SUM(Q24+U24) -> 0 | Z24: =SUM(W24:Y24) -> 0 | AA24: =SUM(O24+C24) -> 138572 | AB24: =SUM(P24+D24) -> 0 | AC24: =SUM(Q24+E24) -> 0 | AD24: =SUM(R24+F24) -> 138572 | AE24: =SUM(S24+G24) -> -7645 | AF24: =SUM(T24+H24) -> 0 | AG24: =SUM(U24+I24) -> 0 | AH24: =SUM(V24+J24) -> -7645 | ... AL24: =SUM(Z24+N24) -> 130927
A25: 17, Irányító szervi támogatás folyósítása | B25: K915 | C25: 8128007 | D25: 1724309 | E25: 940346 | F25: =SUM(C25:E25) -> 10792662 | G25: 270031 | H25: 130198 | I25: -27170 | J25: =SUM(G25:I25) -> 373059 | K25: =SUM(C25+G25) -> 8398038 | L25: =SUM(D25+H25) -> 1854507 | M25: =SUM(E25+I25) -> 913176 | N25: =SUM(K25:M25) -> 11165721 | R25: =SUM(O25:Q25) -> 0 | V25: =SUM(S25:U25) -> 0 | W25: =SUM(O25+S25) -> 0 | X25: =SUM(P25+T25) -> 0 | Y25: =SUM(Q25+U25) -> 0 | Z25: =SUM(W25:Y25) -> 0 | AA25: =SUM(O25+C25) -> 8128007 | AB25: =SUM(P25+D25) -> 1724309 | AC25: =SUM(Q25+E25) -> 940346 | AD25: =SUM(R25+F25) -> 10792662 | AE25: =SUM(S25+G25) -> 270031 | AF25: =SUM(T25+H25) -> 130198 | AG25: =SUM(U25+I25) -> -27170 | AH25: =SUM(V25+J25) -> 373059 | ... AL25: =SUM(Z25+N25) -> 11165721
A26: 18, Finanszírozási kiadások összesen: | B26: K9 | C26: =SUM(C23:C25) -> 8266579 | D26: =SUM(D23:D25) -> 16224309 | E26: =SUM(E23:E25) -> 940346 | F26: =SUM(F23:F25) -> 25431234 | G26: =SUM(G23:G25) -> 262386 | H26: =SUM(H23:H25) -> 18435690 | I26: =SUM(I23:I25) -> -27170 | J26: =SUM(J23:J25) -> 18670906 | ... AL26: =SUM(AL23:AL25) -> 44102140
A27: Álláshely | R27: 1890.68 | V27: 31.75 | Z27: =SUM(R27+V27) -> 1922.43 | AD27: =SUM(R27) -> 1890.68 | AH27: =SUM(V27) -> 31.75 | AL27: =SUM(Z27) -> 1922.43

Sheet 3 bevétel(szűkített)
A1: Tájékoztató Székesfehérvár Megyei Jogú Város Önkormányzat és Költségvetési szervei
A2: összevont 2018. évi bevételeiről eFt-ban
A3: II. módosítás
A6: Megnevezés | B6: Rovat száma | C6: Székesfehérvár Megyei Jogú Város Önkormányzat | F6: Költségvetési szervek összesen | I6: Összesen
C7: Módosított előirányzat | D7: Javasolt módosítás | E7: Új Módosított előirányzat | F7: Módosított előirányzat | G7: Javasolt módosítás | H7: Új Módosított előirányzat | I7: Módosított előirányzat | J7: Javasolt módosítás | K7: Új Módosított előirányzat
A8: a. | C8: b/1 | D8: b/2 | E8: b/3 | F8: c/1 | G8: c/2 | H8: c/3 | I8: d/1=b/1+c/1 | J8: d/2=b/2+c/2 | K8: d/3=b/3+c/3
A9: 1, Helyi önkormányzatok működésének általános támogatása | B9: B111 | C9: 3967 | E9: =SUM(C9:D9) -> 3967 | F9: 0 | H9: =SUM(F9:G9) -> 0 | I9: =SUM(F9+C9) -> 3967 | J9: =SUM(G9+D9) -> 0 | K9: =SUM(H9+E9) -> 3967
A10: 2, Települési önkormányzatok egyes köznevelési feladatainak támogatása | B10: B112 | C10: 1867433 | E10: =SUM(C10:D10) -> 1867433 | F10: 0 | H10: =SUM(F10:G10) -> 0 | I10: =SUM(F10+C10) -> 1867433 | J10: =SUM(G10+D10) -> 0 | K10: =SUM(H10+E10) -> 1867433
A11: 3, Települési önkormányzatok szociális, gyermekjóléti és gyermekétkeztetési feladatainak támogatása | B11: B113 | C11: 1552555 | D11: 120069 | E11: =SUM(C11:D11) -> 1672624 | F11: 0 | H11: =SUM(F11:G11) -> 0 | I11: =SUM(F11+C11) -> 1552555 | J11: =SUM(G11+D11) -> 120069 | K11: =SUM(H11+E11) -> 1672624
A12: 4, Települési önkormányzatok kulturális feladatainak támogatása | B12: B114 | C12: 851037 | D12: 29983 | E12: =SUM(C12:D12) -> 881020 | F12: 0 | H12: =SUM(F12:G12) -> 0 | I12: =SUM(C12+F12) -> 851037 | J12: =SUM(D12+G12) -> 29983 | K12: =SUM(E12+H12) -> 881020
A13: ~ ebből: Szent István Király Múzeum támogatása | C13: 233300 | E13: =SUM(C13:D13) -> 233300 | F13: 0 | H13: =SUM(F13:G13) -> 0 | I13: =SUM(C13+F13) -> 233300 | J13: =SUM(D13+G13) -> 0 | K13: =SUM(E13+H13) -> 233300
A14: Vörösmarty Mihály Megyei Könyvtár és a városi könyvtár támogatása | C14: 176100 | E14: =SUM(C14:D14) -> 176100 | F14: 0 | H14: =SUM(F14:G14) -> 0 | I14: =SUM(C14+F14) -> 176100 | J14: =SUM(D14+G14) -> 0 | K14: =SUM(E14+H14) -> 176100
A15: Vörösmarty Színház támogatása | C15: 301800 | E15: =SUM(C15:D15) -> 301800 | F15: 0 | H15: =SUM(F15:G15) -> 0 | I15: =SUM(C15+F15) -> 301800 | J15: =SUM(D15+G15) -> 0 | K15: =SUM(E15+H15) -> 301800
A16: 5, Működési célú költségvetési támogatások és kiegészítő támogatások | B16: B115 | C16: 218854 | D16: 13114 | E16: =SUM(C16:D16) -> 231968 | F16: 0 | H16: =SUM(F16:G16) -> 0 | I16: =SUM(C16+F16) -> 218854 | J16: =SUM(D16+G16) -> 13114 | K16: =SUM(E16+H16) -> 231968
A17: 6, Önkormányzatok működési támogatásai összesen (1+2+3+4+5): | B17: B11 | C17: =SUM(C9:C11,C12,C16) -> 4493846 | D17: =SUM(D9:D11,D12,D16) -> 163166 | E17: =SUM(E9:E11,E12,E16) -> 4657012 | F17: =SUM(F9:F11,F12,F16) -> 0 | G17: =SUM(G9:G11,G12,G16) -> 0 | H17: =SUM(H9:H11,H12,H16) -> 0 | I17: =SUM(I9:I11,I12,I16) -> 4493846 | J17: =SUM(J9:J11,J12,J16) -> 163166 | K17: =SUM(K9:K11,K12,K16) -> 4657012
A18: 7, Egyéb működési célú támogatások bevételei államháztartáson belülről | B18: B16 | C18: 57098 | D18: 22500 | E18: =SUM(C18:D18) -> 79598 | F18: 1106634 | G18: 281072 | H18: =SUM(F18:G18) -> 1387706 | I18: =SUM(C18+F18) -> 1163732 | J18: =SUM(D18+G18) -> 303572 | K18: =SUM(E18+H18) -> 1467304
A19: 8, Működési célú támogatások államháztartáson belülről összesen (6+7): | B19: B1 | C19: =SUM(C17+C18) -> 4550944 | D19: =SUM(D17+D18) -> 185666 | E19: =SUM(E17+E18) -> 4736610 | F19: =SUM(F17+F18) -> 1106634 | G19: =SUM(G17+G18) -> 281072 | H19: =SUM(H17+H18) -> 1387706 | I19: =SUM(I17+I18) -> 5657578 | J19: =SUM(J17+J18) -> 466738 | K19: =SUM(K17+K18) -> 6124316
A20: 9, Felhalmozási célú önkormányzati támogatások | B20: B21 | C20: 0 | D20: 488480 | E20: =SUM(C20:D20) -> 488480 | F20: 0 | H20: =SUM(F20:G20) -> 0 | I20: =SUM(C20+F20) -> 0 | J20: =SUM(D20+G20) -> 488480 | K20: =SUM(E20+H20) -> 488480
A21: 10, Egyéb felhalmozási célú támogatások bevételei államháztartáson belülről | B21: B25 | C21: 14787550 | D21: 128000 | E21: =SUM(C21:D21) -> 14915550 | F21: 0 | H21: =SUM(F21:G21) -> 0 | I21: =SUM(C21+F21) -> 14787550 | J21: =SUM(D21+G21) -> 128000 | K21: =SUM(E21+H21) -> 14915550
A22: 11, Felhalmozási célú támogatások államháztartáson belülről összesen: (9+10) | B22: B2 | C22: =SUM(C20+C21) -> 14787550 | D22: =SUM(D20+D21) -> 616480 | E22: =SUM(E20+E21) -> 15404030 | F22: =SUM(F20+F21) -> 0 | G22: =SUM(G20+G21) -> 0 | H22: =SUM(H20+H21) -> 0 | I22: =SUM(I20+I21) -> 14787550 | J22: =SUM(J20+J21) -> 616480 | K22: =SUM(K20+K21) -> 15404030
A23: 12, Építményadó | B23: B34 | C23: 1875000 | E23: =SUM(C23:D23) -> 1875000 | F23: 0 | H23: =SUM(F23:G23) -> 0 | I23: =SUM(F23+C23) -> 1875000 | J23: =SUM(G23+D23) -> 0 | K23: =SUM(H23+E23) -> 1875000
A24: 13, Vagyoni típusú adók összesen: (12) | B24: B34 | C24: =SUM(C23:C23) -> 1875000 | D24: =SUM(D23:D23) -> 0 | E24: =SUM(E23:E23) -> 1875000 | F24: =SUM(F23:F23) -> 0 | G24: =SUM(G23:G23) -> 0 | H24: =SUM(H23:H23) -> 0 | I24: =SUM(I23:I23) -> 1875000 | J24: =SUM(J23:J23) -> 0 | K24: =SUM(K23:K23) -> 1875000
A25: 14, Iparűzési adó | B25: B351 | C25: 16000000 | E25: =SUM(C25:D25) -> 16000000 | F25: 0 | H25: =SUM(F25:G25) -> 0 | I25: =SUM(F25+C25) -> 16000000 | J25: =SUM(G25+D25) -> 0 | K25: =SUM(H25+E25) -> 16000000
A26: 15, Értékesítési és forgalmi adók (14) | B26: B351 | C26: =SUM(C25) -> 16000000 | D26: =SUM(D25) -> 0 | E26: =SUM(E25) -> 16000000 | F26: =SUM(F25) -> 0 | G26: =SUM(G25) -> 0 | H26: =SUM(H25) -> 0 | I26: =SUM(I25) -> 16000000 | J26: =SUM(J25) -> 0 | K26: =SUM(K25) -> 16000000
A27: 16, Gépjárműadó | B27: B354 | C27: 360000 | E27: =SUM(C27:D27) -> 360000 | F27: 0 | H27: =SUM(F27:G27) -> 0 | I27: =SUM(F27+C27) -> 360000 | J27: =SUM(G27+D27) -> 0 | K27: =SUM(H27+E27) -> 360000
A28: 17, Idegenforgalmi adó | B28: B355 | C28: 60000 | E28: =SUM(C28:D28) -> 60000 | F28: 0 | H28: =SUM(F28:G28) -> 0 | I28: =SUM(F28+C28) -> 60000 | J28: =SUM(G28+D28) -> 0 | K28: =SUM(H28+E28) -> 60000
A29: 18, Egyéb áruhasználati és szolgáltatási adók (17) | B29: B355 | C29: =SUM(C28:C28) -> 60000 | D29: =SUM(D28:D28) -> 0 | E29: =SUM(E28:E28) -> 60000 | F29: =SUM(F28:F28) -> 0 | G29: =SUM(G28:G28) -> 0 | H29: =SUM(H28:H28) -> 0 | I29: =SUM(I28:I28) -> 60000 | J29: =SUM(J28:J28) -> 0 | K29: =SUM(K28:K28) -> 60000
A30: 19, Termékek és szolgáltatások adói összesen (15+16+18): | B30: B35 | C30: =SUM(C29+C27+C26) -> 16420000 | D30: =SUM(D29+D27+D26) -> 0 | E30: =SUM(E29+E27+E26) -> 16420000 | F30: =SUM(F29+F27+F26) -> 0 | G30: =SUM(G29+G27+G26) -> 0 | H30: =SUM(H29+H27+H26) -> 0 | I30: =SUM(I29+I27+I26) -> 16420000 | J30: =SUM(J29+J27+J26) -> 0 | K30: =SUM(K29+K27+K26) -> 16420000
A31: 20, Egyéb települési adó | B31: B36 | C31: 10000 | E31: =SUM(C31:D31) -> 10000 | F31: 0 | H31: =SUM(F31:G31) -> 0 | I31: =SUM(F31+C31) -> 10000 | J31: =SUM(G31+D31) -> 0 | K31: =SUM(H31+E31) -> 10000
A32: 21, Adópótlék, adóbírság | B32: B36 | C32: 50000 | E32: =SUM(C32:D32) -> 50000 | F32: 0 | H32: =SUM(F32:G32) -> 0 | I32: =SUM(F32+C32) -> 50000 | J32: =SUM(G32+D32) -> 0 | K32: =SUM(H32+E32) -> 50000
A33: 22, Szabálysértési pénz és helyszíni bírság és közigazgatási bírság | B33: B36 | C33: 27500 | E33: =SUM(C33:D33) -> 27500 | F33: 0 | H33: =SUM(F33:G33) -> 0 | I33: =SUM(F33+C33) -> 27500 | J33: =SUM(G33+D33) -> 0 | K33: =SUM(H33+E33) -> 27500
A34: 23, Egyéb bírság | B34: B36 | C34: 5000 | E34: =SUM(C34:D34) -> 5000 | F34: 200 | H34: =SUM(F34:G34) -> 200 | I34: =SUM(F34+C34) -> 5200 | J34: =SUM(G34+D34) -> 0 | K34: =SUM(H34+E34) -> 5200
A35: 24, Egyéb közhatalmi bevételek összesen (20+21+22+23): | B35: B36 | C35: =SUM(C31:C34) -> 92500 | D35: =SUM(D31:D34) -> 0 | E35: =SUM(E31:E34) -> 92500 | F35: =SUM(F31:F34) -> 200 | G35: =SUM(G31:G34) -> 0 | H35: =SUM(H31:H34) -> 200 | I35: =SUM(I31:I34) -> 92700 | J35: =SUM(J31:J34) -> 0 | K35: =SUM(K31:K34) -> 92700
A36: 25, Közhatalmi bevételek összesen (13+19+24): | B36: B3 | C36: =SUM(C24+C30+C35) -> 18387500 | D36: =SUM(D24+D30+D35) -> 0 | E36: =SUM(E24+E30+E35) -> 18387500 | F36: =SUM(F24+F30+F35) -> 200 | G36: =SUM(G24+G30+G35) -> 0 | H36: =SUM(H24+H30+H35) -> 200 | I36: =SUM(I24+I30+I35) -> 18387700 | J36: =SUM(J24+J30+J35) -> 0 | K36: =SUM(K24+K30+K35) -> 18387700
A37: 26, Működési bevételek | B37: B4 | C37: 3978827 | D37: 1292298 | E37: =SUM(C37:D37) -> 5271125 | F37: 1371086 | G37: 31995 | H37: =SUM(F37:G37) -> 1403081 | I37: =SUM(C37+F37) -> 5349913 | J37: =SUM(D37+G37) -> 1324293 | K37: =SUM(E37+H37) -> 6674206
A38: ~ ebből: Tulajdonosi bevételek | B38: B404 | C38: 393785 | E38: =SUM(C38:D38) -> 393785 | F38: 0 | H38: =SUM(F38:G38) -> 0 | I38: =SUM(C38+F38) -> 393785 | J38: =SUM(D38+G38) -> 0 | K38: =SUM(E38+H38) -> 393785
A39: Kiszámlázott általános forgalmi adó, és általános forgalmi adó visszatérítése | B39: B406-B407 | C39: 3046495 | D39: 324 | E39: =SUM(C39:D39) -> 3046819 | F39: 373319 | G39: 4136 | H39: =SUM(F39:G39) -> 377455 | I39: =SUM(C39+F39) -> 3419814 | J39: =SUM(D39+G39) -> 4460 | K39: =SUM(E39+H39) -> 3424274
A40: Kamatbevételek | B40: B408 | C40: 78000 | D40: 38000 | E40: =SUM(C40:D40) -> 116000 | F40: 0 | H40: =SUM(F40:G40) -> 0 | I40: =SUM(C40+F40) -> 78000 | J40: =SUM(D40+G40) -> 38000 | K40: =SUM(E40+H40) -> 116000
A41: 27, Ingatlanok értékesítése | B41: B52 | C41: 278800 | E41: =SUM(C41:D41) -> 278800 | F41: 0 | H41: =SUM(F41:G41) -> 0 | I41: =SUM(C41+F41) -> 278800 | J41: =SUM(D41+G41) -> 0 | K41: =SUM(E41+H41) -> 278800
A42: 27/a, Egyéb tárgyi eszközök értékesítése | B42: B53 | C42: 0 | D42: 1200 | E42: =SUM(C42:D42) -> 1200 | F42: 0 | H42: =SUM(F42:G42) -> 0 | I42: =SUM(C42+F42) -> 0 | J42: =SUM(D42+G42) -> 1200 | K42: =SUM(E42+H42) -> 1200
...

Sheet 4 kiadás(szűkített)
A1: Tájékoztató Székesfehérvár Megyei Jogú Város Önkormányzat és Költségvetési szervei
A2: összevont 2018. évi kiadásairól eFt-ban
A3: II. módosítás
A6: Megnevezés | B6: Rovat száma | C6: Székesfehérvár Megyei Jogú Város Önkormányzat | F6: Költségvetési szervek | I6: Összesen
C7: Módosított előirányzat | D7: Javasolt módosítás | E7: Új Módosított előirányzat | F7: Módosított előirányzat | G7: Javasolt módosítás | H7: Új Módosított előirányzat | I7: Módosított előirányzat | J7: Javasolt módosítás | K7: Új Módosított előirányzat
A8: a. | C8: b/1 | D8: b/2 | E8: b/3 | F8: c/1 | G8: c/2 | H8: c/3 | I8: d/1 | J8: d/2 | K8: d/3
A9: 1, Személyi juttatás | B9: K1 | C9: 478630 | D9: -6326 | E9: =SUM(C9:D9) -> 472304 | F9: 7315351 | G9: 211179 | H9: =SUM(F9:G9) -> 7526530 | I9: =SUM(C9+F9) -> 7793981 | J9: =SUM(D9+G9) -> 204853 | K9: =SUM(E9+H9) -> 7998834
A10: 2, Munkaadókat terhelő járulékok és szociális hozzájárulási adó | B10: K2 | C10: 114847 | D10: 618 | E10: =SUM(C10:D10) -> 115465 | F10: 1523397 | G10: 49644 | H10: =SUM(F10:G10) -> 1573041 | I10: =SUM(C10+F10) -> 1638244 | J10: =SUM(D10+G10) -> 50262 | K10: =SUM(E10+H10) -> 1688506
A11: 3, Dologi kiadás | B11: K3 | C11: 8202173 | D11: 616746 | E11: =SUM(C11:D11) -> 8818919 | F11: 4823474 | G11: 407281 | H11: =SUM(F11:G11) -> 5230755 | I11: =SUM(C11+F11) -> 13025647 | J11: =SUM(D11+G11) -> 1024027 | K11: =SUM(E11+H11) -> 14049674
A12: 4, Ellátottak pénzbeli juttatásai | B12: K4 | C12: 41014 | D12: 7645 | E12: =SUM(C12:D12) -> 48659 | F12: 10000 | G12: 63194 | H12: =SUM(F12:G12) -> 73194 | I12: =SUM(C12+F12) -> 51014 | J12: =SUM(D12+G12) -> 70839 | K12: =SUM(E12+H12) -> 121853
A13: 5, Egyéb működési célú kiadások | B13: K5 (K501-K512) | C13: 13701859 | D13: 300953 | E13: =SUM(C13:D13) -> 14002812 | F13: 0 | G13: 20 | H13: =SUM(F13:G13) -> 20 | I13: =SUM(C13+F13) -> 13701859 | J13: =SUM(D13+G13) -> 300973 | K13: =SUM(E13+H13) -> 14002832
A14: 6, Működési költségvetési kiadások összesen: | C14: =SUM(C9+C10+C11+C12+C13) -> 22538523 | D14: =SUM(D9+D10+D11+D12+D13) -> 919636 | E14: =SUM(E9+E10+E11+E12+E13) -> 23458159 | F14: =SUM(F9+F10+F11+F12+F13) -> 13672222 | G14: =SUM(G9+G10+G11+G12+G13) -> 731318 | H14: =SUM(H9+H10+H11+H12+H13) -> 14403540 | I14: =SUM(I9:I12,I13) -> 36210745 | J14: =SUM(J9:J12,J13) -> 1650954 | K14: =SUM(K9:K12,K13) -> 37861699
A15: 7, Beruházások | B15: K6 | C15: 28461078 | D15: 521082 | E15: =SUM(C15:D15) -> 28982160 | F15: 253087 | G15: -8380 | H15: =SUM(F15:G15) -> 244707 | I15: =SUM(C15+F15) -> 28714165 | J15: =SUM(D15+G15) -> 512702 | K15: =SUM(E15+H15) -> 29226867
A16: 8, Felújítások | B16: K7 | C16: 4530947 | D16: -521602 | E16: =SUM(C16:D16) -> 4009345 | F16: 27304 | G16: -361 | H16: =SUM(F16:G16) -> 26943 | I16: =SUM(C16+F16) -> 4558251 | J16: =SUM(D16+G16) -> -521963 | K16: =SUM(E16+H16) -> 4036288
A17: 9, Egyéb felhalmozási célú kiadások | B17: K8 | C17: 974097 | D17: 364588 | E17: =SUM(C17:D17) -> 1338685 | F17: 0 | G17: 0 | H17: =SUM(F17:G17) -> 0 | I17: =SUM(C17+F17) -> 974097 | J17: =SUM(D17+G17) -> 364588 | K17: =SUM(E17+H17) -> 1338685
A18: 10, Felhalmozási költségvetési kiadások összesen: | C18: =SUM(C15:C17) -> 33966122 | D18: =SUM(D15:D17) -> 364068 | E18: =SUM(E15:E17) -> 34330190 | F18: =SUM(F15:F17) -> 280391 | G18: =SUM(G15:G17) -> -8741 | H18: =SUM(H15:H17) -> 271650 | I18: =SUM(I15:I17) -> 34246513 | J18: =SUM(J15:J17) -> 355327 | K18: =SUM(K15:K17) -> 34601840
A19: 11, Általános tartalék | C19: 109885 | D19: -36597 | E19: =SUM(C19:D19) -> 73288 | F19: 0 | G19: 0 | H19: =SUM(F19:G19) -> 0 | I19: =SUM(C19+F19) -> 109885 | J19: =SUM(D19+G19) -> -36597 | K19: =SUM(E19+H19) -> 73288
A20: 12, Céltartalék | C20: 2085542 | D20: 541979 | E20: =SUM(C20:D20) -> 2627521 | F20: 0 | G20: 0 | H20: =SUM(F20:G20) -> 0 | I20: =SUM(C20+F20) -> 2085542 | J20: =SUM(D20+G20) -> 541979 | K20: =SUM(E20+H20) -> 2627521
A21: 13, Tartalékok összesen: | B21: K5 (K513) | C21: =SUM(C19:C20) -> 2195427 | D21: =SUM(D19:D20) -> 505382 | E21: =SUM(E19:E20) -> 2700809 | F21: =SUM(F19:F20) -> 0 | G21: =SUM(G19:G20) -> 0 | H21: =SUM(H19:H20) -> 0 | I21: =SUM(I19:I20) -> 2195427 | J21: =SUM(J19:J20) -> 505382 | K21: =SUM(K19:K20) -> 2700809
A22: 14,Költségvetési kiadások összesen: | B22: (K1-8.) | C22: =+C21+C18+C14 -> 58700072 | D22: =+D21+D18+D14 -> 1789086 | E22: =+E21+E18+E14 -> 60489158 | F22: =+F21+F18+F14 -> 13952613 | G22: =+G21+G18+G14 -> 722577 | H22: =+H21+H18+H14 -> 14675190 | I22: =+I21+I18+I14 -> 72652685 | J22: =+J21+J18+J14 -> 2511663 | K22: =+K21+K18+K14 -> 75164348
A23: 15, Forgatási célú belföldi értékpapírok vásárlása | B23: K9121 | C23: 14500000 | D23: =18350000-44508 -> 18305492 | E23: =SUM(C23:D23) -> 32805492 | H23: =SUM(F23:G23) -> 0 | I23: =SUM(C23+F23) -> 14500000 | J23: =SUM(D23+G23) -> 18305492 | K23: =SUM(E23+H23) -> 32805492
A24: 16, Államháztartáson belüli megelőlegezések visszafizetése | B24: K914 | C24: 138572 | D24: -7645 | E24: =SUM(C24:D24) -> 130927 | I24: =SUM(C24+F24) -> 138572 | J24: =SUM(D24+G24) -> -7645 | K24: =SUM(E24:H24) -> 130927
A25: 17, Irányító szervi támogatás folyósítása | B25: K915 | C25: 10792662 | D25: 373059 | E25: =SUM(C25:D25) -> 11165721 | I25: =SUM(C25+F25) -> 10792662 | J25: =SUM(D25+G25) -> 373059 | K25: =SUM(E25:H25) -> 11165721
A26: 18, Finanszírozási kiadások összesen: | B26: K9 | C26: =SUM(C23:C25) -> 25431234 | D26: =SUM(D23:D25) -> 18670906 | E26: =SUM(E23:E25) -> 44102140 | F26: =SUM(F23:F24) -> 0 | G26: =SUM(G23:G24) -> 0 | H26: =SUM(H23:H24) -> 0 | I26: =SUM(I23:I25) -> 25431234 | J26: =SUM(J23:J25) -> 18670906 | K26: =SUM(K23:K25) -> 44102140
A27: Álláshely | F27: 1890.68 | G27: 31.75 | H27: =SUM(F27:G27) -> 1922.43 | I27: =F27 -> 1890.68 | J27: =G27 -> 31.75 | K27: =H27 -> 1922.43

Sheet 5 egyenleg
A1: Székesfehérvár Megyei Jogú Város Önkormányzat és Költségvetési szervei
A2: összevont 2018. évi bevételi és kiadási egyenlege eFt-ban
A3: II. módosítás
A6: Megnevezés | B6: Rovat száma | C6: Összesen
A7: I. Költségvetési bevételek | B7: (B1-B7) | C7: ='3 bevétel(szűkített)'!K52 -> 47553300
A8: 1. Maradvány igénybevétele | C8: ='3 bevétel(szűkített)'!K58 -> 13397467
A9: 2. Irányító szervi támogatás | C9: ='3 bevétel(szűkített)'!K59 -> 11165721
A10: 3. Forgatási célú belföldi értékpapírok beváltása, értékesítése | C10: ='3 bevétel(szűkített)'!K60 -> 47150000
A11: II. Finanszírozási bevételek összesen (1+2+3) | B11: B8 | C11: =SUM(C8:C10) -> 71713188
A13: III. Költségvetési kiadások | B13: (K1-K8) | C13: ='4 kiadás(szűkített)'!K22 -> 75164348
A14: 1, Forgatási célú belföldi értékpapírok vásárlása | C14: ='4 kiadás(szűkített)'!K23 -> 32805492
A15: 2, Államháztartáson belüli megelőlegezések visszafizetése | C15: ='4 kiadás(szűkített)'!K24 -> 130927
A16: 3, Irányító szervi támogatás folyósítása | C16: ='4 kiadás(szűkített)'!K25 -> 11165721
A17: IV. Finanszírozási kiadások összesen (1+2+3) | B17: K9 | C17: =SUM(C14+C15+C16) -> 44102140
A19: V. Költségvetési egyenleg I-III. | C19: =SUM(C7-C13) -> -27611048
A20: VI. Finanszírozási egyenleg II-IV. | C20: =SUM(C11-C17) -> 27611048
A21: VII. Egyenleg V-VI. | C21: =SUM(C19+C20) -> 0

Sheet 7int.bevétel
A1: cím | B1: KÖLTSÉGVETÉSI SZERVEK | C1: Működési célú támogatások államháztartáson belülről | D1: Felhalmozási célú támogatások államháztartáson belülről | E1: Közhatalmi bevételek | F1: Működési bevételek | G1: Felhalmozási bevételek | H1: Működési célú átvett pénzeszközök | I1: Felhalmozási célú átvett pénzeszközök | J1: Működési költségvetési bevételek összesen | K1: Felhalmozási költségvetési bevételek összesen | L1: Költségvetési bevételek összesen | M1: Finanszírozási bevételek | O1: Bevételek összesen
M2: Önkormányzati támogatás | N2: Maradvány igénybevétele
C3: B1 | D3: B2 | E3: B3 | F3: B4 | G3: B5 | H3: B6 | I3: B7 | J3: (B1+B3+B4+B6) | K3: (B2+B5+B7) | L3: (B1-7.) | M3: B8 | O3: (B1-8.)
B4: b. | C4: c. | D4: d. | E4: e. | F4: f. | G4: g. | H4: h. | I4: i. | J4: j.=c.+e +f.+h. | K4: k.=d.+g.+i. | L4: l.=j.+k. | M4: m. | O4: n.=l.+m.
A5: 1. | B5: Humán Szolgáltató Intézet
B6: Módosított előirányzat | C6: 403860 | F6: 1902 | J6: =SUM(C6+E6+F6+H6) -> 405762 | K6: =SUM(D6+G6+I6) -> 0 | L6: =SUM(J6:K6) -> 405762 | M6: 271154 | N6: 90634 | O6: =SUM(L6:N6) -> 767550
B7: ~ ebből:Kötelező feladate.i. | C7: 306930 | F7: 1427 | J7: =SUM(C7+E7+F7+H7) -> 308357 | K7: =SUM(D7+G7+I7) -> 0 | L7: =SUM(J7:K7) -> 308357 | M7: 201983 | N7: 90634 | O7: =SUM(L7:N7) -> 600974
B8: Önként vállalt feladat e.i. | C8: 96930 | F8: 475 | J8: =SUM(C8+E8+F8+H8) -> 97405 | K8: =SUM(D8+G8+I8) -> 0 | L8: =SUM(J8:K8) -> 97405 | M8: 69171 | O8: =SUM(L8:N8) -> 166576
B9: Kötelező feladat
B10: ~ Bérkompenzáció (IV., V., VI., VII.,VIII. havi) | J10: =SUM(C10+E10+F10+H10) -> 0 | K10: =SUM(D10+G10+I10) -> 0 | L10: =SUM(J10:K10) -> 0 | M10: 3364 | O10: =SUM(L10:N10) -> 3364
B11: ~ Jogszabályból fakadó személyi jellegű többletkifizetések | J11: =SUM(C11+E11+F11+H11) -> 0 | K11: =SUM(D11+G11+I11) -> 0 | L11: =SUM(J11:K11) -> 0 | M11: 5789 | O11: =SUM(L11:N11) -> 5789
B12: ~ Gazdasági dolgozók kereset-kiegészítése 2018. 03.01-2018. 12.31. közötti időszakra a 71/2018. (II.8.) sz. kgy határozat alapján. | J12: =SUM(C12+E12+F12+H12) -> 0 | K12: =SUM(D12+G12+I12) -> 0 | L12: =SUM(J12:K12) -> 0 | M12: 239 | O12: =SUM(L12:N12) -> 239
B13: ~ Főösszeget érintő saját hatáskörű átcsoportosítás | F13: 18403 | J13: =SUM(C13+E13+F13+H13) -> 18403 | K13: =SUM(D13+G13+I13) -> 0 | L13: =SUM(J13:K13) -> 18403 | M13: -30695 | O13: =SUM(L13:N13) -> -12292
B14: Önként vállalt feladat
B15: ~ 3. sz. házi gyermekorvosi körzet, valamint a 21. sz. háziorvosi körzet támogatása. Prevenciós tevékenységekre és működési költségekere. (Kégl György Program - Egészségügyi feladatellátás) | J15: =SUM(C15+E15+F15+H15) -> 0 | K15: =SUM(D15+G15+I15) -> 0 | L15: =SUM(J15:K15) -> 0 | M15: 400 | O15: =SUM(L15:N15) -> 400
