Workbook
Name _____________b00001: [1]Munka3!#REF!
Name _____________b00001: [1]Munka3!#REF!
Name _____________b00001: [1]Munka3!#REF!
Name _____________b00001: [1]Munka3!#REF!
Name _____________e00001: [1]Munka3!#REF!
Name _____________e00001: [1]Munka3!#REF!
Name _____________e00001: [1]Munka3!#REF!
Name _____________e00001: [1]Munka3!#REF!
Name ____________b00001: [1]Munka3!#REF!
Name ____________b00001: [1]Munka3!#REF!
Name ____________b00001: [1]Munka3!#REF!
Name ____________b00001: [1]Munka3!#REF!
Name ____________b00001: [1]Munka3!#REF!
Name ____________e00001: [1]Munka3!#REF!
Name ____________e00001: [1]Munka3!#REF!
Name ____________e00001: [1]Munka3!#REF!
Name ____________e00001: [1]Munka3!#REF!
Name ____________e00001: [1]Munka3!#REF!
Name ___________b00001: [1]Munka3!#REF!
Name ___________b00001: [1]Munka3!#REF!
Name ___________b00001: [1]Munka3!#REF!
Name ___________b00001: [1]Munka3!#REF!
Name ___________b00001: [1]Munka3!#REF!
Name ___________e00001: [1]Munka3!#REF!
Name ___________e00001: [1]Munka3!#REF!
Name ___________e00001: [1]Munka3!#REF!
Name ___________e00001: [1]Munka3!#REF!
Name ___________e00001: [1]Munka3!#REF!
Name __________b00001: [1]Munka3!#REF!
Name __________b00001: [1]Munka3!#REF!
Name __________b00001: [1]Munka3!#REF!
Name __________b00001: [1]Munka3!#REF!
Name __________b00001: [1]Munka3!#REF!
Name __________e00001: [1]Munka3!#REF!
Name __________e00001: [1]Munka3!#REF!
Name __________e00001: [1]Munka3!#REF!
Name __________e00001: [1]Munka3!#REF!
Name __________e00001: [1]Munka3!#REF!
Name _________b00001: [1]Munka3!#REF!
Name _________b00001: [1]Munka3!#REF!
Name _________b00001: [1]Munka3!#REF!
Name _________b00001: [1]Munka3!#REF!
Name _________b00001: [1]Munka3!#REF!
Name _________e00001: [1]Munka3!#REF!
Name _________e00001: [1]Munka3!#REF!
Name _________e00001: [1]Munka3!#REF!
Name _________e00001: [1]Munka3!#REF!
Name _________e00001: [1]Munka3!#REF!
Name ________b00001: [1]Munka3!#REF!
Name ________b00001: [1]Munka3!#REF!
Name ________b00001: [1]Munka3!#REF!
Name ________b00001: [1]Munka3!#REF!
Name ________b00001: [1]Munka3!#REF!
Name ________e00001: [1]Munka3!#REF!
Name ________e00001: [1]Munka3!#REF!
Name ________e00001: [1]Munka3!#REF!
Name ________e00001: [1]Munka3!#REF!
Name ________e00001: [1]Munka3!#REF!
Name _______b00001: [1]Munka3!#REF!
Name _______b00001: [1]Munka3!#REF!

Sheet 1 bevétel (kötelező,önként)
C1: Székesfehérvár Megyei Jogú Város Önkormányzat és Költségvetési szervei | O1: Székesfehérvár Megyei Jogú Város Önkormányzat és Költségvetési szervei | AA1: Székesfehérvár Megyei Jogú Város Önkormányzat és Költségvetési szervei
C2: 2018. évi bevételei eFt-ban | O2: 2018. évi bevételei eFt-ban | AA2: 2018. évi bevételei eFt-ban
C3: II. módosítás | O3: II. módosítás | AA3: II. módosítás
C5: Székesfehérvár Megyei Jogú Város Önkormányzat | O5: Költségvetési szervek összesen | AA5: Összesen
A6: Megnevezés | B6: Rovat száma | C6: Módosított előirányzat | G6: Javasolt módosítás | K6: Új Módosított előirányzat | O6: Módosított előirányzat | S6: Javasolt módosítás | W6: Új Módosított előirányzat | AA6: Módosított előirányzat | AE6: Javasolt módosítás | AI6: Új Módosított előirányzat
C7: Kötelező feladat | D7: Önként vállalt feladat | E7: Államigazgatási feladat | F7: Összesen | G7: Kötelező feladat | H7: Önként vállalt feladat | I7: Államigazgatási feladat | J7: Összesen | K7: Kötelező feladat | L7: Önként vállalt feladat | M7: Államigazgatási feladat | N7: Összesen | O7: Kötelező feladat | P7: Önként vállalt feladat | Q7: Államigazgatási feladat | R7: Összesen | S7: Kötelező feladat | T7: Önként vállalt feladat | U7: Államigazgatási feladat | V7: Összesen | W7: Kötelező feladat | X7: Önként vállalt feladat | Y7: Államigazgatási feladat | Z7: Összesen | AA7: Kötelező feladat | AB7: Önként vállalt feladat | AC7: Államigazgatási feladat | AD7: Összesen | AE7: Kötelező feladat | AF7: Önként vállalt feladat | AG7: Államigazgatási feladat | AH7: Összesen | AI7: Kötelező feladat | AJ7: Önként vállalt feladat | AK7: Államigazgatási feladat | AL7: Összesen
A8: a. | C8: b/1. | G8: b/2. | K8: b/3. | O8: c/1. | S8: c/2. | W8: c/3. | AA8: d/1.=b/1.+c/1. | AE8: d/2.=b/2.+c/2. | AI8: d/3.=b/3.+c/3.
A9: 1, Helyi önkormányzatok működésének általános támogatása | B9: B111 | C9: 3967 | F9: =SUM(C9:E9) -> 3967 | J9: =SUM(G9:I9) -> 0 | K9: =SUM(G9+C9) -> 3967 | L9: =SUM(H9+D9) -> 0 | M9: =SUM(I9+E9) -> 0 | N9: =SUM(K9:M9) -> 3967 | AA9: =SUM(O9+C9) -> 3967 | AB9: =SUM(P9+D9) -> 0 | AC9: =SUM(Q9+E9) -> 0 | AD9: =SUM(AA9:AC9) -> 3967 | AE9: =SUM(S9+G9) -> 0 | AF9: =SUM(T9+H9) -> 0 | AG9: =SUM(U9+I9) -> 0 | AH9: =SUM(AE9:AG9) -> 0 | AI9: =SUM(W9+K9) -> 3967 | AJ9: =SUM(X9+L9) -> 0 | AK9: =SUM(Y9+M9) -> 0 | AL9: =SUM(AI9:AK9) -> 3967
A10: 2, Települési önkormányzatok egyes köznevelési feladatainak támogatása | B10: B112 | C10: 1867433 | F10: =SUM(C10:E10) -> 1867433 | J10: =SUM(G10:I10) -> 0 | K10: =SUM(G10+C10) -> 1867433 | L10: =SUM(H10+D10) -> 0 | M10: =SUM(I10+E10) -> 0 | N10: =SUM(K10:M10) -> 1867433 | AA10: =SUM(O10+C10) -> 1867433 | AB10: =SUM(P10+D10) -> 0 | AC10: =SUM(Q10+E10) -> 0 | AD10: =SUM(AA10:AC10) -> 1867433 | AE10: =SUM(S10+G10) -> 0 | AF10: =SUM(T10+H10) -> 0 | AG10: =SUM(U10+I10) -> 0 | AH10: =SUM(AE10:AG10) -> 0 | AI10: =SUM(W10+K10) -> 1867433 | AJ10: =SUM(X10+L10) -> 0 | AK10: =SUM(Y10+M10) -> 0 | AL10: =SUM(AI10:AK10) -> 1867433
A11: 3, Települési önkormányzatok szociális, gyermekjóléti és gyermekétkeztetési feladatainak támogatása | B11: B113 | C11: 1552555 | F11: =SUM(C11:E11) -> 1552555 | G11: 120069 | J11: =SUM(G11:I11) -> 120069 | K11: =SUM(G11+C11) -> 1672624 | L11: =SUM(H11+D11) -> 0 | M11: =SUM(I11+E11) -> 0 | N11: =SUM(K11:M11) -> 1672624 | AA11: =SUM(O11+C11) -> 1552555 | AB11: =SUM(P11+D11) -> 0 | AC11: =SUM(Q11+E11) -> 0 | AD11: =SUM(AA11:AC11) -> 1552555 | AE11: =SUM(S11+G11) -> 120069 | AF11: =SUM(T11+H11) -> 0 | AG11: =SUM(U11+I11) -> 0 | AH11: =SUM(AE11:AG11) -> 120069 | AI11: =SUM(W11+K11) -> 1672624 | AJ11: =SUM(X11+L11) -> 0 | AK11: =SUM(Y11+M11) -> 0 | AL11: =SUM(AI11:AK11) -> 1672624
A12: 4, Települési önkormányzatok kulturális feladatainak támogatása | B12: B114 | C12: 549237 | D12: 301800 | F12: =SUM(C12:E12) -> 851037 | G12: 29983 | J12: =SUM(G12:I12) -> 29983 | K12: =SUM(G12+C12) -> 579220 | L12: =SUM(H12+D12) -> 301800 | M12: =SUM(I12+E12) -> 0 | N12: =SUM(K12:M12) -> 881020 | AA12: =SUM(C12+O12) -> 549237 | AB12: =SUM(D12+P12) -> 301800 | AC12: =SUM(E12+Q12) -> 0 | AD12: =SUM(F12+R12) -> 851037 | AE12: =SUM(G12+S12) -> 29983 | AF12: =SUM(H12+T12) -> 0 | AG12: =SUM(I12+U12) -> 0 | AH12: =SUM(J12+V12) -> 29983 | ... AL12: =SUM(N12+Z12) -> 881020
A13: ~ ebből: Szent István Király Múzeum támogatása | C13: 233300 | F13: =SUM(C13:E13) -> 233300 | J13: =SUM(G13:I13) -> 0 | K13: =SUM(G13+C13) -> 233300 | L13: =SUM(H13+D13) -> 0 | M13: =SUM(I13+E13) -> 0 | N13: =SUM(K13:M13) -> 233300 | AA13: =SUM(C13+O13) -> 233300 | AB13: =SUM(D13+P13) -> 0 | AC13: =SUM(E13+Q13) -> 0 | AD13: =SUM(F13+R13) -> 233300 | AE13: =SUM(G13+S13) -> 0 | AF13: =SUM(H13+T13) -> 0 | AG13: =SUM(I13+U13) -> 0 | AH13: =SUM(J13+V13) -> 0 | ... AL13: =SUM(N13+Z13) -> 233300
A14: Vörösmarty Mihály Megyei Könyvtár és a városi könyvtár támogatása | C14: 176100 | F14: =SUM(C14:E14) -> 176100 | J14: =SUM(G14:I14) -> 0 | K14: =SUM(G14+C14) -> 176100 | L14: =SUM(H14+D14) -> 0 | M14: =SUM(I14+E14) -> 0 | N14: =SUM(K14:M14) -> 176100 | AA14: =SUM(C14+O14) -> 176100 | AB14: =SUM(D14+P14) -> 0 | AC14: =SUM(E14+Q14) -> 0 | AD14: =SUM(F14+R14) -> 176100 | AE14: =SUM(G14+S14) -> 0 | AF14: =SUM(H14+T14) -> 0 | AG14: =SUM(I14+U14) -> 0 | AH14: =SUM(J14+V14) -> 0 | ... AL14: =SUM(N14+Z14) -> 176100
A15: Vörösmarty Színház támogatása | D15: 301800 | F15: =SUM(C15:E15) -> 301800 | J15: =SUM(G15:I15) -> 0 | K15: =SUM(G15+C15) -> 0 | L15: =SUM(H15+D15) -> 301800 | M15: =SUM(I15+E15) -> 0 | N15: =SUM(K15:M15) -> 301800 | AA15: =SUM(C15+O15) -> 0 | AB15: =SUM(D15+P15) -> 301800 | AC15: =SUM(E15+Q15) -> 0 | AD15: =SUM(F15+R15) -> 301800 | AE15: =SUM(G15+S15) -> 0 | AF15: =SUM(H15+T15) -> 0 | AG15: =SUM(I15+U15) -> 0 | AH15: =SUM(J15+V15) -> 0 | ... AL15: =SUM(N15+Z15) -> 301800
A16: 5, Működési célú központosított előirányzatok | B16: B115 | C16: 218854 | F16: =SUM(C16:E16) -> 218854 | G16: 13114 | J16: =SUM(G16:I16) -> 13114 | K16: =SUM(G16+C16) -> 231968 | L16: =SUM(H16+D16) -> 0 | M16: =SUM(I16+E16) -> 0 | N16: =SUM(K16:M16) -> 231968 | AA16: =SUM(C16+O16) -> 218854 | AB16: =SUM(D16+P16) -> 0 | AC16: =SUM(E16+Q16) -> 0 | AD16: =SUM(F16+R16) -> 218854 | AE16: =SUM(G16+S16) -> 13114 | AF16: =SUM(H16+T16) -> 0 | AG16: =SUM(I16+U16) -> 0 | AH16: =SUM(J16+V16) -> 13114 | ... AL16: =SUM(N16+Z16) -> 231968
A17: 6, Önkormányzatok működési támogatásai összesen (1+2+3+4+5): | B17: B11 | C17: =SUM(C9:C11,C12,C16) -> 4192046 | D17: =SUM(D9:D11,D12,D16) -> 301800 | E17: =SUM(E9:E11,E12,E16) -> 0 | F17: =SUM(F9:F11,F12,F16) -> 4493846 | G17: =SUM(G9:G11,G12,G16) -> 163166 | H17: =SUM(H9:H11,H12,H16) -> 0 | I17: =SUM(I9:I11,I12,I16) -> 0 | J17: =SUM(J9:J11,J12,J16) -> 163166 | ... AL17: =SUM(AL9:AL11,AL12,AL16) -> 4657012
A18: 7, Egyéb működési célú támogatások bevételei államháztartáson belülről | B18: B16 | C18: 21326 | D18: 35772 | F18: =SUM(C18:E18) -> 57098 | H18: 22500 | J18: =SUM(G18:I18) -> 22500 | K18: =SUM(G18+C18) -> 21326 | L18: =SUM(H18+D18) -> 58272 | M18: =SUM(I18+E18) -> 0 | N18: =SUM(K18:M18) -> 79598 | O18: 737644 | P18: 285563 | Q18: 83427 | R18: =SUM(O18:Q18) -> 1106634 | S18: 213247 | T18: 67825 | U18: 0 | V18: =SUM(S18:U18) -> 281072 | W18: =SUM(S18+O18) -> 950891 | X18: =SUM(T18+P18) -> 353388 | Y18: =SUM(Q18+U18) -> 83427 | Z18: =SUM(W18:Y18) -> 1387706 | AA18: =SUM(C18+O18) -> 758970 | AB18: =SUM(D18+P18) -> 321335 | AC18: =SUM(E18+Q18) -> 83427 | AD18: =SUM(F18+R18) -> 1163732 | AE18: =SUM(G18+S18) -> 213247 | AF18: =SUM(H18+T18) -> 90325 | AG18: =SUM(I18+U18) -> 0 | AH18: =SUM(J18+V18) -> 303572 | ... AL18: =SUM(N18+Z18) -> 1467304
A19: 8, Működési célú támogatások államháztartáson belülről összesen (6+7): | B19: B1 | C19: =SUM(C17+C18) -> 4213372 | D19: =SUM(D17+D18) -> 337572 | E19: =SUM(E17+E18) -> 0 | F19: =SUM(F17+F18) -> 4550944 | G19: =SUM(G17+G18) -> 163166 | H19: =SUM(H17+H18) -> 22500 | I19: =SUM(I17+I18) -> 0 | J19: =SUM(J17+J18) -> 185666 | ... AL19: =SUM(AL17+AL18) -> 6124316
A20: 9, Felhalmozási célú önkormányzati támogatások | B20: B21 | C20: 0 | D20: 0 | E20: 0 | F20: =SUM(C20:E20) -> 0 | G20: 488480 | J20: =SUM(G20:I20) -> 488480 | K20: =SUM(G20+C20) -> 488480 | L20: =SUM(H20+D20) -> 0 | M20: =SUM(I20+E20) -> 0 | N20: =SUM(K20:M20) -> 488480 | R20: =SUM(O20:Q20) -> 0 | V20: =SUM(S20:U20) -> 0 | W20: =SUM(S20+O20) -> 0 | X20: =SUM(T20+P20) -> 0 | Y20: =SUM(Q20+U20) -> 0 | Z20: =SUM(W20:Y20) -> 0 | AA20: =SUM(C20+O20) -> 0 | AB20: =SUM(D20+P20) -> 0 | AC20: =SUM(E20+Q20) -> 0 | AD20: =SUM(F20+R20) -> 0 | AE20: =SUM(G20+S20) -> 488480 | AF20: =SUM(H20+T20) -> 0 | AG20: =SUM(I20+U20) -> 0 | AH20: =SUM(J20+V20) -> 488480 | ... AL20: =SUM(N20+Z20) -> 488480
A21: 10, Egyéb felhalmozási célú támogatások bevételei államháztartáson belülről | B21: B25 | C21: 3498336 | D21: 11289214 | E21: 0 | F21: =SUM(C21:E21) -> 14787550 | G21: -71750 | H21: 199750 | J21: =SUM(G21:I21) -> 128000 | K21: =SUM(G21+C21) -> 3426586 | L21: =SUM(H21+D21) -> 11488964 | M21: =SUM(I21+E21) -> 0 | N21: =SUM(K21:M21) -> 14915550 | R21: =SUM(O21:Q21) -> 0 | V21: =SUM(S21:U21) -> 0 | W21: =SUM(S21+O21) -> 0 | X21: =SUM(T21+P21) -> 0 | Y21: =SUM(Q21+U21) -> 0 | Z21: =SUM(W21:Y21) -> 0 | AA21: =SUM(C21+O21) -> 3498336 | AB21: =SUM(D21+P21) -> 11289214 | AC21: =SUM(E21+Q21) -> 0 | AD21: =SUM(F21+R21) -> 14787550 | AE21: =SUM(G21+S21) -> -71750 | AF21: =SUM(H21+T21) -> 199750 | AG21: =SUM(I21+U21) -> 0 | AH21: =SUM(J21+V21) -> 128000 | ... AL21: =SUM(N21+Z21) -> 14915550
A22: 11, Felhalmozási célú támogatások államháztartáson belülről összesen: (9+10) | B22: B2 | C22: =SUM(C20+C21) -> 3498336 | D22: =SUM(D20+D21) -> 11289214 | E22: =SUM(E20+E21) -> 0 | F22: =SUM(F20+F21) -> 14787550 | G22: =SUM(G20+G21) -> 416730 | H22: =SUM(H20+H21) -> 199750 | I22: =SUM(I20+I21) -> 0 | J22: =SUM(J20+J21) -> 616480 | ... AL22: =SUM(AL20+AL21) -> 15404030
A23: 12, Építményadó | B23: B34 | C23: 1875000 | F23: =SUM(C23:E23) -> 1875000 | J23: =SUM(G23:I23) -> 0 | K23: =SUM(G23+C23) -> 1875000 | L23: =SUM(H23+D23) -> 0 | M23: =SUM(I23+E23) -> 0 | N23: =SUM(K23:M23) -> 1875000 | R23: =SUM(O23:Q23) -> 0 | V23: =SUM(S23:U23) -> 0 | W23: =SUM(S23+O23) -> 0 | X23: =SUM(T23+P23) -> 0 | Y23: =SUM(Q23+U23) -> 0 | Z23: =SUM(W23:Y23) -> 0 | AA23: =SUM(O23+C23) -> 1875000 | AB23: =SUM(P23+D23) -> 0 | AC23: =SUM(Q23+E23) -> 0 | AD23: =SUM(AA23:AC23) -> 1875000 | AE23: =SUM(S23+G23) -> 0 | AF23: =SUM(T23+H23) -> 0 | AG23: =SUM(U23+I23) -> 0 | AH23: =SUM(AE23:AG23) -> 0 | AI23: =SUM(W23+K23) -> 1875000 | AJ23: =SUM(X23+L23) -> 0 | AK23: =SUM(Y23+M23) -> 0 | AL23: =SUM(AI23:AK23) -> 1875000
A24: 13, Vagyoni típusú adók összesen: (12) | B24: B34 | C24: =SUM(C23:C23) -> 1875000 | D24: =SUM(D23:D23) -> 0 | E24: =SUM(E23:E23) -> 0 | F24: =SUM(F23:F23) -> 1875000 | G24: =SUM(G23:G23) -> 0 | H24: =SUM(H23:H23) -> 0 | I24: =SUM(I23:I23) -> 0 | J24: =SUM(J23:J23) -> 0 | ... AL24: =SUM(AL23:AL23) -> 1875000
A25: 14, Iparűzési adó | B25: B351 | C25: 16000000 | F25: =SUM(C25:E25) -> 16000000 | J25: =SUM(G25:I25) -> 0 | K25: =SUM(G25+C25) -> 16000000 | L25: =SUM(H25+D25) -> 0 | M25: =SUM(I25+E25) -> 0 | N25: =SUM(K25:M25) -> 16000000 | R25: =SUM(O25:Q25) -> 0 | V25: =SUM(S25:U25) -> 0 | W25: =SUM(S25+O25) -> 0 | X25: =SUM(T25+P25) -> 0 | Y25: =SUM(Q25+U25) -> 0 | Z25: =SUM(W25:Y25) -> 0 | AA25: =SUM(O25+C25) -> 16000000 | AB25: =SUM(P25+D25) -> 0 | AC25: =SUM(Q25+E25) -> 0 | AD25: =SUM(AA25:AC25) -> 16000000 | AE25: =SUM(S25+G25) -> 0 | AF25: =SUM(T25+H25) -> 0 | AG25: =SUM(U25+I25) -> 0 | AH25: =SUM(AE25:AG25) -> 0 | AI25: =SUM(W25+K25) -> 16000000 | AJ25: =SUM(X25+L25) -> 0 | AK25: =SUM(Y25+M25) -> 0 | AL25: =SUM(AI25:AK25) -> 16000000
A26: 15, Értékesítési és forgalmi adók (14) | B26: B351 | C26: =SUM(C25) -> 16000000 | D26: =SUM(D25) -> 0 | E26: =SUM(E25) -> 0 | F26: =SUM(F25) -> 16000000 | G26: =SUM(G25) -> 0 | H26: =SUM(H25) -> 0 | I26: =SUM(I25) -> 0 | J26: =SUM(J25) -> 0 | ... AL26: =SUM(AL25) -> 16000000
A27: 16, Gépjárműadó | B27: B354 | C27: 360000 | F27: =SUM(C27:E27) -> 360000 | J27: =SUM(G27:I27) -> 0 | K27: =SUM(G27+C27) -> 360000 | L27: =SUM(H27+D27) -> 0 | M27: =SUM(I27+E27) -> 0 | N27: =SUM(K27:M27) -> 360000 | V27: =SUM(S27:U27) -> 0 | W27: =SUM(S27+O27) -> 0 | X27: =SUM(T27+P27) -> 0 | Y27: =SUM(Q27+U27) -> 0 | Z27: =SUM(W27:Y27) -> 0 | AA27: =SUM(O27+C27) -> 360000 | AB27: =SUM(P27+D27) -> 0 | AC27: =SUM(Q27+E27) -> 0 | AD27: =SUM(AA27:AC27) -> 360000 | AE27: =SUM(S27+G27) -> 0 | AF27: =SUM(T27+H27) -> 0 | AG27: =SUM(U27+I27) -> 0 | AH27: =SUM(AE27:AG27) -> 0 | AI27: =SUM(W27+K27) -> 360000 | AJ27: =SUM(X27+L27) -> 0 | AK27: =SUM(Y27+M27) -> 0 | AL27: =SUM(AI27:AK27) -> 360000
A28: 17, Idegenforgalmi adó | B28: B355 | C28: 60000 | F28: =SUM(C28:E28) -> 60000 | J28: =SUM(G28:I28) -> 0 | K28: =SUM(G28+C28) -> 60000 | L28: =SUM(H28+D28) -> 0 | M28: =SUM(I28+E28) -> 0 | N28: =SUM(K28:M28) -> 60000 | R28: =SUM(O28:Q28) -> 0 | V28: =SUM(S28:U28) -> 0 | W28: =SUM(S28+O28) -> 0 | X28: =SUM(T28+P28) -> 0 | Y28: =SUM(Q28+U28) -> 0 | Z28: =SUM(W28:Y28) -> 0 | AA28: =SUM(O28+C28) -> 60000 | AB28: =SUM(P28+D28) -> 0 | AC28: =SUM(Q28+E28) -> 0 | AD28: =SUM(AA28:AC28) -> 60000 | AE28: =SUM(S28+G28) -> 0 | AF28: =SUM(T28+H28) -> 0 | AG28: =SUM(U28+I28) -> 0 | AH28: =SUM(AE28:AG28) -> 0 | AI28: =SUM(W28+K28) -> 60000 | AJ28: =SUM(X28+L28) -> 0 | AK28: =SUM(Y28+M28) -> 0 | AL28: =SUM(AI28:AK28) -> 60000
A29: 18, Egyéb áruhasználati és szolgáltatási adók (17) | B29: B355 | C29: =SUM(C28:C28) -> 60000 | D29: =SUM(D28:D28) -> 0 | E29: =SUM(E28:E28) -> 0 | F29: =SUM(F28:F28) -> 60000 | G29: =SUM(G28:G28) -> 0 | H29: =SUM(H28:H28) -> 0 | I29: =SUM(I28:I28) -> 0 | J29: =SUM(J28:J28) -> 0 | ... AL29: =SUM(AL28:AL28) -> 60000
A30: 19, Termékek és szolgáltatások adói összesen (15+16+18): | B30: B35 | C30: =SUM(C29+C27+C26) -> 16420000 | D30: =SUM(D29+D27+D26) -> 0 | E30: =SUM(E29+E27+E26) -> 0 | F30: =SUM(F29+F27+F26) -> 16420000 | G30: =SUM(G29+G27+G26) -> 0 | H30: =SUM(H29+H27+H26) -> 0 | I30: =SUM(I29+I27+I26) -> 0 | J30: =SUM(J29+J27+J26) -> 0 | ... AL30: =SUM(AL29+AL27+AL26) -> 16420000
A31: 20, Egyéb települési adó | B31: B36 | C31: 10000 | F31: =SUM(C31:E31) -> 10000 | J31: =SUM(G31:I31) -> 0 | K31: =SUM(G31+C31) -> 10000 | L31: =SUM(H31+D31) -> 0 | M31: =SUM(I31+E31) -> 0 | N31: =SUM(K31:M31) -> 10000 | R31: =SUM(O31:Q31) -> 0 | V31: =SUM(S31:U31) -> 0 | W31: =SUM(S31+O31) -> 0 | X31: =SUM(T31+P31) -> 0 | Y31: =SUM(Q31+U31) -> 0 | Z31: =SUM(W31:Y31) -> 0 | AA31: =SUM(O31+C31) -> 10000 | AB31: =SUM(P31+D31) -> 0 | AC31: =SUM(Q31+E31) -> 0 | AD31: =SUM(AA31:AC31) -> 10000 | AE31: =SUM(S31+G31) -> 0 | AF31: =SUM(T31+H31) -> 0 | AG31: =SUM(U31+I31) -> 0 | AH31: =SUM(AE31:AG31) -> 0 | AI31: =SUM(W31+K31) -> 10000 | AJ31: =SUM(X31+L31) -> 0 | AK31: =SUM(Y31+M31) -> 0 | AL31: =SUM(AI31:AK31) -> 10000
A32: 21, Adópótlék, adóbírság | B32: B36 | C32: 50000 | F32: =SUM(C32:E32) -> 50000 | J32: =SUM(G32:I32) -> 0 | K32: =SUM(G32+C32) -> 50000 | L32: =SUM(H32+D32) -> 0 | M32: =SUM(I32+E32) -> 0 | N32: =SUM(K32:M32) -> 50000 | R32: =SUM(O32:Q32) -> 0 | V32: =SUM(S32:U32) -> 0 | W32: =SUM(S32+O32) -> 0 | X32: =SUM(T32+P32) -> 0 | Y32: =SUM(Q32+U32) -> 0 | Z32: =SUM(W32:Y32) -> 0 | AA32: =SUM(O32+C32) -> 50000 | AB32: =SUM(P32+D32) -> 0 | AC32: =SUM(Q32+E32) -> 0 | AD32: =SUM(AA32:AC32) -> 50000 | AE32: =SUM(S32+G32) -> 0 | AF32: =SUM(T32+H32) -> 0 | AG32: =SUM(U32+I32) -> 0 | AH32: =SUM(AE32:AG32) -> 0 | AI32: =SUM(W32+K32) -> 50000 | AJ32: =SUM(X32+L32) -> 0 | AK32: =SUM(Y32+M32) -> 0 | AL32: =SUM(AI32:AK32) -> 50000
A33: 22, Szabálysértési pénz és helyszíni bírság és közigazgatási bírság | B33: B36 | C33: 27500 | F33: =SUM(C33:E33) -> 27500 | J33: =SUM(G33:I33) -> 0 | K33: =SUM(G33+C33) -> 27500 | L33: =SUM(H33+D33) -> 0 | M33: =SUM(I33+E33) -> 0 | N33: =SUM(K33:M33) -> 27500 | R33: =SUM(O33:Q33) -> 0 | V33: =SUM(S33:U33) -> 0 | W33: =SUM(S33+O33) -> 0 | X33: =SUM(T33+P33) -> 0 | Y33: =SUM(Q33+U33) -> 0 | Z33: =SUM(W33:Y33) -> 0 | AA33: =SUM(O33+C33) -> 27500 | AB33: =SUM(P33+D33) -> 0 | AC33: =SUM(Q33+E33) -> 0 | AD33: =SUM(AA33:AC33) -> 27500 | AE33: =SUM(S33+G33) -> 0 | AF33: =SUM(T33+H33) -> 0 | AG33: =SUM(U33+I33) -> 0 | AH33: =SUM(AE33:AG33) -> 0 | AI33: =SUM(W33+K33) -> 27500 | AJ33: =SUM(X33+L33) -> 0 | AK33: =SUM(Y33+M33) -> 0 | AL33: =SUM(AI33:AK33) -> 27500
A34: 23, Egyéb bírság | B34: B36 | C34: 5000 | F34: =SUM(C34:E34) -> 5000 | J34: =SUM(G34:I34) -> 0 | K34: =SUM(G34+C34) -> 5000 | L34: =SUM(H34+D34) -> 0 | M34: =SUM(I34+E34) -> 0 | N34: =SUM(K34:M34) -> 5000 | Q34: 200 | R34: =SUM(O34:Q34) -> 200 | V34: =SUM(S34:U34) -> 0 | W34: =SUM(S34+O34) -> 0 | X34: =SUM(T34+P34) -> 0 | Y34: =SUM(Q34+U34) -> 200 | Z34: =SUM(W34:Y34) -> 200 | AA34: =SUM(O34+C34) -> 5000 | AB34: =SUM(P34+D34) -> 0 | AC34: =SUM(Q34+E34) -> 200 | AD34: =SUM(AA34:AC34) -> 5200 | AE34: =SUM(S34+G34) -> 0 | AF34: =SUM(T34+H34) -> 0 | AG34: =SUM(U34+I34) -> 0 | AH34: =SUM(AE34:AG34) -> 0 | AI34: =SUM(W34+K34) -> 5000 | AJ34: =SUM(X34+L34) -> 0 | AK34: =SUM(Y34+M34) -> 200 | AL34: =SUM(AI34:AK34) -> 5200
A35: 24, Egyéb közhatalmi bevételek összesen (20+21+22+23): | B35: B36 | C35: =SUM(C31:C34) -> 92500 | D35: =SUM(D31:D34) -> 0 | E35: =SUM(E31:E34) -> 0 | F35: =SUM(F31:F34) -> 92500 | G35: =SUM(G31:G34) -> 0 | H35: =SUM(H31:H34) -> 0 | I35: =SUM(I31:I34) -> 0 | J35: =SUM(J31:J34) -> 0 | ... AL35: =SUM(AL31:AL34) -> 92700
A36: 25, Közhatalmi bevételek összesen (13+19+24): | B36: B3 | C36: =SUM(C24+C30+C35) -> 18387500 | D36: =SUM(D24+D30+D35) -> 0 | E36: =SUM(E24+E30+E35) -> 0 | F36: =SUM(F24+F30+F35) -> 18387500 | G36: =SUM(G24+G30+G35) -> 0 | H36: =SUM(H24+H30+H35) -> 0 | I36: =SUM(I24+I30+I35) -> 0 | J36: =SUM(J24+J30+J35) -> 0 | ... AL36: =SUM(AL24+AL30+AL35) -> 18387700
A37: 26, Működési bevételek | B37: B4 | C37: 1036081 | D37: 2942746 | F37: =SUM(C37:E37) -> 3978827 | G37: 38000 | H37: 1254298 | J37: =SUM(G37:I37) -> 1292298 | K37: =SUM(G37+C37) -> 1074081 | L37: =SUM(H37+D37) -> 4197044 | M37: =SUM(I37+E37) -> 0 | N37: =SUM(K37:M37) -> 5271125 | O37: 1036992 | P37: 334094 | R37: =SUM(O37:Q37) -> 1371086 | S37: 29727 | T37: 0 | U37: 2268 | V37: =SUM(S37:U37) -> 31995 | W37: =SUM(S37+O37) -> 1066719 | X37: =SUM(T37+P37) -> 334094 | Y37: =SUM(Q37+U37) -> 2268 | Z37: =SUM(W37:Y37) -> 1403081 | AA37: =SUM(O37+C37) -> 2073073 | AB37: =SUM(P37+D37) -> 3276840 | AC37: =SUM(Q37+E37) -> 0 | AD37: =SUM(AA37:AC37) -> 5349913 | AE37: =SUM(S37+G37) -> 67727 | AF37: =SUM(T37+H37) -> 1254298 | AG37: =SUM(U37+I37) -> 2268 | AH37: =SUM(AE37:AG37) -> 1324293 | AI37: =SUM(W37+K37) -> 2140800 | AJ37: =SUM(X37+L37) -> 4531138 | AK37: =SUM(Y37+M37) -> 2268 | AL37: =SUM(AI37:AK37) -> 6674206
A38: ~ ebből: Tulajdonosi bevételek | B38: B404 | C38: 393785 | F38: =SUM(C38:E38) -> 393785 | J38: =SUM(G38:I38) -> 0 | K38: =SUM(G38+C38) -> 393785 | L38: =SUM(H38+D38) -> 0 | M38: =SUM(I38+E38) -> 0 | N38: =SUM(K38:M38) -> 393785 | R38: =SUM(O38:Q38) -> 0 | V38: =SUM(S38:U38) -> 0 | W38: =SUM(S38+O38) -> 0 | X38: =SUM(T38+P38) -> 0 | Y38: =SUM(Q38+U38) -> 0 | Z38: =SUM(W38:Y38) -> 0 | AA38: =SUM(O38+C38) -> 393785 | AB38: =SUM(P38+D38) -> 0 | AC38: =SUM(Q38+E38) -> 0 | AD38: =SUM(AA38:AC38) -> 393785 | AE38: =SUM(S38+G38) -> 0 | AF38: =SUM(T38+H38) -> 0 | AG38: =SUM(U38+I38) -> 0 | AH38: =SUM(AE38:AG38) -> 0 | AI38: =SUM(W38+K38) -> 393785 | AJ38: =SUM(X38+L38) -> 0 | AK38: =SUM(Y38+M38) -> 0 | AL38: =SUM(AI38:AK38) -> 393785
A39: Kiszámlázott általános forgalmi adó, és általános forgalmi adó visszatérítése | B39: B406-B407 | C39: 141643 | D39: 2904852 | F39: =SUM(C39:E39) -> 3046495 | H39: 324 | J39: =SUM(G39:I39) -> 324 | K39: =SUM(G39+C39) -> 141643 | L39: =SUM(H39+D39) -> 2905176 | M39: =SUM(I39+E39) -> 0 | N39: =SUM(K39:M39) -> 3046819 | O39: 264525 | P39: 108794 | R39: =SUM(O39:Q39) -> 373319 | S39: 4136 | U39: 0 | V39: =SUM(S39:U39) -> 4136 | W39: =SUM(S39+O39) -> 268661 | X39: =SUM(T39+P39) -> 108794 | Y39: =SUM(Q39+U39) -> 0 | Z39: =SUM(W39:Y39) -> 377455 | AA39: =SUM(O39+C39) -> 406168 | AB39: =SUM(P39+D39) -> 3013646 | AC39: =SUM(Q39+E39) -> 0 | AD39: =SUM(AA39:AC39) -> 3419814 | AE39: =SUM(S39+G39) -> 4136 | AF39: =SUM(T39+H39) -> 324 | AG39: =SUM(U39+I39) -> 0 | AH39: =SUM(AE39:AG39) -> 4460 | AI39: =SUM(W39+K39) -> 410304 | AJ39: =SUM(X39+L39) -> 3013970 | AK39: =SUM(Y39+M39) -> 0 | AL39: =SUM(AI39:AK39) -> 3424274
A40: Kamatbevételek | B40: B408 | C40: 78000 | F40: =SUM(C40:E40) -> 78000 | G40: 38000 | J40: =SUM(G40:I40) -> 38000 | K40: =SUM(G40+C40) -> 116000 | L40: =SUM(H40+D40) -> 0 | M40: =SUM(I40+E40) -> 0 | N40: =SUM(K40:M40) -> 116000 | R40: =SUM(O40:Q40) -> 0 | V40: =SUM(S40:U40) -> 0 | W40: =SUM(S40+O40) -> 0 | X40: =SUM(T40+P40) -> 0 | Y40: =SUM(Q40+U40) -> 0 | Z40: =SUM(W40:Y40) -> 0 | AA40: =SUM(O40+C40) -> 78000 | AB40: =SUM(P40+D40) -> 0 | AC40: =SUM(Q40+E40) -> 0 | AD40: =SUM(AA40:AC40) -> 78000 | AE40: =SUM(S40+G40) -> 38000 | AF40: =SUM(T40+H40) -> 0 | AG40: =SUM(U40+I40) -> 0 | AH40: =SUM(AE40:AG40) -> 38000 | AI40: =SUM(W40+K40) -> 116000 | AJ40: =SUM(X40+L40) -> 0 | AK40: =SUM(Y40+M40) -> 0 | AL40: =SUM(AI40:AK40) -> 116000
A41: 27, Ingatlanok értékesítése | B41: B52 | C41: 190500 | D41: 88300 | F41: =SUM(C41:E41) -> 278800 | J41: =SUM(G41:I41) -> 0 | K41: =SUM(G41+C41) -> 190500 | L41: =SUM(H41+D41) -> 88300 | M41: =SUM(I41+E41) -> 0 | N41: =SUM(K41:M41) -> 278800 | R41: =SUM(O41:Q41) -> 0 | V41: =SUM(S41:U41) -> 0 | W41: =SUM(S41+O41) -> 0 | X41: =SUM(T41+P41) -> 0 | Y41: =SUM(Q41+U41) -> 0 | Z41: =SUM(W41:Y41) -> 0 | AA41: =SUM(C41+O41) -> 190500 | AB41: =SUM(D41+P41) -> 88300 | AC41: =SUM(E41+Q41) -> 0 | AD41: =SUM(F41+R41) -> 278800 | AE41: =SUM(G41+S41) -> 0 | AF41: =SUM(H41+T41) -> 0 | AG41: =SUM(I41+U41) -> 0 | AH41: =SUM(J41+V41) -> 0 | ... AL41: =SUM(N41+Z41) -> 278800
A42: 27/a, Egyéb tárgyi eszközök értékesítése | B42: B53 | C42: 0 | D42: 0 | F42: =SUM(C42:E42) -> 0 | H42: 1200 | J42: =SUM(G42:I42) -> 1200 | K42: =SUM(G42+C42) -> 0 | L42: =SUM(H42+D42) -> 1200 | M42: =SUM(I42+E42) -> 0 | N42: =SUM(K42:M42) -> 1200 | R42: =SUM(O42:Q42) -> 0 | V42: =SUM(S42:U42) -> 0 | W42: =SUM(S42+O42) -> 0 | X42: =SUM(T42+P42) -> 0 | Y42: =SUM(Q42+U42) -> 0 | Z42: =SUM(W42:Y42) -> 0 | AA42: =SUM(C42+O42) -> 0 | AB42: =SUM(D42+P42) -> 0 | AC42: =SUM(E42+Q42) -> 0 | AD42: =SUM(F42+R42) -> 0 | AE42: =SUM(G42+S42) -> 0 | AF42: =SUM(H42+T42) -> 1200 | AG42: =SUM(I42+U42) -> 0 | AH42: =SUM(J42+V42) -> 1200 | ... AL42: =SUM(N42+Z42) -> 1200
A43: 27/b, Részesedések értékesítése | B43: B54 | C43: 0 | D43: 0 | F43: =SUM(C43:E43) -> 0 | H43: 2860 | J43: =SUM(G43:I43) -> 2860 | K43: =SUM(G43+C43) -> 0 | L43: =SUM(H43+D43) -> 2860 | M43: =SUM(I43+E43) -> 0 | N43: =SUM(K43:M43) -> 2860 | R43: =SUM(O43:Q43) -> 0 | V43: =SUM(S43:U43) -> 0 | W43: =SUM(S43+O43) -> 0 | X43: =SUM(T43+P43) -> 0 | Y43: =SUM(Q43+U43) -> 0 | Z43: =SUM(W43:Y43) -> 0 | AA43: =SUM(C43+O43) -> 0 | AB43: =SUM(D43+P43) -> 0 | AC43: =SUM(E43+Q43) -> 0 | AD43: =SUM(F43+R43) -> 0 | AE43: =SUM(G43+S43) -> 0 | AF43: =SUM(H43+T43) -> 2860 | AG43: =SUM(I43+U43) -> 0 | AH43: =SUM(J43+V43) -> 2860 | ... AL43: =SUM(N43+Z43) -> 2860
A44: 28, Felhalmozási bevételek összesen (27+27/a,+27/b,): | B44: B5 | C44: =SUM(C41:C43) -> 190500 | D44: =SUM(D41:D43) -> 88300 | E44: =SUM(E41:E43) -> 0 | F44: =SUM(F41:F43) -> 278800 | G44: =SUM(G41:G43) -> 0 | H44: =SUM(H41:H43) -> 4060 | I44: =SUM(I41:I43) -> 0 | J44: =SUM(J41:J43) -> 4060 | ... AL44: =SUM(AL41:AL43) -> 282860
A45: 29, Működési célú átvett pénzeszközök | B45: B6 | C45: 29517 | D45: 384345 | F45: =SUM(C45:E45) -> 413862 | H45: 7500 | J45: =SUM(G45:I45) -> 7500 | K45: =SUM(G45+C45) -> 29517 | L45: =SUM(H45+D45) -> 391845 | M45: =SUM(I45+E45) -> 0 | N45: =SUM(K45:M45) -> 421362 | O45: 0 | P45: 102000 | Q45: 0 | R45: =SUM(O45:Q45) -> 102000 | S45: 1233 | T45: 35218 | U45: 0 | V45: =SUM(S45:U45) -> 36451 | W45: =SUM(S45+O45) -> 1233 | X45: =SUM(T45+P45) -> 137218 | Y45: =SUM(Q45+U45) -> 0 | Z45: =SUM(W45:Y45) -> 138451 | AA45: =SUM(C45+O45) -> 29517 | AB45: =SUM(D45+P45) -> 486345 | AC45: =SUM(E45+Q45) -> 0 | AD45: =SUM(F45+R45) -> 515862 | AE45: =SUM(G45+S45) -> 1233 | AF45: =SUM(H45+T45) -> 42718 | AG45: =SUM(I45+U45) -> 0 | AH45: =SUM(J45+V45) -> 43951 | ... AL45: =SUM(N45+Z45) -> 559813
A46: 30, Felhalmozási célú átvett pénzeszközök | B46: B7 | C46: 87912 | D46: 28475 | F46: =SUM(C46:E46) -> 116387 | G46: 3988 | J46: =SUM(G46:I46) -> 3988 | K46: =SUM(G46+C46) -> 91900 | L46: =SUM(H46+D46) -> 28475 | M46: =SUM(I46+E46) -> 0 | N46: =SUM(K46:M46) -> 120375 | O46: 0 | R46: =SUM(O46:Q46) -> 0 | V46: =SUM(S46:U46) -> 0 | W46: =SUM(S46+O46) -> 0 | X46: =SUM(T46+P46) -> 0 | Y46: =SUM(Q46+U46) -> 0 | Z46: =SUM(W46:Y46) -> 0 | AA46: =SUM(C46+O46) -> 87912 | AB46: =SUM(D46+P46) -> 28475 | AC46: =SUM(E46+Q46) -> 0 | AD46: =SUM(F46+R46) -> 116387 | AE46: =SUM(G46+S46) -> 3988 | AF46: =SUM(H46+T46) -> 0 | AG46: =SUM(I46+U46) -> 0 | AH46: =SUM(J46+V46) -> 3988 | ... AL46: =SUM(N46+Z46) -> 120375
A47: 31, Működési költségvetési bevételek összesen (8+25+26+29): | C47: =SUM(C45+C37+C36+C19) -> 23666470 | D47: =SUM(D45+D37+D36+D19) -> 3664663 | E47: =SUM(E45+E37+E36+E19) -> 0 | F47: =SUM(F45+F37+F36+F19) -> 27331133 | G47: =SUM(G45+G37+G36+G19) -> 201166 | H47: =SUM(H45+H37+H36+H19) -> 1284298 | I47: =SUM(I45+I37+I36+I19) -> 0 | J47: =SUM(J45+J37+J36+J19) -> 1485464 | ... AL47: =SUM(AL45+AL37+AL36+AL19) -> 31746035
A48: 32, Felhalmozási költségvetési bevételek összesen (11+28+30): | C48: =SUM(C22+C44+C46) -> 3776748 | D48: =SUM(D22+D44+D46) -> 11405989 | E48: =SUM(E22+E44+E46) -> 0 | F48: =SUM(F22+F44+F46) -> 15182737 | G48: =SUM(G22+G44+G46) -> 420718 | H48: =SUM(H22+H44+H46) -> 203810 | I48: =SUM(I22+I44+I46) -> 0 | J48: =SUM(J22+J44+J46) -> 624528 | ... AL48: =SUM(AL22+AL44+AL46) -> 15807265
A49: 33, Költségvetési bevételek összesen (31+32): | B49: B1-7. | C49: =SUM(C47+C48) -> 27443218 | D49: =SUM(D47+D48) -> 15070652 | E49: =SUM(E47+E48) -> 0 | F49: =SUM(F47+F48) -> 42513870 | G49: =SUM(G47+G48) -> 621884 | H49: =SUM(H47+H48) -> 1488108 | I49: =SUM(I47+I48) -> 0 | J49: =SUM(J47+J48) -> 2109992 | ... AL49: =SUM(AL47+AL48) -> 47553300
A51: I. Költségvetési egyenleg (1-2) az Áht. szerint | F51: =F52-F53 -> -16186202 | J51: =J52-J53 -> 320906 | N51: =N52-N53 -> -15865296 | R51: =R52-R53 -> -11372693 | V51: =V52-V53 -> -373059 | Z51: =Z52-Z53 -> -11745752 | AD51: =AD52-AD53 -> -27558895 | AH51: =AH52-AH53 -> -52153 | AL51: =AL52-AL53 -> -27611048
A52: 1. Költségvetési bevételek mindösszesen | B52: B1-7. | F52: =SUM(F49) -> 42513870 | J52: =SUM(J49) -> 2109992 | N52: =SUM(N49) -> 44623862 | R52: =SUM(R49) -> 2579920 | V52: =SUM(V49) -> 349518 | Z52: =SUM(Z49) -> 2929438 | AD52: =SUM(AD49) -> 45093790 | AH52: =SUM(AH49) -> 2459510 | AL52: =SUM(AL49) -> 47553300
A53: 2. Költségvetési kiadások mindösszesen | B53: K1-8. | F53: ='2 kiadás (kötelező, önként)'!F22 -> 58700072 | J53: ='2 kiadás (kötelező, önként)'!J22 -> 1789086 | N53: =SUM(J53+F53) -> 60489158 | R53: ='2 kiadás (kötelező, önként)'!R22 -> 13952613 | V53: ='2 kiadás (kötelező, önként)'!V22 -> 722577 | Z53: ='2 kiadás (kötelező, önként)'!Z22 -> 14675190 | AD53: ='2 kiadás (kötelező, önként)'!AD22 -> 72652685 | AH53: ='2 kiadás (kötelező, önként)'!AH22 -> 2511663 | AL53: ='2 kiadás (kötelező, önként)'!AL22 -> 75164348
A55: II. Finanszírozási egyenleg (8-9) | F55: =SUM(F61-F62) -> 16186202 | J55: =SUM(J61-J62) -> -320906 | N55: =SUM(N61-N62) -> 15865296 | R55: =SUM(R61-R62) -> 11372693 | V55: =SUM(V61-V62) -> 373059 | Z55: =SUM(Z61-Z62) -> 11745752 | AD55: =SUM(AD61-AD62) -> 27558895 | AH55: =SUM(AH61-AH62) -> 52153 | AL55: =SUM(AL61-AL62) -> 27611048
A56: 3. Előző évi működési célú költségvetési maradvány igénybevétele | C56: 1700547 | D56: 302156 | F56: =SUM(C56:E56) -> 2002703 | J56: =SUM(G56:I56) -> 0 | K56: =SUM(G56+C56) -> 1700547 | L56: =SUM(H56+D56) -> 302156 | M56: =SUM(I56+E56) -> 0 | N56: =SUM(K56:M56) -> 2002703 | O56: 541384 | P56: 38647 | R56: =SUM(O56:Q56) -> 580031 | U56: 0 | V56: =SUM(S56:U56) -> 0 | W56: =SUM(S56+O56) -> 541384 | X56: =SUM(T56+P56) -> 38647 | Y56: =SUM(Q56+U56) -> 0 | Z56: =SUM(W56:Y56) -> 580031 | AA56: =SUM(O56+C56) -> 2241931 | AB56: =SUM(P56+D56) -> 340803 | AD56: =SUM(AA56:AC56) -> 2582734 | AE56: =SUM(S56+G56) -> 0 | AF56: =SUM(T56+H56) -> 0 | AH56: =SUM(AE56:AG56) -> 0 | AI56: =SUM(W56+K56) -> 2241931 | AJ56: =SUM(X56+L56) -> 340803 | AL56: =SUM(AI56:AK56) -> 2582734
A57: 4. Előző évi felhalmozási célú költségvetési maradvány igénybevétele | C57: 3927973 | D57: 6886760 | F57: =SUM(C57:E57) -> 10814733 | J57: =SUM(G57:I57) -> 0 | K57: =SUM(G57+C57) -> 3927973 | L57: =SUM(H57+D57) -> 6886760 | M57: =SUM(I57+E57) -> 0 | N57: =SUM(K57:M57) -> 10814733 | R57: =SUM(O57:Q57) -> 0 | V57: =SUM(S57:U57) -> 0 | W57: =SUM(S57+O57) -> 0 | X57: =SUM(T57+P57) -> 0 | Y57: =SUM(Q57+U57) -> 0 | Z57: =SUM(W57:Y57) -> 0 | AA57: =SUM(O57+C57) -> 3927973 | AB57: =SUM(P57+D57) -> 6886760 | AD57: =SUM(AA57:AC57) -> 10814733 | AE57: =SUM(S57+G57) -> 0 | AF57: =SUM(T57+H57) -> 0 | AH57: =SUM(AE57:AG57) -> 0 | AI57: =SUM(W57+K57) -> 3927973 | AJ57: =SUM(X57+L57) -> 6886760 | AL57: =SUM(AI57:AK57) -> 10814733
A58: 5. Maradvány igénybevétele (3+4) | B58: B813 | C58: =SUM(C56:C57) -> 5628520 | D58: =SUM(D56:D57) -> 7188916 | E58: =SUM(E56:E57) -> 0 | F58: =SUM(F56:F57) -> 12817436 | G58: =SUM(G56:G57) -> 0 | H58: =SUM(H56:H57) -> 0 | I58: =SUM(I56:I57) -> 0 | J58: =SUM(J56:J57) -> 0 | ... AL58: =SUM(AL56:AL57) -> 13397467
A59: 6. Irányító szervi támogatás | B59: B816 | F59: 0 | J59: =SUM(G59:I59) -> 0 | K59: =SUM(G59+C59) -> 0 | L59: =SUM(H59+D59) -> 0 | M59: =SUM(I59+E59) -> 0 | N59: =SUM(K59:M59) -> 0 | O59: 8128007 | P59: 1724309 | Q59: 940346 | R59: =SUM(O59:Q59) -> 10792662 | S59: 270031 | T59: 130198 | U59: -27170 | V59: =SUM(S59:U59) -> 373059 | W59: =SUM(S59+O59) -> 8398038 | X59: =SUM(T59+P59) -> 1854507 | Y59: =SUM(Q59+U59) -> 913176 | Z59: =SUM(W59:Y59) -> 11165721 | AA59: =SUM(O59) -> 8128007 | AB59: =SUM(P59+D59) -> 1724309 | AC59: =SUM(Q59+E59) -> 940346 | AD59: =SUM(AA59:AC59) -> 10792662 | AE59: =SUM(S59) -> 270031 | AF59: =SUM(T59+H59) -> 130198 | AG59: =SUM(U59+I59) -> -27170 | AH59: =SUM(AE59:AG59) -> 373059 | AI59: =SUM(W59) -> 8398038 | AJ59: =SUM(X59+L59) -> 1854507 | AK59: =SUM(Y59+M59) -> 913176 | AL59: =SUM(AI59:AK59) -> 11165721
A60: 7, Forgatási célú belföldi értékpapírok beváltása, értékesítése | B60: B8121 | D60: 28800000 | F60: =SUM(C60:E60) -> 28800000 | H60: 18350000 | J60: =SUM(G60:I60) -> 18350000 | K60: =SUM(G60+C60) -> 0 | L60: =SUM(H60+D60) -> 47150000 | M60: =SUM(I60+E60) -> 0 | N60: =SUM(K60:M60) -> 47150000 | R60: =SUM(O60:Q60) -> 0 | V60: =SUM(S60:U60) -> 0 | W60: =SUM(S60+O60) -> 0 | X60: =SUM(T60+P60) -> 0 | Y60: =SUM(Q60+U60) -> 0 | Z60: =SUM(W60:Y60) -> 0 | AA60: =SUM(O60+C60) -> 0 | AB60: =SUM(P60+D60) -> 28800000 | AD60: =SUM(AA60:AC60) -> 28800000 | AE60: =SUM(S60+G60) -> 0 | AF60: =SUM(T60+H60) -> 18350000 | AH60: =SUM(AE60:AG60) -> 18350000 | AI60: =SUM(W60+K60) -> 0 | AJ60: =SUM(X60+L60) -> 47150000 | AL60: =SUM(AI60:AK60) -> 47150000
A61: 8. Finanszírozási bevételek összesen (5+6+7): | B61: B8 | C61: =SUM(C58:C60) -> 5628520 | D61: =SUM(D58:D60) -> 35988916 | E61: =SUM(E58:E60) -> 0 | F61: =SUM(F58:F60) -> 41617436 | G61: =SUM(G58:G60) -> 0 | H61: =SUM(H58:H60) -> 18350000 | I61: =SUM(I58:I60) -> 0 | J61: =SUM(J58:J60) -> 18350000 | ... N61: =SUM(N58:N60) -> 59967436 | O61: =SUM(O58:O59) -> 8669391 | P61: =SUM(P58:P59) -> 1762956 | Q61: =SUM(Q58:Q59) -> 940346 | R61: =SUM(R58:R59) -> 11372693 | S61: =SUM(S58:S59) -> 270031 | T61: =SUM(T58:T59) -> 130198 | U61: =SUM(U58:U59) -> -27170 | V61: =SUM(V58:V59) -> 373059 | ... Z61: =SUM(Z58:Z59) -> 11745752 | AA61: =SUM(AA58:AA60) -> 14297911 | AB61: =SUM(AB58:AB60) -> 37751872 | AC61: =SUM(AC58:AC60) -> 940346 | AD61: =SUM(AD58:AD60) -> 52990129 | AE61: =SUM(AE58:AE60) -> 270031 | AF61: =SUM(AF58:AF60) -> 18480198 | AG61: =SUM(AG58:AG60) -> -27170 | AH61: =SUM(AH58:AH60) -> 18723059 | ... AL61: =SUM(AL58:AL60) -> 71713188
A62: 9. Finanszírozási kiadások összesen: | B62: K9 | C62: ='2 kiadás (kötelező, önként)'!C26 -> 8266579 | D62: ='2 kiadás (kötelező, önként)'!D26 -> 16224309 | E62: ='2 kiadás (kötelező, önként)'!E26 -> 940346 | F62: =SUM(C62:E62) -> 25431234 | G62: ='2 kiadás (kötelező, önként)'!G26 -> 262386 | H62: ='2 kiadás (kötelező, önként)'!H26 -> 18435690 | I62: ='2 kiadás (kötelező, önként)'!I26 -> -27170 | J62: =SUM(G62:I62) -> 18670906 | K62: =SUM(G62+C62) -> 8528965 | L62: =SUM(H62+D62) -> 34659999 | M62: =SUM(I62+E62) -> 913176 | N62: =SUM(K62:M62) -> 44102140 | R62: =SUM(O62:Q62) -> 0 | V62: =SUM(S62:U62) -> 0 | W62: =SUM(S62+O62) -> 0 | X62: =SUM(T62+P62) -> 0 | Y62: =SUM(Q62+U62) -> 0 | Z62: =SUM(W62:Y62) -> 0 | AA62: =SUM(O62+C62) -> 8266579 | AB62: =SUM(P62+D62) -> 16224309 | AC62: =SUM(Q62+E62) -> 940346 | AD62: =SUM(AA62:AC62) -> 25431234 | AE62: =SUM(S62+G62) -> 262386 | AF62: =SUM(T62+H62) -> 18435690 | AG62: =SUM(U62+I62) -> -27170 | AH62: =SUM(AE62:AG62) -> 18670906 | AI62: =SUM(W62+K62) -> 8528965 | AJ62: =SUM(X62+L62) -> 34659999 | AK62: =SUM(Y62+M62) -> 913176 | AL62: =SUM(AI62:AK62) -> 44102140
A63: Egyenleg (I-II.) | F63: =SUM(F51+F55) -> 0 | J63: =SUM(J51+J55) -> 0 | N63: =SUM(N51+N55) -> 0 | R63: =SUM(R51+R55) -> 0 | V63: =SUM(V51+V55) -> 0 | Z63: =SUM(Z51+Z55) -> 0 | AD63: =SUM(AD51+AD55) -> 0 | AH63: =SUM(AH51+AH55) -> 0 | AL63: =SUM(AL51+AL55) -> 0

Sheet 2 kiadás (kötelező, önként)
B1: Székesfehérvár Megyei Jogú Város Önkormányzat és Költségvetési szervei | O1: Székesfehérvár Megyei Jogú Város Önkormányzat és Költségvetési szervei | AA1: Székesfehérvár Megyei Jogú Város Önkormányzat és Költségvetési szervei
B2: 2018. évi kiadásai eFt-ban | O2: 2018. évi kiadásai eFt-ban | AA2: 2018. évi kiadásai eFt-ban
B3: II. módosítás | O3: II. módosítás | AA3: II. módosítás
C5: Székesfehérvár Megyei Jogú Város Önkormányzat | O5: Költségvetési szervek összesen | AA5: Összesen
A6: Megnevezés | B6: Rovat száma | C6: Módosított előirányzat | G6: Javasolt módosítás | K6: Új Módosított előirányzat | O6: Módosított előirányzat | S6: Javasolt módosítás | W6: Új Módosított előirányzat | AA6: Módosított előirányzat | AE6: Javasolt módosítás | AI6: Új Módosított előirányzat
C7: Kötelező feladat | D7: Önként vállalt feladat | E7: Államigazgatási feladat | F7: Összesen | G7: Kötelező feladat | H7: Önként vállalt feladat | I7: Államigazgatási feladat | J7: Összesen | K7: Kötelező feladat | L7: Önként vállalt feladat | M7: Államigazgatási feladat | N7: Összesen | O7: Kötelező feladat | P7: Önként vállalt feladat | Q7: Államigazgatási feladat | R7: Összesen | S7: Kötelező feladat | T7: Önként vállalt feladat | U7: Államigazgatási feladat | V7: Összesen | W7: Kötelező feladat | X7: Önként vállalt feladat | Y7: Államigazgatási feladat | Z7: Összesen | AA7: Kötelező feladat | AB7: Önként vállalt feladat | AC7: Államigazgatási feladat | AD7: Összesen | AE7: Kötelező feladat | AF7: Önként vállalt feladat | AG7: Államigazgatási feladat | AH7: Összesen | AI7: Kötelező feladat | AJ7: Önként vállalt feladat | AK7: Államigazgatási feladat | AL7: Összesen
A8: a. | C8: b/1. | G8: b/2. | K8: b/3. | O8: c/1. | S8: c/2. | W8: c/3. | AA8: d/1.=b/1.+c/1. | AE8: d/2.=b/2.+c/2. | AI8: d/3.=b/3.+c/3.
A9: 1, Személyi juttatás | B9: K1 | C9: 293331 | D9: 185299 | E9: 0 | F9: =SUM(C9:E9) -> 478630 | G9: =-298+3391+3992+3743-3260-3200-2000-7500 -> -5132 | H9: =-2-7031+2730+569+443+80+40+1977 -> -1194 | J9: =SUM(G9:I9) -> -6326 | K9: =SUM(C9+G9) -> 288199 | L9: =SUM(D9+H9) -> 184105 | M9: =SUM(E9+I9) -> 0 | N9: =SUM(K9:M9) -> 472304 | O9: 5391371 | P9: 1305289 | Q9: 618691 | R9: =SUM(O9:Q9) -> 7315351 | S9: 139131 | T9: 72048 | U9: 0 | V9: =SUM(S9:U9) -> 211179 | W9: =SUM(O9+S9) -> 5530502 | X9: =SUM(P9+T9) -> 1377337 | Y9: =SUM(Q9+U9) -> 618691 | Z9: =SUM(W9:Y9) -> 7526530 | AA9: =+C9+O9 -> 5684702 | AB9: =+D9+P9 -> 1490588 | AC9: =SUM(Q9+E9) -> 618691 | AD9: =SUM(AA9:AC9) -> 7793981 | AE9: =+G9+S9 -> 133999 | AF9: =+H9+T9 -> 70854 | AG9: =SUM(U9+I9) -> 0 | AH9: =SUM(AE9:AG9) -> 204853 | AI9: =+K9+W9 -> 5818701 | AJ9: =+L9+X9 -> 1561442 | AK9: =SUM(Y9+M9) -> 618691 | AL9: =SUM(AI9:AK9) -> 7998834
A10: 2, Munkaadókat terhelő járulékok és szociális hozzájárulási adó | B10: K2 | C10: 57973 | D10: 56874 | E10: 0 | F10: =SUM(C10:E10) -> 114847 | G10: =661+778+657-1232-351-1316 -> -803 | H10: =716+325+195+8+177 -> 1421 | J10: =SUM(G10:I10) -> 618 | K10: =SUM(C10+G10) -> 57170 | L10: =SUM(D10+H10) -> 58295 | M10: =SUM(E10+I10) -> 0 | N10: =SUM(K10:M10) -> 115465 | O10: 1125709 | P10: 270876 | Q10: 126812 | R10: =SUM(O10:Q10) -> 1523397 | S10: 27267 | T10: 22377 | V10: =SUM(S10:U10) -> 49644 | W10: =SUM(O10+S10) -> 1152976 | X10: =SUM(P10+T10) -> 293253 | Y10: =SUM(Q10+U10) -> 126812 | Z10: =SUM(W10:Y10) -> 1573041 | AA10: =+C10+O10 -> 1183682 | AB10: =+D10+P10 -> 327750 | AC10: =SUM(Q10+E10) -> 126812 | AD10: =SUM(AA10:AC10) -> 1638244 | AE10: =+G10+S10 -> 26464 | AF10: =+H10+T10 -> 23798 | AG10: =SUM(U10+I10) -> 0 | AH10: =SUM(AE10:AG10) -> 50262 | AI10: =+K10+W10 -> 1210146 | AJ10: =+L10+X10 -> 351548 | AK10: =SUM(Y10+M10) -> 126812 | AL10: =SUM(AI10:AK10) -> 1688506
A11: 3, Dologi kiadás | B11: K3 | C11: 2674411 | D11: 5527762 | E11: 0 | F11: =SUM(C11:E11) -> 8202173 | G11: =-13+298+343+438+1793+1968-4107+3615+185216-4400+1889+120+139-39616+55468+23811+18301+2832+15945+39102+5214+13130+33824+8149-3264-73742+32017+4356-38626+776-31933+863-53+5588+5000+305+100000+10743+16829-13000-3829+127000 -> 502489 | H11: =44508-164433-954+2+18517-50+27500+40000+193-4052+583+73579+8999+54837+15000+119-160-48+117 -> 114257 | J11: =SUM(G11:I11) -> 616746 | K11: =SUM(C11+G11) -> 3176900 | L11: =SUM(D11+H11) -> 5642019 | M11: =SUM(E11+I11) -> 0 | N11: =SUM(K11:M11) -> 8818919 | O11: 3769696 | P11: 886682 | Q11: 167096 | R11: =SUM(O11:Q11) -> 4823474 | S11: 266492 | T11: 136222 | U11: 4567 | V11: =SUM(S11:U11) -> 407281 | W11: =SUM(O11+S11) -> 4036188 | X11: =SUM(P11+T11) -> 1022904 | Y11: =SUM(Q11+U11) -> 171663 | Z11: =SUM(W11:Y11) -> 5230755 | AA11: =+C11+O11 -> 6444107 | AB11: =+D11+P11 -> 6414444 | AC11: =SUM(Q11+E11) -> 167096 | AD11: =SUM(AA11:AC11) -> 13025647 | AE11: =+G11+S11 -> 768981 | AF11: =+H11+T11 -> 250479 | AG11: =SUM(U11+I11) -> 4567 | AH11: =SUM(AE11:AG11) -> 1024027 | AI11: =+K11+W11 -> 7213088 | AJ11: =+L11+X11 -> 6664923 | AK11: =SUM(Y11+M11) -> 171663 | AL11: =SUM(AI11:AK11) -> 14049674
A12: 4, Ellátottak pénzbeli juttatásai | B12: K4 | C12: 41014 | D12: 0 | E12: 0 | F12: =SUM(C12:E12) -> 41014 | G12: 7645 | J12: =SUM(G12:I12) -> 7645 | K12: =SUM(C12+G12) -> 48659 | L12: =SUM(D12+H12) -> 0 | M12: =SUM(E12+I12) -> 0 | N12: =SUM(K12:M12) -> 48659 | O12: 10000 | P12: 0 | Q12: 0 | R12: =SUM(O12:Q12) -> 10000 | S12: 63194 | T12: 0 | U12: 0 | V12: =SUM(S12:U12) -> 63194 | W12: =SUM(O12+S12) -> 73194 | X12: =SUM(P12+T12) -> 0 | Y12: =SUM(Q12+U12) -> 0 | Z12: =SUM(W12:Y12) -> 73194 | AA12: =+C12+O12 -> 51014 | AB12: =+D12+P12 -> 0 | AC12: =SUM(Q12+E12) -> 0 | AD12: =SUM(AA12:AC12) -> 51014 | AE12: =+G12+S12 -> 70839 | AF12: =+H12+T12 -> 0 | AG12: =SUM(U12+I12) -> 0 | AH12: =SUM(AE12:AG12) -> 70839 | AI12: =+K12+W12 -> 121853 | AJ12: =+L12+X12 -> 0 | AK12: =SUM(Y12+M12) -> 0 | AL12: =SUM(AI12:AK12) -> 121853
A13: 5, Egyéb működési célú kiadások | B13: K5 (K501-K512) | C13: 10992580 | D13: 2709279 | E13: 0 | F13: =SUM(C13:E13) -> 13701859 | G13: =150000+10242+87102+368 -> 247712 | H13: =164433+50+5000-3500-50000+250+500+2483-3446-1087+1000-1098-500-2400+1000-150-21000-600-1221-562-115+800+2000+30000+2540-400-2477-1248+2286+2000-70000+3406+10000-6457-1500-45-2621-60-50-50-100-100-200-100-300-100-50-50-820-2100 -> 53241 | J13: =SUM(G13:I13) -> 300953 | K13: =SUM(C13+G13) -> 11240292 | L13: =SUM(D13+H13) -> 2762520 | M13: =SUM(E13+I13) -> 0 | N13: =SUM(K13:M13) -> 14002812 | O13: 0 | P13: 0 | Q13: 0 | R13: =SUM(O13:Q13) -> 0 | S13: 20 | T13: 0 | U13: 0 | V13: =SUM(S13:U13) -> 20 | W13: =SUM(O13+S13) -> 20 | X13: =SUM(P13+T13) -> 0 | Y13: =SUM(Q13+U13) -> 0 | Z13: =SUM(W13:Y13) -> 20 | AA13: =+C13+O13 -> 10992580 | AB13: =+D13+P13 -> 2709279 | AC13: =SUM(Q13+E13) -> 0 | AD13: =SUM(AA13:AC13) -> 13701859 | AE13: =+G13+S13 -> 247732 | AF13: =+H13+T13 -> 53241 | AG13: =SUM(U13+I13) -> 0 | AH13: =SUM(AE13:AG13) -> 300973 | AI13: =+K13+W13 -> 11240312 | AJ13: =+L13+X13 -> 2762520 | AK13: =SUM(Y13+M13) -> 0 | AL13: =SUM(AI13:AK13) -> 14002832
A14: 6, Működési költségvetési kiadások összesen | C14: =SUM(C9:C13) -> 14059309 | D14: =SUM(D9:D13) -> 8479214 | E14: =SUM(E9:E13) -> 0 | F14: =SUM(F9:F13) -> 22538523 | G14: =SUM(G9:G13) -> 751911 | H14: =SUM(H9:H13) -> 167725 | I14: =SUM(I9:I13) -> 0 | J14: =SUM(J9:J13) -> 919636 | ... AL14: =SUM(AL9:AL13) -> 37861699
A15: 7, Beruházások | B15: K6 | C15: 7055199 | D15: 21405879 | E15: 0 | F15: =SUM(C15:E15) -> 28461078 | G15: =13+65000+29703+19236+5706+11222+13764+4144+78+44794+11205+1372+395+3615+1800+127+2738+11115+188+23000+4100-4100+13555-13555+13389-17004-185216+393730-1889-120-139+37416-55468-23811-18301-2832-15945-39102-5214-13130-33824-5863+3264+78234-32017-4356+38626-776+35133-863+53+262211+2264+30163+6755+26000+3426+250+3988-200000 -> 528247 | H15: =954-11486+3000-2869-73579-8999-54837+21590+105000+12840+1221 -> -7165 | J15: =SUM(G15:I15) -> 521082 | K15: =SUM(C15+G15) -> 7583446 | L15: =SUM(D15+H15) -> 21398714 | M15: =SUM(E15+I15) -> 0 | N15: =SUM(K15:M15) -> 28982160 | O15: 133403 | P15: 16975 | Q15: 102709 | R15: =SUM(O15:Q15) -> 253087 | S15: 19007 | T15: 1455 | U15: -28842 | V15: =SUM(S15:U15) -> -8380 | W15: =SUM(O15+S15) -> 152410 | X15: =SUM(P15+T15) -> 18430 | Y15: =SUM(Q15+U15) -> 73867 | Z15: =SUM(W15:Y15) -> 244707 | AA15: =+C15+O15 -> 7188602 | AB15: =+D15+P15 -> 21422854 | AC15: =SUM(Q15+E15) -> 102709 | AD15: =SUM(AA15:AC15) -> 28714165 | AE15: =+G15+S15 -> 547254 | AF15: =+H15+T15 -> -5710 | AG15: =SUM(U15+I15) -> -28842 | AH15: =SUM(AE15:AG15) -> 512702 | AI15: =+K15+W15 -> 7735856 | AJ15: =+L15+X15 -> 21417144 | AK15: =SUM(Y15+M15) -> 73867 | AL15: =SUM(AI15:AK15) -> 29226867
A16: 8, Felújítások | B16: K7 | C16: 2141085 | D16: 2389862 | E16: 0 | F16: =SUM(C16:E16) -> 4530947 | G16: =1876-1876+1824+1634-3458+1556-1556-201804-29703-19236-6144-13015-15732-4222-44794-11205-1372-395-3615+2307-127+5756+3300+2200-262211+100000 -> -500012 | H16: -21590 | J16: =SUM(G16:I16) -> -521602 | K16: =SUM(C16+G16) -> 1641073 | L16: =SUM(D16+H16) -> 2368272 | M16: =SUM(E16+I16) -> 0 | N16: =SUM(K16:M16) -> 4009345 | O16: 13848 | P16: 4791 | Q16: 8665 | R16: =SUM(O16:Q16) -> 27304 | S16: -873 | T16: 1139 | U16: -627 | V16: =SUM(S16:U16) -> -361 | W16: =SUM(O16+S16) -> 12975 | X16: =SUM(P16+T16) -> 5930 | Y16: =SUM(Q16+U16) -> 8038 | Z16: =SUM(W16:Y16) -> 26943 | AA16: =+C16+O16 -> 2154933 | AB16: =+D16+P16 -> 2394653 | AC16: =SUM(Q16+E16) -> 8665 | AD16: =SUM(AA16:AC16) -> 4558251 | AE16: =+G16+S16 -> -500885 | AF16: =+H16+T16 -> -20451 | AG16: =SUM(U16+I16) -> -627 | AH16: =SUM(AE16:AG16) -> -521963 | AI16: =+K16+W16 -> 1654048 | AJ16: =+L16+X16 -> 2374202 | AK16: =SUM(Y16+M16) -> 8038 | AL16: =SUM(AI16:AK16) -> 4036288
A17: 9, Egyéb felhalmozási célú kiadások | B17: K8 | C17: 3950 | D17: 970147 | E17: 0 | F17: =SUM(C17:E17) -> 974097 | G17: 201461 | H17: =-5000+3500+50000+2400+10000+21000+70000+6457+1500+350+820+2100 -> 163127 | J17: =SUM(G17:I17) -> 364588 | K17: =SUM(C17+G17) -> 205411 | L17: =SUM(D17+H17) -> 1133274 | M17: =SUM(E17+I17) -> 0 | N17: =SUM(K17:M17) -> 1338685 | O17: 0 | P17: 0 | Q17: 0 | R17: =SUM(O17:Q17) -> 0 | S17: 0 | T17: 0 | U17: 0 | V17: =SUM(S17:U17) -> 0 | W17: =SUM(O17+S17) -> 0 | X17: =SUM(P17+T17) -> 0 | Y17: =SUM(Q17+U17) -> 0 | Z17: =SUM(W17:Y17) -> 0 | AA17: =+C17+O17 -> 3950 | AB17: =+D17+P17 -> 970147 | AC17: =SUM(Q17+E17) -> 0 | AD17: =SUM(AA17:AC17) -> 974097 | AE17: =+G17+S17 -> 201461 | AF17: =+H17+T17 -> 163127 | AG17: =SUM(U17+I17) -> 0 | AH17: =SUM(AE17:AG17) -> 364588 | AI17: =+K17+W17 -> 205411 | AJ17: =+L17+X17 -> 1133274 | AK17: =SUM(Y17+M17) -> 0 | AL17: =SUM(AI17:AK17) -> 1338685
A18: 10, Felhalmozási költségvetési kiadások összesen | C18: =SUM(C15:C17) -> 9200234 | D18: =SUM(D15:D17) -> 24765888 | E18: =SUM(E15:E17) -> 0 | F18: =SUM(F15:F17) -> 33966122 | G18: =SUM(G15:G17) -> 229696 | H18: =SUM(H15:H17) -> 134372 | I18: =SUM(I15:I17) -> 0 | J18: =SUM(J15:J17) -> 364068 | ... AB18: =SUM(AB15:AB17) -> 24787654 | AC18: =SUM(Q18+E18) -> 111374 | AD18: =SUM(AD15:AD17) -> 34246513 | AE18: =SUM(AE15:AE17) -> 247830 | AF18: =SUM(AF15:AF17) -> 136966 | AG18: =SUM(U18+I18) -> -29469 | AH18: =SUM(AH15:AH17) -> 355327 | AI18: =SUM(AI15:AI17) -> 9595315 | AJ18: =SUM(AJ15:AJ17) -> 24924620 | AK18: =SUM(Y18+M18) -> 81905 | AL18: =SUM(AL15:AL17) -> 34601840
A19: 11, Általános tartalék | C19: 0 | D19: 109885 | F19: =SUM(C19:E19) -> 109885 | H19: -36597 | J19: =SUM(G19:I19) -> -36597 | K19: =SUM(C19+G19) -> 0 | L19: =SUM(D19+H19) -> 73288 | M19: =SUM(E19+I19) -> 0 | N19: =SUM(K19:M19) -> 73288 | O19: 0 | P19: 0 | Q19: 0 | R19: =SUM(O19:Q19) -> 0 | S19: 0 | T19: 0 | U19: 0 | V19: =SUM(S19:U19) -> 0 | W19: =SUM(O19+S19) -> 0 | X19: =SUM(P19+T19) -> 0 | Y19: =SUM(Q19+U19) -> 0 | Z19: =SUM(W19:Y19) -> 0 | AA19: =+C19+O19 -> 0 | AB19: =+D19+P19 -> 109885 | AC19: =SUM(Q19+E19) -> 0 | AD19: =SUM(AA19:AC19) -> 109885 | AE19: =+G19+S19 -> 0 | AF19: =+H19+T19 -> -36597 | AG19: =SUM(U19+I19) -> 0 | AH19: =SUM(AE19:AG19) -> -36597 | AI19: =+K19+W19 -> 0 | AJ19: =+L19+X19 -> 73288 | AK19: =SUM(Y19+M19) -> 0 | AL19: =SUM(AI19:AK19) -> 73288
A20: 12, Céltartalék | C20: 1902645 | D20: 182897 | E20: 0 | F20: =SUM(C20:E20) -> 2085542 | G20: 618107 | H20: -76128 | J20: =SUM(G20:I20) -> 541979 | K20: =SUM(C20+G20) -> 2520752 | L20: =SUM(D20+H20) -> 106769 | M20: =SUM(E20+I20) -> 0 | N20: =SUM(K20:M20) -> 2627521 | O20: 0 | P20: 0 | Q20: 0 | R20: =SUM(O20:Q20) -> 0 | S20: 0 | T20: 0 | U20: 0 | V20: =SUM(S20:U20) -> 0 | W20: =SUM(O20+S20) -> 0 | X20: =SUM(P20+T20) -> 0 | Y20: =SUM(Q20+U20) -> 0 | Z20: =SUM(W20:Y20) -> 0 | AA20: =+C20+O20 -> 1902645 | AB20: =+D20+P20 -> 182897 | AC20: =SUM(Q20+E20) -> 0 | AD20: =SUM(AA20:AC20) -> 2085542 | AE20: =+G20+S20 -> 618107 | AF20: =+H20+T20 -> -76128 | AG20: =SUM(U20+I20) -> 0 | AH20: =SUM(AE20:AG20) -> 541979 | AI20: =+K20+W20 -> 2520752 | AJ20: =+L20+X20 -> 106769 | AK20: =SUM(Y20+M20) -> 0 | AL20: =SUM(AI20:AK20) -> 2627521
A21: 13, Tartalékok összesen: | B21: K5 (K513) | C21: =SUM(C19:C20) -> 1902645 | D21: =SUM(D19:D20) -> 292782 | E21: =SUM(E19:E20) -> 0 | F21: =SUM(F19:F20) -> 2195427 | G21: =SUM(G19:G20) -> 618107 | H21: =SUM(H19:H20) -> -112725 | I21: =SUM(I19:I20) -> 0 | J21: =SUM(J19:J20) -> 505382 | ... AL21: =SUM(AL19:AL20) -> 2700809
A22: 14,Költségvetési kiadások összesen: | B22: (K1-8.) | C22: =+C21+C18+C14 -> 25162188 | D22: =+D21+D18+D14 -> 33537884 | E22: =+E21+E18+E14 -> 0 | F22: =+F21+F18+F14 -> 58700072 | G22: =+G21+G18+G14 -> 1599714 | H22: =+H21+H18+H14 -> 189372 | I22: =+I21+I18+I14 -> 0 | J22: =+J21+J18+J14 -> 1789086 | ... AL22: =+AL21+AL18+AL14 -> 75164348
A23: 15, Forgatási célú belföldi értékpapírok vásárlása | B23: K9121 | C23: 0 | D23: 14500000 | E23: 0 | F23: =SUM(C23:E23) -> 14500000 | H23: =18350000-44508 -> 18305492 | J23: =SUM(G23:I23) -> 18305492 | K23: =SUM(C23+G23) -> 0 | L23: =SUM(D23+H23) -> 32805492 | M23: =SUM(E23+I23) -> 0 | N23: =SUM(K23:M23) -> 32805492 | R23: =SUM(O23:Q23) -> 0 | V23: =SUM(S23:U23) -> 0 | W23: =SUM(O23+S23) -> 0 | X23: =SUM(P23+T23) -> 0 | Y23: =SUM(Q23+U23) -> 0 | Z23: =SUM(W23:Y23) -> 0 | AA23: =SUM(O23+C23) -> 0 | AB23: =SUM(P23+D23) -> 14500000 | AC23: =SUM(Q23+E23) -> 0 | AD23: =SUM(R23+F23) -> 14500000 | AE23: =SUM(S23+G23) -> 0 | AF23: =SUM(T23+H23) -> 18305492 | AG23: =SUM(U23+I23) -> 0 | AH23: =SUM(V23+J23) -> 18305492 | ... AL23: =SUM(Z23+N23) -> 32805492
A24: 16, Államháztartáson belüli megelőlegezések visszafizetése | B24: K914 | C24: 138572 | D24: 0 | E24: 0 | F24: =SUM(C24:E24) -> 138572 | G24: -7645 | J24: =SUM(G24:I24) -> -7645 | K24: =SUM(C24+G24) -> 130927 | L24: =SUM(D24+H24) -> 0 | M24: =SUM(E24+I24) -> 0 | N24: =SUM(K24:M24) -> 130927 | R24: =SUM(O24:Q24) -> 0 | V24: =SUM(S24:U24) -> 0 | W24: =SUM(O24+S24) -> 0 | X24: =SUM(P24+T24) -> 0 | Y24: =SUM(Q24+U24) -> 0 | Z24: =SUM(W24:Y24) -> 0 | AA24: =SUM(O24+C24) -> 138572 | AB24: =SUM(P24+D24) -> 0 | AC24: =SUM(Q24+E24) -> 0 | AD24: =SUM(R24+F24) -> 138572 | AE24: =SUM(S24+G24) -> -7645 | AF24: =SUM(T24+H24) -> 0 | AG24: =SUM(U24+I24) -> 0 | AH24: =SUM(V24+J24) -> -7645 | ... AL24: =SUM(Z24+N24) -> 130927
A25: 17, Irányító szervi támogatás folyósítása | B25: K915 | C25: 8128007 | D25: 1724309 | E25: 940346 | F25: =SUM(C25:E25) -> 10792662 | G25: 270031 | H25: 130198 | I25: -27170 | J25: =SUM(G25:I25) -> 373059 | K25: =SUM(C25+G25) -> 8398038 | L25: =SUM(D25+H25) -> 1854507 | M25: =SUM(E25+I25) -> 913176 | N25: =SUM(K25:M25) -> 11165721 | R25: =SUM(O25:Q25) -> 0 | V25: =SUM(S25:U25) -> 0 | W25: =SUM(O25+S25) -> 0 | X25: =SUM(P25+T25) -> 0 | Y25: =SUM(Q25+U25) -> 0 | Z25: =SUM(W25:Y25) -> 0 | AA25: =SUM(O25+C25) -> 8128007 | AB25: =SUM(P25+D25) -> 1724309 | AC25: =SUM(Q25+E25) -> 940346 | AD25: =SUM(R25+F25) -> 10792662 | AE25: =SUM(S25+G25) -> 270031 | AF25: =SUM(T25+H25) -> 130198 | AG25: =SUM(U25+I25) -> -27170 | AH25: =SUM(V25+J25) -> 373059 | ... AL25: =SUM(Z25+N25) -> 11165721
A26: 18, Finanszírozási kiadások összesen: | B26: K9 | C26: =SUM(C23:C25) -> 8266579 | D26: =SUM(D23:D25) -> 16224309 | E26: =SUM(E23:E25) -> 940346 | F26: =SUM(F23:F25) -> 25431234 | G26: =SUM(G23:G25) -> 262386 | H26: =SUM(H23:H25) -> 18435690 | I26: =SUM(I23:I25) -> -27170 | J26: =SUM(J23:J25) -> 18670906 | ... AL26: =SUM(AL23:AL25) -> 44102140
A27: Álláshely | R27: 1890.68 | V27: 31.75 | Z27: =SUM(R27+V27) -> 1922.43 | AD27: =SUM(R27) -> 1890.68 | AH27: =SUM(V27) -> 31.75 | AL27: =SUM(Z27) -> 1922.43

Sheet 3 bevétel(szűkített)
A1: Tájékoztató Székesfehérvár Megyei Jogú Város Önkormányzat és Költségvetési szervei
A2: összevont 2018. évi bevételeiről eFt-ban
A3: II. módosítás
A6: Megnevezés | B6: Rovat száma | C6: Székesfehérvár Megyei Jogú Város Önkormányzat | F6: Költségvetési szervek összesen | I6: Összesen
C7: Módosított előirányzat | D7: Javasolt módosítás | E7: Új Módosított előirányzat | F7: Módosított előirányzat | G7: Javasolt módosítás | H7: Új Módosított előirányzat | I7: Módosított előirányzat | J7: Javasolt módosítás | K7: Új Módosított előirányzat
A8: a. | C8: b/1 | D8: b/2 | E8: b/3 | F8: c/1 | G8: c/2 | H8: c/3 | I8: d/1=b/1+c/1 | J8: d/2=b/2+c/2 | K8: d/3=b/3+c/3
A9: 1, Helyi önkormányzatok működésének általános támogatása | B9: B111 | C9: 3967 | E9: =SUM(C9:D9) -> 3967 | F9: 0 | H9: =SUM(F9:G9) -> 0 | I9: =SUM(F9+C9) -> 3967 | J9: =SUM(G9+D9) -> 0 | K9: =SUM(H9+E9) -> 3967
A10: 2, Települési önkormányzatok egyes köznevelési feladatainak támogatása | B10: B112 | C10: 1867433 | E10: =SUM(C10:D10) -> 1867433 | F10: 0 | H10: =SUM(F10:G10) -> 0 | I10: =SUM(F10+C10) -> 1867433 | J10: =SUM(G10+D10) -> 0 | K10: =SUM(H10+E10) -> 1867433
A11: 3, Települési önkormányzatok szociális, gyermekjóléti és gyermekétkeztetési feladatainak támogatása | B11: B113 | C11: 1552555 | D11: 120069 | E11: =SUM(C11:D11) -> 1672624 | F11: 0 | H11: =SUM(F11:G11) -> 0 | I11: =SUM(F11+C11) -> 1552555 | J11: =SUM(G11+D11) -> 120069 | K11: =SUM(H11+E11) -> 1672624
A12: 4, Települési önkormányzatok kulturális feladatainak támogatása | B12: B114 | C12: 851037 | D12: 29983 | E12: =SUM(C12:D12) -> 881020 | F12: 0 | H12: =SUM(F12:G12) -> 0 | I12: =SUM(C12+F12) -> 851037 | J12: =SUM(D12+G12) -> 29983 | K12: =SUM(E12+H12) -> 881020
A13: ~ ebből: Szent István Király Múzeum támogatása | C13: 233300 | E13: =SUM(C13:D13) -> 233300 | F13: 0 | H13: =SUM(F13:G13) -> 0 | I13: =SUM(C13+F13) -> 233300 | J13: =SUM(D13+G13) -> 0 | K13: =SUM(E13+H13) -> 233300
A14: Vörösmarty Mihály Megyei Könyvtár és a városi könyvtár támogatása | C14: 176100 | E14: =SUM(C14:D14) -> 176100 | F14: 0 | H14: =SUM(F14:G14) -> 0 | I14: =SUM(C14+F14) -> 176100 | J14: =SUM(D14+G14) -> 0 | K14: =SUM(E14+H14) -> 176100
A15: Vörösmarty Színház támogatása | C15: 301800 | E15: =SUM(C15:D15) -> 301800 | F15: 0 | H15: =SUM(F15:G15) -> 0 | I15: =SUM(C15+F15) -> 301800 | J15: =SUM(D15+G15) -> 0 | K15: =SUM(E15+H15) -> 301800
A16: 5, Működési célú költségvetési támogatások és kiegészítő támogatások | B16: B115 | C16: 218854 | D16: 13114 | E16: =SUM(C16:D16) -> 231968 | F16: 0 | H16: =SUM(F16:G16) -> 0 | I16: =SUM(C16+F16) -> 218854 | J16: =SUM(D16+G16) -> 13114 | K16: =SUM(E16+H16) -> 231968
A17: 6, Önkormányzatok működési támogatásai összesen (1+2+3+4+5): | B17: B11 | C17: =SUM(C9:C11,C12,C16) -> 4493846 | D17: =SUM(D9:D11,D12,D16) -> 163166 | E17: =SUM(E9:E11,E12,E16) -> 4657012 | F17: =SUM(F9:F11,F12,F16) -> 0 | G17: =SUM(G9:G11,G12,G16) -> 0 | H17: =SUM(H9:H11,H12,H16) -> 0 | I17: =SUM(I9:I11,I12,I16) -> 4493846 | J17: =SUM(J9:J11,J12,J16) -> 163166 | K17: =SUM(K9:K11,K12,K16) -> 4657012
A18: 7, Egyéb működési célú támogatások bevételei államháztartáson belülről | B18: B16 | C18: 57098 | D18: 22500 | E18: =SUM(C18:D18) -> 79598 | F18: 1106634 | G18: 281072 | H18: =SUM(F18:G18) -> 1387706 | I18: =SUM(C18+F18) -> 1163732 | J18: =SUM(D18+G18) -> 303572 | K18: =SUM(E18+H18) -> 1467304
A19: 8, Működési célú támogatások államháztartáson belülről összesen (6+7): | B19: B1 | C19: =SUM(C17+C18) -> 4550944 | D19: =SUM(D17+D18) -> 185666 | E19: =SUM(E17+E18) -> 4736610 | F19: =SUM(F17+F18) -> 1106634 | G19: =SUM(G17+G18) -> 281072 | H19: =SUM(H17+H18) -> 1387706 | I19: =SUM(I17+I18) -> 5657578 | J19: =SUM(J17+J18) -> 466738 | K19: =SUM(K17+K18) -> 6124316
A20: 9, Felhalmozási célú önkormányzati támogatások | B20: B21 | C20: 0 | D20: 488480 | E20: =SUM(C20:D20) -> 488480 | F20: 0 | H20: =SUM(F20:G20) -> 0 | I20: =SUM(C20+F20) -> 0 | J20: =SUM(D20+G20) -> 488480 | K20: =SUM(E20+H20) -> 488480
A21: 10, Egyéb felhalmozási célú támogatások bevételei államháztartáson belülről | B21: B25 | C21: 14787550 | D21: 128000 | E21: =SUM(C21:D21) -> 14915550 | F21: 0 | H21: =SUM(F21:G21) -> 0 | I21: =SUM(C21+F21) -> 14787550 | J21: =SUM(D21+G21) -> 128000 | K21: =SUM(E21+H21) -> 14915550
A22: 11, Felhalmozási célú támogatások államháztartáson belülről összesen: (9+10) | B22: B2 | C22: =SUM(C20+C21) -> 14787550 | D22: =SUM(D20+D21) -> 616480 | E22: =SUM(E20+E21) -> 15404030 | F22: =SUM(F20+F21) -> 0 | G22: =SUM(G20+G21) -> 0 | H22: =SUM(H20+H21) -> 0 | I22: =SUM(I20+I21) -> 14787550 | J22: =SUM(J20+J21) -> 616480 | K22: =SUM(K20+K21) -> 15404030
A23: 12, Építményadó | B23: B34 | C23: 1875000 | E23: =SUM(C23:D23) -> 1875000 | F23: 0 | H23: =SUM(F23:G23) -> 0 | I23: =SUM(F23+C23) -> 1875000 | J23: =SUM(G23+D23) -> 0 | K23: =SUM(H23+E23) -> 1875000
A24: 13, Vagyoni típusú adók összesen: (12) | B24: B34 | C24: =SUM(C23:C23) -> 1875000 | D24: =SUM(D23:D23) -> 0 | E24: =SUM(E23:E23) -> 1875000 | F24: =SUM(F23:F23) -> 0 | G24: =SUM(G23:G23) -> 0 | H24: =SUM(H23:H23) -> 0 | I24: =SUM(I23:I23) -> 1875000 | J24: =SUM(J23:J23) -> 0 | K24: =SUM(K23:K23) -> 1875000
A25: 14, Iparűzési adó | B25: B351 | C25: 16000000 | E25: =SUM(C25:D25) -> 16000000 | F25: 0 | H25: =SUM(F25:G25) -> 0 | I25: =SUM(F25+C25) -> 16000000 | J25: =SUM(G25+D25) -> 0 | K25: =SUM(H25+E25) -> 16000000
A26: 15, Értékesítési és forgalmi adók (14) | B26: B351 | C26: =SUM(C25) -> 16000000 | D26: =SUM(D25) -> 0 | E26: =SUM(E25) -> 16000000 | F26: =SUM(F25) -> 0 | G26: =SUM(G25) -> 0 | H26: =SUM(H25) -> 0 | I26: =SUM(I25) -> 16000000 | J26: =SUM(J25) -> 0 | K26: =SUM(K25) -> 16000000
A27: 16, Gépjárműadó | B27: B354 | C27: 360000 | E27: =SUM(C27:D27) -> 360000 | F27: 0 | H27: =SUM(F27:G27) -> 0 | I27: =SUM(F27+C27) -> 360000 | J27: =SUM(G27+D27) -> 0 | K27: =SUM(H27+E27) -> 360000
A28: 17, Idegenforgalmi adó | B28: B355 | C28: 60000 | E28: =SUM(C28:D28) -> 60000 | F28: 0 | H28: =SUM(F28:G28) -> 0 | I28: =SUM(F28+C28) -> 60000 | J28: =SUM(G28+D28) -> 0 | K28: =SUM(H28+E28) -> 60000
A29: 18, Egyéb áruhasználati és szolgáltatási adók (17) | B29: B355 | C29: =SUM(C28:C28) -> 60000 | D29: =SUM(D28:D28) -> 0 | E29: =SUM(E28:E28) -> 60000 | F29: =SUM(F28:F28) -> 0 | G29: =SUM(G28:G28) -> 0 | H29: =SUM(H28:H28) -> 0 | I29: =SUM(I28:I28) -> 60000 | J29: =SUM(J28:J28) -> 0 | K29: =SUM(K28:K28) -> 60000
A30: 19, Termékek és szolgáltatások adói összesen (15+16+18): | B30: B35 | C30: =SUM(C29+C27+C26) -> 16420000 | D30: =SUM(D29+D27+D26) -> 0 | E30: =SUM(E29+E27+E26) -> 16420000 | F30: =SUM(F29+F27+F26) -> 0 | G30: =SUM(G29+G27+G26) -> 0 | H30: =SUM(H29+H27+H26) -> 0 | I30: =SUM(I29+I27+I26) -> 16420000 | J30: =SUM(J29+J27+J26) -> 0 | K30: =SUM(K29+K27+K26) -> 16420000
A31: 20, Egyéb települési adó | B31: B36 | C31: 10000 | E31: =SUM(C31:D31) -> 10000 | F31: 0 | H31: =SUM(F31:G31) -> 0 | I31: =SUM(F31+C31) -> 10000 | J31: =SUM(G31+D31) -> 0 | K31: =SUM(H31+E31) -> 10000
A32: 21, Adópótlék, adóbírság | B32: B36 | C32: 50000 | E32: =SUM(C32:D32) -> 50000 | F32: 0 | H32: =SUM(F32:G32) -> 0 | I32: =SUM(F32+C32) -> 50000 | J32: =SUM(G32+D32) -> 0 | K32: =SUM(H32+E32) -> 50000
A33: 22, Szabálysértési pénz és helyszíni bírság és közigazgatási bírság | B33: B36 | C33: 27500 | E33: =SUM(C33:D33) -> 27500 | F33: 0 | H33: =SUM(F33:G33) -> 0 | I33: =SUM(F33+C33) -> 27500 | J33: =SUM(G33+D33) -> 0 | K33: =SUM(H33+E33) -> 27500
A34: 23, Egyéb bírság | B34: B36 | C34: 5000 | E34: =SUM(C34:D34) -> 5000 | F34: 200 | H34: =SUM(F34:G34) -> 200 | I34: =SUM(F34+C34) -> 5200 | J34: =SUM(G34+D34) -> 0 | K34: =SUM(H34+E34) -> 5200
A35: 24, Egyéb közhatalmi bevételek összesen (20+21+22+23): | B35: B36 | C35: =SUM(C31:C34) -> 92500 | D35: =SUM(D31:D34) -> 0 | E35: =SUM(E31:E34) -> 92500 | F35: =SUM(F31:F34) -> 200 | G35: =SUM(G31:G34) -> 0 | H35: =SUM(H31:H34) -> 200 | I35: =SUM(I31:I34) -> 92700 | J35: =SUM(J31:J34) -> 0 | K35: =SUM(K31:K34) -> 92700
A36: 25, Közhatalmi bevételek összesen (13+19+24): | B36: B3 | C36: =SUM(C24+C30+C35) -> 18387500 | D36: =SUM(D24+D30+D35) -> 0 | E36: =SUM(E24+E30+E35) -> 18387500 | F36: =SUM(F24+F30+F35) -> 200 | G36: =SUM(G24+G30+G35) -> 0 | H36: =SUM(H24+H30+H35) -> 200 | I36: =SUM(I24+I30+I35) -> 18387700 | J36: =SUM(J24+J30+J35) -> 0 | K36: =SUM(K24+K30+K35) -> 18387700
A37: 26, Működési bevételek | B37: B4 | C37: 3978827 | D37: 1292298 | E37: =SUM(C37:D37) -> 5271125 | F37: 1371086 | G37: 31995 | H37: =SUM(F37:G37) -> 1403081 | I37: =SUM(C37+F37) -> 5349913 | J37: =SUM(D37+G37) -> 1324293 | K37: =SUM(E37+H37) -> 6674206
A38: ~ ebből: Tulajdonosi bevételek | B38: B404 | C38: 393785 | E38: =SUM(C38:D38) -> 393785 | F38: 0 | H38: =SUM(F38:G38) -> 0 | I38: =SUM(C38+F38) -> 393785 | J38: =SUM(D38+G38) -> 0 | K38: =SUM(E38+H38) -> 393785
A39: Kiszámlázott általános forgalmi adó, és általános forgalmi adó visszatérítése | B39: B406-B407 | C39: 3046495 | D39: 324 | E39: =SUM(C39:D39) -> 3046819 | F39: 373319 | G39: 4136 | H39: =SUM(F39:G39) -> 377455 | I39: =SUM(C39+F39) -> 3419814 | J39: =SUM(D39+G39) -> 4460 | K39: =SUM(E39+H39) -> 3424274
A40: Kamatbevételek | B40: B408 | C40: 78000 | D40: 38000 | E40: =SUM(C40:D40) -> 116000 | F40: 0 | H40: =SUM(F40:G40) -> 0 | I40: =SUM(C40+F40) -> 78000 | J40: =SUM(D40+G40) -> 38000 | K40: =SUM(E40+H40) -> 116000
A41: 27, Ingatlanok értékesítése | B41: B52 | C41: 278800 | E41: =SUM(C41:D41) -> 278800 | F41: 0 | H41: =SUM(F41:G41) -> 0 | I41: =SUM(C41+F41) -> 278800 | J41: =SUM(D41+G41) -> 0 | K41: =SUM(E41+H41) -> 278800
A42: 27/a, Egyéb tárgyi eszközök értékesítése | B42: B53 | C42: 0 | D42: 1200 | E42: =SUM(C42:D42) -> 1200 | F42: 0 | H42: =SUM(F42:G42) -> 0 | I42: =SUM(C42+F42) -> 0 | J42: =SUM(D42+G42) -> 1200 | K42: =SUM(E42+H42) -> 1200
A43: 27/b, Részesedések értékesítése | B43: B54 | C43: 0 | D43: 2860 | E43: =SUM(C43:D43) -> 2860 | F43: 0 | H43: =SUM(F43:G43) -> 0 | I43: =SUM(C43+F43) -> 0 | J43: =SUM(D43+G43) -> 2860 | K43: =SUM(E43+H43) -> 2860
A44: 28, Felhalmozási bevételek összesen (27+27/a,+27/b,): | B44: B5 | C44: =SUM(C41:C43) -> 278800 | D44: =SUM(D41:D43) -> 4060 | E44: =SUM(E41:E43) -> 282860 | F44: =SUM(F41:F43) -> 0 | G44: =SUM(G41:G43) -> 0 | H44: =SUM(H41:H43) -> 0 | I44: =SUM(I41:I43) -> 278800 | J44: =SUM(J41:J43) -> 4060 | K44: =SUM(K41:K43) -> 282860
A45: 29, Működési célú átvett pénzeszközök | B45: B6 | C45: 413862 | D45: 7500 | E45: =SUM(C45:D45) -> 421362 | F45: 102000 | G45: 36451 | H45: =SUM(F45:G45) -> 138451 | I45: =SUM(C45+F45) -> 515862 | J45: =SUM(D45+G45) -> 43951 | K45: =SUM(E45+H45) -> 559813
A46: 30, Felhalmozási célú átvett pénzeszközök | B46: B7 | C46: 116387 | D46: 3988 | E46: =SUM(C46:D46) -> 120375 | F46: 0 | H46: =SUM(F46:G46) -> 0 | I46: =SUM(C46+F46) -> 116387 | J46: =SUM(D46+G46) -> 3988 | K46: =SUM(E46+H46) -> 120375
A47: 31, Működési költségvetési bevételek összesen (8+25+26+29): | C47: =SUM(C45+C37+C36+C19) -> 27331133 | D47: =SUM(D45+D37+D36+D19) -> 1485464 | E47: =SUM(E45+E37+E36+E19) -> 28816597 | F47: =SUM(F45+F37+F36+F19) -> 2579920 | G47: =SUM(G45+G37+G36+G19) -> 349518 | H47: =SUM(H45+H37+H36+H19) -> 2929438 | I47: =SUM(I45+I37+I36+I19) -> 29911053 | J47: =SUM(J45+J37+J36+J19) -> 1834982 | K47: =SUM(K45+K37+K36+K19) -> 31746035
A48: 32, Felhalmozási költségvetési bevételek összesen (11+28+30): | C48: =SUM(C22+C46+C44) -> 15182737 | D48: =SUM(D22+D46+D44) -> 624528 | E48: =SUM(E22+E46+E44) -> 15807265 | F48: =SUM(F22+F46+F44) -> 0 | G48: =SUM(G22+G46+G44) -> 0 | H48: =SUM(H22+H46+H44) -> 0 | I48: =SUM(I22+I46+I44) -> 15182737 | J48: =SUM(J22+J46+J44) -> 624528 | K48: =SUM(K22+K46+K44) -> 15807265
A49: 33, Költségvetési bevételek összesen (31+32): | B49: B1-7. | C49: =SUM(C47+C48) -> 42513870 | D49: =SUM(D47+D48) -> 2109992 | E49: =SUM(E47+E48) -> 44623862 | F49: =SUM(F47+F48) -> 2579920 | G49: =SUM(G47+G48) -> 349518 | H49: =SUM(H47+H48) -> 2929438 | I49: =SUM(I47+I48) -> 45093790 | J49: =SUM(J47+J48) -> 2459510 | K49: =SUM(K47+K48) -> 47553300
A51: I. Költségvetési egyenleg (1-2) az Áht. szerint | C51: =SUM(C52-C53) -> -16186202 | D51: =SUM(D52-D53) -> 320906 | E51: =SUM(E52-E53) -> -15865296 | F51: =SUM(F52-F53) -> -11372693 | G51: =SUM(G52-G53) -> -373059 | H51: =SUM(H52-H53) -> -11745752 | I51: =SUM(I52-I53) -> -27558895 | J51: =SUM(J52-J53) -> -52153 | K51: =SUM(K52-K53) -> -27611048
A52: 1. Költségvetési bevételek mindösszesen | B52: B1-7. | C52: =SUM(C49) -> 42513870 | D52: =SUM(D49) -> 2109992 | E52: =SUM(E49) -> 44623862 | F52: =SUM(F49) -> 2579920 | G52: =SUM(G49) -> 349518 | H52: =SUM(H49) -> 2929438 | I52: =SUM(I49) -> 45093790 | J52: =SUM(J49) -> 2459510 | K52: =SUM(K49) -> 47553300
A53: 2. Költségvetési kiadások mindösszesen | B53: K1-8. | C53: ='4 kiadás(szűkített)'!C22 -> 58700072 | D53: ='4 kiadás(szűkített)'!D22 -> 1789086 | E53: ='4 kiadás(szűkített)'!E22 -> 60489158 | F53: ='4 kiadás(szűkített)'!F22 -> 13952613 | G53: ='4 kiadás(szűkített)'!G22 -> 722577 | H53: ='4 kiadás(szűkített)'!H22 -> 14675190 | I53: =SUM(C53+F53) -> 72652685 | J53: =SUM(D53+G53) -> 2511663 | K53: =SUM(E53+H53) -> 75164348
A55: II. Finanszírozási egyenleg (8-9) | C55: =SUM(C61-C62) -> 16186202 | D55: =SUM(D61-D62) -> -320906 | E55: =SUM(E61-E62) -> 15865296 | F55: =SUM(F61-F62) -> 11372693 | G55: =SUM(G61-G62) -> 373059 | H55: =SUM(H61-H62) -> 11745752 | I55: =SUM(I61-I62) -> 27558895 | J55: =SUM(J61-J62) -> 52153 | K55: =SUM(K61-K62) -> 27611048
A56: 3. Előző évi működési célú költségvetési maradvány igénybevétele | C56: 2002703 | E56: =SUM(C56:D56) -> 2002703 | F56: 580031 | H56: =SUM(F56:G56) -> 580031 | I56: =SUM(C56)+F56 -> 2582734 | J56: =SUM(D56+G56) -> 0 | K56: =SUM(E56+H56) -> 2582734
A57: 4. Előző évi felhalmozási célú költségvetési maradvány igénybevétele | C57: 10814733 | E57: =SUM(C57:D57) -> 10814733 | F57: 0 | H57: =SUM(F57:G57) -> 0 | I57: =SUM(C57)+F57 -> 10814733 | J57: =SUM(D57+G57) -> 0 | K57: =SUM(E57+H57) -> 10814733
A58: 5. Maradvány igénybevétele (3+4) | B58: B813 | C58: =SUM(C56:C57) -> 12817436 | D58: =SUM(D56:D57) -> 0 | E58: =SUM(E56:E57) -> 12817436 | F58: =SUM(F56:F57) -> 580031 | G58: =SUM(G56:G57) -> 0 | H58: =SUM(H56:H57) -> 580031 | I58: =SUM(C58+F58) -> 13397467 | J58: =SUM(D58+G58) -> 0 | K58: =SUM(E58+H58) -> 13397467
A59: 6. Irányító szervi támogatás | B59: B816 | F59: 10792662 | G59: 373059 | H59: =SUM(F59:G59) -> 11165721 | I59: =SUM(C59+F59) -> 10792662 | J59: =SUM(D59+G59) -> 373059 | K59: =SUM(E59+H59) -> 11165721
A60: 7, Forgatási célú belföldi értékpapírok beváltása, értékesítése | B60: B8121 | C60: 28800000 | D60: 18350000 | E60: =SUM(C60:D60) -> 47150000 | I60: =SUM(C60+F60) -> 28800000 | J60: =SUM(D60+G60) -> 18350000 | K60: =SUM(E60+H60) -> 47150000
A61: 8. Finanszírozási bevételek összesen (5+6+7): | B61: B8 | C61: =SUM(C58+C59+C60) -> 41617436 | D61: =SUM(D58:D60) -> 18350000 | E61: =SUM(E58:E60) -> 59967436 | F61: =SUM(F58+F59) -> 11372693 | G61: =SUM(G58:G59) -> 373059 | H61: =SUM(H58:H59) -> 11745752 | I61: =SUM(I58+I59+I60) -> 52990129 | J61: =SUM(J58+J59+J60) -> 18723059 | K61: =SUM(K58+K59+K60) -> 71713188
A62: 9. Finanszírozási kiadások összesen: | B62: K9 | C62: ='4 kiadás(szűkített)'!C26 -> 25431234 | D62: ='4 kiadás(szűkített)'!D26 -> 18670906 | E62: ='4 kiadás(szűkített)'!E26 -> 44102140 | F62: ='4 kiadás(szűkített)'!F26 -> 0 | G62: ='4 kiadás(szűkített)'!G26 -> 0 | H62: ='4 kiadás(szűkített)'!H26 -> 0 | I62: =SUM(C62+F62) -> 25431234 | J62: =SUM(D62+G62) -> 18670906 | K62: =SUM(E62:H62) -> 44102140
A63: Egyenleg (I-II.) | C63: =SUM(C51+C55) -> 0 | D63: =SUM(D51+D55) -> 0 | E63: =SUM(E51+E55) -> 0 | F63: =SUM(F51+F55) -> 0 | G63: =SUM(G51+G55) -> 0 | H63: =SUM(H51+H55) -> 0 | I63: =SUM(I51+I55) -> 0 | J63: =SUM(J51+J55) -> 0 | K63: =SUM(K51+K55) -> 0

Sheet 4 kiadás(szűkített)
A1: Tájékoztató Székesfehérvár Megyei Jogú Város Önkormányzat és Költségvetési szervei
A2: összevont 2018. évi kiadásairól eFt-ban
A3: II. módosítás
A6: Megnevezés | B6: Rovat száma | C6: Székesfehérvár Megyei Jogú Város Önkormányzat | F6: Költségvetési szervek | I6: Összesen
C7: Módosított előirányzat | D7: Javasolt módosítás | E7: Új Módosított előirányzat | F7: Módosított előirányzat | G7: Javasolt módosítás | H7: Új Módosított előirányzat | I7: Módosított előirányzat | J7: Javasolt módosítás | K7: Új Módosított előirányzat
A8: a. | C8: b/1 | D8: b/2 | E8: b/3 | F8: c/1 | G8: c/2 | H8: c/3 | I8: d/1 | J8: d/2 | K8: d/3
A9: 1, Személyi juttatás | B9: K1 | C9: 478630 | D9: -6326 | E9: =SUM(C9:D9) -> 472304 | F9: 7315351 | G9: 211179 | H9: =SUM(F9:G9) -> 7526530 | I9: =SUM(C9+F9) -> 7793981 | J9: =SUM(D9+G9) -> 204853 | K9: =SUM(E9+H9) -> 7998834
A10: 2, Munkaadókat terhelő járulékok és szociális hozzájárulási adó | B10: K2 | C10: 114847 | D10: 618 | E10: =SUM(C10:D10) -> 115465 | F10: 1523397 | G10: 49644 | H10: =SUM(F10:G10) -> 1573041 | I10: =SUM(C10+F10) -> 1638244 | J10: =SUM(D10+G10) -> 50262 | K10: =SUM(E10+H10) -> 1688506
A11: 3, Dologi kiadás | B11: K3 | C11: 8202173 | D11: 616746 | E11: =SUM(C11:D11) -> 8818919 | F11: 4823474 | G11: 407281 | H11: =SUM(F11:G11) -> 5230755 | I11: =SUM(C11+F11) -> 13025647 | J11: =SUM(D11+G11) -> 1024027 | K11: =SUM(E11+H11) -> 14049674
A12: 4, Ellátottak pénzbeli juttatásai | B12: K4 | C12: 41014 | D12: 7645 | E12: =SUM(C12:D12) -> 48659 | F12: 10000 | G12: 63194 | H12: =SUM(F12:G12) -> 73194 | I12: =SUM(C12+F12) -> 51014 | J12: =SUM(D12+G12) -> 70839 | K12: =SUM(E12+H12) -> 121853
A13: 5, Egyéb működési célú kiadások | B13: K5 (K501-K512) | C13: 13701859 | D13: 300953 | E13: =SUM(C13:D13) -> 14002812 | F13: 0 | G13: 20 | H13: =SUM(F13:G13) -> 20 | I13: =SUM(C13+F13) -> 13701859 | J13: =SUM(D13+G13) -> 300973 | K13: =SUM(E13+H13) -> 14002832
A14: 6, Működési költségvetési kiadások összesen: | C14: =SUM(C9+C10+C11+C12+C13) -> 22538523 | D14: =SUM(D9+D10+D11+D12+D13) -> 919636 | E14: =SUM(E9+E10+E11+E12+E13) -> 23458159 | F14: =SUM(F9+F10+F11+F12+F13) -> 13672222 | G14: =SUM(G9+G10+G11+G12+G13) -> 731318 | H14: =SUM(H9+H10+H11+H12+H13) -> 14403540 | I14: =SUM(I9:I12,I13) -> 36210745 | J14: =SUM(J9:J12,J13) -> 1650954 | K14: =SUM(K9:K12,K13) -> 37861699
A15: 7, Beruházások | B15: K6 | C15: 28461078 | D15: 521082 | E15: =SUM(C15:D15) -> 28982160 | F15: 253087 | G15: -8380 | H15: =SUM(F15:G15) -> 244707 | I15: =SUM(C15+F15) -> 28714165 | J15: =SUM(D15+G15) -> 512702 | K15: =SUM(E15+H15) -> 29226867
A16: 8, Felújítások | B16: K7 | C16: 4530947 | D16: -521602 | E16: =SUM(C16:D16) -> 4009345 | F16: 27304 | G16: -361 | H16: =SUM(F16:G16) -> 26943 | I16: =SUM(C16+F16) -> 4558251 | J16: =SUM(D16+G16) -> -521963 | K16: =SUM(E16+H16) -> 4036288
A17: 9, Egyéb felhalmozási célú kiadások | B17: K8 | C17: 974097 | D17: 364588 | E17: =SUM(C17:D17) -> 1338685 | F17: 0 | G17: 0 | H17: =SUM(F17:G17) -> 0 | I17: =SUM(C17+F17) -> 974097 | J17: =SUM(D17+G17) -> 364588 | K17: =SUM(E17+H17) -> 1338685
A18: 10, Felhalmozási költségvetési kiadások összesen: | C18: =SUM(C15:C17) -> 33966122 | D18: =SUM(D15:D17) -> 364068 | E18: =SUM(E15:E17) -> 34330190 | F18: =SUM(F15:F17) -> 280391 | G18: =SUM(G15:G17) -> -8741 | H18: =SUM(H15:H17) -> 271650 | I18: =SUM(I15:I17) -> 34246513 | J18: =SUM(J15:J17) -> 355327 | K18: =SUM(K15:K17) -> 34601840
A19: 11, Általános tartalék | C19: 109885 | D19: -36597 | E19: =SUM(C19:D19) -> 73288 | F19: 0 | G19: 0 | H19: =SUM(F19:G19) -> 0 | I19: =SUM(C19+F19) -> 109885 | J19: =SUM(D19+G19) -> -36597 | K19: =SUM(E19+H19) -> 73288
A20: 12, Céltartalék | C20: 2085542 | D20: 541979 | E20: =SUM(C20:D20) -> 2627521 | F20: 0 | G20: 0 | H20: =SUM(F20:G20) -> 0 | I20: =SUM(C20+F20) -> 2085542 | J20: =SUM(D20+G20) -> 541979 | K20: =SUM(E20+H20) -> 2627521
A21: 13, Tartalékok összesen: | B21: K5 (K513) | C21: =SUM(C19:C20) -> 2195427 | D21: =SUM(D19:D20) -> 505382 | E21: =SUM(E19:E20) -> 2700809 | F21: =SUM(F19:F20) -> 0 | G21: =SUM(G19:G20) -> 0 | H21: =SUM(H19:H20) -> 0 | I21: =SUM(I19:I20) -> 2195427 | J21: =SUM(J19:J20) -> 505382 | K21: =SUM(K19:K20) -> 2700809
A22: 14,Költségvetési kiadások összesen: | B22: (K1-8.) | C22: =+C21+C18+C14 -> 58700072 | D22: =+D21+D18+D14 -> 1789086 | E22: =+E21+E18+E14 -> 60489158 | F22: =+F21+F18+F14 -> 13952613 | G22: =+G21+G18+G14 -> 722577 | H22: =+H21+H18+H14 -> 14675190 | I22: =+I21+I18+I14 -> 72652685 | J22: =+J21+J18+J14 -> 2511663 | K22: =+K21+K18+K14 -> 75164348
A23: 15, Forgatási célú belföldi értékpapírok vásárlása | B23: K9121 | C23: 14500000 | D23: =18350000-44508 -> 18305492 | E23: =SUM(C23:D23) -> 32805492 | H23: =SUM(F23:G23) -> 0 | I23: =SUM(C23+F23) -> 14500000 | J23: =SUM(D23+G23) -> 18305492 | K23: =SUM(E23+H23) -> 32805492
A24: 16, Államháztartáson belüli megelőlegezések visszafizetése | B24: K914 | C24: 138572 | D24: -7645 | E24: =SUM(C24:D24) -> 130927 | I24: =SUM(C24+F24) -> 138572 | J24: =SUM(D24+G24) -> -7645 | K24: =SUM(E24:H24) -> 130927
A25: 17, Irányító szervi támogatás folyósítása | B25: K915 | C25: 10792662 | D25: 373059 | E25: =SUM(C25:D25) -> 11165721 | I25: =SUM(C25+F25) -> 10792662 | J25: =SUM(D25+G25) -> 373059 | K25: =SUM(E25:H25) -> 11165721
A26: 18, Finanszírozási kiadások összesen: | B26: K9 | C26: =SUM(C23:C25) -> 25431234 | D26: =SUM(D23:D25) -> 18670906 | E26: =SUM(E23:E25) -> 44102140 | F26: =SUM(F23:F24) -> 0 | G26: =SUM(G23:G24) -> 0 | H26: =SUM(H23:H24) -> 0 | I26: =SUM(I23:I25) -> 25431234 | J26: =SUM(J23:J25) -> 18670906 | K26: =SUM(K23:K25) -> 44102140
A27: Álláshely | F27: 1890.68 | G27: 31.75 | H27: =SUM(F27:G27) -> 1922.43 | I27: =F27 -> 1890.68 | J27: =G27 -> 31.75 | K27: =H27 -> 1922.43

Sheet 5 egyenleg
A1: Székesfehérvár Megyei Jogú Város Önkormányzat és Költségvetési szervei
A2: összevont 2018. évi bevételi és kiadási egyenlege eFt-ban
A3: II. módosítás
A6: Megnevezés | B6: Rovat száma | C6: Összesen
A7: I. Költségvetési bevételek | B7: (B1-B7) | C7: ='3 bevétel(szűkített)'!K52 -> 47553300
A8: 1. Maradvány igénybevétele | C8: ='3 bevétel(szűkített)'!K58 -> 13397467
A9: 2. Irányító szervi támogatás | C9: ='3 bevétel(szűkített)'!K59 -> 11165721
A10: 3. Forgatási célú belföldi értékpapírok beváltása, értékesítése | C10: ='3 bevétel(szűkített)'!K60 -> 47150000
A11: II. Finanszírozási bevételek összesen (1+2+3) | B11: B8 | C11: =SUM(C8:C10) -> 71713188
A13: III. Költségvetési kiadások | B13: (K1-K8) | C13: ='4 kiadás(szűkített)'!K22 -> 75164348
A14: 1, Forgatási célú belföldi értékpapírok vásárlása | C14: ='4 kiadás(szűkített)'!K23 -> 32805492
A15: 2, Államháztartáson belüli megelőlegezések visszafizetése | C15: ='4 kiadás(szűkített)'!K24 -> 130927
A16: 3, Irányító szervi támogatás folyósítása | C16: ='4 kiadás(szűkített)'!K25 -> 11165721
A17: IV. Finanszírozási kiadások összesen (1+2+3) | B17: K9 | C17: =SUM(C14+C15+C16) -> 44102140
A19: V. Költségvetési egyenleg I-III. | C19: =SUM(C7-C13) -> -27611048
A20: VI. Finanszírozási egyenleg II-IV. | C20: =SUM(C11-C17) -> 27611048
A21: VII. Egyenleg V-VI. | C21: =SUM(C19+C20) -> 0

Sheet 7int.bevétel
A1: cím | B1: KÖLTSÉGVETÉSI SZERVEK | C1: Működési célú támogatások államháztartáson belülről | D1: Felhalmozási célú támogatások államháztartáson belülről | E1: Közhatalmi bevételek | F1: Működési bevételek | G1: Felhalmozási bevételek | H1: Működési célú átvett pénzeszközök | I1: Felhalmozási célú átvett pénzeszközök | J1: Működési költségvetési bevételek összesen | K1: Felhalmozási költségvetési bevételek összesen | L1: Költségvetési bevételek összesen | M1: Finanszírozási bevételek | O1: Bevételek összesen
M2: Önkormányzati támogatás | N2: Maradvány igénybevétele
C3: B1 | D3: B2 | E3: B3 | F3: B4 | G3: B5 | H3: B6 | I3: B7 | J3: (B1+B3+B4+B6) | K3: (B2+B5+B7) | L3: (B1-7.) | M3: B8 | O3: (B1-8.)
B4: b. | C4: c. | D4: d. | E4: e. | F4: f. | G4: g. | H4: h. | I4: i. | J4: j.=c.+e +f.+h. | K4: k.=d.+g.+i. | L4: l.=j.+k. | M4: m. | O4: n.=l.+m.
A5: 1. | B5: Humán Szolgáltató Intézet
B6: Módosított előirányzat | C6: 403860 | F6: 1902 | J6: =SUM(C6+E6+F6+H6) -> 405762 | K6: =SUM(D6+G6+I6) -> 0 | L6: =SUM(J6:K6) -> 405762 | M6: 271154 | N6: 90634 | O6: =SUM(L6:N6) -> 767550
B7: ~ ebből:Kötelező feladate.i. | C7: 306930 | F7: 1427 | J7: =SUM(C7+E7+F7+H7) -> 308357 | K7: =SUM(D7+G7+I7) -> 0 | L7: =SUM(J7:K7) -> 308357 | M7: 201983 | N7: 90634 | O7: =SUM(L7:N7) -> 600974
B8: Önként vállalt feladat e.i. | C8: 96930 | F8: 475 | J8: =SUM(C8+E8+F8+H8) -> 97405 | K8: =SUM(D8+G8+I8) -> 0 | L8: =SUM(J8:K8) -> 97405 | M8: 69171 | O8: =SUM(L8:N8) -> 166576
B9: Kötelező feladat
B10: ~ Bérkompenzáció (IV., V., VI., VII.,VIII. havi) | J10: =SUM(C10+E10+F10+H10) -> 0 | K10: =SUM(D10+G10+I10) -> 0 | L10: =SUM(J10:K10) -> 0 | M10: 3364 | O10: =SUM(L10:N10) -> 3364
B11: ~ Jogszabályból fakadó személyi jellegű többletkifizetések | J11: =SUM(C11+E11+F11+H11) -> 0 | K11: =SUM(D11+G11+I11) -> 0 | L11: =SUM(J11:K11) -> 0 | M11: 5789 | O11: =SUM(L11:N11) -> 5789
B12: ~ Gazdasági dolgozók kereset-kiegészítése 2018. 03.01-2018. 12.31. közötti időszakra a 71/2018. (II.8.) sz. kgy határozat alapján. | J12: =SUM(C12+E12+F12+H12) -> 0 | K12: =SUM(D12+G12+I12) -> 0 | L12: =SUM(J12:K12) -> 0 | M12: 239 | O12: =SUM(L12:N12) -> 239
B13: ~ Főösszeget érintő saját hatáskörű átcsoportosítás | F13: 18403 | J13: =SUM(C13+E13+F13+H13) -> 18403 | K13: =SUM(D13+G13+I13) -> 0 | L13: =SUM(J13:K13) -> 18403 | M13: -30695 | O13: =SUM(L13:N13) -> -12292
B14: Önként vállalt feladat
B15: ~ 3. sz. házi gyermekorvosi körzet, valamint a 21. sz. háziorvosi körzet támogatása. Prevenciós tevékenységekre és működési költségekere. (Kégl György Program - Egészségügyi feladatellátás) | J15: =SUM(C15+E15+F15+H15) -> 0 | K15: =SUM(D15+G15+I15) -> 0 | L15: =SUM(J15:K15) -> 0 | M15: 400 | O15: =SUM(L15:N15) -> 400
B16: ~ 3. sz. és 7. sz. iskolafogászati körzet támogatása. Prevenciós tevékenységekre és működési költségekre. (Kégl György Program - Egészségügyi feladatellátás) | J16: =SUM(C16+E16+F16+H16) -> 0 | K16: =SUM(D16+G16+I16) -> 0 | L16: =SUM(J16:K16) -> 0 | M16: 200 | O16: =SUM(L16:N16) -> 200
B17: ~ Kafetéria (IV., V., VI., VII. havi) | J17: =SUM(C17+E17+F17+H17) -> 0 | K17: =SUM(D17+G17+I17) -> 0 | L17: =SUM(J17:K17) -> 0 | M17: 5464 | O17: =SUM(L17:N17) -> 5464
B18: ~ Berényi utcai rendelő eszközbeszerzéseire és a Köfém rendelő berendezéseinek beszerzéséhez a 268/2017. (IV.7.) kgy határozat alapján. | J18: =SUM(C18+E18+F18+H18) -> 0 | K18: =SUM(D18+G18+I18) -> 0 | L18: =SUM(J18:K18) -> 0 | M18: 11038 | O18: =SUM(L18:N18) -> 11038
B19: összesen: | C19: =+C6+C10+C15+C16+C11+C12+C13+C17+C18 -> 403860 | D19: =+D6+D10+D15+D16+D11+D12+D13+D17+D18 -> 0 | E19: =+E6+E10+E15+E16+E11+E12+E13+E17+E18 -> 0 | F19: =+F6+F10+F15+F16+F11+F12+F13+F17+F18 -> 20305 | G19: =+G6+G10+G15+G16+G11+G12+G13+G17+G18 -> 0 | H19: =+H6+H10+H15+H16+H11+H12+H13+H17+H18 -> 0 | I19: =+I6+I10+I15+I16+I11+I12+I13+I17+I18 -> 0 | J19: =+J6+J10+J15+J16+J11+J12+J13+J17+J18 -> 424165 | ... O19: =+O6+O10+O15+O16+O11+O12+O13+O17+O18 -> 781752 | P19: =O20+O21 -> 781752
B20: Ebből: Kötelező feladat összesen | C20: =+C7+C10+C11+C12+C13 -> 306930 | D20: =+D7+D10+D11+D12+D13 -> 0 | E20: =+E7+E10+E11+E12+E13 -> 0 | F20: =+F7+F10+F11+F12+F13 -> 19830 | G20: =+G7+G10+G11+G12+G13 -> 0 | H20: =+H7+H10+H11+H12+H13 -> 0 | I20: =+I7+I10+I11+I12+I13 -> 0 | J20: =+J7+J10+J11+J12+J13 -> 326760 | ... O20: =+O7+O10+O11+O12+O13 -> 598074
B21: Önként vállalt feladat összesen | C21: =+C8+C15+C16+C17+C18 -> 96930 | D21: =+D8+D15+D16+D17+D18 -> 0 | E21: =+E8+E15+E16+E17+E18 -> 0 | F21: =+F8+F15+F16+F17+F18 -> 475 | G21: =+G8+G15+G16+G17+G18 -> 0 | H21: =+H8+H15+H16+H17+H18 -> 0 | I21: =+I8+I15+I16+I17+I18 -> 0 | J21: =+J8+J15+J16+J17+J18 -> 97405 | ... O21: =+O8+O15+O16+O17+O18 -> 183678
A22: 2. | B22: Frim Jakab Képességfejlesztő Szakosított Otthon
B23: Módosított előirányzat | C23: 7387 | F23: 12883 | J23: =SUM(C23+E23+F23+H23) -> 20270 | K23: =SUM(D23+G23+I23) -> 0 | L23: =SUM(J23:K23) -> 20270 | M23: 117612 | N23: 420 | O23: =SUM(L23:N23) -> 138302
B24: ~ ebből:Kötelező feladate.i. | C24: 7387 | F24: 5153 | J24: =SUM(C24+E24+F24+H24) -> 12540 | K24: =SUM(D24+G24+I24) -> 0 | L24: =SUM(J24:K24) -> 12540 | M24: 48169 | N24: 420 | O24: =SUM(L24:N24) -> 61129
B25: Önként vállalt feladat e.i. | F25: 7730 | J25: =SUM(C25+E25+F25+H25) -> 7730 | K25: =SUM(D25+G25+I25) -> 0 | L25: =SUM(J25:K25) -> 7730 | M25: 69443 | O25: =SUM(L25:N25) -> 77173
B26: Kötlező feladat
B27: ~ Bérkompenzáció (IV., V., VI., VII.,VIII. havi) | J27: =SUM(C27+E27+F27+H27) -> 0 | K27: =SUM(D27+G27+I27) -> 0 | L27: =SUM(J27:K27) -> 0 | M27: 438 | O27: =SUM(L27:N27) -> 438
B28: ~ A szociális ágazatban dolgozók részére kifizetésre kerülő összevont ágazati pótlék (IV., V., VI., VII. havi) | J28: =SUM(C28+E28+F28+H28) -> 0 | K28: =SUM(D28+G28+I28) -> 0 | L28: =SUM(J28:K28) -> 0 | M28: 5215 | O28: =SUM(L28:N28) -> 5215
B29: ~ Fel nem használt üres álláshely bérkülönbözet visszavonás | J29: =SUM(C29+E29+F29+H29) -> 0 | K29: =SUM(D29+G29+I29) -> 0 | L29: =SUM(J29:K29) -> 0 | M29: -1009 | O29: =SUM(L29:N29) -> -1009
B30: Önként vállalt feladat
B31: ~ Kafetéria (IV., V., VI., VII. havi) | J31: =SUM(C31+E31+F31+H31) -> 0 | K31: =SUM(D31+G31+I31) -> 0 | L31: =SUM(J31:K31) -> 0 | M31: 1188 | O31: =SUM(L31:N31) -> 1188
B32: összesen: | C32: =+C23+C27+C31+C28+C29 -> 7387 | D32: =+D23+D27+D31+D28+D29 -> 0 | E32: =+E23+E27+E31+E28+E29 -> 0 | F32: =+F23+F27+F31+F28+F29 -> 12883 | G32: =+G23+G27+G31+G28+G29 -> 0 | H32: =+H23+H27+H31+H28+H29 -> 0 | I32: =+I23+I27+I31+I28+I29 -> 0 | J32: =+J23+J27+J31+J28+J29 -> 20270 | ... O32: =+O23+O27+O31+O28+O29 -> 144134 | P32: =O33+O34 -> 144134
B33: Ebből: Kötelező feladat összesen | C33: =+C24+C27+C28+C29 -> 7387 | D33: =+D24+D27+D28+D29 -> 0 | E33: =+E24+E27+E28+E29 -> 0 | F33: =+F24+F27+F28+F29 -> 5153 | G33: =+G24+G27+G28+G29 -> 0 | H33: =+H24+H27+H28+H29 -> 0 | I33: =+I24+I27+I28+I29 -> 0 | J33: =+J24+J27+J28+J29 -> 12540 | ... O33: =+O24+O27+O28+O29 -> 65773
B34: Önként vállalt feladat összesen | C34: =+C25+C31 -> 0 | D34: =+D25+D31 -> 0 | E34: =+E25+E31 -> 0 | F34: =+F25+F31 -> 7730 | G34: =+G25+G31 -> 0 | H34: =+H25+H31 -> 0 | I34: =+I25+I31 -> 0 | J34: =+J25+J31 -> 7730 | ... O34: =+O25+O31 -> 78361
B35: Eü. Ellátás összesen | C35: =SUM(C19+C32) -> 411247 | D35: =SUM(D19+D32) -> 0 | E35: =SUM(E19+E32) -> 0 | F35: =SUM(F19+F32) -> 33188 | G35: =SUM(G19+G32) -> 0 | H35: =SUM(H19+H32) -> 0 | I35: =SUM(I19+I32) -> 0 | J35: =SUM(J19+J32) -> 444435 | ... O35: =SUM(O19+O32) -> 925886
A36: 3. | B36: Százszorszép Bölcsőde
B37: Módosított előirányzat | C37: 5075 | F37: 1594 | J37: =SUM(C37+E37+F37+H37) -> 6669 | K37: =SUM(D37+G37+I37) -> 0 | L37: =SUM(J37:K37) -> 6669 | M37: 85175 | N37: 299 | O37: =SUM(L37:N37) -> 92143
B38: ~ ebből:Kötelező feladate.i. | C38: 5075 | F38: 1594 | J38: =SUM(C38+E38+F38+H38) -> 6669 | K38: =SUM(D38+G38+I38) -> 0 | L38: =SUM(J38:K38) -> 6669 | M38: 84271 | N38: 299 | O38: =SUM(L38:N38) -> 91239
B39: Önként vállalt feladat e.i. | J39: =SUM(C39+E39+F39+H39) -> 0 | K39: =SUM(D39+G39+I39) -> 0 | L39: =SUM(J39:K39) -> 0 | M39: 904 | O39: =SUM(L39:N39) -> 904
B40: Kötelező feladat
B41: ~ Bérkompenzáció (IV., V., VI., VII.,VIII. havi) | J41: =SUM(C41+E41+F41+H41) -> 0 | K41: =SUM(D41+G41+I41) -> 0 | L41: =SUM(J41:K41) -> 0 | M41: 119 | O41: =SUM(L41:N41) -> 119
B42: ~ A szociális ágazatban dolgozók részére kifizetésre kerülő összevont ágazati pótlék (IV., V., VI., VII. havi) | J42: =SUM(C42+E42+F42+H42) -> 0 | K42: =SUM(D42+G42+I42) -> 0 | L42: =SUM(J42:K42) -> 0 | M42: 473 | O42: =SUM(L42:N42) -> 473
B43: ~ Főösszeget érintő saját hatáskörű átcsoportosítás | J43: =SUM(C43+E43+F43+H43) -> 0 | K43: =SUM(D43+G43+I43) -> 0 | L43: =SUM(J43:K43) -> 0 | M43: 78 | O43: =SUM(L43:N43) -> 78
B44: Önként vállat feladat
B45: ~ Kafetéria (IV., V., VI., VII. havi) | J45: =SUM(C45+E45+F45+H45) -> 0 | K45: =SUM(D45+G45+I45) -> 0 | L45: =SUM(J45:K45) -> 0 | M45: 1175 | O45: =SUM(L45:N45) -> 1175
B46: összesen: | C46: =+C37+C41+C45+C42+C43 -> 5075 | D46: =+D37+D41+D45+D42+D43 -> 0 | E46: =+E37+E41+E45+E42+E43 -> 0 | F46: =+F37+F41+F45+F42+F43 -> 1594 | G46: =+G37+G41+G45+G42+G43 -> 0 | H46: =+H37+H41+H45+H42+H43 -> 0 | I46: =+I37+I41+I45+I42+I43 -> 0 | J46: =+J37+J41+J45+J42+J43 -> 6669 | ... O46: =+O37+O41+O45+O42+O43 -> 93988 | P46: =O47+O48 -> 93988
B47: Ebből: Kötelező feladat összesen | C47: =+C38+C41+C42+C43 -> 5075 | D47: =+D38+D41+D42+D43 -> 0 | E47: =+E38+E41+E42+E43 -> 0 | F47: =+F38+F41+F42+F43 -> 1594 | G47: =+G38+G41+G42+G43 -> 0 | H47: =+H38+H41+H42+H43 -> 0 | I47: =+I38+I41+I42+I43 -> 0 | J47: =+J38+J41+J42+J43 -> 6669 | ... O47: =+O38+O41+O42+O43 -> 91909
B48: Önként vállalt feladat összesen | C48: =+C39+C45 -> 0 | D48: =+D39+D45 -> 0 | E48: =+E39+E45 -> 0 | F48: =+F39+F45 -> 0 | G48: =+G39+G45 -> 0 | H48: =+H39+H45 -> 0 | I48: =+I39+I45 -> 0 | J48: =+J39+J45 -> 0 | ... O48: =+O39+O45 -> 2079
A49: 4. | B49: 3.sz.Bölcsőde
B50: Módosított előirányzat | C50: 6664 | F50: 1231 | J50: =SUM(C50+E50+F50+H50) -> 7895 | K50: =SUM(D50+G50+I50) -> 0 | L50: =SUM(J50:K50) -> 7895 | M50: 92435 | N50: 144 | O50: =SUM(L50:N50) -> 100474
B51: ~ ebből:Kötelező feladate.i. | C51: 6664 | F51: 1231 | J51: =SUM(C51+E51+F51+H51) -> 7895 | K51: =SUM(D51+G51+I51) -> 0 | L51: =SUM(J51:K51) -> 7895 | M51: 91485 | N51: 144 | O51: =SUM(L51:N51) -> 99524
B52: Önként vállalt feladat e.i. | J52: =SUM(C52+E52+F52+H52) -> 0 | K52: =SUM(D52+G52+I52) -> 0 | L52: =SUM(J52:K52) -> 0 | M52: 950 | O52: =SUM(L52:N52) -> 950
B53: Kötelező feladat
B54: ~ Bérkompenzáció (IV., V., VI., VII.,VIII. havi) | J54: =SUM(C54+E54+F54+H54) -> 0 | K54: =SUM(D54+G54+I54) -> 0 | L54: =SUM(J54:K54) -> 0 | M54: 361 | O54: =SUM(L54:N54) -> 361
B55: ~ A szociális ágazatban dolgozók részére kifizetésre kerülő összevont ágazati pótlék (IV., V., VI., VII. havi) | J55: =SUM(C55+E55+F55+H55) -> 0 | K55: =SUM(D55+G55+I55) -> 0 | L55: =SUM(J55:K55) -> 0 | M55: 622 | O55: =SUM(L55:N55) -> 622
B56: ~ Jogszabályból fakadó személyi jellegű többletkifizetések | J56: =SUM(C56+E56+F56+H56) -> 0 | K56: =SUM(D56+G56+I56) -> 0 | L56: =SUM(J56:K56) -> 0 | M56: 695 | O56: =SUM(L56:N56) -> 695
B57: Önként vállalt feladat
B58: ~ Kafetéria (IV., V., VI., VII. havi) | J58: =SUM(C58+E58+F58+H58) -> 0 | K58: =SUM(D58+G58+I58) -> 0 | L58: =SUM(J58:K58) -> 0 | M58: 1105 | O58: =SUM(L58:N58) -> 1105
B59: összesen: | C59: =+C50+C54+C58+C55+C56 -> 6664 | D59: =+D50+D54+D58+D55+D56 -> 0 | E59: =+E50+E54+E58+E55+E56 -> 0 | F59: =+F50+F54+F58+F55+F56 -> 1231 | G59: =+G50+G54+G58+G55+G56 -> 0 | H59: =+H50+H54+H58+H55+H56 -> 0 | I59: =+I50+I54+I58+I55+I56 -> 0 | J59: =+J50+J54+J58+J55+J56 -> 7895 | ... O59: =+O50+O54+O58+O55+O56 -> 103257 | P59: =O60+O61 -> 103257
B60: Ebből: Kötelező feladat összesen | C60: =+C51+C54+C55+C56 -> 6664 | D60: =+D51+D54+D55+D56 -> 0 | E60: =+E51+E54+E55+E56 -> 0 | F60: =+F51+F54+F55+F56 -> 1231 | G60: =+G51+G54+G55+G56 -> 0 | H60: =+H51+H54+H55+H56 -> 0 | I60: =+I51+I54+I55+I56 -> 0 | J60: =+J51+J54+J55+J56 -> 7895 | ... O60: =+O51+O54+O55+O56 -> 101202
B61: Önként vállalt feladat összesen | C61: =+C52+C58 -> 0 | D61: =+D52+D58 -> 0 | E61: =+E52+E58 -> 0 | F61: =+F52+F58 -> 0 | G61: =+G52+G58 -> 0 | H61: =+H52+H58 -> 0 | I61: =+I52+I58 -> 0 | J61: =+J52+J58 -> 0 | ... O61: =+O52+O58 -> 2055
A62: 5. | B62: Napraforgó Bölcsőde
B63: Módosított előirányzat | C63: 5772 | F63: 1902 | J63: =SUM(C63+E63+F63+H63) -> 7674 | K63: =SUM(D63+G63+I63) -> 0 | L63: =SUM(J63:K63) -> 7674 | M63: 85249 | N63: 272 | O63: =SUM(L63:N63) -> 93195
B64: ~ ebből:Kötelező feladate.i. | C64: 5772 | F64: 1902 | J64: =SUM(C64+E64+F64+H64) -> 7674 | K64: =SUM(D64+G64+I64) -> 0 | L64: =SUM(J64:K64) -> 7674 | M64: 84245 | N64: 272 | O64: =SUM(L64:N64) -> 92191
B65: Önként vállalt feladat e.i. | J65: =SUM(C65+E65+F65+H65) -> 0 | K65: =SUM(D65+G65+I65) -> 0 | L65: =SUM(J65:K65) -> 0 | M65: 1004 | O65: =SUM(L65:N65) -> 1004
B66: Kötelező feladat
B67: ~ Bérkompenzáció (IV., V., VI., VII.,VIII. havi) | J67: =SUM(C67+E67+F67+H67) -> 0 | K67: =SUM(D67+G67+I67) -> 0 | L67: =SUM(J67:K67) -> 0 | M67: 232 | O67: =SUM(L67:N67) -> 232
B68: ~ A szociális ágazatban dolgozók részére kifizetésre kerülő összevont ágazati pótlék (IV., V., VI., VII. havi) | J68: =SUM(C68+E68+F68+H68) -> 0 | K68: =SUM(D68+G68+I68) -> 0 | L68: =SUM(J68:K68) -> 0 | M68: 621 | O68: =SUM(L68:N68) -> 621
B69: ~ Jogszabályból fakadó személyi jellegű többletkifizetések | J69: =SUM(C69+E69+F69+H69) -> 0 | K69: =SUM(D69+G69+I69) -> 0 | L69: =SUM(J69:K69) -> 0 | M69: 75 | O69: =SUM(L69:N69) -> 75
B70: Önként vállalt feladat
B71: ~ 2018. évben megvalósításra kerülő programokhoz és tárgyi eszköz beszerzéshez kapcsolódó személyi és dologi költségekhez (Képviselői Alap) | J71: =SUM(C71+E71+F71+H71) -> 0 | K71: =SUM(D71+G71+I71) -> 0 | L71: =SUM(J71:K71) -> 0 | M71: 60 | O71: =SUM(L71:N71) -> 60
B72: ~ Kafetéria (IV., V., VI., VII. havi) | J72: =SUM(C72+E72+F72+H72) -> 0 | K72: =SUM(D72+G72+I72) -> 0 | L72: =SUM(J72:K72) -> 0 | M72: 1118 | O72: =SUM(L72:N72) -> 1118
B73: összesen: | C73: =+C63+C67+C71+C68+C69+C72 -> 5772 | D73: =+D63+D67+D71+D68+D69+D72 -> 0 | E73: =+E63+E67+E71+E68+E69+E72 -> 0 | F73: =+F63+F67+F71+F68+F69+F72 -> 1902 | G73: =+G63+G67+G71+G68+G69+G72 -> 0 | H73: =+H63+H67+H71+H68+H69+H72 -> 0 | I73: =+I63+I67+I71+I68+I69+I72 -> 0 | J73: =+J63+J67+J71+J68+J69+J72 -> 7674 | ... O73: =+O63+O67+O71+O68+O69+O72 -> 95301 | P73: =O74+O75 -> 95301
B74: Ebből: Kötelező feladat összesen | C74: =+C64+C67+C68+C69 -> 5772 | D74: =+D64+D67+D68+D69 -> 0 | E74: =+E64+E67+E68+E69 -> 0 | F74: =+F64+F67+F68+F69 -> 1902 | G74: =+G64+G67+G68+G69 -> 0 | H74: =+H64+H67+H68+H69 -> 0 | I74: =+I64+I67+I68+I69 -> 0 | J74: =+J64+J67+J68+J69 -> 7674 | ... O74: =+O64+O67+O68+O69 -> 93119
B75: Önként vállalt feladat összesen | C75: =+C65+C71+C72 -> 0 | D75: =+D65+D71+D72 -> 0 | E75: =+E65+E71+E72 -> 0 | F75: =+F65+F71+F72 -> 0 | G75: =+G65+G71+G72 -> 0 | H75: =+H65+H71+H72 -> 0 | I75: =+I65+I71+I72 -> 0 | J75: =+J65+J71+J72 -> 0 | ... O75: =+O65+O71+O72 -> 2182
A76: 6. | B76: Nyitnikék Bölcsőde
B77: Módosított előirányzat | C77: 3332 | F77: 472 | J77: =SUM(C77+E77+F77+H77) -> 3804 | K77: =SUM(D77+G77+I77) -> 0 | L77: =SUM(J77:K77) -> 3804 | M77: 49732 | N77: 217 | O77: =SUM(L77:N77) -> 53753
B78: ~ ebből:Kötelező feladate.i. | C78: 3332 | F78: 472 | J78: =SUM(C78+E78+F78+H78) -> 3804 | K78: =SUM(D78+G78+I78) -> 0 | L78: =SUM(J78:K78) -> 3804 | M78: 49209 | N78: 217 | O78: =SUM(L78:N78) -> 53230
B79: Önként vállalt feladat e.i. | J79: =SUM(C79+E79+F79+H79) -> 0 | K79: =SUM(D79+G79+I79) -> 0 | L79: =SUM(J79:K79) -> 0 | M79: 523 | O79: =SUM(L79:N79) -> 523
B80: Kötelező feladat
B81: ~ Bérkompenzáció (IV., V., VI., VII.,VIII.havi) | J81: =SUM(C81+E81+F81+H81) -> 0 | K81: =SUM(D81+G81+I81) -> 0 | L81: =SUM(J81:K81) -> 0 | M81: 139 | O81: =SUM(L81:N81) -> 139
B82: ~ A szociális ágazatban dolgozók részére kifizetésre kerülő összevont ágazati pótlék (IV., V., VI., VII. havi) | J82: =SUM(C82+E82+F82+H82) -> 0 | K82: =SUM(D82+G82+I82) -> 0 | L82: =SUM(J82:K82) -> 0 | M82: 435 | O82: =SUM(L82:N82) -> 435
B83: ~ Munkahelyi balesettel összefüggésben felmerült egészségébiztosítási ellátások megfizetése | J83: =SUM(C83+E83+F83+H83) -> 0 | K83: =SUM(D83+G83+I83) -> 0 | L83: =SUM(J83:K83) -> 0 | M83: 639 | O83: =SUM(L83:N83) -> 639
B84: Önként vállalt feladat
B85: ~ Kafetéria (IV., V., VI., VII. havi) | J85: =SUM(C85+E85+F85+H85) -> 0 | K85: =SUM(D85+G85+I85) -> 0 | L85: =SUM(J85:K85) -> 0 | M85: 625 | O85: =SUM(L85:N85) -> 625
B86: összesen: | C86: =+C77+C81+C85+C82+C83 -> 3332 | D86: =+D77+D81+D85+D82+D83 -> 0 | E86: =+E77+E81+E85+E82+E83 -> 0 | F86: =+F77+F81+F85+F82+F83 -> 472 | G86: =+G77+G81+G85+G82+G83 -> 0 | H86: =+H77+H81+H85+H82+H83 -> 0 | I86: =+I77+I81+I85+I82+I83 -> 0 | J86: =+J77+J81+J85+J82+J83 -> 3804 | ... O86: =+O77+O81+O85+O82+O83 -> 55591 | P86: =O87+O88 -> 55591
B87: Ebből: Kötelező feladat összesen | C87: =+C78+C81+C82+C83 -> 3332 | D87: =+D78+D81+D82+D83 -> 0 | E87: =+E78+E81+E82+E83 -> 0 | F87: =+F78+F81+F82+F83 -> 472 | G87: =+G78+G81+G82+G83 -> 0 | H87: =+H78+H81+H82+H83 -> 0 | I87: =+I78+I81+I82+I83 -> 0 | J87: =+J78+J81+J82+J83 -> 3804 | ... O87: =+O78+O81+O82+O83 -> 54443
B88: Önként vállalt feladat összesen | C88: =+C79+C85 -> 0 | D88: =+D79+D85 -> 0 | E88: =+E79+E85 -> 0 | F88: =+F79+F85 -> 0 | G88: =+G79+G85 -> 0 | H88: =+H79+H85 -> 0 | I88: =+I79+I85 -> 0 | J88: =+J79+J85 -> 0 | ... O88: =+O79+O85 -> 1148
A89: 7. | B89: 7. sz. Bölcsőde
B90: Módosított előirányzat | C90: 8631 | F90: 1312 | J90: =SUM(C90+E90+F90+H90) -> 9943 | K90: =SUM(D90+G90+I90) -> 0 | L90: =SUM(J90:K90) -> 9943 | M90: 113627 | N90: 130 | O90: =SUM(L90:N90) -> 123700
B91: ~ ebből:Kötelező feladate.i. | C91: 8631 | F91: 1312 | J91: =SUM(C91+E91+F91+H91) -> 9943 | K91: =SUM(D91+G91+I91) -> 0 | L91: =SUM(J91:K91) -> 9943 | M91: 112574 | N91: 130 | O91: =SUM(L91:N91) -> 122647
B92: Önként vállalt feladat e.i. | J92: =SUM(C92+E92+F92+H92) -> 0 | K92: =SUM(D92+G92+I92) -> 0 | L92: =SUM(J92:K92) -> 0 | M92: 1053 | O92: =SUM(L92:N92) -> 1053
B93: Kötelező feladat
B94: ~ Bérkompenzáció (IV., V., VI., VII.,VIII. havi) | J94: =SUM(C94+E94+F94+H94) -> 0 | K94: =SUM(D94+G94+I94) -> 0 | L94: =SUM(J94:K94) -> 0 | M94: 802 | O94: =SUM(L94:N94) -> 802
B95: ~ A szociális ágazatban dolgozók részére kifizetésre kerülő összevont ágazati pótlék (IV., V., VI., VII. havi) | J95: =SUM(C95+E95+F95+H95) -> 0 | K95: =SUM(D95+G95+I95) -> 0 | L95: =SUM(J95:K95) -> 0 | M95: 766 | O95: =SUM(L95:N95) -> 766
B96: ~ Jogszabályból fakadó személyi jellegű többletkifizetések | J96: =SUM(C96+E96+F96+H96) -> 0 | K96: =SUM(D96+G96+I96) -> 0 | L96: =SUM(J96:K96) -> 0 | M96: 1852 | O96: =SUM(L96:N96) -> 1852
B97: ~ Főösszeget érintő saját hatáskörű átcsoportosítás | J97: =SUM(C97+E97+F97+H97) -> 0 | K97: =SUM(D97+G97+I97) -> 0 | L97: =SUM(J97:K97) -> 0 | M97: 519 | O97: =SUM(L97:N97) -> 519
B98: Önként vállalt feladat
B99: ~ Kafetéria (IV., V., VI., VII. havi) | J99: =SUM(C99+E99+F99+H99) -> 0 | K99: =SUM(D99+G99+I99) -> 0 | L99: =SUM(J99:K99) -> 0 | M99: 1308 | O99: =SUM(L99:N99) -> 1308
B100: összesen: | C100: =+C90+C94+C99+C95+C96+C97 -> 8631 | D100: =+D90+D94+D99+D95+D96+D97 -> 0 | E100: =+E90+E94+E99+E95+E96+E97 -> 0 | F100: =+F90+F94+F99+F95+F96+F97 -> 1312 | G100: =+G90+G94+G99+G95+G96+G97 -> 0 | H100: =+H90+H94+H99+H95+H96+H97 -> 0 | I100: =+I90+I94+I99+I95+I96+I97 -> 0 | J100: =+J90+J94+J99+J95+J96+J97 -> 9943 | ... O100: =+O90+O94+O99+O95+O96+O97 -> 128947 | P100: =O101+O102 -> 128947
...

Sheet 8int.kiadás 
A1: Költségvetési szervek 2018.évi kiadási előirányzata (eFt-ban)
A4: Cím | B4: INTÉZMÉNYEK | C4: Személyi juttatás | D4: Munkaadókat terhelő járulékok és szocilis hozzájárulási adó | E4: Dologi kiadások | F4: Ellátottak pénzbeli juttatásai | G4: Egyéb működési célú kiadások | H4: Működési költségvetési kiadások összesen | I4: Beruházások | J4: Felújítások | K4: Egyéb felhalmozási célú kiadások | L4: Felhalmozási költségvetési kiadások összesen | M4: Költségvetési kiadások összesen | N4: Finanszírozási kiadások | O4: Kiadások összesen
C5: K1 | D5: K2 | E5: K3 | F5: K4 | G5: K5 | H5: (K1-5.) | I5: K6 | J5: K7 | K5: K8 | L5: (K6-8.) | M5: (K1-8.) | N5: K9 | O5: (K1-9.)
A6: a. | B6: b. | C6: c. | D6: d. | E6: e. | F6: f. | G6: g. | H6: h.=c.+d.+e.+f.+g. | I6: i. | J6: j. | K6: k. | L6: l.=i.+j.+k. | M6: m.=h.+l. | N6: n. | O6: o.=m.+n.
A7: 1. | B7: Humán Szolgáltató Intézet
B8: Módosított előirányzat | C8: 473161 | D8: 100295 | E8: 194094 | H8: =SUM(C8:G8) -> 767550 | L8: =SUM(I8:K8) -> 0 | M8: =SUM(H8+L8) -> 767550 | O8: =SUM(M8+N8) -> 767550
B9: ~ ebből:Kötelező feladate.i. | C9: 365321 | D9: 77499 | E9: 158154 | H9: =SUM(C9:G9) -> 600974 | L9: =SUM(I9:K9) -> 0 | M9: =SUM(H9+L9) -> 600974 | O9: =SUM(M9+N9) -> 600974
B10: Önként vállalt feladat e.i. | C10: 107840 | D10: 22796 | E10: 35940 | H10: =SUM(C10:G10) -> 166576 | L10: =SUM(I10:K10) -> 0 | M10: =SUM(H10+L10) -> 166576 | O10: =SUM(M10+N10) -> 166576
B11: Kötelező feladat | L11: =SUM(I11:K11) -> 0 | M11: =SUM(H11+L11) -> 0 | O11: =SUM(M11+N11) -> 0
B12: ~ Bérkompenzáció (IV., V., VI., VII., VIII. havi) | C12: 2815 | D12: 549 | H12: =SUM(C12:G12) -> 3364 | L12: =SUM(I12:K12) -> 0 | M12: =SUM(H12+L12) -> 3364 | O12: =SUM(M12+N12) -> 3364
B13: ~ Jogszabályból fakadó személyi jellegű többletkifizetések | C13: 4844 | D13: 945 | H13: =SUM(C13:G13) -> 5789 | L13: =SUM(I13:K13) -> 0 | M13: =SUM(H13+L13) -> 5789 | O13: =SUM(M13+N13) -> 5789
B14: ~ Gazdasági dolgozók kereset-kiegészítése 2018. 03.01-2018.12.31. időszakra a 71/2018. (II.8.) sz. kgy. határozat alapján | C14: 200 | D14: 39 | H14: =SUM(C14:G14) -> 239 | L14: =SUM(I14:K14) -> 0 | M14: =SUM(H14+L14) -> 239 | O14: =SUM(M14+N14) -> 239
B15: ~ Főösszeget nem érintő saját hatáskörű átcsoportosítás | E15: -10795 | H15: =SUM(C15:G15) -> -10795 | I15: 10795 | L15: =SUM(I15:K15) -> 10795 | M15: =SUM(H15+L15) -> 0 | O15: =SUM(M15+N15) -> 0
B16: ~ Főösszeget érintő saját hatáskörű átcsoportosítás | E16: -12292 | H16: =SUM(C16:G16) -> -12292 | L16: =SUM(I16:K16) -> 0 | M16: =SUM(H16+L16) -> -12292 | O16: =SUM(M16+N16) -> -12292
B17: Önként vállalt feladat | L17: =SUM(I17:K17) -> 0 | M17: =SUM(H17+L17) -> 0 | O17: =SUM(M17+N17) -> 0
B18: ~ 3.sz. házi gyermekorvosi körzet, valamit a 21.sz. háziorvosi körzet támogatása. Prevenciós tevékenységre és működési költségekre. (305/2018.(V.18.) kgy.határozat alapján (Kégl György Program-Egészségügyi feladatellátás) | E18: 400 | H18: =SUM(C18:G18) -> 400 | L18: =SUM(I18:K18) -> 0 | M18: =SUM(H18+L18) -> 400 | O18: =SUM(M18+N18) -> 400
B19: ~ 3. sz. és 7.sz iskolafogászati körzet támogatása. Prevenciós tevékenységekre és működési költségekre. 305/2018. (V.18.) kgy.határozat alapján (Kégl György Program - Egészségügyi feladatellátás) | E19: 200 | H19: =SUM(C19:G19) -> 200 | L19: =SUM(I19:K19) -> 0 | M19: =SUM(H19+L19) -> 200 | O19: =SUM(M19+N19) -> 200
B20: ~ Kafetéria ( IV.,V., VI., VII. havi) | C20: 4071 | D20: 1393 | H20: =SUM(C20:G20) -> 5464 | L20: =SUM(I20:K20) -> 0 | M20: =SUM(H20+L20) -> 5464 | O20: =SUM(M20+N20) -> 5464
B21: ~ Berényi utcai rendelő eszközbeszerzéseire és a Köfém rendelő berendezéseinek beszerzéséhez a 268/2017. (IV.7.) kgy határozat alapján. | E21: 11038 | H21: =SUM(C21:G21) -> 11038 | L21: =SUM(I21:K21) -> 0 | M21: =SUM(H21+L21) -> 11038 | O21: =SUM(M21+N21) -> 11038
B22: összesen: | C22: =+C8+C12+C18+C19+C13+C14+C16+C20+C15+C21 -> 485091 | D22: =+D8+D12+D18+D19+D13+D14+D16+D20+D15+D21 -> 103221 | E22: =+E8+E12+E18+E19+E13+E14+E16+E20+E15+E21 -> 182645 | F22: =+F8+F12+F18+F19+F13+F14+F16+F20+F15+F21 -> 0 | G22: =+G8+G12+G18+G19+G13+G14+G16+G20+G15+G21 -> 0 | H22: =+H8+H12+H18+H19+H13+H14+H16+H20+H15+H21 -> 770957 | I22: =+I8+I12+I18+I19+I13+I14+I16+I20+I15+I21 -> 10795 | J22: =+J8+J12+J18+J19+J13+J14+J16+J20+J15+J21 -> 0 | ... O22: =+O8+O12+O18+O19+O13+O14+O16+O20+O15+O21 -> 781752 | P22: =+O23+O24 -> 781752
B23: Ebből: Kötelező feladat összesen | C23: =+C9+C12+C13+C14+C16+C15 -> 373180 | D23: =+D9+D12+D13+D14+D16+D15 -> 79032 | E23: =+E9+E12+E13+E14+E16+E15 -> 135067 | F23: =+F9+F12+F13+F14+F16+F15 -> 0 | G23: =+G9+G12+G13+G14+G16+G15 -> 0 | H23: =+H9+H12+H13+H14+H16+H15 -> 587279 | I23: =+I9+I12+I13+I14+I16+I15 -> 10795 | J23: =+J9+J12+J13+J14+J16+J15 -> 0 | ... O23: =+O9+O12+O13+O14+O16+O15 -> 598074
B24: Önként vállalt feladat összesen | C24: =+C10+C18+C19+C20+C21 -> 111911 | D24: =+D10+D18+D19+D20+D21 -> 24189 | E24: =+E10+E18+E19+E20+E21 -> 47578 | F24: =+F10+F18+F19+F20+F21 -> 0 | G24: =+G10+G18+G19+G20+G21 -> 0 | H24: =+H10+H18+H19+H20+H21 -> 183678 | I24: =+I10+I18+I19+I20+I21 -> 0 | J24: =+J10+J18+J19+J20+J21 -> 0 | ... O24: =+O10+O18+O19+O20+O21 -> 183678
A25: 2. | B25: Frim Jakab Képességfejlesztő Szakosított Otthon
B26: Módosított előirányzat | C26: 82741 | D26: 15996 | E26: 31273 | H26: =SUM(C26:G26) -> 130010 | I26: 8292 | L26: =SUM(I26:K26) -> 8292 | M26: =SUM(H26+L26) -> 138302 | O26: =SUM(M26+N26) -> 138302
B27: ~ ebből:Kötelező feladate.i. | C27: 40116 | D27: 7857 | E27: 9839 | H27: =SUM(C27:G27) -> 57812 | I27: 3317 | L27: =SUM(I27:K27) -> 3317 | M27: =SUM(H27+L27) -> 61129 | O27: =SUM(M27+N27) -> 61129
B28: Önként vállalt feladat e.i. | C28: 42625 | D28: 8139 | E28: 21434 | H28: =SUM(C28:G28) -> 72198 | I28: 4975 | L28: =SUM(I28:K28) -> 4975 | M28: =SUM(H28+L28) -> 77173 | O28: =SUM(M28+N28) -> 77173
B29: Kötelező feladat
B30: ~ Bérkompenzáció (IV., V., VI., VII., VIII. havi) | C30: 366 | D30: 72 | H30: =SUM(C30:G30) -> 438 | L30: =SUM(I30:K30) -> 0 | M30: =SUM(H30+L30) -> 438 | O30: =SUM(M30+N30) -> 438
B31: ~ A szociális ágazatban dolgozók részére kifizetésre kerülő összevont pótlék ( IV., V., VI., VII. havi) | C31: 4364 | D31: 851 | H31: =SUM(C31:G31) -> 5215 | L31: =SUM(I31:K31) -> 0 | M31: =SUM(H31+L31) -> 5215 | O31: =SUM(M31+N31) -> 5215
B32: ~ Fel nem használt üres álláshely bérkülönbözet visszavonás | C32: -844 | D32: -165 | H32: =SUM(C32:G32) -> -1009 | L32: =SUM(I32:K32) -> 0 | M32: =SUM(H32+L32) -> -1009 | O32: =SUM(M32+N32) -> -1009
B33: Önként vállalt feladat
B34: ~ Kafetéria ( IV.,V., VI., VII. havi) | C34: 885 | D34: 303 | H34: =SUM(C34:G34) -> 1188 | L34: =SUM(I34:K34) -> 0 | M34: =SUM(H34+L34) -> 1188 | O34: =SUM(M34+N34) -> 1188
B35: összesen: | C35: =+C26+C30+C34+C31+C32 -> 87512 | D35: =+D26+D30+D34+D31+D32 -> 17057 | E35: =+E26+E30+E34+E31+E32 -> 31273 | F35: =+F26+F30+F34+F31+F32 -> 0 | G35: =+G26+G30+G34+G31+G32 -> 0 | H35: =+H26+H30+H34+H31+H32 -> 135842 | I35: =+I26+I30+I34+I31+I32 -> 8292 | J35: =+J26+J30+J34+J31+J32 -> 0 | ... O35: =+O26+O30+O34+O31+O32 -> 144134
B36: Ebből: Kötelező feladat összesen | C36: =+C27+C30+C31+C32 -> 44002 | D36: =+D27+D30+D31+D32 -> 8615 | E36: =+E27+E30+E31+E32 -> 9839 | F36: =+F27+F30+F31+F32 -> 0 | G36: =+G27+G30+G31+G32 -> 0 | H36: =+H27+H30+H31+H32 -> 62456 | I36: =+I27+I30+I31+I32 -> 3317 | J36: =+J27+J30+J31+J32 -> 0 | ... O36: =+O27+O30+O31+O32 -> 65773 | P36: =+O36+O37 -> 144134
B37: Önként vállalt feladat összesen | C37: =+C28+C34 -> 43510 | D37: =+D28+D34 -> 8442 | E37: =+E28+E34 -> 21434 | F37: =+F28+F34 -> 0 | G37: =+G28+G34 -> 0 | H37: =+H28+H34 -> 73386 | I37: =+I28+I34 -> 4975 | J37: =+J28+J34 -> 0 | ... O37: =+O28+O34 -> 78361
B38: Eü. Ellátás összesen | C38: =SUM(C22+C35) -> 572603 | D38: =SUM(D22+D35) -> 120278 | E38: =SUM(E22+E35) -> 213918 | F38: =SUM(F22+F35) -> 0 | G38: =SUM(G22+G35) -> 0 | H38: =SUM(H22+H35) -> 906799 | I38: =SUM(I22+I35) -> 19087 | J38: =SUM(J22+J35) -> 0 | ... O38: =SUM(O22+O35) -> 925886
A39: 3. | B39: Százszorszép Bölcsőde
B40: Módosított előirányzat | C40: 64292 | D40: 12484 | E40: 15367 | H40: =SUM(C40:G40) -> 92143 | L40: =SUM(I40:K40) -> 0 | M40: =SUM(H40+L40) -> 92143 | O40: =SUM(M40+N40) -> 92143
B41: ~ ebből:Kötelező feladate.i. | C41: 63660 | D41: 12267 | E41: 15312 | H41: =SUM(C41:G41) -> 91239 | L41: =SUM(I41:K41) -> 0 | M41: =SUM(H41+L41) -> 91239 | O41: =SUM(M41+N41) -> 91239
B42: Önként vállalt feladat e.i. | C42: 632 | D42: 217 | E42: 55 | H42: =SUM(C42:G42) -> 904 | L42: =SUM(I42:K42) -> 0 | M42: =SUM(H42+L42) -> 904 | O42: =SUM(M42+N42) -> 904
B43: Kötelező feladat
B44: ~ Bérkompenzáció (IV., V., VI., VII., VIII. havi) | C44: 99 | D44: 20 | H44: =SUM(C44:G44) -> 119 | L44: =SUM(I44:K44) -> 0 | M44: =SUM(H44+L44) -> 119 | O44: =SUM(M44+N44) -> 119
B45: ~ A szociális ágazatban dolgozók részére kifizetésre kerülő összevont pótlék ( IV., V., VI., VII. havi) | C45: 396 | D45: 77 | H45: =SUM(C45:G45) -> 473 | L45: =SUM(I45:K45) -> 0 | M45: =SUM(H45+L45) -> 473 | O45: =SUM(M45+N45) -> 473
B46: ~ Főösszeget nem érintő saját hatáskörű átcsoportosítás | C46: -415 | D46: -80 | E46: 469 | H46: =SUM(C46:G46) -> -26 | I46: 26 | L46: =SUM(I46:K46) -> 26 | M46: =SUM(H46+L46) -> 0 | O46: =SUM(M46+N46) -> 0
B47: ~ Főösszeget érintő saját hatáskörű átcsoportosítás | E47: 78 | H47: =SUM(C47:G47) -> 78 | L47: =SUM(I47:K47) -> 0 | M47: =SUM(H47+L47) -> 78 | O47: =SUM(M47+N47) -> 78
B48: Önként vállalt feladat
B49: ~ Kafetéria ( IV.,V., VI., VII. havi) | C49: 875 | D49: 300 | H49: =SUM(C49:G49) -> 1175 | L49: =SUM(I49:K49) -> 0 | M49: =SUM(H49+L49) -> 1175 | O49: =SUM(M49+N49) -> 1175
B50: összesen: | C50: =+C40+C44+C49+C45+C46+C47 -> 65247 | D50: =+D40+D44+D49+D45+D46+D47 -> 12801 | E50: =+E40+E44+E49+E45+E46+E47 -> 15914 | F50: =+F40+F44+F49+F45+F46+F47 -> 0 | G50: =+G40+G44+G49+G45+G46+G47 -> 0 | H50: =+H40+H44+H49+H45+H46+H47 -> 93962 | I50: =+I40+I44+I49+I45+I46+I47 -> 26 | J50: =+J40+J44+J49+J45+J46+J47 -> 0 | ... O50: =+O40+O44+O49+O45+O46+O47 -> 93988 | P50: =O51+O52 -> 93988
B51: Ebből: Kötelező feladat összesen | C51: =+C41+C44+C45+C46+C47 -> 63740 | D51: =+D41+D44+D45+D46+D47 -> 12284 | E51: =+E41+E44+E45+E46+E47 -> 15859 | F51: =+F41+F44+F45+F46+F47 -> 0 | G51: =+G41+G44+G45+G46+G47 -> 0 | H51: =+H41+H44+H45+H46+H47 -> 91883 | I51: =+I41+I44+I45+I46+I47 -> 26 | J51: =+J41+J44+J45+J46+J47 -> 0 | ... O51: =+O41+O44+O45+O46+O47 -> 91909
B52: Önként vállalt feladat összesen | C52: =+C42+C49 -> 1507 | D52: =+D42+D49 -> 517 | E52: =+E42+E49 -> 55 | F52: =+F42+F49 -> 0 | G52: =+G42+G49 -> 0 | H52: =+H42+H49 -> 2079 | I52: =+I42+I49 -> 0 | J52: =+J42+J49 -> 0 | ... O52: =+O42+O49 -> 2079
A53: 4. | B53: 3.sz.Bölcsőde
B54: Módosított előirányzat | C54: 70429 | D54: 13787 | E54: 16258 | H54: =SUM(C54:G54) -> 100474 | L54: =SUM(I54:K54) -> 0 | M54: =SUM(H54+L54) -> 100474 | O54: =SUM(M54+N54) -> 100474
B55: ~ ebből:Kötelező feladate.i. | C55: 69762 | D55: 13559 | E55: 16203 | H55: =SUM(C55:G55) -> 99524 | L55: =SUM(I55:K55) -> 0 | M55: =SUM(H55+L55) -> 99524 | O55: =SUM(M55+N55) -> 99524
B56: Önként vállalt feladat e.i. | C56: 667 | D56: 228 | E56: 55 | H56: =SUM(C56:G56) -> 950 | L56: =SUM(I56:K56) -> 0 | M56: =SUM(H56+L56) -> 950 | O56: =SUM(M56+N56) -> 950
B57: Kötelező feladat
B58: ~ Bérkompenzáció (IV., V., VI., VII., VIII. havi) | C58: 302 | D58: 59 | H58: =SUM(C58:G58) -> 361 | L58: =SUM(I58:K58) -> 0 | M58: =SUM(H58+L58) -> 361 | O58: =SUM(M58+N58) -> 361
B59: ~ A szociális ágazatban dolgozók részére kifizetésre kerülő összevont pótlék ( IV., V., VI., VII. havi) | C59: 520 | D59: 102 | H59: =SUM(C59:G59) -> 622 | L59: =SUM(I59:K59) -> 0 | M59: =SUM(H59+L59) -> 622 | O59: =SUM(M59+N59) -> 622
B60: ~ Jogszabályból fakadó személyi jellegű többletkifizetések | C60: 581 | D60: 114 | H60: =SUM(C60:G60) -> 695 | L60: =SUM(I60:K60) -> 0 | M60: =SUM(H60+L60) -> 695 | O60: =SUM(M60+N60) -> 695
B61: ~ Főösszeget nem érintő saját hatáskörű átcsoportosítás | E61: -18 | H61: =SUM(C61:G61) -> -18 | I61: 18 | L61: =SUM(I61:K61) -> 18 | M61: =SUM(H61+L61) -> 0 | O61: =SUM(M61+N61) -> 0
B62: Önként vállalt feladat
B63: ~ Kafetéria ( IV.,V., VI., VII. havi) | C63: 823 | D63: 282 | H63: =SUM(C63:G63) -> 1105 | L63: =SUM(I63:K63) -> 0 | M63: =SUM(H63+L63) -> 1105 | O63: =SUM(M63+N63) -> 1105
B64: összesen: | C64: =+C54+C58+C63+C59+C60+C61 -> 72655 | D64: =+D54+D58+D63+D59+D60+D61 -> 14344 | E64: =+E54+E58+E63+E59+E60+E61 -> 16240 | F64: =+F54+F58+F63+F59+F60+F61 -> 0 | G64: =+G54+G58+G63+G59+G60+G61 -> 0 | H64: =+H54+H58+H63+H59+H60+H61 -> 103239 | I64: =+I54+I58+I63+I59+I60+I61 -> 18 | J64: =+J54+J58+J63+J59+J60+J61 -> 0 | ... O64: =+O54+O58+O63+O59+O60+O61 -> 103257 | P64: =O65+O66 -> 103257
B65: Ebből: Kötelező feladat összesen | C65: =+C55+C58+C59+C60+C61 -> 71165 | D65: =+D55+D58+D59+D60+D61 -> 13834 | E65: =+E55+E58+E59+E60+E61 -> 16185 | F65: =+F55+F58+F59+F60+F61 -> 0 | G65: =+G55+G58+G59+G60+G61 -> 0 | H65: =+H55+H58+H59+H60+H61 -> 101184 | I65: =+I55+I58+I59+I60+I61 -> 18 | J65: =+J55+J58+J59+J60+J61 -> 0 | ... O65: =+O55+O58+O59+O60+O61 -> 101202
B66: Önként vállalt feladat összesen | C66: =+C56+C63 -> 1490 | D66: =+D56+D63 -> 510 | E66: =+E56+E63 -> 55 | F66: =+F56+F63 -> 0 | G66: =+G56+G63 -> 0 | H66: =+H56+H63 -> 2055 | I66: =+I56+I63 -> 0 | J66: =+J56+J63 -> 0 | ... O66: =+O56+O63 -> 2055
A67: 5. | B67: Napraforgó Bölcsőde
B68: Módosított előirányzat | C68: 66593 | D68: 12947 | E68: 13655 | H68: =SUM(C68:G68) -> 93195 | L68: =SUM(I68:K68) -> 0 | M68: =SUM(H68+L68) -> 93195 | O68: =SUM(M68+N68) -> 93195
B69: ~ ebből:Kötelező feladate.i. | C69: 65960 | D69: 12731 | E69: 13500 | H69: =SUM(C69:G69) -> 92191 | L69: =SUM(I69:K69) -> 0 | M69: =SUM(H69+L69) -> 92191 | O69: =SUM(M69+N69) -> 92191
B70: Önként vállalt feladat e.i. | C70: 633 | D70: 216 | E70: 155 | H70: =SUM(C70:G70) -> 1004 | L70: =SUM(I70:K70) -> 0 | M70: =SUM(H70+L70) -> 1004 | O70: =SUM(M70+N70) -> 1004
B71: Kötelező feladat
B72: ~ Bérkompenzáció (IV., V., VI., VII., VIII: havi) | C72: 194 | D72: 38 | H72: =SUM(C72:G72) -> 232 | L72: =SUM(I72:K72) -> 0 | M72: =SUM(H72+L72) -> 232 | O72: =SUM(M72+N72) -> 232
B73: ~ A szociális ágazatban dolgozók részére kifizetésre kerülő összevont pótlék ( IV., V., VI., VII. havi) | C73: 520 | D73: 101 | H73: =SUM(C73:G73) -> 621 | L73: =SUM(I73:K73) -> 0 | M73: =SUM(H73+L73) -> 621 | O73: =SUM(M73+N73) -> 621
B74: ~ Jogszabályból fakadó személyi jellegű többletkifizetések | C74: 63 | D74: 12 | H74: =SUM(C74:G74) -> 75 | L74: =SUM(I74:K74) -> 0 | M74: =SUM(H74+L74) -> 75 | O74: =SUM(M74+N74) -> 75
B75: ~ Főösszeget nem érintő saját hatáskörű átcsoportosítás | C75: -332 | D75: -64 | E75: 272 | H75: =SUM(C75:G75) -> -124 | I75: 124 | L75: =SUM(I75:K75) -> 124 | M75: =SUM(H75+L75) -> 0 | O75: =SUM(M75+N75) -> 0
B76: Önként vállalt feladat
B77: ~ 2018. évben megvalósításra kerülő programokhoz és tárgyi eszköz beszerzéshez kapcsolódó személyi és dologi költségekhez (Képviselői Alap) | E77: 60 | H77: =SUM(C77:G77) -> 60 | L77: =SUM(I77:K77) -> 0 | M77: =SUM(H77+L77) -> 60 | O77: =SUM(M77+N77) -> 60
B78: ~ Kafetéria ( IV.,V., VI., VII. havi) | C78: 833 | D78: 285 | H78: =SUM(C78:G78) -> 1118 | L78: =SUM(I78:K78) -> 0 | M78: =SUM(H78+L78) -> 1118 | O78: =SUM(M78+N78) -> 1118
B79: összesen: | C79: =+C68+C72+C77+C73+C74+C78+C75 -> 67871 | D79: =+D68+D72+D77+D73+D74+D78+D75 -> 13319 | E79: =+E68+E72+E77+E73+E74+E78+E75 -> 13987 | F79: =+F68+F72+F77+F73+F74+F78+F75 -> 0 | G79: =+G68+G72+G77+G73+G74+G78+G75 -> 0 | H79: =+H68+H72+H77+H73+H74+H78+H75 -> 95177 | I79: =+I68+I72+I77+I73+I74+I78+I75 -> 124 | J79: =+J68+J72+J77+J73+J74+J78+J75 -> 0 | ... O79: =+O68+O72+O77+O73+O74+O78+O75 -> 95301 | P79: =O80+O81 -> 95301
B80: Ebből: Kötelező feladat összesen | C80: =+C69+C72+C73+C74+C75 -> 66405 | D80: =+D69+D72+D73+D74+D75 -> 12818 | E80: =+E69+E72+E73+E74+E75 -> 13772 | F80: =+F69+F72+F73+F74+F75 -> 0 | G80: =+G69+G72+G73+G74+G75 -> 0 | H80: =+H69+H72+H73+H74+H75 -> 92995 | I80: =+I69+I72+I73+I74+I75 -> 124 | J80: =+J69+J72+J73+J74+J75 -> 0 | ... O80: =+O69+O72+O73+O74+O75 -> 93119
B81: Önként vállalt feladat összesen | C81: =+C70+C77+C78 -> 1466 | D81: =+D70+D77+D78 -> 501 | E81: =+E70+E77+E78 -> 215 | F81: =+F70+F77+F78 -> 0 | G81: =+G70+G77+G78 -> 0 | H81: =+H70+H77+H78 -> 2182 | I81: =+I70+I77+I78 -> 0 | J81: =+J70+J77+J78 -> 0 | ... O81: =+O70+O77+O78 -> 2182
A82: 6. | B82: Nyitnikék Bölcsőde
B83: Módosított előirányzat | C83: 39600 | D83: 7680 | E83: 6473 | H83: =SUM(C83:G83) -> 53753 | L83: =SUM(I83:K83) -> 0 | M83: =SUM(H83+L83) -> 53753 | O83: =SUM(M83+N83) -> 53753
B84: ~ ebből:Kötelező feladate.i. | C84: 39252 | D84: 7560 | E84: 6418 | H84: =SUM(C84:G84) -> 53230 | L84: =SUM(I84:K84) -> 0 | M84: =SUM(H84+L84) -> 53230 | O84: =SUM(M84+N84) -> 53230
B85: Önként vállalt feladat e.i. | C85: 348 | D85: 120 | E85: 55 | H85: =SUM(C85:G85) -> 523 | L85: =SUM(I85:K85) -> 0 | M85: =SUM(H85+L85) -> 523 | O85: =SUM(M85+N85) -> 523
B86: Kötelező feladat
B87: ~ Bérkompenzáció (IV., V., VI., VII. , VIII:havi) | C87: 116 | D87: 23 | H87: =SUM(C87:G87) -> 139 | L87: =SUM(I87:K87) -> 0 | M87: =SUM(H87+L87) -> 139 | O87: =SUM(M87+N87) -> 139
B88: ~ A szociális ágazatban dolgozók részére kifizetésre kerülő összevont pótlék ( IV., V., VI., VII. havi) | C88: 364 | D88: 71 | H88: =SUM(C88:G88) -> 435 | L88: =SUM(I88:K88) -> 0 | M88: =SUM(H88+L88) -> 435 | O88: =SUM(M88+N88) -> 435
B89: ~ Főösszeget nem érintő saját hatáskörű átcsoportosítás | C89: -369 | D89: -71 | E89: 440 | H89: =SUM(C89:G89) -> 0 | L89: =SUM(I89:K89) -> 0 | M89: =SUM(H89+L89) -> 0 | O89: =SUM(M89+N89) -> 0
B90: ~ Munkahelyi balesettel összefüggésben felmerült egészségébiztosítási ellátások megfizetése | E90: 639 | H90: =SUM(C90:G90) -> 639 | L90: =SUM(I90:K90) -> 0 | M90: =SUM(H90+L90) -> 639 | O90: =SUM(M90+N90) -> 639
B91: Önként vállalt feladat
B92: ~ Kafetéria ( IV.,V., VI., VII. havi) | C92: 466 | D92: 159 | H92: =SUM(C92:G92) -> 625 | L92: =SUM(I92:K92) -> 0 | M92: =SUM(H92+L92) -> 625 | O92: =SUM(M92+N92) -> 625
B93: összesen: | C93: =+C83+C87+C92+C88+C89+C90 -> 40177 | D93: =+D83+D87+D92+D88+D89+D90 -> 7862 | E93: =+E83+E87+E92+E88+E89+E90 -> 7552 | F93: =+F83+F87+F92+F88+F89+F90 -> 0 | G93: =+G83+G87+G92+G88+G89+G90 -> 0 | H93: =+H83+H87+H92+H88+H89+H90 -> 55591 | I93: =+I83+I87+I92+I88+I89+I90 -> 0 | J93: =+J83+J87+J92+J88+J89+J90 -> 0 | ... O93: =+O83+O87+O92+O88+O89+O90 -> 55591 | P93: =O94+O95 -> 55591
B94: Ebből: Kötelező feladat összesen | C94: =+C84+C87+C88+C89+C90 -> 39363 | D94: =+D84+D87+D88+D89+D90 -> 7583 | E94: =+E84+E87+E88+E89+E90 -> 7497 | F94: =+F84+F87+F88+F89+F90 -> 0 | G94: =+G84+G87+G88+G89+G90 -> 0 | H94: =+H84+H87+H88+H89+H90 -> 54443 | I94: =+I84+I87+I88+I89+I90 -> 0 | J94: =+J84+J87+J88+J89+J90 -> 0 | ... O94: =+O84+O87+O88+O89+O90 -> 54443
B95: Önként vállalt feladat összesen | C95: =+C85+C92 -> 814 | D95: =+D85+D92 -> 279 | E95: =+E85+E92 -> 55 | F95: =+F85+F92 -> 0 | G95: =+G85+G92 -> 0 | H95: =+H85+H92 -> 1148 | I95: =+I85+I92 -> 0 | J95: =+J85+J92 -> 0 | ... O95: =+O85+O92 -> 1148
B96: 7. sz. Bölcsőde
A97: 7. | B97: Módosított előirányzat | C97: 84706 | D97: 18048 | E97: 20946 | H97: =SUM(C97:G97) -> 123700 | L97: =SUM(I97:K97) -> 0 | M97: =SUM(H97+L97) -> 123700 | O97: =SUM(M97+N97) -> 123700
B98: ~ ebből:Kötelező feladate.i. | C98: 83962 | D98: 17794 | E98: 20891 | H98: =SUM(C98:G98) -> 122647 | L98: =SUM(I98:K98) -> 0 | M98: =SUM(H98+L98) -> 122647 | O98: =SUM(M98+N98) -> 122647
B99: Önként vállalt feladat e.i. | C99: 744 | D99: 254 | E99: 55 | H99: =SUM(C99:G99) -> 1053 | L99: =SUM(I99:K99) -> 0 | M99: =SUM(H99+L99) -> 1053 | O99: =SUM(M99+N99) -> 1053
B100: Kötelező feladat
B101: ~ Bérkompenzáció (IV., V., VI., VII., VIII: havi) | C101: 671 | D101: 131 | H101: =SUM(C101:G101) -> 802 | L101: =SUM(I101:K101) -> 0 | M101: =SUM(H101+L101) -> 802 | O101: =SUM(M101+N101) -> 802
B102: ~ A szociális ágazatban dolgozók részére kifizetésre kerülő összevont pótlék ( IV., V., VI., VII. havi) | C102: 641 | D102: 125 | H102: =SUM(C102:G102) -> 766 | L102: =SUM(I102:K102) -> 0 | M102: =SUM(H102+L102) -> 766 | O102: =SUM(M102+N102) -> 766
...

Sheet 9 álláshely
A1: Költségvetési szervek 2018. évi álláshelyeinek meghatározása
A4: KÖLTSÉGVETÉSI SZERVEK | B4: álláshely | D4: 128/2018 (III.9.) Kgy határozat alapján | J4: 215/2018. (IV.20.) Kgy határozat alapján, és 404/2018. (VI.15.) Kgy határozat alapján | L4: 128/2018. (III.9) és a 215/2018. (IV.20.) Kgy határozat alapján | N4: 574/2015. (IX.14.) Kgy. határozat alapján | P4: 520/2018. (VIII.17.) Kgy határozat alapján | R4: 538/2018. (VIII. 17.) Kgy. határozat alapján
B5: 2018. január 1. | C5: 2018. március 1. | D5: 2018. május 1. | E5: 2018. május 1. | F5: 2018.június 1. | G5: 2018. június 1. | H5: 2018. július 1. | I5: 2018. július 1. | J5: 2018. augusztus 1. | K5: 2018. augusztus 1. | L5: 2018. augusztus 15. | M5: 2018. augusztus 15. | N5: 2018. szeptember 17. | O5: 2018. szeptember 17. | P5: 2018. október 1. | Q5: 2018. október 1. | R5: 2018. november 1. | S5: 2018. november 1.
A6: Humán Szolgáltató Intézet | B6: 121.8 | C6: 121.8 | E6: =C6+D6 -> 121.8 | F6: 3 | G6: =E6+F6 -> 124.8 | I6: =E6+H6+F6 -> 124.8 | K6: =I6+J6 -> 124.8 | M6: =K6+L6 -> 124.8 | O6: =M6+N6 -> 124.8 | Q6: =O6+P6 -> 124.8 | S6: =Q6+R6 -> 124.8
A7: Frim Jakab Képességfejlesztő Szakosított Otthon | B7: 25.5 | C7: 25.5 | E7: =C7+D7 -> 25.5 | G7: =E7+F7 -> 25.5 | I7: =E7+H7 -> 25.5 | K7: =I7+J7 -> 25.5 | M7: =K7+L7 -> 25.5 | O7: =M7+N7 -> 25.5 | Q7: =O7+P7 -> 25.5 | S7: =Q7+R7 -> 25.5
A8: Eü. ellátás összesen | B8: =SUM(B6:B7) -> 147.3 | C8: =SUM(C6:C7) -> 147.3 | D8: =SUM(D6:D7) -> 0 | E8: =SUM(E6:E7) -> 147.3 | F8: =SUM(F6:F7) -> 3 | G8: =E8+F8 -> 150.3 | H8: =SUM(H6:H7) -> 0 | I8: =SUM(I6:I7) -> 150.3 | J8: =SUM(J6:J7) -> 0 | K8: =SUM(K6:K7) -> 150.3 | L8: =SUM(L6:L7) -> 0 | M8: =SUM(M6:M7) -> 150.3 | N8: =SUM(N6:N7) -> 0 | O8: =SUM(O6:O7) -> 150.3 | ... S8: =SUM(S6:S7) -> 150.3
A9: Százszorszép Bölcsőde | B9: 22.75 | C9: 22.75 | E9: =C9+D9 -> 22.75 | G9: =E9+F9 -> 22.75 | I9: =E9+H9 -> 22.75 | K9: =I9+J9 -> 22.75 | M9: =K9+L9 -> 22.75 | O9: =M9+N9 -> 22.75 | Q9: =O9+P9 -> 22.75 | S9: =Q9+R9 -> 22.75
A10: 3. számú Bölcsőde | B10: 22.75 | C10: 22.75 | E10: =C10+D10 -> 22.75 | G10: =E10+F10 -> 22.75 | I10: =E10+H10 -> 22.75 | K10: =I10+J10 -> 22.75 | M10: =K10+L10 -> 22.75 | O10: =M10+N10 -> 22.75 | Q10: =O10+P10 -> 22.75 | S10: =Q10+R10 -> 22.75
A11: Napraforgó Bölcsőde | B11: 22.75 | C11: 22.75 | E11: =C11+D11 -> 22.75 | G11: =E11+F11 -> 22.75 | I11: =E11+H11 -> 22.75 | K11: =I11+J11 -> 22.75 | M11: =K11+L11 -> 22.75 | O11: =M11+N11 -> 22.75 | Q11: =O11+P11 -> 22.75 | S11: =Q11+R11 -> 22.75
A12: Nyítnikék Bölcsőde | B12: 13 | C12: 13 | E12: =C12+D12 -> 13 | G12: =E12+F12 -> 13 | I12: =E12+H12 -> 13 | K12: =I12+J12 -> 13 | M12: =K12+L12 -> 13 | O12: =M12+N12 -> 13 | Q12: =O12+P12 -> 13 | S12: =Q12+R12 -> 13
A13: 7. számú Bölcsőde | B13: 27.75 | C13: 27.75 | E13: =C13+D13 -> 27.75 | G13: =E13+F13 -> 27.75 | I13: =E13+H13 -> 27.75 | K13: =I13+J13 -> 27.75 | M13: =K13+L13 -> 27.75 | O13: =M13+N13 -> 27.75 | Q13: =O13+P13 -> 27.75 | S13: =Q13+R13 -> 27.75
A14: 8. számú Bölcsőde | B14: 27.25 | C14: 27.25 | E14: =C14+D14 -> 27.25 | G14: =E14+F14 -> 27.25 | I14: =E14+H14 -> 27.25 | K14: =I14+J14 -> 27.25 | M14: =K14+L14 -> 27.25 | O14: =M14+N14 -> 27.25 | P14: -4.5 | Q14: =O14+P14 -> 22.75 | S14: =Q14+R14 -> 22.75
A15: Bölcsőde összesen | B15: =SUM(B9:B14) -> 136.25 | C15: =SUM(C9:C14) -> 136.25 | D15: =SUM(D9:D14) -> 0 | E15: =SUM(E9:E14) -> 136.25 | F15: =SUM(F9:F14) -> 0 | G15: =E15+F15 -> 136.25 | H15: =SUM(H9:H14) -> 0 | I15: =SUM(I9:I14) -> 136.25 | J15: =SUM(J9:J14) -> 0 | K15: =SUM(K9:K14) -> 136.25 | L15: =SUM(L9:L14) -> 0 | M15: =SUM(M9:M14) -> 136.25 | N15: =SUM(N9:N14) -> 0 | O15: =SUM(O9:O14) -> 136.25 | ... S15: =SUM(S9:S14) -> 131.75
A16: Árpád Úti Óvoda | B16: 46.75 | C16: 46.75 | E16: =C16+D16 -> 46.75 | G16: =E16+F16 -> 46.75 | I16: =E16+H16 -> 46.75 | K16: =I16+J16 -> 46.75 | M16: =K16+L16 -> 46.75 | O16: =M16+N16 -> 46.75 | Q16: =O16+P16 -> 46.75 | S16: =Q16+R16 -> 46.75
A17: Belvárosi Bunszvik Teréz Óvoda | B17: 49 | C17: 49 | E17: =C17+D17 -> 49 | G17: =E17+F17 -> 49 | I17: =E17+H17 -> 49 | K17: =I17+J17 -> 49 | M17: =K17+L17 -> 49 | O17: =M17+N17 -> 49 | Q17: =O17+P17 -> 49 | S17: =Q17+R17 -> 49
A18: Gyöngyvirág Óvoda-Székesfehérvár | B18: 52 | C18: 53.5 | E18: =C18+D18 -> 53.5 | G18: =E18+F18 -> 53.5 | I18: =E18+H18 -> 53.5 | K18: =I18+J18 -> 53.5 | M18: =K18+L18 -> 53.5 | O18: =M18+N18 -> 53.5 | Q18: =O18+P18 -> 53.5 | S18: =Q18+R18 -> 53.5
A19: Felsővárosi Óvoda | B19: 32 | C19: 33 | E19: =C19+D19 -> 33 | G19: =E19+F19 -> 33 | I19: =E19+H19 -> 33 | K19: =I19+J19 -> 33 | M19: =K19+L19 -> 33 | O19: =M19+N19 -> 33 | Q19: =O19+P19 -> 33 | S19: =Q19+R19 -> 33
A20: Hosszúsétatéri Óvoda | B20: 42 | C20: 43 | E20: =C20+D20 -> 43 | G20: =E20+F20 -> 43 | I20: =E20+H20 -> 43 | K20: =I20+J20 -> 43 | M20: =K20+L20 -> 43 | O20: =M20+N20 -> 43 | Q20: =O20+P20 -> 43 | S20: =Q20+R20 -> 43
A21: Maroshegyi Óvoda | B21: 36 | C21: 36.5 | E21: =C21+D21 -> 36.5 | G21: =E21+F21 -> 36.5 | I21: =E21+H21 -> 36.5 | K21: =I21+J21 -> 36.5 | M21: =K21+L21 -> 36.5 | O21: =M21+N21 -> 36.5 | Q21: =O21+P21 -> 36.5 | S21: =Q21+R21 -> 36.5
A22: Napsugár Óvoda | B22: 41 | C22: 41.5 | E22: =C22+D22 -> 41.5 | G22: =E22+F22 -> 41.5 | I22: =E22+H22 -> 41.5 | K22: =I22+J22 -> 41.5 | M22: =K22+L22 -> 41.5 | O22: =M22+N22 -> 41.5 | Q22: =O22+P22 -> 41.5 | S22: =Q22+R22 -> 41.5
A23: Rákóczi Utcai Óvoda | B23: 46 | C23: 46 | E23: =C23+D23 -> 46 | G23: =E23+F23 -> 46 | I23: =E23+H23 -> 46 | K23: =I23+J23 -> 46 | M23: =K23+L23 -> 46 | O23: =M23+N23 -> 46 | Q23: =O23+P23 -> 46 | S23: =Q23+R23 -> 46
A24: Szárazréti Óvoda | B24: 14.5 | C24: 15 | E24: =C24+D24 -> 15 | G24: =E24+F24 -> 15 | I24: =E24+H24 -> 15 | K24: =I24+J24 -> 15 | M24: =K24+L24 -> 15 | O24: =M24+N24 -> 15 | Q24: =O24+P24 -> 15 | S24: =Q24+R24 -> 15
A25: Tolnai Utcai Óvoda | B25: 51.5 | C25: 53.5 | E25: =C25+D25 -> 53.5 | G25: =E25+F25 -> 53.5 | I25: =E25+H25 -> 53.5 | K25: =I25+J25 -> 53.5 | M25: =K25+L25 -> 53.5 | O25: =M25+N25 -> 53.5 | Q25: =O25+P25 -> 53.5 | S25: =Q25+R25 -> 53.5
A26: Szivárvány Óvoda | B26: 35.5 | C26: 35.5 | E26: =C26+D26 -> 35.5 | G26: =E26+F26 -> 35.5 | I26: =E26+H26 -> 35.5 | K26: =I26+J26 -> 35.5 | M26: =K26+L26 -> 35.5 | O26: =M26+N26 -> 35.5 | Q26: =O26+P26 -> 35.5 | S26: =Q26+R26 -> 35.5
A27: Ligetsori Óvoda | B27: 43.5 | C27: 43.5 | E27: =C27+D27 -> 43.5 | G27: =E27+F27 -> 43.5 | I27: =E27+H27 -> 43.5 | K27: =I27+J27 -> 43.5 | M27: =K27+L27 -> 43.5 | O27: =M27+N27 -> 43.5 | Q27: =O27+P27 -> 43.5 | S27: =Q27+R27 -> 43.5
A28: Óvodák összesen | B28: =SUM(B16:B27) -> 489.75 | C28: =SUM(C16:C27) -> 496.75 | D28: =SUM(D16:D27) -> 0 | E28: =SUM(E16:E27) -> 496.75 | F28: =SUM(F16:F27) -> 0 | G28: =E28+F28 -> 496.75 | H28: =SUM(H16:H27) -> 0 | I28: =SUM(I16:I27) -> 496.75 | J28: =SUM(J16:J27) -> 0 | K28: =SUM(K16:K27) -> 496.75 | L28: =SUM(L16:L27) -> 0 | M28: =SUM(M16:M27) -> 496.75 | N28: =SUM(N16:N27) -> 0 | O28: =SUM(O16:O27) -> 496.75 | ... S28: =SUM(S16:S27) -> 496.75
A29: Humán Szolgáltató összesen | B29: =B28+B15+B8 -> 773.3 | C29: =C28+C15+C8 -> 780.3 | D29: =D28+D15+D8 -> 0 | E29: =E28+E15+E8 -> 780.3 | F29: =F28+F15+F8 -> 3 | G29: =E29+F29 -> 783.3 | H29: =H28+H15+H8 -> 0 | I29: =I28+I15+I8 -> 783.3 | J29: =J28+J15+J8 -> 0 | K29: =K28+K15+K8 -> 783.3 | L29: =L28+L15+L8 -> 0 | M29: =M28+M15+M8 -> 783.3 | N29: =N28+N15+N8 -> 0 | O29: =O28+O15+O8 -> 783.3 | ... S29: =S28+S15+S8 -> 778.8
A30: Egyesített Szociális Intézmény | B30: 215.5 | C30: 215.5 | E30: =C30+D30 -> 215.5 | G30: =E30+F30 -> 215.5 | I30: =E30+H30 -> 215.5 | K30: =I30+J30 -> 215.5 | M30: =K30+L30 -> 215.5 | O30: =M30+N30 -> 215.5 | Q30: =O30+P30 -> 215.5 | S30: =Q30+R30 -> 215.5
A31: Székesfehérvári Család- és Gyermekjóléti Központ | B31: 60 | C31: 60 | D31: 3 | E31: =C31+D31 -> 63 | G31: =E31+F31 -> 63 | I31: =E31+H31 -> 63 | K31: =I31+J31 -> 63 | L31: 6 | M31: =K31+L31 -> 69 | O31: =M31+N31 -> 69 | Q31: =O31+P31 -> 69 | S31: =Q31+R31 -> 69
A32: Kríziskezelő Központ | B32: 48 | C32: 48 | E32: =C32+D32 -> 48 | G32: =E32+F32 -> 48 | I32: =E32+H32 -> 48 | K32: =I32+J32 -> 48 | M32: =K32+L32 -> 48 | O32: =M32+N32 -> 48 | Q32: =O32+P32 -> 48 | S32: =Q32+R32 -> 48
A33: Szociális ellátás összesen | B33: =SUM(B30:B32) -> 323.5 | C33: =SUM(C30:C32) -> 323.5 | D33: =SUM(D30:D32) -> 3 | E33: =SUM(E30:E32) -> 326.5 | F33: =SUM(F30:F32) -> 0 | G33: =E33+F33 -> 326.5 | H33: =SUM(H30:H32) -> 0 | I33: =SUM(I30:I32) -> 326.5 | J33: =SUM(J30:J32) -> 0 | K33: =SUM(K30:K32) -> 326.5 | L33: =SUM(L30:L32) -> 6 | M33: =SUM(M30:M32) -> 332.5 | N33: =SUM(N30:N32) -> 0 | O33: =SUM(O30:O32) -> 332.5 | ... S33: =SUM(S30:S32) -> 332.5
A34: Székesfehérvári Intézményi Központ | B34: 59.5 | C34: 59.5 | E34: =C34+D34 -> 59.5 | G34: =E34+F34 -> 59.5 | H34: 2 | I34: =C34+H34 -> 61.5 | K34: =I34+J34 -> 61.5 | M34: =K34+L34 -> 61.5 | O34: =M34+N34 -> 61.5 | Q34: =O34+P34 -> 61.5 | S34: =Q34+R34 -> 61.5
A35: Városi Levéltár és Kutatóintézet | B35: 12 | C35: 12 | E35: =C35+D35 -> 12 | G35: =E35+F35 -> 12 | I35: =C35+H35 -> 12 | K35: =I35+J35 -> 12 | M35: =K35+L35 -> 12 | O35: =M35+N35 -> 12 | Q35: =O35+P35 -> 12 | S35: =Q35+R35 -> 12
A36: Vörösmarty Mihály Könyvtár | B36: 82 | C36: 82 | E36: =C36+D36 -> 82 | G36: =E36+F36 -> 82 | I36: =C36+H36 -> 82 | K36: =I36+J36 -> 82 | M36: =K36+L36 -> 82 | O36: =M36+N36 -> 82 | Q36: =O36+P36 -> 82 | S36: =Q36+R36 -> 82
A37: Szent István Király Múzeum | B37: 103.63 | C37: 113.63 | E37: =C37+D37 -> 113.63 | G37: =E37+F37 -> 113.63 | I37: =C37+H37 -> 113.63 | K37: =I37+J37 -> 113.63 | M37: =K37+L37 -> 113.63 | O37: =M37+N37 -> 113.63 | Q37: =O37+P37 -> 113.63 | S37: =Q37+R37 -> 113.63
A38: Siklósi Gyula Várostörténeti Kutatóközpont | E38: =C38+D38 -> 0 | G38: =E38+F38 -> 0 | I38: =C38+H38 -> 0 | K38: =I38+J38 -> 0 | M38: =K38+L38 -> 0 | O38: =M38+N38 -> 0 | Q38: =O38+P38 -> 0 | R38: 5 | S38: =Q38+R38 -> 5
A39: Alba Regia Szimfonikus Zenekar | B39: 28 | C39: 28 | E39: =C39+D39 -> 28 | G39: =E39+F39 -> 28 | I39: =C39+H39 -> 28 | K39: =I39+J39 -> 28 | M39: =K39+L39 -> 28 | O39: =M39+N39 -> 28 | Q39: =O39+P39 -> 28 | S39: =Q39+R39 -> 28
A40: Vörösmarty Színház | B40: 110 | C40: 110 | E40: =C40+D40 -> 110 | G40: =E40+F40 -> 110 | I40: =C40+H40 -> 110 | J40: -2.75 | K40: =I40+J40 -> 107.25 | M40: =K40+L40 -> 107.25 | O40: =M40+N40 -> 107.25 | Q40: =O40+P40 -> 107.25 | S40: =Q40+R40 -> 107.25
A41: Székesfehérvári Balett Színház | B41: 0 | C41: 0 | E41: =C41+D41 -> 0 | G41: =E41+F41 -> 0 | I41: =C41+H41 -> 0 | J41: 4 | K41: =I41+J41 -> 4 | L41: 17 | M41: =K41+L41 -> 21 | O41: =M41+N41 -> 21 | Q41: =O41+P41 -> 21 | S41: =Q41+R41 -> 21
A42: A Szabadművelődés Háza | B42: 28.75 | C42: 28.75 | E42: =C42+D42 -> 28.75 | G42: =E42+F42 -> 28.75 | I42: =C42+H42 -> 28.75 | K42: =I42+J42 -> 28.75 | M42: =K42+L42 -> 28.75 | N42: 2 | O42: =M42+N42 -> 30.75 | Q42: =O42+P42 -> 30.75 | S42: =Q42+R42 -> 30.75
A43: Kulturális ellátás összesen | B43: =SUM(B35:B42) -> 364.38 | C43: =SUM(C35:C42) -> 374.38 | D43: =SUM(D35:D42) -> 0 | E43: =SUM(E35:E42) -> 374.38 | F43: =SUM(F35:F42) -> 0 | G43: =E43+F43 -> 374.38 | H43: =SUM(H35:H42) -> 0 | I43: =SUM(I35:I42) -> 374.38 | J43: =SUM(J35:J42) -> 1.25 | K43: =SUM(K35:K42) -> 375.63 | L43: =SUM(L35:L42) -> 17 | M43: =SUM(M35:M42) -> 392.63 | N43: =SUM(N35:N42) -> 2 | O43: =SUM(O35:O42) -> 394.63 | ... S43: =SUM(S35:S42) -> 399.63
A44: Intézmények összesen: | B44: =B43+B34+B33+B29 -> 1520.68 | C44: =C43+C34+C33+C29 -> 1537.68 | D44: =D43+D34+D33+D29 -> 3 | E44: =E43+E34+E33+E29 -> 1540.68 | F44: =F43+F34+F33+F29 -> 3 | G44: =E44+F44 -> 1543.68 | H44: =H43+H34+H33+H29 -> 2 | I44: =I43+I34+I33+I29 -> 1545.68 | J44: =J43+J34+J33+J29 -> 1.25 | K44: =K43+K34+K33+K29 -> 1546.93 | L44: =L43+L34+L33+L29 -> 23 | M44: =M43+M34+M33+M29 -> 1569.93 | N44: =N43+N34+N33+N29 -> 2 | O44: =O43+O34+O33+O29 -> 1571.93 | ... S44: =S43+S34+S33+S29 -> 1572.43
A45: Polgármesteri Hivatal | B45: 350 | C45: 350 | E45: =C45+D45 -> 350 | G45: =E45+F45 -> 350 | I45: =E45+H45 -> 350 | K45: =I45+J45 -> 350 | M45: =K45+L45 -> 350 | O45: =M45+N45 -> 350 | Q45: =O45+P45 -> 350 | S45: =Q45+R45 -> 350
A46: Költségvetési szervek összesen: | B46: =B45+B44 -> 1870.68 | C46: =C45+C44 -> 1887.68 | D46: =D45+D44 -> 3 | E46: =E45+E44 -> 1890.68 | F46: =F45+F44 -> 3 | G46: =E46+F46 -> 1893.68 | H46: =H45+H44 -> 2 | I46: =I45+I44 -> 1895.68 | J46: =J45+J44 -> 1.25 | K46: =K45+K44 -> 1896.93 | L46: =L45+L44 -> 23 | M46: =M45+M44 -> 1919.93 | N46: =N45+N44 -> 2 | O46: =O45+O44 -> 1921.93 | ... S46: =S45+S44 -> 1922.43

Sheet 10 ök kiadás
A1: Önkormányzat 2018. évi költségvetési kiadásai (eFt-ban)
B4: Megnevezés | C4: Személyi juttatás | D4: Munkaadókat terhelő járulékok és szociális hozzájárulási adó | E4: Dologi kiadás | F4: Ellátottak pénzbeli juttatásai | G4: Egyéb működési célú kiadások | H4: Működési költségvetés összesen | I4: Beruházások | J4: Felújítások | K4: Egyéb felhalmozási célú kiadások | L4: Felhalmozási költségvetés összesen | M4: Általános tartalék | N4: Céltartalék | O4: Tartalékok összesen | P4: Költségvetési kiadások összesen
C5: K1 | D5: K2 | E5: K3 | F5: K4 | G5: K5 | H5: K1-5. | I5: K6 | J5: K7 | K5: K8 | L5: K6-8. | O5: K5(k512) | P5: K1-8.
B6: a. | C6: b. | D6: c. | E6: d. | F6: e. | G6: f. | H6: g.=b. +…+ f. | I6: h. | J6: i. | K6: j. | L6: k.=h. +i.+ j. | M6: l. | N6: m. | O6: n.=l.+m. | P6: o.=g.+k.+n.
B8: Önkormányzat eredeti előirányzata | C8: 478948 | D8: 114698 | E8: 5077852 | F8: 40689 | G8: 12570407 | H8: =SUM(C8:G8) -> 18282594 | I8: 30997455 | J8: 4538282 | K8: 903191 | L8: =SUM(I8:K8) -> 36438928 | M8: 250000 | N8: 2916264 | O8: =SUM(M8:N8) -> 3166264 | P8: =SUM(O8+L8+H8) -> 57887786
B9: Önkormányzat I. módosított előirányzata | C9: 478630 | D9: 114847 | E9: 8202173 | F9: 41014 | G9: 13701859 | H9: =SUM(C9:G9) -> 22538523 | I9: 28461078 | J9: 4530947 | K9: 974097 | L9: =SUM(I9:K9) -> 33966122 | M9: 109885 | N9: 2085542 | O9: =SUM(M9:N9) -> 2195427 | P9: =SUM(O9+L9+H9) -> 58700072
A11: I. | B11: Igazgatási tevékenység
B12: Pénzügyi igazgatási feladatok
B13: Különféle adók, díjak, pénzügyi kiadások
B14: ~3/2018.(II.8.) önkormányzati rendelet 6.§ (10) bekezdése szerinti átcsoportosítás
B15: Államkötvények vételárában lévő kamat miatti átcsoportosítás (Betétek lekötése, lejárata) | E15: 44508 | H15: =SUM(C15:G15) -> 44508 | L15: =SUM(I15:K15) -> 0 | P15: =O15+L15+H15 -> 44508
B16: Bankköltség, forgalmi jutalék | E16: -13 | H16: =SUM(C16:G16) -> -13 | I16: 13 | L16: =SUM(I16:K16) -> 13 | P16: =O16+L16+H16 -> 0
B17: Központi támogatások (Államháztartáson belüli megelőlegezések visszafizetése) | F17: 7645 | H17: =SUM(C17:G17) -> 7645 | L17: =SUM(I17:K17) -> 0 | P17: =O17+L17+H17 -> 7645
B18: Központi támogatások és szerződéses kötelmek elszámolása | E18: -164433 | G18: 164433 | H18: =SUM(C18:G18) -> 0 | L18: =SUM(I18:K18) -> 0 | P18: =O18+L18+H18 -> 0
B20: Közösségi, társadalmi és információs tevékenység
B21: Társadalmi kapcsolatok kiadásai
B22: ~3/2018.(II.8.) önkormányzati rendelet 6.§ (10) bekezdése szerinti átcsoportosítás
B23: Protokoll költség | E23: -954 | H23: =SUM(C23:G23) -> -954 | I23: 954 | L23: =SUM(I23:K23) -> 954 | P23: =O23+L23+H23 -> 0
B24: III. Adventi Jótékonysági Futás és a Székesfehérvári Jótékonysági Estély 2018 | C24: -2 | E24: 2 | H24: =SUM(C24:G24) -> 0 | L24: =SUM(I24:K24) -> 0 | P24: =O24+L24+H24 -> 0
B25: Helyi foglalkoztatási együttműködések Székesfehérvár és járása területén | C25: -7031 | E25: 18517 | H25: =SUM(C25:G25) -> 11486 | I25: -11486 | L25: =SUM(I25:K25) -> -11486 | P25: =O25+L25+H25 -> 0
B26: Ifjúsági feladatok és a Székesfehérvári Diáktanács működése | E26: -50 | G26: 50 | H26: =SUM(C26:G26) -> 0 | L26: =SUM(I26:K26) -> 0 | P26: =O26+L26+H26 -> 0
B27: Polgárdi iskola helyreállításához gyorssegély | G27: 5000 | H27: =SUM(C27:G27) -> 5000 | K27: -5000 | L27: =SUM(I27:K27) -> -5000 | P27: =O27+L27+H27 -> 0
B28: MARKÓ S. MÁRIA EMLÉKALAPÍTVÁNY AZ ESÉLYEGYENLŐSÉGÉRT Alapítvány | G28: -3500 | H28: =SUM(C28:G28) -> -3500 | K28: 3500 | L28: =SUM(I28:K28) -> 3500 | P28: =O28+L28+H28 -> 0
B29: Székesfehérvári Református Egyházközség támogatási kerete | G29: -50000 | H29: =SUM(C29:G29) -> -50000 | K29: 50000 | L29: =SUM(I29:K29) -> 50000 | P29: =O29+L29+H29 -> 0
B31: ~ Igazgatási tevékenységet érintő átcsoportosítás céltartalékról
B32: Vállalkozók és Munkáltatók Országos Szövetsége | G32: 250 | H32: =SUM(C32:G32) -> 250 | L32: =SUM(I32:K32) -> 0 | P32: =O32+L32+H32 -> 250
B33: TIMI-BEA Művészeti Szolgáltató, Kulturális Betéti Társaság | G33: 500 | H33: =SUM(C33:G33) -> 500 | L33: =SUM(I33:K33) -> 0 | P33: =O33+L33+H33 -> 500
B34: Vasútmodell kiállítás üzemeltetésének támogatása (310/2018.(V.18.) kgy.hat.alapján) | G34: 2483 | H34: =SUM(C34:G34) -> 2483 | L34: =SUM(I34:K34) -> 0 | P34: =O34+L34+H34 -> 2483
B35: Prosperis Alba Kutatóközpont Nonprofit Kft. (544/2018. (VIII.17.) kgy.hat.alapján | E35: 27500 | H35: =SUM(C35:G35) -> 27500 | I35: 3000 | L35: =SUM(I35:K35) -> 3000 | P35: =O35+L35+H35 -> 30500
B36: Sóstói Stadion megnyitó rendezvényének kerete | E36: 40000 | H36: =SUM(C36:G36) -> 40000 | L36: =SUM(I36:K36) -> 0 | P36: =O36+L36+H36 -> 40000
B38: Nemzetközi kapcsolatok és reprezentáció
B39: ~3/2018.(II.8.) önkormányzati rendelet 6.§ (10) bekezdése szerinti átcsoportosítás
B40: Nemzetközi kapcsolatok | C40: 2730 | D40: 716 | G40: -3446 | H40: =SUM(C40:G40) -> 0 | L40: =SUM(I40:K40) -> 0 | P40: =O40+L40+H40 -> 0
B41: Határon túli magyar kapcsolatok | C41: 569 | D41: 325 | E41: 193 | G41: -1087 | H41: =SUM(C41:G41) -> 0 | L41: =SUM(I41:K41) -> 0 | P41: =O41+L41+H41 -> 0
B43: ~ Igazgatási tevékenységet érintő átcsoportosítás céltartalékról
B44: Nemzetközi kapcsolatok | G44: 1000 | H44: =SUM(C44:G44) -> 1000 | L44: =SUM(I44:K44) -> 0 | P44: =O44+L44+H44 -> 1000
B46: ~ Intézményhez lebontva
B47: Nemzetközi kapcsolatok - Opolei bábszínházban a "Pukedli" című táncos előadás költségeihez hozzájárulás (Vörösmarty Színház) | G47: -1098 | H47: =SUM(C47:G47) -> -1098 | L47: =SUM(I47:K47) -> 0 | P47: =O47+L47+H47 -> -1098
B48: Határon túli magyar kapcsolatok - Az Aranybulla Művészeti Napok alkalmából megnyíló Éltes Barna sepsiszentgyörgyi szobrászművész kiállítási anyagának szállítási költségeihez hozzájárulás (A Szabadművelődés Háza) | G48: -500 | H48: =SUM(C48:G48) -> -500 | L48: =SUM(I48:K48) -> 0 | P48: =O48+L48+H48 -> -500
B50: Személyügyi kiadások
B51: ~3/2018.(II.8.) önkormányzati rendelet 6.§ (10) bekezdése szerinti átcsoportosítás
B52: Képviselők és egyéb önkormányzati tanácsadó, testületi tagok juttatásai | C52: -298 | E52: 298 | H52: =SUM(C52:G52) -> 0 | L52: =SUM(I52:K52) -> 0 | P52: =O52+L52+H52 -> 0
B53: Megbízási díjak | E53: -4052 | H53: =SUM(C53:G53) -> -4052 | L53: =SUM(I53:K53) -> 0 | P53: =O53+L53+H53 -> -4052
B54: Választott tisztségviselők juttatásai | C54: 3391 | H54: =SUM(C54:G54) -> 3391 | L54: =SUM(I54:K54) -> 0 | P54: =O54+L54+H54 -> 3391
B55: Munkaadókat terhelő járulék | D55: 661 | H55: =SUM(C55:G55) -> 661 | L55: =SUM(I55:K55) -> 0 | P55: =O55+L55+H55 -> 661
B57: ~ Igazgatási tevékenységet érintő átcsoportosítás céltartalékról
B58: Választott tisztségviselők juttatásai | C58: 3992 | H58: =SUM(C58:G58) -> 3992 | L58: =SUM(I58:K58) -> 0 | P58: =O58+L58+H58 -> 3992
B59: Munkaadókat terhelő járulék | D59: 778 | H59: =SUM(C59:G59) -> 778 | L59: =SUM(I59:K59) -> 0 | P59: =O59+L59+H59 -> 778
B61: Informatikai terület
B62: ~ Önkormányzatot- Polgármesteri Hivatalt érintő átcsoportosítás
B63: Informatikai fejlesztés | H63: =SUM(C63:G63) -> 0 | I63: 65000 | L63: =SUM(I63:K63) -> 65000 | P63: =O63+L63+H63 -> 65000
B65: Rendvédelmi, közbiztonsági feladatok, védelmi felkészítés
B66: ~3/2018.(II.8.) önkormányzati rendelet 6.§ (10) bekezdése szerinti átcsoportosítás
B67: Városrészi közbiztonsági feladatok támogatása | G67: -2400 | H67: =SUM(C67:G67) -> -2400 | K67: 2400 | L67: =SUM(I67:K67) -> 2400 | P67: =O67+L67+H67 -> 0
A69: III. | B69: Városfejlesztés
B70: Felújítási kiadások
B71: ~ Főösszeget nem érintő belső átcsoportosítás
B72: Ligetsori Óvoda - Villamos hálózat korszerűsítése (359/2018.(V.18.) kgy.hat.alapján) | H72: =SUM(C72:G72) -> 0 | J72: 1876 | L72: =SUM(I72:K72) -> 1876 | P72: =O72+L72+H72 -> 1876
B73: Árpád úti Óvoda - Villamos hálózat korszerűsítése (359/2018.(V.18.) kgy.hat.alapján) | H73: =SUM(C73:G73) -> 0 | J73: -1876 | L73: =SUM(I73:K73) -> -1876 | P73: =O73+L73+H73 -> -1876
B74: Gyöngyvirág Óvoda - Nyílászáró csere (479/2018.(VI.29.) kgy.hat.alapján) | H74: =SUM(C74:G74) -> 0 | J74: 1824 | L74: =SUM(I74:K74) -> 1824 | P74: =O74+L74+H74 -> 1824
B75: Tartalék keret (479/2018.(VI.29.) kgy.hat.alapján) | H75: =SUM(C75:G75) -> 0 | J75: 1634 | L75: =SUM(I75:K75) -> 1634 | P75: =O75+L75+H75 -> 1634
B76: Szivárvány Óvoda Püspökkertvárosi Tagóvodája - Tetőfelújítás (479/2018.(VI.29.) kgy.hat.alapján) | H76: =SUM(C76:G76) -> 0 | J76: =-1824-1634 -> -3458 | L76: =SUM(I76:K76) -> -3458 | P76: =O76+L76+H76 -> -3458
B77: 7. számú Bölcsőde - Tetőfelújítás, lemezfedés készítése (480/2018.(VI.29.) kgy.hat.alapján) | H77: =SUM(C77:G77) -> 0 | J77: 1556 | L77: =SUM(I77:K77) -> 1556 | P77: =O77+L77+H77 -> 1556
B78: Szivárvány Óvoda Püspökkertvárosi Tagóvodája - Tetőfelújítás (480/2018.(VI.29.) kgy.hat.alapján) | H78: =SUM(C78:G78) -> 0 | J78: -1556 | L78: =SUM(I78:K78) -> -1556 | P78: =O78+L78+H78 -> -1556
B80: ~3/2018.(II.8.) önkormányzati rendelet 6.§ (10) bekezdése szerinti átcsoportosítás
B81: Arany János Óvoda, Általános Iskola, Speciális Szakiskola és EGYMI - Felújítási munkálatokkal kapcsolatos feladatok | E81: 343 | H81: =SUM(C81:G81) -> 343 | J81: -201804 | K81: 201461 | L81: =SUM(I81:K81) -> -343 | P81: =O81+L81+H81 -> 0
B82: Árpád úti Óvoda - Villamos hálózat korszerűsítése | H82: =SUM(C82:G82) -> 0 | I82: 29703 | J82: -29703 | L82: =SUM(I82:K82) -> 0 | P82: =O82+L82+H82 -> 0
B83: Árpád úti Óvoda Vízivárosi Tagóvodája - Fűtési rendszer felújítása | H83: =SUM(C83:G83) -> 0 | I83: 19236 | J83: -19236 | L83: =SUM(I83:K83) -> 0 | P83: =O83+L83+H83 -> 0
B84: Felsővárosi Óvoda - Udvar felújítása (263/2018.(IV.20.) kgy.hat.alapján | E84: 438 | H84: =SUM(C84:G84) -> 438 | I84: 5706 | J84: -6144 | L84: =SUM(I84:K84) -> -438 | P84: =O84+L84+H84 -> 0
B85: Belvárosi Brunszvik Teréz Óvoda - Udvar felújítása (263/2018.(IV.20.) kgy.hat.alapján | E85: 1793 | H85: =SUM(C85:G85) -> 1793 | I85: 11222 | J85: -13015 | L85: =SUM(I85:K85) -> -1793 | P85: =O85+L85+H85 -> 0
B86: Tolnai Úti Óvoda - Udvar felújítása (263/2018.(IV.20.) kgy.hat.alapján | E86: 1968 | H86: =SUM(C86:G86) -> 1968 | I86: 13764 | J86: -15732 | L86: =SUM(I86:K86) -> -1968 | P86: =O86+L86+H86 -> 0
B87: Napsugár Óvoda Nefelejcs Tagóvodája - Kazán csere | H87: =SUM(C87:G87) -> 0 | I87: 4144 | L87: =SUM(I87:K87) -> 4144 | P87: =O87+L87+H87 -> 4144
B88: Tartalék keret | H88: =SUM(C88:G88) -> 0 | I88: 78 | J88: =-4144-78 -> -4222 | L88: =SUM(I88:K88) -> -4144 | P88: =O88+L88+H88 -> -4144
B89: Szivárvány Óvoda - Csapadékvíz elvezetés kiépítése | H89: =SUM(C89:G89) -> 0 | I89: 44794 | J89: -44794 | L89: =SUM(I89:K89) -> 0 | P89: =O89+L89+H89 -> 0
B90: Szivárvány Óvoda Püspökkertvárosi Tagóvodája- Radiátorok cseréje | H90: =SUM(C90:G90) -> 0 | I90: 11205 | J90: -11205 | L90: =SUM(I90:K90) -> 0 | P90: =O90+L90+H90 -> 0
B91: Budai u. 56/a ingatlan felújítása (Csemete Gyermekcentrum Bölcsőde) - Konyha felújítás tervezése és homlokzati nyílászárók cseréje | H91: =SUM(C91:G91) -> 0 | I91: 1372 | J91: -1372 | L91: =SUM(I91:K91) -> 0 | P91: =O91+L91+H91 -> 0
B92: Csók István Képtár - Homlokzat helyreállítása, árkádsor alatti világítás kiépítése lépcső helyreállítással | H92: =SUM(C92:G92) -> 0 | I92: 395 | J92: -395 | L92: =SUM(I92:K92) -> 0 | P92: =O92+L92+H92 -> 0
B93: Szászszorszép Bölcsőde - Épület felújítása és eszközbeszerzés a TOP 6.6.1-16 kódszámú pályázati felhívás keretében | H93: =SUM(C93:G93) -> 0 | I93: 3615 | J93: -3615 | L93: =SUM(I93:K93) -> 0 | P93: =O93+L93+H93 -> 0
B94: Ybl Miklós lakótelepi rendelőépület - Gyermekorvosi rendelő és védőnői tanácsadó átalakítása, bővítése, felújítása a TOP 6.2.1-16 kódszámú pályázati felhívás keretében | E94: -4107 | H94: =SUM(C94:G94) -> -4107 | I94: 1800 | J94: 2307 | L94: =SUM(I94:K94) -> 4107 | P94: =O94+L94+H94 -> 0
B95: Szekfű Gyula utcai rendelőépület - Felnőtt fogászati, fogszabályzós szakrendelés, valamint háziorvosi rendelő felújítása, fejlesztése | H95: =SUM(C95:G95) -> 0 | I95: 127 | J95: -127 | L95: =SUM(I95:K95) -> 0 | P95: =O95+L95+H95 -> 0
B97: ~ Igazgatási tevékenységet érintő átcsoportosítás céltartalékról
B98: Rákóczi Utcai Óvoda - Épület energiahatékonysági rekonstrukciója, akadálymentesítése, külső terek felújítása, eszközök beszerzése a TOP 6.2. intézkedés kiírására figyelemmel (332/2018. (V.18.) kgy.hat.alapján) | H98: =SUM(C98:G98) -> 0 | I98: 2738 | L98: =SUM(I98:K98) -> 2738 | P98: =O98+L98+H98 -> 2738
B99: Ybl Miklós lakótelepi rendelőépület - Gyermekorvosi rendelő és védőnői tanácsadó átalakítása, bővítése, felújítása a TOP 6.2.1-16 kódszámú pályázati felhívás keretében (554/2018.(VIII.17.) kgy.hat.alapján) | H99: =SUM(C99:G99) -> 0 | J99: 5756 | L99: =SUM(I99:K99) -> 5756 | P99: =O99+L99+H99 -> 5756
B101: ~ Igazgatási tevékenységet érintő átcsoportosítás általános tartalékról
B102: Felsővárosi Általános Iskola - kerítés elemek javítása, felújítása, kisajtó készítése (308/2018.(V.18.) kgy.hat. Alapján) | H102: =SUM(C102:G102) -> 0 | J102: 3300 | L102: =SUM(I102:K102) -> 3300 | P102: =O102+L102+H102 -> 3300
B103: Belvárosi Brunszvik Teréz Óvoda - udvari játszóeszközeinek felújítása (356/2018.(V.18.) kgy.hat.alapján) | H103: =SUM(C103:G103) -> 0 | I103: 11115 | L103: =SUM(I103:K103) -> 11115 | P103: =O103+L103+H103 -> 11115
B104: Maroshegyi Óvoda - Óvodaudvar korszerűsítése- udvari eszközök beszerzése (375/2018.(V.18.) kgy.hat.alapján) | H104: =SUM(C104:G104) -> 0 | I104: 188 | L104: =SUM(I104:K104) -> 188 | P104: =O104+L104+H104 -> 188
B106: Fejlesztési, felhalmozási ráfordítások
B107: ~ Bevétel miatti növekedés
B108: Csóri karsztakna védelembe helyezése előkészítő feladatok | H108: =SUM(C108:G108) -> 0 | I108: 23000 | L108: =SUM(I108:K108) -> 23000 | P108: =O108+L108+H108 -> 23000
B110: ~ Főösszeget nem érintő belső átcsoportosítás
B111: Jávor Ottó tér terület és parkrendezés (462/2018.(VI.15.) kgy.hat.alapján) | H111: =SUM(C111:G111) -> 0 | I111: 4100 | L111: =SUM(I111:K111) -> 4100 | P111: =O111+L111+H111 -> 4100
B112: Saára Gyula Program - Zombori út felújítása (462/2018.(VI.15.) kgy.hat.alapján) | H112: =SUM(C112:G112) -> 0 | I112: -4100 | L112: =SUM(I112:K112) -> -4100 | P112: =O112+L112+H112 -> -4100
B113: Saára Gyula Program - Széchenyi út felújítása a Budai út és Horvát István utca között (511/2018.(VII.27.) kgy.hat.alapján) | H113: =SUM(C113:G113) -> 0 | I113: 13555 | L113: =SUM(I113:K113) -> 13555 | P113: =O113+L113+H113 -> 13555
B114: Saára Gyula Program - Zombori út felújítása (511/2018.(VII.27.) kgy.hat.alapján) | H114: =SUM(C114:G114) -> 0 | I114: -13555 | L114: =SUM(I114:K114) -> -13555 | P114: =O114+L114+H114 -> -13555
B115: Saára Gyula Program - Széchenyi út - Horvát István út új sáv kiépítése középsziget csökkentésével (556/2018.(VIII.17.) kgy.hat.alapján) | E115: 3615 | H115: =SUM(C115:G115) -> 3615 | I115: 13389 | L115: =SUM(I115:K115) -> 13389 | P115: =O115+L115+H115 -> 17004
B116: Saára Gyula Program - Zombori út felújítása (556/2018.(VIII.17.) kgy.hat.alapján) | H116: =SUM(C116:G116) -> 0 | I116: -17004 | L116: =SUM(I116:K116) -> -17004 | P116: =O116+L116+H116 -> -17004
B117: Szent István Király Múzeum épületének rekonstrukciója előkészítése | E117: 185216 | H117: =SUM(C117:G117) -> 185216 | I117: -185216 | L117: =SUM(I117:K117) -> -185216 | P117: =O117+L117+H117 -> 0
B119: ~3/2018.(II.8.) önkormányzati rendelet 6.§ (10) bekezdése szerinti átcsoportosítás bevétel miatti növekedés
B120: Szent István Király Múzeum épületének rekonstrukciója előkészítése | H120: =SUM(C120:G120) -> 0 | I120: 393730 | L120: =SUM(I120:K120) -> 393730 | P120: =O120+L120+H120 -> 393730
...

Sheet 11melléklet
A1: Az Önkormányzat költségvetési kiadásai feladatonkénti bontásban (eFt-ban)
B3: Megnevezés | C3: Módosított előirányzat (1) | D3: Javasolt módosítás (2) | E3: Új Módosított előirányzat (3)=(1)+(2) | F3: 2018. évre áthúzódó (4) | G3: 2018. évi előirányzat (5) | H3: Költségvetési szerveknek lebontás (6) | I3: Kötelező feladat | J3: Önként vállalt feladat | K3: Állami (államigaz-gatási feladat) | L3: Kötelező feladat | M3: Önként vállalt feladat | N3: Államigaz-gatási feladat
A4: I. | B4: IGAZGATÁSI TEVÉKENYSÉG | C4: 5280456 | D4: =SUM(D5,D9,D76,D77,D79) -> 121923 | E4: =SUM(E5,E9,E76,E77,E79) -> 5475514 | F4: =SUM(F5,F9,F76,F77,F79) -> 838 | G4: =SUM(G5,G9,G76,G77,G79) -> 5482894 | H4: =SUM(H5,H9,H76,H77,H79) -> -8218 | I4: X | J4: X
B5: Pénzügyi igazgatási feladatok | C5: 4200621 | D5: =SUM(D6:D8) -> 52153 | E5: =SUM(E6:E8) -> 4252774 | F5: =SUM(F6:F8) -> 791 | G5: =SUM(G6:G8) -> 4251983 | H5: =SUM(H6:H8) -> 0 | I5: X | J5: X | L5: x | M5: x
B6: Különféle adók, díjak, pénzügyi kiadások | C6: 1231681 | D6: 52153 | E6: =SUM(C6:D6) -> 1283834 | F6: =791 -> 791 | G6: =298979+307+931604+52153 -> 1283043 | I6: X | J6: X | L6: x | M6: x
B7: Székesfehérvári Mikrovállalkozások Kamattámogatási Programja | C7: 9605 | E7: =SUM(C7:D7) -> 9605 | G7: 9605 | M7: x
B8: Szolidaritási hozzájárulás | C8: 2959335 | E8: =SUM(C8:D8) -> 2959335 | G8: 2959335 | L8: x
B9: Közösségi, társadalmi és információs tevékenység | C9: 454447 | E9: =SUM(E10,E71,E75) -> 527582 | F9: =SUM(F10,F71,F75) -> 47 | G9: =SUM(G10,G71,G75) -> 535753 | H9: =SUM(H10,H71,H75) -> -8218 | I9: X | J9: X | L9: x | M9: x
B10: Társadalmi kapcsolatok kiadásai | C10: 427818 | D10: =33733+40000 -> 73733 | E10: =SUM(C10:D10) -> 501551 | F10: 47 | G10: =58889+350231+25271+33733+40000 -> 508124 | H10: -6620 | I10: X | J10: X | L10: x | M10: x
B11: ~ ebből: Civil nap megrendezési költségei | C11: 2000 | E11: =SUM(C11:D11) -> 2000 | G11: 2000 | J11: X | M11: x
B12: Kegyeleti rendelet végrehajtása | C12: 2000 | E12: =SUM(C12:D12) -> 2000 | G12: 2000 | J12: X | M12: x
B13: Rászorulókat segítő karácsonyi programok és támogatások | C13: 4322 | E13: =SUM(C13:D13) -> 4322 | G13: 4322 | J13: X | M13: x
B14: Önkormányzati kitüntetések, címek | C14: 9938 | E14: =SUM(C14:D14) -> 9938 | G14: =638+9300 -> 9938 | J14: X | M14: x
B15: Székesfehérvári Fogyasztóvédelmi Egyesület | C15: 400 | E15: =SUM(C15:D15) -> 400 | G15: 400 | J15: X | M15: x
B16: Lakásbérlők és Lakástulajdonosok Érdekvédelmi Egyesülete | C16: 400 | E16: =SUM(C16:D16) -> 400 | G16: 400 | J16: X | M16: x
B17: Alba Regia Nyugdíjas Egyesület | C17: 15000 | E17: =SUM(C17:D17) -> 15000 | G17: 15000 | J17: X | M17: x
B18: Széna Egyesület a Családokért | C18: 3500 | E18: =SUM(C18:D18) -> 3500 | G18: =2000+1500 -> 3500 | J18: X | M18: x
B19: Szegényeket Támogató Alapítvány | C19: 2000 | E19: =SUM(C19:D19) -> 2000 | G19: 2000 | J19: X | M19: x
B20: Ifjúság A Jövő Családjaiért Kulturális Közhasznú Egyesület | C20: 3500 | E20: =SUM(C20:D20) -> 3500 | G20: =2000+1500 -> 3500 | J20: X | M20: x
B21: Székesfehérvári Egyházmegye-Belvárosi templomok turisztikai célú támogatása | C21: 4000 | E21: =SUM(C21:D21) -> 4000 | G21: =3000+1000 -> 4000 | J21: X | M21: x
B22: Vadmadárkórház Természetvédelmi Alapítvány a Vadon Élő Madarak Megmentéséért | C22: 1000 | E22: =SUM(C22:D22) -> 1000 | G22: 1000 | M22: x
B23: Székesfehérvári Városszépítő- és Védő Egyesület | C23: 450 | E23: =SUM(C23:D23) -> 450 | G23: 450 | J23: X | M23: x
B24: Alapítvány a Székesfehérvári Fogyasztóvédelemért | C24: 1000 | E24: =SUM(C24:D24) -> 1000 | G24: =400+600 -> 1000 | J24: X | M24: x
B25: Magyar Hadisírgondozó Szövetség | C25: 500 | E25: =SUM(C25:D25) -> 500 | G25: 500 | J25: X | M25: x
B26: Fehérvári Tűzoltó Egyesület | C26: 200 | E26: =SUM(C26:D26) -> 200 | G26: 200 | J26: X | M26: x
B27: Vadásztölténygyári Vasas Ifjúsági és Sport Egyesület- Futballfesztivál megrendezésének támogatása | C27: 2500 | E27: =SUM(C27:D27) -> 2500 | G27: 2500 | J27: X | M27: x
B28: Maroshegyi Ifjúsági Egyesület | C28: 1000 | E28: =SUM(C28:D28) -> 1000 | G28: 1000 | J28: X | M28: x
B29: Egészség és Kultúra Egyesület - Fehérvár Feszt megrendezésének támogatása | C29: 1000 | E29: =SUM(C29:D29) -> 1000 | G29: 1000 | J29: X | M29: x
B30: Egészség és Kultúra Egyesület - Skate Park és szurkolói klub működtetése | C30: 4250 | E30: =SUM(C30:D30) -> 4250 | G30: 4250 | J30: X | M30: x
B31: Székesfehérvári Városszépítő- és Védő Egyesület - Székesfehérvár Hosszútemető műemlék jellegű sírjainak karbantartására, felújítására | C31: 5000 | E31: =SUM(C31:D31) -> 5000 | G31: 5000 | J31: X | M31: x
B32: Ifjúsági feladatok és a Székesfehérvári Diáktanács működése | C32: 6350 | E32: =SUM(C32:D32) -> 6350 | G32: =350+6000 -> 6350 | M32: x
B33: Helyi foglalkoztatási együttműködések Székesfehérvár és járása területén | C33: 45636 | E33: =SUM(C33:D33) -> 45636 | G33: =13645+31991 -> 45636 | M33: x
B34: Székesfehérvári Szerb Nemzetiségi Önkormányzat- Szerb templom karbantartásához, felújításához, nyitvatartásához | C34: 1200 | E34: =SUM(C34:D34) -> 1200 | G34: 1200 | M34: x
B35: GAP Média Kft. - Ezer Lámpás Éjszakája rendezvénysorozat | C35: 2200 | E35: =SUM(C35:D35) -> 2200 | G35: 2200 | M35: x
B36: Székesfehérvári Születési Támogatási Program | C36: 30686 | E36: =SUM(C36:D36) -> 30686 | G36: =30000+686 -> 30686 | M36: x
B37: Székesfehérvári Szociális Alapítvány | C37: 5000 | E37: =SUM(C37:D37) -> 5000 | G37: 5000 | M37: x
B38: Székesfehérvári Érzékenyítő Program | C38: 2953 | E38: =SUM(C38:D38) -> 2953 | G38: =953+2000 -> 2953 | M38: x
B39: Fehérvár kártya | C39: 1524 | E39: =SUM(C39:D39) -> 1524 | G39: 1524 | J39: X | M39: x
B40: Gaja Környezetvédő Egyesület működési támogatása | C40: 1500 | E40: =SUM(C40:D40) -> 1500 | G40: 1500 | M40: x
B41: Önkormányzati közalapítványok támogatása (379/2016. (V.27.) kgy. hat. alapján) | C41: 1880 | E41: =SUM(C41:D41) -> 1880 | G41: 1880 | M41: x
B42: Hadisírok, emlékművek helyreállítása, felújítása | C42: 23000 | E42: =SUM(C42:D42) -> 23000 | G42: 23000 | M42: x
B43: Katonai Emlékpark Közhasznú Nonprofit Kft.- A Katonai Emlékpark kiemelt- elsősorban pedagógiai-programjainak támogatása | C43: 1500 | E43: =SUM(C43:D43) -> 1500 | G43: 1500 | M43: x
B44: 1956-os Magyar Szabadságharcosok Világszövetsége Egyesület | C44: 250 | E44: =SUM(C44:D44) -> 250 | G44: 250 | M44: x
B45: Honvédség és Társadalom Baráti Kör Székesfehérvári Szervezete | C45: 3000 | E45: =SUM(C45:D45) -> 3000 | G45: 3000 | M45: x
B46: Dévai Szent Ferenc Alapítvány- Szent Imre Iskolaház működéséhez támogatás | C46: 3000 | E46: =SUM(C46:D46) -> 3000 | G46: 3000 | M46: x
B47: Fehérvári Civil Központ üzemeltetése | C47: 24790 | E47: =SUM(C47:D47) -> 24790 | G47: 24790 | M47: x
B48: III. Adventi Jótékonysági Futás és a VII. Székesfehérvári Jótékonysági Estély (744/2017.(X.20.) kgy.hat.alapján) | C48: 4239 | E48: =SUM(C48:D48) -> 4239 | G48: =4129+6730 -> 10859 | H48: -6620 | M48: x
B49: "Zöld fal" projekt | C49: 5000 | E49: =SUM(C49:D49) -> 5000 | G49: 5000 | M49: x
B50: Civil Centrum Közhasznú Alapítvány - Esélykör működtetése | C50: 2300 | E50: =SUM(C50:D50) -> 2300 | G50: 2300 | M50: x
B51: Ciszterci Szent István Gimnázium - prevenciós előadássorozat támogatása | C51: 720 | E51: =SUM(C51:D51) -> 720 | G51: 720 | M51: x
B52: Fiatalok Fehérvárért Egyesület | C52: 550 | E52: =SUM(C52:D52) -> 550 | G52: 550 | M52: x
B53: Székesfehérvári Református Egyházközség támogatási kerete | C53: 50000 | E53: =SUM(C53:D53) -> 50000 | G53: 50000 | M53: x
B54: Polgárdi iskola helyreállításához gyorssegély | C54: 5000 | E54: =SUM(C54:D54) -> 5000 | G54: 5000 | M54: x
B55: Magyar Vöröskereszt Fejér Megyei Szervezete | C55: 2000 | E55: =SUM(C55:D55) -> 2000 | G55: 2000 | M55: x
B56: Tarsoly Ifjúságért Egyesület | C56: 500 | E56: =SUM(C56:D56) -> 500 | G56: 500 | M56: x
B57: Szociális keret | C57: 30000 | E57: =SUM(C57:D57) -> 30000 | G57: 30000 | M57: x
B58: Nagycsaládosok Országos Egyesülete - székesfehérvári csoport támogatása | C58: 300 | E58: =SUM(C58:D58) -> 300 | G58: 300 | M58: x
B59: Szent Candid Alapítvány | C59: 500 | E59: =SUM(C59:D59) -> 500 | G59: 500 | M59: x
B60: Magyar Néprajzi Társaság | C60: 400 | E60: =SUM(C60:D60) -> 400 | G60: 400 | M60: x
... B65: Hiszek Benned Sport Program | C65: 3300 | E65: =SUM(C65:D65) -> 3300 | G65: 3300 | M65: x
B66: Vállalkozók és Munkáltatók Országos Szövetsége | D66: 250 | E66: =SUM(C66:D66) -> 250 | G66: 250 | M66: x
B67: TIMI-BEA Művészeti Szolgáltató, Kulturális Betéti Társaság | D67: 500 | E67: =SUM(C67:D67) -> 500 | G67: 500 | M67: x
B68: Vasútmodell kiállítás üzemeltetésének támogatása (310/2018.(V.18.) kgy.hat.alapján) | D68: 2483 | E68: =SUM(C68:D68) -> 2483 | G68: 2483 | M68: x
B69: Prosperis Alba Kutatóközpont Nonprofit Kft. (544/2018. (VIII.17.) kgy.hat.alapján | D69: 30500 | E69: =SUM(C69:D69) -> 30500 | G69: 30500 | M69: x
B70: Sóstói Stadion megnyitó rendezvényének kerete | D70: 40000 | E70: =SUM(C70:D70) -> 40000 | G70: 40000 | M70: x
B71: Nemzetközi kapcsolatok és reprezentáció | C71: 19437 | D71: =SUM(D72:D74) -> -598 | E71: =SUM(E72:E74) -> 18839 | F71: =SUM(F72:F74) -> 0 | G71: =SUM(G72:G74) -> 20437 | H71: =SUM(H72:H74) -> -1598 | J71: X | M71: x
B72: ~ ebből: Nemzetközi kapcsolatok | C72: 15247 | D72: =1000-1098 -> -98 | E72: =SUM(C72:D72) -> 15149 | G72: =247+15000+1000 -> 16247 | H72: -1098 | J72: X | M72: x
B73: Reprezentáció | C73: 1190 | E73: =SUM(C73:D73) -> 1190 | G73: =190+1000 -> 1190 | J73: X | M73: x
B74: Határon túli magyar kapcsolatok | C74: 3000 | D74: -500 | E74: =SUM(C74:D74) -> 2500 | G74: =500+2500 -> 3000 | H74: -500 | J74: X | M74: x
B75: Tagdíjak, testületek | C75: 7192 | E75: =SUM(C75:D75) -> 7192 | F75: 0 | G75: =7167+25 -> 7192 | I75: X | J75: X | L75: x | M75: x
B76: Személyügyi kiadások | C76: 329776 | D76: 4770 | E76: =SUM(C76:D76) -> 334546 | G76: =310344+19432+4770 -> 334546 | I76: X | J76: X | L76: x | M76: x
B77: Informatikai terület | C77: 225594 | D77: 65000 | E77: =SUM(C77:D77) -> 290594 | F77: 0 | G77: =225594+65000 -> 290594 | I77: X | L77: x
B78: ~ ebből: Önkormányzati Informatikai Központ Nonprofit Kft. | C78: 225340 | E78: =SUM(C78:D78) -> 225340 | G78: 225340 | I78: X | L78: x
B79: Rendvédelmi, közbiztonsági feladatok, védelmi felkészítés | C79: 70018 | D79: =SUM(D80:D84) -> 0 | E79: =SUM(C79:D79) -> 70018 | G79: =62550+7468 -> 70018 | J79: X | M79: x
B80: ~ ebből: Városrészi közbiztonsági feladatok támogatása | C80: 10000 | E80: =SUM(C80:D80) -> 10000 | G80: 10000 | J80: X | M80: x
B81: Fejér Megyei Rendőr-Főkapitányság - Székesfehérvári Rendőrkapitányság működésére | C81: 28000 | E81: =SUM(C81:D81) -> 28000 | G81: 28000 | J81: X | M81: x
B82: Fejér Megyei Katasztrófavédelmi Igazgatóság - Polgári Védelmi Kirendeltségének 2018. évi támogatására | C82: 2500 | E82: =SUM(C82:D82) -> 2500 | G82: 2500 | J82: X | M82: x
B83: Térfigyelő kamerarendszer bővítése (Közbiztonság növelését szolgáló fejlesztések megvalósítása) | C83: 26518 | E83: =SUM(C83:D83) -> 26518 | G83: =19050+7468 -> 26518 | J83: X | M83: x
B84: Közbiztonsági problémák társadalmi kezelése | C84: 3000 | E84: =SUM(C84:D84) -> 3000 | G84: 3000 | J84: X | M84: x
A85: II. | B85: HATÓSÁGI TEVÉKENYSÉG | C85: 40701 | D85: =SUM(D86:D87) -> 0 | E85: =SUM(E86:E87) -> 40701 | F85: =SUM(F86:F87) -> 0 | G85: =SUM(G86:G87) -> 40701 | H85: =SUM(H86:H87) -> 0 | I85: X | J85: X | L85: x
B86: Anyakönyvi népesség-nyilvántartási és okmánykibocsátási tevékenység | C86: 15689 | E86: =SUM(C86:D86) -> 15689 | G86: =15000+689 -> 15689 | I86: X | L86: x
B87: Szociális ellátási és gyermekvédelmi feladatok | C87: 25012 | E87: =SUM(C87:D87) -> 25012 | G87: =25000+12 -> 25012 | I87: X | J87: X | L87: x
A88: III. | B88: VÁROSFEJLESZTÉS | C88: =SUM(C89:C92) -> 38915091 | D88: =SUM(D89:D92) -> 667149 | E88: =SUM(E89:E92) -> 39582240 | F88: =SUM(F89:F92) -> 44407 | G88: =SUM(G89:G92) -> 39549833 | H88: =SUM(H89:H92) -> -12000 | I88: X | L88: x | M88: x
B89: Felújítási kiadások | C89: 2611543 | D89: 23097 | E89: =SUM(C89:D89) -> 2634640 | G89: =585714+1983949+41880+23097 -> 2634640 | I89: X | L89: x
B90: Fejlesztési, felhalmozási ráfordítások | C90: 35153665 | D90: =624321+5000 -> 629321 | E90: =SUM(C90:D90) -> 35782986 | F90: 44407 | G90: =14725155+20175466+220637+629321 -> 35750579 | H90: -12000 | I90: X | J90: X | L90: x | M90: x
B91: Víziközmű-fejlesztési Alap | C91: 1130411 | D91: 3988 | E91: =SUM(C91:D91) -> 1134399 | G91: =647811+482600+3988 -> 1134399 | I91: X | L91: x
B92: Közbeszerzési és egyéb jogi eljárásokkal kapcsolatos kiadások | C92: 19472 | D92: 10743 | E92: =SUM(C92:D92) -> 30215 | G92: =2643+16829+10743 -> 30215 | I92: X | L92: x
A93: IV. | B93: VAGYONGAZDÁLKODÁS | C93: =SUM(C96,C94) -> 1269814 | D93: =SUM(D96,D94) -> 127000 | E93: =SUM(E96,E94) -> 1396814 | F93: =SUM(F96,F94) -> 0 | G93: =SUM(G96,G94) -> 1396814 | H93: =SUM(H96,H94) -> 0 | I93: X | J93: X | L93: x | M93: x
B94: Lakás-, vagyongazdálkodási kiadások | C94: 1258482 | D94: 127000 | E94: =SUM(C94:D94) -> 1385482 | G94: =14104+886048+358330+127000 -> 1385482 | I94: X | J94: X | L94: x | M94: x
B95: Ingatlangazdálkodási Alap | C95: 20000 | E95: =SUM(C95:D95) -> 20000 | G95: 20000 | J95: X | M95: x
B96: Lakáselidegenítés kiadásai | C96: 11332 | E96: =SUM(C96:D96) -> 11332 | G96: =332+11000 -> 11332 | J96: X | M96: x
A97: V. | B97: VÁROS- ÉS KÖZSÉGGAZDÁLKODÁS | C97: =SUM(C105,C103,C100,C98:C99) -> 8110978 | D97: =SUM(D105,D103,D100,D98:D99) -> 248344 | E97: =SUM(E105,E103,E100,E98:E99) -> 8359322 | F97: =SUM(F105,F103,F100,F98:F99) -> 0 | G97: =SUM(G105,G103,G100,G98:G99) -> 8359322 | H97: =SUM(H105,H103,H100,H98:H99) -> 0 | L97: x | M97: x
B98: Székesfehérvár Városgondnoksága Kft. | C98: 6793699 | D98: 247344 | E98: =SUM(C98:D98) -> 7041043 | F98: 0 | G98: =6793699+247344 -> 7041043 | I98: X | L98: x
B99: Főépítészi kiadások | C99: 499868 | E99: =SUM(C99:D99) -> 499868 | G99: =452255+47613 -> 499868 | I99: X | J99: X | L99: x | M99: x
B100: Közlekedési kiadások | C100: 763000 | E100: =SUM(C100:D100) -> 763000 | F100: 0 | G100: 763000 | J100: X | M100: x
B101: ~ ebből: Helyi közösségi közlekedés finanszírozási kerete | C101: 700000 | E101: =SUM(C101:D101) -> 700000 | G101: 700000 | J101: X | M101: x
B102: Alba Volán Zrt. 504/2012.(VIII.17.) kgy.hat. .I. 1. b. pontja alapján történő finanszírozására | C102: 63000 | E102: =SUM(C102:D102) -> 63000 | G102: 63000 | J102: X | M102: x
B103: Közműellátási feladatok | C103: 39488 | D103: 1000 | E103: =SUM(C103:D103) -> 40488 | G103: =37488+2000+1000 -> 40488 | I103: X | J103: X | L103: x | M103: x
B104: ~ ebből: HEROSZ Egyesület | C104: 8000 | D104: 1000 | E104: =SUM(C104:D104) -> 9000 | G104: =6000+2000+1000 -> 9000 | J104: X | M104: x
B105: Környezetvédelmi kiadások | C105: 14923 | E105: =SUM(C105:D105) -> 14923 | G105: =11710+3213 -> 14923 | I105: X | K105: X | M105: x
...

Sheet 12 Fejlesztés 
A1: Fejlesztési kiadások 2018. évi feladatonkénti megbontása (eFt-ban)
A4: Feladat megnevezése | B4: Módosított előirányzat | C4: Javasolt módosítás | D4: Új Módosított előirányzat
A6: Szennyvízcsatorna építések
A7: Székesfehérvár Vizi Társulat éves tagdíja | B7: 3315 | D7: =SUM(B7:C7) -> 3315
A8: Székesfehérvár Város és Térsége Szennyvízcsatorna Hálózat Bővítési Önkormányzati Társulás 2018. évi önkormányzati önrésze | B8: 4500 | D8: =SUM(B8:C8) -> 4500
A9: Szennyvízcsatorna összesen: | B9: =SUM(B7:B8) -> 7815 | C9: =SUM(C7:C8) -> 0 | D9: =SUM(D7:D8) -> 7815
A11: Útfelújítások
A12: Saára Gyula program | B12: =SUM(B13:B36) -> 2343350 | C12: =SUM(C13:C36) -> 26063 | D12: =SUM(D13:D36) -> 2369413
A13: ebből: Hídfelújítások | B13: 5906 | D13: =SUM(B13:C13) -> 5906
A14: Gyalogos és kerékpáros biztonsági program | B14: 52774 | D14: =SUM(B14:C14) -> 52774
A15: Balatoni u. járda töltésmegerősítés kiviteli terv készítés | B15: 762 | D15: =SUM(B15:C15) -> 762
A16: Jelzőlámpa-rendszer fejlesztése | B16: 44209 | D16: =SUM(B16:C16) -> 44209
A17: Kégl és Távírda utca felújítása | B17: 186797 | D17: =SUM(B17:C17) -> 186797
A18: Közműoszlop-kiváltások | B18: 17248 | D18: =SUM(B18:C18) -> 17248
A19: Arany János utca és kapcsolódó terek felújítása | B19: 465353 | D19: =SUM(B19:C19) -> 465353
A20: Brassói u. járda és szegély helyreállítás költségeire | B20: 3161 | D20: =SUM(B20:C20) -> 3161
A21: Pozsonyi út Zsolnai és Nagyszombati út között kiviteli tervek (TOP forráson felül) | B21: 635 | D21: =SUM(B21:C21) -> 635
A22: Salétrom utca sétány II. ütem + közvilágítás | B22: 31406 | D22: =SUM(B22:C22) -> 31406
A23: Palotaváros forgalomszabályozás tervezés | B23: 2997 | D23: =SUM(B23:C23) -> 2997
A24: Nagyszombati út felújításához kapcsolódó tervezési feladatok | B24: 10000 | D24: =SUM(B24:C24) -> 10000
... A28: Börgöndi járda és csapadékcsatorna építése, buszforduló átépítése, parkolók kialakítása | B28: 90000 | D28: =SUM(B28:C28) -> 90000
A29: Széchenyi út - Horvát István út új sáv kiépítése középsziget csökkentésével | B29: 95000 | C29: 17004 | D29: =SUM(B29:C29) -> 112004
A30: Széchenyi út felújítása a Budai út és Horvát István utca között | B30: 217416 | C30: 13555 | D30: =SUM(B30:C30) -> 230971
A31: Berényi út III. ütem útépítés | B31: 142000 | C31: 30163 | D31: =SUM(B31:C31) -> 172163
A32: Fiskális út felújítása I. ütem | B32: 285000 | D32: =SUM(B32:C32) -> 285000
A33: Zombori út felújítása | B33: 260905 | C33: =-4100-13555-17004 -> -34659 | D33: =SUM(B33:C33) -> 226246
A34: Salétrom utca IV. ütem KRESZ park kialakítása | B34: 15000 | D34: =SUM(B34:C34) -> 15000
A35: Vásárhelyi út felújítása az 1+800 - 2+272,76 km között | B35: 200000 | D35: =SUM(B35:C35) -> 200000
A36: Csanádi tér parkolók építése | B36: 30000 | D36: =SUM(B36:C36) -> 30000
A37: Egyéb javaslat
A38: Iskolák előtti közösségi terek kialakítása
A39: Közösségi terek tervezése, létrehozása | B39: 5178 | D39: =SUM(B39:C39) -> 5178
A41: Várkörúti szoborpark felújítása | B41: 25000 | D41: =SUM(B41:C41) -> 25000
A42: Jávor Ottó tér terület és parkrendezés | B42: 252725 | C42: 4100 | D42: =SUM(B42:C42) -> 256825
A43: Sóstó-Újtelep II. lakóterület úthálózatának rendezésére (361/2018.(V.18.) kgy.hat.alapján) | C43: 26000 | D43: =SUM(B43:C43) -> 26000
A44: Útfelújítások összesen: | B44: =SUM(B42+B41+B39+B12+B43) -> 2626253 | C44: =SUM(C42+C41+C39+C12+C43) -> 56163 | D44: =SUM(D42+D41+D39+D12+D43) -> 2682416
A46: Csapadékvíz elvezetés, árvíz-belvíz védekezés
A47: Csapadékcsatorna üzemeltetés | B47: 58239 | C47: 5000 | D47: =SUM(B47:C47) -> 63239
A48: Brassói utca - csapadékcsatorna rekonstrukció | B48: 223 | D48: =SUM(B48:C48) -> 223
A49: Bátky áteresz ikresítése | B49: 61761 | D49: =SUM(B49:C49) -> 61761
A50: Jancsár árok mederkotrása külterületen (1+053- 1+659 szelvények között) | B50: 9017 | D50: =SUM(B50:C50) -> 9017
A51: Jancsár árok mederkotrása belterületen, Bakony utca teljes hosszában,iszapelhelyezéssel | B51: 12446 | D51: =SUM(B51:C51) -> 12446
A52: Horváth I. ltp csapadékvíz elvezetése | B52: 6591 | D52: =SUM(B52:C52) -> 6591
A53: Varga csatorna árapasztó műtárgy tervei | B53: 6299 | D53: =SUM(B53:C53) -> 6299
A54: Varga csatorna árapasztó műtárgy kivitelezése | B54: 95000 | C54: 250 | D54: =SUM(B54:C54) -> 95250
A55: Zrínyi utca csapadékcsatorna átépítés | B55: 186614 | D55: =SUM(B55:C55) -> 186614
A56: Berényi út III. csapadékcsatorna átépítése | B56: 48397 | C56: =2286+6755 -> 9041 | D56: =SUM(B56:C56) -> 57438
A57: Zombori utca csapadékcsatorna átépítése | B57: 159095 | D57: =SUM(B57:C57) -> 159095
A58: Csapadékvíz elvezetés, árvíz-belvíz védekezés összesen: | B58: =SUM(B47:B57) -> 643682 | C58: =SUM(C47:C57) -> 14291 | D58: =SUM(D47:D57) -> 657973
A60: Egyéb
A61: Tervezési munkák | B61: 72501 | D61: =SUM(B61:C61) -> 72501
A62: Arany János u. 10. szám alatti ingatlan felújításával kapcsolatos tervezési feladatok | B62: 38000 | D62: =SUM(B62:C62) -> 38000
A63: Hatósági és egyéb díjak | B63: 24917 | D63: =SUM(B63:C63) -> 24917
A64: Korlátozási kártalanítás | B64: 30559 | D64: =SUM(B64:C64) -> 30559
A65: Alba Geotrade Zrt. EKN. Vezetés, bemérések | B65: 22225 | D65: =SUM(B65:C65) -> 22225
A66: Tervfelülvizsgálatok, közműegyeztetések | B66: 68261 | D66: =SUM(B66:C66) -> 68261
A67: Szemünk Fénye program | B67: 50000 | C67: -3264 | D67: =SUM(B67:C67) -> 46736
A68: Szemünk Fénye program - eszközök vételára | C68: 3264 | D68: =SUM(B68:C68) -> 3264
A69: Székesfehérvári Stadionrekonstrukciós program megvalósítására, figyelemmel a 1285/2015.(IV.30.) Korm. Határozatra, valamint a megvalósítás ütemezésére | B69: 12391384 | D69: =SUM(B69:C69) -> 12391384
A70: Székesfehérvári Sóstó Természetvédelmi Terület és Vidámparki Csónakázótó rehabilitációjára, figyelemmel a 1285/2015.(IV.30.) Korm. Határozatra, valamint a megvalósítás ütemezésére | B70: 2687423 | D70: =SUM(B70:C70) -> 2687423
A71: Multifunkcionális csarnok megvalósításához szükséges tervezési, előkészítési feladatok | B71: 161322 | D71: =SUM(B71:C71) -> 161322
A72: Multifunkcionális csarnok kivitelezése és kapcsolódó feladatok | B72: 92393 | D72: =SUM(B72:C72) -> 92393
A73: Árpád-ház programhoz kapcsolódó tervezési, előkészítési feladatok figyelemmel az 1315/2016.(VII.1.) Korm.határozatra | B73: 70071 | D73: =SUM(B73:C73) -> 70071
A74: Szent István Király Múzeum épületének rekonstrukciója előkészítése | B74: 31750 | C74: 393730 | D74: =SUM(B74:C74) -> 425480
A75: „Az ország bölcsője” kiemelt székesfehérvári alprogram első szakaszának megvalósításáról és a második szakasz egyes fejlesztési elemeinek bemutatásáról szóló 1469/2017. (VII.25.) Kormányhatározat értelmében | B75: 2468200 | D75: =SUM(B75:C75) -> 2468200
A76: Az árpád-ház program részét képező "Az ország bölcsője" kiemelt székesfehérvári alprogram második szakasz további elemeinek előzetes koncepciójáról szóló 1792/2017. (XI.8.) Kormányhatározat alapján | B76: 65000 | D76: =SUM(B76:C76) -> 65000
A77: Középiskolai Campus | B77: 7233552 | D77: =SUM(B77:C77) -> 7233552
A78: Pályázat előkészítésére és önerő keret | B78: 277345 | C78: -2286 | D78: =SUM(B78:C78) -> 275059
A79: Műszaki ellenőrzések kerete | B79: 44233 | D79: =SUM(B79:C79) -> 44233
A80: Városmester üzemeltetés, fejlesztés | B80: 51281 | D80: =SUM(B80:C80) -> 51281
A81: Székesfehérvár-Csala 22 kV-os vezeték kiváltása | B81: 65 | D81: =SUM(B81:C81) -> 65
A82: Belvárosi épületek rekonstrukcióját szolgáló fejlesztési alap (visszatérítendő támogatás) | B82: 10000 | D82: =SUM(B82:C82) -> 10000
A83: Belvárosi épületek rekonstrukcióját szolgáló fejlesztési alap (vissza nem térítendő támogatás) | B83: 17142 | D83: =SUM(B83:C83) -> 17142
A84: Utastájékoztatás (arculattervezés, táblacsere, menetrend, menetrendfüzet) | B84: 11490 | D84: =SUM(B84:C84) -> 11490
A85: Autóbusz-hálózat átalakításával összefüggő feladatok | B85: 20819 | D85: =SUM(B85:C85) -> 20819
A86: 544/2015. (VII.23.) kgy.határozathoz kapcsolódó fejlesztési keret | B86: 10000 | D86: =SUM(B86:C86) -> 10000
A87: TÁC-Gorsium külső ivó és szennyvízhálózat kiépítése | B87: 55995 | D87: =SUM(B87:C87) -> 55995
A88: Tác-Gorsium csapadékvíz elvezetése | B88: 25000 | D88: =SUM(B88:C88) -> 25000
A89: Budapesti Corvinus Egyetem Székesfehérvári Campusa elhelyezésével és működtetésével kapcsolatos beruházások elvégzésére (479/2016. (VI.24.) kgy. hat. alapján) | B89: 169673 | D89: =SUM(B89:C89) -> 169673
A90: Feketehegyi Kultúrudvarhoz kapcsolódó fejlesztésekre (186/2017.(III.24.) kgy.hat.alapján) | B90: 95000 | D90: =SUM(B90:C90) -> 95000
... A106: Nemzeti Szabadidős-Egészség Sportpark Program önkormányzati saját erő (194/2018.(III.19.) kgy.hat.alapján) | B106: 20000 | D106: =SUM(B106:C106) -> 20000
A107: 315/2018.(V.18.) kgy.hat.alapján ideiglenes moduláris rendszerű ebédlő telepítése | C107: 15000 | D107: =SUM(B107:C107) -> 15000
A108: 7899/68 hrsz.-ú Juharfa utcában lévő ingatlan megvásárlása (548/2018.(VIII.17.) kgy.hat.alapján) | C108: 105000 | D108: =SUM(B108:C108) -> 105000
A109: Utótisztító műtárgy üzemeltetése (550/2018.(VIII.17.) kgy.hat.alapján) | C109: 5588 | D109: =SUM(B109:C109) -> 5588
A110: Széna Téri Sportcsarnok hőközpont létesítése (307/2018.(V.18.) kgy.hat.alapján) | C110: 12840 | D110: =SUM(B110:C110) -> 12840
A111: Csóri karsztakna védelembe helyezése előkészítő feladatok | C111: 23000 | D111: =SUM(B111:C111) -> 23000
A112: Egyéb összesen: | B112: =SUM(B61:B111) -> 28782978 | C112: =SUM(C61:C111) -> 552872 | D112: =SUM(D61:D111) -> 29335850
A115: ITP keretében megvalósuló fejlesztések
A116: Fő és gyűjtőutak felújítása - Ligetsor (Ligetsor felújítás és parkolómező, körforgalom, iskola-óvoda előtti tér, sétány) | B116: 359928 | D116: =SUM(B116:C116) -> 359928
A117: Fő és gyűjtőutak felújítása- Berényi u. II. ütem | B117: 510885 | D117: =SUM(B117:C117) -> 510885
A118: Kisléptékű közlekedési célú fejlesztés a munkaerő mobilitás és a gazdaságfejlesztés érdekében | B118: 10315 | D118: =SUM(B118:C118) -> 10315
A119: Székesfehérvár déli összekötőút megvalósítása | B119: 527159 | D119: =SUM(B119:C119) -> 527159
A120: Vásárhelyi út felújítása Batthyányi utcai csomópontjától az ipari és logisztikai területek eléréséig | B120: 224988 | C120: 3731 | D120: =SUM(B120:C120) -> 228719
A121: Túrózsáki út melletti szabadidőpark létrehozása és sétány kialakiítása (Túrózsáki út-Bártfai út) | B121: 109152 | D121: =SUM(B121:C121) -> 109152
A122: Palotavárosi tavak sport és rekreációs célú hasznosítása | B122: 30500 | D122: =SUM(B122:C122) -> 30500
A123: Felsőváros vízrendezése I. ütem | B123: 66579 | D123: =SUM(B123:C123) -> 66579
A124: Felsőváros vízrendezése II. ütem | B124: 63528 | D124: =SUM(B124:C124) -> 63528
A125: Felsőváros vízrendezése III. ütem | B125: 136800 | D125: =SUM(B125:C125) -> 136800
A126: Berényi u. II. ütem vízrendezés | B126: 114311 | C126: 2264 | D126: =SUM(B126:C126) -> 116575
A127: Kégl és Távírda utca csapadékcsatorna rekonstrukció | B127: 127054 | D127: =SUM(B127:C127) -> 127054
...

Sheet  14 Int.felúj
A1: Felújítási kiadások 2018. évben (eFt-ban)
A4: Megnevezés | B4: Tervezett felújítási munka | C4: Módosított előirányzat | D4: Javasolt módosítás | E4: Új Módosított előirányzat
A5: Ybl Miklós-program: Intézményfelújítások
A6: Egyesített Szociális Intézmény | B6: I. számú Gondozási egység tetőtér beépítési munkáival készülő férőhely bővítés feladataira | C6: 3000 | E6: =SUM(C6:D6) -> 3000
B7: I. számú Gondozási egység villamos hálózat rekonstrukciója kiviteli terv alapján (tervezés és kivitelezés) | C7: 13000 | E7: =SUM(C7:D7) -> 13000
B8: III. számú gondozási központ lépcsőházi acél üvegportál cseréje műanyag szerkezetre, hőtükrös fóliázással | C8: 3827 | E8: =SUM(C8:D8) -> 3827
B9: III. számú gondozási központ villamos és gépészeti rendszerének felújításával kapcsolatos tervezési és kivitelezési feladatok, valamint a IV. számú gondozási központ bővítésével kapcsolatos tervezési feladatok | C9: 78000 | E9: =SUM(C9:D9) -> 78000
B10: Összesen: | C10: =SUM(C6:C9) -> 97827 | D10: =SUM(D6:D9) -> 0 | E10: =SUM(E6:E9) -> 97827
A12: Mészöly Géza u. Orvosi rendelő | B12: Akadálymentesítéshez, lift kialakításához kapcsolódó munkák | C12: 21593 | E12: =SUM(C12:D12) -> 21593
B13: Összesen: | C13: =SUM(C12) -> 21593 | D13: =SUM(D12) -> 0 | E13: =SUM(E12) -> 21593
A15: Szárazréti Orvosi Rendelő | B15: Belső udvar felújítása | C15: 10000 | E15: =SUM(C15:D15) -> 10000
B16: Összesen: | C16: =SUM(C15) -> 10000 | D16: =SUM(D15) -> 0 | E16: =SUM(E15) -> 10000
A18: 7. számú Bölcsőde | B18: Tetőfelújítás, lemezfedés készítése | C18: 25000 | D18: 1556 | E18: =SUM(C18:D18) -> 26556
B19: Udvari gyermek vizesblokkok felújítása | C19: 6500 | E19: =SUM(C19:D19) -> 6500
B20: Összesen: | C20: =SUM(C18:C19) -> 31500 | D20: =SUM(D18:D19) -> 1556 | E20: =SUM(E18:E19) -> 33056
A22: Belvárosi Brunszvik Teréz Óvoda | B22: Udvar felújítása (263/2018.(IV.20.) kgy.hat.alapján | C22: 13015 | E22: =SUM(C22:D22) -> 13015
B23: Udvari játszóeszközeinek felújítása (356/2018.(V.18.) kgy.hat.alapján) | D23: 11115 | E23: =SUM(C23:D23) -> 11115
B24: Összesen: | C24: =SUM(C22:C23) -> 13015 | D24: =SUM(D22:D23) -> 11115 | E24: =SUM(E22:E23) -> 24130
A26: Szivárvány Óvoda | B26: Csapadékvíz elvezetés kiépítése | C26: 55000 | E26: =SUM(C26:D26) -> 55000
B27: Összesen: | C27: =SUM(C26) -> 55000 | D27: =SUM(D26) -> 0 | E27: =SUM(E26) -> 55000
A29: Szivárvány Óvoda Püspökkertvárosi Tagóvodája | B29: Tetőfelújítás | C29: 30000 | D29: =-3458-1556 -> -5014 | E29: =SUM(C29:D29) -> 24986
B30: Radiátorok cseréje | C30: 13000 | E30: =SUM(C30:D30) -> 13000
B31: Összesen: | C31: =SUM(C29:C30) -> 43000 | D31: =SUM(D29:D30) -> -5014 | E31: =SUM(E29:E30) -> 37986
A33: Tolnai Úti Óvoda | B33: Udvar felújítása (263/2018.(IV.20.) kgy.hat.alapján | C33: 15732 | E33: =SUM(C33:D33) -> 15732
B34: Összesen: | C34: =SUM(C33) -> 15732 | D34: =SUM(D33) -> 0 | E34: =SUM(E33) -> 15732
A36: Felsővárosi Óvoda | B36: Tetőfelújítás | C36: 50000 | E36: =SUM(C36:D36) -> 50000
B37: Udvar felújítása (263/2018.(IV.20.) kgy.hat.alapján | C37: 6144 | E37: =SUM(C37:D37) -> 6144
B38: Összesen: | C38: =SUM(C36:C37) -> 56144 | D38: =SUM(D36:D37) -> 0 | E38: =SUM(E36:E37) -> 56144
A40: Napsugár Óvoda Nefelejcs Tagóvodája | B40: Étellift csere | C40: 7000 | E40: =SUM(C40:D40) -> 7000
B41: Kazán csere | C41: 5000 | D41: 4144 | E41: =SUM(C41:D41) -> 9144
B42: Összesen: | C42: =SUM(C40:C41) -> 12000 | D42: =SUM(D40:D41) -> 4144 | E42: =SUM(E40:E41) -> 16144
A44: Árpád úti Óvoda | B44: Villamos hálózat korszerűsítése | C44: 32000 | D44: -1876 | E44: =SUM(C44:D44) -> 30124
B45: Összesen: | C45: =SUM(C44) -> 32000 | D45: =SUM(D44) -> -1876 | E45: =SUM(E44) -> 30124
A47: Árpád úti Óvoda Vízivárosi Tagóvodája | B47: Homlokzati FENFA elemek és nyílászárók cseréje | C47: 30000 | E47: =SUM(C47:D47) -> 30000
B48: Fűtési rendszer felújítása | C48: 20000 | E48: =SUM(C48:D48) -> 20000
B49: Összesen: | C49: =SUM(C47:C48) -> 50000 | D49: =SUM(D47:D48) -> 0 | E49: =SUM(E47:E48) -> 50000
A51: Gyöngyvirág Óvoda | B51: Nyílászáró csere | C51: 12000 | D51: 1824 | E51: =SUM(C51:D51) -> 13824
B52: Összesen: | C52: =SUM(C51) -> 12000 | D52: =SUM(D51) -> 1824 | E52: =SUM(E51) -> 13824
A54: Ligetsori Óvoda | B54: Homlokzati FENFA elemek és nyílászárók cseréje | C54: 40000 | E54: =SUM(C54:D54) -> 40000
B55: Villamos hálózat korszerűsítése | C55: 38000 | D55: 1876 | E55: =SUM(C55:D55) -> 39876
B56: Összesen: | C56: =SUM(C54:C55) -> 78000 | D56: =SUM(D54:D55) -> 1876 | E56: =SUM(E54:E55) -> 79876
A58: Arany János Óvoda, Általános Iskola, Speciális Szakiskola és EGYMI | B58: Felújítási munkálatokkal kapcsolatos feladatok | C58: 201804 | E58: =SUM(C58:D58) -> 201804
B59: Összesen: | C59: =SUM(C58) -> 201804 | D59: =SUM(D58) -> 0 | E59: =SUM(E58) -> 201804
A61: Felsővárosi Általános Iskola | B61: Kerítés elemek javítása, felújítása, kisajtó készítése (308/2018.(V.18.) kgy.hat. alapján) | D61: 3300 | E61: =SUM(C61:D61) -> 3300
B62: Összesen: | C62: =SUM(C61) -> 0 | D62: =SUM(D61) -> 3300 | E62: =SUM(E61) -> 3300
A64: A Szabadművelődés Háza | B64: Felsővárosi Közösségi Ház belső tereinek felújítási munkái | C64: 13244 | E64: =SUM(C64:D64) -> 13244
B65: Összesen: | C65: =SUM(C64) -> 13244 | D65: =SUM(D64) -> 0 | E65: =SUM(E64) -> 13244
A67: Vörösmarty Mihály Könyvtár | B67: Ady Endre utca 6. szám felöli tűzfalának javítása | C67: 35000 | E67: =SUM(C67:D67) -> 35000
B68: Összesen: | C68: =SUM(C67) -> 35000 | D68: =SUM(D67) -> 0 | E68: =SUM(E67) -> 35000
A70: Csók István Képtár | B70: Homlokzat helyreállítása, árkádsor alatti világítás kiépítése lépcső helyreállítással | C70: 37500 | E70: =SUM(C70:D70) -> 37500
B71: Összesen: | C71: =SUM(C70) -> 37500 | D71: =SUM(D70) -> 0 | E71: =SUM(E70) -> 37500
A73: Polgármesteri Hivatal | B73: Polgármesteri Hivatal épületeit érintő felújítások | C73: =215000+150276 -> 365276 | E73: =SUM(C73:D73) -> 365276
B74: Összesen: | C74: =SUM(C73) -> 365276 | D74: =SUM(D73) -> 0 | E74: =SUM(E73) -> 365276
A76: Budai u. 56/a ingatlan felújítása (Csemete Gyermekcentrum Bölcsőde) | B76: Konyha felújítás tervezése és homlokzati nyílászárók cseréje | C76: 23000 | E76: =SUM(C76:D76) -> 23000
B77: Összesen: | C77: =SUM(C76) -> 23000 | D77: =SUM(D76) -> 0 | E77: =SUM(E76) -> 23000
A79: Tartalék keret | C79: =35000+15552 -> 50552 | D79: =1634-4144 -> -2510 | E79: =SUM(C79:D79) -> 48042
A81: Vis Maior | C81: =35000+709 -> 35709 | E81: =SUM(C81:D81) -> 35709
A82: Kégl György Program
A83: Verseci utcai Köfém orvosi rendelő | B83: Rendelő felújítási és akadálymentesítési munkák tervezése, kivitelezése | C83: 165251 | E83: =SUM(C83:D83) -> 165251
A85: Integrált Területi Program (ITP) felújításai
A86: 3. számú Bölcsőde | B86: Épület energiahatékonysági rekonstrukcdiója, akadálymentesítés, külső terek felújítása, eszközök beszerzése a TOP 6.2. intézkedés kiírására figyelemmel | C86: 709 | E86: =SUM(C86:D86) -> 709
B87: Összesen: | C87: =SUM(C86) -> 709 | D87: =SUM(D86) -> 0 | E87: =SUM(E86) -> 709
A89: Szászszorszép Bölcsőde | B89: Épület felújítása és eszközbeszerzés a TOP 6.6.1-16 kódszámú pályázati felhívás keretében | C89: 227865 | E89: =SUM(C89:D89) -> 227865
B90: Összesen: | C90: =SUM(C89) -> 227865 | D90: =SUM(D89) -> 0 | E90: =SUM(E89) -> 227865
A92: Rákóczi Utcai Óvoda | B92: Épület energiahatékonysági rekonstrukciója, akadálymentesítése, külső terek felújítása, eszközök beszerzése a TOP 6.2. intézkedés kiírására figyelemmel | C92: =171016+213052 -> 384068 | D92: 2738 | E92: =SUM(C92:D92) -> 386806
B93: Összesen: | C93: =SUM(C92) -> 384068 | D93: =SUM(D92) -> 2738 | E93: =SUM(E92) -> 386806
A95: Maroshegyi Óvoda | B95: Óvodaudvar korszerűsítése - udvari eszközök beszerzése | C95: 27733 | D95: 188 | E95: =SUM(C95:D95) -> 27921
B96: Összesen: | C96: =SUM(C95) -> 27733 | D96: =SUM(D95) -> 188 | E96: =SUM(E95) -> 27921
A98: Batthyány utcai Orvosi Rendelő | B98: Felnőtt háziorvosi rendelő felújítása | C98: 90203 | E98: =SUM(C98:D98) -> 90203
B99: Összesen: | C99: =SUM(C98) -> 90203 | D99: =SUM(D98) -> 0 | E99: =SUM(E98) -> 90203
A101: Ybl Miklós lakótelepi rendelőépület | B101: Gyermekorvosi rendelő és védőnői tanácsadó átalakítása, bővítése, felújítása a TOP 6.2.1-16 kódszámú pályázati felhívás keretében | C101: 68180 | D101: 5756 | E101: =SUM(C101:D101) -> 73936
B102: Összesen: | C102: =SUM(C101) -> 68180 | D102: =SUM(D101) -> 5756 | E102: =SUM(E101) -> 73936
A104: Szekfű Gyula utcai rendelőépület | B104: Felnőtt fogászati, fogszabályzós szakrendelés, valamint háziorvosi rendelő felújítása, fejlesztése | C104: 357638 | E104: =SUM(C104:D104) -> 357638
B105: Összesen: | C105: =SUM(C104) -> 357638 | D105: =SUM(D104) -> 0 | E105: =SUM(E104) -> 357638
A107: Integrált Területi Program (ITP) felújításai összesen: | C107: =SUM(C93,C96,C90,C87,C102,C99,C105) -> 1156396 | D107: =SUM(D93,D96,D90,D87,D102,D99,D105) -> 8682 | E107: =SUM(E93,E96,E90,E87,E102,E99,E105) -> 1165078
A108: Mindösszesen: | C108: =SUM(C10,C13,C20,C27,C31,C38,C42,C45,C49,C52,C56,C59,C62,C65,C68,C71,C74,C77,C79,C81,C83,C16,C107,C24,C34) -> 2611543 | D108: =SUM(D10,D13,D20,D27,D31,D38,D42,D45,D49,D52,D56,D59,D62,D65,D68,D71,D74,D77,D79,D81,D83,D16,D107,D24,D34) -> 23097 | E108: =SUM(E10,E13,E20,E27,E31,E38,E42,E45,E49,E52,E56,E59,E62,E65,E68,E71,E74,E77,E79,E81,E83,E16,E107,E24,E34) -> 2634640

Sheet 16működési és felhalm 
A1: Költségvetési és finanszírozási egyenleg működési és felhalmozási cél szerinti bontásban (eFt-ban)
A4: MEGNEVEZÉS | B4: Új Módosított előirányzat | D4: MEGNEVEZÉS | E4: Új Módosított előirányzat
A5: Működési költségvetési kiadások | D5: Működési költségvetési bevételek
A6: Személyi juttatások | B6: 7998834 | D6: Működési célú támogatások államháztartáson belülről | E6: 6124316
A7: Munkaadókat terhelő járulékok és szociális hozzájárulási adó | B7: 1688506 | D7: Közhatalmi bevételek | E7: 18387700
A8: Dologi kiadások | B8: 14049674 | D8: Működési bevételek | E8: 6674206
A9: Ellátottak pénzbeli juttatásai | B9: 121853 | D9: Működési célú átvett pénzeszközök | E9: 559813 | F9: Működési költségvetési bevételek-kiadások egyenlege
A10: Egyéb működési célú kiadások | B10: 14002832
A11: Tartalékok | B11: 2700809
A12: Működési költségvetési kiadások összesen: | B12: =SUM(B5:B11) -> 40562508 | D12: Működési költségvetési bevételek összesen: | E12: =SUM(E6:E10) -> 31746035 | F12: =+E12-B12 -> -8816473
A14: Működési finanszírozási kiadások | D14: Működési finanszírozási bevételek
A15: Irányító szervi támogatás folyósítása | B15: =10792662-231085+377371-4312 -> 10934636 | D15: Irányító szervi támogatás | E15: =10792662-231085+377371-4312 -> 10934636 | F15: Működési finanszírozási bevételek-kiadások egyenlege
A16: Forgatási célú belföldi értékpapírok vásárlása | B16: 32805492 | D16: Előző évi működési célú költségvetési maradvány igénybevétele | E16: 2582734
A17: Államháztartáson belüli megelőlegezések visszafizetése | B17: 130927 | D17: Forgatási célú belföldi értékpapírok beváltása, értékesítése | E17: =21800000+18350000 -> 40150000
A19: Működési finanszírozási kiadások összesen: | B19: =SUM(B15:B18) -> 43871055 | D19: Működési finanszírozási bevételek összesen: | E19: =SUM(E15:E18) -> 53667370 | F19: =+E19-B19 -> 9796315
D21: Működési egyenleg | F21: =SUM(F12+F19) -> 979842
A24: MEGNEVEZÉS | B24: Új Módosított előirányzat | D24: MEGNEVEZÉS | E24: Új Módosított előirányzat
A25: Felhalmozási költségvetési kiadások | D25: Felhalmozási költségvetési bevételek
A26: Beruházások | B26: 29226867 | D26: Felhalmozási célú támogatások bevételei államháztartáson belülről | E26: 15404030
A27: Felújítások | B27: 4036288 | D27: Felhalmozási bevételek | E27: 282860 | F27: Felhalmozási költségvetési bevételek- kiadások egyenlege
A28: Egyéb felhalmozási célú kiadások | B28: 1338685 | D28: Felhalmozási célú átvett pénzeszközök | E28: 120375
A30: Felhalmozási költségvetési kiadások összesen: | B30: =SUM(B26:B29) -> 34601840 | D30: Felhalmozási költségvetési bevételek összesen: | E30: =SUM(E26:E28) -> 15807265 | F30: =+E30-B30 -> -18794575
A32: Felhalmozási finanszírozási kiadások | D32: Felhalmozási finanszírozási bevételek
A33: Irányító szervi támogatás folyósítása | B33: 231085 | D33: Irányító szervi támogatás | E33: 231085 | F33: Felhalmozási finanszírozási bevételek-kiadások egyenlege
D34: Előző évi felhalmozási célú költségvetési maradvány igénybevétele | E34: 10814733
D35: Forgatási célú belföldi értékpapírok beváltása, értékesítése | E35: 7000000
A36: Felhalmozási finanszírozási kiadások összesen: | B36: =SUM(B33) -> 231085 | D36: Felhalmozási finanszírozási bevételek összesen: | E36: =SUM(E33:E35) -> 18045818 | F36: =+E36-B36 -> 17814733
D38: Felhalmozási egyenleg | F38: =SUM(F30+F36) -> -979842
F40: Költségvetési bevételek-kiadások egyenlege
A41: Költségvetési kiadások összesen: | B41: =SUM(B30+B12) -> 75164348 | D41: Költségvetési bevételek összesen: | E41: =SUM(E30+E12) -> 47553300 | F41: =SUM(E41-B41) -> -27611048
F43: Finanszírozási bevételek-kiadások egyenlege
A44: Finanszírozási kiadások összesen: | B44: =SUM(B36+B19) -> 44102140 | D44: Finanszírozási bevételek összesen: | E44: =SUM(E36+E19) -> 71713188 | F44: =SUM(E44-B44) -> 27611048
D46: Egyenleg | F46: =SUM(F41+F44) -> 0

Sheet 17előirányzat felhasz. 
A1: 2018. évi előirányzat-felhasználási terv
A2: (eFt-ban)
A4: Bevételek
A5: Megnevezés | B5: január | C5: február | D5: március | E5: április | F5: május | G5: június | H5: július | I5: augusztus | J5: szeptember | K5: október | L5: november | M5: december | N5: összesen
A6: Működési célú támogatások államháztartáson belülről | B6: =74492+559464 -> 633956 | C6: =74492+395597 -> 470089 | D6: =32310+329423 -> 361733 | E6: 570090 | F6: =719114+379119 -> 1098233 | G6: =12566+355976 -> 368542 | H6: =32310+368975 -> 401285 | I6: =495470+422461 -> 917931 | J6: 325614 | K6: 325614 | L6: 325614 | M6: 325615 | N6: =SUM(B6:M6) -> 6124316
A7: Felhalmozási célú támogatások államháztartáson belülről | B7: 476448 | C7: 2253055 | D7: 431750 | E7: 222250 | F7: 4039632 | G7: 44403 | H7: 561862 | J7: =1008189+107950 -> 1116139 | K7: =327900+431802+107950 -> 867652 | L7: =113853+1107951 -> 1221804 | M7: =3629282+431802+107951 -> 4169035 | N7: =SUM(B7:M7) -> 15404030
A8: Közhatalmi bevételek | B8: 276614 | C8: 70347 | D8: 7751894 | E8: 201176 | F8: 195628 | G8: 1141869 | H8: 136456 | I8: 193633 | J8: 6601145 | K8: 200000 | L8: 100000 | M8: =1487700+31238 -> 1518938 | N8: =SUM(B8:M8) -> 18387700
A9: Működési bevételek | B9: =150394+58473 -> 208867 | C9: =116192+187120 -> 303312 | D9: =172437+77540 -> 249977 | E9: =119311+619874 -> 739185 | F9: =79100+210798 -> 289898 | G9: =79100+139144 -> 218244 | H9: =203100+688968 -> 892068 | I9: =109989+1441404 -> 1551393 | J9: =1208591+58286 -> 1266877 | K9: =255544+58286 -> 313830 | L9: =232084+58287 -> 290371 | M9: =291897+58287 -> 350184 | N9: =SUM(B9:M9) -> 6674206
A10: Felhalmozási bevételek | B10: 53 | C10: 16624 | D10: 93572 | E10: 1060 | F10: 1483 | G10: 4370 | H10: 121309 | I10: 2390 | K10: 41999 | N10: =SUM(B10:M10) -> 282860
A11: Működési célú pénzeszköz átvétel | B11: 4340 | C11: 29517 | D11: =1394+5 -> 1399 | E11: 9500 | F11: 32238 | G11: =32238+5999 -> 38237 | H11: =32238+1500 -> 33738 | I11: 30842 | M11: 380002 | N11: =SUM(B11:M11) -> 559813
A12: Felhalmozási célú pénzeszköz átvétel | B12: 28702 | C12: 1579 | D12: 42046 | E12: 1635 | F12: 7129 | G12: 5233 | H12: 1841 | I12: 1232 | J12: 7744 | K12: 7744 | L12: 7745 | M12: 7745 | N12: =SUM(B12:M12) -> 120375
A13: Maradvány igénybevétele | F13: 580031 | G13: 12817436 | N13: =SUM(B13:M13) -> 13397467
A14: Forgatási célú belföldi értékpapírok beváltása, értékesítése | G14: 14300000 | H14: 7999440 | I14: 1850000 | M14: 23000560 | N14: =SUM(B14:M14) -> 47150000
A15: Bevétel összesen* | B15: =SUM(B6:B14) -> 1628980 | C15: =SUM(C6:C14) -> 3144523 | D15: =SUM(D6:D14) -> 8932371 | E15: =SUM(E6:E14) -> 1744896 | F15: =SUM(F6:F14) -> 6244272 | G15: =SUM(G6:G14) -> 28938334 | H15: =SUM(H6:H14) -> 10147999 | I15: =SUM(I6:I14) -> 4547421 | ... N15: =SUM(N6:N14) -> 108100767
A17: Kiadások
A18: Költségvetési szervek kiadásai | B18: 1068213 | C18: 981903 | D18: 996650 | E18: =1031731 -> 1031731 | F18: 1053859 | G18: 1092946 | H18: 1140565 | I18: 1065334 | J18: =1173083+181722 -> 1354805 | K18: =1135685+181722 -> 1317407 | L18: =1710598+181723 -> 1892321 | M18: =1502045+181723-4312 -> 1679456 | N18: =SUM(B18:M18) -> 14675190
A19: Igazgatási és egyéb központosított kiadások | B19: 1443857 | C19: 1267426 | D19: 1315944 | E19: 1600287 | F19: 1492657 | G19: 1957319 | H19: 1479240 | I19: 1129641 | J19: =1380114+151921 -> 1532035 | K19: =1365831+151921 -> 1517752 | L19: =1328403+151921 -> 1480324 | M19: =1636682+151922+10000 -> 1798604 | N19: =SUM(B19:M19) -> 18015086
A20: Támogatási keretek, alapok | B20: 1124 | C20: 799 | D20: 4095 | E20: 6016 | F20: 6916 | G20: 11281 | H20: 44130 | I20: 11169 | J20: 33927 | K20: 33927 | L20: 33927 | M20: 33927 | N20: =SUM(B20:M20) -> 221238
A21: Felújítási kiadások | B21: 21100 | C21: 97012 | D21: 17475 | E21: 111770 | F21: 123474 | G21: 134261 | H21: 193730 | I21: 24879 | J21: 18019 | K21: 867450 | L21: 90037 | M21: =726577+208856 -> 935433 | N21: =SUM(B21:M21) -> 2634640
A22: Fejlesztési kiadások, Viziközmű-fejlesztési Alap | B22: 446960 | C22: 101168 | D22: 317854 | E22: 2418411 | F22: 340991 | G22: 1945998 | H22: 3194475 | I22: 692336 | J22: =67290+3459722 -> 3527012 | K22: 2895002 | L22: 2969484 | M22: =17633764+433930 -> 18067694 | N22: =SUM(B22:M22) -> 36917385
A23: Tartalék | M23: 2700809 | N23: =SUM(B23:M23) -> 2700809
A24: Forgatási célú belföldi értékpapírok vásárlása | C24: 1850000 | D24: 2000000 | E24: 4105492 | G24: 7999440 | H24: 2999475 | I24: 2999673 | K24: 6851412 | M24: 4000000 | N24: =SUM(B24:M24) -> 32805492
A25: Államháztartáson belüli megelőlegezések | B25: 130927 | N25: =SUM(B25:M25) -> 130927
A26: Kiadás összesen* | B26: =SUM(B18:B25) -> 3112181 | C26: =SUM(C18:C25) -> 4298308 | D26: =SUM(D18:D25) -> 4652018 | E26: =SUM(E18:E25) -> 9273707 | F26: =SUM(F18:F25) -> 3017897 | G26: =SUM(G18:G25) -> 13141245 | H26: =SUM(H18:H25) -> 9051615 | I26: =SUM(I18:I25) -> 5923032 | ... N26: =SUM(N18:N25) -> 108100767
A28: Nyitó pénzkészlet | B28: =12821735+29327+1397467 -> 14248529 | C28: =+B30 -> 12765328 | D28: =+C30 -> 11611543 | E28: =+D30 -> 15891896 | F28: =+E30 -> 8363085 | G28: =+F30 -> 11009429 | H28: =+G30 -> 13989082 | I28: =+H30 -> 15085466 | J28: =+I30 -> 13709855 | ... M28: =+L30 -> 314906
A29: Bevétel-Kiadás különbözet havi bontásban (maradvány igénybevétele nélkül) | B29: =+B15-B26 -> -1483201 | C29: =+C15-C26 -> -1153785 | D29: =+D15-D26-D13 -> 4280353 | E29: =+E15-E26-E13 -> -7528811 | F29: =+F15-F26-F13 -> 2646344 | G29: =+G15-G26-G13 -> 2979653 | H29: =+H15-H26-H13 -> 1096384 | I29: =+I15-I26-I13 -> -1375611 | J29: =+J15-J26-J13 -> 2851721 | K29: =+K15-K26-K13 -> -11726111 | ... M29: =+M15-M26-M13 -> 536156
A30: Záró Pénzkészlet (Nyitó pénzkészlet + Bevétel-Kiadás különbözete) | B30: =+B28+B29 -> 12765328 | C30: =+C28+C29 -> 11611543 | D30: =+D28+D29 -> 15891896 | E30: =+E28+E29 -> 8363085 | F30: =+F28+F29 -> 11009429 | G30: =+G28+G29 -> 13989082 | H30: =+H28+H29 -> 15085466 | I30: =+I28+I29 -> 13709855 | ... M30: =+M28+M29 -> 851062
A32: * Megjegyzés: Tartalmazza a finanszírozási célú bevételeket és kiadásokat, kivéve az irányító szervi támogatást a duplikáció elkerülése okán.

Sheet 19projektek
A1: Európai uniós és hazai forrásból megvalósuló projektek
A2: támogatástartalmának bemutatása 2015-2021. évekre (eFt-ban)
A4: Ssz. | B4: Projekt megnevezése | C4: Státusz | D4: Projekt összköltség | E4: 2015. évi támogatás | H4: 2016. évi támogatás | K4: 2017. évi támogatás | N4: 2018. évi támogatás | Q4: 2019. évi támogatás | T4: 2020. évi támogatás | W4: 2021. évi támogatás
E5: EU-s forrás | F5: Hazai forrás | G5: Összesen | H5: EU-s forrás | I5: Hazai forrás | J5: Összesen | K5: EU-s forrás | L5: Hazai forrás | M5: Összesen | N5: EU-s forrás | O5: Hazai forrás | P5: Összesen | Q5: EU-s forrás | R5: Hazai forrás | S5: Összesen | T5: EU-s forrás | U5: Hazai forrás | V5: Összesen | W5: EU-s forrás | X5: Hazai forrás | Y5: Összesen
A6: 1. | B6: Varga csatorna mederrendezése | C6: Projektzárás alatt | D6: 56689 | G6: =SUM(E6:F6) -> 0 | H6: 162 | J6: =SUM(H6:I6) -> 162 | K6: 53702 | M6: =SUM(K6:L6) -> 53702 | N6: 535 | P6: =SUM(N6:O6) -> 535 | S6: =SUM(Q6:R6) -> 0 | V6: =SUM(T6:U6) -> 0 | Y6: =SUM(W6:X6) -> 0
A7: 2. | B7: 3. számú Bölcsőde - az épület energiahatékonysági rekonstrukciója, akadálymentesítése, külső terek felújítása, eszközök beszerzése a TOP 6.2 intézkedés kiírására figyelemmel | C7: Projektzárás alatt | D7: 141107 | G7: =SUM(E7:F7) -> 0 | H7: 69984 | J7: =SUM(H7:I7) -> 69984 | K7: 67181 | M7: =SUM(K7:L7) -> 67181 | N7: 3942 | P7: =SUM(N7:O7) -> 3942 | S7: =SUM(Q7:R7) -> 0 | V7: =SUM(T7:U7) -> 0 | Y7: =SUM(W7:X7) -> 0
A8: 3. | B8: Tulipános Óvoda - az épület energiahatékonysági rekonstrukciója, akadálymentesítése, külső terek felújítása, eszközök beszerzése a TOP 6.2 intézkedés kiírására figyelemmel | C8: Projektzárás alatt | D8: 134979 | G8: =SUM(E8:F8) -> 0 | H8: 66933 | J8: =SUM(H8:I8) -> 66933 | K8: 66568 | M8: =SUM(K8:L8) -> 66568 | N8: 1478 | P8: =SUM(N8:O8) -> 1478 | S8: =SUM(Q8:R8) -> 0 | V8: =SUM(T8:U8) -> 0 | Y8: =SUM(W8:X8) -> 0
A9: 4. | B9: Fő és gyűjtőutak felújítása - Berényi u. II. ütem | C9: Végrehajtás alatt | D9: 518000 | G9: =SUM(E9:F9) -> 0 | H9: 25900 | J9: =SUM(H9:I9) -> 25900 | K9: 161758 | M9: =SUM(K9:L9) -> 161758 | N9: 330342 | O9: 0 | P9: =SUM(N9:O9) -> 330342 | S9: =SUM(Q9:R9) -> 0 | V9: =SUM(T9:U9) -> 0 | Y9: =SUM(W9:X9) -> 0
A10: 5. | B10: Fő és gyűjtőutak felújítása - Ligetsor (Ligetsor felújítás és parkolómező, körforgalom, iskola-óvoda előtti tér, sétány) | C10: Végrehajtás alatt | D10: 494940 | G10: =SUM(E10:F10) -> 0 | H10: 29716 | J10: =SUM(H10:I10) -> 29716 | K10: 177611 | M10: =SUM(K10:L10) -> 177611 | N10: 287613 | O10: 0 | P10: =SUM(N10:O10) -> 287613 | S10: =SUM(Q10:R10) -> 0 | V10: =SUM(T10:U10) -> 0 | Y10: =SUM(W10:X10) -> 0
A11: 6. | B11: Felsőváros vízrendezése I. ütem (A-0-0-I/5 csapadékcsatorna kivitelezése, valamint az A-3-0 csapadékcsatorna rekonstrukciója) | C11: Végrehajtás alatt | D11: 202274 | G11: =SUM(E11:F11) -> 0 | H11: 111331 | J11: =SUM(H11:I11) -> 111331 | M11: =SUM(K11:L11) -> 0 | N11: 90943 | P11: =SUM(N11:O11) -> 90943 | S11: =SUM(Q11:R11) -> 0 | V11: =SUM(T11:U11) -> 0 | Y11: =SUM(W11:X11) -> 0
A12: 7. | B12: Székesfehérvár déli összekötőút megvalósítása, előkészítése | C12: Végrehajtás alatt | D12: 3399703 | G12: =SUM(E12:F12) -> 0 | J12: =SUM(H12:I12) -> 0 | K12: 225083 | M12: =SUM(K12:L12) -> 225083 | N12: 228083 | P12: =SUM(N12:O12) -> 228083 | Q12: 1414876 | S12: =SUM(Q12:R12) -> 1414876 | T12: 1414876 | V12: =SUM(T12:U12) -> 1414876 | Y12: =SUM(W12:X12) -> 0
A13: 8. | B13: Rákóczi Utcai Óvoda - az épület energiahatékonysági rekonstrukciója, akadálymentesítése, külső terek felújítása, eszközök beszerzése a TOP 6.2 intézkedés kiírására figyelemmel | C13: Végrehajtás alatt | D13: =391262+2738 -> 394000 | G13: =SUM(E13:F13) -> 0 | H13: 220246 | J13: =SUM(H13:I13) -> 220246 | M13: =SUM(K13:L13) -> 0 | N13: 171016 | P13: =SUM(N13:O13) -> 171016 | S13: =SUM(Q13:R13) -> 0 | V13: =SUM(T13:U13) -> 0 | Y13: =SUM(W13:X13) -> 0
A14: 9. | B14: Kisléptékű közlekedési célú fejlesztés a munkaerő mobilitás és a gazdaságfejlesztés érdekében | C14: Végrehajtás alatt | D14: 291294 | G14: =SUM(E14:F14) -> 0 | H14: 186423 | J14: =SUM(H14:I14) -> 186423 | K14: 101667 | M14: =SUM(K14:L14) -> 101667 | N14: 3204 | P14: =SUM(N14:O14) -> 3204 | S14: =SUM(Q14:R14) -> 0 | V14: =SUM(T14:U14) -> 0 | Y14: =SUM(W14:X14) -> 0
A15: 10. | B15: Túrózsáki út melletti szabadidőpark létrehozása és sétány kialakítása (Túrózsáki út-Bártfai út) | C15: Végrehajtás alatt | D15: 300935 | G15: =SUM(E15:F15) -> 0 | H15: 171432 | J15: =SUM(H15:I15) -> 171432 | K15: 84001 | M15: =SUM(K15:L15) -> 84001 | N15: 45502 | P15: =SUM(N15:O15) -> 45502 | S15: =SUM(Q15:R15) -> 0 | V15: =SUM(T15:U15) -> 0 | Y15: =SUM(W15:X15) -> 0
A16: 11. | B16: Helyi foglalkoztatási együttműködések Székesfehérvár és járása területén | C16: Végrehajtás alatt | D16: 58991 | G16: =SUM(E16:F16) -> 0 | H16: 27000 | J16: =SUM(H16:I16) -> 27000 | M16: =SUM(K16:L16) -> 0 | N16: 31991 | P16: =SUM(N16:O16) -> 31991 | S16: =SUM(Q16:R16) -> 0 | V16: =SUM(T16:U16) -> 0 | Y16: =SUM(W16:X16) -> 0
A17: 12. | B17: Segítő Fehérvár program | C17: Végrehajtás alatt | D17: 7500 | G17: =SUM(E17:F17) -> 0 | J17: =SUM(H17:I17) -> 0 | M17: =SUM(K17:L17) -> 0 | N17: 4376 | P17: =SUM(N17:O17) -> 4376 | Q17: 1562 | S17: =SUM(Q17:R17) -> 1562 | T17: 1562 | V17: =SUM(T17:U17) -> 1562 | Y17: =SUM(W17:X17) -> 0
A18: 13. | B18: Multifunkcionális csarnok megvalósításához szükséges tervezési, előkészítési feladatok | C18: Végrehajtás alatt | D18: 509000 | G18: =SUM(E18:F18) -> 0 | J18: =SUM(H18:I18) -> 0 | L18: 509000 | M18: =SUM(K18:L18) -> 509000 | P18: =SUM(N18:O18) -> 0 | S18: =SUM(Q18:R18) -> 0 | V18: =SUM(T18:U18) -> 0 | Y18: =SUM(W18:X18) -> 0
A19: 14. | B19: Székesfehérvári Stadionrekonstrukciós program megvalósítására, figyelemmel a 1285/2015.(IV.30.) Korm. Határozatra, valamint a megvalósítás ütemezésére * | C19: Végrehajtás alatt | D19: 14238183 | F19: 417000 | G19: =SUM(E19:F19) -> 417000 | I19: 753631 | J19: =SUM(H19:I19) -> 753631 | L19: 6725417 | M19: =SUM(K19:L19) -> 6725417 | O19: 6342135 | P19: =SUM(N19:O19) -> 6342135 | S19: =SUM(Q19:R19) -> 0 | V19: =SUM(T19:U19) -> 0 | Y19: =SUM(W19:X19) -> 0
A20: 15. | B20: Székesfehérvári Sóstó Természetvédelmi Terület és Vidámparki Csónakázótó rehabilitációjára, figyelemmel a 1285/2015.(IV.30.) Korm. Határozatra, valamint a megvalósítás ütemezésére | C20: Végrehajtás alatt | D20: 3779217 | G20: =SUM(E20:F20) -> 0 | J20: =SUM(H20:I20) -> 0 | L20: 2481047 | M20: =SUM(K20:L20) -> 2481047 | O20: 1298170 | P20: =SUM(N20:O20) -> 1298170 | S20: =SUM(Q20:R20) -> 0 | V20: =SUM(T20:U20) -> 0 | Y20: =SUM(W20:X20) -> 0
A21: 16. | B21: Középiskolai Campus | C21: Végrehajtás alatt | D21: 15875000 | G21: =SUM(E21:F21) -> 0 | I21: 7500000 | J21: =SUM(H21:I21) -> 7500000 | M21: =SUM(K21:L21) -> 0 | P21: =SUM(N21:O21) -> 0 | R21: 7740000 | S21: =SUM(Q21:R21) -> 7740000 | U21: 635000 | V21: =SUM(T21:U21) -> 635000 | Y21: =SUM(W21:X21) -> 0
A22: 17. | B22: Felsőváros vízrendezése II. üteme | C22: Végrehajtás alatt | D22: 199956 | G22: =SUM(E22:F22) -> 0 | H22: 129649 | J22: =SUM(H22:I22) -> 129649 | M22: =SUM(K22:L22) -> 0 | N22: 67976 | P22: =SUM(N22:O22) -> 67976 | S22: =SUM(Q22:R22) -> 0 | V22: =SUM(T22:U22) -> 0 | Y22: =SUM(W22:X22) -> 0
A23: 18. | B23: Vásárhelyi út felújítása Batthyányi utcai csomópontjától az ipari és logisztikai területek eléréséig | C23: Végrehajtás alatt | D23: =364706+3731 -> 368437 | G23: =SUM(E23:F23) -> 0 | H23: 21501 | J23: =SUM(H23:I23) -> 21501 | M23: =SUM(K23:L23) -> 0 | N23: 205923 | P23: =SUM(N23:O23) -> 205923 | Q23: 137282 | S23: =SUM(Q23:R23) -> 137282 | V23: =SUM(T23:U23) -> 0 | Y23: =SUM(W23:X23) -> 0
A24: 19. | B24: Székesfehérvári szennyvíztisztító telep biogáz vonalának fejlesztése | C24: Végrehajtás alatt | D24: 1102023 | G24: =SUM(E24:F24) -> 0 | J24: =SUM(H24:I24) -> 0 | K24: 50314 | M24: =SUM(K24:L24) -> 50314 | N24: 19744 | P24: =SUM(N24:O24) -> 19744 | Q24: 515982 | S24: =SUM(Q24:R24) -> 515982 | T24: 515983 | V24: =SUM(T24:U24) -> 515983 | Y24: =SUM(W24:X24) -> 0
A25: 20. | B25: Palotavárosi tavak sport és rekreációs célú hasznosítása | C25: Végrehajtás alatt | D25: 748411 | G25: =SUM(E25:F25) -> 0 | H25: 37421 | J25: =SUM(H25:I25) -> 37421 | M25: =SUM(K25:L25) -> 0 | P25: =SUM(N25:O25) -> 0 | Q25: 710990 | S25: =SUM(Q25:R25) -> 710990 | V25: =SUM(T25:U25) -> 0 | Y25: =SUM(W25:X25) -> 0
A26: 21. | B26: Berényi út II. ütem víz, szennyvíz, csapadékvíz elvezetés és Nefelejcs utca átkötése csapadékcsatorna | C26: Végrehajtás alatt | D26: =114411+2264 -> 116675 | G26: =SUM(E26:F26) -> 0 | J26: =SUM(H26:I26) -> 0 | M26: =SUM(K26:L26) -> 0 | N26: 114411 | P26: =SUM(N26:O26) -> 114411 | S26: =SUM(Q26:R26) -> 0 | V26: =SUM(T26:U26) -> 0 | Y26: =SUM(W26:X26) -> 0
A27: 22. | B27: Kégl és Távírda utca csapadékcsatorna rekonstrukció | C27: Végrehajtás alatt | D27: 167986 | G27: =SUM(E27:F27) -> 0 | J27: =SUM(H27:I27) -> 0 | K27: 48701 | M27: =SUM(K27:L27) -> 48701 | N27: 119285 | P27: =SUM(N27:O27) -> 119285 | S27: =SUM(Q27:R27) -> 0 | V27: =SUM(T27:U27) -> 0 | Y27: =SUM(W27:X27) -> 0
A28: 23. | B28: Fekete Sas Szálló rekonstrukciójához és fejlesztéséhez szükséges előkészítő és tervezési feladatok | C28: Végrehajtás alatt | D28: 233659 | G28: =SUM(E28:F28) -> 0 | J28: =SUM(H28:I28) -> 0 | L28: 24211 | M28: =SUM(K28:L28) -> 24211 | O28: 209448 | P28: =SUM(N28:O28) -> 209448 | S28: =SUM(Q28:R28) -> 0 | V28: =SUM(T28:U28) -> 0 | Y28: =SUM(W28:X28) -> 0
A29: 24. | B29: Velencei Gyermek- és Ifjúsági Tábor fejlesztése | C29: Végrehajtás alatt | D29: 800000 | G29: =SUM(E29:F29) -> 0 | J29: =SUM(H29:I29) -> 0 | L29: 33000 | M29: =SUM(K29:L29) -> 33000 | O29: 267000 | P29: =SUM(N29:O29) -> 267000 | R29: 500000 | S29: =SUM(Q29:R29) -> 500000 | V29: =SUM(T29:U29) -> 0 | Y29: =SUM(W29:X29) -> 0
A30: 25. | B30: Innovatív Szociális Szolgáltató Központ kialakítása Székesfehérváron | C30: Végrehajtás alatt | D30: 730250 | G30: =SUM(E30:F30) -> 0 | J30: =SUM(H30:I30) -> 0 | M30: =SUM(K30:L30) -> 0 | N30: 244130 | P30: =SUM(N30:O30) -> 244130 | Q30: 336120 | S30: =SUM(Q30:R30) -> 336120 | V30: =SUM(T30:U30) -> 0 | Y30: =SUM(W30:X30) -> 0
A31: 26. | B31: Bölcsődei intézmények eszközfejlesztése | C31: Végrehajtás alatt | D31: 10657 | G31: =SUM(E31:F31) -> 0 | J31: =SUM(H31:I31) -> 0 | M31: =SUM(K31:L31) -> 0 | N31: 10657 | P31: =SUM(N31:O31) -> 10657 | S31: =SUM(Q31:R31) -> 0 | V31: =SUM(T31:U31) -> 0 | Y31: =SUM(W31:X31) -> 0
A32: 27. | B32: Maroshegyi Óvoda bővítése | C32: Végrehajtás alatt | D32: =159984+2725+188 -> 162897 | G32: =SUM(E32:F32) -> 0 | J32: =SUM(H32:I32) -> 0 | M32: =SUM(K32:L32) -> 0 | N32: 159984 | P32: =SUM(N32:O32) -> 159984 | S32: =SUM(Q32:R32) -> 0 | V32: =SUM(T32:U32) -> 0 | Y32: =SUM(W32:X32) -> 0
A33: 28. | B33: Berényi u. III. ütem útépítés | C33: Végrehajtás alatt | D33: 142000 | G33: =SUM(E33:F33) -> 0 | J33: =SUM(H33:I33) -> 0 | M33: =SUM(K33:L33) -> 0 | O33: 40000 | P33: =SUM(N33:O33) -> 40000 | S33: =SUM(Q33:R33) -> 0 | V33: =SUM(T33:U33) -> 0 | Y33: =SUM(W33:X33) -> 0
A34: 29. | B34: Árpád-ház programhoz kapcsolódó tervezési, előkészítési feladatok figyelemmel az 1315/2016.(VII.1.) Korm.határozatra | C34: Végrehajtás alatt | D34: 200000 | G34: =SUM(E34:F34) -> 0 | J34: =SUM(H34:I34) -> 0 | L34: 200000 | M34: =SUM(K34:L34) -> 200000 | P34: =SUM(N34:O34) -> 0 | S34: =SUM(Q34:R34) -> 0 | V34: =SUM(T34:U34) -> 0 | Y34: =SUM(W34:X34) -> 0
A35: 30. | B35: A belváros élhetőségének javítását szolgáló Zichy-liget projekt tervezése | C35: Végrehajtás alatt | D35: 400000 | G35: =SUM(E35:F35) -> 0 | J35: =SUM(H35:I35) -> 0 | M35: =SUM(K35:L35) -> 0 | O35: 400000 | P35: =SUM(N35:O35) -> 400000 | S35: =SUM(Q35:R35) -> 0 | V35: =SUM(T35:U35) -> 0 | Y35: =SUM(W35:X35) -> 0
A36: 31. | B36: Zöld város - Fehérvár Tüdeje | C36: Előkészítés alatt | D36: 1000000 | G36: =SUM(E36:F36) -> 0 | J36: =SUM(H36:I36) -> 0 | M36: =SUM(K36:L36) -> 0 | N36: 27000 | P36: =SUM(N36:O36) -> 27000 | Q36: 241250 | S36: =SUM(Q36:R36) -> 241250 | T36: 723750 | V36: =SUM(T36:U36) -> 723750 | W36: 8000 | Y36: =SUM(W36:X36) -> 8000
A37: 32. | B37: Ybl Miklós lakótelepi rendelőépület - Gyermekorvosi rendelő és védőnői tanácsadó átalakítása, bővítése, felújítása a TOP 6.2.1-16 kódszámú pályázati felhívás keretében | C37: Előkészítés alatt | D37: =69000+5756 -> 74756 | G37: =SUM(E37:F37) -> 0 | J37: =SUM(H37:I37) -> 0 | M37: =SUM(K37:L37) -> 0 | N37: 69000 | P37: =SUM(N37:O37) -> 69000 | S37: =SUM(Q37:R37) -> 0 | V37: =SUM(T37:U37) -> 0 | Y37: =SUM(W37:X37) -> 0
A38: 33. | B38: Batthyány utcai Orvosi Rendelő - Felnőtt háziorvosi rendelő felújítása | C38: Előkészítés alatt | D38: 90238 | G38: =SUM(E38:F38) -> 0 | J38: =SUM(H38:I38) -> 0 | M38: =SUM(K38:L38) -> 0 | N38: 90238 | P38: =SUM(N38:O38) -> 90238 | S38: =SUM(Q38:R38) -> 0 | V38: =SUM(T38:U38) -> 0 | Y38: =SUM(W38:X38) -> 0
A39: 34. | B39: Szekfű Gyula utcai rendelőépület - Felnőtt fogászati, fogszabályzós szakrendelés, valamint háziorvosi rendelő felújítása, fejlesztése | C39: Előkészítés alatt | D39: 375512 | G39: =SUM(E39:F39) -> 0 | J39: =SUM(H39:I39) -> 0 | M39: =SUM(K39:L39) -> 0 | N39: 357687 | P39: =SUM(N39:O39) -> 357687 | Q39: 17825 | S39: =SUM(Q39:R39) -> 17825 | V39: =SUM(T39:U39) -> 0 | Y39: =SUM(W39:X39) -> 0
