Workbook
Name onev: [1]kod!$BT$34:$BT$3186

Sheet 1.tábla 
A4: AZ ÖNKORMÁNYZAT FŐÖSSZESÍTŐJE
A5: MEGNEVEZÉS | B5: 2019. évi eredeti előirányzat | C5: I. Módosítás | D5: Eltérés
A6: I. Működési célú támogatások államháztartáson belülről | B6: ='2.tábla'!B5 -> 41568251 | C6: ='2.tábla'!C5 -> 42733378 | D6: ='2.tábla'!D5 -> 1165127
A7: II. Felhalmozási célú támogatások államháztartáson belülről | B7: ='2.tábla'!B19 -> 0 | C7: ='2.tábla'!C19 -> 20000000 | D7: ='2.tábla'!D19 -> 20000000
A8: III. Közhatalmi bevételek | B8: ='2.tábla'!B25 -> 11383000 | C8: ='2.tábla'!C25 -> 11383000 | D8: ='2.tábla'!D25 -> 0
A9: IV. Működési bevételek | B9: ='2.tábla'!B38 -> 3308110 | C9: ='2.tábla'!C38 -> 3308110 | D9: ='2.tábla'!D38 -> 0
A10: V. Felhalmozási bevételek | B10: ='2.tábla'!B50 -> 0 | C10: ='2.tábla'!C50 -> 0 | D10: ='2.tábla'!D50 -> 0
A11: VI. Működési célú átvett pénzeszközök | B11: ='2.tábla'!B55 -> 0 | C11: ='2.tábla'!C55 -> 0 | D11: ='2.tábla'!D55 -> 0
A12: VII. Felhalmozási célú átvett pénzeszközök | B12: ='2.tábla'!B59 -> 0 | C12: ='2.tábla'!C59 -> 0 | D12: ='2.tábla'!D59 -> 0
A13: Költségvetési bevételek összesen: | B13: =SUM(B6:B12) -> 56259361 | C13: =SUM(C6:C12) -> 77424488 | D13: =SUM(D6:D12) -> 21165127
A14: 1. Költségvetési hiány belső finanszírozására szolgáló finanszírozási bevételek | B14: ='2.tábla'!B64 -> 35000000 | C14: ='2.tábla'!C64 -> 42792254 | D14: ='2.tábla'!D64 -> 7792254
A15: 2. Költségvetési hiány külső finanszírozására szolgáló finanszírozási célú pénzügyi műveletek bevételei | B15: ='2.tábla'!B67 -> 1044244 | C15: ='2.tábla'!C67 -> 1044244 | D15: ='2.tábla'!D67 -> 0
A16: VIII. Finanszírozási bevételek | B16: =B14+B15 -> 36044244 | C16: =C14+C15 -> 43836498 | D16: =D14+D15 -> 7792254
A17: Bevételek összesen: | B17: =B13+B16 -> 92303605 | C17: =C13+C16 -> 121260986 | D17: =D13+D16 -> 28957381
A19: Működési kiadások | B19: =B20 -> 65058469 | C19: =C20 -> 66850338 | D19: =D20 -> 1791869
A20: Önkormányzati feladatok | B20: ='3.tábla '!B35 -> 65058469 | C20: ='3.tábla '!C35 -> 66850338 | D20: ='3.tábla '!D35 -> 1791869
A21: Felhalmozási kiadások | B21: =SUM(B22:B24) -> 19184951 | C21: =SUM(C22:C24) -> 41934613 | D21: =SUM(D22:D24) -> 22749662
A22: Beruházások | B22: ='5.tábla'!B3 -> 8604620 | C22: ='5.tábla'!C3 -> 31354282 | D22: ='5.tábla'!D3 -> 22749662
A23: Felújítások | B23: ='5.tábla'!B18 -> 10537476 | C23: ='5.tábla'!C18 -> 10537476 | D23: ='5.tábla'!D18 -> 0
A24: Egyéb felhalmozási kiadások | B24: ='5.tábla'!B22 -> 42855 | C24: ='5.tábla'!C22 -> 42855 | D24: ='5.tábla'!D22 -> 0
A26: Tartalékok | B26: =B27+B28 -> 5773950 | C26: =C27+C28 -> 10189800 | D26: =C26-B26 -> 4415850
A27: Általános | B27: 5773950 | C27: =5773950+7792254-10000-30000-21529-180340+15127-1200000-1549662-1550000 -> 9039800 | D27: =C27-B27 -> 3265850
A28: Cél | B28: 0 | C28: 1150000 | D28: =C28-B28 -> 1150000
A29: Költségvetési kiadások összesen: | B29: =SUM(B26,B21,B19) -> 90017370 | C29: =SUM(C26,C21,C19) -> 118974751 | D29: =SUM(D26,D21,D19) -> 28957381
A30: Állami támogatás megelőlegezés visszafizetés | B30: ='5.tábla'!B27 -> 2286235 | C30: ='5.tábla'!C27 -> 2286235 | D30: ='5.tábla'!D27 -> 0
A31: Finanszírozási kiadások összesen: | B31: =SUM(B30:B30) -> 2286235 | C31: =SUM(C30:C30) -> 2286235 | D31: =SUM(D30:D30) -> 0
A32: Kiadások összesen: | B32: =B29+B31 -> 92303605 | C32: =C29+C31 -> 121260986 | D32: =D29+D31 -> 28957381
B33: =B17-B32 -> 0 | C33: =C17-C32 -> 0 | D33: =D17-D32 -> 0

Sheet 2.tábla
A3: BEVÉTELEK ELŐIRÁNYZATA
A4: MEGNEVEZÉS | B4: ='1.tábla '!B5 -> 2019. évi eredeti előirányzat | C4: ='1.tábla '!C5 -> I. Módosítás | D4: ='1.tábla '!D5 -> Eltérés
A5: I. Működési célú támogatások államháztartáson belülről | B5: =B6+B12+B13+B14+B15+B16 -> 41568251 | C5: =C6+C12+C13+C14+C15+C16 -> 42733378 | D5: =D6+D12+D13+D14+D15+D16 -> 1165127
A6: 1. Önkormányzat működési támogatásai | B6: ='2a. tábla'!E47 -> 31049766 | C6: ='2a. tábla'!F47 -> 32245891 | D6: ='2a. tábla'!G47 -> 1196125
A7: 1.1. Helyi önkormányzatok működésének általános támogatása | B7: ='2a. tábla'!E5 -> 24101266 | C7: ='2a. tábla'!F5 -> 24101266 | D7: ='2a. tábla'!G5 -> 0
A8: 1.3. Települési önkormányzatok szoc. és gyermekjóléti feladatainak tám. | B8: ='2a. tábla'!E34 -> 5148500 | C8: ='2a. tábla'!F34 -> 5194625 | D8: ='2a. tábla'!G34 -> 46125
A9: 1.4. Települési önkormányzatok kulturális feladatainak támogatása | B9: ='2a. tábla'!E41 -> 1800000 | C9: ='2a. tábla'!F41 -> 1800000 | D9: ='2a. tábla'!G41 -> 0
A10: 1.5. Helyi önk. Működési célú költségvetési támogatásai és kiegészítő támogatásai | B10: ='2a. tábla'!E45 -> 0 | C10: ='2a. tábla'!F45 -> 1150000 | D10: ='2a. tábla'!G45 -> 1150000
A11: 1.6. Elszámolásból származó bevételek
A12: 2. Elvonások, befizetések
A13: 3. Működési célú garancia- és kezességvállalásból származó megtérülések áh-n belülről
A14: 4. Működési célú visszatérítendő támogatások, kölcsönök visszatérülése áh-n belülről
A15: 5. Működési célú visszatérítendő támogatások, kölcsönök igénybevétele áh-n belülről
A16: 6. Egyéb működési célú támogatások bevételei államháztartáson belülről | B16: =B17+B18+77600 -> 10518485 | C16: =C17+C18+77600-46125+15127 -> 10487487 | D16: =C16-B16 -> -30998
A17: Közfoglalkoztatási támogatás | B17: 2615889 | C17: 2615889 | D17: =C17-B17 -> 0
A18: EFOP-5.1.2-16-2017 Humán szolgáltatások fejlesztése | B18: 7824996 | C18: 7824996 | D18: =C18-B18 -> 0
A19: II. Felhalmozási célú támogatások államháztartáson belülről | B19: =B20 -> 0 | C19: =C20 -> 20000000 | D19: =C19-B19 -> 20000000
A20: 1. Felhalmozási célú önkormányzati támogatások | B20: 0 | C20: 20000000 | D20: =C20-B20 -> 20000000
A21: 2. Felhalmozási célú garancia- és kezességvállalásból származó megtérülések áh-n belülről
A22: 3. Felhalmozási célú visszatérítendő támogatások, kölcsönök visszatérülése áh-n belülről
A23: 4. Felhalmozási célú visszatérítendő támogatások, kölcsönök igénybevétele áh-n belülről
A24: 5. Egyéb felhalmozási célú támogatások államháztartáson belülről
A25: III. Közhatalmi bevételek | B25: =B26+B29+B37 -> 11383000 | C25: =C26+C29+C37 -> 11383000 | D25: =C25-B25 -> 0
A26: 1. Vagyoni típusú adók | B26: =SUM(B27:B28) -> 5883000 | C26: =SUM(C27:C28) -> 5883000 | D26: =C26-B26 -> 0
A27: 1.1. Magánszemélyek kommunális adója | B27: 5583000 | C27: 5583000 | D27: =C27-B27 -> 0
A28: 1.2. Telekadó | B28: 300000 | C28: 300000 | D28: =C28-B28 -> 0
A29: 2. Termékek és szolgáltatások adói | B29: =B30+B32+B33 -> 5400000 | C29: =C30+C32+C33 -> 5400000 | D29: =C29-B29 -> 0
A30: 2.1. Értékesítési és forgalmi adók | B30: =SUM(B31) -> 3500000 | C30: =SUM(C31) -> 3500000 | D30: =C30-B30 -> 0
A31: 2.1. 1. Iparűzési adó | B31: 3500000 | C31: 3500000 | D31: =C31-B31 -> 0
A32: 2.2. Gépjárműadók | B32: 1800000 | C32: 1800000 | D32: =C32-B32 -> 0
A33: 2.3. Egyéb áruhasználati és szolgáltatási adók | B33: =SUM(B34:B36) -> 100000 | C33: =SUM(C34:C36) -> 100000 | D33: =C33-B33 -> 0
A34: 2.3.1. Ifa személyek u. | B34: 100000 | C34: 100000 | D34: =C34-B34 -> 0
A35: 2.3.2. Talajterhelési díj
A36: 2.3.3. Települési adó
A37: 3. Egyéb közhatalmi bevételek (bírság, pótlék,) | B37: 100000 | C37: 100000 | D37: =C37-B37 -> 0
A38: IV. Működési bevételek | B38: =B39+B40+B42+B43+B45+B46+B47+B48+B49 -> 3308110 | C38: =C39+C40+C42+C43+C45+C46+C47+C48+C49 -> 3308110 | D38: =C38-B38 -> 0
A39: 1. Áru- és készletértékesítés bevétele
A40: 2. Nyújtott szolgáltatások ellenértéke | B40: 20000 | C40: 20000 | D40: =C40-B40 -> 0
A41: 2.2 bérleti díjak
A42: 3. Közvetített szolgáltatások ellenértéke | B42: 138110 | C42: =20000+118110 -> 138110 | D42: =C42-B42 -> 0
A43: 4. Tulajdonosi bevételek | B43: =B44 -> 2400000 | C43: 2400000 | D43: =C43-B43 -> 0
A44: 4.1. Üzemeltetési díjak | B44: 2400000 | C44: 2400000 | D44: =C44-B44 -> 0
A45: 5. Ellátási díjak
A46: 6. Kiszámlázott Áfa | B46: 750000 | C46: 750000 | D46: =C46-B46 -> 0
A47: 7. Áfa visszatérítés
A48: 8. Kamatbevétel
A49: 9. Egyéb működési bevételek (kártérítés, kötbér, stb.)
A50: V. Felhalmozási bevételek | B50: =SUM(B51:B54) -> 0 | C50: =SUM(C51:C54) -> 0 | D50: =C50-B50 -> 0
A51: 1. Immateriális javak értékesítése
A52: 2. Ingatlanok értékesítése
A53: 3. Egyéb tárgyi eszközök értékesítése
A54: 4. Részesedések értékesítése
A55: VI. Működési célú átvett pénzeszközök | B55: =SUM(B56:B58) -> 0 | C55: =SUM(C56:C58) -> 0 | D55: =C55-B55 -> 0
A56: 1. Működési célú garancia- és kezességvállalásból származó megtérülések áhk
A57: 2. Működési célú visszatérítendő támogatások, kölcsönök visszatérülése államháztartáson kívülről
A58: 3. Egyéb működési célú átvett pénzeszközök
A59: VII. Felhalmozási célú átvett pénzeszközök | B59: =B60+B61+B62 -> 0 | C59: =C60+C61+C62 -> 0 | D59: =C59-B59 -> 0
A60: 1. Felhalmozási célú garancia- és kezességvállalásból származó megtérülések áh-n kívülről
A61: 2. Felhalmozási célú visszatérítendő támogatások, kölcsönök visszatérülése államháztartáson kívülről
A62: 3. Egyéb felhalmozási célú átvett pénzeszközök
A63: Költségvetési bevételek összesen: | B63: =B59+B55+B50+B38+B25+B19+B5 -> 56259361 | C63: =C59+C55+C50+C38+C25+C19+C5 -> 77424488 | D63: =C63-B63 -> 21165127
A64: 1. Költségvetési hiány belső finanszírozására szolgáló bevételek | B64: =SUM(B65:B66) -> 35000000 | C64: =SUM(C65:C66) -> 42792254 | D64: =C64-B64 -> 7792254
A65: 1.1. Előző év költségvetési maradványának igénybevétele működési célra | B65: 28135000 | C65: =28135000+7792254 -> 35927254 | D65: =C65-B65 -> 7792254
A66: 1.2. Előző év költségvetési maradványának igénybevétele felhalmozási célra | B66: 6865000 | C66: 6865000 | D66: =C66-B66 -> 0
A67: 2. Költségvetési hiány külső finanszírozására szolgáló finanszírozási bevételek | B67: =B69+B68 -> 1044244 | C67: =C69+C68 -> 1044244 | D67: =D69+D68 -> 0
A68: 2.1. Forgatási célú értékpapír beváltása | B68: 0 | C68: 0
A69: 2.4. Államháztartáson belüli megelőlegezések | B69: 1044244 | C69: 1044244 | D69: 0
A70: 2.5. Lekötött bankbetét megszüntetése | B70: 0 | C70: 0
A71: VIII. Finanszírozási bevételek | B71: =B67+B64 -> 36044244 | C71: =C67+C64 -> 43836498 | D71: =D67+D64 -> 7792254
A72: Összes bevétel: | B72: =B63+B71 -> 92303605 | C72: =C63+C71 -> 121260986 | D72: =D63+D71 -> 28957381
A73: Intézményi létszámok: | B73: 6 | C73: 6 | D73: 6
A74: ebből közfoglalkoztatott | B74: 3 | C74: 3 | D74: 3

Sheet 2a. tábla
A2: ÁLLAMI TÁMOGATÁSOK 2019. ÉV
A3: MEGNEVEZÉS | B3: LÉTSZÁM | C3: MUTATÓ | D3: FAJLAGOS | E3: ELŐIRÁNYZAT | F3: I. Módosítás | G3: Eltérés
A5: I. HELYI ÖNKORMÁNYZATOK MŰKÖDÉSÉNEK ÁLTALÁNOS TÁMOGATÁSA | E5: =E6 -> 24101266 | F5: =F6 -> 24101266 | G5: =F5-E5 -> 0
A6: 1. Települési önkormányzatok működésének támogatása | E6: =E7 -> 24101266 | F6: =F7 -> 24101266 | G6: =F6-E6 -> 0
A7: Önkormányzati hivatal működtetésének támogatás (beszámítás után) | E7: =E10+E19+E22+E25+E28+E30 -> 24101266 | F7: =F10+F19+F22+F25+F28+F30 -> 24101266 | G7: =F7-E7 -> 0
A8: Önkormányzati hivatal működtetésének támogatás elismert hivatali létsz. | E8: =C8*D8 -> 0 | F8: =D8*E8 -> 0 | G8: =F8-E8 -> 0
A9: Beszámítás összege | E9: 0 | F9: 0 | G9: =F9-E9 -> 0
A10: Település üzemeltetéséhez kapcsolódó feladatellátás támogatása (beszámítás után) | E10: =E11+E12+E13+E14+E15+E16+E17+E18 -> 10594400 | F10: =F11+F12+F13+F14+F15+F16+F17+F18 -> 10594400 | G10: =F10-E10 -> 0
A11: Zöldterület-gazdálk-al kapcsolatos feladatok ellátásának támogatása | D11: 22300 | E11: 985660 | F11: 985660 | G11: =F11-E11 -> 0
A12: Beszámítás összege
A13: Közvilágítás fenntartásának támogatás | E13: 4928000 | F13: 4928000 | G13: =F13-E13 -> 0
A14: Beszámítás összege
A15: Köztemető fenntartással kapcsolatos feladatok támog. | E15: 0 | F15: 0 | G15: =F15-E15 -> 0
A16: Beszámítás összege
A17: Közutak fenntartásának támogatás | E17: 4680740 | F17: 4680740 | G17: =F17-E17 -> 0
A18: Beszámítás összege
A19: Egyéb önkormányzati feladatok támogatása (beszámítás után) | E19: =E20+E21 -> 5000000 | F19: =F20+F21 -> 5000000 | G19: =F19-E19 -> 0
A20: Egyéb önkormányzati feladatok támogatása | D20: 2700 | E20: 5000000 | F20: 5000000 | G20: =F20-E20 -> 0
A21: Beszámítás összege
A22: Lakott külterületekkel kapcsolatos feladatok támogatása(beszámítás után) | E22: =E23+E24 -> 114750 | F22: =F23+F24 -> 114750 | G22: =G23+G24 -> 0
A23: Lakott külterületekkel kapcsolatos feladatok támogatása | D23: 2550 | E23: 114750 | F23: 114750 | G23: =F23-E23 -> 0
A24: Beszámítás összege
A25: Üdülőhelyi feladatok támogatása (beszámitás után) | E25: =E26 -> 99600 | F25: =F26 -> 99600 | G25: =G26 -> 0
A26: Üdülőhelyi feladatok támogatása | E26: 99600 | F26: 99600 | G26: =F26-E26 -> 0
A27: Beszámítás összege
A28: Kiegészítés | E28: 7172016 | F28: 7172016 | G28: =F28-E28 -> 0
A29: 5. 2018. évről áthúzódó bérkompenzáció támogatása | E29: 0 | F29: 0 | G29: 0
A30: 6. Polgármesteri illetmény támogatása | E30: 1120500 | F30: 1120500 | G30: =F30-E30 -> 0
A32: II. EGYES KÖZNEVELÉSI FELADATOK TÁMOGATÁSA | E32: 0 | F32: 0 | G32: 0
A34: III. SZOCIÁLIS, GYERMEKJÓLÉTI ÉS GYERMEKÉTKEZTETÉSI FELADATAI | E34: =E35+E38+E39+E36 -> 5148500 | F34: =F35+F38+F39+F36 -> 5194625 | G34: =G35+G38+G39+G36 -> 46125
A35: 1. Szociális ágazati összevont pótlék | E35: 0 | F35: 46125 | G35: =F35-E35 -> 46125
A36: 2. Települési önkormányzatok szociális feladatainak egyéb támogatása | E36: 2048500 | F36: 2048500 | G36: =F36-E36 -> 0
A37: 3. Egyéb szociális és gyermekjólétii feladatok támogatása | E37: 3100000 | F37: 3100000 | G37: =F37-E37 -> 0
A38: e) Falugondnoki vagy tanyagondnoki szolgáltatás | E38: 3100000 | F38: 3100000 | G38: =F38-E38 -> 0
A40: IV. A TELEPÜLÉSI ÖNKORMÁNYZATOK KULTURÁLIS FELADATAINAK TÁMOGATÁSA
A41: 1. Településiönkormányzatok nyilvános könyvtári és közművelődési feladatok támogatása | E41: =E42 -> 1800000 | F41: =F42 -> 1800000 | G41: =F41-E41 -> 0
E42: 1800000 | F42: 1800000 | G42: =F42-E42 -> 0
A44: Helyi önkormányzatok kiegészítő támogatásai (működési) | E44: 0 | F44: 1150000 | G44: =F44-E44 -> 1150000
A45: A falu- és tanyagondoki szolgálatok 2019. évi többlettámogatása | E45: 0 | F45: 1150000 | G45: =F45-E45 -> 1150000
A47: Összesen | E47: =E41+E34+E32+E5 -> 31049766 | F47: =F41+F34+F32+F5+F44 -> 32245891 | G47: =G41+G34+G32+G5+G44 -> 1196125

Sheet 3.tábla 
A1: MŰKÖDÉSI KIADÁSOK 2019. ÉV
A2: MEGNEVEZÉS | B2: ='1.tábla '!B5 -> 2019. évi eredeti előirányzat | C2: ='1.tábla '!C5 -> I. Módosítás | D2: ='1.tábla '!D5 -> Eltérés
A3: I. Önkormányzati Hivatal költségvetése
A4: 1. Személyi juttatások | B4: =SUM(B5:B6) -> 22269078 | C4: =SUM(C5:C6) -> 23819078 | D4: =C4-B4 -> 1550000
A5: 1.1 Személyi juttatások | B5: 17195238 | C5: =17195238+1550000 -> 18745238 | D5: =C5-B5 -> 1550000
A6: 1.2 EFOP Személyi juttatások | B6: 5073840 | C6: 5073840 | D6: =C6-B6 -> 0
A7: 2. Munkaadót terhelő járulékok | B7: =B8+B9 -> 3645209 | C7: =C8+C9 -> 3645209 | D7: =C7-B7 -> 0
A8: 2.1 Munakadót terhelő járulékok | B8: 2985209 | C8: 2985209 | D8: =C8-B8 -> 0
A9: 2.2 EFOP Munkaadókat terhelő járulékok | B9: 660000 | C9: 660000 | D9: =C9-B9 -> 0
A10: 3. Dologi kiadások | B10: =SUM(B11:B28) -> 22864333 | C10: =SUM(C11:C28) -> 23084673 | D10: =SUM(D11:D28) -> 220340
A11: Szakmai anyagok beszerzése | B11: 570000 | C11: =35000+10000 -> 45000 | D11: =C11-B11 -> -525000
A12: Üzemeltetési anyagok beszerzése | B12: 2000000 | C12: 2000000 | D12: =C12-B12 -> 0
A13: EFOP Üzemeltetési anyagok beszerzése | B13: 0 | C13: 421260 | D13: =C13-B13 -> 421260
A14: Informatikai szolg.igénybevétele | B14: 550000 | C14: 550000 | D14: =C14-B14 -> 0
A15: Egyéb kommunikációs szolg. | B15: 650000 | C15: 650000 | D15: =C15-B15 -> 0
A16: Közüzemi díjak | B16: 2000000 | C16: 2000000 | D16: =C16-B16 -> 0
A17: Vásárolt élelmezés | B17: 20000 | C17: 20000 | D17: =C17-B17 -> 0
A18: Bérleti és lizing díjak | B18: 480000 | C18: =B18+30000 -> 510000 | D18: =C18-B18 -> 30000
A19: Karbantartási, kisjavítási szolgáltatások 75/2019. (V. 29.) | B19: 400000 | C19: =400000+142000 -> 542000 | D19: =C19-B19 -> 142000
A20: Közvetített szolgáltatások | B20: 200000 | C20: 200000 | D20: =C20-B20 -> 0
A21: Szakmai tevékenységet segítő szolg. | B21: 1800000 | C21: 1800000 | D21: =C21-B21 -> 0
A22: Egyéb szolgáltatások | B22: 3500000 | C22: 3500000 | D22: =C22-B22 -> 0
A23: EFOP Egyéb szolgáltatások | B23: 5954333 | C23: 4688451 | D23: =C23-B23 -> -1265882
A24: Reklám és propagandakiadások | B24: 40000 | C24: 40000 | D24: =C24-B24 -> 0
A25: Működési célú előzetesen felszámított ÁFA 75/2019. (V. 29.) | B25: 2700000 | C25: =2700000+38340 -> 2738340 | D25: =C25-B25 -> 38340
A26: EFOP Működési célú előzetesen felszámított ÁFA | B26: 0 | C26: =113740+1265882 -> 1379622 | D26: =C26-B26 -> 1379622
A27: Fizetendő ÁFA | B27: 750000 | C27: 750000 | D27: =C27-B27 -> 0
A28: Egyéb dologi kiadások | B28: 1250000 | C28: 1250000 | D28: =C28-B28 -> 0
A29: 4. Ellátottak pénzbeli juttatásai | B29: =B30 -> 2048500 | C29: =C30 -> 2048500 | D29: =D30 -> 0
A30: Települési támogatás | B30: 2048500 | C30: 2048500 | D30: =B30-C30 -> 0
A31: 5. Egyéb működési célú kiadások | B31: ='4.tábla'!B15+B34 -> 14231349 | C31: ='4.tábla'!C15+C34 -> 14252878 | D31: =C31-B31 -> 21529
A32: 5.1. Egyéb működési célú visszatérítendő támogatások államháztartáson belülre | B32: ='4.tábla'!B3 -> 13371349 | C32: ='4.tábla'!C3 -> 13371349 | D32: ='4.tábla'!D3 -> 0
A33: 5.2 Működési célú visszatérítendő támogatások, kölcsönök nyújtása áh-n kívülre | B33: ='4.tábla'!B8 -> 860000 | C33: ='4.tábla'!C8 -> 860000 | D33: ='4.tábla'!D8 -> 0
A34: 5.3 Állami támogatás visszafizetése elszámolás alapján | B34: 0 | C34: 21529 | D34: =C34-B34 -> 21529
A35: Önkormányzati működési kiadások összesen: | B35: =B4+B7+B10+B29+B31 -> 65058469 | C35: =C4+C7+C10+C29+C31 -> 66850338 | D35: =D4+D7+D10+D29+D31 -> 1791869

Sheet 4.tábla
A1: MŰKÖDÉSI KIADÁSOK 2019. ÉV
A2: Megnevezés | B2: ='1.tábla '!B5 -> 2019. évi eredeti előirányzat | C2: ='1.tábla '!C5 -> I. Módosítás | D2: ='1.tábla '!D5 -> Eltérés
A3: 1. Működési célú támogatások államháztartáson belülre | B3: =SUM(B4:B7) -> 13371349 | C3: =SUM(C4:C7) -> 13371349 | D3: =C3-B3 -> 0
A4: Balatonfüredi Közoktatási Intézményfenntartó Társulás Pécsely Óvoda fenntartási támogatás | B4: 5178174 | C4: 5178174 | D4: =C4-B4 -> 0
A5: Balatonfüredi Közös Önkormányzati Hivatal | B5: 6988286 | C5: 6988286 | D5: =C5-B5 -> 0
A6: Balatonfüredi Többcélú Társulás | B6: 954889 | C6: 954889 | D6: =C6-B6 -> 0
A7: BURSA Hungarica ösztöndíj (Wekerle Sándor Alapkezelő) | B7: 250000 | C7: 250000 | D7: =C7-B7 -> 0
A8: 2. Működési célú támogatások államháztartáson kívülre | B8: =SUM(B9:B13) -> 860000 | C8: =SUM(C9:C13) -> 860000 | D8: =C8-B8 -> 0
A9: Balatonszőlős Darts egyesület | B9: 150000 | C9: 150000 | D9: =C9-B9 -> 0
A10: Balatonszőlős Sport egyesület | B10: 500000 | C10: 500000 | D10: =C10-B10 -> 0
A11: Tihany Iskoláért Alapítvány | B11: 100000 | C11: 100000 | D11: =C11-B11 -> 0
A12: Falugondnokok egyesülete támogatás | B12: 10000 | C12: 10000 | D12: =C12-B12 -> 0
A13: Balatonszőlős Jövőjéért Alapítvány | B13: 100000 | C13: 100000 | D13: =C13-B13 -> 0
A14: 3. Működési célú visszatérítendő támogatások, kölcsönök nyújtása, törlesztése | B14: 0 | C14: 0 | D14: 0
A15: Összesen: | B15: =B8+B3 -> 14231349 | C15: =C8+C3 -> 14231349 | D15: =D8+D3 -> 0

Sheet 5.tábla
A1: FELHALMOZÁSI KIADÁSOK 2019. ÉV
A2: Megnevezés | B2: ='1.tábla '!B5 -> 2019. évi eredeti előirányzat | C2: ='1.tábla '!C5 -> I. Módosítás | D2: ='1.tábla '!D5 -> Eltérés
A3: I. BERUHÁZÁSOK | B3: =B4+B6+B12+B10 -> 8604620 | C3: =C4+C6+C12+C10 -> 31354282 | D3: =C3-B3 -> 22749662
A4: Immateriális javak beszerzése | B4: =SUM(B5:B5) -> 2500000 | C4: =SUM(C5:C5) -> 2500000 | D4: =C4-B4 -> 0
A5: Rendezési terv felülvizsgálat önrész | B5: 2500000 | C5: 2500000 | D5: =C5-B5 -> 0
A6: Ingatlanok beszerzése, létesítése | B6: =B7+B8+B9 -> 4004620 | C6: =C7+C8+C9 -> 24004620 | D6: =C6-B6 -> 20000000
A7: Külterületi út- és csapadékvíz elvezető rendszer kiépítése - pályázat | B7: 0 | C7: 20000000 | D7: =C7-B7 -> 20000000
A8: LEADER pályázat Közösségi tér önrész 75/2018. (VIII. 28.) | B8: 1004620 | C8: 1004620 | D8: =C8-B8 -> 0
A9: LEADER pályázat Közösségi tér munkálatok 75/2018. (VIII. 28.) | B9: 3000000 | C9: 3000000 | D9: =C9-B9 -> 0
A10: Informatikai eszközök beszerzése, létesítése | B10: 50000 | C10: =50000+C11 -> 250000 | D10: =C10-B10 -> 200000
A11: EFOP Informatikai eszköz bszerzése | B11: 0 | C11: 200000 | D11: =C11-B11 -> 200000
A12: Egyéb tárgyi eszköz beszerzése | B12: =B13+B14+B15 -> 2050000 | C12: =SUM(C13:C17) -> 4599662 | D12: =C12-B12 -> 2549662
A13: Nyomtató vásárlás 37/2019. (II. 14.) | B13: 250000 | C13: 250000 | D13: =C13-B13 -> 0
A14: RZ kaszsa | B14: 300000 | C14: 300000 | D14: =C14-B14 -> 0
A15: Kisértékű tárgyi eszközök | B15: 1500000 | C15: 1500000 | D15: =C15-B15 -> 0
A16: EFOP Eszközbeszerzés | B16: 0 | C16: 1000000 | D16: =C16-B16 -> 1000000
A17: Szivattyú beszerzése 61/2019. (IV. 17.) | B17: 0 | C17: 1549662 | D17: =C17-B17 -> 1549662
A18: II. FELÚJÍTÁSOK | B18: =B19 -> 10537476 | C18: =C19 -> 10537476 | D18: =C18-B18 -> 0
A19: Ingatlanok Felújítása | B19: =B20+B21 -> 10537476 | C19: =SUM(C20:C21) -> 10537476 | D19: =C19-B19 -> 0
A20: Önkormányzati fejlesztések 2018 önrész | B20: 1580622 | C20: 1580622 | D20: =C20-B20 -> 0
A21: Önkormányzati fejlesztések 2018 munkálatok | B21: 8956854 | C21: 8956854 | D21: =C21-B21 -> 0
A22: III. EGYÉB FELHALMOZÁSI KIADÁSOK | B22: =B23 -> 42855 | C22: =C23 -> 42855 | D22: =D23 -> 0
A23: Egyéb felhalmozási kiadások | B23: 42855 | C23: 42855 | D23: =C23-B23 -> 0
A24: IV. FINANSZÍROZÁSI KIADÁSOK | B24: =B25+B26+B27 -> 2286235 | C24: =C25+C26+C27 -> 2286235 | D24: =D25+D26+D27 -> 0
A25: Lekötött bankbetét beváltása
A26: Forgatási célú értékpapír vásárlás
A27: Állami támogatás megelőlegezés visszafizetés | B27: 2286235 | C27: 2286235 | D27: =B27-C27 -> 0
A28: Felhalmozási kiadások összesen: | B28: =B3+B18+B24+B22 -> 21471186 | C28: =C3+C18+C24+C22 -> 44220848 | D28: =D3+D18+D24+D22 -> 22749662

Sheet 6.tábla 
A2: Az Önkormányzat működési bevételei és kiadásai 2019. év
A4: 1. Működési bevételek | B4: ='1.tábla '!B5 -> 2019. évi eredeti előirányzat | C4: ='1.tábla '!C5 -> I. Módosítás | D4: ='1.tábla '!D5 -> Eltérés | E4: 2. Működési kiadások | F4: =B4 -> 2019. évi eredeti előirányzat | G4: =C4 -> I. Módosítás | H4: =D4 -> Eltérés
A5: 1. Működési célú támogatások államháztartáson belülről | B5: ='1.tábla '!B6 -> 41568251 | C5: ='1.tábla '!C6 -> 42733378 | D5: ='1.tábla '!D6 -> 1165127 | E5: 1. Személyi juttatások | F5: ='3.tábla '!B4 -> 22269078 | G5: ='3.tábla '!C4 -> 23819078 | H5: ='3.tábla '!D4 -> 1550000
A6: 2. Közhatalmi bevételek | B6: ='1.tábla '!B8 -> 11383000 | C6: ='1.tábla '!C8 -> 11383000 | D6: ='1.tábla '!D8 -> 0 | E6: 2. Munkaadót terhelő járulékok | F6: ='3.tábla '!B7 -> 3645209 | G6: ='3.tábla '!C7 -> 3645209 | H6: ='3.tábla '!D7 -> 0
A7: 3. Működési bevételek | B7: ='1.tábla '!B9 -> 3308110 | C7: ='1.tábla '!C9 -> 3308110 | D7: ='1.tábla '!D9 -> 0 | E7: 3. Dologi kiadások | F7: ='3.tábla '!B10 -> 22864333 | G7: ='3.tábla '!C10 -> 23084673 | H7: ='3.tábla '!D10 -> 220340
A8: 4. Működési célú átvett pénzeszközök államháztartáson kivülről | B8: 0 | C8: 0 | D8: 0 | E8: 4. Ellátottak pénzbeli juttatásai | F8: ='3.tábla '!B30 -> 2048500 | G8: ='3.tábla '!C30 -> 2048500 | H8: ='3.tábla '!D30 -> 0
E9: 5. Egyéb működési célú kiadások | F9: =F10+F11+F12+F13 -> 14231349 | G9: =G10+G11+G12+G13 -> 14252878 | H9: =H10+H11+H12+H13 -> 21529
E10: 5.1. Elvonások, befizetések
E11: 5.2. Egyéb működési célú támogatások áhb | F11: ='4.tábla'!B3 -> 13371349 | G11: ='4.tábla'!C3 -> 13371349 | H11: ='4.tábla'!D3 -> 0
E12: 5.4. Egyéb működési célú támogatások áhk | F12: ='4.tábla'!B8 -> 860000 | G12: ='4.tábla'!C8 -> 860000 | H12: ='4.tábla'!D8 -> 0
E13: 5.5. Állami támogatás visszafizetése elszámolás alapján | F13: ='3.tábla '!B34 -> 0 | G13: ='3.tábla '!C34 -> 21529 | H13: ='3.tábla '!D34 -> 21529
E14: 6. Pénzforgalom nélküli kiadások (tartalék) | F14: ='1.tábla '!B26 -> 5773950 | G14: ='1.tábla '!C26 -> 10189800 | H14: ='1.tábla '!D26 -> 4415850
A15: Összes költségvetési működési bevétel: | B15: =SUM(B5:B14) -> 56259361 | C15: =SUM(C5:C14) -> 57424488 | D15: =SUM(D5:D14) -> 1165127 | E15: Összes költségvetési működési kiadás: | F15: =F5+F6+F7+F8+F9+F14 -> 70832419 | G15: =G5+G6+G7+G8+G9+G14 -> 77040138 | H15: =H5+H6+H7+H8+H9+H14 -> 6207719
A16: Működési többlet: | E16: Működési hiány: | F16: =F15-B15 -> 14573058 | G16: =G15-C15 -> 19615650 | H16: =H15-D15 -> 5042592
A17: Költségvetési hiány belső finanszírozása működési célú | B17: =SUM(B18) -> 28135000 | C17: =SUM(C18) -> 35927254 | D17: =SUM(D18) -> 7792254 | E17: Finanszírozási célú műveletek kiadásai működési célú | F17: =F18+F19+F20+F21 -> 2286235 | G17: =G18+G19+G20+G21 -> 2286235 | H17: =H18+H19+H20+H21 -> 0
A18: 5. Költségvetési Maradvány | B18: ='2.tábla'!B65 -> 28135000 | C18: ='2.tábla'!C65 -> 35927254 | D18: ='2.tábla'!D65 -> 7792254 | E18: 7. Állami támogatás megelőlegezés visszafizetése | F18: ='5.tábla'!B27 -> 2286235 | G18: ='5.tábla'!C27 -> 2286235 | H18: ='5.tábla'!D27 -> 0
A19: Költségvetési hiány külső finanszírozása működési célú | B19: =SUM(B20:B22) -> 1044244 | C19: =SUM(C20:C22) -> 1044244 | D19: =SUM(D20:D22) -> 0 | E19: 8. Lekötött bankbetét megszüntetése
A20: 6. Értékpapír beváltása | B20: ='2.tábla'!B68 -> 0 | C20: ='2.tábla'!C68 -> 0 | E20: 9. Betét vásárlás
A21: 7. Lekötött bankbetét megszüntetése | E21: 10. Forgatási célú értékpapír vásárlása
A22: 8. Állami támogatás megelőlegezés visszafizetése | B22: ='2.tábla'!B69 -> 1044244 | C22: ='2.tábla'!C69 -> 1044244 | D22: ='2.tábla'!D69 -> 0
A23: Összes működési bevétel: | B23: =B15+B17+B19 -> 85438605 | C23: =C15+C17+C19 -> 94395986 | D23: =D15+D17+D19 -> 8957381 | E23: Összes működési kiadás | F23: =F17+F15 -> 73118654 | G23: =G17+G15 -> 79326373 | H23: =H17+H15 -> 6207719
A25: Az Önkormányzat felhalmozási bevételei és kiadásai 2019. év
A27: 1. Felhalmozási bevételek | B27: =B4 -> 2019. évi eredeti előirányzat | C27: =C4 -> I. Módosítás | D27: =D4 -> Eltérés | E27: 2. Felhalmozási kiadások | F27: =B27 -> 2019. évi eredeti előirányzat | G27: =C27 -> I. Módosítás | H27: =D27 -> Eltérés
A28: 1. Felhalmozási célú támogatások államháztartáson belülről | B28: ='2.tábla'!B19 -> 0 | C28: ='2.tábla'!C19 -> 20000000 | D28: ='2.tábla'!D19 -> 20000000 | E28: 1.1. Beruházások | F28: ='5.tábla'!B3 -> 8604620 | G28: ='5.tábla'!C3 -> 31354282 | H28: ='5.tábla'!D3 -> 22749662
A29: 2. Felhalmozási bevételek | B29: ='2.tábla'!B50 -> 0 | C29: ='2.tábla'!C50 -> 0 | D29: ='2.tábla'!D50 -> 0 | E29: 1.2. Int.saját hatáskörű fejlesztések
A30: 3. Felhalmozási célú átvett pénzeszközök | B30: ='2.tábla'!B59 -> 0 | C30: ='2.tábla'!C59 -> 0 | D30: ='2.tábla'!D59 -> 0 | E30: 2. Felújítások | F30: ='5.tábla'!B18 -> 10537476 | G30: ='5.tábla'!C18 -> 10537476 | H30: ='5.tábla'!D18 -> 0
E31: 3. Egyéb felhalmozási kiadások | F31: =F32+F33+F35+F36 -> 42855 | G31: =G32+G33+G35+G36 -> 42855 | H31: =H32+H33+H35+H36 -> 0
E32: 3.1. Egyéb felhalmozási célú támogatások áh-n kívülre
E33: 3.2. Egyéb felhalmozási célú támogatások áh-n belülre | F33: ='5.tábla'!B23 -> 42855 | G33: ='5.tábla'!C23 -> 42855 | H33: ='5.tábla'!D23 -> 0
E35: 3.3. Felhalmozási célú visszatérítendő támogatások, kölcsönök nyújtása áh-n belülre
E36: 3.3. Felhalmozási célú visszatérítendő támogatások, kölcsönök nyújtása áh-n kívülre
A37: Összes költségvetési felhalmozási bevétel: | B37: =SUM(B28:B35) -> 0 | C37: =SUM(C28:C35) -> 20000000 | D37: =SUM(D28:D35) -> 20000000 | E37: Összes költségvetési felhalmozási kiadás: | F37: =SUM(F28:F31) -> 19184951 | G37: =SUM(G28:G31) -> 41934613 | H37: =SUM(H28:H31) -> 22749662
A38: Felhalmozási többlet: | B38: -9466956 | C38: -9466956 | D38: -9466956 | E38: Felhalmozási hiány: | F38: =F37-B37 -> 19184951 | G38: =G37-C37 -> 21934613 | H38: =H37-D37 -> 2749662
A39: Költségvetési hiány belső finanszírozása felhalmozási célú | B39: =SUM(B40) -> 6865000 | C39: =SUM(C40) -> 6865000 | D39: =SUM(D40) -> 0 | E39: Finanszírozási célú műveletek kiadásai felhalmozási célú | F39: =SUM(F40:F42) -> 0 | G39: =SUM(G40:G42) -> 0 | H39: =SUM(H40:H42) -> 0
A40: 4.Költségvetési maradvány | B40: ='2.tábla'!B66 -> 6865000 | C40: ='2.tábla'!C66 -> 6865000 | D40: ='2.tábla'!D66 -> 0 | E40: 4. Értékpapírok visszavásárlása
A41: Költségvetési hiány külső finanszírozása felhalmozási célú | B41: =SUM(B42:B43) -> 0 | C41: =SUM(C42:C43) -> 0 | D41: =SUM(D42:D43) -> 0 | E41: 5. Hitelek törlesztése
A42: 5. Értékpapír kibocsátás, értékesítés | E42: 6. Állami támogatás megelőlegezés visszafizetése
A43: 6. Hitelfelvétel
A44: Összes felhalmozási bevétel: | B44: =B37+B39+B41 -> 6865000 | C44: =C37+C39+C41 -> 26865000 | D44: =D37+D39+D41 -> 20000000 | E44: Összes felhalmozási kiadás | F44: =F37+F39 -> 19184951 | G44: =G37+G39 -> 41934613 | H44: =H37+H39 -> 22749662
A47: Bevétele és kiadások mérlege 2019. év
A49: BEVÉTELEK | B49: =B4 -> 2019. évi eredeti előirányzat | C49: =C4 -> I. Módosítás | D49: =D4 -> Eltérés | E49: KIADÁSOK | F49: =B49 -> 2019. évi eredeti előirányzat | G49: =C49 -> I. Módosítás | H49: =D49 -> Eltérés
A50: Költségvetési működési bevételek | B50: =B15 -> 56259361 | C50: =C15 -> 57424488 | D50: =D15 -> 1165127 | E50: Költségvetési működési kiadások | F50: =F15 -> 70832419 | G50: =G15 -> 77040138 | H50: =H15 -> 6207719
A51: Költségvetési felhalmozási bevételek | B51: =B37 -> 0 | C51: =C37 -> 20000000 | D51: =D37 -> 20000000 | E51: Költségvetési felhalmozási kiadások | F51: =F37 -> 19184951 | G51: =G37 -> 41934613 | H51: =H37 -> 22749662
A52: Költségvetési bevételek összesen: | B52: =SUM(B50:B51) -> 56259361 | C52: =SUM(C50:C51) -> 77424488 | D52: =SUM(D50:D51) -> 21165127 | E52: Költségvetési kiadások összesen: | F52: =SUM(F50:F51) -> 90017370 | G52: =SUM(G50:G51) -> 118974751 | H52: =SUM(H50:H51) -> 28957381
A53: Költségvetési többlet: | E53: Költségvetési hiány: | F53: =F52-B52 -> 33758009 | G53: =G52-C52 -> 41550263 | H53: =H52-D52 -> 7792254
A54: Költségvetési hiány belső finanszírozása: | B54: =SUM(B55:B56) -> 35000000 | C54: =SUM(C55:C56) -> 42792254 | D54: =SUM(D55:D56) -> 7792254 | E54: Finanszírozási célú műveletek kiadásai összesen: | F54: =SUM(F55:F56) -> 2286235 | G54: =SUM(G55:G56) -> 2286235 | H54: =SUM(H55:H56) -> 0
A55: Költségvetési hiány belső finanszírozása működési célú | B55: =B17 -> 28135000 | C55: =C17 -> 35927254 | D55: =D17 -> 7792254 | E55: Finanszírozási célú műveletek működési kiadásai | F55: =F17 -> 2286235 | G55: =G17 -> 2286235 | H55: =H17 -> 0
A56: Költségvetési hiány belső finanszírozása felhalmozási célú | B56: =B39 -> 6865000 | C56: =C39 -> 6865000 | D56: =D39 -> 0 | E56: Finanszírozási célú műveletek felhalmozási kiadásai | F56: =F39 -> 0 | G56: =G39 -> 0 | H56: =H39 -> 0
A57: Költségvetési hiány külső finanszírozása: | B57: =SUM(B58:B59) -> 1044244 | C57: =SUM(C58:C59) -> 1044244 | D57: =SUM(D58:D59) -> 0
A58: Költségvetési hiány külső finanszírozása működési célú | B58: =B19 -> 1044244 | C58: =C19 -> 1044244 | D58: =D19 -> 0
A59: Költségvetési hiány külső finanszírozása felhalmozási célú | B59: =B41 -> 0 | C59: =C41 -> 0 | D59: =D41 -> 0
A60: Összes bevétel: | B60: =B52+B54+B57 -> 92303605 | C60: =C52+C54+C57 -> 121260986 | D60: =D52+D54+D57 -> 28957381 | E60: Összes kiadás: | F60: =F52+F54 -> 92303605 | G60: =G52+G54 -> 121260986 | H60: =H52+H54 -> 28957381
A61: TÖBBLET

Sheet 7.tábla
A1: Az Önkormányzat kötelező feladatok bevételei és kiadásai 2019. év
A2: 1. Működési bevételek | B2: ='1.tábla '!B5 -> 2019. évi eredeti előirányzat | C2: ='1.tábla '!C5 -> I. Módosítás | D2: ='1.tábla '!D5 -> Eltérés | E2: 2. Működési kiadások | F2: =B2 -> 2019. évi eredeti előirányzat | G2: =C2 -> I. Módosítás | H2: =D2 -> Eltérés
A3: Működési bevételek | E3: Működési kiadások
A4: 1. Működési támogatások államháztartáson belülről | B4: ='6.tábla '!B5 -> 41568251 | C4: ='6.tábla '!C5 -> 42733378 | D4: ='6.tábla '!D5 -> 1165127 | E4: 1. Személyi juttatások | F4: ='6.tábla '!F5 -> 22269078 | G4: ='6.tábla '!G5 -> 23819078 | H4: ='6.tábla '!H5 -> 1550000
A5: 2. Közhatalmi bevételek | B5: ='6.tábla '!B6 -> 11383000 | C5: ='6.tábla '!C6 -> 11383000 | D5: ='6.tábla '!D6 -> 0 | E5: 2. Munkaadót terhelő járulékok | F5: ='6.tábla '!F6 -> 3645209 | G5: ='6.tábla '!G6 -> 3645209 | H5: ='6.tábla '!H6 -> 0
A6: 3. Működési bevételek | B6: ='6.tábla '!B7-B34 -> 3308110 | C6: ='6.tábla '!C7-C34 -> 3308110 | D6: ='6.tábla '!D7-D34 -> 0 | E6: 3. Dologi kiadások | F6: ='6.tábla '!F7-F34 -> 22864333 | G6: ='6.tábla '!G7-G34 -> 23084673 | H6: ='6.tábla '!H7-H34 -> 220340
A7: 4. Működési célú átvett pénzeszközök áhk | B7: ='6.tábla '!B8 -> 0 | C7: ='6.tábla '!C8 -> 0 | E7: 4. Ellátottak pénzbeli juttatásai | F7: ='6.tábla '!F8 -> 2048500 | G7: ='6.tábla '!G8 -> 2048500 | H7: ='6.tábla '!H8 -> 0
E8: 5. Egyéb működési célú kiadások | F8: =F10+F11+F12 -> 13371349 | G8: =G10+G11+G12 -> 13392878 | H8: =H10+H11+H12 -> 21529
E9: 5.1. Elvonások, befizetések | F9: ='6.tábla '!F10 -> 0 | G9: ='6.tábla '!G10 -> 0 | H9: ='6.tábla '!H10 -> 0
E10: 5.2. Egyéb működési célú támogatások áh-n belülre | F10: ='6.tábla '!F11 -> 13371349 | G10: ='6.tábla '!G11 -> 13371349 | H10: ='6.tábla '!H11 -> 0
E11: 5.4. Egyéb működési célú támogatások áh-n kívülre | F11: ='6.tábla '!F12-F40 -> 0 | G11: ='6.tábla '!G12-G40 -> 0 | H11: ='6.tábla '!H12-H40 -> 0
E12: 5.5. Működési célú visszatérítendő támogatások, kölcsönök nyújtása áh-n kívülre | F12: ='6.tábla '!F13 -> 0 | G12: ='6.tábla '!G13 -> 21529 | H12: ='6.tábla '!H13 -> 21529
E13: 6. Pénzforgalom nélküli kiadások (tartalék) | F13: ='6.tábla '!F14 -> 5773950 | G13: ='6.tábla '!G14 -> 10189800 | H13: ='6.tábla '!H14 -> 4415850
A14: Költségvetési működési bevételek kötelező feladatok szerinti bontásban | B14: =SUM(B4:B13) -> 56259361 | C14: =SUM(C4:C13) -> 57424488 | D14: =SUM(D4:D13) -> 1165127 | E14: Költségvetési felhalmozási kiadások kötelező feladatok szerinti bontásban | F14: =F4+F5+F6+F7+F8+F13 -> 69972419 | G14: =G4+G5+G6+G7+G8+G13 -> 76180138 | H14: =H4+H5+H6+H7+H8+H13 -> 6207719
A15: Finanszírozási bevételek | B15: ='6.tábla '!B54 -> 35000000 | C15: ='6.tábla '!C54 -> 42792254 | D15: ='6.tábla '!D54 -> 7792254 | E15: Finanszírozási kiadások | F15: ='6.tábla '!F17-F55 -> 2286235 | G15: ='6.tábla '!G17-G55 -> 2286235 | H15: ='6.tábla '!H17-H55 -> 0
A16: Működési bevételek kiemelt előirányzatonként kötelező feladatok szerinti bontásban | B16: =B14+B15 -> 91259361 | C16: =C14+C15 -> 100216742 | D16: =D14+D15 -> 8957381 | E16: Működési kiadások kiemelt előirányzatonként kötelező feladatok szerinti bontásban | F16: =F14+F15 -> 72258654 | G16: =G14+G15 -> 78466373 | H16: =H14+H15 -> 6207719
A17: Felhalmozási bevételek | E17: Felhalmozási kiadások
A18: 1. Felhalmozási célú támogatások áhb | B18: ='1.tábla '!B7 -> 0 | C18: ='1.tábla '!C7 -> 20000000 | D18: ='1.tábla '!D7 -> 20000000 | E18: 1.1. Beruházások | F18: ='6.tábla '!F28-F46 -> 8604620 | G18: ='6.tábla '!G28-G46 -> 31354282 | H18: ='6.tábla '!H28-H46 -> 22749662
A19: 2. Felhalmozási bevételek | B19: ='6.tábla '!B29-B47 -> 0 | E19: 1.2. Int.saját hatáskörű fejlesztések
A20: 3. Felhalmozási célú átvett pénzeszközök áhk | B20: ='6.tábla '!B30-B48 -> 0 | C20: ='6.tábla '!C30 -> 0 | D20: ='6.tábla '!D30 -> 0 | E20: 2. Felújítások | F20: ='6.tábla '!F30 -> 10537476 | G20: ='6.tábla '!G30 -> 10537476 | H20: ='6.tábla '!H30 -> 0
E21: 3. Egyéb felhalmozási célú kiadások | F21: ='6.tábla '!F31 -> 42855 | G21: ='6.tábla '!G31 -> 42855 | H21: ='6.tábla '!H31 -> 0
E22: 3.1. Egyéb felhalmozási célú pénzeszköz átadás áhk
E23: 3.2. Egyéb felhalmozási célú pénzeszköz átadás áh-n belülre
E24: 3.4. Felhalmozási célú visszatérítendő támogatások, kölcsönök nyújtása áh-n kívülre
A25: Költségvetési felhalmozási bevételek kötelező feladatok szerinti bontásban | B25: =SUM(B18:B24) -> 0 | C25: =SUM(C18:C24) -> 20000000 | D25: =SUM(D18:D24) -> 20000000 | E25: Költségvetési felhalmozási kiadások kötelező feladatok szerinti bontásban | F25: =SUM(F18:F24) -> 19184951 | G25: =SUM(G18:G24) -> 41934613 | H25: =SUM(H18:H24) -> 22749662
A26: Finanszírozási bevételek | B26: ='6.tábla '!B19-B55 -> 1044244 | C26: ='6.tábla '!C19-C55 -> 1044244 | D26: ='6.tábla '!D19-D55 -> 0 | E26: Finanszírozási kiadások | F26: ='6.tábla '!F39 -> 0 | G26: ='6.tábla '!G39 -> 0 | H26: ='6.tábla '!H39 -> 0
A27: Felhalmozási bevételek kiemelt előirányzatonként kötelező feladatok szerinti bontásban | B27: =B25+B26 -> 1044244 | C27: =C25+C26 -> 21044244 | D27: =D25+D26 -> 20000000 | E27: Felhalmozási kiadások kiemelt előirányzatonként kötelező feladatok szerinti bontásban | F27: =F25+F26 -> 19184951 | G27: =G25+G26 -> 41934613 | H27: =H25+H26 -> 22749662
B28: =B27+B16 -> 92303605 | C28: =C27+C16 -> 121260986 | D28: =D27+D16 -> 28957381 | F28: =F27+F16 -> 91443605 | G28: =G27+G16 -> 120400986 | H28: =H27+H16 -> 28957381
A29: Az Önkormányzat önként vállalt feladatok bevételei és kiadásai 2019. év
A30: 1. Működési bevételek | B30: =B2 -> 2019. évi eredeti előirányzat | C30: =C2 -> I. Módosítás | D30: =D2 -> Eltérés | E30: 2. Működési kiadások | F30: =B30 -> 2019. évi eredeti előirányzat | G30: =C30 -> I. Módosítás | H30: =D30 -> Eltérés
A31: Működési bevételek | E31: Működési kiadások
A32: 1. Működési támogatások államháztartáson belülről | E32: 1. Személyi juttatások
A33: 2. Közhatalmi bevételek | E33: 2. Munkaadót terhelő járulékok
A34: 3. Működési bevételek | E34: 3. Dologi kiadások
A35: 4. Működési célú átvett pénzeszközök államháztartáson kivülről | E35: 4. Ellátottak pénzbeli juttatásai
E36: 5. Egyéb működési célú kiadások
E37: 5.1. Elvonások, befizetések
E38: 5.2. Egyéb működési célú támogatások áhb
E39: 5.4. Egyéb működési célú támogatások áhk
E40: 5.5. Működési célú visszatérítendő támogatások, kölcsönök nyújtása áh-n kívülre | F40: ='4.tábla'!B8 -> 860000 | G40: ='4.tábla'!C8 -> 860000 | H40: ='4.tábla'!D8 -> 0
E41: 6. Pénzforgalom nélküli kiadások (tartalék)
A42: Költségvetési működési bevételek önként vállalt feladatok szerinti bontásban | B42: =SUM(B32:B41) -> 0 | E42: Költségvetési működési kiadások önként vállalt feladatok szerinti bontásban | F42: =SUM(F32:F41) -> 860000 | G42: =SUM(G32:G41) -> 860000 | H42: =SUM(H32:H41) -> 0
A43: Finanszírozási bevételek | E43: Finanszírozási kiadások
A44: Működési bevételek kiemelt előirányzatonként önként vállalt feladatok szerinti bontásban | B44: =B42+B43 -> 0 | E44: Működési kiadások kiemelt előirányzatonként önként vállalt feladatok szerinti bontásban | F44: =F42+F43 -> 860000 | G44: =G42+G43 -> 860000 | H44: =H42+H43 -> 0
A45: Felhalmozási bevételek | E45: Felhalmozási kiadások
A46: 1. Felhalmozási célú támogatások államháztartáson belülről | E46: 1.1. Beruházások
A47: 2. Felhalmozási bevételek | B47: ='2.tábla'!B52 -> 0 | C47: ='2.tábla'!C52 -> 0 | D47: ='2.tábla'!D52 -> 0 | E47: 1.2. Int.saját hatáskörű fejlesztések
A48: 3. Felhalmozási célú átvett pénzeszközök áh-n kívülről | B48: ='2.tábla'!B61 -> 0 | C48: ='2.tábla'!C61 -> 0 | D48: ='2.tábla'!D61 -> 0 | E48: 2. Felújítások
E49: 3. Egyéb felhalmozási célú kiadások
E50: 3.1. Egyéb felhalmozási célú pénzeszköz átadás áh-n kívülre
E51: 3.2. Egyéb felhalmozási célú pénzeszköz átadás áh-n belülre
E52: 3.3. Felhalmozási célú visszatérítendő támogatások, kölcsönök nyújtása áh-n belülre
E53: 3.4. Felhalmozási célú visszatérítendő támogatások, kölcsönök nyújtása áh-n kívülre
A54: Költségvetési felhalmozási bevételek önként vállalt feladatok szerinti bontásban | B54: =SUM(B46:B52) -> 0 | C54: =SUM(C46:C52) -> 0 | D54: =SUM(D46:D52) -> 0 | E54: Költségvetési felhalmozási kiadások önként vállalt feladatok szerinti bontásban | F54: =SUM(F46:F53) -> 0 | G54: 0 | H54: 0
A55: Finanszírozási bevételek | B55: ='2.tábla'!B68 -> 0 | E55: Finanszírozási kiadások
A56: Felhalmozási bevételek kiemelt előirányzatonként önként vállalt feladatok szerinti bontásban | B56: =B54+B55 -> 0 | C56: =C54+C55 -> 0 | D56: =D54+D55 -> 0 | E56: Felhalmozási kiadások kiemelt előirányzatonként önként vállalt feladatok szerinti bontásban | F56: =F44 -> 860000 | G56: =G44 -> 860000 | H56: =H44 -> 0
A57: Az Önkormányzat állami (államigazgatási) feladatok bevételei és kiadásai 2019. év
A59: 1. Működési bevételek | B59: =B2 -> 2019. évi eredeti előirányzat | C59: =C2 -> I. Módosítás | D59: =D2 -> Eltérés | E59: 2. Működési kiadások | F59: =B59 -> 2019. évi eredeti előirányzat | G59: =C59 -> I. Módosítás | H59: =D59 -> Eltérés
A60: Működési bevételek
A61: 1. Működési támogatások államháztartáson belülről | E61: 1. Személyi juttatások
A62: 2. Közhatalmi bevételek | E62: 2. Munkaadót terhelő járulékok
A63: 3. Működési bevételek | E63: 3. Dologi kiadások
A64: 4. Működési célú átvett pénzeszközök államháztartáson kivülről | E64: 4. Ellátottak pénzbeli juttatásai
E65: 5. Egyéb működési célú kiadások
E66: 5.1. Elvonások, befizetések
E67: 5.2. Egyéb működési célú támogatások áh-n belülre
E68: 5.4. Egyéb működési célú támogatások áh-n kívülre
E69: 5.5. Működési célú visszatérítendő támogatások, kölcsönök nyújtása áh-n kívülre
E70: 6. Pénzforgalom nélküli kiadások (tartalék)
A71: Költségvetési működési bevételek állami (államigazgatási) feladatok szerinti bontásban | E71: Költségvetési működési kiadások állami (államigazgatási) feladatok szerinti bontásban
A72: Finanszírozási bevételek | E72: Finanszírozási kiadások
A73: Működési bevételek kiemelt előirányzatonként állami (államigazgatási) feladatok szerinti bontásban | E73: Működési kiadások kiemelt előirányzatonként állami (államigazgatási) feladatok szerinti bontásban
A74: Felhalmozási bevételek | E74: Felhalmozási kiadások
A75: 1. Felhalmozási célú támogatások államháztartáson belülről | E75: 1.1. Beruházások
A76: 2. Felhalmozási bevételek | E76: 1.2. Int.saját hatáskörű fejlesztések
A77: 3. Felhalmozási célú átvett pénzeszközök áh-n kívülről | E77: 2. Felújítások
E78: 3. Egyéb felhalmozási célú kiadások
A79: Költségvetési felhalmozási bevételek önként vállalt feladatok szerinti bontásban | E79: 3.1. Egyéb felhalmozási célú pénzeszköz átadás áh-n kívülre
A80: Finanszírozási bevételek | E80: 3.2. Egyéb felhalmozási célú pénzeszköz átadás áh-n belülre
E81: 3.3. Felhalmozási célú visszatérítendő támogatások, kölcsönök nyújtása áh-n kívülre
A82: Felhalmozási bevételek kiemelt előirányzatonként állami (államigazgatási) feladatok szerinti bontásban | B82: 0 | C82: 0 | D82: 0 | E82: Felhalmozási kiadások kiemelt előirányzatonként állami (államigazgatási) feladatok szerinti bontásban | F82: =SUM(F75:F81) -> 0 | G82: =SUM(G75:G81) -> 0 | H82: =SUM(H75:H81) -> 0
B83: =B82+B73+B56+B44+B27+B16 -> 92303605 | C83: =C82+C73+C56+C44+C27+C16 -> 121260986 | D83: =D82+D73+D56+D44+D27+D16 -> 28957381 | F83: =F82+F73+F44+F27+F16 -> 92303605 | G83: =G82+G73+G56+G27+G16 -> 121260986 | H83: =H82+H73+H56+H44+H27+H16 -> 28957381
A84: Önkormányzati támogatás | B84: =F83-B83 -> 0

Sheet 8.tábla
A3: BEVÉTELEK ÉS KIADÁSOK ELŐIRÁNYZATÁNAK HAVI ÜTEMEZÉSE 2019.
A5: Megnevezés | B5: Január | C5: Február | D5: Március | E5: Április | F5: Május | G5: Június | H5: Július | I5: Augusztus | J5: Szeptem-ber | K5: Október | L5: November | M5: December | N5: Összesen
A6: Nyitó pénzkészlet | B6: 42502993 | C6: =B36 -> 35926752 | D6: =C36 -> 34618390 | E6: =D36 -> 28727437 | F6: =E36 -> 28663082 | G6: =F36 -> 50058937 | H6: =G36 -> 45992986 | I6: =H36 -> 43554617 | J6: =I36 -> 37861628 | ... M6: =L36 -> 27925155 | N6: 42502993
A7: Működési célú támogatások államháztartáson belülről | B7: 3733262 | C7: 2491748 | D7: 3464021 | E7: 2491748 | F7: 2491748 | G7: 2491748 | H7: 2491748 | I7: 2491748 | J7: =2491748+7824996 -> 10316744 | K7: 2491748 | L7: 2491748 | M7: 5285367 | N7: =SUM(B7:M7) -> 42733378 | O7: ='1.tábla '!C6 -> 42733378 | P7: =N7-O7 -> 0
A8: Működési bevételek | B8: 1557 | C8: 29793 | D8: 194663 | E8: 938 | F8: 15880 | G8: 275676 | H8: 275676 | I8: 275676 | J8: 275676 | K8: 700000 | L8: 350000 | M8: 912575 | N8: =SUM(B8:M8) -> 3308110 | O8: ='1.tábla '!C9 -> 3308110 | P8: =N8-O8 -> 0
A9: Közhatalmi bevételek | B9: 104535 | C9: 62366 | D9: 3118656 | E9: 1791626 | F9: 460083 | G9: 100000 | H9: 948583 | I9: 948583 | J9: 1002815 | K9: 948583 | L9: 948583 | M9: 948587 | N9: =SUM(B9:M9) -> 11383000 | O9: ='1.tábla '!C8 -> 11383000 | P9: =N9-O9 -> 0
A10: Működési célú átvett pénzeszk. Áh-n kívülről | N10: =SUM(B10:M10) -> 0 | P10: =N10-O10 -> 0
A11: Működési bevételek összesen: | B11: =SUM(B7:B10) -> 3839354 | C11: =SUM(C7:C10) -> 2583907 | D11: =SUM(D7:D10) -> 6777340 | E11: =SUM(E7:E10) -> 4284312 | F11: =SUM(F7:F10) -> 2967711 | G11: =SUM(G7:G10) -> 2867424 | H11: =SUM(H7:H10) -> 3716007 | I11: =SUM(I7:I10) -> 3716007 | ... M11: =SUM(M7:M10) -> 7146529 | N11: =SUM(B11:M11) -> 57424488 | O11: =SUM(O7:O10) -> 57424488 | P11: =N11-O11 -> 0
A12: Felhalmozási célú támogatások államháztartáson belülről | N12: =SUM(B12:M12) -> 0 | P12: =N12-O12 -> 0
A13: Felhalmozási bevételek | F13: 20000000 | N13: =SUM(B13:M13) -> 20000000 | O13: ='1.tábla '!C7 -> 20000000 | P13: =N13-O13 -> 0
A14: Felhalm. célú átvett pénzeszk. Áh-n kívülről | N14: =SUM(B14:M14) -> 0 | O14: 0 | P14: =N14-O14 -> 0
A15: Felhalmozási bevételek összesen | B15: =SUM(B12:B14) -> 0 | C15: =SUM(C12:C14) -> 0 | D15: =SUM(D12:D14) -> 0 | E15: =SUM(E12:E14) -> 0 | F15: =SUM(F12:F14) -> 20000000 | G15: =SUM(G12:G14) -> 0 | H15: =SUM(H12:H14) -> 0 | I15: =SUM(I12:I14) -> 0 | ... M15: =SUM(M12:M14) -> 0 | N15: =SUM(B15:M15) -> 20000000 | O15: =SUM(O12:O14) -> 20000000 | P15: =N15-O15 -> 0
A16: Költségvetési bevételek összesen: | B16: =SUM(B11,B15) -> 3839354 | C16: =SUM(C11,C15) -> 2583907 | D16: =SUM(D11,D15) -> 6777340 | E16: =SUM(E11,E15) -> 4284312 | F16: =SUM(F11,F15) -> 22967711 | G16: =SUM(G11,G15) -> 2867424 | H16: =SUM(H11,H15) -> 3716007 | I16: =SUM(I11,I15) -> 3716007 | ... M16: =SUM(M11,M15) -> 7146529 | N16: =SUM(B16:M16) -> 77424488 | O16: =O11+O15 -> 77424488 | P16: =N16-O16 -> 0
A17: Finanszírozási bevételek (hitel, kötvény, értékpapír, állami tám.megelőlegezés) | B17: 106063 | C17: 91159 | D17: 63216 | E17: 5781 | F17: 0 | G17: 111146 | H17: 111146 | I17: 111146 | J17: 111147 | K17: 111146 | L17: 111147 | M17: 111147 | N17: =SUM(B17:M17) -> 1044244 | O17: ='1.tábla '!C15 -> 1044244 | P17: =N17-O17 -> 0
A18: Költségvetési maradvány igénybevétele | B18: 35000000 | D18: 7792254 | N18: =SUM(B18:M18) -> 42792254 | O18: ='1.tábla '!C14 -> 42792254 | P18: =N18-O18 -> 0
A19: Bevételek összesen: | B19: =SUM(B16:B18) -> 38945417 | C19: =SUM(C16:C18) -> 2675066 | D19: =SUM(D16:D18) -> 14632810 | E19: =SUM(E16:E18) -> 4290093 | F19: =SUM(F16:F18) -> 22967711 | G19: =SUM(G16:G18) -> 2978570 | H19: =SUM(H16:H18) -> 3827153 | I19: =SUM(I16:I18) -> 3827153 | ... N19: =SUM(N16:N18) -> 121260986 | O19: =O16+O17+O18 -> 121260986 | P19: =N19-O19 -> 0
A20: Személyi juttatások | B20: 1114215 | C20: 1124946 | D20: 1383045 | E20: 1285430 | F20: 1218764 | G20: 2355755 | H20: 2355755 | I20: 2355755 | J20: 1855755 | K20: 1855755 | L20: 1855755 | M20: 5058148 | N20: =SUM(B20:M20) -> 23819078 | O20: ='3.tábla '!C4 -> 23819078 | P20: =N20-O20 -> 0
A21: Munkaadót terhelő járulékok és szoc. hj. adó | B21: 316010 | C21: 243751 | D21: 44025 | E21: 224924 | F21: 181625 | G21: 303767 | H21: 303767 | I21: 303767 | J21: 303767 | K21: 303767 | L21: 303767 | M21: 812272 | N21: =SUM(B21:M21) -> 3645209 | O21: ='3.tábla '!C7 -> 3645209 | P21: =N21-O21 -> 0
A22: Dologi kiadások | B22: 1656714 | C22: 1401404 | D22: 955324 | E22: 1167432 | F22: 1345183 | G22: 1905361 | H22: 2000000 | I22: 2500000 | J22: 1905361 | K22: 1905361 | L22: 1905361 | M22: 4437172 | N22: =SUM(B22:M22) -> 23084673 | O22: ='3.tábla '!C10 -> 23084673 | P22: =N22-O22 -> 0
A23: Ellátottak pénzbeli juttatásai | B23: 80000 | C23: 60000 | D23: 50000 | E23: 0 | F23: 0 | G23: 50000 | H23: 0 | I23: 100000 | J23: 100000 | K23: 100000 | L23: 100000 | M23: 1408500 | N23: =SUM(B23:M23) -> 2048500 | O23: ='3.tábla '!C29 -> 2048500 | P23: =N23-O23 -> 0
A24: Egyéb működési célú támogatások áh-n kívülre | B24: 0 | C24: 655000 | D24: 0 | E24: 0 | F24: 0 | G24: 0 | H24: 100000 | I24: 0 | J24: 105000 | K24: 0 | L24: 0 | M24: 0 | N24: =SUM(B24:M24) -> 860000 | O24: ='4.tábla'!C8 -> 860000 | P24: =N24-O24 -> 0
A25: Egyéb működési célú támogatások áh-n belülre | B25: 125000 | C25: 8982 | D25: 1917230 | F25: 3352688 | G25: 1141283 | H25: 1141283 | I25: 1141282 | J25: 1141283 | K25: 1141282 | L25: 1141283 | M25: 1141282 | N25: =SUM(B25:M25) -> 13392878 | O25: ='3.tábla '!C32+'3.tábla '!C34 -> 13392878 | P25: =N25-O25 -> 0
A26: Tartalékok | B26: 5773950 | D26: 7792254 | F26: -4526404 | G26: 1150000 | N26: =SUM(B26:M26) -> 10189800 | O26: ='1.tábla '!C26 -> 10189800 | P26: =N26-O26 -> 0
A27: Működési kiadások összesen: | B27: =SUM(B20:B26) -> 9065889 | C27: =SUM(C20:C26) -> 3494083 | D27: =SUM(D20:D26) -> 12141878 | E27: =SUM(E20:E26) -> 2677786 | F27: =SUM(F20:F26) -> 1571856 | G27: =SUM(G20:G26) -> 6906166 | H27: =SUM(H20:H26) -> 5900805 | I27: =SUM(I20:I26) -> 6400804 | ... M27: =SUM(M20:M26) -> 12857374 | N27: =SUM(B27:M27) -> 77040138 | O27: =SUM(O20:O26) -> 77040138 | P27: =N27-O27 -> 0
A28: Beruházások | B28: 107715 | C28: 398186 | D28: 526415 | E28: =127000+1549662 -> 1676662 | H28: 250000 | I28: 3004620 | J28: 1000000 | K28: 1890684 | M28: 22500000 | N28: =SUM(B28:M28) -> 31354282 | O28: ='1.tábla '!C22 -> 31354282 | P28: =N28-O28 -> 0
A29: Felújítások | J29: =1580622+8956854 -> 10537476 | N29: =SUM(B29:M29) -> 10537476 | O29: ='1.tábla '!C23 -> 10537476 | P29: =N29-O29 -> 0
A30: Egyéb felhalmozási kiadások | G30: 21428 | H30: 3571 | I30: 3572 | J30: 3571 | K30: 3571 | L30: 3571 | M30: 3571 | N30: =SUM(B30:M30) -> 42855 | O30: ='5.tábla'!C23 -> 42855 | P30: =N30-O30 -> 0
A31: Felhalmozási célú kiadások összesen | B31: =B28+B29+B30 -> 107715 | C31: =C28+C29+C30 -> 398186 | D31: =SUM(D28:D30) -> 526415 | E31: =SUM(E28:E30) -> 1676662 | F31: =SUM(F28:F30) -> 0 | G31: =SUM(G28:G30) -> 21428 | H31: =SUM(H28:H30) -> 253571 | I31: =SUM(I28:I30) -> 3008192 | J31: =SUM(J28:J30) -> 11541047 | K31: =SUM(K28:K30) -> 1894255 | ... M31: =SUM(M28:M30) -> 22503571 | N31: =SUM(B31:M31) -> 41934613 | O31: =SUM(O28:O30) -> 41934613 | P31: =N31-O31 -> 0
A32: Költségvetési kiadások összesen: | B32: =SUM(B31,B27) -> 9173604 | C32: =SUM(C31,C27) -> 3892269 | D32: =SUM(D31,D27) -> 12668293 | E32: =SUM(E31,E27) -> 4354448 | F32: =SUM(F31,F27) -> 1571856 | G32: =SUM(G31,G27) -> 6927594 | H32: =SUM(H31,H27) -> 6154376 | I32: =SUM(I31,I27) -> 9408996 | ... M32: =SUM(M31,M27) -> 35360945 | N32: =SUM(B32:M32) -> 118974751 | O32: =O27+O31 -> 118974751 | P32: =N32-O32 -> 0
A33: Finanszírozási kiadások (hitel törlesztés, értékpapír visszavásárlás) | B33: 1348054 | C33: 91159 | D33: 63216 | G33: =111146+5781 -> 116927 | H33: 111146 | I33: 111146 | J33: 111147 | K33: 111146 | L33: 111147 | M33: 111147 | N33: =SUM(B33:M33) -> 2286235 | O33: ='1.tábla '!C30 -> 2286235 | P33: =N33-O33 -> 0
A34: Kiadások összesen: | B34: =SUM(B32:B33) -> 10521658 | C34: =SUM(C32:C33) -> 3983428 | D34: =SUM(D32:D33) -> 12731509 | E34: =SUM(E32:E33) -> 4354448 | F34: =SUM(F32:F33) -> 1571856 | G34: =SUM(G32:G33) -> 7044521 | H34: =SUM(H32:H33) -> 6265522 | I34: =SUM(I32:I33) -> 9520142 | ... M34: =SUM(M32:M33) -> 35472092 | N34: =SUM(B34:M34) -> 121260986 | O34: =O32+O33 -> 121260986 | P34: =N34-O34 -> 0
A35: Korrekció (előző évi kifizetés miatt)
A36: Záró pénzkészlet | B36: =B6+B16+B17-B34 -> 35926752 | C36: =C6+C16+C17-C34 -> 34618390 | D36: =D6+D16+D17-D34 -> 28727437 | E36: =E6+E16+E17-E34 -> 28663082 | F36: =F6+F16+F17-F34 -> 50058937 | G36: =G6+G16+G17-G34 -> 45992986 | H36: =H6+H16+H17-H34 -> 43554617 | I36: =I6+I16+I17-I34 -> 37861628 | ... N36: =N6+N16+N17-N34 -> -289261

Sheet 9.tábla
A4: Az önkormányzat adósságot keletkeztető ügyletből származó tárgyévi összes fizetési kötelezettsége az adósságot keletkeztető ügylet futamidejének végéig egyik évben sem haladja meg az önkormányzat adott évi saját bevételeinek 50%-át.
A7: megnevezés | C7: 2019 | D7: 2020 | E7: 2021 | F7: 2022
A8: 1. Helyi adó bevétel | C8: 11283000 | D8: 11000000 | E8: 11000000 | F8: 11000000
A9: 2. Vagyon és vagyonértékű jog értékesítéséből származó bevétel | C9: ='[2]2.sz.tábla'!D53 -> 0
A10: 3. Osztalék, koncessziós díj és hozambevétel,
A11: 4. tárgyi eszköz és immateriális jószág, részvény, részesedés, vállalalat értékesítésből vagy privatizációból származó bevétel
A12: 5. Bírság, pótlék- és díjbevétel | C12: ='[2]2.sz.tábla'!D40 -> 100000 | D12: 100000 | E12: 100000 | F12: 100000
A13: 6. Kezességvállalással kapcsolatos megtérülés
A14: Összesen: | C14: =SUM(C8:C13) -> 11383000 | D14: =SUM(D8:D13) -> 11100000 | E14: =SUM(E8:E13) -> 11100000 | F14: =SUM(F8:F13) -> 11100000 | G14: ='[2]2.sz.tábla'!D30-'[2]2.sz.tábla'!D37 -> 9533000
A15: az önkormányzat adott évi saját bevételeinek 50%-a | C15: =C14*0.5 -> 5691500 | D15: =D14*0.5 -> 5550000 | E15: =E14*0.5 -> 5550000 | F15: =F14*0.5 -> 5550000
A17: adósságot keletkeztető ügyletekből és kezességvállalásokból fennálló kötelezettségek | B17: futamidő kezdete | C17: 2019 | D17: 2020 | E17: 2021 | F17: 2022
A18: Összesen: | C18: 0 | D18: 0 | E18: 0 | F18: 0

Sheet 10.tábla
A4: Az önkormányzat által adott közvetett támogatások
A5: (kedvezmények) 2019. év
A7: Sorszám | B7: Bevételi jogcím | C7: Intézmények, | D7: Kedvezmény nélkül | E7: Kedvezmények
C8: adónemek | D8: elérhető | E8: összege
D9: bevétel e/Ft | E9: e/Ft
A10: 1. | B10: 2. | C10: 3. | D10: 4. | E10: 5.
A11: 2. | B11: Ellátottak térítési díjának ill. kártérítésének méltányossági alapon történő elengedésének összege
A12: 3. | B12: Lakosság részére nyújtott lakásépítéshez, lakásfelújításhoz nyújtott kölcsönök elengedésének összege | E12: 0
B13: Helyi adónál, gépjárműadónál biztosított kedvezmény, mentesség összege | D13: =SUM(D14:D20) -> 12604000 | E13: =SUM(E14:E20) -> 1321000 | F13: =SUM(F14:F20) -> 11283000
C14: Kommunális adó | D14: =F14+E14 -> 6517000 | E14: 934000 | F14: ='2.tábla'!C27 -> 5583000
C15: Iparűzési adó | D15: =F15+E15 -> 3546000 | E15: 46000 | F15: ='2.tábla'!C31 -> 3500000
C16: IFA személyek után | D16: =F16+E16 -> 144000 | E16: 44000 | F16: ='2.tábla'!C34 -> 100000
C17: Telekadó | D17: =F17+E17 -> 300000 | E17: 0 | F17: ='2.tábla'!C28 -> 300000
C18: Talajterhelési díj | D18: =F18+E18 -> 0 | E18: 0 | F18: 0
C19: Gépjárműadó | D19: =F19+E19 -> 2097000 | E19: 297000 | F19: ='2.tábla'!C32 -> 1800000
C20: Bírság | D20: =F20+E20 -> 0 | E20: 0 | F20: ='2.tábla'!D37 -> 0
A21: 4. | B21: Helyiségek, eszközök hasznosításából származó bevételből nyújtott kedvezmény, mentesség összege
A22: 5. | B22: egyéb nyújtott kedvezmény vagy kölcsön elengedésének összege | E22: 0
B23: Összesen : | D23: =D22+D21+D12+D13+D11 -> 12604000 | E23: =E22+E21+E12+E13+E11 -> 1321000

Sheet 11.tábla
A3: AZ ÖNKORMÁNYZAT 2019-2022. ÉVEK
A4: TERVEZETT ELŐIRÁNYZATAINAK KERETSZÁMAI
A5: MEGNEVEZÉS | B5: 2019. évi eredeti ei. | C5: 2020. évi várható előirányzatok | D5: 2021. évi várható előirányzatok | E5: 2022. évi várható előirányzatok
A6: I. Működési támogatások államháztartáson belülről | B6: 41568251 | C6: 22000000 | D6: 22000000 | E6: 22000000
A7: II. Felhalmozási támogatások államháztartáson belülről | B7: 0
A8: III. Közhatalmi bevételek | B8: 11383000 | C8: 10000000 | D8: 10000000 | E8: 10000000
A9: IV. Működési bevételek | B9: 3308110 | C9: 2000000 | D9: 2000000 | E9: 2000000
A10: V. Felhalmozási bevételek | B10: ='[2]2.sz.tábla'!D53 -> 0
A11: VI. Működési célú átvett pénzeszközök
A12: VII. Felhalmozási célú átvett pénzeszközök | B12: ='[2]2.sz.tábla'!D63 -> 0
A13: Költségvetési bevételek összesen: | B13: =SUM(B6:B12) -> 56259361 | C13: =SUM(C6:C11) -> 34000000 | D13: =SUM(D6:D11) -> 34000000 | E13: =SUM(E6:E12) -> 34000000
A14: VIII. Finanszírozási bevételek
A15: 1. Költségvetési hiány belső finanszírozására szolgáló finanszírozási bevételek | B15: 35000000 | C15: 10000000 | D15: 10000000 | E15: 10000000
A16: 2. Költségvetési hiány külső finanszírozására, vagy költségvetési többlet felhasználására szolgáló finanszírozási bevételek | B16: 1044244 | C16: 250000 | D16: 250000 | E16: 250000
A17: Finanszírozási bevételek összesen: | B17: 36044244 | C17: =SUM(C15:C16) -> 10250000 | D17: =SUM(D15:D16) -> 10250000 | E17: =SUM(E15:E16) -> 10250000
A18: Bevételek összesen: | B18: =B13+B17 -> 92303605 | C18: =C13+C17 -> 44250000 | D18: =D13+D17 -> 44250000 | E18: =E13+E17 -> 44250000
A20: I. Működési kiadások | B20: =SUM(B21:B25) -> 65058469 | C20: =SUM(C21:C25) -> 36800000 | D20: =SUM(D21:D25) -> 36800000 | E20: =SUM(E21:E25) -> 36800000
A21: 1. Személyi juttatások | B21: 22269078 | C21: 8000000 | D21: 8000000 | E21: 8000000
A22: 2. Munkaadót terhelő járulék és szociális hozzájárulási adó | B22: 3645209 | C22: 2500000 | D22: 2500000 | E22: 2500000
A23: 3. Dologi kiadások | B23: 22864333 | C23: 17000000 | D23: 17000000 | E23: 17000000
A24: 4. Ellátottak pénzbeli juttatásai | B24: 2048500 | C24: 1800000 | D24: 1800000 | E24: 1800000
A25: 5. Egyéb működési célú kiadások | B25: 14231349 | C25: 7500000 | D25: 7500000 | E25: 7500000
A26: II. Felhalmozási kiadások | B26: =SUM(B27:B29) -> 19184951 | C26: =SUM(C27:C28) -> 2000000 | D26: =SUM(D27:D28) -> 2000000 | E26: =SUM(E27:E28) -> 2000000
A27: 1. Beruházások | B27: 8604620 | C27: 1000000 | D27: 1000000 | E27: 1000000
A28: 3. Felújítás | B28: 10537476 | C28: 1000000 | D28: 1000000 | E28: 1000000
A29: 4. Egyéb felhalmozási célú kiadások | B29: 42855
A30: Tartalékok | B30: 5773950 | C30: 5200000 | D30: 5200000 | E30: 5200000
A31: Általános | B31: 5773950 | C31: 5200000 | D31: 5200000 | E31: 5200000
A32: Cél
A33: Költségvetési kiadások összesen: | B33: =SUM(B30,B26,B20) -> 90017370 | C33: =SUM(C30,C26,C20) -> 44000000 | D33: =SUM(D30,D26,D20) -> 44000000 | E33: =SUM(E30,E26,E20) -> 44000000
A34: Hiteltörlesztés
A35: Forgatási célú értékpapír vásárlás | B35: ='[2]1.sz.tábla '!D29 -> 0
A36: Állami támogatás megelőlegezés visszafiz. | B36: 2286235 | C36: 250000 | D36: 250000 | E36: 250000
A37: Finanszírozási kiadások összesen: | B37: =SUM(B34:B36) -> 2286235 | C37: =SUM(C34:C36) -> 250000 | D37: =SUM(D34:D36) -> 250000 | E37: =SUM(E34:E36) -> 250000
A38: Kiadások összesen: | B38: =SUM(B33,B37) -> 92303605 | C38: =SUM(C33,C37) -> 44250000 | D38: =SUM(D33,D37) -> 44250000 | E38: =SUM(E33,E37) -> 44250000

Sheet 12.tábla
A3: EURÓPAI UNIÓS TÁMOGATÁSSAL MEGVALÓSULÓ PROGRAMOK BEVÉTELEI ÉS KIADÁSAI 2018-2019. ÉV
B5: EFOP-1.5.2-16-2017-00016
A6: EU Projekt megnevezése: | B6: Humán közszolgáltatások fejlesztése az Észak-Balatoni térségben
A9: Bevételek | B9: 2018 év | C9: 2019 év | D9: 2020 év | E9: Következő évek | F9: Összesen
A10: EU forrás | B10: 11040004 | C10: 6605000 | D10: 1220000 | F10: =SUM(B10:E10) -> 18865004
A11: Egyéb forrás | F11: 0
A12: Saját forrás
A13: Összesen | B13: =SUM(B10:B12) -> 11040004 | C13: =SUM(C10:C12) -> 6605000 | D13: =SUM(D10:D12) -> 1220000 | E13: =SUM(E10:E12) -> 0 | F13: =SUM(F10:F12) -> 18865004
A15: Kiadások | B15: 2018 év | C15: 2019 év | D15: 2020 év | E15: Következő évek | F15: Összesen
A16: személyi juttatások (bérköltség) | B16: 3000000 | C16: 1220004 | D16: 1220000 | F16: =SUM(B16:E16) -> 5440004
A17: személyi juttatások járulékai | B17: 660000 | C17: 0 | D17: 0 | E17: 0 | F17: =SUM(B17:E17) -> 660000
A18: egyéb személyi kiadások | B18: 2945000 | C18: 5385000 | D18: 0 | E18: 0 | F18: =SUM(B18:E18) -> 8330000
A19: anyagköltség | B19: 535000 | C19: 0 | D19: 0 | E19: 0 | F19: =SUM(B19:E19) -> 535000
A20: felújítások | C20: 0 | E20: 0 | F20: =SUM(B20:D20) -> 0
A21: beruházások | B21: 3900000 | C21: 0 | E21: 0 | F21: =SUM(B21:D21) -> 3900000
A22: átadott pénzeszközök | F22: =SUM(B22:D22) -> 0
A23: Összesen | B23: =SUM(B16:B22) -> 11040000 | C23: =SUM(C16:C22) -> 6605004 | D23: =SUM(D16:D22) -> 1220000 | E23: =SUM(E16:E22) -> 0 | F23: =SUM(F16:F22) -> 18865004
