Workbook

Sheet ÖSSZEFÜGGÉSEK
A2: Költségvetési rendelet űrlapjainak összefüggései:
A5: 2015. évi előirányzat BEVÉTELEK
A7: 1.1. sz. melléklet Bevételek táblázat C. oszlop 9 sora = | B7: 2.1. számú melléklet C. oszlop 13. sor + 2.2. számú melléklet C. oszlop 12. sor
A8: 1.1. sz. melléklet Bevételek táblázat C. oszlop 17 sora = | B8: 2.1. számú melléklet C. oszlop 24. sor + 2.2. számú melléklet C. oszlop 25. sor
A9: 1.1. sz. melléklet Bevételek táblázat C. oszlop 18 sora = | B9: 2.1. számú melléklet C. oszlop 25. sor + 2.2. számú melléklet C. oszlop 26. sor
A12: =+CONCATENATE(LEFT(A5,4),". évi előirányzat KIADÁSOK") -> 2015. évi előirányzat KIADÁSOK
A14: 1.1. sz. melléklet Kiadások táblázat C. oszlop 3 sora = | B14: 2.1. számú melléklet E. oszlop 13. sor + 2.2. számú melléklet E. oszlop 12. sor
A15: 1.1. sz. melléklet Kiadások táblázat C. oszlop 10 sora = | B15: 2.1. számú melléklet E. oszlop 24. sor + 2.2. számú melléklet E. oszlop 25. sor
A16: 1.1. sz. melléklet Kiadások táblázat C. oszlop 11 sora = | B16: 2.1. számú melléklet E. oszlop 25. sor + 2.2. számú melléklet E. oszlop 26. sor

Sheet 1.1.sz.mell. Önk. szumma
B1: B E V É T E L E K
E2: Ezer forintban
A3: Sor- szám | B3: Bevételi jogcím | C3: 2013. évi tény adatok | D3: 2014.évi várható tényadatok | E3: =+CONCATENATE(LEFT(ÖSSZEFÜGGÉSEK!A5,4),". évi előirányzat") -> 2015. évi előirányzat
A4: A | B4: B | E4: C
A5: 1. | B5: Önkormányzat működési támogatásai (1.1.+…+.1.6.) | C5: =+C6+C7+C8+C9+C10+C11 -> 355186 | D5: =+D6+D7+D8+D9+D10+D11 -> 427393 | E5: =+E6+E7+E8+E9+E10+E11 -> 284600
A6: 1.1. | B6: Helyi önkormányzatok működésének általános támogatása | C6: =+'1.2.1.sz.mell. Önk. összes'!C6+'1.2.2.sz.mell. Hivatal össz.'!C6+'1.2.3.sz.mell.Műv.össz.'!C6+'1.2.4.sz.mell.Vágo.össz.'!C6 -> 128500 | D6: =+'1.2.1.sz.mell. Önk. összes'!D6+'1.2.2.sz.mell. Hivatal össz.'!D6+'1.2.3.sz.mell.Műv.össz.'!D6+'1.2.4.sz.mell.Vágo.össz.'!D6 -> 151576 | E6: =+'1.2.1.sz.mell. Önk. összes'!E6+'1.2.2.sz.mell. Hivatal össz.'!E6+'1.2.3.sz.mell.Műv.össz.'!E6+'1.2.4.sz.mell.Vágo.össz.'!E6 -> 134598
A7: 1.2. | B7: Önkormányzatok egyes köznevelési feladatainak támogatása | C7: =+'1.2.1.sz.mell. Önk. összes'!C7+'1.2.2.sz.mell. Hivatal össz.'!C7+'1.2.3.sz.mell.Műv.össz.'!C7+'1.2.4.sz.mell.Vágo.össz.'!C7 -> 53004 | D7: =+'1.2.1.sz.mell. Önk. összes'!D7+'1.2.2.sz.mell. Hivatal össz.'!D7+'1.2.3.sz.mell.Műv.össz.'!D7+'1.2.4.sz.mell.Vágo.össz.'!D7 -> 47228 | E7: =+'1.2.1.sz.mell. Önk. összes'!E7+'1.2.2.sz.mell. Hivatal össz.'!E7+'1.2.3.sz.mell.Műv.össz.'!E7+'1.2.4.sz.mell.Vágo.össz.'!E7 -> 62198
A8: 1.3. | B8: Önkormányzatok szociális és gyermekjóléti feladatainak támogatása | C8: =+'1.2.1.sz.mell. Önk. összes'!C8+'1.2.2.sz.mell. Hivatal össz.'!C8+'1.2.3.sz.mell.Műv.össz.'!C8+'1.2.4.sz.mell.Vágo.össz.'!C8 -> 36545 | D8: =+'1.2.1.sz.mell. Önk. összes'!D8+'1.2.2.sz.mell. Hivatal össz.'!D8+'1.2.3.sz.mell.Műv.össz.'!D8+'1.2.4.sz.mell.Vágo.össz.'!D8 -> 64914 | E8: =+'1.2.1.sz.mell. Önk. összes'!E8+'1.2.2.sz.mell. Hivatal össz.'!E8+'1.2.3.sz.mell.Műv.össz.'!E8+'1.2.4.sz.mell.Vágo.össz.'!E8 -> 40414
A9: 1.4. | B9: Önkormányzatok kulturális feladatainak támogatása | C9: =+'1.2.1.sz.mell. Önk. összes'!C9+'1.2.2.sz.mell. Hivatal össz.'!C9+'1.2.3.sz.mell.Műv.össz.'!C9+'1.2.4.sz.mell.Vágo.össz.'!C9 -> 4047 | D9: =+'1.2.1.sz.mell. Önk. összes'!D9+'1.2.2.sz.mell. Hivatal össz.'!D9+'1.2.3.sz.mell.Műv.össz.'!D9+'1.2.4.sz.mell.Vágo.össz.'!D9 -> 4033 | E9: =+'1.2.1.sz.mell. Önk. összes'!E9+'1.2.2.sz.mell. Hivatal össz.'!E9+'1.2.3.sz.mell.Műv.össz.'!E9+'1.2.4.sz.mell.Vágo.össz.'!E9 -> 2997
A10: 1.5. | B10: Működési célú kvi támogatások és kiegészítő támogatások | C10: =+'1.2.1.sz.mell. Önk. összes'!C10+'1.2.2.sz.mell. Hivatal össz.'!C10+'1.2.3.sz.mell.Műv.össz.'!C10+'1.2.4.sz.mell.Vágo.össz.'!C10 -> 87361 | D10: =+'1.2.1.sz.mell. Önk. összes'!D10+'1.2.2.sz.mell. Hivatal össz.'!D10+'1.2.3.sz.mell.Műv.össz.'!D10+'1.2.4.sz.mell.Vágo.össz.'!D10 -> 95463 | E10: =+'1.2.1.sz.mell. Önk. összes'!E10+'1.2.2.sz.mell. Hivatal össz.'!E10+'1.2.3.sz.mell.Műv.össz.'!E10+'1.2.4.sz.mell.Vágo.össz.'!E10 -> 34919
A11: 1.6. | B11: Elszámolásból származó bevételek | C11: =+'1.2.1.sz.mell. Önk. összes'!C11+'1.2.2.sz.mell. Hivatal össz.'!C11+'1.2.3.sz.mell.Műv.össz.'!C11+'1.2.4.sz.mell.Vágo.össz.'!C11 -> 45729 | D11: =+'1.2.1.sz.mell. Önk. összes'!D11+'1.2.2.sz.mell. Hivatal össz.'!D11+'1.2.3.sz.mell.Műv.össz.'!D11+'1.2.4.sz.mell.Vágo.össz.'!D11 -> 64179 | E11: =+'1.2.1.sz.mell. Önk. összes'!E11+'1.2.2.sz.mell. Hivatal össz.'!E11+'1.2.3.sz.mell.Műv.össz.'!E11+'1.2.4.sz.mell.Vágo.össz.'!E11 -> 9474
A12: 2. | B12: Működési célú támogatások államháztartáson belülről (2.1.+…+.2.5.) | C12: =+'1.2.1.sz.mell. Önk. összes'!C12+'1.2.2.sz.mell. Hivatal össz.'!C12+'1.2.3.sz.mell.Műv.össz.'!C12+'1.2.4.sz.mell.Vágo.össz.'!C12 -> 34342 | D12: =+'1.2.1.sz.mell. Önk. összes'!D12+'1.2.2.sz.mell. Hivatal össz.'!D12+'1.2.3.sz.mell.Műv.össz.'!D12+'1.2.4.sz.mell.Vágo.össz.'!D12 -> 50089 | E12: =+E13+E14+E15+E16+E17 -> 19440
A13: 2.1. | B13: Elvonások és befizetések bevételei | C13: =+'1.2.1.sz.mell. Önk. összes'!C13+'1.2.2.sz.mell. Hivatal össz.'!C13+'1.2.3.sz.mell.Műv.össz.'!C13+'1.2.4.sz.mell.Vágo.össz.'!C13 -> 0 | D13: =+'1.2.1.sz.mell. Önk. összes'!D13+'1.2.2.sz.mell. Hivatal össz.'!D13+'1.2.3.sz.mell.Műv.össz.'!D13+'1.2.4.sz.mell.Vágo.össz.'!D13 -> 0 | E13: =+'1.2.1.sz.mell. Önk. összes'!E13+'1.2.2.sz.mell. Hivatal össz.'!E13+'1.2.3.sz.mell.Műv.össz.'!E13+'1.2.4.sz.mell.Vágo.össz.'!E13 -> 0
A14: 2.2. | B14: Működési célú garancia- és kezességvállalásból megtérülések | C14: =+'1.2.1.sz.mell. Önk. összes'!C14+'1.2.2.sz.mell. Hivatal össz.'!C14+'1.2.3.sz.mell.Műv.össz.'!C14+'1.2.4.sz.mell.Vágo.össz.'!C14 -> 0 | D14: =+'1.2.1.sz.mell. Önk. összes'!D14+'1.2.2.sz.mell. Hivatal össz.'!D14+'1.2.3.sz.mell.Műv.össz.'!D14+'1.2.4.sz.mell.Vágo.össz.'!D14 -> 0 | E14: =+'1.2.1.sz.mell. Önk. összes'!E14+'1.2.2.sz.mell. Hivatal össz.'!E14+'1.2.3.sz.mell.Műv.össz.'!E14+'1.2.4.sz.mell.Vágo.össz.'!E14 -> 0
A15: 2.3. | B15: Működési célú visszatérítendő támogatások, kölcsönök visszatérülése | C15: =+'1.2.1.sz.mell. Önk. összes'!C15+'1.2.2.sz.mell. Hivatal össz.'!C15+'1.2.3.sz.mell.Műv.össz.'!C15+'1.2.4.sz.mell.Vágo.össz.'!C15 -> 0 | D15: =+'1.2.1.sz.mell. Önk. összes'!D15+'1.2.2.sz.mell. Hivatal össz.'!D15+'1.2.3.sz.mell.Műv.össz.'!D15+'1.2.4.sz.mell.Vágo.össz.'!D15 -> 0 | E15: =+'1.2.1.sz.mell. Önk. összes'!E15+'1.2.2.sz.mell. Hivatal össz.'!E15+'1.2.3.sz.mell.Műv.össz.'!E15+'1.2.4.sz.mell.Vágo.össz.'!E15 -> 0
A16: 2.4. | B16: Működési célú visszatérítendő támogatások, kölcsönök igénybevétele | C16: =+'1.2.1.sz.mell. Önk. összes'!C16+'1.2.2.sz.mell. Hivatal össz.'!C16+'1.2.3.sz.mell.Műv.össz.'!C16+'1.2.4.sz.mell.Vágo.össz.'!C16 -> 0 | D16: =+'1.2.1.sz.mell. Önk. összes'!D16+'1.2.2.sz.mell. Hivatal össz.'!D16+'1.2.3.sz.mell.Műv.össz.'!D16+'1.2.4.sz.mell.Vágo.össz.'!D16 -> 0 | E16: =+'1.2.1.sz.mell. Önk. összes'!E16+'1.2.2.sz.mell. Hivatal össz.'!E16+'1.2.3.sz.mell.Műv.össz.'!E16+'1.2.4.sz.mell.Vágo.össz.'!E16 -> 0
A17: 2.5. | B17: Egyéb működési célú támogatások bevételei | C17: =+'1.2.1.sz.mell. Önk. összes'!C17+'1.2.2.sz.mell. Hivatal össz.'!C17+'1.2.3.sz.mell.Műv.össz.'!C17+'1.2.4.sz.mell.Vágo.össz.'!C17 -> 34342 | D17: =+'1.2.1.sz.mell. Önk. összes'!D17+'1.2.2.sz.mell. Hivatal össz.'!D17+'1.2.3.sz.mell.Műv.össz.'!D17+'1.2.4.sz.mell.Vágo.össz.'!D17 -> 50089 | E17: =+'1.2.1.sz.mell. Önk. összes'!E17+'1.2.2.sz.mell. Hivatal össz.'!E17+'1.2.3.sz.mell.Műv.össz.'!E17+'1.2.4.sz.mell.Vágo.össz.'!E17 -> 19440
A18: 2.6. | B18: 2.5.-ből EU-s támogatás | C18: =+'1.2.1.sz.mell. Önk. összes'!C18+'1.2.2.sz.mell. Hivatal össz.'!C18+'1.2.3.sz.mell.Műv.össz.'!C18+'1.2.4.sz.mell.Vágo.össz.'!C18 -> 0 | D18: =+'1.2.1.sz.mell. Önk. összes'!D18+'1.2.2.sz.mell. Hivatal össz.'!D18+'1.2.3.sz.mell.Műv.össz.'!D18+'1.2.4.sz.mell.Vágo.össz.'!D18 -> 0 | E18: =+'1.2.1.sz.mell. Önk. összes'!E18+'1.2.2.sz.mell. Hivatal össz.'!E18+'1.2.3.sz.mell.Műv.össz.'!E18+'1.2.4.sz.mell.Vágo.össz.'!E18 -> 0
A19: 3. | B19: Felhalmozási célú támogatások államháztartáson belülről (3.1.+…+3.5.) | C19: =+'1.2.1.sz.mell. Önk. összes'!C19+'1.2.2.sz.mell. Hivatal össz.'!C19+'1.2.3.sz.mell.Műv.össz.'!C19+'1.2.4.sz.mell.Vágo.össz.'!C19 -> 93450 | D19: =+'1.2.1.sz.mell. Önk. összes'!D19+'1.2.2.sz.mell. Hivatal össz.'!D19+'1.2.3.sz.mell.Műv.össz.'!D19+'1.2.4.sz.mell.Vágo.össz.'!D19 -> 6056 | E19: =+E20+E21+E22+E23+E24 -> 0
A20: 3.1. | B20: Felhalmozási célú önkormányzati támogatások | C20: =+'1.2.1.sz.mell. Önk. összes'!C20+'1.2.2.sz.mell. Hivatal össz.'!C20+'1.2.3.sz.mell.Műv.össz.'!C20+'1.2.4.sz.mell.Vágo.össz.'!C20 -> 0 | D20: =+'1.2.1.sz.mell. Önk. összes'!D20+'1.2.2.sz.mell. Hivatal össz.'!D20+'1.2.3.sz.mell.Műv.össz.'!D20+'1.2.4.sz.mell.Vágo.össz.'!D20 -> 0 | E20: =+'1.2.1.sz.mell. Önk. összes'!E20+'1.2.2.sz.mell. Hivatal össz.'!E20+'1.2.3.sz.mell.Műv.össz.'!E20+'1.2.4.sz.mell.Vágo.össz.'!E20 -> 0
A21: 3.2. | B21: Felhalmozási célú garancia- és kezességvállalásból megtérülések | C21: =+'1.2.1.sz.mell. Önk. összes'!C21+'1.2.2.sz.mell. Hivatal össz.'!C21+'1.2.3.sz.mell.Műv.össz.'!C21+'1.2.4.sz.mell.Vágo.össz.'!C21 -> 0 | D21: =+'1.2.1.sz.mell. Önk. összes'!D21+'1.2.2.sz.mell. Hivatal össz.'!D21+'1.2.3.sz.mell.Műv.össz.'!D21+'1.2.4.sz.mell.Vágo.össz.'!D21 -> 0 | E21: =+'1.2.1.sz.mell. Önk. összes'!E21+'1.2.2.sz.mell. Hivatal össz.'!E21+'1.2.3.sz.mell.Műv.össz.'!E21+'1.2.4.sz.mell.Vágo.össz.'!E21 -> 0
A22: 3.3. | B22: Felhalmozási célú visszatérítendő támogatások, kölcsönök visszatérülése | C22: =+'1.2.1.sz.mell. Önk. összes'!C22+'1.2.2.sz.mell. Hivatal össz.'!C22+'1.2.3.sz.mell.Műv.össz.'!C22+'1.2.4.sz.mell.Vágo.össz.'!C22 -> 0 | D22: =+'1.2.1.sz.mell. Önk. összes'!D22+'1.2.2.sz.mell. Hivatal össz.'!D22+'1.2.3.sz.mell.Műv.össz.'!D22+'1.2.4.sz.mell.Vágo.össz.'!D22 -> 0 | E22: =+'1.2.1.sz.mell. Önk. összes'!E22+'1.2.2.sz.mell. Hivatal össz.'!E22+'1.2.3.sz.mell.Műv.össz.'!E22+'1.2.4.sz.mell.Vágo.össz.'!E22 -> 0
A23: 3.4. | B23: Felhalmozási célú visszatérítendő támogatások, kölcsönök igénybevétele | C23: =+'1.2.1.sz.mell. Önk. összes'!C23+'1.2.2.sz.mell. Hivatal össz.'!C23+'1.2.3.sz.mell.Műv.össz.'!C23+'1.2.4.sz.mell.Vágo.össz.'!C23 -> 0 | D23: =+'1.2.1.sz.mell. Önk. összes'!D23+'1.2.2.sz.mell. Hivatal össz.'!D23+'1.2.3.sz.mell.Műv.össz.'!D23+'1.2.4.sz.mell.Vágo.össz.'!D23 -> 0 | E23: =+'1.2.1.sz.mell. Önk. összes'!E23+'1.2.2.sz.mell. Hivatal össz.'!E23+'1.2.3.sz.mell.Műv.össz.'!E23+'1.2.4.sz.mell.Vágo.össz.'!E23 -> 0
A24: 3.5. | B24: Egyéb felhalmozási célú támogatások bevételei | C24: =+'1.2.1.sz.mell. Önk. összes'!C24+'1.2.2.sz.mell. Hivatal össz.'!C24+'1.2.3.sz.mell.Műv.össz.'!C24+'1.2.4.sz.mell.Vágo.össz.'!C24 -> 93450 | D24: =+'1.2.1.sz.mell. Önk. összes'!D24+'1.2.2.sz.mell. Hivatal össz.'!D24+'1.2.3.sz.mell.Műv.össz.'!D24+'1.2.4.sz.mell.Vágo.össz.'!D24 -> 6056 | E24: =+'1.2.1.sz.mell. Önk. összes'!E24+'1.2.2.sz.mell. Hivatal össz.'!E24+'1.2.3.sz.mell.Műv.össz.'!E24+'1.2.4.sz.mell.Vágo.össz.'!E24 -> 0
A25: 3.6. | B25: 3.5.-ből EU-s támogatás | C25: =+'1.2.1.sz.mell. Önk. összes'!C25+'1.2.2.sz.mell. Hivatal össz.'!C25+'1.2.3.sz.mell.Műv.össz.'!C25+'1.2.4.sz.mell.Vágo.össz.'!C25 -> 92830 | D25: =+'1.2.1.sz.mell. Önk. összes'!D25+'1.2.2.sz.mell. Hivatal össz.'!D25+'1.2.3.sz.mell.Műv.össz.'!D25+'1.2.4.sz.mell.Vágo.össz.'!D25 -> 0 | E25: =+'1.2.1.sz.mell. Önk. összes'!E25+'1.2.2.sz.mell. Hivatal össz.'!E25+'1.2.3.sz.mell.Műv.össz.'!E25+'1.2.4.sz.mell.Vágo.össz.'!E25 -> 0
A26: 4. | B26: Közhatalmi bevételek (4.1.+4.2.+4.3.+4.4.) | C26: =+'1.2.1.sz.mell. Önk. összes'!C26+'1.2.2.sz.mell. Hivatal össz.'!C26+'1.2.3.sz.mell.Műv.össz.'!C26+'1.2.4.sz.mell.Vágo.össz.'!C26 -> 344986 | D26: =+'1.2.1.sz.mell. Önk. összes'!D26+'1.2.2.sz.mell. Hivatal össz.'!D26+'1.2.3.sz.mell.Műv.össz.'!D26+'1.2.4.sz.mell.Vágo.össz.'!D26 -> 313531 | E26: =+E27+E31+E32+E33 -> 209000
A27: 4.1. | B27: Helyi adók (4.1.1.+...+4.1.3.) | C27: =+'1.2.1.sz.mell. Önk. összes'!C27+'1.2.2.sz.mell. Hivatal össz.'!C27+'1.2.3.sz.mell.Műv.össz.'!C27+'1.2.4.sz.mell.Vágo.össz.'!C27 -> 340144 | D27: =+'1.2.1.sz.mell. Önk. összes'!D27+'1.2.2.sz.mell. Hivatal össz.'!D27+'1.2.3.sz.mell.Műv.össz.'!D27+'1.2.4.sz.mell.Vágo.össz.'!D27 -> 312918 | E27: =+E28+E29+E30 -> 201000
A28: 4.1.1. | B28: - Vagyoni típusú adók | C28: =+'1.2.1.sz.mell. Önk. összes'!C28+'1.2.2.sz.mell. Hivatal össz.'!C28+'1.2.3.sz.mell.Műv.össz.'!C28+'1.2.4.sz.mell.Vágo.össz.'!C28 -> 0 | D28: =+'1.2.1.sz.mell. Önk. összes'!D28+'1.2.2.sz.mell. Hivatal össz.'!D28+'1.2.3.sz.mell.Műv.össz.'!D28+'1.2.4.sz.mell.Vágo.össz.'!D28 -> 0 | E28: =+'1.2.1.sz.mell. Önk. összes'!E28+'1.2.2.sz.mell. Hivatal össz.'!E28+'1.2.3.sz.mell.Műv.össz.'!E28+'1.2.4.sz.mell.Vágo.össz.'!E28 -> 125000
A29: 4.1.2. | B29: - Termékek és szolgáltatások adói | C29: =+'1.2.1.sz.mell. Önk. összes'!C29+'1.2.2.sz.mell. Hivatal össz.'!C29+'1.2.3.sz.mell.Műv.össz.'!C29+'1.2.4.sz.mell.Vágo.össz.'!C29 -> 0 | D29: =+'1.2.1.sz.mell. Önk. összes'!D29+'1.2.2.sz.mell. Hivatal össz.'!D29+'1.2.3.sz.mell.Műv.össz.'!D29+'1.2.4.sz.mell.Vágo.össz.'!D29 -> 0 | E29: =+'1.2.1.sz.mell. Önk. összes'!E29+'1.2.2.sz.mell. Hivatal össz.'!E29+'1.2.3.sz.mell.Műv.össz.'!E29+'1.2.4.sz.mell.Vágo.össz.'!E29 -> 18000
A30: 4.1.3. | B30: - Értékesítési és forgalmi adók (iparűzési adó) | C30: =+'1.2.1.sz.mell. Önk. összes'!C30+'1.2.2.sz.mell. Hivatal össz.'!C30+'1.2.3.sz.mell.Műv.össz.'!C30+'1.2.4.sz.mell.Vágo.össz.'!C30 -> 0 | D30: =+'1.2.1.sz.mell. Önk. összes'!D30+'1.2.2.sz.mell. Hivatal össz.'!D30+'1.2.3.sz.mell.Műv.össz.'!D30+'1.2.4.sz.mell.Vágo.össz.'!D30 -> 0 | E30: =+'1.2.1.sz.mell. Önk. összes'!E30+'1.2.2.sz.mell. Hivatal össz.'!E30+'1.2.3.sz.mell.Műv.össz.'!E30+'1.2.4.sz.mell.Vágo.össz.'!E30 -> 58000
A31: 4.2. | B31: Gépjárműadó | C31: =+'1.2.1.sz.mell. Önk. összes'!C31+'1.2.2.sz.mell. Hivatal össz.'!C31+'1.2.3.sz.mell.Műv.össz.'!C31+'1.2.4.sz.mell.Vágo.össz.'!C31 -> 0 | D31: =+'1.2.1.sz.mell. Önk. összes'!D31+'1.2.2.sz.mell. Hivatal össz.'!D31+'1.2.3.sz.mell.Műv.össz.'!D31+'1.2.4.sz.mell.Vágo.össz.'!D31 -> 0 | E31: =+'1.2.1.sz.mell. Önk. összes'!E31+'1.2.2.sz.mell. Hivatal össz.'!E31+'1.2.3.sz.mell.Műv.össz.'!E31+'1.2.4.sz.mell.Vágo.össz.'!E31 -> 7000
A32: 4.3. | B32: Egyéb áruhasználati és szolgáltatási adók | C32: =+'1.2.1.sz.mell. Önk. összes'!C32+'1.2.2.sz.mell. Hivatal össz.'!C32+'1.2.3.sz.mell.Műv.össz.'!C32+'1.2.4.sz.mell.Vágo.össz.'!C32 -> 0 | D32: =+'1.2.1.sz.mell. Önk. összes'!D32+'1.2.2.sz.mell. Hivatal össz.'!D32+'1.2.3.sz.mell.Műv.össz.'!D32+'1.2.4.sz.mell.Vágo.össz.'!D32 -> 0 | E32: =+'1.2.1.sz.mell. Önk. összes'!E32+'1.2.2.sz.mell. Hivatal össz.'!E32+'1.2.3.sz.mell.Műv.össz.'!E32+'1.2.4.sz.mell.Vágo.össz.'!E32 -> 0
A33: 4.4. | B33: Egyéb közhatalmi bevételek | C33: =+'1.2.1.sz.mell. Önk. összes'!C33+'1.2.2.sz.mell. Hivatal össz.'!C33+'1.2.3.sz.mell.Műv.össz.'!C33+'1.2.4.sz.mell.Vágo.össz.'!C33 -> 4842 | D33: =+'1.2.1.sz.mell. Önk. összes'!D33+'1.2.2.sz.mell. Hivatal össz.'!D33+'1.2.3.sz.mell.Műv.össz.'!D33+'1.2.4.sz.mell.Vágo.össz.'!D33 -> 613 | E33: =+'1.2.1.sz.mell. Önk. összes'!E33+'1.2.2.sz.mell. Hivatal össz.'!E33+'1.2.3.sz.mell.Műv.össz.'!E33+'1.2.4.sz.mell.Vágo.össz.'!E33 -> 1000
A34: 5. | B34: Működési bevételek (5.1.+…+ 5.11.) | C34: =+'1.2.1.sz.mell. Önk. összes'!C34+'1.2.2.sz.mell. Hivatal össz.'!C34+'1.2.3.sz.mell.Műv.össz.'!C34+'1.2.4.sz.mell.Vágo.össz.'!C34 -> 188226 | D34: =+'1.2.1.sz.mell. Önk. összes'!D34+'1.2.2.sz.mell. Hivatal össz.'!D34+'1.2.3.sz.mell.Műv.össz.'!D34+'1.2.4.sz.mell.Vágo.össz.'!D34 -> 123135 | E34: =SUM(E35:E45) -> 102389
A35: 5.1. | B35: Készletértékesítés ellenértéke | C35: =+'1.2.1.sz.mell. Önk. összes'!C35+'1.2.2.sz.mell. Hivatal össz.'!C35+'1.2.3.sz.mell.Műv.össz.'!C35+'1.2.4.sz.mell.Vágo.össz.'!C35 -> 14762 | D35: =+'1.2.1.sz.mell. Önk. összes'!D35+'1.2.2.sz.mell. Hivatal össz.'!D35+'1.2.3.sz.mell.Műv.össz.'!D35+'1.2.4.sz.mell.Vágo.össz.'!D35 -> 24 | E35: =+'1.2.1.sz.mell. Önk. összes'!E35+'1.2.2.sz.mell. Hivatal össz.'!E35+'1.2.3.sz.mell.Műv.össz.'!E35+'1.2.4.sz.mell.Vágo.össz.'!E35 -> 0
A36: 5.2. | B36: Szolgáltatások ellenértéke | C36: =+'1.2.1.sz.mell. Önk. összes'!C36+'1.2.2.sz.mell. Hivatal össz.'!C36+'1.2.3.sz.mell.Műv.össz.'!C36+'1.2.4.sz.mell.Vágo.össz.'!C36 -> 92850 | D36: =+'1.2.1.sz.mell. Önk. összes'!D36+'1.2.2.sz.mell. Hivatal össz.'!D36+'1.2.3.sz.mell.Műv.össz.'!D36+'1.2.4.sz.mell.Vágo.össz.'!D36 -> 65389 | E36: =+'1.2.1.sz.mell. Önk. összes'!E36+'1.2.2.sz.mell. Hivatal össz.'!E36+'1.2.3.sz.mell.Műv.össz.'!E36+'1.2.4.sz.mell.Vágo.össz.'!E36 -> 62900
A37: 5.3. | B37: Közvetített szolgáltatások értéke | C37: =+'1.2.1.sz.mell. Önk. összes'!C37+'1.2.2.sz.mell. Hivatal össz.'!C37+'1.2.3.sz.mell.Műv.össz.'!C37+'1.2.4.sz.mell.Vágo.össz.'!C37 -> 13849 | D37: =+'1.2.1.sz.mell. Önk. összes'!D37+'1.2.2.sz.mell. Hivatal össz.'!D37+'1.2.3.sz.mell.Műv.össz.'!D37+'1.2.4.sz.mell.Vágo.össz.'!D37 -> 18182 | E37: =+'1.2.1.sz.mell. Önk. összes'!E37+'1.2.2.sz.mell. Hivatal össz.'!E37+'1.2.3.sz.mell.Műv.össz.'!E37+'1.2.4.sz.mell.Vágo.össz.'!E37 -> 2000
A38: 5.4. | B38: Tulajdonosi bevételek | C38: =+'1.2.1.sz.mell. Önk. összes'!C38+'1.2.2.sz.mell. Hivatal össz.'!C38+'1.2.3.sz.mell.Műv.össz.'!C38+'1.2.4.sz.mell.Vágo.össz.'!C38 -> 4165 | D38: =+'1.2.1.sz.mell. Önk. összes'!D38+'1.2.2.sz.mell. Hivatal össz.'!D38+'1.2.3.sz.mell.Műv.össz.'!D38+'1.2.4.sz.mell.Vágo.össz.'!D38 -> 6452 | E38: =+'1.2.1.sz.mell. Önk. összes'!E38+'1.2.2.sz.mell. Hivatal össz.'!E38+'1.2.3.sz.mell.Műv.össz.'!E38+'1.2.4.sz.mell.Vágo.össz.'!E38 -> 5010
A39: 5.5. | B39: Ellátási díjak | C39: =+'1.2.1.sz.mell. Önk. összes'!C39+'1.2.2.sz.mell. Hivatal össz.'!C39+'1.2.3.sz.mell.Műv.össz.'!C39+'1.2.4.sz.mell.Vágo.össz.'!C39 -> 7692 | D39: =+'1.2.1.sz.mell. Önk. összes'!D39+'1.2.2.sz.mell. Hivatal össz.'!D39+'1.2.3.sz.mell.Műv.össz.'!D39+'1.2.4.sz.mell.Vágo.össz.'!D39 -> 8484 | E39: =+'1.2.1.sz.mell. Önk. összes'!E39+'1.2.2.sz.mell. Hivatal össz.'!E39+'1.2.3.sz.mell.Műv.össz.'!E39+'1.2.4.sz.mell.Vágo.össz.'!E39 -> 8800
A40: 5.6. | B40: Kiszámlázott általános forgalmi adó | C40: =+'1.2.1.sz.mell. Önk. összes'!C40+'1.2.2.sz.mell. Hivatal össz.'!C40+'1.2.3.sz.mell.Műv.össz.'!C40+'1.2.4.sz.mell.Vágo.össz.'!C40 -> 48021 | D40: =+'1.2.1.sz.mell. Önk. összes'!D40+'1.2.2.sz.mell. Hivatal össz.'!D40+'1.2.3.sz.mell.Műv.össz.'!D40+'1.2.4.sz.mell.Vágo.össz.'!D40 -> 17495 | E40: =+'1.2.1.sz.mell. Önk. összes'!E40+'1.2.2.sz.mell. Hivatal össz.'!E40+'1.2.3.sz.mell.Műv.össz.'!E40+'1.2.4.sz.mell.Vágo.össz.'!E40 -> 11879
A41: 5.7. | B41: Általános forgalmi adó visszatérítése | C41: =+'1.2.1.sz.mell. Önk. összes'!C41+'1.2.2.sz.mell. Hivatal össz.'!C41+'1.2.3.sz.mell.Műv.össz.'!C41+'1.2.4.sz.mell.Vágo.össz.'!C41 -> 81 | D41: =+'1.2.1.sz.mell. Önk. összes'!D41+'1.2.2.sz.mell. Hivatal össz.'!D41+'1.2.3.sz.mell.Műv.össz.'!D41+'1.2.4.sz.mell.Vágo.össz.'!D41 -> 3580 | E41: =+'1.2.1.sz.mell. Önk. összes'!E41+'1.2.2.sz.mell. Hivatal össz.'!E41+'1.2.3.sz.mell.Műv.össz.'!E41+'1.2.4.sz.mell.Vágo.össz.'!E41 -> 1700
A42: 5.8. | B42: Kamatbevételek | C42: =+'1.2.1.sz.mell. Önk. összes'!C42+'1.2.2.sz.mell. Hivatal össz.'!C42+'1.2.3.sz.mell.Műv.össz.'!C42+'1.2.4.sz.mell.Vágo.össz.'!C42 -> 1437 | D42: =+'1.2.1.sz.mell. Önk. összes'!D42+'1.2.2.sz.mell. Hivatal össz.'!D42+'1.2.3.sz.mell.Műv.össz.'!D42+'1.2.4.sz.mell.Vágo.össz.'!D42 -> 2172 | E42: =+'1.2.1.sz.mell. Önk. összes'!E42+'1.2.2.sz.mell. Hivatal össz.'!E42+'1.2.3.sz.mell.Műv.össz.'!E42+'1.2.4.sz.mell.Vágo.össz.'!E42 -> 1100
A43: 5.9. | B43: Egyéb pénzügyi műveletek bevételei | C43: =+'1.2.1.sz.mell. Önk. összes'!C43+'1.2.2.sz.mell. Hivatal össz.'!C43+'1.2.3.sz.mell.Műv.össz.'!C43+'1.2.4.sz.mell.Vágo.össz.'!C43 -> 0 | D43: =+'1.2.1.sz.mell. Önk. összes'!D43+'1.2.2.sz.mell. Hivatal össz.'!D43+'1.2.3.sz.mell.Műv.össz.'!D43+'1.2.4.sz.mell.Vágo.össz.'!D43 -> 0 | E43: =+'1.2.1.sz.mell. Önk. összes'!E43+'1.2.2.sz.mell. Hivatal össz.'!E43+'1.2.3.sz.mell.Műv.össz.'!E43+'1.2.4.sz.mell.Vágo.össz.'!E43 -> 0
A44: 5.10. | B44: Biztosító által fizetett kártérítés | C44: =+'1.2.1.sz.mell. Önk. összes'!C44+'1.2.2.sz.mell. Hivatal össz.'!C44+'1.2.3.sz.mell.Műv.össz.'!C44+'1.2.4.sz.mell.Vágo.össz.'!C44 -> 3344 | D44: =+'1.2.1.sz.mell. Önk. összes'!D44+'1.2.2.sz.mell. Hivatal össz.'!D44+'1.2.3.sz.mell.Műv.össz.'!D44+'1.2.4.sz.mell.Vágo.össz.'!D44 -> 0 | E44: =+'1.2.1.sz.mell. Önk. összes'!E44+'1.2.2.sz.mell. Hivatal össz.'!E44+'1.2.3.sz.mell.Műv.össz.'!E44+'1.2.4.sz.mell.Vágo.össz.'!E44 -> 0
A45: 5.11. | B45: Egyéb működési bevételek | C45: =+'1.2.1.sz.mell. Önk. összes'!C45+'1.2.2.sz.mell. Hivatal össz.'!C45+'1.2.3.sz.mell.Műv.össz.'!C45+'1.2.4.sz.mell.Vágo.össz.'!C45 -> 2025 | D45: =+'1.2.1.sz.mell. Önk. összes'!D45+'1.2.2.sz.mell. Hivatal össz.'!D45+'1.2.3.sz.mell.Műv.össz.'!D45+'1.2.4.sz.mell.Vágo.össz.'!D45 -> 1357 | E45: =+'1.2.1.sz.mell. Önk. összes'!E45+'1.2.2.sz.mell. Hivatal össz.'!E45+'1.2.3.sz.mell.Műv.össz.'!E45+'1.2.4.sz.mell.Vágo.össz.'!E45 -> 9000
A46: 6. | B46: Felhalmozási bevételek (6.1.+…+6.5.) | C46: =+'1.2.1.sz.mell. Önk. összes'!C46+'1.2.2.sz.mell. Hivatal össz.'!C46+'1.2.3.sz.mell.Műv.össz.'!C46+'1.2.4.sz.mell.Vágo.össz.'!C46 -> 1035 | D46: =+'1.2.1.sz.mell. Önk. összes'!D46+'1.2.2.sz.mell. Hivatal össz.'!D46+'1.2.3.sz.mell.Műv.össz.'!D46+'1.2.4.sz.mell.Vágo.össz.'!D46 -> 79 | E46: =SUM(E47:E51) -> 0
A47: 6.1. | B47: Immateriális javak értékesítése | C47: =+'1.2.1.sz.mell. Önk. összes'!C47+'1.2.2.sz.mell. Hivatal össz.'!C47+'1.2.3.sz.mell.Műv.össz.'!C47+'1.2.4.sz.mell.Vágo.össz.'!C47 -> 150 | D47: =+'1.2.1.sz.mell. Önk. összes'!D47+'1.2.2.sz.mell. Hivatal össz.'!D47+'1.2.3.sz.mell.Műv.össz.'!D47+'1.2.4.sz.mell.Vágo.össz.'!D47 -> 0 | E47: =+'1.2.1.sz.mell. Önk. összes'!E47+'1.2.2.sz.mell. Hivatal össz.'!E47+'1.2.3.sz.mell.Műv.össz.'!E47+'1.2.4.sz.mell.Vágo.össz.'!E47 -> 0
A48: 6.2. | B48: Ingatlanok értékesítése | C48: =+'1.2.1.sz.mell. Önk. összes'!C48+'1.2.2.sz.mell. Hivatal össz.'!C48+'1.2.3.sz.mell.Műv.össz.'!C48+'1.2.4.sz.mell.Vágo.össz.'!C48 -> 0 | D48: =+'1.2.1.sz.mell. Önk. összes'!D48+'1.2.2.sz.mell. Hivatal össz.'!D48+'1.2.3.sz.mell.Műv.össz.'!D48+'1.2.4.sz.mell.Vágo.össz.'!D48 -> 79 | E48: =+'1.2.1.sz.mell. Önk. összes'!E48+'1.2.2.sz.mell. Hivatal össz.'!E48+'1.2.3.sz.mell.Műv.össz.'!E48+'1.2.4.sz.mell.Vágo.össz.'!E48 -> 0
A49: 6.3. | B49: Egyéb tárgyi eszközök értékesítése | C49: =+'1.2.1.sz.mell. Önk. összes'!C49+'1.2.2.sz.mell. Hivatal össz.'!C49+'1.2.3.sz.mell.Műv.össz.'!C49+'1.2.4.sz.mell.Vágo.össz.'!C49 -> 0 | D49: =+'1.2.1.sz.mell. Önk. összes'!D49+'1.2.2.sz.mell. Hivatal össz.'!D49+'1.2.3.sz.mell.Műv.össz.'!D49+'1.2.4.sz.mell.Vágo.össz.'!D49 -> 0 | E49: =+'1.2.1.sz.mell. Önk. összes'!E49+'1.2.2.sz.mell. Hivatal össz.'!E49+'1.2.3.sz.mell.Műv.össz.'!E49+'1.2.4.sz.mell.Vágo.össz.'!E49 -> 0
A50: 6.4. | B50: Részesedések értékesítése | C50: =+'1.2.1.sz.mell. Önk. összes'!C50+'1.2.2.sz.mell. Hivatal össz.'!C50+'1.2.3.sz.mell.Műv.össz.'!C50+'1.2.4.sz.mell.Vágo.össz.'!C50 -> 0 | D50: =+'1.2.1.sz.mell. Önk. összes'!D50+'1.2.2.sz.mell. Hivatal össz.'!D50+'1.2.3.sz.mell.Műv.össz.'!D50+'1.2.4.sz.mell.Vágo.össz.'!D50 -> 0 | E50: =+'1.2.1.sz.mell. Önk. összes'!E50+'1.2.2.sz.mell. Hivatal össz.'!E50+'1.2.3.sz.mell.Műv.össz.'!E50+'1.2.4.sz.mell.Vágo.össz.'!E50 -> 0
A51: 6.5. | B51: Részesedések megszűnéséhez kapcsolódó bevételek | C51: =+'1.2.1.sz.mell. Önk. összes'!C51+'1.2.2.sz.mell. Hivatal össz.'!C51+'1.2.3.sz.mell.Műv.össz.'!C51+'1.2.4.sz.mell.Vágo.össz.'!C51 -> 885 | D51: =+'1.2.1.sz.mell. Önk. összes'!D51+'1.2.2.sz.mell. Hivatal össz.'!D51+'1.2.3.sz.mell.Műv.össz.'!D51+'1.2.4.sz.mell.Vágo.össz.'!D51 -> 0 | E51: =+'1.2.1.sz.mell. Önk. összes'!E51+'1.2.2.sz.mell. Hivatal össz.'!E51+'1.2.3.sz.mell.Műv.össz.'!E51+'1.2.4.sz.mell.Vágo.össz.'!E51 -> 0
A52: 7. | B52: Működési célú átvett pénzeszközök (7.1. + … + 7.3.) | C52: =+'1.2.1.sz.mell. Önk. összes'!C52+'1.2.2.sz.mell. Hivatal össz.'!C52+'1.2.3.sz.mell.Műv.össz.'!C52+'1.2.4.sz.mell.Vágo.össz.'!C52 -> 45938 | D52: =+'1.2.1.sz.mell. Önk. összes'!D52+'1.2.2.sz.mell. Hivatal össz.'!D52+'1.2.3.sz.mell.Műv.össz.'!D52+'1.2.4.sz.mell.Vágo.össz.'!D52 -> 12484 | E52: =SUM(E53:E55) -> 18520
A53: 7.1. | B53: Működési célú garancia- és kezességvállalásból megtérülések ÁH-n kívülről | C53: =+'1.2.1.sz.mell. Önk. összes'!C53+'1.2.2.sz.mell. Hivatal össz.'!C53+'1.2.3.sz.mell.Műv.össz.'!C53+'1.2.4.sz.mell.Vágo.össz.'!C53 -> 0 | D53: =+'1.2.1.sz.mell. Önk. összes'!D53+'1.2.2.sz.mell. Hivatal össz.'!D53+'1.2.3.sz.mell.Műv.össz.'!D53+'1.2.4.sz.mell.Vágo.össz.'!D53 -> 0 | E53: =+'1.2.1.sz.mell. Önk. összes'!E53+'1.2.2.sz.mell. Hivatal össz.'!E53+'1.2.3.sz.mell.Műv.össz.'!E53+'1.2.4.sz.mell.Vágo.össz.'!E53 -> 0
A54: 7.2. | B54: Működési célú visszatérítendő támogatások, kölcsönök visszatér. ÁH-n kívülről | C54: =+'1.2.1.sz.mell. Önk. összes'!C54+'1.2.2.sz.mell. Hivatal össz.'!C54+'1.2.3.sz.mell.Műv.össz.'!C54+'1.2.4.sz.mell.Vágo.össz.'!C54 -> 0 | D54: =+'1.2.1.sz.mell. Önk. összes'!D54+'1.2.2.sz.mell. Hivatal össz.'!D54+'1.2.3.sz.mell.Műv.össz.'!D54+'1.2.4.sz.mell.Vágo.össz.'!D54 -> 0 | E54: =+'1.2.1.sz.mell. Önk. összes'!E54+'1.2.2.sz.mell. Hivatal össz.'!E54+'1.2.3.sz.mell.Műv.össz.'!E54+'1.2.4.sz.mell.Vágo.össz.'!E54 -> 0
A55: 7.3. | B55: Egyéb működési célú átvett pénzeszköz | C55: =+'1.2.1.sz.mell. Önk. összes'!C55+'1.2.2.sz.mell. Hivatal össz.'!C55+'1.2.3.sz.mell.Műv.össz.'!C55+'1.2.4.sz.mell.Vágo.össz.'!C55 -> 45938 | D55: =+'1.2.1.sz.mell. Önk. összes'!D55+'1.2.2.sz.mell. Hivatal össz.'!D55+'1.2.3.sz.mell.Műv.össz.'!D55+'1.2.4.sz.mell.Vágo.össz.'!D55 -> 12484 | E55: =+'1.2.1.sz.mell. Önk. összes'!E55+'1.2.2.sz.mell. Hivatal össz.'!E55+'1.2.3.sz.mell.Műv.össz.'!E55+'1.2.4.sz.mell.Vágo.össz.'!E55 -> 18520
A56: 7.4. | B56: 7.3.-ból EU-s támogatás (közvetlen) | C56: =+'1.2.1.sz.mell. Önk. összes'!C56+'1.2.2.sz.mell. Hivatal össz.'!C56+'1.2.3.sz.mell.Műv.össz.'!C56+'1.2.4.sz.mell.Vágo.össz.'!C56 -> 45348 | D56: =+'1.2.1.sz.mell. Önk. összes'!D56+'1.2.2.sz.mell. Hivatal össz.'!D56+'1.2.3.sz.mell.Műv.össz.'!D56+'1.2.4.sz.mell.Vágo.össz.'!D56 -> 8404 | E56: =+'1.2.1.sz.mell. Önk. összes'!E56+'1.2.2.sz.mell. Hivatal össz.'!E56+'1.2.3.sz.mell.Műv.össz.'!E56+'1.2.4.sz.mell.Vágo.össz.'!E56 -> 9000
A57: 8. | B57: Felhalmozási célú átvett pénzeszközök (8.1.+8.2.+8.3.) | C57: =+'1.2.1.sz.mell. Önk. összes'!C57+'1.2.2.sz.mell. Hivatal össz.'!C57+'1.2.3.sz.mell.Műv.össz.'!C57+'1.2.4.sz.mell.Vágo.össz.'!C57 -> 2332 | D57: =+'1.2.1.sz.mell. Önk. összes'!D57+'1.2.2.sz.mell. Hivatal össz.'!D57+'1.2.3.sz.mell.Műv.össz.'!D57+'1.2.4.sz.mell.Vágo.össz.'!D57 -> 51647 | E57: =SUM(E58:E60) -> 261680
A58: 8.1. | B58: Felhalm. célú garancia- és kezességvállalásból megtérülések ÁH-n kívülről | C58: =+'1.2.1.sz.mell. Önk. összes'!C58+'1.2.2.sz.mell. Hivatal össz.'!C58+'1.2.3.sz.mell.Műv.össz.'!C58+'1.2.4.sz.mell.Vágo.össz.'!C58 -> 0 | D58: =+'1.2.1.sz.mell. Önk. összes'!D58+'1.2.2.sz.mell. Hivatal össz.'!D58+'1.2.3.sz.mell.Műv.össz.'!D58+'1.2.4.sz.mell.Vágo.össz.'!D58 -> 0 | E58: =+'1.2.1.sz.mell. Önk. összes'!E58+'1.2.2.sz.mell. Hivatal össz.'!E58+'1.2.3.sz.mell.Műv.össz.'!E58+'1.2.4.sz.mell.Vágo.össz.'!E58 -> 0
A59: 8.2. | B59: Felhalm. célú visszatérítendő támogatások, kölcsönök visszatér. ÁH-n kívülről | C59: =+'1.2.1.sz.mell. Önk. összes'!C59+'1.2.2.sz.mell. Hivatal össz.'!C59+'1.2.3.sz.mell.Műv.össz.'!C59+'1.2.4.sz.mell.Vágo.össz.'!C59 -> 0 | D59: =+'1.2.1.sz.mell. Önk. összes'!D59+'1.2.2.sz.mell. Hivatal össz.'!D59+'1.2.3.sz.mell.Műv.össz.'!D59+'1.2.4.sz.mell.Vágo.össz.'!D59 -> 0 | E59: =+'1.2.1.sz.mell. Önk. összes'!E59+'1.2.2.sz.mell. Hivatal össz.'!E59+'1.2.3.sz.mell.Műv.össz.'!E59+'1.2.4.sz.mell.Vágo.össz.'!E59 -> 0
A60: 8.3. | B60: Egyéb felhalmozási célú átvett pénzeszköz | C60: =+'1.2.1.sz.mell. Önk. összes'!C60+'1.2.2.sz.mell. Hivatal össz.'!C60+'1.2.3.sz.mell.Műv.össz.'!C60+'1.2.4.sz.mell.Vágo.össz.'!C60 -> 2332 | D60: =+'1.2.1.sz.mell. Önk. összes'!D60+'1.2.2.sz.mell. Hivatal össz.'!D60+'1.2.3.sz.mell.Műv.össz.'!D60+'1.2.4.sz.mell.Vágo.össz.'!D60 -> 51647 | E60: =+'1.2.1.sz.mell. Önk. összes'!E60+'1.2.2.sz.mell. Hivatal össz.'!E60+'1.2.3.sz.mell.Műv.össz.'!E60+'1.2.4.sz.mell.Vágo.össz.'!E60 -> 261680
A61: 8.4. | B61: 8.3.-ból EU-s támogatás (közvetlen) | C61: =+'1.2.1.sz.mell. Önk. összes'!C61+'1.2.2.sz.mell. Hivatal össz.'!C61+'1.2.3.sz.mell.Műv.össz.'!C61+'1.2.4.sz.mell.Vágo.össz.'!C61 -> 0 | D61: =+'1.2.1.sz.mell. Önk. összes'!D61+'1.2.2.sz.mell. Hivatal össz.'!D61+'1.2.3.sz.mell.Műv.össz.'!D61+'1.2.4.sz.mell.Vágo.össz.'!D61 -> 49149 | E61: =+'1.2.1.sz.mell. Önk. összes'!E61+'1.2.2.sz.mell. Hivatal össz.'!E61+'1.2.3.sz.mell.Műv.össz.'!E61+'1.2.4.sz.mell.Vágo.össz.'!E61 -> 247218
A62: 9. | B62: KÖLTSÉGVETÉSI BEVÉTELEK ÖSSZESEN: (1+…+8) | C62: =+'1.2.1.sz.mell. Önk. összes'!C62+'1.2.2.sz.mell. Hivatal össz.'!C62+'1.2.3.sz.mell.Műv.össz.'!C62+'1.2.4.sz.mell.Vágo.össz.'!C62 -> 1065495 | D62: =+'1.2.1.sz.mell. Önk. összes'!D62+'1.2.2.sz.mell. Hivatal össz.'!D62+'1.2.3.sz.mell.Műv.össz.'!D62+'1.2.4.sz.mell.Vágo.össz.'!D62 -> 984414 | E62: =+E5+E12+E19+E26+E34+E46+E52+E57 -> 895629
A63: 10. | B63: Hitel-, kölcsönfelvétel államháztartáson kívülről (10.1.+10.3.) | C63: =+'1.2.1.sz.mell. Önk. összes'!C63+'1.2.2.sz.mell. Hivatal össz.'!C63+'1.2.3.sz.mell.Műv.össz.'!C63+'1.2.4.sz.mell.Vágo.össz.'!C63 -> 0 | D63: =+'1.2.1.sz.mell. Önk. összes'!D63+'1.2.2.sz.mell. Hivatal össz.'!D63+'1.2.3.sz.mell.Műv.össz.'!D63+'1.2.4.sz.mell.Vágo.össz.'!D63 -> 0 | E63: =SUM(E64:E66) -> 0
A64: 10.1. | B64: Hosszú lejáratú hitelek, kölcsönök felvétele | C64: =+'1.2.1.sz.mell. Önk. összes'!C64+'1.2.2.sz.mell. Hivatal össz.'!C64+'1.2.3.sz.mell.Műv.össz.'!C64+'1.2.4.sz.mell.Vágo.össz.'!C64 -> 0 | D64: =+'1.2.1.sz.mell. Önk. összes'!D64+'1.2.2.sz.mell. Hivatal össz.'!D64+'1.2.3.sz.mell.Műv.össz.'!D64+'1.2.4.sz.mell.Vágo.össz.'!D64 -> 0 | E64: =+'1.2.1.sz.mell. Önk. összes'!E64+'1.2.2.sz.mell. Hivatal össz.'!E64+'1.2.3.sz.mell.Műv.össz.'!E64+'1.2.4.sz.mell.Vágo.össz.'!E64 -> 0
A65: 10.2. | B65: Likviditási célú hitelek, kölcsönök felvétele pénzügyi vállalkozástól | C65: =+'1.2.1.sz.mell. Önk. összes'!C65+'1.2.2.sz.mell. Hivatal össz.'!C65+'1.2.3.sz.mell.Műv.össz.'!C65+'1.2.4.sz.mell.Vágo.össz.'!C65 -> 0 | D65: =+'1.2.1.sz.mell. Önk. összes'!D65+'1.2.2.sz.mell. Hivatal össz.'!D65+'1.2.3.sz.mell.Műv.össz.'!D65+'1.2.4.sz.mell.Vágo.össz.'!D65 -> 0 | E65: =+'1.2.1.sz.mell. Önk. összes'!E65+'1.2.2.sz.mell. Hivatal össz.'!E65+'1.2.3.sz.mell.Műv.össz.'!E65+'1.2.4.sz.mell.Vágo.össz.'!E65 -> 0
A66: 10.3. | B66: Rövid lejáratú hitelek, kölcsönök felvétele | C66: =+'1.2.1.sz.mell. Önk. összes'!C66+'1.2.2.sz.mell. Hivatal össz.'!C66+'1.2.3.sz.mell.Műv.össz.'!C66+'1.2.4.sz.mell.Vágo.össz.'!C66 -> 0 | D66: =+'1.2.1.sz.mell. Önk. összes'!D66+'1.2.2.sz.mell. Hivatal össz.'!D66+'1.2.3.sz.mell.Műv.össz.'!D66+'1.2.4.sz.mell.Vágo.össz.'!D66 -> 0 | E66: =+'1.2.1.sz.mell. Önk. összes'!E66+'1.2.2.sz.mell. Hivatal össz.'!E66+'1.2.3.sz.mell.Műv.össz.'!E66+'1.2.4.sz.mell.Vágo.össz.'!E66 -> 0
A67: 11. | B67: Belföldi értékpapírok bevételei (11.1. +…+ 11.4.) | C67: =+'1.2.1.sz.mell. Önk. összes'!C67+'1.2.2.sz.mell. Hivatal össz.'!C67+'1.2.3.sz.mell.Műv.össz.'!C67+'1.2.4.sz.mell.Vágo.össz.'!C67 -> 756 | D67: =+'1.2.1.sz.mell. Önk. összes'!D67+'1.2.2.sz.mell. Hivatal össz.'!D67+'1.2.3.sz.mell.Műv.össz.'!D67+'1.2.4.sz.mell.Vágo.össz.'!D67 -> 0 | E67: =SUM(E68:E71) -> 0
A68: 11.1. | B68: Forgatási célú belföldi értékpapírok beváltása, értékesítése | C68: =+'1.2.1.sz.mell. Önk. összes'!C68+'1.2.2.sz.mell. Hivatal össz.'!C68+'1.2.3.sz.mell.Műv.össz.'!C68+'1.2.4.sz.mell.Vágo.össz.'!C68 -> 0 | D68: =+'1.2.1.sz.mell. Önk. összes'!D68+'1.2.2.sz.mell. Hivatal össz.'!D68+'1.2.3.sz.mell.Műv.össz.'!D68+'1.2.4.sz.mell.Vágo.össz.'!D68 -> 0 | E68: =+'1.2.1.sz.mell. Önk. összes'!E68+'1.2.2.sz.mell. Hivatal össz.'!E68+'1.2.3.sz.mell.Műv.össz.'!E68+'1.2.4.sz.mell.Vágo.össz.'!E68 -> 0
A69: 11.2. | B69: Forgatási célú belföldi értékpapírok kibocsátása | C69: =+'1.2.1.sz.mell. Önk. összes'!C69+'1.2.2.sz.mell. Hivatal össz.'!C69+'1.2.3.sz.mell.Műv.össz.'!C69+'1.2.4.sz.mell.Vágo.össz.'!C69 -> 0 | D69: =+'1.2.1.sz.mell. Önk. összes'!D69+'1.2.2.sz.mell. Hivatal össz.'!D69+'1.2.3.sz.mell.Műv.össz.'!D69+'1.2.4.sz.mell.Vágo.össz.'!D69 -> 0 | E69: =+'1.2.1.sz.mell. Önk. összes'!E69+'1.2.2.sz.mell. Hivatal össz.'!E69+'1.2.3.sz.mell.Műv.össz.'!E69+'1.2.4.sz.mell.Vágo.össz.'!E69 -> 0
A70: 11.3. | B70: Befektetési célú belföldi értékpapírok beváltása, értékesítése | C70: =+'1.2.1.sz.mell. Önk. összes'!C70+'1.2.2.sz.mell. Hivatal össz.'!C70+'1.2.3.sz.mell.Műv.össz.'!C70+'1.2.4.sz.mell.Vágo.össz.'!C70 -> 756 | D70: =+'1.2.1.sz.mell. Önk. összes'!D70+'1.2.2.sz.mell. Hivatal össz.'!D70+'1.2.3.sz.mell.Műv.össz.'!D70+'1.2.4.sz.mell.Vágo.össz.'!D70 -> 0 | E70: =+'1.2.1.sz.mell. Önk. összes'!E70+'1.2.2.sz.mell. Hivatal össz.'!E70+'1.2.3.sz.mell.Műv.össz.'!E70+'1.2.4.sz.mell.Vágo.össz.'!E70 -> 0
A71: 11.4. | B71: Befektetési célú belföldi értékpapírok kibocsátása | C71: =+'1.2.1.sz.mell. Önk. összes'!C71+'1.2.2.sz.mell. Hivatal össz.'!C71+'1.2.3.sz.mell.Műv.össz.'!C71+'1.2.4.sz.mell.Vágo.össz.'!C71 -> 0 | D71: =+'1.2.1.sz.mell. Önk. összes'!D71+'1.2.2.sz.mell. Hivatal össz.'!D71+'1.2.3.sz.mell.Műv.össz.'!D71+'1.2.4.sz.mell.Vágo.össz.'!D71 -> 0 | E71: =+'1.2.1.sz.mell. Önk. összes'!E71+'1.2.2.sz.mell. Hivatal össz.'!E71+'1.2.3.sz.mell.Műv.össz.'!E71+'1.2.4.sz.mell.Vágo.össz.'!E71 -> 0
A72: 12. | B72: Maradvány igénybevétele (12.1. + 12.2.) | C72: =+'1.2.1.sz.mell. Önk. összes'!C72+'1.2.2.sz.mell. Hivatal össz.'!C72+'1.2.3.sz.mell.Műv.össz.'!C72+'1.2.4.sz.mell.Vágo.össz.'!C72 -> 111628 | D72: =+'1.2.1.sz.mell. Önk. összes'!D72+'1.2.2.sz.mell. Hivatal össz.'!D72+'1.2.3.sz.mell.Műv.össz.'!D72+'1.2.4.sz.mell.Vágo.össz.'!D72 -> 289062 | E72: =SUM(E73:E74) -> 205502
A73: 12.1. | B73: Előző év költségvetési maradványának igénybevétele | C73: =+'1.2.1.sz.mell. Önk. összes'!C73+'1.2.2.sz.mell. Hivatal össz.'!C73+'1.2.3.sz.mell.Műv.össz.'!C73+'1.2.4.sz.mell.Vágo.össz.'!C73 -> 111628 | D73: =+'1.2.1.sz.mell. Önk. összes'!D73+'1.2.2.sz.mell. Hivatal össz.'!D73+'1.2.3.sz.mell.Műv.össz.'!D73+'1.2.4.sz.mell.Vágo.össz.'!D73 -> 289062 | E73: =+'1.2.1.sz.mell. Önk. összes'!E73+'1.2.2.sz.mell. Hivatal össz.'!E73+'1.2.3.sz.mell.Műv.össz.'!E73+'1.2.4.sz.mell.Vágo.össz.'!E73 -> 205502
A74: 12.2. | B74: Előző év vállalkozási maradványának igénybevétele | C74: =+'1.2.1.sz.mell. Önk. összes'!C74+'1.2.2.sz.mell. Hivatal össz.'!C74+'1.2.3.sz.mell.Műv.össz.'!C74+'1.2.4.sz.mell.Vágo.össz.'!C74 -> 0 | D74: =+'1.2.1.sz.mell. Önk. összes'!D74+'1.2.2.sz.mell. Hivatal össz.'!D74+'1.2.3.sz.mell.Műv.össz.'!D74+'1.2.4.sz.mell.Vágo.össz.'!D74 -> 0 | E74: =+'1.2.1.sz.mell. Önk. összes'!E74+'1.2.2.sz.mell. Hivatal össz.'!E74+'1.2.3.sz.mell.Műv.össz.'!E74+'1.2.4.sz.mell.Vágo.össz.'!E74 -> 0
A75: 13. | B75: Belföldi finanszírozás bevételei (13.1. + … + 13.3.) | E75: =SUM(E76:E78) -> 0
A76: 13.1. | B76: Normatíva bevétel
A77: 13.2. | B77: Önkormányzati támogatás Kenese
A78: 13.3. | B78: Önkormányzati támogatás más önkormányzat | C78: =+'1.2.1.sz.mell. Önk. összes'!C78+'1.2.2.sz.mell. Hivatal össz.'!C78+'1.2.3.sz.mell.Műv.össz.'!C78+'1.2.4.sz.mell.Vágo.össz.'!C78 -> 0 | D78: =+'1.2.1.sz.mell. Önk. összes'!D78+'1.2.2.sz.mell. Hivatal össz.'!D78+'1.2.3.sz.mell.Műv.össz.'!D78+'1.2.4.sz.mell.Vágo.össz.'!D78 -> 0 | E78: =+'1.2.1.sz.mell. Önk. összes'!E78+'1.2.2.sz.mell. Hivatal össz.'!E78+'1.2.3.sz.mell.Műv.össz.'!E78+'1.2.4.sz.mell.Vágo.össz.'!E78 -> 0
A79: 14. | B79: Külföldi finanszírozás bevételei (14.1.+…14.4.) | C79: =+'1.2.1.sz.mell. Önk. összes'!C79+'1.2.2.sz.mell. Hivatal össz.'!C79+'1.2.3.sz.mell.Műv.össz.'!C79+'1.2.4.sz.mell.Vágo.össz.'!C79 -> 0 | D79: =+'1.2.1.sz.mell. Önk. összes'!D79+'1.2.2.sz.mell. Hivatal össz.'!D79+'1.2.3.sz.mell.Műv.össz.'!D79+'1.2.4.sz.mell.Vágo.össz.'!D79 -> 0 | E79: =SUM(E80:E83) -> 0
A80: 14.1. | B80: Forgatási célú külföldi értékpapírok beváltása, értékesítése | C80: =+'1.2.1.sz.mell. Önk. összes'!C80+'1.2.2.sz.mell. Hivatal össz.'!C80+'1.2.3.sz.mell.Műv.össz.'!C80+'1.2.4.sz.mell.Vágo.össz.'!C80 -> 0 | D80: =+'1.2.1.sz.mell. Önk. összes'!D80+'1.2.2.sz.mell. Hivatal össz.'!D80+'1.2.3.sz.mell.Műv.össz.'!D80+'1.2.4.sz.mell.Vágo.össz.'!D80 -> 0 | E80: =+'1.2.1.sz.mell. Önk. összes'!E80+'1.2.2.sz.mell. Hivatal össz.'!E80+'1.2.3.sz.mell.Műv.össz.'!E80+'1.2.4.sz.mell.Vágo.össz.'!E80 -> 0
A81: 14.2. | B81: Befektetési célú külföldi értékpapírok beváltása, értékesítése | C81: =+'1.2.1.sz.mell. Önk. összes'!C81+'1.2.2.sz.mell. Hivatal össz.'!C81+'1.2.3.sz.mell.Műv.össz.'!C81+'1.2.4.sz.mell.Vágo.össz.'!C81 -> 0 | D81: =+'1.2.1.sz.mell. Önk. összes'!D81+'1.2.2.sz.mell. Hivatal össz.'!D81+'1.2.3.sz.mell.Műv.össz.'!D81+'1.2.4.sz.mell.Vágo.össz.'!D81 -> 0 | E81: =+'1.2.1.sz.mell. Önk. összes'!E81+'1.2.2.sz.mell. Hivatal össz.'!E81+'1.2.3.sz.mell.Műv.össz.'!E81+'1.2.4.sz.mell.Vágo.össz.'!E81 -> 0
A82: 14.3. | B82: Külföldi értékpapírok kibocsátása | C82: =+'1.2.1.sz.mell. Önk. összes'!C82+'1.2.2.sz.mell. Hivatal össz.'!C82+'1.2.3.sz.mell.Műv.össz.'!C82+'1.2.4.sz.mell.Vágo.össz.'!C82 -> 0 | D82: =+'1.2.1.sz.mell. Önk. összes'!D82+'1.2.2.sz.mell. Hivatal össz.'!D82+'1.2.3.sz.mell.Műv.össz.'!D82+'1.2.4.sz.mell.Vágo.össz.'!D82 -> 0 | E82: =+'1.2.1.sz.mell. Önk. összes'!E82+'1.2.2.sz.mell. Hivatal össz.'!E82+'1.2.3.sz.mell.Műv.össz.'!E82+'1.2.4.sz.mell.Vágo.össz.'!E82 -> 0
A83: 14.4. | B83: Külföldi hitelek, kölcsönök felvétele | C83: =+'1.2.1.sz.mell. Önk. összes'!C83+'1.2.2.sz.mell. Hivatal össz.'!C83+'1.2.3.sz.mell.Műv.össz.'!C83+'1.2.4.sz.mell.Vágo.össz.'!C83 -> 0 | D83: =+'1.2.1.sz.mell. Önk. összes'!D83+'1.2.2.sz.mell. Hivatal össz.'!D83+'1.2.3.sz.mell.Műv.össz.'!D83+'1.2.4.sz.mell.Vágo.össz.'!D83 -> 0 | E83: =+'1.2.1.sz.mell. Önk. összes'!E83+'1.2.2.sz.mell. Hivatal össz.'!E83+'1.2.3.sz.mell.Műv.össz.'!E83+'1.2.4.sz.mell.Vágo.össz.'!E83 -> 0
A84: 15. | B84: Váltóbevételek | C84: =+'1.2.1.sz.mell. Önk. összes'!C84+'1.2.2.sz.mell. Hivatal össz.'!C84+'1.2.3.sz.mell.Műv.össz.'!C84+'1.2.4.sz.mell.Vágo.össz.'!C84 -> 0 | D84: =+'1.2.1.sz.mell. Önk. összes'!D84+'1.2.2.sz.mell. Hivatal össz.'!D84+'1.2.3.sz.mell.Műv.össz.'!D84+'1.2.4.sz.mell.Vágo.össz.'!D84 -> 0 | E84: =+'1.2.1.sz.mell. Önk. összes'!E84+'1.2.2.sz.mell. Hivatal össz.'!E84+'1.2.3.sz.mell.Műv.össz.'!E84+'1.2.4.sz.mell.Vágo.össz.'!E84 -> 0
A85: 16. | B85: Adóssághoz nem kapcsolódó származékos ügyletek bevételei | C85: =+'1.2.1.sz.mell. Önk. összes'!C85+'1.2.2.sz.mell. Hivatal össz.'!C85+'1.2.3.sz.mell.Műv.össz.'!C85+'1.2.4.sz.mell.Vágo.össz.'!C85 -> 0 | D85: =+'1.2.1.sz.mell. Önk. összes'!D85+'1.2.2.sz.mell. Hivatal össz.'!D85+'1.2.3.sz.mell.Műv.össz.'!D85+'1.2.4.sz.mell.Vágo.össz.'!D85 -> 0 | E85: =+'1.2.1.sz.mell. Önk. összes'!E85+'1.2.2.sz.mell. Hivatal össz.'!E85+'1.2.3.sz.mell.Műv.össz.'!E85+'1.2.4.sz.mell.Vágo.össz.'!E85 -> 0
A86: 17. | B86: FINANSZÍROZÁSI BEVÉTELEK ÖSSZESEN: (10. + … +16.) | C86: =+C63+C67+C72+C75+C79+C85+C84 -> 112384 | D86: =+D63+D67+D72+D75+D79+D85+D84 -> 289062 | E86: =+E63+E67+E72+E75+E79+E85+E84 -> 205502
A87: 18. | B87: KÖLTSÉGVETÉSI ÉS FINANSZÍROZÁSI BEVÉTELEK ÖSSZESEN: (9+17) | C87: =+C62+C86 -> 1177879 | D87: =+D62+D86 -> 1273476 | E87: =+E62+E86 -> 1101131
B89: K I A D Á S O K
E90: Ezer forintban
A91: Sor- szám | B91: Kiadási jogcímek | C91: 2013. évi tény adatok | D91: 2014.évi várható tényadatok | E91: =+CONCATENATE(LEFT(ÖSSZEFÜGGÉSEK!A93,4),". évi előirányzat") -> . évi előirányzat
A92: A | B92: B | C92: =+'1.2.1.sz.mell. Önk. összes'!C92+'1.2.2.sz.mell. Hivatal össz.'!C92+'1.2.3.sz.mell.Műv.össz.'!C92+'1.2.4.sz.mell.Vágo.össz.'!C92 -> 0 | D92: =+'1.2.1.sz.mell. Önk. összes'!D92+'1.2.2.sz.mell. Hivatal össz.'!D92+'1.2.3.sz.mell.Műv.össz.'!D92+'1.2.4.sz.mell.Vágo.össz.'!D92 -> 0 | E92: C
A93: 1. | B93: Működési költségvetés kiadásai (1.1+…+1.5.+1.18.) | C93: =+'1.2.1.sz.mell. Önk. összes'!C93+'1.2.2.sz.mell. Hivatal össz.'!C93+'1.2.3.sz.mell.Műv.össz.'!C93+'1.2.4.sz.mell.Vágo.össz.'!C93 -> 706644 | D93: =+'1.2.1.sz.mell. Önk. összes'!D93+'1.2.2.sz.mell. Hivatal össz.'!D93+'1.2.3.sz.mell.Műv.össz.'!D93+'1.2.4.sz.mell.Vágo.össz.'!D93 -> 935852 | E93: =E94+E95+E96+E97+E98+E111 -> 820133
A94: 1.1. | B94: Személyi juttatások | C94: =+'1.2.1.sz.mell. Önk. összes'!C94+'1.2.2.sz.mell. Hivatal össz.'!C94+'1.2.3.sz.mell.Műv.össz.'!C94+'1.2.4.sz.mell.Vágo.össz.'!C94 -> 207613 | D94: =+'1.2.1.sz.mell. Önk. összes'!D94+'1.2.2.sz.mell. Hivatal össz.'!D94+'1.2.3.sz.mell.Műv.össz.'!D94+'1.2.4.sz.mell.Vágo.össz.'!D94 -> 225675 | E94: =+'1.2.1.sz.mell. Önk. összes'!E94+'1.2.2.sz.mell. Hivatal össz.'!E94+'1.2.3.sz.mell.Műv.össz.'!E94+'1.2.4.sz.mell.Vágo.össz.'!E94 -> 174235
A95: 1.2. | B95: Munkaadókat terhelő járulékok és szociális hozzájárulási adó | C95: =+'1.2.1.sz.mell. Önk. összes'!C95+'1.2.2.sz.mell. Hivatal össz.'!C95+'1.2.3.sz.mell.Műv.össz.'!C95+'1.2.4.sz.mell.Vágo.össz.'!C95 -> 50261 | D95: =+'1.2.1.sz.mell. Önk. összes'!D95+'1.2.2.sz.mell. Hivatal össz.'!D95+'1.2.3.sz.mell.Műv.össz.'!D95+'1.2.4.sz.mell.Vágo.össz.'!D95 -> 54060 | E95: =+'1.2.1.sz.mell. Önk. összes'!E95+'1.2.2.sz.mell. Hivatal össz.'!E95+'1.2.3.sz.mell.Műv.össz.'!E95+'1.2.4.sz.mell.Vágo.össz.'!E95 -> 47779
A96: 1.3. | B96: Dologi kiadások | C96: =+'1.2.1.sz.mell. Önk. összes'!C96+'1.2.2.sz.mell. Hivatal össz.'!C96+'1.2.3.sz.mell.Műv.össz.'!C96+'1.2.4.sz.mell.Vágo.össz.'!C96 -> 313153 | D96: =+'1.2.1.sz.mell. Önk. összes'!D96+'1.2.2.sz.mell. Hivatal össz.'!D96+'1.2.3.sz.mell.Műv.össz.'!D96+'1.2.4.sz.mell.Vágo.össz.'!D96 -> 336021 | E96: =+'1.2.1.sz.mell. Önk. összes'!E96+'1.2.2.sz.mell. Hivatal össz.'!E96+'1.2.3.sz.mell.Műv.össz.'!E96+'1.2.4.sz.mell.Vágo.össz.'!E96 -> 286787
A97: 1.4. | B97: Ellátottak pénzbeli juttatásai | C97: =+'1.2.1.sz.mell. Önk. összes'!C97+'1.2.2.sz.mell. Hivatal össz.'!C97+'1.2.3.sz.mell.Műv.össz.'!C97+'1.2.4.sz.mell.Vágo.össz.'!C97 -> 0 | D97: =+'1.2.1.sz.mell. Önk. összes'!D97+'1.2.2.sz.mell. Hivatal össz.'!D97+'1.2.3.sz.mell.Műv.össz.'!D97+'1.2.4.sz.mell.Vágo.össz.'!D97 -> 0 | E97: =+'1.2.1.sz.mell. Önk. összes'!E97+'1.2.2.sz.mell. Hivatal össz.'!E97+'1.2.3.sz.mell.Műv.össz.'!E97+'1.2.4.sz.mell.Vágo.össz.'!E97 -> 11588
A98: 1.5 | B98: Egyéb működési célú kiadások | C98: =+'1.2.1.sz.mell. Önk. összes'!C98+'1.2.2.sz.mell. Hivatal össz.'!C98+'1.2.3.sz.mell.Műv.össz.'!C98+'1.2.4.sz.mell.Vágo.össz.'!C98 -> 135617 | D98: =+'1.2.1.sz.mell. Önk. összes'!D98+'1.2.2.sz.mell. Hivatal össz.'!D98+'1.2.3.sz.mell.Műv.össz.'!D98+'1.2.4.sz.mell.Vágo.össz.'!D98 -> 320096 | E98: =SUM(E99:E110) -> 151868
A99: 1.6. | B99: - az 1.5-ből: - Előző évi elszámolásból származó befizetések | C99: =+'1.2.1.sz.mell. Önk. összes'!C99+'1.2.2.sz.mell. Hivatal össz.'!C99+'1.2.3.sz.mell.Műv.össz.'!C99+'1.2.4.sz.mell.Vágo.össz.'!C99 -> 0 | D99: =+'1.2.1.sz.mell. Önk. összes'!D99+'1.2.2.sz.mell. Hivatal össz.'!D99+'1.2.3.sz.mell.Műv.össz.'!D99+'1.2.4.sz.mell.Vágo.össz.'!D99 -> 0 | E99: =+'1.2.1.sz.mell. Önk. összes'!E99+'1.2.2.sz.mell. Hivatal össz.'!E99+'1.2.3.sz.mell.Műv.össz.'!E99+'1.2.4.sz.mell.Vágo.össz.'!E99 -> 0
A100: 1.7. | B100: - Törvényi előíráson alapuló befizetések | C100: =+'1.2.1.sz.mell. Önk. összes'!C100+'1.2.2.sz.mell. Hivatal össz.'!C100+'1.2.3.sz.mell.Műv.össz.'!C100+'1.2.4.sz.mell.Vágo.össz.'!C100 -> 0 | D100: =+'1.2.1.sz.mell. Önk. összes'!D100+'1.2.2.sz.mell. Hivatal össz.'!D100+'1.2.3.sz.mell.Műv.össz.'!D100+'1.2.4.sz.mell.Vágo.össz.'!D100 -> 0 | E100: =+'1.2.1.sz.mell. Önk. összes'!E100+'1.2.2.sz.mell. Hivatal össz.'!E100+'1.2.3.sz.mell.Műv.össz.'!E100+'1.2.4.sz.mell.Vágo.össz.'!E100 -> 0
A101: 1.8. | B101: - Elvonások és befizetések | C101: =+'1.2.1.sz.mell. Önk. összes'!C101+'1.2.2.sz.mell. Hivatal össz.'!C101+'1.2.3.sz.mell.Műv.össz.'!C101+'1.2.4.sz.mell.Vágo.össz.'!C101 -> 0 | D101: =+'1.2.1.sz.mell. Önk. összes'!D101+'1.2.2.sz.mell. Hivatal össz.'!D101+'1.2.3.sz.mell.Műv.össz.'!D101+'1.2.4.sz.mell.Vágo.össz.'!D101 -> 0 | E101: =+'1.2.1.sz.mell. Önk. összes'!E101+'1.2.2.sz.mell. Hivatal össz.'!E101+'1.2.3.sz.mell.Műv.össz.'!E101+'1.2.4.sz.mell.Vágo.össz.'!E101 -> 0
...

Sheet 1.2.1.sz.mell. Önk. összes
B1: B E V É T E L E K
E2: Ezer forintban
A3: Sor- szám | B3: Bevételi jogcím | C3: 2013. évi tény adatok | D3: 2014.évi várható tényadatok | E3: =+CONCATENATE(LEFT(ÖSSZEFÜGGÉSEK!A5,4),". évi előirányzat") -> 2015. évi előirányzat
A4: A | B4: B | E4: C
A5: 1. | B5: Önkormányzat működési támogatásai (1.1.+…+.1.6.) | C5: =+C6+C7+C8+C9+C10+C11 -> 355186 | D5: =+D6+D7+D8+D9+D10+D11 -> 427393 | E5: =+E6+E7+E8+E9+E10+E11 -> 284600
A6: 1.1. | B6: Helyi önkormányzatok működésének általános támogatása | C6: 128500 | D6: 151576 | E6: =+'1.2.1.a.sz.mell. Önk isk.nélkül'!C6+'1.2.1.b.sz.mell. Önk iskola'!C6+'1.2.1.c.sz.mell. Önk. önk locs'!C6+'1.2.1.d.sz.mell.Önk.önk.konyha'!C6+'1.2.1.e.sz.mell.Önk. önk.támog.'!C6 -> 134598
A7: 1.2. | B7: Önkormányzatok egyes köznevelési feladatainak támogatása | C7: 53004 | D7: 47228 | E7: =+'1.2.1.a.sz.mell. Önk isk.nélkül'!C7+'1.2.1.b.sz.mell. Önk iskola'!C7+'1.2.1.c.sz.mell. Önk. önk locs'!C7+'1.2.1.d.sz.mell.Önk.önk.konyha'!C7+'1.2.1.e.sz.mell.Önk. önk.támog.'!C7 -> 62198
A8: 1.3. | B8: Önkormányzatok szociális és gyermekjóléti feladatainak támogatása | C8: 36545 | D8: 64914 | E8: =+'1.2.1.a.sz.mell. Önk isk.nélkül'!C8+'1.2.1.b.sz.mell. Önk iskola'!C8+'1.2.1.c.sz.mell. Önk. önk locs'!C8+'1.2.1.d.sz.mell.Önk.önk.konyha'!C8+'1.2.1.e.sz.mell.Önk. önk.támog.'!C8 -> 40414
A9: 1.4. | B9: Önkormányzatok kulturális feladatainak támogatása | C9: 4047 | D9: 4033 | E9: =+'1.2.1.a.sz.mell. Önk isk.nélkül'!C9+'1.2.1.b.sz.mell. Önk iskola'!C9+'1.2.1.c.sz.mell. Önk. önk locs'!C9+'1.2.1.d.sz.mell.Önk.önk.konyha'!C9+'1.2.1.e.sz.mell.Önk. önk.támog.'!C9 -> 2997
A10: 1.5. | B10: Működési célú kvi támogatások és kiegészítő támogatások | C10: 87361 | D10: 95463 | E10: =+'1.2.1.a.sz.mell. Önk isk.nélkül'!C10+'1.2.1.b.sz.mell. Önk iskola'!C10+'1.2.1.c.sz.mell. Önk. önk locs'!C10+'1.2.1.d.sz.mell.Önk.önk.konyha'!C10+'1.2.1.e.sz.mell.Önk. önk.támog.'!C10 -> 34919
A11: 1.6. | B11: Elszámolásból származó bevételek | C11: 45729 | D11: 64179 | E11: =+'1.2.1.a.sz.mell. Önk isk.nélkül'!C11+'1.2.1.b.sz.mell. Önk iskola'!C11+'1.2.1.c.sz.mell. Önk. önk locs'!C11+'1.2.1.d.sz.mell.Önk.önk.konyha'!C11+'1.2.1.e.sz.mell.Önk. önk.támog.'!C11 -> 9474
A12: 2. | B12: Működési célú támogatások államháztartáson belülről (2.1.+…+.2.5.) | C12: =+C13+C14+C15+C16+C17 -> 34342 | D12: =+D13+D14+D15+D16+D17 -> 47578 | E12: =+E13+E14+E15+E16+E17 -> 16657
A13: 2.1. | B13: Elvonások és befizetések bevételei | E13: =+'1.2.1.a.sz.mell. Önk isk.nélkül'!C13+'1.2.1.b.sz.mell. Önk iskola'!C13+'1.2.1.c.sz.mell. Önk. önk locs'!C13+'1.2.1.d.sz.mell.Önk.önk.konyha'!C13+'1.2.1.e.sz.mell.Önk. önk.támog.'!C13 -> 0
A14: 2.2. | B14: Működési célú garancia- és kezességvállalásból megtérülések | E14: =+'1.2.1.a.sz.mell. Önk isk.nélkül'!C14+'1.2.1.b.sz.mell. Önk iskola'!C14+'1.2.1.c.sz.mell. Önk. önk locs'!C14+'1.2.1.d.sz.mell.Önk.önk.konyha'!C14+'1.2.1.e.sz.mell.Önk. önk.támog.'!C14 -> 0
A15: 2.3. | B15: Működési célú visszatérítendő támogatások, kölcsönök visszatérülése | E15: =+'1.2.1.a.sz.mell. Önk isk.nélkül'!C15+'1.2.1.b.sz.mell. Önk iskola'!C15+'1.2.1.c.sz.mell. Önk. önk locs'!C15+'1.2.1.d.sz.mell.Önk.önk.konyha'!C15+'1.2.1.e.sz.mell.Önk. önk.támog.'!C15 -> 0
A16: 2.4. | B16: Működési célú visszatérítendő támogatások, kölcsönök igénybevétele | E16: =+'1.2.1.a.sz.mell. Önk isk.nélkül'!C16+'1.2.1.b.sz.mell. Önk iskola'!C16+'1.2.1.c.sz.mell. Önk. önk locs'!C16+'1.2.1.d.sz.mell.Önk.önk.konyha'!C16+'1.2.1.e.sz.mell.Önk. önk.támog.'!C16 -> 0
A17: 2.5. | B17: Egyéb működési célú támogatások bevételei | C17: 34342 | D17: 47578 | E17: =+'1.2.1.a.sz.mell. Önk isk.nélkül'!C17+'1.2.1.b.sz.mell. Önk iskola'!C17+'1.2.1.c.sz.mell. Önk. önk locs'!C17+'1.2.1.d.sz.mell.Önk.önk.konyha'!C17+'1.2.1.e.sz.mell.Önk. önk.támog.'!C17 -> 16657
A18: 2.6. | B18: 2.5.-ből EU-s támogatás | E18: =+'1.2.1.a.sz.mell. Önk isk.nélkül'!C18+'1.2.1.b.sz.mell. Önk iskola'!C18+'1.2.1.c.sz.mell. Önk. önk locs'!C18+'1.2.1.d.sz.mell.Önk.önk.konyha'!C18+'1.2.1.e.sz.mell.Önk. önk.támog.'!C18 -> 0
A19: 3. | B19: Felhalmozási célú támogatások államháztartáson belülről (3.1.+…+3.5.) | C19: =+C20+C21+C22+C23+C24 -> 93450 | D19: =+D20+D21+D22+D23+D24 -> 6056 | E19: =+E20+E21+E22+E23+E24 -> 0
A20: 3.1. | B20: Felhalmozási célú önkormányzati támogatások | E20: =+'1.2.1.a.sz.mell. Önk isk.nélkül'!C20+'1.2.1.b.sz.mell. Önk iskola'!C20+'1.2.1.c.sz.mell. Önk. önk locs'!C20+'1.2.1.d.sz.mell.Önk.önk.konyha'!C20+'1.2.1.e.sz.mell.Önk. önk.támog.'!C20 -> 0
A21: 3.2. | B21: Felhalmozási célú garancia- és kezességvállalásból megtérülések | E21: =+'1.2.1.a.sz.mell. Önk isk.nélkül'!C21+'1.2.1.b.sz.mell. Önk iskola'!C21+'1.2.1.c.sz.mell. Önk. önk locs'!C21+'1.2.1.d.sz.mell.Önk.önk.konyha'!C21+'1.2.1.e.sz.mell.Önk. önk.támog.'!C21 -> 0
A22: 3.3. | B22: Felhalmozási célú visszatérítendő támogatások, kölcsönök visszatérülése | E22: =+'1.2.1.a.sz.mell. Önk isk.nélkül'!C22+'1.2.1.b.sz.mell. Önk iskola'!C22+'1.2.1.c.sz.mell. Önk. önk locs'!C22+'1.2.1.d.sz.mell.Önk.önk.konyha'!C22+'1.2.1.e.sz.mell.Önk. önk.támog.'!C22 -> 0
A23: 3.4. | B23: Felhalmozási célú visszatérítendő támogatások, kölcsönök igénybevétele | E23: =+'1.2.1.a.sz.mell. Önk isk.nélkül'!C23+'1.2.1.b.sz.mell. Önk iskola'!C23+'1.2.1.c.sz.mell. Önk. önk locs'!C23+'1.2.1.d.sz.mell.Önk.önk.konyha'!C23+'1.2.1.e.sz.mell.Önk. önk.támog.'!C23 -> 0
A24: 3.5. | B24: Egyéb felhalmozási célú támogatások bevételei | C24: 93450 | D24: 6056 | E24: =+'1.2.1.a.sz.mell. Önk isk.nélkül'!C24+'1.2.1.b.sz.mell. Önk iskola'!C24+'1.2.1.c.sz.mell. Önk. önk locs'!C24+'1.2.1.d.sz.mell.Önk.önk.konyha'!C24+'1.2.1.e.sz.mell.Önk. önk.támog.'!C24 -> 0
A25: 3.6. | B25: 3.5.-ből EU-s támogatás | C25: 92830 | E25: =+'1.2.1.a.sz.mell. Önk isk.nélkül'!C25+'1.2.1.b.sz.mell. Önk iskola'!C25+'1.2.1.c.sz.mell. Önk. önk locs'!C25+'1.2.1.d.sz.mell.Önk.önk.konyha'!C25+'1.2.1.e.sz.mell.Önk. önk.támog.'!C25 -> 0
A26: 4. | B26: Közhatalmi bevételek (4.1.+4.2.+4.3.+4.4.) | C26: =+C27+C31+C32+C33 -> 344986 | D26: =+D27+D31+D32+D33 -> 312918 | E26: =+E27+E31+E32+E33 -> 209000
A27: 4.1. | B27: Helyi adók (4.1.1.+...+4.1.3.) | C27: 340144 | D27: 312918 | E27: =+'1.2.1.a.sz.mell. Önk isk.nélkül'!C27+'1.2.1.b.sz.mell. Önk iskola'!C27+'1.2.1.c.sz.mell. Önk. önk locs'!C27+'1.2.1.d.sz.mell.Önk.önk.konyha'!C27+'1.2.1.e.sz.mell.Önk. önk.támog.'!C27 -> 201000
A28: 4.1.1. | B28: - Vagyoni típusú adók | E28: =+'1.2.1.a.sz.mell. Önk isk.nélkül'!C28+'1.2.1.b.sz.mell. Önk iskola'!C28+'1.2.1.c.sz.mell. Önk. önk locs'!C28+'1.2.1.d.sz.mell.Önk.önk.konyha'!C28+'1.2.1.e.sz.mell.Önk. önk.támog.'!C28 -> 125000
A29: 4.1.2. | B29: - Termékek és szolgáltatások adói | E29: =+'1.2.1.a.sz.mell. Önk isk.nélkül'!C29+'1.2.1.b.sz.mell. Önk iskola'!C29+'1.2.1.c.sz.mell. Önk. önk locs'!C29+'1.2.1.d.sz.mell.Önk.önk.konyha'!C29+'1.2.1.e.sz.mell.Önk. önk.támog.'!C29 -> 18000
A30: 4.1.3. | B30: - Értékesítési és forgalmi adók (iparűzési adó) | E30: =+'1.2.1.a.sz.mell. Önk isk.nélkül'!C30+'1.2.1.b.sz.mell. Önk iskola'!C30+'1.2.1.c.sz.mell. Önk. önk locs'!C30+'1.2.1.d.sz.mell.Önk.önk.konyha'!C30+'1.2.1.e.sz.mell.Önk. önk.támog.'!C30 -> 58000
A31: 4.2. | B31: Gépjárműadó | E31: =+'1.2.1.a.sz.mell. Önk isk.nélkül'!C31+'1.2.1.b.sz.mell. Önk iskola'!C31+'1.2.1.c.sz.mell. Önk. önk locs'!C31+'1.2.1.d.sz.mell.Önk.önk.konyha'!C31+'1.2.1.e.sz.mell.Önk. önk.támog.'!C31 -> 7000
A32: 4.3. | B32: Egyéb áruhasználati és szolgáltatási adók | E32: =+'1.2.1.a.sz.mell. Önk isk.nélkül'!C32+'1.2.1.b.sz.mell. Önk iskola'!C32+'1.2.1.c.sz.mell. Önk. önk locs'!C32+'1.2.1.d.sz.mell.Önk.önk.konyha'!C32+'1.2.1.e.sz.mell.Önk. önk.támog.'!C32 -> 0
A33: 4.4. | B33: Egyéb közhatalmi bevételek | C33: 4842 | E33: =+'1.2.1.a.sz.mell. Önk isk.nélkül'!C33+'1.2.1.b.sz.mell. Önk iskola'!C33+'1.2.1.c.sz.mell. Önk. önk locs'!C33+'1.2.1.d.sz.mell.Önk.önk.konyha'!C33+'1.2.1.e.sz.mell.Önk. önk.támog.'!C33 -> 1000
A34: 5. | B34: Működési bevételek (5.1.+…+ 5.11.) | C34: =SUM(C35:C45) -> 88549 | D34: =SUM(D35:D45) -> 61395 | E34: =SUM(E35:E45) -> 58622
A35: 5.1. | B35: Készletértékesítés ellenértéke | C35: 11503 | E35: =+'1.2.1.a.sz.mell. Önk isk.nélkül'!C35+'1.2.1.b.sz.mell. Önk iskola'!C35+'1.2.1.c.sz.mell. Önk. önk locs'!C35+'1.2.1.d.sz.mell.Önk.önk.konyha'!C35+'1.2.1.e.sz.mell.Önk. önk.támog.'!C35 -> 0
A36: 5.2. | B36: Szolgáltatások ellenértéke | C36: 35943 | D36: 25438 | E36: =+'1.2.1.a.sz.mell. Önk isk.nélkül'!C36+'1.2.1.b.sz.mell. Önk iskola'!C36+'1.2.1.c.sz.mell. Önk. önk locs'!C36+'1.2.1.d.sz.mell.Önk.önk.konyha'!C36+'1.2.1.e.sz.mell.Önk. önk.támog.'!C36 -> 37400
A37: 5.3. | B37: Közvetített szolgáltatások értéke | C37: 8790 | D37: 14914 | E37: =+'1.2.1.a.sz.mell. Önk isk.nélkül'!C37+'1.2.1.b.sz.mell. Önk iskola'!C37+'1.2.1.c.sz.mell. Önk. önk locs'!C37+'1.2.1.d.sz.mell.Önk.önk.konyha'!C37+'1.2.1.e.sz.mell.Önk. önk.támog.'!C37 -> 900
A38: 5.4. | B38: Tulajdonosi bevételek | D38: 4351 | E38: =+'1.2.1.a.sz.mell. Önk isk.nélkül'!C38+'1.2.1.b.sz.mell. Önk iskola'!C38+'1.2.1.c.sz.mell. Önk. önk locs'!C38+'1.2.1.d.sz.mell.Önk.önk.konyha'!C38+'1.2.1.e.sz.mell.Önk. önk.támog.'!C38 -> 4000
A39: 5.5. | B39: Ellátási díjak | C39: 7692 | D39: 8484 | E39: =+'1.2.1.a.sz.mell. Önk isk.nélkül'!C39+'1.2.1.b.sz.mell. Önk iskola'!C39+'1.2.1.c.sz.mell. Önk. önk locs'!C39+'1.2.1.d.sz.mell.Önk.önk.konyha'!C39+'1.2.1.e.sz.mell.Önk. önk.támog.'!C39 -> 8800
A40: 5.6. | B40: Kiszámlázott általános forgalmi adó | C40: 21358 | D40: 6043 | E40: =+'1.2.1.a.sz.mell. Önk isk.nélkül'!C40+'1.2.1.b.sz.mell. Önk iskola'!C40+'1.2.1.c.sz.mell. Önk. önk locs'!C40+'1.2.1.d.sz.mell.Önk.önk.konyha'!C40+'1.2.1.e.sz.mell.Önk. önk.támog.'!C40 -> 4722
A41: 5.7. | B41: Általános forgalmi adó visszatérítése | E41: =+'1.2.1.a.sz.mell. Önk isk.nélkül'!C41+'1.2.1.b.sz.mell. Önk iskola'!C41+'1.2.1.c.sz.mell. Önk. önk locs'!C41+'1.2.1.d.sz.mell.Önk.önk.konyha'!C41+'1.2.1.e.sz.mell.Önk. önk.támog.'!C41 -> 1700
A42: 5.8. | B42: Kamatbevételek | C42: 1238 | D42: 2124 | E42: =+'1.2.1.a.sz.mell. Önk isk.nélkül'!C42+'1.2.1.b.sz.mell. Önk iskola'!C42+'1.2.1.c.sz.mell. Önk. önk locs'!C42+'1.2.1.d.sz.mell.Önk.önk.konyha'!C42+'1.2.1.e.sz.mell.Önk. önk.támog.'!C42 -> 1100
A43: 5.9. | B43: Egyéb pénzügyi műveletek bevételei | E43: =+'1.2.1.a.sz.mell. Önk isk.nélkül'!C43+'1.2.1.b.sz.mell. Önk iskola'!C43+'1.2.1.c.sz.mell. Önk. önk locs'!C43+'1.2.1.d.sz.mell.Önk.önk.konyha'!C43+'1.2.1.e.sz.mell.Önk. önk.támog.'!C43 -> 0
A44: 5.10. | B44: Biztosító által fizetett kártérítés | E44: =+'1.2.1.a.sz.mell. Önk isk.nélkül'!C44+'1.2.1.b.sz.mell. Önk iskola'!C44+'1.2.1.c.sz.mell. Önk. önk locs'!C44+'1.2.1.d.sz.mell.Önk.önk.konyha'!C44+'1.2.1.e.sz.mell.Önk. önk.támog.'!C44 -> 0
A45: 5.11. | B45: Egyéb működési bevételek | C45: 2025 | D45: 41 | E45: =+'1.2.1.a.sz.mell. Önk isk.nélkül'!C45+'1.2.1.b.sz.mell. Önk iskola'!C45+'1.2.1.c.sz.mell. Önk. önk locs'!C45+'1.2.1.d.sz.mell.Önk.önk.konyha'!C45+'1.2.1.e.sz.mell.Önk. önk.támog.'!C45 -> 0
A46: 6. | B46: Felhalmozási bevételek (6.1.+…+6.5.) | C46: =SUM(C47:C51) -> 1035 | D46: =SUM(D47:D51) -> 79 | E46: =SUM(E47:E51) -> 0
A47: 6.1. | B47: Immateriális javak értékesítése | C47: 150 | E47: =+'1.2.1.a.sz.mell. Önk isk.nélkül'!C47+'1.2.1.b.sz.mell. Önk iskola'!C47+'1.2.1.c.sz.mell. Önk. önk locs'!C47+'1.2.1.d.sz.mell.Önk.önk.konyha'!C47+'1.2.1.e.sz.mell.Önk. önk.támog.'!C47 -> 0
A48: 6.2. | B48: Ingatlanok értékesítése | D48: 79 | E48: =+'1.2.1.a.sz.mell. Önk isk.nélkül'!C48+'1.2.1.b.sz.mell. Önk iskola'!C48+'1.2.1.c.sz.mell. Önk. önk locs'!C48+'1.2.1.d.sz.mell.Önk.önk.konyha'!C48+'1.2.1.e.sz.mell.Önk. önk.támog.'!C48 -> 0
A49: 6.3. | B49: Egyéb tárgyi eszközök értékesítése | E49: =+'1.2.1.a.sz.mell. Önk isk.nélkül'!C49+'1.2.1.b.sz.mell. Önk iskola'!C49+'1.2.1.c.sz.mell. Önk. önk locs'!C49+'1.2.1.d.sz.mell.Önk.önk.konyha'!C49+'1.2.1.e.sz.mell.Önk. önk.támog.'!C49 -> 0
A50: 6.4. | B50: Részesedések értékesítése | E50: =+'1.2.1.a.sz.mell. Önk isk.nélkül'!C50+'1.2.1.b.sz.mell. Önk iskola'!C50+'1.2.1.c.sz.mell. Önk. önk locs'!C50+'1.2.1.d.sz.mell.Önk.önk.konyha'!C50+'1.2.1.e.sz.mell.Önk. önk.támog.'!C50 -> 0
A51: 6.5. | B51: Részesedések megszűnéséhez kapcsolódó bevételek | C51: 885 | E51: =+'1.2.1.a.sz.mell. Önk isk.nélkül'!C51+'1.2.1.b.sz.mell. Önk iskola'!C51+'1.2.1.c.sz.mell. Önk. önk locs'!C51+'1.2.1.d.sz.mell.Önk.önk.konyha'!C51+'1.2.1.e.sz.mell.Önk. önk.támog.'!C51 -> 0
A52: 7. | B52: Működési célú átvett pénzeszközök (7.1. + … + 7.3.) | C52: =SUM(C53:C55) -> 590 | D52: =SUM(D53:D55) -> 4080 | E52: =SUM(E53:E55) -> 9520
A53: 7.1. | B53: Működési célú garancia- és kezességvállalásból megtérülések ÁH-n kívülről | E53: =+'1.2.1.a.sz.mell. Önk isk.nélkül'!C53+'1.2.1.b.sz.mell. Önk iskola'!C53+'1.2.1.c.sz.mell. Önk. önk locs'!C53+'1.2.1.d.sz.mell.Önk.önk.konyha'!C53+'1.2.1.e.sz.mell.Önk. önk.támog.'!C53 -> 0
A54: 7.2. | B54: Működési célú visszatérítendő támogatások, kölcsönök visszatér. ÁH-n kívülről | E54: =+'1.2.1.a.sz.mell. Önk isk.nélkül'!C54+'1.2.1.b.sz.mell. Önk iskola'!C54+'1.2.1.c.sz.mell. Önk. önk locs'!C54+'1.2.1.d.sz.mell.Önk.önk.konyha'!C54+'1.2.1.e.sz.mell.Önk. önk.támog.'!C54 -> 0
A55: 7.3. | B55: Egyéb működési célú átvett pénzeszköz | C55: 590 | D55: 4080 | E55: =+'1.2.1.a.sz.mell. Önk isk.nélkül'!C55+'1.2.1.b.sz.mell. Önk iskola'!C55+'1.2.1.c.sz.mell. Önk. önk locs'!C55+'1.2.1.d.sz.mell.Önk.önk.konyha'!C55+'1.2.1.e.sz.mell.Önk. önk.támog.'!C55 -> 9520
A56: 7.4. | B56: 7.3.-ból EU-s támogatás (közvetlen) | E56: =+'1.2.1.a.sz.mell. Önk isk.nélkül'!C56+'1.2.1.b.sz.mell. Önk iskola'!C56+'1.2.1.c.sz.mell. Önk. önk locs'!C56+'1.2.1.d.sz.mell.Önk.önk.konyha'!C56+'1.2.1.e.sz.mell.Önk. önk.támog.'!C56 -> 0
A57: 8. | B57: Felhalmozási célú átvett pénzeszközök (8.1.+8.2.+8.3.) | C57: =SUM(C58:C60) -> 2332 | D57: =SUM(D58:D60) -> 51647 | E57: =SUM(E58:E60) -> 261680
A58: 8.1. | B58: Felhalm. célú garancia- és kezességvállalásból megtérülések ÁH-n kívülről | E58: =+'1.2.1.a.sz.mell. Önk isk.nélkül'!C58+'1.2.1.b.sz.mell. Önk iskola'!C58+'1.2.1.c.sz.mell. Önk. önk locs'!C58+'1.2.1.d.sz.mell.Önk.önk.konyha'!C58+'1.2.1.e.sz.mell.Önk. önk.támog.'!C58 -> 0
A59: 8.2. | B59: Felhalm. célú visszatérítendő támogatások, kölcsönök visszatér. ÁH-n kívülről | E59: =+'1.2.1.a.sz.mell. Önk isk.nélkül'!C59+'1.2.1.b.sz.mell. Önk iskola'!C59+'1.2.1.c.sz.mell. Önk. önk locs'!C59+'1.2.1.d.sz.mell.Önk.önk.konyha'!C59+'1.2.1.e.sz.mell.Önk. önk.támog.'!C59 -> 0
A60: 8.3. | B60: Egyéb felhalmozási célú átvett pénzeszköz | C60: 2332 | D60: 51647 | E60: =+'1.2.1.a.sz.mell. Önk isk.nélkül'!C60+'1.2.1.b.sz.mell. Önk iskola'!C60+'1.2.1.c.sz.mell. Önk. önk locs'!C60+'1.2.1.d.sz.mell.Önk.önk.konyha'!C60+'1.2.1.e.sz.mell.Önk. önk.támog.'!C60 -> 261680
A61: 8.4. | B61: 8.3.-ból EU-s támogatás (közvetlen) | D61: 49149 | E61: =+'1.2.1.a.sz.mell. Önk isk.nélkül'!C61+'1.2.1.b.sz.mell. Önk iskola'!C61+'1.2.1.c.sz.mell. Önk. önk locs'!C61+'1.2.1.d.sz.mell.Önk.önk.konyha'!C61+'1.2.1.e.sz.mell.Önk. önk.támog.'!C61 -> 247218
A62: 9. | B62: KÖLTSÉGVETÉSI BEVÉTELEK ÖSSZESEN: (1+…+8) | C62: =+C5+C12+C19+C26+C34+C46+C52+C57 -> 920470 | D62: =+D5+D12+D19+D26+D34+D46+D52+D57 -> 911146 | E62: =+E5+E12+E19+E26+E34+E46+E52+E57 -> 840079
A63: 10. | B63: Hitel-, kölcsönfelvétel államháztartáson kívülről (10.1.+10.3.) | E63: =SUM(E64:E66) -> 0
A64: 10.1. | B64: Hosszú lejáratú hitelek, kölcsönök felvétele | E64: =+'1.2.1.a.sz.mell. Önk isk.nélkül'!C64+'1.2.1.b.sz.mell. Önk iskola'!C64+'1.2.1.c.sz.mell. Önk. önk locs'!C64+'1.2.1.d.sz.mell.Önk.önk.konyha'!C64+'1.2.1.e.sz.mell.Önk. önk.támog.'!C64 -> 0
A65: 10.2. | B65: Likviditási célú hitelek, kölcsönök felvétele pénzügyi vállalkozástól | E65: =+'1.2.1.a.sz.mell. Önk isk.nélkül'!C65+'1.2.1.b.sz.mell. Önk iskola'!C65+'1.2.1.c.sz.mell. Önk. önk locs'!C65+'1.2.1.d.sz.mell.Önk.önk.konyha'!C65+'1.2.1.e.sz.mell.Önk. önk.támog.'!C65 -> 0
A66: 10.3. | B66: Rövid lejáratú hitelek, kölcsönök felvétele | E66: =+'1.2.1.a.sz.mell. Önk isk.nélkül'!C66+'1.2.1.b.sz.mell. Önk iskola'!C66+'1.2.1.c.sz.mell. Önk. önk locs'!C66+'1.2.1.d.sz.mell.Önk.önk.konyha'!C66+'1.2.1.e.sz.mell.Önk. önk.támog.'!C66 -> 0
A67: 11. | B67: Belföldi értékpapírok bevételei (11.1. +…+ 11.4.) | C67: =SUM(C68:C71) -> 756 | D67: =SUM(D68:D71) -> 0 | E67: =SUM(E68:E71) -> 0
A68: 11.1. | B68: Forgatási célú belföldi értékpapírok beváltása, értékesítése | E68: =+'1.2.1.a.sz.mell. Önk isk.nélkül'!C68+'1.2.1.b.sz.mell. Önk iskola'!C68+'1.2.1.c.sz.mell. Önk. önk locs'!C68+'1.2.1.d.sz.mell.Önk.önk.konyha'!C68+'1.2.1.e.sz.mell.Önk. önk.támog.'!C68 -> 0
A69: 11.2. | B69: Forgatási célú belföldi értékpapírok kibocsátása | E69: =+'1.2.1.a.sz.mell. Önk isk.nélkül'!C69+'1.2.1.b.sz.mell. Önk iskola'!C69+'1.2.1.c.sz.mell. Önk. önk locs'!C69+'1.2.1.d.sz.mell.Önk.önk.konyha'!C69+'1.2.1.e.sz.mell.Önk. önk.támog.'!C69 -> 0
A70: 11.3. | B70: Befektetési célú belföldi értékpapírok beváltása, értékesítése | C70: 756 | E70: =+'1.2.1.a.sz.mell. Önk isk.nélkül'!C70+'1.2.1.b.sz.mell. Önk iskola'!C70+'1.2.1.c.sz.mell. Önk. önk locs'!C70+'1.2.1.d.sz.mell.Önk.önk.konyha'!C70+'1.2.1.e.sz.mell.Önk. önk.támog.'!C70 -> 0
A71: 11.4. | B71: Befektetési célú belföldi értékpapírok kibocsátása | E71: =+'1.2.1.a.sz.mell. Önk isk.nélkül'!C71+'1.2.1.b.sz.mell. Önk iskola'!C71+'1.2.1.c.sz.mell. Önk. önk locs'!C71+'1.2.1.d.sz.mell.Önk.önk.konyha'!C71+'1.2.1.e.sz.mell.Önk. önk.támog.'!C71 -> 0
A72: 12. | B72: Maradvány igénybevétele (12.1. + 12.2.) | C72: =SUM(C73:C74) -> 57850 | D72: =SUM(D73:D74) -> 266869 | E72: =SUM(E73:E74) -> 167830
A73: 12.1. | B73: Előző év költségvetési maradványának igénybevétele | C73: 57850 | D73: 266869 | E73: =+'1.2.1.a.sz.mell. Önk isk.nélkül'!C73+'1.2.1.b.sz.mell. Önk iskola'!C73+'1.2.1.c.sz.mell. Önk. önk locs'!C73+'1.2.1.d.sz.mell.Önk.önk.konyha'!C73+'1.2.1.e.sz.mell.Önk. önk.támog.'!C73 -> 167830
A74: 12.2. | B74: Előző év vállalkozási maradványának igénybevétele | E74: =+'1.2.1.a.sz.mell. Önk isk.nélkül'!C74+'1.2.1.b.sz.mell. Önk iskola'!C74+'1.2.1.c.sz.mell. Önk. önk locs'!C74+'1.2.1.d.sz.mell.Önk.önk.konyha'!C74+'1.2.1.e.sz.mell.Önk. önk.támog.'!C74 -> 0
A75: 13. | B75: Belföldi finanszírozás bevételei (13.1. + … + 13.3.) | E75: =SUM(E76:E78) -> 0
A76: 13.1. | B76: Normatíva bevétel | E76: =+'1.2.1.a.sz.mell. Önk isk.nélkül'!C76+'1.2.1.b.sz.mell. Önk iskola'!C76+'1.2.1.c.sz.mell. Önk. önk locs'!C76+'1.2.1.d.sz.mell.Önk.önk.konyha'!C76+'1.2.1.e.sz.mell.Önk. önk.támog.'!C76 -> 0
A77: 13.2. | B77: Önkormányzati támogatás Kenese | E77: =+'1.2.1.a.sz.mell. Önk isk.nélkül'!C77+'1.2.1.b.sz.mell. Önk iskola'!C77+'1.2.1.c.sz.mell. Önk. önk locs'!C77+'1.2.1.d.sz.mell.Önk.önk.konyha'!C77+'1.2.1.e.sz.mell.Önk. önk.támog.'!C77 -> 0
A78: 13.3. | B78: Önkormányzati támogatás más önkormányzat | E78: =+'1.2.1.a.sz.mell. Önk isk.nélkül'!C78+'1.2.1.b.sz.mell. Önk iskola'!C78+'1.2.1.c.sz.mell. Önk. önk locs'!C78+'1.2.1.d.sz.mell.Önk.önk.konyha'!C78+'1.2.1.e.sz.mell.Önk. önk.támog.'!C78 -> 0
A79: 14. | B79: Külföldi finanszírozás bevételei (14.1.+…14.4.) | E79: =SUM(E80:E83) -> 0
A80: 14.1. | B80: Forgatási célú külföldi értékpapírok beváltása, értékesítése | E80: =+'1.2.1.a.sz.mell. Önk isk.nélkül'!C80+'1.2.1.b.sz.mell. Önk iskola'!C80+'1.2.1.c.sz.mell. Önk. önk locs'!C80+'1.2.1.d.sz.mell.Önk.önk.konyha'!C80+'1.2.1.e.sz.mell.Önk. önk.támog.'!C80 -> 0
A81: 14.2. | B81: Befektetési célú külföldi értékpapírok beváltása, értékesítése | E81: =+'1.2.1.a.sz.mell. Önk isk.nélkül'!C81+'1.2.1.b.sz.mell. Önk iskola'!C81+'1.2.1.c.sz.mell. Önk. önk locs'!C81+'1.2.1.d.sz.mell.Önk.önk.konyha'!C81+'1.2.1.e.sz.mell.Önk. önk.támog.'!C81 -> 0
A82: 14.3. | B82: Külföldi értékpapírok kibocsátása | E82: =+'1.2.1.a.sz.mell. Önk isk.nélkül'!C82+'1.2.1.b.sz.mell. Önk iskola'!C82+'1.2.1.c.sz.mell. Önk. önk locs'!C82+'1.2.1.d.sz.mell.Önk.önk.konyha'!C82+'1.2.1.e.sz.mell.Önk. önk.támog.'!C82 -> 0
A83: 14.4. | B83: Külföldi hitelek, kölcsönök felvétele | E83: =+'1.2.1.a.sz.mell. Önk isk.nélkül'!C83+'1.2.1.b.sz.mell. Önk iskola'!C83+'1.2.1.c.sz.mell. Önk. önk locs'!C83+'1.2.1.d.sz.mell.Önk.önk.konyha'!C83+'1.2.1.e.sz.mell.Önk. önk.támog.'!C83 -> 0
A84: 15. | B84: Váltóbevételek | E84: =+'1.2.1.a.sz.mell. Önk isk.nélkül'!C84+'1.2.1.b.sz.mell. Önk iskola'!C84+'1.2.1.c.sz.mell. Önk. önk locs'!C84+'1.2.1.d.sz.mell.Önk.önk.konyha'!C84 -> 0
A85: 16. | B85: Adóssághoz nem kapcsolódó származékos ügyletek bevételei | E85: =+'1.2.1.a.sz.mell. Önk isk.nélkül'!C85+'1.2.1.b.sz.mell. Önk iskola'!C85+'1.2.1.c.sz.mell. Önk. önk locs'!C85+'1.2.1.d.sz.mell.Önk.önk.konyha'!C85 -> 0
A86: 17. | B86: FINANSZÍROZÁSI BEVÉTELEK ÖSSZESEN: (10. + … +16.) | C86: =+C63+C67+C72+C75+C79+C85+C84 -> 58606 | D86: =+D63+D67+D72+D75+D79+D85+D84 -> 266869 | E86: =+E63+E67+E72+E75+E79+E85+E84 -> 167830
A87: 18. | B87: KÖLTSÉGVETÉSI ÉS FINANSZÍROZÁSI BEVÉTELEK ÖSSZESEN: (9+17) | C87: =+C62+C86 -> 979076 | D87: =+D62+D86 -> 1178015 | E87: =+E62+E86 -> 1007909
B89: K I A D Á S O K
E90: Ezer forintban
A91: Sor- szám | B91: Kiadási jogcímek | C91: 2013. évi tény adatok | D91: 2014.évi várható tényadatok | E91: =+CONCATENATE(LEFT(ÖSSZEFÜGGÉSEK!A93,4),". évi előirányzat") -> . évi előirányzat
A92: A | B92: B | E92: C
A93: 1. | B93: Működési költségvetés kiadásai (1.1+…+1.5.+1.18.) | C93: =C94+C95+C96+C97+C98+C111 -> 345548 | D93: =D94+D95+D96+D97+D98+D111 -> 563039 | E93: =E94+E95+E96+E97+E98+E111 -> 570505
A94: 1.1. | B94: Személyi juttatások | C94: 50990 | D94: 77879 | E94: =+'1.2.1.a.sz.mell. Önk isk.nélkül'!C94+'1.2.1.b.sz.mell. Önk iskola'!C94+'1.2.1.c.sz.mell. Önk. önk locs'!C94+'1.2.1.d.sz.mell.Önk.önk.konyha'!C94+'1.2.1.e.sz.mell.Önk. önk.támog.'!C94 -> 49369
A95: 1.2. | B95: Munkaadókat terhelő járulékok és szociális hozzájárulási adó | C95: 12139 | D95: 16926 | E95: =+'1.2.1.a.sz.mell. Önk isk.nélkül'!C95+'1.2.1.b.sz.mell. Önk iskola'!C95+'1.2.1.c.sz.mell. Önk. önk locs'!C95+'1.2.1.d.sz.mell.Önk.önk.konyha'!C95+'1.2.1.e.sz.mell.Önk. önk.támog.'!C95 -> 13592
A96: 1.3. | B96: Dologi kiadások | C96: 146802 | D96: 149216 | E96: =+'1.2.1.a.sz.mell. Önk isk.nélkül'!C96+'1.2.1.b.sz.mell. Önk iskola'!C96+'1.2.1.c.sz.mell. Önk. önk locs'!C96+'1.2.1.d.sz.mell.Önk.önk.konyha'!C96+'1.2.1.e.sz.mell.Önk. önk.támog.'!C96 -> 196212
A97: 1.4. | B97: Ellátottak pénzbeli juttatásai | E97: =+'1.2.1.a.sz.mell. Önk isk.nélkül'!C97+'1.2.1.b.sz.mell. Önk iskola'!C97+'1.2.1.c.sz.mell. Önk. önk locs'!C97+'1.2.1.d.sz.mell.Önk.önk.konyha'!C97+'1.2.1.e.sz.mell.Önk. önk.támog.'!C97 -> 11588
A98: 1.5 | B98: Egyéb működési célú kiadások | C98: 135617 | D98: 319018 | E98: =+'1.2.1.a.sz.mell. Önk isk.nélkül'!C98+'1.2.1.b.sz.mell. Önk iskola'!C98+'1.2.1.c.sz.mell. Önk. önk locs'!C98+'1.2.1.d.sz.mell.Önk.önk.konyha'!C98+'1.2.1.e.sz.mell.Önk. önk.támog.'!C98 -> 151868
A99: 1.6. | B99: - az 1.5-ből: - Előző évi elszámolásból származó befizetések | E99: =+'1.2.1.a.sz.mell. Önk isk.nélkül'!C99+'1.2.1.b.sz.mell. Önk iskola'!C99+'1.2.1.c.sz.mell. Önk. önk locs'!C99+'1.2.1.d.sz.mell.Önk.önk.konyha'!C99+'1.2.1.e.sz.mell.Önk. önk.támog.'!C99 -> 0
A100: 1.7. | B100: - Törvényi előíráson alapuló befizetések | E100: =+'1.2.1.a.sz.mell. Önk isk.nélkül'!C100+'1.2.1.b.sz.mell. Önk iskola'!C100+'1.2.1.c.sz.mell. Önk. önk locs'!C100+'1.2.1.d.sz.mell.Önk.önk.konyha'!C100+'1.2.1.e.sz.mell.Önk. önk.támog.'!C100 -> 0
A101: 1.8. | B101: - Elvonások és befizetések | E101: =+'1.2.1.a.sz.mell. Önk isk.nélkül'!C101+'1.2.1.b.sz.mell. Önk iskola'!C101+'1.2.1.c.sz.mell. Önk. önk locs'!C101+'1.2.1.d.sz.mell.Önk.önk.konyha'!C101+'1.2.1.e.sz.mell.Önk. önk.támog.'!C101 -> 0
...

Sheet 1.2.1.a.sz.mell. Önk isk.nélkül
B1: B E V É T E L E K
C2: Ezer forintban
A3: Sor- szám | B3: Bevételi jogcím | C3: =+CONCATENATE(LEFT(ÖSSZEFÜGGÉSEK!A5,4),". évi előirányzat") -> 2015. évi előirányzat
A4: A | B4: B | C4: C
A5: 1. | B5: Önkormányzat működési támogatásai (1.1.+…+.1.6.) | C5: =+C6+C7+C8+C9+C10+C11 -> 284600
A6: 1.1. | B6: Helyi önkormányzatok működésének általános támogatása | C6: 134598
A7: 1.2. | B7: Önkormányzatok egyes köznevelési feladatainak támogatása | C7: 62198
A8: 1.3. | B8: Önkormányzatok szociális és gyermekjóléti feladatainak támogatása | C8: 40414
A9: 1.4. | B9: Önkormányzatok kulturális feladatainak támogatása | C9: 2997
A10: 1.5. | B10: Működési célú kvi támogatások és kiegészítő támogatások | C10: 34919
A11: 1.6. | B11: Elszámolásból származó bevételek | C11: 9474
A12: 2. | B12: Működési célú támogatások államháztartáson belülről (2.1.+…+.2.5.) | C12: =+C13+C14+C15+C16+C17 -> 16657
A13: 2.1. | B13: Elvonások és befizetések bevételei
A14: 2.2. | B14: Működési célú garancia- és kezességvállalásból megtérülések
A15: 2.3. | B15: Működési célú visszatérítendő támogatások, kölcsönök visszatérülése
A16: 2.4. | B16: Működési célú visszatérítendő támogatások, kölcsönök igénybevétele
A17: 2.5. | B17: Egyéb működési célú támogatások bevételei | C17: 16657
A18: 2.6. | B18: 2.5.-ből EU-s támogatás
A19: 3. | B19: Felhalmozási célú támogatások államháztartáson belülről (3.1.+…+3.5.) | C19: =+C20+C21+C22+C23+C24 -> 0
A20: 3.1. | B20: Felhalmozási célú önkormányzati támogatások
A21: 3.2. | B21: Felhalmozási célú garancia- és kezességvállalásból megtérülések
A22: 3.3. | B22: Felhalmozási célú visszatérítendő támogatások, kölcsönök visszatérülése
A23: 3.4. | B23: Felhalmozási célú visszatérítendő támogatások, kölcsönök igénybevétele
A24: 3.5. | B24: Egyéb felhalmozási célú támogatások bevételei
A25: 3.6. | B25: 3.5.-ből EU-s támogatás
A26: 4. | B26: Közhatalmi bevételek (4.1.+4.2.+4.3.+4.4.) | C26: =+C27+C31+C32+C33 -> 209000
A27: 4.1. | B27: Helyi adók (4.1.1.+...+4.1.3.) | C27: =SUM(C28:C30) -> 201000
A28: 4.1.1. | B28: - Vagyoni típusú adók | C28: 125000
A29: 4.1.2. | B29: - Termékek és szolgáltatások adói | C29: 18000
A30: 4.1.3. | B30: - Értékesítési és forgalmi adók (iparűzési adó) | C30: 58000
A31: 4.2. | B31: Gépjárműadó | C31: 7000
A32: 4.3. | B32: Egyéb áruhasználati és szolgáltatási adók
A33: 4.4. | B33: Egyéb közhatalmi bevételek | C33: 1000
A34: 5. | B34: Működési bevételek (5.1.+…+ 5.11.) | C34: =SUM(C35:C45) -> 32100
A35: 5.1. | B35: Készletértékesítés ellenértéke
A36: 5.2. | B36: Szolgáltatások ellenértéke | C36: 25100
A37: 5.3. | B37: Közvetített szolgáltatások értéke | C37: 900
A38: 5.4. | B38: Tulajdonosi bevételek | C38: 4000
A39: 5.5. | B39: Ellátási díjak
A40: 5.6. | B40: Kiszámlázott általános forgalmi adó
A41: 5.7. | B41: Általános forgalmi adó visszatérítése | C41: 1000
A42: 5.8. | B42: Kamatbevételek | C42: 1100
A43: 5.9. | B43: Egyéb pénzügyi műveletek bevételei
A44: 5.10. | B44: Biztosító által fizetett kártérítés
A45: 5.11. | B45: Egyéb működési bevételek
A46: 6. | B46: Felhalmozási bevételek (6.1.+…+6.5.) | C46: =SUM(C47:C51) -> 0
A47: 6.1. | B47: Immateriális javak értékesítése
A48: 6.2. | B48: Ingatlanok értékesítése
A49: 6.3. | B49: Egyéb tárgyi eszközök értékesítése
A50: 6.4. | B50: Részesedések értékesítése
A51: 6.5. | B51: Részesedések megszűnéséhez kapcsolódó bevételek
A52: 7. | B52: Működési célú átvett pénzeszközök (7.1. + … + 7.3.) | C52: =SUM(C53:C55) -> 9520
A53: 7.1. | B53: Működési célú garancia- és kezességvállalásból megtérülések ÁH-n kívülről
A54: 7.2. | B54: Működési célú visszatérítendő támogatások, kölcsönök visszatér. ÁH-n kívülről
A55: 7.3. | B55: Egyéb működési célú átvett pénzeszköz | C55: 9520
A56: 7.4. | B56: 7.3.-ból EU-s támogatás (közvetlen)
A57: 8. | B57: Felhalmozási célú átvett pénzeszközök (8.1.+8.2.+8.3.) | C57: =SUM(C58:C60) -> 261680
A58: 8.1. | B58: Felhalm. célú garancia- és kezességvállalásból megtérülések ÁH-n kívülről
A59: 8.2. | B59: Felhalm. célú visszatérítendő támogatások, kölcsönök visszatér. ÁH-n kívülről
A60: 8.3. | B60: Egyéb felhalmozási célú átvett pénzeszköz | C60: 261680
A61: 8.4. | B61: 8.3.-ból EU-s támogatás (közvetlen) | C61: 247218
A62: 9. | B62: KÖLTSÉGVETÉSI BEVÉTELEK ÖSSZESEN: (1+…+8) | C62: =+C5+C12+C19+C26+C34+C46+C52+C57 -> 813557
A63: 10. | B63: Hitel-, kölcsönfelvétel államháztartáson kívülről (10.1.+10.3.) | C63: =SUM(C64:C66) -> 0
A64: 10.1. | B64: Hosszú lejáratú hitelek, kölcsönök felvétele
A65: 10.2. | B65: Likviditási célú hitelek, kölcsönök felvétele pénzügyi vállalkozástól
A66: 10.3. | B66: Rövid lejáratú hitelek, kölcsönök felvétele
A67: 11. | B67: Belföldi értékpapírok bevételei (11.1. +…+ 11.4.) | C67: =SUM(C68:C71) -> 0
A68: 11.1. | B68: Forgatási célú belföldi értékpapírok beváltása, értékesítése
A69: 11.2. | B69: Forgatási célú belföldi értékpapírok kibocsátása
A70: 11.3. | B70: Befektetési célú belföldi értékpapírok beváltása, értékesítése
A71: 11.4. | B71: Befektetési célú belföldi értékpapírok kibocsátása
A72: 12. | B72: Maradvány igénybevétele (12.1. + 12.2.) | C72: =SUM(C73:C74) -> 167830
A73: 12.1. | B73: Előző év költségvetési maradványának igénybevétele | C73: 167830
A74: 12.2. | B74: Előző év vállalkozási maradványának igénybevétele
A75: 13. | B75: Belföldi finanszírozás bevételei (13.1. + … + 13.3.) | C75: =SUM(C76:C78) -> 0
A76: 13.1. | B76: Normatíva bevétel
A77: 13.2. | B77: Önkormányzati támogatás Kenese
A78: 13.3. | B78: Önkormányzati támogatás más önkormányzat
A79: 14. | B79: Külföldi finanszírozás bevételei (14.1.+…14.4.) | C79: =SUM(C80:C83) -> 0
A80: 14.1. | B80: Forgatási célú külföldi értékpapírok beváltása, értékesítése
A81: 14.2. | B81: Befektetési célú külföldi értékpapírok beváltása, értékesítése
A82: 14.3. | B82: Külföldi értékpapírok kibocsátása
A83: 14.4. | B83: Külföldi hitelek, kölcsönök felvétele
A84: 15. | B84: Váltóbevételek
A85: 16. | B85: Adóssághoz nem kapcsolódó származékos ügyletek bevételei
A86: 17. | B86: FINANSZÍROZÁSI BEVÉTELEK ÖSSZESEN: (10. + … +16.) | C86: =+C63+C67+C72+C75+C79+C85+C84 -> 167830
A87: 18. | B87: KÖLTSÉGVETÉSI ÉS FINANSZÍROZÁSI BEVÉTELEK ÖSSZESEN: (9+17) | C87: =+C62+C86 -> 981387
B89: K I A D Á S O K
C90: Ezer forintban
A91: Sor- szám | B91: Kiadási jogcímek | C91: =+C3 -> 2015. évi előirányzat
A92: A | B92: B | C92: C
A93: 1. | B93: Működési költségvetés kiadásai (1.1+…+1.5.+1.18.) | C93: =C94+C95+C96+C97+C98+C111 -> 420496
A94: 1.1. | B94: Személyi juttatások | C94: 10702
A95: 1.2. | B95: Munkaadókat terhelő járulékok és szociális hozzájárulási adó | C95: 2969
A96: 1.3. | B96: Dologi kiadások | C96: 127633
A97: 1.4. | B97: Ellátottak pénzbeli juttatásai | C97: 11588
A98: 1.5 | B98: Egyéb működési célú kiadások | C98: =SUM(C99:C110) -> 119728
A99: 1.6. | B99: - az 1.5-ből: - Előző évi elszámolásból származó befizetések
A100: 1.7. | B100: - Törvényi előíráson alapuló befizetések
A101: 1.8. | B101: - Elvonások és befizetések
...

Sheet 1.2.1.b.sz.mell. Önk iskola
B1: B E V É T E L E K
C2: Ezer forintban
A3: Sor- szám | B3: Bevételi jogcím | C3: =+CONCATENATE(LEFT(ÖSSZEFÜGGÉSEK!A5,4),". évi előirányzat") -> 2015. évi előirányzat
A4: A | B4: B | C4: C
A5: 1. | B5: Önkormányzat működési támogatásai (1.1.+…+.1.6.) | C5: =+C6+C7+C8+C9+C10+C11 -> 0
A6: 1.1. | B6: Helyi önkormányzatok működésének általános támogatása | C6: =+D6 -> 0
A7: 1.2. | B7: Önkormányzatok egyes köznevelési feladatainak támogatása | C7: =+D7 -> 0
A8: 1.3. | B8: Önkormányzatok szociális és gyermekjóléti feladatainak támogatása | C8: =+D8 -> 0
A9: 1.4. | B9: Önkormányzatok kulturális feladatainak támogatása | C9: =+D9 -> 0
A10: 1.5. | B10: Működési célú kvi támogatások és kiegészítő támogatások | C10: =+D10 -> 0
A11: 1.6. | B11: Elszámolásból származó bevételek | C11: =+D11 -> 0
A12: 2. | B12: Működési célú támogatások államháztartáson belülről (2.1.+…+.2.5.) | C12: =+C13+C14+C15+C16+C17 -> 0
A13: 2.1. | B13: Elvonások és befizetések bevételei | C13: =+D13 -> 0
A14: 2.2. | B14: Működési célú garancia- és kezességvállalásból megtérülések | C14: =+D14 -> 0
A15: 2.3. | B15: Működési célú visszatérítendő támogatások, kölcsönök visszatérülése | C15: =+D15 -> 0
A16: 2.4. | B16: Működési célú visszatérítendő támogatások, kölcsönök igénybevétele | C16: =+D16 -> 0
A17: 2.5. | B17: Egyéb működési célú támogatások bevételei | C17: =+D17 -> 0
A18: 2.6. | B18: 2.5.-ből EU-s támogatás | C18: =+D18 -> 0
A19: 3. | B19: Felhalmozási célú támogatások államháztartáson belülről (3.1.+…+3.5.) | C19: =+C20+C21+C22+C23+C24 -> 0
A20: 3.1. | B20: Felhalmozási célú önkormányzati támogatások | C20: =+D20 -> 0
A21: 3.2. | B21: Felhalmozási célú garancia- és kezességvállalásból megtérülések | C21: =+D21 -> 0
A22: 3.3. | B22: Felhalmozási célú visszatérítendő támogatások, kölcsönök visszatérülése | C22: =+D22 -> 0
A23: 3.4. | B23: Felhalmozási célú visszatérítendő támogatások, kölcsönök igénybevétele | C23: =+D23 -> 0
A24: 3.5. | B24: Egyéb felhalmozási célú támogatások bevételei | C24: =+D24 -> 0
A25: 3.6. | B25: 3.5.-ből EU-s támogatás | C25: =+D25 -> 0
A26: 4. | B26: Közhatalmi bevételek (4.1.+4.2.+4.3.+4.4.) | C26: =+C27+C31+C32+C33 -> 0
A27: 4.1. | B27: Helyi adók (4.1.1.+...+4.1.3.) | C27: =SUM(C28:C30) -> 0
A28: 4.1.1. | B28: - Vagyoni típusú adók | C28: =+D28 -> 0
A29: 4.1.2. | B29: - Termékek és szolgáltatások adói | C29: =+D29 -> 0
A30: 4.1.3. | B30: - Értékesítési és forgalmi adók (iparűzési adó) | C30: =+D30 -> 0
A31: 4.2. | B31: Gépjárműadó | C31: =+D31 -> 0
A32: 4.3. | B32: Egyéb áruhasználati és szolgáltatási adók | C32: =+D32 -> 0
A33: 4.4. | B33: Egyéb közhatalmi bevételek | C33: =+D33 -> 0
A34: 5. | B34: Működési bevételek (5.1.+…+ 5.11.) | C34: =SUM(C35:C45) -> 650
A35: 5.1. | B35: Készletértékesítés ellenértéke | C35: =+D35 -> 0
A36: 5.2. | B36: Szolgáltatások ellenértéke | C36: 650
A37: 5.3. | B37: Közvetített szolgáltatások értéke | C37: =+D37 -> 0
A38: 5.4. | B38: Tulajdonosi bevételek | C38: =+D38 -> 0
A39: 5.5. | B39: Ellátási díjak | C39: =+D39 -> 0
A40: 5.6. | B40: Kiszámlázott általános forgalmi adó | C40: =+D40 -> 0
A41: 5.7. | B41: Általános forgalmi adó visszatérítése | C41: =+D41 -> 0
A42: 5.8. | B42: Kamatbevételek | C42: =+D42 -> 0
A43: 5.9. | B43: Egyéb pénzügyi műveletek bevételei | C43: =+D43 -> 0
A44: 5.10. | B44: Biztosító által fizetett kártérítés | C44: =+D44 -> 0
A45: 5.11. | B45: Egyéb működési bevételek | C45: =+D45 -> 0
A46: 6. | B46: Felhalmozási bevételek (6.1.+…+6.5.) | C46: =SUM(C47:C51) -> 0
A47: 6.1. | B47: Immateriális javak értékesítése | C47: =+D47 -> 0
A48: 6.2. | B48: Ingatlanok értékesítése | C48: =+D48 -> 0
A49: 6.3. | B49: Egyéb tárgyi eszközök értékesítése | C49: =+D49 -> 0
A50: 6.4. | B50: Részesedések értékesítése | C50: =+D50 -> 0
A51: 6.5. | B51: Részesedések megszűnéséhez kapcsolódó bevételek | C51: =+D51 -> 0
A52: 7. | B52: Működési célú átvett pénzeszközök (7.1. + … + 7.3.) | C52: =SUM(C53:C55) -> 0
A53: 7.1. | B53: Működési célú garancia- és kezességvállalásból megtérülések ÁH-n kívülről | C53: =+D53 -> 0
A54: 7.2. | B54: Működési célú visszatérítendő támogatások, kölcsönök visszatér. ÁH-n kívülről | C54: =+D54 -> 0
A55: 7.3. | B55: Egyéb működési célú átvett pénzeszköz | C55: =+D55 -> 0
A56: 7.4. | B56: 7.3.-ból EU-s támogatás (közvetlen) | C56: =+D56 -> 0
A57: 8. | B57: Felhalmozási célú átvett pénzeszközök (8.1.+8.2.+8.3.) | C57: =SUM(C58:C60) -> 0
A58: 8.1. | B58: Felhalm. célú garancia- és kezességvállalásból megtérülések ÁH-n kívülről | C58: =+D58 -> 0
A59: 8.2. | B59: Felhalm. célú visszatérítendő támogatások, kölcsönök visszatér. ÁH-n kívülről | C59: =+D59 -> 0
A60: 8.3. | B60: Egyéb felhalmozási célú átvett pénzeszköz | C60: =+D60 -> 0
A61: 8.4. | B61: 8.3.-ból EU-s támogatás (közvetlen) | C61: =+D61 -> 0
A62: 9. | B62: KÖLTSÉGVETÉSI BEVÉTELEK ÖSSZESEN: (1+…+8) | C62: =+C5+C12+C19+C26+C34+C46+C52+C57 -> 650
A63: 10. | B63: Hitel-, kölcsönfelvétel államháztartáson kívülről (10.1.+10.3.) | C63: =SUM(C64:C66) -> 0
A64: 10.1. | B64: Hosszú lejáratú hitelek, kölcsönök felvétele | C64: =+D64 -> 0
A65: 10.2. | B65: Likviditási célú hitelek, kölcsönök felvétele pénzügyi vállalkozástól | C65: =+D65 -> 0
A66: 10.3. | B66: Rövid lejáratú hitelek, kölcsönök felvétele | C66: =+D66 -> 0
A67: 11. | B67: Belföldi értékpapírok bevételei (11.1. +…+ 11.4.) | C67: =SUM(C68:C71) -> 0
A68: 11.1. | B68: Forgatási célú belföldi értékpapírok beváltása, értékesítése | C68: =+D68 -> 0
A69: 11.2. | B69: Forgatási célú belföldi értékpapírok kibocsátása | C69: =+D69 -> 0
A70: 11.3. | B70: Befektetési célú belföldi értékpapírok beváltása, értékesítése | C70: =+D70 -> 0
A71: 11.4. | B71: Befektetési célú belföldi értékpapírok kibocsátása | C71: =+D71 -> 0
A72: 12. | B72: Maradvány igénybevétele (12.1. + 12.2.) | C72: =SUM(C73:C74) -> 0
A73: 12.1. | B73: Előző év költségvetési maradványának igénybevétele | C73: =+D73 -> 0
A74: 12.2. | B74: Előző év vállalkozási maradványának igénybevétele | C74: =+D74 -> 0
A75: 13. | B75: Belföldi finanszírozás bevételei (13.1. + … + 13.3.) | C75: =SUM(C76:C78) -> 0
A76: 13.1. | B76: Normatíva bevétel | C76: =+D76 -> 0
A77: 13.2. | B77: Önkormányzati támogatás Kenese | C77: =+D77 -> 0
A78: 13.3. | B78: Önkormányzati támogatás más önkormányzat | C78: =+D78 -> 0
A79: 14. | B79: Külföldi finanszírozás bevételei (14.1.+…14.4.) | C79: =SUM(C80:C83) -> 0
A80: 14.1. | B80: Forgatási célú külföldi értékpapírok beváltása, értékesítése | C80: =+D80 -> 0
A81: 14.2. | B81: Befektetési célú külföldi értékpapírok beváltása, értékesítése | C81: =+D81 -> 0
A82: 14.3. | B82: Külföldi értékpapírok kibocsátása | C82: =+D82 -> 0
A83: 14.4. | B83: Külföldi hitelek, kölcsönök felvétele | C83: =+D83 -> 0
A84: 15. | B84: Váltóbevételek | C84: =+D84 -> 0
A85: 16. | B85: Adóssághoz nem kapcsolódó származékos ügyletek bevételei | C85: =+D85 -> 0
A86: 17. | B86: FINANSZÍROZÁSI BEVÉTELEK ÖSSZESEN: (10. + … +16.) | C86: =+C63+C67+C72+C75+C79+C85+C84 -> 0
A87: 18. | B87: KÖLTSÉGVETÉSI ÉS FINANSZÍROZÁSI BEVÉTELEK ÖSSZESEN: (9+17) | C87: =+C62+C86 -> 650
B89: K I A D Á S O K
C90: Ezer forintban
A91: Sor- szám | B91: Kiadási jogcímek | C91: =+C3 -> 2015. évi előirányzat
A92: A | B92: B | C92: C
A93: 1. | B93: Működési költségvetés kiadásai (1.1+…+1.5.+1.18.) | C93: =C94+C95+C96+C97+C98+C111 -> 38449
A94: 1.1. | B94: Személyi juttatások | C94: 10896
A95: 1.2. | B95: Munkaadókat terhelő járulékok és szociális hozzájárulási adó | C95: 3032
A96: 1.3. | B96: Dologi kiadások | C96: 24521
A97: 1.4. | B97: Ellátottak pénzbeli juttatásai | C97: =+D97 -> 0
A98: 1.5 | B98: Egyéb működési célú kiadások | C98: =SUM(C99:C110) -> 0
A99: 1.6. | B99: - az 1.5-ből: - Előző évi elszámolásból származó befizetések | C99: =+D99 -> 0
A100: 1.7. | B100: - Törvényi előíráson alapuló befizetések | C100: =+D100 -> 0
A101: 1.8. | B101: - Elvonások és befizetések | C101: =+D101 -> 0
...

Sheet 1.2.1.c.sz.mell. Önk. önk locs
B1: B E V É T E L E K
C2: Ezer forintban
A3: Sor- szám | B3: Bevételi jogcím | C3: =+CONCATENATE(LEFT(ÖSSZEFÜGGÉSEK!A5,4),". évi előirányzat") -> 2015. évi előirányzat
A4: A | B4: B | C4: C
A5: 1. | B5: Önkormányzat működési támogatásai (1.1.+…+.1.6.) | C5: =+C6+C7+C8+C9+C10+C11 -> 0
A6: 1.1. | B6: Helyi önkormányzatok működésének általános támogatása | C6: =+D6 -> 0
A7: 1.2. | B7: Önkormányzatok egyes köznevelési feladatainak támogatása | C7: =+D7 -> 0
A8: 1.3. | B8: Önkormányzatok szociális és gyermekjóléti feladatainak támogatása | C8: =+D8 -> 0
A9: 1.4. | B9: Önkormányzatok kulturális feladatainak támogatása | C9: =+D9 -> 0
A10: 1.5. | B10: Működési célú kvi támogatások és kiegészítő támogatások | C10: =+D10 -> 0
A11: 1.6. | B11: Elszámolásból származó bevételek | C11: =+D11 -> 0
A12: 2. | B12: Működési célú támogatások államháztartáson belülről (2.1.+…+.2.5.) | C12: =+C13+C14+C15+C16+C17 -> 0
A13: 2.1. | B13: Elvonások és befizetések bevételei | C13: =+D13 -> 0
A14: 2.2. | B14: Működési célú garancia- és kezességvállalásból megtérülések | C14: =+D14 -> 0
A15: 2.3. | B15: Működési célú visszatérítendő támogatások, kölcsönök visszatérülése | C15: =+D15 -> 0
A16: 2.4. | B16: Működési célú visszatérítendő támogatások, kölcsönök igénybevétele | C16: =+D16 -> 0
A17: 2.5. | B17: Egyéb működési célú támogatások bevételei | C17: =+D17 -> 0
A18: 2.6. | B18: 2.5.-ből EU-s támogatás | C18: =+D18 -> 0
A19: 3. | B19: Felhalmozási célú támogatások államháztartáson belülről (3.1.+…+3.5.) | C19: =+C20+C21+C22+C23+C24 -> 0
A20: 3.1. | B20: Felhalmozási célú önkormányzati támogatások | C20: =+D20 -> 0
A21: 3.2. | B21: Felhalmozási célú garancia- és kezességvállalásból megtérülések | C21: =+D21 -> 0
A22: 3.3. | B22: Felhalmozási célú visszatérítendő támogatások, kölcsönök visszatérülése | C22: =+D22 -> 0
A23: 3.4. | B23: Felhalmozási célú visszatérítendő támogatások, kölcsönök igénybevétele | C23: =+D23 -> 0
A24: 3.5. | B24: Egyéb felhalmozási célú támogatások bevételei | C24: =+D24 -> 0
A25: 3.6. | B25: 3.5.-ből EU-s támogatás | C25: =+D25 -> 0
A26: 4. | B26: Közhatalmi bevételek (4.1.+4.2.+4.3.+4.4.) | C26: =+C27+C31+C32+C33 -> 0
A27: 4.1. | B27: Helyi adók (4.1.1.+...+4.1.3.) | C27: =SUM(C28:C30) -> 0
A28: 4.1.1. | B28: - Vagyoni típusú adók | C28: =+D28 -> 0
A29: 4.1.2. | B29: - Termékek és szolgáltatások adói | C29: =+D29 -> 0
A30: 4.1.3. | B30: - Értékesítési és forgalmi adók (iparűzési adó) | C30: =+D30 -> 0
A31: 4.2. | B31: Gépjárműadó | C31: =+D31 -> 0
A32: 4.3. | B32: Egyéb áruhasználati és szolgáltatási adók | C32: =+D32 -> 0
A33: 4.4. | B33: Egyéb közhatalmi bevételek | C33: =+D33 -> 0
A34: 5. | B34: Működési bevételek (5.1.+…+ 5.11.) | C34: =SUM(C35:C45) -> 4580
A35: 5.1. | B35: Készletértékesítés ellenértéke | C35: =+D35 -> 0
A36: 5.2. | B36: Szolgáltatások ellenértéke | C36: 3500
A37: 5.3. | B37: Közvetített szolgáltatások értéke | C37: =+D37 -> 0
A38: 5.4. | B38: Tulajdonosi bevételek | C38: =+D38 -> 0
A39: 5.5. | B39: Ellátási díjak | C39: =+D39 -> 0
A40: 5.6. | B40: Kiszámlázott általános forgalmi adó | C40: 1080
A41: 5.7. | B41: Általános forgalmi adó visszatérítése | C41: =+D41 -> 0
A42: 5.8. | B42: Kamatbevételek | C42: =+D42 -> 0
A43: 5.9. | B43: Egyéb pénzügyi műveletek bevételei | C43: =+D43 -> 0
A44: 5.10. | B44: Biztosító által fizetett kártérítés | C44: =+D44 -> 0
A45: 5.11. | B45: Egyéb működési bevételek | C45: =+D45 -> 0
A46: 6. | B46: Felhalmozási bevételek (6.1.+…+6.5.) | C46: =SUM(C47:C51) -> 0
A47: 6.1. | B47: Immateriális javak értékesítése | C47: =+D47 -> 0
A48: 6.2. | B48: Ingatlanok értékesítése | C48: =+D48 -> 0
A49: 6.3. | B49: Egyéb tárgyi eszközök értékesítése | C49: =+D49 -> 0
A50: 6.4. | B50: Részesedések értékesítése | C50: =+D50 -> 0
A51: 6.5. | B51: Részesedések megszűnéséhez kapcsolódó bevételek | C51: =+D51 -> 0
A52: 7. | B52: Működési célú átvett pénzeszközök (7.1. + … + 7.3.) | C52: =SUM(C53:C55) -> 0
A53: 7.1. | B53: Működési célú garancia- és kezességvállalásból megtérülések ÁH-n kívülről | C53: =+D53 -> 0
A54: 7.2. | B54: Működési célú visszatérítendő támogatások, kölcsönök visszatér. ÁH-n kívülről | C54: =+D54 -> 0
A55: 7.3. | B55: Egyéb működési célú átvett pénzeszköz | C55: =+D55 -> 0
A56: 7.4. | B56: 7.3.-ból EU-s támogatás (közvetlen) | C56: =+D56 -> 0
A57: 8. | B57: Felhalmozási célú átvett pénzeszközök (8.1.+8.2.+8.3.) | C57: =SUM(C58:C60) -> 0
A58: 8.1. | B58: Felhalm. célú garancia- és kezességvállalásból megtérülések ÁH-n kívülről | C58: =+D58 -> 0
A59: 8.2. | B59: Felhalm. célú visszatérítendő támogatások, kölcsönök visszatér. ÁH-n kívülről | C59: =+D59 -> 0
A60: 8.3. | B60: Egyéb felhalmozási célú átvett pénzeszköz | C60: =+D60 -> 0
A61: 8.4. | B61: 8.3.-ból EU-s támogatás (közvetlen) | C61: =+D61 -> 0
A62: 9. | B62: KÖLTSÉGVETÉSI BEVÉTELEK ÖSSZESEN: (1+…+8) | C62: =+C5+C12+C19+C26+C34+C46+C52+C57 -> 4580
A63: 10. | B63: Hitel-, kölcsönfelvétel államháztartáson kívülről (10.1.+10.3.) | C63: =SUM(C64:C66) -> 0
A64: 10.1. | B64: Hosszú lejáratú hitelek, kölcsönök felvétele | C64: =+D64 -> 0
A65: 10.2. | B65: Likviditási célú hitelek, kölcsönök felvétele pénzügyi vállalkozástól | C65: =+D65 -> 0
A66: 10.3. | B66: Rövid lejáratú hitelek, kölcsönök felvétele | C66: =+D66 -> 0
A67: 11. | B67: Belföldi értékpapírok bevételei (11.1. +…+ 11.4.) | C67: =SUM(C68:C71) -> 0
A68: 11.1. | B68: Forgatási célú belföldi értékpapírok beváltása, értékesítése | C68: =+D68 -> 0
A69: 11.2. | B69: Forgatási célú belföldi értékpapírok kibocsátása | C69: =+D69 -> 0
A70: 11.3. | B70: Befektetési célú belföldi értékpapírok beváltása, értékesítése | C70: =+D70 -> 0
A71: 11.4. | B71: Befektetési célú belföldi értékpapírok kibocsátása | C71: =+D71 -> 0
A72: 12. | B72: Maradvány igénybevétele (12.1. + 12.2.) | C72: =SUM(C73:C74) -> 0
A73: 12.1. | B73: Előző év költségvetési maradványának igénybevétele | C73: =+D73 -> 0
A74: 12.2. | B74: Előző év vállalkozási maradványának igénybevétele | C74: =+D74 -> 0
A75: 13. | B75: Belföldi finanszírozás bevételei (13.1. + … + 13.3.) | C75: =SUM(C76:C78) -> 0
A76: 13.1. | B76: Normatíva bevétel | C76: =+D76 -> 0
A77: 13.2. | B77: Önkormányzati támogatás Kenese | C77: =+D77 -> 0
A78: 13.3. | B78: Önkormányzati támogatás más önkormányzat | C78: =+D78 -> 0
A79: 14. | B79: Külföldi finanszírozás bevételei (14.1.+…14.4.) | C79: =SUM(C80:C83) -> 0
A80: 14.1. | B80: Forgatási célú külföldi értékpapírok beváltása, értékesítése | C80: =+D80 -> 0
A81: 14.2. | B81: Befektetési célú külföldi értékpapírok beváltása, értékesítése | C81: =+D81 -> 0
A82: 14.3. | B82: Külföldi értékpapírok kibocsátása | C82: =+D82 -> 0
A83: 14.4. | B83: Külföldi hitelek, kölcsönök felvétele | C83: =+D83 -> 0
A84: 15. | B84: Váltóbevételek | C84: =+D84 -> 0
A85: 16. | B85: Adóssághoz nem kapcsolódó származékos ügyletek bevételei | C85: =+D85 -> 0
A86: 17. | B86: FINANSZÍROZÁSI BEVÉTELEK ÖSSZESEN: (10. + … +16.) | C86: =+C63+C67+C72+C75+C79+C85+C84 -> 0
A87: 18. | B87: KÖLTSÉGVETÉSI ÉS FINANSZÍROZÁSI BEVÉTELEK ÖSSZESEN: (9+17) | C87: =+C62+C86 -> 4580
B89: K I A D Á S O K
C90: Ezer forintban
A91: Sor- szám | B91: Kiadási jogcímek | C91: =+C3 -> 2015. évi előirányzat
A92: A | B92: B | C92: C
A93: 1. | B93: Működési költségvetés kiadásai (1.1+…+1.5.+1.18.) | C93: =C94+C95+C96+C97+C98+C111 -> 7578
A94: 1.1. | B94: Személyi juttatások | C94: 480
A95: 1.2. | B95: Munkaadókat terhelő járulékok és szociális hozzájárulási adó | C95: 130
A96: 1.3. | B96: Dologi kiadások | C96: 6968
A97: 1.4. | B97: Ellátottak pénzbeli juttatásai | C97: =+D97 -> 0
A98: 1.5 | B98: Egyéb működési célú kiadások | C98: =SUM(C99:C110) -> 0
A99: 1.6. | B99: - az 1.5-ből: - Előző évi elszámolásból származó befizetések | C99: =+D99 -> 0
A100: 1.7. | B100: - Törvényi előíráson alapuló befizetések | C100: =+D100 -> 0
A101: 1.8. | B101: - Elvonások és befizetések | C101: =+D101 -> 0
...

Sheet 1.2.1.d.sz.mell.Önk.önk.konyha
B1: B E V É T E L E K
C2: Ezer forintban
A3: Sor- szám | B3: Bevételi jogcím | C3: =+CONCATENATE(LEFT(ÖSSZEFÜGGÉSEK!A5,4),". évi előirányzat") -> 2015. évi előirányzat
A4: A | B4: B | C4: C
A5: 1. | B5: Önkormányzat működési támogatásai (1.1.+…+.1.6.) | C5: =+C6+C7+C8+C9+C10+C11 -> 0
A6: 1.1. | B6: Helyi önkormányzatok működésének általános támogatása | C6: =+D6 -> 0
A7: 1.2. | B7: Önkormányzatok egyes köznevelési feladatainak támogatása | C7: =+D7 -> 0
A8: 1.3. | B8: Önkormányzatok szociális és gyermekjóléti feladatainak támogatása | C8: =+D8 -> 0
A9: 1.4. | B9: Önkormányzatok kulturális feladatainak támogatása | C9: =+D9 -> 0
A10: 1.5. | B10: Működési célú kvi támogatások és kiegészítő támogatások | C10: =+D10 -> 0
A11: 1.6. | B11: Elszámolásból származó bevételek | C11: =+D11 -> 0
A12: 2. | B12: Működési célú támogatások államháztartáson belülről (2.1.+…+.2.5.) | C12: =+C13+C14+C15+C16+C17 -> 0
A13: 2.1. | B13: Elvonások és befizetések bevételei | C13: =+D13 -> 0
A14: 2.2. | B14: Működési célú garancia- és kezességvállalásból megtérülések | C14: =+D14 -> 0
A15: 2.3. | B15: Működési célú visszatérítendő támogatások, kölcsönök visszatérülése | C15: =+D15 -> 0
A16: 2.4. | B16: Működési célú visszatérítendő támogatások, kölcsönök igénybevétele | C16: =+D16 -> 0
A17: 2.5. | B17: Egyéb működési célú támogatások bevételei | C17: =+D17 -> 0
A18: 2.6. | B18: 2.5.-ből EU-s támogatás | C18: =+D18 -> 0
A19: 3. | B19: Felhalmozási célú támogatások államháztartáson belülről (3.1.+…+3.5.) | C19: =+C20+C21+C22+C23+C24 -> 0
A20: 3.1. | B20: Felhalmozási célú önkormányzati támogatások | C20: =+D20 -> 0
A21: 3.2. | B21: Felhalmozási célú garancia- és kezességvállalásból megtérülések | C21: =+D21 -> 0
A22: 3.3. | B22: Felhalmozási célú visszatérítendő támogatások, kölcsönök visszatérülése | C22: =+D22 -> 0
A23: 3.4. | B23: Felhalmozási célú visszatérítendő támogatások, kölcsönök igénybevétele | C23: =+D23 -> 0
A24: 3.5. | B24: Egyéb felhalmozási célú támogatások bevételei | C24: =+D24 -> 0
A25: 3.6. | B25: 3.5.-ből EU-s támogatás | C25: =+D25 -> 0
A26: 4. | B26: Közhatalmi bevételek (4.1.+4.2.+4.3.+4.4.) | C26: =+C27+C31+C32+C33 -> 0
A27: 4.1. | B27: Helyi adók (4.1.1.+...+4.1.3.) | C27: =SUM(C28:C30) -> 0
A28: 4.1.1. | B28: - Vagyoni típusú adók | C28: =+D28 -> 0
A29: 4.1.2. | B29: - Termékek és szolgáltatások adói | C29: =+D29 -> 0
A30: 4.1.3. | B30: - Értékesítési és forgalmi adók (iparűzési adó) | C30: =+D30 -> 0
A31: 4.2. | B31: Gépjárműadó | C31: =+D31 -> 0
A32: 4.3. | B32: Egyéb áruhasználati és szolgáltatási adók | C32: =+D32 -> 0
A33: 4.4. | B33: Egyéb közhatalmi bevételek | C33: =+D33 -> 0
A34: 5. | B34: Működési bevételek (5.1.+…+ 5.11.) | C34: =SUM(C35:C45) -> 21292
A35: 5.1. | B35: Készletértékesítés ellenértéke | C35: =+D35 -> 0
A36: 5.2. | B36: Szolgáltatások ellenértéke | C36: 8150
A37: 5.3. | B37: Közvetített szolgáltatások értéke | C37: =+D37 -> 0
A38: 5.4. | B38: Tulajdonosi bevételek | C38: =+D38 -> 0
A39: 5.5. | B39: Ellátási díjak | C39: 8800
A40: 5.6. | B40: Kiszámlázott általános forgalmi adó | C40: 3642
A41: 5.7. | B41: Általános forgalmi adó visszatérítése | C41: 700
A42: 5.8. | B42: Kamatbevételek | C42: =+D42 -> 0
A43: 5.9. | B43: Egyéb pénzügyi műveletek bevételei | C43: =+D43 -> 0
A44: 5.10. | B44: Biztosító által fizetett kártérítés | C44: =+D44 -> 0
A45: 5.11. | B45: Egyéb működési bevételek | C45: =+D45 -> 0
A46: 6. | B46: Felhalmozási bevételek (6.1.+…+6.5.) | C46: =SUM(C47:C51) -> 0
A47: 6.1. | B47: Immateriális javak értékesítése | C47: =+D47 -> 0
A48: 6.2. | B48: Ingatlanok értékesítése | C48: =+D48 -> 0
A49: 6.3. | B49: Egyéb tárgyi eszközök értékesítése | C49: =+D49 -> 0
A50: 6.4. | B50: Részesedések értékesítése | C50: =+D50 -> 0
A51: 6.5. | B51: Részesedések megszűnéséhez kapcsolódó bevételek | C51: =+D51 -> 0
A52: 7. | B52: Működési célú átvett pénzeszközök (7.1. + … + 7.3.) | C52: =SUM(C53:C55) -> 0
A53: 7.1. | B53: Működési célú garancia- és kezességvállalásból megtérülések ÁH-n kívülről | C53: =+D53 -> 0
A54: 7.2. | B54: Működési célú visszatérítendő támogatások, kölcsönök visszatér. ÁH-n kívülről | C54: =+D54 -> 0
A55: 7.3. | B55: Egyéb működési célú átvett pénzeszköz | C55: =+D55 -> 0
A56: 7.4. | B56: 7.3.-ból EU-s támogatás (közvetlen) | C56: =+D56 -> 0
A57: 8. | B57: Felhalmozási célú átvett pénzeszközök (8.1.+8.2.+8.3.) | C57: =SUM(C58:C60) -> 0
A58: 8.1. | B58: Felhalm. célú garancia- és kezességvállalásból megtérülések ÁH-n kívülről | C58: =+D58 -> 0
A59: 8.2. | B59: Felhalm. célú visszatérítendő támogatások, kölcsönök visszatér. ÁH-n kívülről | C59: =+D59 -> 0
A60: 8.3. | B60: Egyéb felhalmozási célú átvett pénzeszköz | C60: =+D60 -> 0
A61: 8.4. | B61: 8.3.-ból EU-s támogatás (közvetlen) | C61: =+D61 -> 0
A62: 9. | B62: KÖLTSÉGVETÉSI BEVÉTELEK ÖSSZESEN: (1+…+8) | C62: =+C5+C12+C19+C26+C34+C46+C52+C57 -> 21292
A63: 10. | B63: Hitel-, kölcsönfelvétel államháztartáson kívülről (10.1.+10.3.) | C63: =SUM(C64:C66) -> 0
A64: 10.1. | B64: Hosszú lejáratú hitelek, kölcsönök felvétele | C64: =+D64 -> 0
A65: 10.2. | B65: Likviditási célú hitelek, kölcsönök felvétele pénzügyi vállalkozástól | C65: =+D65 -> 0
A66: 10.3. | B66: Rövid lejáratú hitelek, kölcsönök felvétele | C66: =+D66 -> 0
A67: 11. | B67: Belföldi értékpapírok bevételei (11.1. +…+ 11.4.) | C67: =SUM(C68:C71) -> 0
A68: 11.1. | B68: Forgatási célú belföldi értékpapírok beváltása, értékesítése | C68: =+D68 -> 0
A69: 11.2. | B69: Forgatási célú belföldi értékpapírok kibocsátása | C69: =+D69 -> 0
A70: 11.3. | B70: Befektetési célú belföldi értékpapírok beváltása, értékesítése | C70: =+D70 -> 0
A71: 11.4. | B71: Befektetési célú belföldi értékpapírok kibocsátása | C71: =+D71 -> 0
A72: 12. | B72: Maradvány igénybevétele (12.1. + 12.2.) | C72: =SUM(C73:C74) -> 0
A73: 12.1. | B73: Előző év költségvetési maradványának igénybevétele | C73: =+D73 -> 0
A74: 12.2. | B74: Előző év vállalkozási maradványának igénybevétele | C74: =+D74 -> 0
A75: 13. | B75: Belföldi finanszírozás bevételei (13.1. + … + 13.3.) | C75: =SUM(C76:C78) -> 0
A76: 13.1. | B76: Normatíva bevétel | C76: =+D76 -> 0
A77: 13.2. | B77: Önkormányzati támogatás Kenese | C77: =+D77 -> 0
A78: 13.3. | B78: Önkormányzati támogatás más önkormányzat | C78: =+D78 -> 0
A79: 14. | B79: Külföldi finanszírozás bevételei (14.1.+…14.4.) | C79: =SUM(C80:C83) -> 0
A80: 14.1. | B80: Forgatási célú külföldi értékpapírok beváltása, értékesítése | C80: =+D80 -> 0
A81: 14.2. | B81: Befektetési célú külföldi értékpapírok beváltása, értékesítése | C81: =+D81 -> 0
A82: 14.3. | B82: Külföldi értékpapírok kibocsátása | C82: =+D82 -> 0
A83: 14.4. | B83: Külföldi hitelek, kölcsönök felvétele | C83: =+D83 -> 0
A84: 15. | B84: Váltóbevételek | C84: =+D84 -> 0
A85: 16. | B85: Adóssághoz nem kapcsolódó származékos ügyletek bevételei | C85: =+D85 -> 0
A86: 17. | B86: FINANSZÍROZÁSI BEVÉTELEK ÖSSZESEN: (10. + … +16.) | C86: =+C63+C67+C72+C75+C79+C85+C84 -> 0
A87: 18. | B87: KÖLTSÉGVETÉSI ÉS FINANSZÍROZÁSI BEVÉTELEK ÖSSZESEN: (9+17) | C87: =+C62+C86 -> 21292
B89: K I A D Á S O K
C90: Ezer forintban
A91: Sor- szám | B91: Kiadási jogcímek | C91: =+C3 -> 2015. évi előirányzat
A92: A | B92: B | C92: C
A93: 1. | B93: Működési költségvetés kiadásai (1.1+…+1.5.+1.18.) | C93: =C94+C95+C96+C97+C98+C111 -> 53132
A94: 1.1. | B94: Személyi juttatások | C94: 12559
A95: 1.2. | B95: Munkaadókat terhelő járulékok és szociális hozzájárulási adó | C95: 3483
A96: 1.3. | B96: Dologi kiadások | C96: 37090
A97: 1.4. | B97: Ellátottak pénzbeli juttatásai
A98: 1.5 | B98: Egyéb működési célú kiadások
A99: 1.6. | B99: - az 1.5-ből: - Előző évi elszámolásból származó befizetések
A100: 1.7. | B100: - Törvényi előíráson alapuló befizetések
A101: 1.8. | B101: - Elvonások és befizetések
...

Sheet 1.2.1.e.sz.mell.Önk. önk.támog.
B1: B E V É T E L E K
C2: Ezer forintban
A3: Sor- szám | B3: Bevételi jogcím | C3: =+CONCATENATE(LEFT([2]ÖSSZEFÜGGÉSEK!A5,4),". évi előirányzat") -> 2015. évi előirányzat
A4: A | B4: B | C4: C
A5: 1. | B5: Önkormányzat működési támogatásai (1.1.+…+.1.6.) | C5: =+C6+C7+C8+C9+C10+C11 -> 0
A6: 1.1. | B6: Helyi önkormányzatok működésének általános támogatása | C6: =+D6 -> 0
A7: 1.2. | B7: Önkormányzatok egyes köznevelési feladatainak támogatása | C7: =+D7 -> 0
A8: 1.3. | B8: Önkormányzatok szociális és gyermekjóléti feladatainak támogatása | C8: =+D8 -> 0
A9: 1.4. | B9: Önkormányzatok kulturális feladatainak támogatása | C9: =+D9 -> 0
A10: 1.5. | B10: Működési célú kvi támogatások és kiegészítő támogatások | C10: =+D10 -> 0
A11: 1.6. | B11: Elszámolásból származó bevételek | C11: =+D11 -> 0
A12: 2. | B12: Működési célú támogatások államháztartáson belülről (2.1.+…+.2.5.) | C12: =+C13+C14+C15+C16+C17 -> 0
A13: 2.1. | B13: Elvonások és befizetések bevételei | C13: =+D13 -> 0
A14: 2.2. | B14: Működési célú garancia- és kezességvállalásból megtérülések | C14: =+D14 -> 0
A15: 2.3. | B15: Működési célú visszatérítendő támogatások, kölcsönök visszatérülése | C15: =+D15 -> 0
A16: 2.4. | B16: Működési célú visszatérítendő támogatások, kölcsönök igénybevétele | C16: =+D16 -> 0
A17: 2.5. | B17: Egyéb működési célú támogatások bevételei | C17: =+D17 -> 0
A18: 2.6. | B18: 2.5.-ből EU-s támogatás | C18: =+D18 -> 0
A19: 3. | B19: Felhalmozási célú támogatások államháztartáson belülről (3.1.+…+3.5.) | C19: =+C20+C21+C22+C23+C24 -> 0
A20: 3.1. | B20: Felhalmozási célú önkormányzati támogatások | C20: =+D20 -> 0
A21: 3.2. | B21: Felhalmozási célú garancia- és kezességvállalásból megtérülések | C21: =+D21 -> 0
A22: 3.3. | B22: Felhalmozási célú visszatérítendő támogatások, kölcsönök visszatérülése | C22: =+D22 -> 0
A23: 3.4. | B23: Felhalmozási célú visszatérítendő támogatások, kölcsönök igénybevétele | C23: =+D23 -> 0
A24: 3.5. | B24: Egyéb felhalmozási célú támogatások bevételei | C24: =+D24 -> 0
A25: 3.6. | B25: 3.5.-ből EU-s támogatás | C25: =+D25 -> 0
A26: 4. | B26: Közhatalmi bevételek (4.1.+4.2.+4.3.+4.4.) | C26: =+C27+C31+C32+C33 -> 0
A27: 4.1. | B27: Helyi adók (4.1.1.+...+4.1.3.) | C27: =SUM(C28:C30) -> 0
A28: 4.1.1. | B28: - Vagyoni típusú adók | C28: =+D28 -> 0
A29: 4.1.2. | B29: - Termékek és szolgáltatások adói | C29: =+D29 -> 0
A30: 4.1.3. | B30: - Értékesítési és forgalmi adók (iparűzési adó) | C30: =+D30 -> 0
A31: 4.2. | B31: Gépjárműadó | C31: =+D31 -> 0
A32: 4.3. | B32: Egyéb áruhasználati és szolgáltatási adók | C32: =+D32 -> 0
A33: 4.4. | B33: Egyéb közhatalmi bevételek | C33: =+D33 -> 0
A34: 5. | B34: Működési bevételek (5.1.+…+ 5.11.) | C34: =SUM(C35:C45) -> 0
A35: 5.1. | B35: Készletértékesítés ellenértéke | C35: =+D35 -> 0
A36: 5.2. | B36: Szolgáltatások ellenértéke | C36: =+D36 -> 0
A37: 5.3. | B37: Közvetített szolgáltatások értéke | C37: =+D37 -> 0
A38: 5.4. | B38: Tulajdonosi bevételek | C38: =+D38 -> 0
A39: 5.5. | B39: Ellátási díjak | C39: =+D39 -> 0
A40: 5.6. | B40: Kiszámlázott általános forgalmi adó | C40: =+D40 -> 0
A41: 5.7. | B41: Általános forgalmi adó visszatérítése | C41: =+D41 -> 0
A42: 5.8. | B42: Kamatbevételek | C42: =+D42 -> 0
A43: 5.9. | B43: Egyéb pénzügyi műveletek bevételei | C43: =+D43 -> 0
A44: 5.10. | B44: Biztosító által fizetett kártérítés | C44: =+D44 -> 0
A45: 5.11. | B45: Egyéb működési bevételek | C45: =+D45 -> 0
A46: 6. | B46: Felhalmozási bevételek (6.1.+…+6.5.) | C46: =SUM(C47:C51) -> 0
A47: 6.1. | B47: Immateriális javak értékesítése | C47: =+D47 -> 0
A48: 6.2. | B48: Ingatlanok értékesítése | C48: =+D48 -> 0
A49: 6.3. | B49: Egyéb tárgyi eszközök értékesítése | C49: =+D49 -> 0
A50: 6.4. | B50: Részesedések értékesítése | C50: =+D50 -> 0
A51: 6.5. | B51: Részesedések megszűnéséhez kapcsolódó bevételek | C51: =+D51 -> 0
A52: 7. | B52: Működési célú átvett pénzeszközök (7.1. + … + 7.3.) | C52: =SUM(C53:C55) -> 0
A53: 7.1. | B53: Működési célú garancia- és kezességvállalásból megtérülések ÁH-n kívülről | C53: =+D53 -> 0
A54: 7.2. | B54: Működési célú visszatérítendő támogatások, kölcsönök visszatér. ÁH-n kívülről | C54: =+D54 -> 0
A55: 7.3. | B55: Egyéb működési célú átvett pénzeszköz | C55: =+D55 -> 0
A56: 7.4. | B56: 7.3.-ból EU-s támogatás (közvetlen) | C56: =+D56 -> 0
A57: 8. | B57: Felhalmozási célú átvett pénzeszközök (8.1.+8.2.+8.3.) | C57: =SUM(C58:C60) -> 0
A58: 8.1. | B58: Felhalm. célú garancia- és kezességvállalásból megtérülések ÁH-n kívülről | C58: =+D58 -> 0
A59: 8.2. | B59: Felhalm. célú visszatérítendő támogatások, kölcsönök visszatér. ÁH-n kívülről | C59: =+D59 -> 0
A60: 8.3. | B60: Egyéb felhalmozási célú átvett pénzeszköz | C60: =+D60 -> 0
A61: 8.4. | B61: 8.3.-ból EU-s támogatás (közvetlen) | C61: =+D61 -> 0
A62: 9. | B62: KÖLTSÉGVETÉSI BEVÉTELEK ÖSSZESEN: (1+…+8) | C62: =+C5+C12+C19+C26+C34+C46+C52+C57 -> 0
A63: 10. | B63: Hitel-, kölcsönfelvétel államháztartáson kívülről (10.1.+10.3.) | C63: =SUM(C64:C66) -> 0
A64: 10.1. | B64: Hosszú lejáratú hitelek, kölcsönök felvétele | C64: =+D64 -> 0
A65: 10.2. | B65: Likviditási célú hitelek, kölcsönök felvétele pénzügyi vállalkozástól | C65: =+D65 -> 0
A66: 10.3. | B66: Rövid lejáratú hitelek, kölcsönök felvétele | C66: =+D66 -> 0
A67: 11. | B67: Belföldi értékpapírok bevételei (11.1. +…+ 11.4.) | C67: =SUM(C68:C71) -> 0
A68: 11.1. | B68: Forgatási célú belföldi értékpapírok beváltása, értékesítése | C68: =+D68 -> 0
A69: 11.2. | B69: Forgatási célú belföldi értékpapírok kibocsátása | C69: =+D69 -> 0
A70: 11.3. | B70: Befektetési célú belföldi értékpapírok beváltása, értékesítése | C70: =+D70 -> 0
A71: 11.4. | B71: Befektetési célú belföldi értékpapírok kibocsátása | C71: =+D71 -> 0
A72: 12. | B72: Maradvány igénybevétele (12.1. + 12.2.) | C72: =SUM(C73:C74) -> 0
A73: 12.1. | B73: Előző év költségvetési maradványának igénybevétele | C73: =+D73 -> 0
A74: 12.2. | B74: Előző év vállalkozási maradványának igénybevétele | C74: =+D74 -> 0
A75: 13. | B75: Belföldi finanszírozás bevételei (13.1. + … + 13.3.) | C75: =SUM(C76:C78) -> 0
A76: 13.1. | B76: Normatíva bevétel | C76: =+D76 -> 0
A77: 13.2. | B77: Önkormányzati támogatás Kenese | C77: =+D77 -> 0
A78: 13.3. | B78: Önkormányzati támogatás más önkormányzat | C78: =+D78 -> 0
A79: 14. | B79: Külföldi finanszírozás bevételei (14.1.+…14.4.) | C79: =SUM(C80:C83) -> 0
A80: 14.1. | B80: Forgatási célú külföldi értékpapírok beváltása, értékesítése | C80: =+D80 -> 0
A81: 14.2. | B81: Befektetési célú külföldi értékpapírok beváltása, értékesítése | C81: =+D81 -> 0
A82: 14.3. | B82: Külföldi értékpapírok kibocsátása | C82: =+D82 -> 0
A83: 14.4. | B83: Külföldi hitelek, kölcsönök felvétele | C83: =+D83 -> 0
A84: 15. | B84: Váltóbevételek | C84: =+D84 -> 0
A85: 16. | B85: Adóssághoz nem kapcsolódó származékos ügyletek bevételei | C85: =+D85 -> 0
A86: 17. | B86: FINANSZÍROZÁSI BEVÉTELEK ÖSSZESEN: (10. + … +16.) | C86: =+C63+C67+C72+C75+C79+C85+C84 -> 0
A87: 18. | B87: KÖLTSÉGVETÉSI ÉS FINANSZÍROZÁSI BEVÉTELEK ÖSSZESEN: (9+17) | C87: =+C62+C86 -> 0
B89: K I A D Á S O K
C90: Ezer forintban
A91: Sor- szám | B91: Kiadási jogcímek | C91: =+C3 -> 2015. évi előirányzat
A92: A | B92: B | C92: C
A93: 1. | B93: Működési költségvetés kiadásai (1.1+…+1.5.+1.18.) | C93: =C94+C95+C96+C97+C98+C111 -> 50850
A94: 1.1. | B94: Személyi juttatások | C94: 14732
A95: 1.2. | B95: Munkaadókat terhelő járulékok és szociális hozzájárulási adó | C95: 3978
A96: 1.3. | B96: Dologi kiadások | C96: =+D96 -> 0
A97: 1.4. | B97: Ellátottak pénzbeli juttatásai | C97: =+D97 -> 0
A98: 1.5 | B98: Egyéb működési célú kiadások | C98: =SUM(C99:C110) -> 32140
A99: 1.6. | B99: - az 1.5-ből: - Előző évi elszámolásból származó befizetések | C99: =+D99 -> 0
A100: 1.7. | B100: - Törvényi előíráson alapuló befizetések | C100: =+D100 -> 0
A101: 1.8. | B101: - Elvonások és befizetések | C101: =+D101 -> 0
...

Sheet 1.2.2.sz.mell. Hivatal össz.
B1: B E V É T E L E K
E2: Ezer forintban
A3: Sor- szám | B3: Bevételi jogcím | C3: 2013. évi tény adatok | D3: 2014.évi várható tényadatok | E3: =+CONCATENATE(LEFT(ÖSSZEFÜGGÉSEK!A5,4),". évi előirányzat") -> 2015. évi előirányzat
A4: A | B4: B | E4: C
A5: 1. | B5: Önkormányzat működési támogatásai (1.1.+…+.1.6.) | E5: =+E6+E7+E8+E9+E10+E11 -> 0
A6: 1.1. | B6: Helyi önkormányzatok működésének általános támogatása | E6: =+'1.2.2.a.sz.mell. Hivatal köt.'!C6+'1.2.2.b.sz.mell. Hivatal önk.'!C6 -> 0
A7: 1.2. | B7: Önkormányzatok egyes köznevelési feladatainak támogatása | E7: =+'1.2.2.a.sz.mell. Hivatal köt.'!C7+'1.2.2.b.sz.mell. Hivatal önk.'!C7 -> 0
A8: 1.3. | B8: Önkormányzatok szociális és gyermekjóléti feladatainak támogatása | E8: =+'1.2.2.a.sz.mell. Hivatal köt.'!C8+'1.2.2.b.sz.mell. Hivatal önk.'!C8 -> 0
A9: 1.4. | B9: Önkormányzatok kulturális feladatainak támogatása | E9: =+'1.2.2.a.sz.mell. Hivatal köt.'!C9+'1.2.2.b.sz.mell. Hivatal önk.'!C9 -> 0
A10: 1.5. | B10: Működési célú kvi támogatások és kiegészítő támogatások | E10: =+'1.2.2.a.sz.mell. Hivatal köt.'!C10+'1.2.2.b.sz.mell. Hivatal önk.'!C10 -> 0
A11: 1.6. | B11: Elszámolásból származó bevételek | E11: =+'1.2.2.a.sz.mell. Hivatal köt.'!C11+'1.2.2.b.sz.mell. Hivatal önk.'!C11 -> 0
A12: 2. | B12: Működési célú támogatások államháztartáson belülről (2.1.+…+.2.5.) | C12: =+C13+C14+C15+C16+C17 -> 0 | D12: =+D13+D14+D15+D16+D17 -> 2392 | E12: =+E13+E14+E15+E16+E17 -> 2783
A13: 2.1. | B13: Elvonások és befizetések bevételei | E13: =+'1.2.2.a.sz.mell. Hivatal köt.'!C13+'1.2.2.b.sz.mell. Hivatal önk.'!C13 -> 0
A14: 2.2. | B14: Működési célú garancia- és kezességvállalásból megtérülések | E14: =+'1.2.2.a.sz.mell. Hivatal köt.'!C14+'1.2.2.b.sz.mell. Hivatal önk.'!C14 -> 0
A15: 2.3. | B15: Működési célú visszatérítendő támogatások, kölcsönök visszatérülése | E15: =+'1.2.2.a.sz.mell. Hivatal köt.'!C15+'1.2.2.b.sz.mell. Hivatal önk.'!C15 -> 0
A16: 2.4. | B16: Működési célú visszatérítendő támogatások, kölcsönök igénybevétele | E16: =+'1.2.2.a.sz.mell. Hivatal köt.'!C16+'1.2.2.b.sz.mell. Hivatal önk.'!C16 -> 0
A17: 2.5. | B17: Egyéb működési célú támogatások bevételei | D17: 2392 | E17: =+'1.2.2.a.sz.mell. Hivatal köt.'!C17+'1.2.2.b.sz.mell. Hivatal önk.'!C17 -> 2783
A18: 2.6. | B18: 2.5.-ből EU-s támogatás | E18: =+'1.2.2.a.sz.mell. Hivatal köt.'!C18+'1.2.2.b.sz.mell. Hivatal önk.'!C18 -> 0
A19: 3. | B19: Felhalmozási célú támogatások államháztartáson belülről (3.1.+…+3.5.) | C19: =+C20+C21+C22+C23+C24 -> 0 | D19: =+D20+D21+D22+D23+D24 -> 0 | E19: =+E20+E21+E22+E23+E24 -> 0
A20: 3.1. | B20: Felhalmozási célú önkormányzati támogatások | E20: =+'1.2.2.a.sz.mell. Hivatal köt.'!C20+'1.2.2.b.sz.mell. Hivatal önk.'!C20 -> 0
A21: 3.2. | B21: Felhalmozási célú garancia- és kezességvállalásból megtérülések | E21: =+'1.2.2.a.sz.mell. Hivatal köt.'!C21+'1.2.2.b.sz.mell. Hivatal önk.'!C21 -> 0
A22: 3.3. | B22: Felhalmozási célú visszatérítendő támogatások, kölcsönök visszatérülése | E22: =+'1.2.2.a.sz.mell. Hivatal köt.'!C22+'1.2.2.b.sz.mell. Hivatal önk.'!C22 -> 0
A23: 3.4. | B23: Felhalmozási célú visszatérítendő támogatások, kölcsönök igénybevétele | E23: =+'1.2.2.a.sz.mell. Hivatal köt.'!C23+'1.2.2.b.sz.mell. Hivatal önk.'!C23 -> 0
A24: 3.5. | B24: Egyéb felhalmozási célú támogatások bevételei | E24: =+'1.2.2.a.sz.mell. Hivatal köt.'!C24+'1.2.2.b.sz.mell. Hivatal önk.'!C24 -> 0
A25: 3.6. | B25: 3.5.-ből EU-s támogatás | E25: =+'1.2.2.a.sz.mell. Hivatal köt.'!C25+'1.2.2.b.sz.mell. Hivatal önk.'!C25 -> 0
A26: 4. | B26: Közhatalmi bevételek (4.1.+4.2.+4.3.+4.4.) | C26: =+C27+C31+C32+C33 -> 0 | D26: =+D27+D31+D32+D33 -> 613 | E26: =+E27+E31+E32+E33 -> 0
A27: 4.1. | B27: Helyi adók (4.1.1.+...+4.1.3.) | E27: =SUM(E28:E30) -> 0
A28: 4.1.1. | B28: - Vagyoni típusú adók | E28: =+'1.2.2.a.sz.mell. Hivatal köt.'!C28+'1.2.2.b.sz.mell. Hivatal önk.'!C28 -> 0
A29: 4.1.2. | B29: - Termékek és szolgáltatások adói | E29: =+'1.2.2.a.sz.mell. Hivatal köt.'!C29+'1.2.2.b.sz.mell. Hivatal önk.'!C29 -> 0
A30: 4.1.3. | B30: - Értékesítési és forgalmi adók (iparűzési adó) | E30: =+'1.2.2.a.sz.mell. Hivatal köt.'!C30+'1.2.2.b.sz.mell. Hivatal önk.'!C30 -> 0
A31: 4.2. | B31: Gépjárműadó | E31: =+'1.2.2.a.sz.mell. Hivatal köt.'!C31+'1.2.2.b.sz.mell. Hivatal önk.'!C31 -> 0
A32: 4.3. | B32: Egyéb áruhasználati és szolgáltatási adók | E32: =+'1.2.2.a.sz.mell. Hivatal köt.'!C32+'1.2.2.b.sz.mell. Hivatal önk.'!C32 -> 0
A33: 4.4. | B33: Egyéb közhatalmi bevételek | D33: 613 | E33: =+'1.2.2.a.sz.mell. Hivatal köt.'!C33+'1.2.2.b.sz.mell. Hivatal önk.'!C33 -> 0
A34: 5. | B34: Működési bevételek (5.1.+…+ 5.11.) | C34: =SUM(C35:C45) -> 466 | D34: =SUM(D35:D45) -> 617 | E34: =SUM(E35:E45) -> 0
A35: 5.1. | B35: Készletértékesítés ellenértéke | C35: 27 | E35: =+'1.2.2.a.sz.mell. Hivatal köt.'!C35+'1.2.2.b.sz.mell. Hivatal önk.'!C35 -> 0
A36: 5.2. | B36: Szolgáltatások ellenértéke | C36: 291 | D36: 321 | E36: =+'1.2.2.a.sz.mell. Hivatal köt.'!C36+'1.2.2.b.sz.mell. Hivatal önk.'!C36 -> 0
A37: 5.3. | B37: Közvetített szolgáltatások értéke | C37: 7 | D37: 99 | E37: =+'1.2.2.a.sz.mell. Hivatal köt.'!C37+'1.2.2.b.sz.mell. Hivatal önk.'!C37 -> 0
A38: 5.4. | B38: Tulajdonosi bevételek | E38: =+'1.2.2.a.sz.mell. Hivatal köt.'!C38+'1.2.2.b.sz.mell. Hivatal önk.'!C38 -> 0
A39: 5.5. | B39: Ellátási díjak | E39: =+'1.2.2.a.sz.mell. Hivatal köt.'!C39+'1.2.2.b.sz.mell. Hivatal önk.'!C39 -> 0
A40: 5.6. | B40: Kiszámlázott általános forgalmi adó | E40: =+'1.2.2.a.sz.mell. Hivatal köt.'!C40+'1.2.2.b.sz.mell. Hivatal önk.'!C40 -> 0
A41: 5.7. | B41: Általános forgalmi adó visszatérítése | C41: 81 | D41: 116 | E41: =+'1.2.2.a.sz.mell. Hivatal köt.'!C41+'1.2.2.b.sz.mell. Hivatal önk.'!C41 -> 0
A42: 5.8. | B42: Kamatbevételek | C42: 60 | D42: 1 | E42: =+'1.2.2.a.sz.mell. Hivatal köt.'!C42+'1.2.2.b.sz.mell. Hivatal önk.'!C42 -> 0
A43: 5.9. | B43: Egyéb pénzügyi műveletek bevételei | E43: =+'1.2.2.a.sz.mell. Hivatal köt.'!C43+'1.2.2.b.sz.mell. Hivatal önk.'!C43 -> 0
A44: 5.10. | B44: Biztosító által fizetett kártérítés | E44: =+'1.2.2.a.sz.mell. Hivatal köt.'!C44+'1.2.2.b.sz.mell. Hivatal önk.'!C44 -> 0
A45: 5.11. | B45: Egyéb működési bevételek | D45: 80 | E45: =+'1.2.2.a.sz.mell. Hivatal köt.'!C45+'1.2.2.b.sz.mell. Hivatal önk.'!C45 -> 0
A46: 6. | B46: Felhalmozási bevételek (6.1.+…+6.5.) | E46: =SUM(E47:E51) -> 0
A47: 6.1. | B47: Immateriális javak értékesítése | E47: =+'1.2.2.a.sz.mell. Hivatal köt.'!C47+'1.2.2.b.sz.mell. Hivatal önk.'!C47 -> 0
A48: 6.2. | B48: Ingatlanok értékesítése | E48: =+'1.2.2.a.sz.mell. Hivatal köt.'!C48+'1.2.2.b.sz.mell. Hivatal önk.'!C48 -> 0
A49: 6.3. | B49: Egyéb tárgyi eszközök értékesítése | E49: =+'1.2.2.a.sz.mell. Hivatal köt.'!C49+'1.2.2.b.sz.mell. Hivatal önk.'!C49 -> 0
A50: 6.4. | B50: Részesedések értékesítése | E50: =+'1.2.2.a.sz.mell. Hivatal köt.'!C50+'1.2.2.b.sz.mell. Hivatal önk.'!C50 -> 0
A51: 6.5. | B51: Részesedések megszűnéséhez kapcsolódó bevételek | E51: =+'1.2.2.a.sz.mell. Hivatal köt.'!C51+'1.2.2.b.sz.mell. Hivatal önk.'!C51 -> 0
A52: 7. | B52: Működési célú átvett pénzeszközök (7.1. + … + 7.3.) | E52: =SUM(E53:E55) -> 0
A53: 7.1. | B53: Működési célú garancia- és kezességvállalásból megtérülések ÁH-n kívülről | E53: =+'1.2.2.a.sz.mell. Hivatal köt.'!C53+'1.2.2.b.sz.mell. Hivatal önk.'!C53 -> 0
A54: 7.2. | B54: Működési célú visszatérítendő támogatások, kölcsönök visszatér. ÁH-n kívülről | E54: =+'1.2.2.a.sz.mell. Hivatal köt.'!C54+'1.2.2.b.sz.mell. Hivatal önk.'!C54 -> 0
A55: 7.3. | B55: Egyéb működési célú átvett pénzeszköz | E55: =+'1.2.2.a.sz.mell. Hivatal köt.'!C55+'1.2.2.b.sz.mell. Hivatal önk.'!C55 -> 0
A56: 7.4. | B56: 7.3.-ból EU-s támogatás (közvetlen) | E56: =+'1.2.2.a.sz.mell. Hivatal köt.'!C56+'1.2.2.b.sz.mell. Hivatal önk.'!C56 -> 0
A57: 8. | B57: Felhalmozási célú átvett pénzeszközök (8.1.+8.2.+8.3.) | E57: =SUM(E58:E60) -> 0
A58: 8.1. | B58: Felhalm. célú garancia- és kezességvállalásból megtérülések ÁH-n kívülről | E58: =+'1.2.2.a.sz.mell. Hivatal köt.'!C58+'1.2.2.b.sz.mell. Hivatal önk.'!C58 -> 0
A59: 8.2. | B59: Felhalm. célú visszatérítendő támogatások, kölcsönök visszatér. ÁH-n kívülről | E59: =+'1.2.2.a.sz.mell. Hivatal köt.'!C59+'1.2.2.b.sz.mell. Hivatal önk.'!C59 -> 0
A60: 8.3. | B60: Egyéb felhalmozási célú átvett pénzeszköz | E60: =+'1.2.2.a.sz.mell. Hivatal köt.'!C60+'1.2.2.b.sz.mell. Hivatal önk.'!C60 -> 0
A61: 8.4. | B61: 8.3.-ból EU-s támogatás (közvetlen) | E61: =+'1.2.2.a.sz.mell. Hivatal köt.'!C61+'1.2.2.b.sz.mell. Hivatal önk.'!C61 -> 0
A62: 9. | B62: KÖLTSÉGVETÉSI BEVÉTELEK ÖSSZESEN: (1+…+8) | C62: =+C5+C12+C19+C26+C34+C46+C52+C57 -> 466 | D62: =+D5+D12+D19+D26+D34+D46+D52+D57 -> 3622 | E62: =+E5+E12+E19+E26+E34+E46+E52+E57 -> 2783
A63: 10. | B63: Hitel-, kölcsönfelvétel államháztartáson kívülről (10.1.+10.3.) | E63: =SUM(E64:E66) -> 0
A64: 10.1. | B64: Hosszú lejáratú hitelek, kölcsönök felvétele | E64: =+'1.2.2.a.sz.mell. Hivatal köt.'!C64+'1.2.2.b.sz.mell. Hivatal önk.'!C64 -> 0
A65: 10.2. | B65: Likviditási célú hitelek, kölcsönök felvétele pénzügyi vállalkozástól | E65: =+'1.2.2.a.sz.mell. Hivatal köt.'!C65+'1.2.2.b.sz.mell. Hivatal önk.'!C65 -> 0
A66: 10.3. | B66: Rövid lejáratú hitelek, kölcsönök felvétele | E66: =+'1.2.2.a.sz.mell. Hivatal köt.'!C66+'1.2.2.b.sz.mell. Hivatal önk.'!C66 -> 0
A67: 11. | B67: Belföldi értékpapírok bevételei (11.1. +…+ 11.4.) | E67: =SUM(E68:E71) -> 0
A68: 11.1. | B68: Forgatási célú belföldi értékpapírok beváltása, értékesítése | E68: =+'1.2.2.a.sz.mell. Hivatal köt.'!C68+'1.2.2.b.sz.mell. Hivatal önk.'!C68 -> 0
A69: 11.2. | B69: Forgatási célú belföldi értékpapírok kibocsátása | E69: =+'1.2.2.a.sz.mell. Hivatal köt.'!C69+'1.2.2.b.sz.mell. Hivatal önk.'!C69 -> 0
A70: 11.3. | B70: Befektetési célú belföldi értékpapírok beváltása, értékesítése | E70: =+C70 -> 0
A71: 11.4. | B71: Befektetési célú belföldi értékpapírok kibocsátása | E71: =+'1.2.2.a.sz.mell. Hivatal köt.'!C71+'1.2.2.b.sz.mell. Hivatal önk.'!C71 -> 0
A72: 12. | B72: Maradvány igénybevétele (12.1. + 12.2.) | C72: =SUM(C73:C74) -> 37382 | D72: =SUM(D73:D74) -> 466 | E72: =SUM(E73:E74) -> 6779
A73: 12.1. | B73: Előző év költségvetési maradványának igénybevétele | C73: 37382 | D73: 466 | E73: =+'1.2.2.a.sz.mell. Hivatal köt.'!C73+'1.2.2.b.sz.mell. Hivatal önk.'!C73 -> 6779
A74: 12.2. | B74: Előző év vállalkozási maradványának igénybevétele | E74: =+'1.2.2.a.sz.mell. Hivatal köt.'!C74+'1.2.2.b.sz.mell. Hivatal önk.'!C74 -> 0
A75: 13. | B75: Belföldi finanszírozás bevételei (13.1. + … + 13.3.) | C75: =SUM(C76:C78) -> 86329 | D75: =SUM(D76:D78) -> 122951 | E75: =SUM(E76:E78) -> 94516
A76: 13.1. | B76: Normatíva bevétel | C76: 81435 | D76: 71494 | E76: =+'1.2.2.a.sz.mell. Hivatal köt.'!C76+'1.2.2.b.sz.mell. Hivatal önk.'!C76 -> 61922
A77: 13.2. | B77: Önkormányzati támogatás Kenese | C77: 4894 | D77: 51457 | E77: =+'1.2.2.a.sz.mell. Hivatal köt.'!C77+'1.2.2.b.sz.mell. Hivatal önk.'!C77 -> 32594
A78: 13.3. | B78: Önkormányzati támogatás más önkormányzat | E78: =+'1.2.2.a.sz.mell. Hivatal köt.'!C78+'1.2.2.b.sz.mell. Hivatal önk.'!C78 -> 0
A79: 14. | B79: Külföldi finanszírozás bevételei (14.1.+…14.4.) | C79: =SUM(C80:C83) -> 0 | D79: =SUM(D80:D83) -> 0 | E79: =SUM(E80:E83) -> 0
A80: 14.1. | B80: Forgatási célú külföldi értékpapírok beváltása, értékesítése | E80: =+'1.2.2.a.sz.mell. Hivatal köt.'!C80+'1.2.2.b.sz.mell. Hivatal önk.'!C80 -> 0
A81: 14.2. | B81: Befektetési célú külföldi értékpapírok beváltása, értékesítése | E81: =+'1.2.2.a.sz.mell. Hivatal köt.'!C81+'1.2.2.b.sz.mell. Hivatal önk.'!C81 -> 0
A82: 14.3. | B82: Külföldi értékpapírok kibocsátása | E82: =+'1.2.2.a.sz.mell. Hivatal köt.'!C82+'1.2.2.b.sz.mell. Hivatal önk.'!C82 -> 0
A83: 14.4. | B83: Külföldi hitelek, kölcsönök felvétele | E83: =+'1.2.2.a.sz.mell. Hivatal köt.'!C83+'1.2.2.b.sz.mell. Hivatal önk.'!C83 -> 0
A84: 15. | B84: Váltóbevételek
A85: 16. | B85: Adóssághoz nem kapcsolódó származékos ügyletek bevételei
A86: 17. | B86: FINANSZÍROZÁSI BEVÉTELEK ÖSSZESEN: (10. + … +16.) | C86: =+C63+C67+C72+C75+C79+C85+C84 -> 123711 | D86: =+D63+D67+D72+D75+D79+D85+D84 -> 123417 | E86: =+E63+E67+E72+E75+E79+E85+E84 -> 101295
A87: 18. | B87: KÖLTSÉGVETÉSI ÉS FINANSZÍROZÁSI BEVÉTELEK ÖSSZESEN: (9+17) | C87: =+C62+C86 -> 124177 | D87: =+D62+D86 -> 127039 | E87: =+E62+E86 -> 104078
B89: K I A D Á S O K
E90: Ezer forintban
A91: Sor- szám | B91: Kiadási jogcímek | C91: 2013. évi tény adatok | D91: 2014.évi várható tényadatok | E91: =+CONCATENATE(LEFT(ÖSSZEFÜGGÉSEK!A93,4),". évi előirányzat") -> . évi előirányzat
A92: A | B92: B | E92: C
A93: 1. | B93: Működési költségvetés kiadásai (1.1+…+1.5.+1.18.) | C93: =C94+C95+C96+C97+C98+C111 -> 123660 | D93: =D94+D95+D96+D97+D98+D111 -> 116734 | E93: =E94+E95+E96+E97+E98+E111 -> 102078
A94: 1.1. | B94: Személyi juttatások | C94: 81855 | D94: 73702 | E94: =+'1.2.2.a.sz.mell. Hivatal köt.'!C94+'1.2.2.b.sz.mell. Hivatal önk.'!C94 -> 62382
A95: 1.2. | B95: Munkaadókat terhelő járulékok és szociális hozzájárulási adó | C95: 19333 | D95: 18487 | E95: =+'1.2.2.a.sz.mell. Hivatal köt.'!C95+'1.2.2.b.sz.mell. Hivatal önk.'!C95 -> 17125
A96: 1.3. | B96: Dologi kiadások | C96: 22472 | D96: 24482 | E96: =+'1.2.2.a.sz.mell. Hivatal köt.'!C96+'1.2.2.b.sz.mell. Hivatal önk.'!C96 -> 22571
A97: 1.4. | B97: Ellátottak pénzbeli juttatásai | E97: =+'1.2.2.a.sz.mell. Hivatal köt.'!C97+'1.2.2.b.sz.mell. Hivatal önk.'!C97 -> 0
A98: 1.5 | B98: Egyéb működési célú kiadások | D98: 63 | E98: =SUM(E99:E110) -> 0
A99: 1.6. | B99: - az 1.5-ből: - Előző évi elszámolásból származó befizetések | E99: =+'1.2.2.a.sz.mell. Hivatal köt.'!C99+'1.2.2.b.sz.mell. Hivatal önk.'!C99 -> 0
A100: 1.7. | B100: - Törvényi előíráson alapuló befizetések | E100: =+'1.2.2.a.sz.mell. Hivatal köt.'!C100+'1.2.2.b.sz.mell. Hivatal önk.'!C100 -> 0
A101: 1.8. | B101: - Elvonások és befizetések | E101: =+'1.2.2.a.sz.mell. Hivatal köt.'!C101+'1.2.2.b.sz.mell. Hivatal önk.'!C101 -> 0
...

Sheet 1.2.2.a.sz.mell. Hivatal köt.
B1: B E V É T E L E K
C2: Ezer forintban
A3: Sor- szám | B3: Bevételi jogcím | C3: =+CONCATENATE(LEFT(ÖSSZEFÜGGÉSEK!A5,4),". évi előirányzat") -> 2015. évi előirányzat
A4: A | B4: B | C4: C
A5: 1. | B5: Önkormányzat működési támogatásai (1.1.+…+.1.6.) | C5: =+C6+C7+C8+C9+C10+C11 -> 0
A6: 1.1. | B6: Helyi önkormányzatok működésének általános támogatása | C6: =+D6 -> 0
A7: 1.2. | B7: Önkormányzatok egyes köznevelési feladatainak támogatása | C7: =+D7 -> 0
A8: 1.3. | B8: Önkormányzatok szociális és gyermekjóléti feladatainak támogatása | C8: =+D8 -> 0
A9: 1.4. | B9: Önkormányzatok kulturális feladatainak támogatása | C9: =+D9 -> 0
A10: 1.5. | B10: Működési célú kvi támogatások és kiegészítő támogatások | C10: =+D10 -> 0
A11: 1.6. | B11: Elszámolásból származó bevételek | C11: =+D11 -> 0
A12: 2. | B12: Működési célú támogatások államháztartáson belülről (2.1.+…+.2.5.) | C12: =+C13+C14+C15+C16+C17 -> 2783
A13: 2.1. | B13: Elvonások és befizetések bevételei | C13: =+D13 -> 0
A14: 2.2. | B14: Működési célú garancia- és kezességvállalásból megtérülések | C14: =+D14 -> 0
A15: 2.3. | B15: Működési célú visszatérítendő támogatások, kölcsönök visszatérülése | C15: =+D15 -> 0
A16: 2.4. | B16: Működési célú visszatérítendő támogatások, kölcsönök igénybevétele | C16: =+D16 -> 0
A17: 2.5. | B17: Egyéb működési célú támogatások bevételei | C17: 2783
A18: 2.6. | B18: 2.5.-ből EU-s támogatás | C18: =+D18 -> 0
A19: 3. | B19: Felhalmozási célú támogatások államháztartáson belülről (3.1.+…+3.5.) | C19: =+C20+C21+C22+C23+C24 -> 0
A20: 3.1. | B20: Felhalmozási célú önkormányzati támogatások | C20: =+D20 -> 0
A21: 3.2. | B21: Felhalmozási célú garancia- és kezességvállalásból megtérülések | C21: =+D21 -> 0
A22: 3.3. | B22: Felhalmozási célú visszatérítendő támogatások, kölcsönök visszatérülése | C22: =+D22 -> 0
A23: 3.4. | B23: Felhalmozási célú visszatérítendő támogatások, kölcsönök igénybevétele | C23: =+D23 -> 0
A24: 3.5. | B24: Egyéb felhalmozási célú támogatások bevételei | C24: =+D24 -> 0
A25: 3.6. | B25: 3.5.-ből EU-s támogatás | C25: =+D25 -> 0
A26: 4. | B26: Közhatalmi bevételek (4.1.+4.2.+4.3.+4.4.) | C26: =+C27+C31+C32+C33 -> 0
A27: 4.1. | B27: Helyi adók (4.1.1.+...+4.1.3.) | C27: =SUM(C28:C30) -> 0
A28: 4.1.1. | B28: - Vagyoni típusú adók | C28: =+D28 -> 0
A29: 4.1.2. | B29: - Termékek és szolgáltatások adói | C29: =+D29 -> 0
A30: 4.1.3. | B30: - Értékesítési és forgalmi adók (iparűzési adó) | C30: =+D30 -> 0
A31: 4.2. | B31: Gépjárműadó | C31: =+D31 -> 0
A32: 4.3. | B32: Egyéb áruhasználati és szolgáltatási adók | C32: =+D32 -> 0
A33: 4.4. | B33: Egyéb közhatalmi bevételek | C33: =+D33 -> 0
A34: 5. | B34: Működési bevételek (5.1.+…+ 5.11.) | C34: =SUM(C35:C45) -> 0
A35: 5.1. | B35: Készletértékesítés ellenértéke | C35: =+D35 -> 0
A36: 5.2. | B36: Szolgáltatások ellenértéke | C36: =+D36 -> 0
A37: 5.3. | B37: Közvetített szolgáltatások értéke | C37: =+D37 -> 0
A38: 5.4. | B38: Tulajdonosi bevételek | C38: =+D38 -> 0
A39: 5.5. | B39: Ellátási díjak | C39: =+D39 -> 0
A40: 5.6. | B40: Kiszámlázott általános forgalmi adó | C40: =+D40 -> 0
A41: 5.7. | B41: Általános forgalmi adó visszatérítése | C41: =+D41 -> 0
A42: 5.8. | B42: Kamatbevételek | C42: =+D42 -> 0
A43: 5.9. | B43: Egyéb pénzügyi műveletek bevételei | C43: =+D43 -> 0
A44: 5.10. | B44: Biztosító által fizetett kártérítés | C44: =+D44 -> 0
A45: 5.11. | B45: Egyéb működési bevételek | C45: =+D45 -> 0
A46: 6. | B46: Felhalmozási bevételek (6.1.+…+6.5.) | C46: =SUM(C47:C51) -> 0
A47: 6.1. | B47: Immateriális javak értékesítése | C47: =+D47 -> 0
A48: 6.2. | B48: Ingatlanok értékesítése | C48: =+D48 -> 0
A49: 6.3. | B49: Egyéb tárgyi eszközök értékesítése | C49: =+D49 -> 0
A50: 6.4. | B50: Részesedések értékesítése | C50: =+D50 -> 0
A51: 6.5. | B51: Részesedések megszűnéséhez kapcsolódó bevételek | C51: =+D51 -> 0
A52: 7. | B52: Működési célú átvett pénzeszközök (7.1. + … + 7.3.) | C52: =SUM(C53:C55) -> 0
A53: 7.1. | B53: Működési célú garancia- és kezességvállalásból megtérülések ÁH-n kívülről | C53: =+D53 -> 0
A54: 7.2. | B54: Működési célú visszatérítendő támogatások, kölcsönök visszatér. ÁH-n kívülről | C54: =+D54 -> 0
A55: 7.3. | B55: Egyéb működési célú átvett pénzeszköz | C55: =+D55 -> 0
A56: 7.4. | B56: 7.3.-ból EU-s támogatás (közvetlen) | C56: =+D56 -> 0
A57: 8. | B57: Felhalmozási célú átvett pénzeszközök (8.1.+8.2.+8.3.) | C57: =SUM(C58:C60) -> 0
A58: 8.1. | B58: Felhalm. célú garancia- és kezességvállalásból megtérülések ÁH-n kívülről | C58: =+D58 -> 0
A59: 8.2. | B59: Felhalm. célú visszatérítendő támogatások, kölcsönök visszatér. ÁH-n kívülről | C59: =+D59 -> 0
A60: 8.3. | B60: Egyéb felhalmozási célú átvett pénzeszköz | C60: =+D60 -> 0
A61: 8.4. | B61: 8.3.-ból EU-s támogatás (közvetlen) | C61: =+D61 -> 0
A62: 9. | B62: KÖLTSÉGVETÉSI BEVÉTELEK ÖSSZESEN: (1+…+8) | C62: =+C5+C12+C19+C26+C34+C46+C52+C57 -> 2783
A63: 10. | B63: Hitel-, kölcsönfelvétel államháztartáson kívülről (10.1.+10.3.) | C63: =SUM(C64:C66) -> 0
A64: 10.1. | B64: Hosszú lejáratú hitelek, kölcsönök felvétele | C64: =+D64 -> 0
A65: 10.2. | B65: Likviditási célú hitelek, kölcsönök felvétele pénzügyi vállalkozástól | C65: =+D65 -> 0
A66: 10.3. | B66: Rövid lejáratú hitelek, kölcsönök felvétele | C66: =+D66 -> 0
A67: 11. | B67: Belföldi értékpapírok bevételei (11.1. +…+ 11.4.) | C67: =SUM(C68:C71) -> 0
A68: 11.1. | B68: Forgatási célú belföldi értékpapírok beváltása, értékesítése | C68: =+D68 -> 0
A69: 11.2. | B69: Forgatási célú belföldi értékpapírok kibocsátása | C69: =+D69 -> 0
A70: 11.3. | B70: Befektetési célú belföldi értékpapírok beváltása, értékesítése | C70: =+D70 -> 0
A71: 11.4. | B71: Befektetési célú belföldi értékpapírok kibocsátása | C71: =+D71 -> 0
A72: 12. | B72: Maradvány igénybevétele (12.1. + 12.2.) | C72: =SUM(C73:C74) -> 6779
A73: 12.1. | B73: Előző év költségvetési maradványának igénybevétele | C73: 6779
A74: 12.2. | B74: Előző év vállalkozási maradványának igénybevétele | C74: =+D74 -> 0
A75: 13. | B75: Belföldi finanszírozás bevételei (13.1. + … + 13.3.) | C75: =SUM(C76:C78) -> 92865
A76: 13.1. | B76: Normatíva bevétel | C76: 61922
A77: 13.2. | B77: Önkormányzati támogatás Kenese | C77: 30943
A78: 13.3. | B78: Önkormányzati támogatás más önkormányzat | C78: =+D78 -> 0
A79: 14. | B79: Külföldi finanszírozás bevételei (14.1.+…14.4.) | C79: =SUM(C80:C83) -> 0
A80: 14.1. | B80: Forgatási célú külföldi értékpapírok beváltása, értékesítése | C80: =+D80 -> 0
A81: 14.2. | B81: Befektetési célú külföldi értékpapírok beváltása, értékesítése | C81: =+D81 -> 0
A82: 14.3. | B82: Külföldi értékpapírok kibocsátása | C82: =+D82 -> 0
A83: 14.4. | B83: Külföldi hitelek, kölcsönök felvétele | C83: =+D83 -> 0
A84: 15. | B84: Váltóbevételek | C84: =+D84 -> 0
A85: 16. | B85: Adóssághoz nem kapcsolódó származékos ügyletek bevételei | C85: =+D85 -> 0
A86: 17. | B86: FINANSZÍROZÁSI BEVÉTELEK ÖSSZESEN: (10. + … +16.) | C86: =+C63+C67+C72+C75+C79+C85+C84 -> 99644
A87: 18. | B87: KÖLTSÉGVETÉSI ÉS FINANSZÍROZÁSI BEVÉTELEK ÖSSZESEN: (9+17) | C87: =+C62+C86 -> 102427
B89: K I A D Á S O K
C90: Ezer forintban
A91: Sor- szám | B91: Kiadási jogcímek | C91: =+C3 -> 2015. évi előirányzat
A92: A | B92: B | C92: C
A93: 1. | B93: Működési költségvetés kiadásai (1.1+…+1.5.+1.18.) | C93: =C94+C95+C96+C97+C98+C111 -> 100427
A94: 1.1. | B94: Személyi juttatások | C94: 61282
A95: 1.2. | B95: Munkaadókat terhelő járulékok és szociális hozzájárulási adó | C95: 16828
A96: 1.3. | B96: Dologi kiadások | C96: 22317
A97: 1.4. | B97: Ellátottak pénzbeli juttatásai | C97: =+D97 -> 0
A98: 1.5 | B98: Egyéb működési célú kiadások | C98: =SUM(C99:C110) -> 0
A99: 1.6. | B99: - az 1.5-ből: - Előző évi elszámolásból származó befizetések | C99: =+D99 -> 0
A100: 1.7. | B100: - Törvényi előíráson alapuló befizetések | C100: =+D100 -> 0
A101: 1.8. | B101: - Elvonások és befizetések | C101: =+D101 -> 0
...

Sheet 1.2.2.b.sz.mell. Hivatal önk.
B1: B E V É T E L E K
C2: Ezer forintban
A3: Sor- szám | B3: Bevételi jogcím | C3: =+CONCATENATE(LEFT(ÖSSZEFÜGGÉSEK!A5,4),". évi előirányzat") -> 2015. évi előirányzat
A4: A | B4: B | C4: C
A5: 1. | B5: Önkormányzat működési támogatásai (1.1.+…+.1.6.) | C5: =+C6+C7+C8+C9+C10+C11 -> 0
A6: 1.1. | B6: Helyi önkormányzatok működésének általános támogatása | C6: =+D6 -> 0
A7: 1.2. | B7: Önkormányzatok egyes köznevelési feladatainak támogatása | C7: =+D7 -> 0
A8: 1.3. | B8: Önkormányzatok szociális és gyermekjóléti feladatainak támogatása | C8: =+D8 -> 0
A9: 1.4. | B9: Önkormányzatok kulturális feladatainak támogatása | C9: =+D9 -> 0
A10: 1.5. | B10: Működési célú kvi támogatások és kiegészítő támogatások | C10: =+D10 -> 0
A11: 1.6. | B11: Elszámolásból származó bevételek | C11: =+D11 -> 0
A12: 2. | B12: Működési célú támogatások államháztartáson belülről (2.1.+…+.2.5.) | C12: =+C13+C14+C15+C16+C17 -> 0
A13: 2.1. | B13: Elvonások és befizetések bevételei | C13: =+D13 -> 0
A14: 2.2. | B14: Működési célú garancia- és kezességvállalásból megtérülések | C14: =+D14 -> 0
A15: 2.3. | B15: Működési célú visszatérítendő támogatások, kölcsönök visszatérülése | C15: =+D15 -> 0
A16: 2.4. | B16: Működési célú visszatérítendő támogatások, kölcsönök igénybevétele | C16: =+D16 -> 0
A17: 2.5. | B17: Egyéb működési célú támogatások bevételei | C17: =+D17 -> 0
A18: 2.6. | B18: 2.5.-ből EU-s támogatás | C18: =+D18 -> 0
A19: 3. | B19: Felhalmozási célú támogatások államháztartáson belülről (3.1.+…+3.5.) | C19: =+C20+C21+C22+C23+C24 -> 0
A20: 3.1. | B20: Felhalmozási célú önkormányzati támogatások | C20: =+D20 -> 0
A21: 3.2. | B21: Felhalmozási célú garancia- és kezességvállalásból megtérülések | C21: =+D21 -> 0
A22: 3.3. | B22: Felhalmozási célú visszatérítendő támogatások, kölcsönök visszatérülése | C22: =+D22 -> 0
A23: 3.4. | B23: Felhalmozási célú visszatérítendő támogatások, kölcsönök igénybevétele | C23: =+D23 -> 0
A24: 3.5. | B24: Egyéb felhalmozási célú támogatások bevételei | C24: =+D24 -> 0
A25: 3.6. | B25: 3.5.-ből EU-s támogatás | C25: =+D25 -> 0
A26: 4. | B26: Közhatalmi bevételek (4.1.+4.2.+4.3.+4.4.) | C26: =+C27+C31+C32+C33 -> 0
A27: 4.1. | B27: Helyi adók (4.1.1.+...+4.1.3.) | C27: =SUM(C28:C30) -> 0
A28: 4.1.1. | B28: - Vagyoni típusú adók | C28: =+D28 -> 0
A29: 4.1.2. | B29: - Termékek és szolgáltatások adói | C29: =+D29 -> 0
A30: 4.1.3. | B30: - Értékesítési és forgalmi adók (iparűzési adó) | C30: =+D30 -> 0
A31: 4.2. | B31: Gépjárműadó | C31: =+D31 -> 0
A32: 4.3. | B32: Egyéb áruhasználati és szolgáltatási adók | C32: =+D32 -> 0
A33: 4.4. | B33: Egyéb közhatalmi bevételek | C33: =+D33 -> 0
A34: 5. | B34: Működési bevételek (5.1.+…+ 5.11.) | C34: =SUM(C35:C45) -> 0
A35: 5.1. | B35: Készletértékesítés ellenértéke | C35: =+D35 -> 0
A36: 5.2. | B36: Szolgáltatások ellenértéke | C36: =+D36 -> 0
A37: 5.3. | B37: Közvetített szolgáltatások értéke | C37: =+D37 -> 0
A38: 5.4. | B38: Tulajdonosi bevételek | C38: =+D38 -> 0
A39: 5.5. | B39: Ellátási díjak | C39: =+D39 -> 0
A40: 5.6. | B40: Kiszámlázott általános forgalmi adó | C40: =+D40 -> 0
A41: 5.7. | B41: Általános forgalmi adó visszatérítése | C41: =+D41 -> 0
A42: 5.8. | B42: Kamatbevételek | C42: =+D42 -> 0
A43: 5.9. | B43: Egyéb pénzügyi műveletek bevételei | C43: =+D43 -> 0
A44: 5.10. | B44: Biztosító által fizetett kártérítés | C44: =+D44 -> 0
A45: 5.11. | B45: Egyéb működési bevételek | C45: =+D45 -> 0
A46: 6. | B46: Felhalmozási bevételek (6.1.+…+6.5.) | C46: =SUM(C47:C51) -> 0
A47: 6.1. | B47: Immateriális javak értékesítése | C47: =+D47 -> 0
A48: 6.2. | B48: Ingatlanok értékesítése | C48: =+D48 -> 0
A49: 6.3. | B49: Egyéb tárgyi eszközök értékesítése | C49: =+D49 -> 0
A50: 6.4. | B50: Részesedések értékesítése | C50: =+D50 -> 0
A51: 6.5. | B51: Részesedések megszűnéséhez kapcsolódó bevételek | C51: =+D51 -> 0
A52: 7. | B52: Működési célú átvett pénzeszközök (7.1. + … + 7.3.) | C52: =SUM(C53:C55) -> 0
A53: 7.1. | B53: Működési célú garancia- és kezességvállalásból megtérülések ÁH-n kívülről | C53: =+D53 -> 0
A54: 7.2. | B54: Működési célú visszatérítendő támogatások, kölcsönök visszatér. ÁH-n kívülről | C54: =+D54 -> 0
A55: 7.3. | B55: Egyéb működési célú átvett pénzeszköz | C55: =+D55 -> 0
A56: 7.4. | B56: 7.3.-ból EU-s támogatás (közvetlen) | C56: =+D56 -> 0
A57: 8. | B57: Felhalmozási célú átvett pénzeszközök (8.1.+8.2.+8.3.) | C57: =SUM(C58:C60) -> 0
A58: 8.1. | B58: Felhalm. célú garancia- és kezességvállalásból megtérülések ÁH-n kívülről | C58: =+D58 -> 0
A59: 8.2. | B59: Felhalm. célú visszatérítendő támogatások, kölcsönök visszatér. ÁH-n kívülről | C59: =+D59 -> 0
A60: 8.3. | B60: Egyéb felhalmozási célú átvett pénzeszköz | C60: =+D60 -> 0
A61: 8.4. | B61: 8.3.-ból EU-s támogatás (közvetlen) | C61: =+D61 -> 0
A62: 9. | B62: KÖLTSÉGVETÉSI BEVÉTELEK ÖSSZESEN: (1+…+8) | C62: =+C5+C12+C19+C26+C34+C46+C52+C57 -> 0
A63: 10. | B63: Hitel-, kölcsönfelvétel államháztartáson kívülről (10.1.+10.3.) | C63: =SUM(C64:C66) -> 0
A64: 10.1. | B64: Hosszú lejáratú hitelek, kölcsönök felvétele | C64: =+D64 -> 0
A65: 10.2. | B65: Likviditási célú hitelek, kölcsönök felvétele pénzügyi vállalkozástól | C65: =+D65 -> 0
A66: 10.3. | B66: Rövid lejáratú hitelek, kölcsönök felvétele | C66: =+D66 -> 0
A67: 11. | B67: Belföldi értékpapírok bevételei (11.1. +…+ 11.4.) | C67: =SUM(C68:C71) -> 0
A68: 11.1. | B68: Forgatási célú belföldi értékpapírok beváltása, értékesítése | C68: =+D68 -> 0
A69: 11.2. | B69: Forgatási célú belföldi értékpapírok kibocsátása | C69: =+D69 -> 0
A70: 11.3. | B70: Befektetési célú belföldi értékpapírok beváltása, értékesítése | C70: =+D70 -> 0
A71: 11.4. | B71: Befektetési célú belföldi értékpapírok kibocsátása | C71: =+D71 -> 0
A72: 12. | B72: Maradvány igénybevétele (12.1. + 12.2.) | C72: =SUM(C73:C74) -> 0
A73: 12.1. | B73: Előző év költségvetési maradványának igénybevétele | C73: =+D73 -> 0
A74: 12.2. | B74: Előző év vállalkozási maradványának igénybevétele | C74: =+D74 -> 0
A75: 13. | B75: Belföldi finanszírozás bevételei (13.1. + … + 13.3.) | C75: =SUM(C76:C78) -> 1651
A76: 13.1. | B76: Normatíva bevétel | C76: =+D76 -> 0
A77: 13.2. | B77: Önkormányzati támogatás Kenese | C77: 1651
A78: 13.3. | B78: Önkormányzati támogatás más önkormányzat | C78: =+D78 -> 0
A79: 14. | B79: Külföldi finanszírozás bevételei (14.1.+…14.4.) | C79: =SUM(C80:C83) -> 0
A80: 14.1. | B80: Forgatási célú külföldi értékpapírok beváltása, értékesítése | C80: =+D80 -> 0
A81: 14.2. | B81: Befektetési célú külföldi értékpapírok beváltása, értékesítése | C81: =+D81 -> 0
A82: 14.3. | B82: Külföldi értékpapírok kibocsátása | C82: =+D82 -> 0
A83: 14.4. | B83: Külföldi hitelek, kölcsönök felvétele | C83: =+D83 -> 0
A84: 15. | B84: Váltóbevételek | C84: =+D84 -> 0
A85: 16. | B85: Adóssághoz nem kapcsolódó származékos ügyletek bevételei | C85: =+D85 -> 0
A86: 17. | B86: FINANSZÍROZÁSI BEVÉTELEK ÖSSZESEN: (10. + … +16.) | C86: =+C63+C67+C72+C75+C79+C85+C84 -> 1651
A87: 18. | B87: KÖLTSÉGVETÉSI ÉS FINANSZÍROZÁSI BEVÉTELEK ÖSSZESEN: (9+17) | C87: =+C62+C86 -> 1651
B89: K I A D Á S O K
C90: Ezer forintban
A91: Sor- szám | B91: Kiadási jogcímek | C91: =+C3 -> 2015. évi előirányzat
A92: A | B92: B | C92: C
A93: 1. | B93: Működési költségvetés kiadásai (1.1+…+1.5.+1.18.) | C93: =C94+C95+C96+C97+C98+C111 -> 1651
A94: 1.1. | B94: Személyi juttatások | C94: 1100
A95: 1.2. | B95: Munkaadókat terhelő járulékok és szociális hozzájárulási adó | C95: 297
A96: 1.3. | B96: Dologi kiadások | C96: 254
A97: 1.4. | B97: Ellátottak pénzbeli juttatásai | C97: =+D97 -> 0
A98: 1.5 | B98: Egyéb működési célú kiadások | C98: =SUM(C99:C110) -> 0
A99: 1.6. | B99: - az 1.5-ből: - Előző évi elszámolásból származó befizetések | C99: =+D99 -> 0
A100: 1.7. | B100: - Törvényi előíráson alapuló befizetések | C100: =+D100 -> 0
A101: 1.8. | B101: - Elvonások és befizetések | C101: =+D101 -> 0
...

Sheet 1.2.3.sz.mell.Műv.össz.
B1: B E V É T E L E K
E2: Ezer forintban
A3: Sor- szám | B3: Bevételi jogcím | C3: 2013. évi tény adatok | D3: 2014.évi várható tényadatok | E3: =+CONCATENATE(LEFT(ÖSSZEFÜGGÉSEK!A5,4),". évi előirányzat") -> 2015. évi előirányzat
A4: A | B4: B | E4: C
A5: 1. | B5: Önkormányzat működési támogatásai (1.1.+…+.1.6.) | E5: =+E6+E7+E8+E9+E10+E11 -> 0
A6: 1.1. | B6: Helyi önkormányzatok működésének általános támogatása | E6: =+'1.2.3.a.sz.mell.Műv.köt.'!C6+'1.2.3.b.sz.mell.Műv.önk.'!C6 -> 0
A7: 1.2. | B7: Önkormányzatok egyes köznevelési feladatainak támogatása | E7: =+'1.2.3.a.sz.mell.Műv.köt.'!C7+'1.2.3.b.sz.mell.Műv.önk.'!C7 -> 0
A8: 1.3. | B8: Önkormányzatok szociális és gyermekjóléti feladatainak támogatása | E8: =+'1.2.3.a.sz.mell.Műv.köt.'!C8+'1.2.3.b.sz.mell.Műv.önk.'!C8 -> 0
A9: 1.4. | B9: Önkormányzatok kulturális feladatainak támogatása | E9: =+'1.2.3.a.sz.mell.Műv.köt.'!C9+'1.2.3.b.sz.mell.Műv.önk.'!C9 -> 0
A10: 1.5. | B10: Működési célú kvi támogatások és kiegészítő támogatások | E10: =+'1.2.3.a.sz.mell.Műv.köt.'!C10+'1.2.3.b.sz.mell.Műv.önk.'!C10 -> 0
A11: 1.6. | B11: Elszámolásból származó bevételek | E11: =+'1.2.3.a.sz.mell.Műv.köt.'!C11+'1.2.3.b.sz.mell.Műv.önk.'!C11 -> 0
A12: 2. | B12: Működési célú támogatások államháztartáson belülről (2.1.+…+.2.5.) | C12: =+C13+C14+C15+C16+C17 -> 0 | D12: =+D13+D14+D15+D16+D17 -> 119 | E12: =+E13+E14+E15+E16+E17 -> 0
A13: 2.1. | B13: Elvonások és befizetések bevételei | E13: =+'1.2.3.a.sz.mell.Műv.köt.'!C13+'1.2.3.b.sz.mell.Műv.önk.'!C13 -> 0
A14: 2.2. | B14: Működési célú garancia- és kezességvállalásból megtérülések | E14: =+'1.2.3.a.sz.mell.Műv.köt.'!C14+'1.2.3.b.sz.mell.Műv.önk.'!C14 -> 0
A15: 2.3. | B15: Működési célú visszatérítendő támogatások, kölcsönök visszatérülése | E15: =+'1.2.3.a.sz.mell.Műv.köt.'!C15+'1.2.3.b.sz.mell.Műv.önk.'!C15 -> 0
A16: 2.4. | B16: Működési célú visszatérítendő támogatások, kölcsönök igénybevétele | E16: =+'1.2.3.a.sz.mell.Műv.köt.'!C16+'1.2.3.b.sz.mell.Műv.önk.'!C16 -> 0
A17: 2.5. | B17: Egyéb működési célú támogatások bevételei | D17: 119 | E17: =+'1.2.3.a.sz.mell.Műv.köt.'!C17+'1.2.3.b.sz.mell.Műv.önk.'!C17 -> 0
A18: 2.6. | B18: 2.5.-ből EU-s támogatás | E18: =+'1.2.3.a.sz.mell.Műv.köt.'!C18+'1.2.3.b.sz.mell.Műv.önk.'!C18 -> 0
A19: 3. | B19: Felhalmozási célú támogatások államháztartáson belülről (3.1.+…+3.5.) | E19: =+E20+E21+E22+E23+E24 -> 0
A20: 3.1. | B20: Felhalmozási célú önkormányzati támogatások | E20: =+'1.2.3.a.sz.mell.Műv.köt.'!C20+'1.2.3.b.sz.mell.Műv.önk.'!C20 -> 0
A21: 3.2. | B21: Felhalmozási célú garancia- és kezességvállalásból megtérülések | E21: =+'1.2.3.a.sz.mell.Műv.köt.'!C21+'1.2.3.b.sz.mell.Műv.önk.'!C21 -> 0
A22: 3.3. | B22: Felhalmozási célú visszatérítendő támogatások, kölcsönök visszatérülése | E22: =+'1.2.3.a.sz.mell.Műv.köt.'!C22+'1.2.3.b.sz.mell.Műv.önk.'!C22 -> 0
A23: 3.4. | B23: Felhalmozási célú visszatérítendő támogatások, kölcsönök igénybevétele | E23: =+'1.2.3.a.sz.mell.Műv.köt.'!C23+'1.2.3.b.sz.mell.Műv.önk.'!C23 -> 0
A24: 3.5. | B24: Egyéb felhalmozási célú támogatások bevételei | E24: =+'1.2.3.a.sz.mell.Műv.köt.'!C24+'1.2.3.b.sz.mell.Műv.önk.'!C24 -> 0
A25: 3.6. | B25: 3.5.-ből EU-s támogatás | E25: =+'1.2.3.a.sz.mell.Műv.köt.'!C25+'1.2.3.b.sz.mell.Műv.önk.'!C25 -> 0
A26: 4. | B26: Közhatalmi bevételek (4.1.+4.2.+4.3.+4.4.) | E26: =+E27+E31+E32+E33 -> 0
A27: 4.1. | B27: Helyi adók (4.1.1.+...+4.1.3.) | E27: =SUM(E28:E30) -> 0
A28: 4.1.1. | B28: - Vagyoni típusú adók | E28: =+'1.2.3.a.sz.mell.Műv.köt.'!C28+'1.2.3.b.sz.mell.Műv.önk.'!C28 -> 0
A29: 4.1.2. | B29: - Termékek és szolgáltatások adói | E29: =+'1.2.3.a.sz.mell.Műv.köt.'!C29+'1.2.3.b.sz.mell.Műv.önk.'!C29 -> 0
A30: 4.1.3. | B30: - Értékesítési és forgalmi adók (iparűzési adó) | E30: =+'1.2.3.a.sz.mell.Műv.köt.'!C30+'1.2.3.b.sz.mell.Műv.önk.'!C30 -> 0
A31: 4.2. | B31: Gépjárműadó | E31: =+'1.2.3.a.sz.mell.Műv.köt.'!C31+'1.2.3.b.sz.mell.Műv.önk.'!C31 -> 0
A32: 4.3. | B32: Egyéb áruhasználati és szolgáltatási adók | E32: =+'1.2.3.a.sz.mell.Műv.köt.'!C32+'1.2.3.b.sz.mell.Műv.önk.'!C32 -> 0
A33: 4.4. | B33: Egyéb közhatalmi bevételek | E33: =+'1.2.3.a.sz.mell.Műv.köt.'!C33+'1.2.3.b.sz.mell.Műv.önk.'!C33 -> 0
A34: 5. | B34: Működési bevételek (5.1.+…+ 5.11.) | C34: =SUM(C35:C45) -> 2520 | D34: =SUM(D35:D45) -> 3329 | E34: =SUM(E35:E45) -> 9000
A35: 5.1. | B35: Készletértékesítés ellenértéke | C35: 546 | D35: 24 | E35: =+'1.2.3.a.sz.mell.Műv.köt.'!C35+'1.2.3.b.sz.mell.Műv.önk.'!C35 -> 0
A36: 5.2. | B36: Szolgáltatások ellenértéke | D36: 853 | E36: =+'1.2.3.a.sz.mell.Műv.köt.'!C36+'1.2.3.b.sz.mell.Műv.önk.'!C36 -> 0
A37: 5.3. | B37: Közvetített szolgáltatások értéke | D37: 107 | E37: =+'1.2.3.a.sz.mell.Műv.köt.'!C37+'1.2.3.b.sz.mell.Műv.önk.'!C37 -> 0
A38: 5.4. | B38: Tulajdonosi bevételek | C38: 1944 | D38: 1078 | E38: =+'1.2.3.a.sz.mell.Műv.köt.'!C38+'1.2.3.b.sz.mell.Műv.önk.'!C38 -> 0
A39: 5.5. | B39: Ellátási díjak | E39: =+'1.2.3.a.sz.mell.Műv.köt.'!C39+'1.2.3.b.sz.mell.Műv.önk.'!C39 -> 0
A40: 5.6. | B40: Kiszámlázott általános forgalmi adó | E40: =+'1.2.3.a.sz.mell.Műv.köt.'!C40+'1.2.3.b.sz.mell.Műv.önk.'!C40 -> 0
A41: 5.7. | B41: Általános forgalmi adó visszatérítése | E41: =+'1.2.3.a.sz.mell.Műv.köt.'!C41+'1.2.3.b.sz.mell.Műv.önk.'!C41 -> 0
A42: 5.8. | B42: Kamatbevételek | C42: 30 | D42: 36 | E42: =+'1.2.3.a.sz.mell.Műv.köt.'!C42+'1.2.3.b.sz.mell.Műv.önk.'!C42 -> 0
A43: 5.9. | B43: Egyéb pénzügyi műveletek bevételei | E43: =+'1.2.3.a.sz.mell.Műv.köt.'!C43+'1.2.3.b.sz.mell.Műv.önk.'!C43 -> 0
A44: 5.10. | B44: Biztosító által fizetett kártérítés | E44: =+'1.2.3.a.sz.mell.Műv.köt.'!C44+'1.2.3.b.sz.mell.Műv.önk.'!C44 -> 0
A45: 5.11. | B45: Egyéb működési bevételek | D45: 1231 | E45: =+'1.2.3.a.sz.mell.Műv.köt.'!C45+'1.2.3.b.sz.mell.Műv.önk.'!C45 -> 9000
A46: 6. | B46: Felhalmozási bevételek (6.1.+…+6.5.) | E46: =SUM(E47:E51) -> 0
A47: 6.1. | B47: Immateriális javak értékesítése | E47: =+'1.2.3.a.sz.mell.Műv.köt.'!C47+'1.2.3.b.sz.mell.Műv.önk.'!C47 -> 0
A48: 6.2. | B48: Ingatlanok értékesítése | E48: =+'1.2.3.a.sz.mell.Műv.köt.'!C48+'1.2.3.b.sz.mell.Műv.önk.'!C48 -> 0
A49: 6.3. | B49: Egyéb tárgyi eszközök értékesítése | E49: =+'1.2.3.a.sz.mell.Műv.köt.'!C49+'1.2.3.b.sz.mell.Műv.önk.'!C49 -> 0
A50: 6.4. | B50: Részesedések értékesítése | E50: =+'1.2.3.a.sz.mell.Műv.köt.'!C50+'1.2.3.b.sz.mell.Műv.önk.'!C50 -> 0
A51: 6.5. | B51: Részesedések megszűnéséhez kapcsolódó bevételek | E51: =+'1.2.3.a.sz.mell.Műv.köt.'!C51+'1.2.3.b.sz.mell.Műv.önk.'!C51 -> 0
A52: 7. | B52: Működési célú átvett pénzeszközök (7.1. + … + 7.3.) | C52: =SUM(C53:C55) -> 45348 | D52: =SUM(D53:D55) -> 8404 | E52: =SUM(E53:E55) -> 9000
A53: 7.1. | B53: Működési célú garancia- és kezességvállalásból megtérülések ÁH-n kívülről | E53: =+'1.2.3.a.sz.mell.Műv.köt.'!C53+'1.2.3.b.sz.mell.Műv.önk.'!C53 -> 0
A54: 7.2. | B54: Működési célú visszatérítendő támogatások, kölcsönök visszatér. ÁH-n kívülről | E54: =+'1.2.3.a.sz.mell.Műv.köt.'!C54+'1.2.3.b.sz.mell.Műv.önk.'!C54 -> 0
A55: 7.3. | B55: Egyéb működési célú átvett pénzeszköz | C55: 45348 | D55: 8404 | E55: =+'1.2.3.a.sz.mell.Műv.köt.'!C55+'1.2.3.b.sz.mell.Műv.önk.'!C55 -> 9000
A56: 7.4. | B56: 7.3.-ból EU-s támogatás (közvetlen) | C56: 45348 | D56: 8404 | E56: =+'1.2.3.a.sz.mell.Műv.köt.'!C56+'1.2.3.b.sz.mell.Műv.önk.'!C56 -> 9000
A57: 8. | B57: Felhalmozási célú átvett pénzeszközök (8.1.+8.2.+8.3.) | E57: =SUM(E58:E60) -> 0
A58: 8.1. | B58: Felhalm. célú garancia- és kezességvállalásból megtérülések ÁH-n kívülről | E58: =+'1.2.3.a.sz.mell.Műv.köt.'!C58+'1.2.3.b.sz.mell.Műv.önk.'!C58 -> 0
A59: 8.2. | B59: Felhalm. célú visszatérítendő támogatások, kölcsönök visszatér. ÁH-n kívülről | E59: =+'1.2.3.a.sz.mell.Műv.köt.'!C59+'1.2.3.b.sz.mell.Műv.önk.'!C59 -> 0
A60: 8.3. | B60: Egyéb felhalmozási célú átvett pénzeszköz | E60: =+'1.2.3.a.sz.mell.Műv.köt.'!C60+'1.2.3.b.sz.mell.Műv.önk.'!C60 -> 0
A61: 8.4. | B61: 8.3.-ból EU-s támogatás (közvetlen) | E61: =+'1.2.3.a.sz.mell.Műv.köt.'!C61+'1.2.3.b.sz.mell.Műv.önk.'!C61 -> 0
A62: 9. | B62: KÖLTSÉGVETÉSI BEVÉTELEK ÖSSZESEN: (1+…+8) | C62: =+C5+C12+C19+C26+C34+C46+C52+C57 -> 47868 | D62: =+D5+D12+D19+D26+D34+D46+D52+D57 -> 11852 | E62: =+E5+E12+E19+E26+E34+E46+E52+E57 -> 18000
A63: 10. | B63: Hitel-, kölcsönfelvétel államháztartáson kívülről (10.1.+10.3.) | E63: =SUM(E64:E66) -> 0
A64: 10.1. | B64: Hosszú lejáratú hitelek, kölcsönök felvétele | E64: =+'1.2.3.a.sz.mell.Műv.köt.'!C64+'1.2.3.b.sz.mell.Műv.önk.'!C64 -> 0
A65: 10.2. | B65: Likviditási célú hitelek, kölcsönök felvétele pénzügyi vállalkozástól | E65: =+'1.2.3.a.sz.mell.Műv.köt.'!C65+'1.2.3.b.sz.mell.Műv.önk.'!C65 -> 0
A66: 10.3. | B66: Rövid lejáratú hitelek, kölcsönök felvétele | E66: =+'1.2.3.a.sz.mell.Műv.köt.'!C66+'1.2.3.b.sz.mell.Műv.önk.'!C66 -> 0
A67: 11. | B67: Belföldi értékpapírok bevételei (11.1. +…+ 11.4.) | E67: =SUM(E68:E71) -> 0
A68: 11.1. | B68: Forgatási célú belföldi értékpapírok beváltása, értékesítése | E68: =+'1.2.3.a.sz.mell.Műv.köt.'!C68+'1.2.3.b.sz.mell.Műv.önk.'!C68 -> 0
A69: 11.2. | B69: Forgatási célú belföldi értékpapírok kibocsátása | E69: =+'1.2.3.a.sz.mell.Műv.köt.'!C69+'1.2.3.b.sz.mell.Műv.önk.'!C69 -> 0
A70: 11.3. | B70: Befektetési célú belföldi értékpapírok beváltása, értékesítése | E70: =+'1.2.3.a.sz.mell.Műv.köt.'!C70+'1.2.3.b.sz.mell.Műv.önk.'!C70 -> 0
A71: 11.4. | B71: Befektetési célú belföldi értékpapírok kibocsátása | E71: =+'1.2.3.a.sz.mell.Műv.köt.'!C71+'1.2.3.b.sz.mell.Műv.önk.'!C71 -> 0
A72: 12. | B72: Maradvány igénybevétele (12.1. + 12.2.) | C72: =SUM(C73:C74) -> 7934 | D72: =SUM(D73:D74) -> 16236 | E72: =SUM(E73:E74) -> 131
A73: 12.1. | B73: Előző év költségvetési maradványának igénybevétele | C73: 7934 | D73: 16236 | E73: =+'1.2.3.a.sz.mell.Műv.köt.'!C73+'1.2.3.b.sz.mell.Műv.önk.'!C73 -> 131
A74: 12.2. | B74: Előző év vállalkozási maradványának igénybevétele | E74: =+'1.2.3.a.sz.mell.Műv.köt.'!C74+'1.2.3.b.sz.mell.Műv.önk.'!C74 -> 0
A75: 13. | B75: Belföldi finanszírozás bevételei (13.1. + … + 13.3.) | C75: =SUM(C76:C78) -> 50911 | D75: =SUM(D76:D78) -> 51319 | E75: =SUM(E76:E78) -> 28215
A76: 13.1. | B76: Normatíva bevétel | C76: 4414 | E76: =+'1.2.3.a.sz.mell.Műv.köt.'!C76+'1.2.3.b.sz.mell.Műv.önk.'!C76 -> 2997
A77: 13.2. | B77: Önkormányzati támogatás Kenese | C77: 46497 | D77: 51319 | E77: =+'1.2.3.a.sz.mell.Műv.köt.'!C77+'1.2.3.b.sz.mell.Műv.önk.'!C77 -> 25218
A78: 13.3. | B78: Önkormányzati támogatás más önkormányzat | E78: =+'1.2.3.a.sz.mell.Műv.köt.'!C78+'1.2.3.b.sz.mell.Műv.önk.'!C78 -> 0
A79: 14. | B79: Külföldi finanszírozás bevételei (14.1.+…14.4.) | E79: =SUM(E80:E83) -> 0
A80: 14.1. | B80: Forgatási célú külföldi értékpapírok beváltása, értékesítése | E80: =+'1.2.3.a.sz.mell.Műv.köt.'!C80+'1.2.3.b.sz.mell.Műv.önk.'!C80 -> 0
A81: 14.2. | B81: Befektetési célú külföldi értékpapírok beváltása, értékesítése | E81: =+'1.2.3.a.sz.mell.Műv.köt.'!C81+'1.2.3.b.sz.mell.Műv.önk.'!C81 -> 0
A82: 14.3. | B82: Külföldi értékpapírok kibocsátása | E82: =+'1.2.3.a.sz.mell.Műv.köt.'!C82+'1.2.3.b.sz.mell.Műv.önk.'!C82 -> 0
A83: 14.4. | B83: Külföldi hitelek, kölcsönök felvétele | E83: =+'1.2.3.a.sz.mell.Műv.köt.'!C83+'1.2.3.b.sz.mell.Műv.önk.'!C83 -> 0
A84: 15. | B84: Váltóbevételek | E84: =+'1.2.3.a.sz.mell.Műv.köt.'!C84+'1.2.3.b.sz.mell.Műv.önk.'!C84 -> 0
A85: 16. | B85: Adóssághoz nem kapcsolódó származékos ügyletek bevételei | E85: =+'1.2.3.a.sz.mell.Műv.köt.'!C85+'1.2.3.b.sz.mell.Műv.önk.'!C85 -> 0
A86: 17. | B86: FINANSZÍROZÁSI BEVÉTELEK ÖSSZESEN: (10. + … +16.) | C86: =+C63+C67+C72+C75+C79+C85+C84 -> 58845 | D86: =+D63+D67+D72+D75+D79+D85+D84 -> 67555 | E86: =+E63+E67+E72+E75+E79+E85+E84 -> 28346
A87: 18. | B87: KÖLTSÉGVETÉSI ÉS FINANSZÍROZÁSI BEVÉTELEK ÖSSZESEN: (9+17) | C87: =+C62+C86 -> 106713 | D87: =+D62+D86 -> 79407 | E87: =+E62+E86 -> 46346
B89: K I A D Á S O K
E90: Ezer forintban
A91: Sor- szám | B91: Kiadási jogcímek | C91: 2013. évi tény adatok | D91: 2014.évi várható tényadatok | E91: =+CONCATENATE(LEFT(ÖSSZEFÜGGÉSEK!A93,4),". évi előirányzat") -> . évi előirányzat
A92: A | B92: B | E92: C
A93: 1. | B93: Működési költségvetés kiadásai (1.1+…+1.5.+1.18.) | C93: =C94+C95+C96+C97+C98+C111 -> 86269 | D93: =D94+D95+D96+D97+D98+D111 -> 78879 | E93: =E94+E95+E96+E97+E98+E111 -> 45846
A94: 1.1. | B94: Személyi juttatások | C94: 21153 | D94: 21228 | E94: =+'1.2.3.a.sz.mell.Műv.köt.'!C94+'1.2.3.b.sz.mell.Műv.önk.'!C94 -> 13066
A95: 1.2. | B95: Munkaadókat terhelő járulékok és szociális hozzájárulási adó | C95: 5550 | D95: 5459 | E95: =+'1.2.3.a.sz.mell.Műv.köt.'!C95+'1.2.3.b.sz.mell.Műv.önk.'!C95 -> 3586
A96: 1.3. | B96: Dologi kiadások | C96: 59566 | D96: 51177 | E96: =+'1.2.3.a.sz.mell.Műv.köt.'!C96+'1.2.3.b.sz.mell.Műv.önk.'!C96 -> 29194
A97: 1.4. | B97: Ellátottak pénzbeli juttatásai | E97: =+'1.2.3.a.sz.mell.Műv.köt.'!C97+'1.2.3.b.sz.mell.Műv.önk.'!C97 -> 0
A98: 1.5 | B98: Egyéb működési célú kiadások | D98: =SUM(D99:D110) -> 1015 | E98: =SUM(E99:E110) -> 0
A99: 1.6. | B99: - az 1.5-ből: - Előző évi elszámolásból származó befizetések | E99: =+'1.2.3.a.sz.mell.Műv.köt.'!C99+'1.2.3.b.sz.mell.Műv.önk.'!C99 -> 0
A100: 1.7. | B100: - Törvényi előíráson alapuló befizetések | E100: =+'1.2.3.a.sz.mell.Műv.köt.'!C100+'1.2.3.b.sz.mell.Műv.önk.'!C100 -> 0
A101: 1.8. | B101: - Elvonások és befizetések | E101: =+'1.2.3.a.sz.mell.Műv.köt.'!C101+'1.2.3.b.sz.mell.Műv.önk.'!C101 -> 0
...

Sheet 1.2.3.a.sz.mell.Műv.köt.
B1: B E V É T E L E K
C2: Ezer forintban
A3: Sor- szám | B3: Bevételi jogcím | C3: =+CONCATENATE(LEFT(ÖSSZEFÜGGÉSEK!A5,4),". évi előirányzat") -> 2015. évi előirányzat
A4: A | B4: B | C4: C
A5: 1. | B5: Önkormányzat működési támogatásai (1.1.+…+.1.6.) | C5: =+C6+C7+C8+C9+C10+C11 -> 0
A6: 1.1. | B6: Helyi önkormányzatok működésének általános támogatása | C6: =+D6 -> 0
A7: 1.2. | B7: Önkormányzatok egyes köznevelési feladatainak támogatása | C7: =+D7 -> 0
A8: 1.3. | B8: Önkormányzatok szociális és gyermekjóléti feladatainak támogatása | C8: =+D8 -> 0
A9: 1.4. | B9: Önkormányzatok kulturális feladatainak támogatása | C9: =+D9 -> 0
A10: 1.5. | B10: Működési célú kvi támogatások és kiegészítő támogatások | C10: =+D10 -> 0
A11: 1.6. | B11: Elszámolásból származó bevételek | C11: =+D11 -> 0
A12: 2. | B12: Működési célú támogatások államháztartáson belülről (2.1.+…+.2.5.) | C12: =+C13+C14+C15+C16+C17 -> 0
A13: 2.1. | B13: Elvonások és befizetések bevételei | C13: =+D13 -> 0
A14: 2.2. | B14: Működési célú garancia- és kezességvállalásból megtérülések | C14: =+D14 -> 0
A15: 2.3. | B15: Működési célú visszatérítendő támogatások, kölcsönök visszatérülése | C15: =+D15 -> 0
A16: 2.4. | B16: Működési célú visszatérítendő támogatások, kölcsönök igénybevétele | C16: =+D16 -> 0
A17: 2.5. | B17: Egyéb működési célú támogatások bevételei | C17: =+D17 -> 0
A18: 2.6. | B18: 2.5.-ből EU-s támogatás | C18: =+D18 -> 0
A19: 3. | B19: Felhalmozási célú támogatások államháztartáson belülről (3.1.+…+3.5.) | C19: =+C20+C21+C22+C23+C24 -> 0
A20: 3.1. | B20: Felhalmozási célú önkormányzati támogatások | C20: =+D20 -> 0
A21: 3.2. | B21: Felhalmozási célú garancia- és kezességvállalásból megtérülések | C21: =+D21 -> 0
A22: 3.3. | B22: Felhalmozási célú visszatérítendő támogatások, kölcsönök visszatérülése | C22: =+D22 -> 0
A23: 3.4. | B23: Felhalmozási célú visszatérítendő támogatások, kölcsönök igénybevétele | C23: =+D23 -> 0
A24: 3.5. | B24: Egyéb felhalmozási célú támogatások bevételei | C24: =+D24 -> 0
A25: 3.6. | B25: 3.5.-ből EU-s támogatás | C25: =+D25 -> 0
A26: 4. | B26: Közhatalmi bevételek (4.1.+4.2.+4.3.+4.4.) | C26: =+C27+C31+C32+C33 -> 0
A27: 4.1. | B27: Helyi adók (4.1.1.+...+4.1.3.) | C27: =SUM(C28:C30) -> 0
A28: 4.1.1. | B28: - Vagyoni típusú adók | C28: =+D28 -> 0
A29: 4.1.2. | B29: - Termékek és szolgáltatások adói | C29: =+D29 -> 0
A30: 4.1.3. | B30: - Értékesítési és forgalmi adók (iparűzési adó) | C30: =+D30 -> 0
A31: 4.2. | B31: Gépjárműadó | C31: =+D31 -> 0
A32: 4.3. | B32: Egyéb áruhasználati és szolgáltatási adók | C32: =+D32 -> 0
A33: 4.4. | B33: Egyéb közhatalmi bevételek | C33: =+D33 -> 0
A34: 5. | B34: Működési bevételek (5.1.+…+ 5.11.) | C34: =SUM(C35:C45) -> 0
A35: 5.1. | B35: Készletértékesítés ellenértéke | C35: =+D35 -> 0
A36: 5.2. | B36: Szolgáltatások ellenértéke | C36: =+D36 -> 0
A37: 5.3. | B37: Közvetített szolgáltatások értéke | C37: =+D37 -> 0
A38: 5.4. | B38: Tulajdonosi bevételek | C38: =+D38 -> 0
A39: 5.5. | B39: Ellátási díjak | C39: =+D39 -> 0
A40: 5.6. | B40: Kiszámlázott általános forgalmi adó | C40: =+D40 -> 0
A41: 5.7. | B41: Általános forgalmi adó visszatérítése | C41: =+D41 -> 0
A42: 5.8. | B42: Kamatbevételek | C42: =+D42 -> 0
A43: 5.9. | B43: Egyéb pénzügyi műveletek bevételei | C43: =+D43 -> 0
A44: 5.10. | B44: Biztosító által fizetett kártérítés | C44: =+D44 -> 0
A45: 5.11. | B45: Egyéb működési bevételek | C45: =+D45 -> 0
A46: 6. | B46: Felhalmozási bevételek (6.1.+…+6.5.) | C46: =SUM(C47:C51) -> 0
A47: 6.1. | B47: Immateriális javak értékesítése | C47: =+D47 -> 0
A48: 6.2. | B48: Ingatlanok értékesítése | C48: =+D48 -> 0
A49: 6.3. | B49: Egyéb tárgyi eszközök értékesítése | C49: =+D49 -> 0
A50: 6.4. | B50: Részesedések értékesítése | C50: =+D50 -> 0
A51: 6.5. | B51: Részesedések megszűnéséhez kapcsolódó bevételek | C51: =+D51 -> 0
A52: 7. | B52: Működési célú átvett pénzeszközök (7.1. + … + 7.3.) | C52: =SUM(C53:C55) -> 9000
A53: 7.1. | B53: Működési célú garancia- és kezességvállalásból megtérülések ÁH-n kívülről | C53: =+D53 -> 0
A54: 7.2. | B54: Működési célú visszatérítendő támogatások, kölcsönök visszatér. ÁH-n kívülről | C54: =+D54 -> 0
A55: 7.3. | B55: Egyéb működési célú átvett pénzeszköz | C55: 9000
A56: 7.4. | B56: 7.3.-ból EU-s támogatás (közvetlen) | C56: 9000
A57: 8. | B57: Felhalmozási célú átvett pénzeszközök (8.1.+8.2.+8.3.) | C57: =SUM(C58:C60) -> 0
A58: 8.1. | B58: Felhalm. célú garancia- és kezességvállalásból megtérülések ÁH-n kívülről | C58: =+D58 -> 0
A59: 8.2. | B59: Felhalm. célú visszatérítendő támogatások, kölcsönök visszatér. ÁH-n kívülről | C59: =+D59 -> 0
A60: 8.3. | B60: Egyéb felhalmozási célú átvett pénzeszköz | C60: =+D60 -> 0
A61: 8.4. | B61: 8.3.-ból EU-s támogatás (közvetlen) | C61: =+D61 -> 0
A62: 9. | B62: KÖLTSÉGVETÉSI BEVÉTELEK ÖSSZESEN: (1+…+8) | C62: =+C5+C12+C19+C26+C34+C46+C52+C57 -> 9000
A63: 10. | B63: Hitel-, kölcsönfelvétel államháztartáson kívülről (10.1.+10.3.) | C63: =SUM(C64:C66) -> 0
A64: 10.1. | B64: Hosszú lejáratú hitelek, kölcsönök felvétele | C64: =+D64 -> 0
A65: 10.2. | B65: Likviditási célú hitelek, kölcsönök felvétele pénzügyi vállalkozástól | C65: =+D65 -> 0
A66: 10.3. | B66: Rövid lejáratú hitelek, kölcsönök felvétele | C66: =+D66 -> 0
A67: 11. | B67: Belföldi értékpapírok bevételei (11.1. +…+ 11.4.) | C67: =SUM(C68:C71) -> 0
A68: 11.1. | B68: Forgatási célú belföldi értékpapírok beváltása, értékesítése | C68: =+D68 -> 0
A69: 11.2. | B69: Forgatási célú belföldi értékpapírok kibocsátása | C69: =+D69 -> 0
A70: 11.3. | B70: Befektetési célú belföldi értékpapírok beváltása, értékesítése | C70: =+D70 -> 0
A71: 11.4. | B71: Befektetési célú belföldi értékpapírok kibocsátása | C71: =+D71 -> 0
A72: 12. | B72: Maradvány igénybevétele (12.1. + 12.2.) | C72: =SUM(C73:C74) -> 131
A73: 12.1. | B73: Előző év költségvetési maradványának igénybevétele | C73: 131
A74: 12.2. | B74: Előző év vállalkozási maradványának igénybevétele | C74: =+D74 -> 0
A75: 13. | B75: Belföldi finanszírozás bevételei (13.1. + … + 13.3.) | C75: =SUM(C76:C78) -> 10570
A76: 13.1. | B76: Normatíva bevétel | C76: 2997
A77: 13.2. | B77: Önkormányzati támogatás Kenese | C77: 7573
A78: 13.3. | B78: Önkormányzati támogatás más önkormányzat | C78: =+D78 -> 0
A79: 14. | B79: Külföldi finanszírozás bevételei (14.1.+…14.4.) | C79: =SUM(C80:C83) -> 0
A80: 14.1. | B80: Forgatási célú külföldi értékpapírok beváltása, értékesítése | C80: =+D80 -> 0
A81: 14.2. | B81: Befektetési célú külföldi értékpapírok beváltása, értékesítése | C81: =+D81 -> 0
A82: 14.3. | B82: Külföldi értékpapírok kibocsátása | C82: =+D82 -> 0
A83: 14.4. | B83: Külföldi hitelek, kölcsönök felvétele | C83: =+D83 -> 0
A84: 15. | B84: Váltóbevételek | C84: =+D84 -> 0
A85: 16. | B85: Adóssághoz nem kapcsolódó származékos ügyletek bevételei | C85: =+D85 -> 0
A86: 17. | B86: FINANSZÍROZÁSI BEVÉTELEK ÖSSZESEN: (10. + … +16.) | C86: =+C63+C67+C72+C75+C79+C85+C84 -> 10701
A87: 18. | B87: KÖLTSÉGVETÉSI ÉS FINANSZÍROZÁSI BEVÉTELEK ÖSSZESEN: (9+17) | C87: =+C62+C86 -> 19701
B89: K I A D Á S O K
C90: Ezer forintban
A91: Sor- szám | B91: Kiadási jogcímek | C91: =+C3 -> 2015. évi előirányzat
A92: A | B92: B | C92: C
A93: 1. | B93: Működési költségvetés kiadásai (1.1+…+1.5.+1.18.) | C93: =C94+C95+C96+C97+C98+C111 -> 19301
A94: 1.1. | B94: Személyi juttatások | C94: 9042
A95: 1.2. | B95: Munkaadókat terhelő járulékok és szociális hozzájárulási adó | C95: 2486
A96: 1.3. | B96: Dologi kiadások | C96: 7773
A97: 1.4. | B97: Ellátottak pénzbeli juttatásai | C97: =+D97 -> 0
A98: 1.5 | B98: Egyéb működési célú kiadások | C98: =SUM(C99:C110) -> 0
A99: 1.6. | B99: - az 1.5-ből: - Előző évi elszámolásból származó befizetések | C99: =+D99 -> 0
A100: 1.7. | B100: - Törvényi előíráson alapuló befizetések | C100: =+D100 -> 0
A101: 1.8. | B101: - Elvonások és befizetések | C101: =+D101 -> 0
...

Sheet 1.2.3.b.sz.mell.Műv.önk.
B1: B E V É T E L E K
C2: Ezer forintban
A3: Sor- szám | B3: Bevételi jogcím | C3: =+CONCATENATE(LEFT(ÖSSZEFÜGGÉSEK!A5,4),". évi előirányzat") -> 2015. évi előirányzat
A4: A | B4: B | C4: C
A5: 1. | B5: Önkormányzat működési támogatásai (1.1.+…+.1.6.) | C5: =+C6+C7+C8+C9+C10+C11 -> 0
A6: 1.1. | B6: Helyi önkormányzatok működésének általános támogatása | C6: =+D6 -> 0
A7: 1.2. | B7: Önkormányzatok egyes köznevelési feladatainak támogatása | C7: =+D7 -> 0
A8: 1.3. | B8: Önkormányzatok szociális és gyermekjóléti feladatainak támogatása | C8: =+D8 -> 0
A9: 1.4. | B9: Önkormányzatok kulturális feladatainak támogatása | C9: =+D9 -> 0
A10: 1.5. | B10: Működési célú kvi támogatások és kiegészítő támogatások | C10: =+D10 -> 0
A11: 1.6. | B11: Elszámolásból származó bevételek | C11: =+D11 -> 0
A12: 2. | B12: Működési célú támogatások államháztartáson belülről (2.1.+…+.2.5.) | C12: =+C13+C14+C15+C16+C17 -> 0
A13: 2.1. | B13: Elvonások és befizetések bevételei | C13: =+D13 -> 0
A14: 2.2. | B14: Működési célú garancia- és kezességvállalásból megtérülések | C14: =+D14 -> 0
A15: 2.3. | B15: Működési célú visszatérítendő támogatások, kölcsönök visszatérülése | C15: =+D15 -> 0
A16: 2.4. | B16: Működési célú visszatérítendő támogatások, kölcsönök igénybevétele | C16: =+D16 -> 0
A17: 2.5. | B17: Egyéb működési célú támogatások bevételei | C17: =+D17 -> 0
A18: 2.6. | B18: 2.5.-ből EU-s támogatás | C18: =+D18 -> 0
A19: 3. | B19: Felhalmozási célú támogatások államháztartáson belülről (3.1.+…+3.5.) | C19: =+C20+C21+C22+C23+C24 -> 0
A20: 3.1. | B20: Felhalmozási célú önkormányzati támogatások | C20: =+D20 -> 0
A21: 3.2. | B21: Felhalmozási célú garancia- és kezességvállalásból megtérülések | C21: =+D21 -> 0
A22: 3.3. | B22: Felhalmozási célú visszatérítendő támogatások, kölcsönök visszatérülése | C22: =+D22 -> 0
A23: 3.4. | B23: Felhalmozási célú visszatérítendő támogatások, kölcsönök igénybevétele | C23: =+D23 -> 0
A24: 3.5. | B24: Egyéb felhalmozási célú támogatások bevételei | C24: =+D24 -> 0
A25: 3.6. | B25: 3.5.-ből EU-s támogatás | C25: =+D25 -> 0
A26: 4. | B26: Közhatalmi bevételek (4.1.+4.2.+4.3.+4.4.) | C26: =+C27+C31+C32+C33 -> 0
A27: 4.1. | B27: Helyi adók (4.1.1.+...+4.1.3.) | C27: =SUM(C28:C30) -> 0
A28: 4.1.1. | B28: - Vagyoni típusú adók | C28: =+D28 -> 0
A29: 4.1.2. | B29: - Termékek és szolgáltatások adói | C29: =+D29 -> 0
A30: 4.1.3. | B30: - Értékesítési és forgalmi adók (iparűzési adó) | C30: =+D30 -> 0
A31: 4.2. | B31: Gépjárműadó | C31: =+D31 -> 0
A32: 4.3. | B32: Egyéb áruhasználati és szolgáltatási adók | C32: =+D32 -> 0
A33: 4.4. | B33: Egyéb közhatalmi bevételek | C33: =+D33 -> 0
A34: 5. | B34: Működési bevételek (5.1.+…+ 5.11.) | C34: =SUM(C35:C45) -> 9000
A35: 5.1. | B35: Készletértékesítés ellenértéke | C35: =+D35 -> 0
A36: 5.2. | B36: Szolgáltatások ellenértéke | C36: =+D36 -> 0
A37: 5.3. | B37: Közvetített szolgáltatások értéke | C37: =+D37 -> 0
A38: 5.4. | B38: Tulajdonosi bevételek | C38: =+D38 -> 0
A39: 5.5. | B39: Ellátási díjak | C39: =+D39 -> 0
A40: 5.6. | B40: Kiszámlázott általános forgalmi adó | C40: =+D40 -> 0
A41: 5.7. | B41: Általános forgalmi adó visszatérítése | C41: =+D41 -> 0
A42: 5.8. | B42: Kamatbevételek | C42: =+D42 -> 0
A43: 5.9. | B43: Egyéb pénzügyi műveletek bevételei | C43: =+D43 -> 0
A44: 5.10. | B44: Biztosító által fizetett kártérítés | C44: =+D44 -> 0
A45: 5.11. | B45: Egyéb működési bevételek | C45: 9000
A46: 6. | B46: Felhalmozási bevételek (6.1.+…+6.5.) | C46: =SUM(C47:C51) -> 0
A47: 6.1. | B47: Immateriális javak értékesítése | C47: =+D47 -> 0
A48: 6.2. | B48: Ingatlanok értékesítése | C48: =+D48 -> 0
A49: 6.3. | B49: Egyéb tárgyi eszközök értékesítése | C49: =+D49 -> 0
A50: 6.4. | B50: Részesedések értékesítése | C50: =+D50 -> 0
A51: 6.5. | B51: Részesedések megszűnéséhez kapcsolódó bevételek | C51: =+D51 -> 0
A52: 7. | B52: Működési célú átvett pénzeszközök (7.1. + … + 7.3.) | C52: =SUM(C53:C55) -> 0
A53: 7.1. | B53: Működési célú garancia- és kezességvállalásból megtérülések ÁH-n kívülről | C53: =+D53 -> 0
A54: 7.2. | B54: Működési célú visszatérítendő támogatások, kölcsönök visszatér. ÁH-n kívülről | C54: =+D54 -> 0
A55: 7.3. | B55: Egyéb működési célú átvett pénzeszköz | C55: =+D55 -> 0
A56: 7.4. | B56: 7.3.-ból EU-s támogatás (közvetlen) | C56: =+D56 -> 0
A57: 8. | B57: Felhalmozási célú átvett pénzeszközök (8.1.+8.2.+8.3.) | C57: =SUM(C58:C60) -> 0
A58: 8.1. | B58: Felhalm. célú garancia- és kezességvállalásból megtérülések ÁH-n kívülről | C58: =+D58 -> 0
A59: 8.2. | B59: Felhalm. célú visszatérítendő támogatások, kölcsönök visszatér. ÁH-n kívülről | C59: =+D59 -> 0
A60: 8.3. | B60: Egyéb felhalmozási célú átvett pénzeszköz | C60: =+D60 -> 0
A61: 8.4. | B61: 8.3.-ból EU-s támogatás (közvetlen) | C61: =+D61 -> 0
A62: 9. | B62: KÖLTSÉGVETÉSI BEVÉTELEK ÖSSZESEN: (1+…+8) | C62: =+C5+C12+C19+C26+C34+C46+C52+C57 -> 9000
A63: 10. | B63: Hitel-, kölcsönfelvétel államháztartáson kívülről (10.1.+10.3.) | C63: =SUM(C64:C66) -> 0
A64: 10.1. | B64: Hosszú lejáratú hitelek, kölcsönök felvétele | C64: =+D64 -> 0
A65: 10.2. | B65: Likviditási célú hitelek, kölcsönök felvétele pénzügyi vállalkozástól | C65: =+D65 -> 0
A66: 10.3. | B66: Rövid lejáratú hitelek, kölcsönök felvétele | C66: =+D66 -> 0
A67: 11. | B67: Belföldi értékpapírok bevételei (11.1. +…+ 11.4.) | C67: =SUM(C68:C71) -> 0
A68: 11.1. | B68: Forgatási célú belföldi értékpapírok beváltása, értékesítése | C68: =+D68 -> 0
A69: 11.2. | B69: Forgatási célú belföldi értékpapírok kibocsátása | C69: =+D69 -> 0
A70: 11.3. | B70: Befektetési célú belföldi értékpapírok beváltása, értékesítése | C70: =+D70 -> 0
A71: 11.4. | B71: Befektetési célú belföldi értékpapírok kibocsátása | C71: =+D71 -> 0
A72: 12. | B72: Maradvány igénybevétele (12.1. + 12.2.) | C72: =SUM(C73:C74) -> 0
A73: 12.1. | B73: Előző év költségvetési maradványának igénybevétele | C73: =+D73 -> 0
A74: 12.2. | B74: Előző év vállalkozási maradványának igénybevétele | C74: =+D74 -> 0
A75: 13. | B75: Belföldi finanszírozás bevételei (13.1. + … + 13.3.) | C75: =SUM(C76:C78) -> 17645
A76: 13.1. | B76: Normatíva bevétel | C76: =+D76 -> 0
A77: 13.2. | B77: Önkormányzati támogatás Kenese | C77: 17645
A78: 13.3. | B78: Önkormányzati támogatás más önkormányzat | C78: =+D78 -> 0
A79: 14. | B79: Külföldi finanszírozás bevételei (14.1.+…14.4.) | C79: =SUM(C80:C83) -> 0
A80: 14.1. | B80: Forgatási célú külföldi értékpapírok beváltása, értékesítése | C80: =+D80 -> 0
A81: 14.2. | B81: Befektetési célú külföldi értékpapírok beváltása, értékesítése | C81: =+D81 -> 0
A82: 14.3. | B82: Külföldi értékpapírok kibocsátása | C82: =+D82 -> 0
A83: 14.4. | B83: Külföldi hitelek, kölcsönök felvétele | C83: =+D83 -> 0
A84: 15. | B84: Váltóbevételek | C84: =+D84 -> 0
A85: 16. | B85: Adóssághoz nem kapcsolódó származékos ügyletek bevételei | C85: =+D85 -> 0
A86: 17. | B86: FINANSZÍROZÁSI BEVÉTELEK ÖSSZESEN: (10. + … +16.) | C86: =+C63+C67+C72+C75+C79+C85+C84 -> 17645
A87: 18. | B87: KÖLTSÉGVETÉSI ÉS FINANSZÍROZÁSI BEVÉTELEK ÖSSZESEN: (9+17) | C87: =+C62+C86 -> 26645
B89: K I A D Á S O K
C90: Ezer forintban
A91: Sor- szám | B91: Kiadási jogcímek | C91: =+C3 -> 2015. évi előirányzat
A92: A | B92: B | C92: C
A93: 1. | B93: Működési költségvetés kiadásai (1.1+…+1.5.+1.18.) | C93: =C94+C95+C96+C97+C98+C111 -> 26545
A94: 1.1. | B94: Személyi juttatások | C94: 4024
A95: 1.2. | B95: Munkaadókat terhelő járulékok és szociális hozzájárulási adó | C95: 1100
A96: 1.3. | B96: Dologi kiadások | C96: 21421
A97: 1.4. | B97: Ellátottak pénzbeli juttatásai | C97: =+D97 -> 0
A98: 1.5 | B98: Egyéb működési célú kiadások | C98: =SUM(C99:C110) -> 0
A99: 1.6. | B99: - az 1.5-ből: - Előző évi elszámolásból származó befizetések | C99: =+D99 -> 0
A100: 1.7. | B100: - Törvényi előíráson alapuló befizetések | C100: =+D100 -> 0
A101: 1.8. | B101: - Elvonások és befizetések | C101: =+D101 -> 0
...

Sheet 1.2.4.sz.mell.Vágo.össz.
B1: B E V É T E L E K
E2: Ezer forintban
A3: Sor- szám | B3: Bevételi jogcím | C3: 2013. évi tény adatok | D3: 2014.évi várható tényadatok | E3: =+CONCATENATE(LEFT(ÖSSZEFÜGGÉSEK!A5,4),". évi előirányzat") -> 2015. évi előirányzat
A4: A | B4: B | E4: C
A5: 1. | B5: Önkormányzat működési támogatásai (1.1.+…+.1.6.) | E5: =+E6+E7+E8+E9+E10+E11 -> 0
A6: 1.1. | B6: Helyi önkormányzatok működésének általános támogatása | E6: =+'1.2..4.a.sz.mell.Vágo.köt.'!C6+'1.2.4.b.sz.mell.Vágo.önk.'!C6 -> 0
A7: 1.2. | B7: Önkormányzatok egyes köznevelési feladatainak támogatása | E7: =+'1.2..4.a.sz.mell.Vágo.köt.'!C7+'1.2.4.b.sz.mell.Vágo.önk.'!C7 -> 0
A8: 1.3. | B8: Önkormányzatok szociális és gyermekjóléti feladatainak támogatása | E8: =+'1.2..4.a.sz.mell.Vágo.köt.'!C8+'1.2.4.b.sz.mell.Vágo.önk.'!C8 -> 0
A9: 1.4. | B9: Önkormányzatok kulturális feladatainak támogatása | E9: =+'1.2..4.a.sz.mell.Vágo.köt.'!C9+'1.2.4.b.sz.mell.Vágo.önk.'!C9 -> 0
A10: 1.5. | B10: Működési célú kvi támogatások és kiegészítő támogatások | E10: =+'1.2..4.a.sz.mell.Vágo.köt.'!C10+'1.2.4.b.sz.mell.Vágo.önk.'!C10 -> 0
A11: 1.6. | B11: Elszámolásból származó bevételek | E11: =+'1.2..4.a.sz.mell.Vágo.köt.'!C11+'1.2.4.b.sz.mell.Vágo.önk.'!C11 -> 0
A12: 2. | B12: Működési célú támogatások államháztartáson belülről (2.1.+…+.2.5.) | E12: =+E13+E14+E15+E16+E17 -> 0
A13: 2.1. | B13: Elvonások és befizetések bevételei | E13: =+'1.2..4.a.sz.mell.Vágo.köt.'!C13+'1.2.4.b.sz.mell.Vágo.önk.'!C13 -> 0
A14: 2.2. | B14: Működési célú garancia- és kezességvállalásból megtérülések | E14: =+'1.2..4.a.sz.mell.Vágo.köt.'!C14+'1.2.4.b.sz.mell.Vágo.önk.'!C14 -> 0
A15: 2.3. | B15: Működési célú visszatérítendő támogatások, kölcsönök visszatérülése | E15: =+'1.2..4.a.sz.mell.Vágo.köt.'!C15+'1.2.4.b.sz.mell.Vágo.önk.'!C15 -> 0
A16: 2.4. | B16: Működési célú visszatérítendő támogatások, kölcsönök igénybevétele | E16: =+'1.2..4.a.sz.mell.Vágo.köt.'!C16+'1.2.4.b.sz.mell.Vágo.önk.'!C16 -> 0
A17: 2.5. | B17: Egyéb működési célú támogatások bevételei | E17: =+'1.2..4.a.sz.mell.Vágo.köt.'!C17+'1.2.4.b.sz.mell.Vágo.önk.'!C17 -> 0
A18: 2.6. | B18: 2.5.-ből EU-s támogatás | E18: =+'1.2..4.a.sz.mell.Vágo.köt.'!C18+'1.2.4.b.sz.mell.Vágo.önk.'!C18 -> 0
A19: 3. | B19: Felhalmozási célú támogatások államháztartáson belülről (3.1.+…+3.5.) | E19: =+E20+E21+E22+E23+E24 -> 0
A20: 3.1. | B20: Felhalmozási célú önkormányzati támogatások | E20: =+'1.2..4.a.sz.mell.Vágo.köt.'!C20+'1.2.4.b.sz.mell.Vágo.önk.'!C20 -> 0
A21: 3.2. | B21: Felhalmozási célú garancia- és kezességvállalásból megtérülések | E21: =+'1.2..4.a.sz.mell.Vágo.köt.'!C21+'1.2.4.b.sz.mell.Vágo.önk.'!C21 -> 0
A22: 3.3. | B22: Felhalmozási célú visszatérítendő támogatások, kölcsönök visszatérülése | E22: =+'1.2..4.a.sz.mell.Vágo.köt.'!C22+'1.2.4.b.sz.mell.Vágo.önk.'!C22 -> 0
A23: 3.4. | B23: Felhalmozási célú visszatérítendő támogatások, kölcsönök igénybevétele | E23: =+'1.2..4.a.sz.mell.Vágo.köt.'!C23+'1.2.4.b.sz.mell.Vágo.önk.'!C23 -> 0
A24: 3.5. | B24: Egyéb felhalmozási célú támogatások bevételei | E24: =+'1.2..4.a.sz.mell.Vágo.köt.'!C24+'1.2.4.b.sz.mell.Vágo.önk.'!C24 -> 0
A25: 3.6. | B25: 3.5.-ből EU-s támogatás | E25: =+'1.2..4.a.sz.mell.Vágo.köt.'!C25+'1.2.4.b.sz.mell.Vágo.önk.'!C25 -> 0
A26: 4. | B26: Közhatalmi bevételek (4.1.+4.2.+4.3.+4.4.) | E26: =+E27+E31+E32+E33 -> 0
A27: 4.1. | B27: Helyi adók (4.1.1.+...+4.1.3.) | E27: =SUM(E28:E30) -> 0
A28: 4.1.1. | B28: - Vagyoni típusú adók | E28: =+'1.2..4.a.sz.mell.Vágo.köt.'!C28+'1.2.4.b.sz.mell.Vágo.önk.'!C28 -> 0
A29: 4.1.2. | B29: - Termékek és szolgáltatások adói | E29: =+'1.2..4.a.sz.mell.Vágo.köt.'!C29+'1.2.4.b.sz.mell.Vágo.önk.'!C29 -> 0
A30: 4.1.3. | B30: - Értékesítési és forgalmi adók (iparűzési adó) | E30: =+'1.2..4.a.sz.mell.Vágo.köt.'!C30+'1.2.4.b.sz.mell.Vágo.önk.'!C30 -> 0
A31: 4.2. | B31: Gépjárműadó | E31: =+'1.2..4.a.sz.mell.Vágo.köt.'!C31+'1.2.4.b.sz.mell.Vágo.önk.'!C31 -> 0
A32: 4.3. | B32: Egyéb áruhasználati és szolgáltatási adók | E32: =+'1.2..4.a.sz.mell.Vágo.köt.'!C32+'1.2.4.b.sz.mell.Vágo.önk.'!C32 -> 0
A33: 4.4. | B33: Egyéb közhatalmi bevételek | E33: =+'1.2..4.a.sz.mell.Vágo.köt.'!C33+'1.2.4.b.sz.mell.Vágo.önk.'!C33 -> 0
A34: 5. | B34: Működési bevételek (5.1.+…+ 5.11.) | C34: =SUM(C35:C45) -> 96691 | D34: =SUM(D35:D45) -> 57794 | E34: =SUM(E35:E45) -> 34767
A35: 5.1. | B35: Készletértékesítés ellenértéke | C35: 2686 | E35: =+'1.2..4.a.sz.mell.Vágo.köt.'!C35+'1.2.4.b.sz.mell.Vágo.önk.'!C35 -> 0
A36: 5.2. | B36: Szolgáltatások ellenértéke | C36: 56616 | D36: 38777 | E36: =+'1.2..4.a.sz.mell.Vágo.köt.'!C36+'1.2.4.b.sz.mell.Vágo.önk.'!C36 -> 25500
A37: 5.3. | B37: Közvetített szolgáltatások értéke | C37: 5052 | D37: 3062 | E37: =+'1.2..4.a.sz.mell.Vágo.köt.'!C37+'1.2.4.b.sz.mell.Vágo.önk.'!C37 -> 1100
A38: 5.4. | B38: Tulajdonosi bevételek | C38: 2221 | D38: 1023 | E38: =+'1.2..4.a.sz.mell.Vágo.köt.'!C38+'1.2.4.b.sz.mell.Vágo.önk.'!C38 -> 1010
A39: 5.5. | B39: Ellátási díjak | E39: =+'1.2..4.a.sz.mell.Vágo.köt.'!C39+'1.2.4.b.sz.mell.Vágo.önk.'!C39 -> 0
A40: 5.6. | B40: Kiszámlázott általános forgalmi adó | C40: 26663 | D40: 11452 | E40: =+'1.2..4.a.sz.mell.Vágo.köt.'!C40+'1.2.4.b.sz.mell.Vágo.önk.'!C40 -> 7157
A41: 5.7. | B41: Általános forgalmi adó visszatérítése | D41: 3464 | E41: =+'1.2..4.a.sz.mell.Vágo.köt.'!C41+'1.2.4.b.sz.mell.Vágo.önk.'!C41 -> 0
A42: 5.8. | B42: Kamatbevételek | C42: 109 | D42: 11 | E42: =+'1.2..4.a.sz.mell.Vágo.köt.'!C42+'1.2.4.b.sz.mell.Vágo.önk.'!C42 -> 0
A43: 5.9. | B43: Egyéb pénzügyi műveletek bevételei | E43: =+'1.2..4.a.sz.mell.Vágo.köt.'!C43+'1.2.4.b.sz.mell.Vágo.önk.'!C43 -> 0
A44: 5.10. | B44: Biztosító által fizetett kártérítés | C44: 3344 | E44: =+'1.2..4.a.sz.mell.Vágo.köt.'!C44+'1.2.4.b.sz.mell.Vágo.önk.'!C44 -> 0
A45: 5.11. | B45: Egyéb működési bevételek | D45: 5 | E45: =+'1.2..4.a.sz.mell.Vágo.köt.'!C45+'1.2.4.b.sz.mell.Vágo.önk.'!C45 -> 0
A46: 6. | B46: Felhalmozási bevételek (6.1.+…+6.5.) | E46: =SUM(E47:E51) -> 0
A47: 6.1. | B47: Immateriális javak értékesítése | E47: =+'1.2..4.a.sz.mell.Vágo.köt.'!C47+'1.2.4.b.sz.mell.Vágo.önk.'!C47 -> 0
A48: 6.2. | B48: Ingatlanok értékesítése | E48: =+'1.2..4.a.sz.mell.Vágo.köt.'!C48+'1.2.4.b.sz.mell.Vágo.önk.'!C48 -> 0
A49: 6.3. | B49: Egyéb tárgyi eszközök értékesítése | E49: =+'1.2..4.a.sz.mell.Vágo.köt.'!C49+'1.2.4.b.sz.mell.Vágo.önk.'!C49 -> 0
A50: 6.4. | B50: Részesedések értékesítése | E50: =+'1.2..4.a.sz.mell.Vágo.köt.'!C50+'1.2.4.b.sz.mell.Vágo.önk.'!C50 -> 0
A51: 6.5. | B51: Részesedések megszűnéséhez kapcsolódó bevételek | E51: =+'1.2..4.a.sz.mell.Vágo.köt.'!C51+'1.2.4.b.sz.mell.Vágo.önk.'!C51 -> 0
A52: 7. | B52: Működési célú átvett pénzeszközök (7.1. + … + 7.3.) | E52: =SUM(E53:E55) -> 0
A53: 7.1. | B53: Működési célú garancia- és kezességvállalásból megtérülések ÁH-n kívülről | E53: =+'1.2..4.a.sz.mell.Vágo.köt.'!C53+'1.2.4.b.sz.mell.Vágo.önk.'!C53 -> 0
A54: 7.2. | B54: Működési célú visszatérítendő támogatások, kölcsönök visszatér. ÁH-n kívülről | E54: =+'1.2..4.a.sz.mell.Vágo.köt.'!C54+'1.2.4.b.sz.mell.Vágo.önk.'!C54 -> 0
A55: 7.3. | B55: Egyéb működési célú átvett pénzeszköz | E55: =+'1.2..4.a.sz.mell.Vágo.köt.'!C55+'1.2.4.b.sz.mell.Vágo.önk.'!C55 -> 0
A56: 7.4. | B56: 7.3.-ból EU-s támogatás (közvetlen) | E56: =+'1.2..4.a.sz.mell.Vágo.köt.'!C56+'1.2.4.b.sz.mell.Vágo.önk.'!C56 -> 0
A57: 8. | B57: Felhalmozási célú átvett pénzeszközök (8.1.+8.2.+8.3.) | E57: =SUM(E58:E60) -> 0
A58: 8.1. | B58: Felhalm. célú garancia- és kezességvállalásból megtérülések ÁH-n kívülről | E58: =+'1.2..4.a.sz.mell.Vágo.köt.'!C58+'1.2.4.b.sz.mell.Vágo.önk.'!C58 -> 0
A59: 8.2. | B59: Felhalm. célú visszatérítendő támogatások, kölcsönök visszatér. ÁH-n kívülről | E59: =+'1.2..4.a.sz.mell.Vágo.köt.'!C59+'1.2.4.b.sz.mell.Vágo.önk.'!C59 -> 0
A60: 8.3. | B60: Egyéb felhalmozási célú átvett pénzeszköz | E60: =+'1.2..4.a.sz.mell.Vágo.köt.'!C60+'1.2.4.b.sz.mell.Vágo.önk.'!C60 -> 0
A61: 8.4. | B61: 8.3.-ból EU-s támogatás (közvetlen) | E61: =+'1.2..4.a.sz.mell.Vágo.köt.'!C61+'1.2.4.b.sz.mell.Vágo.önk.'!C61 -> 0
A62: 9. | B62: KÖLTSÉGVETÉSI BEVÉTELEK ÖSSZESEN: (1+…+8) | C62: =+C5+C12+C19+C26+C34+C46+C52+C57 -> 96691 | D62: =+D5+D12+D19+D26+D34+D46+D52+D57 -> 57794 | E62: =+E5+E12+E19+E26+E34+E46+E52+E57 -> 34767
A63: 10. | B63: Hitel-, kölcsönfelvétel államháztartáson kívülről (10.1.+10.3.) | E63: =SUM(E64:E66) -> 0
A64: 10.1. | B64: Hosszú lejáratú hitelek, kölcsönök felvétele | E64: =+'1.2..4.a.sz.mell.Vágo.köt.'!C64+'1.2.4.b.sz.mell.Vágo.önk.'!C64 -> 0
A65: 10.2. | B65: Likviditási célú hitelek, kölcsönök felvétele pénzügyi vállalkozástól | E65: =+'1.2..4.a.sz.mell.Vágo.köt.'!C65+'1.2.4.b.sz.mell.Vágo.önk.'!C65 -> 0
A66: 10.3. | B66: Rövid lejáratú hitelek, kölcsönök felvétele | E66: =+'1.2..4.a.sz.mell.Vágo.köt.'!C66+'1.2.4.b.sz.mell.Vágo.önk.'!C66 -> 0
A67: 11. | B67: Belföldi értékpapírok bevételei (11.1. +…+ 11.4.) | E67: =SUM(E68:E71) -> 0
A68: 11.1. | B68: Forgatási célú belföldi értékpapírok beváltása, értékesítése | E68: =+'1.2..4.a.sz.mell.Vágo.köt.'!C68+'1.2.4.b.sz.mell.Vágo.önk.'!C68 -> 0
A69: 11.2. | B69: Forgatási célú belföldi értékpapírok kibocsátása | E69: =+'1.2..4.a.sz.mell.Vágo.köt.'!C69+'1.2.4.b.sz.mell.Vágo.önk.'!C69 -> 0
A70: 11.3. | B70: Befektetési célú belföldi értékpapírok beváltása, értékesítése | E70: =+'1.2..4.a.sz.mell.Vágo.köt.'!C70+'1.2.4.b.sz.mell.Vágo.önk.'!C70 -> 0
A71: 11.4. | B71: Befektetési célú belföldi értékpapírok kibocsátása | E71: =+'1.2..4.a.sz.mell.Vágo.köt.'!C71+'1.2.4.b.sz.mell.Vágo.önk.'!C71 -> 0
A72: 12. | B72: Maradvány igénybevétele (12.1. + 12.2.) | C72: =SUM(C73:C74) -> 8462 | D72: =SUM(D73:D74) -> 5491 | E72: =SUM(E73:E74) -> 30762
A73: 12.1. | B73: Előző év költségvetési maradványának igénybevétele | C73: 8462 | D73: 5491 | E73: =+'1.2..4.a.sz.mell.Vágo.köt.'!C73+'1.2.4.b.sz.mell.Vágo.önk.'!C73 -> 30762
A74: 12.2. | B74: Előző év vállalkozási maradványának igénybevétele | E74: =+'1.2..4.a.sz.mell.Vágo.köt.'!C74+'1.2.4.b.sz.mell.Vágo.önk.'!C74 -> 0
A75: 13. | B75: Belföldi finanszírozás bevételei (13.1. + … + 13.3.) | C75: =SUM(C76:C78) -> 73731 | D75: =SUM(D76:D78) -> 149029 | E75: =SUM(E76:E78) -> 36429
A76: 13.1. | B76: Normatíva bevétel | C76: 44363 | E76: =+'1.2..4.a.sz.mell.Vágo.köt.'!C76+'1.2.4.b.sz.mell.Vágo.önk.'!C76 -> 34369
A77: 13.2. | B77: Önkormányzati támogatás Kenese | C77: 29368 | D77: 149029 | E77: =+'1.2..4.a.sz.mell.Vágo.köt.'!C77+'1.2.4.b.sz.mell.Vágo.önk.'!C77 -> 2060
A78: 13.3. | B78: Önkormányzati támogatás más önkormányzat | E78: =+'1.2..4.a.sz.mell.Vágo.köt.'!C78+'1.2.4.b.sz.mell.Vágo.önk.'!C78 -> 0
A79: 14. | B79: Külföldi finanszírozás bevételei (14.1.+…14.4.) | E79: =SUM(E80:E83) -> 0
A80: 14.1. | B80: Forgatási célú külföldi értékpapírok beváltása, értékesítése | E80: =+'1.2..4.a.sz.mell.Vágo.köt.'!C80+'1.2.4.b.sz.mell.Vágo.önk.'!C80 -> 0
A81: 14.2. | B81: Befektetési célú külföldi értékpapírok beváltása, értékesítése | E81: =+'1.2..4.a.sz.mell.Vágo.köt.'!C81+'1.2.4.b.sz.mell.Vágo.önk.'!C81 -> 0
A82: 14.3. | B82: Külföldi értékpapírok kibocsátása | E82: =+'1.2..4.a.sz.mell.Vágo.köt.'!C82+'1.2.4.b.sz.mell.Vágo.önk.'!C82 -> 0
A83: 14.4. | B83: Külföldi hitelek, kölcsönök felvétele | E83: =+'1.2..4.a.sz.mell.Vágo.köt.'!C83+'1.2.4.b.sz.mell.Vágo.önk.'!C83 -> 0
A84: 15. | B84: Váltóbevételek | E84: =+'1.2..4.a.sz.mell.Vágo.köt.'!C84+'1.2.4.b.sz.mell.Vágo.önk.'!C84 -> 0
A85: 16. | B85: Adóssághoz nem kapcsolódó származékos ügyletek bevételei | E85: =+'1.2..4.a.sz.mell.Vágo.köt.'!C85+'1.2.4.b.sz.mell.Vágo.önk.'!C85 -> 0
A86: 17. | B86: FINANSZÍROZÁSI BEVÉTELEK ÖSSZESEN: (10. + … +16.) | C86: =+C63+C67+C72+C75+C79+C85+C84 -> 82193 | D86: =+D63+D67+D72+D75+D79+D85+D84 -> 154520 | E86: =+E63+E67+E72+E75+E79+E85+E84 -> 67191
A87: 18. | B87: KÖLTSÉGVETÉSI ÉS FINANSZÍROZÁSI BEVÉTELEK ÖSSZESEN: (9+17) | C87: =+C62+C86 -> 178884 | D87: =+D62+D86 -> 212314 | E87: =+E62+E86 -> 101958
B89: K I A D Á S O K
E90: Ezer forintban
A91: Sor- szám | B91: Kiadási jogcímek | C91: 2013. évi tény adatok | D91: 2014.évi várható tényadatok | E91: =+CONCATENATE(LEFT(ÖSSZEFÜGGÉSEK!A93,4),". évi előirányzat") -> . évi előirányzat
A92: A | B92: B | E92: C
A93: 1. | B93: Működési költségvetés kiadásai (1.1+…+1.5.+1.18.) | C93: =C94+C95+C96+C97+C98+C111 -> 151167 | D93: =D94+D95+D96+D97+D98+D111 -> 177200 | E93: =E94+E95+E96+E97+E98+E111 -> 101704
A94: 1.1. | B94: Személyi juttatások | C94: 53615 | D94: 52866 | E94: =+'1.2..4.a.sz.mell.Vágo.köt.'!C94+'1.2.4.b.sz.mell.Vágo.önk.'!C94 -> 49418
A95: 1.2. | B95: Munkaadókat terhelő járulékok és szociális hozzájárulási adó | C95: 13239 | D95: 13188 | E95: =+'1.2..4.a.sz.mell.Vágo.köt.'!C95+'1.2.4.b.sz.mell.Vágo.önk.'!C95 -> 13476
A96: 1.3. | B96: Dologi kiadások | C96: 84313 | D96: 111146 | E96: =+'1.2..4.a.sz.mell.Vágo.köt.'!C96+'1.2.4.b.sz.mell.Vágo.önk.'!C96 -> 38810
A97: 1.4. | B97: Ellátottak pénzbeli juttatásai | E97: =+'1.2..4.a.sz.mell.Vágo.köt.'!C97+'1.2.4.b.sz.mell.Vágo.önk.'!C97 -> 0
A98: 1.5 | B98: Egyéb működési célú kiadások | E98: =SUM(E99:E110) -> 0
A99: 1.6. | B99: - az 1.5-ből: - Előző évi elszámolásból származó befizetések | E99: =+'1.2..4.a.sz.mell.Vágo.köt.'!C99+'1.2.4.b.sz.mell.Vágo.önk.'!C99 -> 0
A100: 1.7. | B100: - Törvényi előíráson alapuló befizetések | E100: =+'1.2..4.a.sz.mell.Vágo.köt.'!C100+'1.2.4.b.sz.mell.Vágo.önk.'!C100 -> 0
A101: 1.8. | B101: - Elvonások és befizetések | E101: =+'1.2..4.a.sz.mell.Vágo.köt.'!C101+'1.2.4.b.sz.mell.Vágo.önk.'!C101 -> 0
...

Sheet 1.2..4.a.sz.mell.Vágo.köt.
B1: B E V É T E L E K
C2: Ezer forintban
A3: Sor- szám | B3: Bevételi jogcím | C3: =+CONCATENATE(LEFT(ÖSSZEFÜGGÉSEK!A5,4),". évi előirányzat") -> 2015. évi előirányzat
A4: A | B4: B | C4: C
A5: 1. | B5: Önkormányzat működési támogatásai (1.1.+…+.1.6.) | C5: =+C6+C7+C8+C9+C10+C11 -> 0
A6: 1.1. | B6: Helyi önkormányzatok működésének általános támogatása | C6: =+D6 -> 0
A7: 1.2. | B7: Önkormányzatok egyes köznevelési feladatainak támogatása | C7: =+D7 -> 0
A8: 1.3. | B8: Önkormányzatok szociális és gyermekjóléti feladatainak támogatása | C8: =+D8 -> 0
A9: 1.4. | B9: Önkormányzatok kulturális feladatainak támogatása | C9: =+D9 -> 0
A10: 1.5. | B10: Működési célú kvi támogatások és kiegészítő támogatások | C10: =+D10 -> 0
A11: 1.6. | B11: Elszámolásból származó bevételek | C11: =+D11 -> 0
A12: 2. | B12: Működési célú támogatások államháztartáson belülről (2.1.+…+.2.5.) | C12: =+C13+C14+C15+C16+C17 -> 0
A13: 2.1. | B13: Elvonások és befizetések bevételei | C13: =+D13 -> 0
A14: 2.2. | B14: Működési célú garancia- és kezességvállalásból megtérülések | C14: =+D14 -> 0
A15: 2.3. | B15: Működési célú visszatérítendő támogatások, kölcsönök visszatérülése | C15: =+D15 -> 0
A16: 2.4. | B16: Működési célú visszatérítendő támogatások, kölcsönök igénybevétele | C16: =+D16 -> 0
A17: 2.5. | B17: Egyéb működési célú támogatások bevételei | C17: =+D17 -> 0
A18: 2.6. | B18: 2.5.-ből EU-s támogatás | C18: =+D18 -> 0
A19: 3. | B19: Felhalmozási célú támogatások államháztartáson belülről (3.1.+…+3.5.) | C19: =+C20+C21+C22+C23+C24 -> 0
A20: 3.1. | B20: Felhalmozási célú önkormányzati támogatások | C20: =+D20 -> 0
A21: 3.2. | B21: Felhalmozási célú garancia- és kezességvállalásból megtérülések | C21: =+D21 -> 0
A22: 3.3. | B22: Felhalmozási célú visszatérítendő támogatások, kölcsönök visszatérülése | C22: =+D22 -> 0
A23: 3.4. | B23: Felhalmozási célú visszatérítendő támogatások, kölcsönök igénybevétele | C23: =+D23 -> 0
A24: 3.5. | B24: Egyéb felhalmozási célú támogatások bevételei | C24: =+D24 -> 0
A25: 3.6. | B25: 3.5.-ből EU-s támogatás | C25: =+D25 -> 0
A26: 4. | B26: Közhatalmi bevételek (4.1.+4.2.+4.3.+4.4.) | C26: =+C27+C31+C32+C33 -> 0
A27: 4.1. | B27: Helyi adók (4.1.1.+...+4.1.3.) | C27: =SUM(C28:C30) -> 0
A28: 4.1.1. | B28: - Vagyoni típusú adók | C28: =+D28 -> 0
A29: 4.1.2. | B29: - Termékek és szolgáltatások adói | C29: =+D29 -> 0
A30: 4.1.3. | B30: - Értékesítési és forgalmi adók (iparűzési adó) | C30: =+D30 -> 0
A31: 4.2. | B31: Gépjárműadó | C31: =+D31 -> 0
A32: 4.3. | B32: Egyéb áruhasználati és szolgáltatási adók | C32: =+D32 -> 0
A33: 4.4. | B33: Egyéb közhatalmi bevételek | C33: =+D33 -> 0
A34: 5. | B34: Működési bevételek (5.1.+…+ 5.11.) | C34: =SUM(C35:C45) -> 4087
A35: 5.1. | B35: Készletértékesítés ellenértéke | C35: =+D35 -> 0
A36: 5.2. | B36: Szolgáltatások ellenértéke | C36: 1500
A37: 5.3. | B37: Közvetített szolgáltatások értéke | C37: 900
A38: 5.4. | B38: Tulajdonosi bevételek | C38: 1010
A39: 5.5. | B39: Ellátási díjak | C39: =+D39 -> 0
A40: 5.6. | B40: Kiszámlázott általános forgalmi adó | C40: 677
A41: 5.7. | B41: Általános forgalmi adó visszatérítése | C41: =+D41 -> 0
A42: 5.8. | B42: Kamatbevételek | C42: =+D42 -> 0
A43: 5.9. | B43: Egyéb pénzügyi műveletek bevételei | C43: =+D43 -> 0
A44: 5.10. | B44: Biztosító által fizetett kártérítés | C44: =+D44 -> 0
A45: 5.11. | B45: Egyéb működési bevételek | C45: =+D45 -> 0
A46: 6. | B46: Felhalmozási bevételek (6.1.+…+6.5.) | C46: =SUM(C47:C51) -> 0
A47: 6.1. | B47: Immateriális javak értékesítése | C47: =+D47 -> 0
A48: 6.2. | B48: Ingatlanok értékesítése | C48: =+D48 -> 0
A49: 6.3. | B49: Egyéb tárgyi eszközök értékesítése | C49: =+D49 -> 0
A50: 6.4. | B50: Részesedések értékesítése | C50: =+D50 -> 0
A51: 6.5. | B51: Részesedések megszűnéséhez kapcsolódó bevételek | C51: =+D51 -> 0
A52: 7. | B52: Működési célú átvett pénzeszközök (7.1. + … + 7.3.) | C52: =SUM(C53:C55) -> 0
A53: 7.1. | B53: Működési célú garancia- és kezességvállalásból megtérülések ÁH-n kívülről | C53: =+D53 -> 0
A54: 7.2. | B54: Működési célú visszatérítendő támogatások, kölcsönök visszatér. ÁH-n kívülről | C54: =+D54 -> 0
A55: 7.3. | B55: Egyéb működési célú átvett pénzeszköz | C55: =+D55 -> 0
A56: 7.4. | B56: 7.3.-ból EU-s támogatás (közvetlen) | C56: =+D56 -> 0
A57: 8. | B57: Felhalmozási célú átvett pénzeszközök (8.1.+8.2.+8.3.) | C57: =SUM(C58:C60) -> 0
A58: 8.1. | B58: Felhalm. célú garancia- és kezességvállalásból megtérülések ÁH-n kívülről | C58: =+D58 -> 0
A59: 8.2. | B59: Felhalm. célú visszatérítendő támogatások, kölcsönök visszatér. ÁH-n kívülről | C59: =+D59 -> 0
A60: 8.3. | B60: Egyéb felhalmozási célú átvett pénzeszköz | C60: =+D60 -> 0
A61: 8.4. | B61: 8.3.-ból EU-s támogatás (közvetlen) | C61: =+D61 -> 0
A62: 9. | B62: KÖLTSÉGVETÉSI BEVÉTELEK ÖSSZESEN: (1+…+8) | C62: =+C5+C12+C19+C26+C34+C46+C52+C57 -> 4087
A63: 10. | B63: Hitel-, kölcsönfelvétel államháztartáson kívülről (10.1.+10.3.) | C63: =SUM(C64:C66) -> 0
A64: 10.1. | B64: Hosszú lejáratú hitelek, kölcsönök felvétele | C64: =+D64 -> 0
A65: 10.2. | B65: Likviditási célú hitelek, kölcsönök felvétele pénzügyi vállalkozástól | C65: =+D65 -> 0
A66: 10.3. | B66: Rövid lejáratú hitelek, kölcsönök felvétele | C66: =+D66 -> 0
A67: 11. | B67: Belföldi értékpapírok bevételei (11.1. +…+ 11.4.) | C67: =SUM(C68:C71) -> 0
A68: 11.1. | B68: Forgatási célú belföldi értékpapírok beváltása, értékesítése | C68: =+D68 -> 0
A69: 11.2. | B69: Forgatási célú belföldi értékpapírok kibocsátása | C69: =+D69 -> 0
A70: 11.3. | B70: Befektetési célú belföldi értékpapírok beváltása, értékesítése | C70: =+D70 -> 0
A71: 11.4. | B71: Befektetési célú belföldi értékpapírok kibocsátása | C71: =+D71 -> 0
A72: 12. | B72: Maradvány igénybevétele (12.1. + 12.2.) | C72: =SUM(C73:C74) -> 30762
A73: 12.1. | B73: Előző év költségvetési maradványának igénybevétele | C73: 30762
A74: 12.2. | B74: Előző év vállalkozási maradványának igénybevétele | C74: =+D74 -> 0
A75: 13. | B75: Belföldi finanszírozás bevételei (13.1. + … + 13.3.) | C75: =SUM(C76:C78) -> 35261
A76: 13.1. | B76: Normatíva bevétel | C76: 34369
A77: 13.2. | B77: Önkormányzati támogatás Kenese | C77: 892
A78: 13.3. | B78: Önkormányzati támogatás más önkormányzat | C78: =+D78 -> 0
A79: 14. | B79: Külföldi finanszírozás bevételei (14.1.+…14.4.) | C79: =SUM(C80:C83) -> 0
A80: 14.1. | B80: Forgatási célú külföldi értékpapírok beváltása, értékesítése | C80: =+D80 -> 0
A81: 14.2. | B81: Befektetési célú külföldi értékpapírok beváltása, értékesítése | C81: =+D81 -> 0
A82: 14.3. | B82: Külföldi értékpapírok kibocsátása | C82: =+D82 -> 0
A83: 14.4. | B83: Külföldi hitelek, kölcsönök felvétele | C83: =+D83 -> 0
A84: 15. | B84: Váltóbevételek | C84: =+D84 -> 0
A85: 16. | B85: Adóssághoz nem kapcsolódó származékos ügyletek bevételei | C85: =+D85 -> 0
A86: 17. | B86: FINANSZÍROZÁSI BEVÉTELEK ÖSSZESEN: (10. + … +16.) | C86: =+C63+C67+C72+C75+C79+C85+C84 -> 66023
A87: 18. | B87: KÖLTSÉGVETÉSI ÉS FINANSZÍROZÁSI BEVÉTELEK ÖSSZESEN: (9+17) | C87: =+C62+C86 -> 70110
B89: K I A D Á S O K
C90: Ezer forintban
A91: Sor- szám | B91: Kiadási jogcímek | C91: =+C3 -> 2015. évi előirányzat
A92: A | B92: B | C92: C
A93: 1. | B93: Működési költségvetés kiadásai (1.1+…+1.5.+1.18.) | C93: =C94+C95+C96+C97+C98+C111 -> 70058
A94: 1.1. | B94: Személyi juttatások | C94: 32770
A95: 1.2. | B95: Munkaadókat terhelő járulékok és szociális hozzájárulási adó | C95: 8969
A96: 1.3. | B96: Dologi kiadások | C96: 28319
A97: 1.4. | B97: Ellátottak pénzbeli juttatásai | C97: =+D97 -> 0
A98: 1.5 | B98: Egyéb működési célú kiadások | C98: =SUM(C99:C110) -> 0
A99: 1.6. | B99: - az 1.5-ből: - Előző évi elszámolásból származó befizetések | C99: =+D99 -> 0
A100: 1.7. | B100: - Törvényi előíráson alapuló befizetések | C100: =+D100 -> 0
A101: 1.8. | B101: - Elvonások és befizetések | C101: =+D101 -> 0
...

Sheet 1.2.4.b.sz.mell.Vágo.önk.
B1: B E V É T E L E K
C2: Ezer forintban
A3: Sor- szám | B3: Bevételi jogcím | C3: =+CONCATENATE(LEFT(ÖSSZEFÜGGÉSEK!A5,4),". évi előirányzat") -> 2015. évi előirányzat
A4: A | B4: B | C4: C
A5: 1. | B5: Önkormányzat működési támogatásai (1.1.+…+.1.6.) | C5: =+C6+C7+C8+C9+C10+C11 -> 0
A6: 1.1. | B6: Helyi önkormányzatok működésének általános támogatása | C6: =+D6 -> 0
A7: 1.2. | B7: Önkormányzatok egyes köznevelési feladatainak támogatása | C7: =+D7 -> 0
A8: 1.3. | B8: Önkormányzatok szociális és gyermekjóléti feladatainak támogatása | C8: =+D8 -> 0
A9: 1.4. | B9: Önkormányzatok kulturális feladatainak támogatása | C9: =+D9 -> 0
A10: 1.5. | B10: Működési célú kvi támogatások és kiegészítő támogatások | C10: =+D10 -> 0
A11: 1.6. | B11: Elszámolásból származó bevételek | C11: =+D11 -> 0
A12: 2. | B12: Működési célú támogatások államháztartáson belülről (2.1.+…+.2.5.) | C12: =+C13+C14+C15+C16+C17 -> 0
A13: 2.1. | B13: Elvonások és befizetések bevételei | C13: =+D13 -> 0
A14: 2.2. | B14: Működési célú garancia- és kezességvállalásból megtérülések | C14: =+D14 -> 0
A15: 2.3. | B15: Működési célú visszatérítendő támogatások, kölcsönök visszatérülése | C15: =+D15 -> 0
A16: 2.4. | B16: Működési célú visszatérítendő támogatások, kölcsönök igénybevétele | C16: =+D16 -> 0
A17: 2.5. | B17: Egyéb működési célú támogatások bevételei | C17: =+D17 -> 0
A18: 2.6. | B18: 2.5.-ből EU-s támogatás | C18: =+D18 -> 0
A19: 3. | B19: Felhalmozási célú támogatások államháztartáson belülről (3.1.+…+3.5.) | C19: =+C20+C21+C22+C23+C24 -> 0
A20: 3.1. | B20: Felhalmozási célú önkormányzati támogatások | C20: =+D20 -> 0
A21: 3.2. | B21: Felhalmozási célú garancia- és kezességvállalásból megtérülések | C21: =+D21 -> 0
A22: 3.3. | B22: Felhalmozási célú visszatérítendő támogatások, kölcsönök visszatérülése | C22: =+D22 -> 0
A23: 3.4. | B23: Felhalmozási célú visszatérítendő támogatások, kölcsönök igénybevétele | C23: =+D23 -> 0
A24: 3.5. | B24: Egyéb felhalmozási célú támogatások bevételei | C24: =+D24 -> 0
A25: 3.6. | B25: 3.5.-ből EU-s támogatás | C25: =+D25 -> 0
A26: 4. | B26: Közhatalmi bevételek (4.1.+4.2.+4.3.+4.4.) | C26: =+C27+C31+C32+C33 -> 0
A27: 4.1. | B27: Helyi adók (4.1.1.+...+4.1.3.) | C27: =SUM(C28:C30) -> 0
A28: 4.1.1. | B28: - Vagyoni típusú adók | C28: =+D28 -> 0
A29: 4.1.2. | B29: - Termékek és szolgáltatások adói | C29: =+D29 -> 0
A30: 4.1.3. | B30: - Értékesítési és forgalmi adók (iparűzési adó) | C30: =+D30 -> 0
A31: 4.2. | B31: Gépjárműadó | C31: =+D31 -> 0
A32: 4.3. | B32: Egyéb áruhasználati és szolgáltatási adók | C32: =+D32 -> 0
A33: 4.4. | B33: Egyéb közhatalmi bevételek | C33: =+D33 -> 0
A34: 5. | B34: Működési bevételek (5.1.+…+ 5.11.) | C34: =SUM(C35:C45) -> 30680
A35: 5.1. | B35: Készletértékesítés ellenértéke | C35: =+D35 -> 0
A36: 5.2. | B36: Szolgáltatások ellenértéke | C36: 24000
A37: 5.3. | B37: Közvetített szolgáltatások értéke | C37: 200
A38: 5.4. | B38: Tulajdonosi bevételek | C38: =+D38 -> 0
A39: 5.5. | B39: Ellátási díjak | C39: =+D39 -> 0
A40: 5.6. | B40: Kiszámlázott általános forgalmi adó | C40: 6480
A41: 5.7. | B41: Általános forgalmi adó visszatérítése | C41: =+D41 -> 0
A42: 5.8. | B42: Kamatbevételek | C42: =+D42 -> 0
A43: 5.9. | B43: Egyéb pénzügyi műveletek bevételei | C43: =+D43 -> 0
A44: 5.10. | B44: Biztosító által fizetett kártérítés | C44: =+D44 -> 0
A45: 5.11. | B45: Egyéb működési bevételek | C45: =+D45 -> 0
A46: 6. | B46: Felhalmozási bevételek (6.1.+…+6.5.) | C46: =SUM(C47:C51) -> 0
A47: 6.1. | B47: Immateriális javak értékesítése | C47: =+D47 -> 0
A48: 6.2. | B48: Ingatlanok értékesítése | C48: =+D48 -> 0
A49: 6.3. | B49: Egyéb tárgyi eszközök értékesítése | C49: =+D49 -> 0
A50: 6.4. | B50: Részesedések értékesítése | C50: =+D50 -> 0
A51: 6.5. | B51: Részesedések megszűnéséhez kapcsolódó bevételek | C51: =+D51 -> 0
A52: 7. | B52: Működési célú átvett pénzeszközök (7.1. + … + 7.3.) | C52: =SUM(C53:C55) -> 0
A53: 7.1. | B53: Működési célú garancia- és kezességvállalásból megtérülések ÁH-n kívülről | C53: =+D53 -> 0
A54: 7.2. | B54: Működési célú visszatérítendő támogatások, kölcsönök visszatér. ÁH-n kívülről | C54: =+D54 -> 0
A55: 7.3. | B55: Egyéb működési célú átvett pénzeszköz | C55: =+D55 -> 0
A56: 7.4. | B56: 7.3.-ból EU-s támogatás (közvetlen) | C56: =+D56 -> 0
A57: 8. | B57: Felhalmozási célú átvett pénzeszközök (8.1.+8.2.+8.3.) | C57: =SUM(C58:C60) -> 0
A58: 8.1. | B58: Felhalm. célú garancia- és kezességvállalásból megtérülések ÁH-n kívülről | C58: =+D58 -> 0
A59: 8.2. | B59: Felhalm. célú visszatérítendő támogatások, kölcsönök visszatér. ÁH-n kívülről | C59: =+D59 -> 0
A60: 8.3. | B60: Egyéb felhalmozási célú átvett pénzeszköz | C60: =+D60 -> 0
A61: 8.4. | B61: 8.3.-ból EU-s támogatás (közvetlen) | C61: =+D61 -> 0
A62: 9. | B62: KÖLTSÉGVETÉSI BEVÉTELEK ÖSSZESEN: (1+…+8) | C62: =+C5+C12+C19+C26+C34+C46+C52+C57 -> 30680
A63: 10. | B63: Hitel-, kölcsönfelvétel államháztartáson kívülről (10.1.+10.3.) | C63: =SUM(C64:C66) -> 0
A64: 10.1. | B64: Hosszú lejáratú hitelek, kölcsönök felvétele | C64: =+D64 -> 0
A65: 10.2. | B65: Likviditási célú hitelek, kölcsönök felvétele pénzügyi vállalkozástól | C65: =+D65 -> 0
A66: 10.3. | B66: Rövid lejáratú hitelek, kölcsönök felvétele | C66: =+D66 -> 0
A67: 11. | B67: Belföldi értékpapírok bevételei (11.1. +…+ 11.4.) | C67: =SUM(C68:C71) -> 0
A68: 11.1. | B68: Forgatási célú belföldi értékpapírok beváltása, értékesítése | C68: =+D68 -> 0
A69: 11.2. | B69: Forgatási célú belföldi értékpapírok kibocsátása | C69: =+D69 -> 0
A70: 11.3. | B70: Befektetési célú belföldi értékpapírok beváltása, értékesítése | C70: =+D70 -> 0
A71: 11.4. | B71: Befektetési célú belföldi értékpapírok kibocsátása | C71: =+D71 -> 0
A72: 12. | B72: Maradvány igénybevétele (12.1. + 12.2.) | C72: =SUM(C73:C74) -> 0
A73: 12.1. | B73: Előző év költségvetési maradványának igénybevétele | C73: =+D73 -> 0
A74: 12.2. | B74: Előző év vállalkozási maradványának igénybevétele | C74: =+D74 -> 0
A75: 13. | B75: Belföldi finanszírozás bevételei (13.1. + … + 13.3.) | C75: =SUM(C76:C78) -> 1168
A76: 13.1. | B76: Normatíva bevétel | C76: =+D76 -> 0
A77: 13.2. | B77: Önkormányzati támogatás Kenese | C77: 1168
A78: 13.3. | B78: Önkormányzati támogatás más önkormányzat | C78: =+D78 -> 0
A79: 14. | B79: Külföldi finanszírozás bevételei (14.1.+…14.4.) | C79: =SUM(C80:C83) -> 0
A80: 14.1. | B80: Forgatási célú külföldi értékpapírok beváltása, értékesítése | C80: =+D80 -> 0
A81: 14.2. | B81: Befektetési célú külföldi értékpapírok beváltása, értékesítése | C81: =+D81 -> 0
A82: 14.3. | B82: Külföldi értékpapírok kibocsátása | C82: =+D82 -> 0
A83: 14.4. | B83: Külföldi hitelek, kölcsönök felvétele | C83: =+D83 -> 0
A84: 15. | B84: Váltóbevételek | C84: =+D84 -> 0
A85: 16. | B85: Adóssághoz nem kapcsolódó származékos ügyletek bevételei | C85: =+D85 -> 0
A86: 17. | B86: FINANSZÍROZÁSI BEVÉTELEK ÖSSZESEN: (10. + … +16.) | C86: =+C63+C67+C72+C75+C79+C85+C84 -> 1168
A87: 18. | B87: KÖLTSÉGVETÉSI ÉS FINANSZÍROZÁSI BEVÉTELEK ÖSSZESEN: (9+17) | C87: =+C62+C86 -> 31848
B89: K I A D Á S O K
C90: Ezer forintban
A91: Sor- szám | B91: Kiadási jogcímek | C91: =+C3 -> 2015. évi előirányzat
A92: A | B92: B | C92: C
A93: 1. | B93: Működési költségvetés kiadásai (1.1+…+1.5.+1.18.) | C93: =C94+C95+C96+C97+C98+C111 -> 31646
A94: 1.1. | B94: Személyi juttatások | C94: 16648
A95: 1.2. | B95: Munkaadókat terhelő járulékok és szociális hozzájárulási adó | C95: 4507
A96: 1.3. | B96: Dologi kiadások | C96: 10491
A97: 1.4. | B97: Ellátottak pénzbeli juttatásai | C97: =+D97 -> 0
A98: 1.5 | B98: Egyéb működési célú kiadások | C98: =SUM(C99:C110) -> 0
A99: 1.6. | B99: - az 1.5-ből: - Előző évi elszámolásból származó befizetések | C99: =+D99 -> 0
A100: 1.7. | B100: - Törvényi előíráson alapuló befizetések | C100: =+D100 -> 0
A101: 1.8. | B101: - Elvonások és befizetések | C101: =+D101 -> 0
...

Sheet 2.1.sz.mell  
B1: I. Működési célú bevételek és kiadások mérlege (Önkormányzati szinten)
E2: Ezer forintban !
A3: Sor- szám | B3: Bevételek | D3: Kiadások
B4: Megnevezés | C4: =+'1.1.sz.mell. Önk. szumma'!E3 -> 2015. évi előirányzat | D4: Megnevezés | E4: =+C4 -> 2015. évi előirányzat
A5: A | B5: B | C5: C | D5: D | E5: E
A6: 1. | B6: Önkormányzatok működési támogatásai | C6: 284600 | D6: Személyi juttatások | E6: 174235
A7: 2. | B7: Működési célú támogatások államháztartáson belülről | C7: 19440 | D7: Munkaadókat terhelő járulékok és szociális hozzájárulási adó | E7: 47779
A8: 3. | B8: 2.-ból EU-s támogatás | C8: 2841 | D8: Dologi kiadások | E8: 286787
A9: 4. | B9: Közhatalmi bevételek | C9: 209000 | D9: Ellátottak pénzbeli juttatásai | E9: 11588
A10: 5. | B10: Működési bevételek | C10: 102389 | D10: Egyéb működési célú kiadások | E10: 151868
A11: 6. | B11: Működési célú átvett pénzeszközök | C11: 18520 | D11: Tartalékok | E11: 147876
A12: 7. | B12: 6.-ból EU-s támogatás (közvetlen) | C12: 9000
A13: 8.
A14: 9.
A15: 10.
A16: 11.
A17: 12.
A18: 13. | B18: Költségvetési bevételek összesen (1.+2.+4.+5.+6.+8.+…+12.) | C18: =SUM(C6:C17)-C8-C12 -> 633949 | D18: Költségvetési kiadások összesen (1.+...+12.) | E18: =SUM(E6:E17) -> 820133
A19: 14. | B19: Hiány belső finanszírozásának bevételei (15.+…+18. ) | C19: =+C20+C21+C22+C23 -> 186184 | D19: Értékpapír vásárlása, visszavásárlása
A20: 15. | B20: Költségvetési maradvány igénybevétele | C20: 186184 | D20: Likviditási célú hitelek törlesztése
A21: 16. | B21: Vállalkozási maradvány igénybevétele | D21: Rövid lejáratú hitelek törlesztése
A22: 17. | B22: Betét visszavonásából származó bevétel | D22: Hosszú lejáratú hitelek törlesztése
A23: 18. | B23: Egyéb belső finanszírozási bevételek | D23: Kölcsön törlesztése
A24: 19. | B24: Hiány külső finanszírozásának bevételei (20.+…+21.) | C24: =+C25+C26 -> 0 | D24: Forgatási célú belföldi, külföldi értékpapírok vásárlása
A25: 20. | B25: Likviditási célú hitelek, kölcsönök felvétele | D25: Pénzeszközök lekötött betétként elhelyezése
A26: 21. | B26: Értékpapírok bevételei | D26: Adóssághoz nem kapcsolódó származékos ügyletek
A27: 22. | B27: Váltóbevételek | D27: Váltókiadások
A28: 23. | B28: Adóssághoz nem kapcsolódó származékos ügyletek bevételei
A29: 24. | B29: Működési célú finanszírozási bevételek összesen (14.+19.+22.+23.) | C29: =+C19+C24+C27+C28 -> 186184 | D29: Működési célú finanszírozási kiadások összesen (14.+...+23.) | E29: =SUM(E19:E28) -> 0
A30: 25. | B30: BEVÉTEL ÖSSZESEN (13.+24.) | C30: =+C18+C29 -> 820133 | D30: KIADÁSOK ÖSSZESEN (13.+24.) | E30: =+E18+E29 -> 820133
A31: 26. | B31: Költségvetési hiány: | C31: =IF(C18-E18<0,E18-C18,"-") -> 186184 | D31: Költségvetési többlet: | E31: =IF(C18-E18>0,C18-E18,"-") -> -
A32: 27. | B32: Tárgyévi hiány: | C32: =IF(C18+C29-E30<0,E30-(C18+C29),"-") -> - | D32: Tárgyévi többlet: | E32: =IF(C18+C29-E30>0,C18+C29-E30,"-") -> -

Sheet 2.2.sz.mell  
B1: II. Felhalmozási célú bevételek és kiadások mérlege (Önkormányzati szinten)
E2: Ezer forintban !
A3: Sor- szám | B3: Bevételek | D3: Kiadások
B4: Megnevezés | C4: =+'2.1.sz.mell '!C4 -> 2015. évi előirányzat | D4: Megnevezés | E4: =+'2.1.sz.mell '!C4 -> 2015. évi előirányzat
A5: A | B5: B | C5: C | D5: D | E5: E
A6: 1. | B6: Felhalmozási célú támogatások államháztartáson belülről | D6: Beruházások | E6: 220558
A7: 2. | B7: 1.-ből EU-s támogatás | D7: 1.-ből EU-s forrásból megvalósuló beruházás
A8: 3. | B8: Felhalmozási bevételek | D8: Felújítások | E8: 60440
A9: 4. | B9: Felhalmozási célú átvett pénzeszközök átvétele | C9: 261680 | D9: 3.-ból EU-s forrásból megvalósuló felújítás
A10: 5. | B10: 4.-ből EU-s támogatás (közvetlen) | C10: 247218 | D10: Egyéb felhalmozási kiadások
A11: 6. | B11: Egyéb felhalmozási célú bevételek
A12: 7.
A13: 8.
A14: 9.
A15: 10.
A16: 11. | D16: Tartalékok
A17: 12. | B17: Költségvetési bevételek összesen: (1.+3.+4.+6.+…+11.) | C17: =+C6+C8+C9+C11+C12+C13+C14+C15+C16 -> 261680 | D17: Költségvetési kiadások összesen: (1.+3.+5.+...+11.) | E17: =+E6+E8+E10+E11+E12+E13+E14+E15+E16 -> 280998
A18: 13. | B18: Hiány belső finanszírozás bevételei ( 14+…+18) | C18: =+C19+C20+C21+C22+C23 -> 19318 | D18: Értékpapír vásárlása, visszavásárlása
A19: 14. | B19: Költségvetési maradvány igénybevétele | C19: 19318 | D19: Hitelek törlesztése
A20: 15. | B20: Vállalkozási maradvány igénybevétele | D20: Rövid lejáratú hitelek törlesztése
A21: 16. | B21: Betét visszavonásából származó bevétel | D21: Hosszú lejáratú hitelek törlesztése
A22: 17. | B22: Értékpapír értékesítése | D22: Kölcsön törlesztése
A23: 18. | B23: Egyéb belső finanszírozási bevételek | D23: Befektetési célú belföldi, külföldi értékpapírok vásárlása
A24: 19. | B24: Hiány külső finanszírozásának bevételei (20+…+24 ) | C24: =+C25+C26+C27+C28+C29 -> 0 | D24: Betét elhelyezése
A25: 20. | B25: Hosszú lejáratú hitelek, kölcsönök felvétele | D25: Pénzügyi lízing kiadásai
A26: 21. | B26: Likviditási célú hitelek, kölcsönök felvétele
A27: 22. | B27: Rövid lejáratú hitelek, kölcsönök felvétele
A28: 23. | B28: Értékpapírok kibocsátása
A29: 24. | B29: Egyéb külső finanszírozási bevételek
A30: 25. | B30: Felhalmozási célú finanszírozási bevételek összesen (13.+19.) | C30: =+C18+C24 -> 19318 | D30: Felhalmozási célú finanszírozási kiadások összesen (13.+...+24.) | E30: =SUM(E18:E29) -> 0
A31: 26. | B31: BEVÉTEL ÖSSZESEN (12+25) | C31: =+C17+C30 -> 280998 | D31: KIADÁSOK ÖSSZESEN (12+25) | E31: =+E17+E30 -> 280998
A32: 27. | B32: Költségvetési hiány: | C32: =IF(C17-E17<0,E17-C17,"-") -> 19318 | D32: Költségvetési többlet: | E32: =IF(C17-E17>0,C17-E17,"-") -> -
A33: 28. | B33: Tárgyévi hiány: | C33: =IF(C17+C30-E26<0,E26-(C17+C30),"-") -> - | D33: Tárgyévi többlet: | E33: =IF(C19+C30-E31>0,C19+C30-E31,"-") -> -

Sheet ELLENŐRZÉS-1.sz.2.a.sz.2.b.sz.
A1: Költségvetési rendelet űrlapjainak összefüggései: | E1: ELTÉRÉS
A4: =+ÖSSZEFÜGGÉSEK!A5 -> 2015. évi előirányzat BEVÉTELEK
A6: 1.1. sz. melléklet Bevételek táblázat C. oszlop 9 sora = | B6: =+'1.1.sz.mell. Önk. szumma'!E62 -> 895629 | C6: 2.1. számú melléklet C. oszlop 13. sor + 2.2. számú melléklet C. oszlop 12. sor | D6: =+'2.1.sz.mell '!C18+'2.2.sz.mell '!C17 -> 895629 | E6: =+B6-D6 -> 0
A7: 1.1. sz. melléklet Bevételek táblázat C. oszlop 17 sora = | B7: =+'1.1.sz.mell. Önk. szumma'!E86 -> 205502 | C7: 2.1. számú melléklet C. oszlop 24. sor + 2.2. számú melléklet C. oszlop 25. sor | D7: =+'2.1.sz.mell '!C29+'2.2.sz.mell '!C30 -> 205502 | E7: =+B7-D7 -> 0
A8: 1.1. sz. melléklet Bevételek táblázat C. oszlop 18 sora = | B8: =+'1.1.sz.mell. Önk. szumma'!E87 -> 1101131 | C8: 2.1. számú melléklet C. oszlop 25. sor + 2.2. számú melléklet C. oszlop 26. sor | D8: =+'2.1.sz.mell '!C30+'2.2.sz.mell '!C31 -> 1101131 | E8: =+B8-D8 -> 0
A11: =+ÖSSZEFÜGGÉSEK!A12 -> 2015. évi előirányzat KIADÁSOK
A13: 1.1. sz. melléklet Kiadások táblázat C. oszlop 3 sora = | B13: =+'1.1.sz.mell. Önk. szumma'!E128 -> 1101131 | C13: 2.1. számú melléklet E. oszlop 13. sor + 2.2. számú melléklet E. oszlop 12. sor | D13: =+'2.1.sz.mell '!E18+'2.2.sz.mell '!E17 -> 1101131 | E13: =+B13-D13 -> 0
