Workbook

Sheet ÖSSZEFÜGGÉSEK
A2: Költségvetési rendelet űrlapjainak összefüggései:
A5: 2015. évi előirányzat BEVÉTELEK
A7: 1.1. sz. melléklet Bevételek táblázat C. oszlop 9 sora = | B7: 2.1. számú melléklet C. oszlop 13. sor + 2.2. számú melléklet C. oszlop 12. sor
A8: 1.1. sz. melléklet Bevételek táblázat C. oszlop 17 sora = | B8: 2.1. számú melléklet C. oszlop 24. sor + 2.2. számú melléklet C. oszlop 25. sor
A9: 1.1. sz. melléklet Bevételek táblázat C. oszlop 18 sora = | B9: 2.1. számú melléklet C. oszlop 25. sor + 2.2. számú melléklet C. oszlop 26. sor
A12: =+CONCATENATE(LEFT(A5,4),". évi előirányzat KIADÁSOK") -> 2015. évi előirányzat KIADÁSOK
A14: 1.1. sz. melléklet Kiadások táblázat C. oszlop 3 sora = | B14: 2.1. számú melléklet E. oszlop 13. sor + 2.2. számú melléklet E. oszlop 12. sor
A15: 1.1. sz. melléklet Kiadások táblázat C. oszlop 10 sora = | B15: 2.1. számú melléklet E. oszlop 24. sor + 2.2. számú melléklet E. oszlop 25. sor
A16: 1.1. sz. melléklet Kiadások táblázat C. oszlop 11 sora = | B16: 2.1. számú melléklet E. oszlop 25. sor + 2.2. számú melléklet E. oszlop 26. sor

Sheet 1.1.sz.mell. Önk. szumma
B1: B E V É T E L E K
E2: Ezer forintban
A3: Sor- szám | B3: Bevételi jogcím | C3: 2013. évi tény adatok | D3: 2014.évi várható tényadatok | E3: =+CONCATENATE(LEFT(ÖSSZEFÜGGÉSEK!A5,4),". évi előirányzat") -> 2015. évi előirányzat
A4: A | B4: B | E4: C
A5: 1. | B5: Önkormányzat működési támogatásai (1.1.+…+.1.6.) | C5: =+C6+C7+C8+C9+C10+C11 -> 355186 | D5: =+D6+D7+D8+D9+D10+D11 -> 427393 | E5: =+E6+E7+E8+E9+E10+E11 -> 284600
A6: 1.1. | B6: Helyi önkormányzatok működésének általános támogatása | C6: =+'1.2.1.sz.mell. Önk. összes'!C6+'1.2.2.sz.mell. Hivatal össz.'!C6+'1.2.3.sz.mell.Műv.össz.'!C6+'1.2.4.sz.mell.Vágo.össz.'!C6 -> 128500 | D6: =+'1.2.1.sz.mell. Önk. összes'!D6+'1.2.2.sz.mell. Hivatal össz.'!D6+'1.2.3.sz.mell.Műv.össz.'!D6+'1.2.4.sz.mell.Vágo.össz.'!D6 -> 151576 | E6: =+'1.2.1.sz.mell. Önk. összes'!E6+'1.2.2.sz.mell. Hivatal össz.'!E6+'1.2.3.sz.mell.Műv.össz.'!E6+'1.2.4.sz.mell.Vágo.össz.'!E6 -> 134598
A7: 1.2. | B7: Önkormányzatok egyes köznevelési feladatainak támogatása | C7: =+'1.2.1.sz.mell. Önk. összes'!C7+'1.2.2.sz.mell. Hivatal össz.'!C7+'1.2.3.sz.mell.Műv.össz.'!C7+'1.2.4.sz.mell.Vágo.össz.'!C7 -> 53004 | D7: =+'1.2.1.sz.mell. Önk. összes'!D7+'1.2.2.sz.mell. Hivatal össz.'!D7+'1.2.3.sz.mell.Műv.össz.'!D7+'1.2.4.sz.mell.Vágo.össz.'!D7 -> 47228 | E7: =+'1.2.1.sz.mell. Önk. összes'!E7+'1.2.2.sz.mell. Hivatal össz.'!E7+'1.2.3.sz.mell.Műv.össz.'!E7+'1.2.4.sz.mell.Vágo.össz.'!E7 -> 62198
A8: 1.3. | B8: Önkormányzatok szociális és gyermekjóléti feladatainak támogatása | C8: =+'1.2.1.sz.mell. Önk. összes'!C8+'1.2.2.sz.mell. Hivatal össz.'!C8+'1.2.3.sz.mell.Műv.össz.'!C8+'1.2.4.sz.mell.Vágo.össz.'!C8 -> 36545 | D8: =+'1.2.1.sz.mell. Önk. összes'!D8+'1.2.2.sz.mell. Hivatal össz.'!D8+'1.2.3.sz.mell.Műv.össz.'!D8+'1.2.4.sz.mell.Vágo.össz.'!D8 -> 64914 | E8: =+'1.2.1.sz.mell. Önk. összes'!E8+'1.2.2.sz.mell. Hivatal össz.'!E8+'1.2.3.sz.mell.Műv.össz.'!E8+'1.2.4.sz.mell.Vágo.össz.'!E8 -> 40414
A9: 1.4. | B9: Önkormányzatok kulturális feladatainak támogatása | C9: =+'1.2.1.sz.mell. Önk. összes'!C9+'1.2.2.sz.mell. Hivatal össz.'!C9+'1.2.3.sz.mell.Műv.össz.'!C9+'1.2.4.sz.mell.Vágo.össz.'!C9 -> 4047 | D9: =+'1.2.1.sz.mell. Önk. összes'!D9+'1.2.2.sz.mell. Hivatal össz.'!D9+'1.2.3.sz.mell.Műv.össz.'!D9+'1.2.4.sz.mell.Vágo.össz.'!D9 -> 4033 | E9: =+'1.2.1.sz.mell. Önk. összes'!E9+'1.2.2.sz.mell. Hivatal össz.'!E9+'1.2.3.sz.mell.Műv.össz.'!E9+'1.2.4.sz.mell.Vágo.össz.'!E9 -> 2997
A10: 1.5. | B10: Működési célú kvi támogatások és kiegészítő támogatások | C10: =+'1.2.1.sz.mell. Önk. összes'!C10+'1.2.2.sz.mell. Hivatal össz.'!C10+'1.2.3.sz.mell.Műv.össz.'!C10+'1.2.4.sz.mell.Vágo.össz.'!C10 -> 87361 | D10: =+'1.2.1.sz.mell. Önk. összes'!D10+'1.2.2.sz.mell. Hivatal össz.'!D10+'1.2.3.sz.mell.Műv.össz.'!D10+'1.2.4.sz.mell.Vágo.össz.'!D10 -> 95463 | E10: =+'1.2.1.sz.mell. Önk. összes'!E10+'1.2.2.sz.mell. Hivatal össz.'!E10+'1.2.3.sz.mell.Műv.össz.'!E10+'1.2.4.sz.mell.Vágo.össz.'!E10 -> 34919
A11: 1.6. | B11: Elszámolásból származó bevételek | C11: =+'1.2.1.sz.mell. Önk. összes'!C11+'1.2.2.sz.mell. Hivatal össz.'!C11+'1.2.3.sz.mell.Műv.össz.'!C11+'1.2.4.sz.mell.Vágo.össz.'!C11 -> 45729 | D11: =+'1.2.1.sz.mell. Önk. összes'!D11+'1.2.2.sz.mell. Hivatal össz.'!D11+'1.2.3.sz.mell.Műv.össz.'!D11+'1.2.4.sz.mell.Vágo.össz.'!D11 -> 64179 | E11: =+'1.2.1.sz.mell. Önk. összes'!E11+'1.2.2.sz.mell. Hivatal össz.'!E11+'1.2.3.sz.mell.Műv.össz.'!E11+'1.2.4.sz.mell.Vágo.össz.'!E11 -> 9474
A12: 2. | B12: Működési célú támogatások államháztartáson belülről (2.1.+…+.2.5.) | C12: =+'1.2.1.sz.mell. Önk. összes'!C12+'1.2.2.sz.mell. Hivatal össz.'!C12+'1.2.3.sz.mell.Műv.össz.'!C12+'1.2.4.sz.mell.Vágo.össz.'!C12 -> 34342 | D12: =+'1.2.1.sz.mell. Önk. összes'!D12+'1.2.2.sz.mell. Hivatal össz.'!D12+'1.2.3.sz.mell.Műv.össz.'!D12+'1.2.4.sz.mell.Vágo.össz.'!D12 -> 50089 | E12: =+E13+E14+E15+E16+E17 -> 19440
A13: 2.1. | B13: Elvonások és befizetések bevételei | C13: =+'1.2.1.sz.mell. Önk. összes'!C13+'1.2.2.sz.mell. Hivatal össz.'!C13+'1.2.3.sz.mell.Műv.össz.'!C13+'1.2.4.sz.mell.Vágo.össz.'!C13 -> 0 | D13: =+'1.2.1.sz.mell. Önk. összes'!D13+'1.2.2.sz.mell. Hivatal össz.'!D13+'1.2.3.sz.mell.Műv.össz.'!D13+'1.2.4.sz.mell.Vágo.össz.'!D13 -> 0 | E13: =+'1.2.1.sz.mell. Önk. összes'!E13+'1.2.2.sz.mell. Hivatal össz.'!E13+'1.2.3.sz.mell.Műv.össz.'!E13+'1.2.4.sz.mell.Vágo.össz.'!E13 -> 0
A14: 2.2. | B14: Működési célú garancia- és kezességvállalásból megtérülések | C14: =+'1.2.1.sz.mell. Önk. összes'!C14+'1.2.2.sz.mell. Hivatal össz.'!C14+'1.2.3.sz.mell.Műv.össz.'!C14+'1.2.4.sz.mell.Vágo.össz.'!C14 -> 0 | D14: =+'1.2.1.sz.mell. Önk. összes'!D14+'1.2.2.sz.mell. Hivatal össz.'!D14+'1.2.3.sz.mell.Műv.össz.'!D14+'1.2.4.sz.mell.Vágo.össz.'!D14 -> 0 | E14: =+'1.2.1.sz.mell. Önk. összes'!E14+'1.2.2.sz.mell. Hivatal össz.'!E14+'1.2.3.sz.mell.Műv.össz.'!E14+'1.2.4.sz.mell.Vágo.össz.'!E14 -> 0
A15: 2.3. | B15: Működési célú visszatérítendő támogatások, kölcsönök visszatérülése | C15: =+'1.2.1.sz.mell. Önk. összes'!C15+'1.2.2.sz.mell. Hivatal össz.'!C15+'1.2.3.sz.mell.Műv.össz.'!C15+'1.2.4.sz.mell.Vágo.össz.'!C15 -> 0 | D15: =+'1.2.1.sz.mell. Önk. összes'!D15+'1.2.2.sz.mell. Hivatal össz.'!D15+'1.2.3.sz.mell.Műv.össz.'!D15+'1.2.4.sz.mell.Vágo.össz.'!D15 -> 0 | E15: =+'1.2.1.sz.mell. Önk. összes'!E15+'1.2.2.sz.mell. Hivatal össz.'!E15+'1.2.3.sz.mell.Műv.össz.'!E15+'1.2.4.sz.mell.Vágo.össz.'!E15 -> 0
A16: 2.4. | B16: Működési célú visszatérítendő támogatások, kölcsönök igénybevétele | C16: =+'1.2.1.sz.mell. Önk. összes'!C16+'1.2.2.sz.mell. Hivatal össz.'!C16+'1.2.3.sz.mell.Műv.össz.'!C16+'1.2.4.sz.mell.Vágo.össz.'!C16 -> 0 | D16: =+'1.2.1.sz.mell. Önk. összes'!D16+'1.2.2.sz.mell. Hivatal össz.'!D16+'1.2.3.sz.mell.Műv.össz.'!D16+'1.2.4.sz.mell.Vágo.össz.'!D16 -> 0 | E16: =+'1.2.1.sz.mell. Önk. összes'!E16+'1.2.2.sz.mell. Hivatal össz.'!E16+'1.2.3.sz.mell.Műv.össz.'!E16+'1.2.4.sz.mell.Vágo.össz.'!E16 -> 0
A17: 2.5. | B17: Egyéb működési célú támogatások bevételei | C17: =+'1.2.1.sz.mell. Önk. összes'!C17+'1.2.2.sz.mell. Hivatal össz.'!C17+'1.2.3.sz.mell.Műv.össz.'!C17+'1.2.4.sz.mell.Vágo.össz.'!C17 -> 34342 | D17: =+'1.2.1.sz.mell. Önk. összes'!D17+'1.2.2.sz.mell. Hivatal össz.'!D17+'1.2.3.sz.mell.Műv.össz.'!D17+'1.2.4.sz.mell.Vágo.össz.'!D17 -> 50089 | E17: =+'1.2.1.sz.mell. Önk. összes'!E17+'1.2.2.sz.mell. Hivatal össz.'!E17+'1.2.3.sz.mell.Műv.össz.'!E17+'1.2.4.sz.mell.Vágo.össz.'!E17 -> 19440
A18: 2.6. | B18: 2.5.-ből EU-s támogatás | C18: =+'1.2.1.sz.mell. Önk. összes'!C18+'1.2.2.sz.mell. Hivatal össz.'!C18+'1.2.3.sz.mell.Műv.össz.'!C18+'1.2.4.sz.mell.Vágo.össz.'!C18 -> 0 | D18: =+'1.2.1.sz.mell. Önk. összes'!D18+'1.2.2.sz.mell. Hivatal össz.'!D18+'1.2.3.sz.mell.Műv.össz.'!D18+'1.2.4.sz.mell.Vágo.össz.'!D18 -> 0 | E18: =+'1.2.1.sz.mell. Önk. összes'!E18+'1.2.2.sz.mell. Hivatal össz.'!E18+'1.2.3.sz.mell.Műv.össz.'!E18+'1.2.4.sz.mell.Vágo.össz.'!E18 -> 0
A19: 3. | B19: Felhalmozási célú támogatások államháztartáson belülről (3.1.+…+3.5.) | C19: =+'1.2.1.sz.mell. Önk. összes'!C19+'1.2.2.sz.mell. Hivatal össz.'!C19+'1.2.3.sz.mell.Műv.össz.'!C19+'1.2.4.sz.mell.Vágo.össz.'!C19 -> 93450 | D19: =+'1.2.1.sz.mell. Önk. összes'!D19+'1.2.2.sz.mell. Hivatal össz.'!D19+'1.2.3.sz.mell.Műv.össz.'!D19+'1.2.4.sz.mell.Vágo.össz.'!D19 -> 6056 | E19: =+E20+E21+E22+E23+E24 -> 0
A20: 3.1. | B20: Felhalmozási célú önkormányzati támogatások | C20: =+'1.2.1.sz.mell. Önk. összes'!C20+'1.2.2.sz.mell. Hivatal össz.'!C20+'1.2.3.sz.mell.Műv.össz.'!C20+'1.2.4.sz.mell.Vágo.össz.'!C20 -> 0 | D20: =+'1.2.1.sz.mell. Önk. összes'!D20+'1.2.2.sz.mell. Hivatal össz.'!D20+'1.2.3.sz.mell.Műv.össz.'!D20+'1.2.4.sz.mell.Vágo.össz.'!D20 -> 0 | E20: =+'1.2.1.sz.mell. Önk. összes'!E20+'1.2.2.sz.mell. Hivatal össz.'!E20+'1.2.3.sz.mell.Műv.össz.'!E20+'1.2.4.sz.mell.Vágo.össz.'!E20 -> 0
A21: 3.2. | B21: Felhalmozási célú garancia- és kezességvállalásból megtérülések | C21: =+'1.2.1.sz.mell. Önk. összes'!C21+'1.2.2.sz.mell. Hivatal össz.'!C21+'1.2.3.sz.mell.Műv.össz.'!C21+'1.2.4.sz.mell.Vágo.össz.'!C21 -> 0 | D21: =+'1.2.1.sz.mell. Önk. összes'!D21+'1.2.2.sz.mell. Hivatal össz.'!D21+'1.2.3.sz.mell.Műv.össz.'!D21+'1.2.4.sz.mell.Vágo.össz.'!D21 -> 0 | E21: =+'1.2.1.sz.mell. Önk. összes'!E21+'1.2.2.sz.mell. Hivatal össz.'!E21+'1.2.3.sz.mell.Műv.össz.'!E21+'1.2.4.sz.mell.Vágo.össz.'!E21 -> 0
A22: 3.3. | B22: Felhalmozási célú visszatérítendő támogatások, kölcsönök visszatérülése | C22: =+'1.2.1.sz.mell. Önk. összes'!C22+'1.2.2.sz.mell. Hivatal össz.'!C22+'1.2.3.sz.mell.Műv.össz.'!C22+'1.2.4.sz.mell.Vágo.össz.'!C22 -> 0 | D22: =+'1.2.1.sz.mell. Önk. összes'!D22+'1.2.2.sz.mell. Hivatal össz.'!D22+'1.2.3.sz.mell.Műv.össz.'!D22+'1.2.4.sz.mell.Vágo.össz.'!D22 -> 0 | E22: =+'1.2.1.sz.mell. Önk. összes'!E22+'1.2.2.sz.mell. Hivatal össz.'!E22+'1.2.3.sz.mell.Műv.össz.'!E22+'1.2.4.sz.mell.Vágo.össz.'!E22 -> 0
A23: 3.4. | B23: Felhalmozási célú visszatérítendő támogatások, kölcsönök igénybevétele | C23: =+'1.2.1.sz.mell. Önk. összes'!C23+'1.2.2.sz.mell. Hivatal össz.'!C23+'1.2.3.sz.mell.Műv.össz.'!C23+'1.2.4.sz.mell.Vágo.össz.'!C23 -> 0 | D23: =+'1.2.1.sz.mell. Önk. összes'!D23+'1.2.2.sz.mell. Hivatal össz.'!D23+'1.2.3.sz.mell.Műv.össz.'!D23+'1.2.4.sz.mell.Vágo.össz.'!D23 -> 0 | E23: =+'1.2.1.sz.mell. Önk. összes'!E23+'1.2.2.sz.mell. Hivatal össz.'!E23+'1.2.3.sz.mell.Műv.össz.'!E23+'1.2.4.sz.mell.Vágo.össz.'!E23 -> 0
A24: 3.5. | B24: Egyéb felhalmozási célú támogatások bevételei | C24: =+'1.2.1.sz.mell. Önk. összes'!C24+'1.2.2.sz.mell. Hivatal össz.'!C24+'1.2.3.sz.mell.Műv.össz.'!C24+'1.2.4.sz.mell.Vágo.össz.'!C24 -> 93450 | D24: =+'1.2.1.sz.mell. Önk. összes'!D24+'1.2.2.sz.mell. Hivatal össz.'!D24+'1.2.3.sz.mell.Műv.össz.'!D24+'1.2.4.sz.mell.Vágo.össz.'!D24 -> 6056 | E24: =+'1.2.1.sz.mell. Önk. összes'!E24+'1.2.2.sz.mell. Hivatal össz.'!E24+'1.2.3.sz.mell.Műv.össz.'!E24+'1.2.4.sz.mell.Vágo.össz.'!E24 -> 0
A25: 3.6. | B25: 3.5.-ből EU-s támogatás | C25: =+'1.2.1.sz.mell. Önk. összes'!C25+'1.2.2.sz.mell. Hivatal össz.'!C25+'1.2.3.sz.mell.Műv.össz.'!C25+'1.2.4.sz.mell.Vágo.össz.'!C25 -> 92830 | D25: =+'1.2.1.sz.mell. Önk. összes'!D25+'1.2.2.sz.mell. Hivatal össz.'!D25+'1.2.3.sz.mell.Műv.össz.'!D25+'1.2.4.sz.mell.Vágo.össz.'!D25 -> 0 | E25: =+'1.2.1.sz.mell. Önk. összes'!E25+'1.2.2.sz.mell. Hivatal össz.'!E25+'1.2.3.sz.mell.Műv.össz.'!E25+'1.2.4.sz.mell.Vágo.össz.'!E25 -> 0
A26: 4. | B26: Közhatalmi bevételek (4.1.+4.2.+4.3.+4.4.) | C26: =+'1.2.1.sz.mell. Önk. összes'!C26+'1.2.2.sz.mell. Hivatal össz.'!C26+'1.2.3.sz.mell.Műv.össz.'!C26+'1.2.4.sz.mell.Vágo.össz.'!C26 -> 344986 | D26: =+'1.2.1.sz.mell. Önk. összes'!D26+'1.2.2.sz.mell. Hivatal össz.'!D26+'1.2.3.sz.mell.Műv.össz.'!D26+'1.2.4.sz.mell.Vágo.össz.'!D26 -> 313531 | E26: =+E27+E31+E32+E33 -> 209000
A27: 4.1. | B27: Helyi adók (4.1.1.+...+4.1.3.) | C27: =+'1.2.1.sz.mell. Önk. összes'!C27+'1.2.2.sz.mell. Hivatal össz.'!C27+'1.2.3.sz.mell.Műv.össz.'!C27+'1.2.4.sz.mell.Vágo.össz.'!C27 -> 340144 | D27: =+'1.2.1.sz.mell. Önk. összes'!D27+'1.2.2.sz.mell. Hivatal össz.'!D27+'1.2.3.sz.mell.Műv.össz.'!D27+'1.2.4.sz.mell.Vágo.össz.'!D27 -> 312918 | E27: =+E28+E29+E30 -> 201000
A28: 4.1.1. | B28: - Vagyoni típusú adók | C28: =+'1.2.1.sz.mell. Önk. összes'!C28+'1.2.2.sz.mell. Hivatal össz.'!C28+'1.2.3.sz.mell.Műv.össz.'!C28+'1.2.4.sz.mell.Vágo.össz.'!C28 -> 0 | D28: =+'1.2.1.sz.mell. Önk. összes'!D28+'1.2.2.sz.mell. Hivatal össz.'!D28+'1.2.3.sz.mell.Műv.össz.'!D28+'1.2.4.sz.mell.Vágo.össz.'!D28 -> 0 | E28: =+'1.2.1.sz.mell. Önk. összes'!E28+'1.2.2.sz.mell. Hivatal össz.'!E28+'1.2.3.sz.mell.Műv.össz.'!E28+'1.2.4.sz.mell.Vágo.össz.'!E28 -> 125000
A29: 4.1.2. | B29: - Termékek és szolgáltatások adói | C29: =+'1.2.1.sz.mell. Önk. összes'!C29+'1.2.2.sz.mell. Hivatal össz.'!C29+'1.2.3.sz.mell.Műv.össz.'!C29+'1.2.4.sz.mell.Vágo.össz.'!C29 -> 0 | D29: =+'1.2.1.sz.mell. Önk. összes'!D29+'1.2.2.sz.mell. Hivatal össz.'!D29+'1.2.3.sz.mell.Műv.össz.'!D29+'1.2.4.sz.mell.Vágo.össz.'!D29 -> 0 | E29: =+'1.2.1.sz.mell. Önk. összes'!E29+'1.2.2.sz.mell. Hivatal össz.'!E29+'1.2.3.sz.mell.Műv.össz.'!E29+'1.2.4.sz.mell.Vágo.össz.'!E29 -> 18000
A30: 4.1.3. | B30: - Értékesítési és forgalmi adók (iparűzési adó) | C30: =+'1.2.1.sz.mell. Önk. összes'!C30+'1.2.2.sz.mell. Hivatal össz.'!C30+'1.2.3.sz.mell.Műv.össz.'!C30+'1.2.4.sz.mell.Vágo.össz.'!C30 -> 0 | D30: =+'1.2.1.sz.mell. Önk. összes'!D30+'1.2.2.sz.mell. Hivatal össz.'!D30+'1.2.3.sz.mell.Műv.össz.'!D30+'1.2.4.sz.mell.Vágo.össz.'!D30 -> 0 | E30: =+'1.2.1.sz.mell. Önk. összes'!E30+'1.2.2.sz.mell. Hivatal össz.'!E30+'1.2.3.sz.mell.Műv.össz.'!E30+'1.2.4.sz.mell.Vágo.össz.'!E30 -> 58000
A31: 4.2. | B31: Gépjárműadó | C31: =+'1.2.1.sz.mell. Önk. összes'!C31+'1.2.2.sz.mell. Hivatal össz.'!C31+'1.2.3.sz.mell.Műv.össz.'!C31+'1.2.4.sz.mell.Vágo.össz.'!C31 -> 0 | D31: =+'1.2.1.sz.mell. Önk. összes'!D31+'1.2.2.sz.mell. Hivatal össz.'!D31+'1.2.3.sz.mell.Műv.össz.'!D31+'1.2.4.sz.mell.Vágo.össz.'!D31 -> 0 | E31: =+'1.2.1.sz.mell. Önk. összes'!E31+'1.2.2.sz.mell. Hivatal össz.'!E31+'1.2.3.sz.mell.Műv.össz.'!E31+'1.2.4.sz.mell.Vágo.össz.'!E31 -> 7000
A32: 4.3. | B32: Egyéb áruhasználati és szolgáltatási adók | C32: =+'1.2.1.sz.mell. Önk. összes'!C32+'1.2.2.sz.mell. Hivatal össz.'!C32+'1.2.3.sz.mell.Műv.össz.'!C32+'1.2.4.sz.mell.Vágo.össz.'!C32 -> 0 | D32: =+'1.2.1.sz.mell. Önk. összes'!D32+'1.2.2.sz.mell. Hivatal össz.'!D32+'1.2.3.sz.mell.Műv.össz.'!D32+'1.2.4.sz.mell.Vágo.össz.'!D32 -> 0 | E32: =+'1.2.1.sz.mell. Önk. összes'!E32+'1.2.2.sz.mell. Hivatal össz.'!E32+'1.2.3.sz.mell.Műv.össz.'!E32+'1.2.4.sz.mell.Vágo.össz.'!E32 -> 0
A33: 4.4. | B33: Egyéb közhatalmi bevételek | C33: =+'1.2.1.sz.mell. Önk. összes'!C33+'1.2.2.sz.mell. Hivatal össz.'!C33+'1.2.3.sz.mell.Műv.össz.'!C33+'1.2.4.sz.mell.Vágo.össz.'!C33 -> 4842 | D33: =+'1.2.1.sz.mell. Önk. összes'!D33+'1.2.2.sz.mell. Hivatal össz.'!D33+'1.2.3.sz.mell.Műv.össz.'!D33+'1.2.4.sz.mell.Vágo.össz.'!D33 -> 613 | E33: =+'1.2.1.sz.mell. Önk. összes'!E33+'1.2.2.sz.mell. Hivatal össz.'!E33+'1.2.3.sz.mell.Műv.össz.'!E33+'1.2.4.sz.mell.Vágo.össz.'!E33 -> 1000
A34: 5. | B34: Működési bevételek (5.1.+…+ 5.11.) | C34: =+'1.2.1.sz.mell. Önk. összes'!C34+'1.2.2.sz.mell. Hivatal össz.'!C34+'1.2.3.sz.mell.Műv.össz.'!C34+'1.2.4.sz.mell.Vágo.össz.'!C34 -> 188226 | D34: =+'1.2.1.sz.mell. Önk. összes'!D34+'1.2.2.sz.mell. Hivatal össz.'!D34+'1.2.3.sz.mell.Műv.össz.'!D34+'1.2.4.sz.mell.Vágo.össz.'!D34 -> 123135 | E34: =SUM(E35:E45) -> 102389
A35: 5.1. | B35: Készletértékesítés ellenértéke | C35: =+'1.2.1.sz.mell. Önk. összes'!C35+'1.2.2.sz.mell. Hivatal össz.'!C35+'1.2.3.sz.mell.Műv.össz.'!C35+'1.2.4.sz.mell.Vágo.össz.'!C35 -> 14762 | D35: =+'1.2.1.sz.mell. Önk. összes'!D35+'1.2.2.sz.mell. Hivatal össz.'!D35+'1.2.3.sz.mell.Műv.össz.'!D35+'1.2.4.sz.mell.Vágo.össz.'!D35 -> 24 | E35: =+'1.2.1.sz.mell. Önk. összes'!E35+'1.2.2.sz.mell. Hivatal össz.'!E35+'1.2.3.sz.mell.Műv.össz.'!E35+'1.2.4.sz.mell.Vágo.össz.'!E35 -> 0
A36: 5.2. | B36: Szolgáltatások ellenértéke | C36: =+'1.2.1.sz.mell. Önk. összes'!C36+'1.2.2.sz.mell. Hivatal össz.'!C36+'1.2.3.sz.mell.Műv.össz.'!C36+'1.2.4.sz.mell.Vágo.össz.'!C36 -> 92850 | D36: =+'1.2.1.sz.mell. Önk. összes'!D36+'1.2.2.sz.mell. Hivatal össz.'!D36+'1.2.3.sz.mell.Műv.össz.'!D36+'1.2.4.sz.mell.Vágo.össz.'!D36 -> 65389 | E36: =+'1.2.1.sz.mell. Önk. összes'!E36+'1.2.2.sz.mell. Hivatal össz.'!E36+'1.2.3.sz.mell.Műv.össz.'!E36+'1.2.4.sz.mell.Vágo.össz.'!E36 -> 62900
A37: 5.3. | B37: Közvetített szolgáltatások értéke | C37: =+'1.2.1.sz.mell. Önk. összes'!C37+'1.2.2.sz.mell. Hivatal össz.'!C37+'1.2.3.sz.mell.Műv.össz.'!C37+'1.2.4.sz.mell.Vágo.össz.'!C37 -> 13849 | D37: =+'1.2.1.sz.mell. Önk. összes'!D37+'1.2.2.sz.mell. Hivatal össz.'!D37+'1.2.3.sz.mell.Műv.össz.'!D37+'1.2.4.sz.mell.Vágo.össz.'!D37 -> 18182 | E37: =+'1.2.1.sz.mell. Önk. összes'!E37+'1.2.2.sz.mell. Hivatal össz.'!E37+'1.2.3.sz.mell.Műv.össz.'!E37+'1.2.4.sz.mell.Vágo.össz.'!E37 -> 2000
A38: 5.4. | B38: Tulajdonosi bevételek | C38: =+'1.2.1.sz.mell. Önk. összes'!C38+'1.2.2.sz.mell. Hivatal össz.'!C38+'1.2.3.sz.mell.Műv.össz.'!C38+'1.2.4.sz.mell.Vágo.össz.'!C38 -> 4165 | D38: =+'1.2.1.sz.mell. Önk. összes'!D38+'1.2.2.sz.mell. Hivatal össz.'!D38+'1.2.3.sz.mell.Műv.össz.'!D38+'1.2.4.sz.mell.Vágo.össz.'!D38 -> 6452 | E38: =+'1.2.1.sz.mell. Önk. összes'!E38+'1.2.2.sz.mell. Hivatal össz.'!E38+'1.2.3.sz.mell.Műv.össz.'!E38+'1.2.4.sz.mell.Vágo.össz.'!E38 -> 5010
A39: 5.5. | B39: Ellátási díjak | C39: =+'1.2.1.sz.mell. Önk. összes'!C39+'1.2.2.sz.mell. Hivatal össz.'!C39+'1.2.3.sz.mell.Műv.össz.'!C39+'1.2.4.sz.mell.Vágo.össz.'!C39 -> 7692 | D39: =+'1.2.1.sz.mell. Önk. összes'!D39+'1.2.2.sz.mell. Hivatal össz.'!D39+'1.2.3.sz.mell.Műv.össz.'!D39+'1.2.4.sz.mell.Vágo.össz.'!D39 -> 8484 | E39: =+'1.2.1.sz.mell. Önk. összes'!E39+'1.2.2.sz.mell. Hivatal össz.'!E39+'1.2.3.sz.mell.Műv.össz.'!E39+'1.2.4.sz.mell.Vágo.össz.'!E39 -> 8800
A40: 5.6. | B40: Kiszámlázott általános forgalmi adó | C40: =+'1.2.1.sz.mell. Önk. összes'!C40+'1.2.2.sz.mell. Hivatal össz.'!C40+'1.2.3.sz.mell.Műv.össz.'!C40+'1.2.4.sz.mell.Vágo.össz.'!C40 -> 48021 | D40: =+'1.2.1.sz.mell. Önk. összes'!D40+'1.2.2.sz.mell. Hivatal össz.'!D40+'1.2.3.sz.mell.Műv.össz.'!D40+'1.2.4.sz.mell.Vágo.össz.'!D40 -> 17495 | E40: =+'1.2.1.sz.mell. Önk. összes'!E40+'1.2.2.sz.mell. Hivatal össz.'!E40+'1.2.3.sz.mell.Műv.össz.'!E40+'1.2.4.sz.mell.Vágo.össz.'!E40 -> 11879
...

Sheet 1.2.1.sz.mell. Önk. összes
B1: B E V É T E L E K
E2: Ezer forintban
A3: Sor- szám | B3: Bevételi jogcím | C3: 2013. évi tény adatok | D3: 2014.évi várható tényadatok | E3: =+CONCATENATE(LEFT(ÖSSZEFÜGGÉSEK!A5,4),". évi előirányzat") -> 2015. évi előirányzat
A4: A | B4: B | E4: C
A5: 1. | B5: Önkormányzat működési támogatásai (1.1.+…+.1.6.) | C5: =+C6+C7+C8+C9+C10+C11 -> 355186 | D5: =+D6+D7+D8+D9+D10+D11 -> 427393 | E5: =+E6+E7+E8+E9+E10+E11 -> 284600
A6: 1.1. | B6: Helyi önkormányzatok működésének általános támogatása | C6: 128500 | D6: 151576 | E6: =+'1.2.1.a.sz.mell. Önk isk.nélkül'!C6+'1.2.1.b.sz.mell. Önk iskola'!C6+'1.2.1.c.sz.mell. Önk. önk locs'!C6+'1.2.1.d.sz.mell.Önk.önk.konyha'!C6+'1.2.1.e.sz.mell.Önk. önk.támog.'!C6 -> 134598
A7: 1.2. | B7: Önkormányzatok egyes köznevelési feladatainak támogatása | C7: 53004 | D7: 47228 | E7: =+'1.2.1.a.sz.mell. Önk isk.nélkül'!C7+'1.2.1.b.sz.mell. Önk iskola'!C7+'1.2.1.c.sz.mell. Önk. önk locs'!C7+'1.2.1.d.sz.mell.Önk.önk.konyha'!C7+'1.2.1.e.sz.mell.Önk. önk.támog.'!C7 -> 62198
A8: 1.3. | B8: Önkormányzatok szociális és gyermekjóléti feladatainak támogatása | C8: 36545 | D8: 64914 | E8: =+'1.2.1.a.sz.mell. Önk isk.nélkül'!C8+'1.2.1.b.sz.mell. Önk iskola'!C8+'1.2.1.c.sz.mell. Önk. önk locs'!C8+'1.2.1.d.sz.mell.Önk.önk.konyha'!C8+'1.2.1.e.sz.mell.Önk. önk.támog.'!C8 -> 40414
A9: 1.4. | B9: Önkormányzatok kulturális feladatainak támogatása | C9: 4047 | D9: 4033 | E9: =+'1.2.1.a.sz.mell. Önk isk.nélkül'!C9+'1.2.1.b.sz.mell. Önk iskola'!C9+'1.2.1.c.sz.mell. Önk. önk locs'!C9+'1.2.1.d.sz.mell.Önk.önk.konyha'!C9+'1.2.1.e.sz.mell.Önk. önk.támog.'!C9 -> 2997
A10: 1.5. | B10: Működési célú kvi támogatások és kiegészítő támogatások | C10: 87361 | D10: 95463 | E10: =+'1.2.1.a.sz.mell. Önk isk.nélkül'!C10+'1.2.1.b.sz.mell. Önk iskola'!C10+'1.2.1.c.sz.mell. Önk. önk locs'!C10+'1.2.1.d.sz.mell.Önk.önk.konyha'!C10+'1.2.1.e.sz.mell.Önk. önk.támog.'!C10 -> 34919
A11: 1.6. | B11: Elszámolásból származó bevételek | C11: 45729 | D11: 64179 | E11: =+'1.2.1.a.sz.mell. Önk isk.nélkül'!C11+'1.2.1.b.sz.mell. Önk iskola'!C11+'1.2.1.c.sz.mell. Önk. önk locs'!C11+'1.2.1.d.sz.mell.Önk.önk.konyha'!C11+'1.2.1.e.sz.mell.Önk. önk.támog.'!C11 -> 9474
A12: 2. | B12: Működési célú támogatások államháztartáson belülről (2.1.+…+.2.5.) | C12: =+C13+C14+C15+C16+C17 -> 34342 | D12: =+D13+D14+D15+D16+D17 -> 47578 | E12: =+E13+E14+E15+E16+E17 -> 16657
A13: 2.1. | B13: Elvonások és befizetések bevételei | E13: =+'1.2.1.a.sz.mell. Önk isk.nélkül'!C13+'1.2.1.b.sz.mell. Önk iskola'!C13+'1.2.1.c.sz.mell. Önk. önk locs'!C13+'1.2.1.d.sz.mell.Önk.önk.konyha'!C13+'1.2.1.e.sz.mell.Önk. önk.támog.'!C13 -> 0
A14: 2.2. | B14: Működési célú garancia- és kezességvállalásból megtérülések | E14: =+'1.2.1.a.sz.mell. Önk isk.nélkül'!C14+'1.2.1.b.sz.mell. Önk iskola'!C14+'1.2.1.c.sz.mell. Önk. önk locs'!C14+'1.2.1.d.sz.mell.Önk.önk.konyha'!C14+'1.2.1.e.sz.mell.Önk. önk.támog.'!C14 -> 0
A15: 2.3. | B15: Működési célú visszatérítendő támogatások, kölcsönök visszatérülése | E15: =+'1.2.1.a.sz.mell. Önk isk.nélkül'!C15+'1.2.1.b.sz.mell. Önk iskola'!C15+'1.2.1.c.sz.mell. Önk. önk locs'!C15+'1.2.1.d.sz.mell.Önk.önk.konyha'!C15+'1.2.1.e.sz.mell.Önk. önk.támog.'!C15 -> 0
A16: 2.4. | B16: Működési célú visszatérítendő támogatások, kölcsönök igénybevétele | E16: =+'1.2.1.a.sz.mell. Önk isk.nélkül'!C16+'1.2.1.b.sz.mell. Önk iskola'!C16+'1.2.1.c.sz.mell. Önk. önk locs'!C16+'1.2.1.d.sz.mell.Önk.önk.konyha'!C16+'1.2.1.e.sz.mell.Önk. önk.támog.'!C16 -> 0
A17: 2.5. | B17: Egyéb működési célú támogatások bevételei | C17: 34342 | D17: 47578 | E17: =+'1.2.1.a.sz.mell. Önk isk.nélkül'!C17+'1.2.1.b.sz.mell. Önk iskola'!C17+'1.2.1.c.sz.mell. Önk. önk locs'!C17+'1.2.1.d.sz.mell.Önk.önk.konyha'!C17+'1.2.1.e.sz.mell.Önk. önk.támog.'!C17 -> 16657
A18: 2.6. | B18: 2.5.-ből EU-s támogatás | E18: =+'1.2.1.a.sz.mell. Önk isk.nélkül'!C18+'1.2.1.b.sz.mell. Önk iskola'!C18+'1.2.1.c.sz.mell. Önk. önk locs'!C18+'1.2.1.d.sz.mell.Önk.önk.konyha'!C18+'1.2.1.e.sz.mell.Önk. önk.támog.'!C18 -> 0
A19: 3. | B19: Felhalmozási célú támogatások államháztartáson belülről (3.1.+…+3.5.) | C19: =+C20+C21+C22+C23+C24 -> 93450 | D19: =+D20+D21+D22+D23+D24 -> 6056 | E19: =+E20+E21+E22+E23+E24 -> 0
A20: 3.1. | B20: Felhalmozási célú önkormányzati támogatások | E20: =+'1.2.1.a.sz.mell. Önk isk.nélkül'!C20+'1.2.1.b.sz.mell. Önk iskola'!C20+'1.2.1.c.sz.mell. Önk. önk locs'!C20+'1.2.1.d.sz.mell.Önk.önk.konyha'!C20+'1.2.1.e.sz.mell.Önk. önk.támog.'!C20 -> 0
A21: 3.2. | B21: Felhalmozási célú garancia- és kezességvállalásból megtérülések | E21: =+'1.2.1.a.sz.mell. Önk isk.nélkül'!C21+'1.2.1.b.sz.mell. Önk iskola'!C21+'1.2.1.c.sz.mell. Önk. önk locs'!C21+'1.2.1.d.sz.mell.Önk.önk.konyha'!C21+'1.2.1.e.sz.mell.Önk. önk.támog.'!C21 -> 0
A22: 3.3. | B22: Felhalmozási célú visszatérítendő támogatások, kölcsönök visszatérülése | E22: =+'1.2.1.a.sz.mell. Önk isk.nélkül'!C22+'1.2.1.b.sz.mell. Önk iskola'!C22+'1.2.1.c.sz.mell. Önk. önk locs'!C22+'1.2.1.d.sz.mell.Önk.önk.konyha'!C22+'1.2.1.e.sz.mell.Önk. önk.támog.'!C22 -> 0
A23: 3.4. | B23: Felhalmozási célú visszatérítendő támogatások, kölcsönök igénybevétele | E23: =+'1.2.1.a.sz.mell. Önk isk.nélkül'!C23+'1.2.1.b.sz.mell. Önk iskola'!C23+'1.2.1.c.sz.mell. Önk. önk locs'!C23+'1.2.1.d.sz.mell.Önk.önk.konyha'!C23+'1.2.1.e.sz.mell.Önk. önk.támog.'!C23 -> 0
A24: 3.5. | B24: Egyéb felhalmozási célú támogatások bevételei | C24: 93450 | D24: 6056 | E24: =+'1.2.1.a.sz.mell. Önk isk.nélkül'!C24+'1.2.1.b.sz.mell. Önk iskola'!C24+'1.2.1.c.sz.mell. Önk. önk locs'!C24+'1.2.1.d.sz.mell.Önk.önk.konyha'!C24+'1.2.1.e.sz.mell.Önk. önk.támog.'!C24 -> 0
A25: 3.6. | B25: 3.5.-ből EU-s támogatás | C25: 92830 | E25: =+'1.2.1.a.sz.mell. Önk isk.nélkül'!C25+'1.2.1.b.sz.mell. Önk iskola'!C25+'1.2.1.c.sz.mell. Önk. önk locs'!C25+'1.2.1.d.sz.mell.Önk.önk.konyha'!C25+'1.2.1.e.sz.mell.Önk. önk.támog.'!C25 -> 0
A26: 4. | B26: Közhatalmi bevételek (4.1.+4.2.+4.3.+4.4.) | C26: =+C27+C31+C32+C33 -> 344986 | D26: =+D27+D31+D32+D33 -> 312918 | E26: =+E27+E31+E32+E33 -> 209000
A27: 4.1. | B27: Helyi adók (4.1.1.+...+4.1.3.) | C27: 340144 | D27: 312918 | E27: =+'1.2.1.a.sz.mell. Önk isk.nélkül'!C27+'1.2.1.b.sz.mell. Önk iskola'!C27+'1.2.1.c.sz.mell. Önk. önk locs'!C27+'1.2.1.d.sz.mell.Önk.önk.konyha'!C27+'1.2.1.e.sz.mell.Önk. önk.támog.'!C27 -> 201000
A28: 4.1.1. | B28: - Vagyoni típusú adók | E28: =+'1.2.1.a.sz.mell. Önk isk.nélkül'!C28+'1.2.1.b.sz.mell. Önk iskola'!C28+'1.2.1.c.sz.mell. Önk. önk locs'!C28+'1.2.1.d.sz.mell.Önk.önk.konyha'!C28+'1.2.1.e.sz.mell.Önk. önk.támog.'!C28 -> 125000
A29: 4.1.2. | B29: - Termékek és szolgáltatások adói | E29: =+'1.2.1.a.sz.mell. Önk isk.nélkül'!C29+'1.2.1.b.sz.mell. Önk iskola'!C29+'1.2.1.c.sz.mell. Önk. önk locs'!C29+'1.2.1.d.sz.mell.Önk.önk.konyha'!C29+'1.2.1.e.sz.mell.Önk. önk.támog.'!C29 -> 18000
A30: 4.1.3. | B30: - Értékesítési és forgalmi adók (iparűzési adó) | E30: =+'1.2.1.a.sz.mell. Önk isk.nélkül'!C30+'1.2.1.b.sz.mell. Önk iskola'!C30+'1.2.1.c.sz.mell. Önk. önk locs'!C30+'1.2.1.d.sz.mell.Önk.önk.konyha'!C30+'1.2.1.e.sz.mell.Önk. önk.támog.'!C30 -> 58000
A31: 4.2. | B31: Gépjárműadó | E31: =+'1.2.1.a.sz.mell. Önk isk.nélkül'!C31+'1.2.1.b.sz.mell. Önk iskola'!C31+'1.2.1.c.sz.mell. Önk. önk locs'!C31+'1.2.1.d.sz.mell.Önk.önk.konyha'!C31+'1.2.1.e.sz.mell.Önk. önk.támog.'!C31 -> 7000
A32: 4.3. | B32: Egyéb áruhasználati és szolgáltatási adók | E32: =+'1.2.1.a.sz.mell. Önk isk.nélkül'!C32+'1.2.1.b.sz.mell. Önk iskola'!C32+'1.2.1.c.sz.mell. Önk. önk locs'!C32+'1.2.1.d.sz.mell.Önk.önk.konyha'!C32+'1.2.1.e.sz.mell.Önk. önk.támog.'!C32 -> 0
A33: 4.4. | B33: Egyéb közhatalmi bevételek | C33: 4842 | E33: =+'1.2.1.a.sz.mell. Önk isk.nélkül'!C33+'1.2.1.b.sz.mell. Önk iskola'!C33+'1.2.1.c.sz.mell. Önk. önk locs'!C33+'1.2.1.d.sz.mell.Önk.önk.konyha'!C33+'1.2.1.e.sz.mell.Önk. önk.támog.'!C33 -> 1000
A34: 5. | B34: Működési bevételek (5.1.+…+ 5.11.) | C34: =SUM(C35:C45) -> 88549 | D34: =SUM(D35:D45) -> 61395 | E34: =SUM(E35:E45) -> 58622
A35: 5.1. | B35: Készletértékesítés ellenértéke | C35: 11503 | E35: =+'1.2.1.a.sz.mell. Önk isk.nélkül'!C35+'1.2.1.b.sz.mell. Önk iskola'!C35+'1.2.1.c.sz.mell. Önk. önk locs'!C35+'1.2.1.d.sz.mell.Önk.önk.konyha'!C35+'1.2.1.e.sz.mell.Önk. önk.támog.'!C35 -> 0
A36: 5.2. | B36: Szolgáltatások ellenértéke | C36: 35943 | D36: 25438 | E36: =+'1.2.1.a.sz.mell. Önk isk.nélkül'!C36+'1.2.1.b.sz.mell. Önk iskola'!C36+'1.2.1.c.sz.mell. Önk. önk locs'!C36+'1.2.1.d.sz.mell.Önk.önk.konyha'!C36+'1.2.1.e.sz.mell.Önk. önk.támog.'!C36 -> 37400
A37: 5.3. | B37: Közvetített szolgáltatások értéke | C37: 8790 | D37: 14914 | E37: =+'1.2.1.a.sz.mell. Önk isk.nélkül'!C37+'1.2.1.b.sz.mell. Önk iskola'!C37+'1.2.1.c.sz.mell. Önk. önk locs'!C37+'1.2.1.d.sz.mell.Önk.önk.konyha'!C37+'1.2.1.e.sz.mell.Önk. önk.támog.'!C37 -> 900
A38: 5.4. | B38: Tulajdonosi bevételek | D38: 4351 | E38: =+'1.2.1.a.sz.mell. Önk isk.nélkül'!C38+'1.2.1.b.sz.mell. Önk iskola'!C38+'1.2.1.c.sz.mell. Önk. önk locs'!C38+'1.2.1.d.sz.mell.Önk.önk.konyha'!C38+'1.2.1.e.sz.mell.Önk. önk.támog.'!C38 -> 4000
A39: 5.5. | B39: Ellátási díjak | C39: 7692 | D39: 8484 | E39: =+'1.2.1.a.sz.mell. Önk isk.nélkül'!C39+'1.2.1.b.sz.mell. Önk iskola'!C39+'1.2.1.c.sz.mell. Önk. önk locs'!C39+'1.2.1.d.sz.mell.Önk.önk.konyha'!C39+'1.2.1.e.sz.mell.Önk. önk.támog.'!C39 -> 8800
A40: 5.6. | B40: Kiszámlázott általános forgalmi adó | C40: 21358 | D40: 6043 | E40: =+'1.2.1.a.sz.mell. Önk isk.nélkül'!C40+'1.2.1.b.sz.mell. Önk iskola'!C40+'1.2.1.c.sz.mell. Önk. önk locs'!C40+'1.2.1.d.sz.mell.Önk.önk.konyha'!C40+'1.2.1.e.sz.mell.Önk. önk.támog.'!C40 -> 4722
...

Sheet 1.2.1.a.sz.mell. Önk isk.nélkül
B1: B E V É T E L E K
C2: Ezer forintban
A3: Sor- szám | B3: Bevételi jogcím | C3: =+CONCATENATE(LEFT(ÖSSZEFÜGGÉSEK!A5,4),". évi előirányzat") -> 2015. évi előirányzat
A4: A | B4: B | C4: C
A5: 1. | B5: Önkormányzat működési támogatásai (1.1.+…+.1.6.) | C5: =+C6+C7+C8+C9+C10+C11 -> 284600
A6: 1.1. | B6: Helyi önkormányzatok működésének általános támogatása | C6: 134598
A7: 1.2. | B7: Önkormányzatok egyes köznevelési feladatainak támogatása | C7: 62198
A8: 1.3. | B8: Önkormányzatok szociális és gyermekjóléti feladatainak támogatása | C8: 40414
A9: 1.4. | B9: Önkormányzatok kulturális feladatainak támogatása | C9: 2997
A10: 1.5. | B10: Működési célú kvi támogatások és kiegészítő támogatások | C10: 34919
A11: 1.6. | B11: Elszámolásból származó bevételek | C11: 9474
A12: 2. | B12: Működési célú támogatások államháztartáson belülről (2.1.+…+.2.5.) | C12: =+C13+C14+C15+C16+C17 -> 16657
A13: 2.1. | B13: Elvonások és befizetések bevételei
A14: 2.2. | B14: Működési célú garancia- és kezességvállalásból megtérülések
A15: 2.3. | B15: Működési célú visszatérítendő támogatások, kölcsönök visszatérülése
A16: 2.4. | B16: Működési célú visszatérítendő támogatások, kölcsönök igénybevétele
A17: 2.5. | B17: Egyéb működési célú támogatások bevételei | C17: 16657
A18: 2.6. | B18: 2.5.-ből EU-s támogatás
A19: 3. | B19: Felhalmozási célú támogatások államháztartáson belülről (3.1.+…+3.5.) | C19: =+C20+C21+C22+C23+C24 -> 0
A20: 3.1. | B20: Felhalmozási célú önkormányzati támogatások
A21: 3.2. | B21: Felhalmozási célú garancia- és kezességvállalásból megtérülések
A22: 3.3. | B22: Felhalmozási célú visszatérítendő támogatások, kölcsönök visszatérülése
A23: 3.4. | B23: Felhalmozási célú visszatérítendő támogatások, kölcsönök igénybevétele
A24: 3.5. | B24: Egyéb felhalmozási célú támogatások bevételei
A25: 3.6. | B25: 3.5.-ből EU-s támogatás
A26: 4. | B26: Közhatalmi bevételek (4.1.+4.2.+4.3.+4.4.) | C26: =+C27+C31+C32+C33 -> 209000
A27: 4.1. | B27: Helyi adók (4.1.1.+...+4.1.3.) | C27: =SUM(C28:C30) -> 201000
A28: 4.1.1. | B28: - Vagyoni típusú adók | C28: 125000
A29: 4.1.2. | B29: - Termékek és szolgáltatások adói | C29: 18000
A30: 4.1.3. | B30: - Értékesítési és forgalmi adók (iparűzési adó) | C30: 58000
A31: 4.2. | B31: Gépjárműadó | C31: 7000
A32: 4.3. | B32: Egyéb áruhasználati és szolgáltatási adók
A33: 4.4. | B33: Egyéb közhatalmi bevételek | C33: 1000
A34: 5. | B34: Működési bevételek (5.1.+…+ 5.11.) | C34: =SUM(C35:C45) -> 32100
A35: 5.1. | B35: Készletértékesítés ellenértéke
A36: 5.2. | B36: Szolgáltatások ellenértéke | C36: 25100
A37: 5.3. | B37: Közvetített szolgáltatások értéke | C37: 900
A38: 5.4. | B38: Tulajdonosi bevételek | C38: 4000
A39: 5.5. | B39: Ellátási díjak
A40: 5.6. | B40: Kiszámlázott általános forgalmi adó
...

Sheet 1.2.1.b.sz.mell. Önk iskola
B1: B E V É T E L E K
C2: Ezer forintban
A3: Sor- szám | B3: Bevételi jogcím | C3: =+CONCATENATE(LEFT(ÖSSZEFÜGGÉSEK!A5,4),". évi előirányzat") -> 2015. évi előirányzat
A4: A | B4: B | C4: C
A5: 1. | B5: Önkormányzat működési támogatásai (1.1.+…+.1.6.) | C5: =+C6+C7+C8+C9+C10+C11 -> 0
A6: 1.1. | B6: Helyi önkormányzatok működésének általános támogatása | C6: =+D6 -> 0
A7: 1.2. | B7: Önkormányzatok egyes köznevelési feladatainak támogatása | C7: =+D7 -> 0
A8: 1.3. | B8: Önkormányzatok szociális és gyermekjóléti feladatainak támogatása | C8: =+D8 -> 0
A9: 1.4. | B9: Önkormányzatok kulturális feladatainak támogatása | C9: =+D9 -> 0
A10: 1.5. | B10: Működési célú kvi támogatások és kiegészítő támogatások | C10: =+D10 -> 0
A11: 1.6. | B11: Elszámolásból származó bevételek | C11: =+D11 -> 0
A12: 2. | B12: Működési célú támogatások államháztartáson belülről (2.1.+…+.2.5.) | C12: =+C13+C14+C15+C16+C17 -> 0
A13: 2.1. | B13: Elvonások és befizetések bevételei | C13: =+D13 -> 0
A14: 2.2. | B14: Működési célú garancia- és kezességvállalásból megtérülések | C14: =+D14 -> 0
A15: 2.3. | B15: Működési célú visszatérítendő támogatások, kölcsönök visszatérülése | C15: =+D15 -> 0
A16: 2.4. | B16: Működési célú visszatérítendő támogatások, kölcsönök igénybevétele | C16: =+D16 -> 0
A17: 2.5. | B17: Egyéb működési célú támogatások bevételei | C17: =+D17 -> 0
A18: 2.6. | B18: 2.5.-ből EU-s támogatás | C18: =+D18 -> 0
A19: 3. | B19: Felhalmozási célú támogatások államháztartáson belülről (3.1.+…+3.5.) | C19: =+C20+C21+C22+C23+C24 -> 0
A20: 3.1. | B20: Felhalmozási célú önkormányzati támogatások | C20: =+D20 -> 0
A21: 3.2. | B21: Felhalmozási célú garancia- és kezességvállalásból megtérülések | C21: =+D21 -> 0
A22: 3.3. | B22: Felhalmozási célú visszatérítendő támogatások, kölcsönök visszatérülése | C22: =+D22 -> 0
A23: 3.4. | B23: Felhalmozási célú visszatérítendő támogatások, kölcsönök igénybevétele | C23: =+D23 -> 0
A24: 3.5. | B24: Egyéb felhalmozási célú támogatások bevételei | C24: =+D24 -> 0
A25: 3.6. | B25: 3.5.-ből EU-s támogatás | C25: =+D25 -> 0
A26: 4. | B26: Közhatalmi bevételek (4.1.+4.2.+4.3.+4.4.) | C26: =+C27+C31+C32+C33 -> 0
A27: 4.1. | B27: Helyi adók (4.1.1.+...+4.1.3.) | C27: =SUM(C28:C30) -> 0
A28: 4.1.1. | B28: - Vagyoni típusú adók | C28: =+D28 -> 0
A29: 4.1.2. | B29: - Termékek és szolgáltatások adói | C29: =+D29 -> 0
A30: 4.1.3. | B30: - Értékesítési és forgalmi adók (iparűzési adó) | C30: =+D30 -> 0
A31: 4.2. | B31: Gépjárműadó | C31: =+D31 -> 0
A32: 4.3. | B32: Egyéb áruhasználati és szolgáltatási adók | C32: =+D32 -> 0
A33: 4.4. | B33: Egyéb közhatalmi bevételek | C33: =+D33 -> 0
A34: 5. | B34: Működési bevételek (5.1.+…+ 5.11.) | C34: =SUM(C35:C45) -> 650
A35: 5.1. | B35: Készletértékesítés ellenértéke | C35: =+D35 -> 0
A36: 5.2. | B36: Szolgáltatások ellenértéke | C36: 650
A37: 5.3. | B37: Közvetített szolgáltatások értéke | C37: =+D37 -> 0
A38: 5.4. | B38: Tulajdonosi bevételek | C38: =+D38 -> 0
A39: 5.5. | B39: Ellátási díjak | C39: =+D39 -> 0
A40: 5.6. | B40: Kiszámlázott általános forgalmi adó | C40: =+D40 -> 0
...

Sheet 1.2.1.c.sz.mell. Önk. önk locs
B1: B E V É T E L E K
C2: Ezer forintban
A3: Sor- szám | B3: Bevételi jogcím | C3: =+CONCATENATE(LEFT(ÖSSZEFÜGGÉSEK!A5,4),". évi előirányzat") -> 2015. évi előirányzat
A4: A | B4: B | C4: C
A5: 1. | B5: Önkormányzat működési támogatásai (1.1.+…+.1.6.) | C5: =+C6+C7+C8+C9+C10+C11 -> 0
A6: 1.1. | B6: Helyi önkormányzatok működésének általános támogatása | C6: =+D6 -> 0
A7: 1.2. | B7: Önkormányzatok egyes köznevelési feladatainak támogatása | C7: =+D7 -> 0
A8: 1.3. | B8: Önkormányzatok szociális és gyermekjóléti feladatainak támogatása | C8: =+D8 -> 0
A9: 1.4. | B9: Önkormányzatok kulturális feladatainak támogatása | C9: =+D9 -> 0
A10: 1.5. | B10: Működési célú kvi támogatások és kiegészítő támogatások | C10: =+D10 -> 0
A11: 1.6. | B11: Elszámolásból származó bevételek | C11: =+D11 -> 0
A12: 2. | B12: Működési célú támogatások államháztartáson belülről (2.1.+…+.2.5.) | C12: =+C13+C14+C15+C16+C17 -> 0
A13: 2.1. | B13: Elvonások és befizetések bevételei | C13: =+D13 -> 0
A14: 2.2. | B14: Működési célú garancia- és kezességvállalásból megtérülések | C14: =+D14 -> 0
A15: 2.3. | B15: Működési célú visszatérítendő támogatások, kölcsönök visszatérülése | C15: =+D15 -> 0
A16: 2.4. | B16: Működési célú visszatérítendő támogatások, kölcsönök igénybevétele | C16: =+D16 -> 0
A17: 2.5. | B17: Egyéb működési célú támogatások bevételei | C17: =+D17 -> 0
A18: 2.6. | B18: 2.5.-ből EU-s támogatás | C18: =+D18 -> 0
A19: 3. | B19: Felhalmozási célú támogatások államháztartáson belülről (3.1.+…+3.5.) | C19: =+C20+C21+C22+C23+C24 -> 0
A20: 3.1. | B20: Felhalmozási célú önkormányzati támogatások | C20: =+D20 -> 0
A21: 3.2. | B21: Felhalmozási célú garancia- és kezességvállalásból megtérülések | C21: =+D21 -> 0
A22: 3.3. | B22: Felhalmozási célú visszatérítendő támogatások, kölcsönök visszatérülése | C22: =+D22 -> 0
A23: 3.4. | B23: Felhalmozási célú visszatérítendő támogatások, kölcsönök igénybevétele | C23: =+D23 -> 0
A24: 3.5. | B24: Egyéb felhalmozási célú támogatások bevételei | C24: =+D24 -> 0
A25: 3.6. | B25: 3.5.-ből EU-s támogatás | C25: =+D25 -> 0
A26: 4. | B26: Közhatalmi bevételek (4.1.+4.2.+4.3.+4.4.) | C26: =+C27+C31+C32+C33 -> 0
A27: 4.1. | B27: Helyi adók (4.1.1.+...+4.1.3.) | C27: =SUM(C28:C30) -> 0
A28: 4.1.1. | B28: - Vagyoni típusú adók | C28: =+D28 -> 0
A29: 4.1.2. | B29: - Termékek és szolgáltatások adói | C29: =+D29 -> 0
A30: 4.1.3. | B30: - Értékesítési és forgalmi adók (iparűzési adó) | C30: =+D30 -> 0
A31: 4.2. | B31: Gépjárműadó | C31: =+D31 -> 0
A32: 4.3. | B32: Egyéb áruhasználati és szolgáltatási adók | C32: =+D32 -> 0
A33: 4.4. | B33: Egyéb közhatalmi bevételek | C33: =+D33 -> 0
A34: 5. | B34: Működési bevételek (5.1.+…+ 5.11.) | C34: =SUM(C35:C45) -> 4580
A35: 5.1. | B35: Készletértékesítés ellenértéke | C35: =+D35 -> 0
A36: 5.2. | B36: Szolgáltatások ellenértéke | C36: 3500
A37: 5.3. | B37: Közvetített szolgáltatások értéke | C37: =+D37 -> 0
A38: 5.4. | B38: Tulajdonosi bevételek | C38: =+D38 -> 0
A39: 5.5. | B39: Ellátási díjak | C39: =+D39 -> 0
A40: 5.6. | B40: Kiszámlázott általános forgalmi adó | C40: 1080
...

Sheet 1.2.1.d.sz.mell.Önk.önk.konyha
B1: B E V É T E L E K
C2: Ezer forintban
A3: Sor- szám | B3: Bevételi jogcím | C3: =+CONCATENATE(LEFT(ÖSSZEFÜGGÉSEK!A5,4),". évi előirányzat") -> 2015. évi előirányzat
A4: A | B4: B | C4: C
A5: 1. | B5: Önkormányzat működési támogatásai (1.1.+…+.1.6.) | C5: =+C6+C7+C8+C9+C10+C11 -> 0
A6: 1.1. | B6: Helyi önkormányzatok működésének általános támogatása | C6: =+D6 -> 0
A7: 1.2. | B7: Önkormányzatok egyes köznevelési feladatainak támogatása | C7: =+D7 -> 0
A8: 1.3. | B8: Önkormányzatok szociális és gyermekjóléti feladatainak támogatása | C8: =+D8 -> 0
A9: 1.4. | B9: Önkormányzatok kulturális feladatainak támogatása | C9: =+D9 -> 0
A10: 1.5. | B10: Működési célú kvi támogatások és kiegészítő támogatások | C10: =+D10 -> 0
A11: 1.6. | B11: Elszámolásból származó bevételek | C11: =+D11 -> 0
A12: 2. | B12: Működési célú támogatások államháztartáson belülről (2.1.+…+.2.5.) | C12: =+C13+C14+C15+C16+C17 -> 0
A13: 2.1. | B13: Elvonások és befizetések bevételei | C13: =+D13 -> 0
A14: 2.2. | B14: Működési célú garancia- és kezességvállalásból megtérülések | C14: =+D14 -> 0
A15: 2.3. | B15: Működési célú visszatérítendő támogatások, kölcsönök visszatérülése | C15: =+D15 -> 0
A16: 2.4. | B16: Működési célú visszatérítendő támogatások, kölcsönök igénybevétele | C16: =+D16 -> 0
A17: 2.5. | B17: Egyéb működési célú támogatások bevételei | C17: =+D17 -> 0
A18: 2.6. | B18: 2.5.-ből EU-s támogatás | C18: =+D18 -> 0
A19: 3. | B19: Felhalmozási célú támogatások államháztartáson belülről (3.1.+…+3.5.) | C19: =+C20+C21+C22+C23+C24 -> 0
A20: 3.1. | B20: Felhalmozási célú önkormányzati támogatások | C20: =+D20 -> 0
A21: 3.2. | B21: Felhalmozási célú garancia- és kezességvállalásból megtérülések | C21: =+D21 -> 0
A22: 3.3. | B22: Felhalmozási célú visszatérítendő támogatások, kölcsönök visszatérülése | C22: =+D22 -> 0
A23: 3.4. | B23: Felhalmozási célú visszatérítendő támogatások, kölcsönök igénybevétele | C23: =+D23 -> 0
A24: 3.5. | B24: Egyéb felhalmozási célú támogatások bevételei | C24: =+D24 -> 0
A25: 3.6. | B25: 3.5.-ből EU-s támogatás | C25: =+D25 -> 0
A26: 4. | B26: Közhatalmi bevételek (4.1.+4.2.+4.3.+4.4.) | C26: =+C27+C31+C32+C33 -> 0
A27: 4.1. | B27: Helyi adók (4.1.1.+...+4.1.3.) | C27: =SUM(C28:C30) -> 0
A28: 4.1.1. | B28: - Vagyoni típusú adók | C28: =+D28 -> 0
A29: 4.1.2. | B29: - Termékek és szolgáltatások adói | C29: =+D29 -> 0
A30: 4.1.3. | B30: - Értékesítési és forgalmi adók (iparűzési adó) | C30: =+D30 -> 0
A31: 4.2. | B31: Gépjárműadó | C31: =+D31 -> 0
A32: 4.3. | B32: Egyéb áruhasználati és szolgáltatási adók | C32: =+D32 -> 0
A33: 4.4. | B33: Egyéb közhatalmi bevételek | C33: =+D33 -> 0
A34: 5. | B34: Működési bevételek (5.1.+…+ 5.11.) | C34: =SUM(C35:C45) -> 21292
A35: 5.1. | B35: Készletértékesítés ellenértéke | C35: =+D35 -> 0
A36: 5.2. | B36: Szolgáltatások ellenértéke | C36: 8150
A37: 5.3. | B37: Közvetített szolgáltatások értéke | C37: =+D37 -> 0
A38: 5.4. | B38: Tulajdonosi bevételek | C38: =+D38 -> 0
A39: 5.5. | B39: Ellátási díjak | C39: 8800
A40: 5.6. | B40: Kiszámlázott általános forgalmi adó | C40: 3642
...

Sheet 1.2.1.e.sz.mell.Önk. önk.támog.
B1: B E V É T E L E K
C2: Ezer forintban
A3: Sor- szám | B3: Bevételi jogcím | C3: =+CONCATENATE(LEFT([2]ÖSSZEFÜGGÉSEK!A5,4),". évi előirányzat") -> 2015. évi előirányzat
A4: A | B4: B | C4: C
A5: 1. | B5: Önkormányzat működési támogatásai (1.1.+…+.1.6.) | C5: =+C6+C7+C8+C9+C10+C11 -> 0
A6: 1.1. | B6: Helyi önkormányzatok működésének általános támogatása | C6: =+D6 -> 0
A7: 1.2. | B7: Önkormányzatok egyes köznevelési feladatainak támogatása | C7: =+D7 -> 0
A8: 1.3. | B8: Önkormányzatok szociális és gyermekjóléti feladatainak támogatása | C8: =+D8 -> 0
A9: 1.4. | B9: Önkormányzatok kulturális feladatainak támogatása | C9: =+D9 -> 0
A10: 1.5. | B10: Működési célú kvi támogatások és kiegészítő támogatások | C10: =+D10 -> 0
A11: 1.6. | B11: Elszámolásból származó bevételek | C11: =+D11 -> 0
A12: 2. | B12: Működési célú támogatások államháztartáson belülről (2.1.+…+.2.5.) | C12: =+C13+C14+C15+C16+C17 -> 0
A13: 2.1. | B13: Elvonások és befizetések bevételei | C13: =+D13 -> 0
A14: 2.2. | B14: Működési célú garancia- és kezességvállalásból megtérülések | C14: =+D14 -> 0
A15: 2.3. | B15: Működési célú visszatérítendő támogatások, kölcsönök visszatérülése | C15: =+D15 -> 0
A16: 2.4. | B16: Működési célú visszatérítendő támogatások, kölcsönök igénybevétele | C16: =+D16 -> 0
A17: 2.5. | B17: Egyéb működési célú támogatások bevételei | C17: =+D17 -> 0
A18: 2.6. | B18: 2.5.-ből EU-s támogatás | C18: =+D18 -> 0
A19: 3. | B19: Felhalmozási célú támogatások államháztartáson belülről (3.1.+…+3.5.) | C19: =+C20+C21+C22+C23+C24 -> 0
A20: 3.1. | B20: Felhalmozási célú önkormányzati támogatások | C20: =+D20 -> 0
A21: 3.2. | B21: Felhalmozási célú garancia- és kezességvállalásból megtérülések | C21: =+D21 -> 0
A22: 3.3. | B22: Felhalmozási célú visszatérítendő támogatások, kölcsönök visszatérülése | C22: =+D22 -> 0
A23: 3.4. | B23: Felhalmozási célú visszatérítendő támogatások, kölcsönök igénybevétele | C23: =+D23 -> 0
A24: 3.5. | B24: Egyéb felhalmozási célú támogatások bevételei | C24: =+D24 -> 0
A25: 3.6. | B25: 3.5.-ből EU-s támogatás | C25: =+D25 -> 0
A26: 4. | B26: Közhatalmi bevételek (4.1.+4.2.+4.3.+4.4.) | C26: =+C27+C31+C32+C33 -> 0
A27: 4.1. | B27: Helyi adók (4.1.1.+...+4.1.3.) | C27: =SUM(C28:C30) -> 0
A28: 4.1.1. | B28: - Vagyoni típusú adók | C28: =+D28 -> 0
A29: 4.1.2. | B29: - Termékek és szolgáltatások adói | C29: =+D29 -> 0
A30: 4.1.3. | B30: - Értékesítési és forgalmi adók (iparűzési adó) | C30: =+D30 -> 0
A31: 4.2. | B31: Gépjárműadó | C31: =+D31 -> 0
A32: 4.3. | B32: Egyéb áruhasználati és szolgáltatási adók | C32: =+D32 -> 0
A33: 4.4. | B33: Egyéb közhatalmi bevételek | C33: =+D33 -> 0
A34: 5. | B34: Működési bevételek (5.1.+…+ 5.11.) | C34: =SUM(C35:C45) -> 0
A35: 5.1. | B35: Készletértékesítés ellenértéke | C35: =+D35 -> 0
A36: 5.2. | B36: Szolgáltatások ellenértéke | C36: =+D36 -> 0
A37: 5.3. | B37: Közvetített szolgáltatások értéke | C37: =+D37 -> 0
A38: 5.4. | B38: Tulajdonosi bevételek | C38: =+D38 -> 0
A39: 5.5. | B39: Ellátási díjak | C39: =+D39 -> 0
A40: 5.6. | B40: Kiszámlázott általános forgalmi adó | C40: =+D40 -> 0
...

Sheet 1.2.2.sz.mell. Hivatal össz.
B1: B E V É T E L E K
E2: Ezer forintban
A3: Sor- szám | B3: Bevételi jogcím | C3: 2013. évi tény adatok | D3: 2014.évi várható tényadatok | E3: =+CONCATENATE(LEFT(ÖSSZEFÜGGÉSEK!A5,4),". évi előirányzat") -> 2015. évi előirányzat
A4: A | B4: B | E4: C
A5: 1. | B5: Önkormányzat működési támogatásai (1.1.+…+.1.6.) | E5: =+E6+E7+E8+E9+E10+E11 -> 0
A6: 1.1. | B6: Helyi önkormányzatok működésének általános támogatása | E6: =+'1.2.2.a.sz.mell. Hivatal köt.'!C6+'1.2.2.b.sz.mell. Hivatal önk.'!C6 -> 0
A7: 1.2. | B7: Önkormányzatok egyes köznevelési feladatainak támogatása | E7: =+'1.2.2.a.sz.mell. Hivatal köt.'!C7+'1.2.2.b.sz.mell. Hivatal önk.'!C7 -> 0
A8: 1.3. | B8: Önkormányzatok szociális és gyermekjóléti feladatainak támogatása | E8: =+'1.2.2.a.sz.mell. Hivatal köt.'!C8+'1.2.2.b.sz.mell. Hivatal önk.'!C8 -> 0
A9: 1.4. | B9: Önkormányzatok kulturális feladatainak támogatása | E9: =+'1.2.2.a.sz.mell. Hivatal köt.'!C9+'1.2.2.b.sz.mell. Hivatal önk.'!C9 -> 0
A10: 1.5. | B10: Működési célú kvi támogatások és kiegészítő támogatások | E10: =+'1.2.2.a.sz.mell. Hivatal köt.'!C10+'1.2.2.b.sz.mell. Hivatal önk.'!C10 -> 0
A11: 1.6. | B11: Elszámolásból származó bevételek | E11: =+'1.2.2.a.sz.mell. Hivatal köt.'!C11+'1.2.2.b.sz.mell. Hivatal önk.'!C11 -> 0
A12: 2. | B12: Működési célú támogatások államháztartáson belülről (2.1.+…+.2.5.) | C12: =+C13+C14+C15+C16+C17 -> 0 | D12: =+D13+D14+D15+D16+D17 -> 2392 | E12: =+E13+E14+E15+E16+E17 -> 2783
A13: 2.1. | B13: Elvonások és befizetések bevételei | E13: =+'1.2.2.a.sz.mell. Hivatal köt.'!C13+'1.2.2.b.sz.mell. Hivatal önk.'!C13 -> 0
A14: 2.2. | B14: Működési célú garancia- és kezességvállalásból megtérülések | E14: =+'1.2.2.a.sz.mell. Hivatal köt.'!C14+'1.2.2.b.sz.mell. Hivatal önk.'!C14 -> 0
A15: 2.3. | B15: Működési célú visszatérítendő támogatások, kölcsönök visszatérülése | E15: =+'1.2.2.a.sz.mell. Hivatal köt.'!C15+'1.2.2.b.sz.mell. Hivatal önk.'!C15 -> 0
A16: 2.4. | B16: Működési célú visszatérítendő támogatások, kölcsönök igénybevétele | E16: =+'1.2.2.a.sz.mell. Hivatal köt.'!C16+'1.2.2.b.sz.mell. Hivatal önk.'!C16 -> 0
A17: 2.5. | B17: Egyéb működési célú támogatások bevételei | D17: 2392 | E17: =+'1.2.2.a.sz.mell. Hivatal köt.'!C17+'1.2.2.b.sz.mell. Hivatal önk.'!C17 -> 2783
A18: 2.6. | B18: 2.5.-ből EU-s támogatás | E18: =+'1.2.2.a.sz.mell. Hivatal köt.'!C18+'1.2.2.b.sz.mell. Hivatal önk.'!C18 -> 0
A19: 3. | B19: Felhalmozási célú támogatások államháztartáson belülről (3.1.+…+3.5.) | C19: =+C20+C21+C22+C23+C24 -> 0 | D19: =+D20+D21+D22+D23+D24 -> 0 | E19: =+E20+E21+E22+E23+E24 -> 0
A20: 3.1. | B20: Felhalmozási célú önkormányzati támogatások | E20: =+'1.2.2.a.sz.mell. Hivatal köt.'!C20+'1.2.2.b.sz.mell. Hivatal önk.'!C20 -> 0
A21: 3.2. | B21: Felhalmozási célú garancia- és kezességvállalásból megtérülések | E21: =+'1.2.2.a.sz.mell. Hivatal köt.'!C21+'1.2.2.b.sz.mell. Hivatal önk.'!C21 -> 0
A22: 3.3. | B22: Felhalmozási célú visszatérítendő támogatások, kölcsönök visszatérülése | E22: =+'1.2.2.a.sz.mell. Hivatal köt.'!C22+'1.2.2.b.sz.mell. Hivatal önk.'!C22 -> 0
A23: 3.4. | B23: Felhalmozási célú visszatérítendő támogatások, kölcsönök igénybevétele | E23: =+'1.2.2.a.sz.mell. Hivatal köt.'!C23+'1.2.2.b.sz.mell. Hivatal önk.'!C23 -> 0
A24: 3.5. | B24: Egyéb felhalmozási célú támogatások bevételei | E24: =+'1.2.2.a.sz.mell. Hivatal köt.'!C24+'1.2.2.b.sz.mell. Hivatal önk.'!C24 -> 0
A25: 3.6. | B25: 3.5.-ből EU-s támogatás | E25: =+'1.2.2.a.sz.mell. Hivatal köt.'!C25+'1.2.2.b.sz.mell. Hivatal önk.'!C25 -> 0
A26: 4. | B26: Közhatalmi bevételek (4.1.+4.2.+4.3.+4.4.) | C26: =+C27+C31+C32+C33 -> 0 | D26: =+D27+D31+D32+D33 -> 613 | E26: =+E27+E31+E32+E33 -> 0
A27: 4.1. | B27: Helyi adók (4.1.1.+...+4.1.3.) | E27: =SUM(E28:E30) -> 0
A28: 4.1.1. | B28: - Vagyoni típusú adók | E28: =+'1.2.2.a.sz.mell. Hivatal köt.'!C28+'1.2.2.b.sz.mell. Hivatal önk.'!C28 -> 0
A29: 4.1.2. | B29: - Termékek és szolgáltatások adói | E29: =+'1.2.2.a.sz.mell. Hivatal köt.'!C29+'1.2.2.b.sz.mell. Hivatal önk.'!C29 -> 0
A30: 4.1.3. | B30: - Értékesítési és forgalmi adók (iparűzési adó) | E30: =+'1.2.2.a.sz.mell. Hivatal köt.'!C30+'1.2.2.b.sz.mell. Hivatal önk.'!C30 -> 0
A31: 4.2. | B31: Gépjárműadó | E31: =+'1.2.2.a.sz.mell. Hivatal köt.'!C31+'1.2.2.b.sz.mell. Hivatal önk.'!C31 -> 0
A32: 4.3. | B32: Egyéb áruhasználati és szolgáltatási adók | E32: =+'1.2.2.a.sz.mell. Hivatal köt.'!C32+'1.2.2.b.sz.mell. Hivatal önk.'!C32 -> 0
A33: 4.4. | B33: Egyéb közhatalmi bevételek | D33: 613 | E33: =+'1.2.2.a.sz.mell. Hivatal köt.'!C33+'1.2.2.b.sz.mell. Hivatal önk.'!C33 -> 0
A34: 5. | B34: Működési bevételek (5.1.+…+ 5.11.) | C34: =SUM(C35:C45) -> 466 | D34: =SUM(D35:D45) -> 617 | E34: =SUM(E35:E45) -> 0
A35: 5.1. | B35: Készletértékesítés ellenértéke | C35: 27 | E35: =+'1.2.2.a.sz.mell. Hivatal köt.'!C35+'1.2.2.b.sz.mell. Hivatal önk.'!C35 -> 0
A36: 5.2. | B36: Szolgáltatások ellenértéke | C36: 291 | D36: 321 | E36: =+'1.2.2.a.sz.mell. Hivatal köt.'!C36+'1.2.2.b.sz.mell. Hivatal önk.'!C36 -> 0
A37: 5.3. | B37: Közvetített szolgáltatások értéke | C37: 7 | D37: 99 | E37: =+'1.2.2.a.sz.mell. Hivatal köt.'!C37+'1.2.2.b.sz.mell. Hivatal önk.'!C37 -> 0
A38: 5.4. | B38: Tulajdonosi bevételek | E38: =+'1.2.2.a.sz.mell. Hivatal köt.'!C38+'1.2.2.b.sz.mell. Hivatal önk.'!C38 -> 0
A39: 5.5. | B39: Ellátási díjak | E39: =+'1.2.2.a.sz.mell. Hivatal köt.'!C39+'1.2.2.b.sz.mell. Hivatal önk.'!C39 -> 0
A40: 5.6. | B40: Kiszámlázott általános forgalmi adó | E40: =+'1.2.2.a.sz.mell. Hivatal köt.'!C40+'1.2.2.b.sz.mell. Hivatal önk.'!C40 -> 0
...

Sheet 1.2.2.a.sz.mell. Hivatal köt.
B1: B E V É T E L E K
C2: Ezer forintban
A3: Sor- szám | B3: Bevételi jogcím | C3: =+CONCATENATE(LEFT(ÖSSZEFÜGGÉSEK!A5,4),". évi előirányzat") -> 2015. évi előirányzat
A4: A | B4: B | C4: C
A5: 1. | B5: Önkormányzat működési támogatásai (1.1.+…+.1.6.) | C5: =+C6+C7+C8+C9+C10+C11 -> 0
A6: 1.1. | B6: Helyi önkormányzatok működésének általános támogatása | C6: =+D6 -> 0
A7: 1.2. | B7: Önkormányzatok egyes köznevelési feladatainak támogatása | C7: =+D7 -> 0
A8: 1.3. | B8: Önkormányzatok szociális és gyermekjóléti feladatainak támogatása | C8: =+D8 -> 0
A9: 1.4. | B9: Önkormányzatok kulturális feladatainak támogatása | C9: =+D9 -> 0
A10: 1.5. | B10: Működési célú kvi támogatások és kiegészítő támogatások | C10: =+D10 -> 0
A11: 1.6. | B11: Elszámolásból származó bevételek | C11: =+D11 -> 0
A12: 2. | B12: Működési célú támogatások államháztartáson belülről (2.1.+…+.2.5.) | C12: =+C13+C14+C15+C16+C17 -> 2783
A13: 2.1. | B13: Elvonások és befizetések bevételei | C13: =+D13 -> 0
A14: 2.2. | B14: Működési célú garancia- és kezességvállalásból megtérülések | C14: =+D14 -> 0
A15: 2.3. | B15: Működési célú visszatérítendő támogatások, kölcsönök visszatérülése | C15: =+D15 -> 0
A16: 2.4. | B16: Működési célú visszatérítendő támogatások, kölcsönök igénybevétele | C16: =+D16 -> 0
A17: 2.5. | B17: Egyéb működési célú támogatások bevételei | C17: 2783
A18: 2.6. | B18: 2.5.-ből EU-s támogatás | C18: =+D18 -> 0
A19: 3. | B19: Felhalmozási célú támogatások államháztartáson belülről (3.1.+…+3.5.) | C19: =+C20+C21+C22+C23+C24 -> 0
A20: 3.1. | B20: Felhalmozási célú önkormányzati támogatások | C20: =+D20 -> 0
A21: 3.2. | B21: Felhalmozási célú garancia- és kezességvállalásból megtérülések | C21: =+D21 -> 0
A22: 3.3. | B22: Felhalmozási célú visszatérítendő támogatások, kölcsönök visszatérülése | C22: =+D22 -> 0
A23: 3.4. | B23: Felhalmozási célú visszatérítendő támogatások, kölcsönök igénybevétele | C23: =+D23 -> 0
A24: 3.5. | B24: Egyéb felhalmozási célú támogatások bevételei | C24: =+D24 -> 0
A25: 3.6. | B25: 3.5.-ből EU-s támogatás | C25: =+D25 -> 0
A26: 4. | B26: Közhatalmi bevételek (4.1.+4.2.+4.3.+4.4.) | C26: =+C27+C31+C32+C33 -> 0
A27: 4.1. | B27: Helyi adók (4.1.1.+...+4.1.3.) | C27: =SUM(C28:C30) -> 0
A28: 4.1.1. | B28: - Vagyoni típusú adók | C28: =+D28 -> 0
A29: 4.1.2. | B29: - Termékek és szolgáltatások adói | C29: =+D29 -> 0
A30: 4.1.3. | B30: - Értékesítési és forgalmi adók (iparűzési adó) | C30: =+D30 -> 0
A31: 4.2. | B31: Gépjárműadó | C31: =+D31 -> 0
A32: 4.3. | B32: Egyéb áruhasználati és szolgáltatási adók | C32: =+D32 -> 0
A33: 4.4. | B33: Egyéb közhatalmi bevételek | C33: =+D33 -> 0
A34: 5. | B34: Működési bevételek (5.1.+…+ 5.11.) | C34: =SUM(C35:C45) -> 0
A35: 5.1. | B35: Készletértékesítés ellenértéke | C35: =+D35 -> 0
A36: 5.2. | B36: Szolgáltatások ellenértéke | C36: =+D36 -> 0
A37: 5.3. | B37: Közvetített szolgáltatások értéke | C37: =+D37 -> 0
A38: 5.4. | B38: Tulajdonosi bevételek | C38: =+D38 -> 0
A39: 5.5. | B39: Ellátási díjak | C39: =+D39 -> 0
A40: 5.6. | B40: Kiszámlázott általános forgalmi adó | C40: =+D40 -> 0
...

Sheet 1.2.2.b.sz.mell. Hivatal önk.
B1: B E V É T E L E K
C2: Ezer forintban
A3: Sor- szám | B3: Bevételi jogcím | C3: =+CONCATENATE(LEFT(ÖSSZEFÜGGÉSEK!A5,4),". évi előirányzat") -> 2015. évi előirányzat
A4: A | B4: B | C4: C
A5: 1. | B5: Önkormányzat működési támogatásai (1.1.+…+.1.6.) | C5: =+C6+C7+C8+C9+C10+C11 -> 0
A6: 1.1. | B6: Helyi önkormányzatok működésének általános támogatása | C6: =+D6 -> 0
A7: 1.2. | B7: Önkormányzatok egyes köznevelési feladatainak támogatása | C7: =+D7 -> 0
A8: 1.3. | B8: Önkormányzatok szociális és gyermekjóléti feladatainak támogatása | C8: =+D8 -> 0
A9: 1.4. | B9: Önkormányzatok kulturális feladatainak támogatása | C9: =+D9 -> 0
A10: 1.5. | B10: Működési célú kvi támogatások és kiegészítő támogatások | C10: =+D10 -> 0
A11: 1.6. | B11: Elszámolásból származó bevételek | C11: =+D11 -> 0
A12: 2. | B12: Működési célú támogatások államháztartáson belülről (2.1.+…+.2.5.) | C12: =+C13+C14+C15+C16+C17 -> 0
A13: 2.1. | B13: Elvonások és befizetések bevételei | C13: =+D13 -> 0
A14: 2.2. | B14: Működési célú garancia- és kezességvállalásból megtérülések | C14: =+D14 -> 0
A15: 2.3. | B15: Működési célú visszatérítendő támogatások, kölcsönök visszatérülése | C15: =+D15 -> 0
A16: 2.4. | B16: Működési célú visszatérítendő támogatások, kölcsönök igénybevétele | C16: =+D16 -> 0
A17: 2.5. | B17: Egyéb működési célú támogatások bevételei | C17: =+D17 -> 0
A18: 2.6. | B18: 2.5.-ből EU-s támogatás | C18: =+D18 -> 0
A19: 3. | B19: Felhalmozási célú támogatások államháztartáson belülről (3.1.+…+3.5.) | C19: =+C20+C21+C22+C23+C24 -> 0
A20: 3.1. | B20: Felhalmozási célú önkormányzati támogatások | C20: =+D20 -> 0
A21: 3.2. | B21: Felhalmozási célú garancia- és kezességvállalásból megtérülések | C21: =+D21 -> 0
A22: 3.3. | B22: Felhalmozási célú visszatérítendő támogatások, kölcsönök visszatérülése | C22: =+D22 -> 0
A23: 3.4. | B23: Felhalmozási célú visszatérítendő támogatások, kölcsönök igénybevétele | C23: =+D23 -> 0
A24: 3.5. | B24: Egyéb felhalmozási célú támogatások bevételei | C24: =+D24 -> 0
A25: 3.6. | B25: 3.5.-ből EU-s támogatás | C25: =+D25 -> 0
A26: 4. | B26: Közhatalmi bevételek (4.1.+4.2.+4.3.+4.4.) | C26: =+C27+C31+C32+C33 -> 0
A27: 4.1. | B27: Helyi adók (4.1.1.+...+4.1.3.) | C27: =SUM(C28:C30) -> 0
A28: 4.1.1. | B28: - Vagyoni típusú adók | C28: =+D28 -> 0
A29: 4.1.2. | B29: - Termékek és szolgáltatások adói | C29: =+D29 -> 0
A30: 4.1.3. | B30: - Értékesítési és forgalmi adók (iparűzési adó) | C30: =+D30 -> 0
A31: 4.2. | B31: Gépjárműadó | C31: =+D31 -> 0
A32: 4.3. | B32: Egyéb áruhasználati és szolgáltatási adók | C32: =+D32 -> 0
A33: 4.4. | B33: Egyéb közhatalmi bevételek | C33: =+D33 -> 0
A34: 5. | B34: Működési bevételek (5.1.+…+ 5.11.) | C34: =SUM(C35:C45) -> 0
A35: 5.1. | B35: Készletértékesítés ellenértéke | C35: =+D35 -> 0
A36: 5.2. | B36: Szolgáltatások ellenértéke | C36: =+D36 -> 0
A37: 5.3. | B37: Közvetített szolgáltatások értéke | C37: =+D37 -> 0
A38: 5.4. | B38: Tulajdonosi bevételek | C38: =+D38 -> 0
A39: 5.5. | B39: Ellátási díjak | C39: =+D39 -> 0
A40: 5.6. | B40: Kiszámlázott általános forgalmi adó | C40: =+D40 -> 0
...

Sheet 1.2.3.sz.mell.Műv.össz.
B1: B E V É T E L E K
E2: Ezer forintban
A3: Sor- szám | B3: Bevételi jogcím | C3: 2013. évi tény adatok | D3: 2014.évi várható tényadatok | E3: =+CONCATENATE(LEFT(ÖSSZEFÜGGÉSEK!A5,4),". évi előirányzat") -> 2015. évi előirányzat
A4: A | B4: B | E4: C
A5: 1. | B5: Önkormányzat működési támogatásai (1.1.+…+.1.6.) | E5: =+E6+E7+E8+E9+E10+E11 -> 0
A6: 1.1. | B6: Helyi önkormányzatok működésének általános támogatása | E6: =+'1.2.3.a.sz.mell.Műv.köt.'!C6+'1.2.3.b.sz.mell.Műv.önk.'!C6 -> 0
A7: 1.2. | B7: Önkormányzatok egyes köznevelési feladatainak támogatása | E7: =+'1.2.3.a.sz.mell.Műv.köt.'!C7+'1.2.3.b.sz.mell.Műv.önk.'!C7 -> 0
A8: 1.3. | B8: Önkormányzatok szociális és gyermekjóléti feladatainak támogatása | E8: =+'1.2.3.a.sz.mell.Műv.köt.'!C8+'1.2.3.b.sz.mell.Műv.önk.'!C8 -> 0
A9: 1.4. | B9: Önkormányzatok kulturális feladatainak támogatása | E9: =+'1.2.3.a.sz.mell.Műv.köt.'!C9+'1.2.3.b.sz.mell.Műv.önk.'!C9 -> 0
A10: 1.5. | B10: Működési célú kvi támogatások és kiegészítő támogatások | E10: =+'1.2.3.a.sz.mell.Műv.köt.'!C10+'1.2.3.b.sz.mell.Műv.önk.'!C10 -> 0
A11: 1.6. | B11: Elszámolásból származó bevételek | E11: =+'1.2.3.a.sz.mell.Műv.köt.'!C11+'1.2.3.b.sz.mell.Műv.önk.'!C11 -> 0
A12: 2. | B12: Működési célú támogatások államháztartáson belülről (2.1.+…+.2.5.) | C12: =+C13+C14+C15+C16+C17 -> 0 | D12: =+D13+D14+D15+D16+D17 -> 119 | E12: =+E13+E14+E15+E16+E17 -> 0
A13: 2.1. | B13: Elvonások és befizetések bevételei | E13: =+'1.2.3.a.sz.mell.Műv.köt.'!C13+'1.2.3.b.sz.mell.Műv.önk.'!C13 -> 0
A14: 2.2. | B14: Működési célú garancia- és kezességvállalásból megtérülések | E14: =+'1.2.3.a.sz.mell.Műv.köt.'!C14+'1.2.3.b.sz.mell.Műv.önk.'!C14 -> 0
A15: 2.3. | B15: Működési célú visszatérítendő támogatások, kölcsönök visszatérülése | E15: =+'1.2.3.a.sz.mell.Műv.köt.'!C15+'1.2.3.b.sz.mell.Műv.önk.'!C15 -> 0
A16: 2.4. | B16: Működési célú visszatérítendő támogatások, kölcsönök igénybevétele | E16: =+'1.2.3.a.sz.mell.Műv.köt.'!C16+'1.2.3.b.sz.mell.Műv.önk.'!C16 -> 0
A17: 2.5. | B17: Egyéb működési célú támogatások bevételei | D17: 119 | E17: =+'1.2.3.a.sz.mell.Műv.köt.'!C17+'1.2.3.b.sz.mell.Műv.önk.'!C17 -> 0
A18: 2.6. | B18: 2.5.-ből EU-s támogatás | E18: =+'1.2.3.a.sz.mell.Műv.köt.'!C18+'1.2.3.b.sz.mell.Műv.önk.'!C18 -> 0
A19: 3. | B19: Felhalmozási célú támogatások államháztartáson belülről (3.1.+…+3.5.) | E19: =+E20+E21+E22+E23+E24 -> 0
A20: 3.1. | B20: Felhalmozási célú önkormányzati támogatások | E20: =+'1.2.3.a.sz.mell.Műv.köt.'!C20+'1.2.3.b.sz.mell.Műv.önk.'!C20 -> 0
A21: 3.2. | B21: Felhalmozási célú garancia- és kezességvállalásból megtérülések | E21: =+'1.2.3.a.sz.mell.Műv.köt.'!C21+'1.2.3.b.sz.mell.Műv.önk.'!C21 -> 0
A22: 3.3. | B22: Felhalmozási célú visszatérítendő támogatások, kölcsönök visszatérülése | E22: =+'1.2.3.a.sz.mell.Műv.köt.'!C22+'1.2.3.b.sz.mell.Műv.önk.'!C22 -> 0
A23: 3.4. | B23: Felhalmozási célú visszatérítendő támogatások, kölcsönök igénybevétele | E23: =+'1.2.3.a.sz.mell.Műv.köt.'!C23+'1.2.3.b.sz.mell.Műv.önk.'!C23 -> 0
A24: 3.5. | B24: Egyéb felhalmozási célú támogatások bevételei | E24: =+'1.2.3.a.sz.mell.Műv.köt.'!C24+'1.2.3.b.sz.mell.Műv.önk.'!C24 -> 0
A25: 3.6. | B25: 3.5.-ből EU-s támogatás | E25: =+'1.2.3.a.sz.mell.Műv.köt.'!C25+'1.2.3.b.sz.mell.Műv.önk.'!C25 -> 0
A26: 4. | B26: Közhatalmi bevételek (4.1.+4.2.+4.3.+4.4.) | E26: =+E27+E31+E32+E33 -> 0
A27: 4.1. | B27: Helyi adók (4.1.1.+...+4.1.3.) | E27: =SUM(E28:E30) -> 0
A28: 4.1.1. | B28: - Vagyoni típusú adók | E28: =+'1.2.3.a.sz.mell.Műv.köt.'!C28+'1.2.3.b.sz.mell.Műv.önk.'!C28 -> 0
A29: 4.1.2. | B29: - Termékek és szolgáltatások adói | E29: =+'1.2.3.a.sz.mell.Műv.köt.'!C29+'1.2.3.b.sz.mell.Műv.önk.'!C29 -> 0
A30: 4.1.3. | B30: - Értékesítési és forgalmi adók (iparűzési adó) | E30: =+'1.2.3.a.sz.mell.Műv.köt.'!C30+'1.2.3.b.sz.mell.Műv.önk.'!C30 -> 0
A31: 4.2. | B31: Gépjárműadó | E31: =+'1.2.3.a.sz.mell.Műv.köt.'!C31+'1.2.3.b.sz.mell.Műv.önk.'!C31 -> 0
A32: 4.3. | B32: Egyéb áruhasználati és szolgáltatási adók | E32: =+'1.2.3.a.sz.mell.Műv.köt.'!C32+'1.2.3.b.sz.mell.Műv.önk.'!C32 -> 0
A33: 4.4. | B33: Egyéb közhatalmi bevételek | E33: =+'1.2.3.a.sz.mell.Műv.köt.'!C33+'1.2.3.b.sz.mell.Műv.önk.'!C33 -> 0
A34: 5. | B34: Működési bevételek (5.1.+…+ 5.11.) | C34: =SUM(C35:C45) -> 2520 | D34: =SUM(D35:D45) -> 3329 | E34: =SUM(E35:E45) -> 9000
A35: 5.1. | B35: Készletértékesítés ellenértéke | C35: 546 | D35: 24 | E35: =+'1.2.3.a.sz.mell.Műv.köt.'!C35+'1.2.3.b.sz.mell.Műv.önk.'!C35 -> 0
A36: 5.2. | B36: Szolgáltatások ellenértéke | D36: 853 | E36: =+'1.2.3.a.sz.mell.Műv.köt.'!C36+'1.2.3.b.sz.mell.Műv.önk.'!C36 -> 0
A37: 5.3. | B37: Közvetített szolgáltatások értéke | D37: 107 | E37: =+'1.2.3.a.sz.mell.Műv.köt.'!C37+'1.2.3.b.sz.mell.Műv.önk.'!C37 -> 0
A38: 5.4. | B38: Tulajdonosi bevételek | C38: 1944 | D38: 1078 | E38: =+'1.2.3.a.sz.mell.Műv.köt.'!C38+'1.2.3.b.sz.mell.Műv.önk.'!C38 -> 0
A39: 5.5. | B39: Ellátási díjak | E39: =+'1.2.3.a.sz.mell.Műv.köt.'!C39+'1.2.3.b.sz.mell.Műv.önk.'!C39 -> 0
