Workbook

Sheet 1_melléklet
B2: Pétfürdői Önkormányzat | E2: 1.sz.melléklet
B3: 2004.ÉVI KÖLTSÉGVETÉSÉNEK
B4: PÉNZÜGYI MÉRLEGE
B7: BEVÉTELEK
A8: Sor- | B8: Bevételi jogcím | C8: 2001.évi | D8: 2004.évi | E8: 2004.évi | F8: 2004.évi
A9: szám | C9: tény | D9: előirányzat | E9: IV.mód. | F9: teljesítés
A10: 1. | B10: 1.Saját bevételek | C10: =SUM(C11+C12+C13+C14+C15+C16+C22+C23+C24) -> 392421 | D10: =SUM(D11+D12+D13+D14+D15+D16+D22+D23+D24) -> 358977 | E10: =SUM(E11+E12+E13+E14+E15+E16+E22+E23+E24) -> 470938 | F10: =SUM(F11+F12+F13+F14+F15+F16+F22+F23+F24) -> 477180
A11: 2. | B11: A/ Alaptevékenység bevételei | C11: 12280 | D11: 18499 | E11: 20354 | F11: 20287
A12: 3. | B12: B/ Alaptevékenység egyéb bevételei | C12: 2933 | D12: 3970 | E12: 5276 | F12: 6708
A13: 4. | B13: C/ Intézmények egyéb sajátos bevételei | C13: 26250
A14: 5. | B14: D/ Vállalkozási bevételek
A15: 6. | B15: E/ Kamatbevételek | D15: 5000 | E15: 14000 | F15: 15518
A16: 7. | B16: F/ Helyi adók | C16: =SUM(C17:C21) -> 346893 | D16: =SUM(D17:D21) -> 320108 | E16: =SUM(E17:E21) -> 419908 | F16: =SUM(F17:F21) -> 420553
A17: 8. | B17: Építményadó | C17: 58036 | D17: 105708 | E17: 101208 | F17: 101975
A18: 9. | B18: Telekadó
A19: 10. | B19: Kommunális adó | C19: 6205 | D19: 8400 | E19: 8700 | F19: 8698
A20: 11. | B20: Idegenforgalmi adó / PÓTLÉK,BÍRSÁG | C20: 268 | F20: 1405
A21: 12. | B21: Iparűzési adó | C21: 282384 | D21: 206000 | E21: 310000 | F21: 308475
A22: 13. | B22: G/ Illetékek
A23: 14. | B23: H/ Önkormányzatok sajátos működési bevételei | C23: 210 | F23: 2220
A24: 15. | B24: I/ Felhalmozási és tőke jellegű bevételei | C24: 3855 | D24: 11400 | E24: 11400 | F24: 11894
A25: 16. | B25: II.Átengedett,megosztott bevételek | C25: =SUM(C26+C30+C31) -> 170501 | D25: =SUM(D26+D30+D31+D29) -> 72878 | E25: =SUM(E26+E30+E31+E29) -> 76578 | F25: =SUM(F26+F30+F31+F29) -> 76555
A26: 17. | B26: A/ Személyi jövedelemadó | C26: 165811 | D26: 60278 | E26: 60278 | F26: 60278
A27: 18. | B27: Helyben maradó rész | C27: 25768 | D27: 71922 | E27: 71922 | F27: 71922
A28: 19. | B28: Kiegészítés | C28: -18439 | D28: -11644 | E28: -11644 | F28: -11644
A29: 20. | B29: Normatív részesedés | C29: 158482
A30: 21. | B30: B/ Termőföld bérbeadása utáni adó
A31: 22. | B31: C/ Gépjárműadó | C31: 4690 | D31: 12600 | E31: 16300 | F31: 16277
A32: 23. | B32: III. Átvett pénzeszközök | C32: =SUM(C33:C37) -> 27037 | D32: =SUM(D33:D37) -> 26967 | E32: =SUM(E33:E37) -> 29373 | F32: =SUM(F33:F37) -> 24199
A33: 24. | B33: Egészségbizosítási Alaptól átvett pénzeszk. | C33: 1988 | D33: 4068 | E33: 4068 | F33: 3201
A34: 25. | B34: Elkülönített állami pénzalapoktól átvett | C34: 2458 | D34: 8446 | E34: 6554 | F34: 6554
A35: 26. | B35: Központi(fejezettől ) átvett pénze. | C35: 14055 | D35: 14453 | E35: 14540 | F35: 10413
A36: 27. | B36: Költségvetési kiegészítések, visszatérítések
A37: 28. | B37: Egyéb átvett pénzeszköz | C37: 8536 | E37: 4211 | F37: 4031
A38: 29. | B38: IV. Állami hozzájárulások és támogatások | C38: =SUM(C39:C46) -> 198000 | D38: =SUM(D39:D46) -> 396442 | E38: =SUM(E39:E46) -> 398255 | F38: =SUM(F39:F46) -> 408443
A39: 30. | B39: Normatív állami támogatás | C39: 75296 | D39: 164953 | E39: 166246 | F39: 176434
A40: 31. | B40: Normatív kötött felhasználású tám. | C40: 45934 | D40: 230775 | E40: 231295 | F40: 231295
A41: 32. | B41: Színházi támogatások | C41: 21864
A42: 33. | B42: Címzett és céltámogatások
A43: 34. | B43: Működésképt. vált önkorm. támog.
...

Sheet 2_melléklet
C1: 2. melléklet
C3: Pétfürdő Nagyközség
C4: 2004.évi címrendje
A6: Cím | B6: Al-
B7: cím | C7: Megnevezés
A8: 1 | B8: 1 | C8: Polgármesteri Hivatal
B9: 2 | C9: Cigány Kisebbség
A10: 2 | C10: Gondozási Központ
B11: 1 | C11: Gondozási Központ irányítás
B12: 2 | C12: Bölcsőde
B13: 3 | C13: Szállást Biztosító Idősek Klubja
B14: 4 | C14: Családsegítő szolgálat
B15: 5 | C15: Védőnői szolgálat
B16: 6 | C16: Házi segítségnyújtás
B17: 7 | C17: Szociális étkeztetés
A18: 3 | C18: Önkormányzati Hivatásos Tűzoltóság
A19: 4 | C19: Nitrogénes Napköziotthonos Óvoda
A20: 5 | C20: Horváth István Általános Iskola
A21: 6 | C21: Közösségi Ház, Könyvtár és Televízió

Sheet 3_a_b_melléklet
G1: .sz.melléklet | I1: 3/a.
A2: Működési célú (folyó)bevételek, Működési célú ( folyó) kiadások mérlege
A3: ( Önkormányzati szinten )
B4: Bevételek | G4: Kiadások
B6: 2002.évi | C6: 2004.évi | D6: 2004.évi | E6: 2004.évi | G6: 2002.évi | H6: 2004.évi | I6: 2004.évi | J6: 2004.évi
A7: Megnevezés | B7: tény | C7: előirányzat | D7: IV.mód. | E7: teljesítés | F7: Megnevezés | G7: tény | H7: előirányzat | I7: IV.mód. | J7: teljesítés
A8: Saját bevételek | C8: 148093 | D8: 243334 | E8: 261322 | F8: Személyi juttatások | H8: 389150 | I8: 407529 | J8: 398245
A9: Átengedett bevételek | C9: 72878 | D9: 76578 | E9: 76555 | F9: Járulékok | H9: 125503 | I9: 128066 | J9: 125545
A10: Átvett pénzeszközök | C10: 26967 | D10: 29373 | E10: 24199 | F10: Dologi kiadások | H10: 174081 | I10: 192461 | J10: 174165
A11: Állami hozzájárulás | C11: 396442 | D11: 398255 | E11: 408443 | F11: Ellátottak pénzbeli jutt. | H11: 1903 | I11: 1658 | J11: 1326
A12: Előző évi vható pénzmar. | C12: 91129 | D12: 67115 | E12: 65905 | F12: Társ.és szocpol.jutt. | H12: 24760 | I12: 26395 | J12: 25346
A13: EU előcsatlakozási tám. | F13: Pénzeszköz átadások | H13: 16070 | I13: 22492 | J13: 22189
A14: Egyéb | F14: Műk.célú hiteltörlesztés
A15: értékpapír | D15: 89724 | E15: 90224 | F15: Tartalék | H15: 4042 | I15: 124955 | J15: 179009
A16: passzív elszámolások | F16: Egyéb | I16: 823 | J16: 823
F17: akív elszámolások
F18: értékpapír vás.
A20: ÖSSZESEN: | B20: =SUM(B8:B19) -> 0 | C20: =SUM(C8:C19) -> 735509 | D20: =SUM(D8:D19) -> 904379 | E20: =SUM(E8:E19) -> 926648 | F20: ÖSSZESEN: | G20: =SUM(G8:G19) -> 0 | H20: =SUM(H8:H19) -> 735509 | I20: =SUM(I8:I19) -> 904379 | J20: =SUM(J8:J19) -> 926648
A21: Hiány | F21: Többlet
I28: 3/b.
A29: Tőkejellegű bevételek és kiadások mérlege
A30: (Önkormányzati szinten )
B31: Bevételek | G31: Kiadások
B33: 2002.évi | C33: 2004.évi | D33: 2004.évi | E33: 2004.évi | G33: 2002.évi | H33: 2004.évi | I33: 2004.évi | J33: 2004.évi
A34: Megnevezés | B34: tény | C34: előirányzat | D34: IV.mód. | E34: teljesítés | F34: Megnevezés | G34: tény | H34: előirányzat | I34: IV.mód. | J34: teljesítés
A35: Önkormányzat felhalm.és | F35: Beruházási kiadások,felh.
A36: tőke jellegű bevételei | C36: 11400 | D36: 11400 | E36: 11894 | F36: célú alapátadások | H36: 166780 | I36: 177739 | J36: 166874
A37: Fejlelsztési célú támoga- | F37: Felhalmozási célú pénz-
A38: tások ( cél, cimzett) | F38: eszköz átadás | H38: 11400 | I38: 11900 | J38: 11882
A39: Értékpapír eladás | F39: Felújítások | H39: 13800 | I39: 19061 | J39: 18198
A40: Előző évi vható pénzm. | F40: Pénzügyi befektetések
A41: Felhalm.célú hitel | F41: Felhalm.célú tartalék
A42: EU előcsatl.tám. | F42: Felhalm.célú hiteltörl. | H42: 18904 | I42: 18904 | J42: 18904
A43: Egyéb | F43: Egyéb
A44: vagyonátvétel | F44: Tartalék
A45: egyéb sajátos bevétel | C45: 199484 | D45: 216204 | E45: 203964
A47: ÖSSZESEN: | B47: =SUM(B36:B46) -> 0 | C47: =SUM(C36:C46) -> 210884 | D47: =SUM(D36:D46) -> 227604 | E47: =SUM(E36:E46) -> 215858 | F47: ÖSSZESEN: | G47: =SUM(G36:G46) -> 0 | H47: =SUM(H36:H46) -> 210884 | I47: =SUM(I36:I46) -> 227604 | J47: =SUM(J36:J46) -> 215858
A48: Hiány | F48: Többlet

Sheet 4_1_18_melléklet
F3: 4/1.melléklet
A4: Cím neve, száma | C4: Polgármesteri Hivatal | E4: 1
A5: Alcím neve, száma | C5: Igazgatási tevékenység
A7: Előirányzat | B7: Kiemelt | E7: Módosított | F7: 2004.évi
A8: csoport | B8: előirányzat | C8: Előirányzat-csoport, kiemelt előirányzat | D8: Előirányzat | E8: előir. IV. | F8: teljesítés
C9: megnevezése
A10: 1 | B10: 2 | C10: 3 | E10: 4 | F10: 4
C11: Bevételek
A12: 1 | C12: Saját bevételek | D12: =SUM(D13:D16) -> 7350 | E12: =SUM(E13:E16) -> 14336 | F12: =SUM(F13:F16) -> 22414
B13: 1 | C13: Alaptevékenység bevételei | D13: 7350 | E13: 12287 | F13: 20365
B14: 2 | C14: Intézményi bevételek
B15: 3 | C15: Vállalkozási bevételek
B16: 4 | C16: Pénzmaradvány | E16: 2049 | F16: 2049
A17: 2 | C17: Átvett pénzeszközök | D17: =SUM(D18:D19) -> 0 | E17: =SUM(E18:E19) -> 104 | F17: =SUM(F18:F19) -> 104
B18: 1 | C18: Működési célra átvett pénzeszközök
B19: 2 | C19: Felhalmozási célra átvett pénzeszközök | E19: 104 | F19: 104
A20: 3 | C20: Önkormányzati támogatás | D20: 176314 | E20: 177745 | F20: 160186
C21: BEVÉTELEK ÖSSZESEN | D21: =SUM(D12+D17+D20) -> 183664 | E21: =SUM(E12+E17+E20) -> 192185 | F21: =SUM(F12+F17+F20) -> 182704
C22: Kiadások
A23: 4 | C23: Működési kiadások | D23: =SUM(D24:D26) -> 110312 | E23: =SUM(E24:E26) -> 112226 | F23: =SUM(F24:F26) -> 107637
B24: 1 | C24: Személyi juttatások | D24: 63819 | E24: 66329 | F24: 63286
B25: 2 | C25: Munkaadókat terhelő járulékok | D25: 19509 | E25: 19729 | F25: 18520
B26: 3 | C26: Dologi kiadások | D26: 26984 | E26: 26168 | F26: 25831
A27: 5 | C27: Speciális célú támogatások | D27: =SUM(D28:D30) -> 0 | E27: =SUM(E28:E30) -> 0 | F27: =SUM(F28:F30) -> 0
B28: 1 | C28: Társadalom és szociálpolitikai juttatások
B29: 2 | C29: Működési célú pénzeszközátadás
B30: 3 | C30: Ellátottak pénzbeli juttatása
C31: KIADÁSOK összesen | D31: =SUM(D23+D27) -> 110312 | E31: =SUM(E23+E27) -> 112226 | F31: =SUM(F23+F27) -> 107637
C32: Felhalmozási célú kiadások | D32: =SUM(D33:D35) -> 73352 | E32: =SUM(E33:E35) -> 79959 | F32: =SUM(F33:F35) -> 75067
B33: 1 | C33: Beruházási kiadások | D33: 61952 | E33: 68003 | F33: 63059
B34: 2 | C34: Felújítások kiadásai | E34: 56 | F34: 126
B35: 3 | C35: Egyéb fejlesztési célú kiadások | D35: 11400 | E35: 11900 | F35: 11882
C36: KIADÁSOK ÖSSZESEN | D36: =SUM(D31:D32) -> 183664 | E36: =SUM(E31:E32) -> 192185 | F36: =SUM(F31:F32) -> 182704
A37: Létszámkeret/átlagos álományi létszám / fő | D37: 23 | E37: 23 | F37: 23
F42: 4/2.melléklet
A43: Cím neve, száma | C43: Polgármesteri Hivatal
A44: Alcím neve, száma | C44: Rendszeres pénzbeli ellátás
A46: Előirányzat | B46: Kiemelt | E46: Módosított | F46: 2004.évi
A47: csoport | B47: előirányzat | C47: Előirányzat-csoport, kiemelt előirányzat | D47: Előirányzat | E47: előir. IV. | F47: teljesítés
C48: megnevezése
...

Sheet 5_melléklet
B1: 5 | C1: .sz. melléklet
A2: Polgármesteri Hivatal kiadási előirányzatai
A3: feladatonként
B5: 2004.évi | C5: 2004.évi | D5: 2004.évi
A6: KIADÁSI JOGCÍMEK | B6: eredeti előirányzat | C6: mód.ei.IV. | D6: teljesítés
A7: Polgármesteri Hivatal igazgatási feladatok | B7: 110312 | C7: 112226 | D7: 107637
A8: Rendszeres pénzbeli ellátás | B8: 597 | C8: 597 | D8: 460
A9: Állategészségügyi feladatok | B9: 103 | C9: 123 | D9: 123
A10: Közvilágítás | B10: 7500 | C10: 8843 | D10: 4571
A11: Köztemető | B11: 2862 | C11: 2862 | D11: 2814
A12: Köztisztasági tevékenység | B12: 14095 | C12: 15860 | D12: 12078
A13: Parkfenntartás | B13: 12100 | C13: 11657 | D13: 11369
A14: Községgazdálkodás | B14: 22086 | C14: 17124 | D14: 16723
A15: Strand | B15: 6090 | C15: 4840 | D15: 4971
A16: Utak, hidak | B16: 4500 | C16: 8578 | D16: 8149
A17: Társadalom és szocpol. Juttatás | B17: 24760 | C17: 26395 | D17: 25346
A18: Cigány kisebbségi Önkormányzat | B18: 714 | C18: 714 | D18: 695
A19: Átadott pénzeszközök | B19: 16070 | C19: 22492 | D19: 22189
A20: Hiteltörlesztés | B20: 18904 | C20: =SUM('1_melléklet'!E89) -> 18904 | D20: =SUM('1_melléklet'!F89) -> 18904
A21: Felújítás, felhalmozás | B21: 191980 | C21: 208700 | D21: 196954
A22: Intézményfinanszírozás | B22: 509678 | C22: 546290 | D22: 529691
A23: Általános tartalék | B23: 4042 | C23: =SUM('1_melléklet'!E81) -> 43022 | D23: =SUM('1_melléklet'!F81) -> 0
A24: Céltartalék | C24: =SUM('1_melléklet'!E82) -> 14933 | D24: =SUM('1_melléklet'!F82) -> 0
A25: Egyéb tartalék | C25: 67000 | D25: 179009
A26: Egyéb folyó kiadások | C26: 823 | D26: 823
A27: ÖSSZESEN: | B27: =SUM(B7:B26) -> 946393 | C27: =SUM(C7:C26) -> 1131983 | D27: =SUM(D7:D26) -> 1142506

Sheet 6_a_b_melléklet
E1: 6 /a. melléklet
B2: Beruházási kiadások
B3: előirányzata célonként
A7: Beruházás megnevezése | B7: Teljes költség | C7: Kivitelezés | D7: 2004.évi | E7: 2004.évi | F7: 2004.évi
B8: igény | C8: kezdési és | D8: előirányzat | E8: mód.ei.IV. | F8: teljesítés
C9: befejezési éve
A10: 1 | B10: 2 | C10: 3 | D10: 5 | E10: 6 | F10: 6
A11: Tűzoltóság | B11: =SUM(B12) -> 2081 | D11: =SUM(D12) -> 2081 | E11: =SUM(E12) -> 3858 | F11: =SUM(F12) -> 947
A12: gépbeszerzések | B12: 2081 | C12: 2004. | D12: 2081 | E12: 3858 | F12: 947
A13: Iskola | B13: =SUM(B16) -> 400 | D13: =SUM(D16) -> 400 | E13: =SUM(E14:E16) -> 1380 | F13: =SUM(F14:F16) -> 1216
A14: tanári tárolószekrény | E14: 225 | F14: 225
A15: fűnyíró traktor | E15: 465 | F15: 465
A16: 2 db számítógép + szoftver beszerzés | B16: 400 | C16: 2004. | D16: 400 | E16: 690 | F16: 526
A17: Óvoda | B17: =SUM(B18:B20) -> 470 | D17: =SUM(D18:D20) -> 470 | E17: =SUM(E18:E20) -> 1010 | F17: =SUM(F18:F20) -> 987
A18: villanytűzhely | B18: 120 | C18: 2004. | D18: 120 | E18: 120 | F18: 100
A19: kerti vízvételi lehetőség | B19: 150 | C19: 2004. | D19: 150 | E19: 150 | F19: 147
A20: babaház 3 fajátékok | B20: 200 | C20: 2004. | D20: 200 | E20: 740 | F20: 740
A21: Közösségi Ház és Könyvtár | B21: =SUM(B22:B24) -> 61450 | D21: =SUM(D22:D24) -> 61625 | E21: =SUM(E22:E24) -> 61625 | F21: =SUM(F22:F24) -> 61605
A22: lézernyomtató | B22: 100 | C22: 2004. | D22: 225 | E22: 225 | F22: 225
A23: digitális fényképezőgép | B23: 100 | C23: 2004. | D23: 150 | E23: 150 | F23: 130
A24: Közösségi Ház megvásárlása | B24: 61250 | C24: 2004. | D24: 61250 | E24: 61250 | F24: 61250
A25: Gondozási Központ | B25: =SUM(B26:B29) -> 670 | D25: =SUM(D26:D29) -> 670 | E25: =SUM(E26:E29) -> 670 | F25: =SUM(F26:F29) -> 618
A26: bemutató eszköz /Védőnők/ | B26: 70 | C26: 2004. | D26: 70 | E26: 70 | F26: 67
A27: beépített szekrény / Védőnők / | B27: 100 | C27: 2004. | D27: 100 | E27: 100 | F27: 76
A28: fénymásoló Gondozási Közp. | B28: 150 | C28: 2004. | D28: 150 | E28: 150 | F28: 150
A29: számítógép kompl. + program | B29: 350 | C29: 2004. | D29: 350 | E29: 350 | F29: 325
A30: Polgármesteri Hivatal | B30: =SUM(B31:B37) -> 2010 | D30: =SUM(D31:D37) -> 4510 | E30: =SUM(E31:E43) -> 6819 | F30: =SUM(F31:F43) -> 4623
A31: beépített szekrény/ fogorvos / | B31: 100 | C31: 2004. | D31: 100 | E31: 100 | F31: 100
A32: 2 kazettás CD-s magnó / anyakönyv/ | B32: 60 | C32: 2004. | D32: 60 | E32: 60 | F32: 57
A33: 5 db számítógép | B33: 1500 | C33: 2004. | D33: 1000 | E33: 1000 | F33: 873
A34: 1 db asztali fénymásoló-nyomtató | B34: 150 | C34: 2004. | D34: 150 | E34: 150 | F34: 89
A35: anyakönyvi kellék | B35: 200 | C35: 2004. | D35: 200 | E35: 200
A36: lézeres távmérő | F36: 220
A37: terveztetésekre | C37: 2004. | D37: 3000 | E37: 3000
A38: Hivatali épületre 500 e Ft | F38: 300
A39: villamoshálózat, fűtésre 500 e Ft
A40: egyéb tervekre 575 e Ft
A41: Malomárok csapadékvíz 975 e Ft | F41: 225
A42: felszíni vízelvezetés 450 e Ft | F42: 450
A43: fénymásoló vásárlás | E43: 2309 | F43: 2309
...

Sheet 7_melléklet
G2: 7. melléklet
C4: Az önkományzat által felvett hitelállomány alakulása
D5: lejárat és eszközök szerinti bontásban
G6: Ezer forintban!
C7: Felvétel | D7: Lejárat
A8: Sor | B8: Hitel jellege | F8: Hitel állomány január 1-jén
A9: szám | C9: éve | E9: 2004. | F9: 2005. | G9: 2006. | H9: 2007.után
A10: 1 | B10: 2 | C10: 3 | D10: 4 | E10: 5 | F10: 6 | G10: 7 | H10: 8
A11: 1. | B11: Működési célú
A12: 2. | B12: ………………………….
A13: 3. | B13: ………………………….
A14: 4. | B14: ………………………….
A15: 5. | B15: …………………………..
A16: 6. | B16: Felhalmozási célú
A17: 7. | B17: Japán hitel | C17: 1994. | D17: 2019. | E17: 329502 | F17: 310597 | G17: 289891 | H17: 269184
A18: 8. | B18: …………………………..
A19: 9. | B19: …………………………..
A20: 10. | B20: …………………………..
A21: 11. | B21: Összesen (1+6) | E21: =SUM(E17+E11) -> 329502 | F21: =SUM(F17+F11) -> 310597 | G21: =SUM(G17+G11) -> 289891 | H21: =SUM(H17+H11) -> 269184

Sheet 8_melléklet
G2: 8. melléklet
C5: Az önkormányzat által nyújtott hitel és kölcsön alakulása
D6: lejárat és eszközök szerinti bontásban
H7: ezer forintban!
C8: Kölcsön- | D8: Lejárat
A9: Sor | B9: Hitel , kölcsön | C9: nyújtás | F9: Hitel, kölcsön állomány január 1-jén
A10: szám | C10: éve | E10: 2004. | F10: 2005. | G10: 2006. | H10: 2007.után
A11: 1 | B11: 2 | C11: 3 | D11: 4 | E11: 5 | F11: 6 | G11: 7 | H11: 8
A12: 1. | B12: Rövid lejáratú | E12: =SUM(E13:E16) -> 30 | F12: =SUM(F13:F16) -> 0 | G12: =SUM(G13:G16) -> 0 | H12: =SUM(H13:H16) -> 0
A13: 2. | B13: Kert értékesítés | C13: 2003 | D13: 2004 | E13: 30
A14: 3.
A15: 4. | B15: ………………………….
A16: 5. | B16: …………………………..
A17: 6. | B17: Hosszú lejáratú | E17: =SUM(E18:E21) -> 41 | F17: =SUM(F18:F21) -> 8 | G17: =SUM(G18:G21) -> 0 | H17: =SUM(H18:H21) -> 0
A18: 7. | B18: Lakás vásárlás | C18: 1998 | D18: 2005 | E18: 41 | F18: 8
A19: 8. | B19: …………………………..
A20: 9. | B20: …………………………..
A21: 10. | B21: …………………………..
A22: 11. | B22: Összesen (1+6) | E22: =SUM(E12+E17) -> 71 | F22: =SUM(F12+F17) -> 8 | G22: =SUM(G12+G17) -> 0 | H22: =SUM(H12+H17) -> 0

Sheet 9. melléklet
D1: 9.sz.melléklet
A2: Az önkormányzat által adott közvetett támogatások
A3: (kedvezmények)
D4: ezer Ft-ban !
A5: Sor- | C5: Tényleges | D5: Adott kedvezmények
A6: szám | B6: Bevételi jogcím | C6: bevétel | D6: összege
A7: 1 | B7: 2 | C7: 3 | D7: 4
A8: 1. | B8: Iparűzési adó | C8: 308475 | D8: 1891
A9: 2.
A10: 3.
A11: 4.
A12: 5.
A13: 6.
A14: 7.
A15: 8.
A16: 9.
A17: 10.
A18: 11. | B18: Összesen: | C18: 308475 | D18: 1891

Sheet 10. mellélet
G2: 10. melléklet
D4: Lásd pdf. Dokumentum
