Workbook

Sheet 1_melléklet
B2: Pétfürdői Önkormányzat | E2: 1.sz.melléklet
B3: 2004.ÉVI KÖLTSÉGVETÉSÉNEK
B4: PÉNZÜGYI MÉRLEGE
B7: BEVÉTELEK
A8: Sor- | B8: Bevételi jogcím | C8: 2001.évi | D8: 2004.évi | E8: 2004.évi | F8: 2004.évi
A9: szám | C9: tény | D9: előirányzat | E9: IV.mód. | F9: teljesítés
A10: 1. | B10: 1.Saját bevételek | C10: =SUM(C11+C12+C13+C14+C15+C16+C22+C23+C24) -> 392421 | D10: =SUM(D11+D12+D13+D14+D15+D16+D22+D23+D24) -> 358977 | E10: =SUM(E11+E12+E13+E14+E15+E16+E22+E23+E24) -> 470938 | F10: =SUM(F11+F12+F13+F14+F15+F16+F22+F23+F24) -> 477180
A11: 2. | B11: A/ Alaptevékenység bevételei | C11: 12280 | D11: 18499 | E11: 20354 | F11: 20287
A12: 3. | B12: B/ Alaptevékenység egyéb bevételei | C12: 2933 | D12: 3970 | E12: 5276 | F12: 6708
A13: 4. | B13: C/ Intézmények egyéb sajátos bevételei | C13: 26250
A14: 5. | B14: D/ Vállalkozási bevételek
A15: 6. | B15: E/ Kamatbevételek | D15: 5000 | E15: 14000 | F15: 15518
A16: 7. | B16: F/ Helyi adók | C16: =SUM(C17:C21) -> 346893 | D16: =SUM(D17:D21) -> 320108 | E16: =SUM(E17:E21) -> 419908 | F16: =SUM(F17:F21) -> 420553
A17: 8. | B17: Építményadó | C17: 58036 | D17: 105708 | E17: 101208 | F17: 101975
A18: 9. | B18: Telekadó
A19: 10. | B19: Kommunális adó | C19: 6205 | D19: 8400 | E19: 8700 | F19: 8698
A20: 11. | B20: Idegenforgalmi adó / PÓTLÉK,BÍRSÁG | C20: 268 | F20: 1405
A21: 12. | B21: Iparűzési adó | C21: 282384 | D21: 206000 | E21: 310000 | F21: 308475
A22: 13. | B22: G/ Illetékek
A23: 14. | B23: H/ Önkormányzatok sajátos működési bevételei | C23: 210 | F23: 2220
A24: 15. | B24: I/ Felhalmozási és tőke jellegű bevételei | C24: 3855 | D24: 11400 | E24: 11400 | F24: 11894
A25: 16. | B25: II.Átengedett,megosztott bevételek | C25: =SUM(C26+C30+C31) -> 170501 | D25: =SUM(D26+D30+D31+D29) -> 72878 | E25: =SUM(E26+E30+E31+E29) -> 76578 | F25: =SUM(F26+F30+F31+F29) -> 76555
A26: 17. | B26: A/ Személyi jövedelemadó | C26: 165811 | D26: 60278 | E26: 60278 | F26: 60278
A27: 18. | B27: Helyben maradó rész | C27: 25768 | D27: 71922 | E27: 71922 | F27: 71922
A28: 19. | B28: Kiegészítés | C28: -18439 | D28: -11644 | E28: -11644 | F28: -11644
A29: 20. | B29: Normatív részesedés | C29: 158482
A30: 21. | B30: B/ Termőföld bérbeadása utáni adó
A31: 22. | B31: C/ Gépjárműadó | C31: 4690 | D31: 12600 | E31: 16300 | F31: 16277
A32: 23. | B32: III. Átvett pénzeszközök | C32: =SUM(C33:C37) -> 27037 | D32: =SUM(D33:D37) -> 26967 | E32: =SUM(E33:E37) -> 29373 | F32: =SUM(F33:F37) -> 24199
A33: 24. | B33: Egészségbizosítási Alaptól átvett pénzeszk. | C33: 1988 | D33: 4068 | E33: 4068 | F33: 3201
A34: 25. | B34: Elkülönített állami pénzalapoktól átvett | C34: 2458 | D34: 8446 | E34: 6554 | F34: 6554
A35: 26. | B35: Központi(fejezettől ) átvett pénze. | C35: 14055 | D35: 14453 | E35: 14540 | F35: 10413
A36: 27. | B36: Költségvetési kiegészítések, visszatérítések
A37: 28. | B37: Egyéb átvett pénzeszköz | C37: 8536 | E37: 4211 | F37: 4031
A38: 29. | B38: IV. Állami hozzájárulások és támogatások | C38: =SUM(C39:C46) -> 198000 | D38: =SUM(D39:D46) -> 396442 | E38: =SUM(E39:E46) -> 398255 | F38: =SUM(F39:F46) -> 408443
A39: 30. | B39: Normatív állami támogatás | C39: 75296 | D39: 164953 | E39: 166246 | F39: 176434
A40: 31. | B40: Normatív kötött felhasználású tám. | C40: 45934 | D40: 230775 | E40: 231295 | F40: 231295
A41: 32. | B41: Színházi támogatások | C41: 21864
A42: 33. | B42: Címzett és céltámogatások
A43: 34. | B43: Működésképt. vált önkorm. támog.
A44: 35. | B44: Egyéb támogatások ( közp.ei.) | C44: 46906 | D44: 714 | E44: 714 | F44: 714
A45: 36. | B45: Területi kiegy. szolg.támogatások | C45: 8000
A46: 37. | B46: Céljellegű és decentr. tám.
A47: 38. | B47: FOLYÓ BEVÉTELEK ÖSSZESEN | C47: =SUM(C10+C25+C32+C38) -> 787959 | D47: =SUM(D10+D25+D32+D38) -> 855264 | E47: =SUM(E10+E25+E32+E38) -> 975144 | F47: =SUM(F10+F25+F32+F38) -> 986377
A48: 39. | B48: Előző évi várható pénzmaradvány | C48: 48035 | D48: 91129 | E48: 67115 | F48: 65905
A49: 40. | B49: Hitelek, értékpapírműveletek | C49: 545947 | E49: 89724 | F49: 90224
A50: 41. | B50: Passziv elsz. | C50: 28932
A51: 42. | B51: BEVÉTELEK ÖSSZESEN | C51: =SUM(C47+C48+C49+C50) -> 1410873 | D51: =SUM(D47+D48+D49+D50) -> 946393 | E51: =SUM(E47+E48+E49+E50) -> 1131983 | F51: =SUM(F47+F48+F49+F50) -> 1142506
B57: KIADÁSOK
A58: Sor- | B58: Kiadási jogcím | C58: 2001.évi | D58: 2004.évi | E58: 2004.évi | F58: 2004.évi
A59: szám | C59: tény | D59: előirányzat | E59: IV.mód. | F59: teljesítés
A60: 1. | B60: I. Folyó ( működési ) kiadások | C60: =SUM(C61:C68) -> 1151403 | D60: =SUM(D61:D68) -> 704804 | E60: 751371 | F60: 720967
A61: 2. | B61: Személyi juttatások | C61: 272030 | D61: 389150 | E61: 407529 | F61: 398245
A62: 3. | B62: Munkaadókat terhelő járulékok | C62: 100307 | D62: 125503 | E62: 128066 | F62: 125545
A63: 4. | B63: Dologi kiadások | C63: 153586 | D63: 174081 | E63: 192461 | F63: 174165
A64: 5. | B64: Egyéb folyó kiadások | C64: 9768 | E64: 823 | F64: 823
A65: 6. | B65: Működési célú pénzeszközátadás, támogatás | D65: 16070 | E65: 22492 | F65: 22189
A66: 7. | B66: Rövid lejáratú értékpapírok vásárlása | C66: 615652
A67: 8. | B67: Rövid lejáratú kölcsönök nyújtása, törlesztése | C67: 60
A68: 9. | B68: Tartalékok
A69: 10. | B69: II.Felhalmozási és tőkejellegű kiadások | C69: =SUM(C70:C74) -> 138157 | D69: =SUM(D70:D74) -> 191980 | E69: =SUM(E70:E74) -> 208700 | F69: =SUM(F70:F74) -> 196954
A70: 11. | B70: Tárgyi eszk., föld és immat.javak felhalmozása | C70: 87825 | D70: 133424 | E70: 142191 | F70: 133714
A71: 12. | B71: Államháztartáson belüli felhalm.átut. | C71: 6191
A72: 13. | B72: Államháztartáson kívüli felhalm. Átutalások | C72: 17700 | D72: 11400 | E72: 11900 | F72: 11882
A73: 14. | B73: Nagyértékű tárgyi eszközök felújítása | C73: 3699 | D73: 11040 | E73: 15249 | F73: 14558
A74: 15. | B74: Beruházások áfa egyenlege | C74: 22742 | D74: 36116 | E74: 39360 | F74: 36800
A75: 16. | B75: III. Támogatások, elvonások | C75: =SUM(C76:C79) -> 35116 | D75: 26663 | E75: 28053 | F75: 26672
A76: 17. | B76: Műk. célú pénzeszk.átadás államh-on kívülre | C76: 8117
A77: 18. | B77: Műk. célú pénzeszk.átadás államh-on belülre | C77: 1686
A78: 19. | B78: Társadalom és szociálpolitikai juttatások | C78: 24566 | D78: 24760 | E78: 26395 | F78: 25346
A79: 20. | B79: Ellátottak pénzbeli juttatása | C79: 747 | D79: 1903 | E79: 1658 | F79: 1326
A80: 21. | B80: IV. Tartalékok | C80: =SUM(C81:C83) -> 45549 | D80: =SUM(D81:D83) -> 4042 | E80: =SUM(E81:E83) -> 124955 | F80: =SUM(F81:F83) -> 179009
A81: 22. | B81: Általános tartalék | C81: 45549 | D81: 4042 | E81: 43022
A82: 23. | B82: Céltartalék | E82: 14933
A83: 24. | B83: Egyéb tartalékok | E83: 67000 | F83: 179009
A84: 25. | B84: V. Hitelek kamatai
A85: 26. | B85: VI. Egyéb kiadások | C85: =SUM(C86+-C87) -> 28493 | D85: =SUM(D86+-D87) -> 0 | E85: =SUM(E86+-E87) -> 0 | F85: =SUM(F86+-F87) -> 0
A86: 27. | B86: Aktív elszámolások | C86: 28493
A87: 28.
A88: 29. | B88: FOLYÓ KIADÁSOK ÖSSZESEN | C88: =SUM(C60+C69+C75+C80+C84+C85) -> 1398718 | D88: =SUM(D60+D69+D75+D80+D84+D85) -> 927489 | E88: =SUM(E60+E69+E75+E80+E84+E85) -> 1113079 | F88: =SUM(F60+F69+F75+F80+F84+F85) -> 1123602
A89: 30. | B89: Adósságszolgálat | C89: 12155 | D89: 18904 | E89: 18904 | F89: 18904
A90: 31.
A91: 32.
A92: 33. | B92: TÁRGYÉVI KIADÁSOK ÖSSZESEN | C92: =SUM(C88:C91) -> 1410873 | D92: =SUM(D88:D91) -> 946393 | E92: =SUM(E88:E91) -> 1131983 | F92: =SUM(F88:F91) -> 1142506

Sheet 2_melléklet
C1: 2. melléklet
C3: Pétfürdő Nagyközség
C4: 2004.évi címrendje
A6: Cím | B6: Al-
B7: cím | C7: Megnevezés
A8: 1 | B8: 1 | C8: Polgármesteri Hivatal
B9: 2 | C9: Cigány Kisebbség
A10: 2 | C10: Gondozási Központ
B11: 1 | C11: Gondozási Központ irányítás
B12: 2 | C12: Bölcsőde
B13: 3 | C13: Szállást Biztosító Idősek Klubja
B14: 4 | C14: Családsegítő szolgálat
B15: 5 | C15: Védőnői szolgálat
B16: 6 | C16: Házi segítségnyújtás
B17: 7 | C17: Szociális étkeztetés
A18: 3 | C18: Önkormányzati Hivatásos Tűzoltóság
A19: 4 | C19: Nitrogénes Napköziotthonos Óvoda
A20: 5 | C20: Horváth István Általános Iskola
A21: 6 | C21: Közösségi Ház, Könyvtár és Televízió

Sheet 3_a_b_melléklet
G1: .sz.melléklet | I1: 3/a.
A2: Működési célú (folyó)bevételek, Működési célú ( folyó) kiadások mérlege
A3: ( Önkormányzati szinten )
B4: Bevételek | G4: Kiadások
B6: 2002.évi | C6: 2004.évi | D6: 2004.évi | E6: 2004.évi | G6: 2002.évi | H6: 2004.évi | I6: 2004.évi | J6: 2004.évi
A7: Megnevezés | B7: tény | C7: előirányzat | D7: IV.mód. | E7: teljesítés | F7: Megnevezés | G7: tény | H7: előirányzat | I7: IV.mód. | J7: teljesítés
A8: Saját bevételek | C8: 148093 | D8: 243334 | E8: 261322 | F8: Személyi juttatások | H8: 389150 | I8: 407529 | J8: 398245
A9: Átengedett bevételek | C9: 72878 | D9: 76578 | E9: 76555 | F9: Járulékok | H9: 125503 | I9: 128066 | J9: 125545
A10: Átvett pénzeszközök | C10: 26967 | D10: 29373 | E10: 24199 | F10: Dologi kiadások | H10: 174081 | I10: 192461 | J10: 174165
A11: Állami hozzájárulás | C11: 396442 | D11: 398255 | E11: 408443 | F11: Ellátottak pénzbeli jutt. | H11: 1903 | I11: 1658 | J11: 1326
A12: Előző évi vható pénzmar. | C12: 91129 | D12: 67115 | E12: 65905 | F12: Társ.és szocpol.jutt. | H12: 24760 | I12: 26395 | J12: 25346
A13: EU előcsatlakozási tám. | F13: Pénzeszköz átadások | H13: 16070 | I13: 22492 | J13: 22189
A14: Egyéb | F14: Műk.célú hiteltörlesztés
A15: értékpapír | D15: 89724 | E15: 90224 | F15: Tartalék | H15: 4042 | I15: 124955 | J15: 179009
A16: passzív elszámolások | F16: Egyéb | I16: 823 | J16: 823
F17: akív elszámolások
F18: értékpapír vás.
A20: ÖSSZESEN: | B20: =SUM(B8:B19) -> 0 | C20: =SUM(C8:C19) -> 735509 | D20: =SUM(D8:D19) -> 904379 | E20: =SUM(E8:E19) -> 926648 | F20: ÖSSZESEN: | G20: =SUM(G8:G19) -> 0 | H20: =SUM(H8:H19) -> 735509 | I20: =SUM(I8:I19) -> 904379 | J20: =SUM(J8:J19) -> 926648
A21: Hiány | F21: Többlet
I28: 3/b.
A29: Tőkejellegű bevételek és kiadások mérlege
A30: (Önkormányzati szinten )
B31: Bevételek | G31: Kiadások
B33: 2002.évi | C33: 2004.évi | D33: 2004.évi | E33: 2004.évi | G33: 2002.évi | H33: 2004.évi | I33: 2004.évi | J33: 2004.évi
A34: Megnevezés | B34: tény | C34: előirányzat | D34: IV.mód. | E34: teljesítés | F34: Megnevezés | G34: tény | H34: előirányzat | I34: IV.mód. | J34: teljesítés
A35: Önkormányzat felhalm.és | F35: Beruházási kiadások,felh.
A36: tőke jellegű bevételei | C36: 11400 | D36: 11400 | E36: 11894 | F36: célú alapátadások | H36: 166780 | I36: 177739 | J36: 166874
A37: Fejlelsztési célú támoga- | F37: Felhalmozási célú pénz-
A38: tások ( cél, cimzett) | F38: eszköz átadás | H38: 11400 | I38: 11900 | J38: 11882
A39: Értékpapír eladás | F39: Felújítások | H39: 13800 | I39: 19061 | J39: 18198
A40: Előző évi vható pénzm. | F40: Pénzügyi befektetések
A41: Felhalm.célú hitel | F41: Felhalm.célú tartalék
A42: EU előcsatl.tám. | F42: Felhalm.célú hiteltörl. | H42: 18904 | I42: 18904 | J42: 18904
A43: Egyéb | F43: Egyéb
A44: vagyonátvétel | F44: Tartalék
A45: egyéb sajátos bevétel | C45: 199484 | D45: 216204 | E45: 203964
A47: ÖSSZESEN: | B47: =SUM(B36:B46) -> 0 | C47: =SUM(C36:C46) -> 210884 | D47: =SUM(D36:D46) -> 227604 | E47: =SUM(E36:E46) -> 215858 | F47: ÖSSZESEN: | G47: =SUM(G36:G46) -> 0 | H47: =SUM(H36:H46) -> 210884 | I47: =SUM(I36:I46) -> 227604 | J47: =SUM(J36:J46) -> 215858
A48: Hiány | F48: Többlet

Sheet 4_1_18_melléklet
F3: 4/1.melléklet
A4: Cím neve, száma | C4: Polgármesteri Hivatal | E4: 1
A5: Alcím neve, száma | C5: Igazgatási tevékenység
A7: Előirányzat | B7: Kiemelt | E7: Módosított | F7: 2004.évi
A8: csoport | B8: előirányzat | C8: Előirányzat-csoport, kiemelt előirányzat | D8: Előirányzat | E8: előir. IV. | F8: teljesítés
C9: megnevezése
A10: 1 | B10: 2 | C10: 3 | E10: 4 | F10: 4
C11: Bevételek
A12: 1 | C12: Saját bevételek | D12: =SUM(D13:D16) -> 7350 | E12: =SUM(E13:E16) -> 14336 | F12: =SUM(F13:F16) -> 22414
B13: 1 | C13: Alaptevékenység bevételei | D13: 7350 | E13: 12287 | F13: 20365
B14: 2 | C14: Intézményi bevételek
B15: 3 | C15: Vállalkozási bevételek
B16: 4 | C16: Pénzmaradvány | E16: 2049 | F16: 2049
A17: 2 | C17: Átvett pénzeszközök | D17: =SUM(D18:D19) -> 0 | E17: =SUM(E18:E19) -> 104 | F17: =SUM(F18:F19) -> 104
B18: 1 | C18: Működési célra átvett pénzeszközök
B19: 2 | C19: Felhalmozási célra átvett pénzeszközök | E19: 104 | F19: 104
A20: 3 | C20: Önkormányzati támogatás | D20: 176314 | E20: 177745 | F20: 160186
C21: BEVÉTELEK ÖSSZESEN | D21: =SUM(D12+D17+D20) -> 183664 | E21: =SUM(E12+E17+E20) -> 192185 | F21: =SUM(F12+F17+F20) -> 182704
C22: Kiadások
A23: 4 | C23: Működési kiadások | D23: =SUM(D24:D26) -> 110312 | E23: =SUM(E24:E26) -> 112226 | F23: =SUM(F24:F26) -> 107637
B24: 1 | C24: Személyi juttatások | D24: 63819 | E24: 66329 | F24: 63286
B25: 2 | C25: Munkaadókat terhelő járulékok | D25: 19509 | E25: 19729 | F25: 18520
B26: 3 | C26: Dologi kiadások | D26: 26984 | E26: 26168 | F26: 25831
A27: 5 | C27: Speciális célú támogatások | D27: =SUM(D28:D30) -> 0 | E27: =SUM(E28:E30) -> 0 | F27: =SUM(F28:F30) -> 0
B28: 1 | C28: Társadalom és szociálpolitikai juttatások
B29: 2 | C29: Működési célú pénzeszközátadás
B30: 3 | C30: Ellátottak pénzbeli juttatása
C31: KIADÁSOK összesen | D31: =SUM(D23+D27) -> 110312 | E31: =SUM(E23+E27) -> 112226 | F31: =SUM(F23+F27) -> 107637
C32: Felhalmozási célú kiadások | D32: =SUM(D33:D35) -> 73352 | E32: =SUM(E33:E35) -> 79959 | F32: =SUM(F33:F35) -> 75067
B33: 1 | C33: Beruházási kiadások | D33: 61952 | E33: 68003 | F33: 63059
B34: 2 | C34: Felújítások kiadásai | E34: 56 | F34: 126
B35: 3 | C35: Egyéb fejlesztési célú kiadások | D35: 11400 | E35: 11900 | F35: 11882
C36: KIADÁSOK ÖSSZESEN | D36: =SUM(D31:D32) -> 183664 | E36: =SUM(E31:E32) -> 192185 | F36: =SUM(F31:F32) -> 182704
A37: Létszámkeret/átlagos álományi létszám / fő | D37: 23 | E37: 23 | F37: 23
F42: 4/2.melléklet
A43: Cím neve, száma | C43: Polgármesteri Hivatal
A44: Alcím neve, száma | C44: Rendszeres pénzbeli ellátás
A46: Előirányzat | B46: Kiemelt | E46: Módosított | F46: 2004.évi
A47: csoport | B47: előirányzat | C47: Előirányzat-csoport, kiemelt előirányzat | D47: Előirányzat | E47: előir. IV. | F47: teljesítés
C48: megnevezése
A49: 1 | B49: 2 | C49: 3 | E49: 4 | F49: 4
C50: Bevételek
A51: 1 | C51: Saját bevételek | E51: =SUM(E52:E55) -> 0 | F51: =SUM(F52:F55) -> 0
B52: 1 | C52: Alaptevékenység bevételei
B53: 2 | C53: Intézményi bevételek
B54: 3 | C54: Vállalkozási bevételek
B55: 4 | C55: Előző évi várható pénzmaradvány
A56: 2 | C56: Átvett pénzeszközök | E56: 0 | F56: 0
B57: 1 | C57: Működési célra átvett pénzeszközök
B58: 2 | C58: Felhalmozásicélra átvett pénzeszközök
A59: 3 | C59: Önkormányzati támogatás | D59: 597 | E59: 597 | F59: 460
C60: BEVÉTELEK ÖSSZESEN | D60: =SUM(D51+D56+D59) -> 597 | E60: =SUM(E51+E56+E59) -> 597 | F60: =SUM(F51+F56+F59) -> 460
C61: Kiadások
A62: 4 | C62: Működési kiadások | D62: =SUM(D63:D65) -> 597 | E62: =SUM(E63:E65) -> 597 | F62: =SUM(F63:F65) -> 460
B63: 1 | C63: Személyi juttatások
B64: 2 | C64: Munkaadókat terhelő járulékok | D64: 597 | E64: 597 | F64: 460
B65: 3 | C65: Dologi kiadások
A66: 5 | C66: Speciális célú támogatások | D66: =SUM(D67:D69) -> 0 | E66: =SUM(E67:E69) -> 0 | F66: =SUM(F67:F69) -> 0
B67: 1 | C67: Társadalom és szociálpolitikaijuttatások
B68: 2 | C68: Működési célú pénzeszköz átadás
B69: 3 | C69: Ellátottak pénzbeli juttatása
A70: 6 | C70: Felhalmozási célú kiadások | D70: =SUM(D71:D73) -> 0 | E70: =SUM(E71:E73) -> 0 | F70: =SUM(F71:F73) -> 0
B71: 1 | C71: Beruházási kiadások
B72: 2 | C72: Felújítási kiadások
B73: 3 | C73: Egyéb fejlesztési célú kiadások
C74: KIADÁSOK ÖSSZESEN | D74: =SUM(D62+D66+D70) -> 597 | E74: =SUM(E62+E66+E70) -> 597 | F74: =SUM(F62+F66+F70) -> 460
A75: Létszámkeret /átlagos állományi létszám / (fő)
F80: 4/3.melléklet
A81: Cím neve, száma | C81: Polgármesteri Hivatal
A82: Alcím neve, száma | C82: Állategészségügyi tevékenység
A84: Előirányzat | B84: Kiemelt | E84: Módosított | F84: 2004.évi
A85: csoport | B85: előirányzat | C85: Előirányzat-csoport, kiemelt előirányzat | D85: Előirányzat | E85: előir. IV. | F85: teljesítés
C86: megnevezése
A87: 1 | B87: 2 | C87: 3 | D87: 4 | E87: 6 | F87: 6
C88: Bevételek
A89: 1 | C89: Saját bevételek | D89: =SUM(D90:D93) -> 0 | E89: =SUM(E90:E93) -> 0 | F89: =SUM(F90:F93) -> 0
B90: 1 | C90: Alaptevékenység bevételei
B91: 2 | C91: Intézményi bevételek
B92: 3 | C92: Vállalkozási bevételek
B93: 4 | C93: Előző évi várható pénzmaradvány
A94: 2 | C94: Átvett pénzeszközök | D94: =SUM(D95:D96) -> 0 | E94: =SUM(E95:E96) -> 0 | F94: =SUM(F95:F96) -> 0
B95: 1 | C95: Működési célra átvett pénzeszközök
B96: 2 | C96: Felhalmozásicélra átvett pénzeszközök
A97: 3 | C97: Önkormányzati támogatás | D97: 103 | E97: 123 | F97: 123
C98: BEVÉTELEK ÖSSZESEN | D98: =SUM(D89+D94+D97) -> 103 | E98: =SUM(E89+E94+E97) -> 123 | F98: =SUM(F89+F94+F97) -> 123
C99: Kiadások
A100: 4 | C100: Működési kiadások | D100: =SUM(D101:D103) -> 103 | E100: =SUM(E101:E103) -> 123 | F100: =SUM(F101:F103) -> 123
B101: 1 | C101: Személyi juttatások | D101: 80 | E101: 58 | F101: 58
B102: 2 | C102: Munkaadókat terhelő járulékok | D102: 23 | E102: 15 | F102: 15
B103: 3 | C103: Dologi kiadások | E103: 50 | F103: 50
A104: 5 | C104: Speciális célú támogatások | D104: =SUM(D105:D107) -> 0 | E104: =SUM(E105:E107) -> 0 | F104: =SUM(F105:F107) -> 0
B105: 1 | C105: Társadalom és szociálpolitikaijuttatások
B106: 2 | C106: Működési célú pénzeszköz átadás
B107: 3 | C107: Ellátottak pénzbeli juttatása
A108: 6 | C108: Felhalmozási célú kiadások | D108: =SUM(D109:D111) -> 0 | E108: =SUM(E109:E111) -> 0 | F108: =SUM(F109:F111) -> 0
B109: 1 | C109: Beruházási kiadások
B110: 2 | C110: Felújítási kiadások
B111: 3 | C111: Egyéb fejlesztési célú kiadások
C112: KIADÁSOK ÖSSZESEN | D112: =SUM(D100+D104+D108) -> 103 | E112: =SUM(E100+E104+E108) -> 123 | F112: =SUM(F100+F104+F108) -> 123
A113: Létszámkeret /átlagos állományi létszám / (fő)
...

Sheet 5_melléklet
B1: 5 | C1: .sz. melléklet
A2: Polgármesteri Hivatal kiadási előirányzatai
A3: feladatonként
B5: 2004.évi | C5: 2004.évi | D5: 2004.évi
A6: KIADÁSI JOGCÍMEK | B6: eredeti előirányzat | C6: mód.ei.IV. | D6: teljesítés
A7: Polgármesteri Hivatal igazgatási feladatok | B7: 110312 | C7: 112226 | D7: 107637
A8: Rendszeres pénzbeli ellátás | B8: 597 | C8: 597 | D8: 460
A9: Állategészségügyi feladatok | B9: 103 | C9: 123 | D9: 123
A10: Közvilágítás | B10: 7500 | C10: 8843 | D10: 4571
A11: Köztemető | B11: 2862 | C11: 2862 | D11: 2814
A12: Köztisztasági tevékenység | B12: 14095 | C12: 15860 | D12: 12078
A13: Parkfenntartás | B13: 12100 | C13: 11657 | D13: 11369
A14: Községgazdálkodás | B14: 22086 | C14: 17124 | D14: 16723
A15: Strand | B15: 6090 | C15: 4840 | D15: 4971
A16: Utak, hidak | B16: 4500 | C16: 8578 | D16: 8149
A17: Társadalom és szocpol. Juttatás | B17: 24760 | C17: 26395 | D17: 25346
A18: Cigány kisebbségi Önkormányzat | B18: 714 | C18: 714 | D18: 695
A19: Átadott pénzeszközök | B19: 16070 | C19: 22492 | D19: 22189
A20: Hiteltörlesztés | B20: 18904 | C20: =SUM('1_melléklet'!E89) -> 18904 | D20: =SUM('1_melléklet'!F89) -> 18904
A21: Felújítás, felhalmozás | B21: 191980 | C21: 208700 | D21: 196954
A22: Intézményfinanszírozás | B22: 509678 | C22: 546290 | D22: 529691
A23: Általános tartalék | B23: 4042 | C23: =SUM('1_melléklet'!E81) -> 43022 | D23: =SUM('1_melléklet'!F81) -> 0
A24: Céltartalék | C24: =SUM('1_melléklet'!E82) -> 14933 | D24: =SUM('1_melléklet'!F82) -> 0
A25: Egyéb tartalék | C25: 67000 | D25: 179009
A26: Egyéb folyó kiadások | C26: 823 | D26: 823
A27: ÖSSZESEN: | B27: =SUM(B7:B26) -> 946393 | C27: =SUM(C7:C26) -> 1131983 | D27: =SUM(D7:D26) -> 1142506

Sheet 6_a_b_melléklet
E1: 6 /a. melléklet
B2: Beruházási kiadások
B3: előirányzata célonként
A7: Beruházás megnevezése | B7: Teljes költség | C7: Kivitelezés | D7: 2004.évi | E7: 2004.évi | F7: 2004.évi
B8: igény | C8: kezdési és | D8: előirányzat | E8: mód.ei.IV. | F8: teljesítés
C9: befejezési éve
A10: 1 | B10: 2 | C10: 3 | D10: 5 | E10: 6 | F10: 6
A11: Tűzoltóság | B11: =SUM(B12) -> 2081 | D11: =SUM(D12) -> 2081 | E11: =SUM(E12) -> 3858 | F11: =SUM(F12) -> 947
A12: gépbeszerzések | B12: 2081 | C12: 2004. | D12: 2081 | E12: 3858 | F12: 947
A13: Iskola | B13: =SUM(B16) -> 400 | D13: =SUM(D16) -> 400 | E13: =SUM(E14:E16) -> 1380 | F13: =SUM(F14:F16) -> 1216
A14: tanári tárolószekrény | E14: 225 | F14: 225
A15: fűnyíró traktor | E15: 465 | F15: 465
A16: 2 db számítógép + szoftver beszerzés | B16: 400 | C16: 2004. | D16: 400 | E16: 690 | F16: 526
A17: Óvoda | B17: =SUM(B18:B20) -> 470 | D17: =SUM(D18:D20) -> 470 | E17: =SUM(E18:E20) -> 1010 | F17: =SUM(F18:F20) -> 987
A18: villanytűzhely | B18: 120 | C18: 2004. | D18: 120 | E18: 120 | F18: 100
A19: kerti vízvételi lehetőség | B19: 150 | C19: 2004. | D19: 150 | E19: 150 | F19: 147
A20: babaház 3 fajátékok | B20: 200 | C20: 2004. | D20: 200 | E20: 740 | F20: 740
A21: Közösségi Ház és Könyvtár | B21: =SUM(B22:B24) -> 61450 | D21: =SUM(D22:D24) -> 61625 | E21: =SUM(E22:E24) -> 61625 | F21: =SUM(F22:F24) -> 61605
A22: lézernyomtató | B22: 100 | C22: 2004. | D22: 225 | E22: 225 | F22: 225
A23: digitális fényképezőgép | B23: 100 | C23: 2004. | D23: 150 | E23: 150 | F23: 130
A24: Közösségi Ház megvásárlása | B24: 61250 | C24: 2004. | D24: 61250 | E24: 61250 | F24: 61250
A25: Gondozási Központ | B25: =SUM(B26:B29) -> 670 | D25: =SUM(D26:D29) -> 670 | E25: =SUM(E26:E29) -> 670 | F25: =SUM(F26:F29) -> 618
A26: bemutató eszköz /Védőnők/ | B26: 70 | C26: 2004. | D26: 70 | E26: 70 | F26: 67
A27: beépített szekrény / Védőnők / | B27: 100 | C27: 2004. | D27: 100 | E27: 100 | F27: 76
A28: fénymásoló Gondozási Közp. | B28: 150 | C28: 2004. | D28: 150 | E28: 150 | F28: 150
A29: számítógép kompl. + program | B29: 350 | C29: 2004. | D29: 350 | E29: 350 | F29: 325
A30: Polgármesteri Hivatal | B30: =SUM(B31:B37) -> 2010 | D30: =SUM(D31:D37) -> 4510 | E30: =SUM(E31:E43) -> 6819 | F30: =SUM(F31:F43) -> 4623
A31: beépített szekrény/ fogorvos / | B31: 100 | C31: 2004. | D31: 100 | E31: 100 | F31: 100
A32: 2 kazettás CD-s magnó / anyakönyv/ | B32: 60 | C32: 2004. | D32: 60 | E32: 60 | F32: 57
A33: 5 db számítógép | B33: 1500 | C33: 2004. | D33: 1000 | E33: 1000 | F33: 873
A34: 1 db asztali fénymásoló-nyomtató | B34: 150 | C34: 2004. | D34: 150 | E34: 150 | F34: 89
A35: anyakönyvi kellék | B35: 200 | C35: 2004. | D35: 200 | E35: 200
A36: lézeres távmérő | F36: 220
A37: terveztetésekre | C37: 2004. | D37: 3000 | E37: 3000
A38: Hivatali épületre 500 e Ft | F38: 300
A39: villamoshálózat, fűtésre 500 e Ft
A40: egyéb tervekre 575 e Ft
A41: Malomárok csapadékvíz 975 e Ft | F41: 225
A42: felszíni vízelvezetés 450 e Ft | F42: 450
A43: fénymásoló vásárlás | E43: 2309 | F43: 2309
A44: Köztemető | B44: =SUM(B45+B46) -> 26782 | D44: =SUM(D45+D46) -> 22082 | E44: =SUM(E45+E46) -> 25943 | F44: =SUM(F45+F46) -> 25943
A45: Kolumbárium | B45: 1782 | C45: 2004. | D45: 2082 | E45: 1886 | F45: 1886
A46: Ravatalozó | B46: 25000 | C46: 2004. | D46: 20000 | E46: 24057 | F46: 24057
A47: Községgazdálkodás | B47: =SUM(B48:B50) -> 31500 | D47: =SUM(D48:D50) -> 17500 | E47: =SUM(E48:E50) -> 15250 | F47: =SUM(F48:F50) -> 12499
A48: bérlakás építés | B48: 25000 | C48: 2004. | D48: 15000 | E48: 15250 | F48: 12499
A49: játszótér | B49: 5000 | C49: 2004. | D49: 1500
A50: parkoló építés / Hősök tere/ | B50: 1500 | C50: 2004. | D50: 1000
A51: Utak, hidak létesítése | B51: =SUM(B52+B53) -> 61410 | D51: =SUM(D52+D53) -> 57442 | E51: =SUM(E52+E53) -> 61184 | F51: =SUM(F52+F53) -> 58436
A52: Útépítések | B52: 60000 | C52: 2004. | D52: 56032 | E52: 60644 | F52: 57896
A53: Út megvétel | B53: 1410 | C53: 2004 | D53: 1410 | E53: 540 | F53: 540
A54: Felhalmozási célú pénzeszköz átadás | B54: =SUM(B55:B57) -> 12900 | D54: =SUM(D55:D57) -> 11400 | E54: =SUM(E55:E57) -> 11900 | F54: =SUM(F55:F57) -> 11882
A55: Ívóvíz és szennyvíz rekonstrukció | B55: 6000 | C55: 2004. | D55: 5000 | E55: 4000 | F55: 4000
A56: Társasházak fűtés korszerűsítése | B56: 2500 | C56: 2004. | D56: 2000 | E56: 3500 | F56: 3482
A57: ISPA pályázat | B57: 4400 | D57: 4400 | E57: 4400 | F57: 4400
A58: Mindösszesen: | B58: =SUM(B11+B16+B17+B21+B25+B30+B44+B47+B51+B54) -> 199673 | D58: =SUM(D11+D16+D17+D21+D25+D30+D44+D47+D51+D54) -> 178180 | E58: =SUM(E11+E13+E17+E21+E25+E30+E44+E47+E51+E54) -> 189639 | F58: =SUM(F11+F13+F17+F21+F25+F30+F44+F47+F51+F54) -> 178756
B72: Felújítási kiadások | F72: 6/b. melléklet
B73: előirányzata feladatonként
A75: Felújítás megnevezése | B75: Teljes költség | C75: Kivitelezés | D75: 2004.évi | E75: 2004.évi | F75: 2004.évi
B76: e Ft | C76: kezdési és | D76: előirányzat | E76: mód.ei. IV. | F76: teljesítés
C77: befejezési éve
A78: 1 | B78: 2 | C78: 3 | D78: 5 | E78: 6 | F78: 6
A79: Óvoda | B79: =SUM(B80) -> 200 | D79: =SUM(D80) -> 200 | E79: =SUM(E80) -> 200 | F79: =SUM(F80) -> 198
A80: előtető szigetelés | B80: 200 | C80: 2004 | D80: 200 | E80: 200 | F80: 198
A81: Iskola | B81: =SUM(B82:B85) -> 11500 | D81: =SUM(D82:D85) -> 5250 | E81: =SUM(E82:E85) -> 5085 | F81: =SUM(F82:F85) -> 5248
A82: tornaterem öltöző | B82: 1000 | C82: 2004 | D82: 1000 | E82: 835 | F82: 835
A83: központi épület ablakcsere | B83: 10000 | C83: 2004 | D83: 3750 | E83: 3750 | F83: 3800
A84: riasztó rendszer | F84: 116
A85: Hősök tere radiátor csere folytatás | B85: 500 | C85: 2004 | D85: 500 | E85: 500 | F85: 497
A86: Közösségi Ház és Könyvtár | B86: =B87+B90 -> 2350 | D86: =D87+D90 -> 2350 | E86: =SUM(E87:E90) -> 1620 | F86: =SUM(F87:F90) -> 1115
A87: fűtési rendszer felújítása | B87: 1850 | C87: 2004 | D87: 1850 | E87: 0
A88: iroda parkettázása | E88: 660 | F88: 660
A89: alagsori illemhelyek | E89: 460
A90: bejárati ajtók cseréje | B90: 500 | C90: 2004 | D90: 500 | E90: 500 | F90: 455
A91: Polgármesteri Hivatal | E91: =SUM(E92) -> 56 | F91: =SUM(F92:F94) -> 126
A92: Laptop felújítás | E92: 56 | F92: 56
A93: bejárati ajtó garanciális visszatartás | F93: 19
A94: Zöldséges üzlet villamoshálózat | F94: 51
A95: Utak,hidak, árkok | B95: =SUM(B97) -> 6000 | D95: =SUM(D97) -> 6000 | E95: =SUM(E97+E96) -> 11000 | F95: =SUM(F97+F96) -> 10585
A96: járdaépítésekhez hozzájárulás | E96: 1000 | F96: 585
A97: Péti út aszfaltterítése | B97: 6000 | C97: 2004 | D97: 6000 | E97: 10000 | F97: 10000
A98: Tűzoltóság | E98: 1100 | F98: =SUM(F99:F101) -> 926
A99: ajtó, ablakcsere | F99: 333
A100: szertárajtó csere | F100: 72
A101: konditerem áthelyezése | F101: 521
A102: Összesen: | B102: =SUM(B79+B81+B86) -> 14050 | D102: =SUM(D79+D81+D86+D95+D98) -> 13800 | E102: =SUM(E79+E81+E86+E95+E98+E91) -> 19061 | F102: =SUM(F79+F81+F86+F95+F98+F91) -> 18198

Sheet 7_melléklet
G2: 7. melléklet
C4: Az önkományzat által felvett hitelállomány alakulása
D5: lejárat és eszközök szerinti bontásban
G6: Ezer forintban!
C7: Felvétel | D7: Lejárat
A8: Sor | B8: Hitel jellege | F8: Hitel állomány január 1-jén
A9: szám | C9: éve | E9: 2004. | F9: 2005. | G9: 2006. | H9: 2007.után
A10: 1 | B10: 2 | C10: 3 | D10: 4 | E10: 5 | F10: 6 | G10: 7 | H10: 8
A11: 1. | B11: Működési célú
A12: 2. | B12: ………………………….
A13: 3. | B13: ………………………….
A14: 4. | B14: ………………………….
A15: 5. | B15: …………………………..
A16: 6. | B16: Felhalmozási célú
A17: 7. | B17: Japán hitel | C17: 1994. | D17: 2019. | E17: 329502 | F17: 310597 | G17: 289891 | H17: 269184
A18: 8. | B18: …………………………..
A19: 9. | B19: …………………………..
A20: 10. | B20: …………………………..
A21: 11. | B21: Összesen (1+6) | E21: =SUM(E17+E11) -> 329502 | F21: =SUM(F17+F11) -> 310597 | G21: =SUM(G17+G11) -> 289891 | H21: =SUM(H17+H11) -> 269184

Sheet 8_melléklet
G2: 8. melléklet
C5: Az önkormányzat által nyújtott hitel és kölcsön alakulása
D6: lejárat és eszközök szerinti bontásban
H7: ezer forintban!
C8: Kölcsön- | D8: Lejárat
A9: Sor | B9: Hitel , kölcsön | C9: nyújtás | F9: Hitel, kölcsön állomány január 1-jén
A10: szám | C10: éve | E10: 2004. | F10: 2005. | G10: 2006. | H10: 2007.után
A11: 1 | B11: 2 | C11: 3 | D11: 4 | E11: 5 | F11: 6 | G11: 7 | H11: 8
A12: 1. | B12: Rövid lejáratú | E12: =SUM(E13:E16) -> 30 | F12: =SUM(F13:F16) -> 0 | G12: =SUM(G13:G16) -> 0 | H12: =SUM(H13:H16) -> 0
A13: 2. | B13: Kert értékesítés | C13: 2003 | D13: 2004 | E13: 30
A14: 3.
A15: 4. | B15: ………………………….
A16: 5. | B16: …………………………..
A17: 6. | B17: Hosszú lejáratú | E17: =SUM(E18:E21) -> 41 | F17: =SUM(F18:F21) -> 8 | G17: =SUM(G18:G21) -> 0 | H17: =SUM(H18:H21) -> 0
A18: 7. | B18: Lakás vásárlás | C18: 1998 | D18: 2005 | E18: 41 | F18: 8
A19: 8. | B19: …………………………..
A20: 9. | B20: …………………………..
A21: 10. | B21: …………………………..
A22: 11. | B22: Összesen (1+6) | E22: =SUM(E12+E17) -> 71 | F22: =SUM(F12+F17) -> 8 | G22: =SUM(G12+G17) -> 0 | H22: =SUM(H12+H17) -> 0

Sheet 9. melléklet
D1: 9.sz.melléklet
A2: Az önkormányzat által adott közvetett támogatások
A3: (kedvezmények)
D4: ezer Ft-ban !
A5: Sor- | C5: Tényleges | D5: Adott kedvezmények
A6: szám | B6: Bevételi jogcím | C6: bevétel | D6: összege
A7: 1 | B7: 2 | C7: 3 | D7: 4
A8: 1. | B8: Iparűzési adó | C8: 308475 | D8: 1891
A9: 2.
A10: 3.
A11: 4.
A12: 5.
A13: 6.
A14: 7.
A15: 8.
A16: 9.
A17: 10.
A18: 11. | B18: Összesen: | C18: 308475 | D18: 1891

Sheet 10. mellélet
G2: 10. melléklet
D4: Lásd pdf. Dokumentum
