Workbook
Name _4._sz._sor_részletezése: #REF!
Name _4._sz._sor_részletezése: #REF!
Name _4._sz._sor_részletezése: #REF!
Name _4._sz._sor_részletezése: #REF!
Name _4._sz._sor_részletezése: #REF!

Sheet Összefoglaló 
B1: ÖSSZEFOGLALÓ TÁBLA
B2: a bevételi és kiadási előirányzatok módosításáról
B3: 2019. december hó
E4: adatok eFt-ban
D5: A | E5: B
D6: Megnevezés | E6: Összesen
A7: 1 | B7: I. | D7: BEVÉTELEK
A8: 2 | C8: 1. | D8: Helyi önkormányzatok általános működéséhez és ágazati feladataihoz kapcsolódó támogatás
A9: 3 | D9: Kulturális illetmény pótlék (2019. október hó) | E9: 5261
A10: 4 | D10: Szociális ágazati összevont pótlék (2019. október hó) | E10: 9899
A11: 5 | D11: Szociális ágazatban foglalkoztatottak egészségügyi kiegészítő pótléka (2019. október hó) | E11: 253
A12: 6 | D12: Bérkompenzáció (2019. október hó) | E12: 945
A13: 7 | D13: Összesen | E13: =SUM(E9:E12) -> 16358
A14: 8 | C14: 2. | D14: Egyéb működési célú támogatások
A15: 9 | D15: Nagyvázsony Önkormányzat - családsegítő és gyermekjóléti feladatok 2018. évi hozzájárulása | E15: 1284
A16: 10 | D16: Összesen | E16: =SUM(E15:E15) -> 1284
A17: 11 | C17: 3. | D17: Önkormányzati Intézmények működési célú támogatások Áht-on belülről
A18: 12 | D18: Agóra Veszprémi Kulturális Központ - NKA pályázati támogatás "Örök Pódium" | E18: 400
A19: 13 | D19: Művészetek Háza Veszprém Művelődési Ház és Kiállítóhely - NKA pályázati előirányzat rendezés | E19: -2900
A20: 14 | D20: Kabóca Bábszínház - átcsoportosítás | E20: -725
A21: 15 | D21: Veszprémi Petőfi Színház - NKA, EMMI pályázati támogatások | E21: 62572
A22: 16 | D22: Összesen | E22: =SUM(E18:E21) -> 59347
A23: 17 | C23: 4. | D23: Önkormányzati intézmények működési bevételei
A24: 18 | D24: Laczkó Dezső Múzeum - régészeti és egyéb többlet bevétel | E24: 32200
A25: 19 | D25: Veszprémi Petőfi Színház - készletértékesítés és szolgáltatások bevétele | E25: 40842
A26: 20 | D26: Összesen | E26: =SUM(E24:E25) -> 73042
A27: 21 | C27: 5. | D27: Önkormányzati intézmények működési célú átvett pénzeszközei
A28: 22 | D28: Eötvös Károly Megyei Könyvtár - Amerikai Kuckó támogatása | E28: 18
A29: 23 | D29: Összesen | E29: =SUM(E28:E28) -> 18
A30: 24 | C30: 6. | D30: Felhalmozási célú önkormányzati támogatások
A31: 25 | D31: EMMI - Járásszékhely múzeumok szakmai támogatása pályázat | E31: 3900
A32: 26 | D32: EMMI - Kubinyi Ágoston Program pályázat | E32: 2000
A33: 27 | D33: Közművelődési érdekeltségnövelő támogatás | E33: 556
A34: 28 | D34: Összesen | E34: =SUM(E31:E33) -> 6456
A35: 29 | C35: 7. | D35: Önkormányzati Intézmények felhalmozási célú támogatásai Áht-on belülről
A36: 30 | D36: Kabóca Bábszínház
A37: 31 | D37: átcsoportosítás | E37: 725
A38: 32 | D38: NKA pályázati támogatás | E38: 2275
A39: 33 | D39: Összesen | E39: =SUM(E37:E38) -> 3000
A40: 34 | B40: I. | D40: BEVÉTELEK ÖSSZESEN: | E40: =E22+E13+E34+E26+E39+E29+E16 -> 159505
...

Sheet 1.Onbe
B1: 1. melléklet a 30/2019. (XII.12.) önkormányzati rendelethez
B2: Veszprém Megyei Jogú Város Önkormányzatának
B3: 2019. évi költségvetési bevételeinek módosítása - 2019. december
M4: adatok eFt-ban
B5: A | C5: B | D5: C | E5: D | F5: E | G5: F | H5: G | I5: H | J5: I | K5: J | L5: K | M5: L
B6: Cím | C6: Alcím | D6: Előir. csop. szám | E6: Kie-melt előir. szám | F6: Megnevezés | G6: 2017. évi tény | H6: 2018. évi eredeti előirányzat | I6: 2018. évi tény | J6: 2019. évi eredeti előirányzat | K6: 2019. évi módosított előirányzat 5. | L6: Módosítás | M6: 2019. évi módosított előirányzat 6.
A7: 1 | D7: 1 | F7: Működési költségvetési bevételek | G7: =SUM(G8,G15,G25,G31,G32,G14,G30) -> 12957199 | H7: =SUM(H8,H15,H25,H31,H32,H14,H30) -> 12105550 | I7: =SUM(I8,I15,I25,I31,I32,I14,I30) -> 14062643 | J7: =SUM(J8,J15,J25,J31,J32,J14,J30) -> 12977517 | K7: =SUM(K8,K15,K25,K31,K32,K14,K30) -> 14368932 | L7: =SUM(L8,L15,L25,L31,L32,L14,L30) -> 150049 | M7: =SUM(M8,M15,M25,M31,M32,M14,M30) -> 14518981
A8: 2 | B8: 18 | E8: 1 | F8: Működési célú támogatások Áht-on belülről | G8: =SUM(G9,G12:G12) -> 3469686 | H8: =SUM(H9,H12:H12) -> 3257505 | I8: =SUM(I9,I12:I12) -> 3706565 | J8: =SUM(J9,J12:J12) -> 3419289 | K8: =SUM(K9,K12:K12) -> 4475077 | L8: =SUM(L9,L12:L12) -> 17642 | M8: =SUM(M9,M12:M12) -> 4492719
A9: 3 | F9: Önkormányzatok működési támogatásai | G9: =SUM(G10:G11) -> 3090134 | H9: =SUM(H10:H11) -> 2929761 | I9: =SUM(I10:I11) -> 3341151 | J9: =SUM(J10:J11) -> 3194545 | K9: =SUM(K10:K11) -> 3527476 | L9: =SUM(L10:L11) -> 16358 | M9: =SUM(M10:M11) -> 3543834
A10: 4 | F10: Helyi önkormányzatok működésének általános és ágazati feladataihoz kapcsolódó támogatás | G10: 2986827 | H10: 2929761 | I10: 3286398 | J10: 3194545 | K10: 3497336 | L10: 16358 | M10: =SUM(K10:L10) -> 3513694
A11: 5 | F11: Működési célú költségvetési támogatások és kiegészítő támogatások | G11: 103307 | I11: 54753 | K11: 30140 | M11: =SUM(K11:L11) -> 30140
A12: 6 | F12: Egyéb működési célú támogatások bevételei | G12: 379552 | H12: 327744 | I12: 365414 | J12: 224744 | K12: 947601 | L12: 1284 | M12: =SUM(K12:L12) -> 948885
A13: 7 | F13: ebből: Társadalombizt. Alapból származó támogatás | G13: 140289 | H13: 151000 | I13: 148540 | J13: 147600 | K13: 158410 | M13: =SUM(K13:L13) -> 158410
A14: 8 | B14: 1-17 | E14: 2 | F14: Önkormányzati Intézmények működési célú támogatások Áht-on belülről | G14: 190782 | H14: 155331 | I14: 216590 | J14: 117496 | K14: 334554 | L14: 59347 | M14: =SUM(K14:L14) -> 393901
A15: 9 | B15: 18 | E15: 3 | F15: Közhatalmi bevételek | G15: =SUM(G16,G24:G24) -> 7624249 | H15: =SUM(H16,H24:H24) -> 7128500 | I15: =SUM(I16,I24:I24) -> 8049548 | J15: =SUM(J16,J24:J24) -> 7765600 | K15: =SUM(K16,K24:K24) -> 7765600 | L15: =SUM(L16,L24:L24) -> 0 | M15: =SUM(M16,M24:M24) -> 7765600
A16: 10 | F16: Adók | G16: =SUM(G17:G23) -> 7606629 | H16: =SUM(H17:H23) -> 7128000 | I16: =SUM(I17:I23) -> 8043412 | J16: =SUM(J17:J23) -> 7760000 | K16: =SUM(K17:K23) -> 7760000 | L16: =SUM(L17:L23) -> 0 | M16: =SUM(M17:M23) -> 7760000
A17: 11 | F17: Építményadó | G17: 1435111 | H17: 1250000 | I17: 1300333 | J17: 1300000 | K17: 1300000 | M17: =SUM(K17:L17) -> 1300000
A18: 12 | F18: Idegenforgalmi adó | G18: 46098 | H18: 40000 | I18: 44141 | J18: 45000 | K18: 45000 | M18: =SUM(K18:L18) -> 45000
A19: 13 | F19: Kommunális adó | G19: 145905 | H19: 138000 | I19: 143422 | J19: 145000 | K19: 145000 | M19: =SUM(K19:L19) -> 145000
A20: 14 | F20: Telekadó | G20: 111756 | H20: 95000 | I20: 95735 | J20: 95000 | K20: 95000 | M20: =SUM(K20:L20) -> 95000
A21: 15 | F21: Iparűzési adó | G21: 5584394 | H21: 5400000 | I21: 6222826 | J21: 5950000 | K21: 5950000 | M21: =SUM(K21:L21) -> 5950000
A22: 16 | F22: Gépjárműadó | G22: 209256 | H22: 200000 | I22: 215843 | J22: 210000 | K22: 210000 | M22: =SUM(K22:L22) -> 210000
A23: 17 | F23: Egyéb pótlékok, bírságok | G23: 74109 | H23: 5000 | I23: 21112 | J23: 15000 | K23: 15000 | M23: =SUM(K23:L23) -> 15000
A24: 18 | F24: Egyéb közhatalmi bevételek (bírságok, igazgatási szolgáltatási díjak) | G24: 17620 | H24: 500 | I24: 6136 | J24: 5600 | K24: 5600 | M24: =SUM(K24:L24) -> 5600
A25: 19 | B25: 18 | E25: 4 | F25: Működési bevételek | G25: =SUM(G26:G29) -> 774567 | H25: =SUM(H26:H29) -> 725000 | I25: =SUM(I26:I29) -> 1035546 | J25: =SUM(J26:J29) -> 765238 | K25: =SUM(K26:K29) -> 827968 | L25: =SUM(L26:L29) -> 0 | M25: =SUM(M26:M29) -> 827968
A26: 20 | F26: Szolgáltatások, közvetített szolgáltatások ellenértéke | G26: 334282 | H26: 345000 | I26: 319006 | J26: 367526 | K26: 287073 | M26: =SUM(K26:L26) -> 287073
A27: 21 | F27: Tulajdonosi bevételek | G27: 189655 | H27: 192000 | I27: 155541 | J27: 192783 | K27: 277610 | M27: =SUM(K27:L27) -> 277610
A28: 22 | F28: ÁFA bevételek és visszatérülések | G28: 163912 | H28: 188000 | I28: 490423 | J28: 204929 | K28: 255826 | M28: =SUM(K28:L28) -> 255826
A29: 23 | F29: Egyéb működési bevételek | G29: 86718 | I29: 70576 | K29: 7459 | M29: =SUM(K29:L29) -> 7459
A30: 24 | B30: 1-17 | E30: 5 | F30: Önkormányzati Intézmények működési bevételek | G30: 887056 | H30: 839214 | I30: 998980 | J30: 909894 | K30: 956710 | L30: 73042 | M30: =SUM(K30:L30) -> 1029752
A31: 25 | B31: 18 | E31: 6 | F31: Működési célú átvett pénzeszközök | G31: 4377 | I31: 41080 | K31: 2954 | M31: =SUM(K31:L31) -> 2954
A32: 26 | B32: 1-17 | E32: 7 | F32: Önkormányzati Intézmények működési célú átvett pénzeszközök | G32: 6482 | I32: 14334 | K32: 6069 | L32: 18 | M32: =SUM(K32:L32) -> 6087
A33: 27 | D33: 2 | F33: Felhalmozási költségvetési bevételek | G33: =SUM(G34,G38:G39,G42:G44) -> 3340220 | H33: =SUM(H34,H38:H39,H42:H44) -> 7712589 | I33: =SUM(I34,I38:I39,I42:I44) -> 12772481 | J33: =SUM(J34,J38:J39,J42:J44) -> 5648160 | K33: =SUM(K34,K38:K39,K42:K44) -> 10387611 | L33: =SUM(L34,L38:L39,L42:L44) -> 9456 | M33: =SUM(M34,M38:M39,M42:M44) -> 10397067
A34: 28 | E34: 8 | F34: Felhalmozási célú támogatások Áht-on belülről | G34: =SUM(G35,G37) -> 2353026 | H34: =SUM(H35,H37) -> 7497589 | I34: =SUM(I35,I37) -> 12588575 | J34: =SUM(J35,J37) -> 5270260 | K34: =SUM(K35,K37) -> 9446326 | L34: =SUM(L35,L37) -> 6456 | M34: =SUM(M35,M37) -> 9452782
A35: 29 | B35: 18 | F35: Felhalmozási célú önkormányzati támogatások | G35: =+G36 -> 728440 | H35: =+H36 -> 723000 | I35: =+I36 -> 4325400 | K35: =+K36 -> 0 | L35: =+L36 -> 6456 | M35: =+M36 -> 6456
A36: 30 | F36: Vis maior, Egyéb felhalmozási célú támogatás | G36: 728440 | H36: 723000 | I36: 4325400 | L36: 6456 | M36: =SUM(K36:L36) -> 6456
A37: 31 | B37: 18 | F37: Egyéb felhalmozási célú támogatások bevételei | G37: 1624586 | H37: 6774589 | I37: 8263175 | J37: 5270260 | K37: 9446326 | M37: =SUM(K37:L37) -> 9446326
A38: 32 | B38: 1-17 | E38: 9 | F38: Önkormányzati Intézmények felhalmozási célú támogatások Áht-on belülről | G38: 3078 | I38: 40469 | J38: 2900 | K38: 11183 | L38: 3000 | M38: =SUM(K38:L38) -> 14183
A39: 33 | B39: 18 | E39: 10 | F39: Felhalmozási bevételek | G39: =SUM(G40:G41) -> 982437 | H39: =SUM(H40:H41) -> 185000 | I39: =SUM(I40:I41) -> 136583 | J39: =SUM(J40:J41) -> 225000 | K39: =SUM(K40:K41) -> 299400 | L39: =SUM(L40:L41) -> 0 | M39: =SUM(M40:M41) -> 299400
A40: 34 | F40: Ingatlanok értékesítése | G40: 982437 | H40: 170000 | I40: 136583 | J40: 225000 | K40: 299400 | M40: =SUM(K40:L40) -> 299400
...

Sheet 2.Onki
B1: 2. melléklet a 30/2019. (XII.12.) önkormányzati rendelethez
B2: Veszprém Megyei Jogú Város Önkormányzatának
B3: 2019. évi költségvetési kiadásainak módosítása - 2019. december
M4: adatok eFt-ban
B5: A | C5: B | D5: C | E5: D | F5: E | G5: F | H5: G | I5: H | J5: I | K5: J | L5: K | M5: L
B6: Cím | C6: Alcím | D6: Előir. csop. szám | E6: Kie-melt előir. szám | F6: Megnevezés | G6: 2017. évi tény | H6: 2018. évi eredeti előirányzat | I6: 2018. évi tény | J6: 2019. évi eredeti | K6: 2019. évi módosított előirányzat 5. | L6: Módosítás | M6: 2019. évi módosított előirányzat 6.
A7: 1 | B7: 1-17 | F7: Intézményi költségvetési kiadások | G7: =SUM(G8:G9) -> 6705548 | H7: =SUM(H8:H9) -> 7096344 | I7: =SUM(I8:I9) -> 7353582 | J7: =SUM(J8:J9) -> 7596089 | K7: =SUM(K8:K9) -> 8959091 | L7: =SUM(L8:L9) -> 149263 | M7: =SUM(M8:M9) -> 9108354
A8: 2 | D8: 1 | F8: Működési költségvetési kiadások | G8: 6573836 | H8: 7023169 | I8: 7197678 | J8: 7431316 | K8: 8609494 | L8: 129956 | M8: =SUM(K8:L8) -> 8739450
A9: 3 | D9: 2 | F9: Felhalmozási költségvetési kiadások | G9: =SUM(G10:G11) -> 131712 | H9: =SUM(H10:H11) -> 73175 | I9: =SUM(I10:I11) -> 155904 | J9: =SUM(J10:J11) -> 164773 | K9: =SUM(K10:K11) -> 349597 | L9: =SUM(L10:L11) -> 19307 | M9: =SUM(K9:L9) -> 368904
A10: 4 | E10: 1 | F10: Beruházási kiadások | G10: 131598 | H10: 73175 | I10: 155449 | J10: 164773 | K10: 346217 | L10: 19107 | M10: =SUM(K10:L10) -> 365324
A11: 5 | E11: 2 | F11: Felújítási kiadások | G11: 114 | I11: 455 | K11: 3380 | L11: 200 | M11: =SUM(K11:L11) -> 3580
A12: 6 | B12: 18 | F12: VMJV Önkormányzata | G12: =SUM(G13:G14,G25,G26) -> 6862305 | H12: =SUM(H13:H14,H25,H26) -> 14771449 | I12: =SUM(I13:I14,I25,I26) -> 13225053 | J12: =SUM(J13:J14,J25,J26) -> 19900460 | K12: =SUM(K13:K14,K25,K26) -> 29351382 | L12: =SUM(L13:L14,L25,L26) -> 10242 | M12: =SUM(M13:M14,M25,M26) -> 29361624
A13: 7 | D13: 1 | F13: Működési költségvetési kiadások | G13: 4573500 | H13: 4616792 | I13: 4718378 | J13: 5579739 | K13: 7686451 | L13: 9545 | M13: =SUM(K13:L13) -> 7695996
A14: 8 | F14: Céltartalékok | G14: =SUM(G15,G21) -> 0 | H14: =SUM(H15,H21) -> 400033 | I14: =SUM(I15,I21) -> 0 | J14: =SUM(J15,J21) -> 394518 | K14: =SUM(K15,K21) -> 406918 | L14: =SUM(L15,L21) -> -384 | M14: =SUM(M15,M21) -> 406534
A15: 9 | D15: 1 | F15: Működési célú céltartalékok | G15: =SUM(G16:G19) -> 0 | H15: =SUM(H16:H19) -> 152545 | I15: =SUM(I16:I20) -> 0 | J15: =SUM(J16:J19)+J20 -> 105109 | K15: =SUM(K16:K19)+K20 -> 1458 | L15: =SUM(L16:L20) -> -384 | M15: =SUM(M16:M20) -> 1074
A16: 10 | F16: - Felmentési idő, jub.jut., végkielégítés | H16: 110965 | J16: 76368 | K16: 1282 | L16: -384 | M16: =SUM(K16:L16) -> 898
A17: 11 | F17: - Választókerületi keret | H17: 24000 | J17: 24000 | K17: 176 | M17: =SUM(K17:L17) -> 176
A18: 12 | F18: - Intézményi beruházáshoz kapcsolódó létszámbővítés | H18: 17580 | J18: 4741 | K18: 0 | M18: =SUM(K18:L18) -> 0
A19: 13 | F19: - Működési kiadásokra képzett céltartalék | K19: 0 | M19: =SUM(K19:L19) -> 0
A20: 14 | F20: - 2018. évi adóbevételekkel szembeni kötelezettség | K20: 0 | M20: =SUM(K20:L20) -> 0
A21: 15 | D21: 2 | F21: Felhalmozási célú céltartalékok | G21: =SUM(G22:G24) -> 0 | H21: =SUM(H22:H24) -> 247488 | I21: =SUM(I22:I24) -> 0 | J21: =SUM(J22:J24) -> 289409 | K21: =SUM(K22:K24) -> 405460 | L21: =SUM(L22:L24) -> 0 | M21: =SUM(M22:M24) -> 405460
A22: 16 | F22: - Előző évi hitelszerződéshez kapcs. feladat | H22: 47488
A23: 17 | F23: - Beruházási kiadásokra képzett céltartalék | H23: 200000 | J23: 248370 | K23: 0 | M23: =SUM(K23:L23) -> 0
A24: 18 | F24: - Viziközmű fejlesztés | J24: 41039 | K24: 405460 | M24: =SUM(K24:L24) -> 405460
A25: 19 | F25: Általános tartalék | H25: 50000 | J25: 150000 | K25: 0 | M25: =SUM(K25:L25) -> 0
A26: 20 | D26: 2 | F26: Felhalmozási költségvetési kiadások | G26: =SUM(G27:G29) -> 2288805 | H26: =SUM(H27:H29) -> 9704624 | I26: =SUM(I27:I29) -> 8506675 | J26: =SUM(J27:J29) -> 13776203 | K26: =SUM(K27:K29) -> 21258013 | L26: =SUM(L27:L29) -> 1081 | M26: =SUM(M27:M29) -> 21259094
A27: 21 | E27: 1 | F27: Beruházási kiadások | G27: 1959718 | H27: 9249545 | I27: 7792799 | J27: 13014190 | K27: 20471232 | L27: 7376 | M27: =SUM(K27:L27) -> 20478608
A28: 22 | E28: 2 | F28: Egyéb felhalmozási célú kiadások | G28: 141526 | H28: 5630 | I28: 502120 | J28: 197022 | K28: 101216 | L28: -3039 | M28: =SUM(K28:L28) -> 98177
A29: 23 | E29: 3 | F29: Felújítási kiadások | G29: 187561 | H29: 449449 | I29: 211756 | J29: 564991 | K29: 685565 | L29: -3256 | M29: =SUM(K29:L29) -> 682309
A30: 24 | B30: 18 | F30: Lakásalap kiadása | G30: =SUM(G31:G32) -> 39 | H30: =SUM(H31:H32) -> 0 | I30: =SUM(I31:I32) -> 0 | J30: =SUM(J31:J32) -> 0 | K30: =SUM(K31:K32) -> 0 | L30: =SUM(L31:L32) -> 0 | M30: =SUM(M31:M32) -> 0
A31: 25 | D31: 1 | F31: Működési költségvetési kiadások | G31: 39
A32: 26 | D32: 2 | F32: Felhalmozási költségvetési kiadások
A33: 27 | F33: Költségvetési kiadások összesen | G33: =SUM(G7,G12,G30) -> 13567892 | H33: =SUM(H7,H12,H30) -> 21867793 | I33: =SUM(I7,I12,I30) -> 20578635 | J33: =SUM(J7,J12,J30) -> 27496549 | K33: =SUM(K7,K12,K30) -> 38310473 | L33: =SUM(L7,L12,L30) -> 159505 | M33: =SUM(M7,M12,M30) -> 38469978
A34: 28 | B34: 18 | F34: Finanszírozási kiadások | G34: =SUM(G38:G39,G35:G36) -> 221852 | H34: =SUM(H38:H39,H35:H36) -> 203329 | I34: =SUM(I38:I39,I35:I36) -> 215713 | J34: =SUM(J38:J39,J35:J36) -> 209635 | K34: =SUM(K38:K39,K35:K36) -> 209635 | M34: =SUM(K34:L34) -> 209635
A35: 29 | D35: 1 | F35: Működési finanszírozási kiadások
A36: 30 | D36: 1 | F36: Államháztartáson belüli megelőlegezések visszafizetése | G36: 116478 | H36: 95734 | I36: 108118 | J36: 96040 | K36: 96040 | M36: =SUM(K36:L36) -> 96040
A37: 31 | D37: 2 | F37: Felhalmozási finanszírozási kiadások
A38: 32 | F38: - Hiteltörlesztés | G38: 105374 | H38: 107595 | I38: 107595 | J38: 113595 | K38: 113595 | M38: =SUM(K38:L38) -> 113595
A39: 33 | F39: - Lakásalap hiteltörlesztése
A40: 34 | F40: Kiadási főösszeg | G40: =SUM(G33:G34) -> 13789744 | H40: =SUM(H33:H34) -> 22071122 | I40: =SUM(I33:I34) -> 20794348 | J40: =SUM(J33:J34) -> 27706184 | K40: =SUM(K33:K34) -> 38520108 | L40: =SUM(L33:L34) -> 159505 | M40: =SUM(M33:M34) -> 38679613
...

Sheet 3.Inbe
B1: 3. melléklet a 30/2019. (XII.12.) önkormányzati rendelethez
B2: Veszprém Megyei Jogú Város Önkormányzata Intézményei
B3: 2019. évi költségvetési bevételeinek módosítása - 2019. december
M4: adatok eFt-ban
B5: A | C5: B | D5: C | E5: D | F5: E | G5: F | H5: G | I5: H | J5: I | K5: J | L5: K | M5: L | N5: M
B6: Cím | C6: Alcím | D6: Megnevezés | E6: Működési költségvetési bevételek | H6: Felhalmozási költségvetési bevételek | K6: Előző évi költségvetési maradvány | L6: Irányító szervtől kapott támogatás | N6: Bevételek összesen
E7: Működési bevételek | F7: Működési célú támogatás Áht-on belülről | G7: Működési célú átvett pénzeszköz | H7: Felhalmozási bevétel | I7: Felhalmozási célú támogatás Áht.-on belülről | J7: Felhalmozási célú átvett pénzeszköz | L7: Összesen | M7: Ebből: költségvetési támogatás
A8: 1 | B8: 1 | D8: Veszprémi Vadvirág Körzeti Óvoda
A9: 2 | D9: (Csillagvár Waldorf Tagóvoda, Vadvirág Óvoda)
A10: 3 | D10: eredeti előirányzat | E10: 4458 | L10: 204935 | M10: 138149 | N10: =SUM(E10:L10) -> 209393
A11: 4 | D11: módosított előirányzat 5. | E11: 4458 | K11: 4819 | L11: 209631 | M11: 139106 | N11: =SUM(E11:L11) -> 218908
A12: 5 | D12: módosítás- bérkompenzáció (2019. október hó) | L12: 4 | M12: 4 | N12: =SUM(E12:L12) -> 4
A13: 6 | D13: minimálbér és garantált bérminimum emelésével kapcs.támogatás | M13: 3256 | N13: =SUM(E13:L13) -> 0
A14: 7 | D14: módosított előirányzat 6. | E14: =SUM(E11:E13) -> 4458 | K14: =SUM(K11:K13) -> 4819 | L14: =SUM(L11:L13) -> 209635 | M14: =SUM(M11:M13) -> 142366 | N14: =SUM(E14:L14) -> 218912
A15: 8 | B15: 2 | D15: Veszprémi Bóbita Körzeti Óvoda
A16: 9 | D16: (Hársfa Tagóvoda, Bóbita Óvoda)
A17: 10 | D17: eredeti előirányzat | E17: 10813 | L17: 345515 | M17: 259748 | N17: =SUM(E17:L17) -> 356328
A18: 11 | D18: módosított előirányzat 5. | E18: 10813 | K18: 22828 | L18: 355571 | M18: 258902 | N18: =SUM(E18:L18) -> 389212
A19: 12 | D19: módosítás- bérkompenzáció (2019. október hó) | L19: 14 | M19: 14 | N19: =SUM(E19:L19) -> 14
A20: 13 | D20: minimálbér és garantált bérminimum emelésével kapcs.támogatás | M20: 5024 | N20: =SUM(E20:L20) -> 0
A21: 14 | D21: módosított előirányzat 6. | E21: =SUM(E18:E20) -> 10813 | K21: =SUM(K18:K20) -> 22828 | L21: =SUM(L18:L20) -> 355585 | M21: =SUM(M18:M20) -> 263940 | N21: =SUM(E21:L21) -> 389226
A22: 15 | B22: 3 | D22: Veszprémi Ringató Körzeti Óvoda
A23: 16 | D23: (Ringató Óvoda, Erdei Tagóvoda, Kuckó Tagóvoda)
A24: 17 | D24: eredeti előirányzat | E24: 17490 | L24: 407750 | M24: 346182 | N24: =SUM(E24:L24) -> 425240
A25: 18 | D25: módosított előirányzat 5. | E25: 18133 | K25: 10575 | L25: 419744 | M25: 348623 | N25: =SUM(E25:L25) -> 448452
A26: 19 | D26: minimálbér és garantált bérminimum emelésével kapcs.támogatás | M26: 6346 | N26: =SUM(E26:L26) -> 0
A27: 20 | D27: módosított előirányzat 6. | E27: =SUM(E25:E26) -> 18133 | K27: =SUM(K25:K26) -> 10575 | L27: =SUM(L25:L26) -> 419744 | M27: =SUM(M25:M26) -> 354969 | N27: =SUM(E27:L27) -> 448452
A28: 21 | B28: 4 | D28: Veszprémi Egry úti Körzeti Óvoda
A29: 22 | D29: (Egry ltp. Óvoda, Nárcisz Tagóvoda)
A30: 23 | D30: eredeti előirányzat | E30: 13993 | L30: 296535 | M30: 239376 | N30: =SUM(E30:L30) -> 310528
A31: 24 | D31: módosított előirányzat 5. | E31: 11639 | F31: 200 | G31: 30 | K31: 26421 | L31: 299946 | M31: 239890 | N31: =SUM(E31:L31) -> 338236
A32: 25 | D32: módosítás- bérkompenzáció (2019. október hó) | L32: 2 | M32: 2 | N32: =SUM(E32:L32) -> 2
A33: 26 | D33: minimálbér és garantált bérminimum emelésével kapcs.támogatás | M33: 4638 | N33: =SUM(E33:L33) -> 0
A34: 27 | D34: módosított előirányzat 6. | E34: =SUM(E31:E33) -> 11639 | F34: =SUM(F31:F33) -> 200 | G34: =SUM(G31:G33) -> 30 | K34: =SUM(K31:K33) -> 26421 | L34: =SUM(L31:L33) -> 299948 | M34: =SUM(M31:M33) -> 244530 | N34: =SUM(E34:L34) -> 338238
A35: 28 | B35: 5 | D35: Veszprémi Csillag úti Körzeti Óvoda
A36: 29 | D36: (Csillag úti Óvoda, Cholnoky ltp. Óvoda)
A37: 30 | D37: eredeti előirányzat | E37: 15663 | K37: 500 | L37: 322898 | M37: 233271 | N37: =SUM(E37:L37) -> 339061
A38: 31 | D38: módosított előirányzat 5. | E38: 15663 | K38: 15374 | L38: 329387 | M38: 233309 | N38: =SUM(E38:L38) -> 360424
A39: 32 | D39: módosítás- bérkompenzáció (2019. október hó) | L39: 4 | M39: 4 | N39: =SUM(E39:L39) -> 4
A40: 33 | D40: minimálbér és garantált bérminimum emelésével kapcs.támogatás | M40: 5608 | N40: =SUM(E40:L40) -> 0
...

Sheet 4.Inbe
B1: 4. melléklet a 30/2019. (XII.12.) önkormányzati rendelethez
B2: Veszprém Megyei Jogú Város Önkormányzata Intézményei
B3: 2019. évi saját bevételeinek módosítás - 2019. december
H4: adatok eFt-ban
B5: A | C5: B | D5: C | E5: D | F5: E | G5: F | H5: G
B6: Cím | C6: Alcím | D6: Megnevezés | E6: 2017. évi tény | F6: 2018. évi eredeti előirányzat | G6: 2018. évi tény | H6: 2019. évi előirányzat
A8: 1 | B8: 1 | D8: Veszprémi Vadvirág Körzeti Óvoda (Csillagvár Waldorf Tagóvoda, Vadvirág Óvoda) | E8: 5002 | F8: 4211 | G8: 4241 | H8: 4458
A9: 2 | B9: 2 | D9: Veszprémi Bóbita Körzeti Óvoda (Hársfa Tagóvoda, Bóbita Óvoda) | E9: 9352 | F9: 9172 | G9: 8290 | H9: 10813
A10: 3 | B10: 3 | D10: Veszprémi Ringató Körzeti Óvoda (Ringató Óvoda, Erdei Tagóvoda, Kuckó Tagóvoda) | E10: 16718 | F10: 18529 | G10: 16663 | H10: 18133
A11: 4 | B11: 4 | D11: Veszprémi Egry úti Körzeti Óvoda (Egry ltp. Óvoda, Nárcisz Tagóvoda) | E11: 11570 | F11: 9159 | G11: 12417 | H11: 11639
A12: 5 | B12: 5 | D12: Veszprémi Csillag úti Körzeti Óvoda (Csillag úti Óvoda, Cholnoky ltp. Óvoda) | E12: 14151 | F12: 13403 | G12: 14656 | H12: 15663
A13: 6 | B13: 6 | D13: Veszprémi Kastélykert Körzeti Óvoda (Kastélykert Óvoda, Ficánka Óvoda) | E13: 5106 | F13: 3735 | G13: 3862 | H13: 3794
A14: 7 | D14: Óvodák összesen: | E14: =SUM(E8:E13) -> 61899 | F14: =SUM(F8:F13) -> 58209 | G14: =SUM(G8:G13) -> 60129 | H14: =SUM(H8:H13) -> 64500
A15: 8 | B15: 7 | D15: Veszprémi Bölcsődei és Egészségügyi Alapellátási Integrált Intézmény | E15: 49823 | F15: 38296 | G15: 43118 | H15: 22800
A16: 9 | B16: 8 | D16: Göllesz Viktor Fogyatékos Személyek Nappali Intézménye | E16: 12363 | F16: 12400 | G16: 15040 | H16: 13500
A17: 10 | B17: 9 | D17: Veszprémi Családsegítő és Gyermekjóléti Integrált Intézmény | H17: 1800
A18: 11 | D18: Egészségügyi és szoc. int. összesen: | E18: =SUM(E15:E17) -> 62186 | F18: =SUM(F15:F17) -> 50696 | G18: =SUM(G15:G17) -> 58158 | H18: =SUM(H15:H17) -> 38100
A19: 12 | B19: 10 | D19: Agóra Veszprém Kulturális Központ | E19: 32111 | F19: 30692 | G19: 39591 | H19: 39584
A20: 13 | B20: 11 | D20: Művészetek Háza Veszprém Művelődési Ház és Kiállítóhely | E20: 6214 | F20: 4104 | G20: 4063 | H20: 7001
A21: 14 | B21: 12 | D21: Eötvös Károly Megyei Könyvtár | E21: 34173 | F21: 21200 | G21: 36291 | H21: 31600
A22: 15 | B22: 13 | D22: Laczkó Dezső Múzeum | E22: 74176 | F22: 75907 | G22: 129584 | H22: 197132
A23: 16 | B23: 14 | D23: Kabóca Bábszínház | E23: 32837 | F23: 28754 | G23: 29609 | H23: 23854
A24: 17 | B24: 15 | D24: Veszprémi Petőfi Színház | E24: 223252 | F24: 195500 | G24: 273726 | H24: 243842
A25: 18 | D25: Kulturális és közművelődési int. Összesen | E25: =SUM(E19:E24) -> 402763 | F25: =SUM(F19:F24) -> 356157 | G25: =SUM(G19:G24) -> 512864 | H25: =SUM(H19:H24) -> 543013
A26: 19 | B26: 16 | D26: Veszprémi Intézményi Szolgáltató Szervezet | E26: 355205 | F26: 374152 | G26: 362984 | H26: 379059
A27: 20 | C27: INTÉZMÉNYEK ÖSSZESEN: | E27: =SUM(E14,E18,E25,E26) -> 882053 | F27: =SUM(F14,F18,F25,F26) -> 839214 | G27: =SUM(G14,G18,G25,G26) -> 994135 | H27: =SUM(H14,H18,H25,H26) -> 1024672
A28: 21 | B28: 17 | C28: VMJV Polgármesteri Hivatal által ellátott kötelező és önként vállalt feladatok | E28: 5003 | G28: 4845 | H28: 5080
A29: 22 | C29: MINDÖSSZESEN: | E29: =SUM(E27,E28) -> 887056 | F29: =SUM(F27,F28) -> 839214 | G29: =SUM(G27,G28) -> 998980 | H29: =SUM(H27,H28) -> 1029752
E30: =+E29-'1.Onbe'!G30 -> 0 | F30: =+F29-'1.Onbe'!H30 -> 0 | G30: =+G29-'1.Onbe'!I30 -> 0 | H30: =+H29-'1.Onbe'!M30 -> 0

Sheet 5.Inki
B1: 5. melléklet a 30/2019. (XII.12.) önkormányzati rendelethez
B2: Veszprém Megyei Jogú Város Önkormányzata Intézményeinek
B3: 2019. évi költségvetési kiadásainak módosítása - 2019. december
P4: adatok eFt-ban
B5: A | C5: B | D5: C | E5: D | F5: E | G5: F | H5: G | I5: H | J5: I | K5: J | L5: K | M5: L | N5: M | O5: N | P5: O | Q5: P
B6: Cím | C6: Alcím | D6: Megnevezés | E6: Feladatellátás jellege* | F6: 2017. évi tény | G6: 2018. évi eredeti előirányzat | H6: 2018. évi tény | I6: 2019. évi előirányzat | J6: Működési költségvetési kiadások | O6: Felhalmozási költségvetési kiadások
J7: Személyi juttatások | K7: Munk.a. terh. jár. és szoc.hj.adó | L7: Dologi kiadások | M7: Ellátottak pénzbeli juttatásai | N7: Egyéb működési kiadások | O7: Beruházási kiadások | P7: Felújítási kiadások | Q7: Egyéb felhalmozási célú kiadások
A8: 1 | B8: 1 | D8: Veszprémi Vadvirág Körzeti Óvoda | E8: K | F8: 192029 | G8: 201561 | H8: 206614
A9: 2 | D9: (Csillagvár Waldorf Tagóvoda, Vadvirág Óvoda)
A10: 3 | D10: eredeti előirányzat | I10: =SUM(J10:Q10) -> 209393 | J10: 128101 | K10: 27759 | L10: 50833 | O10: 2700
A11: 4 | D11: módosított előirányzat 5. | I11: =SUM(J11:Q11) -> 218908 | J11: 131397 | K11: 28728 | L11: 52763 | O11: 6020
A12: 5 | D12: módosítás- bérkompenzáció (2019. október hó) | I12: =SUM(J12:Q12) -> 4 | J12: 3 | K12: 1
A13: 6 | D13: átcsoportosítás | I13: =SUM(J13:Q13) -> 0 | J13: -500 | K13: 500 | O13: -200 | P13: 200
A14: 7 | D14: módosított előirányzat 6. | I14: =SUM(J14:Q14) -> 218912 | J14: =SUM(J11:J13) -> 130900 | K14: =SUM(K11:K13) -> 29229 | L14: =SUM(L11:L13) -> 52763 | O14: =SUM(O11:O13) -> 5820 | P14: =SUM(P13:P13) -> 200
A15: 8 | B15: 2 | D15: Veszprémi Bóbita Körzeti Óvoda | E15: K | F15: 352042 | G15: 354412 | H15: 351654
A16: 9 | D16: (Hársfa Tagóvoda, Bóbita Óvoda)
A17: 10 | D17: eredeti előirányzat | I17: =SUM(J17:Q17) -> 356328 | J17: 230034 | K17: 49964 | L17: 73030 | O17: 3300
A18: 11 | D18: módosított előirányzat 5. | I18: =SUM(J18:Q18) -> 389212 | J18: 244740 | K18: 53135 | L18: 75957 | O18: 12380 | P18: 3000
A19: 12 | D19: módosítás- bérkompenzáció (2019. október hó) | I19: =SUM(J19:Q19) -> 14 | J19: 12 | K19: 2
A20: 13 | D20: átcsoportosítás | I20: =SUM(J20:Q20) -> 0 | J20: -770 | K20: -130 | L20: 900
A21: 14 | D21: módosított előirányzat 6. | I21: =SUM(J21:Q21) -> 389226 | J21: =SUM(J18:J20) -> 243982 | K21: =SUM(K18:K20) -> 53007 | L21: =SUM(L18:L20) -> 76857 | O21: =SUM(O18:O20) -> 12380 | P21: =SUM(P18:P20) -> 3000
A22: 15 | B22: 3 | D22: Veszprémi Ringató Körzeti Óvoda | E22: K | F22: 390437 | G22: 406698 | H22: 431588
A23: 16 | D23: (Ringató Óvoda, Erdei Tagóvoda, Kuckó Tagóvoda)
A24: 17 | D24: eredeti előirányzat | I24: =SUM(J24:Q24) -> 425240 | J24: 282771 | K24: 61168 | L24: 78301 | O24: 3000
A25: 18 | D25: módosított előirányzat 5. | I25: =SUM(J25:Q25) -> 448452 | J25: 295032 | K25: 63684 | L25: 77723 | O25: 12013
A26: 19 | D26: módosítás- bérkompenzáció (2019. október hó) | I26: =SUM(J26:Q26) -> 0
A27: 20 | D27: módosított előirányzat 6. | I27: =SUM(J27:Q27) -> 448452 | J27: =SUM(J25:J26) -> 295032 | K27: =SUM(K25:K26) -> 63684 | L27: =SUM(L25:L26) -> 77723 | O27: =SUM(O25:O26) -> 12013
A28: 21 | B28: 4 | D28: Veszprémi Egry úti Körzeti Óvoda | E28: K | F28: 288668 | G28: 297708 | H28: 302390
A29: 22 | D29: (Egry ltp. Óvoda, Nárcisz Tagóvoda)
A30: 23 | D30: eredeti előirányzat | I30: =SUM(J30:Q30) -> 310528 | J30: 202358 | K30: 43912 | L30: 62358 | O30: 1900
A31: 24 | D31: módosított előirányzat 5. | I31: =SUM(J31:Q31) -> 338236 | J31: 219143 | K31: 47891 | L31: 63821 | O31: 7381
A32: 25 | D32: módosítás- bérkompenzáció (2019. október hó) | I32: =SUM(J32:Q32) -> 2 | J32: 2
A33: 26 | D33: módosított előirányzat 6. | I33: =SUM(J33:Q33) -> 338238 | J33: =SUM(J31:J32) -> 219145 | K33: =SUM(K31:K32) -> 47891 | L33: =SUM(L31:L32) -> 63821 | O33: =SUM(O31:O32) -> 7381
A34: 27 | B34: 5 | D34: Veszprémi Csillag úti Körzeti Óvoda | E34: K | F34: 318973 | G34: 327569 | H34: 336173
A35: 28 | D35: (Csillag úti Óvoda, Cholnoky ltp. Óvoda)
A36: 29 | D36: eredeti előirányzat | I36: =SUM(J36:Q36) -> 339061 | J36: 205859 | K36: 44702 | L36: 83200 | O36: 5300
A37: 30 | D37: módosított előirányzat 5. | I37: =SUM(J37:Q37) -> 360424 | J37: 215856 | K37: 46574 | L37: 85394 | O37: 12600
A38: 31 | D38: módosítás- bérkompenzáció (2019. október hó) | I38: =SUM(J38:Q38) -> 4 | J38: 3 | K38: 1
A39: 32 | D39: módosított előirányzat 6. | I39: =SUM(J39:Q39) -> 360428 | J39: =SUM(J37:J38) -> 215859 | K39: =SUM(K37:K38) -> 46575 | L39: =SUM(L37:L38) -> 85394 | O39: =SUM(O37:O38) -> 12600
A40: 33 | B40: 6 | D40: Veszprémi Kastélykert Körzeti Óvoda | E40: K | F40: 148764 | G40: 157637 | H40: 156041
...

Sheet 6.Önk.műk.
B1: 6. melléklet a 30/2019. (XII.12.) önkormányzati rendelethez
B2: Veszprém Megyei Jogú Város Önkormányzata
B3: Önkormányzati feladatok és egyéb kötelezettségek 2019. évi működési költségvetési kiadásainak módosítása - 2019. december
M4: adatok eFt-ban
B5: A | C5: B | D5: C | E5: D | F5: E | G5: F | H5: G | I5: H | J5: I | K5: J | L5: K | M5: L | N5: M
B6: Cím | C6: Alcím | D6: Megnevezés | E6: 2017. évi tény | F6: 2018. évi eredeti előirányzat | G6: 2018. évi tény | H6: Feladatellátás jellege* | I6: 2019. évi előirányzat | J6: Működési költségvetési kiadások
J7: Személyi juttatások | K7: Munk.a. terh. jár. és szoc.hj.adó | L7: Dologi kiadások | M7: Ellátottak pénzbeli juttatásai | N7: Egyéb működési kiadások
A8: 1 | B8: 18 | C8: 1 | D8: Nemzeti ünnepek kiadásaira | E8: 6005 | F8: 7000 | G8: 6918 | H8: K
A9: 2 | D9: eredeti előirányzat | I9: =SUM(J9:N9) -> 7000 | L9: 7000
A10: 3 | D10: módosított előirányzat 5. | I10: =SUM(J10:N10) -> 7575 | K10: 17 | L10: 7558
A11: 4 | D11: módosítás- | I11: =SUM(J11:Q11) -> 0
A12: 5 | D12: módosított előirányzat 6. | I12: =SUM(J12:N12) -> 7575 | K12: =SUM(K10:K11) -> 17 | L12: =SUM(L10:L11) -> 7558
A13: 6 | C13: 2 | D13: Közművelődési szolgált. | E13: 3150 | F13: 5000 | G13: 4298 | H13: NK
A14: 7 | D14: eredeti előirányzat | I14: =SUM(J14:N14) -> 5000 | L14: 5000
A15: 8 | D15: módosított előirányzat 5. | I15: =SUM(J15:N15) -> 5672 | K15: 35 | L15: 5437 | N15: 200
A16: 9 | D16: módosítás- | I16: =SUM(J16:Q16) -> 0
A17: 10 | D17: módosított előirányzat 6. | I17: =SUM(J17:N17) -> 5672 | K17: =SUM(K15:K16) -> 35 | L17: =SUM(L15:L16) -> 5437 | N17: =SUM(N15:N16) -> 200
A18: 11 | C18: 3 | D18: Nemzetközi kapcsolatok | E18: 8774 | F18: 10000 | G18: 15651 | H18: NK
A19: 12 | D19: eredeti előirányzat | I19: =SUM(J19:N19) -> 10000 | J19: 1000 | K19: 500 | L19: 8500
A20: 13 | D20: módosított előirányzat 5. | I20: =SUM(J20:N20) -> 10571 | J20: 2120 | K20: 863 | L20: 7588
A21: 14 | D21: módosítás- átcsoportosítás | I21: =SUM(J21:Q21) -> 0 | K21: 140 | L21: -140
A22: 15 | D22: módosított előirányzat 6. | I22: =SUM(J22:N22) -> 10571 | J22: =SUM(J20:J21) -> 2120 | K22: =SUM(K20:K21) -> 1003 | L22: =SUM(L20:L21) -> 7448
A23: 16 | C23: 4 | D23: Marketing tevékenység, marketing stratégia | E23: 13898 | F23: 11000 | G23: 12950 | H23: NK
A24: 17 | D24: eredeti előirányzat | I24: =SUM(J24:N24) -> 11000 | L24: 11000
A25: 18 | D25: módosított előirányzat 5. | I25: =SUM(J25:N25) -> 16014 | L25: 16014
A26: 19 | D26: módosítás- | I26: =SUM(J26:Q26) -> 0
A27: 20 | D27: módosított előirányzat 6. | I27: =SUM(J27:N27) -> 16014 | L27: =SUM(L25:L26) -> 16014
A28: 21 | C28: 5 | D28: Kitüntetések | E28: 7830 | F28: 9653 | G28: 8243 | H28: NK
A29: 22 | D29: eredeti előirányzat | I29: =SUM(J29:N29) -> 10167 | J29: 5595 | K29: 1132 | L29: 3090 | N29: 350
A30: 23 | D30: módosított előirányzat 5. | I30: =SUM(J30:N30) -> 11467 | J30: 5595 | K30: 1132 | L30: 4390 | N30: 350
A31: 24 | D31: módosítás- | I31: =SUM(J31:Q31) -> 0
A32: 25 | D32: módosított előirányzat 6. | I32: =SUM(J32:N32) -> 11467 | J32: =SUM(J30:J31) -> 5595 | K32: =SUM(K30:K31) -> 1132 | L32: =SUM(L30:L31) -> 4390 | N32: =SUM(N30:N31) -> 350
A33: 26 | C33: 6 | D33: Mihály-napi búcsú | E33: 1000 | F33: 1000 | G33: 1000 | H33: NK
A34: 27 | D34: eredeti előirányzat | I34: =SUM(J34:N34) -> 1000 | L34: 1000
A35: 28 | D35: módosított előirányzat 5. | I35: =SUM(J35:N35) -> 1000 | L35: 1000
A36: 29 | D36: módosítás- | I36: =SUM(J36:Q36) -> 0
A37: 30 | D37: módosított előirányzat 6. | I37: =SUM(J37:N37) -> 1000 | L37: =SUM(L35:L36) -> 1000
A38: 31 | C38: 7 | D38: Városi kiemelt fesztiválok | E38: =SUM(E43,E48,E53,E58,E63,E68) -> 62200 | F38: =SUM(F43,F48,F53,F58,F63,F68) -> 72000 | G38: =SUM(G43,G48,G53,G58,G63,G68) -> 72000 | H38: NK
A39: 32 | D39: eredeti előirányzat | I39: =SUM(J39:N39) -> 74000 | J39: =SUM(J44,J49,J54,J59,J64,J69) -> 0 | K39: =SUM(K44,K49,K54,K59,K64,K69) -> 0 | L39: =SUM(L44,L49,L54,L59,L64,L69) -> 15000 | M39: =SUM(M44,M49,M54,M59,M64,M69) -> 0 | N39: =SUM(N44,N49,N54,N59,N64,N69) -> 59000
A40: 33 | D40: módosított előirányzat 5. | I40: =SUM(J40:N40) -> 74000 | J40: =J45+J50+J55+J60+J65+J70 -> 0 | K40: =K45+K50+K55+K60+K65+K70 -> 0 | L40: =L45+L50+L55+L60+L65+L70 -> 15000 | M40: =M45+M50+M55+M60+M65+M70 -> 0 | N40: =N45+N50+N55+N60+N65+N70 -> 59000
...

Sheet 6.A Alapítv
B1: 6.A. melléklet a 30/2019. (XII.12.) önkormányzati rendelethez
B2: KIMUTATÁS
B3: Veszprém Megyei Jogú Város Önkormányzata által
B4: alapítványoknak, egyesületeknek, civil szervezeteknek, társadalmi szervezeteknek nyújtott támogatásokról 2019. évben - 2019. december
B5: adatok eFt-ban
B6: A | C6: B
B7: Alapítvány / egyesület / civil szervezet / társadalmi szervezet megnevezése | C7: Támogatás összege
A9: 1 | B9: Veszprémi Szemle Várostörténeti Közhasznú Alapítvány Támogatása | C9: =2000+846 -> 2846
A10: 2 | B10: Ex Symposion Alapítvány | C10: 2000
A11: 3 | B11: Comitatus Társadalomkutató Egyesület - Comitatus Önkormányzati Szemle | C11: 500
A12: 4 | B12: Brusznyai Árpád Alapítvány támogatása | C12: 650
A13: 5 | B13: Veszprém Város Vegyeskar utánpótlás | C13: 1000
A14: 6 | B14: Mendelssohn Kamarazenekar | C14: 83500
A15: 7 | B15: Kiemelt művészeti együttesek támogatása / Veszprém Város Vegyeskara | C15: 5600
A16: 8 | B16: Városi kiemelt fesztiválok / Veszprém Város Vegyeskara | C16: 2000
A17: 9 | B17: Veszprémi Táncegyüttesért Alapítvány | C17: 4500
A18: 10 | B18: Liszt F. Kórus | C18: 3000
A19: 11 | B19: Gizella Kórus/Dowland Alapítvány | C19: 1000
A20: 12 | B20: Civil díj, civil nap költségei | C20: 600
A21: 13 | B21: Veszprémi Ifjúsági Közalapítvány | C21: =14000-5000-3900 -> 5100
A22: 14 | B22: Máltai Szeretetszolgálat | C22: 60000
A23: 15 | B23: Alkohol-Drogsegély Ambulancia Egyesület | C23: 12000
A24: 16 | B24: Örmény Kultúráért Alapítvány | C24: 300
A25: 17 | B25: Tanórán kívüli tevékenység - Veszprémi Fúvóskultúráért Alapítvány | C25: 300
A26: 18 | B26: Tanórán kívüli tevékenység - Veszprémi Táncsics Diáksport Egyesület | C26: 100
A27: 19 | B27: Tanórán kívüli tevékenység / Gyulaffi László Alapítvány | C27: 80
A28: 20 | B28: Tanórán kívüli tevékenység / Képesség- és Tehetségfejlesztő Magániskola | C28: 100
A29: 21 | B29: Kulturális Kínálat bővítése / amatőr művészeti csoportok támogatása - Veszprémi Fúvóskultúráért Alapítvány | C29: 100
A30: 22 | B30: Kulturális Kínálat bővítése / Veszprémi Nyugdíjasok Érdekvédelmi Egyesülete | C30: 100
A31: 23 | B31: Kulturális Kínálat bővítése / Gyulafirátóti Német Nemzetiségi Kulturális Egyesület | C31: 50
A32: 24 | B32: Kulturális Kínálat bővítése / Jutaspusztáért Egyesület | C32: 130
A33: 25 | B33: Kulturális Kínálat bővítése / Bakonyfolk Baráti Kör Egyesület | C33: 100
... A41: 33 | B41: Közművelődési szolgáltatás / Hallgatók a Művészetért Egyesület | C41: 200
A42: 34 | B42: Sporttámogatások
A43: 35 | B43: Veszprém Foci Centrum Utánpótlás SE | C43: 17000
A44: 36 | B44: Veszprémi Egyetemi és Diák Atlétikai Club | C44: 25000
A45: 37 | B45: Futsal Club Veszprém | C45: 30000
A46: 38 | B46: Pannon SE női kézilabda | C46: 6000
A47: 39 | B47: Veszprémi Úszó Klub | C47: 3000
A48: 40 | B48: Balaton Úszó Klub | C48: 3500
...

Sheet 7.Beruh.
B1: 7. melléklet a 30/2019. (XII.12.) önkormányzati rendelethez
B2: Veszprém Megyei Jogú Város Önkormányzata
B3: 2019. évi beruházási és egyéb felhalmozási célú kiadások előirányzatainak módosítása - 2019. december
M4: adatok eFt-ban
B5: A | C5: B | D5: C | E5: D | F5: E | G5: F | H5: G | I5: H | J5: I | K5: J | L5: K | M5: L
B6: Cím | C6: Alcím | D6: Megnevezés | E6: Feladatellátás jellege | F6: Teljes költség | G6: Teljesítés 2017. 12.31.-ig | H6: 2018. évi tény | I6: 2019. évi eredeti előirányzat | J6: 2019. évi módosított előirányzat 5. | K6: Módosítás | L6: 2019. évi módosított előirányzat 6. | M6: 2019. év utáni javaslat
A7: 1 | B7: 18 | C7: Önkormányzati beruházási kiadások
A8: 2 | C8: 1 | D8: TOP-6.2.1-16-VP1-2018-00002 Egry úti óvoda újjáépítése | E8: NK | F8: =G8+H8+L8+M8 -> 1103100 | I8: =918181-1635 -> 916546 | J8: 916546 | L8: =SUM(J8:K8) -> 916546 | M8: 186554
A9: 3 | C9: 2 | D9: TOP-6.2.1-15-VP1-2016-00002 Gyulafirátóti óvoda újjáépítése | E9: NK | F9: =G9+H9+L9+M9 -> 867061 | G9: =10953+1020 -> 11973 | H9: 229 | I9: 852614 | J9: 854859 | L9: =SUM(J9:K9) -> 854859
A10: 4 | C10: 3 | D10: TOP-6.3.3-16-VP1-2017-00001 Dózsaváros, Pápai úti csapadékvíz-elvezető rendszer fejlesztése | E10: NK | F10: =G10+H10+L10+M10 -> 291045 | H10: 4280 | I10: 42322 | J10: 286765 | L10: =SUM(J10:K10) -> 286765
A11: 5 | C11: 4 | D11: TOP-6.4.1-15-VP1-2016-00001 Közlekedésbiztonsági és kerékpárosbarát fejlesztések magvalósulása Veszprém város területén | E11: NK | F11: =G11+H11+L11+M11 -> 1109415 | G11: 44965 | H11: 381764 | I11: 697540 | J11: 682686 | L11: =SUM(J11:K11) -> 682686
A12: 6 | C12: 5 | D12: TOP-6.1.5-16-VP1-2017-00001 Északi Iparterület Közlekedés-fejlesztése | E12: NK | F12: =G12+H12+L12+M12 -> 3583328 | G12: 115020 | H12: 324225 | I12: 607839 | J12: 2850083 | L12: =SUM(J12:K12) -> 2850083 | M12: 294000
A13: 7 | C13: 6 | D13: TOP-6.4.1-16-VP1 Kerékpárút építése Alsóörs - Felsőörs irányába | E13: NK | F13: =G13+H13+L13+M13 -> 229555 | H13: 9271 | I13: 218251 | J13: 208284 | L13: =SUM(J13:K13) -> 208284 | M13: 12000
A14: 8 | C14: 7 | D14: TOP-6.6.1-16-VP1-2017-00002 Kádártai rendelő kialakítása | E14: NK | F14: =G14+H14+L14+M14 -> 64839 | H14: 143 | I14: =56494+10000 -> 66494 | J14: 64696 | L14: =SUM(J14:K14) -> 64696
A15: 9 | C15: 8 | D15: TOP – 6.3.2 Zöldváros kialakítása (Kulturális negyed - Színházkert, Megyeház tér, Erzsébet liget, Erzsébet sétány – fejlesztése) | E15: NK | F15: =G15+H15+L15+M15 -> 0 | I15: 789391 | J15: 0 | L15: =SUM(J15:K15) -> 0
A16: 10 | C16: 9 | D16: TOP-6.3.2-16-VP1-2018-00001 Kulturális negyed | E16: NK | F16: =G16+H16+L16+M16 -> 1586222 | H16: 16505 | J16: 1493717 | L16: =SUM(J16:K16) -> 1493717 | M16: 76000
A17: 11 | C17: 10 | D17: TOP- 7.1.1 Helyi közösségi kezdeményezések (CLLD kulcsprojekt előkészítése) | E17: NK | F17: =G17+H17+L17+M17 -> 0 | I17: 244376 | J17: 0 | L17: =SUM(J17:K17) -> 0
A18: 12 | C18: 11 | D18: TOP-7.1.1-16-H-ERFA-2019-00078 Szent Miklós-szegi Kálvária domb és környékének infrastrukturális felújítása és funkcióbővítése | E18: NK | F18: =G18+H18+L18+M18 -> 258379 | H18: 4379 | J18: 254000 | L18: =SUM(J18:K18) -> 254000
A19: 13 | C19: 12 | D19: TOP-7.1.1-16 CLLD Városrészi közösség és kulturális terek felújítása | E19: NK | F19: =G19+H19+L19+M19 -> 6137 | I19: =3155+2982 -> 6137 | J19: 6137 | L19: =SUM(J19:K19) -> 6137
A20: 14 | C20: 13 | D20: TOP-6.4.1-16-VP1 Kerékpárút építése Márkó-Bánd települések irányába | E20: NK | F20: =G20+H20+L20+M20 -> 479000 | I20: 43600 | J20: 479000 | L20: =SUM(J20:K20) -> 479000
A21: 15 | C21: 14 | D21: TOP – 6.9.2 A helyi identitás és kohézió erősítése | E21: NK | F21: =G21+H21+L21+M21 -> 0 | I21: 184000 | J21: 0 | L21: =SUM(J21:K21) -> 0
A22: 16 | C22: 15 | D22: TOP-6.5.1-16-VP1-2018-00006 Módszertani Bölcsőde energetikai megújítása | E22: NK | F22: =G22+H22+L22+M22 -> 334603 | H22: 6401 | I22: =215705+44000 -> 259705 | J22: 298327 | L22: =SUM(J22:K22) -> 298327 | M22: =44875-44000+29000 -> 29875
A23: 17 | C23: 16 | D23: TOP-6.2.1-16-VP1-2018-00001 A Veszprémi Bölcsődei és Egészségügyi Alapellátási Integrált Intézmény Módszertani Bölcsődéje megújítása, illetve bölcsődei eszközbeszerzések | E23: NK | F23: =G23+H23+L23+M23 -> 200171 | H23: 4794 | I23: =86052-435+109000 -> 194617 | J23: 194617 | L23: =SUM(J23:K23) -> 194617 | M23: =109760-109000 -> 760
A24: 18 | C24: 17 | D24: TOP-6.6.1-16-VP1-2018-00006 - Cserhát ltp.1.sz.alatti gyermekorvosi rendelők felújítása | E24: NK | F24: =G24+H24+L24+M24 -> 3556 | H24: 3556 | I24: =28738-170 -> 28568 | J24: 0 | L24: =SUM(J24:K24) -> 0
A25: 19 | C25: 18 | D25: TOP-6.6.1-16-VP1-2018-00004 Vilonyai utca 2/B szám alatti orvosi rendelő megújítása | E25: NK | F25: =G25+H25+L25+M25 -> 50522 | H25: 1956 | I25: 39537 | J25: 41498 | L25: =SUM(J25:K25) -> 41498 | M25: 7068
A26: 20 | C26: 19 | D26: TOP-6.6.1-16-VP1-2018-00005 Ördögárok u. 5. szám alatti orvosi rendelő megújítása | E26: NK | F26: =G26+H26+L26+M26 -> 92739 | H26: 2459 | I26: 53492 | J26: 53222 | L26: =SUM(J26:K26) -> 53222 | M26: =22058+15000 -> 37058
A27: 21 | C27: 20 | D27: TOP-6.5.1-16-VP1-2018-00005 - Március 15. utcai Sportcsarnok és Uszoda energetikai megújítása | E27: NK | F27: =G27+H27+L27+M27 -> 804913 | H27: 6414 | I27: =781615-24602 -> 757013 | J27: 757099 | L27: =SUM(J27:K27) -> 757099 | M27: 41400
A28: 22 | C28: 21 | D28: TOP-6.5.1 - 16- VP1-2018-00004 Aprófalvi Bölcsőde energetikai korszerűsítése | E28: NK | F28: =G28+H28+L28+M28 -> 282298 | G28: 6699 | I28: 223100 | J28: 222822 | L28: =SUM(J28:K28) -> 222822 | M28: =275877-223100 -> 52777
A29: 23 | C29: 22 | D29: TOP-6.5.1-16-VP1-2018-00002 Völgyikút utca 2. szám alatti épület energetikai megújítása | E29: NK | F29: =G29+H29+L29+M29 -> 172115 | G29: 6541 | I29: =134273-3632 -> 130641 | J29: 130641 | L29: =SUM(J29:K29) -> 130641 | M29: 34933
A30: 24 | C30: 23 | D30: TOP-6.5.1-16-VP1-2018-00003 Laczkó Dezső Múzeum energetikai megújítása | E30: NK | F30: =G30+H30+L30+M30 -> 0 | I30: 147420 | J30: 0 | L30: =SUM(J30:K30) -> 0
A31: 25 | C31: 24 | D31: TOP-6.6.1-16-VP1-2018-0003 "Jutasi u. 59. sz. alatti orvosi rendelők megújítása" | E31: NK | F31: =G31+H31+L31+M31 -> 72078 | H31: 4826 | I31: 76700 | J31: 67212 | K31: 40 | L31: =SUM(J31:K31) -> 67252
A32: 26 | C32: 25 | D32: TOP-6.6.1-16-VP1-2017-00001 Gyulafirátóti rendelő felújítása | E32: NK | F32: =G32+H32+L32+M32 -> 61142 | H32: 30272 | I32: 2003 | J32: 30870 | L32: =SUM(J32:K32) -> 30870
A33: 27 | C33: 26 | D33: TOP-6.9 "Közösségfejlesztés Veszprém város településrészein | E33: NK | F33: =G33+H33+L33+M33 -> 2500 | I33: 2500 | J33: 2500 | L33: =SUM(J33:K33) -> 2500
A34: 28 | C34: 27 | D34: GINOP - 7.1.9-17-2018-00023 Veszprém kulturális turisztikai kínálatának fejlesztése | E34: NK | F34: =G34+H34+L34+M34 -> 1336766 | H34: 28000 | I34: 530299 | J34: 515681 | L34: =SUM(J34:K34) -> 515681 | M34: 793085
A35: 29 | C35: 28 | D35: URBACT Innova Tor | E35: NK | F35: =G35+H35+L35+M35 -> 12239 | I35: 6859 | J35: 0 | L35: =SUM(J35:K35) -> 0 | M35: 12239
A36: 30 | C36: 29 | D36: DTP1-1-311-2.2 Interreg Duna Nemzetközi Program Networld* | E36: NK | F36: =G36+H36+L36+M36 -> 1575 | G36: 241 | H36: 1334 | I36: 3930 | J36: 0 | L36: =SUM(J36:K36) -> 0
A37: 31 | C37: 30 | D37: Erasmus +K3 SporTown | E37: NK | F37: =G37+H37+L37+M37 -> 7345 | H37: 7345 | I37: 5444 | J37: 0 | L37: =SUM(J37:K37) -> 0
A38: 32 | C38: 31 | D38: KEHOP-5.4.1-16-2016-00142 "Veszprém, az energiatudatos város" | E38: NK | F38: =G38+H38+L38+M38 -> 4792 | I38: 4792 | J38: 4792 | L38: =SUM(J38:K38) -> 4792
A39: 33 | C39: 32 | D39: TOP-6.3.3-15-VP1-2016-00001 Kertváros csapadékelvezető rendszer rekonstrukciója I. ütem | E39: NK | F39: =G39+H39+L39+M39 -> 260817 | G39: 160545 | H39: 86833 | J39: 13439 | L39: =SUM(J39:K39) -> 13439
A40: 34 | C40: 33 | D40: TOP 6.5.1-16 Önkormányzati épületek energetikai korszerűsítése | E40: NK | F40: =G40+H40+L40+M40 -> 14326 | H40: 10198 | J40: 4128 | L40: =SUM(J40:K40) -> 4128
...

Sheet 8.Felúj.
B1: 8. melléklet a 30/2019. (XII.12.) önkormányzati rendelethez
B2: Veszprém Megyei Jogú Város Önkormányzata
B3: 2019. évi felújítási kiadások előirányzatainak módosítása - 2019. december
H4: adatok eFt-ban
B5: A | C5: B | D5: C | E5: D | F5: E | G5: F | H5: G | I5: H | J5: I | K5: J | L5: K
B6: Cím | C6: Alcím | D6: Megnevezés | E6: Feladatellátás jellege | F6: Teljes költség | G6: 2018. évi tény | H6: 2019. évi eredeti előirányzat | I6: 2019. évi módosított előirányzat 5. | J6: Módosítás | K6: 2019. módosított előirányzat 6. | L6: 2019. év utáni javaslat
A7: 1 | B7: 18 | D7: Önkormányzati felújítási kiadások
A8: 2 | C8: 1 | D8: Játszóeszközök felújítása (78/2003 GKM rendelet) | E8: K | F8: =G8+K8+L8 -> 20093 | G8: 10000 | H8: 9000 | I8: 10093 | K8: =SUM(I8:J8) -> 10093
A9: 3 | C9: 2 | D9: Köztéri műalkotások rekonstrukciója, körforgalmakban lévő fa műtárgyak felületkezelése, állagmegóvása | E9: NK | F9: =G9+K9+L9 -> 1304 | G9: 873 | H9: 3000 | I9: =5931-5500 -> 431 | K9: =SUM(I9:J9) -> 431
A10: 4 | C10: 3 | D10: Elhasználódott labdapályák felújítása és balesetveszély elhárítás | E10: NK | F10: =G10+K10+L10 -> 3955 | G10: 1955 | H10: 2000 | I10: 2000 | K10: =SUM(I10:J10) -> 2000
A11: 5 | C11: 4 | D11: Nagyfelületű út- és járdafelújítások | E11: NK | F11: =G11+K11+L11 -> 315208 | G11: 127108 | H11: 100000 | I11: 188100 | K11: =SUM(I11:J11) -> 188100
A12: 6 | C12: 5 | D12: Vízrendezési feladatok, árkok felújítása | E12: K | F12: =G12+K12+L12 -> 30000 | H12: 30000 | I12: 30000 | K12: =SUM(I12:J12) -> 30000
A13: 7 | C13: 6 | D13: Földutak felújítása | E13: NK | F13: =G13+K13+L13 -> 0 | H13: 4000 | I13: 0 | K13: =SUM(I13:J13) -> 0
A14: 8 | C14: 7 | D14: Köztéri padok felújítása | E14: NK | F14: =G14+K14+L14 -> 0 | H14: 1000 | I14: 0 | K14: =SUM(I14:J14) -> 0
A15: 9 | C15: 8 | D15: Védett sírok felújítása az Alsóvárosi temetőben | E15: NK | F15: =G15+K15+L15 -> 11234 | G15: 9999 | H15: 2000 | I15: =4735-3500 -> 1235 | K15: =SUM(I15:J15) -> 1235
A16: 10 | C16: 9 | D16: Dózsa György u. 2.sz. alatti épület felújítása | E16: NK | F16: =G16+K16+L16 -> 0 | H16: 130000 | I16: 0 | K16: =SUM(I16:J16) -> 0
A17: 11 | C17: 10 | D17: Polgármesteri Hivatal felújítási munkák | E17: NK | F17: =G17+K17+L17 -> 11357 | G17: 2350 | H17: 53271 | I17: 9007 | K17: =SUM(I17:J17) -> 9007
A18: 12 | C18: 11 | D18: Kertészeti felújítások | E18: NK | F18: =G18+K18+L18 -> 28500 | I18: 28500 | K18: =SUM(I18:J18) -> 28500
A19: 13 | C19: 12 | D19: Vár utca kockakő burkolat felújítása | E19: NK | F19: =G19+K19+L19 -> 20000 | I19: 20000 | K19: =SUM(I19:J19) -> 20000
A20: 14 | C20: 13 | D20: Kertvárosi utcák felújítása víziközmű rekonstrukció után | E20: NK | F20: =G20+K20+L20 -> 78000 | G20: 330 | H20: 36000 | I20: 77670 | K20: =SUM(I20:J20) -> 77670
A21: 15 | C21: 14 | D21: Önkormányzati bérlakások felújítása | E21: NK | F21: =G21+K21+L21 -> 23500 | H21: 23500 | I21: 23500 | K21: =SUM(I21:J21) -> 23500
A22: 16 | C22: 15 | D22: Hősök kapuja, Vár u. 2. tetőterasz beázás és falak felszívódó nedvesség elleni szigetelése | E22: NK | F22: =G22+K22+L22 -> 635 | H22: 3850 | I22: 3891 | J22: -3256 | K22: =SUM(I22:J22) -> 635
A23: 17 | C23: 16 | D23: Egry úti Óvoda újjáépítése miatt szükséges óvodai felújítások, konténer ovi telepítése | E23: NK | F23: =G23+K23+L23 -> 24832 | H23: 6800 | I23: 24832 | K23: =SUM(I23:J23) -> 24832
A24: 18 | C24: 17 | D24: Evangélikus Óvoda tető felújítása | E24: NK | F24: =G24+K24+L24 -> 6900 | H24: 7500 | I24: 6900 | K24: =SUM(I24:J24) -> 6900
A25: 19 | C25: 18 | D25: Gyulafirátót, Posta utcai csapadékvíz elvezető árok részleges felújítása | E25: NK | F25: =G25+K25+L25 -> 2200 | H25: 2200 | I25: 2200 | K25: =SUM(I25:J25) -> 2200
A26: 20 | C26: 19 | D26: Nem lakás célú helyiségek felújítási igénye | E26: NK | F26: =G26+K26+L26 -> 5000 | H26: 5000 | I26: 5000 | K26: =SUM(I26:J26) -> 5000
A27: 21 | C27: 20 | D27: Földmérési jelek felújítása | E27: NK | F27: =G27+K27+L27 -> 0 | H27: 1620 | I27: 0 | K27: =SUM(I27:J27) -> 0
A28: 22 | C28: 21 | D28: Gyepmesteri telep kerítés felújítása | E28: K | F28: =G28+K28+L28 -> 1500 | I28: 1500 | K28: =SUM(I28:J28) -> 1500
A29: 23 | C29: 22 | D29: Pajta utca 10. sz. alatti bérlakás felújítása | E29: NK | F29: =G29+K29+L29 -> 2000 | I29: 2000 | K29: =SUM(I29:J29) -> 2000
A30: 24 | C30: 23 | D30: Aranyfőkötős szobor felújítása | E30: NK | F30: =G30+K30+L30 -> 1200 | G30: 425 | I30: 775 | K30: =SUM(I30:J30) -> 775
A31: 25 | C31: 24 | D31: Felújítási munkák a Március 15. utcai Sportcsarnokban | E31: NK | F31: =G31+K31+L31 -> 21000 | I31: 21000 | K31: =SUM(I31:J31) -> 21000
A32: 26 | C32: 25 | D32: Belvárosi zöldfelületek felújítási munkái | E32: NK | F32: =G32+K32+L32 -> 3000 | I32: 3000 | K32: =SUM(I32:J32) -> 3000
A33: 27 | D33: Európa Kulturális Fővárosa felújítási kiadások
A34: 28 | C34: 26 | D34: Dózsa György u. 2.sz. alatti épület felújítása (tervezés-előkészítés) | E34: NK | F34: =G34+K34+L34 -> 68500 | I34: 68500 | K34: =SUM(I34:J34) -> 68500
A35: 29 | D35: ÓVODÁK
A36: 30 | B36: 1 | D36: Veszprémi Vadvirág Körzeti Óvoda | E36: K
A37: 31 | C37: 27 | D37: Tetőjavítás, esővízelvezetés Kengyel utca felőli részen | F37: =G37+K37+L37 -> 3000 | H37: 3000 | I37: 3000 | K37: =SUM(I37:J37) -> 3000
A38: 32 | C38: 28 | D38: Elkorhadt nyílászárók cseréje II. ütem | F38: =G38+K38+L38 -> 7000 | H38: 7000 | I38: 7000 | K38: =SUM(I38:J38) -> 7000
A39: 33 | C39: 29 | D39: Teherhordó fal javítása | F39: =G39+K39+L39 -> 558 | I39: 558 | K39: =SUM(I39:J39) -> 558
A40: 34 | C40: 30 | D40: 11.vk., 12.vk. Gazdasági bejárat ajtó csere | F40: =G40+K40+L40 -> 544 | I40: 544 | K40: =SUM(I40:J40) -> 544
...

Sheet 9.Mérleg
B1: 9. melléklet a 30/2019. (XII.12.) önkormányzati rendelethez
B2: VESZPRÉM MEGYEI JOGÚ VÁROS ÖNKORMÁNYZATÁNAK MŰKÖDÉSI ÉS FELHALMOZÁSI
B3: KÖLTSÉGVETÉSI BEVÉTELEI ÉS KIADÁSAI 2019. ÉVBEN - 2019. december
I4: adatok eFt-ban
B5: A | C5: B | D5: C | F5: D | G5: E | H5: F | I5: G
A6: 1 | C6: MŰKÖDÉSI KÖLTSÉGVETÉSI BEVÉTELEK | D6: 2019. évi eredeti előirányzat | E6: 2019. évi módosított előirányzat 6. | G6: MŰKÖDÉSI KÖLTSÉGVETÉSI KIADÁSOK | H6: 2019. évi eredeti előirányzat | I6: 2019. évi módosított előirányzat 6.
A7: 2 | B7: 1. | C7: Működési célú támogatások államháztartáson belülről | D7: ='1.Onbe'!J9+'1.Onbe'!J12+'1.Onbe'!J14 -> 3536785 | E7: ='1.Onbe'!M8+'1.Onbe'!M14 -> 4886620 | F7: 1. | G7: Személyi juttatások | H7: ='5.Inki'!J298+'6.Önk.műk.'!J1188 -> 4219586 | I7: ='5.Inki'!J301+'6.Önk.műk.'!J1191 -> 4847802
A8: 3 | B8: 2. | C8: Közhatalmi bevételek | D8: ='1.Onbe'!J15 -> 7765600 | E8: ='1.Onbe'!M15 -> 7765600 | F8: 2. | G8: Munkaadókat terhelő járulékok és szociális hozzájárulási adó | H8: ='5.Inki'!K298+'6.Önk.műk.'!K1188 -> 900609 | I8: ='5.Inki'!K301+'6.Önk.műk.'!K1191 -> 1033529
A9: 4 | B9: 3. | C9: Működési bevételek | D9: ='1.Onbe'!J25+'1.Onbe'!J30 -> 1675132 | E9: ='1.Onbe'!M25+'1.Onbe'!M30 -> 1857720 | F9: 3. | G9: Dologi kiadások | H9: ='5.Inki'!L298+'6.Önk.műk.'!L1188 -> 5250483 | I9: ='5.Inki'!L301+'6.Önk.műk.'!L1191 -> 6086404
A10: 5 | B10: 4. | C10: Működési célú átvett pénzeszközök | D10: ='1.Onbe'!J32 -> 0 | E10: ='1.Onbe'!M31+'1.Onbe'!M32 -> 9041 | F10: 4. | G10: Ellátottak pénzbeli juttatásai | H10: ='6.Önk.műk.'!M1188 -> 34350 | I10: ='5.Inki'!M301+'6.Önk.műk.'!M1191 -> 35178
A11: 6 | F11: 5. | G11: Egyéb működési célú kiadások (tartalékok nélkül) | H11: ='5.Inki'!N298+'6.Önk.műk.'!N1188 -> 2606027 | I11: ='5.Inki'!N301+'6.Önk.műk.'!N1191 -> 4432533
A12: 7 | F12: 6. | G12: Működési célú tartalékok | H12: ='2.Onki'!J15+'2.Onki'!J25 -> 255109 | I12: ='2.Onki'!M15+'2.Onki'!M25 -> 1074
A13: 8 | C13: Működési költségvetési bevételek összesen | D13: =SUM(D7:D12) -> 12977517 | E13: =SUM(E7:E12) -> 14518981 | G13: Működési költségvetési kiadások összesen | H13: =SUM(H7:H12) -> 13266164 | I13: =SUM(I7:I12) -> 16436520
A14: 9 | C14: FELHALMOZÁSI KÖLTSÉGVETÉSI BEVÉTELEK | G14: FELHALMOZÁSI KÖLTSÉGVETÉSI KIADÁSOK
A15: 10 | B15: 1. | C15: Felhalmozási célú támogatások államháztartáson belülről | D15: ='1.Onbe'!J34+'1.Onbe'!J38 -> 5273160 | E15: ='1.Onbe'!M34+'1.Onbe'!M38 -> 9466965 | F15: 1. | G15: Beruházási kiadások | H15: ='2.Onki'!J9+'2.Onki'!J27 -> 13178963 | I15: ='2.Onki'!M10+'2.Onki'!M27 -> 20843932
A16: 11 | B16: 2. | C16: Felhalmozási bevételek | D16: ='1.Onbe'!J39 -> 225000 | E16: ='1.Onbe'!M39+'1.Onbe'!M42 -> 302400 | F16: 2. | G16: Egyéb felhalmozási célú kiadások | H16: ='2.Onki'!J28 -> 197022 | I16: ='2.Onki'!M28 -> 98177
A17: 12 | B17: 3. | C17: Felhalmozási célú átvett pénzeszközök | D17: ='1.Onbe'!J43+'1.Onbe'!J44 -> 150000 | E17: ='1.Onbe'!M43+'1.Onbe'!M44 -> 627702 | F17: 3. | G17: Felújítási kiadások | H17: ='2.Onki'!J29 -> 564991 | I17: ='2.Onki'!M29+'2.Onki'!M11 -> 685889
A18: 13 | F18: 4. | G18: Felhalmozási célú tartalékok | H18: ='2.Onki'!J21 -> 289409 | I18: ='2.Onki'!M21 -> 405460
A19: 14 | C19: Felhalmozási költségvetési bevételek összesen | D19: =SUM(D15:D18) -> 5648160 | E19: =SUM(E15:E18) -> 10397067 | G19: Felhalmozási költségvetési kiadások összesen | H19: =SUM(H15:H18) -> 14230385 | I19: =SUM(I15:I18) -> 22033458
A20: 15 | C20: Költségvetési bevételek összesen | D20: =SUM(D13,D19) -> 18625677 | E20: =SUM(E13,E19) -> 24916048 | G20: Költségvetési kiadások összesen | H20: =SUM(H13,H19) -> 27496549 | I20: =SUM(I13,I19) -> 38469978
A21: 16 | C21: MŰKÖDÉSI FINANSZÍROZÁSI BEVÉTELEK | G21: MŰKÖDÉSI FINANSZÍROZÁSI KIADÁSOK
A22: 17 | B22: 1. | C22: Rövid lejáratú hitel felvétele | F22: 1. | G22: Rövid lejáratú hitel tőkeösszegének törlesztése | H22: 0
A23: 18 | B23: 2. | C23: Költségvetési maradvány | D23: ='1.Onbe'!J52 -> 1315949 | E23: ='1.Onbe'!M52 -> 2879946 | F23: 2. | G23: Államháztartáson belüli megelőlegezések visszafizetése | H23: ='2.Onki'!J36 -> 96040 | I23: ='2.Onki'!M36 -> 96040
A24: 19 | B24: 3. | C24: Államháztartáson belüli megelőlegezések | D24: ='1.Onbe'!K50 -> 0 | E24: ='1.Onbe'!M50 -> 0
A25: 20 | C25: FELHALMOZÁSI FINANSZÍROZÁSI BEVÉTELEK | G25: FELHALMOZÁSI FINANSZÍROZÁSI KIADÁSOK
A26: 21 | B26: 4. | C26: Hosszú lejáratú hitel felvétele | D26: ='1.Onbe'!J60 -> 676488 | E26: ='1.Onbe'!M60 -> 676488 | F26: 3. | G26: Hosszú lejáratú hitel tőkeösszegének törlesztése | H26: ='2.Onki'!J38 -> 113595 | I26: ='2.Onki'!M38 -> 113595
A27: 22 | B27: 5. | C27: Rövid lejáratú hitel felvétele | F27: 4. | G27: Rövid lejáratú hitel tőkeösszegének törlesztése
A28: 23 | B28: 6. | C28: Költségvetési maradvány | D28: ='1.Onbe'!J56 -> 7088070 | E28: ='1.Onbe'!M56 -> 10207131
A29: 24 | C29: Finanszírozási bevételek összesen | D29: =SUM(D21:D28) -> 9080507 | E29: =SUM(E21:E28) -> 13763565 | G29: Finanszírozási kiadások összesen | H29: =SUM(H21:H28) -> 209635 | I29: =SUM(I21:I28) -> 209635
A30: 25 | C30: ÖSSZES BEVÉTEL | D30: =SUM(D20,D29) -> 27706184 | E30: =SUM(E20,E29) -> 38679613 | G30: ÖSSZES KIADÁS | H30: =SUM(H20,H29) -> 27706184 | I30: =SUM(I20,I29) -> 38679613
A31: 26 | C31: Költségvetési egyenleg összege | D31: =+D20-H20 -> -8870872 | E31: =+E20-I20 -> -13553930
A32: 27 | C32: ebből működési: | D32: =+D13-H13 -> -288647 | E32: =+E13-I13 -> -1917539
A33: 28 | C33: ebből felhalmozási: | D33: =+D19-H19 -> -8582225 | E33: =+E19-I19 -> -11636391
A34: 29 | C34: Finanszírozási kiadásokkal korrigált hiány összege | D34: =+D31-H29 -> -9080507 | E34: =+E31-I29 -> -13763565
A35: 30 | C35: Hiány finanszírozása belső finanszírozásra szolgáló költségvetési bevétel összegével | D35: =D28+D23 -> 8404019 | E35: =E28+E23 -> 13087077
A36: 31 | C36: Hiány finanszírozása külső finanszírozásra szolgáló költségvetési bevétel összegével | D36: =D26 -> 676488 | E36: =E26 -> 676488
A37: 32 | C37: Működési bevételek aránya %-ban | D37: =(D13+D22+D23+D24)/D30 -> 0.51589443 | E37: =(E13+E22+E23+E24)/E30 -> 0.44982164 | G37: Működési kiadások aránya %-ban | H37: =(H13+H22+H23)/H30 -> 0.48228237 | I37: =(I13+I22+I23)/I30 -> 0.4274231
A38: 33 | C38: Felhalmozási bevételek aránya %-ban | D38: =(D19+D26+D27+D28)/D30 -> 0.48410557 | E38: =(E19+E26+E27+E28)/E30 -> 0.55017836 | G38: Felhalmozási kiadások aránya %-ban | H38: =(H19+H26+H27)/H30 -> 0.51771763 | I38: =(I19+I26+I27)/I30 -> 0.5725769

Sheet 10.Létszám
B1: 10. melléklet a .../2019. (…….) önkormányzati rendelethez
C2: KIMUTATÁS
B3: a 2019. évi engedélyezett létszámról - 2019. december
B4: A | C4: B | D4: C | E4: D | F4: E | G4: F
B5: Cím | C5: Megnevezés | D5: 2019. évi engedélyezett létszám | E5: Módosítás | F5: 2019. évi engedélyezett létszám | G5: Megjegyzés
A6: 1 | B6: 1 | C6: Veszprémi Vadvirág Körzeti Óvoda | D6: 38 | F6: =SUM(D6:E6) -> 38
A7: 2 | C7: Közfoglalkoztatottak létszáma | D7: 0 | F7: =SUM(D7:E7) -> 0
A8: 3 | B8: 2 | C8: Veszprémi Bóbita Körzeti Óvoda | D8: 70 | F8: =SUM(D8:E8) -> 70
A9: 4 | C9: Közfoglalkoztatottak létszáma | D9: 0 | F9: =SUM(D9:E9) -> 0
A10: 5 | B10: 3 | C10: Veszprémi Ringató Körzeti Óvoda | D10: 83.5 | F10: =SUM(D10:E10) -> 83.5
A11: 6 | C11: Közfoglalkoztatottak létszáma | D11: 0 | F11: =SUM(D11:E11) -> 0
A12: 7 | B12: 4 | C12: Veszprémi Egry úti Körzeti Óvoda | D12: 60 | F12: =SUM(D12:E12) -> 60
A13: 8 | C13: Közfoglalkoztatottak létszáma | D13: 0 | F13: =SUM(D13:E13) -> 0
A14: 9 | B14: 5 | C14: Veszprémi Csillag úti Körzeti Óvoda | D14: 61.5 | F14: =SUM(D14:E14) -> 61.5
A15: 10 | C15: Közfoglalkoztatottak létszáma | D15: 0 | F15: =SUM(D15:E15) -> 0
A16: 11 | B16: 6 | C16: Veszprémi Kastélykert Körzeti Óvoda | D16: 32.5 | F16: =SUM(D16:E16) -> 32.5
A17: 12 | C17: Közfoglalkoztatottak létszáma | D17: 2 | F17: =SUM(D17:E17) -> 2
A18: 13 | B18: 7 | C18: Veszprémi Bölcsődei és Egészségügyi Alapellátási Integrált Intézmény | D18: 205 | F18: =SUM(D18:E18) -> 205
A19: 14 | C19: Közfoglalkoztatottak létszáma | D19: 0 | F19: =SUM(D19:E19) -> 0
A20: 15 | B20: 8 | C20: Göllesz Viktor Fogyatékos Személyek Nappali Intézménye | D20: 13.25 | F20: =SUM(D20:E20) -> 13.25
A21: 16 | C21: Közfoglalkoztatottak létszáma | D21: 0 | F21: =SUM(D21:E21) -> 0
A22: 17 | B22: 9 | C22: Veszprémi Családsegítő és Gyermekjóléti Integrált Intézmény | D22: 63 | F22: =SUM(D22:E22) -> 63
A23: 18 | C23: Közfoglalkoztatottak létszáma | D23: 0.16 | F23: =SUM(D23:E23) -> 0.16
A24: 19 | B24: 10 | C24: Agóra Veszprém Kulturális Központ | D24: 24.25 | F24: =SUM(D24:E24) -> 24.25
A25: 20 | B25: 11 | C25: Művészetek Háza Veszprém Művelődési Ház és Kiállítóhely | D25: 22 | F25: =SUM(D25:E25) -> 22
A26: 21 | B26: 12 | C26: Eötvös Károly Megyei Könyvtár | D26: 51.5 | F26: =SUM(D26:E26) -> 51.5
A27: 22 | C27: Közfoglalkoztatottak létszáma | D27: 0 | F27: =SUM(D27:E27) -> 0
A28: 23 | B28: 13 | C28: Laczkó Dezső Múzeum | D28: 53 | F28: =SUM(D28:E28) -> 53
A29: 24 | C29: Közfoglalkoztatottak létszáma | D29: 0 | F29: =SUM(D29:E29) -> 0
A30: 25 | C30: határozott idejű foglalkozatottak létszáma (2019. március 1 - 2019. december 31-i) | D30: 4 | F30: =SUM(D30:E30) -> 4
A31: 26 | C31: határozott idejű foglalkozatottak létszáma (2019. január 1 - 2019. február 28-i) | D31: 6 | F31: =SUM(D31:E31) -> 6
A32: 27 | B32: 14 | C32: Kabóca Bábszínház | D32: 20.5 | F32: =SUM(D32:E32) -> 20.5
A33: 28 | C33: Közfoglalkoztatottak létszáma | D33: 1.75 | F33: =SUM(D33:E33) -> 1.75
A34: 29 | B34: 15 | C34: Veszprémi Petőfi Színház | D34: 102 | F34: =SUM(D34:E34) -> 102
A35: 30 | C35: Közfoglalkoztatottak létszáma | D35: 0 | F35: =SUM(D35:E35) -> 0
A36: 31 | B36: 16 | C36: Veszprémi Intézményi Szolgáltató Szervezet | D36: 53.25 | F36: =SUM(D36:E36) -> 53.25
A37: 32 | C37: Intézmények összesen: | D37: =SUM(D6:D36) -> 967.16 | E37: =SUM(E6:E36) -> 0 | F37: =SUM(F6:F36) -> 967.16
A38: 33 | B38: 17 | C38: VMJV Polgármesteri Hivatal (2019. május 1-től - 1 fő 36 hónapra, 1 fő 18 hónapra) | D38: 200 | F38: =D38+E38 -> 200
A39: 34 | B39: 18 | C39: VMJV Önkormányzata
A40: 35 | C40: Polgármester, Alpolgármesterek | D40: 3 | F40: =D40+E40 -> 3
...

Sheet 11.Beruh. hitel
B1: 11. melléklet a ….../2019 (…….) önkormányzati rendelethez
B3: Veszprém Megyei Jogú Város Önkormányzatának 2019. évi
B4: hitelszerződésen alapuló beruházási hitelfelvétele feladatonként
