Workbook
Name _4._sz._sor_részletezése: #REF!
Name _4._sz._sor_részletezése: #REF!
Name _4._sz._sor_részletezése: #REF!
Name _4._sz._sor_részletezése: #REF!
Name _4._sz._sor_részletezése: #REF!

Sheet Összefoglaló 
B1: ÖSSZEFOGLALÓ TÁBLA
B2: a bevételi és kiadási előirányzatok módosításáról
B3: 2019. december hó
E4: adatok eFt-ban
D5: A | E5: B
D6: Megnevezés | E6: Összesen
A7: 1 | B7: I. | D7: BEVÉTELEK
A8: 2 | C8: 1. | D8: Helyi önkormányzatok általános működéséhez és ágazati feladataihoz kapcsolódó támogatás
A9: 3 | D9: Kulturális illetmény pótlék (2019. október hó) | E9: 5261
A10: 4 | D10: Szociális ágazati összevont pótlék (2019. október hó) | E10: 9899
A11: 5 | D11: Szociális ágazatban foglalkoztatottak egészségügyi kiegészítő pótléka (2019. október hó) | E11: 253
A12: 6 | D12: Bérkompenzáció (2019. október hó) | E12: 945
A13: 7 | D13: Összesen | E13: =SUM(E9:E12) -> 16358
A14: 8 | C14: 2. | D14: Egyéb működési célú támogatások
A15: 9 | D15: Nagyvázsony Önkormányzat - családsegítő és gyermekjóléti feladatok 2018. évi hozzájárulása | E15: 1284
A16: 10 | D16: Összesen | E16: =SUM(E15:E15) -> 1284
A17: 11 | C17: 3. | D17: Önkormányzati Intézmények működési célú támogatások Áht-on belülről
A18: 12 | D18: Agóra Veszprémi Kulturális Központ - NKA pályázati támogatás "Örök Pódium" | E18: 400
A19: 13 | D19: Művészetek Háza Veszprém Művelődési Ház és Kiállítóhely - NKA pályázati előirányzat rendezés | E19: -2900
A20: 14 | D20: Kabóca Bábszínház - átcsoportosítás | E20: -725
A21: 15 | D21: Veszprémi Petőfi Színház - NKA, EMMI pályázati támogatások | E21: 62572
A22: 16 | D22: Összesen | E22: =SUM(E18:E21) -> 59347
A23: 17 | C23: 4. | D23: Önkormányzati intézmények működési bevételei
A24: 18 | D24: Laczkó Dezső Múzeum - régészeti és egyéb többlet bevétel | E24: 32200
A25: 19 | D25: Veszprémi Petőfi Színház - készletértékesítés és szolgáltatások bevétele | E25: 40842
A26: 20 | D26: Összesen | E26: =SUM(E24:E25) -> 73042
A27: 21 | C27: 5. | D27: Önkormányzati intézmények működési célú átvett pénzeszközei
A28: 22 | D28: Eötvös Károly Megyei Könyvtár - Amerikai Kuckó támogatása | E28: 18
A29: 23 | D29: Összesen | E29: =SUM(E28:E28) -> 18
A30: 24 | C30: 6. | D30: Felhalmozási célú önkormányzati támogatások
A31: 25 | D31: EMMI - Járásszékhely múzeumok szakmai támogatása pályázat | E31: 3900
A32: 26 | D32: EMMI - Kubinyi Ágoston Program pályázat | E32: 2000
A33: 27 | D33: Közművelődési érdekeltségnövelő támogatás | E33: 556
A34: 28 | D34: Összesen | E34: =SUM(E31:E33) -> 6456
A35: 29 | C35: 7. | D35: Önkormányzati Intézmények felhalmozási célú támogatásai Áht-on belülről
A36: 30 | D36: Kabóca Bábszínház
A37: 31 | D37: átcsoportosítás | E37: 725
A38: 32 | D38: NKA pályázati támogatás | E38: 2275
A39: 33 | D39: Összesen | E39: =SUM(E37:E38) -> 3000
A40: 34 | B40: I. | D40: BEVÉTELEK ÖSSZESEN: | E40: =E22+E13+E34+E26+E39+E29+E16 -> 159505
A41: 35 | B41: II. | D41: KIADÁSOK
A42: 36 | C42: 1. | D42: VMJV Önkormányzat működési kiadások
A43: 37 | D43: Ágazati feladatokhoz kapott támogatásokból, bevételi többletből, feladatok közötti átcsoportosításból
A44: 38 | D44: Veszprémi Kistérségi Társulásnak pénzeszköz átadás (ESZI)
A45: 39 | D45: Szociális ágazati összevont pótlék (2019. október hó) | E45: 4064
A46: 40 | D46: Egészségügyi kiegészítő pótlék (2019. október hó) | E46: 253
A47: 41 | D47: Bérkompenzáció (2019. október hó) | E47: 121
A48: 42 | D48: MVP Veszprémi Atlétikai Stadion felújítása, fejlesztése - Részletes Megvalósíthatósági tanulmány készítése | E48: 3039
A49: 43 | D49: I. Világháborús Centenáriumi Emlékezés költségei
A50: 44 | D50: átcsoportosítás Laczkó Dezső Múzeumtól - Vörösök, fehérek és románok Veszprémben 1919-ben - meghiúsult kiállítás | E50: 300
A51: 45 | D51: Polgármesteri keret
A52: 46 | D52: átcsoportosítás személyi kiadásokról 11 eFt, munkaad.terh.jár. és szoc.hoz adóról 4 eFt. | E52: -15
A53: 47 | D53: dologi kiadásokra | E53: 15
A54: 48 | D54: Városi rendezvények
A55: 49 | D55: átcsoportosítás dologi kiadásokról | E55: -100
A56: 50 | D56: személyi kiadásokra 50 eFt, munkaad.terh. jár és szoc.hoz adóra 50 eFt | E56: 100
A57: 51 | D57: Eseti rendezvények
A58: 52 | D58: átcsoportosítás dologi kiadásokról | E58: -450
A59: 53 | D59: személyi kiadásokra 350 eFt, munkaad.terh. jár és szoc.hoz adóra 100 eFt | E59: 450
A60: 54 | D60: átcsoportosítás Agóra VKK-nak - deportáltak megemlékezés hangosítására | E60: -12
A61: 55 | D61: átcsoportosítás Fiatalok napja rendezvényre | E61: -57
A62: 56 | D62: Fiatalok napja rendezvény
A63: 57 | D63: átcsoportosítás dologi kiadásokról | E63: -887
A64: 58 | D64: személyi kiadásokra 665 eFt, munkaad.terh. jár és szoc.hoz adóra 279 eFt | E64: 944
A65: 59 | D65: Veszprém Stadion gázellátása | E65: 362
A66: 60 | D66: Hősök kapuja, Vár u. 2. tetőterasz beázás és falak felszívódó nedvesség elleni szigetelése | E66: -362
A67: 61 | D67: MVP Kittenberger Kálmán Növény- és Vadaspark fejlesztése és bővítése | E67: 200
A68: 62 | D68: MVP Veszprémi Petőfi Színház komplex fejlesztése | E68: 232
A69: 63 | D69: MVP Iparos Park kialakítása | E69: 2000
A70: 64 | D70: Városgazdálkodási szolgáltatás
A71: 65 | D71: átcsoportosítás beruházási kiadásokról | E71: 200
A72: 66 | D72: átcsoportosítás dologi kiadásokról zöldfelületi stratégia készítése feladatokra | E72: -102
A73: 67 | D73: Közterület Felügyelet, gyepmesteri telep - átcsoportosítás beruházási feladatokra | E73: -120
A74: 68 | D74: TÁMOP-3.1.3-11/2-2012-0061 "Természettudományos közoktatási laboratórium kialakítása a veszprémi Ipari Szakközépiskola és Gimnáziumban" | E74: 500
A75: 69 | D75: Infrastruktúra fejlesztési feladatokhoz kapcsolódó kiadások
A76: 70 | D76: átcsoportosítás dologi kiadásokra | E76: =-44+2286 -> 2242
A77: 71 | D77: munkaadót terhelő járulék és szociális hozzájárulási adóra | E77: 44
A78: 72 | D78: Nemzetközi kapcsolatok
A79: 73 | D79: átcsoportosítás dologi kiadásokról | E79: -140
A80: 74 | D80: munkaadót terhelő járulék és szociális hozzájárulási adóra | E80: 140
A81: 75 | D81: Hatósági engedélyek beszerzése, hatályban tartása | E81: -3986
A82: 76 | D82: TOP-6.6.1-16-VP1-2018-0003 "Jutasi u. 59. sz. alatti orvosi rendelők megújítása" | E82: -40
A83: 77 | D83: Sportcélok és feladatok
A84: 78 | D84: átcsoportosítás dologi kiadásokról | E84: -59
A85: 79 | D85: személyi kiadásokra 40 eFt, munkaad.terh.jár. és szoc.hoz adóra 29 eFt. | E85: 59
A86: 80 | D86: Zöldfelületi stratégia készítése, külső szakértők díjazása
A87: 81 | D87: átcsoportosítás dologi kiadásokról | E87: -649
A88: 82 | D88: személyi kiadásokra | E88: 649
A89: 83 | D89: munkaadót terhelő járulék és szociális hozzájárulási adóra | E89: 102
A90: 84 | D90: Fiatalok napja rendezvény
A91: 85 | D91: átcsoportosítás dologi kiadásokról | E91: -944
A92: 86 | D92: személyi kiadásokra 665 eFt, munkaad.terh.jár. és szoc.hoz adóra 279 eFt. | E92: 944
A93: 87 | D93: Veszprém, Pápai út 37. szám alatti ingatlanon munkásszállás kialakítása | E93: 508
A94: 88 | D94: Bevételi többletből, feladatok közötti átcsoportosításból összesen | E94: =SUM(E45:E93) -> 9545
A95: 89 | D95: VMJV Önkormányzata működési kiadás összesen | E95: =E94 -> 9545
A96: 90 | C96: 2. | D96: Felhalmozási kiadások
A97: 91 | D97: Beruházási kiadások -bevételi források változásából adódóan, valamint feladatok közötti átcsoportosításból
A98: 92 | D98: Járásszékhely múzeumok szakmai támogatása pályázat | E98: 3900
A99: 93 | D99: Kubinyi Ágoston Program pályázat | E99: 2000
A100: 94 | D100: Veszprém Stadion gázellátása | E100: 2396
...

Sheet 1.Onbe
B1: 1. melléklet a 30/2019. (XII.12.) önkormányzati rendelethez
B2: Veszprém Megyei Jogú Város Önkormányzatának
B3: 2019. évi költségvetési bevételeinek módosítása - 2019. december
M4: adatok eFt-ban
B5: A | C5: B | D5: C | E5: D | F5: E | G5: F | H5: G | I5: H | J5: I | K5: J | L5: K | M5: L
B6: Cím | C6: Alcím | D6: Előir. csop. szám | E6: Kie-melt előir. szám | F6: Megnevezés | G6: 2017. évi tény | H6: 2018. évi eredeti előirányzat | I6: 2018. évi tény | J6: 2019. évi eredeti előirányzat | K6: 2019. évi módosított előirányzat 5. | L6: Módosítás | M6: 2019. évi módosított előirányzat 6.
A7: 1 | D7: 1 | F7: Működési költségvetési bevételek | G7: =SUM(G8,G15,G25,G31,G32,G14,G30) -> 12957199 | H7: =SUM(H8,H15,H25,H31,H32,H14,H30) -> 12105550 | I7: =SUM(I8,I15,I25,I31,I32,I14,I30) -> 14062643 | J7: =SUM(J8,J15,J25,J31,J32,J14,J30) -> 12977517 | K7: =SUM(K8,K15,K25,K31,K32,K14,K30) -> 14368932 | L7: =SUM(L8,L15,L25,L31,L32,L14,L30) -> 150049 | M7: =SUM(M8,M15,M25,M31,M32,M14,M30) -> 14518981
A8: 2 | B8: 18 | E8: 1 | F8: Működési célú támogatások Áht-on belülről | G8: =SUM(G9,G12:G12) -> 3469686 | H8: =SUM(H9,H12:H12) -> 3257505 | I8: =SUM(I9,I12:I12) -> 3706565 | J8: =SUM(J9,J12:J12) -> 3419289 | K8: =SUM(K9,K12:K12) -> 4475077 | L8: =SUM(L9,L12:L12) -> 17642 | M8: =SUM(M9,M12:M12) -> 4492719
A9: 3 | F9: Önkormányzatok működési támogatásai | G9: =SUM(G10:G11) -> 3090134 | H9: =SUM(H10:H11) -> 2929761 | I9: =SUM(I10:I11) -> 3341151 | J9: =SUM(J10:J11) -> 3194545 | K9: =SUM(K10:K11) -> 3527476 | L9: =SUM(L10:L11) -> 16358 | M9: =SUM(M10:M11) -> 3543834
A10: 4 | F10: Helyi önkormányzatok működésének általános és ágazati feladataihoz kapcsolódó támogatás | G10: 2986827 | H10: 2929761 | I10: 3286398 | J10: 3194545 | K10: 3497336 | L10: 16358 | M10: =SUM(K10:L10) -> 3513694
A11: 5 | F11: Működési célú költségvetési támogatások és kiegészítő támogatások | G11: 103307 | I11: 54753 | K11: 30140 | M11: =SUM(K11:L11) -> 30140
A12: 6 | F12: Egyéb működési célú támogatások bevételei | G12: 379552 | H12: 327744 | I12: 365414 | J12: 224744 | K12: 947601 | L12: 1284 | M12: =SUM(K12:L12) -> 948885
A13: 7 | F13: ebből: Társadalombizt. Alapból származó támogatás | G13: 140289 | H13: 151000 | I13: 148540 | J13: 147600 | K13: 158410 | M13: =SUM(K13:L13) -> 158410
A14: 8 | B14: 1-17 | E14: 2 | F14: Önkormányzati Intézmények működési célú támogatások Áht-on belülről | G14: 190782 | H14: 155331 | I14: 216590 | J14: 117496 | K14: 334554 | L14: 59347 | M14: =SUM(K14:L14) -> 393901
A15: 9 | B15: 18 | E15: 3 | F15: Közhatalmi bevételek | G15: =SUM(G16,G24:G24) -> 7624249 | H15: =SUM(H16,H24:H24) -> 7128500 | I15: =SUM(I16,I24:I24) -> 8049548 | J15: =SUM(J16,J24:J24) -> 7765600 | K15: =SUM(K16,K24:K24) -> 7765600 | L15: =SUM(L16,L24:L24) -> 0 | M15: =SUM(M16,M24:M24) -> 7765600
A16: 10 | F16: Adók | G16: =SUM(G17:G23) -> 7606629 | H16: =SUM(H17:H23) -> 7128000 | I16: =SUM(I17:I23) -> 8043412 | J16: =SUM(J17:J23) -> 7760000 | K16: =SUM(K17:K23) -> 7760000 | L16: =SUM(L17:L23) -> 0 | M16: =SUM(M17:M23) -> 7760000
A17: 11 | F17: Építményadó | G17: 1435111 | H17: 1250000 | I17: 1300333 | J17: 1300000 | K17: 1300000 | M17: =SUM(K17:L17) -> 1300000
A18: 12 | F18: Idegenforgalmi adó | G18: 46098 | H18: 40000 | I18: 44141 | J18: 45000 | K18: 45000 | M18: =SUM(K18:L18) -> 45000
A19: 13 | F19: Kommunális adó | G19: 145905 | H19: 138000 | I19: 143422 | J19: 145000 | K19: 145000 | M19: =SUM(K19:L19) -> 145000
A20: 14 | F20: Telekadó | G20: 111756 | H20: 95000 | I20: 95735 | J20: 95000 | K20: 95000 | M20: =SUM(K20:L20) -> 95000
A21: 15 | F21: Iparűzési adó | G21: 5584394 | H21: 5400000 | I21: 6222826 | J21: 5950000 | K21: 5950000 | M21: =SUM(K21:L21) -> 5950000
A22: 16 | F22: Gépjárműadó | G22: 209256 | H22: 200000 | I22: 215843 | J22: 210000 | K22: 210000 | M22: =SUM(K22:L22) -> 210000
A23: 17 | F23: Egyéb pótlékok, bírságok | G23: 74109 | H23: 5000 | I23: 21112 | J23: 15000 | K23: 15000 | M23: =SUM(K23:L23) -> 15000
A24: 18 | F24: Egyéb közhatalmi bevételek (bírságok, igazgatási szolgáltatási díjak) | G24: 17620 | H24: 500 | I24: 6136 | J24: 5600 | K24: 5600 | M24: =SUM(K24:L24) -> 5600
A25: 19 | B25: 18 | E25: 4 | F25: Működési bevételek | G25: =SUM(G26:G29) -> 774567 | H25: =SUM(H26:H29) -> 725000 | I25: =SUM(I26:I29) -> 1035546 | J25: =SUM(J26:J29) -> 765238 | K25: =SUM(K26:K29) -> 827968 | L25: =SUM(L26:L29) -> 0 | M25: =SUM(M26:M29) -> 827968
A26: 20 | F26: Szolgáltatások, közvetített szolgáltatások ellenértéke | G26: 334282 | H26: 345000 | I26: 319006 | J26: 367526 | K26: 287073 | M26: =SUM(K26:L26) -> 287073
A27: 21 | F27: Tulajdonosi bevételek | G27: 189655 | H27: 192000 | I27: 155541 | J27: 192783 | K27: 277610 | M27: =SUM(K27:L27) -> 277610
A28: 22 | F28: ÁFA bevételek és visszatérülések | G28: 163912 | H28: 188000 | I28: 490423 | J28: 204929 | K28: 255826 | M28: =SUM(K28:L28) -> 255826
A29: 23 | F29: Egyéb működési bevételek | G29: 86718 | I29: 70576 | K29: 7459 | M29: =SUM(K29:L29) -> 7459
A30: 24 | B30: 1-17 | E30: 5 | F30: Önkormányzati Intézmények működési bevételek | G30: 887056 | H30: 839214 | I30: 998980 | J30: 909894 | K30: 956710 | L30: 73042 | M30: =SUM(K30:L30) -> 1029752
A31: 25 | B31: 18 | E31: 6 | F31: Működési célú átvett pénzeszközök | G31: 4377 | I31: 41080 | K31: 2954 | M31: =SUM(K31:L31) -> 2954
A32: 26 | B32: 1-17 | E32: 7 | F32: Önkormányzati Intézmények működési célú átvett pénzeszközök | G32: 6482 | I32: 14334 | K32: 6069 | L32: 18 | M32: =SUM(K32:L32) -> 6087
A33: 27 | D33: 2 | F33: Felhalmozási költségvetési bevételek | G33: =SUM(G34,G38:G39,G42:G44) -> 3340220 | H33: =SUM(H34,H38:H39,H42:H44) -> 7712589 | I33: =SUM(I34,I38:I39,I42:I44) -> 12772481 | J33: =SUM(J34,J38:J39,J42:J44) -> 5648160 | K33: =SUM(K34,K38:K39,K42:K44) -> 10387611 | L33: =SUM(L34,L38:L39,L42:L44) -> 9456 | M33: =SUM(M34,M38:M39,M42:M44) -> 10397067
A34: 28 | E34: 8 | F34: Felhalmozási célú támogatások Áht-on belülről | G34: =SUM(G35,G37) -> 2353026 | H34: =SUM(H35,H37) -> 7497589 | I34: =SUM(I35,I37) -> 12588575 | J34: =SUM(J35,J37) -> 5270260 | K34: =SUM(K35,K37) -> 9446326 | L34: =SUM(L35,L37) -> 6456 | M34: =SUM(M35,M37) -> 9452782
A35: 29 | B35: 18 | F35: Felhalmozási célú önkormányzati támogatások | G35: =+G36 -> 728440 | H35: =+H36 -> 723000 | I35: =+I36 -> 4325400 | K35: =+K36 -> 0 | L35: =+L36 -> 6456 | M35: =+M36 -> 6456
A36: 30 | F36: Vis maior, Egyéb felhalmozási célú támogatás | G36: 728440 | H36: 723000 | I36: 4325400 | L36: 6456 | M36: =SUM(K36:L36) -> 6456
A37: 31 | B37: 18 | F37: Egyéb felhalmozási célú támogatások bevételei | G37: 1624586 | H37: 6774589 | I37: 8263175 | J37: 5270260 | K37: 9446326 | M37: =SUM(K37:L37) -> 9446326
A38: 32 | B38: 1-17 | E38: 9 | F38: Önkormányzati Intézmények felhalmozási célú támogatások Áht-on belülről | G38: 3078 | I38: 40469 | J38: 2900 | K38: 11183 | L38: 3000 | M38: =SUM(K38:L38) -> 14183
A39: 33 | B39: 18 | E39: 10 | F39: Felhalmozási bevételek | G39: =SUM(G40:G41) -> 982437 | H39: =SUM(H40:H41) -> 185000 | I39: =SUM(I40:I41) -> 136583 | J39: =SUM(J40:J41) -> 225000 | K39: =SUM(K40:K41) -> 299400 | L39: =SUM(L40:L41) -> 0 | M39: =SUM(M40:M41) -> 299400
A40: 34 | F40: Ingatlanok értékesítése | G40: 982437 | H40: 170000 | I40: 136583 | J40: 225000 | K40: 299400 | M40: =SUM(K40:L40) -> 299400
A41: 35 | F41: Tárgyi eszközök értékesítés | H41: 15000
A42: 36 | E42: 11 | F42: Önkormányzati Intézmények felhalmozási bevételei | G42: 165 | I42: 957 | K42: 3000 | M42: =SUM(K42:L42) -> 3000
A43: 37 | B43: 18 | E43: 12 | F43: Felhalmozási célú átvett pénzeszközök | G43: 719 | H43: 30000 | I43: 5897 | J43: 150000 | K43: 627702 | M43: =SUM(K43:L43) -> 627702
A44: 38 | B44: 1-17 | E44: 13 | F44: Önkormányzati Intézmények felhalmozási célú átvett pénzeszközök | G44: 795
A45: 39 | B45: 18 | F45: Lakásalap | G45: =SUM(G46:G46) -> 0 | H45: =SUM(H46:H46) -> 0 | I45: =SUM(I46:I46) -> 700 | J45: =SUM(J46:J46) -> 0 | K45: =SUM(K46:K46) -> 0 | L45: =SUM(L46:L46) -> 0 | M45: =SUM(M46:M46) -> 0
A46: 40 | F46: Felhalmozási célú átvett pénzeszközök (kölcsönök visszatérülése) | I46: 700
A47: 41 | F47: Költségvetési bevételek összesen | G47: =SUM(G7,G33,G45) -> 16297419 | H47: =SUM(H7,H33,H45) -> 19818139 | I47: =SUM(I7,I33,I45) -> 26835824 | J47: =SUM(J7,J33,J45) -> 18625677 | K47: =SUM(K7,K33,K45) -> 24756543 | L47: =SUM(L7,L33,L45) -> 159505 | M47: =SUM(M7,M33,M45) -> 24916048
A48: 42 | F48: Költségvetési egyenleg összege | G48: =+G47-'2.Onki'!G33 -> 2729527 | H48: =+H47-'2.Onki'!H33 -> -2049654 | I48: =+I47-'2.Onki'!I33 -> 6257189 | J48: =+J47-'2.Onki'!J33 -> -8870872 | K48: =+K47-'2.Onki'!K33 -> -13553930 | L48: =+L47-'2.Onki'!L33 -> 0 | M48: =+M47-'2.Onki'!M33 -> -13553930
A49: 43 | E49: 14 | F49: Finanszírozási bevételek | G49: =SUM(G51,G60)+G50 -> 4365983 | H49: =SUM(H51,H60)+H50 -> 2252983 | I49: =SUM(I51,I60)+I50 -> 7032676 | J49: =SUM(J51,J60)+J50 -> 9080507 | K49: =SUM(K51,K60)+K50 -> 13763565 | L49: =SUM(L51,L60)+L50 -> 0 | M49: =SUM(M51,M60)+M50 -> 13763565
A50: 44 | D50: 1 | F50: Államháztartáson belüli megelőlegezések | G50: 125962 | I50: =101444+6062 -> 107506
A51: 45 | F51: Költségvetési hiány belső finanszírozására szolgáló bevételek | G51: =SUM(G52,G56) -> 4240021 | H51: =SUM(H52,H56) -> 2153983 | I51: =SUM(I52,I56) -> 6873658 | J51: =SUM(J52,J56) -> 8404019 | K51: =SUM(K52,K56) -> 13087077 | L51: =SUM(L52,L56) -> 0 | M51: =SUM(M52,M56) -> 13087077
A52: 46 | D52: 1 | F52: Működési célú költségvetési maradvány igénybevétele | G52: =SUM(G53:G55) -> 1445783 | H52: =SUM(H53:H55) -> 816136 | I52: =SUM(I53:I55) -> 1957723 | J52: =SUM(J53:J55) -> 1315949 | K52: =SUM(K53:K55) -> 2879946 | L52: =SUM(L53:L55) -> 0 | M52: =SUM(M53:M55) -> 2879946
A53: 47 | B53: 1-16 | F53: Intézmények | G53: 375129 | H53: 220402 | I53: 612577 | J53: 137936 | K53: 573305 | M53: =SUM(K53:L53) -> 573305
A54: 48 | B54: 17 | F54: VMJV Polgármesteri Hivatala | G54: 235809 | I54: 251672 | J54: 14861 | K54: 294771 | M54: =SUM(K54:L54) -> 294771
A55: 49 | B55: 18 | F55: VMJV Önkormányzata | G55: 834845 | H55: 595734 | I55: 1093474 | J55: 1163152 | K55: 2011870 | M55: =SUM(K55:L55) -> 2011870
A56: 50 | D56: 2 | F56: Felhalmozási célú költségvetési maradvány igénybevétele | G56: =SUM(G57:G59) -> 2794238 | H56: =H57+H59 -> 1337847 | I56: =SUM(I57:I59) -> 4915935 | J56: =SUM(J57:J59) -> 7088070 | K56: =SUM(K57:K59) -> 10207131 | L56: =SUM(L57:L59) -> 0 | M56: =SUM(M57:M59) -> 10207131
A57: 51 | B57: 1-16 | F57: Intézmények | G57: 36696 | I57: 48512 | J57: 58070 | K57: 127144 | M57: =SUM(K57:L57) -> 127144
A58: 52 | B58: 17 | F58: VMJV Polgármesteri Hivatala | G58: 5940 | I58: 16696 | K58: 24251 | M58: =SUM(K58:L58) -> 24251
A59: 53 | B59: 18 | F59: VMJV Önkormányzat | G59: 2751602 | H59: 1337847 | I59: 4850727 | J59: 7030000 | K59: 10055736 | M59: =SUM(K59:L59) -> 10055736
A60: 54 | F60: Költségvetési hiány külső finanszírozására szolgáló bevételek | G60: =SUM(G61:G63) -> 0 | H60: =SUM(H61:H63) -> 99000 | I60: =SUM(I61:I63) -> 51512 | J60: =SUM(J61:J63) -> 676488 | K60: =SUM(K61:K63) -> 676488 | L60: =SUM(L61:L63) -> 0 | M60: =SUM(M61:M63) -> 676488
A61: 55 | B61: 18 | D61: 2 | F61: Beruházási hitelfelvétel
A62: 56 | F62: Beruházási hitelfelvétel | J62: 629000 | K62: =475000+1000+153000 -> 629000 | M62: =SUM(K62:L62) -> 629000
A63: 57 | F63: Előző évi hitelszerződéseken alapuló felvétel | H63: 99000 | I63: 51512 | J63: 47488 | K63: 47488 | M63: =SUM(K63:L63) -> 47488
A64: 58 | F64: Bevételi főösszeg | G64: =SUM(G47,G49) -> 20663402 | H64: =SUM(H47,H49) -> 22071122 | I64: =SUM(I47,I49) -> 33868500 | J64: =SUM(J47,J49) -> 27706184 | K64: =SUM(K47,K49) -> 38520108 | L64: =SUM(L47,L49) -> 159505 | M64: =SUM(M47,M49) -> 38679613

Sheet 2.Onki
B1: 2. melléklet a 30/2019. (XII.12.) önkormányzati rendelethez
B2: Veszprém Megyei Jogú Város Önkormányzatának
B3: 2019. évi költségvetési kiadásainak módosítása - 2019. december
M4: adatok eFt-ban
B5: A | C5: B | D5: C | E5: D | F5: E | G5: F | H5: G | I5: H | J5: I | K5: J | L5: K | M5: L
B6: Cím | C6: Alcím | D6: Előir. csop. szám | E6: Kie-melt előir. szám | F6: Megnevezés | G6: 2017. évi tény | H6: 2018. évi eredeti előirányzat | I6: 2018. évi tény | J6: 2019. évi eredeti | K6: 2019. évi módosított előirányzat 5. | L6: Módosítás | M6: 2019. évi módosított előirányzat 6.
A7: 1 | B7: 1-17 | F7: Intézményi költségvetési kiadások | G7: =SUM(G8:G9) -> 6705548 | H7: =SUM(H8:H9) -> 7096344 | I7: =SUM(I8:I9) -> 7353582 | J7: =SUM(J8:J9) -> 7596089 | K7: =SUM(K8:K9) -> 8959091 | L7: =SUM(L8:L9) -> 149263 | M7: =SUM(M8:M9) -> 9108354
A8: 2 | D8: 1 | F8: Működési költségvetési kiadások | G8: 6573836 | H8: 7023169 | I8: 7197678 | J8: 7431316 | K8: 8609494 | L8: 129956 | M8: =SUM(K8:L8) -> 8739450
A9: 3 | D9: 2 | F9: Felhalmozási költségvetési kiadások | G9: =SUM(G10:G11) -> 131712 | H9: =SUM(H10:H11) -> 73175 | I9: =SUM(I10:I11) -> 155904 | J9: =SUM(J10:J11) -> 164773 | K9: =SUM(K10:K11) -> 349597 | L9: =SUM(L10:L11) -> 19307 | M9: =SUM(K9:L9) -> 368904
A10: 4 | E10: 1 | F10: Beruházási kiadások | G10: 131598 | H10: 73175 | I10: 155449 | J10: 164773 | K10: 346217 | L10: 19107 | M10: =SUM(K10:L10) -> 365324
A11: 5 | E11: 2 | F11: Felújítási kiadások | G11: 114 | I11: 455 | K11: 3380 | L11: 200 | M11: =SUM(K11:L11) -> 3580
A12: 6 | B12: 18 | F12: VMJV Önkormányzata | G12: =SUM(G13:G14,G25,G26) -> 6862305 | H12: =SUM(H13:H14,H25,H26) -> 14771449 | I12: =SUM(I13:I14,I25,I26) -> 13225053 | J12: =SUM(J13:J14,J25,J26) -> 19900460 | K12: =SUM(K13:K14,K25,K26) -> 29351382 | L12: =SUM(L13:L14,L25,L26) -> 10242 | M12: =SUM(M13:M14,M25,M26) -> 29361624
A13: 7 | D13: 1 | F13: Működési költségvetési kiadások | G13: 4573500 | H13: 4616792 | I13: 4718378 | J13: 5579739 | K13: 7686451 | L13: 9545 | M13: =SUM(K13:L13) -> 7695996
A14: 8 | F14: Céltartalékok | G14: =SUM(G15,G21) -> 0 | H14: =SUM(H15,H21) -> 400033 | I14: =SUM(I15,I21) -> 0 | J14: =SUM(J15,J21) -> 394518 | K14: =SUM(K15,K21) -> 406918 | L14: =SUM(L15,L21) -> -384 | M14: =SUM(M15,M21) -> 406534
A15: 9 | D15: 1 | F15: Működési célú céltartalékok | G15: =SUM(G16:G19) -> 0 | H15: =SUM(H16:H19) -> 152545 | I15: =SUM(I16:I20) -> 0 | J15: =SUM(J16:J19)+J20 -> 105109 | K15: =SUM(K16:K19)+K20 -> 1458 | L15: =SUM(L16:L20) -> -384 | M15: =SUM(M16:M20) -> 1074
A16: 10 | F16: - Felmentési idő, jub.jut., végkielégítés | H16: 110965 | J16: 76368 | K16: 1282 | L16: -384 | M16: =SUM(K16:L16) -> 898
A17: 11 | F17: - Választókerületi keret | H17: 24000 | J17: 24000 | K17: 176 | M17: =SUM(K17:L17) -> 176
A18: 12 | F18: - Intézményi beruházáshoz kapcsolódó létszámbővítés | H18: 17580 | J18: 4741 | K18: 0 | M18: =SUM(K18:L18) -> 0
A19: 13 | F19: - Működési kiadásokra képzett céltartalék | K19: 0 | M19: =SUM(K19:L19) -> 0
A20: 14 | F20: - 2018. évi adóbevételekkel szembeni kötelezettség | K20: 0 | M20: =SUM(K20:L20) -> 0
A21: 15 | D21: 2 | F21: Felhalmozási célú céltartalékok | G21: =SUM(G22:G24) -> 0 | H21: =SUM(H22:H24) -> 247488 | I21: =SUM(I22:I24) -> 0 | J21: =SUM(J22:J24) -> 289409 | K21: =SUM(K22:K24) -> 405460 | L21: =SUM(L22:L24) -> 0 | M21: =SUM(M22:M24) -> 405460
A22: 16 | F22: - Előző évi hitelszerződéshez kapcs. feladat | H22: 47488
A23: 17 | F23: - Beruházási kiadásokra képzett céltartalék | H23: 200000 | J23: 248370 | K23: 0 | M23: =SUM(K23:L23) -> 0
A24: 18 | F24: - Viziközmű fejlesztés | J24: 41039 | K24: 405460 | M24: =SUM(K24:L24) -> 405460
A25: 19 | F25: Általános tartalék | H25: 50000 | J25: 150000 | K25: 0 | M25: =SUM(K25:L25) -> 0
A26: 20 | D26: 2 | F26: Felhalmozási költségvetési kiadások | G26: =SUM(G27:G29) -> 2288805 | H26: =SUM(H27:H29) -> 9704624 | I26: =SUM(I27:I29) -> 8506675 | J26: =SUM(J27:J29) -> 13776203 | K26: =SUM(K27:K29) -> 21258013 | L26: =SUM(L27:L29) -> 1081 | M26: =SUM(M27:M29) -> 21259094
A27: 21 | E27: 1 | F27: Beruházási kiadások | G27: 1959718 | H27: 9249545 | I27: 7792799 | J27: 13014190 | K27: 20471232 | L27: 7376 | M27: =SUM(K27:L27) -> 20478608
A28: 22 | E28: 2 | F28: Egyéb felhalmozási célú kiadások | G28: 141526 | H28: 5630 | I28: 502120 | J28: 197022 | K28: 101216 | L28: -3039 | M28: =SUM(K28:L28) -> 98177
A29: 23 | E29: 3 | F29: Felújítási kiadások | G29: 187561 | H29: 449449 | I29: 211756 | J29: 564991 | K29: 685565 | L29: -3256 | M29: =SUM(K29:L29) -> 682309
A30: 24 | B30: 18 | F30: Lakásalap kiadása | G30: =SUM(G31:G32) -> 39 | H30: =SUM(H31:H32) -> 0 | I30: =SUM(I31:I32) -> 0 | J30: =SUM(J31:J32) -> 0 | K30: =SUM(K31:K32) -> 0 | L30: =SUM(L31:L32) -> 0 | M30: =SUM(M31:M32) -> 0
A31: 25 | D31: 1 | F31: Működési költségvetési kiadások | G31: 39
A32: 26 | D32: 2 | F32: Felhalmozási költségvetési kiadások
A33: 27 | F33: Költségvetési kiadások összesen | G33: =SUM(G7,G12,G30) -> 13567892 | H33: =SUM(H7,H12,H30) -> 21867793 | I33: =SUM(I7,I12,I30) -> 20578635 | J33: =SUM(J7,J12,J30) -> 27496549 | K33: =SUM(K7,K12,K30) -> 38310473 | L33: =SUM(L7,L12,L30) -> 159505 | M33: =SUM(M7,M12,M30) -> 38469978
A34: 28 | B34: 18 | F34: Finanszírozási kiadások | G34: =SUM(G38:G39,G35:G36) -> 221852 | H34: =SUM(H38:H39,H35:H36) -> 203329 | I34: =SUM(I38:I39,I35:I36) -> 215713 | J34: =SUM(J38:J39,J35:J36) -> 209635 | K34: =SUM(K38:K39,K35:K36) -> 209635 | M34: =SUM(K34:L34) -> 209635
A35: 29 | D35: 1 | F35: Működési finanszírozási kiadások
A36: 30 | D36: 1 | F36: Államháztartáson belüli megelőlegezések visszafizetése | G36: 116478 | H36: 95734 | I36: 108118 | J36: 96040 | K36: 96040 | M36: =SUM(K36:L36) -> 96040
A37: 31 | D37: 2 | F37: Felhalmozási finanszírozási kiadások
A38: 32 | F38: - Hiteltörlesztés | G38: 105374 | H38: 107595 | I38: 107595 | J38: 113595 | K38: 113595 | M38: =SUM(K38:L38) -> 113595
A39: 33 | F39: - Lakásalap hiteltörlesztése
A40: 34 | F40: Kiadási főösszeg | G40: =SUM(G33:G34) -> 13789744 | H40: =SUM(H33:H34) -> 22071122 | I40: =SUM(I33:I34) -> 20794348 | J40: =SUM(J33:J34) -> 27706184 | K40: =SUM(K33:K34) -> 38520108 | L40: =SUM(L33:L34) -> 159505 | M40: =SUM(M33:M34) -> 38679613
G41: =+'1.Onbe'!G64-'2.Onki'!G40 -> 6873658 | H41: =+'1.Onbe'!H64-'2.Onki'!H40 -> 0 | I41: =+'1.Onbe'!I64-'2.Onki'!I40 -> 13074152 | K41: =+'1.Onbe'!K64-'2.Onki'!K40 -> 0 | L41: =+'1.Onbe'!L64-'2.Onki'!L40 -> 0 | M41: =+'1.Onbe'!M64-'2.Onki'!M40 -> 0

Sheet 3.Inbe
B1: 3. melléklet a 30/2019. (XII.12.) önkormányzati rendelethez
B2: Veszprém Megyei Jogú Város Önkormányzata Intézményei
B3: 2019. évi költségvetési bevételeinek módosítása - 2019. december
M4: adatok eFt-ban
B5: A | C5: B | D5: C | E5: D | F5: E | G5: F | H5: G | I5: H | J5: I | K5: J | L5: K | M5: L | N5: M
B6: Cím | C6: Alcím | D6: Megnevezés | E6: Működési költségvetési bevételek | H6: Felhalmozási költségvetési bevételek | K6: Előző évi költségvetési maradvány | L6: Irányító szervtől kapott támogatás | N6: Bevételek összesen
E7: Működési bevételek | F7: Működési célú támogatás Áht-on belülről | G7: Működési célú átvett pénzeszköz | H7: Felhalmozási bevétel | I7: Felhalmozási célú támogatás Áht.-on belülről | J7: Felhalmozási célú átvett pénzeszköz | L7: Összesen | M7: Ebből: költségvetési támogatás
A8: 1 | B8: 1 | D8: Veszprémi Vadvirág Körzeti Óvoda
A9: 2 | D9: (Csillagvár Waldorf Tagóvoda, Vadvirág Óvoda)
A10: 3 | D10: eredeti előirányzat | E10: 4458 | L10: 204935 | M10: 138149 | N10: =SUM(E10:L10) -> 209393
A11: 4 | D11: módosított előirányzat 5. | E11: 4458 | K11: 4819 | L11: 209631 | M11: 139106 | N11: =SUM(E11:L11) -> 218908
A12: 5 | D12: módosítás- bérkompenzáció (2019. október hó) | L12: 4 | M12: 4 | N12: =SUM(E12:L12) -> 4
A13: 6 | D13: minimálbér és garantált bérminimum emelésével kapcs.támogatás | M13: 3256 | N13: =SUM(E13:L13) -> 0
A14: 7 | D14: módosított előirányzat 6. | E14: =SUM(E11:E13) -> 4458 | K14: =SUM(K11:K13) -> 4819 | L14: =SUM(L11:L13) -> 209635 | M14: =SUM(M11:M13) -> 142366 | N14: =SUM(E14:L14) -> 218912
A15: 8 | B15: 2 | D15: Veszprémi Bóbita Körzeti Óvoda
A16: 9 | D16: (Hársfa Tagóvoda, Bóbita Óvoda)
A17: 10 | D17: eredeti előirányzat | E17: 10813 | L17: 345515 | M17: 259748 | N17: =SUM(E17:L17) -> 356328
A18: 11 | D18: módosított előirányzat 5. | E18: 10813 | K18: 22828 | L18: 355571 | M18: 258902 | N18: =SUM(E18:L18) -> 389212
A19: 12 | D19: módosítás- bérkompenzáció (2019. október hó) | L19: 14 | M19: 14 | N19: =SUM(E19:L19) -> 14
A20: 13 | D20: minimálbér és garantált bérminimum emelésével kapcs.támogatás | M20: 5024 | N20: =SUM(E20:L20) -> 0
A21: 14 | D21: módosított előirányzat 6. | E21: =SUM(E18:E20) -> 10813 | K21: =SUM(K18:K20) -> 22828 | L21: =SUM(L18:L20) -> 355585 | M21: =SUM(M18:M20) -> 263940 | N21: =SUM(E21:L21) -> 389226
A22: 15 | B22: 3 | D22: Veszprémi Ringató Körzeti Óvoda
A23: 16 | D23: (Ringató Óvoda, Erdei Tagóvoda, Kuckó Tagóvoda)
A24: 17 | D24: eredeti előirányzat | E24: 17490 | L24: 407750 | M24: 346182 | N24: =SUM(E24:L24) -> 425240
A25: 18 | D25: módosított előirányzat 5. | E25: 18133 | K25: 10575 | L25: 419744 | M25: 348623 | N25: =SUM(E25:L25) -> 448452
A26: 19 | D26: minimálbér és garantált bérminimum emelésével kapcs.támogatás | M26: 6346 | N26: =SUM(E26:L26) -> 0
A27: 20 | D27: módosított előirányzat 6. | E27: =SUM(E25:E26) -> 18133 | K27: =SUM(K25:K26) -> 10575 | L27: =SUM(L25:L26) -> 419744 | M27: =SUM(M25:M26) -> 354969 | N27: =SUM(E27:L27) -> 448452
A28: 21 | B28: 4 | D28: Veszprémi Egry úti Körzeti Óvoda
A29: 22 | D29: (Egry ltp. Óvoda, Nárcisz Tagóvoda)
A30: 23 | D30: eredeti előirányzat | E30: 13993 | L30: 296535 | M30: 239376 | N30: =SUM(E30:L30) -> 310528
A31: 24 | D31: módosított előirányzat 5. | E31: 11639 | F31: 200 | G31: 30 | K31: 26421 | L31: 299946 | M31: 239890 | N31: =SUM(E31:L31) -> 338236
A32: 25 | D32: módosítás- bérkompenzáció (2019. október hó) | L32: 2 | M32: 2 | N32: =SUM(E32:L32) -> 2
A33: 26 | D33: minimálbér és garantált bérminimum emelésével kapcs.támogatás | M33: 4638 | N33: =SUM(E33:L33) -> 0
A34: 27 | D34: módosított előirányzat 6. | E34: =SUM(E31:E33) -> 11639 | F34: =SUM(F31:F33) -> 200 | G34: =SUM(G31:G33) -> 30 | K34: =SUM(K31:K33) -> 26421 | L34: =SUM(L31:L33) -> 299948 | M34: =SUM(M31:M33) -> 244530 | N34: =SUM(E34:L34) -> 338238
A35: 28 | B35: 5 | D35: Veszprémi Csillag úti Körzeti Óvoda
A36: 29 | D36: (Csillag úti Óvoda, Cholnoky ltp. Óvoda)
A37: 30 | D37: eredeti előirányzat | E37: 15663 | K37: 500 | L37: 322898 | M37: 233271 | N37: =SUM(E37:L37) -> 339061
A38: 31 | D38: módosított előirányzat 5. | E38: 15663 | K38: 15374 | L38: 329387 | M38: 233309 | N38: =SUM(E38:L38) -> 360424
A39: 32 | D39: módosítás- bérkompenzáció (2019. október hó) | L39: 4 | M39: 4 | N39: =SUM(E39:L39) -> 4
A40: 33 | D40: minimálbér és garantált bérminimum emelésével kapcs.támogatás | M40: 5608 | N40: =SUM(E40:L40) -> 0
A41: 34 | D41: módosított előirányzat 6. | E41: =SUM(E38:E40) -> 15663 | K41: =SUM(K38:K40) -> 15374 | L41: =SUM(L38:L40) -> 329391 | M41: =SUM(M38:M40) -> 238921 | N41: =SUM(E41:L41) -> 360428
A42: 35 | B42: 6 | D42: Veszprémi Kastélykert Körzeti Óvoda
A43: 36 | D43: (Kastélykert Óvoda, Ficánka Óvoda)
A44: 37 | D44: eredeti előirányzat | E44: 3794 | L44: 161890 | M44: 114171 | N44: =SUM(E44:L44) -> 165684
A45: 38 | D45: módosított előirányzat 5. | E45: 3794 | K45: 11967 | L45: 167702 | M45: 114171 | N45: =SUM(E45:L45) -> 183463
A46: 39 | D46: módosítás- minimálbér és garantált bérminimum emelésével kapcs.támogatás | M46: 2032 | N46: =SUM(E46:L46) -> 0
A47: 40 | D47: módosított előirányzat 6. | E47: =SUM(E45:E46) -> 3794 | K47: =SUM(K45:K46) -> 11967 | L47: =SUM(L45:L46) -> 167702 | M47: =SUM(M45:M46) -> 116203 | N47: =SUM(E47:L47) -> 183463
A48: 41 | C48: 1 | D48: Közcélú és közhasznú foglalkoztatás
A49: 42 | D49: eredeti előirányzat | F49: 2245 | N49: =SUM(E49:L49) -> 2245
A50: 43 | D50: módosított előirányzat 5. | F50: 2245 | K50: 90 | N50: =SUM(E50:L50) -> 2335
A51: 44 | D51: módosítás- | N51: =SUM(E51:L51) -> 0
A52: 45 | D52: módosított előirányzat 6. | F52: =SUM(F50:F51) -> 2245 | K52: =SUM(K50:K51) -> 90 | N52: =SUM(E52:L52) -> 2335
A53: 46 | D53: Óvodák összesen:
A54: 47 | D54: eredeti előirányzat | E54: =SUM(E49,E44,E37,E30,E24,E17,E10) -> 66211 | F54: =SUM(F49,F44,F37,F30,F24,F17,F10) -> 2245 | G54: =SUM(G49,G44,G37,G30,G24,G17,G10) -> 0 | H54: =SUM(H49,H44,H37,H30,H24,H17,H10) -> 0 | I54: =SUM(I49,I44,I37,I30,I24,I17,I10) -> 0 | J54: =SUM(J49,J44,J37,J30,J24,J17,J10) -> 0 | K54: =SUM(K49,K44,K37,K30,K24,K17,K10) -> 500 | L54: =SUM(L49,L44,L37,L30,L24,L17,L10) -> 1739523 | M54: =SUM(M49,M44,M37,M30,M24,M17,M10) -> 1330897 | N54: =SUM(E54:L54) -> 1808479
A55: 48 | D55: módosított előirányzat 5. | E55: =E50+E45+E38+E31+E25+E18+E11 -> 64500 | F55: =F50+F45+F38+F31+F25+F18+F11 -> 2445 | G55: =G50+G45+G38+G31+G25+G18+G11 -> 30 | H55: =H50+H45+H38+H31+H25+H18+H11 -> 0 | I55: =I50+I45+I38+I31+I25+I18+I11 -> 0 | J55: =J50+J45+J38+J31+J25+J18+J11 -> 0 | K55: =K50+K45+K38+K31+K25+K18+K11 -> 92074 | L55: =L50+L45+L38+L31+L25+L18+L11 -> 1781981 | M55: =M50+M45+M38+M31+M25+M18+M11 -> 1334001 | N55: =SUM(E55:L55) -> 1941030
A56: 49 | D56: módosítás- | E56: =E51+E46+E39+E32+E26+E20+E19+E13+E12+E33+E40 -> 0 | F56: =F51+F46+F39+F32+F26+F20+F19+F13+F12+F33+F40 -> 0 | G56: =G51+G46+G39+G32+G26+G20+G19+G13+G12+G33+G40 -> 0 | H56: =H51+H46+H39+H32+H26+H20+H19+H13+H12+H33+H40 -> 0 | I56: =I51+I46+I39+I32+I26+I20+I19+I13+I12+I33+I40 -> 0 | J56: =J51+J46+J39+J32+J26+J20+J19+J13+J12+J33+J40 -> 0 | K56: =K51+K46+K39+K32+K26+K20+K19+K13+K12+K33+K40 -> 0 | L56: =L51+L46+L39+L32+L26+L20+L19+L13+L12+L33+L40 -> 24 | M56: =M51+M46+M39+M32+M26+M20+M19+M13+M12+M33+M40 -> 26928 | N56: =SUM(E56:L56) -> 24
A57: 50 | D57: módosított előirányzat 6. | E57: =SUM(E55:E56) -> 64500 | F57: =SUM(F55:F56) -> 2445 | G57: =SUM(G55:G56) -> 30 | H57: =SUM(H55:H56) -> 0 | I57: =SUM(I55:I56) -> 0 | J57: =SUM(J55:J56) -> 0 | K57: =SUM(K55:K56) -> 92074 | L57: =SUM(L55:L56) -> 1782005 | M57: =SUM(M55:M56) -> 1360929 | N57: =SUM(E57:L57) -> 1941054
A58: 51 | B58: 7 | D58: Veszprémi Bölcsődei és Egészségügyi Alapellátási Integrált Intézmény
A59: 52 | D59: eredeti előirányzat | E59: 19344 | F59: 1445 | L59: 862197 | M59: 524297 | N59: =SUM(E59:L59) -> 882986
A60: 53 | D60: módosított előirányzat 5. | E60: 22800 | F60: 14865 | K60: 51906 | L60: 900330 | M60: 696055 | N60: =SUM(E60:L60) -> 989901
A61: 54 | D61: módosítás- bérkompenzáció (2019. október hó) | L61: 329 | M61: 329 | N61: =SUM(E61:L61) -> 329
A62: 55 | D62: szociális ágazati összevont pótlék (2019. október hó) | L62: 1013 | M62: 1013 | N62: =SUM(E62:L62) -> 1013
A63: 56 | D63: minimálbér és garantált bérminimum emelésével kapcs.támogatás | M63: 1294 | N63: =SUM(E63:L63) -> 0
A64: 57 | D64: módosított előirányzat 6. | E64: =SUM(E60:E63) -> 22800 | F64: =SUM(F60:F63) -> 14865 | K64: =SUM(K60:K63) -> 51906 | L64: =SUM(L60:L63) -> 901672 | M64: =SUM(M60:M63) -> 698691 | N64: =SUM(E64:L64) -> 991243
A65: 58 | C65: 1 | D65: EFOP-1.9.9-17-2017-00004 Még jobb kezekben - Veszprémben
A66: 59 | D66: eredeti előirányzat | K66: 10080 | N66: =SUM(E66:L66) -> 10080
A67: 60 | D67: módosított előirányzat 5. | K67: 10080 | N67: =SUM(E67:L67) -> 10080
A68: 61 | D68: módosítás- | N68: =SUM(E68:L68) -> 0
A69: 62 | D69: módosított előirányzat 6. | K69: =SUM(K67:K68) -> 10080 | N69: =SUM(E69:L69) -> 10080
A70: 63 | B70: 8 | D70: Göllesz Viktor Fogyatékos Személyek Nappali Intézménye
A71: 64 | D71: eredeti előirányzat | E71: 13500 | L71: 53325 | M71: 22000 | N71: =SUM(E71:L71) -> 66825
A72: 65 | D72: módosított előirányzat 5. | E72: 13500 | K72: 18187 | L72: 67307 | M72: 35982 | N72: =SUM(E72:L72) -> 98994
A73: 66 | D73: módosítás- bérkompenzáció (2019. október hó) | L73: 41 | M73: 41 | N73: =SUM(E73:L73) -> 41
A74: 67 | D74: szociális ágazati összevont pótlék (2019. október hó) | L74: 776 | M74: 776 | N74: =SUM(E74:L74) -> 776
A75: 68 | D75: minimálbér és garantált bérminimum emelésével kapcs.támogatás | M75: 8604 | N75: =SUM(E75:L75) -> 0
A76: 69 | D76: módosított előirányzat 6. | E76: =SUM(E72:E75) -> 13500 | K76: =SUM(K72:K75) -> 18187 | L76: =SUM(L72:L75) -> 68124 | M76: =SUM(M72:M75) -> 45403 | N76: =SUM(E76:L76) -> 99811
A77: 70 | C77: 1 | D77: Közcélú és közhasznú foglalkoztatás
A78: 71 | D78: eredeti előirányzat | N78: =SUM(E78:L78) -> 0
A79: 72 | D79: módosított előirányzat 5. | N79: =SUM(E79:L79) -> 0
A80: 73 | D80: módosítás- | N80: =SUM(E80:L80) -> 0
A81: 74 | D81: módosított előirányzat 6. | N81: =SUM(E81:L81) -> 0
A82: 75 | B82: 9 | D82: Veszprémi Családsegítő és Gyermekjóléti Integrált Intézmény
A83: 76 | D83: eredeti előirányzat | E83: 1800 | L83: 234900 | M83: 138057 | N83: =SUM(E83:L83) -> 236700
A84: 77 | D84: módosított előirányzat 5. | E84: 1800 | K84: 12863 | L84: 278735 | M84: 181205 | N84: =SUM(E84:L84) -> 293398
A85: 78 | D85: módosítás- bérkompenzáció (2019. október hó) | L85: 220 | M85: 220 | N85: =SUM(E85:L85) -> 220
A86: 79 | D86: szociális ágazati összevont pótlék (2019. október hó) | L86: 4046 | M86: 4046 | N86: =SUM(E86:L86) -> 4046
A87: 80 | D87: minimálbér és garantált bérminimum emelésével kapcs.támogatás | M87: 7802 | N87: =SUM(E87:L87) -> 0
A88: 81 | D88: Nagyvázsony Önkormányzat - családsegítő és gyermekjóléti feladatok 2018. évi hozzájárulása | L88: 1284 | N88: =SUM(E88:L88) -> 1284
A89: 82 | D89: módosított előirányzat 6. | E89: =SUM(E84:E88) -> 1800 | K89: =SUM(K84:K88) -> 12863 | L89: =SUM(L84:L88) -> 284285 | M89: =SUM(M84:M88) -> 193273 | N89: =SUM(E89:L89) -> 298948
A90: 83 | C90: 1 | D90: Közcélú és közhasznú foglalkoztatás
A91: 84 | D91: eredeti előirányzat | F91: 179 | K91: 90 | N91: =SUM(E91:L91) -> 269
A92: 85 | D92: módosított előirányzat 5. | F92: 179 | K92: 90 | N92: =SUM(E92:L92) -> 269
A93: 86 | D93: módosítás- | N93: =SUM(E93:L93) -> 0
A94: 87 | D94: módosított előirányzat 6. | F94: =SUM(F92:F93) -> 179 | K94: =SUM(K92:K93) -> 90 | N94: =SUM(N92:N93) -> 269
A95: 88 | D95: Egészségügyi és szoc. int. összesen:
A96: 89 | D96: eredeti előirányzat | E96: =SUM(E78,E71,E59,E66,E83,E91) -> 34644 | F96: =SUM(F78,F71,F59,F66,F83,F91) -> 1624 | G96: =SUM(G78,G71,G59,G66,G83,G91) -> 0 | H96: =SUM(H78,H71,H59,H66,H83,H91) -> 0 | I96: =SUM(I78,I71,I59,I66,I83,I91) -> 0 | J96: =SUM(J78,J71,J59,J66,J83,J91) -> 0 | K96: =SUM(K78,K71,K59,K66,K83,K91) -> 10170 | L96: =SUM(L78,L71,L59,L66,L83,L91) -> 1150422 | ... N96: =SUM(N78,N71,N59,N66,N83,N91) -> 1196860
A97: 90 | D97: módosított előirányzat 5. | E97: =E92+E84+E79+E72+E67+E60 -> 38100 | F97: =F92+F84+F79+F72+F67+F60 -> 15044 | G97: =G92+G84+G79+G72+G67+G60 -> 0 | H97: =H92+H84+H79+H72+H67+H60 -> 0 | I97: =I92+I84+I79+I72+I67+I60 -> 0 | J97: =J92+J84+J79+J72+J67+J60 -> 0 | K97: =K92+K84+K79+K72+K67+K60 -> 93126 | L97: =L92+L84+L79+L72+L67+L60 -> 1246372 | M97: =M92+M84+M79+M72+M67+M60 -> 913242 | N97: =SUM(E97:L97) -> 1392642
A98: 91 | D98: módosítás- | E98: =E93+E86+E85+E80+E74+E73+E68+E63+E62+E61+E87+E75+E88 -> 0 | F98: =F93+F86+F85+F80+F74+F73+F68+F63+F62+F61+F87+F75+F88 -> 0 | G98: =G93+G86+G85+G80+G74+G73+G68+G63+G62+G61+G87+G75+G88 -> 0 | H98: =H93+H86+H85+H80+H74+H73+H68+H63+H62+H61+H87+H75+H88 -> 0 | I98: =I93+I86+I85+I80+I74+I73+I68+I63+I62+I61+I87+I75+I88 -> 0 | J98: =J93+J86+J85+J80+J74+J73+J68+J63+J62+J61+J87+J75+J88 -> 0 | K98: =K93+K86+K85+K80+K74+K73+K68+K63+K62+K61+K87+K75+K88 -> 0 | L98: =L93+L86+L85+L80+L74+L73+L68+L63+L62+L61+L87+L75+L88 -> 7709 | M98: =M93+M86+M85+M80+M74+M73+M68+M63+M62+M61+M87+M75+M88 -> 24125 | N98: =SUM(E98:L98) -> 7709
A99: 92 | D99: módosított előirányzat 6. | E99: =SUM(E97:E98) -> 38100 | F99: =SUM(F97:F98) -> 15044 | G99: =SUM(G97:G98) -> 0 | H99: =SUM(H97:H98) -> 0 | I99: =SUM(I97:I98) -> 0 | J99: =SUM(J97:J98) -> 0 | K99: =SUM(K97:K98) -> 93126 | L99: =SUM(L97:L98) -> 1254081 | M99: =SUM(M97:M98) -> 937367 | N99: =SUM(E99:L99) -> 1400351
A100: 93 | B100: 10 | D100: Agóra Veszprém Kulturális Központ
...

Sheet 4.Inbe
B1: 4. melléklet a 30/2019. (XII.12.) önkormányzati rendelethez
B2: Veszprém Megyei Jogú Város Önkormányzata Intézményei
B3: 2019. évi saját bevételeinek módosítás - 2019. december
H4: adatok eFt-ban
B5: A | C5: B | D5: C | E5: D | F5: E | G5: F | H5: G
B6: Cím | C6: Alcím | D6: Megnevezés | E6: 2017. évi tény | F6: 2018. évi eredeti előirányzat | G6: 2018. évi tény | H6: 2019. évi előirányzat
A8: 1 | B8: 1 | D8: Veszprémi Vadvirág Körzeti Óvoda (Csillagvár Waldorf Tagóvoda, Vadvirág Óvoda) | E8: 5002 | F8: 4211 | G8: 4241 | H8: 4458
A9: 2 | B9: 2 | D9: Veszprémi Bóbita Körzeti Óvoda (Hársfa Tagóvoda, Bóbita Óvoda) | E9: 9352 | F9: 9172 | G9: 8290 | H9: 10813
A10: 3 | B10: 3 | D10: Veszprémi Ringató Körzeti Óvoda (Ringató Óvoda, Erdei Tagóvoda, Kuckó Tagóvoda) | E10: 16718 | F10: 18529 | G10: 16663 | H10: 18133
A11: 4 | B11: 4 | D11: Veszprémi Egry úti Körzeti Óvoda (Egry ltp. Óvoda, Nárcisz Tagóvoda) | E11: 11570 | F11: 9159 | G11: 12417 | H11: 11639
A12: 5 | B12: 5 | D12: Veszprémi Csillag úti Körzeti Óvoda (Csillag úti Óvoda, Cholnoky ltp. Óvoda) | E12: 14151 | F12: 13403 | G12: 14656 | H12: 15663
A13: 6 | B13: 6 | D13: Veszprémi Kastélykert Körzeti Óvoda (Kastélykert Óvoda, Ficánka Óvoda) | E13: 5106 | F13: 3735 | G13: 3862 | H13: 3794
A14: 7 | D14: Óvodák összesen: | E14: =SUM(E8:E13) -> 61899 | F14: =SUM(F8:F13) -> 58209 | G14: =SUM(G8:G13) -> 60129 | H14: =SUM(H8:H13) -> 64500
A15: 8 | B15: 7 | D15: Veszprémi Bölcsődei és Egészségügyi Alapellátási Integrált Intézmény | E15: 49823 | F15: 38296 | G15: 43118 | H15: 22800
A16: 9 | B16: 8 | D16: Göllesz Viktor Fogyatékos Személyek Nappali Intézménye | E16: 12363 | F16: 12400 | G16: 15040 | H16: 13500
A17: 10 | B17: 9 | D17: Veszprémi Családsegítő és Gyermekjóléti Integrált Intézmény | H17: 1800
A18: 11 | D18: Egészségügyi és szoc. int. összesen: | E18: =SUM(E15:E17) -> 62186 | F18: =SUM(F15:F17) -> 50696 | G18: =SUM(G15:G17) -> 58158 | H18: =SUM(H15:H17) -> 38100
A19: 12 | B19: 10 | D19: Agóra Veszprém Kulturális Központ | E19: 32111 | F19: 30692 | G19: 39591 | H19: 39584
A20: 13 | B20: 11 | D20: Művészetek Háza Veszprém Művelődési Ház és Kiállítóhely | E20: 6214 | F20: 4104 | G20: 4063 | H20: 7001
A21: 14 | B21: 12 | D21: Eötvös Károly Megyei Könyvtár | E21: 34173 | F21: 21200 | G21: 36291 | H21: 31600
A22: 15 | B22: 13 | D22: Laczkó Dezső Múzeum | E22: 74176 | F22: 75907 | G22: 129584 | H22: 197132
A23: 16 | B23: 14 | D23: Kabóca Bábszínház | E23: 32837 | F23: 28754 | G23: 29609 | H23: 23854
A24: 17 | B24: 15 | D24: Veszprémi Petőfi Színház | E24: 223252 | F24: 195500 | G24: 273726 | H24: 243842
A25: 18 | D25: Kulturális és közművelődési int. Összesen | E25: =SUM(E19:E24) -> 402763 | F25: =SUM(F19:F24) -> 356157 | G25: =SUM(G19:G24) -> 512864 | H25: =SUM(H19:H24) -> 543013
A26: 19 | B26: 16 | D26: Veszprémi Intézményi Szolgáltató Szervezet | E26: 355205 | F26: 374152 | G26: 362984 | H26: 379059
A27: 20 | C27: INTÉZMÉNYEK ÖSSZESEN: | E27: =SUM(E14,E18,E25,E26) -> 882053 | F27: =SUM(F14,F18,F25,F26) -> 839214 | G27: =SUM(G14,G18,G25,G26) -> 994135 | H27: =SUM(H14,H18,H25,H26) -> 1024672
A28: 21 | B28: 17 | C28: VMJV Polgármesteri Hivatal által ellátott kötelező és önként vállalt feladatok | E28: 5003 | G28: 4845 | H28: 5080
A29: 22 | C29: MINDÖSSZESEN: | E29: =SUM(E27,E28) -> 887056 | F29: =SUM(F27,F28) -> 839214 | G29: =SUM(G27,G28) -> 998980 | H29: =SUM(H27,H28) -> 1029752
E30: =+E29-'1.Onbe'!G30 -> 0 | F30: =+F29-'1.Onbe'!H30 -> 0 | G30: =+G29-'1.Onbe'!I30 -> 0 | H30: =+H29-'1.Onbe'!M30 -> 0

Sheet 5.Inki
B1: 5. melléklet a 30/2019. (XII.12.) önkormányzati rendelethez
B2: Veszprém Megyei Jogú Város Önkormányzata Intézményeinek
B3: 2019. évi költségvetési kiadásainak módosítása - 2019. december
P4: adatok eFt-ban
B5: A | C5: B | D5: C | E5: D | F5: E | G5: F | H5: G | I5: H | J5: I | K5: J | L5: K | M5: L | N5: M | O5: N | P5: O | Q5: P
B6: Cím | C6: Alcím | D6: Megnevezés | E6: Feladatellátás jellege* | F6: 2017. évi tény | G6: 2018. évi eredeti előirányzat | H6: 2018. évi tény | I6: 2019. évi előirányzat | J6: Működési költségvetési kiadások | O6: Felhalmozási költségvetési kiadások
J7: Személyi juttatások | K7: Munk.a. terh. jár. és szoc.hj.adó | L7: Dologi kiadások | M7: Ellátottak pénzbeli juttatásai | N7: Egyéb működési kiadások | O7: Beruházási kiadások | P7: Felújítási kiadások | Q7: Egyéb felhalmozási célú kiadások
A8: 1 | B8: 1 | D8: Veszprémi Vadvirág Körzeti Óvoda | E8: K | F8: 192029 | G8: 201561 | H8: 206614
A9: 2 | D9: (Csillagvár Waldorf Tagóvoda, Vadvirág Óvoda)
A10: 3 | D10: eredeti előirányzat | I10: =SUM(J10:Q10) -> 209393 | J10: 128101 | K10: 27759 | L10: 50833 | O10: 2700
A11: 4 | D11: módosított előirányzat 5. | I11: =SUM(J11:Q11) -> 218908 | J11: 131397 | K11: 28728 | L11: 52763 | O11: 6020
A12: 5 | D12: módosítás- bérkompenzáció (2019. október hó) | I12: =SUM(J12:Q12) -> 4 | J12: 3 | K12: 1
A13: 6 | D13: átcsoportosítás | I13: =SUM(J13:Q13) -> 0 | J13: -500 | K13: 500 | O13: -200 | P13: 200
A14: 7 | D14: módosított előirányzat 6. | I14: =SUM(J14:Q14) -> 218912 | J14: =SUM(J11:J13) -> 130900 | K14: =SUM(K11:K13) -> 29229 | L14: =SUM(L11:L13) -> 52763 | O14: =SUM(O11:O13) -> 5820 | P14: =SUM(P13:P13) -> 200
A15: 8 | B15: 2 | D15: Veszprémi Bóbita Körzeti Óvoda | E15: K | F15: 352042 | G15: 354412 | H15: 351654
A16: 9 | D16: (Hársfa Tagóvoda, Bóbita Óvoda)
A17: 10 | D17: eredeti előirányzat | I17: =SUM(J17:Q17) -> 356328 | J17: 230034 | K17: 49964 | L17: 73030 | O17: 3300
A18: 11 | D18: módosított előirányzat 5. | I18: =SUM(J18:Q18) -> 389212 | J18: 244740 | K18: 53135 | L18: 75957 | O18: 12380 | P18: 3000
A19: 12 | D19: módosítás- bérkompenzáció (2019. október hó) | I19: =SUM(J19:Q19) -> 14 | J19: 12 | K19: 2
A20: 13 | D20: átcsoportosítás | I20: =SUM(J20:Q20) -> 0 | J20: -770 | K20: -130 | L20: 900
A21: 14 | D21: módosított előirányzat 6. | I21: =SUM(J21:Q21) -> 389226 | J21: =SUM(J18:J20) -> 243982 | K21: =SUM(K18:K20) -> 53007 | L21: =SUM(L18:L20) -> 76857 | O21: =SUM(O18:O20) -> 12380 | P21: =SUM(P18:P20) -> 3000
A22: 15 | B22: 3 | D22: Veszprémi Ringató Körzeti Óvoda | E22: K | F22: 390437 | G22: 406698 | H22: 431588
A23: 16 | D23: (Ringató Óvoda, Erdei Tagóvoda, Kuckó Tagóvoda)
A24: 17 | D24: eredeti előirányzat | I24: =SUM(J24:Q24) -> 425240 | J24: 282771 | K24: 61168 | L24: 78301 | O24: 3000
A25: 18 | D25: módosított előirányzat 5. | I25: =SUM(J25:Q25) -> 448452 | J25: 295032 | K25: 63684 | L25: 77723 | O25: 12013
A26: 19 | D26: módosítás- bérkompenzáció (2019. október hó) | I26: =SUM(J26:Q26) -> 0
A27: 20 | D27: módosított előirányzat 6. | I27: =SUM(J27:Q27) -> 448452 | J27: =SUM(J25:J26) -> 295032 | K27: =SUM(K25:K26) -> 63684 | L27: =SUM(L25:L26) -> 77723 | O27: =SUM(O25:O26) -> 12013
A28: 21 | B28: 4 | D28: Veszprémi Egry úti Körzeti Óvoda | E28: K | F28: 288668 | G28: 297708 | H28: 302390
A29: 22 | D29: (Egry ltp. Óvoda, Nárcisz Tagóvoda)
A30: 23 | D30: eredeti előirányzat | I30: =SUM(J30:Q30) -> 310528 | J30: 202358 | K30: 43912 | L30: 62358 | O30: 1900
A31: 24 | D31: módosított előirányzat 5. | I31: =SUM(J31:Q31) -> 338236 | J31: 219143 | K31: 47891 | L31: 63821 | O31: 7381
A32: 25 | D32: módosítás- bérkompenzáció (2019. október hó) | I32: =SUM(J32:Q32) -> 2 | J32: 2
A33: 26 | D33: módosított előirányzat 6. | I33: =SUM(J33:Q33) -> 338238 | J33: =SUM(J31:J32) -> 219145 | K33: =SUM(K31:K32) -> 47891 | L33: =SUM(L31:L32) -> 63821 | O33: =SUM(O31:O32) -> 7381
A34: 27 | B34: 5 | D34: Veszprémi Csillag úti Körzeti Óvoda | E34: K | F34: 318973 | G34: 327569 | H34: 336173
A35: 28 | D35: (Csillag úti Óvoda, Cholnoky ltp. Óvoda)
A36: 29 | D36: eredeti előirányzat | I36: =SUM(J36:Q36) -> 339061 | J36: 205859 | K36: 44702 | L36: 83200 | O36: 5300
A37: 30 | D37: módosított előirányzat 5. | I37: =SUM(J37:Q37) -> 360424 | J37: 215856 | K37: 46574 | L37: 85394 | O37: 12600
A38: 31 | D38: módosítás- bérkompenzáció (2019. október hó) | I38: =SUM(J38:Q38) -> 4 | J38: 3 | K38: 1
A39: 32 | D39: módosított előirányzat 6. | I39: =SUM(J39:Q39) -> 360428 | J39: =SUM(J37:J38) -> 215859 | K39: =SUM(K37:K38) -> 46575 | L39: =SUM(L37:L38) -> 85394 | O39: =SUM(O37:O38) -> 12600
A40: 33 | B40: 6 | D40: Veszprémi Kastélykert Körzeti Óvoda | E40: K | F40: 148764 | G40: 157637 | H40: 156041
A41: 34 | D41: (Kastélykert Óvoda, Ficánka Óvoda)
A42: 35 | D42: eredeti előirányzat | I42: =SUM(J42:Q42) -> 165684 | J42: 105948 | K42: 23188 | L42: 35448 | O42: 1100
A43: 36 | D43: módosított előirányzat 5. | I43: =SUM(J43:Q43) -> 183463 | J43: 115280 | K43: 25402 | L43: 35605 | O43: 7176
A44: 37 | D44: módosítás- átcsoportosítás | I44: =SUM(J44:Q44) -> 0 | L44: -1900 | O44: 1900
A45: 38 | D45: módosított előirányzat 6. | I45: =SUM(J45:Q45) -> 183463 | J45: =SUM(J43:J44) -> 115280 | K45: =SUM(K43:K44) -> 25402 | L45: =SUM(L43:L44) -> 33705 | O45: =SUM(O43:O44) -> 9076
A46: 39 | C46: 1 | D46: Közcélú és közhasznú foglalkoztatás | F46: 1562 | G46: 2240 | H46: 1006
A47: 40 | D47: eredeti előirányzat | I47: =SUM(J47:Q47) -> 2245 | J47: 1957 | K47: 191 | L47: 97
A48: 41 | D48: módosított előirányzat 5. | I48: =SUM(J48:Q48) -> 2335 | J48: 1957 | K48: 191 | L48: 97 | N48: 90
A49: 42 | D49: módosítás- | I49: =SUM(J49:Q49) -> 0
A50: 43 | D50: módosított előirányzat 6. | I50: =SUM(J50:Q50) -> 2335 | J50: =SUM(J48:J49) -> 1957 | K50: =SUM(K48:K49) -> 191 | L50: =SUM(L48:L49) -> 97 | N50: =SUM(N48:N49) -> 90
A51: 44 | D51: Óvodák összesen:
A52: 45 | D52: eredeti előirányzat | F52: =SUM(F8:F47) -> 1692475 | G52: =SUM(G8:G47) -> 1747825 | H52: =SUM(H8:H47) -> 1785466 | I52: =SUM(J52:Q52) -> 1808479 | J52: =SUM(J10,J17,J24,J30,J36,J42,J47) -> 1157028 | K52: =SUM(K10,K17,K24,K30,K36,K42,K47) -> 250884 | L52: =SUM(L10,L17,L24,L30,L36,L42,L47) -> 383267 | M52: =SUM(M10,M17,M24,M30,M36,M42,M47) -> 0 | N52: =SUM(N10,N17,N24,N30,N36,N42,N47) -> 0 | O52: =SUM(O10,O17,O24,O30,O36,O42,O47) -> 17300 | P52: =SUM(P10,P17,P24,P30,P36,P42,P47) -> 0 | Q52: =SUM(Q10,Q17,Q24,Q30,Q36,Q42,Q47) -> 0
A53: 46 | D53: módosított előirányzat 5. | I53: =SUM(J53:Q53) -> 1941030 | J53: =J48+J43+J37+J31+J25+J18+J11 -> 1223405 | K53: =K48+K43+K37+K31+K25+K18+K11 -> 265605 | L53: =L48+L43+L37+L31+L25+L18+L11 -> 391360 | M53: =M48+M43+M37+M31+M25+M18+M11 -> 0 | N53: =N48+N43+N37+N31+N25+N18+N11 -> 90 | O53: =O48+O43+O37+O31+O25+O18+O11 -> 57570 | P53: =P48+P43+P37+P31+P25+P18+P11 -> 3000 | Q53: =Q48+Q43+Q37+Q31+Q25+Q18+Q11 -> 0
A54: 47 | D54: módosítás- | I54: =SUM(J54:Q54) -> 24 | J54: =J49+J44+J38+J32+J26+J20+J19+J13+J12 -> -1250 | K54: =K49+K44+K38+K32+K26+K20+K19+K13+K12 -> 374 | L54: =L49+L44+L38+L32+L26+L20+L19+L13+L12 -> -1000 | M54: =M49+M44+M38+M32+M26+M20+M19+M13+M12 -> 0 | N54: =N49+N44+N38+N32+N26+N20+N19+N13+N12 -> 0 | O54: =O49+O44+O38+O32+O26+O20+O19+O13+O12 -> 1700 | P54: =P49+P44+P38+P32+P26+P20+P19+P13+P12 -> 200 | Q54: =Q49+Q44+Q38+Q32+Q26+Q20+Q19+Q13+Q12 -> 0
A55: 48 | D55: módosított előirányzat 6. | I55: =SUM(J55:Q55) -> 1941054 | J55: =SUM(J53:J54) -> 1222155 | K55: =SUM(K53:K54) -> 265979 | L55: =SUM(L53:L54) -> 390360 | M55: =SUM(M53:M54) -> 0 | N55: =SUM(N53:N54) -> 90 | O55: =SUM(O53:O54) -> 59270 | P55: =SUM(P53:P54) -> 3200 | Q55: =SUM(Q53:Q54) -> 0
A56: 49 | B56: 7 | D56: Veszprémi Bölcsődei és Egészségügyi Alapellátási Integrált Intézmény | E56: K | F56: 841546 | G56: 863672 | H56: 902499
A57: 50 | D57: eredeti előirányzat | I57: =SUM(J57:Q57) -> 882986 | J57: 603305 | K57: 133043 | L57: 140158 | O57: 6480
A58: 51 | D58: módosított előirányzat 5. | I58: =SUM(J58:Q58) -> 989901 | J58: 671955 | K58: 141803 | L58: 147863 | O58: 28280
A59: 52 | D59: módosítás- bérkompenzáció (2019. október hó) | I59: =SUM(J59:Q59) -> 329 | J59: 280 | K59: 49
A60: 53 | D60: Szociális ágazati összevont pótlék (2019. október hó) | I60: =SUM(J60:Q60) -> 1013 | J60: 862 | K60: 151
A61: 54 | D61: átcsoportosítás | I61: =SUM(J61:Q61) -> 0 | J61: -900 | O61: 900
A62: 55 | D62: módosított előirányzat 6. | I62: =SUM(J62:Q62) -> 991243 | J62: =SUM(J58:J61) -> 672197 | K62: =SUM(K58:K61) -> 142003 | L62: =SUM(L58:L61) -> 147863 | O62: =SUM(O58:O61) -> 29180
A63: 56 | C63: 2 | D63: EFOP-1.9.9-17-2017-00004 Még jobb kezekben - Veszprémben | H63: 4233
A64: 57 | D64: eredeti előirányzat | I64: =SUM(J64:Q64) -> 10080 | J64: 8195 | K64: 1885
A65: 58 | D65: módosított előirányzat 5. | I65: =SUM(J65:Q65) -> 10080 | J65: 8195 | K65: 1885
A66: 59 | D66: módosítás- | I66: =SUM(J66:Q66) -> 0
A67: 60 | D67: módosított előirányzat 6. | I67: =SUM(J67:Q67) -> 10080 | J67: =SUM(J65:J66) -> 8195 | K67: =SUM(K65:K66) -> 1885
A68: 61 | B68: 8 | D68: Göllesz Viktor Fogyatékos Személyek Nappali Intézménye | E68: K | F68: 75909 | G68: 64902 | H68: 82024
A69: 62 | D69: eredeti előirányzat | I69: =SUM(J69:Q69) -> 66825 | J69: 37684 | K69: 7484 | L69: 21657
A70: 63 | D70: módosított előirányzat 5. | I70: =SUM(J70:Q70) -> 98994 | J70: 55289 | K70: 9965 | L70: 31116 | O70: 2624
A71: 64 | D71: módosítás- bérkompenzáció (2019. október hó) | I71: =SUM(J71:Q71) -> 41 | J71: 35 | K71: 6
A72: 65 | D72: Szociális ágazati összevont pótlék (2019. október hó) | I72: =SUM(J72:Q72) -> 776 | J72: 660 | K72: 116
A73: 66 | D73: módosított előirányzat 6. | I73: =SUM(J73:Q73) -> 99811 | J73: =SUM(J70:J72) -> 55984 | K73: =SUM(K70:K72) -> 10087 | L73: =SUM(L70:L72) -> 31116 | O73: =SUM(O70:O72) -> 2624
A74: 67 | C74: 1 | D74: Közcélú és közhasznú foglalkoztatás | F74: 1056 | G74: 1076 | H74: 89
A75: 68 | D75: eredeti előirányzat | I75: =SUM(J75:Q75) -> 0
A76: 69 | D76: módosított előirányzat 5. | I76: =SUM(J76:Q76) -> 0
A77: 70 | D77: módosítás- | I77: =SUM(J77:Q77) -> 0
A78: 71 | D78: módosított előirányzat 6. | I78: =SUM(J78:Q78) -> 0
A79: 72 | B79: 9 | D79: Veszprémi Családsegítő és Gyermekjóléti Integrált Intézmény | E79: K
A80: 73 | D80: eredeti előirányzat | I80: =SUM(J80:Q80) -> 236700 | J80: 165535 | K80: 36707 | L80: 30073 | O80: 4385
A81: 74 | D81: módosított előirányzat 5. | I81: =SUM(J81:Q81) -> 293398 | J81: 201022 | K81: 45315 | L81: 39511 | O81: 7170 | P81: 380
A82: 75 | D82: módosítás- bérkompenzáció (2019. október hó) | I82: =SUM(J82:Q82) -> 220 | J82: 187 | K82: 33
A83: 76 | D83: Szociális ágazati összevont pótlék (2019. október hó) | I83: =SUM(J83:Q83) -> 4046 | J83: 3443 | K83: 603
A84: 77 | D84: Nagyvázsony Önkormányzat - családsegítő és gyermekjóléti feladatok 2018. évi hozzájárulása | I84: =SUM(J84:Q84) -> 1284 | L84: 1284
A85: 78 | D85: módosított előirányzat 6. | I85: =SUM(J85:Q85) -> 298948 | J85: =SUM(J81:J84) -> 204652 | K85: =SUM(K81:K84) -> 45951 | L85: =SUM(L81:L84) -> 40795 | O85: =SUM(O81:O84) -> 7170 | P85: =SUM(P81:P84) -> 380
A86: 79 | C86: 1 | D86: Közcélú és közhasznú foglalkoztatás
A87: 80 | D87: eredeti előirányzat | I87: =SUM(J87:Q87) -> 269 | J87: 245 | K87: 24
A88: 81 | D88: módosított előirányzat 5. | I88: =SUM(J88:Q88) -> 269 | J88: 245 | K88: 24
A89: 82 | D89: módosítás- | I89: =SUM(J89:Q89) -> 0
A90: 83 | D90: módosított előirányzat 6. | I90: =SUM(J90:Q90) -> 269 | J90: =SUM(J88:J89) -> 245 | K90: =SUM(K88:K89) -> 24
A91: 84 | D91: Egészségügyi és szoc. int. összesen:
A92: 85 | D92: eredeti előirányzat | F92: =SUM(F56:F87) -> 918511 | G92: =SUM(G56:G87) -> 929650 | H92: =SUM(H56:H87) -> 988845 | I92: =SUM(J92:Q92) -> 1196860 | J92: =SUM(J57,J64,J69,J75,J80,J87) -> 814964 | K92: =SUM(K57,K64,K69,K75,K80,K87) -> 179143 | L92: =SUM(L57,L64,L69,L75,L80,L87) -> 191888 | M92: =SUM(M57,M64,M69,M75,M80,M87) -> 0 | N92: =SUM(N57,N64,N69,N75,N80,N87) -> 0 | O92: =SUM(O57,O64,O69,O75,O80,O87) -> 10865 | P92: =SUM(P57,P64,P69,P75,P80,P87) -> 0 | Q92: =SUM(Q57,Q64,Q69,Q75,Q80,Q87) -> 0 | R92: =+'3.Inbe'!N96-'5.Inki'!I92 -> 0
A93: 86 | D93: módosított előirányzat 5. | I93: =SUM(J93:Q93) -> 1392642 | J93: =J88+J81+J70+J65+J58 -> 936706 | K93: =K88+K81+K70+K65+K58 -> 198992 | L93: =L88+L81+L70+L65+L58 -> 218490 | M93: =M88+M81+M70+M65+M58 -> 0 | N93: =N88+N81+N70+N65+N58 -> 0 | O93: =O88+O81+O70+O65+O58 -> 38074 | P93: =P88+P81+P70+P65+P58 -> 380 | Q93: =Q88+Q81+Q70+Q65+Q58 -> 0
A94: 87 | D94: módosítás- | I94: =SUM(J94:Q94) -> 7709 | J94: =J89+J83+J82+J77+J72+J71+J66+J61+J60+J59+J84 -> 4567 | K94: =K89+K83+K82+K77+K72+K71+K66+K61+K60+K59+K84 -> 958 | L94: =L89+L83+L82+L77+L72+L71+L66+L61+L60+L59+L84 -> 1284 | M94: =M89+M83+M82+M77+M72+M71+M66+M61+M60+M59+M84 -> 0 | N94: =N89+N83+N82+N77+N72+N71+N66+N61+N60+N59+N84 -> 0 | O94: =O89+O83+O82+O77+O72+O71+O66+O61+O60+O59+O84 -> 900 | P94: =P89+P83+P82+P77+P72+P71+P66+P61+P60+P59+P84 -> 0 | Q94: =Q89+Q83+Q82+Q77+Q72+Q71+Q66+Q61+Q60+Q59+Q84 -> 0
A95: 88 | D95: módosított előirányzat 6. | I95: =SUM(J95:Q95) -> 1400351 | J95: =SUM(J93:J94) -> 941273 | K95: =SUM(K93:K94) -> 199950 | L95: =SUM(L93:L94) -> 219774 | M95: =SUM(M93:M94) -> 0 | N95: =SUM(N93:N94) -> 0 | O95: =SUM(O93:O94) -> 38974 | P95: =SUM(P93:P94) -> 380 | Q95: =SUM(Q93:Q94) -> 0
A96: 89 | B96: 10 | D96: Agóra Veszprém Kulturális Központ | E96: K | F96: 217117 | G96: 208999 | H96: 246321
A97: 90 | D97: eredeti előirányzat | I97: =SUM(J97:Q97) -> 214545 | J97: 78067 | K97: 15849 | L97: 115629 | O97: 5000
A98: 91 | D98: módosított előirányzat 5. | I98: =SUM(J98:Q98) -> 274966 | J98: 94977 | K98: 19481 | L98: 153110 | O98: 7398
A99: 92 | D99: módosítás- bérkompenzáció (2019. október hó) | I99: =SUM(J99:Q99) -> 2 | J99: 2
A100: 93 | D100: Kulturális illetmény pótlék (2019. október hó) | I100: =SUM(J100:Q100) -> 521 | J100: 443 | K100: 78
...

Sheet 6.Önk.műk.
B1: 6. melléklet a 30/2019. (XII.12.) önkormányzati rendelethez
B2: Veszprém Megyei Jogú Város Önkormányzata
B3: Önkormányzati feladatok és egyéb kötelezettségek 2019. évi működési költségvetési kiadásainak módosítása - 2019. december
M4: adatok eFt-ban
B5: A | C5: B | D5: C | E5: D | F5: E | G5: F | H5: G | I5: H | J5: I | K5: J | L5: K | M5: L | N5: M
B6: Cím | C6: Alcím | D6: Megnevezés | E6: 2017. évi tény | F6: 2018. évi eredeti előirányzat | G6: 2018. évi tény | H6: Feladatellátás jellege* | I6: 2019. évi előirányzat | J6: Működési költségvetési kiadások
J7: Személyi juttatások | K7: Munk.a. terh. jár. és szoc.hj.adó | L7: Dologi kiadások | M7: Ellátottak pénzbeli juttatásai | N7: Egyéb működési kiadások
A8: 1 | B8: 18 | C8: 1 | D8: Nemzeti ünnepek kiadásaira | E8: 6005 | F8: 7000 | G8: 6918 | H8: K
A9: 2 | D9: eredeti előirányzat | I9: =SUM(J9:N9) -> 7000 | L9: 7000
A10: 3 | D10: módosított előirányzat 5. | I10: =SUM(J10:N10) -> 7575 | K10: 17 | L10: 7558
A11: 4 | D11: módosítás- | I11: =SUM(J11:Q11) -> 0
A12: 5 | D12: módosított előirányzat 6. | I12: =SUM(J12:N12) -> 7575 | K12: =SUM(K10:K11) -> 17 | L12: =SUM(L10:L11) -> 7558
A13: 6 | C13: 2 | D13: Közművelődési szolgált. | E13: 3150 | F13: 5000 | G13: 4298 | H13: NK
A14: 7 | D14: eredeti előirányzat | I14: =SUM(J14:N14) -> 5000 | L14: 5000
A15: 8 | D15: módosított előirányzat 5. | I15: =SUM(J15:N15) -> 5672 | K15: 35 | L15: 5437 | N15: 200
A16: 9 | D16: módosítás- | I16: =SUM(J16:Q16) -> 0
A17: 10 | D17: módosított előirányzat 6. | I17: =SUM(J17:N17) -> 5672 | K17: =SUM(K15:K16) -> 35 | L17: =SUM(L15:L16) -> 5437 | N17: =SUM(N15:N16) -> 200
A18: 11 | C18: 3 | D18: Nemzetközi kapcsolatok | E18: 8774 | F18: 10000 | G18: 15651 | H18: NK
A19: 12 | D19: eredeti előirányzat | I19: =SUM(J19:N19) -> 10000 | J19: 1000 | K19: 500 | L19: 8500
A20: 13 | D20: módosított előirányzat 5. | I20: =SUM(J20:N20) -> 10571 | J20: 2120 | K20: 863 | L20: 7588
A21: 14 | D21: módosítás- átcsoportosítás | I21: =SUM(J21:Q21) -> 0 | K21: 140 | L21: -140
A22: 15 | D22: módosított előirányzat 6. | I22: =SUM(J22:N22) -> 10571 | J22: =SUM(J20:J21) -> 2120 | K22: =SUM(K20:K21) -> 1003 | L22: =SUM(L20:L21) -> 7448
A23: 16 | C23: 4 | D23: Marketing tevékenység, marketing stratégia | E23: 13898 | F23: 11000 | G23: 12950 | H23: NK
A24: 17 | D24: eredeti előirányzat | I24: =SUM(J24:N24) -> 11000 | L24: 11000
A25: 18 | D25: módosított előirányzat 5. | I25: =SUM(J25:N25) -> 16014 | L25: 16014
A26: 19 | D26: módosítás- | I26: =SUM(J26:Q26) -> 0
A27: 20 | D27: módosított előirányzat 6. | I27: =SUM(J27:N27) -> 16014 | L27: =SUM(L25:L26) -> 16014
A28: 21 | C28: 5 | D28: Kitüntetések | E28: 7830 | F28: 9653 | G28: 8243 | H28: NK
A29: 22 | D29: eredeti előirányzat | I29: =SUM(J29:N29) -> 10167 | J29: 5595 | K29: 1132 | L29: 3090 | N29: 350
A30: 23 | D30: módosított előirányzat 5. | I30: =SUM(J30:N30) -> 11467 | J30: 5595 | K30: 1132 | L30: 4390 | N30: 350
A31: 24 | D31: módosítás- | I31: =SUM(J31:Q31) -> 0
A32: 25 | D32: módosított előirányzat 6. | I32: =SUM(J32:N32) -> 11467 | J32: =SUM(J30:J31) -> 5595 | K32: =SUM(K30:K31) -> 1132 | L32: =SUM(L30:L31) -> 4390 | N32: =SUM(N30:N31) -> 350
A33: 26 | C33: 6 | D33: Mihály-napi búcsú | E33: 1000 | F33: 1000 | G33: 1000 | H33: NK
A34: 27 | D34: eredeti előirányzat | I34: =SUM(J34:N34) -> 1000 | L34: 1000
A35: 28 | D35: módosított előirányzat 5. | I35: =SUM(J35:N35) -> 1000 | L35: 1000
A36: 29 | D36: módosítás- | I36: =SUM(J36:Q36) -> 0
A37: 30 | D37: módosított előirányzat 6. | I37: =SUM(J37:N37) -> 1000 | L37: =SUM(L35:L36) -> 1000
A38: 31 | C38: 7 | D38: Városi kiemelt fesztiválok | E38: =SUM(E43,E48,E53,E58,E63,E68) -> 62200 | F38: =SUM(F43,F48,F53,F58,F63,F68) -> 72000 | G38: =SUM(G43,G48,G53,G58,G63,G68) -> 72000 | H38: NK
A39: 32 | D39: eredeti előirányzat | I39: =SUM(J39:N39) -> 74000 | J39: =SUM(J44,J49,J54,J59,J64,J69) -> 0 | K39: =SUM(K44,K49,K54,K59,K64,K69) -> 0 | L39: =SUM(L44,L49,L54,L59,L64,L69) -> 15000 | M39: =SUM(M44,M49,M54,M59,M64,M69) -> 0 | N39: =SUM(N44,N49,N54,N59,N64,N69) -> 59000
A40: 33 | D40: módosított előirányzat 5. | I40: =SUM(J40:N40) -> 74000 | J40: =J45+J50+J55+J60+J65+J70 -> 0 | K40: =K45+K50+K55+K60+K65+K70 -> 0 | L40: =L45+L50+L55+L60+L65+L70 -> 15000 | M40: =M45+M50+M55+M60+M65+M70 -> 0 | N40: =N45+N50+N55+N60+N65+N70 -> 59000
A41: 34 | D41: módosítás- | I41: =SUM(J41:Q41) -> 0 | J41: =J46+J51+J56+J61+J66+J71 -> 0 | K41: =K46+K51+K56+K61+K66+K71 -> 0 | L41: =L46+L51+L56+L61+L66+L71 -> 0 | M41: =M46+M51+M56+M61+M66+M71 -> 0 | N41: =N46+N51+N56+N61+N66+N71 -> 0
A42: 35 | D42: módosított előirányzat 6. | I42: =SUM(J42:N42) -> 74000 | J42: =SUM(J40:J41) -> 0 | K42: =SUM(K40:K41) -> 0 | L42: =SUM(L40:L41) -> 15000 | M42: =SUM(M40:M41) -> 0 | N42: =SUM(N40:N41) -> 59000
A43: 36 | D43: ebből: - Veszprémi Ünnepi Játékok | E43: 30000 | F43: 30000 | G43: 30000
A44: 37 | D44: eredeti előirányzat | I44: =SUM(J44:N44) -> 30000 | N44: 30000
A45: 38 | D45: módosított előirányzat 5. | I45: =SUM(J45:N45) -> 30000 | N45: 30000
A46: 39 | D46: módosítás- | I46: =SUM(J46:Q46) -> 0
A47: 40 | D47: módosított előirányzat 6. | I47: =SUM(J47:N47) -> 30000 | N47: =SUM(N45:N46) -> 30000
A48: 41 | D48: - Gizella Napok | E48: 10200 | F48: 15000 | G48: 15000
A49: 42 | D49: eredeti előirányzat | I49: =SUM(J49:N49) -> 15000 | L49: 15000
A50: 43 | D50: módosított előirányzat 5. | I50: =SUM(J50:N50) -> 15000 | L50: 15000
A51: 44 | D51: módosítás- | I51: =SUM(J51:Q51) -> 0
A52: 45 | D52: módosított előirányzat 6. | I52: =SUM(J52:N52) -> 15000 | L52: =SUM(L50:L51) -> 15000
A53: 46 | D53: - Tánc Fesztivál | E53: 2000 | F53: 5000 | G53: 5000
A54: 47 | D54: eredeti előirányzat | I54: =SUM(J54:N54) -> 2000 | N54: 2000
A55: 48 | D55: módosított előirányzat 5. | I55: =SUM(J55:N55) -> 2000 | N55: 2000
A56: 49 | D56: módosítás- | I56: =SUM(J56:Q56) -> 0
A57: 50 | D57: módosított előirányzat 6. | I57: =SUM(J57:N57) -> 2000 | N57: =SUM(N55:N56) -> 2000
A58: 51 | D58: - Veszprémi Utcazene Fesztivál | E58: 15000 | F58: 15000 | G58: 15000
A59: 52 | D59: eredeti előirányzat | I59: =SUM(J59:N59) -> 15000 | N59: 15000
A60: 53 | D60: módosított előirányzat 5. | I60: =SUM(J60:N60) -> 15000 | N60: 15000
A61: 54 | D61: módosítás- | I61: =SUM(J61:Q61) -> 0
A62: 55 | D62: módosított előirányzat 6. | I62: =SUM(J62:N62) -> 15000 | N62: =SUM(N60:N61) -> 15000
A63: 56 | D63: - Magyar Kórusok találkozója | E63: 0 | F63: 2000 | G63: 2000
A64: 57 | D64: eredeti előirányzat | I64: =SUM(J64:N64) -> 2000 | N64: 2000
A65: 58 | D65: módosított előirányzat 5. | I65: =SUM(J65:N65) -> 2000 | N65: 2000
A66: 59 | D66: módosítás- | I66: =SUM(J66:Q66) -> 0
A67: 60 | D67: módosított előirányzat 6. | I67: =SUM(J67:N67) -> 2000 | N67: =SUM(N65:N66) -> 2000
A68: 61 | D68: - Auer Hegedűfesztivál | E68: 5000 | F68: 5000 | G68: 5000
A69: 62 | D69: eredeti előirányzat | I69: =SUM(J69:N69) -> 10000 | N69: 10000
A70: 63 | D70: módosított előirányzat 5. | I70: =SUM(J70:N70) -> 10000 | N70: 10000
A71: 64 | D71: módosítás- | I71: =SUM(J71:Q71) -> 0
A72: 65 | D72: módosított előirányzat 6. | I72: =SUM(J72:N72) -> 10000 | N72: =SUM(N70:N71) -> 10000
A73: 66 | C73: 8 | D73: Városi rendezvények | E73: 4123 | F73: 7000 | G73: 7817 | H73: NK
A74: 67 | D74: eredeti előirányzat | I74: =SUM(J74:N74) -> 10000 | L74: 10000
A75: 68 | D75: módosított előirányzat 5. | I75: =SUM(J75:N75) -> 22864 | J75: 128 | K75: 23 | L75: 22713
A76: 69 | D76: módosítás- átcsoportosítás | I76: =SUM(J76:Q76) -> 0 | J76: 50 | K76: 50 | L76: -100
A77: 70 | D77: módosított előirányzat 6. | I77: =SUM(J77:N77) -> 22864 | J77: =SUM(J75:J76) -> 178 | K77: =SUM(K75:K76) -> 73 | L77: =SUM(L75:L76) -> 22613
A78: 71 | C78: 9 | D78: Eseti rendezvények | E78: 5091 | F78: 4500 | G78: 6008 | H78: NK
A79: 72 | D79: eredeti előirányzat | I79: =SUM(J79:N79) -> 4500 | L79: 4500
A80: 73 | D80: módosított előirányzat 5. | I80: =SUM(J80:N80) -> 24457 | J80: 180 | K80: 156 | L80: 24121
A81: 74 | D81: módosítás- átcsoportosítás | I81: =SUM(J81:Q81) -> 0 | J81: 350 | K81: 100 | L81: -450
A82: 75 | D82: átcsoportosítás Agóra VKK-nak - deportáltak megemlékezés hangosítására | I82: =SUM(J82:Q82) -> -12 | L82: -12
A83: 76 | D83: átcsoportosítás fiatalok napjar rendezvényre | I83: =SUM(J83:Q83) -> -57 | L83: -57
A84: 77 | D84: módosított előirányzat 6. | I84: =SUM(J84:N84) -> 24388 | J84: =SUM(J80:J83) -> 530 | K84: =SUM(K80:K83) -> 256 | L84: =SUM(L80:L83) -> 23602
A85: 78 | C85: 10 | D85: Köztéri szobrok, emléktáblák, lektorátus | E85: 879 | F85: 1000 | G85: 21 | H85: NK
A86: 79 | D86: eredeti előirányzat | I86: =SUM(J86:N86) -> 2000 | L86: 1700 | N86: 300
A87: 80 | D87: módosított előirányzat 5. | I87: =SUM(J87:N87) -> 1200 | L87: =1900-1000 -> 900 | N87: 300
A88: 81 | D88: módosítás- | I88: =SUM(J88:Q88) -> 0
A89: 82 | D89: módosított előirányzat 6. | I89: =SUM(J89:N89) -> 1200 | L89: =SUM(L87:L88) -> 900 | N89: =SUM(N87:N88) -> 300
A90: 83 | C90: 11 | D90: I. Világháborús Centenáriumi Emlékezés költségei | E90: 914 | F90: 3000 | G90: 2657 | H90: NK
A91: 84 | D91: eredeti előirányzat | I91: =SUM(J91:N91) -> 4000 | L91: 4000
A92: 85 | D92: módosított előirányzat 5. | I92: =SUM(J92:N92) -> 3061 | J92: 180 | K92: 93 | L92: 1403 | N92: 1385
A93: 86 | D93: módosítás- átcsoportosítás Laczkó Dezső Múzeumtól - Vörösök, fehérek és románok Veszprémben 1919-ben meghiúsult kiállítás | I93: =SUM(J93:Q93) -> 300 | L93: 300
A94: 87 | D94: módosított előirányzat 6. | I94: =SUM(J94:N94) -> 3361 | J94: =SUM(J92:J93) -> 180 | K94: =SUM(K92:K93) -> 93 | L94: =SUM(L92:L93) -> 1703 | N94: =SUM(N92:N93) -> 1385
A95: 88 | C95: 12 | D95: Kiadványok, folyóiratok támogatása | E95: =SUM(E100,E105,E110,E115,) -> 4755 | F95: =SUM(F100,F105,F110,F115,) -> 6500 | G95: 5498 | H95: NK
A96: 89 | D96: eredeti előirányzat | I96: =SUM(J96:N96) -> 13000 | J96: =SUM(J101,J106,J111,J116,) -> 0 | K96: =SUM(K101,K106,K111,K116,) -> 0 | L96: =SUM(L101,L106,L111,L116,) -> 0 | M96: =SUM(M101,M106,M111,M116,) -> 0 | N96: =SUM(N101,N106,N111,N116,+N121+N126) -> 13000
A97: 90 | D97: módosított előirányzat 5. | I97: =SUM(J97:N97) -> 12460 | J97: =J102+J107+J112+J117+J122+J127+J131 -> 0 | K97: =K102+K107+K112+K117+K122+K127+K131 -> 0 | L97: =L102+L107+L112+L117+L122+L127+L131 -> 0 | M97: =M102+M107+M112+M117+M122+M127+M131 -> 0 | N97: =N102+N107+N112+N117+N122+N127+N131 -> 12460
A98: 91 | D98: módosítás- | I98: =SUM(J98:Q98) -> 0 | J98: =J103+J108+J113+J118+J123+J128 -> 0 | K98: =K103+K108+K113+K118+K123+K128 -> 0 | L98: =L103+L108+L113+L118+L123+L128 -> 0 | M98: =M103+M108+M113+M118+M123+M128 -> 0 | N98: =N103+N108+N113+N118+N123+N128 -> 0
A99: 92 | D99: módosított előirányzat 6. | I99: =SUM(J99:N99) -> 12460 | J99: =SUM(J97:J98) -> 0 | K99: =SUM(K97:K98) -> 0 | L99: =SUM(L97:L98) -> 0 | M99: =SUM(M97:M98) -> 0 | N99: =SUM(N97:N98) -> 12460
A100: 93 | D100: ebből: - Vár Ucca Műhely támogatása | F100: 1500
...

Sheet 6.A Alapítv
B1: 6.A. melléklet a 30/2019. (XII.12.) önkormányzati rendelethez
B2: KIMUTATÁS
B3: Veszprém Megyei Jogú Város Önkormányzata által
B4: alapítványoknak, egyesületeknek, civil szervezeteknek, társadalmi szervezeteknek nyújtott támogatásokról 2019. évben - 2019. december
B5: adatok eFt-ban
B6: A | C6: B
B7: Alapítvány / egyesület / civil szervezet / társadalmi szervezet megnevezése | C7: Támogatás összege
A9: 1 | B9: Veszprémi Szemle Várostörténeti Közhasznú Alapítvány Támogatása | C9: =2000+846 -> 2846
A10: 2 | B10: Ex Symposion Alapítvány | C10: 2000
A11: 3 | B11: Comitatus Társadalomkutató Egyesület - Comitatus Önkormányzati Szemle | C11: 500
A12: 4 | B12: Brusznyai Árpád Alapítvány támogatása | C12: 650
A13: 5 | B13: Veszprém Város Vegyeskar utánpótlás | C13: 1000
A14: 6 | B14: Mendelssohn Kamarazenekar | C14: 83500
A15: 7 | B15: Kiemelt művészeti együttesek támogatása / Veszprém Város Vegyeskara | C15: 5600
A16: 8 | B16: Városi kiemelt fesztiválok / Veszprém Város Vegyeskara | C16: 2000
A17: 9 | B17: Veszprémi Táncegyüttesért Alapítvány | C17: 4500
A18: 10 | B18: Liszt F. Kórus | C18: 3000
A19: 11 | B19: Gizella Kórus/Dowland Alapítvány | C19: 1000
A20: 12 | B20: Civil díj, civil nap költségei | C20: 600
A21: 13 | B21: Veszprémi Ifjúsági Közalapítvány | C21: =14000-5000-3900 -> 5100
A22: 14 | B22: Máltai Szeretetszolgálat | C22: 60000
A23: 15 | B23: Alkohol-Drogsegély Ambulancia Egyesület | C23: 12000
A24: 16 | B24: Örmény Kultúráért Alapítvány | C24: 300
A25: 17 | B25: Tanórán kívüli tevékenység - Veszprémi Fúvóskultúráért Alapítvány | C25: 300
A26: 18 | B26: Tanórán kívüli tevékenység - Veszprémi Táncsics Diáksport Egyesület | C26: 100
A27: 19 | B27: Tanórán kívüli tevékenység / Gyulaffi László Alapítvány | C27: 80
A28: 20 | B28: Tanórán kívüli tevékenység / Képesség- és Tehetségfejlesztő Magániskola | C28: 100
A29: 21 | B29: Kulturális Kínálat bővítése / amatőr művészeti csoportok támogatása - Veszprémi Fúvóskultúráért Alapítvány | C29: 100
A30: 22 | B30: Kulturális Kínálat bővítése / Veszprémi Nyugdíjasok Érdekvédelmi Egyesülete | C30: 100
A31: 23 | B31: Kulturális Kínálat bővítése / Gyulafirátóti Német Nemzetiségi Kulturális Egyesület | C31: 50
A32: 24 | B32: Kulturális Kínálat bővítése / Jutaspusztáért Egyesület | C32: 130
A33: 25 | B33: Kulturális Kínálat bővítése / Bakonyfolk Baráti Kör Egyesület | C33: 100
... A41: 33 | B41: Közművelődési szolgáltatás / Hallgatók a Művészetért Egyesület | C41: 200
A42: 34 | B42: Sporttámogatások
A43: 35 | B43: Veszprém Foci Centrum Utánpótlás SE | C43: 17000
A44: 36 | B44: Veszprémi Egyetemi és Diák Atlétikai Club | C44: 25000
A45: 37 | B45: Futsal Club Veszprém | C45: 30000
A46: 38 | B46: Pannon SE női kézilabda | C46: 6000
A47: 39 | B47: Veszprémi Úszó Klub | C47: 3000
A48: 40 | B48: Balaton Úszó Klub | C48: 3500
A49: 41 | B49: Veszprémi Torna Klub | C49: 6000
A50: 42 | B50: VESC női röplabda | C50: 5000
A51: 43 | B51: Szilágyi DSE | C51: 3200
A52: 44 | B52: Dózsavárosi DSE | C52: 1000
A53: 45 | B53: Veszprémi Jégkorong SE | C53: 1600
A54: 46 | B54: Veszprémi Egyetemi SC | C54: 250
... A121: 113 | B121: Veszprémi Jégsport Egyesület | C121: 2500
A122: 114 | B122: Olimpiai felkészülésre
A123: 115 | B123: Kéri Bianka / Sportolj Velünk SE | C123: 2500
A124: 116 | B124: Orbán Éva / VEDAC | C124: 2500
A125: 117 | B125: Kónya Ádám / Veszprémi Síegylet | C125: 2500
A126: 118 | B126: Rasovszky Kristóf / Balaton Úszóklub | C126: 5000
A127: 119 | B127: Választókerületi keretből civil szervezetek támogatása
A128: 120 | B128: 1. vk.
A129: 121 | B129: Gyulafirátótért Közhasznú Egyesület - működési költségekre, rendezvényekre | C129: 360
A130: 122 | B130: Kövirózsa Alapítvány - Református egyház, Katolikus egyház, Karitasz támogatása, programtámogatás | C130: 557
A131: 123 | B131: Polgári Csapat Ifjúsági és Kulturális Egyesület - működési költségekre, programok szervezésére | C131: 70
A132: 124 | B132: 2. vk.
A133: 125 | B133: Deák Ferenc Iskola alapítványa - működési költségekre, programokra | C133: 600
A134: 126 | B134: Báthorys Gyermekekért Alapítvány - működési költségekre, rendezvényekre | C134: 150
A135: 127 | B135: Fehér Holló Vadmentő Alapítvány - működési költségekre | C135: 100
A136: 128 | B136: Éltes Mátyás Alapítvány - működési költségekre, nyári táborozás költségeire | C136: 100
A137: 129 | B137: Veszprém Szivárvány Integrált Sportegyesület - működési költségekre, rendezvényekre | C137: 100
A138: 130 | B138: BaBAKO Egyesület - működési költségekre, programokra | C138: 100
A139: 131 | B139: Dowland Alapítvány - Gizella Nőikar koncertkörútjára | C139: 70
A140: 132 | B140: Alkohol-Drogsegély Ambulancia Egyesület-működési költségekre, programokra | C140: 200
A141: 133 | B141: Polgári Csapat Ifjúsági és Kulturális Egyesület - működési költségekre, programokra | C141: 200
A142: 134 | B142: 3. vk.
A143: 135 | B143: Éltes Mátyás Alapítvány - működési költségekre,programokra | C143: 100
A144: 136 | B144: Kozmutza Flóra Alapítvány Értelmi Sérült Gyermekekért - működési költségekre, rendezvényekre | C144: 100
A145: 137 | B145: Báthorys Gyermekekért Alapítvány - működési költségekre, rendezvényekre | C145: 400
A146: 138 | B146: BaBaKO Egyesület - működési költségekre, programokra | C146: 80
A147: 139 | B147: Mozgássérültek Aktív Egyesülete - működési költségekre, rendezvényekre | C147: 50
A148: 140 | B148: Peca-Kunyhó Horgász Egyesület - működési költségekre,rendezvényekre | C148: 50
A149: 141 | B149: Vackoló Közhasznú Állatvédő Egyesület - működési költségekre,programokra | C149: 100
A150: 142 | B150: Polgári Csapat Ifjúsági és Kulturális Egyesület - működési költségekre | C150: 50
A151: 143 | B151: 4. vk.
A152: 144 | B152: Hét Domb Hagyományőrző és Kulturális Egyesület - rendezvény, program költségeire | C152: 200
A153: 145 | B153: Veszprémi Deák Ferenc Általános Iskoláért Közhasznú Alapítvány - rendezvények szervezésére | C153: 100
A154: 146 | B154: Polgári Csapat Ifjúsági és Kulturális Egyesület - működési költségekre | C154: 50
A155: 147 | B155: Új Veszprémi Református Templom Alapítvány -közösségi helyiség kialakítására | C155: 200
A156: 148 | B156: Veszprémi Deák Ferenc Általános Iskoláért Közhasznú Alapítvány - rendezvények szervezésére | C156: 200
A157: 149 | B157: Veszprémi Deák Ferenc Általános Iskoláért Közhasznú Alapítvány - jutalom könyvekre | C157: 50
A158: 150 | B158: Veszprémi Deák Ferenc Általános Iskoláért Közhasznú Alapítvány - mosdó felújításra | C158: 400
A159: 151 | B159: Dowland Alapítvány - Gizella Nőikar koncertkörútjára | C159: 50
A160: 152 | B160: Kukkantó Baráti Kör Egyesület-város ismereti vetélkedő szervezésére | C160: 200
A161: 153 | B161: Veszprém Városi Hátrányos Helyzetű Fiatalokért Egyesület - jótékonysági bál, füzetcsomagok beszerzése | C161: 50
A162: 154 | B162: 5. vk.
A163: 155 | B163: Dowland Alapítvány - Gizella Nőikar dániai koncert körút költségeire | C163: 70
A164: 156 | B164: Veszprémi Lovassy és volt Piarista Gimnázium Öregdiákjainak Baráti Köre - működési költségekre és kirándulás szervezésére | C164: 100
A165: 157 | B165: Polgári Csapat Ifjúsági és Kulturális Egyesület - működési költségekre,rendezvényekre | C165: 50
A166: 158 | B166: Veszprémi Újtelepi Baráti Kör - Kirándulás, programok megvalósítására | C166: 135
A167: 159 | B167: Brusznyai Árpád Alapítvány Veszprém - évfordulós kiadványra | C167: 100
A168: 160 | B168: Veszprémi Lovassy és Volt piarista Gimnázium Öregdiákjainak Barát Köre - működési költségekre és kirándulásra | C168: 100
A169: 161 | B169: 6. vk.
A170: 162 | B170: Kittenberger Zoo Alapítvány - működési költségekre, programokra (2018) | C170: 300
A171: 163 | B171: Kertvárosi Városvédő Egyesület - működési költségekre,programokra | C171: 100
A172: 164 | B172: Kittenberger Zoo Alapítvány - működési költségekre, programokra | C172: 300
A173: 165 | B173: Tihanyi Alapítvány - Matthias Corvinus Collegium működésére, programjaira | C173: 40
A174: 166 | B174: Veszprém Egyházmegyei Alapítvány -Magyarok Nagyasszony Mindszenty Emléktempl. nyílászáró csere | C174: 300
...

Sheet 7.Beruh.
B1: 7. melléklet a 30/2019. (XII.12.) önkormányzati rendelethez
B2: Veszprém Megyei Jogú Város Önkormányzata
B3: 2019. évi beruházási és egyéb felhalmozási célú kiadások előirányzatainak módosítása - 2019. december
M4: adatok eFt-ban
B5: A | C5: B | D5: C | E5: D | F5: E | G5: F | H5: G | I5: H | J5: I | K5: J | L5: K | M5: L
B6: Cím | C6: Alcím | D6: Megnevezés | E6: Feladatellátás jellege | F6: Teljes költség | G6: Teljesítés 2017. 12.31.-ig | H6: 2018. évi tény | I6: 2019. évi eredeti előirányzat | J6: 2019. évi módosított előirányzat 5. | K6: Módosítás | L6: 2019. évi módosított előirányzat 6. | M6: 2019. év utáni javaslat
A7: 1 | B7: 18 | C7: Önkormányzati beruházási kiadások
A8: 2 | C8: 1 | D8: TOP-6.2.1-16-VP1-2018-00002 Egry úti óvoda újjáépítése | E8: NK | F8: =G8+H8+L8+M8 -> 1103100 | I8: =918181-1635 -> 916546 | J8: 916546 | L8: =SUM(J8:K8) -> 916546 | M8: 186554
A9: 3 | C9: 2 | D9: TOP-6.2.1-15-VP1-2016-00002 Gyulafirátóti óvoda újjáépítése | E9: NK | F9: =G9+H9+L9+M9 -> 867061 | G9: =10953+1020 -> 11973 | H9: 229 | I9: 852614 | J9: 854859 | L9: =SUM(J9:K9) -> 854859
A10: 4 | C10: 3 | D10: TOP-6.3.3-16-VP1-2017-00001 Dózsaváros, Pápai úti csapadékvíz-elvezető rendszer fejlesztése | E10: NK | F10: =G10+H10+L10+M10 -> 291045 | H10: 4280 | I10: 42322 | J10: 286765 | L10: =SUM(J10:K10) -> 286765
A11: 5 | C11: 4 | D11: TOP-6.4.1-15-VP1-2016-00001 Közlekedésbiztonsági és kerékpárosbarát fejlesztések magvalósulása Veszprém város területén | E11: NK | F11: =G11+H11+L11+M11 -> 1109415 | G11: 44965 | H11: 381764 | I11: 697540 | J11: 682686 | L11: =SUM(J11:K11) -> 682686
A12: 6 | C12: 5 | D12: TOP-6.1.5-16-VP1-2017-00001 Északi Iparterület Közlekedés-fejlesztése | E12: NK | F12: =G12+H12+L12+M12 -> 3583328 | G12: 115020 | H12: 324225 | I12: 607839 | J12: 2850083 | L12: =SUM(J12:K12) -> 2850083 | M12: 294000
A13: 7 | C13: 6 | D13: TOP-6.4.1-16-VP1 Kerékpárút építése Alsóörs - Felsőörs irányába | E13: NK | F13: =G13+H13+L13+M13 -> 229555 | H13: 9271 | I13: 218251 | J13: 208284 | L13: =SUM(J13:K13) -> 208284 | M13: 12000
A14: 8 | C14: 7 | D14: TOP-6.6.1-16-VP1-2017-00002 Kádártai rendelő kialakítása | E14: NK | F14: =G14+H14+L14+M14 -> 64839 | H14: 143 | I14: =56494+10000 -> 66494 | J14: 64696 | L14: =SUM(J14:K14) -> 64696
A15: 9 | C15: 8 | D15: TOP – 6.3.2 Zöldváros kialakítása (Kulturális negyed - Színházkert, Megyeház tér, Erzsébet liget, Erzsébet sétány – fejlesztése) | E15: NK | F15: =G15+H15+L15+M15 -> 0 | I15: 789391 | J15: 0 | L15: =SUM(J15:K15) -> 0
A16: 10 | C16: 9 | D16: TOP-6.3.2-16-VP1-2018-00001 Kulturális negyed | E16: NK | F16: =G16+H16+L16+M16 -> 1586222 | H16: 16505 | J16: 1493717 | L16: =SUM(J16:K16) -> 1493717 | M16: 76000
A17: 11 | C17: 10 | D17: TOP- 7.1.1 Helyi közösségi kezdeményezések (CLLD kulcsprojekt előkészítése) | E17: NK | F17: =G17+H17+L17+M17 -> 0 | I17: 244376 | J17: 0 | L17: =SUM(J17:K17) -> 0
A18: 12 | C18: 11 | D18: TOP-7.1.1-16-H-ERFA-2019-00078 Szent Miklós-szegi Kálvária domb és környékének infrastrukturális felújítása és funkcióbővítése | E18: NK | F18: =G18+H18+L18+M18 -> 258379 | H18: 4379 | J18: 254000 | L18: =SUM(J18:K18) -> 254000
A19: 13 | C19: 12 | D19: TOP-7.1.1-16 CLLD Városrészi közösség és kulturális terek felújítása | E19: NK | F19: =G19+H19+L19+M19 -> 6137 | I19: =3155+2982 -> 6137 | J19: 6137 | L19: =SUM(J19:K19) -> 6137
A20: 14 | C20: 13 | D20: TOP-6.4.1-16-VP1 Kerékpárút építése Márkó-Bánd települések irányába | E20: NK | F20: =G20+H20+L20+M20 -> 479000 | I20: 43600 | J20: 479000 | L20: =SUM(J20:K20) -> 479000
A21: 15 | C21: 14 | D21: TOP – 6.9.2 A helyi identitás és kohézió erősítése | E21: NK | F21: =G21+H21+L21+M21 -> 0 | I21: 184000 | J21: 0 | L21: =SUM(J21:K21) -> 0
A22: 16 | C22: 15 | D22: TOP-6.5.1-16-VP1-2018-00006 Módszertani Bölcsőde energetikai megújítása | E22: NK | F22: =G22+H22+L22+M22 -> 334603 | H22: 6401 | I22: =215705+44000 -> 259705 | J22: 298327 | L22: =SUM(J22:K22) -> 298327 | M22: =44875-44000+29000 -> 29875
A23: 17 | C23: 16 | D23: TOP-6.2.1-16-VP1-2018-00001 A Veszprémi Bölcsődei és Egészségügyi Alapellátási Integrált Intézmény Módszertani Bölcsődéje megújítása, illetve bölcsődei eszközbeszerzések | E23: NK | F23: =G23+H23+L23+M23 -> 200171 | H23: 4794 | I23: =86052-435+109000 -> 194617 | J23: 194617 | L23: =SUM(J23:K23) -> 194617 | M23: =109760-109000 -> 760
A24: 18 | C24: 17 | D24: TOP-6.6.1-16-VP1-2018-00006 - Cserhát ltp.1.sz.alatti gyermekorvosi rendelők felújítása | E24: NK | F24: =G24+H24+L24+M24 -> 3556 | H24: 3556 | I24: =28738-170 -> 28568 | J24: 0 | L24: =SUM(J24:K24) -> 0
A25: 19 | C25: 18 | D25: TOP-6.6.1-16-VP1-2018-00004 Vilonyai utca 2/B szám alatti orvosi rendelő megújítása | E25: NK | F25: =G25+H25+L25+M25 -> 50522 | H25: 1956 | I25: 39537 | J25: 41498 | L25: =SUM(J25:K25) -> 41498 | M25: 7068
A26: 20 | C26: 19 | D26: TOP-6.6.1-16-VP1-2018-00005 Ördögárok u. 5. szám alatti orvosi rendelő megújítása | E26: NK | F26: =G26+H26+L26+M26 -> 92739 | H26: 2459 | I26: 53492 | J26: 53222 | L26: =SUM(J26:K26) -> 53222 | M26: =22058+15000 -> 37058
A27: 21 | C27: 20 | D27: TOP-6.5.1-16-VP1-2018-00005 - Március 15. utcai Sportcsarnok és Uszoda energetikai megújítása | E27: NK | F27: =G27+H27+L27+M27 -> 804913 | H27: 6414 | I27: =781615-24602 -> 757013 | J27: 757099 | L27: =SUM(J27:K27) -> 757099 | M27: 41400
A28: 22 | C28: 21 | D28: TOP-6.5.1 - 16- VP1-2018-00004 Aprófalvi Bölcsőde energetikai korszerűsítése | E28: NK | F28: =G28+H28+L28+M28 -> 282298 | G28: 6699 | I28: 223100 | J28: 222822 | L28: =SUM(J28:K28) -> 222822 | M28: =275877-223100 -> 52777
A29: 23 | C29: 22 | D29: TOP-6.5.1-16-VP1-2018-00002 Völgyikút utca 2. szám alatti épület energetikai megújítása | E29: NK | F29: =G29+H29+L29+M29 -> 172115 | G29: 6541 | I29: =134273-3632 -> 130641 | J29: 130641 | L29: =SUM(J29:K29) -> 130641 | M29: 34933
A30: 24 | C30: 23 | D30: TOP-6.5.1-16-VP1-2018-00003 Laczkó Dezső Múzeum energetikai megújítása | E30: NK | F30: =G30+H30+L30+M30 -> 0 | I30: 147420 | J30: 0 | L30: =SUM(J30:K30) -> 0
A31: 25 | C31: 24 | D31: TOP-6.6.1-16-VP1-2018-0003 "Jutasi u. 59. sz. alatti orvosi rendelők megújítása" | E31: NK | F31: =G31+H31+L31+M31 -> 72078 | H31: 4826 | I31: 76700 | J31: 67212 | K31: 40 | L31: =SUM(J31:K31) -> 67252
A32: 26 | C32: 25 | D32: TOP-6.6.1-16-VP1-2017-00001 Gyulafirátóti rendelő felújítása | E32: NK | F32: =G32+H32+L32+M32 -> 61142 | H32: 30272 | I32: 2003 | J32: 30870 | L32: =SUM(J32:K32) -> 30870
A33: 27 | C33: 26 | D33: TOP-6.9 "Közösségfejlesztés Veszprém város településrészein | E33: NK | F33: =G33+H33+L33+M33 -> 2500 | I33: 2500 | J33: 2500 | L33: =SUM(J33:K33) -> 2500
A34: 28 | C34: 27 | D34: GINOP - 7.1.9-17-2018-00023 Veszprém kulturális turisztikai kínálatának fejlesztése | E34: NK | F34: =G34+H34+L34+M34 -> 1336766 | H34: 28000 | I34: 530299 | J34: 515681 | L34: =SUM(J34:K34) -> 515681 | M34: 793085
A35: 29 | C35: 28 | D35: URBACT Innova Tor | E35: NK | F35: =G35+H35+L35+M35 -> 12239 | I35: 6859 | J35: 0 | L35: =SUM(J35:K35) -> 0 | M35: 12239
A36: 30 | C36: 29 | D36: DTP1-1-311-2.2 Interreg Duna Nemzetközi Program Networld* | E36: NK | F36: =G36+H36+L36+M36 -> 1575 | G36: 241 | H36: 1334 | I36: 3930 | J36: 0 | L36: =SUM(J36:K36) -> 0
A37: 31 | C37: 30 | D37: Erasmus +K3 SporTown | E37: NK | F37: =G37+H37+L37+M37 -> 7345 | H37: 7345 | I37: 5444 | J37: 0 | L37: =SUM(J37:K37) -> 0
A38: 32 | C38: 31 | D38: KEHOP-5.4.1-16-2016-00142 "Veszprém, az energiatudatos város" | E38: NK | F38: =G38+H38+L38+M38 -> 4792 | I38: 4792 | J38: 4792 | L38: =SUM(J38:K38) -> 4792
A39: 33 | C39: 32 | D39: TOP-6.3.3-15-VP1-2016-00001 Kertváros csapadékelvezető rendszer rekonstrukciója I. ütem | E39: NK | F39: =G39+H39+L39+M39 -> 260817 | G39: 160545 | H39: 86833 | J39: 13439 | L39: =SUM(J39:K39) -> 13439
A40: 34 | C40: 33 | D40: TOP 6.5.1-16 Önkormányzati épületek energetikai korszerűsítése | E40: NK | F40: =G40+H40+L40+M40 -> 14326 | H40: 10198 | J40: 4128 | L40: =SUM(J40:K40) -> 4128
A41: 35 | C41: 34 | D41: MVP Veszprémi Petőfi Színház komplex fejlesztése | E41: NK | F41: =G41+H41+L41+M41 -> 12297770 | H41: 324077 | I41: 4114047 | J41: 4352423 | K41: -232 | L41: =SUM(J41:K41) -> 4352191 | M41: 7621502
A42: 36 | C42: 35 | D42: MVP Kittenberger Kálmán Növény- és Vadaspark fejlesztése és bővítése | E42: NK | F42: =G42+H42+L42+M42 -> 1713969 | G42: 11938 | H42: 1269872 | J42: 140031 | K42: -200 | L42: =SUM(J42:K42) -> 139831 | M42: 292328
A43: 37 | C43: 36 | D43: MVP Veszprémi Atlétikai Stadion felújítása - I.ütem | E43: NK | F43: =G43+H43+L43+M43 -> 249500 | I43: 100000 | J43: 249500 | L43: =SUM(J43:K43) -> 249500
A44: 38 | C44: 37 | D44: MVP Veszprémi Atlétikai Stadion felújítása - II.ütem | E44: NK | F44: =G44+H44+L44+M44 -> 955800 | J44: 955800 | L44: =SUM(J44:K44) -> 955800
A45: 39 | C45: 38 | D45: MVP Veszprémi Zeneművészeti Szakgimnázium és Alapfokú Művészeti Iskola intézményegysége, a Csermák Antal Zeneiskola felújításának megvalósítása | E45: NK | F45: =G45+H45+L45+M45 -> 1638510 | H45: 6510 | I45: 754957 | J45: 1632000 | L45: =SUM(J45:K45) -> 1632000
A46: 40 | C46: 39 | D46: MVP "Veszprémi új Városi Jégcsarnok építése" | E46: NK | F46: =G46+H46+L46+M46 -> 35789 | H46: 10737 | I46: 65545 | J46: 25052 | L46: =SUM(J46:K46) -> 25052
A47: 41 | C47: 40 | D47: MVP "Veszprémi új Városi Jégcsarnok építése" II. ütem | E47: NK | F47: =G47+H47+L47+M47 -> 300000 | J47: 300000 | L47: =SUM(J47:K47) -> 300000
A48: 42 | C48: 41 | D48: MVP Iparos Park kialakítása | E48: NK | F48: =G48+H48+L48+M48 -> 5230358 | J48: 835036 | K48: -2000 | L48: =SUM(J48:K48) -> 833036 | M48: 4397322
A49: 43 | C49: 42 | D49: Önkormányzati érdekeket érintő településrendezése eszközök módosítása-2019 | E49: NK | F49: =G49+H49+L49+M49 -> 10079 | I49: 3000 | J49: 10079 | L49: =SUM(J49:K49) -> 10079
A50: 44 | C50: 43 | D50: Petőfi Sándor utca rekonstrukciója I-III. ütem | E50: NK | F50: =G50+H50+L50+M50 -> 218205 | H50: 83462 | J50: 134743 | L50: =SUM(J50:K50) -> 134743
A51: 45 | C51: 44 | D51: Petőfi Sándor utca rekonstrukciója III. ütem | E51: NK | F51: =G51+H51+L51+M51 -> 0 | I51: 50000 | J51: 0 | L51: =SUM(J51:K51) -> 0
A52: 46 | C52: 45 | D52: Vörösmarty tér tömbbelső fejlesztés, I. ütem (csapadékvíz elvezetés kiépítése) + II. ütem | E52: NK | F52: =G52+H52+L52+M52 -> 74699 | H52: 18391 | I52: 55000 | J52: 56308 | L52: =SUM(J52:K52) -> 56308
A53: 47 | C53: 46 | D53: Kulturális negyed tervezése II. ütem | E53: NK | F53: =G53+H53+L53+M53 -> 7620 | I53: 4500 | J53: 7620 | L53: =SUM(J53:K53) -> 7620
A54: 48 | C54: 47 | D54: Jutaspusztai kerékpárút tervezés előkészítése | E54: NK | F54: =G54+H54+L54+M54 -> 0 | I54: 2000 | J54: 0 | L54: =SUM(J54:K54) -> 0
A55: 49 | C55: 48 | D55: Bolgár Mihály utcai híd áteresz kapacitás bővítés, tervezés, engedélyezés, kivitelezés | E55: NK | F55: =G55+H55+L55+M55 -> 2000 | I55: 2000 | J55: 2000 | L55: =SUM(J55:K55) -> 2000
A56: 50 | C56: 49 | D56: Brusznyai utcai csapadékvíz csatorna rekonstrukció I. ütem (alsó szakasz) tervezés, engedélyezés, kivitelezés | E56: NK | F56: =G56+H56+L56+M56 -> 22500 | I56: 22500 | J56: 22500 | L56: =SUM(J56:K56) -> 22500
A57: 51 | C57: 50 | D57: Egry utcai óvoda új villamos és gáz betáp vezeték tervezése és kiépítése, villamos kapacitásbővítés | E57: NK | F57: =G57+H57+L57+M57 -> 4260 | I57: 3400 | J57: 3400 | K57: 860 | L57: =SUM(J57:K57) -> 4260
A58: 52 | C58: 51 | D58: Bóbita óvodában elhelyezendő konténer óvodák | E58: NK | F58: =G58+H58+L58+M58 -> 3556 | I58: 16200 | J58: 3556 | L58: =SUM(J58:K58) -> 3556
A59: 53 | C59: 52 | D59: Gyulafirátóti köztéri játszótér eszközeinek elhelyezése | E59: NK | F59: =G59+H59+L59+M59 -> 3000 | I59: 3000 | J59: 3000 | L59: =SUM(J59:K59) -> 3000
A60: 54 | C60: 53 | D60: Sorompó utca járdaépítés | E60: NK | F60: =G60+H60+L60+M60 -> 2080 | I60: 2000 | J60: 2080 | L60: =SUM(J60:K60) -> 2080
A61: 55 | C61: 54 | D61: Sorompó utca hiányzó járdaszakasz tervek | E61: NK | F61: =G61+H61+L61+M61 -> 290 | J61: 290 | L61: =SUM(J61:K61) -> 290
A62: 56 | C62: 55 | D62: Egyetemváros, zöldterület rendezés | E62: NK | F62: =G62+H62+L62+M62 -> 2722 | I62: 4000 | J62: 2722 | L62: =SUM(J62:K62) -> 2722
A63: 57 | C63: 56 | D63: Engedélyek megújítása | E63: NK | F63: =G63+H63+L63+M63 -> 0 | I63: 3000 | J63: 0 | L63: =SUM(J63:K63) -> 0
A64: 58 | C64: 57 | D64: Török I.u. - Aulich összekötés | E64: NK | F64: =G64+H64+L64+M64 -> 71393 | H64: 1765 | I64: 25800 | J64: 69628 | L64: =SUM(J64:K64) -> 69628
A65: 59 | C65: 58 | D65: 82-es út közlekedésbiztonsági fejlesztése | E65: NK | F65: =G65+H65+L65+M65 -> 45000 | I65: 45000 | J65: 45000 | L65: =SUM(J65:K65) -> 45000
A66: 60 | C66: 59 | D66: Közvilágítás bővítések (tervezés, kivitelezés) 2011. évi CLXXXIX törvény | E66: K | F66: =G66+H66+L66+M66 -> 45924 | G66: 9924 | H66: 9956 | I66: 16000 | J66: 26044 | L66: =SUM(J66:K66) -> 26044
A67: 61 | C67: 60 | D67: Vár u. 10. épület felújításának előkészítése, tervezés | E67: NK | F67: =G67+H67+L67+M67 -> 8000 | I67: 28000 | J67: 8000 | L67: =SUM(J67:K67) -> 8000
A68: 62 | C68: 61 | D68: Aradi vértanuk emlékművének elkészítése | E68: NK | F68: =G68+H68+L68+M68 -> 15000 | I68: 15000 | J68: 15000 | L68: =SUM(J68:K68) -> 15000
A69: 63 | C69: 62 | D69: Programiroda Kft. törzstőke emelés | E69: NK | F69: =G69+H69+L69+M69 -> 3420 | G69: 3210 | H69: 110 | I69: 100 | J69: 100 | L69: =SUM(J69:K69) -> 100
A70: 64 | C70: 63 | D70: Programiroda Kft. tőketartalékba helyezés | E70: NK | F70: =G70+H70+L70+M70 -> 142880 | G70: 84090 | H70: 35890 | I70: 22900 | J70: 22900 | L70: =SUM(J70:K70) -> 22900
A71: 65 | C71: 64 | D71: Swing-Swing Kft. törzstőke emelés | E71: NK | F71: =G71+H71+L71+M71 -> 100070 | G71: 100050 | H71: 10 | I71: 10 | J71: 10 | L71: =SUM(J71:K71) -> 10
A72: 66 | C72: 65 | D72: Swing-Swing Kft. tőketartalékba helyezés | E72: NK | F72: =G72+H72+L72+M72 -> 619930 | G72: =379860+90 -> 379950 | H72: 119990 | I72: 119990 | J72: 119990 | L72: =SUM(J72:K72) -> 119990
A73: 67 | C73: 66 | D73: Swing-Swing Kft. Üzletrész vásárlás | E73: NK | F73: =G73+H73+L73+M73 -> 201326 | I73: 50326 | J73: 201326 | L73: =SUM(J73:K73) -> 201326
A74: 68 | C74: 67 | D74: Veszprém - Balaton 2023 Zrt. törzstőke emelés | E74: NK | F74: =G74+H74+L74+M74 -> 1600 | H74: 100 | I74: =100+1000-100 -> 1000 | J74: 1500 | L74: =SUM(J74:K74) -> 1500
A75: 69 | C75: 68 | D75: Veszprém - Balaton 2023 Zrt. tőketartalékba helyezés | E75: NK | F75: =G75+H75+L75+M75 -> 278100 | H75: 82900 | I75: =149400-1000+100 -> 148500 | J75: 195200 | L75: =SUM(J75:K75) -> 195200
A76: 70 | C76: 69 | D76: Veszprém - Balaton Zrt. Részvényvásárlás | E76: NK | F76: =G76+H76+L76+M76 -> 7800 | I76: 6000 | J76: 7800 | L76: =SUM(J76:K76) -> 7800
A77: 71 | C77: 70 | D77: V-Busz Kft törzstőke | E77: NK | F77: =G77+H77+L77+M77 -> 3110 | H77: 3010 | I77: 100 | J77: 100 | L77: =SUM(J77:K77) -> 100
A78: 72 | C78: 71 | D78: V-Busz Kft tőketartalékba helyezés | E78: NK | F78: =G78+H78+L78+M78 -> 208000 | H78: 85000 | I78: 123000 | J78: 123000 | L78: =SUM(J78:K78) -> 123000
A79: 73 | C79: 72 | D79: VESZOL Kft. törzstőke emelés | E79: NK | F79: =G79+H79+L79+M79 -> 20 | H79: 10 | J79: 10 | L79: =SUM(J79:K79) -> 10
A80: 74 | C80: 73 | D80: VESZOL Kft. tőketartalékba helyezés | E80: NK | F80: =G80+H80+L80+M80 -> 1861 | H80: 1138 | J80: 723 | L80: =SUM(J80:K80) -> 723
A81: 75 | C81: 74 | D81: Herendi műtárgy felállítása belvárosi körforgalomba | E81: NK | F81: =G81+H81+L81+M81 -> 7000 | I81: 7000 | J81: 7000 | L81: =SUM(J81:K81) -> 7000
A82: 76 | C82: 75 | D82: Erdőtelepítés és utógondozás (a 241/2009.(IX.15.) Közgyűlési határozat; Erdészeti Hatóság 28.3/1176-7/2010.(V.25.) és VE-G-001/3883-8/2013. sz. határozata; 298/2009.(X.20.) Vfkb és 48/2010.(II.16.) Vfkb | E82: K | F82: =G82+H82+L82+M82 -> 40832 | G82: 11933 | H82: 7351 | I82: 4000 | J82: 21548 | L82: =SUM(J82:K82) -> 21548
A83: 77 | C83: 76 | D83: Játszótér építések | E83: NK | F83: =G83+H83+L83+M83 -> 48467 | G83: 26235 | H83: 11033 | I83: 6500 | J83: 11199 | L83: =SUM(J83:K83) -> 11199
A84: 78 | C84: 77 | D84: Utcanévtáblák | E84: K | F84: =G84+H84+L84+M84 -> 7500 | G84: 2058 | I84: 1000 | J84: 5442 | L84: =SUM(J84:K84) -> 5442
A85: 79 | C85: 78 | D85: Kézi hulladékgyűjtők beszerzése | E85: NK | F85: =G85+H85+L85+M85 -> 5000 | G85: 248 | H85: 251 | I85: 2000 | J85: 4501 | L85: =SUM(J85:K85) -> 4501
A86: 80 | C86: 79 | D86: Padbeszerzés és kihelyezés (141/2008(IV.22.) VFKB és 215/2008(VI.20.) VFKB | E86: NK | F86: =G86+H86+L86+M86 -> 9000 | G86: 3500 | H86: 2500 | I86: 3000 | J86: 3000 | L86: =SUM(J86:K86) -> 3000
A87: 81 | C87: 80 | D87: Térfigyelő rendszer bővítése 51/2011. (IV.29.) VMJV Önk. | E87: NK | F87: =G87+H87+L87+M87 -> 30000 | I87: 10000 | J87: 30000 | L87: =SUM(J87:K87) -> 30000
A88: 82 | C88: 81 | D88: Karácsonyi köztéri dekorációk beszerzése | E88: NK | F88: =G88+H88+L88+M88 -> 16400 | H88: 11091 | I88: 5000 | J88: 5309 | L88: =SUM(J88:K88) -> 5309
A89: 83 | C89: 82 | D89: Ivókút létesítése | E89: NK | F89: =G89+H89+L89+M89 -> 650 | I89: 650 | J89: 650 | L89: =SUM(J89:K89) -> 650
A90: 84 | C90: 83 | D90: Március 15. u. Uszoda HMV vízmelegítés értéktartó szabályozás kiépítése | E90: NK | F90: =G90+H90+L90+M90 -> 1784 | J90: 1784 | L90: =SUM(J90:K90) -> 1784
A91: 85 | C91: 84 | D91: Veszprém 0105/1 hrsz.alatti nem veszélyes hulladéklerakó részletes tényfeltárása | E91: NK | F91: =G91+H91+L91+M91 -> 19000 | I91: 19000 | J91: 19000 | L91: =SUM(J91:K91) -> 19000
A92: 86 | C92: 85 | D92: Infrastruktúra fejlesztési feladatokhoz kapcsolódó kiadások | E92: NK | F92: =G92+H92+L92+M92 -> 12576 | H92: 8127 | I92: 4000 | J92: 2749 | K92: 1700 | L92: =SUM(J92:K92) -> 4449
A93: 87 | C93: 86 | D93: Óvodai pályaépítési program | E93: NK | F93: =G93+H93+L93+M93 -> 1669 | I93: 6935 | J93: 1669 | L93: =SUM(J93:K93) -> 1669
A94: 88 | D94: Agóra Veszprém Kulturális Központ
A95: 89 | C95: 87 | D95: Villámhárító tervezése, kivitelezése (Gyulafirátót) | E95: NK | F95: =G95+H95+L95+M95 -> 2500 | I95: 2500 | J95: 2500 | L95: =SUM(J95:K95) -> 2500
A96: 90 | C96: 88 | D96: 6.vk. Gyalogátkelőhely tervezése (Ady E. u.) | E96: NK | F96: =G96+H96+L96+M96 -> 900 | J96: 900 | L96: =SUM(J96:K96) -> 900
A97: 91 | C97: 89 | D97: 6.vk. Konstruktív dézsa | E97: NK | F97: =G97+H97+L97+M97 -> 1079 | J97: 1079 | L97: =SUM(J97:K97) -> 1079
A98: 92 | C98: 90 | D98: 7.vk. Zárt konténertároló létesítésére a Cholnoky u. 25-27. Társasháznál | E98: NK | F98: =G98+H98+L98+M98 -> 67 | J98: 67 | L98: =SUM(J98:K98) -> 67
A99: 93 | C99: 91 | D99: 8.vk. Hulladékgyűjtő elhelyezése a Kalmár térre | E99: NK | F99: =G99+H99+L99+M99 -> 69 | J99: 69 | L99: =SUM(J99:K99) -> 69
A100: 94 | C100: 92 | D100: 8.vk. 2 db utcai pad és 1 db sörpad garnitúra Kalmár térre | E100: NK | F100: =G100+H100+L100+M100 -> 402 | J100: 402 | L100: =SUM(J100:K100) -> 402
...

Sheet 8.Felúj.
B1: 8. melléklet a 30/2019. (XII.12.) önkormányzati rendelethez
B2: Veszprém Megyei Jogú Város Önkormányzata
B3: 2019. évi felújítási kiadások előirányzatainak módosítása - 2019. december
H4: adatok eFt-ban
B5: A | C5: B | D5: C | E5: D | F5: E | G5: F | H5: G | I5: H | J5: I | K5: J | L5: K
B6: Cím | C6: Alcím | D6: Megnevezés | E6: Feladatellátás jellege | F6: Teljes költség | G6: 2018. évi tény | H6: 2019. évi eredeti előirányzat | I6: 2019. évi módosított előirányzat 5. | J6: Módosítás | K6: 2019. módosított előirányzat 6. | L6: 2019. év utáni javaslat
A7: 1 | B7: 18 | D7: Önkormányzati felújítási kiadások
A8: 2 | C8: 1 | D8: Játszóeszközök felújítása (78/2003 GKM rendelet) | E8: K | F8: =G8+K8+L8 -> 20093 | G8: 10000 | H8: 9000 | I8: 10093 | K8: =SUM(I8:J8) -> 10093
A9: 3 | C9: 2 | D9: Köztéri műalkotások rekonstrukciója, körforgalmakban lévő fa műtárgyak felületkezelése, állagmegóvása | E9: NK | F9: =G9+K9+L9 -> 1304 | G9: 873 | H9: 3000 | I9: =5931-5500 -> 431 | K9: =SUM(I9:J9) -> 431
A10: 4 | C10: 3 | D10: Elhasználódott labdapályák felújítása és balesetveszély elhárítás | E10: NK | F10: =G10+K10+L10 -> 3955 | G10: 1955 | H10: 2000 | I10: 2000 | K10: =SUM(I10:J10) -> 2000
A11: 5 | C11: 4 | D11: Nagyfelületű út- és járdafelújítások | E11: NK | F11: =G11+K11+L11 -> 315208 | G11: 127108 | H11: 100000 | I11: 188100 | K11: =SUM(I11:J11) -> 188100
A12: 6 | C12: 5 | D12: Vízrendezési feladatok, árkok felújítása | E12: K | F12: =G12+K12+L12 -> 30000 | H12: 30000 | I12: 30000 | K12: =SUM(I12:J12) -> 30000
A13: 7 | C13: 6 | D13: Földutak felújítása | E13: NK | F13: =G13+K13+L13 -> 0 | H13: 4000 | I13: 0 | K13: =SUM(I13:J13) -> 0
A14: 8 | C14: 7 | D14: Köztéri padok felújítása | E14: NK | F14: =G14+K14+L14 -> 0 | H14: 1000 | I14: 0 | K14: =SUM(I14:J14) -> 0
A15: 9 | C15: 8 | D15: Védett sírok felújítása az Alsóvárosi temetőben | E15: NK | F15: =G15+K15+L15 -> 11234 | G15: 9999 | H15: 2000 | I15: =4735-3500 -> 1235 | K15: =SUM(I15:J15) -> 1235
A16: 10 | C16: 9 | D16: Dózsa György u. 2.sz. alatti épület felújítása | E16: NK | F16: =G16+K16+L16 -> 0 | H16: 130000 | I16: 0 | K16: =SUM(I16:J16) -> 0
A17: 11 | C17: 10 | D17: Polgármesteri Hivatal felújítási munkák | E17: NK | F17: =G17+K17+L17 -> 11357 | G17: 2350 | H17: 53271 | I17: 9007 | K17: =SUM(I17:J17) -> 9007
A18: 12 | C18: 11 | D18: Kertészeti felújítások | E18: NK | F18: =G18+K18+L18 -> 28500 | I18: 28500 | K18: =SUM(I18:J18) -> 28500
A19: 13 | C19: 12 | D19: Vár utca kockakő burkolat felújítása | E19: NK | F19: =G19+K19+L19 -> 20000 | I19: 20000 | K19: =SUM(I19:J19) -> 20000
A20: 14 | C20: 13 | D20: Kertvárosi utcák felújítása víziközmű rekonstrukció után | E20: NK | F20: =G20+K20+L20 -> 78000 | G20: 330 | H20: 36000 | I20: 77670 | K20: =SUM(I20:J20) -> 77670
A21: 15 | C21: 14 | D21: Önkormányzati bérlakások felújítása | E21: NK | F21: =G21+K21+L21 -> 23500 | H21: 23500 | I21: 23500 | K21: =SUM(I21:J21) -> 23500
A22: 16 | C22: 15 | D22: Hősök kapuja, Vár u. 2. tetőterasz beázás és falak felszívódó nedvesség elleni szigetelése | E22: NK | F22: =G22+K22+L22 -> 635 | H22: 3850 | I22: 3891 | J22: -3256 | K22: =SUM(I22:J22) -> 635
A23: 17 | C23: 16 | D23: Egry úti Óvoda újjáépítése miatt szükséges óvodai felújítások, konténer ovi telepítése | E23: NK | F23: =G23+K23+L23 -> 24832 | H23: 6800 | I23: 24832 | K23: =SUM(I23:J23) -> 24832
A24: 18 | C24: 17 | D24: Evangélikus Óvoda tető felújítása | E24: NK | F24: =G24+K24+L24 -> 6900 | H24: 7500 | I24: 6900 | K24: =SUM(I24:J24) -> 6900
A25: 19 | C25: 18 | D25: Gyulafirátót, Posta utcai csapadékvíz elvezető árok részleges felújítása | E25: NK | F25: =G25+K25+L25 -> 2200 | H25: 2200 | I25: 2200 | K25: =SUM(I25:J25) -> 2200
A26: 20 | C26: 19 | D26: Nem lakás célú helyiségek felújítási igénye | E26: NK | F26: =G26+K26+L26 -> 5000 | H26: 5000 | I26: 5000 | K26: =SUM(I26:J26) -> 5000
A27: 21 | C27: 20 | D27: Földmérési jelek felújítása | E27: NK | F27: =G27+K27+L27 -> 0 | H27: 1620 | I27: 0 | K27: =SUM(I27:J27) -> 0
A28: 22 | C28: 21 | D28: Gyepmesteri telep kerítés felújítása | E28: K | F28: =G28+K28+L28 -> 1500 | I28: 1500 | K28: =SUM(I28:J28) -> 1500
A29: 23 | C29: 22 | D29: Pajta utca 10. sz. alatti bérlakás felújítása | E29: NK | F29: =G29+K29+L29 -> 2000 | I29: 2000 | K29: =SUM(I29:J29) -> 2000
A30: 24 | C30: 23 | D30: Aranyfőkötős szobor felújítása | E30: NK | F30: =G30+K30+L30 -> 1200 | G30: 425 | I30: 775 | K30: =SUM(I30:J30) -> 775
A31: 25 | C31: 24 | D31: Felújítási munkák a Március 15. utcai Sportcsarnokban | E31: NK | F31: =G31+K31+L31 -> 21000 | I31: 21000 | K31: =SUM(I31:J31) -> 21000
A32: 26 | C32: 25 | D32: Belvárosi zöldfelületek felújítási munkái | E32: NK | F32: =G32+K32+L32 -> 3000 | I32: 3000 | K32: =SUM(I32:J32) -> 3000
A33: 27 | D33: Európa Kulturális Fővárosa felújítási kiadások
A34: 28 | C34: 26 | D34: Dózsa György u. 2.sz. alatti épület felújítása (tervezés-előkészítés) | E34: NK | F34: =G34+K34+L34 -> 68500 | I34: 68500 | K34: =SUM(I34:J34) -> 68500
A35: 29 | D35: ÓVODÁK
A36: 30 | B36: 1 | D36: Veszprémi Vadvirág Körzeti Óvoda | E36: K
A37: 31 | C37: 27 | D37: Tetőjavítás, esővízelvezetés Kengyel utca felőli részen | F37: =G37+K37+L37 -> 3000 | H37: 3000 | I37: 3000 | K37: =SUM(I37:J37) -> 3000
A38: 32 | C38: 28 | D38: Elkorhadt nyílászárók cseréje II. ütem | F38: =G38+K38+L38 -> 7000 | H38: 7000 | I38: 7000 | K38: =SUM(I38:J38) -> 7000
A39: 33 | C39: 29 | D39: Teherhordó fal javítása | F39: =G39+K39+L39 -> 558 | I39: 558 | K39: =SUM(I39:J39) -> 558
A40: 34 | C40: 30 | D40: 11.vk., 12.vk. Gazdasági bejárat ajtó csere | F40: =G40+K40+L40 -> 544 | I40: 544 | K40: =SUM(I40:J40) -> 544
A41: 35 | B41: 2 | D41: Veszprémi Bóbita Körzeti Óvoda | E41: K
A42: 36 | C42: 31 | D42: Kertrendezés, vízelvezetés, talajpótlás megoldása | F42: =G42+K42+L42 -> 5000 | H42: 5000 | I42: 5000 | K42: =SUM(I42:J42) -> 5000
A43: 37 | C43: 32 | D43: Árnyékolás két pavilon teraszán | F43: =G43+K43+L43 -> 6300 | H43: 5300 | I43: 6300 | K43: =SUM(I43:J43) -> 6300
A44: 38 | D44: Hársfa Tagóvoda
A45: 39 | C45: 33 | D45: Hátsó épület nyílászárók cseréje a csoportszobákban | F45: =G45+K45+L45 -> 3500 | H45: 3500 | I45: 3500 | K45: =SUM(I45:J45) -> 3500
A46: 40 | C46: 34 | D46: Első épület összekötő folyosó nyílászáró cseréje és tetőjavítás | F46: =G46+K46+L46 -> 5500 | H46: 5500 | I46: 5500 | K46: =SUM(I46:J46) -> 5500
A47: 41 | C47: 35 | D47: Hátsó épület utólagos vízszigetelése, külső terepszint süllyesztése | F47: =G47+K47+L47 -> 9500 | H47: 9500 | I47: 9500 | K47: =SUM(I47:J47) -> 9500
A48: 42 | B48: 3 | D48: Veszprémi Ringató Körzeti Óvoda | E48: K
A49: 43 | D49: Erdei Tagóvoda
A50: 44 | C50: 36 | D50: Tornaterem és utcafronti ablakok nyílászáró csere | F50: =G50+K50+L50 -> 3000 | H50: 3000 | I50: 3000 | K50: =SUM(I50:J50) -> 3000
A51: 45 | C51: 37 | D51: Terasz árnyékolás | F51: =G51+K51+L51 -> 3500 | H51: 7500 | I51: 3500 | K51: =SUM(I51:J51) -> 3500
A52: 46 | D52: Kuckó Tagóvoda
A53: 47 | C53: 38 | D53: Tetőcsere 1 pavilonban | F53: =G53+K53+L53 -> 7500 | H53: 7500 | I53: 7500 | K53: =SUM(I53:J53) -> 7500
A54: 48 | C54: 39 | D54: Terasz árnyékolás | F54: =G54+K54+L54 -> 9400 | H54: 7500 | I54: 9400 | K54: =SUM(I54:J54) -> 9400
A55: 49 | B55: 4 | D55: Veszprémi Egry Úti Körzeti Óvoda | E55: K
A56: 50 | D56: Nárcisz Tagóvoda
A57: 51 | C57: 40 | D57: Ereszcsatorna bővítés, csapadékelvezetés | F57: =G57+K57+L57 -> 2000 | H57: 2000 | I57: 2000 | K57: =SUM(I57:J57) -> 2000
A58: 52 | C58: 41 | D58: Burkolat cseréje szélfogóban, folyosón | F58: =G58+K58+L58 -> 4800 | H58: 4800 | I58: 4800 | K58: =SUM(I58:J58) -> 4800
A59: 53 | B59: 5 | D59: Veszprémi Csillag Úti Körzeti Óvoda | E59: K
A60: 54 | C60: 42 | D60: Gyermekmosdók burkolása, öltözők felújítása - 3 csoportban | F60: =G60+K60+L60 -> 13500 | H60: 13500 | I60: 13500 | K60: =SUM(I60:J60) -> 13500
A61: 55 | D61: Cholnoky Jenő Tagóvoda
A62: 56 | C62: 43 | D62: Éjszakai áramkör kialakítása | F62: =G62+K62+L62 -> 1200 | H62: 1200 | I62: 1200 | K62: =SUM(I62:J62) -> 1200
A63: 57 | C63: 44 | D63: Elektromos hálózat felújítása I. ütem | F63: =G63+K63+L63 -> 5000 | H63: 5000 | I63: 5000 | K63: =SUM(I63:J63) -> 5000
A64: 58 | C64: 45 | D64: Udvari ivókút telepítése, hozzá tartozó vízvezeték elvezetése és a kút körüli burkolás | F64: =G64+K64+L64 -> 600 | H64: 600 | I64: 600 | K64: =SUM(I64:J64) -> 600
A65: 59 | B65: 7 | D65: Veszprémi Bölcsődei és Eü.Alapell. Integrált Int. | E65: K
A66: 60 | D66: Eü. Alapellátás | F66: =G66+K66+L66 -> 0
A67: 61 | C67: 46 | D67: Komakút tér 1. Fogászat - pihenőhelyiség lapozása, festése | F67: =G67+K67+L67 -> 1600 | H67: 1600 | I67: 1600 | K67: =SUM(I67:J67) -> 1600
A68: 62 | D68: Hóvirág Bölcsőde | F68: =G68+K68+L68 -> 0
A69: 63 | C69: 47 | D69: Terasz árnyékolás megoldása 3 pavilonnál | F69: =G69+K69+L69 -> 9200 | H69: 7500 | I69: 9200 | K69: =SUM(I69:J69) -> 9200
A70: 64 | D70: Vackor Bölcsőde | F70: =G70+K70+L70 -> 0
A71: 65 | C71: 48 | D71: Nyílászáró csere IV. ütem (4 db. pavilonban) | F71: =G71+K71+L71 -> 10000 | H71: 10000 | I71: 10000 | K71: =SUM(I71:J71) -> 10000
A72: 66 | C72: 49 | D72: Fürdőszoba felújítása III. ütem (1 db. pavilonban) | F72: =G72+K72+L72 -> 6300 | H72: 6300 | I72: 6300 | K72: =SUM(I72:J72) -> 6300
A73: 67 | B73: 9 | D73: Veszprémi Családseg. és Gyermekjóléti Integrált Int. | E73: K
A74: 68 | C74: 50 | D74: Családok Átmeneti Otthonában (Pápai u.37.) a fennmaradó 6 db konvektor cseréje | F74: =G74+K74+L74 -> 2000 | H74: 2000 | I74: 2000 | K74: =SUM(I74:J74) -> 2000
A75: 69 | C75: 51 | D75: A Családok Átmeneti Otthona, Pápai út 37. telephelyen elavult, tönkrement fűtésrendszer cseréje | F75: =G75+K75+L75 -> 2000 | G75: 1942 | I75: 58 | K75: =SUM(I75:J75) -> 58
A76: 70 | D76: VKTT Egyesített Szociális Intézmény
A77: 71 | C77: 52 | D77: 1. sz. Idősek Otthona lift felvonó csere | F77: =G77+K77+L77 -> 3454 | G77: 3454 | I77: 0 | K77: =SUM(I77:J77) -> 0
A78: 72 | B78: 10 | D78: Agóra Veszprém Kulturális Központ | E78: K
A79: 73 | C79: 53 | D79: Bejárati lépcsők felújítása | F79: =G79+K79+L79 -> 2800 | H79: 2800 | I79: 2800 | K79: =SUM(I79:J79) -> 2800
A80: 74 | B80: 11 | D80: Művészetek Háza Veszprém Művelődési Ház és Kiállítóhely | E80: K
A81: 75 | D81: Vass-Gyűjtemény
A82: 76 | C82: 54 | D82: Kazán csere | F82: =G82+K82+L82 -> 2500 | H82: 2500 | I82: 2500 | K82: =SUM(I82:J82) -> 2500
A83: 77 | D83: Csikász Galéria Vár u.17.
A84: 78 | C84: 55 | D84: Kazán csere | F84: =G84+K84+L84 -> 2900 | I84: 2900 | K84: =SUM(I84:J84) -> 2900
A85: 79 | C85: 56 | D85: Irodaépület - padlóburkolatok cseréje | F85: =G85+K85+L85 -> 2100 | I85: 2100 | K85: =SUM(I85:J85) -> 2100
A86: 80 | B86: 12 | D86: Eötvös Károly Megyei Könyvtár | E86: K
A87: 81 | C87: 57 | D87: Tűzjelző, mozgásérzékelő javítása | F87: =G87+K87+L87 -> 7150 | H87: 5150 | I87: 7150 | K87: =SUM(I87:J87) -> 7150
A88: 82 | C88: 58 | D88: Fan-coil fűtési rendszer javítása | F88: =G88+K88+L88 -> 1500 | I88: 1500 | K88: =SUM(I88:J88) -> 1500
A89: 83 | C89: 59 | D89: Tűzjelző, mozgásérzékelő javítása, cseréje | F89: =G89+K89+L89 -> 0 | I89: 0 | K89: =SUM(I89:J89) -> 0
A90: 84 | B90: 13 | D90: Laczkó Dezső Múzeum
A91: 85 | C91: 60 | D91: Raktárbázis (Felsőörs) villamos hálózat felújítás és riasztó kiépítése | F91: =G91+K91+L91 -> 2170 | G91: 1249 | I91: 921 | K91: =SUM(I91:J91) -> 921
A92: 86 | D92: Veszprémi Báthory István Általános Iskola és Köznevelési Típusú Sportiskola | E92: K
A93: 87 | C93: 61 | D93: Főzőkonyha padozat és burkolat felújítása | F93: =G93+K93+L93 -> 15000 | H93: 15000 | I93: 15000 | K93: =SUM(I93:J93) -> 15000
A94: 88 | D94: Önkormányzati felújítási kiadások összesen | F94: =SUM(F8:F93) -> 841994 | G94: =SUM(G8:G93) -> 159685 | H94: =SUM(H8:H93) -> 564991 | I94: =SUM(I8:I93) -> 685565 | J94: =SUM(J8:J93) -> -3256 | K94: =SUM(K8:K93) -> 682309
A95: 89 | D95: Intézményi felújítási kiadások
A96: 90 | B96: 9 | D96: Veszprémi Családseg. és Gyermekjóléti Integrált Int. | E96: K
A97: 91 | C97: 62 | D97: Családok Átmeneti Otthona - bejárati ajtó csere | F97: =G97+K97+L97 -> 380 | I97: 380 | K97: =SUM(I97:J97) -> 380
A98: 92 | B98: 2 | D98: Veszprémi Bóbita Körzeti Óvoda (Hársfa Tagóvoda) | E98: K
A99: 93 | C99: 63 | D99: Csoportszoba vízszigetelése, vakolás, festés | F99: =G99+K99+L99 -> 3000 | I99: 3000 | K99: =SUM(I99:J99) -> 3000
A100: 94 | B100: 1 | D100: Veszprémi Vadvirág Körzeti Óvoda | E100: K
...

Sheet 9.Mérleg
B1: 9. melléklet a 30/2019. (XII.12.) önkormányzati rendelethez
B2: VESZPRÉM MEGYEI JOGÚ VÁROS ÖNKORMÁNYZATÁNAK MŰKÖDÉSI ÉS FELHALMOZÁSI
B3: KÖLTSÉGVETÉSI BEVÉTELEI ÉS KIADÁSAI 2019. ÉVBEN - 2019. december
I4: adatok eFt-ban
B5: A | C5: B | D5: C | F5: D | G5: E | H5: F | I5: G
A6: 1 | C6: MŰKÖDÉSI KÖLTSÉGVETÉSI BEVÉTELEK | D6: 2019. évi eredeti előirányzat | E6: 2019. évi módosított előirányzat 6. | G6: MŰKÖDÉSI KÖLTSÉGVETÉSI KIADÁSOK | H6: 2019. évi eredeti előirányzat | I6: 2019. évi módosított előirányzat 6.
A7: 2 | B7: 1. | C7: Működési célú támogatások államháztartáson belülről | D7: ='1.Onbe'!J9+'1.Onbe'!J12+'1.Onbe'!J14 -> 3536785 | E7: ='1.Onbe'!M8+'1.Onbe'!M14 -> 4886620 | F7: 1. | G7: Személyi juttatások | H7: ='5.Inki'!J298+'6.Önk.műk.'!J1188 -> 4219586 | I7: ='5.Inki'!J301+'6.Önk.műk.'!J1191 -> 4847802
A8: 3 | B8: 2. | C8: Közhatalmi bevételek | D8: ='1.Onbe'!J15 -> 7765600 | E8: ='1.Onbe'!M15 -> 7765600 | F8: 2. | G8: Munkaadókat terhelő járulékok és szociális hozzájárulási adó | H8: ='5.Inki'!K298+'6.Önk.műk.'!K1188 -> 900609 | I8: ='5.Inki'!K301+'6.Önk.műk.'!K1191 -> 1033529
A9: 4 | B9: 3. | C9: Működési bevételek | D9: ='1.Onbe'!J25+'1.Onbe'!J30 -> 1675132 | E9: ='1.Onbe'!M25+'1.Onbe'!M30 -> 1857720 | F9: 3. | G9: Dologi kiadások | H9: ='5.Inki'!L298+'6.Önk.műk.'!L1188 -> 5250483 | I9: ='5.Inki'!L301+'6.Önk.műk.'!L1191 -> 6086404
A10: 5 | B10: 4. | C10: Működési célú átvett pénzeszközök | D10: ='1.Onbe'!J32 -> 0 | E10: ='1.Onbe'!M31+'1.Onbe'!M32 -> 9041 | F10: 4. | G10: Ellátottak pénzbeli juttatásai | H10: ='6.Önk.műk.'!M1188 -> 34350 | I10: ='5.Inki'!M301+'6.Önk.műk.'!M1191 -> 35178
A11: 6 | F11: 5. | G11: Egyéb működési célú kiadások (tartalékok nélkül) | H11: ='5.Inki'!N298+'6.Önk.műk.'!N1188 -> 2606027 | I11: ='5.Inki'!N301+'6.Önk.műk.'!N1191 -> 4432533
A12: 7 | F12: 6. | G12: Működési célú tartalékok | H12: ='2.Onki'!J15+'2.Onki'!J25 -> 255109 | I12: ='2.Onki'!M15+'2.Onki'!M25 -> 1074
A13: 8 | C13: Működési költségvetési bevételek összesen | D13: =SUM(D7:D12) -> 12977517 | E13: =SUM(E7:E12) -> 14518981 | G13: Működési költségvetési kiadások összesen | H13: =SUM(H7:H12) -> 13266164 | I13: =SUM(I7:I12) -> 16436520
A14: 9 | C14: FELHALMOZÁSI KÖLTSÉGVETÉSI BEVÉTELEK | G14: FELHALMOZÁSI KÖLTSÉGVETÉSI KIADÁSOK
A15: 10 | B15: 1. | C15: Felhalmozási célú támogatások államháztartáson belülről | D15: ='1.Onbe'!J34+'1.Onbe'!J38 -> 5273160 | E15: ='1.Onbe'!M34+'1.Onbe'!M38 -> 9466965 | F15: 1. | G15: Beruházási kiadások | H15: ='2.Onki'!J9+'2.Onki'!J27 -> 13178963 | I15: ='2.Onki'!M10+'2.Onki'!M27 -> 20843932
A16: 11 | B16: 2. | C16: Felhalmozási bevételek | D16: ='1.Onbe'!J39 -> 225000 | E16: ='1.Onbe'!M39+'1.Onbe'!M42 -> 302400 | F16: 2. | G16: Egyéb felhalmozási célú kiadások | H16: ='2.Onki'!J28 -> 197022 | I16: ='2.Onki'!M28 -> 98177
A17: 12 | B17: 3. | C17: Felhalmozási célú átvett pénzeszközök | D17: ='1.Onbe'!J43+'1.Onbe'!J44 -> 150000 | E17: ='1.Onbe'!M43+'1.Onbe'!M44 -> 627702 | F17: 3. | G17: Felújítási kiadások | H17: ='2.Onki'!J29 -> 564991 | I17: ='2.Onki'!M29+'2.Onki'!M11 -> 685889
A18: 13 | F18: 4. | G18: Felhalmozási célú tartalékok | H18: ='2.Onki'!J21 -> 289409 | I18: ='2.Onki'!M21 -> 405460
A19: 14 | C19: Felhalmozási költségvetési bevételek összesen | D19: =SUM(D15:D18) -> 5648160 | E19: =SUM(E15:E18) -> 10397067 | G19: Felhalmozási költségvetési kiadások összesen | H19: =SUM(H15:H18) -> 14230385 | I19: =SUM(I15:I18) -> 22033458
A20: 15 | C20: Költségvetési bevételek összesen | D20: =SUM(D13,D19) -> 18625677 | E20: =SUM(E13,E19) -> 24916048 | G20: Költségvetési kiadások összesen | H20: =SUM(H13,H19) -> 27496549 | I20: =SUM(I13,I19) -> 38469978
A21: 16 | C21: MŰKÖDÉSI FINANSZÍROZÁSI BEVÉTELEK | G21: MŰKÖDÉSI FINANSZÍROZÁSI KIADÁSOK
A22: 17 | B22: 1. | C22: Rövid lejáratú hitel felvétele | F22: 1. | G22: Rövid lejáratú hitel tőkeösszegének törlesztése | H22: 0
A23: 18 | B23: 2. | C23: Költségvetési maradvány | D23: ='1.Onbe'!J52 -> 1315949 | E23: ='1.Onbe'!M52 -> 2879946 | F23: 2. | G23: Államháztartáson belüli megelőlegezések visszafizetése | H23: ='2.Onki'!J36 -> 96040 | I23: ='2.Onki'!M36 -> 96040
A24: 19 | B24: 3. | C24: Államháztartáson belüli megelőlegezések | D24: ='1.Onbe'!K50 -> 0 | E24: ='1.Onbe'!M50 -> 0
A25: 20 | C25: FELHALMOZÁSI FINANSZÍROZÁSI BEVÉTELEK | G25: FELHALMOZÁSI FINANSZÍROZÁSI KIADÁSOK
A26: 21 | B26: 4. | C26: Hosszú lejáratú hitel felvétele | D26: ='1.Onbe'!J60 -> 676488 | E26: ='1.Onbe'!M60 -> 676488 | F26: 3. | G26: Hosszú lejáratú hitel tőkeösszegének törlesztése | H26: ='2.Onki'!J38 -> 113595 | I26: ='2.Onki'!M38 -> 113595
A27: 22 | B27: 5. | C27: Rövid lejáratú hitel felvétele | F27: 4. | G27: Rövid lejáratú hitel tőkeösszegének törlesztése
A28: 23 | B28: 6. | C28: Költségvetési maradvány | D28: ='1.Onbe'!J56 -> 7088070 | E28: ='1.Onbe'!M56 -> 10207131
A29: 24 | C29: Finanszírozási bevételek összesen | D29: =SUM(D21:D28) -> 9080507 | E29: =SUM(E21:E28) -> 13763565 | G29: Finanszírozási kiadások összesen | H29: =SUM(H21:H28) -> 209635 | I29: =SUM(I21:I28) -> 209635
A30: 25 | C30: ÖSSZES BEVÉTEL | D30: =SUM(D20,D29) -> 27706184 | E30: =SUM(E20,E29) -> 38679613 | G30: ÖSSZES KIADÁS | H30: =SUM(H20,H29) -> 27706184 | I30: =SUM(I20,I29) -> 38679613
A31: 26 | C31: Költségvetési egyenleg összege | D31: =+D20-H20 -> -8870872 | E31: =+E20-I20 -> -13553930
A32: 27 | C32: ebből működési: | D32: =+D13-H13 -> -288647 | E32: =+E13-I13 -> -1917539
A33: 28 | C33: ebből felhalmozási: | D33: =+D19-H19 -> -8582225 | E33: =+E19-I19 -> -11636391
A34: 29 | C34: Finanszírozási kiadásokkal korrigált hiány összege | D34: =+D31-H29 -> -9080507 | E34: =+E31-I29 -> -13763565
A35: 30 | C35: Hiány finanszírozása belső finanszírozásra szolgáló költségvetési bevétel összegével | D35: =D28+D23 -> 8404019 | E35: =E28+E23 -> 13087077
A36: 31 | C36: Hiány finanszírozása külső finanszírozásra szolgáló költségvetési bevétel összegével | D36: =D26 -> 676488 | E36: =E26 -> 676488
A37: 32 | C37: Működési bevételek aránya %-ban | D37: =(D13+D22+D23+D24)/D30 -> 0.51589443 | E37: =(E13+E22+E23+E24)/E30 -> 0.44982164 | G37: Működési kiadások aránya %-ban | H37: =(H13+H22+H23)/H30 -> 0.48228237 | I37: =(I13+I22+I23)/I30 -> 0.4274231
A38: 33 | C38: Felhalmozási bevételek aránya %-ban | D38: =(D19+D26+D27+D28)/D30 -> 0.48410557 | E38: =(E19+E26+E27+E28)/E30 -> 0.55017836 | G38: Felhalmozási kiadások aránya %-ban | H38: =(H19+H26+H27)/H30 -> 0.51771763 | I38: =(I19+I26+I27)/I30 -> 0.5725769

Sheet 10.Létszám
B1: 10. melléklet a .../2019. (…….) önkormányzati rendelethez
C2: KIMUTATÁS
B3: a 2019. évi engedélyezett létszámról - 2019. december
B4: A | C4: B | D4: C | E4: D | F4: E | G4: F
B5: Cím | C5: Megnevezés | D5: 2019. évi engedélyezett létszám | E5: Módosítás | F5: 2019. évi engedélyezett létszám | G5: Megjegyzés
A6: 1 | B6: 1 | C6: Veszprémi Vadvirág Körzeti Óvoda | D6: 38 | F6: =SUM(D6:E6) -> 38
A7: 2 | C7: Közfoglalkoztatottak létszáma | D7: 0 | F7: =SUM(D7:E7) -> 0
A8: 3 | B8: 2 | C8: Veszprémi Bóbita Körzeti Óvoda | D8: 70 | F8: =SUM(D8:E8) -> 70
A9: 4 | C9: Közfoglalkoztatottak létszáma | D9: 0 | F9: =SUM(D9:E9) -> 0
A10: 5 | B10: 3 | C10: Veszprémi Ringató Körzeti Óvoda | D10: 83.5 | F10: =SUM(D10:E10) -> 83.5
A11: 6 | C11: Közfoglalkoztatottak létszáma | D11: 0 | F11: =SUM(D11:E11) -> 0
A12: 7 | B12: 4 | C12: Veszprémi Egry úti Körzeti Óvoda | D12: 60 | F12: =SUM(D12:E12) -> 60
A13: 8 | C13: Közfoglalkoztatottak létszáma | D13: 0 | F13: =SUM(D13:E13) -> 0
A14: 9 | B14: 5 | C14: Veszprémi Csillag úti Körzeti Óvoda | D14: 61.5 | F14: =SUM(D14:E14) -> 61.5
A15: 10 | C15: Közfoglalkoztatottak létszáma | D15: 0 | F15: =SUM(D15:E15) -> 0
A16: 11 | B16: 6 | C16: Veszprémi Kastélykert Körzeti Óvoda | D16: 32.5 | F16: =SUM(D16:E16) -> 32.5
A17: 12 | C17: Közfoglalkoztatottak létszáma | D17: 2 | F17: =SUM(D17:E17) -> 2
A18: 13 | B18: 7 | C18: Veszprémi Bölcsődei és Egészségügyi Alapellátási Integrált Intézmény | D18: 205 | F18: =SUM(D18:E18) -> 205
A19: 14 | C19: Közfoglalkoztatottak létszáma | D19: 0 | F19: =SUM(D19:E19) -> 0
A20: 15 | B20: 8 | C20: Göllesz Viktor Fogyatékos Személyek Nappali Intézménye | D20: 13.25 | F20: =SUM(D20:E20) -> 13.25
A21: 16 | C21: Közfoglalkoztatottak létszáma | D21: 0 | F21: =SUM(D21:E21) -> 0
A22: 17 | B22: 9 | C22: Veszprémi Családsegítő és Gyermekjóléti Integrált Intézmény | D22: 63 | F22: =SUM(D22:E22) -> 63
A23: 18 | C23: Közfoglalkoztatottak létszáma | D23: 0.16 | F23: =SUM(D23:E23) -> 0.16
A24: 19 | B24: 10 | C24: Agóra Veszprém Kulturális Központ | D24: 24.25 | F24: =SUM(D24:E24) -> 24.25
A25: 20 | B25: 11 | C25: Művészetek Háza Veszprém Művelődési Ház és Kiállítóhely | D25: 22 | F25: =SUM(D25:E25) -> 22
A26: 21 | B26: 12 | C26: Eötvös Károly Megyei Könyvtár | D26: 51.5 | F26: =SUM(D26:E26) -> 51.5
A27: 22 | C27: Közfoglalkoztatottak létszáma | D27: 0 | F27: =SUM(D27:E27) -> 0
A28: 23 | B28: 13 | C28: Laczkó Dezső Múzeum | D28: 53 | F28: =SUM(D28:E28) -> 53
A29: 24 | C29: Közfoglalkoztatottak létszáma | D29: 0 | F29: =SUM(D29:E29) -> 0
A30: 25 | C30: határozott idejű foglalkozatottak létszáma (2019. március 1 - 2019. december 31-i) | D30: 4 | F30: =SUM(D30:E30) -> 4
A31: 26 | C31: határozott idejű foglalkozatottak létszáma (2019. január 1 - 2019. február 28-i) | D31: 6 | F31: =SUM(D31:E31) -> 6
A32: 27 | B32: 14 | C32: Kabóca Bábszínház | D32: 20.5 | F32: =SUM(D32:E32) -> 20.5
A33: 28 | C33: Közfoglalkoztatottak létszáma | D33: 1.75 | F33: =SUM(D33:E33) -> 1.75
A34: 29 | B34: 15 | C34: Veszprémi Petőfi Színház | D34: 102 | F34: =SUM(D34:E34) -> 102
A35: 30 | C35: Közfoglalkoztatottak létszáma | D35: 0 | F35: =SUM(D35:E35) -> 0
A36: 31 | B36: 16 | C36: Veszprémi Intézményi Szolgáltató Szervezet | D36: 53.25 | F36: =SUM(D36:E36) -> 53.25
A37: 32 | C37: Intézmények összesen: | D37: =SUM(D6:D36) -> 967.16 | E37: =SUM(E6:E36) -> 0 | F37: =SUM(F6:F36) -> 967.16
A38: 33 | B38: 17 | C38: VMJV Polgármesteri Hivatal (2019. május 1-től - 1 fő 36 hónapra, 1 fő 18 hónapra) | D38: 200 | F38: =D38+E38 -> 200
A39: 34 | B39: 18 | C39: VMJV Önkormányzata
A40: 35 | C40: Polgármester, Alpolgármesterek | D40: 3 | F40: =D40+E40 -> 3
A41: 36 | C41: Közfoglalkoztatottak és diákmunkások létszáma | D41: 9.88 | F41: =D41+E41 -> 9.88
A42: 37 | C42: MINDÖSSZESEN: | D42: =SUM(D37:D41) -> 1180.04 | E42: =SUM(E37:E41) -> 0 | F42: =SUM(F37:F41) -> 1180.04
A43: 38 | C43: ebből:
A44: 39 | C44: Közfoglalkoztatottak és diákmunkások létszáma | D44: =+D7+D9+D11+D13+D15+D17+D19+D21+D27+D29+D33+D35+D41 -> 13.63 | E44: =+E7+E9+E11+E13+E15+E17+E19+E21+E27+E29+E33+E35+E41 -> 0 | F44: =+F7+F9+F11+F13+F15+F17+F19+F21+F27+F29+F33+F35+F41 -> 13.63

Sheet 11.Beruh. hitel
B1: 11. melléklet a ….../2019 (…….) önkormányzati rendelethez
B3: Veszprém Megyei Jogú Város Önkormányzatának 2019. évi
B4: hitelszerződésen alapuló beruházási hitelfelvétele feladatonként
B6: Magyarország gazdasági stabilitásáról szóló 2011. évi CXCIV. törvény 10.§ (1) szerinti Kormányengedélyhez kötött, adósságot keletkeztető ügylet
B7: A | D7: B | E7: C | F7: D
A8: 1 | B8: Adósságot Keletkeztető Ügyletek fejlesztési célok szerinti besorolása | E8: Hitel összege 2019 | F8: Hitel összege 2020
A9: 2 | B9: 1 | C9: Környezetvédelemhez és természeti katasztrófák elhárításához kapcsolódó beruházási célok (szennyvízelvezetés és szennyvíztisztítás, csapadékvíz-elvezetés, hulladékkezelés, árvíz/belvíz elleni védekezés stb.) | E9: 50000
D10: Brusznyai utcai csapadékvíz csatorna rekonstrukció I. ütem (alsó szakasz) tervezés, engedélyezés, kivitelezés
D11: Vízrendezési feladatok, árkok felújítása
A12: 3 | B12: 2 | C12: Közoktatási célú beruházási célok (óvodák, iskolák, tornaterem, tanuszoda, egyéb köznevelési intézmények építése, felújítása stb.) | E12: 50000 | F12: 184000
D13: TOP-6.2.1-15-VP1-2016-00002 Gyulafirátóti óvoda újjáépítése
D14: TOP-6.2.1-16-VP1-2018-00002 Egry úti óvoda újjáépítése
A15: 4 | B15: 3 | C15: Szociális, gyermekjóléti és gyermekvédelmi célok (bölcsődék, időskorúak ellátását, gyermekek és családok átmeneti gondozását szolgáló beruházások stb.) | E15: =193000+39000 -> 232000 | F15: =148000-39000 -> 109000
D16: TOP-6.5.1-16-VPI-2018-00006 Módszertani Bölcsőde energetikai megújítása
D17: TOP-6.2.1-16-VP1-2018-00001 Módszertani Bölcsőde megújítása – eszközbeszerzés
D18: TOP-6.5.1 Aprófalvi Bölcsőde energetikai megújítása
D19: TOP-6.5.1 Völgyikút utca 2. szám alatti épület energetikai megújítása
A20: 5 | B20: 5 | C20: Egészségügyi szolgáltatások fejlesztése (egészségházak, orvosi, gyermekorvosi, fogorvosi szakrendelők felújítása, eszközbeszerzések stb.) | F20: 44000
D21: TOP - Vilonyai u. 2/B sz. gyermekorvosi rendelők felújítása
D22: TOP - Ördögárok u. 5. sz. gyermekorvosi rendelők felújítása
A23: 6 | B23: 7 | C23: Egyéb feladatokhoz kapcsolódó célok (közutak építése, felújítása, közbiztonság növelése, egyéb önkormányzati tulajdonú létesítmények felújítása, fejlesztése, város és település-rehabilitáció stb.) | E23: 297000 | F23: 294000
D24: Petőfi Sándor utca rekonstrukciója III. ütem
D25: Vörösmarty tér tömbbelső fejlesztés, I. ütem (csapadékvíz elvezetés kiépítése) + II. ütem
D26: Török I. u. - Aulich L. u. összekötés
D27: Közvilágítás bővítések (tervezés, kivitelezés) 2011. évi CLXXXIX törvény
D28: 82-es út közlekedésbiztonsági fejlesztése
D29: Nagyfelületű út- és járdafelújítások
D30: Kertvárosi utcák felújítása víziközmű rekonstrukció után
D31: TOP-6.1.5-16-VP1-2017-00001 Északi Iparterület Közlekedés-fejlesztése
A32: 7 | B32: I. Adósságot keletkeztető ügyletek összesen | E32: =SUM(E9:E31) -> 629000 | F32: =SUM(F9:F31) -> 631000
A33: 8 | B33: II. Adósságot keletkeztető ügyletek mindösszesen | E33: 1260000

Sheet 11.Projekt
B1: 11. melléklet a .../2019. (…….) önkormányzati rendelethez
B2: KIMUTATÁS
B3: a Veszprém Megyei Jogú Város Önkormányzata Támogatási Szerződéssel rendelkező
B4: Európai Uniós forrásból finanszírozott támogatással megvalósuló programok, projektek bevételeiről és kiadásairól az Ávr. 24. § (1) bekezdés a.) és bd.) pontjainak megfelelően - 2019. november
Q5: adatok eFt-ban
B6: A | C6: B | D6: C | F6: D | G6: E | H6: F | I6: G | J6: H | K6: I | L6: J | M6: K | N6: L | O6: M | P6: N | Q6: O | R6: P
B7: Sorszám | C7: Program megnevezés | D7: Program megvalósításának ideje | F7: Projekt forrás összetétel | M7: Projekt költség megbontás | R7: Projekt teljes költség
F8: Saját erő | G8: EU támogatás | L8: EU támogatás összesen
G9: 2016. évi tény | H9: 2017. évi tény | I9: 2018. tény | J9: 2019. | K9: 2020-tól | M9: 2016. évi tény | N9: 2017. évi tény | O9: 2018. tény | P9: 2019. | Q9: 2020-tól
A10: 1 | B10: 1 | C10: TOP-6.2.1-16-VP1-2018-00002 Egry úti óvoda újjáépítése | D10: 2018-2021 | F10: =+R10-L10 -> 187554 | J10: 917181 | K10: 15000 | L10: =SUM(G10:K10) -> 932181 | P10: =918181 -> 918181 | Q10: =186554+15000 -> 201554 | R10: =SUM(M10:Q10) -> 1119735
A11: 2 | B11: 2 | C11: TOP-6.2.1-16-VP1-2018-00001 A Veszprémi Bölcsődei és Egészségügyi Alapellátási Integrált Intézmény Módszertani Bölcsődéje megújítása, illetve bölcsődei eszközbeszerzések | D11: 2018-2021 | F11: =+R11-L11 -> 113560 | J11: 87086 | L11: =SUM(G11:K11) -> 87086 | O11: 4834 | P11: =86052+109000 -> 195052 | Q11: 760 | R11: =SUM(M11:Q11) -> 200646
A12: 3 | B12: 3 | C12: TOP-6.5.1-16-VP1-2018-00005 - Március 15. utcai Sportcsarnok és Uszoda energetikai megújítása | D12: 2018-2021 | F12: =+R12-L12 -> 0 | J12: 788115 | K12: 41400 | L12: =SUM(G12:K12) -> 829515 | O12: 6414 | P12: =781615+86 -> 781701 | Q12: 41400 | R12: =SUM(M12:Q12) -> 829515
A13: 4 | B13: 4 | C13: TOP-6.5.1-16-VP1-2018-00002 Völgyikút utca 2. szám alatti épület energetikai megújítása | D13: 2018-2021 | F13: =+R13-L13 -> 41474 | J13: 134273 | L13: =SUM(G13:K13) -> 134273 | M13: 2921 | N13: 3620 | P13: 134273 | Q13: =34933 -> 34933 | R13: =SUM(M13:Q13) -> 175747
A14: 5 | B14: 5 | C14: TOP-6.2.1-15-VP1-2016-00002 Gyulafirátóti óvoda újjáépítése | D14: 2016-2018 | F14: =+R14-L14 -> 241534 | G14: 400000 | J14: 241732 | L14: =SUM(G14:K14) -> 641732 | M14: 12483 | N14: 9241 | O14: 5099 | P14: =516178+241732+47488+51046-1 -> 856443 | R14: =SUM(M14:Q14) -> 883266
A15: 6 | B15: 6 | C15: TOP-6.4.1-15-VP1-2016-00001 Közlekedésbiztonsági és kerékpárosbarát fejlesztések megvalósulása Veszprém város területén | D15: 2016-2019 | F15: =+R15-L15 -> 143262 | G15: 977327 | J15: 27091 | L15: =SUM(G15:K15) -> 1004418 | M15: 25062 | N15: 32060 | O15: =393152+1 -> 393153 | P15: =697540-135 -> 697405 | R15: =SUM(M15:Q15) -> 1147680
A16: 7 | B16: 7 | C16: TOP-6.4.1-16-VP1-2018-00002 Márkó-Bánd települések irányába kerékpárút építése | D16: 2018-2020 | F16: =+R16-L16 -> 0 | J16: =43600+458000 -> 501600 | L16: =SUM(G16:K16) -> 501600 | O16: 326 | P16: 501274 | R16: =SUM(M16:Q16) -> 501600
A17: 8 | B17: 8 | C17: TOP-6.8.2-15-VPI-2016-00001 Helyi foglalkoztatási együttműködések a megyei jogú város területén és várostérségben, foglalkoztatási együttműködés a veszprémi járás területén | D17: 2016-2020 | F17: =+R17-L17 -> 0 | G17: 26790 | L17: =SUM(G17:K17) -> 26790 | M17: 8890 | N17: 9697 | O17: 8097 | P17: 106 | R17: =SUM(M17:Q17) -> 26790
A18: 9 | B18: 9 | C18: TOP-6.1.5-16-VP1-2017-00001 Északi Iparterület Közlekedés-fejlesztése | D18: 2016-2021 | F18: =+R18-L18 -> 397000 | I18: 2092161 | J18: =607839+500000 -> 1107839 | L18: =SUM(G18:K18) -> 3200000 | M18: 40063 | N18: 83854 | O18: 327034 | P18: =2249049+50000+500000+47000+6000 -> 2852049 | Q18: 294000 | R18: =SUM(M18:Q18) -> 3597000
A19: 10 | B19: 10 | C19: DTP1-1-311-2.2 Interreg Duna Nemzetközi Program Networld* | D19: 2017-2019 | F19: =+R19-L19 -> 2173 | H19: 3765 | I19: 7428 | J19: =21326+3733 -> 25059 | L19: =SUM(G19:K19) -> 36252 | N19: 7899 | O19: 22368 | P19: =7894+242+22 -> 8158 | R19: =SUM(M19:Q19) -> 38425
A20: 11 | B20: 11 | C20: TOP-6.3.3-16-VP1-2017-00001 Dózsaváros, Pápai úti csapadékvíz-elvezető rendszer fejlesztése | D20: 2018-2019 | F20: =+R20-L20 -> 62406 | I20: 227554 | J20: 10916 | L20: =SUM(G20:K20) -> 238470 | O20: 4460 | P20: =42322+223094+31000 -> 296416 | R20: =SUM(M20:Q20) -> 300876
A21: 12 | B21: 12 | C21: TOP-6.6.1-16-VP1-2017-00001 Gyulafirátóti rendelő felújítása | D21: 2018-2019 | F21: =+R21-L21 -> 3 | I21: 64997 | J21: =2003-2003-22 -> -22 | L21: =SUM(G21:K21) -> 64975 | M21: 1994 | O21: 32064 | P21: =2003+30942-2003-22 -> 30920 | R21: =SUM(M21:Q21) -> 64978
A22: 13 | B22: 13 | C22: EFOP-4.1.8-16-VP1-2017-00020 "Az Eötvös Károly Megyei Könyvtár tanulás segítő infrastrukturális fejlesztései" | D22: 2017-2019 | F22: =+R22-L22 -> 6731 | I22: 32728 | L22: =SUM(G22:K22) -> 32728 | N22: 6731 | P22: 32728 | R22: =SUM(M22:Q22) -> 39459
A23: 14 | B23: 14 | C23: TOP-6.4.1-16-VP1-17-00001 Kerékpárút építése Alsóörs - Felsőörs irányába | D23: 2017-2020 | F23: =+R23-L23 -> 0 | I23: 19671 | J23: 208329 | K23: 12000 | L23: =SUM(G23:K23) -> 240000 | O23: 9749 | P23: 218251 | Q23: 12000 | R23: =SUM(M23:Q23) -> 240000
A24: 15 | B24: 15 | C24: KÖFOP-1.2.1-VEKOP-16-2017-01268 Veszprém Megyei Jogú Város Önkormányzata ASP Központhoz való csatlakozása ** | D24: 2017-2018 | F24: =+R24-L24 -> 134 | H24: 9000 | I24: -2700 | L24: =SUM(G24:K24) -> 6300 | O24: 1582 | P24: =4718+134 -> 4852 | R24: =SUM(M24:Q24) -> 6434
A25: 16 | B25: 16 | C25: Erasmus +K3 SporTown | D25: 2018-2019 | F25: =+R25-L25 -> 0 | I25: 9031 | J25: =2258 -> 2258 | L25: =SUM(G25:K25) -> 11289 | O25: 7830 | P25: =4959-1500 -> 3459 | R25: =SUM(M25:Q25) -> 11289
A26: 17 | B26: 17 | C26: EFOP-1.9.9-17-2017-00004 Még jobb kezekben - Veszprémben | D26: 2018-2019 | F26: =+R26-L26 -> 0 | I26: 17017 | J26: 8958 | L26: =SUM(G26:K26) -> 25975 | O26: 12413 | P26: =13561+1 -> 13562 | R26: =SUM(M26:Q26) -> 25975
A27: 18 | B27: 18 | C27: TOP-6.6.1-16-VP1-2017-00002 Kádártai rendelő kialakítása | D27: 2018-2019 | F27: =+R27-L27 -> 5021 | I27: 58534 | J27: 3081 | L27: =SUM(G27:K27) -> 61615 | O27: 143 | P27: 66493 | R27: =SUM(M27:Q27) -> 66636
A28: 19 | B28: 19 | C28: 601835-CITIZ-1-2018-1-HU-CITIZ-NT Reveal YouropEaN Cultural Heritage/Tárd fel európai kulturális örökségedet (ENriCH) | D28: 2018-2020 | F28: =+R28-L28 -> 700 | I28: 24175 | K28: 24175 | L28: =SUM(G28:K28) -> 48350 | O28: 1176 | P28: =8950+22999 -> 31949 | Q28: =15225+700 -> 15925 | R28: =SUM(M28:Q28) -> 49050
A29: 20 | B29: 20 | C29: TOP-6.6.1-16-VP1-2018-00003 Jutasi u. 59. szám alatti orvosi rendelő megújítása | D29: 2018-2019 | F29: =+R29-L29 -> 1320 | I29: 71352 | L29: =SUM(G29:K29) -> 71352 | O29: 4926 | P29: =67212+205+329 -> 67746 | R29: =SUM(M29:Q29) -> 72672
A30: 21 | B30: 21 | C30: GINOP - 7.1.9-17-2018-00023 Veszprém kulturális turisztikai kínálatának fejlesztése | D30: 2018-2020 | F30: =+R30-L30 -> 0 | I30: 558299 | K30: 793085 | L30: =SUM(G30:K30) -> 1351384 | O30: 28000 | P30: 530299 | Q30: 793085 | R30: =SUM(M30:Q30) -> 1351384
A31: 22 | B31: 22 | C31: TOP-6.5.1-16-VP1-2018-00004 Aprófalvi bölcsőde energetikai korszerűsítése | D31: 2018-2021 | F31: =+R31-L31 -> 59476 | J31: 223100 | L31: =SUM(G31:K31) -> 223100 | N31: 6699 | P31: 223100 | Q31: 52777 | R31: =SUM(M31:Q31) -> 282576
A32: 23 | B32: 23 | C32: TOP-6.5.1-16-VP1-2018-00006 Módszertani bölcsőde energetikai megújítása | D32: 2018-2021 | F32: =+R32-L32 -> 161006 | J32: 173975 | L32: =SUM(G32:K32) -> 173975 | O32: 6401 | P32: =215705+44000+39000 -> 298705 | Q32: =875+29000 -> 29875 | R32: =SUM(M32:Q32) -> 334981
A33: 24 | B33: 24 | C33: Urbact Innova-tor * | D33: 2019-2021 | F33: =+R33-L33 -> 5782 | J33: 5830 | K33: 10537 | L33: =SUM(G33:K33) -> 16367 | P33: 9910 | Q33: 12239 | R33: =SUM(M33:Q33) -> 22149
A34: 25 | B34: 25 | C34: TOP-6.6.1-16-VP1-2018-00005 Ördögárok u. 5. szám alatti orvosi rendelő megújítása | D34: 2019-2020 | F34: =+R34-L34 -> 39517 | J34: 53492 | L34: =SUM(G34:K34) -> 53492 | O34: 2459 | P34: 53492 | Q34: =22058+15000 -> 37058 | R34: =SUM(M34:Q34) -> 93009
A35: 26 | B35: 26 | C35: TOP-6.6.1-16-VP1-2018-00004 Vilonyai utca 2/B szám alatti orvosi rendelő megújítása | D35: 2019-2020 | F35: =+R35-L35 -> 11379 | J35: 39413 | L35: =SUM(G35:K35) -> 39413 | O35: 1956 | P35: =39537+2231 -> 41768 | Q35: 7068 | R35: =SUM(M35:Q35) -> 50792
A36: 27 | B36: 27 | C36: TOP-6.9.2-16-VP1-2018-00001 Közösségfejlesztés Veszprém város településrészein | D36: 2019-2022 | F36: =+R36-L36 -> 0 | J36: 184000 | L36: =SUM(G36:K36) -> 184000 | O36: 9200 | P36: =22605+94607+57588 -> 174800 | R36: =SUM(M36:Q36) -> 184000
A37: 28 | B37: 28 | C37: TOP-7.1.1-16-H-ERFA-2019-00078 Szent Miklós-szegi Kálvária domb és környékének infrastrukturális felújítása és funkcióbővítése | D37: 2019-2021 | F37: =+R37-L37 -> 12126 | J37: 255000 | L37: =SUM(G37:K37) -> 255000 | O37: 4379 | P37: =5080+257667 -> 262747 | R37: =SUM(M37:Q37) -> 267126
A38: 29 | B38: 29 | C38: TOP-6.3.2-16-VP1-2018-00001 Kulturális negyed | D38: 2019-2021 | F38: =+R38-L38 -> 60391 | J38: 1544000 | K38: 76000 | L38: =SUM(G38:K38) -> 1620000 | O38: =16505+94 -> 16599 | P38: =853792+734000 -> 1587792 | Q38: =810000-734000 -> 76000 | R38: =SUM(M38:Q38) -> 1680391
A39: 30 | B39: 30 | C39: EFOP-3.3.2-16-2016-00107 Kulturális intézmények a köznevelés eredményességéért*** | D39: 2018-2019 | F39: =+R39-L39 -> 0 | I39: 27687 | L39: =SUM(G39:K39) -> 27687 | O39: 4679 | P39: =23288-280 -> 23008 | R39: =SUM(M39:Q39) -> 27687
A40: 31 | B40: 31 | C40: EFOP-4.1.9-16-2017-00014 A múzeumi és levéltári intézményrendszer tanulás segítő infrastrukturális fejlesztései -Laczkó Dezső Múzeumban oktatótermek és kiszolgáló helyiségek kialakítása*** | D40: 2017-2019 | F40: =+R40-L40 -> 16824 | I40: 29873 | L40: =SUM(G40:K40) -> 29873 | N40: 750 | O40: 1550 | P40: =43881+516 -> 44397 | R40: =SUM(M40:Q40) -> 46697
A41: 32 | B41: Összesen | F41: =SUM(F10:F40) -> 1569373 | G41: =SUM(G10:G40) -> 1404117 | H41: =SUM(H10:H40) -> 12765 | I41: =SUM(I10:I40) -> 3237807 | J41: =SUM(J10:J40) -> 6542306 | K41: =SUM(K10:K40) -> 972197 | L41: =SUM(L10:L40) -> 12169192 | M41: =SUM(M10:M40) -> 91413 | ... R41: =SUM(R10:R40) -> 13738565
C42: * A Duna Nemzetközi Interreg Program kapcsán az összes támogatás összevontan került feltüntetésre (85% EU és a 10% Nemzeti támogatás) A támogatási szerződésben €-ban van, 2017. jan. 12-i MNB deviza-árfolyammal: 307,71 forinttal átszámolva.
C43: * Az Urbact Innova-tor támogatása a szerződésben €-ban van meghatározva, az átszámítás 316.39 Ft/EUR-val történt
C44: ** Ezen projektek esetében a 2018. évi EU támogatás negatív előirányzata az EU támogatás visszautalását jelenti.
C45: *** A projekt a támogatási szerződés szerint nettó módon finanszírozott (e táblában az előirányzatok az ÁFA összegét nem tartalmazzák)

Sheet 12.Képvis.
B1: 12. melléklet a ……/2019. (…...) Önkormányzati rendelethez
B2: A 2019. évi választókerületi alap megoszlása feladatonként
B3: 2019. november hó
O4: adatok eFt-ban
B5: A | D5: B | E5: C | F5: D | G5: E | H5: F | I5: G | J5: H | K5: I | L5: J | M5: K | N5: L | O5: M | P5: N | Q5: O
B6: V á l a s z t ó k e r ü l e t | D6: Beruh. | E6: Felúj. és karbantartás | F6: Utak- | G6: Parkfennt. | H6: Köztiszt. | I6: Város | J6: Környezet- | K6: Igaz- | L6: Sport | M6: Civil Szerv. | N6: Intézményi | O6: Tartalék | Q6: Összesen
F7: hidak | H7: feladatok | I7: Gazdálk. | J7: védelmi fel. | K7: gatás | M7: támogatása | N7: támogatás | O7: Költségv. | P7: Kv.-i maradv.
A8: 1 | B8: 1. | C8: eredeti ei. + költségvetési maradvány | O8: 2000 | P8: 468 | Q8: =SUM(D8:P8) -> 2468
C9: módosított előirányzat 4. | I9: 340 | K9: 310 | M9: 987 | N9: 780 | O9: 51 | P9: 0 | Q9: =SUM(D9:P9) -> 2468
A10: 2 | C10: módosítás- | Q10: =SUM(D10:P10) -> 0
A11: 3 | C11: módosított előirányzat 5. | D11: =SUM(D9:D10) -> 0 | E11: =SUM(E9:E10) -> 0 | F11: =SUM(F9:F10) -> 0 | G11: =SUM(G9:G10) -> 0 | H11: =SUM(H9:H10) -> 0 | I11: =SUM(I9:I10) -> 340 | J11: =SUM(J9:J10) -> 0 | K11: =SUM(K9:K10) -> 310 | ... Q11: =SUM(Q9:Q10) -> 2468
A12: 4 | B12: 2. | C12: eredeti ei. + költségvetési maradvány | O12: 2000 | P12: 2054 | Q12: =SUM(D12:P12) -> 4054
C13: módosított előirányzat 4. | E13: 1534 | G13: 400 | M13: 1620 | N13: 500 | O13: 0 | P13: 0 | Q13: =SUM(D13:P13) -> 4054
A14: 5 | C14: módosítás- | Q14: =SUM(D14:P14) -> 0
A15: 6 | C15: módosított előirányzat 5. | D15: =SUM(D13:D14) -> 0 | E15: =SUM(E13:E14) -> 1534 | F15: =SUM(F13:F14) -> 0 | G15: =SUM(G13:G14) -> 400 | H15: =SUM(H13:H14) -> 0 | I15: =SUM(I13:I14) -> 0 | J15: =SUM(J13:J14) -> 0 | K15: =SUM(K13:K14) -> 0 | ... Q15: =SUM(Q13:Q14) -> 4054
A16: 7 | B16: 3. | C16: eredeti ei. + költségvetési maradvány | O16: 2000 | P16: 651 | Q16: =SUM(D16:P16) -> 2651
C17: módosított előirányzat 4. | G17: 400 | I17: 300 | M17: 930 | N17: 1020 | O17: 1 | P17: 0 | Q17: =SUM(D17:P17) -> 2651
A18: 8 | C18: módosítás- | Q18: =SUM(D18:P18) -> 0
A19: 9 | C19: módosított előirányzat 5. | D19: =SUM(D17:D18) -> 0 | E19: =SUM(E17:E18) -> 0 | F19: =SUM(F17:F18) -> 0 | G19: =SUM(G17:G18) -> 400 | H19: =SUM(H17:H18) -> 0 | I19: =SUM(I17:I18) -> 300 | J19: =SUM(J17:J18) -> 0 | K19: =SUM(K17:K18) -> 0 | ... Q19: =SUM(Q17:Q18) -> 2651
A20: 10 | B20: 4. | C20: eredeti ei. + költségvetési maradvány | O20: 2000 | P20: 2287 | Q20: =SUM(D20:P20) -> 4287
C21: módosított előirányzat 4. | D21: 500 | G21: 150 | I21: 400 | M21: 1500 | N21: 1700 | O21: 37 | P21: 0 | Q21: =SUM(D21:P21) -> 4287
A22: 11 | C22: módosítás- | Q22: =SUM(D22:P22) -> 0
A23: 12 | C23: módosított előirányzat 5. | D23: =SUM(D21:D22) -> 500 | E23: =SUM(E21:E22) -> 0 | F23: =SUM(F21:F22) -> 0 | G23: =SUM(G21:G22) -> 150 | H23: =SUM(H21:H22) -> 0 | I23: =SUM(I21:I22) -> 400 | J23: =SUM(J21:J22) -> 0 | K23: =SUM(K21:K22) -> 0 | ... Q23: =SUM(Q21:Q22) -> 4287
A24: 13 | B24: 5. | C24: eredeti ei. + költségvetési maradvány | O24: 2000 | P24: 292 | Q24: =SUM(D24:P24) -> 2292
C25: módosított előirányzat 4. | G25: 200 | I25: 50 | M25: 355 | N25: 1125 | O25: 562 | P25: 0 | Q25: =SUM(D25:P25) -> 2292
A26: 14 | C26: módosítás- | G26: 110 | M26: 200 | N26: 252 | O26: -562 | Q26: =SUM(D26:P26) -> 0
A27: 15 | C27: módosított előirányzat 5. | D27: =SUM(D25:D26) -> 0 | E27: =SUM(E25:E26) -> 0 | F27: =SUM(F25:F26) -> 0 | G27: =SUM(G25:G26) -> 310 | H27: =SUM(H25:H26) -> 0 | I27: =SUM(I25:I26) -> 50 | J27: =SUM(J25:J26) -> 0 | K27: =SUM(K25:K26) -> 0 | ... Q27: =SUM(Q25:Q26) -> 2292
A28: 16 | B28: 6. | C28: eredeti ei. + költségvetési maradvány | D28: 900 | M28: 300 | O28: 2000 | P28: 1163 | Q28: =SUM(D28:P28) -> 4363
C29: módosított előirányzat 4. | D29: 900 | G29: 205 | M29: 1471 | N29: 150 | O29: 1637 | P29: 0 | Q29: =SUM(D29:P29) -> 4363
A30: 17 | C30: módosítás- | D30: 1079 | I30: 35 | M30: 329 | N30: 194 | O30: -1637 | Q30: =SUM(D30:P30) -> 0
A31: 18 | C31: módosított előirányzat 5. | D31: =SUM(D29:D30) -> 1979 | E31: =SUM(E29:E30) -> 0 | F31: =SUM(F29:F30) -> 0 | G31: =SUM(G29:G30) -> 205 | H31: =SUM(H29:H30) -> 0 | I31: =SUM(I29:I30) -> 35 | J31: =SUM(J29:J30) -> 0 | K31: =SUM(K29:K30) -> 0 | ... Q31: =SUM(Q29:Q30) -> 4363
A32: 19 | B32: 7. | C32: eredeti ei. + költségvetési maradvány | O32: 2000 | P32: 204 | Q32: =SUM(D32:P32) -> 2204
C33: módosított előirányzat 4. | D33: 67 | G33: 160 | I33: 150 | M33: 881 | N33: 946 | O33: 0 | P33: 0 | Q33: =SUM(D33:P33) -> 2204
A34: 20 | C34: módosítás- | Q34: =SUM(D34:P34) -> 0
A35: 21 | C35: módosított előirányzat 5. | D35: =SUM(D33:D34) -> 67 | E35: =SUM(E33:E34) -> 0 | F35: =SUM(F33:F34) -> 0 | G35: =SUM(G33:G34) -> 160 | H35: =SUM(H33:H34) -> 0 | I35: =SUM(I33:I34) -> 150 | J35: =SUM(J33:J34) -> 0 | K35: =SUM(K33:K34) -> 0 | ... Q35: =SUM(Q33:Q34) -> 2204
A36: 22 | B36: 8. | C36: eredeti ei. + költségvetési maradvány | O36: 2000 | P36: 580 | Q36: =SUM(D36:P36) -> 2580
C37: módosított előirányzat 4. | D37: 686 | G37: 370 | I37: 300 | M37: 878 | N37: 200 | O37: 146 | P37: 0 | Q37: =SUM(D37:P37) -> 2580
A38: 23 | C38: módosítás- | D38: =-74+96 -> 22 | G38: 73 | I38: -52 | M38: 70 | N38: 33 | O38: -146 | Q38: =SUM(D38:P38) -> 0
A39: 24 | C39: módosított előirányzat 5. | D39: =SUM(D37:D38) -> 708 | E39: =SUM(E37:E38) -> 0 | F39: =SUM(F37:F38) -> 0 | G39: =SUM(G37:G38) -> 443 | H39: =SUM(H37:H38) -> 0 | I39: =SUM(I37:I38) -> 248 | J39: =SUM(J37:J38) -> 0 | K39: =SUM(K37:K38) -> 0 | ... Q39: =SUM(Q37:Q38) -> 2580
A40: 25 | B40: 9. | C40: eredeti ei. + költségvetési maradvány | O40: 2000 | P40: 795 | Q40: =SUM(D40:P40) -> 2795
C41: módosított előirányzat 4. | E41: 1025 | G41: 180 | M41: 1110 | N41: 480 | O41: 0 | P41: 0 | Q41: =SUM(D41:P41) -> 2795
A42: 26 | C42: módosítás- | Q42: =SUM(D42:P42) -> 0
A43: 27 | C43: módosított előirányzat 5. | D43: =SUM(D41:D42) -> 0 | E43: =SUM(E41:E42) -> 1025 | F43: =SUM(F41:F42) -> 0 | G43: =SUM(G41:G42) -> 180 | H43: =SUM(H41:H42) -> 0 | I43: =SUM(I41:I42) -> 0 | J43: =SUM(J41:J42) -> 0 | K43: =SUM(K41:K42) -> 0 | ... Q43: =SUM(Q41:Q42) -> 2795
A44: 28 | B44: 10. | C44: eredeti ei. + költségvetési maradvány | O44: 2000 | P44: 1985 | Q44: =SUM(D44:P44) -> 3985
C45: módosított előirányzat 4. | D45: 1835 | G45: 220 | I45: 600 | M45: 375 | N45: 850 | O45: 105 | P45: 0 | Q45: =SUM(D45:P45) -> 3985
A46: 29 | C46: módosítás- | I46: 30 | O46: -30 | Q46: =SUM(D46:P46) -> 0
A47: 30 | C47: módosított előirányzat 5. | D47: =SUM(D45:D46) -> 1835 | E47: =SUM(E45:E46) -> 0 | F47: =SUM(F45:F46) -> 0 | G47: =SUM(G45:G46) -> 220 | H47: =SUM(H45:H46) -> 0 | I47: =SUM(I45:I46) -> 630 | J47: =SUM(J45:J46) -> 0 | K47: =SUM(K45:K46) -> 0 | ... Q47: =SUM(Q45:Q46) -> 3985
A48: 31 | B48: 11. | C48: eredeti ei. + költségvetési maradvány | E48: 272 | O48: 2000 | P48: 1254 | Q48: =SUM(D48:P48) -> 3526
C49: módosított előirányzat 4. | E49: 272 | F49: 600 | G49: 150 | H49: 25 | I49: 100 | M49: 1120 | N49: 325 | O49: 934 | P49: 0 | Q49: =SUM(D49:P49) -> 3526
A50: 32 | C50: módosítás- | M50: 181 | N50: 750 | O50: -931 | Q50: =SUM(D50:P50) -> 0
A51: 33 | C51: módosított előirányzat 5. | D51: =SUM(D49:D50) -> 0 | E51: =SUM(E49:E50) -> 272 | F51: =SUM(F49:F50) -> 600 | G51: =SUM(G49:G50) -> 150 | H51: =SUM(H49:H50) -> 25 | I51: =SUM(I49:I50) -> 100 | J51: =SUM(J49:J50) -> 0 | K51: =SUM(K49:K50) -> 0 | ... Q51: =SUM(Q49:Q50) -> 3526
A52: 34 | B52: 12. | C52: eredeti ei. + költségvetési maradvány | D52: 500 | E52: 272 | O52: 2000 | P52: 409 | Q52: =SUM(D52:P52) -> 3181
C53: módosított előirányzat 4. | D53: 500 | E53: 272 | G53: 200 | H53: 100 | M53: 610 | N53: 970 | O53: 529 | P53: 0 | Q53: =SUM(D53:P53) -> 3181
A54: 35 | C54: módosítás- | M54: 240 | N54: 280 | O54: -520 | Q54: =SUM(D54:P54) -> 0
A55: 36 | C55: módosított előirányzat 5. | D55: =SUM(D53:D54) -> 500 | E55: =SUM(E53:E54) -> 272 | F55: =SUM(F53:F54) -> 0 | G55: =SUM(G53:G54) -> 200 | H55: =SUM(H53:H54) -> 100 | I55: =SUM(I53:I54) -> 0 | J55: =SUM(J53:J54) -> 0 | K55: =SUM(K53:K54) -> 0 | ... Q55: =SUM(Q53:Q54) -> 3181
A56: 37 | C56: eredeti ei. + költségvetési maradvány | D56: =SUM(D52,D48,D44,D40,D36,D32,D28,D24,D20,D16,D12,D8) -> 1400 | E56: =SUM(E52,E48,E44,E40,E36,E32,E28,E24,E20,E16,E12,E8) -> 544 | F56: =SUM(F52,F48,F44,F40,F36,F32,F28,F24,F20,F16,F12,F8) -> 0 | G56: =SUM(G52,G48,G44,G40,G36,G32,G28,G24,G20,G16,G12,G8) -> 0 | H56: =SUM(H52,H48,H44,H40,H36,H32,H28,H24,H20,H16,H12,H8) -> 0 | I56: =SUM(I52,I48,I44,I40,I36,I32,I28,I24,I20,I16,I12,I8) -> 0 | J56: =SUM(J52,J48,J44,J40,J36,J32,J28,J24,J20,J16,J12,J8) -> 0 | K56: =SUM(K52,K48,K44,K40,K36,K32,K28,K24,K20,K16,K12,K8) -> 0 | ... Q56: =SUM(Q52,Q48,Q44,Q40,Q36,Q32,Q28,Q24,Q20,Q16,Q12,Q8) -> 38386
C57: módosított előirányzat 4. | D57: =D53+D49+D45+D41+D37+D33+D29+D25+D21+D17+D13+D9 -> 4488 | E57: =E53+E49+E45+E41+E37+E33+E29+E25+E21+E17+E13+E9 -> 3103 | F57: =F53+F49+F45+F41+F37+F33+F29+F25+F21+F17+F13+F9 -> 600 | G57: =G53+G49+G45+G41+G37+G33+G29+G25+G21+G17+G13+G9 -> 2635 | H57: =H53+H49+H45+H41+H37+H33+H29+H25+H21+H17+H13+H9 -> 125 | I57: =I53+I49+I45+I41+I37+I33+I29+I25+I21+I17+I13+I9 -> 2240 | J57: =J53+J49+J45+J41+J37+J33+J29+J25+J21+J17+J13+J9 -> 0 | K57: =K53+K49+K45+K41+K37+K33+K29+K25+K21+K17+K13+K9 -> 310 | ... P57: =P53+P49+P45+P41+P37+P33+P29+P25+P21+P17+P13+P9 -> 0 | Q57: =SUM(Q53,Q49,Q45,Q41,Q37,Q33,Q29,Q25,Q21,Q17,Q13,Q9) -> 38386
A58: 38 | C58: módosítás- | D58: =SUM(D54,D50,D46,D42,D38,D34,D30,D26,D22,D18,D14,D10) -> 1101 | E58: =SUM(E54,E50,E46,E42,E38,E34,E30,E26,E22,E18,E14,E10) -> 0 | F58: =SUM(F54,F50,F46,F42,F38,F34,F30,F26,F22,F18,F14,F10) -> 0 | G58: =SUM(G54,G50,G46,G42,G38,G34,G30,G26,G22,G18,G14,G10) -> 183 | H58: =SUM(H54,H50,H46,H42,H38,H34,H30,H26,H22,H18,H14,H10) -> 0 | I58: =SUM(I54,I50,I46,I42,I38,I34,I30,I26,I22,I18,I14,I10) -> 13 | J58: =SUM(J54,J50,J46,J42,J38,J34,J30,J26,J22,J18,J14,J10) -> 0 | K58: =SUM(K54,K50,K46,K42,K38,K34,K30,K26,K22,K18,K14,K10) -> 0 | ... Q58: =SUM(Q54,Q50,Q46,Q42,Q38,Q34,Q30,Q26,Q22,Q18,Q14,Q10) -> 0
A59: 39 | C59: módosított előirányzat összesen 5. | D59: =SUM(D57:D58) -> 5589 | E59: =SUM(E57:E58) -> 3103 | F59: =SUM(F57:F58) -> 600 | G59: =SUM(G57:G58) -> 2818 | H59: =SUM(H57:H58) -> 125 | I59: =SUM(I57:I58) -> 2253 | J59: =SUM(J57:J58) -> 0 | K59: =SUM(K57:K58) -> 310 | ... Q59: =SUM(Q57:Q58) -> 38386
