Workbook

Sheet 1
B1: Berhida Város Önkormányzata | C1: 1. melléklet
B2: 2017. évi költségvetés | C2: a 2/2017. (II. 24 .) önkormányzati rendelethez
B4: Bevételek | C4: Ft-ban
C5: Összesen | D5: Önkormányzat | E5: Hivatal | F5: TESZ | G5: Kultúr | H5: Süni
A6: Sor- szám | B6: Rovat megnevezése | C6: Eredeti előirányzat | D6: Eredeti előirányzat | E6: Eredeti előirányzat | F6: Eredeti előirányzat | G6: Eredeti előirányzat | H6: Eredeti előirányzat
A7: 1 | B7: Helyi önkormányzatok működésének általános támogatása (B1111) | C7: =SUM(D7:H7) -> 106085367 | D7: 106085367
A8: 2 | B8: Települési önkormányzatok egyes köznevelési feladatainak támogatása (B1121) | C8: =SUM(D8:H8) -> 127904640 | D8: 127904640
A9: 3 | B9: Települési önkormányzatok szociális, gyermekjóléti és gyermekétkeztetési feladatainak támogatása (B1131) | C9: =SUM(D9:H9) -> 90729626 | D9: 90729626
A10: 4 | B10: Települési önkormányzatok kulturális feladatainak támogatása (B1141) | C10: =SUM(D10:H10) -> 6854820 | D10: 6854820
A11: 5 | B11: Működési célú költségvetési támogatások és kiegészítő támogatások (B1151) | C11: =SUM(D11:H11) -> 0
A12: 6 | B12: Önkormányzatok működési támogatásai (B11) | C12: =SUM(D12:H12) -> 331574453 | D12: =SUM(D7:D11) -> 331574453 | E12: =SUM(E7:E11) -> 0 | F12: =SUM(F7:F11) -> 0 | G12: =SUM(G7:G11) -> 0 | H12: =SUM(H7:H11) -> 0
A13: 7 | B13: Egyéb működési célú támogatások bevételei államháztartáson belülről (B16) | C13: =SUM(D13:H13) -> 84703526 | D13: =SUM(D14:D17) -> 22667022 | E13: =SUM(E14:E17) -> 0 | F13: =SUM(F14:F17) -> 62036504 | G13: =SUM(G14:G17) -> 0 | H13: =SUM(H14:H17) -> 0
A14: 8 | B14: ebből: egyéb fejezeti kezelésű előirányzatok (B16132) | C14: =SUM(D14:H14) -> 8237022 | D14: 8237022
A15: 9 | B15: ebből: társadalombiztosítás pénzügyi alapjai (B1614) | C15: =SUM(D15:H15) -> 14430000 | D15: 14430000
A16: 10 | B16: ebből: elkülönített állami pénzal (B1615) | C16: =SUM(D16:H16) -> 62036504 | F16: 62036504
A17: 11 | B17: ebből: önkormányzat és kv-i szerveik (B 1616) | C17: =SUM(D17:H17) -> 0
A18: 12 | B18: Működési célú támogatások államháztartáson belülről (B1) | C18: =SUM(D18:H18) -> 416277979 | D18: =D12+D13 -> 354241475 | E18: =E12+E13 -> 0 | F18: =F12+F13 -> 62036504 | G18: =G12+G13 -> 0 | H18: =H12+H13 -> 0
A19: 13 | B19: Felhalmozási célú önkormányzati támogatások (B21) | C19: =SUM(D19:H19) -> 0 | D19: =SUM(D20:D23) -> 0 | E19: =SUM(E20:E23) -> 0 | F19: =SUM(F20:F23) -> 0 | G19: =SUM(G20:G23) -> 0 | H19: =SUM(H20:H23) -> 0
A20: 14 | B20: ebből egyéb központi fc tám (B2119) | C20: =SUM(D20:H20) -> 0
A21: 15 | B21: ebből: egyéb fejezeti kezelésű előirányzatok fc (B2513) | C21: =SUM(D21:H21) -> 0
A22: 16 | B22: ebből: elkülönített állami pénzal fc (B2515) | C22: =SUM(D22:H22) -> 0
A23: 17 | B23: ebből: önkorm és kv-i szervek fc tám (B2516) | C23: =SUM(D23:H23) -> 0
A24: 18 | B24: Felhalmozási célú támogatások államháztartáson belülről (B2) | C24: =SUM(D24:H24) -> 0 | D24: =D19 -> 0 | E24: =E19 -> 0 | F24: =F19 -> 0 | G24: =G19 -> 0 | H24: =H19 -> 0
A25: 19 | B25: Vagyoni tipusú adók (B34) | C25: =SUM(D25:H25) -> 102150639 | D25: =SUM(D26:D27) -> 102150639 | E25: =SUM(E26:E27) -> 0 | F25: =SUM(F26:F27) -> 0 | G25: =SUM(G26:G27) -> 0 | H25: =SUM(H26:H27) -> 0
A26: 20 | B26: ebből: építményadó (B34111) | C26: =SUM(D26:H26) -> 84512950 | D26: 84512950
A27: 21 | B27: ebből: magánszemélyek kommunális adója (B34114) | C27: =SUM(D27:H27) -> 17637689 | D27: 17637689
A28: 22 | B28: Értékesítési és forgalmi adók iparűzési adó (B351121) | C28: =SUM(D28:H28) -> 189265417 | D28: 189265417
A29: 23 | B29: Gépjárműadó (B354121) | C29: =SUM(D29:H29) -> 11678757 | D29: 11678757
A30: 24 | B30: Egyéb áruhasználati és szolgáltatási adók, környezetterh díj (B355122) | C30: =SUM(D30:H30) -> 110000 | D30: 110000
A31: 25 | B31: Termékek és szolgáltatások adói (B35) | C31: =SUM(D31:H31) -> 201054174 | D31: =SUM(D28:D30) -> 201054174 | E31: =SUM(E28:E30) -> 0 | F31: =SUM(F28:F30) -> 0 | G31: =SUM(G28:G30) -> 0 | H31: =SUM(H28:H30) -> 0
A32: 26 | B32: Egyéb közhatalmi bevételek (B36) | C32: =SUM(D32:H32) -> 0 | D32: =SUM(D33:D35) -> 0 | E32: =SUM(E33:E35) -> 0 | F32: =SUM(F33:F35) -> 0 | G32: =SUM(G33:G35) -> 0 | H32: =SUM(H33:H35) -> 0
A33: 27 | B33: ebből: szabálysértési pénz- és helyszíni bírság és a közlekedési szabályszegések után kiszabott közigazgatási bírság helyi önkormányzatot megillető része (B361225) | C33: =SUM(D33:H33) -> 0
A34: 28 | B34: ebből: egyéb bírság (B361229) | C34: =SUM(D34:H34) -> 0
A35: 29 | B35: ebből: egyéb települési adók (B36128) | C35: =SUM(D35:H35) -> 0
A36: 30 | B36: Közhatalmi bevételek (B3) | C36: =SUM(D36:H36) -> 303204813 | D36: =D25+D31+D32 -> 303204813 | E36: =E25+E31+E32 -> 0 | F36: =F25+F31+F32 -> 0 | G36: =G25+G31+G32 -> 0 | H36: =H25+H31+H32 -> 0
A37: 31 | B37: Szolgáltatások (B4021) | C37: =SUM(D37:H37) -> 6922704 | D37: =SUM(D38:D40) -> 0 | E37: =SUM(E38:E40) -> 335000 | F37: =SUM(F38:F40) -> 400000 | G37: =SUM(G38:G40) -> 920000 | H37: =SUM(H38:H40) -> 5267704
A38: 32 | B38: ebből: alkalmazottak térítési díj (B40211) | C38: =SUM(D38:H38) -> 562880 | H38: 562880
A39: 33 | B39: ebből: bérleti díj bev (B40212) | C39: =SUM(D39:H39) -> 1475000 | E39: 335000 | F39: 400000 | G39: 740000
A40: 34 | B40: ebből: egyéb szolgáltatás (40214) | C40: =SUM(D40:H40) -> 4884824 | G40: 180000 | H40: 4704824
A41: 35 | B41: Közvetített szolgáltatások ellenértéke (B403) | C41: =SUM(D41:H41) -> 3772000 | D41: =SUM(D42:D43) -> 1330000 | E41: =SUM(E42:E43) -> 1200000 | F41: =SUM(F42:F43) -> 1242000 | G41: =SUM(G42:G43) -> 0 | H41: =SUM(H42:H43) -> 0
A42: 36 | B42: ebből: államháztartáson belül (B40311) | C42: =SUM(D42:H42) -> 2530000 | D42: 1330000 | E42: 1200000
A43: 37 | B43: ebből: államháztartáson kívül (B40312) | C43: =SUM(D43:H43) -> 1242000 | F43: 1242000
A44: 38 | B44: Tulajdonosi bevételek (B404) | C44: =SUM(D44:H44) -> 19200212 | D44: =SUM(D45:D49) -> 19200212 | E44: =SUM(E45:E49) -> 0 | F44: =SUM(F45:F49) -> 0 | G44: =SUM(G45:G49) -> 0 | H44: =SUM(H45:H49) -> 0
A45: 39 | B45: ebből: önkormányzati vagyon üzemeltetéséből, koncesszióból származó bevétel (B404131) | C45: =SUM(D45:H45) -> 9611212 | D45: 9611212
A46: 40 | B46: ebből: önkormányzati vagyon vagyonkezelésbe adásából származó bevétel (B404133) | C46: =SUM(D46:H46) -> 0
A47: 41 | B47: ebből: egy önk-i vagyon bérbeadásából (404134) | C47: =SUM(D47:H47) -> 9079000 | D47: 9079000
A48: 42 | B48: ebből egyéb önkorm vagyon haszonbérbeadásából (B404135) | C48: =SUM(D48:H48) -> 0
A49: 43 | B49: ebből: egy önk tulajdonosi bevétel (B404139) | C49: =SUM(D49:H49) -> 510000 | D49: 510000
A50: 44 | B50: Ellátási díjak (B40511) | C50: =SUM(D50:H50) -> 898775 | H50: 898775
A51: 45 | B51: Kiszámlázott általános forgalmi adó (B40611) | C51: =SUM(D51:H51) -> 8065896 | D51: 5543157 | E51: =(E37+E41+E44+E50)*0.27 -> 414450 | F51: =(F37+F41+F44+F50)*0.27 -> 443340 | H51: 1664949
A52: 46 | B52: Általános forgalmi adó visszatérítése (B4071) | C52: =SUM(D52:H52) -> 0
A53: 47 | B53: Egyéb kapott (járó) kamatok és kamatjellegű bevételek ÁHK(B408129) | C53: =SUM(D53:H53) -> 0
A54: 48 | B54: Más egyéb pénzügyi műveletek bevételei (B4092) | C54: =SUM(D54:H54) -> 0
A55: 49 | B55: ebből: valuta és deviza eszközök realizált árfolyamnyeresége (B4092) | C55: =SUM(D55:H55) -> 0
A56: 50 | B56: Egyéb pénzügyi műveletek bevételei B409199) | C56: =SUM(D56:H56) -> 0
A57: 51 | B57: Biztosító által fizetett kártérítés (B4101) | C57: =SUM(D57:H57) -> 0
A58: 52 | B58: Egyéb működési bevételek (B411199) | C58: =SUM(D58:H58) -> 12000 | F58: 12000
A59: 53 | B59: Működési bevételek (B4) | C59: =SUM(D59:H59) -> 38871587 | D59: =D37+D41+D44+D50+D51+D52+D53+D54+D55+D56+D57+D58 -> 26073369 | E59: =E37+E41+E44+E50+E51+E52+E53+E54+E55+E56+E57+E58 -> 1949450 | F59: =F37+F41+F44+F50+F51+F52+F53+F54+F55+F56+F57+F58 -> 2097340 | G59: =G37+G41+G44+G50+G51+G52+G53+G54+G55+G56+G57+G58 -> 920000 | H59: =H37+H41+H44+H50+H51+H52+H53+H54+H55+H56+H57+H58 -> 7831428
A60: 54 | B60: Ingatlanok értékesítése (B52) | C60: =SUM(D60:H60) -> 180000 | D60: 180000
A61: 55 | B61: Felhalmozási bevételek (B5) | C61: =SUM(D61:H61) -> 180000 | D61: =D60 -> 180000 | E61: =E60 -> 0 | F61: =F60 -> 0 | G61: =G60 -> 0 | H61: =H60 -> 0
A62: 56 | B62: Felhalmozási célú visszatérítendő támogatások, kölcsönök visszatérülése államháztartáson kívülről (B74) | C62: =SUM(D62:H62) -> 0
A63: 57 | B63: ebből: háztartások (B74) | C63: =SUM(D63:H63) -> 435500 | D63: 435500
A64: 58 | B64: Egyéb felhalmozási célú átvett pénzeszközök (B75) | C64: =SUM(D64:H64) -> 0
A65: 59 | B65: Felhalmozási célú átvett pénzeszközök (B7) | C65: =SUM(D65:H65) -> 435500 | D65: =SUM(D62:D64) -> 435500 | E65: =SUM(E62:E64) -> 0 | F65: =SUM(F62:F64) -> 0 | G65: =SUM(G62:G64) -> 0 | H65: =SUM(H62:H64) -> 0
A66: 60 | B66: Költségvetési bevételek (B1-B7) | C66: =SUM(D66:H66) -> 758969879 | D66: =D18+D24+D36+D59+D61+D65 -> 684135157 | E66: =E18+E24+E36+E59+E61+E65 -> 1949450 | F66: =F18+F24+F36+F59+F61+F65 -> 64133844 | G66: =G18+G24+G36+G59+G61+G65 -> 920000 | H66: =H18+H24+H36+H59+H61+H65 -> 7831428
A67: 61 | B67: Előző év költségvetési maradványának igénybevétele (B8131) | C67: =SUM(D67:H67) -> 459034248 | D67: 452306545 | F67: 6727703
A68: 62 | B68: Államháztartáson belüli megelőlegezések (B814) | C68: =SUM(D68:H68) -> 0
A69: 63 | B69: Irányító szervi támogatás B816 | C69: =SUM(D69:H69) -> 475776396 | E69: 170104644 | F69: 118546267 | G69: 54049820 | H69: 133075665
A70: 64 | B70: Belföldi finanszírozás bevételei (B81) | C70: =SUM(D70:H70) -> 934810644 | D70: =SUM(D67:D69) -> 452306545 | E70: =SUM(E67:E69) -> 170104644 | F70: =SUM(F67:F69) -> 125273970 | G70: =SUM(G67:G69) -> 54049820 | H70: =SUM(H67:H69) -> 133075665
A71: 65 | B71: Finanszírozási bevételek (B8) | C71: =SUM(D71:H71) -> 934810644 | D71: =D70 -> 452306545 | E71: =E70 -> 170104644 | F71: =F70 -> 125273970 | G71: =G70 -> 54049820 | H71: =H70 -> 133075665
A72: 66 | B72: MINDÖSSZESEN: | C72: =SUM(D72:H72) -> 1693780523 | D72: =D66+D71 -> 1136441702 | E72: =E66+E71 -> 172054094 | F72: =F66+F71 -> 189407814 | G72: =G66+G71 -> 54969820 | H72: =H66+H71 -> 140907093

Sheet 1a
A1: Berhida Város Önkormányzata | E1: 1.a melléklet
A2: állami támogatások részletezése | E2: a 2/2017. (II. 24 .) önkormányzati rendelethez
E3: 2015 | I3: 2016 | M3: 2017
D4: IPA alap | F4: 6444418912 | G4: IPA alap | J4: 8925457446 | K4: IPA alap | N4: 9676175196
D5: elvonás | E5: 0,55 %-nak | F5: =F4*0.0055 -> 35444304 | G5: elvonás | H5: 0,55 %-nak | J5: =J4*0.0055 -> 49090016 | K5: elvonás | L5: 0,55 %-nak | N5: =N4*0.0055 -> 53218964
A6: 2017. évi költségvetés | E6: 30 %-a | F6: =F5*0.3 -> 10633291 | H6: 75 %-a | J6: =J5*0.75 -> 36817512 | L6: 75 %-a | N6: 39914222
D7: 1 lakosra jutó adóerőképesség | F7: =F4*0.014/6072 -> 14858.673 | G7: 1 lakosra jutó adóerőképesség | J7: =J4*0.014/6038 -> 20694.999 | K7: 1 lakosra jutó adóerőképesség | N7: =N4*0.014/6013 -> 22528.929 | P7: Önkorm | Q7: Hivatal | R7: TESZ | S7: Süni | T7: Hétszín | U7: Vilonyai Óvoda | V7: Csal.Szolg | W7: Kultúr
D8: 6072 | E8: fő | H8: 6038 | I8: fő | J8: beszámítás | L8: 6013 | M8: fő | N8: beszámítás | O8: 2017 tényl
B9: Rovatrend | E9: Forint | I9: Forint | M9: Forint
A10: Önkormányzatok működési támogatásai | E10: =E11+E20+E31+E47+E49 -> 383440798 | I10: =I11+I20+I31+I47+I49 -> 344396732 | J10: =J11+J20+J31+J47+J49 -> -61642905 | M10: =M11+M20+M31+M47+M49 -> 392558675 | N10: =N11+N20+N31+N47+N49 -> -60984222 | O10: =O11+O20+O31+O47+O49 -> 331574453 | P10: =P11+P20+P31+P47+P49 -> 12000000 | Q10: =Q11+Q20+Q31+Q47+Q49 -> 101584400 | R10: =R11+R20+R31+R47+R49 -> 8070967 | S10: =S11+S20+S31+S47+S49 -> 102525902 | T10: =T11+T20+T31+T47+T49 -> 71427027 | ... W10: =W11+W20+W31+W47+W49 -> 6854820 | X10: =SUM(P10:W10) -> 331574453
A11: 1.)Helyi önkormányzatok működésének általános támogatása | B11: B111 | E11: =SUM(E12:E19) -> 139174406 | F11: =SUM(F12:F19) -> -10633291 | I11: =SUM(I12:I19) -> 114837274 | J11: =SUM(J12:J19) -> -36817510 | M11: =SUM(M12:M19) -> 145999589 | N11: =SUM(N12:N19) -> -39914222 | O11: =SUM(O12:O19) -> 106085367 | P11: =SUM(P12:P19) -> 0 | Q11: =SUM(Q12:Q19) -> 101584400 | R11: =SUM(R12:R19) -> 4500967 | S11: =SUM(S12:S19) -> 0 | T11: =SUM(T12:T19) -> 0 | ... W11: =SUM(W12:W19) -> 0 | X11: =SUM(P11:W11) -> 106085367
A12: Önkormányzati hivatal működésének támogatása | C12: 4580000 | D12: 22.3 | E12: 102134000 | G12: 4580000 | H12: 22.24 | I12: =G12*H12 -> 101859200 | K12: 4580000 | L12: 22.18 | M12: =K12*L12 -> 101584400 | O12: =M12+N12 -> 101584400 | Q12: 101584400 | X12: =SUM(P12:W12) -> 101584400
A13: Település üzemeltetés: zöldterület-gazdálkodás | C13: 22300 | E13: 8964553 | G13: 22300 | H13: 402 | I13: 0 | J13: -8964600 | K13: 22300 | L13: 402 | M13: 8984670 | N13: =-M13 -> -8984670 | O13: =M13+N13 -> 0 | X13: =SUM(P13:W13) -> 0
A14: közvilágítás fenntartása | C14: 320000 | E14: 14880000 | G14: 320000 | H14: 46.5 | I14: 3520940 | J14: -11359060 | K14: 320000 | L14: 46.5 | M14: 9888000 | N14: =-M14 -> -9888000 | O14: =M14+N14 -> 0 | X14: =SUM(P14:W14) -> 0
A15: köztemető fenntartással kapcs fel | C15: 69 | E15: 1775094 | G15: 69 | H15: 53051 | I15: 3660519 | K15: 69 | L15: 53051 | M15: =K15*L15 -> 3660519 | N15: =-M15 -> -3660519 | O15: =M15+N15 -> 0 | X15: =SUM(P15:W15) -> 0
A16: közutak fenntartásának támog | C16: 227000 | E16: 5448000 | G16: 227000 | H16: 24 | I16: 5448000 | K16: 227000 | L16: 24 | M16: =K16*L16 -> 5448000 | N16: -947033 | O16: =M16+N16 -> 4500967 | R16: 4500967 | X16: =SUM(P16:W16) -> 4500967
A17: Egyéb kötelező önkormányzati feladatok | C17: 2700 | E17: 5761109 | F17: -10633291 | G17: 2700 | H17: 6038 | I17: 0 | J17: -16302600 | K17: 2700 | L17: 6013 | M17: =K17*L17 -> 16235100 | N17: =-M17 -> -16235100 | O17: =M17+N17 -> 0 | X17: =SUM(P17:W17) -> 0
A18: Lakott külterülettel kapcs feladatok | E18: 211650 | I18: 0 | J18: -191250 | K18: 2550 | L18: 78 | M18: =K18*L18 -> 198900 | N18: =-M18 -> -198900 | O18: =M18+N18 -> 0 | X18: =SUM(P18:W18) -> 0
A19: 2015. évről áthúzódó bérkompenzáció | I19: 348615 | O19: =M19+N19 -> 0 | X19: =SUM(P19:W19) -> 0
A20: 2.)Települési önkorm. Egyes köznevelési feladatainak támoga | B20: B112 | E20: =SUM(E21:E30) -> 122000800 | I20: =SUM(I21:I30) -> 130351320 | J20: =SUM(J21:J30) -> 0 | M20: =SUM(M21:M30) -> 1.2790464e+08 | N20: =SUM(N21:N30) -> 0 | O20: =SUM(O21:O30) -> 1.2790464e+08 | P20: =SUM(P21:P30) -> 0 | Q20: =SUM(Q21:Q30) -> 0 | R20: =SUM(R21:R30) -> 0 | S20: =SUM(S21:S30) -> 71401140 | T20: =SUM(T21:T30) -> 43808200 | ... W20: =SUM(W21:W30) -> 0 | X20: =SUM(P20:W20) -> 127904640
A21: óvodapedagógusok bértámogatása 8 hó | C21: 4152000 | D21: 20.1 | E21: 55636800 | G21: 4308000 | H21: 20.2 | I21: =G21*H21*8/12 -> 58014400 | K21: 4469900 | L21: 19.4 | M21: =K21*L21*8/12 -> 57810707 | O21: =M21+N21 -> 57810707 | S21: 30991307 | T21: 20859533 | U21: 5959867 | X21: =SUM(P21:W21) -> 57810707
A22: óvodaped munkáját közvetlenül segítők bértámogatása 8 hó | C22: 1800000 | D22: 11 | E22: 13200000 | G22: 1800000 | H22: 11 | I22: 13200000 | K22: 1800000 | L22: 11 | M22: =K22*L22/12*8 -> 13200000 | O22: =M22+N22 -> 13200000 | S22: 8400000 | T22: 3600000 | U22: 1200000 | X22: =SUM(P22:W22) -> 13200000
A23: óvodapedagógusok bértámogatása 4 hó | C23: 4152000 | D23: 20 | E23: 27680000 | G23: 4308000 | H23: 19.6 | I23: =G23*H23*4/12 -> 28145600 | K23: 4469900 | L23: 19.4 | M23: =K23*L23*4/12 -> 28905353 | O23: =M23+N23 -> 28905353 | S23: 15495653 | T23: 10429767 | U23: 2979933 | X23: =SUM(P23:W23) -> 28905353
A24: óvodaped munkáját közvetlenül segítők bértámogatása 4 hó | C24: 1800000 | D24: 11 | E24: 6600000 | G24: 1800000 | H24: 11 | I24: 6600000 | K24: 1800000 | L24: 11 | M24: =K24*L24/12*4 -> 6600000 | O24: =M24+N24 -> 6600000 | S24: 4200000 | T24: 1800000 | U24: 600000 | X24: =SUM(P24:W24) -> 6600000
A25: óvodapedagógusok bértámog KIEGÉSZÍTÉS 3 hó | C25: 35000 | D25: 20 | E25: 700000 | G25: 35000 | H25: 19.6 | I25: =G25*H25 -> 686000 | K25: 38200 | L25: 19.4 | M25: =K25*L25 -> 741080 | O25: =M25+N25 -> 741080 | S25: 397280 | T25: 267400 | U25: 76400 | X25: =SUM(P25:W25) -> 741080
A26: Óvoda működtetési támogatás 8 hó | C26: 70000 | D26: 218 | E26: 10173333 | G26: 80000 | H26: 216 | I26: =G26*H26*8/12 -> 11520000 | K26: 81700 | L26: 205 | M26: =K26*L26*8/12 -> 11165667 | O26: =M26+N26 -> 11165667 | S26: 6644933 | T26: 3268000 | U26: 1252733 | X26: =SUM(P26:W26) -> 11165666
A27: Óvoda működtetési támogatás 4 hó | C27: 70000 | D27: 218 | E27: 5086667 | G27: 80000 | H27: 213 | I27: =G27*H27*4/12 -> 5680000 | K27: 81700 | L27: 205 | M27: =K27*L27*4/12 -> 5582833.3 | O27: =M27+N27 -> 5582833.3 | S27: 3322467 | T27: 1634000 | U27: 626367 | X27: =SUM(P27:W27) -> 5582834
A28: Kieg tám. Óv pedag minősítéséhez II. kategóriába sorolt | D28: 1 | E28: 352000 | G28: 384000 | H28: 2 | I28: 768000 | K28: 418900 | L28: 2 | M28: =K28*L28 -> 837800 | O28: =M28+N28 -> 837800 | S28: 418900 | T28: 418900 | X28: =SUM(P28:W28) -> 837800
A29: Mesterped kategóriába sorolt | D29: 2 | E29: 2572000 | G29: 1415000 | H29: 2 | I29: 2805820 | K29: 1530600 | L29: 2 | M29: =K29*L29 -> 3061200 | O29: =M29+N29 -> 3061200 | S29: 1530600 | T29: 1530600 | X29: =SUM(P29:W29) -> 3061200
A30: Köznevelési intézmények m űködt kapcs támogatás | I30: 2931500 | O30: =M30+N30 -> 0 | X30: =SUM(P30:W30) -> 0
A31: 3.) Tel önk szociális, gyermekjóléti és gyermekétk fel tám | B31: B113 | E31: =SUM(E33:E46) -> 115343512 | I31: =SUM(I33:I46) -> 92324818 | J31: =SUM(J33:J46) -> -24825395 | M31: =SUM(M33:M46) -> 111799626 | N31: =SUM(N33:N46) -> -21070000 | O31: =SUM(O33:O46) -> 90729626 | P31: =SUM(P33:P46) -> 12000000 | Q31: =SUM(Q33:Q46) -> 0 | R31: =SUM(R33:R46) -> 3570000 | S31: =SUM(S33:S46) -> 31124762 | T31: =SUM(T33:T46) -> 27618827 | ... W31: =SUM(W33:W46) -> 0 | X31: =SUM(P31:W31) -> 90729626
X32: =SUM(P32:W32) -> 0
A33: gyermekétkeztetés szempontjából elismert dolgozók bértámog | C33: 1632000 | D33: 11.48 | E33: 18735360 | G33: 1632000 | H33: 11.48 | I33: 18245760 | K33: 1632000 | L33: 11.3 | M33: =K33*L33 -> 18441600 | O33: =M33+N33 -> 18441600 | S33: 9497424 | T33: 7727030 | U33: 1217146 | X33: =SUM(P33:W33) -> 18441600
A34: gyermekétkeztetés üzemeltetési támogatása | E34: 31817928 | I34: 32815395 | M34: 34890352 | O34: =M34+N34 -> 34890352 | S34: 17968531 | T34: 14619058 | U34: 2302763 | X34: =SUM(P34:W34) -> 34890352
A35: szünidei gyermekétkeztetés | I35: 4818380 | M35: 4954041 | O35: =M35+N35 -> 4954041 | S35: 3658807 | T35: 1295234 | X35: =SUM(P35:W35) -> 4954041
A36: Hozzájárulás pénzbeli szociális ellátásokhoz | E36: 47687090 | I36: 24825395 | J36: -24825395 | M36: 42140000 | N36: =-21070000 -> -21070000 | O36: =M36+N36 -> 21070000 | P36: 12000000 | R36: 3570000 | V36: 5500000 | X36: =SUM(P36:W36) -> 21070000
A37: Bölcsődei ellátás | C37: 494100 | D37: 8 | E37: 3952800 | G37: 494100 | H37: 8 | I37: 3952800 | K37: 494100 | L37: 7 | M37: =K37*L37 -> 3458700 | O37: =M37+N37 -> 3458700 | T37: 3458700 | X37: =SUM(P37:W37) -> 3458700
A38: bölcsődei ellátás hátrányos helyzetű gyermek | C38: 518805 | G38: 518805 | K38: 518805 | L38: 1 | M38: =K38*L38 -> 518805 | O38: =M38+N38 -> 518805 | T38: 518805 | X38: =SUM(P38:W38) -> 518805
A39: Családsegítés B: 6118 Vi: 662 = 6780 fő (6072,671) | C39: 3950000 | D39: 6743 | E39: 2663485 | G39: 3950000 | H39: 6743 | K39: 3950000 | L39: 6743 | O39: =M39+N39 -> 0 | X39: =SUM(P39:W39) -> 0
A40: gyermekjóléti szolgálat | C40: 3950000 | D40: 6743 | E40: 2663485 | G40: 3950000 | H40: 6743 | K40: 3950000 | L40: 6743 | O40: =M40+N40 -> 0 | X40: =SUM(P40:W40) -> 0
A41: Családsegítés Kiegészítő támog. | C41: 300 | E41: 2022900 | G41: 300 | K41: 300 | O41: =M41+N41 -> 0 | X41: =SUM(P41:W41) -> 0
A42: gyermekjóléti szolg. Kiegészítő támog. 0-17 B: 1292 Vi: 128 | C42: 1200 | E42: 1668000 | G42: 1200 | K42: 1200 | O42: =M42+N42 -> 0 | X42: =SUM(P42:W42) -> 0
A43: Családsegítés és gyermekjóléti szolgáltatás | I43: 3900000 | M43: 3900000 | O43: =M43+N43 -> 3900000 | V43: 3900000 | X43: =SUM(P43:W43) -> 3900000
A44: szociális étkeztetés | C44: 60896 | D44: 34 | E44: 2070464 | G44: 60896 | H44: 28 | I44: 1705088 | K44: 60896 | L44: 18 | M44: =K44*L44 -> 1096128 | O44: =M44+N44 -> 1096128 | V44: 1096128 | X44: =SUM(P44:W44) -> 1096128
A45: házi segítségnyújtás | C45: 188500 | D45: 4 | E45: 754000 | G45: 188500 | H45: 4 | I45: 754000 | K45: 273000 | L45: 4 | M45: =K45*L45 -> 1092000 | O45: =M45+N45 -> 1092000 | V45: 1092000 | X45: =SUM(P45:W45) -> 1092000
A46: időskorúak nappali ellátása | C46: 163500 | D46: 8 | E46: 1308000 | G46: 163500 | H46: 8 | I46: 1308000 | K46: 163500 | L46: 8 | M46: =K46*L46 -> 1308000 | O46: =M46+N46 -> 1308000 | V46: 1308000 | X46: =SUM(P46:W46) -> 1308000
A47: 4.) Tel önk kulturális feladatainak támogatása | B47: B114 | E47: =E48 -> 6922080 | I47: =I48 -> 6883320 | J47: =J48 -> 0 | M47: =M48 -> 6854820 | N47: =N48 -> 0 | O47: =O48 -> 6854820 | P47: =P48 -> 0 | Q47: =Q48 -> 0 | R47: =R48 -> 0 | S47: =S48 -> 0 | T47: =T48 -> 0 | ... V47: =V48 -> 0 | W47: 6854820 | X47: =SUM(P47:W47) -> 6854820
A48: könyvtári és közművelődési feladat tám Berhida: 6118 fő | C48: 1140 | D48: 6072 | E48: =C48*D48 -> 6922080 | G48: 1140 | H48: 6038 | I48: =G48*H48 -> 6883320 | K48: 1140 | L48: 6038 | M48: 6854820 | O48: =M48+N48 -> 6854820 | X48: =SUM(P48:W48) -> 0
A49: Működési célú központosított tám (lakott külterületi fel) | E49: =SUM(E50:E51) -> 0 | I49: =SUM(I50:I51) -> 0 | M49: =SUM(M50:M51) -> 0 | P49: =SUM(P50:P51) -> 0 | Q49: =SUM(Q50:Q51) -> 0 | R49: =SUM(R50:R51) -> 0 | S49: =SUM(S50:S51) -> 0 | T49: =SUM(T50:T51) -> 0 | U49: =SUM(U50:U51) -> 0 | V49: =SUM(V50:V51) -> 0 | W49: =SUM(W50:W51) -> 0 | X49: =SUM(P49:W49) -> 0
A50: ebből külterületi lakos | X50: =SUM(P50:W50) -> 0
A51: ebből szerkezetátalakítási önk-ok köznevelési feladat tám. | X51: =SUM(P51:W51) -> 0
B53: 2017. január

Sheet 1b
B1: Berhida Város Önkormányzata | C1: 1b. melléklet
B2: 2017. évi költségvetés | C2: a 2/2017. (II.24.) önkormányzati rendelethez
B4: Bevételek | C4: Ft-ban
C5: Összesen | D5: Önkormányzat | E5: Hivatal | F5: TESZ | G5: Kultúr | H5: Süni
A6: Sor- szám | B6: Rovat megnevezése | C6: Eredeti előirányzat | D6: Eredeti előirányzat | E6: Eredeti előirányzat | F6: Eredeti előirányzat | G6: Eredeti előirányzat | H6: Eredeti előirányzat
A7: 1 | B7: Helyi önkormányzatok működésének általános támogatása (B1111) | C7: =SUM(D7:H7) -> 106085367 | D7: 106085367
A8: 2 | B8: Települési önkormányzatok egyes köznevelési feladatainak támogatása (B1121) | C8: =SUM(D8:H8) -> 127904640 | D8: 127904640
A9: 3 | B9: Települési önkormányzatok szociális, gyermekjóléti és gyermekétkeztetési feladatainak támogatása (B1131) | C9: =SUM(D9:H9) -> 90729626 | D9: 90729626
A10: 4 | B10: Települési önkormányzatok kulturális feladatainak támogatása (B1141) | C10: =SUM(D10:H10) -> 6854820 | D10: 6854820
A11: 5 | B11: Működési célú költségvetési támogatások és kiegészítő támogatások (B1151) | C11: =SUM(D11:H11) -> 0
A12: 6 | B12: Önkormányzatok működési támogatásai (B11) | C12: =SUM(D12:H12) -> 331574453 | D12: =SUM(D7:D11) -> 331574453 | E12: =SUM(E7:E11) -> 0 | F12: =SUM(F7:F11) -> 0 | G12: =SUM(G7:G11) -> 0 | H12: =SUM(H7:H11) -> 0
A13: 7 | B13: Egyéb működési célú támogatások bevételei államháztartáson belülről (B16) | C13: =SUM(D13:H13) -> 84703526 | D13: =SUM(D14:D17) -> 22667022 | E13: =SUM(E14:E17) -> 0 | F13: =SUM(F14:F17) -> 62036504 | G13: =SUM(G14:G17) -> 0 | H13: =SUM(H14:H17) -> 0
A14: 8 | B14: ebből: egyéb fejezeti kezelésű előirányzatok (B16132) | C14: =SUM(D14:H14) -> 8237022 | D14: 8237022
A15: 9 | B15: ebből: társadalombiztosítás pénzügyi alapjai (B1614) | C15: =SUM(D15:H15) -> 14430000 | D15: 14430000
A16: 10 | B16: ebből: elkülönített állami pénzal (B1615) | C16: =SUM(D16:H16) -> 62036504 | F16: 62036504
A17: 11 | B17: ebből: önkormányzat és kv-i szerveik (B 1616) | C17: =SUM(D17:H17) -> 0
A18: 12 | B18: Működési célú támogatások államháztartáson belülről (B1) | C18: =SUM(D18:H18) -> 416277979 | D18: =D12+D13 -> 354241475 | E18: =E12+E13 -> 0 | F18: =F12+F13 -> 62036504 | G18: =G12+G13 -> 0 | H18: =H12+H13 -> 0
A19: 13 | B19: Felhalmozási célú önkormányzati támogatások (B21) | C19: =SUM(D19:H19) -> 0 | D19: =SUM(D20:D23) -> 0 | E19: =SUM(E20:E23) -> 0 | F19: =SUM(F20:F23) -> 0 | G19: =SUM(G20:G23) -> 0 | H19: =SUM(H20:H23) -> 0
A20: 14 | B20: ebből egyéb központi fc tám (B2119) | C20: =SUM(D20:H20) -> 0
A21: 15 | B21: ebből: egyéb fejezeti kezelésű előirányzatok fc (B2513) | C21: =SUM(D21:H21) -> 0
A22: 16 | B22: ebből: elkülönített állami pénzal fc (B2515) | C22: =SUM(D22:H22) -> 0
A23: 17 | B23: ebből: önkorm és kv-i szervek fc tám (B2516) | C23: =SUM(D23:H23) -> 0
A24: 18 | B24: Felhalmozási célú támogatások államháztartáson belülről (B2) | C24: =SUM(D24:H24) -> 0 | D24: =D19 -> 0 | E24: =E19 -> 0 | F24: =F19 -> 0 | G24: =G19 -> 0 | H24: =H19 -> 0
A25: 19 | B25: Vagyoni tipusú adók (B34) | C25: =SUM(D25:H25) -> 102150639 | D25: =SUM(D26:D27) -> 102150639 | E25: =SUM(E26:E27) -> 0 | F25: =SUM(F26:F27) -> 0 | G25: =SUM(G26:G27) -> 0 | H25: =SUM(H26:H27) -> 0
A26: 20 | B26: ebből: építményadó (B34111) | C26: =SUM(D26:H26) -> 84512950 | D26: 84512950
A27: 21 | B27: ebből: magánszemélyek kommunális adója (B34114) | C27: =SUM(D27:H27) -> 17637689 | D27: 17637689
A28: 22 | B28: Értékesítési és forgalmi adók iparűzési adó (B351121) | C28: =SUM(D28:H28) -> 189265417 | D28: 189265417
A29: 23 | B29: Gépjárműadó (B354121) | C29: =SUM(D29:H29) -> 11678757 | D29: 11678757
A30: 24 | B30: Egyéb áruhasználati és szolgáltatási adók, környezetterh díj (B355122) | C30: =SUM(D30:H30) -> 110000 | D30: 110000
A31: 25 | B31: Termékek és szolgáltatások adói (B35) | C31: =SUM(D31:H31) -> 201054174 | D31: =SUM(D28:D30) -> 201054174 | E31: =SUM(E28:E30) -> 0 | F31: =SUM(F28:F30) -> 0 | G31: =SUM(G28:G30) -> 0 | H31: =SUM(H28:H30) -> 0
A32: 26 | B32: Egyéb közhatalmi bevételek (B36) | C32: =SUM(D32:H32) -> 0 | D32: =SUM(D33:D35) -> 0 | E32: =SUM(E33:E35) -> 0 | F32: =SUM(F33:F35) -> 0 | G32: =SUM(G33:G35) -> 0 | H32: =SUM(H33:H35) -> 0
A33: 27 | B33: ebből: szabálysértési pénz- és helyszíni bírság és a közlekedési szabályszegések után kiszabott közigazgatási bírság helyi önkormányzatot megillető része (B361225) | C33: =SUM(D33:H33) -> 0
A34: 28 | B34: ebből: egyéb bírság (B361229) | C34: =SUM(D34:H34) -> 0
A35: 29 | B35: ebből: egyéb települési adók (B36128) | C35: =SUM(D35:H35) -> 0
A36: 30 | B36: Közhatalmi bevételek (B3) | C36: =SUM(D36:H36) -> 303204813 | D36: =D25+D31+D32 -> 303204813 | E36: =E25+E31+E32 -> 0 | F36: =F25+F31+F32 -> 0 | G36: =G25+G31+G32 -> 0 | H36: =H25+H31+H32 -> 0
A37: 31 | B37: Szolgáltatások (B4021) | C37: =SUM(D37:H37) -> 6922704 | D37: =SUM(D38:D40) -> 0 | E37: =SUM(E38:E40) -> 335000 | F37: =SUM(F38:F40) -> 400000 | G37: =SUM(G38:G40) -> 920000 | H37: =SUM(H38:H40) -> 5267704
A38: 32 | B38: ebből: alkalmazottak térítési díj (B40211) | C38: =SUM(D38:H38) -> 562880 | H38: 562880
A39: 33 | B39: ebből: bérleti díj bev (B40212) | C39: =SUM(D39:H39) -> 1475000 | E39: 335000 | F39: 400000 | G39: 740000
A40: 34 | B40: ebből: egyéb szolgáltatás (40214) | C40: =SUM(D40:H40) -> 4884824 | G40: 180000 | H40: 4704824
A41: 35 | B41: Közvetített szolgáltatások ellenértéke (B403) | C41: =SUM(D41:H41) -> 3772000 | D41: =SUM(D42:D43) -> 1330000 | E41: =SUM(E42:E43) -> 1200000 | F41: =SUM(F42:F43) -> 1242000 | G41: =SUM(G42:G43) -> 0 | H41: =SUM(H42:H43) -> 0
A42: 36 | B42: ebből: államháztartáson belül (B40311) | C42: =SUM(D42:H42) -> 2530000 | D42: 1330000 | E42: 1200000
A43: 37 | B43: ebből: államháztartáson kívül (B40312) | C43: =SUM(D43:H43) -> 1242000 | F43: 1242000
A44: 38 | B44: Tulajdonosi bevételek (B404) | C44: =SUM(D44:H44) -> 19200212 | D44: =SUM(D45:D49) -> 19200212 | E44: =SUM(E45:E49) -> 0 | F44: =SUM(F45:F49) -> 0 | G44: =SUM(G45:G49) -> 0 | H44: =SUM(H45:H49) -> 0
A45: 39 | B45: ebből: önkormányzati vagyon üzemeltetéséből, koncesszióból származó bevétel (B404131) | C45: =SUM(D45:H45) -> 9611212 | D45: 9611212
A46: 40 | B46: ebből: önkormányzati vagyon vagyonkezelésbe adásából származó bevétel (B404133) | C46: =SUM(D46:H46) -> 0
A47: 41 | B47: ebből: egy önk-i vagyon bérbeadásából (404134) | C47: =SUM(D47:H47) -> 9079000 | D47: 9079000
A48: 42 | B48: ebből egyéb önkorm vagyon haszonbérbeadásából (B404135) | C48: =SUM(D48:H48) -> 0
A49: 43 | B49: ebből: egy önk tulajdonosi bevétel (B404139) | C49: =SUM(D49:H49) -> 510000 | D49: 510000
A50: 44 | B50: Ellátási díjak (B40511) | C50: =SUM(D50:H50) -> 898775 | H50: 898775
A51: 45 | B51: Kiszámlázott általános forgalmi adó (B40611) | C51: =SUM(D51:H51) -> 8065896 | D51: 5543157 | E51: =(E37+E41+E44+E50)*0.27 -> 414450 | F51: =(F37+F41+F44+F50)*0.27 -> 443340 | H51: 1664949
A52: 46 | B52: Általános forgalmi adó visszatérítése (B4071) | C52: =SUM(D52:H52) -> 0
A53: 47 | B53: Egyéb kapott (járó) kamatok és kamatjellegű bevételek ÁHK(B408129) | C53: =SUM(D53:H53) -> 0
A54: 48 | B54: Más egyéb pénzügyi műveletek bevételei (B4092) | C54: =SUM(D54:H54) -> 0
A55: 49 | B55: ebből: valuta és deviza eszközök realizált árfolyamnyeresége (B4092) | C55: =SUM(D55:H55) -> 0
A56: 50 | B56: Egyéb pénzügyi műveletek bevételei B409199) | C56: =SUM(D56:H56) -> 0
A57: 51 | B57: Biztosító által fizetett kártérítés (B4101) | C57: =SUM(D57:H57) -> 0
A58: 52 | B58: Egyéb működési bevételek (B411199) | C58: =SUM(D58:H58) -> 12000 | F58: 12000
A59: 53 | B59: Működési bevételek (B4) | C59: =SUM(D59:H59) -> 38871587 | D59: =D37+D41+D44+D50+D51+D52+D53+D54+D55+D56+D57+D58 -> 26073369 | E59: =E37+E41+E44+E50+E51+E52+E53+E54+E55+E56+E57+E58 -> 1949450 | F59: =F37+F41+F44+F50+F51+F52+F53+F54+F55+F56+F57+F58 -> 2097340 | G59: =G37+G41+G44+G50+G51+G52+G53+G54+G55+G56+G57+G58 -> 920000 | H59: =H37+H41+H44+H50+H51+H52+H53+H54+H55+H56+H57+H58 -> 7831428
A60: 54 | B60: Ingatlanok értékesítése (B52) | C60: =SUM(D60:H60) -> 180000 | D60: 180000
A61: 55 | B61: Felhalmozási bevételek (B5) | C61: =SUM(D61:H61) -> 180000 | D61: =D60 -> 180000 | E61: =E60 -> 0 | F61: =F60 -> 0 | G61: =G60 -> 0 | H61: =H60 -> 0
A62: 56 | B62: Felhalmozási célú visszatérítendő támogatások, kölcsönök visszatérülése államháztartáson kívülről (B74) | C62: =SUM(D62:H62) -> 0
A63: 57 | B63: ebből: háztartások (B74) | C63: =SUM(D63:H63) -> 435500 | D63: 435500
A64: 58 | B64: Egyéb felhalmozási célú átvett pénzeszközök (B75) | C64: =SUM(D64:H64) -> 0
A65: 59 | B65: Felhalmozási célú átvett pénzeszközök (B7) | C65: =SUM(D65:H65) -> 435500 | D65: =SUM(D62:D64) -> 435500 | E65: =SUM(E62:E64) -> 0 | F65: =SUM(F62:F64) -> 0 | G65: =SUM(G62:G64) -> 0 | H65: =SUM(H62:H64) -> 0
A66: 60 | B66: Költségvetési bevételek (B1-B7) | C66: =SUM(D66:H66) -> 758969879 | D66: =D18+D24+D36+D59+D61+D65 -> 684135157 | E66: =E18+E24+E36+E59+E61+E65 -> 1949450 | F66: =F18+F24+F36+F59+F61+F65 -> 64133844 | G66: =G18+G24+G36+G59+G61+G65 -> 920000 | H66: =H18+H24+H36+H59+H61+H65 -> 7831428
A67: 61 | B67: Előző év költségvetési maradványának igénybevétele (B8131) | C67: =SUM(D67:H67) -> 590723141 | D67: 553636584 | E67: 11731989 | F67: 18551194 | G67: 1725483 | H67: 5077891
A68: 62 | B68: Államháztartáson belüli megelőlegezések (B814) | C68: =SUM(D68:H68) -> 0
A69: 63 | B69: Irányító szervi támogatás B816 | C69: =SUM(D69:H69) -> 490382091 | E69: 170413304 | F69: 123432267 | G69: 60106695 | H69: 136429825
A70: 64 | B70: Belföldi finanszírozás bevételei (B81) | C70: =SUM(D70:H70) -> 1081105232 | D70: =SUM(D67:D69) -> 553636584 | E70: =SUM(E67:E69) -> 182145293 | F70: =SUM(F67:F69) -> 141983461 | G70: =SUM(G67:G69) -> 61832178 | H70: =SUM(H67:H69) -> 141507716
A71: 65 | B71: Finanszírozási bevételek (B8) | C71: =SUM(D71:H71) -> 1081105232 | D71: =D70 -> 553636584 | E71: =E70 -> 182145293 | F71: =F70 -> 141983461 | G71: =G70 -> 61832178 | H71: =H70 -> 141507716
A72: 66 | B72: MINDÖSSZESEN: | C72: =SUM(D72:H72) -> 1840075111 | D72: =D66+D71 -> 1237771741 | E72: =E66+E71 -> 184094743 | F72: =F66+F71 -> 206117305 | G72: =G66+G71 -> 62752178 | H72: =H66+H71 -> 149339144

Sheet 2
B1: Berhida Város Önkormányzata | D1: 2. melléklet
B2: 2017. évi költségvetés | D2: a 2/2017. (II. 24 .) önkormányzati rendelethez
B3: Kiadások | C3: Ft-ban
C4: Összesen | D4: Önkormányzat | E4: Hivatal | F4: TESZ | G4: Kultúr | H4: Süni
A5: Sor- szám | B5: Rovat megnevezése | C5: Eredeti előirányzat | D5: Eredeti előirányzat | E5: Eredeti előirányzat | F5: Eredeti előirányzat | G5: Eredeti előirányzat | H5: Eredeti előirányzat
A6: 1 | B6: Személyi juttatások (K1) | C6: =SUM(D6:H6) -> 342026944 | D6: 34011835 | E6: 108619319 | F6: 101391038 | G6: 21160374 | H6: 76844378
A7: 2 | B7: Munkaadókat terhelő járulékok és szociális hozzájárulási adó (K2) | C7: =SUM(D7:H7) -> 73806915 | D7: 8573314 | E7: 26070315 | F7: 15853042 | G7: 4736256 | H7: 18573988
A8: 3 | B8: Dologi kiadások (K3) | C8: =SUM(D8:H8) -> 213722834 | D8: 40495573 | E8: 31903460 | F8: 68271434 | G8: 28198640 | H8: 44853727
A9: 4 | B9: Családi támogatások (K42) | C9: =SUM(D9:H9) -> 0 | D9: =D10 -> 0 | E9: =E10 -> 0 | F9: =F10 -> 0 | G9: =G10 -> 0 | H9: =H10 -> 0
A10: 5 | B10: ebből: az egyéb pénzbeli és természetbeni gyermekvédelmi támogatások (K42132) | C10: =SUM(D10:H10) -> 0
A11: 6 | B11: Intézményi ellátottak pénzbeli juttatásai (K47) | C11: =SUM(D11:H11) -> 2700000 | D11: =D12 -> 2700000 | E11: =E12 -> 0 | F11: =F12 -> 0 | G11: =G12 -> 0 | H11: =H12 -> 0
A12: 7 | B12: ebből: oktatásban résztvevők pénzbeli juttatásai (K471) | C12: =SUM(D12:H12) -> 2700000 | D12: 2700000
A13: 8 | B13: Egyéb nem intézményi ellátások (K48) | C13: =SUM(D13:H13) -> 9300000 | D13: =SUM(D14:D16) -> 9300000 | E13: =SUM(E14:E16) -> 0 | F13: =SUM(F14:F16) -> 0 | G13: =SUM(G14:G16) -> 0 | H13: =SUM(H14:H16) -> 0
A14: 9 | B14: ebből: köztemetés [Szoctv. 48.§] (K48123) | C14: =SUM(D14:H14) -> 900000 | D14: 900000
A15: 10 | B15: ebből: települési támogatás [Szoctv. 45. §], (K48122) | C15: =SUM(D15:H15) -> 8400000 | D15: 8400000
A16: 11 | B16: ebből: önkorm. Saját hatáskörben adott (K48139) | C16: =SUM(D16:H16) -> 0
A17: 12 | B17: Ellátottak pénzbeli juttatásai (K4) | C17: =SUM(D17:H17) -> 12000000 | D17: =D9+D11+D13 -> 12000000 | E17: =E9+E11+E13 -> 0 | F17: =F9+F11+F13 -> 0 | G17: =G9+G11+G13 -> 0 | H17: =H9+H11+H13 -> 0
A18: 13 | B18: Elvonások és befizetések (K5023) | C18: =SUM(D18:H18) -> 780000 | D18: 780000
A19: 14 | B19: Egyéb működési célú támogatások államháztartáson belülre (K506) | C19: =SUM(D19:H19) -> 149600192 | D19: =SUM(D20:D23) -> 148857492 | E19: =SUM(E20:E23) -> 0 | F19: =SUM(F20:F23) -> 742700 | G19: =SUM(G20:G23) -> 0 | H19: =SUM(H20:H23) -> 0
A20: 15 | B20: ebből: egyéb fejezeti kezelésű előirányzatok (K506132) | C20: =SUM(D20:H20) -> 500000 | D20: 500000
A21: 16 | B21: ebből: elkülönített állami pénzalap (K50615) | C21: =SUM(D21:H21) -> 742700 | F21: 742700
A22: 17 | B22: ebből: önkormányzatok és költségv-i szerveik K50616) | C22: =SUM(D22:H22) -> 0
A23: 18 | B23: ebből: társulások és költségvetési szerveik (K50617) | C23: =SUM(D23:H23) -> 148357492 | D23: 148357492
A24: 19 | B24: Egyéb működési célú támogatások államháztartáson kívülre non-profit szervezet (K512142) | C24: =SUM(D24:H24) -> 6360000 | D24: 6360000
A25: 20 | B25: Tartalékok (K51311) | C25: =SUM(D25:H25) -> 126096387 | D25: 126096387
A26: 21 | B26: Egyéb működési célú kiadások (K5) | C26: =SUM(D26:H26) -> 282836579 | D26: =D18+D19+D24+D25 -> 282093879 | E26: =E18+E19+E24+E25 -> 0 | F26: =F18+F19+F24+F25 -> 742700 | G26: =G18+G19+G24+G25 -> 0 | H26: =H18+H19+H24+H25 -> 0
A27: 22 | B27: Immateriális javak beszerzése, lét (K611) | C27: =SUM(D27:H27) -> 2381102 | D27: 1181102 | E27: 1000000 | F27: 200000
A28: 23 | B28: Ingatlanok beszerzése, létesítése (K621) | C28: =SUM(D28:H28) -> 11101574 | D28: 11101574
A29: 24 | B29: Informatikai eszközök beszerzése, létesítése (K631) | C29: =SUM(D29:H29) -> 3350000 | D29: 90000 | E29: 3000000 | F29: 260000
A30: 25 | B30: Egyéb tárgyi eszközök beszerzése, létesítése (K641) | C30: =SUM(D30:H30) -> 5052333 | D30: 1861333 | E30: 200000 | F30: 1820000 | G30: 791000 | H30: 380000
A31: 26 | B31: Beruházási célú előzetesen felszámított általános forgalmi adó (K671) | C31: =SUM(D31:H31) -> 5778935 | D31: 3843185 | E31: 1134000 | F31: =(SUM(F27:F30)*0.27) -> 615600 | G31: 83550 | H31: 102600
A32: 27 | B32: Beruházások (K6) | C32: =SUM(D32:H32) -> 27663944 | D32: =SUM(D27:D31) -> 18077194 | E32: =SUM(E27:E31) -> 5334000 | F32: =SUM(F27:F31) -> 2895600 | G32: =SUM(G27:G31) -> 874550 | H32: =SUM(H27:H31) -> 482600
A33: 28 | B33: Ingatlanok felújítása (K711) | C33: =SUM(D33:H33) -> 200188081 | D33: 200188081
A34: 29 | B34: Informatikai eszköz felújítása (K7211) | C34: =SUM(D34:H34) -> 100000 | E34: 100000
A35: 30 | B35: Egyéb tárgyi eszközök felújítása (K731) | C35: =SUM(D35:H35) -> 320000 | F35: 200000 | H35: 120000
A36: 31 | B36: Felújítási célú előzetesen felszámított általános forgalmi adó (K741) | C36: =SUM(D36:H36) -> 53904982 | D36: 53791582 | E36: 27000 | F36: 54000 | G36: =(SUM(G33:G35))*0.27 -> 0 | H36: 32400
A37: 32 | B37: Felújítások (K7) | C37: =SUM(D37:H37) -> 254513063 | D37: =SUM(D33:D36) -> 253979663 | E37: =SUM(E33:E36) -> 127000 | F37: =SUM(F33:F36) -> 254000 | G37: =SUM(G33:G36) -> 0 | H37: =SUM(H33:H36) -> 152400
A38: 33 | B38: Egyéb felhalmozási célú támogatások államháztartáson kívülre (K89) | C38: =SUM(D38:H38) -> 0 | D38: =SUM(D39:D41) -> 0 | E38: =SUM(E39:E41) -> 0 | F38: =SUM(F39:F41) -> 0 | G38: =SUM(G39:G41) -> 0 | H38: =SUM(H39:H41) -> 0
A39: 34 | B39: ebből: egyházi jogi személyek (K89) | C39: =SUM(D39:H39) -> 0
A40: 35 | B40: ebből: nonprofit gazdasági társaságok (K89) | C40: =SUM(D40:H40) -> 0
A41: 36 | B41: ebből:önkormányzati többségi tulajdonú nem pénzügyi vállalkozások (K89) | C41: =SUM(D41:H41) -> 0
A42: 37 | B42: Egyéb felhalmozási célú kiadások (K8) | C42: =SUM(D42:H42) -> 0 | D42: =D38 -> 0 | E42: =E38 -> 0 | F42: =F38 -> 0 | G42: =G38 -> 0 | H42: =H38 -> 0
A43: 38 | B43: Költségvetési kiadások (K1-K8) | C43: =SUM(D43:H43) -> 1206570279 | D43: =D6+D7+D8+D17+D26+D32+D37+D42 -> 649231458 | E43: =E6+E7+E8+E17+E26+E32+E37+E42 -> 172054094 | F43: =F6+F7+F8+F17+F26+F32+F37+F42 -> 189407814 | G43: =G6+G7+G8+G17+G26+G32+G37+G42 -> 54969820 | H43: =H6+H7+H8+H17+H26+H32+H37+H42 -> 140907093
A44: 39 | B44: Államháztartáson belüli megelőlegezések visszafizetése (K914) | C44: =SUM(D44:H44) -> 11433848 | D44: 11433848
A45: 40 | B45: Központi, irányító szervi támogatások folyósítása (K915) | C45: =SUM(D45:H45) -> 475776396 | D45: ='1'!C69 -> 475776396
A46: 41 | B46: Belföldi finanszírozás kiadásai (K91) | C46: =SUM(D46:H46) -> 487210244 | D46: =SUM(D44:D45) -> 487210244 | E46: =SUM(E44:E45) -> 0 | F46: =SUM(F44:F45) -> 0 | G46: =SUM(G44:G45) -> 0 | H46: =SUM(H44:H45) -> 0
A47: 42 | B47: Finanszírozási kiadások (K9) | C47: =SUM(D47:H47) -> 487210244 | D47: =D46 -> 487210244 | E47: =E46 -> 0 | F47: =F46 -> 0 | G47: =G46 -> 0 | H47: =H46 -> 0
A48: 43 | B48: MINDÖSSZESEN: | C48: =SUM(D48:H48) -> 1693780523 | D48: =D43+D47 -> 1136441702 | E48: =E43+E47 -> 172054094 | F48: =F43+F47 -> 189407814 | G48: =G43+G47 -> 54969820 | H48: =H43+H47 -> 140907093

Sheet 2a
B1: Berhida Város Önkormányzata | C1: 2/a. melléklet
B2: 2017. évi költségvetés | C2: a 2/2017. (II.24.) önkormányzati rendelethez
B3: Kiadások | C3: adatok Ft-ban
A5: Felújítások | C5: Eredeti előir | D5: változás | E5: mód javaslat
A6: 1 | B6: ÖNK út-járda felújítások+műsz ell kv-i m ad. Konsz II.pály | C6: 194762848 | D6: -12000000 | E6: =C6+D6 -> 182762848
A7: 2 | B7: ÖNK Süni óvoda tető felújítás adósságkonsz pály+kieg kv-i m | C7: 49983339 | D7: 12000000 | E7: =C7+D7 -> 61983339
A8: 3 | B8: ÖNK Önk Hivatal vizesblokk felújítás kv-i mar | C8: 416162 | E8: =C8+D8 -> 416162
A9: 4 | B9: TESZ jármű felújítás | C9: 254000 | E9: =C9+D9 -> 254000
A10: 5 | B10: ÖNK Hunyadi tér orvosi rendelő felújítás | C10: 203200 | E10: =C10+D10 -> 203200
A11: 6 | B11: ÖH informatikai eszköz felújítás | C11: 127000 | E11: =C11+D11 -> 127000
A12: 7 | B12: ÖNK Ady régi isk vizesblokk felújítás áthúzódó | C12: 774446 | E12: =C12+D12 -> 774446
A13: 8 | B13: ÖNK Jázmin 1.. szolg. Lakás ablakcsere | C13: 340000 | E13: =C13+D13 -> 340000
A14: 9 | B14: ÖNK Jázmin u. 2 db garázsajtó | C14: 304800 | E14: =C14+D14 -> 304800
A15: 10 | B15: ÖNK Pgytp 1848-49 emlékmű felújítás | C15: 1987093 | D15: 100000 | E15: =C15+D15 -> 2087093
A16: 11 | B16: ÖNK pályázatokhoz kapcsolódó tervek | C16: 3000000 | D16: 890000 | E16: =C16+D16 -> 3890000
A17: 12 | B17: ÖNK közvilágítás korszerűsítés kiviteli terv | C17: 1247775 | E17: =C17+D17 -> 1247775
A18: 13 | B18: ÖNK külterületi utak pályázat tervek | C18: 960000 | E18: =C18+D18 -> 960000
A19: 14 | B19: Süni egyéb tárgyi eszköz felújítás | C19: 152400 | E19: =C19+D19 -> 152400
A20: 15 | B20: ÖNK Kultúrház homlokzat felújítás, nyílászáró csere | D20: 5015000 | E20: =C20+D20 -> 5015000
A21: 16 | B21: ÖNK Petőfi műv ház lapostető szigetelés, javítás | D21: 480038 | E21: =C21+D21 -> 480038
A22: 17 | B22: ÖNK Petőfi Műv ház színpadi kapcsoló szekrény cseréje | D22: 1682750 | E22: =C22+D22 -> 1682750
A23: 18 | B23: ÖNK Hivatal Keleti szárny tetőszigetelés, kapcsolódó munkák | D23: 3810000 | E23: =C23+D23 -> 3810000
A24: 19 | B24: ÖNK Péti úti temető ravatalozó utcai homlokzat felújítás | D24: 370000 | E24: =C24+D24 -> 370000
A25: 20 | B25: ÖNK Hunyadi tér orvosi rendelő felújítás | D25: 110000 | E25: =C25+D25 -> 110000
A26: 21 | E26: =C26+D26 -> 0
A27: 22 | B27: Összesen | C27: =SUM(C6:C26) -> 254513063 | D27: =SUM(D6:D26) -> 12457788 | E27: =SUM(E6:E26) -> 266970851

Sheet 2b
B1: Berhida Város Önkormányzata | C1: 2/b. melléklet
B2: 2017. évi költségvetés | C2: a /2017. (II.24.) önkormányzati rendelethez
B3: Kiadások | C3: adatok Ft-ban
A5: Beruházások | C5: Eredeti előir | D5: változás | E5: mód javaslat
A6: 1 | B6: ÖNK intézményi beruházásokhoz kapcs tervek kv-i m | C6: 3000000 | D6: -1000000 | E6: =C6+D6 -> 2000000
A7: 2 | B7: ÖNK Veszprémi-Orgona út között telkek villamosterv kv-i m | C7: 499000 | E7: =C7+D7 -> 499000
A8: 3 | B8: ÖNK védőnői szolg. Egyéb eszközbeszerzés | C8: 127000 | D8: 200000 | E8: =C8+D8 -> 327000
A9: 4 | B9: ÖNK TESZ telephely vásárlás | C9: 10000000 | E9: =C9+D9 -> 10000000
A10: 5 | B10: ÖNK inform eszköz modem | C10: 114300 | E10: =C10+D10 -> 114300
A11: 6 | B11: ÖNK egyéb tárgyi eszköz (vérszáll. hűtőtáska) | C11: 36894 | E11: =C11+D11 -> 36894
A12: 7 | B12: ÖNK önkormányzati WEB lap készítés | C12: 1500000 | E12: =C12+D12 -> 1500000
A13: 8 | B13: ÖNK Péti úti temető urnafal építés | C13: 1500000 | E13: =C13+D13 -> 1500000
A14: 9 | B14: ÖNK közvilágítási lámpatestek beszerzése (napelemes stb…) | C14: 600000 | D14: 349250 | E14: =C14+D14 -> 949250
A15: 10 | B15: ÖNK közkutak vízmérő kialakítási munkák HKA | C15: 700000 | D15: 148151 | E15: =C15+D15 -> 848151
A16: 11 | B16: TESZ imm javak +áfa | C16: 254000 | E16: =C16+D16 -> 254000
A17: 12 | B17: TESZ egyéb tárgyi eszközök beszerz út-híd | C17: 762000 | D17: 125000 | E17: =C17+D17 -> 887000
A18: 13 | B18: TESZ informatikai eszközök+áfa | C18: 330200 | E18: =C18+D18 -> 330200
A19: 14 | B19: TESZ egyéb te+áfa zöldterület (padok, kerékgumi stb) | C19: 254000 | D19: 195000 | E19: =C19+D19 -> 449000
A20: 15 | B20: TESZ egyéb gép, berendezés szekrények + áfa | C20: 317500 | E20: =C20+D20 -> 317500
A21: 16 | B21: TESZ padok, kuka köztemető | C21: 342900 | E21: =C21+D21 -> 342900
A22: 17 | B22: TESZ hosszú közfoglalkoztatás eszközbeszerzés | C22: 635000 | E22: =C22+D22 -> 635000
A23: 18 | B23: Kultúrház egyéb tárgyi eszköz pály-hoz önrész | C23: 254000 | D23: 260000 | E23: =C23+D23 -> 514000
A24: 19 | B24: Kultúrház könyv beszerzés (éven túli) | C24: 620550 | E24: =C24+D24 -> 620550
A25: 20 | B25: Süni Óvoda konyhai eszközök | C25: 254000 | E25: =C25+D25 -> 254000
A26: 21 | B26: Süni egyéb óvodai tárgyi eszköz + áfa | C26: 228600 | D26: 141000 | E26: =C26+D26 -> 369600
A27: 22 | B27: ÖH informatikai eszközök + áfa | C27: 3810000 | D27: -400050 | E27: =C27+D27 -> 3409950
A28: 23 | B28: ÖH egyéb gép, berend + áfa | C28: 254000 | D28: 1418290 | E28: =C28+D28 -> 1672290
A29: 24 | B29: ÖH imm javak + áfa | C29: 1270000 | D29: -269240 | E29: =C29+D29 -> 1000760
A30: 25 | B30: ÖNK Péti úti temetőnél útöböl térkövezés | D30: 2000000 | E30: =C30+D30 -> 2000000
A31: 26 | B31: ÖNK Péti úti temető új kapu Csokonai u. | D31: 300000 | E31: =C31+D31 -> 300000
A32: 27 | B32: ÖNK Kiskovácsi temető múrvázott útépítés | D32: 925000 | E32: =C32+D32 -> 925000
A33: 28 | B33: ÖNK Kiskovácsi temető ravatalozó bővítés | D33: 2470000 | E33: =C33+D33 -> 2470000
A34: 29 | B34: ÖNK urnafal, temetkezési hely kialakítás | D34: 303267 | E34: =C34+D34 -> 303267
A35: 30 | B35: ÖNK Iskola szék, asztal, egyéb eszköz vásárlás | D35: 300000 | E35: =C35+D35 -> 300000
A36: 31 | B36: ÖNK Péti uton buszmegálló beszerzés+ alépítmény | D36: 1070000 | E36: =C36+D36 -> 1070000
A37: 32 | B37: TESZ vagyongazdálkodás egyéb tárgyi eszköz beszerzés+áfa | D37: 80000 | E37: =C37+D37 -> 80000
A38: 33 | B38: Kultúrház mikrofonok, egyéb gép, eszköz beszerzés+áfa | D38: 784860 | E38: =C38+D38 -> 784860
B39: Kultúrház szakkörök kisértékű tárgyi eszk beszerz | D39: 200300 | E39: =C39+D39 -> 200300
A41: 34 | E41: =C41+D41 -> 0
A42: 35 | B42: Összesen | C42: =SUM(C6:C41) -> 27663944 | D42: =SUM(D6:D41) -> 9600828 | E42: =SUM(E6:E41) -> 37264772

Sheet 2-c
A1: BERHIDA VÁROS ÖNKORMÁNYZATA
A2: 2017. évi költségvetési tervben a költségvetési maradvány igénybevétel és hiány részletezése
E3: 2/c melléklet
E4: a 2/2017. (II. 24 .) önkormányzati rendelethez
E5: adatok Ft-ban
A6: kv-i maradvány | C6: céltart | D6: Műk célú Tám | E6: Felújítás | F6: Felhalm | G6: dologi | H6: állami megel | I6: személyi | J6: járulék
A7: HKA | B7: =SUM(C7:J7) -> 70775642 | C7: 70775642
A8: tc társulási 2016 | B8: =SUM(C8:J8) -> 1217323 | D8: 1217323
A9: külterületi utak önrész céltartba | B9: =SUM(C9:J9) -> 11120745 | C9: 11120745
A10: Süni Óvoda tető felúj | B10: =SUM(C10:J10) -> 49983339 | E10: 49983339
A11: Adósságkonsz pály út-járda felúj+műsz ell | B11: =SUM(C11:J11) -> 194581765 | E11: 194581765
A12: állami támogatás elszám. Étkeztetés | B12: =SUM(C12:J12) -> 3200000 | C12: 3200000
A13: ingatlan havaria céltartalékba | B13: =SUM(C13:J13) -> 5000000 | C13: 5000000
A14: iskola egészségügy Dankáné 2016 | B14: =SUM(C14:J14) -> 348000 | G14: 348000
A15: Hivatal vizesblokk felúk | B15: =SUM(C15:J15) -> 416162 | E15: 416162
A16: Hunyaditér orvosi rendelő felúj | B16: =SUM(C16:J16) -> 203200 | E16: 203200
A17: Ady vizesblokk felúj | B17: =SUM(C17:J17) -> 774446 | E17: 774446
A18: Jázmin u. szolg. Lakás ablakcsere | B18: =SUM(C18:J18) -> 340000 | E18: 340000
A19: Jázmin u. 2 db garázs ajtó csere | B19: =SUM(C19:J19) -> 304800 | E19: 304800
A20: Pgytp emlékmű felúj | B20: =SUM(C20:J20) -> 1987093 | E20: 1987093
A21: felújítás tervek | B21: =SUM(C21:J21) -> 3000000 | E21: 3000000
A22: beruházás tervek | B22: =SUM(C22:J22) -> 3000000 | F22: 3000000
A23: közvilágítás kiviteli tervek | B23: =SUM(C23:J23) -> 1247775 | E23: 1247775
A24: külterületi utak felúj pály tervek | B24: =SUM(C24:J24) -> 960000 | E24: 960000
A25: telkek villamosterv | B25: =SUM(C25:J25) -> 499000 | F25: 499000
A26: TESZ telephely vásárlás | B26: =SUM(C26:J26) -> 10000000 | F26: 10000000
A27: betegség megel inf modem | B27: =SUM(C27:J27) -> 114300 | F27: 114300
A28: betegség megel hűtőtáska | B28: =SUM(C28:J28) -> 36894 | F28: 36894
A29: WEB lap készítés | B29: =SUM(C29:J29) -> 1500000 | F29: 1500000
A30: urnafal készítés | B30: =SUM(C30:J30) -> 1500000 | F30: 1500000
A31: TOPOS pályázat Megyei önk díj | B31: =SUM(C31:J31) -> 4860594 | G31: 4860594
A32: ÖNK közvilágítási lámpatestek beszerzése (napelemes stb…) | B32: =SUM(C32:J32) -> 600000 | F32: 600000
A33: ÖNK közkutak vízmérő kialakítási munkák HKA | B33: =SUM(C33:J33) -> 700000 | F33: 700000
A34: TESZ imm javak +áfa | B34: =SUM(C34:J34) -> 254000 | F34: 254000
A35: TESZ egyéb tárgyi eszközök beszerz út-híd | B35: =SUM(C35:J35) -> 762000 | F35: 762000
A36: TESZ informatikai eszközök+áfa | B36: =SUM(C36:J36) -> 330200 | F36: 330200
A37: TESZ egyéb te+áfa zöldterület (padok, kerékgumi stb) | B37: =SUM(C37:J37) -> 254000 | F37: 254000
A38: TESZ egyéb gép, berendezés szekrények + áfa | B38: =SUM(C38:J38) -> 317500 | F38: 317500
A39: TESZ padok, kuka köztemető | B39: =SUM(C39:J39) -> 342900 | F39: 342900
A40: TESZ hosszú közfoglalkoztatás eszközbeszerzés | B40: =SUM(C40:J40) -> 635000 | F40: 635000
A41: Kultúrház egyéb tárgyi eszköz pály-hoz önrész | B41: =SUM(C41:J41) -> 254000 | F41: 254000
A42: Kultúrház könyv beszerzés (éven túli) | B42: =SUM(C42:J42) -> 620550 | F42: 620550
A43: Süni Óvoda konyhai eszközök | B43: =SUM(C43:J43) -> 254000 | F43: 254000
... A48: védőnői szolg. Egyéb eszköz beszerzés | B48: =SUM(C48:J48) -> 127000 | F48: 127000
A49: Süni eszköz felújítás | B49: =SUM(C49:J49) -> 152400 | E49: 152400
A50: Hivatal inform eszköz felúj | B50: =SUM(C50:J50) -> 127000 | E50: 127000
A51: TESZ jármű felúj | B51: =SUM(C51:J51) -> 254000 | E51: 254000
A52: állami megelőlegezés | B52: =SUM(C52:J52) -> 11433848 | H52: 11433848
A53: Lieder 2017 támogatás | B53: =SUM(C53:J53) -> 2460000 | D53: 2460000
A54: város üzemeltetési feladat | B54: =SUM(C54:J54) -> 23894469 | G54: 23894469
A55: pályázati tartalék | B55: =SUM(C55:J55) -> 36000000 | C55: 36000000
A56: TESZ közfoglak | B56: =SUM(C56:J56) -> 6727703 | I56: 5927492 | J56: 800211
A57: Mindösszesen | B57: =SUM(B7:B56) -> 459034248 | C57: =SUM(C7:C56) -> 126096387 | D57: =SUM(D7:D56) -> 3677323 | E57: =SUM(E7:E56) -> 254331980 | F57: =SUM(F7:F56) -> 27663944 | G57: =SUM(G7:G56) -> 29103063 | H57: =SUM(H7:H56) -> 11433848 | I57: =SUM(I7:I56) -> 5927492 | J57: =SUM(J7:J56) -> 800211
A58: Müködési célú | B58: =SUM(C58:J58) -> 47708089 | C58: =C12+C13 -> 8200000 | D58: =D57 -> 3677323 | G58: =G57 -> 29103063 | I58: =I57 -> 5927492 | J58: =J57 -> 800211
A59: Felhalmozási célú | B59: =SUM(C59:J59) -> 399892311 | C59: =C7+C9+C55 -> 117896387 | E59: =E57 -> 254331980 | F59: =F57 -> 27663944
A60: finanszírozási célú | B60: =SUM(C60:J60) -> 11433848 | H60: =H57 -> 11433848
A61: Összesen | B61: =SUM(C61:J61) -> 459034248 | C61: =SUM(C58:C60) -> 126096387 | D61: =SUM(D58:D60) -> 3677323 | E61: =SUM(E58:E60) -> 254331980 | F61: =SUM(F58:F60) -> 27663944 | G61: =SUM(G58:G60) -> 29103063 | H61: =SUM(H58:H60) -> 11433848 | I61: =SUM(I58:I60) -> 5927492 | J61: =SUM(J58:J60) -> 800211

Sheet 2d
B1: Berhida Város Önkormányzata | D1: 2d. melléklet
B2: 2017. évi költségvetés | D2: a 2/2017. (II.24.) önkormányzati rendelethez
B3: Kiadások | C3: Ft-ban
C4: Összesen | D4: Önkormányzat | E4: Hivatal | F4: TESZ | G4: Kultúr | H4: Süni
A5: Sor- szám | B5: Rovat megnevezése | C5: Eredeti előirányzat | D5: Eredeti előirányzat | E5: Eredeti előirányzat | F5: Eredeti előirányzat | G5: Eredeti előirányzat | H5: Eredeti előirányzat
A6: 1 | B6: Személyi juttatások (K1) | C6: =SUM(D6:H6) -> 361781862 | D6: 34203835 | E6: 115661319 | F6: 107041038 | G6: 23831592 | H6: 81044078
A7: 2 | B7: Munkaadókat terhelő járulékok és szociális hozzájárulási adó (K2) | C7: =SUM(D7:H7) -> 78877589 | D7: 8902194 | E7: 27976915 | F7: 17096042 | G7: 5404150 | H7: 19498288
A8: 3 | B8: Dologi kiadások (K3) | C8: =SUM(D8:H8) -> 239747771 | D8: 48395833 | E8: 34246509 | F8: 77687925 | G8: 31396726 | H8: 48020778
A9: 4 | B9: Családi támogatások (K42) | C9: =SUM(D9:H9) -> 0 | D9: =D10 -> 0 | E9: =E10 -> 0 | F9: =F10 -> 0 | G9: =G10 -> 0 | H9: =H10 -> 0
A10: 5 | B10: ebből: az egyéb pénzbeli és természetbeni gyermekvédelmi támogatások (K42132) | C10: =SUM(D10:H10) -> 0
A11: 6 | B11: Intézményi ellátottak pénzbeli juttatásai (K47) | C11: =SUM(D11:H11) -> 2700000 | D11: =D12 -> 2700000 | E11: =E12 -> 0 | F11: =F12 -> 0 | G11: =G12 -> 0 | H11: =H12 -> 0
A12: 7 | B12: ebből: oktatásban résztvevők pénzbeli juttatásai (K471) | C12: =SUM(D12:H12) -> 2700000 | D12: 2700000
A13: 8 | B13: Egyéb nem intézményi ellátások (K48) | C13: =SUM(D13:H13) -> 9300000 | D13: =SUM(D14:D16) -> 9300000 | E13: =SUM(E14:E16) -> 0 | F13: =SUM(F14:F16) -> 0 | G13: =SUM(G14:G16) -> 0 | H13: =SUM(H14:H16) -> 0
A14: 9 | B14: ebből: köztemetés [Szoctv. 48.§] (K48123) | C14: =SUM(D14:H14) -> 900000 | D14: 900000
A15: 10 | B15: ebből: települési támogatás [Szoctv. 45. §], (K48122) | C15: =SUM(D15:H15) -> 8400000 | D15: 8400000
A16: 11 | B16: ebből: önkorm. Saját hatáskörben adott (K48139) | C16: =SUM(D16:H16) -> 0
A17: 12 | B17: Ellátottak pénzbeli juttatásai (K4) | C17: =SUM(D17:H17) -> 12000000 | D17: =D9+D11+D13 -> 12000000 | E17: =E9+E11+E13 -> 0 | F17: =F9+F11+F13 -> 0 | G17: =G9+G11+G13 -> 0 | H17: =H9+H11+H13 -> 0
A18: 13 | B18: Elvonások és befizetések (K5023) | C18: =SUM(D18:H18) -> 822459 | D18: 822459
A19: 14 | B19: Egyéb működési célú támogatások államháztartáson belülre (K506) | C19: =SUM(D19:H19) -> 155243980 | D19: =SUM(D20:D23) -> 154501280 | E19: =SUM(E20:E23) -> 0 | F19: =SUM(F20:F23) -> 742700 | G19: =SUM(G20:G23) -> 0 | H19: =SUM(H20:H23) -> 0
A20: 15 | B20: ebből: egyéb fejezeti kezelésű előirányzatok (K506132) | C20: =SUM(D20:H20) -> 500000 | D20: 500000
A21: 16 | B21: ebből: elkülönített állami pénzalap (K50615) | C21: =SUM(D21:H21) -> 742700 | F21: 742700
A22: 17 | B22: ebből: önkormányzatok és költségv-i szerveik K50616) | C22: =SUM(D22:H22) -> 0
A23: 18 | B23: ebből: társulások és költségvetési szerveik (K50617) | C23: =SUM(D23:H23) -> 154001280 | D23: 154001280
A24: 19 | B24: Egyéb működési célú támogatások államháztartáson kívülre non-profit szervezet (K512142) | C24: =SUM(D24:H24) -> 4851560 | D24: 4851560
A25: 20 | B25: Tartalékok (K51311) | C25: =SUM(D25:H25) -> 179198328 | D25: 179198328
A26: 21 | B26: Egyéb működési célú kiadások (K5) | C26: =SUM(D26:H26) -> 340116327 | D26: =D18+D19+D24+D25 -> 339373627 | E26: =E18+E19+E24+E25 -> 0 | F26: =F18+F19+F24+F25 -> 742700 | G26: =G18+G19+G24+G25 -> 0 | H26: =H18+H19+H24+H25 -> 0
A27: 22 | B27: Immateriális javak beszerzése, lét (K611) | C27: =SUM(D27:H27) -> 2111862 | D27: 1181102 | E27: 730760 | F27: 200000
A28: 23 | B28: Ingatlanok beszerzése, létesítése (K621) | C28: =SUM(D28:H28) -> 15996392 | D28: 15996392
A29: 24 | B29: Informatikai eszközök beszerzése, létesítése (K631) | C29: =SUM(D29:H29) -> 2949950 | D29: 90000 | E29: 2599950 | F29: 260000
A30: 25 | B30: Egyéb tárgyi eszközök beszerzése, létesítése (K641) | C30: =SUM(D30:H30) -> 8386510 | D30: 2530034 | E30: 1459050 | F30: 2134960 | G30: 1771442 | H30: 491024
A31: 26 | B31: Beruházási célú előzetesen felszámított általános forgalmi adó (K671) | C31: =SUM(D31:H31) -> 7820058 | D31: 5345334 | E31: 1293240 | F31: 700640 | G31: 348268 | H31: 132576
A32: 27 | B32: Beruházások (K6) | C32: =SUM(D32:H32) -> 37264772 | D32: =SUM(D27:D31) -> 25142862 | E32: =SUM(E27:E31) -> 6083000 | F32: =SUM(F27:F31) -> 3295600 | G32: =SUM(G27:G31) -> 2119710 | H32: =SUM(H27:H31) -> 623600
A33: 28 | B33: Ingatlanok felújítása (K711) | C33: =SUM(D33:H33) -> 209997363 | D33: 209997363
A34: 29 | B34: Informatikai eszköz felújítása (K7211) | C34: =SUM(D34:H34) -> 100000 | E34: 100000
A35: 30 | B35: Egyéb tárgyi eszközök felújítása (K731) | C35: =SUM(D35:H35) -> 320000 | F35: 200000 | H35: 120000
A36: 31 | B36: Felújítási célú előzetesen felszámított általános forgalmi adó (K741) | C36: =SUM(D36:H36) -> 56553488 | D36: 56440088 | E36: 27000 | F36: 54000 | G36: =(SUM(G33:G35))*0.27 -> 0 | H36: 32400
A37: 32 | B37: Felújítások (K7) | C37: =SUM(D37:H37) -> 266970851 | D37: =SUM(D33:D36) -> 266437451 | E37: =SUM(E33:E36) -> 127000 | F37: =SUM(F33:F36) -> 254000 | G37: =SUM(G33:G36) -> 0 | H37: =SUM(H33:H36) -> 152400
A38: 33 | B38: Egyéb felhalmozási célú támogatások államháztartáson kívülre (K89) | C38: =SUM(D38:H38) -> 1500000 | D38: =SUM(D39:D41) -> 1500000 | E38: =SUM(E39:E41) -> 0 | F38: =SUM(F39:F41) -> 0 | G38: =SUM(G39:G41) -> 0 | H38: =SUM(H39:H41) -> 0
A39: 34 | B39: ebből: egyházi jogi személyek (K89) | C39: =SUM(D39:H39) -> 0
A40: 35 | B40: ebből: nonprofit | C40: =SUM(D40:H40) -> 1500000 | D40: 1500000
A41: 36 | B41: ebből:önkormányzati többségi tulajdonú nem pénzügyi vállalkozások (K89) | C41: =SUM(D41:H41) -> 0
A42: 37 | B42: Egyéb felhalmozási célú kiadások (K8) | C42: =SUM(D42:H42) -> 1500000 | D42: =D38 -> 1500000 | E42: =E38 -> 0 | F42: =F38 -> 0 | G42: =G38 -> 0 | H42: =H38 -> 0
A43: 38 | B43: Költségvetési kiadások (K1-K8) | C43: =SUM(D43:H43) -> 1338259172 | D43: =D6+D7+D8+D17+D26+D32+D37+D42 -> 735955802 | E43: =E6+E7+E8+E17+E26+E32+E37+E42 -> 184094743 | F43: =F6+F7+F8+F17+F26+F32+F37+F42 -> 206117305 | G43: =G6+G7+G8+G17+G26+G32+G37+G42 -> 62752178 | H43: =H6+H7+H8+H17+H26+H32+H37+H42 -> 149339144
A44: 39 | B44: Államháztartáson belüli megelőlegezések visszafizetése (K914) | C44: =SUM(D44:H44) -> 11433848 | D44: 11433848
A45: 40 | B45: Központi, irányító szervi támogatások folyósítása (K915) | C45: =SUM(D45:H45) -> 490382091 | D45: ='[1]17'!C69 -> 490382091
A46: 41 | B46: Belföldi finanszírozás kiadásai (K91) | C46: =SUM(D46:H46) -> 501815939 | D46: =SUM(D44:D45) -> 501815939 | E46: =SUM(E44:E45) -> 0 | F46: =SUM(F44:F45) -> 0 | G46: =SUM(G44:G45) -> 0 | H46: =SUM(H44:H45) -> 0
A47: 42 | B47: Finanszírozási kiadások (K9) | C47: =SUM(D47:H47) -> 501815939 | D47: =D46 -> 501815939 | E47: =E46 -> 0 | F47: =F46 -> 0 | G47: =G46 -> 0 | H47: =H46 -> 0
A48: 43 | B48: MINDÖSSZESEN: | C48: =SUM(D48:H48) -> 1840075111 | D48: =D43+D47 -> 1237771741 | E48: =E43+E47 -> 184094743 | F48: =F43+F47 -> 206117305 | G48: =G43+G47 -> 62752178 | H48: =H43+H47 -> 149339144

Sheet 3.mell. 
D1: Berhida Város Önkormányzata | H1: 3. melléklet
C2: Költségvetési szervek engedélyezett létszám kerete | H2: a 2/2017. (II.24.) önkormányzati rendelethez
E4: 2017. évi költségvetés
B5: A | C5: B | D5: C | E5: D | F5: E | G5: F | H5: G | I5: H
A6: 1 | B6: BEVÉTELI JOGCÍMEK | C6: Süni | D6: Kultúrház | E6: Műv.ház | F6: TESZ, közf. | G6: Köz Önk.Hiv. | H6: Önkormányzat | I6: ÖSSZESEN
A7: 2 | B7: Intézm.létszámkeret fő: | C7: 25 | D7: 4.5 | E7: 2 | F7: 13 | G7: 26.88 | H7: 12 | I7: =SUM(C7:H7) -> 83.38
B8: 2017.03.20-10.31-ig párhuz fogl | D8: 1 | I8: =SUM(C8:H8) -> 1
A9: 3 | B9: + 6-8 órás közfoglalk létsz | C9: 2 | F9: 120 | I9: =SUM(C9:H9) -> 122
A10: 4 | B10: LÉTSZÁMKERET összesen: | C10: =SUM(C7:C9) -> 27 | D10: =SUM(D7:D9) -> 5.5 | E10: =SUM(E7:E9) -> 2 | F10: =SUM(F7:F9) -> 133 | G10: =SUM(G7:G9) -> 26.88 | H10: =SUM(H7:H9) -> 12 | I10: =SUM(I7:I9) -> 206.38
B12: Önkormányzati létszámkeret | C12: a.) polgármester | F12: 1 | G12: fő
C13: b.) alpolgármester | F13: 1 | G13: fő
C14: c.) önkormányzati képviselők | F14: 7 | G14: fő
C15: d.) védőnők | F15: 3 | G15: fő
D16: Összesen: | F16: =SUM(F12:F15) -> 12 | G16: fő

Sheet 4.mell
C1: BERHIDA VÁROS ÖNKORMÁNYZATA | G1: 4. melléklet
D2: 2017.évi MÉRLEGTERV | G2: a 2/2017. (II.24.) önkormányzati rendelethez
C3: a működési és felhalmozási célú bevételi és kiadási előirányzatokról | G3: adatok Ft-ban
B5: A | C5: B | D5: C | E5: D | F5: E | G5: F
A6: 1 | B6: BEVÉTELI TERV | E6: KIADÁSI TERV
A7: 2 | B7: I. | C7: Működési célú bevételi terv | E7: I. | F7: Működési célú kiadási terv
A8: 3 | B8: a.) | C8: Műk c támogatások áht belülről | D8: ='[1]17'!C18 -> 416277979 | E8: a.) | F8: Személyi juttatások | G8: ='[1]18'!C6 -> 361781862
A9: 4 | B9: b.) | C9: Közhatalmi bevételek | D9: ='[1]17'!C36 -> 303204813 | E9: b.) | F9: Munkaadókat t járulékok | G9: ='[1]18'!C7 -> 78877589
A10: 5 | B10: c.) | C10: Működési bevételek | D10: ='[1]17'!C59 -> 38871587 | E10: c.) | F10: Dologi kiadások | G10: ='[1]18'!C8 -> 239747771
A11: 6 | B11: d.) | C11: Működési átvett pénzeszközök | E11: d.) | F11: Ellátottak pénzbeli jutt | G11: ='[1]18'!C17 -> 12000000
A12: 7 | B12: e.) | C12: Műk. C. maradvány igénybevét. | D12: 93659690 | E12: e.) | F12: Egyéb műk c kiadások | G12: ='[1]18'!C26 -> 340116327
A13: 8 | B13: f.) | E13: f.)
A14: 9 | E14: g.)
A15: 10
A16: 11 | C16: I. Bevételek: | D16: =SUM(D8:D15) -> 852014069 | F16: I. Kiadások együtt: | G16: =SUM(G8:G14) -> 1032523549
A17: 12 | F17: Működési célú bevételek: | G17: =D16 -> 852014069
A18: 13 | F18: Működési egyenleg: | G18: =G16-G17 -> 180509480
A19: 14
A20: 15 | B20: II. | C20: Felhalmozási célú bevételi terv | E20: II. | F20: Felhalmozási célú kiadások:
A21: 16 | B21: 1.) | C21: Felhalmozási c támog. Áht-n bel | E21: 1.) | F21: Beruházások | G21: ='[1]18'!C32 -> 37264772
A22: 17 | B22: 2.) | C22: Felhalmozási bevételek | D22: ='[1]17'!C61 -> 180000 | E22: 2.) | F22: Felújítások | G22: ='[1]18'!C37 -> 266970851
A23: 18 | B23: 3.) | C23: Egyéb felhalmozási c átvett pe | D23: ='[1]17'!C65 -> 435500 | E23: 3.) | F23: Egyéb felhalm c kiadások | G23: ='[1]18'!C42 -> 1500000
A24: 19 | B24: 4.) | C24: Felhalm c maradvány igénybev | D24: 472867708 | E24: 4.)
A25: 20 | B25: 5.) | E25: 5.)
A26: 21 | B26: 6.)
A27: 22 | B27: 7.)
A28: 23 | B28: 8.)
A29: 24 | C29: II. Bevételek: | D29: =SUM(D21:D28) -> 473483208 | F29: II. Kiadások: | G29: =SUM(G21:G26) -> 305735623
A30: 25 | F30: Felhalm.célú bevételek: | G30: =D29 -> 473483208
A31: 26 | F31: Felhalm. egyenleg: | G31: =G29-G30 -> -167747585
A32: 27
A33: 28 | C33: Bevételek összesen (I+II): | D33: =D16+D29 -> 1325497277 | F33: Kiadások összesen (I+II): | G33: =SUM(G16+G29) -> 1338259172
C34: iránítószervi támogatás | D34: ='[1]17'!C69 -> 490382091 | F34: iránítószervi támogatás | G34: ='[1]18'!C45 -> 490382091
C35: kv-i mar finansz célú | D35: 24195743 | F35: Áht megelőleg visszafiz | G35: ='[1]18'!C44 -> 11433848
C36: Össz bevétel | D36: =SUM(D33:D35) -> 1840075111 | F36: Össz Kiadás | G36: =SUM(G33:G35) -> 1840075111

Sheet 5.mell.
B1: 2017 évi költségvetés
B2: Berhida Város Önkormányzata | C2: 5. melléklet
B3: Közösségi szolgáltatások támogatása | C3: a 2/2017. (II.24.) önkormányzati rendelethez
B5: A | C5: B | D5: adatok Ft-ban
A6: 1 | B6: I.) Sporttámogatás működési célú | C6: 2016. Év
A7: 2
A8: 3
A9: 4 | B9: Sporttámogatás összesen működési célú: | C9: 2510000
A10: 5 | B10: II.) Egyéb támogatás összesen működési célú | C10: 1841560
A11: 6
A12: 7 | B12: III.) Polgárőrség Berhida | C12: 500000
A13: 8 | B13: Támogatások összesen működési célú: | C13: =SUM(C9+C10+C12) -> 4851560
B15: A támogatások összege a megállapodásokban foglaltak szerint használhatók fel.

Sheet 6.mell.
C1: Berhida Város Önkormányzata
C2: ellátottak pénzbeli juttatásai | F2: 6. melléklet
C3: 2017. év | F3: a 2/2017. (II. 24 .) önkormányzati rendelethez
F4: adatok ezer Ft-ban
B5: A | C5: B | D5: C | E5: D | F5: E | G5: F
B6: Szociális jogcímek | C6: átruházott hatáskört gyakorló | E6: Képvis.test.jogk. | F6: Jegyzői jogk. | G6: Összes
C7: polgármester | D7: Humán Biz. | G7: előirányzat
A8: 1 | B8: Pénzbeli ellátások összesen | C8: =SUM(C9:C18) -> 2400000 | D8: =SUM(D9:D18) -> 6900000 | E8: =SUM(E9:E18) -> 2700000 | F8: =SUM(F9:F18) -> 0 | G8: =SUM(G9:G18) -> 12000000
A9: 2 | B9: Települési támogatás
A10: 3 | B10: Nem intézményi ell. Ebből
A11: 4 | B11: Gyermekvéd.támog. | D11: 600000 | G11: =SUM(C11:F11) -> 600000
A12: 5 | B12: Lakhatási támog | D12: 5300000 | G12: =SUM(C12:F12) -> 5300000
A13: 6 | B13: Temetési segély | C13: 1500000 | G13: =SUM(C13:F13) -> 1500000
A14: 7 | B14: Átmeneti segély | D14: 1000000 | G14: =SUM(C14:F14) -> 1000000
A15: 8 | B15: Köztemetés | C15: 900000 | G15: =SUM(C15:F15) -> 900000
A16: 9 | B16: Intézményi ell., oktatásban részt vevők | G16: =SUM(C16:F16) -> 0
B17: Arany János ösztöndíj | E17: 100000 | G17: =SUM(C17:F17) -> 100000
A18: 10 | B18: Bursa Hung. (ösztöndíj tám) | E18: 2600000 | G18: =SUM(C18:F18) -> 2600000

Sheet 7 mell
B1: Berhida Város Önkormányzatának
B2: 2017. Évi költségvetéséhez
A3: Az önkormányzat által adott közvetett támogatások, kedvezmények
C4: 7. melléklet
C5: a 2/2017. (II. 24 .) önkormányzati rendelethez
C6: adatok ezer Ft-ban
A8: A | B8: B | C8: C | D8: D
A9: Sorszám | B9: Bevételi jogcím | C9: Kedvezmény nélkül | D9: Kedvezmények
C10: elérhető | D10: összege
C11: bevétel e/Ft | D11: e/Ft
A12: 1. | B12: 2. | C12: 3. | D12: 4.
A13: 1. | B13: házi gondozás térítési díj | C13: 1827 | D13: 667
A14: 2. | B14: idősek nappali ell térítési díj | C14: 4825 | D14: 2800
A15: 3. | B15: szoc. étkeztetés térítési díj | C15: 3283 | D15: 641
A16: 4. | B16: gépjármű adó bevétel | C16: 12605 | D16: 926
A17: 5. | B17: magánsz kommunális adó bev | C17: 18287 | D17: 649
A18: 6.
A19: 7.
A20: 8.
A21: 9.
A22: 27. | B22: Összesen: | C22: =SUM(C13:C21) -> 40827 | D22: =SUM(D13:D21) -> 5683

Sheet 8.sz.mell
C2: 2017 évi költségvetés | H2: 8. melléklet
C3: Berhida Város Önkormányzata | H3: a 2/2017. (II. 24 .) önkormányzati rendelethez
H4: adatok ezer Ft-ban
A5: Több éves kihatással járó döntésekből származó kötelezettségek célok szerint, évenkénti bontásban
A6: Lejárat és eszközök szerinti bontásban (e/Ft-ban)
A9: A | B9: B | C9: C | D9: D | E9: E | F9: F | G9: G | H9: H | I9: I | J9: J
A10: Sorszám | C10: Kötelezett- | D10: Lejárat | E10: 2017
B11: Hitel jellege | C11: ségváll. | D11: éve | E11: előtti | F11: 2018. | G11: 2019. | H11: 2020. | I11: 2020. után | J11: Összesen
C12: éve | E12: kifizetés
A13: 1. | B13: 2. | C13: 3. | D13: 4. | F13: 5. | G13: 6. | H13: 7. | I13: 8.
A14: 1. | B14: Működési célú
A15: 2.
A16: 3.
A17: 4.
A18: 5.
A19: 6. | B19: Felhalmozási célú
A20: 7. | J20: =SUM(E20:I20) -> 0
A21: 8.
A22: 9.
A23: 10. | J23: =SUM(E23:I23) -> 0
A24: 11. | B24: Összesen: (1+6) | E24: =SUM(E20:E22) -> 0 | F24: =SUM(F20:F22) -> 0 | G24: =SUM(G20:G22) -> 0 | H24: =SUM(H20:H22) -> 0 | I24: =SUM(I20:I22) -> 0 | J24: =SUM(E24:I24) -> 0

Sheet 9a
B1: Berhida Város Önkormányzata | C1: 9/a. melléklet
B2: 2017. évi költségvetés | C2: a 2/2017. (II.24.) önkormányzati rendelethez
B3: KÖTELEZŐ feladatok
B4: Bevételek | C4: Ft-ban
C5: Összesen | D5: Önkormányzat | E5: Hivatal | F5: TESZ | G5: Kultúr | H5: Süni
A6: Sor- szám | B6: Rovat megnevezése | C6: Eredeti előirányzat | D6: Eredeti előirányzat | E6: Eredeti előirányzat | F6: Eredeti előirányzat | G6: Eredeti előirányzat | H6: Eredeti előirányzat
A7: 1 | B7: Helyi önkormányzatok működésének általános támogatása (B1111) | C7: ='[1]17'!C7-'[1]21b'!C7-'[1]21c'!C7 -> 106085367 | D7: ='[1]17'!D7-'[1]21b'!D7-'[1]21c'!D7 -> 106085367 | E7: ='[1]17'!E7-'[1]21b'!E7-'[1]21c'!E7 -> 0 | F7: ='[1]17'!F7-'[1]21b'!F7-'[1]21c'!F7 -> 0 | G7: ='[1]17'!G7-'[1]21b'!G7-'[1]21c'!G7 -> 0 | H7: ='[1]17'!H7-'[1]21b'!H7-'[1]21c'!H7 -> 0
A8: 2 | B8: Települési önkormányzatok egyes köznevelési feladatainak támogatása (B1121) | C8: ='[1]17'!C8-'[1]21b'!C8-'[1]21c'!C8 -> 127904640 | D8: ='[1]17'!D8-'[1]21b'!D8-'[1]21c'!D8 -> 127904640 | E8: ='[1]17'!E8-'[1]21b'!E8-'[1]21c'!E8 -> 0 | F8: ='[1]17'!F8-'[1]21b'!F8-'[1]21c'!F8 -> 0 | G8: ='[1]17'!G8-'[1]21b'!G8-'[1]21c'!G8 -> 0 | H8: ='[1]17'!H8-'[1]21b'!H8-'[1]21c'!H8 -> 0
A9: 3 | B9: Települési önkormányzatok szociális, gyermekjóléti és gyermekétkeztetési feladatainak támogatása (B1131) | C9: ='[1]17'!C9-'[1]21b'!C9-'[1]21c'!C9 -> 90729626 | D9: ='[1]17'!D9-'[1]21b'!D9-'[1]21c'!D9 -> 90729626 | E9: ='[1]17'!E9-'[1]21b'!E9-'[1]21c'!E9 -> 0 | F9: ='[1]17'!F9-'[1]21b'!F9-'[1]21c'!F9 -> 0 | G9: ='[1]17'!G9-'[1]21b'!G9-'[1]21c'!G9 -> 0 | H9: ='[1]17'!H9-'[1]21b'!H9-'[1]21c'!H9 -> 0
A10: 4 | B10: Települési önkormányzatok kulturális feladatainak támogatása (B1141) | C10: ='[1]17'!C10-'[1]21b'!C10-'[1]21c'!C10 -> 6854820 | D10: ='[1]17'!D10-'[1]21b'!D10-'[1]21c'!D10 -> 6854820 | E10: ='[1]17'!E10-'[1]21b'!E10-'[1]21c'!E10 -> 0 | F10: ='[1]17'!F10-'[1]21b'!F10-'[1]21c'!F10 -> 0 | G10: ='[1]17'!G10-'[1]21b'!G10-'[1]21c'!G10 -> 0 | H10: ='[1]17'!H10-'[1]21b'!H10-'[1]21c'!H10 -> 0
A11: 5 | B11: Működési célú költségvetési támogatások és kiegészítő támogatások (B1151) | C11: ='[1]17'!C11-'[1]21b'!C11-'[1]21c'!C11 -> 0 | D11: ='[1]17'!D11-'[1]21b'!D11-'[1]21c'!D11 -> 0 | E11: ='[1]17'!E11-'[1]21b'!E11-'[1]21c'!E11 -> 0 | F11: ='[1]17'!F11-'[1]21b'!F11-'[1]21c'!F11 -> 0 | G11: ='[1]17'!G11-'[1]21b'!G11-'[1]21c'!G11 -> 0 | H11: ='[1]17'!H11-'[1]21b'!H11-'[1]21c'!H11 -> 0
A12: 6 | B12: Önkormányzatok működési támogatásai (B11) | C12: ='[1]17'!C12-'[1]21b'!C12-'[1]21c'!C12 -> 331574453 | D12: ='[1]17'!D12-'[1]21b'!D12-'[1]21c'!D12 -> 331574453 | E12: ='[1]17'!E12-'[1]21b'!E12-'[1]21c'!E12 -> 0 | F12: ='[1]17'!F12-'[1]21b'!F12-'[1]21c'!F12 -> 0 | G12: ='[1]17'!G12-'[1]21b'!G12-'[1]21c'!G12 -> 0 | H12: ='[1]17'!H12-'[1]21b'!H12-'[1]21c'!H12 -> 0
A13: 7 | B13: Egyéb működési célú támogatások bevételei államháztartáson belülről (B16) | C13: ='[1]17'!C13-'[1]21b'!C13-'[1]21c'!C13 -> 84703526 | D13: ='[1]17'!D13-'[1]21b'!D13-'[1]21c'!D13 -> 22667022 | E13: ='[1]17'!E13-'[1]21b'!E13-'[1]21c'!E13 -> 0 | F13: ='[1]17'!F13-'[1]21b'!F13-'[1]21c'!F13 -> 62036504 | G13: ='[1]17'!G13-'[1]21b'!G13-'[1]21c'!G13 -> 0 | H13: ='[1]17'!H13-'[1]21b'!H13-'[1]21c'!H13 -> 0
A14: 8 | B14: ebből: egyéb fejezeti kezelésű előirányzatok (B16132) | C14: ='[1]17'!C14-'[1]21b'!C14-'[1]21c'!C14 -> 8237022 | D14: ='[1]17'!D14-'[1]21b'!D14-'[1]21c'!D14 -> 8237022 | E14: ='[1]17'!E14-'[1]21b'!E14-'[1]21c'!E14 -> 0 | F14: ='[1]17'!F14-'[1]21b'!F14-'[1]21c'!F14 -> 0 | G14: ='[1]17'!G14-'[1]21b'!G14-'[1]21c'!G14 -> 0 | H14: ='[1]17'!H14-'[1]21b'!H14-'[1]21c'!H14 -> 0
A15: 9 | B15: ebből: társadalombiztosítás pénzügyi alapjai (B1614) | C15: ='[1]17'!C15-'[1]21b'!C15-'[1]21c'!C15 -> 14430000 | D15: ='[1]17'!D15-'[1]21b'!D15-'[1]21c'!D15 -> 14430000 | E15: ='[1]17'!E15-'[1]21b'!E15-'[1]21c'!E15 -> 0 | F15: ='[1]17'!F15-'[1]21b'!F15-'[1]21c'!F15 -> 0 | G15: ='[1]17'!G15-'[1]21b'!G15-'[1]21c'!G15 -> 0 | H15: ='[1]17'!H15-'[1]21b'!H15-'[1]21c'!H15 -> 0
A16: 10 | B16: ebből: elkülönített állami pénzal (B1615) | C16: ='[1]17'!C16-'[1]21b'!C16-'[1]21c'!C16 -> 62036504 | D16: ='[1]17'!D16-'[1]21b'!D16-'[1]21c'!D16 -> 0 | E16: ='[1]17'!E16-'[1]21b'!E16-'[1]21c'!E16 -> 0 | F16: ='[1]17'!F16-'[1]21b'!F16-'[1]21c'!F16 -> 62036504 | G16: ='[1]17'!G16-'[1]21b'!G16-'[1]21c'!G16 -> 0 | H16: ='[1]17'!H16-'[1]21b'!H16-'[1]21c'!H16 -> 0
A17: 11 | B17: ebből: önkormányzat és kv-i szerveik (B 1616) | C17: ='[1]17'!C17-'[1]21b'!C17-'[1]21c'!C17 -> 0 | D17: ='[1]17'!D17-'[1]21b'!D17-'[1]21c'!D17 -> 0 | E17: ='[1]17'!E17-'[1]21b'!E17-'[1]21c'!E17 -> 0 | F17: ='[1]17'!F17-'[1]21b'!F17-'[1]21c'!F17 -> 0 | G17: ='[1]17'!G17-'[1]21b'!G17-'[1]21c'!G17 -> 0 | H17: ='[1]17'!H17-'[1]21b'!H17-'[1]21c'!H17 -> 0
A18: 12 | B18: Működési célú támogatások államháztartáson belülről (B1) | C18: ='[1]17'!C18-'[1]21b'!C18-'[1]21c'!C18 -> 416277979 | D18: ='[1]17'!D18-'[1]21b'!D18-'[1]21c'!D18 -> 354241475 | E18: ='[1]17'!E18-'[1]21b'!E18-'[1]21c'!E18 -> 0 | F18: ='[1]17'!F18-'[1]21b'!F18-'[1]21c'!F18 -> 62036504 | G18: ='[1]17'!G18-'[1]21b'!G18-'[1]21c'!G18 -> 0 | H18: ='[1]17'!H18-'[1]21b'!H18-'[1]21c'!H18 -> 0
... A72: 66 | B72: MINDÖSSZESEN: | C72: ='[1]17'!C72-'[1]21b'!C72-'[1]21c'!C72 -> 1810973294 | D72: ='[1]17'!D72-'[1]21b'!D72-'[1]21c'!D72 -> 1221779847 | E72: ='[1]17'!E72-'[1]21b'!E72-'[1]21c'!E72 -> 176236420 | F72: ='[1]17'!F72-'[1]21b'!F72-'[1]21c'!F72 -> 202135705 | G72: ='[1]17'!G72-'[1]21b'!G72-'[1]21c'!G72 -> 61482178 | H72: ='[1]17'!H72-'[1]21b'!H72-'[1]21c'!H72 -> 149339144
A73: 67 | B73: Személyi juttatások (K1) | C73: ='[1]18'!C6-'[1]21b'!C73-'[1]21c'!C73 -> 355888067 | D73: ='[1]18'!D6-'[1]21b'!D73-'[1]21c'!D73 -> 34203835 | E73: ='[1]18'!E6-'[1]21b'!E73-'[1]21c'!E73 -> 109767524 | F73: ='[1]18'!F6-'[1]21b'!F73-'[1]21c'!F73 -> 107041038 | G73: ='[1]18'!G6-'[1]21b'!G73-'[1]21c'!G73 -> 23831592 | H73: ='[1]18'!H6-'[1]21b'!H73-'[1]21c'!H73 -> 81044078
A74: 68 | B74: Munkaadókat terhelő járulékok és szociális hozzájárulási adó (K2) | C74: ='[1]18'!C7-'[1]21b'!C74-'[1]21c'!C74 -> 77521221 | D74: ='[1]18'!D7-'[1]21b'!D74-'[1]21c'!D74 -> 8902194 | E74: ='[1]18'!E7-'[1]21b'!E74-'[1]21c'!E74 -> 26620547 | F74: ='[1]18'!F7-'[1]21b'!F74-'[1]21c'!F74 -> 17096042 | G74: ='[1]18'!G7-'[1]21b'!G74-'[1]21c'!G74 -> 5404150 | H74: ='[1]18'!H7-'[1]21b'!H74-'[1]21c'!H74 -> 19498288
A75: 69 | B75: Dologi kiadások (K3) | C75: ='[1]18'!C8-'[1]21b'!C75-'[1]21c'!C75 -> 230574911 | D75: ='[1]18'!D8-'[1]21b'!D75-'[1]21c'!D75 -> 45082733 | E75: ='[1]18'!E8-'[1]21b'!E75-'[1]21c'!E75 -> 33638349 | F75: ='[1]18'!F8-'[1]21b'!F75-'[1]21c'!F75 -> 73706325 | G75: ='[1]18'!G8-'[1]21b'!G75-'[1]21c'!G75 -> 30126726 | H75: ='[1]18'!H8-'[1]21b'!H75-'[1]21c'!H75 -> 48020778
A76: 70 | B76: Családi támogatások (K42) | C76: ='[1]18'!C9-'[1]21b'!C76-'[1]21c'!C76 -> 0 | D76: ='[1]18'!D9-'[1]21b'!D76-'[1]21c'!D76 -> 0 | E76: ='[1]18'!E9-'[1]21b'!E76-'[1]21c'!E76 -> 0 | F76: ='[1]18'!F9-'[1]21b'!F76-'[1]21c'!F76 -> 0 | G76: ='[1]18'!G9-'[1]21b'!G76-'[1]21c'!G76 -> 0 | H76: ='[1]18'!H9-'[1]21b'!H76-'[1]21c'!H76 -> 0
A77: 71 | B77: ebből: az egyéb pénzbeli és természetbeni gyermekvédelmi támogatások (K42132) | C77: ='[1]18'!C10-'[1]21b'!C77-'[1]21c'!C77 -> 0 | D77: ='[1]18'!D10-'[1]21b'!D77-'[1]21c'!D77 -> 0 | E77: ='[1]18'!E10-'[1]21b'!E77-'[1]21c'!E77 -> 0 | F77: ='[1]18'!F10-'[1]21b'!F77-'[1]21c'!F77 -> 0 | G77: ='[1]18'!G10-'[1]21b'!G77-'[1]21c'!G77 -> 0 | H77: ='[1]18'!H10-'[1]21b'!H77-'[1]21c'!H77 -> 0
A78: 72 | B78: Intézményi ellátottak pénzbeli juttatásai (K47) | C78: ='[1]18'!C11-'[1]21b'!C78-'[1]21c'!C78 -> 2700000 | D78: ='[1]18'!D11-'[1]21b'!D78-'[1]21c'!D78 -> 2700000 | E78: ='[1]18'!E11-'[1]21b'!E78-'[1]21c'!E78 -> 0 | F78: ='[1]18'!F11-'[1]21b'!F78-'[1]21c'!F78 -> 0 | G78: ='[1]18'!G11-'[1]21b'!G78-'[1]21c'!G78 -> 0 | H78: ='[1]18'!H11-'[1]21b'!H78-'[1]21c'!H78 -> 0
A79: 73 | B79: ebből: oktatásban résztvevők pénzbeli juttatásai (K471) | C79: ='[1]18'!C12-'[1]21b'!C79-'[1]21c'!C79 -> 2700000 | D79: ='[1]18'!D12-'[1]21b'!D79-'[1]21c'!D79 -> 2700000 | E79: ='[1]18'!E12-'[1]21b'!E79-'[1]21c'!E79 -> 0 | F79: ='[1]18'!F12-'[1]21b'!F79-'[1]21c'!F79 -> 0 | G79: ='[1]18'!G12-'[1]21b'!G79-'[1]21c'!G79 -> 0 | H79: ='[1]18'!H12-'[1]21b'!H79-'[1]21c'!H79 -> 0
A80: 74 | B80: Egyéb nem intézményi ellátások (K48) | C80: ='[1]18'!C13-'[1]21b'!C80-'[1]21c'!C80 -> 9300000 | D80: ='[1]18'!D13-'[1]21b'!D80-'[1]21c'!D80 -> 9300000 | E80: ='[1]18'!E13-'[1]21b'!E80-'[1]21c'!E80 -> 0 | F80: ='[1]18'!F13-'[1]21b'!F80-'[1]21c'!F80 -> 0 | G80: ='[1]18'!G13-'[1]21b'!G80-'[1]21c'!G80 -> 0 | H80: ='[1]18'!H13-'[1]21b'!H80-'[1]21c'!H80 -> 0
A81: 75 | B81: ebből: köztemetés [Szoctv. 48.§] (K48123) | C81: ='[1]18'!C14-'[1]21b'!C81-'[1]21c'!C81 -> 900000 | D81: ='[1]18'!D14-'[1]21b'!D81-'[1]21c'!D81 -> 900000 | E81: ='[1]18'!E14-'[1]21b'!E81-'[1]21c'!E81 -> 0 | F81: ='[1]18'!F14-'[1]21b'!F81-'[1]21c'!F81 -> 0 | G81: ='[1]18'!G14-'[1]21b'!G81-'[1]21c'!G81 -> 0 | H81: ='[1]18'!H14-'[1]21b'!H81-'[1]21c'!H81 -> 0
A82: 76 | B82: ebből: települési támogatás [Szoctv. 45. §], (K48122) | C82: ='[1]18'!C15-'[1]21b'!C82-'[1]21c'!C82 -> 8400000 | D82: ='[1]18'!D15-'[1]21b'!D82-'[1]21c'!D82 -> 8400000 | E82: ='[1]18'!E15-'[1]21b'!E82-'[1]21c'!E82 -> 0 | F82: ='[1]18'!F15-'[1]21b'!F82-'[1]21c'!F82 -> 0 | G82: ='[1]18'!G15-'[1]21b'!G82-'[1]21c'!G82 -> 0 | H82: ='[1]18'!H15-'[1]21b'!H82-'[1]21c'!H82 -> 0
A83: 77 | B83: ebből: önkorm. Saját hatáskörben adott (K48139) | C83: ='[1]18'!C16-'[1]21b'!C83-'[1]21c'!C83 -> 0 | D83: ='[1]18'!D16-'[1]21b'!D83-'[1]21c'!D83 -> 0 | E83: ='[1]18'!E16-'[1]21b'!E83-'[1]21c'!E83 -> 0 | F83: ='[1]18'!F16-'[1]21b'!F83-'[1]21c'!F83 -> 0 | G83: ='[1]18'!G16-'[1]21b'!G83-'[1]21c'!G83 -> 0 | H83: ='[1]18'!H16-'[1]21b'!H83-'[1]21c'!H83 -> 0
A84: 78 | B84: Ellátottak pénzbeli juttatásai (K4) | C84: ='[1]18'!C17-'[1]21b'!C84-'[1]21c'!C84 -> 12000000 | D84: ='[1]18'!D17-'[1]21b'!D84-'[1]21c'!D84 -> 12000000 | E84: ='[1]18'!E17-'[1]21b'!E84-'[1]21c'!E84 -> 0 | F84: ='[1]18'!F17-'[1]21b'!F84-'[1]21c'!F84 -> 0 | G84: ='[1]18'!G17-'[1]21b'!G84-'[1]21c'!G84 -> 0 | H84: ='[1]18'!H17-'[1]21b'!H84-'[1]21c'!H84 -> 0
... A115: 109 | B115: MINDÖSSZESEN: | C115: ='[1]18'!C48-'[1]21b'!C115-'[1]21c'!C115 -> 1810973294 | D115: ='[1]18'!D48-'[1]21b'!D115-'[1]21c'!D115 -> 1221779847 | E115: ='[1]18'!E48-'[1]21b'!E115-'[1]21c'!E115 -> 176236420 | F115: ='[1]18'!F48-'[1]21b'!F115-'[1]21c'!F115 -> 202135705 | G115: ='[1]18'!G48-'[1]21b'!G115-'[1]21c'!G115 -> 61482178 | H115: ='[1]18'!H48-'[1]21b'!H115-'[1]21c'!H115 -> 149339144

Sheet 9b
B1: Berhida Város Önkormányzata | C1: 9/b. melléklet
B2: 2017. évi költségvetés | C2: a 2/2017. (II. 24 .) önkormányzati rendelethez
B3: ÖNKÉNT VÁLLALT feladatok
B4: Bevételek | C4: Ft-ban
C5: Összesen | D5: Önkormányzat | E5: Hivatal | F5: TESZ | G5: Kultúr | H5: Süni
A6: Sor- szám | B6: Rovat megnevezése | C6: Eredeti előirányzat | D6: Eredeti előirányzat | E6: Eredeti előirányzat | F6: Eredeti előirányzat | G6: Eredeti előirányzat | H6: Eredeti előirányzat
A7: 1 | B7: Helyi önkormányzatok működésének általános támogatása (B1111) | C7: =SUM(D7:H7) -> 0
A8: 2 | B8: Települési önkormányzatok egyes köznevelési feladatainak támogatása (B1121) | C8: =SUM(D8:H8) -> 0
A9: 3 | B9: Települési önkormányzatok szociális, gyermekjóléti és gyermekétkeztetési feladatainak támogatása (B1131) | C9: =SUM(D9:H9) -> 0
A10: 4 | B10: Települési önkormányzatok kulturális feladatainak támogatása (B1141) | C10: =SUM(D10:H10) -> 0
A11: 5 | B11: Működési célú költségvetési támogatások és kiegészítő támogatások (B1151) | C11: =SUM(D11:H11) -> 0
A12: 6 | B12: Önkormányzatok működési támogatásai (B11) | C12: =SUM(D12:H12) -> 0 | D12: =SUM(D7:D11) -> 0 | E12: =SUM(E7:E11) -> 0 | F12: =SUM(F7:F11) -> 0 | G12: =SUM(G7:G11) -> 0 | H12: =SUM(H7:H11) -> 0
A13: 7 | B13: Egyéb működési célú támogatások bevételei államháztartáson belülről (B16) | C13: =SUM(D13:H13) -> 0 | D13: =SUM(D14:D17) -> 0 | E13: =SUM(E14:E17) -> 0 | F13: =SUM(F14:F17) -> 0 | G13: =SUM(G14:G17) -> 0 | H13: =SUM(H14:H17) -> 0
A14: 8 | B14: ebből: egyéb fejezeti kezelésű előirányzatok (B16132) | C14: =SUM(D14:H14) -> 0
A15: 9 | B15: ebből: társadalombiztosítás pénzügyi alapjai (B1614) | C15: =SUM(D15:H15) -> 0
A16: 10 | B16: ebből: elkülönített állami pénzal (B1615) | C16: =SUM(D16:H16) -> 0
A17: 11 | B17: ebből: önkormányzat és kv-i szerveik (B 1616) | C17: =SUM(D17:H17) -> 0
A18: 12 | B18: Működési célú támogatások államháztartáson belülről (B1) | C18: =SUM(D18:H18) -> 0 | D18: =D12+D13 -> 0 | E18: =E12+E13 -> 0 | F18: =F12+F13 -> 0 | G18: =G12+G13 -> 0 | H18: =H12+H13 -> 0
A19: 13 | B19: Felhalmozási célú önkormányzati támogatások (B21) | C19: =SUM(D19:H19) -> 0 | D19: =SUM(D20:D23) -> 0 | E19: =SUM(E20:E23) -> 0 | F19: =SUM(F20:F23) -> 0 | G19: =SUM(G20:G23) -> 0 | H19: =SUM(H20:H23) -> 0
A20: 14 | B20: ebből egyéb központi fc tám (B2119) | C20: =SUM(D20:H20) -> 0
A21: 15 | B21: ebből: egyéb fejezeti kezelésű előirányzatok fc (B2513) | C21: =SUM(D21:H21) -> 0
A22: 16 | B22: ebből: elkülönített állami pénzal fc (B2515) | C22: =SUM(D22:H22) -> 0
A23: 17 | B23: ebből: önkorm és kv-i szervek fc tám (B2516) | C23: =SUM(D23:H23) -> 0
A24: 18 | B24: Felhalmozási célú támogatások államháztartáson belülről (B2) | C24: =SUM(D24:H24) -> 0 | D24: =D19 -> 0 | E24: =E19 -> 0 | F24: =F19 -> 0 | G24: =G19 -> 0 | H24: =H19 -> 0
A25: 19 | B25: Vagyoni tipusú adók (B34) | C25: =SUM(D25:H25) -> 3198364 | D25: =SUM(D26:D27) -> 3198364 | E25: =SUM(E26:E27) -> 0 | F25: =SUM(F26:F27) -> 0 | G25: =SUM(G26:G27) -> 0 | H25: =SUM(H26:H27) -> 0
A26: 20 | B26: ebből: építményadó (B34111) | C26: =SUM(D26:H26) -> 3198364 | D26: 3198364
A27: 21 | B27: ebből: magánszemélyek kommunális adója (B34114) | C27: =SUM(D27:H27) -> 0
A28: 22 | B28: Értékesítési és forgalmi adók iparűzési adó (B351121) | C28: =SUM(D28:H28) -> 0
A29: 23 | B29: Gépjárműadó (B354121) | C29: =SUM(D29:H29) -> 0
A30: 24 | B30: Egyéb áruhasználati és szolgáltatási adók, környezetterh díj (B355122) | C30: =SUM(D30:H30) -> 0
A31: 25 | B31: Termékek és szolgáltatások adói (B35) | C31: =SUM(D31:H31) -> 0 | D31: =SUM(D28:D30) -> 0 | E31: =SUM(E28:E30) -> 0 | F31: =SUM(F28:F30) -> 0 | G31: =SUM(G28:G30) -> 0 | H31: =SUM(H28:H30) -> 0
A32: 26 | B32: Egyéb közhatalmi bevételek (B36) | C32: =SUM(D32:H32) -> 0 | D32: =SUM(D33:D35) -> 0 | E32: =SUM(E33:E35) -> 0 | F32: =SUM(F33:F35) -> 0 | G32: =SUM(G33:G35) -> 0 | H32: =SUM(H33:H35) -> 0
A33: 27 | B33: ebből: szabálysértési pénz- és helyszíni bírság és a közlekedési szabályszegések után kiszabott közigazgatási bírság helyi önkormányzatot megillető része (B361225) | C33: =SUM(D33:H33) -> 0
A34: 28 | B34: ebből: egyéb bírság (B361229) | C34: =SUM(D34:H34) -> 0
A35: 29 | B35: ebből: egyéb települési adók (B36128) | C35: =SUM(D35:H35) -> 0
A36: 30 | B36: Közhatalmi bevételek (B3) | C36: =SUM(D36:H36) -> 3198364 | D36: =D25+D31+D32 -> 3198364 | E36: =E25+E31+E32 -> 0 | F36: =F25+F31+F32 -> 0 | G36: =G25+G31+G32 -> 0 | H36: =H25+H31+H32 -> 0
A37: 31 | B37: Szolgáltatások (B4021) | C37: =SUM(D37:H37) -> 100000 | D37: =SUM(D38:D40) -> 0 | E37: =SUM(E38:E40) -> 0 | F37: =SUM(F38:F40) -> 0 | G37: =SUM(G38:G40) -> 100000 | H37: =SUM(H38:H40) -> 0
A38: 32 | B38: ebből: alkalmazottak térítési díj (B40211) | C38: =SUM(D38:H38) -> 0
A39: 33 | B39: ebből: bérleti díj bev (B40212) | C39: =SUM(D39:H39) -> 0
A40: 34 | B40: ebből: egyéb szolgáltatás (40214) | C40: =SUM(D40:H40) -> 100000 | G40: 100000
A41: 35 | B41: Közvetített szolgáltatások ellenértéke (B403) | C41: =SUM(D41:H41) -> 1200000 | D41: =SUM(D42:D43) -> 0 | E41: =SUM(E42:E43) -> 0 | F41: =SUM(F42:F43) -> 1200000 | G41: =SUM(G42:G43) -> 0 | H41: =SUM(H42:H43) -> 0
A42: 36 | B42: ebből: államháztartáson belül (B40311) | C42: =SUM(D42:H42) -> 0
A43: 37 | B43: ebből: államháztartáson kívül (B40312) | C43: =SUM(D43:H43) -> 1200000 | F43: 1200000
A44: 38 | B44: Tulajdonosi bevételek (B404) | C44: =SUM(D44:H44) -> 9589000 | D44: =SUM(D45:D49) -> 9589000 | E44: =SUM(E45:E49) -> 0 | F44: =SUM(F45:F49) -> 0 | G44: =SUM(G45:G49) -> 0 | H44: =SUM(H45:H49) -> 0
A45: 39 | B45: ebből: önkormányzati vagyon üzemeltetéséből, koncesszióból származó bevétel (B404131) | C45: =SUM(D45:H45) -> 0
A46: 40 | B46: ebből: önkormányzati vagyon vagyonkezelésbe adásából származó bevétel (B404133) | C46: =SUM(D46:H46) -> 0
A47: 41 | B47: ebből: egy önk-i vagyon bérbeadásából (404134) | C47: =SUM(D47:H47) -> 9079000 | D47: 9079000
A48: 42 | B48: ebből egyéb önkorm vagyon haszonbérbeadásából (B404135) | C48: =SUM(D48:H48) -> 0
A49: 43 | B49: ebből: egy önk tulajdonosi bevétel (B404139) | C49: =SUM(D49:H49) -> 510000 | D49: 510000
A50: 44 | B50: Ellátási díjak (B40511) | C50: =SUM(D50:H50) -> 0
A51: 45 | B51: Kiszámlázott általános forgalmi adó (B40611) | C51: =SUM(D51:H51) -> 2913030 | D51: 2589030 | E51: =(E37+E41+E44+E50)*0.27 -> 0 | F51: 324000 | H51: =(H37+H41+H44+H50)*0.27 -> 0
A52: 46 | B52: Általános forgalmi adó visszatérítése (B4071) | C52: =SUM(D52:H52) -> 0
A53: 47 | B53: Egyéb kapott (járó) kamatok és kamatjellegű bevételek ÁHK(B408129) | C53: =SUM(D53:H53) -> 0
A54: 48 | B54: Más egyéb pénzügyi műveletek bevételei (B4092) | C54: =SUM(D54:H54) -> 0
A55: 49 | B55: ebből: valuta és deviza eszközök realizált árfolyamnyeresége (B4092) | C55: =SUM(D55:H55) -> 0
A56: 50 | B56: Egyéb pénzügyi műveletek bevételei B409199) | C56: =SUM(D56:H56) -> 0
A57: 51 | B57: Biztosító által fizetett kártérítés (B4101) | C57: =SUM(D57:H57) -> 0
A58: 52 | B58: Egyéb működési bevételek (B411199) | C58: =SUM(D58:H58) -> 0
A59: 53 | B59: Működési bevételek (B4) | C59: =SUM(D59:H59) -> 13802030 | D59: =D37+D41+D44+D50+D51+D52+D53+D54+D55+D56+D57+D58 -> 12178030 | E59: =E37+E41+E44+E50+E51+E52+E53+E54+E55+E56+E57+E58 -> 0 | F59: =F37+F41+F44+F50+F51+F52+F53+F54+F55+F56+F57+F58 -> 1524000 | G59: =G37+G41+G44+G50+G51+G52+G53+G54+G55+G56+G57+G58 -> 100000 | H59: =H37+H41+H44+H50+H51+H52+H53+H54+H55+H56+H57+H58 -> 0
A60: 54 | B60: Ingatlanok értékesítése (B52) | C60: =SUM(D60:H60) -> 180000 | D60: 180000
A61: 55 | B61: Felhalmozási bevételek (B5) | C61: =SUM(D61:H61) -> 180000 | D61: =D60 -> 180000 | E61: =E60 -> 0 | F61: =F60 -> 0 | G61: =G60 -> 0 | H61: =H60 -> 0
A62: 56 | B62: Felhalmozási célú visszatérítendő támogatások, kölcsönök visszatérülése államháztartáson kívülről (B74) | C62: =SUM(D62:H62) -> 0
A63: 57 | B63: ebből: háztartások (B74) | C63: =SUM(D63:H63) -> 435500 | D63: 435500
A64: 58 | B64: Egyéb felhalmozási célú átvett pénzeszközök (B75) | C64: =SUM(D64:H64) -> 0
A65: 59 | B65: Felhalmozási célú átvett pénzeszközök (B7) | C65: =SUM(D65:H65) -> 435500 | D65: =SUM(D62:D64) -> 435500 | E65: =SUM(E62:E64) -> 0 | F65: =SUM(F62:F64) -> 0 | G65: =SUM(G62:G64) -> 0 | H65: =SUM(H62:H64) -> 0
A66: 60 | B66: Költségvetési bevételek (B1-B7) | C66: =SUM(D66:H66) -> 17615894 | D66: =D18+D24+D36+D59+D61+D65 -> 15991894 | E66: =E18+E24+E36+E59+E61+E65 -> 0 | F66: =F18+F24+F36+F59+F61+F65 -> 1524000 | G66: =G18+G24+G36+G59+G61+G65 -> 100000 | H66: =H18+H24+H36+H59+H61+H65 -> 0
A67: 61 | B67: Előző év költségvetési maradványának igénybevétele (B8131) | C67: =SUM(D67:H67) -> 0
A68: 62 | B68: Államháztartáson belüli megelőlegezések (B814) | C68: =SUM(D68:H68) -> 0
A69: 63 | B69: Irányító szervi támogatás B816 | C69: =SUM(D69:H69) -> 3627600 | F69: 2457600 | G69: 1170000
A70: 64 | B70: Belföldi finanszírozás bevételei (B81) | C70: =SUM(D70:H70) -> 3627600 | D70: =SUM(D67:D69) -> 0 | E70: =SUM(E67:E69) -> 0 | F70: =SUM(F67:F69) -> 2457600 | G70: =SUM(G67:G69) -> 1170000 | H70: =SUM(H67:H69) -> 0
A71: 65 | B71: Finanszírozási bevételek (B8) | C71: =SUM(D71:H71) -> 3627600 | D71: =D70 -> 0 | E71: =E70 -> 0 | F71: =F70 -> 2457600 | G71: =G70 -> 1170000 | H71: =H70 -> 0
A72: 66 | B72: MINDÖSSZESEN: | C72: =SUM(D72:H72) -> 21243494 | D72: =D66+D71 -> 15991894 | E72: =E66+E71 -> 0 | F72: =F66+F71 -> 3981600 | G72: =G66+G71 -> 1270000 | H72: =H66+H71 -> 0
A73: 67 | B73: Személyi juttatások (K1) | C73: =SUM(D73:H73) -> 0
A74: 68 | B74: Munkaadókat terhelő járulékok és szociális hozzájárulási adó (K2) | C74: =SUM(D74:H74) -> 0
A75: 69 | B75: Dologi kiadások (K3) | C75: =SUM(D75:H75) -> 8564700 | D75: 3313100 | F75: 3981600 | G75: 1270000
A76: 70 | B76: Családi támogatások (K42) | C76: =SUM(D76:H76) -> 0 | D76: =D77 -> 0 | E76: =E77 -> 0 | F76: =F77 -> 0 | G76: =G77 -> 0 | H76: =H77 -> 0
A77: 71 | B77: ebből: az egyéb pénzbeli és természetbeni gyermekvédelmi támogatások (K42132) | C77: =SUM(D77:H77) -> 0
A78: 72 | B78: Intézményi ellátottak pénzbeli juttatásai (K47) | C78: =SUM(D78:H78) -> 0 | D78: =D79 -> 0 | E78: =E79 -> 0 | F78: =F79 -> 0 | G78: =G79 -> 0 | H78: =H79 -> 0
A79: 73 | B79: ebből: oktatásban résztvevők pénzbeli juttatásai (K471) | C79: =SUM(D79:H79) -> 0
A80: 74 | B80: Egyéb nem intézményi ellátások (K48) | C80: =SUM(D80:H80) -> 0 | D80: =SUM(D81:D83) -> 0 | E80: =SUM(E81:E83) -> 0 | F80: =SUM(F81:F83) -> 0 | G80: =SUM(G81:G83) -> 0 | H80: =SUM(H81:H83) -> 0
A81: 75 | B81: ebből: köztemetés [Szoctv. 48.§] (K48123) | C81: =SUM(D81:H81) -> 0
A82: 76 | B82: ebből: települési támogatás [Szoctv. 45. §], (K48122) | C82: =SUM(D82:H82) -> 0
A83: 77 | B83: ebből: önkorm. Saját hatáskörben adott (K48139) | C83: =SUM(D83:H83) -> 0
A84: 78 | B84: Ellátottak pénzbeli juttatásai (K4) | C84: =SUM(D84:H84) -> 0 | D84: =D76+D78+D80 -> 0 | E84: =E76+E78+E80 -> 0 | F84: =F76+F78+F80 -> 0 | G84: =G76+G78+G80 -> 0 | H84: =H76+H78+H80 -> 0
A85: 79 | B85: Elvonások és befizetések (K5023) | C85: =SUM(D85:H85) -> 0
A86: 80 | B86: Egyéb működési célú támogatások államháztartáson belülre (K506) | C86: =SUM(D86:H86) -> 0 | D86: =SUM(D87:D90) -> 0 | E86: =SUM(E87:E90) -> 0 | F86: =SUM(F87:F90) -> 0 | G86: =SUM(G87:G90) -> 0 | H86: =SUM(H87:H90) -> 0
A87: 81 | B87: ebből: egyéb fejezeti kezelésű előirányzatok (K506132) | C87: =SUM(D87:H87) -> 0
A88: 82 | B88: ebből: elkülönített állami pénzalap (K50615) | C88: =SUM(D88:H88) -> 0
A89: 83 | B89: ebből: önkormányzatok és költségv-i szerveik K50616) | C89: =SUM(D89:H89) -> 0
A90: 84 | B90: ebből: társulások és költségvetési szerveik (K50617) | C90: =SUM(D90:H90) -> 0
A91: 85 | B91: Egyéb működési célú támogatások államháztartáson kívülre non-profit szervezet (K512142) | C91: =SUM(D91:H91) -> 3900000 | D91: 3900000
A92: 86 | B92: Tartalékok (K51311) | C92: =SUM(D92:H92) -> 5000000 | D92: 5000000
A93: 87 | B93: Egyéb működési célú kiadások (K5) | C93: =SUM(D93:H93) -> 8900000 | D93: =D85+D86+D91+D92 -> 8900000 | E93: =E85+E86+E91+E92 -> 0 | F93: =F85+F86+F91+F92 -> 0 | G93: =G85+G86+G91+G92 -> 0 | H93: =H85+H86+H91+H92 -> 0
A94: 88 | B94: Immateriális javak beszerzése, lét (K611) | C94: =SUM(D94:H94) -> 0
A95: 89 | B95: Ingatlanok beszerzése, létesítése (K621) | C95: =SUM(D95:H95) -> 0
A96: 90 | B96: Informatikai eszközök beszerzése, létesítése (K631) | C96: =SUM(D96:H96) -> 90000 | D96: 90000
A97: 91 | B97: Egyéb tárgyi eszközök beszerzése, létesítése (K641) | C97: =SUM(D97:H97) -> 29050 | D97: 29050
A98: 92 | B98: Beruházási célú előzetesen felszámított általános forgalmi adó (K671) | C98: =SUM(D98:H98) -> 32144 | D98: 32144
A99: 93 | B99: Beruházások (K6) | C99: =SUM(D99:H99) -> 151194 | D99: =SUM(D94:D98) -> 151194 | E99: =SUM(E94:E98) -> 0 | F99: =SUM(F94:F98) -> 0 | G99: =SUM(G94:G98) -> 0 | H99: =SUM(H94:H98) -> 0
A100: 94 | B100: Ingatlanok felújítása (K711) | C100: =SUM(D100:H100) -> 0
...

Sheet 9c
B1: Berhida Város Önkormányzata | C1: 9/c. melléklet
B2: 2017. évi költségvetés | C2: a 2/2017. (II.24.) önkormányzati rendelethez
B3: ÁLLAMIGAZGATÁSI feladatok
B4: Bevételek | C4: Ft-ban
C5: Összesen | D5: Önkormányzat | E5: Hivatal | F5: TESZ | G5: Kultúr | H5: Süni
A6: Sor- szám | B6: Rovat megnevezése | C6: Eredeti előirányzat | D6: Eredeti előirányzat | E6: Eredeti előirányzat | F6: Eredeti előirányzat | G6: Eredeti előirányzat | H6: Eredeti előirányzat
A7: 1 | B7: Helyi önkormányzatok működésének általános támogatása (B1111) | C7: =SUM(D7:H7) -> 0
A8: 2 | B8: Települési önkormányzatok egyes köznevelési feladatainak támogatása (B1121) | C8: =SUM(D8:H8) -> 0
A9: 3 | B9: Települési önkormányzatok szociális, gyermekjóléti és gyermekétkeztetési feladatainak támogatása (B1131) | C9: =SUM(D9:H9) -> 0
A10: 4 | B10: Települési önkormányzatok kulturális feladatainak támogatása (B1141) | C10: =SUM(D10:H10) -> 0
A11: 5 | B11: Működési célú költségvetési támogatások és kiegészítő támogatások (B1151) | C11: =SUM(D11:H11) -> 0
A12: 6 | B12: Önkormányzatok működési támogatásai (B11) | C12: =SUM(D12:H12) -> 0 | D12: =SUM(D7:D11) -> 0 | E12: =SUM(E7:E11) -> 0 | F12: =SUM(F7:F11) -> 0 | G12: =SUM(G7:G11) -> 0 | H12: =SUM(H7:H11) -> 0
A13: 7 | B13: Egyéb működési célú támogatások bevételei államháztartáson belülről (B16) | C13: =SUM(D13:H13) -> 0 | D13: =SUM(D14:D17) -> 0 | E13: =SUM(E14:E17) -> 0 | F13: =SUM(F14:F17) -> 0 | G13: =SUM(G14:G17) -> 0 | H13: =SUM(H14:H17) -> 0
A14: 8 | B14: ebből: egyéb fejezeti kezelésű előirányzatok (B16132) | C14: =SUM(D14:H14) -> 0
A15: 9 | B15: ebből: társadalombiztosítás pénzügyi alapjai (B1614) | C15: =SUM(D15:H15) -> 0
A16: 10 | B16: ebből: elkülönített állami pénzal (B1615) | C16: =SUM(D16:H16) -> 0
A17: 11 | B17: ebből: önkormányzat és kv-i szerveik (B 1616) | C17: =SUM(D17:H17) -> 0
A18: 12 | B18: Működési célú támogatások államháztartáson belülről (B1) | C18: =SUM(D18:H18) -> 0 | D18: =D12+D13 -> 0 | E18: =E12+E13 -> 0 | F18: =F12+F13 -> 0 | G18: =G12+G13 -> 0 | H18: =H12+H13 -> 0
A19: 13 | B19: Felhalmozási célú önkormányzati támogatások (B21) | C19: =SUM(D19:H19) -> 0 | D19: =SUM(D20:D23) -> 0 | E19: =SUM(E20:E23) -> 0 | F19: =SUM(F20:F23) -> 0 | G19: =SUM(G20:G23) -> 0 | H19: =SUM(H20:H23) -> 0
A20: 14 | B20: ebből egyéb központi fc tám (B2119) | C20: =SUM(D20:H20) -> 0
A21: 15 | B21: ebből: egyéb fejezeti kezelésű előirányzatok fc (B2513) | C21: =SUM(D21:H21) -> 0
A22: 16 | B22: ebből: elkülönített állami pénzal fc (B2515) | C22: =SUM(D22:H22) -> 0
A23: 17 | B23: ebből: önkorm és kv-i szervek fc tám (B2516) | C23: =SUM(D23:H23) -> 0
A24: 18 | B24: Felhalmozási célú támogatások államháztartáson belülről (B2) | C24: =SUM(D24:H24) -> 0 | D24: =D19 -> 0 | E24: =E19 -> 0 | F24: =F19 -> 0 | G24: =G19 -> 0 | H24: =H19 -> 0
A25: 19 | B25: Vagyoni tipusú adók (B34) | C25: =SUM(D25:H25) -> 0 | D25: =SUM(D26:D27) -> 0 | E25: =SUM(E26:E27) -> 0 | F25: =SUM(F26:F27) -> 0 | G25: =SUM(G26:G27) -> 0 | H25: =SUM(H26:H27) -> 0
A26: 20 | B26: ebből: építményadó (B34111) | C26: =SUM(D26:H26) -> 0
A27: 21 | B27: ebből: magánszemélyek kommunális adója (B34114) | C27: =SUM(D27:H27) -> 0
A28: 22 | B28: Értékesítési és forgalmi adók iparűzési adó (B351121) | C28: =SUM(D28:H28) -> 0
A29: 23 | B29: Gépjárműadó (B354121) | C29: =SUM(D29:H29) -> 0
A30: 24 | B30: Egyéb áruhasználati és szolgáltatási adók, környezetterh díj (B355122) | C30: =SUM(D30:H30) -> 0
A31: 25 | B31: Termékek és szolgáltatások adói (B35) | C31: =SUM(D31:H31) -> 0 | D31: =SUM(D28:D30) -> 0 | E31: =SUM(E28:E30) -> 0 | F31: =SUM(F28:F30) -> 0 | G31: =SUM(G28:G30) -> 0 | H31: =SUM(H28:H30) -> 0
A32: 26 | B32: Egyéb közhatalmi bevételek (B36) | C32: =SUM(D32:H32) -> 0 | D32: =SUM(D33:D35) -> 0 | E32: =SUM(E33:E35) -> 0 | F32: =SUM(F33:F35) -> 0 | G32: =SUM(G33:G35) -> 0 | H32: =SUM(H33:H35) -> 0
A33: 27 | B33: ebből: szabálysértési pénz- és helyszíni bírság és a közlekedési szabályszegések után kiszabott közigazgatási bírság helyi önkormányzatot megillető része (B361225) | C33: =SUM(D33:H33) -> 0
A34: 28 | B34: ebből: egyéb bírság (B361229) | C34: =SUM(D34:H34) -> 0
A35: 29 | B35: ebből: egyéb települési adók (B36128) | C35: =SUM(D35:H35) -> 0
A36: 30 | B36: Közhatalmi bevételek (B3) | C36: =SUM(D36:H36) -> 0 | D36: =D25+D31+D32 -> 0 | E36: =E25+E31+E32 -> 0 | F36: =F25+F31+F32 -> 0 | G36: =G25+G31+G32 -> 0 | H36: =H25+H31+H32 -> 0
A37: 31 | B37: Szolgáltatások (B4021) | C37: =SUM(D37:H37) -> 0 | D37: =SUM(D38:D40) -> 0 | E37: =SUM(E38:E40) -> 0 | F37: =SUM(F38:F40) -> 0 | G37: =SUM(G38:G40) -> 0 | H37: =SUM(H38:H40) -> 0
A38: 32 | B38: ebből: alkalmazottak térítési díj (B40211) | C38: =SUM(D38:H38) -> 0
A39: 33 | B39: ebből: bérleti díj bev (B40212) | C39: =SUM(D39:H39) -> 0
A40: 34 | B40: ebből: egyéb szolgáltatás (40214) | C40: =SUM(D40:H40) -> 0
A41: 35 | B41: Közvetített szolgáltatások ellenértéke (B403) | C41: =SUM(D41:H41) -> 0 | D41: =SUM(D42:D43) -> 0 | E41: =SUM(E42:E43) -> 0 | F41: =SUM(F42:F43) -> 0 | G41: =SUM(G42:G43) -> 0 | H41: =SUM(H42:H43) -> 0
A42: 36 | B42: ebből: államháztartáson belül (B40311) | C42: =SUM(D42:H42) -> 0
A43: 37 | B43: ebből: államháztartáson kívül (B40312) | C43: =SUM(D43:H43) -> 0
A44: 38 | B44: Tulajdonosi bevételek (B404) | C44: =SUM(D44:H44) -> 0 | D44: =SUM(D45:D49) -> 0 | E44: =SUM(E45:E49) -> 0 | F44: =SUM(F45:F49) -> 0 | G44: =SUM(G45:G49) -> 0 | H44: =SUM(H45:H49) -> 0
A45: 39 | B45: ebből: önkormányzati vagyon üzemeltetéséből, koncesszióból származó bevétel (B404131) | C45: =SUM(D45:H45) -> 0
A46: 40 | B46: ebből: önkormányzati vagyon vagyonkezelésbe adásából származó bevétel (B404133) | C46: =SUM(D46:H46) -> 0
A47: 41 | B47: ebből: egy önk-i vagyon bérbeadásából (404134) | C47: =SUM(D47:H47) -> 0
A48: 42 | B48: ebből egyéb önkorm vagyon haszonbérbeadásából (B404135) | C48: =SUM(D48:H48) -> 0
A49: 43 | B49: ebből: egy önk tulajdonosi bevétel (B404139) | C49: =SUM(D49:H49) -> 0
A50: 44 | B50: Ellátási díjak (B40511) | C50: =SUM(D50:H50) -> 0
A51: 45 | B51: Kiszámlázott általános forgalmi adó (B40611) | C51: =SUM(D51:H51) -> 0 | E51: =(E37+E41+E44+E50)*0.27 -> 0 | F51: =(F37+F41+F44+F50)*0.27 -> 0 | H51: =(H37+H41+H44+H50)*0.27 -> 0
A52: 46 | B52: Általános forgalmi adó visszatérítése (B4071) | C52: =SUM(D52:H52) -> 0
A53: 47 | B53: Egyéb kapott (járó) kamatok és kamatjellegű bevételek ÁHK(B408129) | C53: =SUM(D53:H53) -> 0
A54: 48 | B54: Más egyéb pénzügyi műveletek bevételei (B4092) | C54: =SUM(D54:H54) -> 0
A55: 49 | B55: ebből: valuta és deviza eszközök realizált árfolyamnyeresége (B4092) | C55: =SUM(D55:H55) -> 0
A56: 50 | B56: Egyéb pénzügyi műveletek bevételei B409199) | C56: =SUM(D56:H56) -> 0
A57: 51 | B57: Biztosító által fizetett kártérítés (B4101) | C57: =SUM(D57:H57) -> 0
A58: 52 | B58: Egyéb működési bevételek (B411199) | C58: =SUM(D58:H58) -> 0
A59: 53 | B59: Működési bevételek (B4) | C59: =SUM(D59:H59) -> 0 | D59: =D37+D41+D44+D50+D51+D52+D53+D54+D55+D56+D57+D58 -> 0 | E59: =E37+E41+E44+E50+E51+E52+E53+E54+E55+E56+E57+E58 -> 0 | F59: =F37+F41+F44+F50+F51+F52+F53+F54+F55+F56+F57+F58 -> 0 | G59: =G37+G41+G44+G50+G51+G52+G53+G54+G55+G56+G57+G58 -> 0 | H59: =H37+H41+H44+H50+H51+H52+H53+H54+H55+H56+H57+H58 -> 0
A60: 54 | B60: Ingatlanok értékesítése (B52) | C60: =SUM(D60:H60) -> 0
A61: 55 | B61: Felhalmozási bevételek (B5) | C61: =SUM(D61:H61) -> 0 | D61: =D60 -> 0 | E61: =E60 -> 0 | F61: =F60 -> 0 | G61: =G60 -> 0 | H61: =H60 -> 0
A62: 56 | B62: Felhalmozási célú visszatérítendő támogatások, kölcsönök visszatérülése államháztartáson kívülről (B74) | C62: =SUM(D62:H62) -> 0
A63: 57 | B63: ebből: háztartások (B74) | C63: =SUM(D63:H63) -> 0
A64: 58 | B64: Egyéb felhalmozási célú átvett pénzeszközök (B75) | C64: =SUM(D64:H64) -> 0
A65: 59 | B65: Felhalmozási célú átvett pénzeszközök (B7) | C65: =SUM(D65:H65) -> 0 | D65: =SUM(D62:D64) -> 0 | E65: =SUM(E62:E64) -> 0 | F65: =SUM(F62:F64) -> 0 | G65: =SUM(G62:G64) -> 0 | H65: =SUM(H62:H64) -> 0
A66: 60 | B66: Költségvetési bevételek (B1-B7) | C66: =SUM(D66:H66) -> 0 | D66: =D18+D24+D36+D59+D61+D65 -> 0 | E66: =E18+E24+E36+E59+E61+E65 -> 0 | F66: =F18+F24+F36+F59+F61+F65 -> 0 | G66: =G18+G24+G36+G59+G61+G65 -> 0 | H66: =H18+H24+H36+H59+H61+H65 -> 0
A67: 61 | B67: Előző év költségvetési maradványának igénybevétele (B8131) | C67: =SUM(D67:H67) -> 0
A68: 62 | B68: Államháztartáson belüli megelőlegezések (B814) | C68: =SUM(D68:H68) -> 0
A69: 63 | B69: Irányító szervi támogatás B816 | C69: =SUM(D69:H69) -> 7858323 | E69: 7858323
A70: 64 | B70: Belföldi finanszírozás bevételei (B81) | C70: =SUM(D70:H70) -> 7858323 | D70: =SUM(D67:D69) -> 0 | E70: =SUM(E67:E69) -> 7858323 | F70: =SUM(F67:F69) -> 0 | G70: =SUM(G67:G69) -> 0 | H70: =SUM(H67:H69) -> 0
A71: 65 | B71: Finanszírozási bevételek (B8) | C71: =SUM(D71:H71) -> 7858323 | D71: =D70 -> 0 | E71: =E70 -> 7858323 | F71: =F70 -> 0 | G71: =G70 -> 0 | H71: =H70 -> 0
A72: 66 | B72: MINDÖSSZESEN: | C72: =SUM(D72:H72) -> 7858323 | D72: =D66+D71 -> 0 | E72: =E66+E71 -> 7858323 | F72: =F66+F71 -> 0 | G72: =G66+G71 -> 0 | H72: =H66+H71 -> 0
A73: 67 | B73: Személyi juttatások (K1) | C73: =SUM(D73:H73) -> 5893795 | E73: 5893795
A74: 68 | B74: Munkaadókat terhelő járulékok és szociális hozzájárulási adó (K2) | C74: =SUM(D74:H74) -> 1356368 | E74: 1356368
A75: 69 | B75: Dologi kiadások (K3) | C75: =SUM(D75:H75) -> 608160 | E75: 608160
A76: 70 | B76: Családi támogatások (K42) | C76: =SUM(D76:H76) -> 0 | D76: =D77 -> 0 | E76: =E77 -> 0 | F76: =F77 -> 0 | G76: =G77 -> 0 | H76: =H77 -> 0
A77: 71 | B77: ebből: az egyéb pénzbeli és természetbeni gyermekvédelmi támogatások (K42132) | C77: =SUM(D77:H77) -> 0
A78: 72 | B78: Intézményi ellátottak pénzbeli juttatásai (K47) | C78: =SUM(D78:H78) -> 0 | D78: =D79 -> 0 | E78: =E79 -> 0 | F78: =F79 -> 0 | G78: =G79 -> 0 | H78: =H79 -> 0
A79: 73 | B79: ebből: oktatásban résztvevők pénzbeli juttatásai (K471) | C79: =SUM(D79:H79) -> 0
A80: 74 | B80: Egyéb nem intézményi ellátások (K48) | C80: =SUM(D80:H80) -> 0 | D80: =SUM(D81:D83) -> 0 | E80: =SUM(E81:E83) -> 0 | F80: =SUM(F81:F83) -> 0 | G80: =SUM(G81:G83) -> 0 | H80: =SUM(H81:H83) -> 0
A81: 75 | B81: ebből: köztemetés [Szoctv. 48.§] (K48123) | C81: =SUM(D81:H81) -> 0
A82: 76 | B82: ebből: települési támogatás [Szoctv. 45. §], (K48122) | C82: =SUM(D82:H82) -> 0
A83: 77 | B83: ebből: önkorm. Saját hatáskörben adott (K48139) | C83: =SUM(D83:H83) -> 0
A84: 78 | B84: Ellátottak pénzbeli juttatásai (K4) | C84: =SUM(D84:H84) -> 0 | D84: =D76+D78+D80 -> 0 | E84: =E76+E78+E80 -> 0 | F84: =F76+F78+F80 -> 0 | G84: =G76+G78+G80 -> 0 | H84: =H76+H78+H80 -> 0
A85: 79 | B85: Elvonások és befizetések (K5023) | C85: =SUM(D85:H85) -> 0
A86: 80 | B86: Egyéb működési célú támogatások államháztartáson belülre (K506) | C86: =SUM(D86:H86) -> 0 | D86: =SUM(D87:D90) -> 0 | E86: =SUM(E87:E90) -> 0 | F86: =SUM(F87:F90) -> 0 | G86: =SUM(G87:G90) -> 0 | H86: =SUM(H87:H90) -> 0
A87: 81 | B87: ebből: egyéb fejezeti kezelésű előirányzatok (K506132) | C87: =SUM(D87:H87) -> 0
A88: 82 | B88: ebből: elkülönített állami pénzalap (K50615) | C88: =SUM(D88:H88) -> 0
A89: 83 | B89: ebből: önkormányzatok és költségv-i szerveik K50616) | C89: =SUM(D89:H89) -> 0
A90: 84 | B90: ebből: társulások és költségvetési szerveik (K50617) | C90: =SUM(D90:H90) -> 0
A91: 85 | B91: Egyéb működési célú támogatások államháztartáson kívülre non-profit szervezet (K512142) | C91: =SUM(D91:H91) -> 0
A92: 86 | B92: Tartalékok (K51311) | C92: =SUM(D92:H92) -> 0
A93: 87 | B93: Egyéb működési célú kiadások (K5) | C93: =SUM(D93:H93) -> 0 | D93: =D85+D86+D91+D92 -> 0 | E93: =E85+E86+E91+E92 -> 0 | F93: =F85+F86+F91+F92 -> 0 | G93: =G85+G86+G91+G92 -> 0 | H93: =H85+H86+H91+H92 -> 0
A94: 88 | B94: Immateriális javak beszerzése, lét (K611) | C94: =SUM(D94:H94) -> 0
A95: 89 | B95: Ingatlanok beszerzése, létesítése (K621) | C95: =SUM(D95:H95) -> 0
A96: 90 | B96: Informatikai eszközök beszerzése, létesítése (K631) | C96: =SUM(D96:H96) -> 0
A97: 91 | B97: Egyéb tárgyi eszközök beszerzése, létesítése (K641) | C97: =SUM(D97:H97) -> 0
A98: 92 | B98: Beruházási célú előzetesen felszámított általános forgalmi adó (K671) | C98: =SUM(D98:H98) -> 0
A99: 93 | B99: Beruházások (K6) | C99: =SUM(D99:H99) -> 0 | D99: =SUM(D94:D98) -> 0 | E99: =SUM(E94:E98) -> 0 | F99: =SUM(F94:F98) -> 0 | G99: =SUM(G94:G98) -> 0 | H99: =SUM(H94:H98) -> 0
A100: 94 | B100: Ingatlanok felújítása (K711) | C100: =SUM(D100:H100) -> 0
...

Sheet 10 mell
B1: Berhida Város Önkormányzatának
B2: 2017. Évi költségvetéséhez
A3: Az Önkormányzat saját bevételének alakulásáról
C4: 10. melléklet
C5: a 2/2017. (II. 24 .) önkormányzati rendelethez
C6: adatok ezer Ft-ban
A8: A | B8: B | C8: C | D8: D | E8: E | F8: F
A9: Sorszám | B9: Bevételi jogcím | C9: 2017. év | D9: 2018 év | E9: 2019 év | F9: 2020 év
C10: bevételi | D10: bevételi | E10: bevételi | F10: bevételi
C11: előirányzat | D11: előirányzat | E11: előirányzat | F11: előirányzat
A12: 1. | B12: 2. | C12: 3. | D12: 3. | E12: 3. | F12: 3.
A13: 1. | B13: építmény adó | C13: ='1'!C26 -> 84512950 | D13: ='1'!D26 -> 84512950 | E13: 84512950 | F13: 84512950
A14: 2. | B14: magánszemélyek kommunális adója | C14: ='1'!C27 -> 17637689 | D14: 17637689 | E14: 17637689 | F14: 17637689
A15: 3. | B15: iparűzési adó | C15: ='1'!C28 -> 189265417 | D15: 189265417 | E15: 189265417 | F15: 189265417
A16: 4. | B16: önk-i vagyon értékesítésből sz bev
A17: 5. | B17: osztalék, hozam bevétel
A18: 6. | B18: tárgyi eszköz és imm jószág értékes sz bev
A19: 7. | B19: bírság, pótlék és díj bevétel
A20: 8. | B20: kezességvállalással kapcsolatos megtérülés
A21: 9.
A22: 10. | B22: Összesen: | C22: =SUM(C13:C21) -> 291416056 | D22: =SUM(D13:D21) -> 291416056 | E22: =SUM(E13:E21) -> 291416056 | F22: =SUM(F13:F21) -> 291416056

Sheet 11
B1: Berhida Város Önkormányzata | D1: 11. melléklet
B2: 2016. évi költségvetés | D2: a 2/2017. (II. 24 .) önkormányzati rendelethez
B3: Bevételek | D3: adatok ezer Ft-ban
D5: Összesen | E5: Önkorm | F5: Hivatal | G5: TESZ | H5: Süni | I5: Kultúrház
A6: Sor- szám | B6: Rovat megnevezése | C6: Rovat száma | D6: Eredeti ei | E6: Eredeti ei | F6: Eredeti ei | G6: Eredeti ei | H6: Eredeti ei | I6: Eredeti ei
A7: 1. | B7: 2. | C7: 3. | D7: 4. | E7: 5. | F7: 6. | G7: 7. | H7: 8. | I7: 9.
A8: 01 | B8: Helyi önkormányzatok működésének általános támogatása | C8: B111 | D8: =SUM(E8:I8) -> 114837 | E8: 114837
A9: 02 | B9: Települési önkormányzatok egyes köznevelési feladatainak támogatása | C9: B112 | D9: =SUM(E9:I9) -> 130351 | E9: 130351
A10: 03 | B10: Tel önkorm szociális és gyermekjóléti, gyermekétk feladatainak támogatása | C10: B113 | D10: =SUM(E10:I10) -> 92325 | E10: 92325
A11: 04 | B11: Települési önkormányzatok kulturális feladatainak támogatása | C11: B114 | D11: =SUM(E11:I11) -> 6884 | E11: 6884
A12: 05 | B12: Működési célú költségvetési támogatások és kiegészítő támogatások | C12: B115 | D12: =SUM(E12:I12) -> 0
A13: 06 | B13: Elszámolásból származó bevételek | C13: B116 | D13: =SUM(E13:I13) -> 0
A14: 07 | B14: Önkormányzatok működési támogatásai | C14: B11 | D14: =SUM(E14:I14) -> 344397 | E14: =SUM(E8:E13) -> 344397 | F14: =SUM(F8:F13) -> 0 | G14: =SUM(G8:G13) -> 0 | H14: =SUM(H8:H13) -> 0 | I14: =SUM(I8:I13) -> 0
A15: 08 | B15: Elvonások és befizetések bevételei | C15: B12 | D15: =SUM(E15:I15) -> 0
A16: 09 | B16: Működési célú garancia- és kezességvállalásból származó megtérülések államháztartáson belülről | C16: B13 | D16: =SUM(E16:I16) -> 0
A17: 10 | B17: Működési célú visszatérítendő támogatások, kölcsönök visszatérülése államháztartáson belülről | C17: B14 | D17: =SUM(E17:I17) -> 0
A18: 11 | B18: Működési célú visszatérítendő támogatások, kölcsönök igénybevétele államháztartáson belülről | C18: B15 | D18: =SUM(E18:I18) -> 0
A19: 12 | B19: Egyéb működési célú támogatások bevételei államháztartáson belülről | C19: B16 | D19: =SUM(E19:I19) -> 85152 | E19: =SUM(E20:E26) -> 21752 | F19: =SUM(F20:F26) -> 0 | G19: =SUM(G20:G26) -> 62306 | H19: =SUM(H20:H26) -> 1094 | I19: =SUM(I20:I26) -> 0
B20: - ebből központi költségvetési szervek | C20: B161 | D20: =SUM(E20:I20) -> 0
B21: - ebből Társadalombiztosítási Alapok | C21: B162 | D21: =SUM(E21:I21) -> 13002 | E21: 13002
B22: - ebből elkülönített állami alapok (MUNKAÜGYI KP közfoglalk) | C22: B163 | D22: =SUM(E22:I22) -> 63400 | G22: 62306 | H22: 1094
B23: - ebből helyi önkormányzatok és költségvetési szerveik | C23: B164 | D23: =SUM(E23:I23) -> 0
B24: - ebből társulások és költségvetési szerveik | C24: B165 | D24: =SUM(E24:I24) -> 0
B25: - ebből nemzetiségi önkormányzatok és költségvetési szerveik | C25: B166 | D25: =SUM(E25:I25) -> 0
B26: - ebből fejezeti kezelésű | C26: B167 | D26: =SUM(E26:I26) -> 8750 | E26: 8750
A27: 13 | B27: Működési célú támogatások államháztartáson belülről | C27: B1 | D27: =SUM(E27:I27) -> 429549 | E27: =SUM(E14:E19) -> 366149 | F27: =SUM(F14:F19) -> 0 | G27: =SUM(G14:G19) -> 62306 | H27: =SUM(H14:H19) -> 1094 | I27: =SUM(I14:I19) -> 0
A28: 14 | B28: Felhalmozási célú önkormányzati támogatások | C28: B21 | D28: =SUM(E28:I28) -> 0
A29: 15 | B29: Felhalmozási célú garancia- és kezességvállalásból származó megtérülések államháztartáson belülről | C29: B22 | D29: =SUM(E29:I29) -> 0
A30: 16 | B30: Felhalmozási célú visszatérítendő támogatások, kölcsönök visszatérülése államháztartáson belülről | C30: B23 | D30: =SUM(E30:I30) -> 0
A31: 17 | B31: Felhalmozási célú visszatérítendő támogatások, kölcsönök igénybevétele államháztartáson belülről | C31: B24 | D31: =SUM(E31:I31) -> 0
A32: 18 | B32: Egyéb felhalmozási célú támogatások bevételei államháztartáson belülről | C32: B25 | D32: =SUM(E32:I32) -> 0
A33: 19 | B33: Felhalmozási célú támogatások államháztartáson belülről | C33: B2 | D33: =SUM(E33:I33) -> 0 | E33: =SUM(E28:E32) -> 0 | F33: =SUM(F28:F32) -> 0 | G33: =SUM(G28:G32) -> 0 | H33: =SUM(H28:H32) -> 0 | I33: =SUM(I28:I32) -> 0
A34: 20 | B34: Magánszemélyek jövedelemadói | C34: B311 | D34: =SUM(E34:I34) -> 0
A35: 21 | B35: Társaságok jövedelemadói | C35: B312 | D35: =SUM(E35:I35) -> 0
A36: 22 | B36: Jövedelemadók | C36: B31 | D36: =SUM(E36:I36) -> 0 | E36: =SUM(E34:E35) -> 0 | F36: =SUM(F34:F35) -> 0 | G36: =SUM(G34:G35) -> 0 | H36: =SUM(H34:H35) -> 0 | I36: =SUM(I34:I35) -> 0
A37: 23 | B37: Szociális hozzájárulási adó és járulékok | C37: B32 | D37: =SUM(E37:I37) -> 0
A38: 24 | B38: Bérhez és foglalkoztatáshoz kapcsolódó adók | C38: B33 | D38: =SUM(E38:I38) -> 0
A39: 25 | B39: Vagyoni tipusú adók | C39: B34 | D39: =SUM(E39:I39) -> 91747 | E39: 91747
A40: 26 | B40: Értékesítési és forgalmi adók | C40: B351 | D40: =SUM(E40:I40) -> 187900 | E40: 187900
A41: 27 | B41: Fogyasztási adók | C41: B352 | D41: =SUM(E41:I41) -> 0
A42: 28 | B42: Pénzügyi monopóliumok nyereségét terhelő adók | C42: B353 | D42: =SUM(E42:I42) -> 0
A43: 29 | B43: Gépjárműadók | C43: B354 | D43: =SUM(E43:I43) -> 10688 | E43: 10688
A44: 30 | B44: Egyéb áruhasználati és szolgáltatási adók | C44: B355 | D44: =SUM(E44:I44) -> 0
A45: 31 | B45: Termékek és szolgáltatások adói | C45: B35 | D45: =SUM(E45:I45) -> 198588 | E45: =SUM(E40:E44) -> 198588 | F45: =SUM(F40:F44) -> 0 | G45: =SUM(G40:G44) -> 0 | H45: =SUM(H40:H44) -> 0 | I45: =SUM(I40:I44) -> 0
A46: 32 | B46: Egyéb közhatalmi bevételek | C46: B36 | D46: =SUM(E46:I46) -> 1413 | E46: 1413
A47: 33 | B47: Közhatalmi bevételek | C47: B3 | D47: =SUM(E47:I47) -> 291748 | E47: =E36+E37+E38+E39+E45+E46 -> 291748 | F47: =F36+F37+F38+F39+F45+F46 -> 0 | G47: =G36+G37+G38+G39+G45+G46 -> 0 | H47: =H36+H37+H38+H39+H45+H46 -> 0 | I47: =I36+I37+I38+I39+I45+I46 -> 0
A48: 34 | B48: Áru- és készletértékesítés ellenértéke | C48: B401 | D48: =SUM(E48:I48) -> 0
A49: 35 | B49: Szolgáltatások ellenértéke | C49: B402 | D49: =SUM(E49:I49) -> 8848 | F49: 360 | G49: 1050 | H49: 6688 | I49: 750
A50: 36 | B50: Közvetített szolgáltatások értéke | C50: B403 | D50: =SUM(E50:I50) -> 3690 | E50: =SUM(E51:E52) -> 560 | F50: =SUM(F51:F52) -> 1500 | G50: =SUM(G51:G52) -> 1630 | H50: =SUM(H51:H52) -> 0 | I50: =SUM(I51:I52) -> 0
B51: - ebből ÁHT-n belülre közvetített | C51: B4031 | D51: =SUM(E51:I51) -> 1820 | E51: 240 | F51: 1500 | G51: 80
B52: - ebből áht-n kívülre közvetített | C52: B4032 | D52: =SUM(E52:I52) -> 1870 | E52: 320 | G52: 1550
A53: 37 | B53: Tulajdonosi bevételek | C53: B404 | D53: =SUM(E53:I53) -> 19579 | E53: 19579
A54: 38 | B54: Ellátási díjak | C54: B405 | D54: =SUM(E54:I54) -> 12612 | E54: 3579 | F54: 502 | H54: 8531
A55: 39 | B55: Kiszámlázott általános forgalmi adó | C55: B406 | D55: =SUM(E55:I55) -> 7128 | E55: 6404 | G55: 724
A56: 40 | B56: Általános forgalmi adó visszatérítése | C56: B407 | D56: =SUM(E56:I56) -> 4864 | H56: 4864
A57: 41 | B57: Kamatbevételek | C57: B408 | D57: =SUM(E57:I57) -> 1300 | E57: 1300
A58: 42 | B58: Egyéb pénzügyi műveletek bevételei | C58: B409 | D58: =SUM(E58:I58) -> 0
A59: 43 | B59: Egyéb működési bevételek | C59: B410 | D59: =SUM(E59:I59) -> 0
A60: 44 | B60: Működési bevételek | C60: B4 | D60: =SUM(E60:I60) -> 58021 | E60: =E48+E49+E50+E53+E54+E55+E56+E57+E58+E59 -> 31422 | F60: =F48+F49+F50+F53+F54+F55+F56+F57+F58+F59 -> 2362 | G60: =G48+G49+G50+G53+G54+G55+G56+G57+G58+G59 -> 3404 | H60: =H48+H49+H50+H53+H54+H55+H56+H57+H58+H59 -> 20083 | I60: =I48+I49+I50+I53+I54+I55+I56+I57+I58+I59 -> 750
A61: 45 | B61: Immateriális javak értékesítése | C61: B51 | D61: =SUM(E61:I61) -> 0
A62: 46 | B62: Ingatlanok értékesítése | C62: B52 | D62: =SUM(E62:I62) -> 8199 | E62: 8199
A63: 47 | B63: Egyéb tárgyi eszközök értékesítése | C63: B53 | D63: =SUM(E63:I63) -> 0
A64: 48 | B64: Részesedések értékesítése | C64: B54 | D64: =SUM(E64:I64) -> 0
A65: 49 | B65: Részesedések megszűnéséhez kapcsolódó bevételek | C65: B55 | D65: =SUM(E65:I65) -> 0
A66: 50 | B66: Felhalmozási bevételek | C66: B5 | D66: =SUM(E66:I66) -> 8199 | E66: =SUM(E61:E65) -> 8199 | F66: =SUM(F61:F65) -> 0 | G66: =SUM(G61:G65) -> 0 | H66: =SUM(H61:H65) -> 0 | I66: =SUM(I61:I65) -> 0
A67: 51 | B67: Működési célú garancia- és kezességvállalásból származó megtérülések államháztartáson kívülről | C67: B61 | D67: =SUM(E67:I67) -> 0
A68: 52 | B68: Működési célú visszatérítendő támogatások, kölcsönök visszatérülése államháztartáson kívülről | C68: B62 | D68: =SUM(E68:I68) -> 0
A69: 53 | B69: Egyéb működési célú átvett pénzeszközök | C69: B63 | D69: =SUM(E69:I69) -> 70 | G69: 70
A70: 54 | B70: Működési célú átvett pénzeszközök | C70: B6 | D70: =SUM(E70:I70) -> 70 | E70: =SUM(E67:E69) -> 0 | F70: =SUM(F67:F69) -> 0 | G70: =SUM(G67:G69) -> 70 | H70: =SUM(H67:H69) -> 0 | I70: =SUM(I67:I69) -> 0
A71: 55 | B71: Felhalmozási célú garancia- és kezességvállalásból származó megtérülések államháztartáson kívülről | C71: B71 | D71: =SUM(E71:I71) -> 0
A72: 56 | B72: Felhalmozási célú visszatérítendő támogatások, kölcsönök visszatérülése államháztartáson kívülről | C72: B72 | D72: =SUM(E72:I72) -> 0
A73: 57 | B73: Egyéb felhalmozási célú átvett pénzeszközök | C73: B73 | D73: =SUM(E73:I73) -> 352 | E73: 352
A74: 58 | B74: Felhalmozási célú átvett pénzeszközök | C74: B7 | D74: =SUM(E74:I74) -> 352 | E74: =SUM(E71:E73) -> 352 | F74: =SUM(F71:F73) -> 0 | G74: =SUM(G71:G73) -> 0 | H74: =SUM(H71:H73) -> 0 | I74: =SUM(I71:I73) -> 0
A75: 59 | B75: Költségvetési bevételek | C75: B1-B7 | D75: =SUM(E75:I75) -> 787939 | E75: =E27+E33+E47+E60+E66+E70+E74 -> 697870 | F75: =F27+F33+F47+F60+F66+F70+F74 -> 2362 | G75: =G27+G33+G47+G60+G66+G70+G74 -> 65780 | H75: =H27+H33+H47+H60+H66+H70+H74 -> 21177 | I75: =I27+I33+I47+I60+I66+I70+I74 -> 750
A76: 60 | B76: Hitel-, kölcsönfelvétel államháztartáson kívülről | C76: B811 | D76: =SUM(E76:I76) -> 0
A77: 61 | B77: Belföldi értékpapírok bevételei | C77: B812 | D77: =SUM(E77:I77) -> 0
A78: 62 | B78: Előző év költségvetési maradványának igénybevétele | C78: B8131 | D78: =SUM(E78:I78) -> 307216 | E78: 300819 | G78: 6397
A79: 63 | B79: Előző év vállalkozási maradványának igénybevétele | C79: B8132 | D79: =SUM(E79:I79) -> 0
A80: 64 | B80: Maradvány igénybevétele | C80: B813 | D80: =SUM(E80:I80) -> 307216 | E80: =SUM(E78:E79) -> 300819 | F80: =SUM(F78:F79) -> 0 | G80: =SUM(G78:G79) -> 6397 | H80: =SUM(H78:H79) -> 0 | I80: =SUM(I78:I79) -> 0
A81: 65 | B81: Államháztartáson belüli megelőlegezések | C81: B814 | D81: =SUM(E81:I81) -> 0
A82: 66 | B82: Államháztartáson belüli megelőlegezések törlesztése | C82: B815 | D82: =SUM(E82:I82) -> 0
A83: 67 | B83: Központi, irányító szervi támogatás | C83: B816 | D83: =SUM(E83:I83) -> 428788 | F83: 154861 | G83: 132166 | H83: 111838 | I83: 29923
A84: 68 | B84: Betétek megszüntetése | C84: B817 | D84: =SUM(E84:I84) -> 0
A85: 69 | B85: Központi költségvetés sajátos finanszírozási bevételei | C85: B818 | D85: =SUM(E85:I85) -> 0
A86: 70 | B86: Belföldi finanszírozás bevételei | C86: B81 | D86: =SUM(E86:I86) -> 736004 | E86: =(SUM(E80:E85))+E76+E77 -> 300819 | F86: =(SUM(F80:F85))+F76+F77 -> 154861 | G86: =(SUM(G80:G85))+G76+G77 -> 138563 | H86: =(SUM(H80:H85))+H76+H77 -> 111838 | I86: =(SUM(I80:I85))+I76+I77 -> 29923
A87: 71 | B87: Külföldi finanszírozás bevételei | C87: B82 | D87: =SUM(E87:I87) -> 0
A88: 72 | B88: Finanszírozási bevételek | C88: B8 | D88: =SUM(E88:I88) -> 736004 | E88: =SUM(E86:E87) -> 300819 | F88: =SUM(F86:F87) -> 154861 | G88: =SUM(G86:G87) -> 138563 | H88: =SUM(H86:H87) -> 111838 | I88: =SUM(I86:I87) -> 29923
A89: 73 | B89: Összes bevétel | D89: =SUM(E89:I89) -> 1523943 | E89: =E75+E88 -> 998689 | F89: =F75+F88 -> 157223 | G89: =G75+G88 -> 204343 | H89: =H75+H88 -> 133015 | I89: =I75+I88 -> 30673

Sheet 12
B1: Berhida Város Önkormányzata | C1: 12. melléklet
B2: 2016. évi költségvetés | C2: a 2/2017. (II. 24 .) önkormányzati rendelethez
B3: Kiadások | C3: adatok ezer Ft-ban
D5: ÖSSZESEN | E5: Önkorm | F5: Hivatal | G5: TESZ | H5: Süni | I5: Kultúrház
A6: Sor- szám | B6: Rovat megnevezése | C6: Rovat száma | D6: Eredeti ei | E6: Eredeti ei | F6: Eredeti ei | G6: Eredeti ei | H6: Eredeti ei | I6: Eredeti ei
A7: 1. | B7: 2. | C7: 3. | D7: 4. | E7: 5. | F7: 6. | G7: 7. | H7: 8. | I7: 9.
A8: 1 | B8: Személyi juttatások | C8: K1 | D8: =SUM(E8:I8) -> 317033 | E8: 29645 | F8: 97162 | G8: 107359 | H8: 70966 | I8: 11901
A9: 2 | B9: Munkaadókat terhelő járulékok és szociális hozzájárulási adó | C9: K2 | D9: =SUM(E9:I9) -> 79133 | E9: 8839 | F9: 27726 | G9: 20241 | H9: 19015 | I9: 3312
A10: 3 | B10: Dologi kiadások | C10: K3 | D10: =SUM(E10:I10) -> 217622 | E10: 56819 | F10: 30684 | G10: 72451 | H10: 42831 | I10: 14837
A11: 4 | B11: Társadalombiztosítási ellátások | C11: K41 | D11: =SUM(E11:I11) -> 0
A12: 5 | B12: Családi támogatások | C12: K42 | D12: =SUM(E12:I12) -> 0
A13: 6 | B13: Pénzbeli kárpótlások, kártérítések | C13: K43 | D13: =SUM(E13:I13) -> 0
A14: 7 | B14: Betegséggel kapcsolatos (nem társadalombiztosítási) ellátások | C14: K44 | D14: =SUM(E14:I14) -> 0
A15: 8 | B15: Foglalkoztatással, munkanélküliséggel kapcsolatos ellátások | C15: K45 | D15: =SUM(E15:I15) -> 0
A16: 9 | B16: Lakhatással kapcsolatos ellátások | C16: K46 | D16: =SUM(E16:I16) -> 0
A17: 10 | B17: Intézményi ellátottak pénzbeli juttatásai | C17: K47 | D17: =SUM(E17:I17) -> 0
A18: 11 | B18: Egyéb nem intézményi ellátások | C18: K48 | D18: =SUM(E18:I18) -> 17500 | E18: 17500
A19: 12 | B19: Ellátottak pénzbeli juttatásai | C19: K4 | D19: =SUM(E19:I19) -> 17500 | E19: =SUM(E11:E18) -> 17500 | F19: =SUM(F11:F18) -> 0 | G19: =SUM(G11:G18) -> 0 | H19: =SUM(H11:H18) -> 0 | I19: =SUM(I11:I18) -> 0
A20: 13 | B20: Nemzetközi kötelezettségek | C20: K501 | D20: =SUM(E20:I20) -> 0
A21: 14 | B21: Elvonások és befizetések | C21: K502 | D21: =SUM(E21:I21) -> 0
A22: 15 | B22: Működési célú garancia- és kezességvállalásból származó kifizetés államháztartáson belülre | C22: K503 | D22: =SUM(E22:I22) -> 0
A23: 16 | B23: Működési célú visszatérítendő támogatások, kölcsönök nyújtása államháztartáson belülre | C23: K504 | D23: =SUM(E23:I23) -> 0
A24: 17 | B24: Működési célú visszatérítendő támogatások, kölcsönök törlesztése államháztartáson belülre | C24: K505 | D24: =SUM(E24:I24) -> 0
A25: 18 | B25: Egyéb működési célú támogatások államháztartáson belülre | C25: K506 | D25: =SUM(E25:I25) -> 134270 | E25: =SUM(E26:E33) -> 134270 | F25: =SUM(F26:F33) -> 0 | G25: =SUM(G26:G33) -> 0 | H25: =SUM(H26:H33) -> 0 | I25: =SUM(I26:I33) -> 0
B26: - ebből központi költségvetési szervek | C26: K5061 | D26: =SUM(E26:I26) -> 0
B27: - ebből Társadalombiztosítási Alapok | C27: K5062 | D27: =SUM(E27:I27) -> 0
B28: - ebből elkülönített állami alapok | C28: K5063 | D28: =SUM(E28:I28) -> 0
B29: - ebből helyi önkormányzatok és költségvetési szerveik | C29: K5064 | D29: =SUM(E29:I29) -> 0
B30: - ebből társulások és költségvetési szerveik | C30: K50651 | D30: =SUM(E30:I30) -> 3510 | E30: 3510
B31: - ebből köznevelési társulásnak | C31: K50652 | D31: =SUM(E31:I31) -> 100932 | E31: 100932
B32: - ebből szociális társulásnak | C32: K50653 | D32: =SUM(E32:I32) -> 29828 | E32: 29828
B33: - ebből nemzetiségi önkormányzatok és költségvetési szerveik | C33: K5066 | D33: =SUM(E33:I33) -> 0
A34: 19 | B34: Működési célú garancia- és kezességvállalásból származó kifizetés államháztartáson kívülre | C34: K507 | D34: =SUM(E34:I34) -> 0
A35: 20 | B35: Működési célú visszatérítendő támogatások, kölcsönök nyújtása államháztartáson kívülre | C35: K508 | D35: =SUM(E35:I35) -> 0
A36: 21 | B36: Árkiegészítések, ártámogatások | C36: K509 | D36: =SUM(E36:I36) -> 0
A37: 22 | B37: Kamattámogatások | C37: K510 | D37: =SUM(E37:I37) -> 0
A38: 23 | B38: Egyéb működési célú támogatások államháztartáson kívülre | C38: K511 | D38: =SUM(E38:I38) -> 5646 | E38: 5646
A39: 24 | B39: Tartalékok | C39: K512 | D39: =SUM(E39:I39) -> 85832 | E39: 85832
A40: 25 | B40: Egyéb működési célú kiadások | C40: K5 | D40: =SUM(E40:I40) -> 225748 | E40: =E20+E21+E22+E23+E24+E25+E34+E35+E36+E37+E38+E39 -> 225748 | F40: =F20+F21+F22+F23+F24+F25+F34+F35+F36+F37+F38+F39 -> 0 | G40: =G20+G21+G22+G23+G24+G25+G34+G35+G36+G37+G38+G39 -> 0 | H40: =H20+H21+H22+H23+H24+H25+H34+H35+H36+H37+H38+H39 -> 0 | I40: =I20+I21+I22+I23+I24+I25+I34+I35+I36+I37+I38+I39 -> 0
A41: 26 | B41: Immateriális javak, vagy jogok beszerzése, létesítése | C41: K61 | D41: =SUM(E41:I41) -> 2310 | E41: 2000 | F41: 200 | G41: 110
A42: 27 | B42: Ingatlanok beszerzése, létesítése | C42: K62 | D42: =SUM(E42:I42) -> 50427 | E42: 50427
A43: 28 | B43: Informatikai eszközök beszerzése, létesítése | C43: K63 | D43: =SUM(E43:I43) -> 690 | F43: 500 | G43: 150 | H43: 40
A44: 29 | B44: Egyéb tárgyi eszközök beszerzése, létesítése | C44: K64 | D44: =SUM(E44:I44) -> 4288 | E44: 500 | F44: 200 | G44: 2920 | H44: 120 | I44: 548
A45: 30 | B45: Részesedések beszerzése | C45: K65 | D45: =SUM(E45:I45) -> 0
A46: 31 | B46: Meglévő részesedések növeléséhez kapcsolódó kiadások | C46: K66 | D46: =SUM(E46:I46) -> 0
A47: 32 | B47: Beruházási célú előzetesen felszámított általános forgalmi adó | C47: K67 | D47: =SUM(E47:I47) -> 15421 | E47: 14202 | F47: 243 | G47: 858 | H47: 43 | I47: 75
A48: 33 | B48: Beruházások | C48: K6 | D48: =SUM(E48:I48) -> 73136 | E48: =SUM(E41:E47) -> 67129 | F48: =SUM(F41:F47) -> 1143 | G48: =SUM(G41:G47) -> 4038 | H48: =SUM(H41:H47) -> 203 | I48: =SUM(I41:I47) -> 623
A49: 34 | B49: Ingatlanok felújítása | C49: K71 | D49: =SUM(E49:I49) -> 119427 | E49: 119427
A50: 35 | B50: Informatikai eszközök felújítása | C50: K72 | D50: =SUM(E50:I50) -> 300 | F50: 300
A51: 36 | B51: Egyéb tárgyi eszközök felújítása | C51: K73 | D51: =SUM(E51:I51) -> 904 | E51: 604 | F51: 100 | G51: 200
A52: 37 | B52: Felújítási célú előzetesen felszámított általános forgalmi adó | C52: K74 | D52: =SUM(E52:I52) -> 32570 | E52: 32408 | F52: 108 | G52: 54
A53: 38 | B53: Felújítások | C53: K7 | D53: =SUM(E53:I53) -> 153201 | E53: =SUM(E49:E52) -> 152439 | F53: =SUM(F49:F52) -> 508 | G53: =SUM(G49:G52) -> 254 | H53: =SUM(H49:H52) -> 0 | I53: =SUM(I49:I52) -> 0
A54: 39 | B54: Felhalmozási célú garancia- és kezességvállalásból származó kifizetés államháztartáson belülre | C54: K81 | D54: =SUM(E54:I54) -> 0
A55: 40 | B55: Felhalmozási célú visszatérítendő támogatások, kölcsönök nyújtása államháztartáson belülre | C55: K82 | D55: =SUM(E55:I55) -> 0
A56: 41 | B56: Felhalmozási célú visszatérítendő támogatások, kölcsönök törlesztése államháztartáson belülre | C56: K83 | D56: =SUM(E56:I56) -> 0
A57: 42 | B57: Egyéb felhalmozási célú támogatások államháztartáson belülre | C57: K84 | D57: =SUM(E57:I57) -> 0
A58: 43 | B58: Felhalmozási célú garancia- és kezességvállalásból származó kifizetés államháztartáson kívülre | C58: K85 | D58: =SUM(E58:I58) -> 0
A59: 44 | B59: Felhalmozási célú visszatérítendő támogatások, kölcsönök nyújtása államháztartáson kívülre | C59: K86 | D59: =SUM(E59:I59) -> 0
A60: 45 | B60: Lakástámogatás | C60: K87 | D60: =SUM(E60:I60) -> 0
A61: 46 | B61: Egyéb felhalmozási célú támogatások államháztartáson kívülre | C61: K88 | D61: =SUM(E61:I61) -> 0
A62: 47 | B62: Egyéb felhalmozási célú kiadások | C62: K8 | D62: =SUM(E62:I62) -> 0 | E62: =SUM(E54:E61) -> 0 | F62: =SUM(F54:F61) -> 0 | G62: =SUM(G54:G61) -> 0 | H62: =SUM(H54:H61) -> 0 | I62: =SUM(I54:I61) -> 0
A63: 48 | B63: Költségvetési kiadások | C63: K1-K8 | D63: =SUM(E63:I63) -> 1083373 | E63: =E8+E9+E10+E19+E40+E48+E53+E62 -> 558119 | F63: =F8+F9+F10+F19+F40+F48+F53+F62 -> 157223 | G63: =G8+G9+G10+G19+G40+G48+G53+G62 -> 204343 | H63: =H8+H9+H10+H19+H40+H48+H53+H62 -> 133015 | I63: =I8+I9+I10+I19+I40+I48+I53+I62 -> 30673
A64: 49 | B64: Hitel-, kölcsöntörlesztés államháztartáson kívülre | C64: K911 | D64: =SUM(E64:I64) -> 0
A65: 50 | B65: Belföldi értékpapírok kiadásai | C65: K912 | D65: =SUM(E65:I65) -> 0
A66: 51 | B66: Államháztartáson belüli megelőlegezések folyósítása | C66: K913 | D66: =SUM(E66:I66) -> 0
A67: 52 | B67: Államháztartáson belüli megelőlegezések visszafizetése | C67: K914 | D67: =SUM(E67:I67) -> 11782 | E67: 11782
A68: 53 | B68: Központi, irányító szervi támogatások folyósítása | C68: K915 | D68: =SUM(E68:I68) -> 428788 | E68: 428788
A69: 54 | B69: Pénzeszközök betétként elhelyezése | C69: K916 | D69: =SUM(E69:I69) -> 0
A70: 55 | B70: Pénzügyi lízing kiadásai | C70: K917 | D70: =SUM(E70:I70) -> 0
A71: 56 | B71: Központi költségvetés sajátos finanszírozási kiadásai | C71: K918 | D71: =SUM(E71:I71) -> 0
A72: 57 | B72: Belföldi finanszírozás kiadásai | C72: K91 | D72: =SUM(E72:I72) -> 440570 | E72: =SUM(E64:E71) -> 440570 | F72: =SUM(F64:F71) -> 0 | G72: =SUM(G64:G71) -> 0 | H72: =SUM(H64:H71) -> 0 | I72: =SUM(I64:I71) -> 0
A73: 58 | B73: Külföldi finanszírozás kiadásai | C73: K92 | D73: =SUM(E73:I73) -> 0
A74: 59 | B74: Finanszírozási kiadások | C74: K9 | D74: =SUM(E74:I74) -> 440570 | E74: =SUM(E72:E73) -> 440570 | F74: =SUM(F72:F73) -> 0 | G74: =SUM(G72:G73) -> 0 | H74: =SUM(H72:H73) -> 0 | I74: =SUM(I72:I73) -> 0
A75: 60 | B75: Összes kiadás | D75: =SUM(E75:I75) -> 1523943 | E75: =E63+E74 -> 998689 | F75: =F63+F74 -> 157223 | G75: =G63+G74 -> 204343 | H75: =H63+H74 -> 133015 | I75: =I63+I74 -> 30673

Sheet 13. mell
C1: Berhida Város Önkormányzatának
C2: 2017. Évi költségvetéséhez | G2: 13. melléklet
C3: ELŐIRÁNYZAT FELHASZNÁLÁSI ÜTEMTERV | G3: a 2/2017. (II.24.) önkormányzati rendelethez
G4: adatok Ft-ban
A6: 1 | B6: MEGNEVEZÉS | C6: Összesen | D6: január | E6: február | F6: március | G6: április | H6: május | I6: június | J6: július | K6: augusztus | L6: szeptember | M6: október | N6: november | O6: december | P6: Ellenőrző sor
A7: 2 | B7: Személyi juttatások | C7: ='[1]18'!C6 -> 361781862 | D7: =C7/12 -> 30148488 | E7: =C7/12 -> 30148488 | F7: =C7/12 -> 30148488 | G7: =C7/12 -> 30148488 | H7: =C7/12 -> 30148488 | I7: =C7/12 -> 30148488 | J7: =C7/12 -> 30148488 | K7: =C7/12 -> 30148488 | L7: =C7/12 -> 30148488 | M7: =C7/12 -> 30148488 | N7: =C7/12 -> 30148488 | O7: =C7/12 -> 30148488 | P7: =SUM(D7:O7) -> 361781862
A8: 3 | B8: Munkaadókat terhelő járulékok és szociális hozzájárulási adó, | C8: ='[1]18'!C7 -> 78877589 | D8: =C8/12 -> 6573132.4 | E8: =C8/12 -> 6573132.4 | F8: =C8/12 -> 6573132.4 | G8: =C8/12 -> 6573132.4 | H8: =C8/12 -> 6573132.4 | I8: =C8/12 -> 6573132.4 | J8: =C8/12 -> 6573132.4 | K8: =C8/12 -> 6573132.4 | L8: =C8/12 -> 6573132.4 | M8: =C8/12 -> 6573132.4 | N8: =C8/12 -> 6573132.4 | O8: =C8/12 -> 6573132.4 | P8: =SUM(D8:O8) -> 78877589
A9: 4 | B9: Dologi kiadások | C9: ='[1]18'!C8 -> 239747771 | D9: =C9/12 -> 19978981 | E9: =C9/12 -> 19978981 | F9: =C9/12 -> 19978981 | G9: =C9/12 -> 19978981 | H9: =C9/12 -> 19978981 | I9: =C9/12 -> 19978981 | J9: =C9/12 -> 19978981 | K9: =C9/12 -> 19978981 | L9: =C9/12 -> 19978981 | M9: =C9/12 -> 19978981 | N9: =C9/12 -> 19978981 | O9: =C9/12 -> 19978981 | P9: =SUM(D9:O9) -> 2.3974777e+08
A10: 5 | B10: Ellátottak pénzbeli juttatásai | C10: ='[1]18'!C17 -> 12000000 | D10: =C10/12 -> 1000000 | E10: =C10/12 -> 1000000 | F10: =C10/12 -> 1000000 | G10: =C10/12 -> 1000000 | H10: =C10/12 -> 1000000 | I10: =C10/12 -> 1000000 | J10: =C10/12 -> 1000000 | K10: =C10/12 -> 1000000 | L10: =C10/12 -> 1000000 | M10: =C10/12 -> 1000000 | N10: =C10/12 -> 1000000 | O10: =C10/12 -> 1000000 | P10: =SUM(D10:O10) -> 12000000
A11: 7 | B11: Egyéb működési célú kiadások | C11: ='[1]18'!C26 -> 340116327 | D11: =C11/12 -> 28343027 | E11: =C11/12 -> 28343027 | F11: =C11/12 -> 28343027 | G11: =C11/12 -> 28343027 | H11: =C11/12 -> 28343027 | I11: =C11/12 -> 28343027 | J11: =C11/12 -> 28343027 | K11: =C11/12 -> 28343027 | L11: =C11/12 -> 28343027 | M11: =C11/12 -> 28343027 | N11: =C11/12 -> 28343027 | O11: =C11/12 -> 28343027 | P11: =SUM(D11:O11) -> 340116327
A12: 16 | B12: Beruházások | C12: ='[1]18'!C32 -> 37264772 | D12: =C12/12 -> 3105397.7 | E12: =C12/12 -> 3105397.7 | F12: =C12/12 -> 3105397.7 | G12: =C12/12 -> 3105397.7 | H12: =C12/12 -> 3105397.7 | I12: =C12/12 -> 3105397.7 | J12: =C12/12 -> 3105397.7 | K12: =C12/12 -> 3105397.7 | L12: =C12/12 -> 3105397.7 | M12: =C12/12 -> 3105397.7 | N12: =C12/12 -> 3105397.7 | O12: =C12/12 -> 3105397.7 | P12: =SUM(D12:O12) -> 37264772
A13: 17 | B13: Felújítások | C13: ='[1]18'!C37 -> 266970851 | D13: =C13/12 -> 22247571 | E13: =C13/12 -> 22247571 | F13: =C13/12 -> 22247571 | G13: =C13/12 -> 22247571 | H13: =C13/12 -> 22247571 | I13: =C13/12 -> 22247571 | J13: =C13/12 -> 22247571 | K13: =C13/12 -> 22247571 | L13: =C13/12 -> 22247571 | M13: =C13/12 -> 22247571 | N13: =C13/12 -> 22247571 | O13: =C13/12 -> 22247571 | P13: =SUM(D13:O13) -> 2.6697085e+08
A14: 19 | B14: Egyéb felhalmozási célú támogatások | C14: ='[1]18'!C42 -> 1500000 | I14: 1500000 | P14: =SUM(D14:O14) -> 1500000
A15: 20 | B15: Költségvetési kiadások | C15: =SUM(C7:C14) -> 1338259172 | D15: =SUM(D7:D14) -> 1.113966e+08 | E15: =SUM(E7:E14) -> 1.113966e+08 | F15: =SUM(F7:F14) -> 1.113966e+08 | G15: =SUM(G7:G14) -> 1.113966e+08 | H15: =SUM(H7:H14) -> 1.113966e+08 | I15: =SUM(I7:I14) -> 1.128966e+08 | J15: =SUM(J7:J14) -> 1.113966e+08 | ... O15: =SUM(O7:O14) -> 1.113966e+08 | P15: =SUM(D15:O15) -> 1338259172
A16: 27 | B16: Finanszírozási kiadások | C16: =C17+C18 -> 501815939 | D16: =D17+D18 -> 52299022 | E16: =E17+E18 -> 40865174 | F16: =F17+F18 -> 40865174 | G16: =G17+G18 -> 40865174 | H16: =H17+H18 -> 40865174 | I16: =I17+I18 -> 40865174 | J16: =J17+J18 -> 40865174 | ... O16: =O17+O18 -> 40865174 | P16: =SUM(D16:O16) -> 501815939
B17: ÁHT belüli megelőlegezések visszafiz | C17: ='[1]18'!C44 -> 11433848 | D17: 11433848
A18: 29 | B18: Irányító szervtől finansz támogatás | C18: ='[1]18'!C45 -> 490382091 | D18: =C18/12 -> 40865174 | E18: =C18/12 -> 40865174 | F18: =C18/12 -> 40865174 | G18: =C18/12 -> 40865174 | H18: =C18/12 -> 40865174 | I18: =C18/12 -> 40865174 | J18: =C18/12 -> 40865174 | K18: =C18/12 -> 40865174 | L18: =C18/12 -> 40865174 | M18: =C18/12 -> 40865174 | N18: =C18/12 -> 40865174 | O18: =C18/12 -> 40865174 | P18: =SUM(D18:O18) -> 490382091
A19: 30 | B19: KIADÁSOK ÖSSZESEN: | C19: =C15+C16 -> 1840075111 | D19: =D15+D16 -> 1.6369562e+08 | E19: =E15+E16 -> 1.5226177e+08 | F19: =F15+F16 -> 1.5226177e+08 | G19: =G15+G16 -> 1.5226177e+08 | H19: =H15+H16 -> 1.5226177e+08 | I19: =I15+I16 -> 1.5376177e+08 | J19: =J15+J16 -> 1.5226177e+08 | ... O19: =O15+O16 -> 1.5226177e+08 | P19: =SUM(D19:O19) -> 1.8400751e+09
A20: 33 | B20: Működési célú támogatások államháztartáson belül | C20: ='[1]17'!C18 -> 416277979 | D20: =C20/12 -> 34689832 | E20: =C20/12 -> 34689832 | F20: =C20/12 -> 34689832 | G20: =C20/12 -> 34689832 | H20: =C20/12 -> 34689832 | I20: =C20/12 -> 34689832 | J20: =C20/12 -> 34689832 | K20: =C20/12 -> 34689832 | L20: =C20/12 -> 34689832 | M20: =C20/12 -> 34689832 | N20: =C20/12 -> 34689832 | O20: =C20/12 -> 34689832 | P20: =SUM(D20:O20) -> 4.1627798e+08
A21: 34 | B21: Felhalmozási célú támogatások államháztartáson belülről | D21: =C21/12 -> 0 | E21: =C21/12 -> 0 | F21: =C21/12 -> 0 | G21: =C21/12 -> 0 | H21: =C21/12 -> 0 | I21: =C21/12 -> 0 | J21: =C21/12 -> 0 | K21: =C21/12 -> 0 | L21: =C21/12 -> 0 | M21: =C21/12 -> 0 | N21: =C21/12 -> 0 | O21: =C21/12 -> 0 | P21: =SUM(D21:O21) -> 0
A22: 35 | B22: Közhatalmi bevételek | C22: ='[1]17'!C36 -> 303204813 | D22: =C22/12 -> 25267068 | E22: =C22/12 -> 25267068 | F22: =C22/12 -> 25267068 | G22: =C22/12 -> 25267068 | H22: =C22/12 -> 25267068 | I22: =C22/12 -> 25267068 | J22: =C22/12 -> 25267068 | K22: =C22/12 -> 25267068 | L22: =C22/12 -> 25267068 | M22: =C22/12 -> 25267068 | N22: =C22/12 -> 25267068 | O22: =C22/12 -> 25267068 | P22: =SUM(D22:O22) -> 303204813
A23: 36 | B23: Működési bevételek | C23: ='[1]17'!C59 -> 38871587 | D23: =C23/12 -> 3239298.9 | E23: =C23/12 -> 3239298.9 | F23: =C23/12 -> 3239298.9 | G23: =C23/12 -> 3239298.9 | H23: =C23/12 -> 3239298.9 | I23: =C23/12 -> 3239298.9 | J23: =C23/12 -> 3239298.9 | K23: =C23/12 -> 3239298.9 | L23: =C23/12 -> 3239298.9 | M23: =C23/12 -> 3239298.9 | N23: =C23/12 -> 3239298.9 | O23: =C23/12 -> 3239298.9 | P23: =SUM(D23:O23) -> 38871587
A24: 37 | B24: Felhalmozási bevételek | C24: ='[1]17'!C61 -> 180000 | D24: =C24/12 -> 15000 | E24: =C24/12 -> 15000 | F24: =C24/12 -> 15000 | G24: =C24/12 -> 15000 | H24: =C24/12 -> 15000 | I24: =C24/12 -> 15000 | J24: =C24/12 -> 15000 | K24: =C24/12 -> 15000 | L24: =C24/12 -> 15000 | M24: =C24/12 -> 15000 | N24: =C24/12 -> 15000 | O24: =C24/12 -> 15000 | P24: =SUM(D24:O24) -> 180000
B25: Működési célú átvett pénzeszközök | D25: =C25/12 -> 0 | E25: =C25/12 -> 0 | F25: =C25/12 -> 0 | G25: =C25/12 -> 0 | H25: =C25/12 -> 0 | I25: =C25/12 -> 0 | J25: =C25/12 -> 0 | K25: =C25/12 -> 0 | L25: =C25/12 -> 0 | M25: =C25/12 -> 0 | N25: =C25/12 -> 0 | O25: =C25/12 -> 0 | P25: =SUM(D25:O25) -> 0
A26: 38 | B26: Felhalmozási célú átvett pénzeszközök | C26: ='[1]17'!C65 -> 435500 | D26: =C26/12 -> 36291.667 | E26: =C26/12 -> 36291.667 | F26: =C26/12 -> 36291.667 | G26: =C26/12 -> 36291.667 | H26: =C26/12 -> 36291.667 | I26: =C26/12 -> 36291.667 | J26: =C26/12 -> 36291.667 | K26: =C26/12 -> 36291.667 | L26: =C26/12 -> 36291.667 | M26: =C26/12 -> 36291.667 | N26: =C26/12 -> 36291.667 | O26: =C26/12 -> 36291.667 | P26: =SUM(D26:O26) -> 435500
A27: 39 | B27: Költségvetési bevételek | C27: =SUM(C20:C26) -> 758969879 | D27: =SUM(D20:D26) -> 63247490 | E27: =SUM(E20:E26) -> 63247490 | F27: =SUM(F20:F26) -> 63247490 | G27: =SUM(G20:G26) -> 63247490 | H27: =SUM(H20:H26) -> 63247490 | I27: =SUM(I20:I26) -> 63247490 | J27: =SUM(J20:J26) -> 63247490 | ... O27: =SUM(O20:O26) -> 63247490 | P27: =SUM(D27:O27) -> 7.5896988e+08
A28: 55 | B28: Finanszírozási bevételek | C28: =SUM(C29:C30) -> 1081105232 | D28: =SUM(D29:D30) -> 90092103 | E28: =SUM(E29:E30) -> 90092103 | F28: =SUM(F29:F30) -> 90092103 | G28: =SUM(G29:G30) -> 90092103 | H28: =SUM(H29:H30) -> 90092103 | I28: =SUM(I29:I30) -> 90092103 | J28: =SUM(J29:J30) -> 90092103 | ... O28: =SUM(O29:O30) -> 90092103 | P28: =SUM(D28:O28) -> 1.0811052e+09
B29: Költségvetési maradvány igénybevétele | C29: ='[1]17'!C67 -> 590723141 | D29: =C29/12 -> 49226928 | E29: =C29/12 -> 49226928 | F29: =C29/12 -> 49226928 | G29: =C29/12 -> 49226928 | H29: =C29/12 -> 49226928 | I29: =C29/12 -> 49226928 | J29: =C29/12 -> 49226928 | K29: =C29/12 -> 49226928 | L29: =C29/12 -> 49226928 | M29: =C29/12 -> 49226928 | N29: =C29/12 -> 49226928 | O29: =C29/12 -> 49226928 | P29: =SUM(D29:O29) -> 590723141
A30: 56 | B30: Irányító szervtől finansz támogatás | C30: ='[1]17'!C69 -> 490382091 | D30: =C30/12 -> 40865174 | E30: =C30/12 -> 40865174 | F30: =C30/12 -> 40865174 | G30: =C30/12 -> 40865174 | H30: =C30/12 -> 40865174 | I30: =C30/12 -> 40865174 | J30: =C30/12 -> 40865174 | K30: =C30/12 -> 40865174 | L30: =C30/12 -> 40865174 | M30: =C30/12 -> 40865174 | N30: =C30/12 -> 40865174 | O30: =C30/12 -> 40865174 | P30: =SUM(D30:O30) -> 490382091
A31: 58 | B31: BEVÉTELEK ÖSSZESEN: | C31: =C27+C28 -> 1840075111 | D31: =D27+D28 -> 1.5333959e+08 | E31: =E27+E28 -> 1.5333959e+08 | F31: =F27+F28 -> 1.5333959e+08 | G31: =G27+G28 -> 1.5333959e+08 | H31: =H27+H28 -> 1.5333959e+08 | I31: =I27+I28 -> 1.5333959e+08 | J31: =J27+J28 -> 1.5333959e+08 | ... O31: =O27+O28 -> 1.5333959e+08 | P31: =SUM(D31:O31) -> 1.8400751e+09

Sheet Munka1

Sheet 14 mell
B1: Berhida Város Önkormányzatának | C1: 14. melléklet
B2: 2017. Évi költségvetéséhez | C2: a 2/2017. (II. 24 .) önkormányzati rendelethez
C3: adatok ezer Ft-ban
A4: Az Önkormányzat és az önkormányzati költségvetési szervek európai uniós forrásból megvalósítás alatt lévő projektjei
A6: A | B6: B | C6: C | D6: D | E6: E | F6: F
A7: Sorsz | B7: Uniós projekt megnevezése | C7: Uniós támogatás | D7: Önkormányzati forrás | E7: Összes bevétel | F7: Kiadás
A8: 1. | E8: =C8+D8 -> 0
A9: 2. | E9: =C9+D9 -> 0
A10: 3. | E10: =C10+D10 -> 0
A11: 4. | E11: =C11+D11 -> 0
A12: 5. | E12: =C12+D12 -> 0
A13: 27. | B13: Összesen: | C13: =SUM(C8:C12) -> 0 | D13: =SUM(D8:D12) -> 0 | E13: =SUM(E8:E12) -> 0 | F13: =SUM(F8:F12) -> 0
