Workbook

Sheet 1
A1: Berhida Város Önkormányzata | E1: 1. melléklet a 1/2020.(II.28.) rendelethez
A2: állami támogatások részletezése | E2: 1/a. melléklet a 2/2019.(III.1.) rendelethez
D3: 2018 | H3: 2019 | M3: 2019
B4: IPA alap | E4: 9437151820 | G4: IPA alap | J4: 9578698183 | L4: IPA alap | O4: 9578698183
B5: elvonás | C5: 0,55 %-nak | E5: =E4*0.0055 -> 51904335 | G5: elvonás | H5: 0,55 %-nak | J5: =J4*0.0055 -> 52682840 | L5: elvonás | M5: 0,55 %-nak | O5: =O4*0.0055 -> 52682840
A6: 2019. évi költségvetés | C6: =E6/E5 -> 0.75 | E6: 38928251 | H6: =J6/J5 -> 0.52116317 | J6: 27456356 | M6: =O6/O5 -> 0.52116317 | O6: 27456356
B7: 1 lakosra jutó adóerőképesség | E7: =E4*0.014/C8 -> 22156.654 | G7: 1 lakosra jutó adóerőképesség | J7: =J4*0.014/H8 -> 22455.086 | L7: 1 lakosra jutó adóerőképesség | O7: =O4*0.014/M8 -> 22455.086
C8: 5963 | D8: fő | E8: beszámítás | F8: 2018 tényl | H8: 5972 | I8: fő | J8: beszámítás | K8: 2019 tényl | M8: 5972 | N8: fő | O8: beszámítás | P8: 2019 tényl
D9: Forint | H9: Forint | K9: Módosított összesen | M9: Forint | P9: Módosított összesen
A10: Önkormányzatok működési támogatásai | D10: =D11+D22+D32+D50+D55 -> 4.1503305e+08 | E10: =E11+E22+E32+E50+E55 -> -59421251 | F10: =F11+F22+F32+F50+F55 -> 3.556118e+08 | I10: =I11+I22+I32+I50+I55+I58 -> 440977987 | J10: =J11+J22+J32+J50+J55+J58 -> -27456356 | K10: =K11+K22+K32+K50+K55+K58 -> 413521631 | N10: =N11+N22+N32+N50+N55+N58 -> 4.4161855e+08 | O10: =O11+O22+O32+O50+O55+O58 -> -27456356 | P10: =P11+P22+P32+P50+P55+P58 -> 4.1416219e+08 | Q10: =Q11+Q22+Q32+Q50+Q55+Q58 -> 279993.33
A11: 1.)Helyi önkormányzatok működésének általános támogatása | D11: =SUM(D12:D21) -> 147447989 | E11: =SUM(E12:E21) -> -38928251 | F11: =SUM(F12:F21) -> 108519738 | I11: =SUM(I12:I21) -> 152388418 | J11: =SUM(J12:J21) -> -27456356 | K11: =SUM(K12:K21) -> 1.2493206e+08 | N11: =SUM(N12:N21) -> 152461089 | O11: =SUM(O12:O21) -> -27456356 | P11: =SUM(P12:P21) -> 1.2500473e+08 | Q11: =P11-K11 -> 72671
A12: Önkormányzati hivatal működésének támogatása | B12: 4580000 | C12: 22.14 | D12: =B12*C12 -> 101401200 | F12: =D12+E12 -> 101401200 | G12: 4580000 | H12: 22.17 | I12: =G12*H12 -> 1.015386e+08 | K12: =I12+J12 -> 1.015386e+08 | L12: 4580000 | M12: 22.17 | N12: =L12*M12 -> 1.015386e+08 | P12: =N12+O12 -> 1.015386e+08 | Q12: =P12-K12 -> 0
A13: Település üzemeltetés: zöldterület-gazdálkodás | B13: 22300 | C13: 402 | D13: 8984670 | E13: =-D13 -> -8984670 | F13: =D13+E13 -> 0 | G13: 22300 | H13: 402 | I13: 8984670 | J13: =-I13 -> -8984670 | K13: =I13+J13 -> 0 | L13: 22300 | M13: 402 | N13: 8984670 | O13: =-N13 -> -8984670 | P13: =N13+O13 -> 0 | Q13: =P13-K13 -> 0
A14: közvilágítás fenntartása | B14: 320000 | C14: 46.5 | D14: 9888000 | E14: =-D14 -> -9888000 | F14: =D14+E14 -> 0 | G14: 320000 | H14: 46.5 | I14: 9888000 | J14: -2140736 | K14: =I14+J14 -> 7747264 | L14: 320000 | M14: 46.5 | N14: 9888000 | O14: -2140736 | P14: =N14+O14 -> 7747264 | Q14: =P14-K14 -> 0
A15: köztemető fenntartással kapcs fel | B15: 69 | C15: 53051 | D15: =B15*C15 -> 3660519 | E15: =-D15 -> -3660519 | F15: =D15+E15 -> 0 | G15: 69 | H15: 53051 | I15: =G15*H15 -> 3660519 | K15: =I15+J15 -> 3660519 | L15: 69 | M15: 53051 | N15: =L15*M15 -> 3660519 | P15: =N15+O15 -> 3660519 | Q15: =P15-K15 -> 0
A16: közutak fenntartásának támog | B16: 227000 | C16: 24 | D16: =B16*C16 -> 5448000 | E16: -85862 | F16: =D16+E16 -> 5362138 | G16: 227000 | H16: 31.62 | I16: =G16*H16 -> 7177740 | K16: =I16+J16 -> 7177740 | L16: 227000 | M16: 31.62 | N16: =L16*M16 -> 7177740 | P16: =N16+O16 -> 7177740 | Q16: =P16-K16 -> 0
A17: Egyéb kötelező önkormányzati feladatok | B17: 2700 | C17: 5963 | D17: =B17*C17 -> 16100100 | E17: =-D17 -> -16100100 | F17: =D17+E17 -> 0 | G17: 2700 | H17: 5972 | I17: =G17*H17 -> 16124400 | J17: =-I17 -> -16124400 | K17: =I17+J17 -> 0 | L17: 2700 | M17: 5972 | N17: =L17*M17 -> 16124400 | O17: =-N17 -> -16124400 | P17: =N17+O17 -> 0 | Q17: =P17-K17 -> 0
A18: Lakott külterülettel kapcs feladatok | B18: 2550 | C18: 82 | D18: =B18*C18 -> 209100 | E18: =-D18 -> -209100 | F18: =D18+E18 -> 0 | G18: 2550 | H18: 81 | I18: =G18*H18 -> 206550 | J18: =-I18 -> -206550 | K18: =I18+J18 -> 0 | L18: 2550 | M18: 81 | N18: =L18*M18 -> 206550 | O18: =-N18 -> -206550 | P18: =N18+O18 -> 0 | Q18: =P18-K18 -> 0
A19: bérkompenzáció | F19: =D19+E19 -> 0 | I19: 244339 | K19: =I19+J19 -> 244339 | N19: 317010 | P19: =N19+O19 -> 317010 | Q19: =P19-K19 -> 72671
A20: minimál bér támogatás ált. műk. Feladat | G20: 130000 | H20: 22.17 | I20: 2882000 | K20: =I20+J20 -> 2882000 | L20: 130000 | M20: 22.17 | N20: 2882000 | P20: =N20+O20 -> 2882000 | Q20: =P20-K20 -> 0
A21: Polgármesterek illetményének támogatása | D21: 1756400 | F21: =D21+E21 -> 1756400 | I21: 1681600 | K21: =I21+J21 -> 1681600 | N21: 1681600 | P21: =N21+O21 -> 1681600 | Q21: =P21-K21 -> 0
A22: 2.)Települési önkorm. Egyes köznevelési feladatainak támoga | D22: =SUM(D23:D31) -> 1.4211607e+08 | E22: =SUM(E23:E31) -> 0 | F22: =SUM(F23:F31) -> 1.4211607e+08 | I22: =SUM(I23:I31) -> 149070733 | J22: =SUM(J23:J31) -> 0 | K22: =SUM(K23:K31) -> 149070733 | N22: =SUM(N23:N31) -> 1.4771401e+08 | O22: =SUM(O23:O31) -> 0 | P22: =SUM(P23:P31) -> 1.4771401e+08 | Q22: =SUM(Q23:Q31) -> -1356719.7
A23: óvodapedagógusok bértámogatása 8 hó | B23: 4419000 | C23: 20.4 | D23: =B23*C23*8/12 -> 60098400 | F23: =D23+E23 -> 60098400 | G23: 4371500 | H23: 20.6 | I23: =G23*H23*8/12 -> 60035267 | K23: =I23+J23 -> 60035267 | L23: 4371500 | M23: 20.6 | N23: =L23*M23*8/12 -> 60035267 | P23: =N23+O23 -> 60035267 | Q23: =P23-K23 -> 0
A24: óvodaped munkáját közvetlenül segítők bértámogatása 8 hó | B24: 2205000 | C24: 13 | D24: =B24*C24/12*8 -> 19110000 | F24: =D24+E24 -> 19110000 | G24: 2205000 | H24: 14 | I24: =G24*H24/12*8 -> 20580000 | K24: =I24+J24 -> 20580000 | L24: 2205000 | M24: 13.9 | N24: =L24*M24/12*8 -> 20433000 | P24: =N24+O24 -> 20433000 | Q24: =P24-K24 -> -147000
A25: óvodapedagógusok bértámogatása 4 hó | B25: 4419000 | C25: 20.2 | D25: =B25*C25*4/12 -> 29754600 | F25: =D25+E25 -> 29754600 | G25: 4371500 | H25: 20.6 | I25: =G25*H25*4/12 -> 30017633 | K25: =I25+J25 -> 30017633 | L25: 4371500 | M25: 20 | N25: =L25*M25*4/12 -> 29143333 | P25: =N25+O25 -> 29143333 | Q25: =P25-K25 -> -874300
A26: óvodaped munkáját közvetlenül segítők bértámogatása 4 hó | B26: 2205000 | C26: 13 | D26: =B26*C26/12*4 -> 9555000 | F26: =D26+E26 -> 9555000 | G26: 2205000 | H26: 14 | I26: =G26*H26/12*4 -> 10290000 | K26: =I26+J26 -> 10290000 | L26: 2205000 | M26: 14 | N26: =L26*M26/12*4 -> 10290000 | P26: =N26+O26 -> 10290000 | Q26: =P26-K26 -> 0
A27: Óvoda működtetési támogatás 8 hó | B27: 81700 | C27: 219 | D27: =B27*C27*8/12 -> 11928200 | F27: =D27+E27 -> 11928200 | G27: 97400 | H27: 222 | I27: =G27*H27*8/12 -> 14415200 | K27: =I27+J27 -> 14415200 | L27: 97400 | M27: 222 | N27: =L27*M27*8/12 -> 14415200 | P27: =N27+O27 -> 14415200 | Q27: =P27-K27 -> 0
A28: Óvoda működtetési támogatás 4 hó | B28: 81700 | C28: 218 | D28: =B28*C28*4/12 -> 5936866.7 | F28: =D28+E28 -> 5936866.7 | G28: 97400 | H28: 221 | I28: 7175133 | K28: =I28+J28 -> 7175133 | L28: 97400 | M28: 218 | N28: =L28*M28*4/12 -> 7077733.3 | P28: =N28+O28 -> 7077733.3 | Q28: =P28-K28 -> -97399.667
A29: Kieg tám. Óv pedag minősítéséhez II. kategóriába sorolt | B29: 401000 | C29: 7 | D29: =B29*C29 -> 2807000 | F29: =D29+E29 -> 2807000 | G29: 396700 | H29: 6 | I29: =G29*H29 -> 2380200 | K29: =I29+J29 -> 2380200 | L29: 396700 | M29: 5.4 | N29: =L29*M29 -> 2142180 | P29: =N29+O29 -> 2142180 | Q29: =P29-K29 -> -238020
A30: Mesterped kategóriába sorolt | B30: 1463000 | C30: 2 | D30: =B30*C30 -> 2926000 | F30: =D30+E30 -> 2926000 | G30: 1447300 | H30: 1 | I30: =G30*H30 -> 1447300 | K30: =I30+J30 -> 1447300 | L30: 1447300 | M30: 1 | N30: =L30*M30 -> 1447300 | P30: =N30+O30 -> 1447300 | Q30: =P30-K30 -> 0
A31: Minimálbér támogatás köznevelés | D31: =B31*C31 -> 0 | F31: =D31+E31 -> 0 | G31: 12300 | H31: 222 | I31: 2730000 | K31: =I31+J31 -> 2730000 | L31: 12300 | M31: 222 | N31: 2730000 | P31: =N31+O31 -> 2730000 | Q31: =P31-K31 -> 0
A32: 3.) Tel önk szociális, gyermekjóléti és gyermekétk fel tám | D32: =SUM(D34:D49) -> 118253769 | E32: =SUM(E34:E49) -> -20493000 | F32: =SUM(F34:F49) -> 97760769 | I32: =SUM(I34:I49) -> 117699699 | J32: =SUM(J34:J49) -> 0 | K32: =SUM(K34:K49) -> 117699699 | N32: =SUM(N34:N49) -> 118890966 | O32: =SUM(O34:O49) -> 0 | P32: =SUM(P34:P49) -> 118890966 | Q32: =SUM(Q34:Q49) -> 1191267
Q33: =P33-K33 -> 0
A34: gyermekétkeztetés szempontjából elismert dolgozók bértámog | B34: 1900000 | C34: 11.1 | D34: =B34*C34 -> 21090000 | F34: =D34+E34 -> 21090000 | G34: 1900000 | H34: 11.18 | I34: =G34*H34 -> 21242000 | K34: =I34+J34 -> 21242000 | L34: 1900000 | M34: 11.54 | N34: =L34*M34 -> 21926000 | P34: =N34+O34 -> 21926000 | Q34: =P34-K34 -> 684000
A35: gyermekétkeztetés üzemeltetési támogatása | D35: 34323860 | F35: =D35+E35 -> 34323860 | I35: 37497698 | K35: =I35+J35 -> 37497698 | N35: 37991775 | P35: =N35+O35 -> 37991775 | Q35: =P35-K35 -> 494077
A36: szünidei gyermekétkeztetés | B36: 513 | C36: 5637 | D36: =B36*C36 -> 2891781 | F36: =D36+E36 -> 2891781 | G36: 513 | H36: 6384 | I36: =G36*H36 -> 3274992 | K36: =I36+J36 -> 3274992 | L36: 513 | M36: 3274 | N36: =L36*M36 -> 1679562 | P36: =N36+O36 -> 1679562 | Q36: =P36-K36 -> -1595430
A37: Hozzájárulás pénzbeli szociális ellátásokhoz | D37: =F37*2 -> 40986000 | E37: -20493000 | F37: 20493000 | I37: 28785793 | K37: =I37+J37 -> 28785793 | N37: 28785793 | P37: =N37+O37 -> 28785793 | Q37: =P37-K37 -> 0
A38: Bölcsődei ellátás bértámogatás | B38: 2993000 | C38: 3 | D38: =B38*C38 -> 8979000 | F38: =D38+E38 -> 8979000 | G38: 2993000 | H38: 3 | I38: =G38*H38 -> 8979000 | K38: =I38+J38 -> 8979000 | L38: 2993000 | M38: 3 | N38: =L38*M38 -> 8979000 | P38: =N38+O38 -> 8979000 | Q38: =P38-K38 -> 0
A39: Bölcsődei működtetési tám | D39: 1770000 | F39: =D39+E39 -> 1770000 | I39: 1611000 | K39: =I39+J39 -> 1611000 | N39: 1916000 | P39: =N39+O39 -> 1916000 | Q39: =P39-K39 -> 305000
A40: Családsegítés és gyermekjóléti szolgáltatás B: 5972 Vi: 683 = 6655 fő | B40: 3400000 | D40: 4420000 | F40: =D40+E40 -> 4420000 | G40: 3400000 | I40: 4420000 | K40: =I40+J40 -> 4420000 | L40: 3400000 | N40: 4420000 | P40: =N40+O40 -> 4420000 | Q40: =P40-K40 -> 0
...

Sheet 2
B1: Berhida Város Önkormányzata | F1: 2. melléklet a 1/2020.(II.28.) rendelethez
B2: 2019. évi költségvetés | F2: 1/c. melléklet a 2/2019.(III.1.) rendelethez
F3: Ft-ban
C4: BEVÉTELEK
A5: Sor- szám | B5: Rovat megnevezése | C5: Mód előirányzat összesen | D5: Önkormányzat | E5: Közös Hivatal | F5: TESZ | G5: Kultúrház | H5: Süni
A6: 1 | B6: Helyi önkormányzatok működésének általános támogatása (B1111) | C6: =SUM(D6:H6) -> 125004733 | D6: 125004733
A7: 2 | B7: Települési önkormányzatok egyes köznevelési feladatainak támogatása (B112) | C7: =SUM(D7:H7) -> 147714013 | D7: 147714013
A8: 3 | B8: Települési önkormányzatok szociális, gyermekjóléti és gyermekétkeztetési feladatainak támogatása (B113) | C8: =SUM(D8:H8) -> 118890966 | D8: 118890966
A9: 4 | B9: Települési önkormányzatok kulturális feladatainak támogatása (B114) | C9: =SUM(D9:H9) -> 9055012 | D9: 9055012
A10: 5 | B10: Működési célú költségvetési támogatások és kiegészítő támogatások (B115) | C10: =SUM(D10:H10) -> 13136900 | D10: 13136900
A11: 6 | B11: Elszámolásból származó bevételek (B116) | C11: =SUM(D11:H11) -> 0
A12: 7 | B12: Önkormányzatok működési támogatásai (B11) | C12: =SUM(D12:H12) -> 413801624 | D12: =SUM(D6:D11) -> 413801624 | E12: =SUM(E6:E11) -> 0 | F12: =SUM(F6:F11) -> 0 | G12: =SUM(G6:G11) -> 0 | H12: =SUM(H6:H11) -> 0
A13: 8 | B13: Elvonások és befizetések bevételei B12 | C13: =SUM(D13:H13) -> 360567 | D13: 360567
A14: 9 | B14: Egyéb működési célú támogatások bevételei államháztartáson belülről (B16) | C14: =SUM(D14:H14) -> 300818519 | D14: =SUM(D15:D19) -> 252005839 | E14: =SUM(E15:E19) -> 4554514 | F14: =SUM(F15:F19) -> 43932388 | G14: =SUM(G15:G19) -> 325778 | H14: =SUM(H15:H19) -> 0
A15: 10 | B15: ebből: egyéb központi kezelésű előirányzatok (B1612 | C15: =SUM(D15:H15) -> 9542684 | D15: 4988170 | E15: 4554514
A16: 11 | B16: ebből: fejezeti kezelésű EU B16 | C16: =SUM(D16:H16) -> 215309993 | D16: 214984215 | G16: 325778
A17: 12 | B17: ebből: társadalombiztosítás pénzügyi alapjai (B1614 | C17: =SUM(D17:H17) -> 31868400 | D17: 31868400
A18: 13 | B18: ebből: elkülönített állami pénzal (B1615 | C18: =SUM(D18:H18) -> 43932388 | F18: 43932388
A19: 14 | B19: ebből: önkormányzat és kv-i szerveik (B 1616 | C19: =SUM(D19:H19) -> 165054 | D19: 165054
A20: 15 | B20: Működési célú támogatások államháztartáson belülről (B1) | C20: =SUM(D20:H20) -> 714980710 | D20: =D12+D13+D14 -> 666168030 | E20: =E12+E14 -> 4554514 | F20: =F12+F14 -> 43932388 | G20: =G12+G14 -> 325778 | H20: =H12+H14 -> 0
A21: 16 | B21: Felhalmozási célú önkormányzati támogatások (B21) | C21: =SUM(D21:H21) -> 42912000 | D21: =D22 -> 42912000 | E21: =E22 -> 0 | F21: =F22 -> 0 | G21: =G22 -> 0 | H21: =H22 -> 0
A22: 17 | B22: ebből: egyéb központi felhalmozási c tám B 2119 | C22: =SUM(D22:H22) -> 42912000 | D22: 42912000
A23: 18 | B23: Egyéb felhalmozási célú tám áht belülről B 25 | C23: =SUM(D23:H23) -> 445980415 | D23: =SUM(D24:D27) -> 445980415 | E23: =SUM(E24:E27) -> 0 | F23: =SUM(F24:F27) -> 0 | G23: =SUM(G24:G27) -> 0 | H23: =SUM(H24:H27) -> 0
A24: 19 | B24: ebből egyéb központi fc tám (B2512 | C24: =SUM(D24:H24) -> 0
A25: 20 | B25: ebből: egyéb fejezeti kez EU fc (B25 | C25: =SUM(D25:H25) -> 445980415 | D25: 445980415
A26: 21 | B26: ebből: elkülönített állami pénzal fc (B2515 | C26: =SUM(D26:H26) -> 0
A27: 22 | B27: ebből: önkorm és kv-i szervek fc tám (B2516 | C27: =SUM(D27:H27) -> 0
A28: 23 | B28: Felhalmozási célú támogatások államháztartáson belülről (B2) | C28: =SUM(D28:H28) -> 488892415 | D28: =D21+D23 -> 488892415 | E28: =E21+E23 -> 0 | F28: =F21+F23 -> 0 | G28: =G21+G23 -> 0 | H28: =H21+H23 -> 0
A29: 24 | B29: Vagyoni tipusú adók (B34) | C29: =SUM(D29:H29) -> 108243000 | D29: =SUM(D30:D31) -> 108243000 | E29: =SUM(E30:E31) -> 0 | F29: =SUM(F30:F31) -> 0 | G29: =SUM(G30:G31) -> 0 | H29: =SUM(H30:H31) -> 0
A30: 25 | B30: ebből: építményadó (B34111) | C30: =SUM(D30:H30) -> 108243000 | D30: 108243000
A31: 26 | B31: ebből: magánszemélyek kommunális adója (B34114) | C31: =SUM(D31:H31) -> 0
A32: 27 | B32: Értékesítési és forgalmi adók iparűzési adó (B351121) | C32: =SUM(D32:H32) -> 225000000 | D32: 225000000
A33: 28 | B33: Gépjárműadó (B3541) | C33: =SUM(D33:H33) -> 12257244 | D33: 12257244
A34: 29 | B34: Egyéb áruhasználati és szolgáltatási adók, környezetterh díj, talajterhelési díj (B355) | C34: =SUM(D34:H34) -> 0
A35: 30 | B35: Termékek és szolgáltatások adói (B35) | C35: =SUM(D35:H35) -> 237257244 | D35: =SUM(D32:D34) -> 237257244 | E35: =SUM(E32:E34) -> 0 | F35: =SUM(F32:F34) -> 0 | G35: =SUM(G32:G34) -> 0 | H35: =SUM(H32:H34) -> 0
A36: 31 | B36: Egyéb közhatalmi bevételek (B36) | C36: =SUM(D36:H36) -> 400000 | D36: 400000 | E36: =SUM(E37:E38) -> 0 | F36: =SUM(F37:F38) -> 0 | G36: =SUM(G37:G38) -> 0 | H36: =SUM(H37:H38) -> 0
A37: 32 | B37: ebből: szabálysértési pénz- és helyszíni bírság és a közlekedési szabályszegések után kiszabott közigazgatási bírság helyi önkormányzatot megillető része (B361225 köv) | C37: =SUM(D37:H37) -> 50000 | D37: 50000
A38: 33 | B38: ebből: egyéb bírság (B361229 köv) | C38: =SUM(D38:H38) -> 350000 | D38: 350000
A39: 34 | B39: Közhatalmi bevételek (B3) | C39: =SUM(D39:H39) -> 345900244 | D39: =D29+D35+D36 -> 345900244 | E39: =E29+E35+E36 -> 0 | F39: =F29+F35+F36 -> 0 | G39: =G29+G35+G36 -> 0 | H39: =H29+H35+H36 -> 0
A40: 35 | B40: Készlet értékesítés előirányzata B 40111 | C40: =SUM(D40:H40) -> 0
...

Sheet 3
B1: Berhida Város Önkormányzata | C1: 3. melléklet a 1/2020.(II.28.) rendelethez
B2: 2019. évi költségvetés | C2: 2/b. melléklet a 2/2019.(III.1.) rendelethez
B3: Kiadások | C3: adatok Ft-ban
A5: Beruházások | C5: Eredeti előir | D5: Mód előir. | E5: változás | F5: Mód előir.
A6: 1 | B6: TESZ informatikai eszközök+áfa | C6: 25400 | D6: 65400 | F6: =D6+E6 -> 65400
A7: 2 | B7: TESZ egyéb gép- berendezés+áfa | C7: 2895600 | D7: 4491600 | F7: =D7+E7 -> 4491600
A8: 3 | B8: Kultúrház egyéb tárgyi eszköz beszerzés (világító testek,kuka) | C8: 508000 | D8: 959810 | F8: =D8+E8 -> 959810
A9: 4 | B9: Kultúrház éven túli könyvbeszerzés | C9: 660450 | D9: 897450 | F9: =D9+E9 -> 897450
A10: 5 | B10: Kultúrház immateriális javak beszerzése | C10: 7874 | D10: =C10 -> 7874 | F10: =D10+E10 -> 7874
A11: 6 | B11: Kultúrház 2019. évi érdekeltség növ, egyéb gép, berend | C11: 508000 | D11: 1880000 | F11: =D11+E11 -> 1880000
A12: 7 | B12: Kultúrház 2018. érdekeltségnöv pályázat egyéb gép, berend (színpad felsőgépészet) | C12: 7759700 | D12: =C12 -> 7759700 | F12: =D12+E12 -> 7759700
A13: 8 | B13: Kultúr kisértékű te. Csóri pályázat | C13: 927000 | D13: 963500 | F13: =D13+E13 -> 963500
A14: 9 | B14: Süni egyéb tárgyi eszköz + áfa | C14: 903097 | D14: 1002097 | F14: =D14+E14 -> 1002097
A15: 10 | B15: ÖH informatikai eszközök + áfa | C15: 1270000 | D15: =C15 -> 1270000 | F15: =D15+E15 -> 1270000
A16: 11 | B16: ÖH egyéb gép, berend + áfa | C16: 3810000 | D16: =C16 -> 3810000 | F16: =D16+E16 -> 3810000
A17: 12 | B17: ÖNK védőnői szolg. Egyéb eszközbeszerzés | C17: 508000 | D17: =C17 -> 508000 | F17: =D17+E17 -> 508000
A18: 13 | B18: ÖNK kerékpárút kialakítás TOP 3.1.1-16 pályázat | C18: 245954948 | D18: 285671242 | F18: =D18+E18 -> 285671242
A19: 14 | B19: ÖNK szennyvíz tisztítótelep, csatornahál fejl. KEHOP pályázat | C19: 776790555 | D19: =C19 -> 776790555 | F19: =D19+E19 -> 776790555
A20: 15 | B20: ÖNK tervek | C20: 2000000 | D20: 3000000 | F20: =D20+E20 -> 3000000
A21: 16 | B21: ÖNK 181/2 hrsz-ú közút közvilágítási hálózatra csatlakozás | C21: 762000 | D21: 1742000 | F21: =D21+E21 -> 1742000
A22: 17 | B22: ÖNK Kiskovácsi temető ravatalozó bővítés Korm. Hiv hatós. Előir | C22: 9635788 | D22: 9559877 | F22: =D22+E22 -> 9559877
A23: 18 | B23: ÖNK közvilágítás korszer | C23: 700000 | D23: 2235000 | F23: =D23+E23 -> 2235000
A24: 19 | B24: ÖNK urnahely temetkezési hely kialakítás | C24: 1500000 | D24: =C24 -> 1500000 | F24: =D24+E24 -> 1500000
A25: 20 | B25: ÖNK sportparkok kialakítása térburkolat | C25: 1955800 | D25: =C25 -> 1955800 | F25: =D25+E25 -> 1955800
A26: 21 | B26: ÖNK sportpark napelemes lámpa | C26: 210000 | D26: =C26 -> 210000 | F26: =D26+E26 -> 210000
A27: 22 | B27: ÖNK VP6-7.2.1.4.1.3-17 közétkeztetés fejl. Süni eszközfejl.pály. | C27: 18925488 | D27: =C27 -> 18925488 | F27: =D27+E27 -> 18925488
A28: 23 | B28: ÖNK Magyar Ifjúság-Liszt F. u. közötti járdához területvásárlás | D28: 400000 | F28: =D28+E28 -> 400000
A29: 24 | B29: ÖNK Bem u. sarka terület átvétel kapcsán kerítés építés | D29: 0 | F29: =D29+E29 -> 0
A30: 25 | B30: ÖNK védőnői szolg. informatikai eszközbeszerzés | D30: 60000 | F30: =D30+E30 -> 60000
A31: 26 | B31: ÖNK kamerák elhelyezése, cseréje | D31: 3000000 | F31: =D31+E31 -> 3000000
A32: 27 | B32: ÖNK buszmegálló beszerzés | D32: 1135000 | F32: =D32+E32 -> 1135000
A33: 28 | B33: ÖNK térburkolat Péti úti temetőben (urnafalnál) | D33: 800000 | F33: =D33+E33 -> 800000
A34: 29 | B34: ÖNK Süni ovifoci pálya pályázat kerítés | D34: 1200000 | F34: =D34+E34 -> 1200000
A35: 30 | B35: ÖNK rendezési terv, települési rendezési eszköz terv módosítás | D35: 1651000 | F35: =D35+E35 -> 1651000
A36: 31 | B36: Kultúr szakkörök kisértékű egyéb eszköz beszerz.+áfa (függöny,blúz Pere-Rúzs; Berhida TE ruha) | D36: 193190 | F36: =D36+E36 -> 193190
A37: 32 | B37: ÖNK rendezetlen ingatlanvásárlás | D37: 2200000 | F37: =D37+E37 -> 2200000
A38: 33 | B38: ÖNK Víziközmű Alap szennyvíz tisztító aknák felúj | D38: 0 | F38: =D38+E38 -> 0
A39: 34 | B39: Süni informatikai tárgyi eszköz + áfa | D39: 2000 | F39: =D39+E39 -> 2000
... A41: 36 | B41: ÖNK VP6-19.2.1.-7-2-17 közösségi együttműködést segítő fejl. Tám. Fittnesparkok | D41: 10224000 | F41: =D41+E41 -> 10224000
A42: 37 | B42: ÖNK viziközmű alapból 06/2 hrsz-ú ingatlan új víz és szennyvízbekötő vezeték megvalósítása | D42: 11722100 | E42: 66040 | F42: =D42+E42 -> 11788140
...

Sheet 4
B1: Berhida Város Önkormányzata | E1: 4. melléklet a 1/2020.(II.28.) rendelethez
B2: 2019. évi eredeti költségvetés | E2: 2/d. melléklet a 2/2019.(III.1.) rendelethez
C3: KIADÁSOK | E3: Ft-ban
A5: Sor- szám | B5: Rovat megnevezése | C5: Mód előirányzat összesen | D5: Önkormányzat | E5: Közös Hivatal | F5: TESZ | G5: Kultúrház | H5: Süni
A6: 27 | B6: Személyi juttatások (K1) | C6: =SUM(D6:H6) -> 430846783 | D6: 43198155 | E6: 156167809 | F6: 101956900 | G6: 29809443 | H6: 99714476
A7: 28 | B7: Munkaadókat terhelő járulékok és szociális hozzájárulási adó (K2) | C7: =SUM(D7:H7) -> 84121659 | D7: 9166575 | E7: 32624488 | F7: 15131912 | G7: 5907575 | H7: 21291109
A8: 87 | B8: Dologi kiadások (K3) | C8: =SUM(D8:H8) -> 500957516 | D8: 310430117 | E8: 36756385 | F8: 73265880 | G8: 37438265 | H8: 43066869
A9: 88 | B9: Családi támogatások (K42) | C9: =SUM(D9:H9) -> 3546500 | D9: =D10 -> 3546500 | E9: =E10 -> 0 | F9: =F10 -> 0 | G9: =G10 -> 0 | H9: =H10 -> 0
A10: 89 | B10: ebből: az egyéb pénzbeli és természetbeni gyermekvédelmi támogatások (K42132) | C10: =SUM(D10:H10) -> 3546500 | D10: 3546500
A11: 90 | B11: Intézményi ellátottak pénzbeli juttatásai (K47) | C11: =SUM(D11:H11) -> 800000 | D11: =D12 -> 800000 | E11: =E12 -> 0 | F11: =F12 -> 0 | G11: =G12 -> 0 | H11: =H12 -> 0
A12: 91 | B12: ebből: oktatásban résztvevők pénzbeli juttatásai (K471) | C12: =SUM(D12:H12) -> 800000 | D12: 800000
A13: 92 | B13: Egyéb nem intézményi ellátások (K48) | C13: =SUM(D13:H13) -> 9071998 | D13: =SUM(D14:D15) -> 9071998 | E13: =SUM(E14:E15) -> 0 | F13: =SUM(F14:F15) -> 0 | G13: =SUM(G14:G15) -> 0 | H13: =SUM(H14:H15) -> 0
A14: 93 | B14: ebből: köztemetés [Szoctv. 48.§] (K48123) | C14: =SUM(D14:H14) -> 1000000 | D14: 1000000
A15: 94 | B15: ebből: települési támogatás [Szoctv. 45. §], (K48122) | C15: =SUM(D15:H15) -> 8071998 | D15: 8071998
A16: 96 | B16: Ellátottak pénzbeli juttatásai (K4) | C16: =SUM(D16:H16) -> 13418498 | D16: =D9+D11+D13 -> 13418498 | E16: =E9+E11+E13 -> 0 | F16: =F9+F11+F13 -> 0 | G16: =G9+G11+G13 -> 0 | H16: =H9+H11+H13 -> 0
A17: 97 | B17: Elvonások és befizetések (K5023) | C17: =SUM(D17:H17) -> 0
A18: 98 | B18: Egyéb működési célú támogatások államháztartáson belülre (K506) | C18: =SUM(D18:H18) -> 198744843 | D18: =SUM(D19:D22) -> 198367411 | E18: =SUM(E19:E22) -> 0 | F18: =SUM(F19:F22) -> 227432 | G18: =SUM(G19:G22) -> 150000 | H18: =SUM(H19:H22) -> 0
A19: 99 | B19: ebből: egyéb központi kezelésű előir (K50612) | C19: =SUM(D19:H19) -> 4650000 | D19: 4500000 | G19: 150000
A20: 100 | B20: ebből: elkülönített állami pénzalap (K50615) | C20: =SUM(D20:H20) -> 227432 | F20: 227432
A21: 101 | B21: ebből: önkormányzatok és költségv-i szerveik K50616) | C21: =SUM(D21:H21) -> 0
A22: 102 | B22: ebből: társulások és költségvetési szerveik (K50617) | C22: =SUM(D22:H22) -> 193867411 | D22: 193867411
A23: 103 | B23: Egyéb működési célú támogatások államháztartáson kívülre (K512) | C23: =SUM(D23:H23) -> 23144398 | D23: 23144398
B24: Egyházi jogi személy egyé műk célú tám( K51216 | C24: =SUM(D24:H24) -> 0
A25: 104 | B25: Tartalékok (K51311) | C25: =SUM(D25:H25) -> 116989280 | D25: 116989280
A26: 105 | B26: Egyéb működési célú kiadások (K5) | C26: =SUM(D26:H26) -> 338878521 | D26: =D17+D18+D23+D24+D25 -> 338501089 | E26: =E17+E18+E23+E24+E25 -> 0 | F26: =F17+F18+F23+F24+F25 -> 227432 | G26: =G17+G18+G23+G24+G25 -> 150000 | H26: =H17+H18+H23+H24+H25 -> 0
A27: 106 | B27: Immateriális javak beszerzése, lét (K611) | C27: =SUM(D27:H27) -> 1306200 | D27: 1300000 | G27: 6200
A28: 107 | B28: Ingatlanok beszerzése, létesítése (K621) | C28: =SUM(D28:H28) -> 1034994748 | D28: 1034994748
A29: 108 | B29: Informatikai eszközök beszerzése, létesítése (K631) | C29: =SUM(D29:H29) -> 1119244 | D29: 47244 | E29: 1000000 | F29: 60000 | H29: 12000
A30: 109 | B30: Egyéb tárgyi eszközök beszerzése, létesítése (K641) | C30: =SUM(D30:H30) -> 42920262 | D30: 25342625 | E30: 3000000 | F30: 3528189 | G30: 10270820 | H30: 778628
A31: 110 | B31: Beruházási célú előzetesen felszámított általános forgalmi adó (K671) | C31: =SUM(D31:H31) -> 81568180 | D31: 76921396 | E31: 1080000 | F31: 968811 | G31: 2384504 | H31: 213469
A32: 111 | B32: Beruházások (K6) | C32: =SUM(D32:H32) -> 1161908634 | D32: =SUM(D27:D31) -> 1138606013 | E32: =SUM(E27:E31) -> 5080000 | F32: =SUM(F27:F31) -> 4557000 | G32: =SUM(G27:G31) -> 12661524 | H32: =SUM(H27:H31) -> 1004097
A33: 112 | B33: Ingatlanok felújítása (K711) | C33: =SUM(D33:H33) -> 161130971 | D33: 161130971
B34: Informatikai eszközök felújítása (K723) | C34: =SUM(D34:H34) -> 200000 | E34: 200000
A35: 113 | B35: Egyéb tárgyi eszközök felújítása (K731) | C35: =SUM(D35:H35) -> 1872126 | D35: 596063 | F35: 1276063
A36: 114 | B36: Felújítási célú előzetesen felszámított általános forgalmi adó (K741) | C36: =SUM(D36:H36) -> 44064835 | D36: 43666298 | E36: 54000 | F36: 344537
A37: 115 | B37: Felújítások (K7) | C37: =SUM(D37:H37) -> 207267932 | D37: =SUM(D33:D36) -> 205393332 | E37: =SUM(E33:E36) -> 254000 | F37: =SUM(F33:F36) -> 1620600 | G37: =SUM(G33:G36) -> 0 | H37: =SUM(H33:H36) -> 0
A38: 116 | B38: Egyéb felhalmozási célú támogatások államháztartáson belülre (K84) | C38: =SUM(D38:H38) -> 7516495 | D38: 7516495 | E38: =SUM(E39:E41) -> 0 | F38: =SUM(F39:F41) -> 0 | G38: =SUM(G39:G41) -> 0 | H38: =SUM(H39:H41) -> 0
A39: 119 | B39: Egyéb felhalmozási célú támogatás Áht-n kívülre (K89) | C39: =SUM(D39:H39) -> 17672517 | D39: =SUM(D40:D41) -> 17672517
A40: 118 | B40: ebből:önkormányzati többségi tulajdonú nem pénzügyi vállalkozások (K89122) | C40: =SUM(D40:H40) -> 8562517 | D40: 8562517
A41: 117 | B41: ebből: egyéb civil szervezeteknek | C41: =SUM(D41:H41) -> 9110000 | D41: 9110000
...

Sheet 5
C1: BERHIDA VÁROS ÖNKORMÁNYZATA | G1: 4. melléklet a 1/2020.(II.28.) rendelethez
D2: 2019.évi MÉRLEGTERV | G2: 4. melléklet a 2/2019.(III.1.) rendelethez
C3: a működési és felhalmozási célú bevételi és kiadási előirányzatokról | G3: adatok Ft-ban
B5: A | C5: B | D5: C | E5: D | F5: E | G5: F
A6: 1 | B6: BEVÉTELI TERV | E6: KIADÁSI TERV
A7: 2 | B7: I. | C7: Működési célú bevételi terv | E7: I. | F7: Működési célú kiadási terv
A8: 3 | B8: a.) | C8: Műk c támogatások áht belülről | D8: ='2'!C20 -> 714980710 | E8: a.) | F8: Személyi juttatások | G8: ='4'!C6 -> 430846783
A9: 4 | B9: b.) | C9: Közhatalmi bevételek | D9: ='2'!C39 -> 345900244 | E9: b.) | F9: Munkaadókat t járulékok | G9: ='4'!C7 -> 84121659
A10: 5 | B10: c.) | C10: Működési bevételek | D10: ='2'!C61 -> 43678546 | E10: c.) | F10: Dologi kiadások | G10: ='4'!C8 -> 500957516
A11: 6 | B11: d.) | C11: Működési átvett pénzeszközök | D11: ='2'!C66 -> 435000 | E11: d.) | F11: Ellátottak pénzbeli jutt | G11: ='4'!C16 -> 13418498
A12: 7 | B12: e.) | E12: e.) | F12: Egyéb műk c kiadások | G12: ='4'!C26 -> 338878521
A13: 8 | B13: f.) | E13: f.)
A14: 9 | E14: g.)
A15: 10
A16: 11 | C16: I. Bevételek: | D16: =SUM(D8:D15) -> 1104994500 | F16: I. Kiadások együtt: | G16: =SUM(G8:G14) -> 1368222977 | H16: =D16-G16 -> -263228477
A17: 12 | F17: Működési célú bevételek: | G17: =D16 -> 1104994500
A18: 13 | F18: Működési egyenleg: | G18: =G16-G17 -> 263228477
A19: 14
A20: 15 | B20: II. | C20: Felhalmozási célú bevételi terv | E20: II. | F20: Felhalmozási célú kiadások:
A21: 16 | B21: 1.) | C21: Felhalmozási c támog. Áht-n bel | D21: ='2'!C28 -> 488892415 | E21: 1.) | F21: Beruházások | G21: ='4'!C32 -> 1161908634
A22: 17 | B22: 2.) | C22: Felhalmozási bevételek | D22: ='2'!C64 -> 20900614 | E22: 2.) | F22: Felújítások | G22: ='4'!C37 -> 207267932
A23: 18 | B23: 3.) | C23: Egyéb felhalmozási c átvett pe | D23: ='2'!C70 -> 728000 | E23: 3.) | F23: Egyéb felhalm c kiadások | G23: ='4'!C42 -> 25189012
A24: 19 | B24: 4.) | E24: 4.)
A25: 20 | B25: 5.) | E25: 5.)
A26: 21 | B26: 6.)
A27: 22 | B27: 7.)
A28: 23 | B28: 8.)
A29: 24 | C29: II. Bevételek: | D29: =SUM(D21:D28) -> 510521029 | F29: II. Kiadások: | G29: =SUM(G21:G26) -> 1394365578 | H29: =D29-G29 -> -883844549
A30: 25 | F30: Felhalm.célú bevételek: | G30: =D29 -> 510521029
A31: 26 | F31: Felhalm. egyenleg: | G31: =G29-G30 -> 883844549
A32: 27
A33: 28 | C33: Bevételek összesen (I+II): | D33: =D16+D29 -> 1615515529 | F33: Kiadások összesen (I+II): | G33: =SUM(G16+G29) -> 2762588555 | H33: =D33-G33 -> -1147073026
C34: iránytószervi támogatás | D34: ='2'!C75 -> 555010950 | F34: iránítószervi támogatás | G34: ='4'!C45 -> 555010950 | H34: =D34+D35+D36+D37-G34-G37 -> 1147073026
C35: kötvény visszaváltás | D35: ='2'!C72 -> 60000000
C36: Áht megelőlegezés | D36: ='2'!C74 -> 35374483
C37: kv-i mararvány | D37: ='2'!C73 -> 1100474741 | F37: Áht megelőleg visszafiz | G37: ='4'!C44 -> 48776198
C38: Össz bevétel | D38: =SUM(D33:D37) -> 3366375703 | F38: Össz Kiadás | G38: =SUM(G33:G37) -> 3366375703

Sheet 6
C1: Berhida Város Önkormányzata
C2: ellátottak pénzbeli juttatásai | F2: 6. melléklet a 1/2020.(II.28.) rendelethez
C3: 2019 évi költségvetés | F3: 6. melléklet a 2/2019.(III.1.) rendelethez
F4: adatok Ft-ban
B5: A | C5: B | D5: C | E5: D | F5: E | G5: F
B6: Szociális jogcímek | C6: átruházott hatáskört gyakorló | E6: Képvis.test.jogk. | F6: Jegyzői jogk. | G6: Összes
C7: polgármester | D7: Humán Biz. | G7: előirányzat
A8: 1 | B8: Pénzbeli ellátások összesen | C8: =SUM(C9:C19) -> 3100000 | D8: =SUM(D9:D19) -> 7900000 | E8: =SUM(E9:E19) -> 800000 | F8: =SUM(F9:F20) -> 3546500 | G8: =SUM(G9:G20) -> 13418498
A9: 2 | B9: Települési támogatás
A10: 3 | B10: Nem intézményi ell. Ebből célonként
A11: 4 | B11: Gyermekvéd.támog. | D11: 600000 | G11: =SUM(C11:F11) -> 600000
A12: 5 | B12: Lakhatási támog | D12: 6300000 | G12: 4371998
A13: 6 | B13: Temetési segély | C13: 1500000 | G13: =SUM(C13:F13) -> 1500000
A14: 7 | B14: közgyógy ellátás helyi megáll | C14: 700000 | G14: =SUM(C14:F14) -> 700000
A15: 8 | B15: Átmeneti segély | D15: 1000000 | G15: =SUM(C15:F15) -> 1000000
A16: 9 | B16: Köztemetés | C16: 900000 | G16: =SUM(C16:F16) -> 900000
A17: 10 | B17: Intézményi ell., oktatásban részt vevők | G17: =SUM(C17:F17) -> 0
A18: 11 | B18: Arany János ösztöndíj | E18: 250000 | G18: =SUM(C18:F18) -> 250000
A19: 12 | B19: érettségire jelentkezők regisztrációs díja | E19: 550000 | G19: =SUM(C19:F19) -> 550000
B20: Gyermekvédelmi kedvezmény | F20: 3546500 | G20: =SUM(C20:F20) -> 3546500
B21: Dologi kiadás | G21: =SUM(G22:G23) -> 5996002
B22: Téli rezsicsökkentés pályázat | G22: 2544000
B23: szociális tüzifa juttatás | G23: 3452002
B24: Egyéb központi kezelésű tám
B25: Bursa hungarica felsőoktatási pály tám | G25: 3000000
B27: MMINDÖSSZESEN | G27: =G8+G21+G25 -> 22414500

Sheet 7
B1: Berhida Város Önkormányzata | F1: 7. melléklet a 1/2020.(II.28.) rendelethez
B2: 2019 évi költségvetés | F2: 9/a. melléklet a 2/2019.(III.1.) rendelethez
F3: Ft-ban
B4: KÖTELEZŐ FELADATOK | C4: BEVÉTELEK
A5: Sor- szám | B5: Rovat megnevezése | C5: Eredeti előirányzat összesen | D5: Önkormányzat | E5: Közös Hivatal | F5: TESZ | G5: Kultúrház | H5: Süni
A6: 1 | B6: Helyi önkormányzatok működésének általános támogatása (B1111) | C6: ='2'!C6-'8'!C6-'9'!C6 -> 125004733 | D6: ='2'!D6-'8'!D6-'9'!D6 -> 125004733 | E6: ='2'!E6-'8'!E6-'9'!E6 -> 0 | F6: ='2'!F6-'8'!F6-'9'!F6 -> 0 | G6: ='2'!G6-'8'!G6-'9'!G6 -> 0 | H6: ='2'!H6-'8'!H6-'9'!H6 -> 0
A7: 2 | B7: Települési önkormányzatok egyes köznevelési feladatainak támogatása (B112) | C7: ='2'!C7-'8'!C7-'9'!C7 -> 147714013 | D7: ='2'!D7-'8'!D7-'9'!D7 -> 147714013 | E7: ='2'!E7-'8'!E7-'9'!E7 -> 0 | F7: ='2'!F7-'8'!F7-'9'!F7 -> 0 | G7: ='2'!G7-'8'!G7-'9'!G7 -> 0 | H7: ='2'!H7-'8'!H7-'9'!H7 -> 0
A8: 3 | B8: Települési önkormányzatok szociális, gyermekjóléti és gyermekétkeztetési feladatainak támogatása (B113) | C8: ='2'!C8-'8'!C8-'9'!C8 -> 118890966 | D8: ='2'!D8-'8'!D8-'9'!D8 -> 118890966 | E8: ='2'!E8-'8'!E8-'9'!E8 -> 0 | F8: ='2'!F8-'8'!F8-'9'!F8 -> 0 | G8: ='2'!G8-'8'!G8-'9'!G8 -> 0 | H8: ='2'!H8-'8'!H8-'9'!H8 -> 0
A9: 4 | B9: Települési önkormányzatok kulturális feladatainak támogatása (B114) | C9: ='2'!C9-'8'!C9-'9'!C9 -> 9055012 | D9: ='2'!D9-'8'!D9-'9'!D9 -> 9055012 | E9: ='2'!E9-'8'!E9-'9'!E9 -> 0 | F9: ='2'!F9-'8'!F9-'9'!F9 -> 0 | G9: ='2'!G9-'8'!G9-'9'!G9 -> 0 | H9: ='2'!H9-'8'!H9-'9'!H9 -> 0
A10: 5 | B10: Működési célú költségvetési támogatások és kiegészítő támogatások (B115) | C10: ='2'!C10-'8'!C10-'9'!C10 -> 13136900 | D10: ='2'!D10-'8'!D10-'9'!D10 -> 13136900 | E10: ='2'!E10-'8'!E10-'9'!E10 -> 0 | F10: ='2'!F10-'8'!F10-'9'!F10 -> 0 | G10: ='2'!G10-'8'!G10-'9'!G10 -> 0 | H10: ='2'!H10-'8'!H10-'9'!H10 -> 0
A11: 6 | B11: Elszámolásból származó bevételek (B116) | C11: ='2'!C11-'8'!C11-'9'!C11 -> 0 | D11: ='2'!D11-'8'!D11-'9'!D11 -> 0 | E11: ='2'!E11-'8'!E11-'9'!E11 -> 0 | F11: ='2'!F11-'8'!F11-'9'!F11 -> 0 | G11: ='2'!G11-'8'!G11-'9'!G11 -> 0 | H11: ='2'!H11-'8'!H11-'9'!H11 -> 0
A12: 7 | B12: Önkormányzatok működési támogatásai (B11) | C12: ='2'!C12-'8'!C12-'9'!C12 -> 413801624 | D12: ='2'!D12-'8'!D12-'9'!D12 -> 413801624 | E12: ='2'!E12-'8'!E12-'9'!E12 -> 0 | F12: ='2'!F12-'8'!F12-'9'!F12 -> 0 | G12: ='2'!G12-'8'!G12-'9'!G12 -> 0 | H12: ='2'!H12-'8'!H12-'9'!H12 -> 0
A13: 8 | B13: Elvonások és befizetések bevételei B12 | C13: ='2'!C13-'8'!C13-'9'!C13 -> 360567 | D13: ='2'!D13-'8'!D13-'9'!D13 -> 360567 | E13: ='2'!E13-'8'!E13-'9'!E13 -> 0 | F13: ='2'!F13-'8'!F13-'9'!F13 -> 0 | G13: ='2'!G13-'8'!G13-'9'!G13 -> 0 | H13: ='2'!H13-'8'!H13-'9'!H13 -> 0
A14: 9 | B14: Egyéb működési célú támogatások bevételei államháztartáson belülről (B16) | C14: ='2'!C14-'8'!C14-'9'!C14 -> 300818519 | D14: ='2'!D14-'8'!D14-'9'!D14 -> 252005839 | E14: ='2'!E14-'8'!E14-'9'!E14 -> 4554514 | F14: ='2'!F14-'8'!F14-'9'!F14 -> 43932388 | G14: ='2'!G14-'8'!G14-'9'!G14 -> 325778 | H14: ='2'!H14-'8'!H14-'9'!H14 -> 0
A15: 10 | B15: ebből: egyéb központi kezelésű előirányzatok (B1612 | C15: ='2'!C15-'8'!C15-'9'!C15 -> 9542684 | D15: ='2'!D15-'8'!D15-'9'!D15 -> 4988170 | E15: ='2'!E15-'8'!E15-'9'!E15 -> 4554514 | F15: ='2'!F15-'8'!F15-'9'!F15 -> 0 | G15: ='2'!G15-'8'!G15-'9'!G15 -> 0 | H15: ='2'!H15-'8'!H15-'9'!H15 -> 0
A16: 11 | B16: ebből: fejezeti kezelésű EU B16 | C16: ='2'!C16-'8'!C16-'9'!C16 -> 215309993 | D16: ='2'!D16-'8'!D16-'9'!D16 -> 214984215 | E16: ='2'!E16-'8'!E16-'9'!E16 -> 0 | F16: ='2'!F16-'8'!F16-'9'!F16 -> 0 | G16: ='2'!G16-'8'!G16-'9'!G16 -> 325778 | H16: ='2'!H16-'8'!H16-'9'!H16 -> 0
A17: 12 | B17: ebből: társadalombiztosítás pénzügyi alapjai (B1614 | C17: ='2'!C17-'8'!C17-'9'!C17 -> 31868400 | D17: ='2'!D17-'8'!D17-'9'!D17 -> 31868400 | E17: ='2'!E17-'8'!E17-'9'!E17 -> 0 | F17: ='2'!F17-'8'!F17-'9'!F17 -> 0 | G17: ='2'!G17-'8'!G17-'9'!G17 -> 0 | H17: ='2'!H17-'8'!H17-'9'!H17 -> 0
... A78: 73 | B78: MINDÖSSZESEN: | C78: ='2'!C78-'8'!C78-'9'!C78 -> 3309961575 | D78: ='2'!D78-'8'!D78-'9'!D78 -> 2648001525 | E78: ='2'!E78-'8'!E78-'9'!E78 -> 222710643 | F78: ='2'!F78-'8'!F78-'9'!F78 -> 192256624 | G78: ='2'!G78-'8'!G78-'9'!G78 -> 81916232 | H78: ='2'!H78-'8'!H78-'9'!H78 -> 165076551
A79: 74 | B79: Személyi juttatások (K1) | C79: ='4'!C6-'8'!C79-'9'!C79 -> 421132487 | D79: ='4'!D6-'8'!D79-'9'!D79 -> 43198155 | E79: ='4'!E6-'8'!E79-'9'!E79 -> 149366613 | F79: ='4'!F6-'8'!F79-'9'!F79 -> 101956900 | G79: ='4'!G6-'8'!G79-'9'!G79 -> 26896343 | H79: ='4'!H6-'8'!H79-'9'!H79 -> 99714476
A80: 75 | B80: Munkaadókat terhelő járulékok és szociális hozzájárulási adó (K2) | C80: ='4'!C7-'8'!C80-'9'!C80 -> 82179761 | D80: ='4'!D7-'8'!D80-'9'!D80 -> 9166575 | E80: ='4'!E7-'8'!E80-'9'!E80 -> 31253645 | F80: ='4'!F7-'8'!F80-'9'!F80 -> 15131912 | G80: ='4'!G7-'8'!G80-'9'!G80 -> 5336520 | H80: ='4'!H7-'8'!H80-'9'!H80 -> 21291109
A81: 76 | B81: Dologi kiadások (K3) | C81: ='4'!C8-'8'!C81-'9'!C81 -> 481256796 | D81: ='4'!D8-'8'!D81-'9'!D81 -> 295798917 | E81: ='4'!E8-'8'!E81-'9'!E81 -> 36756385 | F81: ='4'!F8-'8'!F81-'9'!F81 -> 68762780 | G81: ='4'!G8-'8'!G81-'9'!G81 -> 36871845 | H81: ='4'!H8-'8'!H81-'9'!H81 -> 43066869
A82: 77 | B82: Családi támogatások (K42) | C82: ='4'!C9-'8'!C82-'9'!C82 -> 3546500 | D82: ='4'!D9-'8'!D82-'9'!D82 -> 3546500 | E82: ='4'!E9-'8'!E82-'9'!E82 -> 0 | F82: ='4'!F9-'8'!F82-'9'!F82 -> 0 | G82: ='4'!G9-'8'!G82-'9'!G82 -> 0 | H82: ='4'!H9-'8'!H82-'9'!H82 -> 0
A83: 78 | B83: ebből: az egyéb pénzbeli és természetbeni gyermekvédelmi támogatások (K42132) | C83: ='4'!C10-'8'!C83-'9'!C83 -> 3546500 | D83: ='4'!D10-'8'!D83-'9'!D83 -> 3546500 | E83: ='4'!E10-'8'!E83-'9'!E83 -> 0 | F83: ='4'!F10-'8'!F83-'9'!F83 -> 0 | G83: ='4'!G10-'8'!G83-'9'!G83 -> 0 | H83: ='4'!H10-'8'!H83-'9'!H83 -> 0
A84: 79 | B84: Intézményi ellátottak pénzbeli juttatásai (K47) | C84: ='4'!C11-'8'!C84-'9'!C84 -> 800000 | D84: ='4'!D11-'8'!D84-'9'!D84 -> 800000 | E84: ='4'!E11-'8'!E84-'9'!E84 -> 0 | F84: ='4'!F11-'8'!F84-'9'!F84 -> 0 | G84: ='4'!G11-'8'!G84-'9'!G84 -> 0 | H84: ='4'!H11-'8'!H84-'9'!H84 -> 0
A85: 80 | B85: ebből: oktatásban résztvevők pénzbeli juttatásai (K471) | C85: ='4'!C12-'8'!C85-'9'!C85 -> 800000 | D85: ='4'!D12-'8'!D85-'9'!D85 -> 800000 | E85: ='4'!E12-'8'!E85-'9'!E85 -> 0 | F85: ='4'!F12-'8'!F85-'9'!F85 -> 0 | G85: ='4'!G12-'8'!G85-'9'!G85 -> 0 | H85: ='4'!H12-'8'!H85-'9'!H85 -> 0
A86: 81 | B86: Egyéb nem intézményi ellátások (K48) | C86: ='4'!C13-'8'!C86-'9'!C86 -> 9071998 | D86: ='4'!D13-'8'!D86-'9'!D86 -> 9071998 | E86: ='4'!E13-'8'!E86-'9'!E86 -> 0 | F86: ='4'!F13-'8'!F86-'9'!F86 -> 0 | G86: ='4'!G13-'8'!G86-'9'!G86 -> 0 | H86: ='4'!H13-'8'!H86-'9'!H86 -> 0
A87: 82 | B87: ebből: köztemetés [Szoctv. 48.§] (K48123) | C87: ='4'!C14-'8'!C87-'9'!C87 -> 1000000 | D87: ='4'!D14-'8'!D87-'9'!D87 -> 1000000 | E87: ='4'!E14-'8'!E87-'9'!E87 -> 0 | F87: ='4'!F14-'8'!F87-'9'!F87 -> 0 | G87: ='4'!G14-'8'!G87-'9'!G87 -> 0 | H87: ='4'!H14-'8'!H87-'9'!H87 -> 0
A88: 83 | B88: ebből: települési támogatás [Szoctv. 45. §], (K48122) | C88: ='4'!C15-'8'!C88-'9'!C88 -> 8071998 | D88: ='4'!D15-'8'!D88-'9'!D88 -> 8071998 | E88: ='4'!E15-'8'!E88-'9'!E88 -> 0 | F88: ='4'!F15-'8'!F88-'9'!F88 -> 0 | G88: ='4'!G15-'8'!G88-'9'!G88 -> 0 | H88: ='4'!H15-'8'!H88-'9'!H88 -> 0
A89: 84 | B89: Ellátottak pénzbeli juttatásai (K4) | C89: ='4'!C16-'8'!C89-'9'!C89 -> 13418498 | D89: ='4'!D16-'8'!D89-'9'!D89 -> 13418498 | E89: ='4'!E16-'8'!E89-'9'!E89 -> 0 | F89: ='4'!F16-'8'!F89-'9'!F89 -> 0 | G89: ='4'!G16-'8'!G89-'9'!G89 -> 0 | H89: ='4'!H16-'8'!H89-'9'!H89 -> 0
A90: 85 | B90: Elvonások és befizetések (K5023) | C90: ='4'!C17-'8'!C90-'9'!C90 -> 0 | D90: ='4'!D17-'8'!D90-'9'!D90 -> 0 | E90: ='4'!E17-'8'!E90-'9'!E90 -> 0 | F90: ='4'!F17-'8'!F90-'9'!F90 -> 0 | G90: ='4'!G17-'8'!G90-'9'!G90 -> 0 | H90: ='4'!H17-'8'!H90-'9'!H90 -> 0
... A121: 116 | B121: MINDÖSSZESEN: | C121: ='4'!C48-'8'!C121-'9'!C121 -> 3309961575 | D121: ='4'!D48-'8'!D121-'9'!D121 -> 2648001525 | E121: ='4'!E48-'8'!E121-'9'!E121 -> 222710643 | F121: ='4'!F48-'8'!F121-'9'!F121 -> 192256624 | G121: ='4'!G48-'8'!G121-'9'!G121 -> 81916232 | H121: ='4'!H48-'8'!H121-'9'!H121 -> 165076551

Sheet 8
B1: Berhida Város Önkormányzata | F1: 8. melléklet a 1/2020.(II.28.) rendelethez
B2: 2019 évi költségvetés | F2: 9/b. melléklet a 2/2019.(III.1.) rendelethez
F3: Ft-ban
B4: ÖNKÉNT VÁLLALT FELADATOK | C4: BEVÉTELEK
A5: Sor- szám | B5: Rovat megnevezése | C5: Eredeti előirányzat összesen | D5: Önkormányzat | E5: Közös Hivatal | F5: TESZ | G5: Kultúrház | H5: Süni
A6: 1 | B6: Helyi önkormányzatok működésének általános támogatása (B1111) | C6: =SUM(D6:H6) -> 0
A7: 2 | B7: Települési önkormányzatok egyes köznevelési feladatainak támogatása (B112) | C7: =SUM(D7:H7) -> 0
A8: 3 | B8: Települési önkormányzatok szociális, gyermekjóléti és gyermekétkeztetési feladatainak támogatása (B113) | C8: =SUM(D8:H8) -> 0
A9: 4 | B9: Települési önkormányzatok kulturális feladatainak támogatása (B114) | C9: =SUM(D9:H9) -> 0
A10: 5 | B10: Működési célú költségvetési támogatások és kiegészítő támogatások (B115) | C10: =SUM(D10:H10) -> 0
A11: 6 | B11: Elszámolásból származó bevételek (B116) | C11: =SUM(D11:H11) -> 0
A12: 7 | B12: Önkormányzatok működési támogatásai (B11) | C12: =SUM(D12:H12) -> 0 | D12: =SUM(D6:D11) -> 0 | E12: =SUM(E6:E11) -> 0 | F12: =SUM(F6:F11) -> 0 | G12: =SUM(G6:G11) -> 0 | H12: =SUM(H6:H11) -> 0
A13: 8 | B13: Elvonások és befizetések bevételei B12 | C13: =SUM(D13:H13) -> 0
A14: 9 | B14: Egyéb működési célú támogatások bevételei államháztartáson belülről (B16) | C14: =SUM(D14:H14) -> 0 | D14: =SUM(D15:D19) -> 0 | E14: =SUM(E15:E19) -> 0 | F14: =SUM(F15:F19) -> 0 | G14: =SUM(G15:G19) -> 0 | H14: =SUM(H15:H19) -> 0
A15: 10 | B15: ebből: egyéb központi kezelésű előirányzatok (B1612 | C15: =SUM(D15:H15) -> 0
A16: 11 | B16: ebből: fejezeti kezelésű EU B16 | C16: =SUM(D16:H16) -> 0
A17: 12 | B17: ebből: társadalombiztosítás pénzügyi alapjai (B1614 | C17: =SUM(D17:H17) -> 0
A18: 13 | B18: ebből: elkülönített állami pénzal (B1615 | C18: =SUM(D18:H18) -> 0
A19: 14 | B19: ebből: önkormányzat és kv-i szerveik (B 1616 | C19: =SUM(D19:H19) -> 0
A20: 15 | B20: Működési célú támogatások államháztartáson belülről (B1) | C20: =SUM(D20:H20) -> 0 | D20: =D12+D14 -> 0 | E20: =E12+E14 -> 0 | F20: =F12+F14 -> 0 | G20: =G12+G14 -> 0 | H20: =H12+H14 -> 0
A21: 16 | B21: Felhalmozási célú önkormányzati támogatások (B21) | C21: =SUM(D21:H21) -> 0 | D21: =D22 -> 0 | E21: =E22 -> 0 | F21: =F22 -> 0 | G21: =G22 -> 0 | H21: =H22 -> 0
A22: 17 | B22: ebből: egyéb központi felhalmozási c tám B 2119 | C22: =SUM(D22:H22) -> 0
A23: 18 | B23: Egyéb felhalmozási célú tám áht belülről B 25 | C23: =SUM(D23:H23) -> 0 | D23: =SUM(D24:D27) -> 0 | E23: =SUM(E24:E27) -> 0 | F23: =SUM(F24:F27) -> 0 | G23: =SUM(G24:G27) -> 0 | H23: =SUM(H24:H27) -> 0
A24: 19 | B24: ebből egyéb központi fc tám (B2512 | C24: =SUM(D24:H24) -> 0
A25: 20 | B25: ebből: egyéb fejezeti kez EU fc (B25 | C25: =SUM(D25:H25) -> 0
A26: 21 | B26: ebből: elkülönített állami pénzal fc (B2515 | C26: =SUM(D26:H26) -> 0
A27: 22 | B27: ebből: önkorm és kv-i szervek fc tám (B2516 | C27: =SUM(D27:H27) -> 0
A28: 23 | B28: Felhalmozási célú támogatások államháztartáson belülről (B2) | C28: =SUM(D28:H28) -> 0 | D28: =D21+D23 -> 0 | E28: =E21+E23 -> 0 | F28: =F21+F23 -> 0 | G28: =G21+G23 -> 0 | H28: =H21+H23 -> 0
A29: 24 | B29: Vagyoni tipusú adók (B34) | C29: =SUM(D29:H29) -> 2960686 | D29: =SUM(D30:D31) -> 2960686 | E29: =SUM(E30:E31) -> 0 | F29: =SUM(F30:F31) -> 0 | G29: =SUM(G30:G31) -> 0 | H29: =SUM(H30:H31) -> 0
A30: 25 | B30: ebből: építményadó (B34111) | C30: =SUM(D30:H30) -> 2960686 | D30: =2960686 -> 2960686
A31: 26 | B31: ebből: magánszemélyek kommunális adója (B34114) | C31: =SUM(D31:H31) -> 0
A32: 27 | B32: Értékesítési és forgalmi adók iparűzési adó (B351121) | C32: =SUM(D32:H32) -> 0
A33: 28 | B33: Gépjárműadó (B3541) | C33: =SUM(D33:H33) -> 0
A34: 29 | B34: Egyéb áruhasználati és szolgáltatási adók, környezetterh díj, talajterhelési díj (B355) | C34: =SUM(D34:H34) -> 0
A35: 30 | B35: Termékek és szolgáltatások adói (B35) | C35: =SUM(D35:H35) -> 0 | D35: =SUM(D32:D34) -> 0 | E35: =SUM(E32:E34) -> 0 | F35: =SUM(F32:F34) -> 0 | G35: =SUM(G32:G34) -> 0 | H35: =SUM(H32:H34) -> 0
A36: 31 | B36: Egyéb közhatalmi bevételek (B36) | C36: =SUM(D36:H36) -> 0 | D36: =SUM(D37:D38) -> 0 | E36: =SUM(E37:E38) -> 0 | F36: =SUM(F37:F38) -> 0 | G36: =SUM(G37:G38) -> 0 | H36: =SUM(H37:H38) -> 0
A37: 32 | B37: ebből: szabálysértési pénz- és helyszíni bírság és a közlekedési szabályszegések után kiszabott közigazgatási bírság helyi önkormányzatot megillető része (B361225 köv) | C37: =SUM(D37:H37) -> 0
A38: 33 | B38: ebből: egyéb bírság (B361229 köv) | C38: =SUM(D38:H38) -> 0
A39: 34 | B39: Közhatalmi bevételek (B3) | C39: =SUM(D39:H39) -> 2960686 | D39: =D29+D35+D36 -> 2960686 | E39: =E29+E35+E36 -> 0 | F39: =F29+F35+F36 -> 0 | G39: =G29+G35+G36 -> 0 | H39: =H29+H35+H36 -> 0
A40: 35 | B40: Készlet értékesítés előirányzata B 40111 | C40: =SUM(D40:H40) -> 0
...

Sheet 9
B1: Berhida Város Önkormányzata | F1: 9. melléklet a 1/2020.(II.28.) rendelethez
B2: 2019 évi költségvetés | F2: 9/c. melléklet a 2/2019.(III.1.) rendelethez
F3: Ft-ban
B4: ÁLLAMIGAZGATÁSI FELADATOK | C4: BEVÉTELEK
A5: Sor- szám | B5: Rovat megnevezése | C5: Eredeti előirányzat összesen | D5: Önkormányzat | E5: Közös Hivatal | F5: TESZ | G5: Kultúrház | H5: Süni
A6: 1 | B6: Helyi önkormányzatok működésének általános támogatása (B1111) | C6: =SUM(D6:H6) -> 0
A7: 2 | B7: Települési önkormányzatok egyes köznevelési feladatainak támogatása (B112) | C7: =SUM(D7:H7) -> 0
A8: 3 | B8: Települési önkormányzatok szociális, gyermekjóléti és gyermekétkeztetési feladatainak támogatása (B113) | C8: =SUM(D8:H8) -> 0
A9: 4 | B9: Települési önkormányzatok kulturális feladatainak támogatása (B114) | C9: =SUM(D9:H9) -> 0
A10: 5 | B10: Működési célú költségvetési támogatások és kiegészítő támogatások (B115) | C10: =SUM(D10:H10) -> 0
A11: 6 | B11: Elszámolásból származó bevételek (B116) | C11: =SUM(D11:H11) -> 0
A12: 7 | B12: Önkormányzatok működési támogatásai (B11) | C12: =SUM(D12:H12) -> 0 | D12: =SUM(D6:D11) -> 0 | E12: =SUM(E6:E11) -> 0 | F12: =SUM(F6:F11) -> 0 | G12: =SUM(G6:G11) -> 0 | H12: =SUM(H6:H11) -> 0
A13: 8 | B13: Elvonások és befizetések bevételei B12 | C13: =SUM(D13:H13) -> 0
A14: 9 | B14: Egyéb működési célú támogatások bevételei államháztartáson belülről (B16) | C14: =SUM(D14:H14) -> 0 | D14: =SUM(D15:D19) -> 0 | E14: =SUM(E15:E19) -> 0 | F14: =SUM(F15:F19) -> 0 | G14: =SUM(G15:G19) -> 0 | H14: =SUM(H15:H19) -> 0
A15: 10 | B15: ebből: egyéb központi kezelésű előirányzatok (B1612 | C15: =SUM(D15:H15) -> 0
A16: 11 | B16: ebből: fejezeti kezelésű EU B16 | C16: =SUM(D16:H16) -> 0
A17: 12 | B17: ebből: társadalombiztosítás pénzügyi alapjai (B1614 | C17: =SUM(D17:H17) -> 0
A18: 13 | B18: ebből: elkülönített állami pénzal (B1615 | C18: =SUM(D18:H18) -> 0
A19: 14 | B19: ebből: önkormányzat és kv-i szerveik (B 1616 | C19: =SUM(D19:H19) -> 0
A20: 15 | B20: Működési célú támogatások államháztartáson belülről (B1) | C20: =SUM(D20:H20) -> 0 | D20: =D12+D14 -> 0 | E20: =E12+E14 -> 0 | F20: =F12+F14 -> 0 | G20: =G12+G14 -> 0 | H20: =H12+H14 -> 0
A21: 16 | B21: Felhalmozási célú önkormányzati támogatások (B21) | C21: =SUM(D21:H21) -> 0 | D21: =D22 -> 0 | E21: =E22 -> 0 | F21: =F22 -> 0 | G21: =G22 -> 0 | H21: =H22 -> 0
A22: 17 | B22: ebből: egyéb központi felhalmozási c tám B 2119 | C22: =SUM(D22:H22) -> 0
A23: 18 | B23: Egyéb felhalmozási célú tám áht belülről B 25 | C23: =SUM(D23:H23) -> 0 | D23: =SUM(D24:D27) -> 0 | E23: =SUM(E24:E27) -> 0 | F23: =SUM(F24:F27) -> 0 | G23: =SUM(G24:G27) -> 0 | H23: =SUM(H24:H27) -> 0
A24: 19 | B24: ebből egyéb központi fc tám (B2512 | C24: =SUM(D24:H24) -> 0
A25: 20 | B25: ebből: egyéb fejezeti kez EU fc (B25 | C25: =SUM(D25:H25) -> 0
A26: 21 | B26: ebből: elkülönített állami pénzal fc (B2515 | C26: =SUM(D26:H26) -> 0
A27: 22 | B27: ebből: önkorm és kv-i szervek fc tám (B2516 | C27: =SUM(D27:H27) -> 0
A28: 23 | B28: Felhalmozási célú támogatások államháztartáson belülről (B2) | C28: =SUM(D28:H28) -> 0 | D28: =D21+D23 -> 0 | E28: =E21+E23 -> 0 | F28: =F21+F23 -> 0 | G28: =G21+G23 -> 0 | H28: =H21+H23 -> 0
A29: 24 | B29: Vagyoni tipusú adók (B34) | C29: =SUM(D29:H29) -> 8172039 | D29: =SUM(D30:D31) -> 8172039 | E29: =SUM(E30:E31) -> 0 | F29: =SUM(F30:F31) -> 0 | G29: =SUM(G30:G31) -> 0 | H29: =SUM(H30:H31) -> 0
A30: 25 | B30: ebből: építményadó (B34111) | C30: =SUM(D30:H30) -> 8172039 | D30: =D118 -> 8172039
A31: 26 | B31: ebből: magánszemélyek kommunális adója (B34114) | C31: =SUM(D31:H31) -> 0
A32: 27 | B32: Értékesítési és forgalmi adók iparűzési adó (B351121) | C32: =SUM(D32:H32) -> 0
A33: 28 | B33: Gépjárműadó (B3541) | C33: =SUM(D33:H33) -> 0
A34: 29 | B34: Egyéb áruhasználati és szolgáltatási adók, környezetterh díj, talajterhelési díj (B355) | C34: =SUM(D34:H34) -> 0
A35: 30 | B35: Termékek és szolgáltatások adói (B35) | C35: =SUM(D35:H35) -> 0 | D35: =SUM(D32:D34) -> 0 | E35: =SUM(E32:E34) -> 0 | F35: =SUM(F32:F34) -> 0 | G35: =SUM(G32:G34) -> 0 | H35: =SUM(H32:H34) -> 0
A36: 31 | B36: Egyéb közhatalmi bevételek (B36) | C36: =SUM(D36:H36) -> 0 | D36: =SUM(D37:D38) -> 0 | E36: =SUM(E37:E38) -> 0 | F36: =SUM(F37:F38) -> 0 | G36: =SUM(G37:G38) -> 0 | H36: =SUM(H37:H38) -> 0
A37: 32 | B37: ebből: szabálysértési pénz- és helyszíni bírság és a közlekedési szabályszegések után kiszabott közigazgatási bírság helyi önkormányzatot megillető része (B361225 köv) | C37: =SUM(D37:H37) -> 0
A38: 33 | B38: ebből: egyéb bírság (B361229 köv) | C38: =SUM(D38:H38) -> 0
A39: 34 | B39: Közhatalmi bevételek (B3) | C39: =SUM(D39:H39) -> 8172039 | D39: =D29+D35+D36 -> 8172039 | E39: =E29+E35+E36 -> 0 | F39: =F29+F35+F36 -> 0 | G39: =G29+G35+G36 -> 0 | H39: =H29+H35+H36 -> 0
A40: 35 | B40: Készlet értékesítés előirányzata B 40111 | C40: =SUM(D40:H40) -> 0
...

Sheet 10
C1: Berhida Város Önkormányzatának
C2: 2019. Évi költségvetéséhez | G2: 10. melléklet a 1/2020.(II.28.) rendelethez
C3: ELŐIRÁNYZAT FELHASZNÁLÁSI ÜTEMTERV | G3: 13. melléklet a 2/2019.(III.1.) rendelethez
G4: adatok Ft-ban
A6: 1 | B6: MEGNEVEZÉS | C6: Összesen | D6: január | E6: február | F6: március | G6: április | H6: május | I6: június | J6: július | K6: augusztus | L6: szeptember | M6: október | N6: november | O6: december | P6: Ellenőrző sor
A7: 2 | B7: Személyi juttatások | C7: ='4'!C6 -> 430846783 | D7: =C7/12 -> 35903899 | E7: =C7/12 -> 35903899 | F7: =C7/12 -> 35903899 | G7: =C7/12 -> 35903899 | H7: =C7/12 -> 35903899 | I7: =C7/12 -> 35903899 | J7: =C7/12 -> 35903899 | K7: =C7/12 -> 35903899 | L7: =C7/12 -> 35903899 | M7: =C7/12 -> 35903899 | N7: =C7/12 -> 35903899 | O7: =C7/12 -> 35903899 | P7: =SUM(D7:O7) -> 4.3084678e+08
A8: 3 | B8: Munkaadókat terhelő járulékok és szociális hozzájárulási adó, | C8: ='4'!C7 -> 84121659 | D8: =C8/12 -> 7010138.2 | E8: =C8/12 -> 7010138.2 | F8: =C8/12 -> 7010138.2 | G8: =C8/12 -> 7010138.2 | H8: =C8/12 -> 7010138.2 | I8: =C8/12 -> 7010138.2 | J8: =C8/12 -> 7010138.2 | K8: =C8/12 -> 7010138.2 | L8: =C8/12 -> 7010138.2 | M8: =C8/12 -> 7010138.2 | N8: =C8/12 -> 7010138.2 | O8: =C8/12 -> 7010138.2 | P8: =SUM(D8:O8) -> 84121659
A9: 4 | B9: Dologi kiadások | C9: ='4'!C8 -> 500957516 | D9: =C9/12 -> 41746460 | E9: =C9/12 -> 41746460 | F9: =C9/12 -> 41746460 | G9: =C9/12 -> 41746460 | H9: =C9/12 -> 41746460 | I9: =C9/12 -> 41746460 | J9: =C9/12 -> 41746460 | K9: =C9/12 -> 41746460 | L9: =C9/12 -> 41746460 | M9: =C9/12 -> 41746460 | N9: =C9/12 -> 41746460 | O9: =C9/12 -> 41746460 | P9: =SUM(D9:O9) -> 5.0095752e+08
A10: 5 | B10: Ellátottak pénzbeli juttatásai | C10: ='4'!C16 -> 13418498 | D10: =C10/12 -> 1118208.2 | E10: =C10/12 -> 1118208.2 | F10: =C10/12 -> 1118208.2 | G10: =C10/12 -> 1118208.2 | H10: =C10/12 -> 1118208.2 | I10: =C10/12 -> 1118208.2 | J10: =C10/12 -> 1118208.2 | K10: =C10/12 -> 1118208.2 | L10: =C10/12 -> 1118208.2 | M10: =C10/12 -> 1118208.2 | N10: =C10/12 -> 1118208.2 | O10: =C10/12 -> 1118208.2 | P10: =SUM(D10:O10) -> 13418498
A11: 7 | B11: Egyéb működési célú kiadások | C11: ='4'!C26 -> 338878521 | D11: =C11/12 -> 28239877 | E11: =C11/12 -> 28239877 | F11: =C11/12 -> 28239877 | G11: =C11/12 -> 28239877 | H11: =C11/12 -> 28239877 | I11: =C11/12 -> 28239877 | J11: =C11/12 -> 28239877 | K11: =C11/12 -> 28239877 | L11: =C11/12 -> 28239877 | M11: =C11/12 -> 28239877 | N11: =C11/12 -> 28239877 | O11: =C11/12 -> 28239877 | P11: =SUM(D11:O11) -> 338878521
A12: 16 | B12: Beruházások | C12: ='4'!C32 -> 1161908634 | D12: =C12/12 -> 96825720 | E12: =C12/12 -> 96825720 | F12: =C12/12 -> 96825720 | G12: =C12/12 -> 96825720 | H12: =C12/12 -> 96825720 | I12: =C12/12 -> 96825720 | J12: =C12/12 -> 96825720 | K12: =C12/12 -> 96825720 | L12: =C12/12 -> 96825720 | M12: =C12/12 -> 96825720 | N12: =C12/12 -> 96825720 | O12: =C12/12 -> 96825720 | P12: =SUM(D12:O12) -> 1161908634
A13: 17 | B13: Felújítások | C13: ='4'!C37 -> 207267932 | D13: =C13/12 -> 17272328 | E13: =C13/12 -> 17272328 | F13: =C13/12 -> 17272328 | G13: =C13/12 -> 17272328 | H13: =C13/12 -> 17272328 | I13: =C13/12 -> 17272328 | J13: =C13/12 -> 17272328 | K13: =C13/12 -> 17272328 | L13: =C13/12 -> 17272328 | M13: =C13/12 -> 17272328 | N13: =C13/12 -> 17272328 | O13: =C13/12 -> 17272328 | P13: =SUM(D13:O13) -> 2.0726793e+08
A14: 19 | B14: Egyéb felhalmozási célú támogatások | C14: ='4'!C42 -> 25189012 | E14: 2500000 | H14: 2500000 | I14: 9000000 | J14: 7516495 | K14: 2500000 | L14: 110000 | N14: 1062517 | P14: =SUM(D14:O14) -> 25189012
A15: 20 | B15: Költségvetési kiadások | C15: =SUM(C7:C14) -> 2762588555 | D15: =SUM(D7:D14) -> 2.2811663e+08 | E15: =SUM(E7:E14) -> 2.3061663e+08 | F15: =SUM(F7:F14) -> 2.2811663e+08 | G15: =SUM(G7:G14) -> 2.2811663e+08 | H15: =SUM(H7:H14) -> 2.3061663e+08 | I15: =SUM(I7:I14) -> 2.3711663e+08 | J15: =SUM(J7:J14) -> 2.3563312e+08 | ... O15: =SUM(O7:O14) -> 2.2811663e+08 | P15: =SUM(D15:O15) -> 2762588555
A16: 27 | B16: Finanszírozási kiadások | C16: =C17+C18 -> 603787148 | D16: =D17+D18 -> 59652628 | E16: =E17+E18 -> 47653618 | F16: =F17+F18 -> 47653618 | G16: =G17+G18 -> 47653618 | H16: =H17+H18 -> 47653618 | I16: =I17+I18 -> 47653618 | J16: =J17+J18 -> 49138484 | ... O16: =O17+O18 -> 65343286 | P16: =SUM(D16:O16) -> 602859273
B17: ÁHT belüli megelőlegezések visszafiz | C17: ='4'!C44 -> 48776198 | D17: ='[1]2'!D44 -> 13401715 | E17: =E31 -> 1402706 | F17: =F31 -> 1402706 | G17: =G31 -> 1402706 | H17: =H31 -> 1402705 | I17: 1402706 | J17: 2887572 | K17: =K31 -> 0 | L17: =L31 -> 5453133 | M17: =M31 -> 0 | O17: 19092374 | P17: =SUM(D17:O17) -> 47848323
A18: 29 | B18: Irányító szervtől finansz támogatás | C18: ='4'!C45 -> 555010950 | D18: =C18/12 -> 46250912 | E18: =C18/12 -> 46250912 | F18: =C18/12 -> 46250912 | G18: =C18/12 -> 46250912 | H18: =C18/12 -> 46250912 | I18: =C18/12 -> 46250912 | J18: =C18/12 -> 46250912 | K18: =C18/12 -> 46250912 | L18: =C18/12 -> 46250912 | M18: =C18/12 -> 46250912 | N18: =C18/12 -> 46250912 | O18: =C18/12 -> 46250912 | P18: =SUM(D18:O18) -> 555010950
A19: 30 | B19: KIADÁSOK ÖSSZESEN: | C19: =C15+C16 -> 3366375703 | D19: =D15+D16 -> 2.8776926e+08 | E19: =E15+E16 -> 2.7827025e+08 | F19: =F15+F16 -> 2.7577025e+08 | G19: =G15+G16 -> 2.7577025e+08 | H19: =H15+H16 -> 2.7827025e+08 | I19: =I15+I16 -> 2.8477025e+08 | J19: =J15+J16 -> 2.8477161e+08 | ... O19: =O15+O16 -> 2.9345992e+08 | P19: =SUM(D19:O19) -> 3.3654478e+09
A20: 33 | B20: Működési célú támogatások államháztartáson belül | C20: ='2'!C20 -> 714980710 | D20: =C20/12 -> 59581726 | E20: =C20/12 -> 59581726 | F20: =C20/12 -> 59581726 | G20: =C20/12 -> 59581726 | H20: =C20/12 -> 59581726 | I20: =C20/12 -> 59581726 | J20: =C20/12 -> 59581726 | K20: =C20/12 -> 59581726 | L20: =C20/12 -> 59581726 | M20: =C20/12 -> 59581726 | N20: =C20/12 -> 59581726 | O20: =C20/12 -> 59581726 | P20: =SUM(D20:O20) -> 714980710
A21: 34 | B21: Felhalmozási célú támogatások államháztartáson belülről | C21: ='2'!C28 -> 488892415 | D21: =C21/12 -> 40741035 | E21: =C21/12 -> 40741035 | F21: =C21/12 -> 40741035 | G21: =C21/12 -> 40741035 | H21: =C21/12 -> 40741035 | I21: =C21/12 -> 40741035 | J21: =C21/12 -> 40741035 | K21: =C21/12 -> 40741035 | L21: =C21/12 -> 40741035 | M21: =C21/12 -> 40741035 | N21: =C21/12 -> 40741035 | O21: =C21/12 -> 40741035 | P21: =SUM(D21:O21) -> 4.8889241e+08
A22: 35 | B22: Közhatalmi bevételek | C22: ='2'!C39 -> 345900244 | D22: =C22/12 -> 28825020 | E22: =C22/12 -> 28825020 | F22: =C22/12 -> 28825020 | G22: =C22/12 -> 28825020 | H22: =C22/12 -> 28825020 | I22: =C22/12 -> 28825020 | J22: =C22/12 -> 28825020 | K22: =C22/12 -> 28825020 | L22: =C22/12 -> 28825020 | M22: =C22/12 -> 28825020 | N22: =C22/12 -> 28825020 | O22: =C22/12 -> 28825020 | P22: =SUM(D22:O22) -> 345900244
A23: 36 | B23: Működési bevételek | C23: ='2'!C61 -> 43678546 | D23: =C23/12 -> 3639878.8 | E23: =C23/12 -> 3639878.8 | F23: =C23/12 -> 3639878.8 | G23: =C23/12 -> 3639878.8 | H23: =C23/12 -> 3639878.8 | I23: =C23/12 -> 3639878.8 | J23: =C23/12 -> 3639878.8 | K23: =C23/12 -> 3639878.8 | L23: =C23/12 -> 3639878.8 | M23: =C23/12 -> 3639878.8 | N23: =C23/12 -> 3639878.8 | O23: =C23/12 -> 3639878.8 | P23: =SUM(D23:O23) -> 43678546
A24: 37 | B24: Felhalmozási bevételek | C24: ='2'!C64 -> 20900614 | D24: =C24/12 -> 1741717.8 | E24: =C24/12 -> 1741717.8 | F24: =C24/12 -> 1741717.8 | G24: =C24/12 -> 1741717.8 | H24: =C24/12 -> 1741717.8 | I24: =C24/12 -> 1741717.8 | J24: =C24/12 -> 1741717.8 | K24: =C24/12 -> 1741717.8 | L24: =C24/12 -> 1741717.8 | M24: =C24/12 -> 1741717.8 | N24: =C24/12 -> 1741717.8 | O24: =C24/12 -> 1741717.8 | P24: =SUM(D24:O24) -> 20900614
B25: Működési célú átvett pénzeszközök | C25: ='2'!C66 -> 435000 | L25: 435000 | P25: =SUM(D25:O25) -> 435000
A26: 38 | B26: Felhalmozási célú átvett pénzeszközök | C26: ='2'!C70 -> 728000 | D26: =C26/12 -> 60666.667 | E26: =C26/12 -> 60666.667 | F26: =C26/12 -> 60666.667 | G26: =C26/12 -> 60666.667 | H26: =C26/12 -> 60666.667 | I26: =C26/12 -> 60666.667 | J26: =C26/12 -> 60666.667 | K26: =C26/12 -> 60666.667 | L26: =C26/12 -> 60666.667 | M26: =C26/12 -> 60666.667 | N26: =C26/12 -> 60666.667 | O26: =C26/12 -> 60666.667 | P26: =SUM(D26:O26) -> 728000
A27: 39 | B27: Költségvetési bevételek | C27: =SUM(C20:C26) -> 1615515529 | D27: =SUM(D20:D26) -> 1.3459004e+08 | E27: =SUM(E20:E26) -> 1.3459004e+08 | F27: =SUM(F20:F26) -> 1.3459004e+08 | G27: =SUM(G20:G26) -> 1.3459004e+08 | H27: =SUM(H20:H26) -> 1.3459004e+08 | I27: =SUM(I20:I26) -> 1.3459004e+08 | J27: =SUM(J20:J26) -> 1.3459004e+08 | ... O27: =SUM(O20:O26) -> 1.3459004e+08 | P27: =SUM(D27:O27) -> 1.6155155e+09
A28: 55 | B28: Finanszírozási bevételek | C28: =SUM(C29:C32) -> 1750860174 | D28: =SUM(D29:D32) -> 1.1467257e+09 | E28: =SUM(E29:E32) -> 47653618 | F28: =SUM(F29:F32) -> 47653618 | G28: =SUM(G29:G32) -> 47653618 | H28: =SUM(H29:H32) -> 47653618 | I28: =SUM(I29:I32) -> 47653618 | J28: =SUM(J29:J32) -> 49138484 | ... O28: =SUM(O29:O32) -> 65343286 | P28: =SUM(D28:O28) -> 1749932299
B29: Költségvetési maradvány igénybevétele | C29: ='2'!C73 -> 1100474741 | D29: =C29 -> 1100474741 | P29: =SUM(D29:O29) -> 1100474741
B30: Befektetési célú belföldi egyéb hitelviszonyt megtestesítő értékpapír beváltása, értékesítése (B 81231 | C30: ='2'!C72 -> 60000000 | N30: 60000000 | P30: =SUM(D30:O30) -> 60000000
B31: Áht megelőlegezés | C31: ='2'!C74 -> 35374483 | E31: 1402706 | F31: 1402706 | G31: 1402706 | H31: 1402705 | I31: 1402706 | J31: 2887572 | L31: 5453133 | O31: 19092374 | P31: =SUM(D31:O31) -> 34446608
A32: 56 | B32: Irányító szervtől finansz támogatás | C32: ='4'!C45 -> 555010950 | D32: =C32/12 -> 46250912 | E32: =C32/12 -> 46250912 | F32: =C32/12 -> 46250912 | G32: =C32/12 -> 46250912 | H32: =C32/12 -> 46250912 | I32: =C32/12 -> 46250912 | J32: =C32/12 -> 46250912 | K32: =C32/12 -> 46250912 | L32: =C32/12 -> 46250912 | M32: =C32/12 -> 46250912 | N32: =C32/12 -> 46250912 | O32: =C32/12 -> 46250912 | P32: =SUM(D32:O32) -> 555010950
A33: 58 | B33: BEVÉTELEK ÖSSZESEN: | C33: =C27+C28 -> 3366375703 | D33: =D27+D28 -> 1.2813157e+09 | E33: =E27+E28 -> 1.8224366e+08 | F33: =F27+F28 -> 1.8224366e+08 | G33: =G27+G28 -> 1.8224366e+08 | H33: =H27+H28 -> 1.8224366e+08 | I33: =I27+I28 -> 1.8224366e+08 | J33: =J27+J28 -> 1.8372853e+08 | ... O33: =O27+O28 -> 1.9993333e+08 | P33: =SUM(D33:O33) -> 3.3654478e+09
