Workbook

Sheet 1 mell
B1: Berhida Város Önkormányzata | D1: 1. melléklet
B2: 2015. évi költségvetés | D2: a 7/2016. (V.2.) önkormányzati rendelethez
B3: Bevételek | D3: adatok ezer Ft-ban
D5: Összesen | E5: Önkorm | F5: Hivatal | G5: TESZ | H5: Süni | I5: Kultúrház
A6: Sor- szám | B6: Rovat megnevezése | C6: Rovat száma | D6: Eredeti ei | E6: Eredeti ei | F6: Eredeti ei | G6: Eredeti ei | H6: Eredeti ei | I6: Eredeti ei
A7: 1. | B7: 2. | C7: 3. | D7: 4. | E7: 5. | F7: 6. | G7: 7. | H7: 8. | I7: 9.
A8: 01 | B8: Helyi önkormányzatok működésének általános támogatása | C8: B111 | D8: =SUM(E8:I8) -> 139174 | E8: 139174
A9: 02 | B9: Települési önkormányzatok egyes köznevelési feladatainak támogatása | C9: B112 | D9: =SUM(E9:I9) -> 122001 | E9: 122001
A10: 03 | B10: Települési önkormányzatok szociális és gyermekjóléti feladatainak támogatása | C10: B113 | D10: =SUM(E10:I10) -> 115344 | E10: 115344
A11: 04 | B11: Települési önkormányzatok kulturális feladatainak támogatása | C11: B114 | D11: =SUM(E11:I11) -> 6922 | E11: 6922
A12: 05 | B12: Működési célú központosított előirányzatok | C12: B115 | D12: =SUM(E12:I12) -> 0
A13: 06 | B13: Helyi önkormányzatok kiegészítő támogatásai | C13: B116 | D13: =SUM(E13:I13) -> 0
A14: 07 | B14: Önkormányzatok működési támogatásai | C14: B11 | D14: =SUM(E14:I14) -> 383441 | E14: =SUM(E8:E13) -> 383441 | F14: =SUM(F8:F13) -> 0 | G14: =SUM(G8:G13) -> 0 | H14: =SUM(H8:H13) -> 0 | I14: =SUM(I8:I13) -> 0
A15: 08 | B15: Elvonások és befizetések bevételei | C15: B12 | D15: =SUM(E15:I15) -> 0
A16: 09 | B16: Működési célú garancia- és kezességvállalásból származó megtérülések államháztartáson belülről | C16: B13 | D16: =SUM(E16:I16) -> 0
A17: 10 | B17: Működési célú visszatérítendő támogatások, kölcsönök visszatérülése államháztartáson belülről | C17: B14 | D17: =SUM(E17:I17) -> 0
A18: 11 | B18: Működési célú visszatérítendő támogatások, kölcsönök igénybevétele államháztartáson belülről | C18: B15 | D18: =SUM(E18:I18) -> 0
A19: 12 | B19: Egyéb működési célú támogatások bevételei államháztartáson belülről | C19: B16 | D19: =SUM(E19:I19) -> 80321 | E19: =SUM(E20:E26) -> 18575 | F19: =SUM(F20:F26) -> 330 | G19: =SUM(G20:G26) -> 59749 | H19: =SUM(H20:H26) -> 1667 | I19: =SUM(I20:I26) -> 0
B20: - ebből központi költségvetési szervek | C20: B161 | D20: =SUM(E20:I20) -> 330 | F20: 330
B21: - ebből Társadalombiztosítási Alapok | C21: B162 | D21: =SUM(E21:I21) -> 12922 | E21: 12922
B22: - ebből elkülönített állami alapok | C22: B163 | D22: =SUM(E22:I22) -> 61416 | G22: 59749 | H22: 1667
B23: - ebből helyi önkormányzatok és költségvetési szerveik | C23: B164 | D23: =SUM(E23:I23) -> 0
B24: - ebből társulások és költségvetési szerveik | C24: B165 | D24: =SUM(E24:I24) -> 0
B25: - ebből nemzetiségi önkormányzatok és költségvetési szerveik | C25: B166 | D25: =SUM(E25:I25) -> 0
B26: - ebből fejezeti kezelésű | C26: B167 | D26: =SUM(E26:I26) -> 5653 | E26: 5653
A27: 13 | B27: Működési célú támogatások államháztartáson belülről | C27: B1 | D27: =SUM(E27:I27) -> 463762 | E27: =SUM(E14:E19) -> 402016 | F27: =SUM(F14:F19) -> 330 | G27: =SUM(G14:G19) -> 59749 | H27: =SUM(H14:H19) -> 1667 | I27: =SUM(I14:I19) -> 0
A28: 14 | B28: Felhalmozási célú önkormányzati támogatások | C28: B21 | D28: =SUM(E28:I28) -> 0
A29: 15 | B29: Felhalmozási célú garancia- és kezességvállalásból származó megtérülések államháztartáson belülről | C29: B22 | D29: =SUM(E29:I29) -> 0
A30: 16 | B30: Felhalmozási célú visszatérítendő támogatások, kölcsönök visszatérülése államháztartáson belülről | C30: B23 | D30: =SUM(E30:I30) -> 19290 | E30: 19290
A31: 17 | B31: Felhalmozási célú visszatérítendő támogatások, kölcsönök igénybevétele államháztartáson belülről | C31: B24 | D31: =SUM(E31:I31) -> 0
A32: 18 | B32: Egyéb felhalmozási célú támogatások bevételei államháztartáson belülről | C32: B25 | D32: =SUM(E32:I32) -> 0
A33: 19 | B33: Felhalmozási célú támogatások államháztartáson belülről | C33: B2 | D33: =SUM(E33:I33) -> 19290 | E33: =SUM(E28:E32) -> 19290 | F33: =SUM(F28:F32) -> 0 | G33: =SUM(G28:G32) -> 0 | H33: =SUM(H28:H32) -> 0 | I33: =SUM(I28:I32) -> 0
A34: 20 | B34: Magánszemélyek jövedelemadói | C34: B311 | D34: =SUM(E34:I34) -> 0
A35: 21 | B35: Társaságok jövedelemadói | C35: B312 | D35: =SUM(E35:I35) -> 0
A36: 22 | B36: Jövedelemadók | C36: B31 | D36: =SUM(E36:I36) -> 0 | E36: =SUM(E34:E35) -> 0 | F36: =SUM(F34:F35) -> 0 | G36: =SUM(G34:G35) -> 0 | H36: =SUM(H34:H35) -> 0 | I36: =SUM(I34:I35) -> 0
A37: 23 | B37: Szociális hozzájárulási adó és járulékok | C37: B32 | D37: =SUM(E37:I37) -> 0
A38: 24 | B38: Bérhez és foglalkoztatáshoz kapcsolódó adók | C38: B33 | D38: =SUM(E38:I38) -> 0
A39: 25 | B39: Vagyoni tipusú adók | C39: B34 | D39: =SUM(E39:I39) -> 89100 | E39: 89100
A40: 26 | B40: Értékesítési és forgalmi adók | C40: B351 | D40: =SUM(E40:I40) -> 140000 | E40: 140000
A41: 27 | B41: Fogyasztási adók | C41: B352 | D41: =SUM(E41:I41) -> 0
...

Sheet 1.a
A1: Berhida Város Önkormányzata | E1: 1.a melléklet
A2: állami támogatások részletezése | E2: a 7/2016. (V.2.) önkormányzati rendelethez
A3: 2015. évi költségvetés | E3: Ft-ban
C4: 2014 | E4: 2014 | F4: 2015 | H4: eredeti | I4: 2015 | K4: módosított
B5: Rovatrend | E5: Forint | H5: Forint | K5: Forint
A6: Önkormányzatok működési támogatásai | E6: =E7+E16+E27+E47+E50 -> 3.5336184e+08 | H6: =H7+H16+H27+H47+H50 -> 383440798 | K6: =K7+K16+K27+K47+K50+K53+K57 -> 419746962
A7: 1.)Helyi önkormányzatok működésének általános támogatása | B7: B111 | D7: MUTATÓ | E7: =SUM(E8:E13) -> 148175259 | H7: =SUM(H8:H15) -> 139174406 | K7: =SUM(K8:K15) -> 139569503
A8: Önkormányzati hivatal működésének támogatása | C8: 4580000 | D8: 22.35 | E8: =C8*D8 -> 102363000 | F8: 4580000 | G8: 22.3 | H8: 102134000 | I8: 4580000 | J8: 22.3 | K8: 102134000
A9: Település üzemeltetés: zöldterület-gazdálkodás | C9: 22300 | E9: 8966830 | F9: 22300 | H9: 8964553 | I9: 22300 | K9: 8964553
A10: közvilágítás fenntartása | C10: 283200 | E10: 13168800 | F10: 320000 | H10: 14880000 | I10: 320000 | K10: 14880000
A11: köztemető fenntartással kapcs fel | C11: 69 | E11: 1775094 | F11: 69 | H11: 1775094 | I11: 69 | K11: 1775094
A12: közutak fenntartásának támog | C12: 227000 | E12: 5448000 | F12: 227000 | H12: 5448000 | I12: 227000 | K12: 5448000
A13: Egyéb kötelező önkormányzati feladatok | C13: 2700 | E13: 16453535 | F13: 2700 | H13: 5761109 | I13: 2700 | K13: 5761109
A14: Lakott külterülettel kapcs feladatok | H14: 211650 | K14: 211650
A15: 2014. évről áthúzódó bérkompenzáció | K15: 395097
A16: 2.)Települési önkorm. Egyes köznevelési feladatainak támoga | B16: B112 | E16: =SUM(E17:E26) -> 1.0962379e+08 | H16: =SUM(H17:H26) -> 122000800 | K16: =SUM(K17:K26) -> 125823367
A17: óvodapedagógusok bértámogatása 8 hó | C17: 4012000 | D17: 19.6 | E17: =C17*D17*8/12 -> 52423467 | F17: 4152000 | G17: 20.1 | H17: 55636800 | I17: 4152000 | K17: 55913600
A18: óvodaped munkáját közvetlenül segítők bértámogatása 8 hó | C18: 1800000 | D18: 10 | E18: =C18*D18*8/12 -> 12000000 | F18: 1800000 | G18: 11 | H18: 13200000 | I18: 1800000 | K18: 13200000
A19: óvodapedagógusok bértámogatása 4 hó | C19: 4012000 | D19: 19.8 | E19: =C19*D19*4/12 -> 26479200 | F19: 4152000 | G19: 20 | H19: 27680000 | I19: 4152000 | K19: 28233600
A20: óvodaped munkáját közvetlenül segítők bértámogatása 4 hó | C20: 1800000 | D20: 10 | E20: =C20*D20*4/12 -> 6000000 | F20: 1800000 | G20: 11 | H20: 6600000 | I20: 1800000 | K20: 6600000
A21: óvodapedagógusok bértámog KIEGÉSZÍTÉS 3 hó | C21: 34400 | D21: 19.8 | E21: =C21*D21 -> 681120 | F21: 35000 | G21: 20 | H21: 700000 | I21: 35000 | K21: 714000
A22: Óvoda működtetési támogatás 8 hó | C22: 56000 | D22: 213 | E22: =C22*D22*8/12 -> 7952000 | F22: 70000 | G22: 218 | H22: 10173333 | I22: 70000 | K22: 10220000
A23: Óvoda működtetési támogatás 4 hó | C23: 56000 | D23: 219 | E23: =C23*D23*4/12 -> 4088000 | F23: 70000 | G23: 218 | H23: 5086667 | I23: 70000 | K23: 5086667
A24: köznevelési intézmények (iskolák működtetési tám) | K24: 2931500
A25: Kieg tám. Óv pedag minősítéséhez II. kategóriába sorolt | G25: 1 | H25: 352000 | K25: 352000
A26: Mesterped kategóriába sorolt | E26: =C26*D26*4/12 -> 0 | G26: 2 | H26: 2572000 | K26: 2572000
A27: 3.) Tel önk szociális, gyermekjóléti és gyermekétk fel tám | B27: B113 | E27: =SUM(E29:E46) -> 84537490 | H27: =SUM(H29:H46) -> 115343512 | K27: =SUM(K29:K46) -> 137688772
A29: gyermekétkeztetés szempontjából elismert dolgozók bértámog | C29: 1632000 | D29: 8.98 | E29: =C29*D29 -> 14655360 | F29: 1632000 | G29: 11.48 | H29: 18735360 | I29: 1632000 | J29: 11.48 | K29: 18670080
A30: gyermekétkeztetés üzemeltetési támogatása | E30: 30851087 | H30: 31817928 | K30: 32232780
A31: Hozzájárulás pénzbeli szociális ellátásokhoz | E31: 20697694 | H31: 47687090 | K31: 47687090
A32: Bölcsődei ellátás | C32: 494100 | D32: 9 | E32: =C32*D32 -> 4446900 | F32: 494100 | G32: 8 | H32: 3952800 | I32: 494100 | J32: 8 | K32: 4446900
A33: bölcsődei ellátás hátrányos helyzetű gyermek | C33: 518805 | D33: 1 | E33: =C33*D33 -> 518805 | F33: 518805 | I33: 518805
A34: Családsegítés B: 6118 Vi: 662 = 6780 fő (6072,671) | C34: 3950000 | D34: 6780 | E34: =D34/5000*C34/2 -> 2678100 | F34: 3950000 | G34: 6743 | H34: 2663485 | I34: 3950000 | J34: 6743 | K34: 2663485
A35: gyermekjóléti szolgálat | C35: 3950000 | D35: 6780 | E35: =D35/5000*C35/2 -> 2678100 | F35: 3950000 | G35: 6743 | H35: 2663485 | I35: 3950000 | J35: 6743 | K35: 2663485
A36: Családsegítés Kiegészítő támog. | C36: 300 | D36: 6780 | E36: =C36*D36 -> 2034000 | F36: 300 | H36: 2022900 | I36: 300 | K36: 2022900
A37: gyermekjóléti szolg. Kiegészítő támog. 0-17 B: 1292 Vi: 128 | C37: 1200 | D37: 1420 | E37: =C37*D37 -> 1704000 | F37: 1200 | H37: 1668000 | I37: 1200 | K37: 1668000
A38: szociális étkeztetés | C38: 60896 | D38: 39 | E38: =C38*D38 -> 2374944 | F38: 60896 | G38: 34 | H38: 2070464 | I38: 60896 | J38: 34 | K38: 1887776
A39: házi segítségnyújtás | C39: 188500 | D39: 4 | E39: =C39*D39 -> 754000 | F39: 188500 | G39: 4 | H39: 754000 | I39: 188500 | J39: 4 | K39: 754000
A40: időskorúak nappali ellátása | C40: 163500 | D40: 7 | E40: =C40*D40 -> 1144500 | F40: 163500 | G40: 8 | H40: 1308000 | I40: 163500 | J40: 8 | K40: 1308000
A41: Ágazati pótlék | K41: 1518800
...

Sheet 1b
B1: Berhida Város Önkormányzata | D1: 1b. melléklet
B2: 2015. évi költségvetés | D2: a 7/2016. (V.2.) önkormányzati rendelethez
B3: Bevételek | D3: adatok ezer Ft-ban
B4: Módosított előirányzat
D5: Összesen | E5: Önkorm | F5: Hivatal | G5: TESZ | H5: Süni | I5: Kultúrház
A6: Sor- szám | B6: Rovat megnevezése | C6: Rovat száma | D6: Módosított ei | E6: Módosított ei | F6: Módosított ei | G6: Módosított ei | H6: Módosított ei | I6: Módosított ei
A7: 1. | B7: 2. | C7: 3. | D7: 4. | E7: 5. | F7: 6. | G7: 7. | H7: 8. | I7: 9.
A8: 01 | B8: Helyi önkormányzatok működésének általános támogatása | C8: B111 | D8: =SUM(E8:I8) -> 139570 | E8: 139570
A9: 02 | B9: Települési önkormányzatok egyes köznevelési feladatainak támogatása | C9: B112 | D9: =SUM(E9:I9) -> 125823 | E9: 125823
A10: 03 | B10: Települési önkormányzatok szociális és gyermekjóléti feladatainak támogatása | C10: B113 | D10: =SUM(E10:I10) -> 137689 | E10: 137689
A11: 04 | B11: Települési önkormányzatok kulturális feladatainak támogatása | C11: B114 | D11: =SUM(E11:I11) -> 7094 | E11: 7094
A12: 05 | B12: Működési célú költségvetési támogatások és kiegészítő támogatások | C12: B115 | D12: =SUM(E12:I12) -> 6790 | E12: 6790
A13: 06 | B13: Elszámolásból származó bevételek | C13: B116 | D13: =SUM(E13:I13) -> 2782 | E13: 2782
A14: 07 | B14: Önkormányzatok működési támogatásai | C14: B11 | D14: =SUM(E14:I14) -> 419748 | E14: =SUM(E8:E13) -> 419748 | F14: =SUM(F8:F13) -> 0 | G14: =SUM(G8:G13) -> 0 | H14: =SUM(H8:H13) -> 0 | I14: =SUM(I8:I13) -> 0
A15: 08 | B15: Elvonások és befizetések bevételei | C15: B12 | D15: =SUM(E15:I15) -> 0
A16: 09 | B16: Működési célú garancia- és kezességvállalásból származó megtérülések államháztartáson belülről | C16: B13 | D16: =SUM(E16:I16) -> 0
A17: 10 | B17: Működési célú visszatérítendő támogatások, kölcsönök visszatérülése államháztartáson belülről | C17: B14 | D17: =SUM(E17:I17) -> 0
A18: 11 | B18: Működési célú visszatérítendő támogatások, kölcsönök igénybevétele államháztartáson belülről | C18: B15 | D18: =SUM(E18:I18) -> 0
A19: 12 | B19: Egyéb működési célú támogatások bevételei államháztartáson belülről | C19: B16 | D19: =SUM(E19:I19) -> 109301 | E19: =SUM(E20:E26) -> 23664 | F19: =SUM(F20:F26) -> 561 | G19: =SUM(G20:G26) -> 83409 | H19: =SUM(H20:H26) -> 1667 | I19: =SUM(I20:I26) -> 0
B20: - ebből központi költségvetési szervek | C20: B161 | D20: =SUM(E20:I20) -> 942 | E20: 381 | F20: 561
B21: - ebből Társadalombiztosítási Alapok | C21: B162 | D21: =SUM(E21:I21) -> 12922 | E21: 12922
B22: - ebből elkülönített állami alapok | C22: B163 | D22: =SUM(E22:I22) -> 85076 | G22: 83409 | H22: 1667
B23: - ebből helyi önkormányzatok és költségvetési szerveik | C23: B164 | D23: =SUM(E23:I23) -> 0
B24: - ebből társulások és költségvetési szerveik | C24: B165 | D24: =SUM(E24:I24) -> 0
B25: - ebből nemzetiségi önkormányzatok és költségvetési szerveik | C25: B166 | D25: =SUM(E25:I25) -> 0
B26: - ebből fejezeti kezelésű | C26: B167 | D26: =SUM(E26:I26) -> 10361 | E26: 10361
A27: 13 | B27: Működési célú támogatások államháztartáson belülről | C27: B1 | D27: =SUM(E27:I27) -> 529049 | E27: =SUM(E14:E19) -> 443412 | F27: =SUM(F14:F19) -> 561 | G27: =SUM(G14:G19) -> 83409 | H27: =SUM(H14:H19) -> 1667 | I27: =SUM(I14:I19) -> 0
A28: 14 | B28: Felhalmozási célú önkormányzati támogatások | C28: B21 | D28: =SUM(E28:I28) -> 181261 | E28: 181261
A29: 15 | B29: Felhalmozási célú garancia- és kezességvállalásból származó megtérülések államháztartáson belülről | C29: B22 | D29: =SUM(E29:I29) -> 0
A30: 16 | B30: Felhalmozási célú visszatérítendő támogatások, kölcsönök visszatérülése államháztartáson belülről | C30: B23 | D30: =SUM(E30:I30) -> 19290 | E30: 19290
A31: 17 | B31: Felhalmozási célú visszatérítendő támogatások, kölcsönök igénybevétele államháztartáson belülről | C31: B24 | D31: =SUM(E31:I31) -> 0
A32: 18 | B32: Egyéb felhalmozási célú támogatások bevételei államháztartáson belülről | C32: B25 | D32: =SUM(E32:I32) -> 0
A33: 19 | B33: Felhalmozási célú támogatások államháztartáson belülről | C33: B2 | D33: =SUM(E33:I33) -> 200551 | E33: =SUM(E28:E32) -> 200551 | F33: =SUM(F28:F32) -> 0 | G33: =SUM(G28:G32) -> 0 | H33: =SUM(H28:H32) -> 0 | I33: =SUM(I28:I32) -> 0
A34: 20 | B34: Magánszemélyek jövedelemadói | C34: B311 | D34: =SUM(E34:I34) -> 0
A35: 21 | B35: Társaságok jövedelemadói | C35: B312 | D35: =SUM(E35:I35) -> 0
A36: 22 | B36: Jövedelemadók | C36: B31 | D36: =SUM(E36:I36) -> 0 | E36: =SUM(E34:E35) -> 0 | F36: =SUM(F34:F35) -> 0 | G36: =SUM(G34:G35) -> 0 | H36: =SUM(H34:H35) -> 0 | I36: =SUM(I34:I35) -> 0
A37: 23 | B37: Szociális hozzájárulási adó és járulékok | C37: B32 | D37: =SUM(E37:I37) -> 0
A38: 24 | B38: Bérhez és foglalkoztatáshoz kapcsolódó adók | C38: B33 | D38: =SUM(E38:I38) -> 0
A39: 25 | B39: Vagyoni tipusú adók | C39: B34 | D39: =SUM(E39:I39) -> 92700 | E39: 92700
A40: 26 | B40: Értékesítési és forgalmi adók | C40: B351 | D40: =SUM(E40:I40) -> 159000 | E40: 159000
...

Sheet 1c
B1: Berhida Város Önkormányzata | D1: 1c. melléklet
B2: 2015. évi költségvetés | D2: a 7/2016. (V.2.) önkormányzati rendelethez
B3: Bevételek | D3: adatok ezer Ft-ban
B4: Teljesítés 12.31
D5: Összesen | E5: Önkorm | F5: Hivatal | G5: TESZ | H5: Süni | I5: Kultúrház
A6: Sor- szám | B6: Rovat megnevezése | C6: Rovat száma | D6: Teljesítés 12.31 | E6: Teljesítés 12.31 | F6: Teljesítés 12.31 | G6: Teljesítés 12.31 | H6: Teljesítés 12.31 | I6: Teljesítés 12.31
A7: 1. | B7: 2. | C7: 3. | D7: 4. | E7: 5. | F7: 6. | G7: 7. | H7: 8. | I7: 9.
A8: 01 | B8: Helyi önkormányzatok működésének általános támogatása | C8: B111 | D8: =SUM(E8:I8) -> 139570 | E8: 139570
A9: 02 | B9: Települési önkormányzatok egyes köznevelési feladatainak támogatása | C9: B112 | D9: =SUM(E9:I9) -> 125823 | E9: 125823
A10: 03 | B10: Települési önkormányzatok szociális és gyermekjóléti feladatainak támogatása | C10: B113 | D10: =SUM(E10:I10) -> 137689 | E10: 137689
A11: 04 | B11: Települési önkormányzatok kulturális feladatainak támogatása | C11: B114 | D11: =SUM(E11:I11) -> 7094 | E11: 7094
A12: 05 | B12: Működési célú költségvetési támogatások és kiegészítő támogatások | C12: B115 | D12: =SUM(E12:I12) -> 6790 | E12: 6790
A13: 06 | B13: Elszámolásból származó bevételek | C13: B116 | D13: =SUM(E13:I13) -> 2782 | E13: 2782
A14: 07 | B14: Önkormányzatok működési támogatásai | C14: B11 | D14: =SUM(E14:I14) -> 419748 | E14: =SUM(E8:E13) -> 419748 | F14: =SUM(F8:F13) -> 0 | G14: =SUM(G8:G13) -> 0 | H14: =SUM(H8:H13) -> 0 | I14: =SUM(I8:I13) -> 0
A15: 08 | B15: Elvonások és befizetések bevételei | C15: B12 | D15: =SUM(E15:I15) -> 0
A16: 09 | B16: Működési célú garancia- és kezességvállalásból származó megtérülések államháztartáson belülről | C16: B13 | D16: =SUM(E16:I16) -> 0
A17: 10 | B17: Működési célú visszatérítendő támogatások, kölcsönök visszatérülése államháztartáson belülről | C17: B14 | D17: =SUM(E17:I17) -> 0
A18: 11 | B18: Működési célú visszatérítendő támogatások, kölcsönök igénybevétele államháztartáson belülről | C18: B15 | D18: =SUM(E18:I18) -> 0
A19: 12 | B19: Egyéb működési célú támogatások bevételei államháztartáson belülről | C19: B16 | D19: =SUM(E19:I19) -> 110971 | E19: =SUM(E20:E26) -> 20955 | F19: =SUM(F20:F26) -> 581 | G19: =SUM(G20:G26) -> 87808 | H19: =SUM(H20:H26) -> 1627 | I19: =SUM(I20:I26) -> 0
B20: - ebből központi költségvetési szervek | C20: B161 | D20: =SUM(E20:I20) -> 962 | E20: 381 | F20: 581
B21: - ebből Társadalombiztosítási Alapok | C21: B162 | D21: =SUM(E21:I21) -> 12978 | E21: 12978
B22: - ebből elkülönített állami alapok | C22: B163 | D22: =SUM(E22:I22) -> 89435 | G22: 87808 | H22: 1627
B23: - ebből helyi önkormányzatok és költségvetési szerveik | C23: B164 | D23: =SUM(E23:I23) -> 0
B24: - ebből társulások és költségvetési szerveik | C24: B165 | D24: =SUM(E24:I24) -> 0
B25: - ebből nemzetiségi önkormányzatok és költségvetési szerveik | C25: B166 | D25: =SUM(E25:I25) -> 0
B26: - ebből fejezeti kezelésű | C26: B167 | D26: =SUM(E26:I26) -> 7596 | E26: 7596
A27: 13 | B27: Működési célú támogatások államháztartáson belülről | C27: B1 | D27: =SUM(E27:I27) -> 530719 | E27: =SUM(E14:E19) -> 440703 | F27: =SUM(F14:F19) -> 581 | G27: =SUM(G14:G19) -> 87808 | H27: =SUM(H14:H19) -> 1627 | I27: =SUM(I14:I19) -> 0
A28: 14 | B28: Felhalmozási célú önkormányzati támogatások | C28: B21 | D28: =SUM(E28:I28) -> 181261 | E28: 181261
A29: 15 | B29: Felhalmozási célú garancia- és kezességvállalásból származó megtérülések államháztartáson belülről | C29: B22 | D29: =SUM(E29:I29) -> 0
A30: 16 | B30: Felhalmozási célú visszatérítendő támogatások, kölcsönök visszatérülése államháztartáson belülről | C30: B23 | D30: =SUM(E30:I30) -> 0
A31: 17 | B31: Felhalmozási célú visszatérítendő támogatások, kölcsönök igénybevétele államháztartáson belülről | C31: B24 | D31: =SUM(E31:I31) -> 0
A32: 18 | B32: Egyéb felhalmozási célú támogatások bevételei államháztartáson belülről | C32: B25 | D32: =SUM(E32:I32) -> 45747 | E32: 45747
A33: 19 | B33: Felhalmozási célú támogatások államháztartáson belülről | C33: B2 | D33: =SUM(E33:I33) -> 227008 | E33: =SUM(E28:E32) -> 227008 | F33: =SUM(F28:F32) -> 0 | G33: =SUM(G28:G32) -> 0 | H33: =SUM(H28:H32) -> 0 | I33: =SUM(I28:I32) -> 0
A34: 20 | B34: Magánszemélyek jövedelemadói | C34: B311 | D34: =SUM(E34:I34) -> 0
A35: 21 | B35: Társaságok jövedelemadói | C35: B312 | D35: =SUM(E35:I35) -> 0
A36: 22 | B36: Jövedelemadók | C36: B31 | D36: =SUM(E36:I36) -> 0 | E36: =SUM(E34:E35) -> 0 | F36: =SUM(F34:F35) -> 0 | G36: =SUM(G34:G35) -> 0 | H36: =SUM(H34:H35) -> 0 | I36: =SUM(I34:I35) -> 0
A37: 23 | B37: Szociális hozzájárulási adó és járulékok | C37: B32 | D37: =SUM(E37:I37) -> 0
A38: 24 | B38: Bérhez és foglalkoztatáshoz kapcsolódó adók | C38: B33 | D38: =SUM(E38:I38) -> 0
A39: 25 | B39: Vagyoni tipusú adók | C39: B34 | D39: =SUM(E39:I39) -> 101614 | E39: 101614
A40: 26 | B40: Értékesítési és forgalmi adók | C40: B351 | D40: =SUM(E40:I40) -> 198353 | E40: 198353
...

Sheet 2 mell
B1: Berhida Város Önkormányzata | C1: 2. melléklet
B2: 2015. évi költségvetés | C2: a 7/2016. (V.2.) önkormányzati rendelethez
B3: Kiadások | C3: adatok ezer Ft-ban
D5: ÖSSZESEN | E5: Önkorm | F5: Hivatal | G5: TESZ | H5: Süni | I5: Kultúrház
A6: Sor- szám | B6: Rovat megnevezése | C6: Rovat száma | D6: Eredeti ei | E6: Eredeti ei | F6: Eredeti ei | G6: Eredeti ei | H6: Eredeti ei | I6: Eredeti ei
A7: 1. | B7: 2. | C7: 3. | D7: 4. | E7: 5. | F7: 6. | G7: 7. | H7: 8. | I7: 9.
A8: 1 | B8: Személyi juttatások | C8: K1 | D8: =SUM(E8:I8) -> 297025 | E8: 29013 | F8: 90665 | G8: 100158 | H8: 62271 | I8: 14918
A9: 2 | B9: Munkaadókat terhelő járulékok és szociális hozzájárulási adó | C9: K2 | D9: =SUM(E9:I9) -> 73031 | E9: 8545 | F9: 25679 | G9: 17895 | H9: 16760 | I9: 4152
A10: 3 | B10: Dologi kiadások | C10: K3 | D10: =SUM(E10:I10) -> 221962 | E10: 47475 | F10: 32630 | G10: 72420 | H10: 43419 | I10: 26018
A11: 4 | B11: Társadalombiztosítási ellátások | C11: K41 | D11: =SUM(E11:I11) -> 0
A12: 5 | B12: Családi támogatások | C12: K42 | D12: =SUM(E12:I12) -> 0
A13: 6 | B13: Pénzbeli kárpótlások, kártérítések | C13: K43 | D13: =SUM(E13:I13) -> 0
A14: 7 | B14: Betegséggel kapcsolatos (nem társadalombiztosítási) ellátások | C14: K44 | D14: =SUM(E14:I14) -> 900 | E14: 900
A15: 8 | B15: Foglalkoztatással, munkanélküliséggel kapcsolatos ellátások | C15: K45 | D15: =SUM(E15:I15) -> 2020 | E15: 2020
A16: 9 | B16: Lakhatással kapcsolatos ellátások | C16: K46 | D16: =SUM(E16:I16) -> 2000 | E16: 2000
A17: 10 | B17: Intézményi ellátottak pénzbeli juttatásai | C17: K47 | D17: =SUM(E17:I17) -> 0
A18: 11 | B18: Egyéb nem intézményi ellátások | C18: K48 | D18: =SUM(E18:I18) -> 18800 | E18: 18800
A19: 12 | B19: Ellátottak pénzbeli juttatásai | C19: K4 | D19: =SUM(E19:I19) -> 23720 | E19: =SUM(E11:E18) -> 23720 | F19: =SUM(F11:F18) -> 0 | G19: =SUM(G11:G18) -> 0 | H19: =SUM(H11:H18) -> 0 | I19: =SUM(I11:I18) -> 0
A20: 13 | B20: Nemzetközi kötelezettségek | C20: K501 | D20: =SUM(E20:I20) -> 0
A21: 14 | B21: Elvonások és befizetések | C21: K502 | D21: =SUM(E21:I21) -> 0
A22: 15 | B22: Működési célú garancia- és kezességvállalásból származó kifizetés államháztartáson belülre | C22: K503 | D22: =SUM(E22:I22) -> 0
A23: 16 | B23: Működési célú visszatérítendő támogatások, kölcsönök nyújtása államháztartáson belülre | C23: K504 | D23: =SUM(E23:I23) -> 0
A24: 17 | B24: Működési célú visszatérítendő támogatások, kölcsönök törlesztése államháztartáson belülre | C24: K505 | D24: =SUM(E24:I24) -> 0
A25: 18 | B25: Egyéb működési célú támogatások államháztartáson belülre | C25: K506 | D25: =SUM(E25:I25) -> 120490 | E25: =SUM(E26:E33) -> 120490 | F25: =SUM(F26:F33) -> 0 | G25: =SUM(G26:G33) -> 0 | H25: =SUM(H26:H33) -> 0 | I25: =SUM(I26:I33) -> 0
B26: - ebből központi költségvetési szervek | C26: K5061 | D26: =SUM(E26:I26) -> 0
B27: - ebből Társadalombiztosítási Alapok | C27: K5062 | D27: =SUM(E27:I27) -> 0
B28: - ebből elkülönített állami alapok | C28: K5063 | D28: =SUM(E28:I28) -> 0
B29: - ebből helyi önkormányzatok és költségvetési szerveik | C29: K5064 | D29: =SUM(E29:I29) -> 0
B30: - ebből társulások és költségvetési szerveik | C30: K50651 | D30: =SUM(E30:I30) -> 4750 | E30: 4750
B31: - ebből köznevelési társulásnak | C31: K50652 | D31: =SUM(E31:I31) -> 84141 | E31: 84141
B32: - ebből szociális társulásnak | C32: K50653 | D32: =SUM(E32:I32) -> 31299 | E32: 31299
B33: - ebből nemzetiségi önkormányzatok és költségvetési szerveik | C33: K5066 | D33: =SUM(E33:I33) -> 300 | E33: 300
A34: 19 | B34: Működési célú garancia- és kezességvállalásból származó kifizetés államháztartáson kívülre | C34: K507 | D34: =SUM(E34:I34) -> 0
A35: 20 | B35: Működési célú visszatérítendő támogatások, kölcsönök nyújtása államháztartáson kívülre | C35: K508 | D35: =SUM(E35:I35) -> 0
A36: 21 | B36: Árkiegészítések, ártámogatások | C36: K509 | D36: =SUM(E36:I36) -> 0
A37: 22 | B37: Kamattámogatások | C37: K510 | D37: =SUM(E37:I37) -> 0
A38: 23 | B38: Egyéb működési célú támogatások államháztartáson kívülre | C38: K511 | D38: =SUM(E38:I38) -> 4271 | E38: 4271
A39: 24 | B39: Tartalékok | C39: K512 | D39: =SUM(E39:I39) -> 16700 | E39: 16700
A40: 25 | B40: Egyéb működési célú kiadások | C40: K5 | D40: =SUM(E40:I40) -> 141461 | E40: =E20+E21+E22+E23+E24+E25+E34+E35+E36+E37+E38+E39 -> 141461 | F40: =F20+F21+F22+F23+F24+F25+F34+F35+F36+F37+F38+F39 -> 0 | G40: =G20+G21+G22+G23+G24+G25+G34+G35+G36+G37+G38+G39 -> 0 | H40: =H20+H21+H22+H23+H24+H25+H34+H35+H36+H37+H38+H39 -> 0 | I40: =I20+I21+I22+I23+I24+I25+I34+I35+I36+I37+I38+I39 -> 0
A41: 26 | B41: Immateriális javak, vagy jogok beszerzése, létesítése | C41: K61 | D41: =SUM(E41:I41) -> 900 | E41: 900
...

Sheet 2a
B1: Berhida Város Önkormányzata | C1: 2/a. melléklet
B2: 2015. évi költségvetés | C2: a 7/2016. (V.2.) önkormányzati rendelethez
B3: Kiadások | C3: adatok ezer Ft-ban
A5: Felújítások | C5: Eredeti előirányzat | D5: Mód ei | E5: Teljesítés 12.31. | F5: Teljesítés 03.30
A6: 1 | B6: ÖNK Kultúrház tető felúj | C6: 736 | D6: 736 | E6: 736 | F6: 736
A7: 2 | B7: ÖNK "Autósbolt" temetkezési iroda tetőfelúj | C7: 148 | D7: 148 | E7: 148 | F7: 148
A8: 3 | B8: ÖNK Pgytp sportöltöző felújítás | C8: 7 | D8: 7 | E8: 7 | F8: 7
A9: 4 | B9: ÖNK tervek(Hétszín, Műv Ház, Ady felúj, járda) | C9: 9919 | D9: 12077 | E9: 9919 | F9: 4699
A10: 5 | B10: ÖNK KEOP napelemes pályázat (Süni, Városháza) | C10: 20203 | D10: 7614 | E10: 7458
A11: 6 | B11: ÖH informatikai eszk felúj | C11: 508 | D11: 508 | E11: 15
A12: 7 | B12: ÖH egyéb gép, berend eszköz felúj | C12: 254 | D12: 254
A13: 8 | B13: ÖNK Pgytp lapostető szigetelési munkák ABC Pgytp | D13: 2561 | E13: 2561 | F13: 144
A14: 9 | B14: ÖNK tervek felújítási pályázatokhoz | D14: 7000 | E14: 2946
A15: 10 | B15: ÖNK II. Rákóczi F Ált Isk tető felújítás | D15: 5100 | E15: 4970
A16: 11 | B16: ÖNK Süni óvoda terasz felújítás II. ütem | D16: 2304 | E16: 2303
A17: 12 | B17: ÖNK Hivatal emeleti 4 db vizesblokk felúj | D17: 5200
A18: 13 | B18: ÖNK Kossuth u. 26. szolg lakás épület felújítás | D18: 3600 | E18: 550
A19: 14 | B19: ÖNK szennyvíz telep előtti épület vizesblokk, villany | D19: 709 | E19: 709
A20: 15 | B20: TESZ jármű felújítás | D20: 160 | E20: 152
A21: 16 | B21: ÖNK Hivatal tető felújítás (beázás miatt) | D21: 2500 | E21: 2008
A22: 17 | B22: ÖNK ÖNO épületében fűtés korszerűsítés | D22: 900
A23: 18 | B23: ÖNK adósság konszol. Pályázat út-járda felúj | D23: 105870
B24: ÖNK adósság konszol. Pályázat Süni tetőfelúj | D24: 32766
A25: 19 | B25: ÖNK hulladékudvar kerítés felújítás | D25: 500
A26: 20 | B26: ÖNK Süni Óvoda ablak, ajtócsere | D26: 500
A27: 21 | B27: Összesen | C27: =SUM(C6:C26) -> 31775 | D27: =SUM(D6:D26) -> 191014 | E27: =SUM(E6:E26) -> 34482 | F27: =SUM(F6:F26) -> 5734

Sheet 2b
B1: Berhida Város Önkormányzata | C1: 2/b. melléklet
B2: 2015. évi költségvetés | C2: a 7/2016. (V.2.) önkormányzati rendelethez
B3: Kiadások | C3: adatok ezer Ft-ban
A4: Beruházások | C4: Eredeti előirányzat | D4: Mód ei | E4: Teljesítés 12.31. | F4: Teljesítés 03.30 | G4: Teljesítés 06.30
A5: 1 | B5: ÖNK településrendezési terv | C5: 1143 | D5: 1143 | E5: 1143 | G5: 1143
A6: 2 | B6: ÖNK emlékmű pályázat | C6: 3686 | D6: 6186 | E6: 5743 | G6: 600
A7: 3 | B7: ÖNK Ady internet hálózat bővítés | C7: 148 | D7: 148 | E7: 148 | F7: 148
A8: 4 | B8: ÖNK urnahely beszerzés köztemető | C8: 600 | D8: 406 | E8: 406 | G8: 406
A9: 5 | B9: TESZ B1 kút üzembehelyezése | C9: 1143 | D9: 1143 | E9: 651 | G9: 651
A10: 6 | B10: TESZ informatikai eszköz beszerzés | C10: 191 | D10: 191 | E10: 151 | F10: 17 | G10: 106 | H10: 30
A11: 7 | B11: TESZ egyéb gép, berendezés, eszköz beszerz | C11: 1687 | D11: 1687 | E11: 525 | F11: 237 | G11: 56
A12: 8 | B12: TESZ egyéb gép, berend, eszköz Hoszú közf | C12: 254 | D12: 2254 | E12: 1875
A13: 9 | B13: TESZ egyéb gép, berend, eszköz Út-híd | C13: 889 | D13: 1889 | E13: 622 | G13: 389
A14: 10 | B14: ÖH egyéb gép, berendezés, eszköz beszerz | C14: 254 | D14: 1450 | E14: 1434 | F14: 114 | G14: 9
A15: 11 | B15: ÖH informatikai eszköz beszerz | C15: 889 | D15: 2840 | E15: 1229 | F15: 38 | G15: 300
A16: 12 | B16: Süni informatikai eszköz besz | C16: 127 | D16: 127 | E16: 109 | F16: 98
A17: 13 | B17: Süni egyéb gép,berend, eszköz besz | C17: 152 | D17: 663 | E17: 425 | G17: 30
A18: 14 | B18: Kultúrház egyéb gép, berend,közműveszköz besz pály | C18: 254 | D18: 0 | F18: 64 | G18: 36
A19: 15 | B19: ÖNK védőnői szolg. Informatikai, egyéb eszköz besz | C19: 127 | D19: 427 | E19: 252 | F19: 50 | G19: 70
A20: 16 | B20: ÖNK Széchenyi, Liszt, Csokonai u. járdaép terv felülv | C20: 2000 | D20: 1914 | E20: 1914 | G20: 508
A21: 17 | B21: ÖNK köznevelési int. Tárgyi eszköz beszerzés | C21: 381 | D21: 381 | E21: 310 | F21: 287
A22: 18 | B22: Süni egyéb gép, eszköz beszerzés | D22: 0
A23: 19 | B23: ÖNK tervek beruházási pályázatokhoz | D23: 5000 | G23: 508
A24: 20 | B24: Kultúr hangtechnika (pl:keverő) riasztó, hangjelző tel | D24: 1720 | E24: 1601 | G24: 22
A25: 21 | B25: Kultúr könyvtári polc beszerzés, egyéb eszköz | D25: 400 | E25: 305 | G25: 8
A26: 22 | B26: Kultúr WIFI rendszer kibővítés | D26: 35
A27: 23 | B27: Kultúr Műv ház egyéb eszköz beszerzés (vasaló stb) | D27: 25 | E27: 20 | G27: 20
A28: 24 | B28: TESZ hulladékgyűjtő edények beszerzése | D28: 420 | E28: 312
A29: 25 | B29: TESZ buszmegálló beszerzés Kiskovácsi, Pgytp) | D29: 0
A30: 26 | B30: ÖNK térfigyelő kamera vásárlás | D30: 3260 | E30: 1334
A31: 27 | B31: ÖNK Péti úti temető járdaépítés régi katolikus részen | D31: 2300 | E31: 2230
A32: 28 | B32: ÖNK Integrált Városfejl Stratégia | D32: 3810 | E32: 1270
A33: 29 | B33: ÖNK üzletsor falára térkép tábla készítés | D33: 76 | E33: 76
A34: 30 | B34: TESZ Nyugdíjas club bojler vásárlás | D34: 40 | E34: 30
A35: 31 | B35: ÖNK Városközpont zöldpark kial előkész munk | D35: 3000 | E35: 2568 | G35: 1312
A36: 32 | B36: ÖNK TESZ telephely vásárlás | D36: 7900
A37: 33 | B37: ÖNK Köztemető szennyvízelvezetés, öntözővíz leválasztás | D37: 930 | E37: 827
A38: 34 | B38: Kultúr: könyvtári érd növ tám könyv, eszköz, ber | D38: 172 | E38: 172
A39: 35 | B39: ÖNK buszmegálló beszerzés Kiskovácsi, Pgytp) | D39: 2000 | E39: 1873
A40: 36 | B40: ÖNK Kiskovácsi, Pgytp tiszti házak közvilágítás | D40: 1200 | E40: 813
...

Sheet 2d
B1: Berhida Város Önkormányzata | C1: 2.d. melléklet
B2: 2015. évi költségvetés | C2: a 7/2016. (V.2.) önkormányzati rendelethez
B3: Kiadások | C3: adatok ezer Ft-ban
B4: Módosított előirányzat
D5: ÖSSZESEN | E5: Önkorm | F5: Hivatal | G5: TESZ | H5: Süni | I5: Kultúrház
A6: Sor- szám | B6: Rovat megnevezése | C6: Rovat száma | D6: Módosított ei | E6: Módosított ei | F6: Módosított ei | G6: Módosított ei | H6: Módosított ei | I6: Módosított ei
A7: 1. | B7: 2. | C7: 3. | D7: 4. | E7: 5. | F7: 6. | G7: 7. | H7: 8. | I7: 9.
A8: 1 | B8: Személyi juttatások | C8: K1 | D8: =SUM(E8:I8) -> 326593 | E8: 29497 | F8: 97792 | G8: 116545 | H8: 66564 | I8: 16195
A9: 2 | B9: Munkaadókat terhelő járulékok és szociális hozzájárulási adó | C9: K2 | D9: =SUM(E9:I9) -> 80898 | E9: 8726 | F9: 27765 | G9: 21932 | H9: 17920 | I9: 4555
A10: 3 | B10: Dologi kiadások | C10: K3 | D10: =SUM(E10:I10) -> 249007 | E10: 53860 | F10: 32830 | G10: 87512 | H10: 46575 | I10: 28230
A11: 4 | B11: Társadalombiztosítási ellátások | C11: K41 | D11: =SUM(E11:I11) -> 0
A12: 5 | B12: Családi támogatások | C12: K42 | D12: =SUM(E12:I12) -> 6554 | E12: 6554
A13: 6 | B13: Pénzbeli kárpótlások, kártérítések | C13: K43 | D13: =SUM(E13:I13) -> 0
A14: 7 | B14: Betegséggel kapcsolatos (nem társadalombiztosítási) ellátások | C14: K44 | D14: =SUM(E14:I14) -> 900 | E14: 900
A15: 8 | B15: Foglalkoztatással, munkanélküliséggel kapcsolatos ellátások | C15: K45 | D15: =SUM(E15:I15) -> 13085 | E15: 13085
A16: 9 | B16: Lakhatással kapcsolatos ellátások | C16: K46 | D16: =SUM(E16:I16) -> 10079 | E16: 10079
A17: 10 | B17: Intézményi ellátottak pénzbeli juttatásai | C17: K47 | D17: =SUM(E17:I17) -> 0
A18: 11 | B18: Egyéb nem intézményi ellátások | C18: K48 | D18: =SUM(E18:I18) -> 20512 | E18: 20512
A19: 12 | B19: Ellátottak pénzbeli juttatásai | C19: K4 | D19: =SUM(E19:I19) -> 51130 | E19: =SUM(E11:E18) -> 51130 | F19: =SUM(F11:F18) -> 0 | G19: =SUM(G11:G18) -> 0 | H19: =SUM(H11:H18) -> 0 | I19: =SUM(I11:I18) -> 0
A20: 13 | B20: Nemzetközi kötelezettségek | C20: K501 | D20: =SUM(E20:I20) -> 0
A21: 14 | B21: Elvonások és befizetések | C21: K502 | D21: =SUM(E21:I21) -> 679 | E21: 541 | F21: 7 | G21: 58 | H21: 58 | I21: 15
A22: 15 | B22: Működési célú garancia- és kezességvállalásból származó kifizetés államháztartáson belülre | C22: K503 | D22: =SUM(E22:I22) -> 0
A23: 16 | B23: Működési célú visszatérítendő támogatások, kölcsönök nyújtása államháztartáson belülre | C23: K504 | D23: =SUM(E23:I23) -> 0
A24: 17 | B24: Működési célú visszatérítendő támogatások, kölcsönök törlesztése államháztartáson belülre | C24: K505 | D24: =SUM(E24:I24) -> 0
A25: 18 | B25: Egyéb működési célú támogatások államháztartáson belülre | C25: K506 | D25: =SUM(E25:I25) -> 130383 | E25: =SUM(E26:E34) -> 130383 | F25: =SUM(F26:F34) -> 0 | G25: =SUM(G26:G34) -> 0 | H25: =SUM(H26:H34) -> 0 | I25: =SUM(I26:I34) -> 0
B26: - ebből központi költségvetési szervek | C26: K5061 | D26: =SUM(E26:I26) -> 0
B27: - ebből Társadalombiztosítási Alapok | C27: K5062 | D27: =SUM(E27:I27) -> 0
B28: - ebből elkülönített állami alapok | C28: K5063 | D28: =SUM(E28:I28) -> 0
B29: - ebből fejezeti kezelésű kv-i sz-nek (Rendőrség) | E29: 500
B30: - ebből helyi önkormányzatok és költségvetési szerveik | C30: K5064 | D30: =SUM(E30:I30) -> 494 | E30: 494
B31: - ebből társulások és költségvetési szerveik | C31: K50651 | D31: =SUM(E31:I31) -> 5354 | E31: 5354
B32: - ebből köznevelési társulásnak | C32: K50652 | D32: =SUM(E32:I32) -> 86282 | E32: 86282
B33: - ebből szociális társulásnak | C33: K50653 | D33: =SUM(E33:I33) -> 37453 | E33: 37453
B34: - ebből nemzetiségi önkormányzatok és költségvetési szerveik | C34: K5066 | D34: =SUM(E34:I34) -> 300 | E34: 300
A35: 19 | B35: Működési célú garancia- és kezességvállalásból származó kifizetés államháztartáson kívülre | C35: K507 | D35: =SUM(E35:I35) -> 0
A36: 20 | B36: Működési célú visszatérítendő támogatások, kölcsönök nyújtása államháztartáson kívülre | C36: K508 | D36: =SUM(E36:I36) -> 0
A37: 21 | B37: Árkiegészítések, ártámogatások | C37: K509 | D37: =SUM(E37:I37) -> 0
A38: 22 | B38: Kamattámogatások | C38: K510 | D38: =SUM(E38:I38) -> 0
A39: 23 | B39: Egyéb működési célú támogatások államháztartáson kívülre | C39: K511 | D39: =SUM(E39:I39) -> 4161 | E39: 4161
A40: 24 | B40: Tartalékok | C40: K512 | D40: =SUM(E40:I40) -> 137991 | E40: 137991
...

Sheet 2e
B1: Berhida Város Önkormányzata | C1: 2.e. melléklet
B2: 2015. évi költségvetés | C2: a 7/2016. (V.2.) önkormányzati rendelethez
B3: Kiadások | C3: adatok ezer Ft-ban
B4: Teljesítés 12.31
D5: ÖSSZESEN | E5: Önkorm | F5: Hivatal | G5: TESZ | H5: Süni | I5: Kultúrház
A6: Sor- szám | B6: Rovat megnevezése | C6: Rovat száma | D6: Teljesítés 12.31 | E6: Teljesítés 12.31 | F6: Teljesítés 12.31 | G6: Teljesítés 12.31 | H6: Teljesítés 12.31 | I6: Teljesítés 12.31
A7: 1. | B7: 2. | C7: 3. | D7: 4. | E7: 5. | F7: 6. | G7: 7. | H7: 8. | I7: 9.
A8: 1 | B8: Személyi juttatások | C8: K1 | D8: =SUM(E8:I8) -> 308005 | E8: 27166 | F8: 89425 | G8: 113442 | H8: 62653 | I8: 15319
A9: 2 | B9: Munkaadókat terhelő járulékok és szociális hozzájárulási adó | C9: K2 | D9: =SUM(E9:I9) -> 75278 | E9: 7515 | F9: 24844 | G9: 21543 | H9: 17080 | I9: 4296
A10: 3 | B10: Dologi kiadások | C10: K3 | D10: =SUM(E10:I10) -> 194666 | E10: 47184 | F10: 19517 | G10: 67264 | H10: 36693 | I10: 24008
A11: 4 | B11: Társadalombiztosítási ellátások | C11: K41 | D11: =SUM(E11:I11) -> 0
A12: 5 | B12: Családi támogatások | C12: K42 | D12: =SUM(E12:I12) -> 6554 | E12: 6554
A13: 6 | B13: Pénzbeli kárpótlások, kártérítések | C13: K43 | D13: =SUM(E13:I13) -> 0
A14: 7 | B14: Betegséggel kapcsolatos (nem társadalombiztosítási) ellátások | C14: K44 | D14: =SUM(E14:I14) -> 52 | E14: 52
A15: 8 | B15: Foglalkoztatással, munkanélküliséggel kapcsolatos ellátások | C15: K45 | D15: =SUM(E15:I15) -> 12973 | E15: 12973
A16: 9 | B16: Lakhatással kapcsolatos ellátások | C16: K46 | D16: =SUM(E16:I16) -> 8859 | E16: 8859
A17: 10 | B17: Intézményi ellátottak pénzbeli juttatásai | C17: K47 | D17: =SUM(E17:I17) -> 0
A18: 11 | B18: Egyéb nem intézményi ellátások | C18: K48 | D18: =SUM(E18:I18) -> 7102 | E18: 7102
A19: 12 | B19: Ellátottak pénzbeli juttatásai | C19: K4 | D19: =SUM(E19:I19) -> 35540 | E19: =SUM(E11:E18) -> 35540 | F19: =SUM(F11:F18) -> 0 | G19: =SUM(G11:G18) -> 0 | H19: =SUM(H11:H18) -> 0 | I19: =SUM(I11:I18) -> 0
A20: 13 | B20: Nemzetközi kötelezettségek | C20: K501 | D20: =SUM(E20:I20) -> 0
A21: 14 | B21: Elvonások és befizetések | C21: K502 | D21: =SUM(E21:I21) -> 651 | E21: 513 | F21: 7 | G21: 58 | H21: 58 | I21: 15
A22: 15 | B22: Működési célú garancia- és kezességvállalásból származó kifizetés államháztartáson belülre | C22: K503 | D22: =SUM(E22:I22) -> 0
A23: 16 | B23: Működési célú visszatérítendő támogatások, kölcsönök nyújtása államháztartáson belülre | C23: K504 | D23: =SUM(E23:I23) -> 0
A24: 17 | B24: Működési célú visszatérítendő támogatások, kölcsönök törlesztése államháztartáson belülre | C24: K505 | D24: =SUM(E24:I24) -> 0
A25: 18 | B25: Egyéb működési célú támogatások államháztartáson belülre | C25: K506 | D25: =SUM(E25:I25) -> 115911 | E25: =SUM(E26:E34) -> 115911 | F25: =SUM(F26:F34) -> 0 | G25: =SUM(G26:G34) -> 0 | H25: =SUM(H26:H34) -> 0 | I25: =SUM(I26:I34) -> 0
B26: - ebből központi költségvetési szervek | C26: K5061 | D26: =SUM(E26:I26) -> 0
B27: - ebből Társadalombiztosítási Alapok | C27: K5062 | D27: =SUM(E27:I27) -> 0
B28: - ebből elkülönített állami alapok | C28: K5063 | D28: =SUM(E28:I28) -> 0
B29: - ebből fejezeti kezelésű kv-i sz-nek (Rendőrség) | E29: 500
B30: - ebből helyi önkormányzatok és költségvetési szerveik | C30: K5064 | D30: =SUM(E30:I30) -> 494 | E30: 494
B31: - ebből társulások és költségvetési szerveik | C31: K50651 | D31: =SUM(E31:I31) -> 4164 | E31: 4164
B32: - ebből köznevelési társulásnak | C32: K50652 | D32: =SUM(E32:I32) -> 81900 | E32: 81900
B33: - ebből szociális társulásnak | C33: K50653 | D33: =SUM(E33:I33) -> 28553 | E33: 28553
B34: - ebből nemzetiségi önkormányzatok és költségvetési szerveik | C34: K5066 | D34: =SUM(E34:I34) -> 300 | E34: 300
A35: 19 | B35: Működési célú garancia- és kezességvállalásból származó kifizetés államháztartáson kívülre | C35: K507 | D35: =SUM(E35:I35) -> 0
A36: 20 | B36: Működési célú visszatérítendő támogatások, kölcsönök nyújtása államháztartáson kívülre | C36: K508 | D36: =SUM(E36:I36) -> 0
A37: 21 | B37: Árkiegészítések, ártámogatások | C37: K509 | D37: =SUM(E37:I37) -> 0
A38: 22 | B38: Kamattámogatások | C38: K510 | D38: =SUM(E38:I38) -> 0
A39: 23 | B39: Egyéb működési célú támogatások államháztartáson kívülre | C39: K511 | D39: =SUM(E39:I39) -> 4113 | E39: 4113
A40: 24 | B40: Tartalékok | C40: K512 | D40: =SUM(E40:I40) -> 0
...

Sheet 3.a
B1: Berhida Város Önkormányzatának | C1: 3.a. melléklet
B2: 2015. Évi költségvetési beszámolóhoz | C2: a 7/2016. (V.2.) önkormányzati rendelethez
D3: adatok Ft-ban
A5: 3.a - A helyi önkormányzatok kiegészítő támogatásainak és egyéb kötött felhasználású támogatásainak elszámolása
A6: # | B6: Megnevezés | C6: A központi költségvetésből támogatásként rendelkezésre bocsátott összeg | D6: Az önkormányzat által az adott célra ténylegesen felhasznált összeg | E6: Az önkormányzat által fel nem használt, de a következő évben jogszerűen felhasználható összeg | F6: Eltérés (=4+5-3)
A7: 1 | B7: 2 | C7: 3 | D7: 4 | E7: 5 | F7: 6
A8: 03 | B8: Gyermekszegénység elleni program keretében nyári étkeztetés biztosítása | C8: 1936000 | D8: 1936000 | E8: 0 | F8: 0
A9: 10 | B9: Helyi önkormányzatok működési célú költségvetési támogatásai összesen (01+….+ 09) | C9: 1936000 | D9: 1936000 | E9: 0 | F9: 0
A10: 23 | B10: Közművelődési érdekeltségnövelő támogatás | C10: 303000 | D10: 303000 | E10: 0 | F10: 0
A11: 29 | B11: Adósságkonszolidációban nem részesült települési önkormányzatok fejlesztéseinek támogatása | C11: 180958223 | D11: 0 | E11: 180958223 | F11: 0
A12: 30 | B12: Helyi önkormányzatok felhalmozási célú költségvetési támogatásai összesen (11+12+13+20+21…+29) | C12: 181261223 | D12: 303000 | E12: 180958223 | F12: 0
A13: 42 | B13: Helyi önkormányzatok kiegészítő támogatásai összesen (=10+30+31+…..+41) | C13: 183197223 | D13: 2239000 | E13: 180958223 | F13: 0
A14: 43 | B14: A 2014. évről áthúzódó bérkompenzáció támogatása | C14: 395097 | D14: 395097 | E14: 0 | F14: 0
A15: 44 | B15: A köznevelési intézmények működtetéséhez kapcsolódó támogatás | C15: 2931500 | D15: 2931500 | E15: 0 | F15: 0
A16: 45 | B16: Pénzbeli szociális ellátások kiegészítése | C16: 20165476 | D16: 20038756 | E16: 0 | F16: -126720
A17: 46 | B17: A települési önkormányzatok szociális feladatainak egyéb támogatása | C17: 47687090 | D17: 47687090 | E17: 0 | F17: 0
A18: 47 | B18: Szociális ágazati pótlék | C18: 1518800 | D18: 1517986 | E18: 0 | F18: -814
A19: 51 | B19: Települési önkormányzatok nyilvános könyvtári és közművelődési feladatainak támogatása | C19: 6922080 | D19: 6922080 | E19: 0 | F19: 0
... A23: 80 | B23: Szociális ágazati kiegészítő pótlék támogatása (1520/2015. (VII. 27.) Korm. hat.) | C23: 1077105 | D23: 1077105 | E23: 0 | F23: 0

Sheet 3 b
B1: Berhida Város Önkormányzatának | C1: 3.b. melléklet
B2: 2015. Évi költségvetési beszámolóhoz | C2: a 7/2016. (V.2.) önkormányzati rendelethez
D3: adatok Ft-ban
A5: 3.b - Az önkormányzatok általános, köznevelési és szociális feladataihoz kapcsolódó támogatások elszámolása
A6: # | B6: Megnevezés | C6: Költségvetési törvény alapján feladatátvétellel/feladatát-adással korrigált támogatás | D6: Támogatás évközi változás Május 15. | E6: Támogatás évközi változás Október 1. | F6: Tényleges támogatás | G6: Évvégi eltérés (+,-) mutatószám szerint támogatás (=6-(3+4+5)) | H6: A 05. űrlap alapján a támogatási jogcímhez kapcsolódó kormányzati funkció szerinti kiadások összege | I6: Az önkormányzat által az adott célra december 31-ig ténylegesen felhasznált összeg (<=6.) | J6: Eltérés (támogatásban és felhasználás szerint) (=7-(6-8))
A7: 1 | B7: 2 | C7: 3 | D7: 4 | E7: 5 | F7: 6 | G7: 7 | H7: 8 | I7: 9 | J7: 10
A8: 01 | B8: I.1. A települési önkormányzatok működésének támogatása 09 01 01 05 03 | C8: 139174406 | D8: 0 | E8: 0 | F8: 139174406 | G8: 0 | H8: 547228910 | I8: 139174406 | J8: 0
A9: 03 | B9: I.3. Budapest Főváros Önkormányzatának kiegészítő támogatása 09 01 01 07 01 | C9: 0 | D9: 0 | E9: 0 | F9: 0 | G9: 0 | I9: 0 | J9: 0
A10: 04 | B10: I.4. Határátkelőhelyek fenntartásának támogatása 09 01 01 08 01 | C10: 0 | D10: 0 | E10: 0 | F10: 0 | G10: 0 | I10: 0 | J10: 0
A11: 06 | B11: II. A települési önkormányzatok egyes köznevelési feladatainak támogatása, a II.4. és II.5. jogcímek kivételével 09 01 02 00 00 | C11: 119076800 | D11: 0 | E11: 891067 | F11: 120479900 | G11: 512033 | H11: 146703000 | I11: 120479900 | J11: 512033
A12: 07 | B12: II.5. Kiegészítő támogatás az óvodapedagógusok minősítéséből adódó többletfeladatokhoz 09 01 02 05 00 | C12: 2924000 | D12: 0 | E12: 0 | F12: 2924000 | G12: 0 | H12: 26223100 | I12: 2924000 | J12: 0
A13: 08 | B13: III.3. Egyes szociális és gyermekjóléti feladatok támogatása 09 01 03 03 00 | C13: 17103134 | D13: 494100 | E13: -182688 | F13: 17395358 | G13: -19188 | H13: 28553000 | I13: 17395358 | J13: -19188
A14: 10 | B14: III.5. Gyermekétkeztetés támogatása 09 01 03 05 00 | C14: 50553288 | D14: 207777 | E14: 141795 | F14: 50609100 | G14: -293760 | H14: 50388642 | I14: 50388642 | J14: -514218
A15: 11 | B15: Összesen 9999999 | C15: 328831628 | D15: 701877 | E15: 850174 | F15: 330582764 | G15: 199085 | H15: =SUM(H8:H13) -> 748708010 | I15: 330362306 | J15: -21373

Sheet 4.a
B1: Berhida Város Önkormányzatának | C1: 4.a. melléklet
B2: 2015. Évi költségvetési beszámolóhoz | C2: a 7/2016. (V.2.) önkormányzati rendelethez
D3: adatok ezer Ft-ban
A5: 4.a - Maradványkimutatás
B6: Megnevezés | C6: Összeg
A7: 1 | B7: 2 | C7: 3
A8: 01 | B8: 01 Alaptevékenység költségvetési bevételei | C8: 1142762
A9: 02 | B9: 02 Alaptevékenység költségvetési kiadásai | C9: 825174
A10: 03 | B10: I Alaptevékenység költségvetési egyenlege (=01-02) | C10: 317588
A11: 04 | B11: 03 Alaptevékenység finanszírozási bevételei | C11: 679373
A12: 05 | B12: 04 Alaptevékenység finanszírozási kiadásai | C12: 431080
A13: 06 | B13: II Alaptevékenység finanszírozási egyenlege (=03-04) | C13: 248293
A14: 07 | B14: A) Alaptevékenység maradványa (=±I±II) | C14: 565881
A15: 15 | B15: C) Összes maradvány (=A+B) | C15: 565881
A16: 16 | B16: D) Alaptevékenység kötelezettségvállalással terhelt maradványa | C16: 200222
A17: 17 | B17: E) Alaptevékenység szabad maradványa (=A-D) | C17: 365659

Sheet 4.b
C1: Berhida Város Önkormányzata
C3: Maradványból történő feladatok finanszírozása | L3: 4.b melléklet
D4: 2015. évi | I4: a 7/2016. (V.2.) önkormányzati rendelethez
K5: adatok ezer Ft-ban
B6: A | C6: B | D6: C | E6: D | F6: E | G6: F | H6: G | I6: H | J6: I | K6: J | L6: K | M6: L | N6: M
A7: 1 | C7: Működési | D7: SZJ | E7: Járulék | F7: Dologi | G7: Áht belül átadot pe | H7: áht kív pe | I7: szoc ellátások | J7: Felújítás | K7: Beruházás | L7: Tartalék | M7: finanszírozási kiad | N7: Összesen
A8: 2 | B8: Süni Óvoda | C8: =SUM(D8:F8) -> 4153 | D8: =SUM(D9:D11) -> 2618 | E8: =SUM(E9:E11) -> 707 | F8: =SUM(F9:F11) -> 828 | G8: =SUM(G9:G11) -> 0 | H8: =SUM(H9:H11) -> 0 | I8: =SUM(I9:I11) -> 0 | J8: =SUM(J9:J11) -> 0 | K8: =SUM(K9:K11) -> 0 | ... M8: =SUM(M9:M11) -> 0 | N8: =SUM(C8)+SUM(G8:M8) -> 4153
A9: 3 | B9: bérkeret | C9: =SUM(D9:F9) -> 3325 | D9: 2618 | E9: 707 | N9: =SUM(C9)+SUM(G9:M9) -> 3325
A10: 4 | B10: áfa befizetési köt áthúzódó | C10: =SUM(D10:F10) -> 332 | F10: 332 | N10: =SUM(C10)+SUM(G10:M10) -> 332
A11: 5 | B11: karbantartás + áfa | C11: =SUM(D11:F11) -> 496 | F11: 496 | N11: =SUM(C11)+SUM(G11:M11) -> 496
A12: 6 | B12: Kultúrház és könyvtár | C12: =SUM(D12:F12) -> 1546 | D12: =SUM(D13:D18) -> 905 | E12: =SUM(E13:E18) -> 242 | F12: =SUM(F13:F18) -> 399 | G12: =SUM(G13:G18) -> 0 | H12: =SUM(H13:H18) -> 0 | I12: =SUM(I13:I18) -> 0 | J12: =SUM(J13:J18) -> 0 | K12: =SUM(K13:K18) -> 22 | ... M12: =SUM(M13:M18) -> 0 | N12: =SUM(C12)+SUM(G12:M12) -> 1568
A13: 7 | B13: bérkeret | C13: =SUM(D13:F13) -> 762 | D13: 600 | E13: 162 | N13: =SUM(C13)+SUM(G13:M13) -> 762
A14: 8 | B14: könyvtár nyomtatvány+áfa | C14: =SUM(D14:F14) -> 10 | F14: 10 | N14: =SUM(C14)+SUM(G14:M14) -> 10
A15: 9 | B15: könyvvásárlás+áfa | C15: =SUM(D15:F15) -> 20 | F15: 20 | N15: =SUM(C15)+SUM(G15:M15) -> 20
A16: 10 | B16: karbantartási anyag + áfa radiátor szelepcsere | C16: =SUM(D16:F16) -> 60 | F16: 60 | N16: =SUM(C16)+SUM(G16:M16) -> 60
A17: 11 | B17: karbantartási szolg + áfa érintésvéd | C17: =SUM(D17:F17) -> 100 | F17: 100 | N17: =SUM(C17)+SUM(G17:M17) -> 100
A18: 12 | B18: Kultúrház és kt tagint. Művelődési ház és kt | C18: =SUM(D18:F18) -> 594 | D18: =SUM(D19:D25) -> 305 | E18: =SUM(E19:E25) -> 80 | F18: =SUM(F19:F25) -> 209 | G18: =SUM(G19:G25) -> 0 | H18: =SUM(H19:H25) -> 0 | I18: =SUM(I19:I25) -> 0 | J18: =SUM(J19:J25) -> 0 | K18: =SUM(K19:K25) -> 22 | ... M18: =SUM(M19:M25) -> 0 | N18: =SUM(C18)+SUM(G18:M18) -> 616
A19: 13 | B19: bérkeret | C19: =SUM(D19:F19) -> 254 | D19: 200 | E19: 54 | N19: =SUM(C19)+SUM(G19:M19) -> 254
A20: 14 | B20: könyvvásárlás+áfa | C20: =SUM(D20:F20) -> 20 | F20: 20 | N20: =SUM(C20)+SUM(G20:M20) -> 20
A21: 15 | B21: könyvtár nyomtatvány+áfa | C21: =SUM(D21:F21) -> 10 | F21: 10 | N21: =SUM(C21)+SUM(G21:M21) -> 10
A22: 16 | B22: Megbízási díj Néptánccs vez | C22: =SUM(D22:F22) -> 131 | D22: 105 | E22: 26 | N22: =SUM(C22)+SUM(G22:M22) -> 131
A23: 17 | B23: karbantartás + áfa | C23: =SUM(D23:F23) -> 79 | F23: 79 | N23: =SUM(C23)+SUM(G23:M23) -> 79
A24: 18 | B24: karbantartási szolg + áfa érintésvéd | C24: =SUM(D24:F24) -> 100 | F24: 100 | N24: =SUM(C24)+SUM(G24:M24) -> 100
A25: 19 | B25: zsámoly áthúzódó | C25: =SUM(D25:F25) -> 0 | K25: 22 | N25: =SUM(C25)+SUM(G25:M25) -> 22
A26: 20 | B26: Tesz összesen | C26: =SUM(D26:F26) -> 12186 | D26: =SUM(D27:D41) -> 2787 | E26: =SUM(E27:E41) -> 771 | F26: =SUM(F27:F41) -> 8628 | G26: =SUM(G27:G41) -> 0 | H26: =SUM(H27:H41) -> 0 | I26: =SUM(I27:I41) -> 0 | J26: =SUM(J27:J41) -> 0 | K26: =SUM(K27:K41) -> 2350 | ... M26: =SUM(M27:M41) -> 0 | N26: =SUM(C26)+SUM(G26:M26) -> 14536
A27: 21 | B27: bérkeret | C27: =SUM(D27:F27) -> 2523 | D27: 1987 | E27: 536 | N27: =SUM(C27)+SUM(G27:M27) -> 2523
A28: 22 | B28: Köznevelési intézm karbant + áfa | C28: =SUM(D28:F28) -> 1200 | F28: 1200 | N28: =SUM(C28)+SUM(G28:M28) -> 1200
A29: 23 | B29: Köznevelési intézmény informatikai szolg+áfa | F29: 600 | N29: =SUM(C29)+SUM(G29:M29) -> 0
A30: 24 | B30: Hulladékgazdálkodás szolg. Áfa | C30: =SUM(D30:F30) -> 945 | F30: 945 | N30: =SUM(C30)+SUM(G30:M30) -> 945
A31: 25 | B31: Út-híd üzemelt feladat karbantartás + áfa | C31: =SUM(D31:F31) -> 4823 | F31: 4823 | N31: =SUM(C31)+SUM(G31:M31) -> 4823
A32: 26 | B32: sportfeladatok villamos energia | C32: =SUM(D32:F32) -> 200 | F32: 200 | N32: =SUM(C32)+SUM(G32:M32) -> 200
A33: 27 | B33: B1 kút üzembehelyezése áth | C33: =SUM(D33:F33) -> 0 | K33: 450 | N33: =SUM(C33)+SUM(G33:M33) -> 450
A34: 28 | B34: padok vásárlása közterületre | C34: =SUM(D34:F34) -> 0 | K34: 1100 | N34: =SUM(C34)+SUM(G34:M34) -> 1100
A35: 29 | B35: Hosszú közfoglalk. Táppénz hj, betegsz | C35: =SUM(D35:F35) -> 400 | D35: 300 | E35: 100 | N35: =SUM(C35)+SUM(G35:M35) -> 400
A36: 30 | B36: zöldterületkezelés karbantartási anyag+ áfa | C36: =SUM(D36:F36) -> 440 | F36: 440 | N36: =SUM(C36)+SUM(G36:M36) -> 440
A37: 31 | B37: város és községgazd. Helyettesítés | C37: =SUM(D37:F37) -> 635 | D37: 500 | E37: 135 | N37: =SUM(C37)+SUM(G37:M37) -> 635
A38: 32 | B38: zöldterületkezelés növényvásárlás+áfa | C38: =SUM(D38:F38) -> 420 | F38: 420 | N38: =SUM(C38)+SUM(G38:M38) -> 420
A39: 33 | B39: Város és községgazd egyéb gép, berendezés besz | C39: =SUM(D39:F39) -> 0 | K39: 200 | N39: =SUM(C39)+SUM(G39:M39) -> 200
A40: 34 | B40: Város és községg imm, jav, vagy ért jog szoftver be | C40: =SUM(D40:F40) -> 0 | K40: 200 | N40: =SUM(C40)+SUM(G40:M40) -> 200
A41: 35 | B41: Város és községg informatikai gép beszerzés+áfa | C41: =SUM(D41:F41) -> 0 | K41: 400 | N41: =SUM(C41)+SUM(G41:M41) -> 400
...

Sheet 5.mell
B1: 2015 évi költségvetés | D1: 5. melléklet
B2: Berhida Város Önkormányzata | D2: a 7/2016. (V.2.) önkormányzati rendelethez
B3: Közösségi támogatások
D4: adatok ezer Ft-ban
A5: Közösségi támogatások 2015 évre
A7: I. Sporttámogatás Berhida működési célú | D7: előirányzat | E7: teljesítés 12.31
A8: Peremartoni Sport Club Berhida | D8: 960 | E8: 960
A9: Berhida Öregfiúk (PSCB- keresztül) | D9: 80 | E9: 80
A10: Berhida Lovasok KSE | D10: 400 | E10: 400
A11: Pearl Dance R.S.E. | D11: 450 | E11: 450
A12: 2012 Berhida Szabadidő és Tömegsport Egyesület | D12: 80 | E12: 80
A13: KID Rock and Roll sportegyesület | D13: 43 | E13: 43
A14: Tartalék
A15: Összesen | D15: =SUM(D8:D14) -> 2013 | E15: =SUM(E8:E14) -> 2013
A17: II. Közösségi támogatás működési célú | D17: előirányzat | E17: teljesítés
A18: 1.) Kultúrház keretében | D18: =SUM(D19:D26) -> 1271 | E18: =SUM(E19:E26) -> 1271
A19: Nyugdíjas Klub Berhida | D19: 227 | E19: 227
A20: Nyugd Klub tiszt díj | D20: 274 | E20: 274
A21: Nyugdíjas Klub Berhida Népt. és Mazs.cs. | D21: 100 | E21: 100
A22: Pere Rúzs Tánccsoport | D22: 60 | E22: 60
A23: Búzavirág Népdalkör | D23: 100 | E23: 100
A24: Kertbarát Kör | D24: 220 | E24: 220
A25: Berhida Táncegyüttes | D25: 90 | E25: 90
A26: Berhida Táncegyüttes tart-ból | D26: 200 | E26: 200
A27: 2.) Műv.Ház keretében | D27: =SUM(D28:D34) -> 517 | E27: =SUM(E28:E34) -> 517
A28: Őszi Napfény Nyugdíjas Klub | D28: 140 | E28: 140
A29: Őszi Napfény Nyugdíjas Klub tiszt díj | D29: 45 | E29: 45
A30: Őszi Napfény Néptánc Csoport | D30: 70 | E30: 70
A31: Őszi Napfény Néptánc Csoport tiszt díj | D31: 46 | E31: 46
A32: PERSZE színjátszó | D32: 100 | E32: 100
A33: PERSZE színjátszó tiszt díj | D33: 46 | E33: 46
A34: Őszi Napfény Népdalkör | D34: 70 | E34: 70
A35: 3.) Peremartonért Egyesület | D35: 150 | E35: 150
A36: Peremartonért Egyesület tiszt díj | D36: 120 | E36: 119
A37: 4.) Mozgássérültek Veszprém Megyei Egyesülete Berhidai Csoportja | D37: 150 | E37: 150
A38: 5.) Összefogással Berhidáért Egyesület | D38: 400 | E38: 400
A39: 8.) Berhida Városi Polgárőrség Egyesület | D39: 500 | E39: 500
... A43: 12. Győri Aneszteziológiáért Alapítvány | D43: 74 | E43: 74
A44: Összes közösségi | D44: =SUM(D35:D43) -> 1747 | E44: =SUM(E35:E43) -> 1746
A45: Összesen | D45: =D18+D27+D44 -> 3535 | E45: =E18+E27+E44 -> 3534
...

Sheet 6.mell.
C1: Berhida Város Önkormányzata
C2: ellátottak pénzbeli juttatásai | F2: 6. melléklet
C3: 2015. év | F3: a 7/2016. (V.2.) önkormányzati rendelethez
F4: adatok ezer Ft-ban
B5: A | C5: B | D5: C | E5: D | F5: E | G5: F
B6: Szociális jogcímek | C6: átruházott hatáskört gyakorló | E6: Képvis.test.jogk. | F6: Jegyzői jogk. | G6: Összes | H6: Teljesítés
C7: polgármester | D7: Humán Biz. | G7: előirányzat | H7: 42369
A8: 1 | B8: Pénzbeli ellátások összesen | C8: =SUM(C9:C21) -> 3300 | D8: =SUM(D9:D21) -> 13900 | E8: =SUM(E9:E21) -> 2500 | F8: =SUM(F9:F21) -> 31430 | G8: =SUM(G9:G21) -> 51130 | H8: =SUM(H9:H21) -> 35540
A9: 2 | B9: Rendsz szoc segély 03 hóig önr | F9: 1712 | G9: =SUM(C9:F9) -> 1712 | H9: 1547
A10: 3 | B10: foglal hely tám 03 hóig önrész | F10: 13085 | G10: =SUM(C10:F10) -> 13085 | H10: 12973
A11: 4 | B11: Lakásfenntartási tám. | F11: 10079 | G11: =SUM(C11:F11) -> 10079 | H11: 8859
B12: óvodáztatási támog | F12: 510 | G12: =SUM(C12:F12) -> 510 | H12: 510
A13: 4 | B13: term gyermekvédelmi tám | F13: 6044 | G13: =SUM(C13:F13) -> 6044 | H13: 6044
A14: 5 | B14: Települési támogatás
A15: 6 | B15: Lakhatási támog | D15: 12000 | G15: =SUM(C15:F15) -> 12000 | H15: 1870
A16: 7 | B16: Gyermekvéd.támog. | D16: 900 | E16: 100 | G16: =SUM(C16:F16) -> 1000 | H16: 15
A17: 8 | B17: Bursa Hung. (ösztöndíj tám) | E17: 2400 | G17: =SUM(C17:F17) -> 2400 | H17: 1690
A18: 9 | B18: Temetési segély | C18: 1500 | G18: =SUM(C18:F18) -> 1500 | H18: 1035
A19: 10 | B19: Átmeneti segély | D19: 1000 | G19: =SUM(C19:F19) -> 1000 | H19: 365
A20: 11 | B20: Köztemetés | C20: 900 | G20: =SUM(C20:F20) -> 900 | H20: 580
A21: 12 | B21: Közgyógyell,betegséggel kapcs | C21: 900 | G21: =SUM(C21:F21) -> 900 | H21: 52

Sheet 7 mell
B1: Berhida Város Önkormányzatának
B2: 2015. Évi költségvetési beszámolóhoz | E2: 7. melléklet
E3: a 7/2016. (V.2.) önkormányzati rendelethez
F4: adatok ezer Ft-ban
A5: 7 mell - Az eszközök értékvesztésének alakulása
B6: Megnevezés | C6: Nyitó adatok, bekerülési érték | D6: Nyitó adatok, értékvesztés | E6: Tárgyidőszakban elszámolt értékvesztés | F6: Tárgyidőszakban visszaírt értékvesztés | G6: Záró adatok, bekerülési érték | H6: Záró adatok, értékvesztés
A7: 1 | B7: 2 | C7: 3 | D7: 4 | E7: 5 | F7: 6 | G7: 7 | H7: 8
A8: 01 | B8: Adott előlegek | C8: 52 | D8: 0 | E8: 0 | F8: 0 | G8: 130 | H8: 0
A9: 02 | B9: Tartós részesedések | C9: 11241 | D9: 0 | E9: 0 | F9: 0 | G9: 11241 | H9: 91
A10: 04 | B10: Készletek | C10: 717 | D10: 0 | E10: 0 | F10: 0 | G10: 1012 | H10: 0
A11: 06 | B11: Kincstáron kívüli forintszámlák | C11: 234051 | D11: 0 | E11: 0 | F11: 0 | G11: 568229 | H11: 0
A12: 08 | B12: Követelések a követelés jellegű sajátos elszámolások kivételével | C12: 57861 | D12: 24999 | E12: 6911 | F12: 6177 | G12: 54237 | H12: 25733
A13: 11 | B13: Összesen (=01+…+10) | C13: 303922 | D13: 24999 | E13: 6911 | F13: 6177 | G13: 634849 | H13: 25824

Sheet 8 mell
B1: Berhida Város Önkormányzatának
B2: 2015. Évi költségvetési beszámolóhoz | E2: 8. melléklet
E3: a 7/2016. (V.2.) önkormányzati rendelethez
F4: adatok ezer Ft-ban
A5: 8 - Kimutatás az immateriális javak, tárgyi eszközök koncesszióba, vagyonkezelésbe adott eszközök állományának alakulásáról
B6: Megnevezés | C6: Immateriális javak | D6: Ingatlanok és kapcsolódó vagyoni értékű jogok | E6: Gépek, berendezések, felszerelések, járművek | F6: Tenyészállatok | G6: Beruházások és felújítások | H6: Koncesszióba, vagyonkezelésbe adott eszközök | I6: Összesen (=3+4+5+6+7+8)
A7: 1 | B7: 2 | C7: 3 | D7: 4 | E7: 5 | F7: 6 | G7: 7 | H7: 8 | I7: 9
A8: 01 | B8: Tárgyévi nyitó állomány (előző évi záró állomány) | C8: 24887 | D8: 3736370 | E8: 197077 | F8: 0 | G8: 33785 | H8: 154788 | I8: 4146907
A9: 02 | B9: Immateriális javak beszerzése, nem aktivált beruházások | C9: 1965 | D9: 0 | E9: 0 | F9: 0 | G9: 7256 | H9: 0 | I9: 9221
A10: 03 | B10: Nem aktivált felújítások | C10: 0 | D10: 0 | E10: 0 | F10: 0 | G10: 10328 | H10: 0 | I10: 10328
A11: 04 | B11: Beruházásokból, felújításokból aktivált érték | C11: 0 | D11: 37572 | E11: 14286 | F11: 0 | G11: 0 | H11: 0 | I11: 51858
A12: 05 | B12: Térítésmentes átvétel | C12: 0 | D12: 784 | E12: 410 | F12: 0 | G12: 0 | H12: 0 | I12: 1194
A13: 07 | B13: Egyéb növekedés | C13: 0 | D13: 488 | E13: 122 | F13: 0 | G13: 0 | H13: 0 | I13: 610
A14: 08 | B14: Összes növekedés (=02+…+07) | C14: 1965 | D14: 38844 | E14: 14818 | F14: 0 | G14: 17584 | H14: 0 | I14: 73211
A15: 10 | B15: Hiány, selejtezés, megsemmisülés | C15: 0 | D15: 0 | E15: 1791 | F15: 0 | G15: 4908 | H15: 0 | I15: 6699
A16: 11 | B16: Térítésmentes átadás | C16: 0 | D16: 0 | E16: 411 | F16: 0 | G16: 0 | H16: 0 | I16: 411
A17: 13 | B17: Egyéb csökkenés | C17: 0 | D17: 0 | E17: 0 | F17: 0 | G17: 1 | H17: 0 | I17: 1
A18: 14 | B18: Összes csökkenés (=09+…+13) | C18: 0 | D18: 0 | E18: 2202 | F18: 0 | G18: 4909 | H18: 0 | I18: 7111
A19: 15 | B19: Bruttó érték összesen (=01+08-14) | C19: 26852 | D19: 3775214 | E19: 209693 | F19: 0 | G19: 46460 | H19: 154788 | I19: 4213007
... A26: 26 | B26: Teljesen (0-ig) leírt eszközök bruttó értéke | C26: 17727 | D26: 722 | E26: 149626 | F26: 0 | G26: 0 | H26: 0 | I26: 168075

Sheet 9
B1: Berhida Város Önkormányzatának | C1: 9. melléklet
B2: 2015. Évi költségvetési beszámolóhoz | C2: a 7/2016. (V.2.) önkormányzati rendelethez
D3: adatok ezer Ft-ban
A5: 9- Mérleg
B6: Megnevezés | C6: Előző időszak | D6: Módosítások (+/-) | E6: Tárgyi időszak
A7: 1 | B7: 2 | C7: 3 | D7: 4 | E7: 5
A8: 01 | B8: A/I/1 Vagyoni értékű jogok | C8: 5864 | D8: 0 | E8: 6669
A9: 02 | B9: A/I/2 Szellemi termékek | C9: 564 | D9: 0 | E9: 31
A10: 04 | B10: A/I Immateriális javak (=A/I/1+A/I/2+A/I/3) | C10: 6428 | D10: 0 | E10: 6700
A11: 05 | B11: A/II/1 Ingatlanok és a kapcsolódó vagyoni értékű jogok | C11: 2582734 | D11: 0 | E11: 2534065
B12: -ebből forgalomképtelen | C12: 795591 | E12: 770159
B13: - ebből korlátozottan forgalomképes | C13: 1615418 | E13: 1589572
B14: - ebből forgalomképes, üzleti vagyon | C14: 171725 | E14: 174334
A15: 06 | B15: A/II/2 Gépek, berendezések, felszerelések, járművek | C15: 34057 | D15: 0 | E15: 31217
A16: 08 | B16: A/II/4 Beruházások, felújítások | C16: 33785 | D16: 0 | E16: 46460
A17: 10 | B17: A/II Tárgyi eszközök (=A/II/1+...+A/II/5) | C17: 2650576 | D17: 0 | E17: 2611742
A18: 11 | B18: A/III/1 Tartós részesedések (=A/III/1a+…+A/III/1e) | C18: 11241 | D18: 0 | E18: 11150
A19: 13 | B19: A/III/1b - ebből: tartós részesedések nem pénzügyi vállalkozásban | C19: 11241 | D19: 0 | E19: 11150
A20: 21 | B20: A/III Befektetett pénzügyi eszközök (=A/III/1+A/III/2+A/III/3) | C20: 11241 | D20: 0 | E20: 11150
A21: 22 | B21: A/IV/1 Koncesszióba, vagyonkezelésbe adott eszközök (=A/IV/1a+A/IV/1b+A/IV/1c) | C21: 145513 | D21: 0 | E21: 140408
A22: 24 | B22: A/IV/1b - ebből: tárgyi eszközök | C22: 145513 | D22: 0 | E22: 140408
A23: 27 | B23: A/IV Koncesszióba, vagyonkezelésbe adott eszközök (=A/IV/1+A/IV/2) | C23: 145513 | D23: 0 | E23: 140408
A24: 28 | B24: A) NEMZETI VAGYONBA TARTOZÓ BEFEKTETETT ESZKÖZÖK (=A/I+A/II+A/III+A/IV) | C24: 2813758 | D24: 0 | E24: 2770000
A25: 29 | B25: B/I/1 Vásárolt készletek | C25: 717 | D25: 0 | E25: 1012
A26: 34 | B26: B/I Készletek (=B/I/1+…+B/I/5) | C26: 717 | D26: 0 | E26: 1012
... A91: 243 | B91: FORRÁSOK ÖSSZESEN (=G+H+I+J) | C91: 3103375 | D91: 0 | E91: 3371904
B93: Részletező adatok:
