Workbook

Sheet 1 mell
B1: Berhida Város Önkormányzata | D1: 1. melléklet
B2: 2015. évi költségvetés | D2: a 7/2016. (V.2.) önkormányzati rendelethez
B3: Bevételek | D3: adatok ezer Ft-ban
D5: Összesen | E5: Önkorm | F5: Hivatal | G5: TESZ | H5: Süni | I5: Kultúrház
A6: Sor- szám | B6: Rovat megnevezése | C6: Rovat száma | D6: Eredeti ei | E6: Eredeti ei | F6: Eredeti ei | G6: Eredeti ei | H6: Eredeti ei | I6: Eredeti ei
A7: 1. | B7: 2. | C7: 3. | D7: 4. | E7: 5. | F7: 6. | G7: 7. | H7: 8. | I7: 9.
A8: 01 | B8: Helyi önkormányzatok működésének általános támogatása | C8: B111 | D8: =SUM(E8:I8) -> 139174 | E8: 139174
A9: 02 | B9: Települési önkormányzatok egyes köznevelési feladatainak támogatása | C9: B112 | D9: =SUM(E9:I9) -> 122001 | E9: 122001
A10: 03 | B10: Települési önkormányzatok szociális és gyermekjóléti feladatainak támogatása | C10: B113 | D10: =SUM(E10:I10) -> 115344 | E10: 115344
A11: 04 | B11: Települési önkormányzatok kulturális feladatainak támogatása | C11: B114 | D11: =SUM(E11:I11) -> 6922 | E11: 6922
A12: 05 | B12: Működési célú központosított előirányzatok | C12: B115 | D12: =SUM(E12:I12) -> 0
A13: 06 | B13: Helyi önkormányzatok kiegészítő támogatásai | C13: B116 | D13: =SUM(E13:I13) -> 0
A14: 07 | B14: Önkormányzatok működési támogatásai | C14: B11 | D14: =SUM(E14:I14) -> 383441 | E14: =SUM(E8:E13) -> 383441 | F14: =SUM(F8:F13) -> 0 | G14: =SUM(G8:G13) -> 0 | H14: =SUM(H8:H13) -> 0 | I14: =SUM(I8:I13) -> 0
A15: 08 | B15: Elvonások és befizetések bevételei | C15: B12 | D15: =SUM(E15:I15) -> 0
A16: 09 | B16: Működési célú garancia- és kezességvállalásból származó megtérülések államháztartáson belülről | C16: B13 | D16: =SUM(E16:I16) -> 0
A17: 10 | B17: Működési célú visszatérítendő támogatások, kölcsönök visszatérülése államháztartáson belülről | C17: B14 | D17: =SUM(E17:I17) -> 0
A18: 11 | B18: Működési célú visszatérítendő támogatások, kölcsönök igénybevétele államháztartáson belülről | C18: B15 | D18: =SUM(E18:I18) -> 0
A19: 12 | B19: Egyéb működési célú támogatások bevételei államháztartáson belülről | C19: B16 | D19: =SUM(E19:I19) -> 80321 | E19: =SUM(E20:E26) -> 18575 | F19: =SUM(F20:F26) -> 330 | G19: =SUM(G20:G26) -> 59749 | H19: =SUM(H20:H26) -> 1667 | I19: =SUM(I20:I26) -> 0
B20: - ebből központi költségvetési szervek | C20: B161 | D20: =SUM(E20:I20) -> 330 | F20: 330
B21: - ebből Társadalombiztosítási Alapok | C21: B162 | D21: =SUM(E21:I21) -> 12922 | E21: 12922
B22: - ebből elkülönített állami alapok | C22: B163 | D22: =SUM(E22:I22) -> 61416 | G22: 59749 | H22: 1667
B23: - ebből helyi önkormányzatok és költségvetési szerveik | C23: B164 | D23: =SUM(E23:I23) -> 0
B24: - ebből társulások és költségvetési szerveik | C24: B165 | D24: =SUM(E24:I24) -> 0
B25: - ebből nemzetiségi önkormányzatok és költségvetési szerveik | C25: B166 | D25: =SUM(E25:I25) -> 0
B26: - ebből fejezeti kezelésű | C26: B167 | D26: =SUM(E26:I26) -> 5653 | E26: 5653
A27: 13 | B27: Működési célú támogatások államháztartáson belülről | C27: B1 | D27: =SUM(E27:I27) -> 463762 | E27: =SUM(E14:E19) -> 402016 | F27: =SUM(F14:F19) -> 330 | G27: =SUM(G14:G19) -> 59749 | H27: =SUM(H14:H19) -> 1667 | I27: =SUM(I14:I19) -> 0
A28: 14 | B28: Felhalmozási célú önkormányzati támogatások | C28: B21 | D28: =SUM(E28:I28) -> 0
A29: 15 | B29: Felhalmozási célú garancia- és kezességvállalásból származó megtérülések államháztartáson belülről | C29: B22 | D29: =SUM(E29:I29) -> 0
A30: 16 | B30: Felhalmozási célú visszatérítendő támogatások, kölcsönök visszatérülése államháztartáson belülről | C30: B23 | D30: =SUM(E30:I30) -> 19290 | E30: 19290
A31: 17 | B31: Felhalmozási célú visszatérítendő támogatások, kölcsönök igénybevétele államháztartáson belülről | C31: B24 | D31: =SUM(E31:I31) -> 0
A32: 18 | B32: Egyéb felhalmozási célú támogatások bevételei államháztartáson belülről | C32: B25 | D32: =SUM(E32:I32) -> 0
A33: 19 | B33: Felhalmozási célú támogatások államháztartáson belülről | C33: B2 | D33: =SUM(E33:I33) -> 19290 | E33: =SUM(E28:E32) -> 19290 | F33: =SUM(F28:F32) -> 0 | G33: =SUM(G28:G32) -> 0 | H33: =SUM(H28:H32) -> 0 | I33: =SUM(I28:I32) -> 0
A34: 20 | B34: Magánszemélyek jövedelemadói | C34: B311 | D34: =SUM(E34:I34) -> 0
A35: 21 | B35: Társaságok jövedelemadói | C35: B312 | D35: =SUM(E35:I35) -> 0
A36: 22 | B36: Jövedelemadók | C36: B31 | D36: =SUM(E36:I36) -> 0 | E36: =SUM(E34:E35) -> 0 | F36: =SUM(F34:F35) -> 0 | G36: =SUM(G34:G35) -> 0 | H36: =SUM(H34:H35) -> 0 | I36: =SUM(I34:I35) -> 0
A37: 23 | B37: Szociális hozzájárulási adó és járulékok | C37: B32 | D37: =SUM(E37:I37) -> 0
A38: 24 | B38: Bérhez és foglalkoztatáshoz kapcsolódó adók | C38: B33 | D38: =SUM(E38:I38) -> 0
A39: 25 | B39: Vagyoni tipusú adók | C39: B34 | D39: =SUM(E39:I39) -> 89100 | E39: 89100
A40: 26 | B40: Értékesítési és forgalmi adók | C40: B351 | D40: =SUM(E40:I40) -> 140000 | E40: 140000
A41: 27 | B41: Fogyasztási adók | C41: B352 | D41: =SUM(E41:I41) -> 0
A42: 28 | B42: Pénzügyi monopóliumok nyereségét terhelő adók | C42: B353 | D42: =SUM(E42:I42) -> 0
A43: 29 | B43: Gépjárműadók | C43: B354 | D43: =SUM(E43:I43) -> 10200 | E43: 10200
A44: 30 | B44: Egyéb áruhasználati és szolgáltatási adók | C44: B355 | D44: =SUM(E44:I44) -> 340 | E44: 340
A45: 31 | B45: Termékek és szolgáltatások adói | C45: B35 | D45: =SUM(E45:I45) -> 150540 | E45: =SUM(E40:E44) -> 150540 | F45: =SUM(F40:F44) -> 0 | G45: =SUM(G40:G44) -> 0 | H45: =SUM(H40:H44) -> 0 | I45: =SUM(I40:I44) -> 0
A46: 32 | B46: Egyéb közhatalmi bevételek | C46: B36 | D46: =SUM(E46:I46) -> 1200 | E46: 1200
A47: 33 | B47: Közhatalmi bevételek | C47: B3 | D47: =SUM(E47:I47) -> 240840 | E47: =E36+E37+E38+E39+E45+E46 -> 240840 | F47: =F36+F37+F38+F39+F45+F46 -> 0 | G47: =G36+G37+G38+G39+G45+G46 -> 0 | H47: =H36+H37+H38+H39+H45+H46 -> 0 | I47: =I36+I37+I38+I39+I45+I46 -> 0
A48: 34 | B48: Áru- és készletértékesítés ellenértéke | C48: B401 | D48: =SUM(E48:I48) -> 0
A49: 35 | B49: Szolgáltatások ellenértéke | C49: B402 | D49: =SUM(E49:I49) -> 11867 | F49: 730 | G49: 500 | H49: 9687 | I49: 950
A50: 36 | B50: Közvetített szolgáltatások értéke | C50: B403 | D50: =SUM(E50:I50) -> 2740 | E50: =SUM(E51:E52) -> 110 | F50: =SUM(F51:F52) -> 1400 | G50: =SUM(G51:G52) -> 1230 | H50: =SUM(H51:H52) -> 0 | I50: =SUM(I51:I52) -> 0
B51: - ebből ÁHT-n belülre közvetített | C51: B4031 | D51: =SUM(E51:I51) -> 2740 | E51: 110 | F51: 1400 | G51: 1230
B52: - ebből áht-n kívülre közvetített | C52: B4032 | D52: =SUM(E52:I52) -> 0
A53: 37 | B53: Tulajdonosi bevételek | C53: B404 | D53: =SUM(E53:I53) -> 19579 | E53: 19579
A54: 38 | B54: Ellátási díjak | C54: B405 | D54: =SUM(E54:I54) -> 12322 | E54: 2759 | H54: 9563
A55: 39 | B55: Kiszámlázott általános forgalmi adó | C55: B406 | D55: =SUM(E55:I55) -> 11753 | E55: 5710 | F55: 378 | G55: 467 | H55: 5198
A56: 40 | B56: Általános forgalmi adó visszatérítése | C56: B407 | D56: =SUM(E56:I56) -> 0
A57: 41 | B57: Kamatbevételek | C57: B408 | D57: =SUM(E57:I57) -> 0
A58: 42 | B58: Egyéb pénzügyi műveletek bevételei | C58: B409 | D58: =SUM(E58:I58) -> 0
A59: 43 | B59: Egyéb működési bevételek | C59: B410 | D59: =SUM(E59:I59) -> 70 | G59: 70
A60: 44 | B60: Működési bevételek | C60: B4 | D60: =SUM(E60:I60) -> 58331 | E60: =E48+E49+E50+E53+E54+E55+E56+E57+E58+E59 -> 28158 | F60: =F48+F49+F50+F53+F54+F55+F56+F57+F58+F59 -> 2508 | G60: =G48+G49+G50+G53+G54+G55+G56+G57+G58+G59 -> 2267 | H60: =H48+H49+H50+H53+H54+H55+H56+H57+H58+H59 -> 24448 | I60: =I48+I49+I50+I53+I54+I55+I56+I57+I58+I59 -> 950
A61: 45 | B61: Immateriális javak értékesítése | C61: B51 | D61: =SUM(E61:I61) -> 0
A62: 46 | B62: Ingatlanok értékesítése | C62: B52 | D62: =SUM(E62:I62) -> 375 | E62: 375
A63: 47 | B63: Egyéb tárgyi eszközök értékesítése | C63: B53 | D63: =SUM(E63:I63) -> 0
A64: 48 | B64: Részesedések értékesítése | C64: B54 | D64: =SUM(E64:I64) -> 0
A65: 49 | B65: Részesedések megszűnéséhez kapcsolódó bevételek | C65: B55 | D65: =SUM(E65:I65) -> 0
A66: 50 | B66: Felhalmozási bevételek | C66: B5 | D66: =SUM(E66:I66) -> 375 | E66: =SUM(E61:E65) -> 375 | F66: =SUM(F61:F65) -> 0 | G66: =SUM(G61:G65) -> 0 | H66: =SUM(H61:H65) -> 0 | I66: =SUM(I61:I65) -> 0
A67: 51 | B67: Működési célú garancia- és kezességvállalásból származó megtérülések államháztartáson kívülről | C67: B61 | D67: =SUM(E67:I67) -> 0
A68: 52 | B68: Működési célú visszatérítendő támogatások, kölcsönök visszatérülése államháztartáson kívülről | C68: B62 | D68: =SUM(E68:I68) -> 0
A69: 53 | B69: Egyéb működési célú átvett pénzeszközök | C69: B63 | D69: =SUM(E69:I69) -> 0
A70: 54 | B70: Működési célú átvett pénzeszközök | C70: B6 | D70: =SUM(E70:I70) -> 0 | E70: =SUM(E67:E69) -> 0 | F70: =SUM(F67:F69) -> 0 | G70: =SUM(G67:G69) -> 0 | H70: =SUM(H67:H69) -> 0 | I70: =SUM(I67:I69) -> 0
A71: 55 | B71: Felhalmozási célú garancia- és kezességvállalásból származó megtérülések államháztartáson kívülről | C71: B71 | D71: =SUM(E71:I71) -> 0
A72: 56 | B72: Felhalmozási célú visszatérítendő támogatások, kölcsönök visszatérülése államháztartáson kívülről | C72: B72 | D72: =SUM(E72:I72) -> 570 | E72: 570
A73: 57 | B73: Egyéb felhalmozási célú átvett pénzeszközök | C73: B73 | D73: =SUM(E73:I73) -> 0
A74: 58 | B74: Felhalmozási célú átvett pénzeszközök | C74: B7 | D74: =SUM(E74:I74) -> 570 | E74: =SUM(E71:E73) -> 570 | F74: =SUM(F71:F73) -> 0 | G74: =SUM(G71:G73) -> 0 | H74: =SUM(H71:H73) -> 0 | I74: =SUM(I71:I73) -> 0
A75: 59 | B75: Költségvetési bevételek | C75: B1-B7 | D75: =SUM(E75:I75) -> 783168 | E75: =E27+E33+E47+E60+E66+E70+E74 -> 691249 | F75: =F27+F33+F47+F60+F66+F70+F74 -> 2838 | G75: =G27+G33+G47+G60+G66+G70+G74 -> 62016 | H75: =H27+H33+H47+H60+H66+H70+H74 -> 26115 | I75: =I27+I33+I47+I60+I66+I70+I74 -> 950
A76: 60 | B76: Hitel-, kölcsönfelvétel államháztartáson kívülről | C76: B811 | D76: =SUM(E76:I76) -> 0
A77: 61 | B77: Belföldi értékpapírok bevételei | C77: B812 | D77: =SUM(E77:I77) -> 0
A78: 62 | B78: Előző év költségvetési maradványának igénybevétele | C78: B8131 | D78: =SUM(E78:I78) -> 32076 | E78: 32076
A79: 63 | B79: Előző év vállalkozási maradványának igénybevétele | C79: B8132 | D79: =SUM(E79:I79) -> 0
A80: 64 | B80: Maradvány igénybevétele | C80: B813 | D80: =SUM(E80:I80) -> 32076 | E80: =SUM(E78:E79) -> 32076 | F80: =SUM(F78:F79) -> 0 | G80: =SUM(G78:G79) -> 0 | H80: =SUM(H78:H79) -> 0 | I80: =SUM(I78:I79) -> 0
A81: 65 | B81: Államháztartáson belüli megelőlegezések | C81: B814 | D81: =SUM(E81:I81) -> 0
A82: 66 | B82: Államháztartáson belüli megelőlegezések törlesztése | C82: B815 | D82: =SUM(E82:I82) -> 0
A83: 67 | B83: Központi, irányító szervi támogatás | C83: B816 | D83: =SUM(E83:I83) -> 421668 | F83: 148041 | G83: 132621 | H83: 96614 | I83: 44392
A84: 68 | B84: Betétek megszüntetése | C84: B817 | D84: =SUM(E84:I84) -> 0
A85: 69 | B85: Központi költségvetés sajátos finanszírozási bevételei | C85: B818 | D85: =SUM(E85:I85) -> 0
A86: 70 | B86: Belföldi finanszírozás bevételei | C86: B81 | D86: =SUM(E86:I86) -> 453744 | E86: =(SUM(E80:E85))+E76+E77 -> 32076 | F86: =(SUM(F80:F85))+F76+F77 -> 148041 | G86: =(SUM(G80:G85))+G76+G77 -> 132621 | H86: =(SUM(H80:H85))+H76+H77 -> 96614 | I86: =(SUM(I80:I85))+I76+I77 -> 44392
A87: 71 | B87: Külföldi finanszírozás bevételei | C87: B82 | D87: =SUM(E87:I87) -> 0
A88: 72 | B88: Finanszírozási bevételek | C88: B8 | D88: =SUM(E88:I88) -> 453744 | E88: =SUM(E86:E87) -> 32076 | F88: =SUM(F86:F87) -> 148041 | G88: =SUM(G86:G87) -> 132621 | H88: =SUM(H86:H87) -> 96614 | I88: =SUM(I86:I87) -> 44392
A89: 73 | B89: Összes bevétel | D89: =SUM(E89:I89) -> 1236912 | E89: =E75+E88 -> 723325 | F89: =F75+F88 -> 150879 | G89: =G75+G88 -> 194637 | H89: =H75+H88 -> 122729 | I89: =I75+I88 -> 45342

Sheet 1.a
A1: Berhida Város Önkormányzata | E1: 1.a melléklet
A2: állami támogatások részletezése | E2: a 7/2016. (V.2.) önkormányzati rendelethez
A3: 2015. évi költségvetés | E3: Ft-ban
C4: 2014 | E4: 2014 | F4: 2015 | H4: eredeti | I4: 2015 | K4: módosított
B5: Rovatrend | E5: Forint | H5: Forint | K5: Forint
A6: Önkormányzatok működési támogatásai | E6: =E7+E16+E27+E47+E50 -> 3.5336184e+08 | H6: =H7+H16+H27+H47+H50 -> 383440798 | K6: =K7+K16+K27+K47+K50+K53+K57 -> 419746962
A7: 1.)Helyi önkormányzatok működésének általános támogatása | B7: B111 | D7: MUTATÓ | E7: =SUM(E8:E13) -> 148175259 | H7: =SUM(H8:H15) -> 139174406 | K7: =SUM(K8:K15) -> 139569503
A8: Önkormányzati hivatal működésének támogatása | C8: 4580000 | D8: 22.35 | E8: =C8*D8 -> 102363000 | F8: 4580000 | G8: 22.3 | H8: 102134000 | I8: 4580000 | J8: 22.3 | K8: 102134000
A9: Település üzemeltetés: zöldterület-gazdálkodás | C9: 22300 | E9: 8966830 | F9: 22300 | H9: 8964553 | I9: 22300 | K9: 8964553
A10: közvilágítás fenntartása | C10: 283200 | E10: 13168800 | F10: 320000 | H10: 14880000 | I10: 320000 | K10: 14880000
A11: köztemető fenntartással kapcs fel | C11: 69 | E11: 1775094 | F11: 69 | H11: 1775094 | I11: 69 | K11: 1775094
A12: közutak fenntartásának támog | C12: 227000 | E12: 5448000 | F12: 227000 | H12: 5448000 | I12: 227000 | K12: 5448000
A13: Egyéb kötelező önkormányzati feladatok | C13: 2700 | E13: 16453535 | F13: 2700 | H13: 5761109 | I13: 2700 | K13: 5761109
A14: Lakott külterülettel kapcs feladatok | H14: 211650 | K14: 211650
A15: 2014. évről áthúzódó bérkompenzáció | K15: 395097
A16: 2.)Települési önkorm. Egyes köznevelési feladatainak támoga | B16: B112 | E16: =SUM(E17:E26) -> 1.0962379e+08 | H16: =SUM(H17:H26) -> 122000800 | K16: =SUM(K17:K26) -> 125823367
A17: óvodapedagógusok bértámogatása 8 hó | C17: 4012000 | D17: 19.6 | E17: =C17*D17*8/12 -> 52423467 | F17: 4152000 | G17: 20.1 | H17: 55636800 | I17: 4152000 | K17: 55913600
A18: óvodaped munkáját közvetlenül segítők bértámogatása 8 hó | C18: 1800000 | D18: 10 | E18: =C18*D18*8/12 -> 12000000 | F18: 1800000 | G18: 11 | H18: 13200000 | I18: 1800000 | K18: 13200000
A19: óvodapedagógusok bértámogatása 4 hó | C19: 4012000 | D19: 19.8 | E19: =C19*D19*4/12 -> 26479200 | F19: 4152000 | G19: 20 | H19: 27680000 | I19: 4152000 | K19: 28233600
A20: óvodaped munkáját közvetlenül segítők bértámogatása 4 hó | C20: 1800000 | D20: 10 | E20: =C20*D20*4/12 -> 6000000 | F20: 1800000 | G20: 11 | H20: 6600000 | I20: 1800000 | K20: 6600000
A21: óvodapedagógusok bértámog KIEGÉSZÍTÉS 3 hó | C21: 34400 | D21: 19.8 | E21: =C21*D21 -> 681120 | F21: 35000 | G21: 20 | H21: 700000 | I21: 35000 | K21: 714000
A22: Óvoda működtetési támogatás 8 hó | C22: 56000 | D22: 213 | E22: =C22*D22*8/12 -> 7952000 | F22: 70000 | G22: 218 | H22: 10173333 | I22: 70000 | K22: 10220000
A23: Óvoda működtetési támogatás 4 hó | C23: 56000 | D23: 219 | E23: =C23*D23*4/12 -> 4088000 | F23: 70000 | G23: 218 | H23: 5086667 | I23: 70000 | K23: 5086667
A24: köznevelési intézmények (iskolák működtetési tám) | K24: 2931500
A25: Kieg tám. Óv pedag minősítéséhez II. kategóriába sorolt | G25: 1 | H25: 352000 | K25: 352000
A26: Mesterped kategóriába sorolt | E26: =C26*D26*4/12 -> 0 | G26: 2 | H26: 2572000 | K26: 2572000
A27: 3.) Tel önk szociális, gyermekjóléti és gyermekétk fel tám | B27: B113 | E27: =SUM(E29:E46) -> 84537490 | H27: =SUM(H29:H46) -> 115343512 | K27: =SUM(K29:K46) -> 137688772
A29: gyermekétkeztetés szempontjából elismert dolgozók bértámog | C29: 1632000 | D29: 8.98 | E29: =C29*D29 -> 14655360 | F29: 1632000 | G29: 11.48 | H29: 18735360 | I29: 1632000 | J29: 11.48 | K29: 18670080
A30: gyermekétkeztetés üzemeltetési támogatása | E30: 30851087 | H30: 31817928 | K30: 32232780
A31: Hozzájárulás pénzbeli szociális ellátásokhoz | E31: 20697694 | H31: 47687090 | K31: 47687090
A32: Bölcsődei ellátás | C32: 494100 | D32: 9 | E32: =C32*D32 -> 4446900 | F32: 494100 | G32: 8 | H32: 3952800 | I32: 494100 | J32: 8 | K32: 4446900
A33: bölcsődei ellátás hátrányos helyzetű gyermek | C33: 518805 | D33: 1 | E33: =C33*D33 -> 518805 | F33: 518805 | I33: 518805
A34: Családsegítés B: 6118 Vi: 662 = 6780 fő (6072,671) | C34: 3950000 | D34: 6780 | E34: =D34/5000*C34/2 -> 2678100 | F34: 3950000 | G34: 6743 | H34: 2663485 | I34: 3950000 | J34: 6743 | K34: 2663485
A35: gyermekjóléti szolgálat | C35: 3950000 | D35: 6780 | E35: =D35/5000*C35/2 -> 2678100 | F35: 3950000 | G35: 6743 | H35: 2663485 | I35: 3950000 | J35: 6743 | K35: 2663485
A36: Családsegítés Kiegészítő támog. | C36: 300 | D36: 6780 | E36: =C36*D36 -> 2034000 | F36: 300 | H36: 2022900 | I36: 300 | K36: 2022900
A37: gyermekjóléti szolg. Kiegészítő támog. 0-17 B: 1292 Vi: 128 | C37: 1200 | D37: 1420 | E37: =C37*D37 -> 1704000 | F37: 1200 | H37: 1668000 | I37: 1200 | K37: 1668000
A38: szociális étkeztetés | C38: 60896 | D38: 39 | E38: =C38*D38 -> 2374944 | F38: 60896 | G38: 34 | H38: 2070464 | I38: 60896 | J38: 34 | K38: 1887776
A39: házi segítségnyújtás | C39: 188500 | D39: 4 | E39: =C39*D39 -> 754000 | F39: 188500 | G39: 4 | H39: 754000 | I39: 188500 | J39: 4 | K39: 754000
A40: időskorúak nappali ellátása | C40: 163500 | D40: 7 | E40: =C40*D40 -> 1144500 | F40: 163500 | G40: 8 | H40: 1308000 | I40: 163500 | J40: 8 | K40: 1308000
A41: Ágazati pótlék | K41: 1518800
A42: Szoc. Igénylés
A43: ebből: foglalkozást helyettesítő támog. | K43: 10185216
A44: ebből: rendszeres szoc. Segély | K44: 1391860
A45: ebből: lakásfenntartási támog. | K45: 8078400
A46: ebből: óvodáztatási támogatás | E46: =C46*D46 -> 0 | K46: 510000
A47: 4.) Tel önk kulturális feladatainak támogatása | B47: B114 | E47: =E48 -> 6974520 | H47: =H48 -> 6922080 | K47: =SUM(K48:K49) -> 7094057
A48: könyvtári és közművelődési feladat tám Berhida: 6118 fő | C48: 1140 | D48: 6118 | E48: =C48*D48 -> 6974520 | F48: 1140 | G48: 6072 | H48: =F48*G48 -> 6922080 | I48: 1140 | J48: 6072 | K48: =I48*J48 -> 6922080
A49: könyvtári érdekeltségnövelő támogatás | K49: 171977
A50: Működési célú központosított tám (lakott külterületi fel) | E50: =SUM(E51:E52) -> 4050786 | H50: =SUM(H51:H52) -> 0 | K50: =SUM(K51:K52) -> 0
A51: ebből külterületi lakos | E51: 210786
A52: ebből szerkezetátalakítási önk-ok köznevelési feladat tám. | E52: 3840000
A53: 5.)Helyi önkorm. Kiegészítő támogatásai | E53: =SUM(E54:E56) -> 0 | F53: =SUM(F54:F56) -> 0 | G53: =SUM(G54:G56) -> 0 | H53: =SUM(H54:H56) -> 0 | I53: =SUM(I54:I56) -> 0 | J53: =SUM(J54:J56) -> 0 | K53: =SUM(K54:K56) -> 6789704
A54: 2015. évi bérkompenzáció | K54: 3776599
A55: nyári gyermekétkeztetés | K55: 1936000
A56: kiegészítő ágazati pótlék | K56: 1077105
A57: 6.) Elszámolásból származó bevételek | K57: 2781559
A58: 7. Felhalmozási célú
A59: közművelődési érdekeltségnövelő támogatás | K59: 303000
A60: Adósságkonszolidációban nem részesült önkorm fejlesztési tám | K60: 180958223
A61: Mindösszesen | K61: =K59+K6 -> 420049962

Sheet 1b
B1: Berhida Város Önkormányzata | D1: 1b. melléklet
B2: 2015. évi költségvetés | D2: a 7/2016. (V.2.) önkormányzati rendelethez
B3: Bevételek | D3: adatok ezer Ft-ban
B4: Módosított előirányzat
D5: Összesen | E5: Önkorm | F5: Hivatal | G5: TESZ | H5: Süni | I5: Kultúrház
A6: Sor- szám | B6: Rovat megnevezése | C6: Rovat száma | D6: Módosított ei | E6: Módosított ei | F6: Módosított ei | G6: Módosított ei | H6: Módosított ei | I6: Módosított ei
A7: 1. | B7: 2. | C7: 3. | D7: 4. | E7: 5. | F7: 6. | G7: 7. | H7: 8. | I7: 9.
A8: 01 | B8: Helyi önkormányzatok működésének általános támogatása | C8: B111 | D8: =SUM(E8:I8) -> 139570 | E8: 139570
A9: 02 | B9: Települési önkormányzatok egyes köznevelési feladatainak támogatása | C9: B112 | D9: =SUM(E9:I9) -> 125823 | E9: 125823
A10: 03 | B10: Települési önkormányzatok szociális és gyermekjóléti feladatainak támogatása | C10: B113 | D10: =SUM(E10:I10) -> 137689 | E10: 137689
A11: 04 | B11: Települési önkormányzatok kulturális feladatainak támogatása | C11: B114 | D11: =SUM(E11:I11) -> 7094 | E11: 7094
A12: 05 | B12: Működési célú költségvetési támogatások és kiegészítő támogatások | C12: B115 | D12: =SUM(E12:I12) -> 6790 | E12: 6790
A13: 06 | B13: Elszámolásból származó bevételek | C13: B116 | D13: =SUM(E13:I13) -> 2782 | E13: 2782
A14: 07 | B14: Önkormányzatok működési támogatásai | C14: B11 | D14: =SUM(E14:I14) -> 419748 | E14: =SUM(E8:E13) -> 419748 | F14: =SUM(F8:F13) -> 0 | G14: =SUM(G8:G13) -> 0 | H14: =SUM(H8:H13) -> 0 | I14: =SUM(I8:I13) -> 0
A15: 08 | B15: Elvonások és befizetések bevételei | C15: B12 | D15: =SUM(E15:I15) -> 0
A16: 09 | B16: Működési célú garancia- és kezességvállalásból származó megtérülések államháztartáson belülről | C16: B13 | D16: =SUM(E16:I16) -> 0
A17: 10 | B17: Működési célú visszatérítendő támogatások, kölcsönök visszatérülése államháztartáson belülről | C17: B14 | D17: =SUM(E17:I17) -> 0
A18: 11 | B18: Működési célú visszatérítendő támogatások, kölcsönök igénybevétele államháztartáson belülről | C18: B15 | D18: =SUM(E18:I18) -> 0
A19: 12 | B19: Egyéb működési célú támogatások bevételei államháztartáson belülről | C19: B16 | D19: =SUM(E19:I19) -> 109301 | E19: =SUM(E20:E26) -> 23664 | F19: =SUM(F20:F26) -> 561 | G19: =SUM(G20:G26) -> 83409 | H19: =SUM(H20:H26) -> 1667 | I19: =SUM(I20:I26) -> 0
B20: - ebből központi költségvetési szervek | C20: B161 | D20: =SUM(E20:I20) -> 942 | E20: 381 | F20: 561
B21: - ebből Társadalombiztosítási Alapok | C21: B162 | D21: =SUM(E21:I21) -> 12922 | E21: 12922
B22: - ebből elkülönített állami alapok | C22: B163 | D22: =SUM(E22:I22) -> 85076 | G22: 83409 | H22: 1667
B23: - ebből helyi önkormányzatok és költségvetési szerveik | C23: B164 | D23: =SUM(E23:I23) -> 0
B24: - ebből társulások és költségvetési szerveik | C24: B165 | D24: =SUM(E24:I24) -> 0
B25: - ebből nemzetiségi önkormányzatok és költségvetési szerveik | C25: B166 | D25: =SUM(E25:I25) -> 0
B26: - ebből fejezeti kezelésű | C26: B167 | D26: =SUM(E26:I26) -> 10361 | E26: 10361
A27: 13 | B27: Működési célú támogatások államháztartáson belülről | C27: B1 | D27: =SUM(E27:I27) -> 529049 | E27: =SUM(E14:E19) -> 443412 | F27: =SUM(F14:F19) -> 561 | G27: =SUM(G14:G19) -> 83409 | H27: =SUM(H14:H19) -> 1667 | I27: =SUM(I14:I19) -> 0
A28: 14 | B28: Felhalmozási célú önkormányzati támogatások | C28: B21 | D28: =SUM(E28:I28) -> 181261 | E28: 181261
A29: 15 | B29: Felhalmozási célú garancia- és kezességvállalásból származó megtérülések államháztartáson belülről | C29: B22 | D29: =SUM(E29:I29) -> 0
A30: 16 | B30: Felhalmozási célú visszatérítendő támogatások, kölcsönök visszatérülése államháztartáson belülről | C30: B23 | D30: =SUM(E30:I30) -> 19290 | E30: 19290
A31: 17 | B31: Felhalmozási célú visszatérítendő támogatások, kölcsönök igénybevétele államháztartáson belülről | C31: B24 | D31: =SUM(E31:I31) -> 0
A32: 18 | B32: Egyéb felhalmozási célú támogatások bevételei államháztartáson belülről | C32: B25 | D32: =SUM(E32:I32) -> 0
A33: 19 | B33: Felhalmozási célú támogatások államháztartáson belülről | C33: B2 | D33: =SUM(E33:I33) -> 200551 | E33: =SUM(E28:E32) -> 200551 | F33: =SUM(F28:F32) -> 0 | G33: =SUM(G28:G32) -> 0 | H33: =SUM(H28:H32) -> 0 | I33: =SUM(I28:I32) -> 0
A34: 20 | B34: Magánszemélyek jövedelemadói | C34: B311 | D34: =SUM(E34:I34) -> 0
A35: 21 | B35: Társaságok jövedelemadói | C35: B312 | D35: =SUM(E35:I35) -> 0
A36: 22 | B36: Jövedelemadók | C36: B31 | D36: =SUM(E36:I36) -> 0 | E36: =SUM(E34:E35) -> 0 | F36: =SUM(F34:F35) -> 0 | G36: =SUM(G34:G35) -> 0 | H36: =SUM(H34:H35) -> 0 | I36: =SUM(I34:I35) -> 0
A37: 23 | B37: Szociális hozzájárulási adó és járulékok | C37: B32 | D37: =SUM(E37:I37) -> 0
A38: 24 | B38: Bérhez és foglalkoztatáshoz kapcsolódó adók | C38: B33 | D38: =SUM(E38:I38) -> 0
A39: 25 | B39: Vagyoni tipusú adók | C39: B34 | D39: =SUM(E39:I39) -> 92700 | E39: 92700
A40: 26 | B40: Értékesítési és forgalmi adók | C40: B351 | D40: =SUM(E40:I40) -> 159000 | E40: 159000
A41: 27 | B41: Fogyasztási adók | C41: B352 | D41: =SUM(E41:I41) -> 0
A42: 28 | B42: Pénzügyi monopóliumok nyereségét terhelő adók | C42: B353 | D42: =SUM(E42:I42) -> 0
A43: 29 | B43: Gépjárműadók | C43: B354 | D43: =SUM(E43:I43) -> 10200 | E43: 10200
A44: 30 | B44: Egyéb áruhasználati és szolgáltatási adók | C44: B355 | D44: =SUM(E44:I44) -> 340 | E44: 340
A45: 31 | B45: Termékek és szolgáltatások adói | C45: B35 | D45: =SUM(E45:I45) -> 169540 | E45: =SUM(E40:E44) -> 169540 | F45: =SUM(F40:F44) -> 0 | G45: =SUM(G40:G44) -> 0 | H45: =SUM(H40:H44) -> 0 | I45: =SUM(I40:I44) -> 0
A46: 32 | B46: Egyéb közhatalmi bevételek | C46: B36 | D46: =SUM(E46:I46) -> 1200 | E46: 1200
A47: 33 | B47: Közhatalmi bevételek | C47: B3 | D47: =SUM(E47:I47) -> 263440 | E47: =E36+E37+E38+E39+E45+E46 -> 263440 | F47: =F36+F37+F38+F39+F45+F46 -> 0 | G47: =G36+G37+G38+G39+G45+G46 -> 0 | H47: =H36+H37+H38+H39+H45+H46 -> 0 | I47: =I36+I37+I38+I39+I45+I46 -> 0
A48: 34 | B48: Áru- és készletértékesítés ellenértéke | C48: B401 | D48: =SUM(E48:I48) -> 0
A49: 35 | B49: Szolgáltatások ellenértéke | C49: B402 | D49: =SUM(E49:I49) -> 14520 | F49: 730 | G49: 500 | H49: 11211 | I49: 2079
A50: 36 | B50: Közvetített szolgáltatások értéke | C50: B403 | D50: =SUM(E50:I50) -> 2740 | E50: =SUM(E51:E52) -> 110 | F50: =SUM(F51:F52) -> 1400 | G50: =SUM(G51:G52) -> 1230 | H50: =SUM(H51:H52) -> 0 | I50: =SUM(I51:I52) -> 0
B51: - ebből ÁHT-n belülre közvetített | C51: B4031 | D51: =SUM(E51:I51) -> 2740 | E51: 110 | F51: 1400 | G51: 1230
B52: - ebből áht-n kívülre közvetített | C52: B4032 | D52: =SUM(E52:I52) -> 0
A53: 37 | B53: Tulajdonosi bevételek | C53: B404 | D53: =SUM(E53:I53) -> 23242 | E53: 23242
A54: 38 | B54: Ellátási díjak | C54: B405 | D54: =SUM(E54:I54) -> 12598 | E54: 3035 | H54: 9563
A55: 39 | B55: Kiszámlázott általános forgalmi adó | C55: B406 | D55: =SUM(E55:I55) -> 12726 | E55: 6271 | F55: 378 | G55: 467 | H55: 5610
A56: 40 | B56: Általános forgalmi adó visszatérítése | C56: B407 | D56: =SUM(E56:I56) -> 0
A57: 41 | B57: Kamatbevételek | C57: B408 | D57: =SUM(E57:I57) -> 471 | E57: 471
A58: 42 | B58: Egyéb pénzügyi műveletek bevételei | C58: B409 | D58: =SUM(E58:I58) -> 0
A59: 43 | B59: Egyéb működési bevételek | C59: B410 | D59: =SUM(E59:I59) -> 606 | E59: 536 | G59: 70
A60: 44 | B60: Működési bevételek | C60: B4 | D60: =SUM(E60:I60) -> 66903 | E60: =E48+E49+E50+E53+E54+E55+E56+E57+E58+E59 -> 33665 | F60: =F48+F49+F50+F53+F54+F55+F56+F57+F58+F59 -> 2508 | G60: =G48+G49+G50+G53+G54+G55+G56+G57+G58+G59 -> 2267 | H60: =H48+H49+H50+H53+H54+H55+H56+H57+H58+H59 -> 26384 | I60: =I48+I49+I50+I53+I54+I55+I56+I57+I58+I59 -> 2079
A61: 45 | B61: Immateriális javak értékesítése | C61: B51 | D61: =SUM(E61:I61) -> 0
A62: 46 | B62: Ingatlanok értékesítése | C62: B52 | D62: =SUM(E62:I62) -> 375 | E62: 375
A63: 47 | B63: Egyéb tárgyi eszközök értékesítése | C63: B53 | D63: =SUM(E63:I63) -> 0
A64: 48 | B64: Részesedések értékesítése | C64: B54 | D64: =SUM(E64:I64) -> 0
A65: 49 | B65: Részesedések megszűnéséhez kapcsolódó bevételek | C65: B55 | D65: =SUM(E65:I65) -> 0
A66: 50 | B66: Felhalmozási bevételek | C66: B5 | D66: =SUM(E66:I66) -> 375 | E66: =SUM(E61:E65) -> 375 | F66: =SUM(F61:F65) -> 0 | G66: =SUM(G61:G65) -> 0 | H66: =SUM(H61:H65) -> 0 | I66: =SUM(I61:I65) -> 0
A67: 51 | B67: Működési célú garancia- és kezességvállalásból származó megtérülések államháztartáson kívülről | C67: B61 | D67: =SUM(E67:I67) -> 0
A68: 52 | B68: Működési célú visszatérítendő támogatások, kölcsönök visszatérülése államháztartáson kívülről | C68: B62 | D68: =SUM(E68:I68) -> 0
A69: 53 | B69: Egyéb működési célú átvett pénzeszközök | C69: B63-65 | D69: =SUM(E69:I69) -> 0
A70: 54 | B70: Működési célú átvett pénzeszközök | C70: B6 | D70: =SUM(E70:I70) -> 0 | E70: =SUM(E67:E69) -> 0 | F70: =SUM(F67:F69) -> 0 | G70: =SUM(G67:G69) -> 0 | H70: =SUM(H67:H69) -> 0 | I70: =SUM(I67:I69) -> 0
A71: 55 | B71: Felhalmozási célú garancia- és kezességvállalásból származó megtérülések államháztartáson kívülről | C71: B71 | D71: =SUM(E71:I71) -> 0
A72: 56 | B72: Felhalmozási célú visszatérítendő támogatások, kölcsönök visszatérülése államháztartáson kívülről | C72: B72 | D72: =SUM(E72:I72) -> 570 | E72: 570
A73: 57 | B73: Egyéb felhalmozási célú átvett pénzeszközök | C73: B73-74 | D73: =SUM(E73:I73) -> 0
A74: 58 | B74: Felhalmozási célú átvett pénzeszközök | C74: B7 | D74: =SUM(E74:I74) -> 570 | E74: =SUM(E71:E73) -> 570 | F74: =SUM(F71:F73) -> 0 | G74: =SUM(G71:G73) -> 0 | H74: =SUM(H71:H73) -> 0 | I74: =SUM(I71:I73) -> 0
A75: 59 | B75: Költségvetési bevételek | C75: B1-B7 | D75: =SUM(E75:I75) -> 1060888 | E75: =E27+E33+E47+E60+E66+E70+E74 -> 942013 | F75: =F27+F33+F47+F60+F66+F70+F74 -> 3069 | G75: =G27+G33+G47+G60+G66+G70+G74 -> 85676 | H75: =H27+H33+H47+H60+H66+H70+H74 -> 28051 | I75: =I27+I33+I47+I60+I66+I70+I74 -> 2079
A76: 60 | B76: Hitel-, kölcsönfelvétel államháztartáson kívülről | C76: B811 | D76: =SUM(E76:I76) -> 0
A77: 61 | B77: Belföldi értékpapírok bevételei | C77: B812 | D77: =SUM(E77:I77) -> 0
A78: 62 | B78: Előző év költségvetési maradványának igénybevétele | C78: B8131 | D78: =SUM(E78:I78) -> 248855 | E78: 229666 | F78: 4273 | G78: 9447 | H78: 4091 | I78: 1378
A79: 63 | B79: Előző év vállalkozási maradványának igénybevétele | C79: B8132 | D79: =SUM(E79:I79) -> 0
A80: 64 | B80: Maradvány igénybevétele | C80: B813 | D80: =SUM(E80:I80) -> 248855 | E80: =SUM(E78:E79) -> 229666 | F80: =SUM(F78:F79) -> 4273 | G80: =SUM(G78:G79) -> 9447 | H80: =SUM(H78:H79) -> 4091 | I80: =SUM(I78:I79) -> 1378
A81: 65 | B81: Államháztartáson belüli megelőlegezések | C81: B814 | D81: =SUM(E81:I81) -> 31298 | E81: 31298
A82: 66 | B82: Államháztartáson belüli megelőlegezések törlesztése | C82: B815 | D82: =SUM(E82:I82) -> 0
A83: 67 | B83: Központi, irányító szervi támogatás | C83: B816 | D83: =SUM(E83:I83) -> 443755 | F83: 156104 | G83: 138918 | H83: 99765 | I83: 48968
A84: 68 | B84: Betétek megszüntetése | C84: B817 | D84: =SUM(E84:I84) -> 0
A85: 69 | B85: Központi költségvetés sajátos finanszírozási bevételei | C85: B818 | D85: =SUM(E85:I85) -> 0
A86: 70 | B86: Belföldi finanszírozás bevételei | C86: B81 | D86: =SUM(E86:I86) -> 723908 | E86: =(SUM(E80:E85))+E76+E77 -> 260964 | F86: =(SUM(F80:F85))+F76+F77 -> 160377 | G86: =(SUM(G80:G85))+G76+G77 -> 148365 | H86: =(SUM(H80:H85))+H76+H77 -> 103856 | I86: =(SUM(I80:I85))+I76+I77 -> 50346
A87: 71 | B87: Külföldi finanszírozás bevételei | C87: B82 | D87: =SUM(E87:I87) -> 0
A88: 72 | B88: Finanszírozási bevételek | C88: B8 | D88: =SUM(E88:I88) -> 723908 | E88: =SUM(E86:E87) -> 260964 | F88: =SUM(F86:F87) -> 160377 | G88: =SUM(G86:G87) -> 148365 | H88: =SUM(H86:H87) -> 103856 | I88: =SUM(I86:I87) -> 50346
A89: 73 | B89: Összes bevétel | D89: =SUM(E89:I89) -> 1784796 | E89: =E75+E88 -> 1202977 | F89: =F75+F88 -> 163446 | G89: =G75+G88 -> 234041 | H89: =H75+H88 -> 131907 | I89: =I75+I88 -> 52425

Sheet 1c
B1: Berhida Város Önkormányzata | D1: 1c. melléklet
B2: 2015. évi költségvetés | D2: a 7/2016. (V.2.) önkormányzati rendelethez
B3: Bevételek | D3: adatok ezer Ft-ban
B4: Teljesítés 12.31
D5: Összesen | E5: Önkorm | F5: Hivatal | G5: TESZ | H5: Süni | I5: Kultúrház
A6: Sor- szám | B6: Rovat megnevezése | C6: Rovat száma | D6: Teljesítés 12.31 | E6: Teljesítés 12.31 | F6: Teljesítés 12.31 | G6: Teljesítés 12.31 | H6: Teljesítés 12.31 | I6: Teljesítés 12.31
A7: 1. | B7: 2. | C7: 3. | D7: 4. | E7: 5. | F7: 6. | G7: 7. | H7: 8. | I7: 9.
A8: 01 | B8: Helyi önkormányzatok működésének általános támogatása | C8: B111 | D8: =SUM(E8:I8) -> 139570 | E8: 139570
A9: 02 | B9: Települési önkormányzatok egyes köznevelési feladatainak támogatása | C9: B112 | D9: =SUM(E9:I9) -> 125823 | E9: 125823
A10: 03 | B10: Települési önkormányzatok szociális és gyermekjóléti feladatainak támogatása | C10: B113 | D10: =SUM(E10:I10) -> 137689 | E10: 137689
A11: 04 | B11: Települési önkormányzatok kulturális feladatainak támogatása | C11: B114 | D11: =SUM(E11:I11) -> 7094 | E11: 7094
A12: 05 | B12: Működési célú költségvetési támogatások és kiegészítő támogatások | C12: B115 | D12: =SUM(E12:I12) -> 6790 | E12: 6790
A13: 06 | B13: Elszámolásból származó bevételek | C13: B116 | D13: =SUM(E13:I13) -> 2782 | E13: 2782
A14: 07 | B14: Önkormányzatok működési támogatásai | C14: B11 | D14: =SUM(E14:I14) -> 419748 | E14: =SUM(E8:E13) -> 419748 | F14: =SUM(F8:F13) -> 0 | G14: =SUM(G8:G13) -> 0 | H14: =SUM(H8:H13) -> 0 | I14: =SUM(I8:I13) -> 0
A15: 08 | B15: Elvonások és befizetések bevételei | C15: B12 | D15: =SUM(E15:I15) -> 0
A16: 09 | B16: Működési célú garancia- és kezességvállalásból származó megtérülések államháztartáson belülről | C16: B13 | D16: =SUM(E16:I16) -> 0
A17: 10 | B17: Működési célú visszatérítendő támogatások, kölcsönök visszatérülése államháztartáson belülről | C17: B14 | D17: =SUM(E17:I17) -> 0
A18: 11 | B18: Működési célú visszatérítendő támogatások, kölcsönök igénybevétele államháztartáson belülről | C18: B15 | D18: =SUM(E18:I18) -> 0
A19: 12 | B19: Egyéb működési célú támogatások bevételei államháztartáson belülről | C19: B16 | D19: =SUM(E19:I19) -> 110971 | E19: =SUM(E20:E26) -> 20955 | F19: =SUM(F20:F26) -> 581 | G19: =SUM(G20:G26) -> 87808 | H19: =SUM(H20:H26) -> 1627 | I19: =SUM(I20:I26) -> 0
B20: - ebből központi költségvetési szervek | C20: B161 | D20: =SUM(E20:I20) -> 962 | E20: 381 | F20: 581
B21: - ebből Társadalombiztosítási Alapok | C21: B162 | D21: =SUM(E21:I21) -> 12978 | E21: 12978
B22: - ebből elkülönített állami alapok | C22: B163 | D22: =SUM(E22:I22) -> 89435 | G22: 87808 | H22: 1627
B23: - ebből helyi önkormányzatok és költségvetési szerveik | C23: B164 | D23: =SUM(E23:I23) -> 0
B24: - ebből társulások és költségvetési szerveik | C24: B165 | D24: =SUM(E24:I24) -> 0
B25: - ebből nemzetiségi önkormányzatok és költségvetési szerveik | C25: B166 | D25: =SUM(E25:I25) -> 0
B26: - ebből fejezeti kezelésű | C26: B167 | D26: =SUM(E26:I26) -> 7596 | E26: 7596
A27: 13 | B27: Működési célú támogatások államháztartáson belülről | C27: B1 | D27: =SUM(E27:I27) -> 530719 | E27: =SUM(E14:E19) -> 440703 | F27: =SUM(F14:F19) -> 581 | G27: =SUM(G14:G19) -> 87808 | H27: =SUM(H14:H19) -> 1627 | I27: =SUM(I14:I19) -> 0
A28: 14 | B28: Felhalmozási célú önkormányzati támogatások | C28: B21 | D28: =SUM(E28:I28) -> 181261 | E28: 181261
A29: 15 | B29: Felhalmozási célú garancia- és kezességvállalásból származó megtérülések államháztartáson belülről | C29: B22 | D29: =SUM(E29:I29) -> 0
A30: 16 | B30: Felhalmozási célú visszatérítendő támogatások, kölcsönök visszatérülése államháztartáson belülről | C30: B23 | D30: =SUM(E30:I30) -> 0
A31: 17 | B31: Felhalmozási célú visszatérítendő támogatások, kölcsönök igénybevétele államháztartáson belülről | C31: B24 | D31: =SUM(E31:I31) -> 0
A32: 18 | B32: Egyéb felhalmozási célú támogatások bevételei államháztartáson belülről | C32: B25 | D32: =SUM(E32:I32) -> 45747 | E32: 45747
A33: 19 | B33: Felhalmozási célú támogatások államháztartáson belülről | C33: B2 | D33: =SUM(E33:I33) -> 227008 | E33: =SUM(E28:E32) -> 227008 | F33: =SUM(F28:F32) -> 0 | G33: =SUM(G28:G32) -> 0 | H33: =SUM(H28:H32) -> 0 | I33: =SUM(I28:I32) -> 0
A34: 20 | B34: Magánszemélyek jövedelemadói | C34: B311 | D34: =SUM(E34:I34) -> 0
A35: 21 | B35: Társaságok jövedelemadói | C35: B312 | D35: =SUM(E35:I35) -> 0
A36: 22 | B36: Jövedelemadók | C36: B31 | D36: =SUM(E36:I36) -> 0 | E36: =SUM(E34:E35) -> 0 | F36: =SUM(F34:F35) -> 0 | G36: =SUM(G34:G35) -> 0 | H36: =SUM(H34:H35) -> 0 | I36: =SUM(I34:I35) -> 0
A37: 23 | B37: Szociális hozzájárulási adó és járulékok | C37: B32 | D37: =SUM(E37:I37) -> 0
A38: 24 | B38: Bérhez és foglalkoztatáshoz kapcsolódó adók | C38: B33 | D38: =SUM(E38:I38) -> 0
A39: 25 | B39: Vagyoni tipusú adók | C39: B34 | D39: =SUM(E39:I39) -> 101614 | E39: 101614
A40: 26 | B40: Értékesítési és forgalmi adók | C40: B351 | D40: =SUM(E40:I40) -> 198353 | E40: 198353
A41: 27 | B41: Fogyasztási adók | C41: B352 | D41: =SUM(E41:I41) -> 0
A42: 28 | B42: Pénzügyi monopóliumok nyereségét terhelő adók | C42: B353 | D42: =SUM(E42:I42) -> 0
A43: 29 | B43: Gépjárműadók | C43: B354 | D43: =SUM(E43:I43) -> 11836 | E43: 11836
A44: 30 | B44: Egyéb áruhasználati és szolgáltatási adók | C44: B355 | D44: =SUM(E44:I44) -> 159 | E44: 159
A45: 31 | B45: Termékek és szolgáltatások adói | C45: B35 | D45: =SUM(E45:I45) -> 210348 | E45: =SUM(E40:E44) -> 210348 | F45: =SUM(F40:F44) -> 0 | G45: =SUM(G40:G44) -> 0 | H45: =SUM(H40:H44) -> 0 | I45: =SUM(I40:I44) -> 0
A46: 32 | B46: Egyéb közhatalmi bevételek | C46: B36 | D46: =SUM(E46:I46) -> 2111 | E46: 2066 | F46: 45
A47: 33 | B47: Közhatalmi bevételek | C47: B3 | D47: =SUM(E47:I47) -> 314073 | E47: =E36+E37+E38+E39+E45+E46 -> 314028 | F47: =F36+F37+F38+F39+F45+F46 -> 45 | G47: =G36+G37+G38+G39+G45+G46 -> 0 | H47: =H36+H37+H38+H39+H45+H46 -> 0 | I47: =I36+I37+I38+I39+I45+I46 -> 0
A48: 34 | B48: Áru- és készletértékesítés ellenértéke | C48: B401 | D48: =SUM(E48:I48) -> 58 | E48: 5 | G48: 14 | I48: 39
A49: 35 | B49: Szolgáltatások ellenértéke | C49: B402 | D49: =SUM(E49:I49) -> 14140 | E49: 47 | F49: 747 | G49: 1021 | H49: 9884 | I49: 2441
A50: 36 | B50: Közvetített szolgáltatások értéke | C50: B403 | D50: =SUM(E50:I50) -> 3951 | E50: =SUM(E51:E52) -> 538 | F50: =SUM(F51:F52) -> 1721 | G50: =SUM(G51:G52) -> 1692 | H50: =SUM(H51:H52) -> 0 | I50: =SUM(I51:I52) -> 0
B51: - ebből ÁHT-n belülre közvetített | C51: B4031 | D51: =SUM(E51:I51) -> 2054 | E51: 199 | F51: 1721 | G51: 134
B52: - ebből áht-n kívülre közvetített | C52: B4032 | D52: =SUM(E52:I52) -> 1897 | E52: 339 | G52: 1558
A53: 37 | B53: Tulajdonosi bevételek | C53: B404 | D53: =SUM(E53:I53) -> 22564 | E53: 22564
A54: 38 | B54: Ellátási díjak | C54: B405 | D54: =SUM(E54:I54) -> 13229 | E54: 4027 | H54: 9202
A55: 39 | B55: Kiszámlázott általános forgalmi adó | C55: B406 | D55: =SUM(E55:I55) -> 13254 | E55: 6732 | F55: 653 | G55: 716 | H55: 5153
A56: 40 | B56: Általános forgalmi adó visszatérítése | C56: B407 | D56: =SUM(E56:I56) -> 0
A57: 41 | B57: Kamatbevételek | C57: B408 | D57: =SUM(E57:I57) -> 1599 | E57: 1576 | F57: 1 | G57: 20 | H57: 1 | I57: 1
A58: 42 | B58: Egyéb pénzügyi műveletek bevételei | C58: B409 | D58: =SUM(E58:I58) -> 1 | E58: 1
A59: 43 | B59: Egyéb működési bevételek | C59: B410 | D59: =SUM(E59:I59) -> 1409 | E59: 858 | F59: 339 | G59: 199 | H59: 8 | I59: 5
A60: 44 | B60: Működési bevételek | C60: B4 | D60: =SUM(E60:I60) -> 70205 | E60: =E48+E49+E50+E53+E54+E55+E56+E57+E58+E59 -> 36348 | F60: =F48+F49+F50+F53+F54+F55+F56+F57+F58+F59 -> 3461 | G60: =G48+G49+G50+G53+G54+G55+G56+G57+G58+G59 -> 3662 | H60: =H48+H49+H50+H53+H54+H55+H56+H57+H58+H59 -> 24248 | I60: =I48+I49+I50+I53+I54+I55+I56+I57+I58+I59 -> 2486
A61: 45 | B61: Immateriális javak értékesítése | C61: B51 | D61: =SUM(E61:I61) -> 0
A62: 46 | B62: Ingatlanok értékesítése | C62: B52 | D62: =SUM(E62:I62) -> 299 | E62: 299
A63: 47 | B63: Egyéb tárgyi eszközök értékesítése | C63: B53 | D63: =SUM(E63:I63) -> 1 | F63: 1
A64: 48 | B64: Részesedések értékesítése | C64: B54 | D64: =SUM(E64:I64) -> 0
A65: 49 | B65: Részesedések megszűnéséhez kapcsolódó bevételek | C65: B55 | D65: =SUM(E65:I65) -> 0
A66: 50 | B66: Felhalmozási bevételek | C66: B5 | D66: =SUM(E66:I66) -> 300 | E66: =SUM(E61:E65) -> 299 | F66: =SUM(F61:F65) -> 1 | G66: =SUM(G61:G65) -> 0 | H66: =SUM(H61:H65) -> 0 | I66: =SUM(I61:I65) -> 0
A67: 51 | B67: Működési célú garancia- és kezességvállalásból származó megtérülések államháztartáson kívülről | C67: B61 | D67: =SUM(E67:I67) -> 0
A68: 52 | B68: Működési célú visszatérítendő támogatások, kölcsönök visszatérülése államháztartáson kívülről | C68: B62 | D68: =SUM(E68:I68) -> 0
A69: 53 | B69: Egyéb működési célú átvett pénzeszközök | C69: B63-65 | D69: =SUM(E69:I69) -> 106 | G69: 106
A70: 54 | B70: Működési célú átvett pénzeszközök | C70: B6 | D70: =SUM(E70:I70) -> 106 | E70: =SUM(E67:E69) -> 0 | F70: =SUM(F67:F69) -> 0 | G70: =SUM(G67:G69) -> 106 | H70: =SUM(H67:H69) -> 0 | I70: =SUM(I67:I69) -> 0
A71: 55 | B71: Felhalmozási célú garancia- és kezességvállalásból származó megtérülések államháztartáson kívülről | C71: B71 | D71: =SUM(E71:I71) -> 0
A72: 56 | B72: Felhalmozási célú visszatérítendő támogatások, kölcsönök visszatérülése államháztartáson kívülről | C72: B72 | D72: =SUM(E72:I72) -> 352 | E72: 352
A73: 57 | B73: Egyéb felhalmozási célú átvett pénzeszközök | C73: B73-74 | D73: =SUM(E73:I73) -> 0
A74: 58 | B74: Felhalmozási célú átvett pénzeszközök | C74: B7 | D74: =SUM(E74:I74) -> 352 | E74: =SUM(E71:E73) -> 352 | F74: =SUM(F71:F73) -> 0 | G74: =SUM(G71:G73) -> 0 | H74: =SUM(H71:H73) -> 0 | I74: =SUM(I71:I73) -> 0
A75: 59 | B75: Költségvetési bevételek | C75: B1-B7 | D75: =SUM(E75:I75) -> 1142763 | E75: =E27+E33+E47+E60+E66+E70+E74 -> 1018738 | F75: =F27+F33+F47+F60+F66+F70+F74 -> 4088 | G75: =G27+G33+G47+G60+G66+G70+G74 -> 91576 | H75: =H27+H33+H47+H60+H66+H70+H74 -> 25875 | I75: =I27+I33+I47+I60+I66+I70+I74 -> 2486
A76: 60 | B76: Hitel-, kölcsönfelvétel államháztartáson kívülről | C76: B811 | D76: =SUM(E76:I76) -> 0
A77: 61 | B77: Belföldi értékpapírok bevételei | C77: B812 | D77: =SUM(E77:I77) -> 0
A78: 62 | B78: Előző év költségvetési maradványának igénybevétele | C78: B8131 | D78: =SUM(E78:I78) -> 248855 | E78: 229666 | F78: 4273 | G78: 9447 | H78: 4091 | I78: 1378
A79: 63 | B79: Előző év vállalkozási maradványának igénybevétele | C79: B8132 | D79: =SUM(E79:I79) -> 0
A80: 64 | B80: Maradvány igénybevétele | C80: B813 | D80: =SUM(E80:I80) -> 248855 | E80: =SUM(E78:E79) -> 229666 | F80: =SUM(F78:F79) -> 4273 | G80: =SUM(G78:G79) -> 9447 | H80: =SUM(H78:H79) -> 4091 | I80: =SUM(I78:I79) -> 1378
A81: 65 | B81: Államháztartáson belüli megelőlegezések | C81: B814 | D81: =SUM(E81:I81) -> 31298 | E81: 31298
A82: 66 | B82: Államháztartáson belüli megelőlegezések törlesztése | C82: B815 | D82: =SUM(E82:I82) -> 0
A83: 67 | B83: Központi, irányító szervi támogatás | C83: B816 | D83: =SUM(E83:I83) -> 399219 | F83: 136790 | G83: 126709 | H83: 91205 | I83: 44515
A84: 68 | B84: Betétek megszüntetése | C84: B817 | D84: =SUM(E84:I84) -> 0
A85: 69 | B85: Központi költségvetés sajátos finanszírozási bevételei | C85: B818 | D85: =SUM(E85:I85) -> 0
A86: 70 | B86: Belföldi finanszírozás bevételei | C86: B81 | D86: =SUM(E86:I86) -> 679372 | E86: =(SUM(E80:E85))+E76+E77 -> 260964 | F86: =(SUM(F80:F85))+F76+F77 -> 141063 | G86: =(SUM(G80:G85))+G76+G77 -> 136156 | H86: =(SUM(H80:H85))+H76+H77 -> 95296 | I86: =(SUM(I80:I85))+I76+I77 -> 45893
A87: 71 | B87: Külföldi finanszírozás bevételei | C87: B82 | D87: =SUM(E87:I87) -> 0
A88: 72 | B88: Finanszírozási bevételek | C88: B8 | D88: =SUM(E88:I88) -> 679372 | E88: =SUM(E86:E87) -> 260964 | F88: =SUM(F86:F87) -> 141063 | G88: =SUM(G86:G87) -> 136156 | H88: =SUM(H86:H87) -> 95296 | I88: =SUM(I86:I87) -> 45893
A89: 73 | B89: Összes bevétel | D89: =SUM(E89:I89) -> 1822135 | E89: =E75+E88 -> 1279702 | F89: =F75+F88 -> 145151 | G89: =G75+G88 -> 227732 | H89: =H75+H88 -> 121171 | I89: =I75+I88 -> 48379

Sheet 2 mell
B1: Berhida Város Önkormányzata | C1: 2. melléklet
B2: 2015. évi költségvetés | C2: a 7/2016. (V.2.) önkormányzati rendelethez
B3: Kiadások | C3: adatok ezer Ft-ban
D5: ÖSSZESEN | E5: Önkorm | F5: Hivatal | G5: TESZ | H5: Süni | I5: Kultúrház
A6: Sor- szám | B6: Rovat megnevezése | C6: Rovat száma | D6: Eredeti ei | E6: Eredeti ei | F6: Eredeti ei | G6: Eredeti ei | H6: Eredeti ei | I6: Eredeti ei
A7: 1. | B7: 2. | C7: 3. | D7: 4. | E7: 5. | F7: 6. | G7: 7. | H7: 8. | I7: 9.
A8: 1 | B8: Személyi juttatások | C8: K1 | D8: =SUM(E8:I8) -> 297025 | E8: 29013 | F8: 90665 | G8: 100158 | H8: 62271 | I8: 14918
A9: 2 | B9: Munkaadókat terhelő járulékok és szociális hozzájárulási adó | C9: K2 | D9: =SUM(E9:I9) -> 73031 | E9: 8545 | F9: 25679 | G9: 17895 | H9: 16760 | I9: 4152
A10: 3 | B10: Dologi kiadások | C10: K3 | D10: =SUM(E10:I10) -> 221962 | E10: 47475 | F10: 32630 | G10: 72420 | H10: 43419 | I10: 26018
A11: 4 | B11: Társadalombiztosítási ellátások | C11: K41 | D11: =SUM(E11:I11) -> 0
A12: 5 | B12: Családi támogatások | C12: K42 | D12: =SUM(E12:I12) -> 0
A13: 6 | B13: Pénzbeli kárpótlások, kártérítések | C13: K43 | D13: =SUM(E13:I13) -> 0
A14: 7 | B14: Betegséggel kapcsolatos (nem társadalombiztosítási) ellátások | C14: K44 | D14: =SUM(E14:I14) -> 900 | E14: 900
A15: 8 | B15: Foglalkoztatással, munkanélküliséggel kapcsolatos ellátások | C15: K45 | D15: =SUM(E15:I15) -> 2020 | E15: 2020
A16: 9 | B16: Lakhatással kapcsolatos ellátások | C16: K46 | D16: =SUM(E16:I16) -> 2000 | E16: 2000
A17: 10 | B17: Intézményi ellátottak pénzbeli juttatásai | C17: K47 | D17: =SUM(E17:I17) -> 0
A18: 11 | B18: Egyéb nem intézményi ellátások | C18: K48 | D18: =SUM(E18:I18) -> 18800 | E18: 18800
A19: 12 | B19: Ellátottak pénzbeli juttatásai | C19: K4 | D19: =SUM(E19:I19) -> 23720 | E19: =SUM(E11:E18) -> 23720 | F19: =SUM(F11:F18) -> 0 | G19: =SUM(G11:G18) -> 0 | H19: =SUM(H11:H18) -> 0 | I19: =SUM(I11:I18) -> 0
A20: 13 | B20: Nemzetközi kötelezettségek | C20: K501 | D20: =SUM(E20:I20) -> 0
A21: 14 | B21: Elvonások és befizetések | C21: K502 | D21: =SUM(E21:I21) -> 0
A22: 15 | B22: Működési célú garancia- és kezességvállalásból származó kifizetés államháztartáson belülre | C22: K503 | D22: =SUM(E22:I22) -> 0
A23: 16 | B23: Működési célú visszatérítendő támogatások, kölcsönök nyújtása államháztartáson belülre | C23: K504 | D23: =SUM(E23:I23) -> 0
A24: 17 | B24: Működési célú visszatérítendő támogatások, kölcsönök törlesztése államháztartáson belülre | C24: K505 | D24: =SUM(E24:I24) -> 0
A25: 18 | B25: Egyéb működési célú támogatások államháztartáson belülre | C25: K506 | D25: =SUM(E25:I25) -> 120490 | E25: =SUM(E26:E33) -> 120490 | F25: =SUM(F26:F33) -> 0 | G25: =SUM(G26:G33) -> 0 | H25: =SUM(H26:H33) -> 0 | I25: =SUM(I26:I33) -> 0
B26: - ebből központi költségvetési szervek | C26: K5061 | D26: =SUM(E26:I26) -> 0
B27: - ebből Társadalombiztosítási Alapok | C27: K5062 | D27: =SUM(E27:I27) -> 0
B28: - ebből elkülönített állami alapok | C28: K5063 | D28: =SUM(E28:I28) -> 0
B29: - ebből helyi önkormányzatok és költségvetési szerveik | C29: K5064 | D29: =SUM(E29:I29) -> 0
B30: - ebből társulások és költségvetési szerveik | C30: K50651 | D30: =SUM(E30:I30) -> 4750 | E30: 4750
B31: - ebből köznevelési társulásnak | C31: K50652 | D31: =SUM(E31:I31) -> 84141 | E31: 84141
B32: - ebből szociális társulásnak | C32: K50653 | D32: =SUM(E32:I32) -> 31299 | E32: 31299
B33: - ebből nemzetiségi önkormányzatok és költségvetési szerveik | C33: K5066 | D33: =SUM(E33:I33) -> 300 | E33: 300
A34: 19 | B34: Működési célú garancia- és kezességvállalásból származó kifizetés államháztartáson kívülre | C34: K507 | D34: =SUM(E34:I34) -> 0
A35: 20 | B35: Működési célú visszatérítendő támogatások, kölcsönök nyújtása államháztartáson kívülre | C35: K508 | D35: =SUM(E35:I35) -> 0
A36: 21 | B36: Árkiegészítések, ártámogatások | C36: K509 | D36: =SUM(E36:I36) -> 0
A37: 22 | B37: Kamattámogatások | C37: K510 | D37: =SUM(E37:I37) -> 0
A38: 23 | B38: Egyéb működési célú támogatások államháztartáson kívülre | C38: K511 | D38: =SUM(E38:I38) -> 4271 | E38: 4271
A39: 24 | B39: Tartalékok | C39: K512 | D39: =SUM(E39:I39) -> 16700 | E39: 16700
A40: 25 | B40: Egyéb működési célú kiadások | C40: K5 | D40: =SUM(E40:I40) -> 141461 | E40: =E20+E21+E22+E23+E24+E25+E34+E35+E36+E37+E38+E39 -> 141461 | F40: =F20+F21+F22+F23+F24+F25+F34+F35+F36+F37+F38+F39 -> 0 | G40: =G20+G21+G22+G23+G24+G25+G34+G35+G36+G37+G38+G39 -> 0 | H40: =H20+H21+H22+H23+H24+H25+H34+H35+H36+H37+H38+H39 -> 0 | I40: =I20+I21+I22+I23+I24+I25+I34+I35+I36+I37+I38+I39 -> 0
A41: 26 | B41: Immateriális javak, vagy jogok beszerzése, létesítése | C41: K61 | D41: =SUM(E41:I41) -> 900 | E41: 900
A42: 27 | B42: Ingatlanok beszerzése, létesítése | C42: K62 | D42: =SUM(E42:I42) -> 1575 | E42: 1575
A43: 28 | B43: Informatikai eszközök beszerzése, létesítése | C43: K63 | D43: =SUM(E43:I43) -> 1050 | E43: 100 | F43: 700 | G43: 150 | H43: 100
A44: 29 | B44: Egyéb tárgyi eszközök beszerzése, létesítése | C44: K64 | D44: =SUM(E44:I44) -> 7440 | E44: 3791 | F44: 200 | G44: 3129 | H44: 120 | I44: 200
A45: 30 | B45: Részesedések beszerzése | C45: K65 | D45: =SUM(E45:I45) -> 0
A46: 31 | B46: Meglévő részesedések növeléséhez kapcsolódó kiadások | C46: K66 | D46: =SUM(E46:I46) -> 0
A47: 32 | B47: Beruházási célú előzetesen felszámított általános forgalmi adó | C47: K67 | D47: =SUM(E47:I47) -> 2959.82 | E47: =(SUM(E41:E46))*0.27 -> 1718.82 | F47: 243 | G47: 885 | H47: 59 | I47: 54
A48: 33 | B48: Beruházások | C48: K6 | D48: =SUM(E48:I48) -> 13924.82 | E48: =SUM(E41:E47) -> 8084.82 | F48: =SUM(F41:F47) -> 1143 | G48: =SUM(G41:G47) -> 4164 | H48: =SUM(H41:H47) -> 279 | I48: =SUM(I41:I47) -> 254
A49: 34 | B49: Ingatlanok felújítása | C49: K71 | D49: =SUM(E49:I49) -> 24420 | E49: 24420
A50: 35 | B50: Informatikai eszközök felújítása | C50: K72 | D50: =SUM(E50:I50) -> 400 | F50: 400
A51: 36 | B51: Egyéb tárgyi eszközök felújítása | C51: K73 | D51: =SUM(E51:I51) -> 200 | F51: 200
A52: 37 | B52: Felújítási célú előzetesen felszámított általános forgalmi adó | C52: K74 | D52: =SUM(E52:I52) -> 6755.4 | E52: =(E49+E50+E51)*0.27 -> 6593.4 | F52: 162
A53: 38 | B53: Felújítások | C53: K7 | D53: =SUM(E53:I53) -> 31775.4 | E53: =SUM(E49:E52) -> 31013.4 | F53: =SUM(F49:F52) -> 762 | G53: =SUM(G49:G52) -> 0 | H53: =SUM(H49:H52) -> 0 | I53: =SUM(I49:I52) -> 0
A54: 39 | B54: Felhalmozási célú garancia- és kezességvállalásból származó kifizetés államháztartáson belülre | C54: K81 | D54: =SUM(E54:I54) -> 0
A55: 40 | B55: Felhalmozási célú visszatérítendő támogatások, kölcsönök nyújtása államháztartáson belülre | C55: K82 | D55: =SUM(E55:I55) -> 0
A56: 41 | B56: Felhalmozási célú visszatérítendő támogatások, kölcsönök törlesztése államháztartáson belülre | C56: K83 | D56: =SUM(E56:I56) -> 0
A57: 42 | B57: Egyéb felhalmozási célú támogatások államháztartáson belülre | C57: K84 | D57: =SUM(E57:I57) -> 0
A58: 43 | B58: Felhalmozási célú garancia- és kezességvállalásból származó kifizetés államháztartáson kívülre | C58: K85 | D58: =SUM(E58:I58) -> 0
A59: 44 | B59: Felhalmozási célú visszatérítendő támogatások, kölcsönök nyújtása államháztartáson kívülre | C59: K86 | D59: =SUM(E59:I59) -> 0
A60: 45 | B60: Lakástámogatás | C60: K87 | D60: =SUM(E60:I60) -> 0
A61: 46 | B61: Egyéb felhalmozási célú támogatások államháztartáson kívülre | C61: K88 | D61: =SUM(E61:I61) -> 0
A62: 47 | B62: Egyéb felhalmozási célú kiadások | C62: K8 | D62: =SUM(E62:I62) -> 0 | E62: =SUM(E54:E61) -> 0 | F62: =SUM(F54:F61) -> 0 | G62: =SUM(G54:G61) -> 0 | H62: =SUM(H54:H61) -> 0 | I62: =SUM(I54:I61) -> 0
A63: 48 | B63: Költségvetési kiadások | C63: K1-K8 | D63: =SUM(E63:I63) -> 802899.22 | E63: =E8+E9+E10+E19+E40+E48+E53+E62 -> 289312.22 | F63: =F8+F9+F10+F19+F40+F48+F53+F62 -> 150879 | G63: =G8+G9+G10+G19+G40+G48+G53+G62 -> 194637 | H63: =H8+H9+H10+H19+H40+H48+H53+H62 -> 122729 | I63: =I8+I9+I10+I19+I40+I48+I53+I62 -> 45342
A64: 49 | B64: Hitel-, kölcsöntörlesztés államháztartáson kívülre | C64: K911 | D64: =SUM(E64:I64) -> 0
A65: 50 | B65: Belföldi értékpapírok kiadásai | C65: K912 | D65: =SUM(E65:I65) -> 0
A66: 51 | B66: Államháztartáson belüli megelőlegezések folyósítása | C66: K913 | D66: =SUM(E66:I66) -> 0
A67: 52 | B67: Államháztartáson belüli megelőlegezések visszafizetése | C67: K914 | D67: =SUM(E67:I67) -> 12345 | E67: 12345
A68: 53 | B68: Központi, irányító szervi támogatások folyósítása | C68: K915 | D68: =SUM(E68:I68) -> 421668 | E68: 421668
A69: 54 | B69: Pénzeszközök betétként elhelyezése | C69: K916 | D69: =SUM(E69:I69) -> 0
A70: 55 | B70: Pénzügyi lízing kiadásai | C70: K917 | D70: =SUM(E70:I70) -> 0
A71: 56 | B71: Központi költségvetés sajátos finanszírozási kiadásai | C71: K918 | D71: =SUM(E71:I71) -> 0
A72: 57 | B72: Belföldi finanszírozás kiadásai | C72: K91 | D72: =SUM(E72:I72) -> 434013 | E72: =SUM(E64:E71) -> 434013 | F72: =SUM(F64:F71) -> 0 | G72: =SUM(G64:G71) -> 0 | H72: =SUM(H64:H71) -> 0 | I72: =SUM(I64:I71) -> 0
A73: 58 | B73: Külföldi finanszírozás kiadásai | C73: K92 | D73: =SUM(E73:I73) -> 0
A74: 59 | B74: Finanszírozási kiadások | C74: K9 | D74: =SUM(E74:I74) -> 434013 | E74: =SUM(E72:E73) -> 434013 | F74: =SUM(F72:F73) -> 0 | G74: =SUM(G72:G73) -> 0 | H74: =SUM(H72:H73) -> 0 | I74: =SUM(I72:I73) -> 0
A75: 60 | B75: Összes kiadás | D75: =SUM(E75:I75) -> 1236912.2 | E75: =E63+E74 -> 723325.22 | F75: =F63+F74 -> 150879 | G75: =G63+G74 -> 194637 | H75: =H63+H74 -> 122729 | I75: =I63+I74 -> 45342

Sheet 2a
B1: Berhida Város Önkormányzata | C1: 2/a. melléklet
B2: 2015. évi költségvetés | C2: a 7/2016. (V.2.) önkormányzati rendelethez
B3: Kiadások | C3: adatok ezer Ft-ban
A5: Felújítások | C5: Eredeti előirányzat | D5: Mód ei | E5: Teljesítés 12.31. | F5: Teljesítés 03.30
A6: 1 | B6: ÖNK Kultúrház tető felúj | C6: 736 | D6: 736 | E6: 736 | F6: 736
A7: 2 | B7: ÖNK "Autósbolt" temetkezési iroda tetőfelúj | C7: 148 | D7: 148 | E7: 148 | F7: 148
A8: 3 | B8: ÖNK Pgytp sportöltöző felújítás | C8: 7 | D8: 7 | E8: 7 | F8: 7
A9: 4 | B9: ÖNK tervek(Hétszín, Műv Ház, Ady felúj, járda) | C9: 9919 | D9: 12077 | E9: 9919 | F9: 4699
A10: 5 | B10: ÖNK KEOP napelemes pályázat (Süni, Városháza) | C10: 20203 | D10: 7614 | E10: 7458
A11: 6 | B11: ÖH informatikai eszk felúj | C11: 508 | D11: 508 | E11: 15
A12: 7 | B12: ÖH egyéb gép, berend eszköz felúj | C12: 254 | D12: 254
A13: 8 | B13: ÖNK Pgytp lapostető szigetelési munkák ABC Pgytp | D13: 2561 | E13: 2561 | F13: 144
A14: 9 | B14: ÖNK tervek felújítási pályázatokhoz | D14: 7000 | E14: 2946
A15: 10 | B15: ÖNK II. Rákóczi F Ált Isk tető felújítás | D15: 5100 | E15: 4970
A16: 11 | B16: ÖNK Süni óvoda terasz felújítás II. ütem | D16: 2304 | E16: 2303
A17: 12 | B17: ÖNK Hivatal emeleti 4 db vizesblokk felúj | D17: 5200
A18: 13 | B18: ÖNK Kossuth u. 26. szolg lakás épület felújítás | D18: 3600 | E18: 550
A19: 14 | B19: ÖNK szennyvíz telep előtti épület vizesblokk, villany | D19: 709 | E19: 709
A20: 15 | B20: TESZ jármű felújítás | D20: 160 | E20: 152
A21: 16 | B21: ÖNK Hivatal tető felújítás (beázás miatt) | D21: 2500 | E21: 2008
A22: 17 | B22: ÖNK ÖNO épületében fűtés korszerűsítés | D22: 900
A23: 18 | B23: ÖNK adósság konszol. Pályázat út-járda felúj | D23: 105870
B24: ÖNK adósság konszol. Pályázat Süni tetőfelúj | D24: 32766
A25: 19 | B25: ÖNK hulladékudvar kerítés felújítás | D25: 500
A26: 20 | B26: ÖNK Süni Óvoda ablak, ajtócsere | D26: 500
A27: 21 | B27: Összesen | C27: =SUM(C6:C26) -> 31775 | D27: =SUM(D6:D26) -> 191014 | E27: =SUM(E6:E26) -> 34482 | F27: =SUM(F6:F26) -> 5734

Sheet 2b
B1: Berhida Város Önkormányzata | C1: 2/b. melléklet
B2: 2015. évi költségvetés | C2: a 7/2016. (V.2.) önkormányzati rendelethez
B3: Kiadások | C3: adatok ezer Ft-ban
A4: Beruházások | C4: Eredeti előirányzat | D4: Mód ei | E4: Teljesítés 12.31. | F4: Teljesítés 03.30 | G4: Teljesítés 06.30
A5: 1 | B5: ÖNK településrendezési terv | C5: 1143 | D5: 1143 | E5: 1143 | G5: 1143
A6: 2 | B6: ÖNK emlékmű pályázat | C6: 3686 | D6: 6186 | E6: 5743 | G6: 600
A7: 3 | B7: ÖNK Ady internet hálózat bővítés | C7: 148 | D7: 148 | E7: 148 | F7: 148
A8: 4 | B8: ÖNK urnahely beszerzés köztemető | C8: 600 | D8: 406 | E8: 406 | G8: 406
A9: 5 | B9: TESZ B1 kút üzembehelyezése | C9: 1143 | D9: 1143 | E9: 651 | G9: 651
A10: 6 | B10: TESZ informatikai eszköz beszerzés | C10: 191 | D10: 191 | E10: 151 | F10: 17 | G10: 106 | H10: 30
A11: 7 | B11: TESZ egyéb gép, berendezés, eszköz beszerz | C11: 1687 | D11: 1687 | E11: 525 | F11: 237 | G11: 56
A12: 8 | B12: TESZ egyéb gép, berend, eszköz Hoszú közf | C12: 254 | D12: 2254 | E12: 1875
A13: 9 | B13: TESZ egyéb gép, berend, eszköz Út-híd | C13: 889 | D13: 1889 | E13: 622 | G13: 389
A14: 10 | B14: ÖH egyéb gép, berendezés, eszköz beszerz | C14: 254 | D14: 1450 | E14: 1434 | F14: 114 | G14: 9
A15: 11 | B15: ÖH informatikai eszköz beszerz | C15: 889 | D15: 2840 | E15: 1229 | F15: 38 | G15: 300
A16: 12 | B16: Süni informatikai eszköz besz | C16: 127 | D16: 127 | E16: 109 | F16: 98
A17: 13 | B17: Süni egyéb gép,berend, eszköz besz | C17: 152 | D17: 663 | E17: 425 | G17: 30
A18: 14 | B18: Kultúrház egyéb gép, berend,közműveszköz besz pály | C18: 254 | D18: 0 | F18: 64 | G18: 36
A19: 15 | B19: ÖNK védőnői szolg. Informatikai, egyéb eszköz besz | C19: 127 | D19: 427 | E19: 252 | F19: 50 | G19: 70
A20: 16 | B20: ÖNK Széchenyi, Liszt, Csokonai u. járdaép terv felülv | C20: 2000 | D20: 1914 | E20: 1914 | G20: 508
A21: 17 | B21: ÖNK köznevelési int. Tárgyi eszköz beszerzés | C21: 381 | D21: 381 | E21: 310 | F21: 287
A22: 18 | B22: Süni egyéb gép, eszköz beszerzés | D22: 0
A23: 19 | B23: ÖNK tervek beruházási pályázatokhoz | D23: 5000 | G23: 508
A24: 20 | B24: Kultúr hangtechnika (pl:keverő) riasztó, hangjelző tel | D24: 1720 | E24: 1601 | G24: 22
A25: 21 | B25: Kultúr könyvtári polc beszerzés, egyéb eszköz | D25: 400 | E25: 305 | G25: 8
A26: 22 | B26: Kultúr WIFI rendszer kibővítés | D26: 35
A27: 23 | B27: Kultúr Műv ház egyéb eszköz beszerzés (vasaló stb) | D27: 25 | E27: 20 | G27: 20
A28: 24 | B28: TESZ hulladékgyűjtő edények beszerzése | D28: 420 | E28: 312
A29: 25 | B29: TESZ buszmegálló beszerzés Kiskovácsi, Pgytp) | D29: 0
A30: 26 | B30: ÖNK térfigyelő kamera vásárlás | D30: 3260 | E30: 1334
A31: 27 | B31: ÖNK Péti úti temető járdaépítés régi katolikus részen | D31: 2300 | E31: 2230
A32: 28 | B32: ÖNK Integrált Városfejl Stratégia | D32: 3810 | E32: 1270
A33: 29 | B33: ÖNK üzletsor falára térkép tábla készítés | D33: 76 | E33: 76
A34: 30 | B34: TESZ Nyugdíjas club bojler vásárlás | D34: 40 | E34: 30
A35: 31 | B35: ÖNK Városközpont zöldpark kial előkész munk | D35: 3000 | E35: 2568 | G35: 1312
A36: 32 | B36: ÖNK TESZ telephely vásárlás | D36: 7900
A37: 33 | B37: ÖNK Köztemető szennyvízelvezetés, öntözővíz leválasztás | D37: 930 | E37: 827
A38: 34 | B38: Kultúr: könyvtári érd növ tám könyv, eszköz, ber | D38: 172 | E38: 172
A39: 35 | B39: ÖNK buszmegálló beszerzés Kiskovácsi, Pgytp) | D39: 2000 | E39: 1873
A40: 36 | B40: ÖNK Kiskovácsi, Pgytp tiszti házak közvilágítás | D40: 1200 | E40: 813
A41: 37 | B41: ÖNK Pgytp üzletsor vízmérőhely kialakítási munkák | D41: 420 | E41: 76
A42: 38 | B42: ÖNK KEOP napelemes pályázat gép, berend | D42: 20717 | E42: 20717 | G42: 38
A43: 39 | B43: ÖNK adósság konszol. Pályázat önrész+ pály út-járdaép | D43: 43822
A44: 40 | B44: TESZ hulladékgyűjtő edények beszerzése | D44: 250 | E44: 174
A45: 41 | B45: Kultúr tagint színjátszócs eszközbeszerzés+ szakk kisért | D45: 274 | E45: 273
A46: 42 | B46: Kultúr szakkör kisértékű te | D46: 220 | E46: 220
A47: 43 | B47: Kultúr könyv beszerzés | D47: 584 | E47: 582 | G47: 38
A48: 43 | B48: ÖNK Erkel F u útcsatlakozási munkái | D48: 987 | E48: 987 | G48: 38
A49: 44 | B49: Összesen | C49: =SUM(C5:C48) -> 13925 | D49: =SUM(D5:D48) -> 122411 | E49: =SUM(E5:E48) -> 53397 | F49: =SUM(F5:F48) -> 1053 | G49: =SUM(G5:G48) -> 6288

Sheet 2d
B1: Berhida Város Önkormányzata | C1: 2.d. melléklet
B2: 2015. évi költségvetés | C2: a 7/2016. (V.2.) önkormányzati rendelethez
B3: Kiadások | C3: adatok ezer Ft-ban
B4: Módosított előirányzat
D5: ÖSSZESEN | E5: Önkorm | F5: Hivatal | G5: TESZ | H5: Süni | I5: Kultúrház
A6: Sor- szám | B6: Rovat megnevezése | C6: Rovat száma | D6: Módosított ei | E6: Módosított ei | F6: Módosított ei | G6: Módosított ei | H6: Módosított ei | I6: Módosított ei
A7: 1. | B7: 2. | C7: 3. | D7: 4. | E7: 5. | F7: 6. | G7: 7. | H7: 8. | I7: 9.
A8: 1 | B8: Személyi juttatások | C8: K1 | D8: =SUM(E8:I8) -> 326593 | E8: 29497 | F8: 97792 | G8: 116545 | H8: 66564 | I8: 16195
A9: 2 | B9: Munkaadókat terhelő járulékok és szociális hozzájárulási adó | C9: K2 | D9: =SUM(E9:I9) -> 80898 | E9: 8726 | F9: 27765 | G9: 21932 | H9: 17920 | I9: 4555
A10: 3 | B10: Dologi kiadások | C10: K3 | D10: =SUM(E10:I10) -> 249007 | E10: 53860 | F10: 32830 | G10: 87512 | H10: 46575 | I10: 28230
A11: 4 | B11: Társadalombiztosítási ellátások | C11: K41 | D11: =SUM(E11:I11) -> 0
A12: 5 | B12: Családi támogatások | C12: K42 | D12: =SUM(E12:I12) -> 6554 | E12: 6554
A13: 6 | B13: Pénzbeli kárpótlások, kártérítések | C13: K43 | D13: =SUM(E13:I13) -> 0
A14: 7 | B14: Betegséggel kapcsolatos (nem társadalombiztosítási) ellátások | C14: K44 | D14: =SUM(E14:I14) -> 900 | E14: 900
A15: 8 | B15: Foglalkoztatással, munkanélküliséggel kapcsolatos ellátások | C15: K45 | D15: =SUM(E15:I15) -> 13085 | E15: 13085
A16: 9 | B16: Lakhatással kapcsolatos ellátások | C16: K46 | D16: =SUM(E16:I16) -> 10079 | E16: 10079
A17: 10 | B17: Intézményi ellátottak pénzbeli juttatásai | C17: K47 | D17: =SUM(E17:I17) -> 0
A18: 11 | B18: Egyéb nem intézményi ellátások | C18: K48 | D18: =SUM(E18:I18) -> 20512 | E18: 20512
A19: 12 | B19: Ellátottak pénzbeli juttatásai | C19: K4 | D19: =SUM(E19:I19) -> 51130 | E19: =SUM(E11:E18) -> 51130 | F19: =SUM(F11:F18) -> 0 | G19: =SUM(G11:G18) -> 0 | H19: =SUM(H11:H18) -> 0 | I19: =SUM(I11:I18) -> 0
A20: 13 | B20: Nemzetközi kötelezettségek | C20: K501 | D20: =SUM(E20:I20) -> 0
A21: 14 | B21: Elvonások és befizetések | C21: K502 | D21: =SUM(E21:I21) -> 679 | E21: 541 | F21: 7 | G21: 58 | H21: 58 | I21: 15
A22: 15 | B22: Működési célú garancia- és kezességvállalásból származó kifizetés államháztartáson belülre | C22: K503 | D22: =SUM(E22:I22) -> 0
A23: 16 | B23: Működési célú visszatérítendő támogatások, kölcsönök nyújtása államháztartáson belülre | C23: K504 | D23: =SUM(E23:I23) -> 0
A24: 17 | B24: Működési célú visszatérítendő támogatások, kölcsönök törlesztése államháztartáson belülre | C24: K505 | D24: =SUM(E24:I24) -> 0
A25: 18 | B25: Egyéb működési célú támogatások államháztartáson belülre | C25: K506 | D25: =SUM(E25:I25) -> 130383 | E25: =SUM(E26:E34) -> 130383 | F25: =SUM(F26:F34) -> 0 | G25: =SUM(G26:G34) -> 0 | H25: =SUM(H26:H34) -> 0 | I25: =SUM(I26:I34) -> 0
B26: - ebből központi költségvetési szervek | C26: K5061 | D26: =SUM(E26:I26) -> 0
B27: - ebből Társadalombiztosítási Alapok | C27: K5062 | D27: =SUM(E27:I27) -> 0
B28: - ebből elkülönített állami alapok | C28: K5063 | D28: =SUM(E28:I28) -> 0
B29: - ebből fejezeti kezelésű kv-i sz-nek (Rendőrség) | E29: 500
B30: - ebből helyi önkormányzatok és költségvetési szerveik | C30: K5064 | D30: =SUM(E30:I30) -> 494 | E30: 494
B31: - ebből társulások és költségvetési szerveik | C31: K50651 | D31: =SUM(E31:I31) -> 5354 | E31: 5354
B32: - ebből köznevelési társulásnak | C32: K50652 | D32: =SUM(E32:I32) -> 86282 | E32: 86282
B33: - ebből szociális társulásnak | C33: K50653 | D33: =SUM(E33:I33) -> 37453 | E33: 37453
B34: - ebből nemzetiségi önkormányzatok és költségvetési szerveik | C34: K5066 | D34: =SUM(E34:I34) -> 300 | E34: 300
A35: 19 | B35: Működési célú garancia- és kezességvállalásból származó kifizetés államháztartáson kívülre | C35: K507 | D35: =SUM(E35:I35) -> 0
A36: 20 | B36: Működési célú visszatérítendő támogatások, kölcsönök nyújtása államháztartáson kívülre | C36: K508 | D36: =SUM(E36:I36) -> 0
A37: 21 | B37: Árkiegészítések, ártámogatások | C37: K509 | D37: =SUM(E37:I37) -> 0
A38: 22 | B38: Kamattámogatások | C38: K510 | D38: =SUM(E38:I38) -> 0
A39: 23 | B39: Egyéb működési célú támogatások államháztartáson kívülre | C39: K511 | D39: =SUM(E39:I39) -> 4161 | E39: 4161
A40: 24 | B40: Tartalékok | C40: K512 | D40: =SUM(E40:I40) -> 137991 | E40: 137991
A41: 25 | B41: Egyéb működési célú kiadások | C41: K5 | D41: =SUM(E41:I41) -> 273214 | E41: =E20+E21+E22+E23+E24+E25+E35+E36+E37+E38+E39+E40 -> 273076 | F41: =F20+F21+F22+F23+F24+F25+F35+F36+F37+F38+F39+F40 -> 7 | G41: =G20+G21+G22+G23+G24+G25+G35+G36+G37+G38+G39+G40 -> 58 | H41: =H20+H21+H22+H23+H24+H25+H35+H36+H37+H38+H39+H40 -> 58 | I41: =I20+I21+I22+I23+I24+I25+I35+I36+I37+I38+I39+I40 -> 15
A42: 26 | B42: Immateriális javak, vagy jogok beszerzése, létesítése | C42: K61 | D42: =SUM(E42:I42) -> 4214 | E42: 3900 | F42: 300 | G42: 14
A43: 27 | B43: Ingatlanok beszerzése, létesítése | C43: K62 | D43: =SUM(E43:I43) -> 72787 | E43: 71887 | G43: 900
A44: 28 | B44: Informatikai eszközök beszerzése, létesítése | C44: K63 | D44: =SUM(E44:I44) -> 2908 | E44: 336 | F44: 1936 | G44: 536 | H44: 100
A45: 29 | B45: Egyéb tárgyi eszközök beszerzése, létesítése | C45: K64 | D45: =SUM(E45:I45) -> 16554 | E45: 7394 | F45: 1142 | G45: 4719 | H45: 522 | I45: 2777
A46: 30 | B46: Részesedések beszerzése | C46: K65 | D46: =SUM(E46:I46) -> 0
A47: 31 | B47: Meglévő részesedések növeléséhez kapcsolódó kiadások | C47: K66 | D47: =SUM(E47:I47) -> 0
A48: 32 | B48: Beruházási célú előzetesen felszámított általános forgalmi adó | C48: K67 | D48: =SUM(E48:I48) -> 25948 | E48: 22550 | F48: 912 | G48: 1665 | H48: 168 | I48: 653
A49: 33 | B49: Beruházások | C49: K6 | D49: =SUM(E49:I49) -> 122411 | E49: =SUM(E42:E48) -> 106067 | F49: =SUM(F42:F48) -> 4290 | G49: =SUM(G42:G48) -> 7834 | H49: =SUM(H42:H48) -> 790 | I49: =SUM(I42:I48) -> 3430
A50: 34 | B50: Ingatlanok felújítása | C50: K71 | D50: =SUM(E50:I50) -> 149680 | E50: 149680
A51: 35 | B51: Informatikai eszközök felújítása | C51: K72 | D51: =SUM(E51:I51) -> 400 | F51: 400
A52: 36 | B52: Egyéb tárgyi eszközök felújítása | C52: K73 | D52: =SUM(E52:I52) -> 326 | F52: 200 | G52: 126
A53: 37 | B53: Felújítási célú előzetesen felszámított általános forgalmi adó | C53: K74 | D53: =SUM(E53:I53) -> 40608 | E53: 40412 | F53: 162 | G53: 34
A54: 38 | B54: Felújítások | C54: K7 | D54: =SUM(E54:I54) -> 191014 | E54: =SUM(E50:E53) -> 190092 | F54: =SUM(F50:F53) -> 762 | G54: =SUM(G50:G53) -> 160 | H54: =SUM(H50:H53) -> 0 | I54: =SUM(I50:I53) -> 0
A55: 39 | B55: Felhalmozási célú garancia- és kezességvállalásból származó kifizetés államháztartáson belülre | C55: K81 | D55: =SUM(E55:I55) -> 0
A56: 40 | B56: Felhalmozási célú visszatérítendő támogatások, kölcsönök nyújtása államháztartáson belülre | C56: K82 | D56: =SUM(E56:I56) -> 0
A57: 41 | B57: Felhalmozási célú visszatérítendő támogatások, kölcsönök törlesztése államháztartáson belülre | C57: K83 | D57: =SUM(E57:I57) -> 0
A58: 42 | B58: Egyéb felhalmozási célú támogatások államháztartáson belülre | C58: K84 | D58: =SUM(E58:I58) -> 1155 | E58: 1155
A59: 43 | B59: Felhalmozási célú garancia- és kezességvállalásból származó kifizetés államháztartáson kívülre | C59: K85 | D59: =SUM(E59:I59) -> 0
A60: 44 | B60: Felhalmozási célú visszatérítendő támogatások, kölcsönök nyújtása államháztartáson kívülre | C60: K86 | D60: =SUM(E60:I60) -> 0
A61: 45 | B61: Lakástámogatás | C61: K87 | D61: =SUM(E61:I61) -> 0
A62: 46 | B62: Egyéb felhalmozási célú támogatások államháztartáson kívülre | C62: K88 | D62: =SUM(E62:I62) -> 1976 | E62: 1976
A63: 47 | B63: Egyéb felhalmozási célú kiadások | C63: K8 | D63: =SUM(E63:I63) -> 3131 | E63: =SUM(E55:E62) -> 3131 | F63: =SUM(F55:F62) -> 0 | G63: =SUM(G55:G62) -> 0 | H63: =SUM(H55:H62) -> 0 | I63: =SUM(I55:I62) -> 0
A64: 48 | B64: Költségvetési kiadások | C64: K1-K8 | D64: =SUM(E64:I64) -> 1297398 | E64: =E8+E9+E10+E19+E41+E49+E54+E63 -> 715579 | F64: =F8+F9+F10+F19+F41+F49+F54+F63 -> 163446 | G64: =G8+G9+G10+G19+G41+G49+G54+G63 -> 234041 | H64: =H8+H9+H10+H19+H41+H49+H54+H63 -> 131907 | I64: =I8+I9+I10+I19+I41+I49+I54+I63 -> 52425
A65: 49 | B65: Hitel-, kölcsöntörlesztés államháztartáson kívülre | C65: K911 | D65: =SUM(E65:I65) -> 0
A66: 50 | B66: Belföldi értékpapírok kiadásai | C66: K912 | D66: =SUM(E66:I66) -> 0
A67: 51 | B67: Államháztartáson belüli megelőlegezések folyósítása | C67: K913 | D67: =SUM(E67:I67) -> 0
A68: 52 | B68: Államháztartáson belüli megelőlegezések visszafizetése | C68: K914 | D68: =SUM(E68:I68) -> 43643 | E68: 43643
A69: 53 | B69: Központi, irányító szervi támogatások folyósítása | C69: K915 | D69: =SUM(E69:I69) -> 443755 | E69: 443755
A70: 54 | B70: Pénzeszközök betétként elhelyezése | C70: K916 | D70: =SUM(E70:I70) -> 0
A71: 55 | B71: Pénzügyi lízing kiadásai | C71: K917 | D71: =SUM(E71:I71) -> 0
A72: 56 | B72: Központi költségvetés sajátos finanszírozási kiadásai | C72: K918 | D72: =SUM(E72:I72) -> 0
A73: 57 | B73: Belföldi finanszírozás kiadásai | C73: K91 | D73: =SUM(E73:I73) -> 487398 | E73: =SUM(E65:E72) -> 487398 | F73: =SUM(F65:F72) -> 0 | G73: =SUM(G65:G72) -> 0 | H73: =SUM(H65:H72) -> 0 | I73: =SUM(I65:I72) -> 0
A74: 58 | B74: Külföldi finanszírozás kiadásai | C74: K92 | D74: =SUM(E74:I74) -> 0
A75: 59 | B75: Finanszírozási kiadások | C75: K9 | D75: =SUM(E75:I75) -> 487398 | E75: =SUM(E73:E74) -> 487398 | F75: =SUM(F73:F74) -> 0 | G75: =SUM(G73:G74) -> 0 | H75: =SUM(H73:H74) -> 0 | I75: =SUM(I73:I74) -> 0
A76: 60 | B76: Összes kiadás | D76: =SUM(E76:I76) -> 1784796 | E76: =E64+E75 -> 1202977 | F76: =F64+F75 -> 163446 | G76: =G64+G75 -> 234041 | H76: =H64+H75 -> 131907 | I76: =I64+I75 -> 52425

Sheet 2e
B1: Berhida Város Önkormányzata | C1: 2.e. melléklet
B2: 2015. évi költségvetés | C2: a 7/2016. (V.2.) önkormányzati rendelethez
B3: Kiadások | C3: adatok ezer Ft-ban
B4: Teljesítés 12.31
D5: ÖSSZESEN | E5: Önkorm | F5: Hivatal | G5: TESZ | H5: Süni | I5: Kultúrház
A6: Sor- szám | B6: Rovat megnevezése | C6: Rovat száma | D6: Teljesítés 12.31 | E6: Teljesítés 12.31 | F6: Teljesítés 12.31 | G6: Teljesítés 12.31 | H6: Teljesítés 12.31 | I6: Teljesítés 12.31
A7: 1. | B7: 2. | C7: 3. | D7: 4. | E7: 5. | F7: 6. | G7: 7. | H7: 8. | I7: 9.
A8: 1 | B8: Személyi juttatások | C8: K1 | D8: =SUM(E8:I8) -> 308005 | E8: 27166 | F8: 89425 | G8: 113442 | H8: 62653 | I8: 15319
A9: 2 | B9: Munkaadókat terhelő járulékok és szociális hozzájárulási adó | C9: K2 | D9: =SUM(E9:I9) -> 75278 | E9: 7515 | F9: 24844 | G9: 21543 | H9: 17080 | I9: 4296
A10: 3 | B10: Dologi kiadások | C10: K3 | D10: =SUM(E10:I10) -> 194666 | E10: 47184 | F10: 19517 | G10: 67264 | H10: 36693 | I10: 24008
A11: 4 | B11: Társadalombiztosítási ellátások | C11: K41 | D11: =SUM(E11:I11) -> 0
A12: 5 | B12: Családi támogatások | C12: K42 | D12: =SUM(E12:I12) -> 6554 | E12: 6554
A13: 6 | B13: Pénzbeli kárpótlások, kártérítések | C13: K43 | D13: =SUM(E13:I13) -> 0
A14: 7 | B14: Betegséggel kapcsolatos (nem társadalombiztosítási) ellátások | C14: K44 | D14: =SUM(E14:I14) -> 52 | E14: 52
A15: 8 | B15: Foglalkoztatással, munkanélküliséggel kapcsolatos ellátások | C15: K45 | D15: =SUM(E15:I15) -> 12973 | E15: 12973
A16: 9 | B16: Lakhatással kapcsolatos ellátások | C16: K46 | D16: =SUM(E16:I16) -> 8859 | E16: 8859
A17: 10 | B17: Intézményi ellátottak pénzbeli juttatásai | C17: K47 | D17: =SUM(E17:I17) -> 0
A18: 11 | B18: Egyéb nem intézményi ellátások | C18: K48 | D18: =SUM(E18:I18) -> 7102 | E18: 7102
A19: 12 | B19: Ellátottak pénzbeli juttatásai | C19: K4 | D19: =SUM(E19:I19) -> 35540 | E19: =SUM(E11:E18) -> 35540 | F19: =SUM(F11:F18) -> 0 | G19: =SUM(G11:G18) -> 0 | H19: =SUM(H11:H18) -> 0 | I19: =SUM(I11:I18) -> 0
A20: 13 | B20: Nemzetközi kötelezettségek | C20: K501 | D20: =SUM(E20:I20) -> 0
A21: 14 | B21: Elvonások és befizetések | C21: K502 | D21: =SUM(E21:I21) -> 651 | E21: 513 | F21: 7 | G21: 58 | H21: 58 | I21: 15
A22: 15 | B22: Működési célú garancia- és kezességvállalásból származó kifizetés államháztartáson belülre | C22: K503 | D22: =SUM(E22:I22) -> 0
A23: 16 | B23: Működési célú visszatérítendő támogatások, kölcsönök nyújtása államháztartáson belülre | C23: K504 | D23: =SUM(E23:I23) -> 0
A24: 17 | B24: Működési célú visszatérítendő támogatások, kölcsönök törlesztése államháztartáson belülre | C24: K505 | D24: =SUM(E24:I24) -> 0
A25: 18 | B25: Egyéb működési célú támogatások államháztartáson belülre | C25: K506 | D25: =SUM(E25:I25) -> 115911 | E25: =SUM(E26:E34) -> 115911 | F25: =SUM(F26:F34) -> 0 | G25: =SUM(G26:G34) -> 0 | H25: =SUM(H26:H34) -> 0 | I25: =SUM(I26:I34) -> 0
B26: - ebből központi költségvetési szervek | C26: K5061 | D26: =SUM(E26:I26) -> 0
B27: - ebből Társadalombiztosítási Alapok | C27: K5062 | D27: =SUM(E27:I27) -> 0
B28: - ebből elkülönített állami alapok | C28: K5063 | D28: =SUM(E28:I28) -> 0
B29: - ebből fejezeti kezelésű kv-i sz-nek (Rendőrség) | E29: 500
B30: - ebből helyi önkormányzatok és költségvetési szerveik | C30: K5064 | D30: =SUM(E30:I30) -> 494 | E30: 494
B31: - ebből társulások és költségvetési szerveik | C31: K50651 | D31: =SUM(E31:I31) -> 4164 | E31: 4164
B32: - ebből köznevelési társulásnak | C32: K50652 | D32: =SUM(E32:I32) -> 81900 | E32: 81900
B33: - ebből szociális társulásnak | C33: K50653 | D33: =SUM(E33:I33) -> 28553 | E33: 28553
B34: - ebből nemzetiségi önkormányzatok és költségvetési szerveik | C34: K5066 | D34: =SUM(E34:I34) -> 300 | E34: 300
A35: 19 | B35: Működési célú garancia- és kezességvállalásból származó kifizetés államháztartáson kívülre | C35: K507 | D35: =SUM(E35:I35) -> 0
A36: 20 | B36: Működési célú visszatérítendő támogatások, kölcsönök nyújtása államháztartáson kívülre | C36: K508 | D36: =SUM(E36:I36) -> 0
A37: 21 | B37: Árkiegészítések, ártámogatások | C37: K509 | D37: =SUM(E37:I37) -> 0
A38: 22 | B38: Kamattámogatások | C38: K510 | D38: =SUM(E38:I38) -> 0
A39: 23 | B39: Egyéb működési célú támogatások államháztartáson kívülre | C39: K511 | D39: =SUM(E39:I39) -> 4113 | E39: 4113
A40: 24 | B40: Tartalékok | C40: K512 | D40: =SUM(E40:I40) -> 0
A41: 25 | B41: Egyéb működési célú kiadások | C41: K5 | D41: =SUM(E41:I41) -> 120675 | E41: =E20+E21+E22+E23+E24+E25+E35+E36+E37+E38+E39+E40 -> 120537 | F41: =F20+F21+F22+F23+F24+F25+F35+F36+F37+F38+F39+F40 -> 7 | G41: =G20+G21+G22+G23+G24+G25+G35+G36+G37+G38+G39+G40 -> 58 | H41: =H20+H21+H22+H23+H24+H25+H35+H36+H37+H38+H39+H40 -> 58 | I41: =I20+I21+I22+I23+I24+I25+I35+I36+I37+I38+I39+I40 -> 15
A42: 26 | B42: Immateriális javak, vagy jogok beszerzése, létesítése | C42: K61 | D42: =SUM(E42:I42) -> 1965 | E42: 1900 | F42: 52 | G42: 13
A43: 27 | B43: Ingatlanok beszerzése, létesítése | C43: K62 | D43: =SUM(E43:I43) -> 27808 | E43: 27159 | G43: 649
A44: 28 | B44: Informatikai eszközök beszerzése, létesítése | C44: K63 | D44: =SUM(E44:I44) -> 1125 | E44: 18 | F44: 916 | G44: 105 | H44: 86
A45: 29 | B45: Egyéb tárgyi eszközök beszerzése, létesítése | C45: K64 | D45: =SUM(E45:I45) -> 12125 | E45: 5168 | F45: 1129 | G45: 2793 | H45: 335 | I45: 2700
A46: 30 | B46: Részesedések beszerzése | C46: K65 | D46: =SUM(E46:I46) -> 0
A47: 31 | B47: Meglévő részesedések növeléséhez kapcsolódó kiadások | C47: K66 | D47: =SUM(E47:I47) -> 0
A48: 32 | B48: Beruházási célú előzetesen felszámított általános forgalmi adó | C48: K67 | D48: =SUM(E48:I48) -> 10374 | E48: 8442 | F48: 566 | G48: 780 | H48: 113 | I48: 473
A49: 33 | B49: Beruházások | C49: K6 | D49: =SUM(E49:I49) -> 53397 | E49: =SUM(E42:E48) -> 42687 | F49: =SUM(F42:F48) -> 2663 | G49: =SUM(G42:G48) -> 4340 | H49: =SUM(H42:H48) -> 534 | I49: =SUM(I42:I48) -> 3173
A50: 34 | B50: Ingatlanok felújítása | C50: K71 | D50: =SUM(E50:I50) -> 28193 | E50: 28193
A51: 35 | B51: Informatikai eszközök felújítása | C51: K72 | D51: =SUM(E51:I51) -> 12 | F51: 12
A52: 36 | B52: Egyéb tárgyi eszközök felújítása | C52: K73 | D52: =SUM(E52:I52) -> 120 | G52: 120
A53: 37 | B53: Felújítási célú előzetesen felszámított általános forgalmi adó | C53: K74 | D53: =SUM(E53:I53) -> 6157 | E53: 6122 | F53: 3 | G53: 32
A54: 38 | B54: Felújítások | C54: K7 | D54: =SUM(E54:I54) -> 34482 | E54: =SUM(E50:E53) -> 34315 | F54: =SUM(F50:F53) -> 15 | G54: =SUM(G50:G53) -> 152 | H54: =SUM(H50:H53) -> 0 | I54: =SUM(I50:I53) -> 0
A55: 39 | B55: Felhalmozási célú garancia- és kezességvállalásból származó kifizetés államháztartáson belülre | C55: K81 | D55: =SUM(E55:I55) -> 0
A56: 40 | B56: Felhalmozási célú visszatérítendő támogatások, kölcsönök nyújtása államháztartáson belülre | C56: K82 | D56: =SUM(E56:I56) -> 0
A57: 41 | B57: Felhalmozási célú visszatérítendő támogatások, kölcsönök törlesztése államháztartáson belülre | C57: K83 | D57: =SUM(E57:I57) -> 0
A58: 42 | B58: Egyéb felhalmozási célú támogatások államháztartáson belülre | C58: K84 | D58: =SUM(E58:I58) -> 1155 | E58: 1155
A59: 43 | B59: Felhalmozási célú garancia- és kezességvállalásból származó kifizetés államháztartáson kívülre | C59: K85 | D59: =SUM(E59:I59) -> 0
A60: 44 | B60: Felhalmozási célú visszatérítendő támogatások, kölcsönök nyújtása államháztartáson kívülre | C60: K86 | D60: =SUM(E60:I60) -> 0
A61: 45 | B61: Lakástámogatás | C61: K87 | D61: =SUM(E61:I61) -> 0
A62: 46 | B62: Egyéb felhalmozási célú támogatások államháztartáson kívülre | C62: K88 | D62: =SUM(E62:I62) -> 1976 | E62: 1976
A63: 47 | B63: Egyéb felhalmozási célú kiadások | C63: K8 | D63: =SUM(E63:I63) -> 3131 | E63: =SUM(E55:E62) -> 3131 | F63: =SUM(F55:F62) -> 0 | G63: =SUM(G55:G62) -> 0 | H63: =SUM(H55:H62) -> 0 | I63: =SUM(I55:I62) -> 0
A64: 48 | B64: Költségvetési kiadások | C64: K1-K8 | D64: =SUM(E64:I64) -> 825174 | E64: =E8+E9+E10+E19+E41+E49+E54+E63 -> 318075 | F64: =F8+F9+F10+F19+F41+F49+F54+F63 -> 136471 | G64: =G8+G9+G10+G19+G41+G49+G54+G63 -> 206799 | H64: =H8+H9+H10+H19+H41+H49+H54+H63 -> 117018 | I64: =I8+I9+I10+I19+I41+I49+I54+I63 -> 46811
A65: 49 | B65: Hitel-, kölcsöntörlesztés államháztartáson kívülre | C65: K911 | D65: =SUM(E65:I65) -> 0
A66: 50 | B66: Belföldi értékpapírok kiadásai | C66: K912 | D66: =SUM(E66:I66) -> 0
A67: 51 | B67: Államháztartáson belüli megelőlegezések folyósítása | C67: K913 | D67: =SUM(E67:I67) -> 0
A68: 52 | B68: Államháztartáson belüli megelőlegezések visszafizetése | C68: K914 | D68: =SUM(E68:I68) -> 31861 | E68: 31861
A69: 53 | B69: Központi, irányító szervi támogatások folyósítása | C69: K915 | D69: =SUM(E69:I69) -> 399219 | E69: 399219
A70: 54 | B70: Pénzeszközök betétként elhelyezése | C70: K916 | D70: =SUM(E70:I70) -> 0
A71: 55 | B71: Pénzügyi lízing kiadásai | C71: K917 | D71: =SUM(E71:I71) -> 0
A72: 56 | B72: Központi költségvetés sajátos finanszírozási kiadásai | C72: K918 | D72: =SUM(E72:I72) -> 0
A73: 57 | B73: Belföldi finanszírozás kiadásai | C73: K91 | D73: =SUM(E73:I73) -> 431080 | E73: =SUM(E65:E72) -> 431080 | F73: =SUM(F65:F72) -> 0 | G73: =SUM(G65:G72) -> 0 | H73: =SUM(H65:H72) -> 0 | I73: =SUM(I65:I72) -> 0
A74: 58 | B74: Külföldi finanszírozás kiadásai | C74: K92 | D74: =SUM(E74:I74) -> 0
A75: 59 | B75: Finanszírozási kiadások | C75: K9 | D75: =SUM(E75:I75) -> 431080 | E75: =SUM(E73:E74) -> 431080 | F75: =SUM(F73:F74) -> 0 | G75: =SUM(G73:G74) -> 0 | H75: =SUM(H73:H74) -> 0 | I75: =SUM(I73:I74) -> 0
A76: 60 | B76: Összes kiadás | D76: =SUM(E76:I76) -> 1256254 | E76: =E64+E75 -> 749155 | F76: =F64+F75 -> 136471 | G76: =G64+G75 -> 206799 | H76: =H64+H75 -> 117018 | I76: =I64+I75 -> 46811

Sheet 3.a
B1: Berhida Város Önkormányzatának | C1: 3.a. melléklet
B2: 2015. Évi költségvetési beszámolóhoz | C2: a 7/2016. (V.2.) önkormányzati rendelethez
D3: adatok Ft-ban
A5: 3.a - A helyi önkormányzatok kiegészítő támogatásainak és egyéb kötött felhasználású támogatásainak elszámolása
A6: # | B6: Megnevezés | C6: A központi költségvetésből támogatásként rendelkezésre bocsátott összeg | D6: Az önkormányzat által az adott célra ténylegesen felhasznált összeg | E6: Az önkormányzat által fel nem használt, de a következő évben jogszerűen felhasználható összeg | F6: Eltérés (=4+5-3)
A7: 1 | B7: 2 | C7: 3 | D7: 4 | E7: 5 | F7: 6
A8: 03 | B8: Gyermekszegénység elleni program keretében nyári étkeztetés biztosítása | C8: 1936000 | D8: 1936000 | E8: 0 | F8: 0
A9: 10 | B9: Helyi önkormányzatok működési célú költségvetési támogatásai összesen (01+….+ 09) | C9: 1936000 | D9: 1936000 | E9: 0 | F9: 0
A10: 23 | B10: Közművelődési érdekeltségnövelő támogatás | C10: 303000 | D10: 303000 | E10: 0 | F10: 0
A11: 29 | B11: Adósságkonszolidációban nem részesült települési önkormányzatok fejlesztéseinek támogatása | C11: 180958223 | D11: 0 | E11: 180958223 | F11: 0
A12: 30 | B12: Helyi önkormányzatok felhalmozási célú költségvetési támogatásai összesen (11+12+13+20+21…+29) | C12: 181261223 | D12: 303000 | E12: 180958223 | F12: 0
A13: 42 | B13: Helyi önkormányzatok kiegészítő támogatásai összesen (=10+30+31+…..+41) | C13: 183197223 | D13: 2239000 | E13: 180958223 | F13: 0
A14: 43 | B14: A 2014. évről áthúzódó bérkompenzáció támogatása | C14: 395097 | D14: 395097 | E14: 0 | F14: 0
A15: 44 | B15: A köznevelési intézmények működtetéséhez kapcsolódó támogatás | C15: 2931500 | D15: 2931500 | E15: 0 | F15: 0
A16: 45 | B16: Pénzbeli szociális ellátások kiegészítése | C16: 20165476 | D16: 20038756 | E16: 0 | F16: -126720
A17: 46 | B17: A települési önkormányzatok szociális feladatainak egyéb támogatása | C17: 47687090 | D17: 47687090 | E17: 0 | F17: 0
A18: 47 | B18: Szociális ágazati pótlék | C18: 1518800 | D18: 1517986 | E18: 0 | F18: -814
A19: 51 | B19: Települési önkormányzatok nyilvános könyvtári és közművelődési feladatainak támogatása | C19: 6922080 | D19: 6922080 | E19: 0 | F19: 0
... A23: 80 | B23: Szociális ágazati kiegészítő pótlék támogatása (1520/2015. (VII. 27.) Korm. hat.) | C23: 1077105 | D23: 1077105 | E23: 0 | F23: 0

Sheet 3 b
B1: Berhida Város Önkormányzatának | C1: 3.b. melléklet
B2: 2015. Évi költségvetési beszámolóhoz | C2: a 7/2016. (V.2.) önkormányzati rendelethez
D3: adatok Ft-ban
A5: 3.b - Az önkormányzatok általános, köznevelési és szociális feladataihoz kapcsolódó támogatások elszámolása
A6: # | B6: Megnevezés | C6: Költségvetési törvény alapján feladatátvétellel/feladatát-adással korrigált támogatás | D6: Támogatás évközi változás Május 15. | E6: Támogatás évközi változás Október 1. | F6: Tényleges támogatás | G6: Évvégi eltérés (+,-) mutatószám szerint támogatás (=6-(3+4+5)) | H6: A 05. űrlap alapján a támogatási jogcímhez kapcsolódó kormányzati funkció szerinti kiadások összege | I6: Az önkormányzat által az adott célra december 31-ig ténylegesen felhasznált összeg (<=6.) | J6: Eltérés (támogatásban és felhasználás szerint) (=7-(6-8))
A7: 1 | B7: 2 | C7: 3 | D7: 4 | E7: 5 | F7: 6 | G7: 7 | H7: 8 | I7: 9 | J7: 10
A8: 01 | B8: I.1. A települési önkormányzatok működésének támogatása 09 01 01 05 03 | C8: 139174406 | D8: 0 | E8: 0 | F8: 139174406 | G8: 0 | H8: 547228910 | I8: 139174406 | J8: 0
A9: 03 | B9: I.3. Budapest Főváros Önkormányzatának kiegészítő támogatása 09 01 01 07 01 | C9: 0 | D9: 0 | E9: 0 | F9: 0 | G9: 0 | I9: 0 | J9: 0
A10: 04 | B10: I.4. Határátkelőhelyek fenntartásának támogatása 09 01 01 08 01 | C10: 0 | D10: 0 | E10: 0 | F10: 0 | G10: 0 | I10: 0 | J10: 0
A11: 06 | B11: II. A települési önkormányzatok egyes köznevelési feladatainak támogatása, a II.4. és II.5. jogcímek kivételével 09 01 02 00 00 | C11: 119076800 | D11: 0 | E11: 891067 | F11: 120479900 | G11: 512033 | H11: 146703000 | I11: 120479900 | J11: 512033
A12: 07 | B12: II.5. Kiegészítő támogatás az óvodapedagógusok minősítéséből adódó többletfeladatokhoz 09 01 02 05 00 | C12: 2924000 | D12: 0 | E12: 0 | F12: 2924000 | G12: 0 | H12: 26223100 | I12: 2924000 | J12: 0
A13: 08 | B13: III.3. Egyes szociális és gyermekjóléti feladatok támogatása 09 01 03 03 00 | C13: 17103134 | D13: 494100 | E13: -182688 | F13: 17395358 | G13: -19188 | H13: 28553000 | I13: 17395358 | J13: -19188
A14: 10 | B14: III.5. Gyermekétkeztetés támogatása 09 01 03 05 00 | C14: 50553288 | D14: 207777 | E14: 141795 | F14: 50609100 | G14: -293760 | H14: 50388642 | I14: 50388642 | J14: -514218
A15: 11 | B15: Összesen 9999999 | C15: 328831628 | D15: 701877 | E15: 850174 | F15: 330582764 | G15: 199085 | H15: =SUM(H8:H13) -> 748708010 | I15: 330362306 | J15: -21373

Sheet 4.a
B1: Berhida Város Önkormányzatának | C1: 4.a. melléklet
B2: 2015. Évi költségvetési beszámolóhoz | C2: a 7/2016. (V.2.) önkormányzati rendelethez
D3: adatok ezer Ft-ban
A5: 4.a - Maradványkimutatás
B6: Megnevezés | C6: Összeg
A7: 1 | B7: 2 | C7: 3
A8: 01 | B8: 01 Alaptevékenység költségvetési bevételei | C8: 1142762
A9: 02 | B9: 02 Alaptevékenység költségvetési kiadásai | C9: 825174
A10: 03 | B10: I Alaptevékenység költségvetési egyenlege (=01-02) | C10: 317588
A11: 04 | B11: 03 Alaptevékenység finanszírozási bevételei | C11: 679373
A12: 05 | B12: 04 Alaptevékenység finanszírozási kiadásai | C12: 431080
A13: 06 | B13: II Alaptevékenység finanszírozási egyenlege (=03-04) | C13: 248293
A14: 07 | B14: A) Alaptevékenység maradványa (=±I±II) | C14: 565881
A15: 15 | B15: C) Összes maradvány (=A+B) | C15: 565881
A16: 16 | B16: D) Alaptevékenység kötelezettségvállalással terhelt maradványa | C16: 200222
A17: 17 | B17: E) Alaptevékenység szabad maradványa (=A-D) | C17: 365659

Sheet 4.b
C1: Berhida Város Önkormányzata
C3: Maradványból történő feladatok finanszírozása | L3: 4.b melléklet
D4: 2015. évi | I4: a 7/2016. (V.2.) önkormányzati rendelethez
K5: adatok ezer Ft-ban
B6: A | C6: B | D6: C | E6: D | F6: E | G6: F | H6: G | I6: H | J6: I | K6: J | L6: K | M6: L | N6: M
A7: 1 | C7: Működési | D7: SZJ | E7: Járulék | F7: Dologi | G7: Áht belül átadot pe | H7: áht kív pe | I7: szoc ellátások | J7: Felújítás | K7: Beruházás | L7: Tartalék | M7: finanszírozási kiad | N7: Összesen
A8: 2 | B8: Süni Óvoda | C8: =SUM(D8:F8) -> 4153 | D8: =SUM(D9:D11) -> 2618 | E8: =SUM(E9:E11) -> 707 | F8: =SUM(F9:F11) -> 828 | G8: =SUM(G9:G11) -> 0 | H8: =SUM(H9:H11) -> 0 | I8: =SUM(I9:I11) -> 0 | J8: =SUM(J9:J11) -> 0 | K8: =SUM(K9:K11) -> 0 | ... M8: =SUM(M9:M11) -> 0 | N8: =SUM(C8)+SUM(G8:M8) -> 4153
A9: 3 | B9: bérkeret | C9: =SUM(D9:F9) -> 3325 | D9: 2618 | E9: 707 | N9: =SUM(C9)+SUM(G9:M9) -> 3325
A10: 4 | B10: áfa befizetési köt áthúzódó | C10: =SUM(D10:F10) -> 332 | F10: 332 | N10: =SUM(C10)+SUM(G10:M10) -> 332
A11: 5 | B11: karbantartás + áfa | C11: =SUM(D11:F11) -> 496 | F11: 496 | N11: =SUM(C11)+SUM(G11:M11) -> 496
A12: 6 | B12: Kultúrház és könyvtár | C12: =SUM(D12:F12) -> 1546 | D12: =SUM(D13:D18) -> 905 | E12: =SUM(E13:E18) -> 242 | F12: =SUM(F13:F18) -> 399 | G12: =SUM(G13:G18) -> 0 | H12: =SUM(H13:H18) -> 0 | I12: =SUM(I13:I18) -> 0 | J12: =SUM(J13:J18) -> 0 | K12: =SUM(K13:K18) -> 22 | ... M12: =SUM(M13:M18) -> 0 | N12: =SUM(C12)+SUM(G12:M12) -> 1568
A13: 7 | B13: bérkeret | C13: =SUM(D13:F13) -> 762 | D13: 600 | E13: 162 | N13: =SUM(C13)+SUM(G13:M13) -> 762
A14: 8 | B14: könyvtár nyomtatvány+áfa | C14: =SUM(D14:F14) -> 10 | F14: 10 | N14: =SUM(C14)+SUM(G14:M14) -> 10
A15: 9 | B15: könyvvásárlás+áfa | C15: =SUM(D15:F15) -> 20 | F15: 20 | N15: =SUM(C15)+SUM(G15:M15) -> 20
A16: 10 | B16: karbantartási anyag + áfa radiátor szelepcsere | C16: =SUM(D16:F16) -> 60 | F16: 60 | N16: =SUM(C16)+SUM(G16:M16) -> 60
A17: 11 | B17: karbantartási szolg + áfa érintésvéd | C17: =SUM(D17:F17) -> 100 | F17: 100 | N17: =SUM(C17)+SUM(G17:M17) -> 100
A18: 12 | B18: Kultúrház és kt tagint. Művelődési ház és kt | C18: =SUM(D18:F18) -> 594 | D18: =SUM(D19:D25) -> 305 | E18: =SUM(E19:E25) -> 80 | F18: =SUM(F19:F25) -> 209 | G18: =SUM(G19:G25) -> 0 | H18: =SUM(H19:H25) -> 0 | I18: =SUM(I19:I25) -> 0 | J18: =SUM(J19:J25) -> 0 | K18: =SUM(K19:K25) -> 22 | ... M18: =SUM(M19:M25) -> 0 | N18: =SUM(C18)+SUM(G18:M18) -> 616
A19: 13 | B19: bérkeret | C19: =SUM(D19:F19) -> 254 | D19: 200 | E19: 54 | N19: =SUM(C19)+SUM(G19:M19) -> 254
A20: 14 | B20: könyvvásárlás+áfa | C20: =SUM(D20:F20) -> 20 | F20: 20 | N20: =SUM(C20)+SUM(G20:M20) -> 20
A21: 15 | B21: könyvtár nyomtatvány+áfa | C21: =SUM(D21:F21) -> 10 | F21: 10 | N21: =SUM(C21)+SUM(G21:M21) -> 10
A22: 16 | B22: Megbízási díj Néptánccs vez | C22: =SUM(D22:F22) -> 131 | D22: 105 | E22: 26 | N22: =SUM(C22)+SUM(G22:M22) -> 131
A23: 17 | B23: karbantartás + áfa | C23: =SUM(D23:F23) -> 79 | F23: 79 | N23: =SUM(C23)+SUM(G23:M23) -> 79
A24: 18 | B24: karbantartási szolg + áfa érintésvéd | C24: =SUM(D24:F24) -> 100 | F24: 100 | N24: =SUM(C24)+SUM(G24:M24) -> 100
A25: 19 | B25: zsámoly áthúzódó | C25: =SUM(D25:F25) -> 0 | K25: 22 | N25: =SUM(C25)+SUM(G25:M25) -> 22
A26: 20 | B26: Tesz összesen | C26: =SUM(D26:F26) -> 12186 | D26: =SUM(D27:D41) -> 2787 | E26: =SUM(E27:E41) -> 771 | F26: =SUM(F27:F41) -> 8628 | G26: =SUM(G27:G41) -> 0 | H26: =SUM(H27:H41) -> 0 | I26: =SUM(I27:I41) -> 0 | J26: =SUM(J27:J41) -> 0 | K26: =SUM(K27:K41) -> 2350 | ... M26: =SUM(M27:M41) -> 0 | N26: =SUM(C26)+SUM(G26:M26) -> 14536
A27: 21 | B27: bérkeret | C27: =SUM(D27:F27) -> 2523 | D27: 1987 | E27: 536 | N27: =SUM(C27)+SUM(G27:M27) -> 2523
A28: 22 | B28: Köznevelési intézm karbant + áfa | C28: =SUM(D28:F28) -> 1200 | F28: 1200 | N28: =SUM(C28)+SUM(G28:M28) -> 1200
A29: 23 | B29: Köznevelési intézmény informatikai szolg+áfa | F29: 600 | N29: =SUM(C29)+SUM(G29:M29) -> 0
A30: 24 | B30: Hulladékgazdálkodás szolg. Áfa | C30: =SUM(D30:F30) -> 945 | F30: 945 | N30: =SUM(C30)+SUM(G30:M30) -> 945
A31: 25 | B31: Út-híd üzemelt feladat karbantartás + áfa | C31: =SUM(D31:F31) -> 4823 | F31: 4823 | N31: =SUM(C31)+SUM(G31:M31) -> 4823
A32: 26 | B32: sportfeladatok villamos energia | C32: =SUM(D32:F32) -> 200 | F32: 200 | N32: =SUM(C32)+SUM(G32:M32) -> 200
A33: 27 | B33: B1 kút üzembehelyezése áth | C33: =SUM(D33:F33) -> 0 | K33: 450 | N33: =SUM(C33)+SUM(G33:M33) -> 450
A34: 28 | B34: padok vásárlása közterületre | C34: =SUM(D34:F34) -> 0 | K34: 1100 | N34: =SUM(C34)+SUM(G34:M34) -> 1100
A35: 29 | B35: Hosszú közfoglalk. Táppénz hj, betegsz | C35: =SUM(D35:F35) -> 400 | D35: 300 | E35: 100 | N35: =SUM(C35)+SUM(G35:M35) -> 400
A36: 30 | B36: zöldterületkezelés karbantartási anyag+ áfa | C36: =SUM(D36:F36) -> 440 | F36: 440 | N36: =SUM(C36)+SUM(G36:M36) -> 440
A37: 31 | B37: város és községgazd. Helyettesítés | C37: =SUM(D37:F37) -> 635 | D37: 500 | E37: 135 | N37: =SUM(C37)+SUM(G37:M37) -> 635
A38: 32 | B38: zöldterületkezelés növényvásárlás+áfa | C38: =SUM(D38:F38) -> 420 | F38: 420 | N38: =SUM(C38)+SUM(G38:M38) -> 420
A39: 33 | B39: Város és községgazd egyéb gép, berendezés besz | C39: =SUM(D39:F39) -> 0 | K39: 200 | N39: =SUM(C39)+SUM(G39:M39) -> 200
A40: 34 | B40: Város és községg imm, jav, vagy ért jog szoftver be | C40: =SUM(D40:F40) -> 0 | K40: 200 | N40: =SUM(C40)+SUM(G40:M40) -> 200
A41: 35 | B41: Város és községg informatikai gép beszerzés+áfa | C41: =SUM(D41:F41) -> 0 | K41: 400 | N41: =SUM(C41)+SUM(G41:M41) -> 400
A42: 36 | B42: Berhidai Közös Önkormányzati Hivatal | C42: =SUM(D42:F42) -> 3374 | D42: =SUM(D43:D48) -> 2462 | E42: =SUM(E43:E48) -> 665 | F42: =SUM(F43:F48) -> 247 | G42: =SUM(G43:G48) -> 0 | H42: =SUM(H43:H48) -> 0 | I42: =SUM(I43:I48) -> 0 | J42: =SUM(J43:J48) -> 0 | K42: =SUM(K43:K48) -> 5306 | ... M42: =SUM(M43:M48) -> 0 | N42: =SUM(C42)+SUM(G42:M42) -> 8680
A43: 37 | B43: bérkeret | C43: =SUM(D43:F43) -> 3127 | D43: 2462 | E43: 665 | N43: =SUM(C43)+SUM(G43:M43) -> 3127
A44: 38 | B44: áfa befizetés áthúzódó | C44: =SUM(D44:F44) -> 247 | F44: 247 | N44: =SUM(C44)+SUM(G44:M44) -> 247
A45: 39 | B45: digitális temető térkép nyilvántartó program | C45: =SUM(D45:F45) -> 0 | K45: 1321 | N45: =SUM(C45)+SUM(G45:M45) -> 1321
A46: 40 | B46: egyéb eszköz beszerzés+áfa (fénymásoló, ir ber stb) | C46: =SUM(D46:F46) -> 0 | K46: 985 | N46: =SUM(C46)+SUM(G46:M46) -> 985
A47: 41 | B47: vagyoni értékű jog szoftver + áfa | C47: =SUM(D47:F47) -> 0 | K47: 300 | N47: =SUM(C47)+SUM(G47:M47) -> 300
A48: 42 | B48: informatikai eszköz beszerzés + áfa | C48: =SUM(D48:F48) -> 0 | K48: 2700 | N48: =SUM(C48)+SUM(G48:M48) -> 2700
A49: 43 | B49: ÖNKORMÁNYZAT | C49: =SUM(D49:F49) -> 21706 | D49: =D50+D54+D60+D63+D67+D70+D72+D95+D98+D105+D107+D109+D112+D121 -> 1886 | E49: =E50+E54+E60+E63+E67+E70+E72+E95+E98+E105+E107+E109+E112+E121 -> 674 | F49: =F50+F54+F60+F63+F67+F70+F72+F95+F98+F105+F107+F109+F112+F121 -> 19146 | G49: =G50+G54+G60+G63+G67+G70+G72+G95+G98+G105+G107+G109+G112+G121 -> 6509 | H49: =H50+H54+H60+H63+H67+H70+H72+H95+H98+H105+H107+H109+H112+H121 -> 500 | I49: =I50+I54+I60+I63+I67+I70+I72+I95+I98+I105+I107+I109+I112+I121 -> 4500 | J49: =J50+J54+J60+J63+J67+J70+J72+J95+J98+J105+J107+J109+J112+J121 -> 21050 | K49: =K50+K54+K60+K63+K67+K70+K72+K95+K98+K105+K107+K109+K112+K121 -> 15854 | ... N49: =N50+N54+N60+N63+N67+N70+N72+N95+N98+N105+N107+N109+N112+N121 -> 229728
A50: 44 | B50: Város és községgazdálkodási feladat | C50: =SUM(D50:F50) -> 1494 | D50: =SUM(D51:D53) -> 0 | E50: =SUM(E51:E53) -> 0 | F50: =SUM(F51:F53) -> 1494 | G50: =SUM(G51:G53) -> 0 | H50: =SUM(H51:H53) -> 0 | I50: =SUM(I51:I53) -> 0 | J50: =SUM(J51:J53) -> 0 | K50: =SUM(K51:K53) -> 0 | ... N50: =SUM(N51:N53) -> 1494
A51: 45 | B51: Közép-Duna Vidéke Hulladékgazd Társ tagdíj | C51: =SUM(D51:F51) -> 604 | F51: 604 | N51: =SUM(C51)+SUM(G51:M51) -> 604
A52: 46 | B52: szakmai szolgáltatások+áfa | C52: =SUM(D52:F52) -> 890 | F52: 890 | N52: =SUM(C52)+SUM(G52:M52) -> 890
A53: 47 | C53: =SUM(D53:F53) -> 0 | N53: =SUM(C53)+SUM(G53:M53) -> 0
A54: 48 | B54: Önkormányzati igazgatás | C54: =SUM(D54:F54) -> 1437 | D54: =SUM(D55:D59) -> 516 | E54: =SUM(E55:E59) -> 139 | F54: =SUM(F55:F59) -> 782 | G54: =SUM(G55:G59) -> 22 | H54: =SUM(H55:H59) -> 0 | I54: =SUM(I55:I59) -> 0 | J54: =SUM(J55:J59) -> 0 | K54: =SUM(K55:K59) -> 663 | ... N54: =SUM(N55:N59) -> 2122
A55: 49 | B55: Beszámoló állami elszám befizetési kötelezettség | C55: =SUM(D55:F55) -> 0 | G55: 22 | N55: =SUM(C55)+SUM(G55:M55) -> 22
A56: 50 | B56: önkormányzati weblap elkészítés és üzemeltetés | C56: =SUM(D56:F56) -> 60 | F56: 60 | K56: 663 | N56: =SUM(C56)+SUM(G56:M56) -> 723
A57: 51 | B57: 40 év nők foglalkoztat pályázat | C57: =SUM(D57:F57) -> 655 | D57: 516 | E57: 139 | N57: =SUM(C57)+SUM(G57:M57) -> 655
A58: 52 | B58: hirdetés, reklám-prop, egyéb kiadás | C58: =SUM(D58:F58) -> 400 | F58: 400 | N58: =SUM(C58)+SUM(G58:M58) -> 400
A59: 53 | B59: hátralék behajtással kapcsolatos eljárási díjak, ktg | C59: =SUM(D59:F59) -> 322 | F59: 322 | N59: =SUM(C59)+SUM(G59:M59) -> 322
A60: 54 | B60: programok, rendezvények szervezése | C60: =SUM(D60:F60) -> 1028 | D60: =SUM(D61:D62) -> 680 | E60: =SUM(E61:E62) -> 348 | F60: =SUM(F61:F62) -> 0 | G60: =SUM(G61:G62) -> 0 | H60: =SUM(H61:H62) -> 0 | I60: =SUM(I61:I62) -> 0 | J60: =SUM(J61:J62) -> 0 | K60: =SUM(K61:K62) -> 0 | ... M60: =SUM(M61:M62) -> 0 | N60: =SUM(C60)+SUM(G60:M60) -> 1028
A61: 55 | B61: reprezentáció | C61: =SUM(D61:F61) -> 1028 | D61: 680 | E61: 348 | N61: =SUM(C61)+SUM(G61:M61) -> 1028
A62: 56 | C62: =SUM(D62:F62) -> 0 | N62: =SUM(C62)+SUM(G62:M62) -> 0
A63: 57 | B63: Civil szervezetek támogatása | C63: =SUM(D63:F63) -> 0 | D63: =SUM(D64:D66) -> 0 | E63: =SUM(E64:E66) -> 0 | F63: =SUM(F64:F66) -> 0 | G63: =SUM(G64:G66) -> 500 | H63: =SUM(H64:H66) -> 500 | I63: =SUM(I64:I66) -> 0 | J63: =SUM(J64:J66) -> 0 | K63: =SUM(K64:K66) -> 0 | ... M63: =SUM(M64:M66) -> 0 | N63: =SUM(C63)+SUM(G63:M63) -> 1000
A64: 58 | B64: Közösségi támogatás | C64: =SUM(D64:F64) -> 0 | H64: 200 | N64: =SUM(C64)+SUM(G64:M64) -> 200
A65: 59 | B65: Közbiztonsági feladatokra Rendőrségnek | C65: =SUM(D65:F65) -> 0 | G65: 500 | N65: =SUM(C65)+SUM(G65:M65) -> 500
A66: 60 | B66: Sporttámogatás | C66: =SUM(D66:F66) -> 0 | H66: 300 | N66: =SUM(C66)+SUM(G66:M66) -> 300
A67: 61 | B67: Bölcsődei ellátás | C67: =SUM(D67:F67) -> 0 | D67: =SUM(D68:D69) -> 0 | E67: =SUM(E68:E69) -> 0 | F67: =SUM(F68:F69) -> 0 | G67: =SUM(G68:G69) -> 0 | H67: =SUM(H68:H69) -> 0 | I67: =SUM(I68:I69) -> 0 | J67: =SUM(J68:J69) -> 1620 | K67: =SUM(K68:K69) -> 0 | ... M67: =SUM(M68:M69) -> 0 | N67: =SUM(C67)+SUM(G67:M67) -> 1620
A68: 62 | B68: Hétszínvirág bölcsőde műk eng:kerítés, homokozó | C68: =SUM(D68:F68) -> 0 | J68: 1620 | N68: =SUM(C68)+SUM(G68:M68) -> 1620
A69: 63 | C69: =SUM(D69:F69) -> 0 | N69: =SUM(C69)+SUM(G69:M69) -> 0
A70: 64 | B70: Pénzbeli ellátások | C70: =SUM(D70:F70) -> 0 | D70: =SUM(D71:D71) -> 0 | E70: =SUM(E71:E71) -> 0 | F70: =SUM(F71:F71) -> 0 | G70: =SUM(G71:G71) -> 0 | H70: =SUM(H71:H71) -> 0 | I70: =SUM(I71:I71) -> 4500 | J70: =SUM(J71:J71) -> 0 | K70: =SUM(K71:K71) -> 0 | ... M70: =SUM(M71:M71) -> 0 | N70: =SUM(C70)+SUM(G70:M70) -> 4500
A71: 65 | B71: szociális támogatás kiegészítés | C71: =SUM(D71:F71) -> 0 | I71: 4500 | N71: =SUM(C71)+SUM(G71:M71) -> 4500
A72: 66 | B72: vagyongazdálkodás | C72: =SUM(D72:F72) -> 14420 | D72: =SUM(D73:D94) -> 0 | E72: =SUM(E73:E94) -> 0 | F72: =SUM(F73:F94) -> 14420 | G72: =SUM(G73:G94) -> 0 | H72: =SUM(H73:H94) -> 0 | I72: =SUM(I73:I94) -> 0 | J72: =SUM(J73:J94) -> 6339 | K72: =SUM(K73:K94) -> 13391 | ... M72: =SUM(M73:M94) -> 0 | N72: =SUM(C72)+SUM(G72:M72) -> 122000
A73: 67 | B73: ÖNK vagyongazdálk ingatlan területrend | C73: =SUM(D73:F73) -> 1500 | F73: 1500 | N73: =SUM(C73)+SUM(G73:M73) -> 1500
A74: 68 | B74: ÖNK térfigyelő kamerák felújítása | C74: =SUM(D74:F74) -> 0 | J74: 483 | N74: =SUM(C74)+SUM(G74:M74) -> 483
A75: 69 | B75: ÖNK Kossuth u. 26.szolg.Lakás nyílászáró,kém II ütem | C75: =SUM(D75:F75) -> 0 | J75: 1450 | N75: =SUM(C75)+SUM(G75:M75) -> 1450
A76: 70 | B76: ÖNK Ady gipsz karton válaszfal tanári szobába | C76: =SUM(D76:F76) -> 0 | J76: 160 | N76: =SUM(C76)+SUM(G76:M76) -> 160
A77: 71 | B77: ÖNK Ady sportpálya ivókút beszerzés | C77: =SUM(D77:F77) -> 0 | K77: 150 | N77: =SUM(C77)+SUM(G77:M77) -> 150
A78: 72 | B78: ÖNK Ady sportpálya alkonykapcsoló, kamera | C78: =SUM(D78:F78) -> 0 | K78: 220 | N78: =SUM(C78)+SUM(G78:M78) -> 220
A79: 73 | B79: ÖNK Ady régi rész vizesblokk felújítás | C79: =SUM(D79:F79) -> 0 | J79: 980 | N79: =SUM(C79)+SUM(G79:M79) -> 980
A80: 74 | B80: ÖNK szolg. Lakás Rezeda 19.parkettázás, beázás felú | C80: =SUM(D80:F80) -> 0 | J80: 297 | N80: =SUM(C80)+SUM(G80:M80) -> 297
A81: 75 | B81: ÖNK Péti úti temető urnafal | C81: =SUM(D81:F81) -> 0 | K81: 700 | N81: =SUM(C81)+SUM(G81:M81) -> 700
A82: 76 | B82: ÖNK Hivatal Cs Kp Tesz épület klíma beszerelés | C82: =SUM(D82:F82) -> 0 | K82: 6841 | N82: =SUM(C82)+SUM(G82:M82) -> 6841
A83: 77 | B83: ÖNK TOP-os pályázatok (M.Önk) előkészítési díj | C83: =SUM(D83:F83) -> 12000 | F83: 12000 | N83: =SUM(C83)+SUM(G83:M83) -> 12000
A84: 78 | B84: ÖNK Kultúrház homlokzat felújítás | C84: =SUM(D84:F84) -> 0 | J84: 969 | N84: =SUM(C84)+SUM(G84:M84) -> 969
A85: 79 | B85: ÖNK Arany J. u. kerítés építés | C85: =SUM(D85:F85) -> 0 | K85: 1200 | N85: =SUM(C85)+SUM(G85:M85) -> 1200
A86: 80 | B86: ÖNK napelemes közvilágítási lámpák beszerzése | C86: =SUM(D86:F86) -> 0 | K86: 680 | N86: =SUM(C86)+SUM(G86:M86) -> 680
A87: 81 | B87: ÖNK Tulipán u. emlékmű felújítás 1848-49-es | C87: =SUM(D87:F87) -> 0 | J87: 2000 | N87: =SUM(C87)+SUM(G87:M87) -> 2000
A88: 82 | B88: ÖNK Kiskovácsi református temető ravatoló bővítés | C88: =SUM(D88:F88) -> 0 | K88: 3600 | N88: =SUM(C88)+SUM(G88:M88) -> 3600
A89: 83 | B89: ÖNK egyéb szolgálatatások + áfa | C89: =SUM(D89:F89) -> 920 | F89: 920 | N89: =SUM(C89)+SUM(G89:M89) -> 920
A90: 84 | B90: ÖNK telekkialakítás villamos hálózat kiépítés 2 utca | C90: =SUM(D90:F90) -> 0 | L90: 12000 | N90: =SUM(C90)+SUM(G90:M90) -> 12000
A91: 85 | B91: pályázati tartalék TOP-os és egyéb pály önrész | C91: =SUM(D91:F91) -> 0 | L91: 61780 | N91: =SUM(C91)+SUM(G91:M91) -> 61780
A92: 86 | B92: intézményi kieg tartalék | C92: =SUM(D92:F92) -> 0 | L92: 9570 | N92: =SUM(C92)+SUM(G92:M92) -> 9570
A93: 87 | B93: ingatlan beruh, karbant havaria céltart | C93: =SUM(D93:F93) -> 0 | L93: 4500 | N93: =SUM(C93)+SUM(G93:M93) -> 4500
A94: 88 | C94: =SUM(D94:F94) -> 0 | N94: =SUM(C94)+SUM(G94:M94) -> 0
A95: 89 | B95: család és védőnői szolg. | C95: =SUM(C96:C97) -> 877 | D95: =SUM(D96:D97) -> 690 | E95: =SUM(E96:E97) -> 187 | F95: =SUM(F96:F97) -> 0 | G95: =SUM(G96:G97) -> 0 | H95: =SUM(H96:H97) -> 0 | I95: =SUM(I96:I97) -> 0 | J95: =SUM(J96:J97) -> 0 | ... N95: =SUM(N96:N97) -> 1177
A96: 90 | B96: bérkeret | C96: =SUM(D96:F96) -> 877 | D96: 690 | E96: 187 | N96: =SUM(C96)+SUM(G96:M96) -> 877
A97: 91 | B97: egyéb eszközbeszerzés | C97: =SUM(D97:F97) -> 0 | K97: 300 | N97: =SUM(C97)+SUM(G97:M97) -> 300
A98: 92 | B98: Út-híd építési feladat | C98: =SUM(C99:C104) -> 0 | D98: =SUM(D99:D104) -> 0 | E98: =SUM(E99:E104) -> 0 | F98: =SUM(F99:F104) -> 0 | G98: =SUM(G99:G104) -> 0 | H98: =SUM(H99:H104) -> 0 | I98: =SUM(I99:I104) -> 0 | J98: =SUM(J99:J104) -> 5791 | ... N98: =SUM(N99:N104) -> 31349
A99: 93 | B99: ÖNK út felújítás Arany J.u. (süllyedés, kereszt) | C99: =SUM(D99:F99) -> 0 | J99: 1631 | N99: =SUM(C99)+SUM(G99:M99) -> 1631
A100: 94 | B100: ÖNK út, járda javítás, építés, karbant céltartalék | C100: =SUM(D100:F100) -> 0 | L100: 22500 | N100: =SUM(C100)+SUM(G100:M100) -> 22500
A101: 95 | B101: ÖNK adósság konsz pályázat út-járda felúj tartalékker | C101: =SUM(D101:F101) -> 0 | L101: 3058 | N101: =SUM(C101)+SUM(G101:M101) -> 3058
...

Sheet 5.mell
B1: 2015 évi költségvetés | D1: 5. melléklet
B2: Berhida Város Önkormányzata | D2: a 7/2016. (V.2.) önkormányzati rendelethez
B3: Közösségi támogatások
D4: adatok ezer Ft-ban
A5: Közösségi támogatások 2015 évre
A7: I. Sporttámogatás Berhida működési célú | D7: előirányzat | E7: teljesítés 12.31
A8: Peremartoni Sport Club Berhida | D8: 960 | E8: 960
A9: Berhida Öregfiúk (PSCB- keresztül) | D9: 80 | E9: 80
A10: Berhida Lovasok KSE | D10: 400 | E10: 400
A11: Pearl Dance R.S.E. | D11: 450 | E11: 450
A12: 2012 Berhida Szabadidő és Tömegsport Egyesület | D12: 80 | E12: 80
A13: KID Rock and Roll sportegyesület | D13: 43 | E13: 43
A14: Tartalék
A15: Összesen | D15: =SUM(D8:D14) -> 2013 | E15: =SUM(E8:E14) -> 2013
A17: II. Közösségi támogatás működési célú | D17: előirányzat | E17: teljesítés
A18: 1.) Kultúrház keretében | D18: =SUM(D19:D26) -> 1271 | E18: =SUM(E19:E26) -> 1271
A19: Nyugdíjas Klub Berhida | D19: 227 | E19: 227
A20: Nyugd Klub tiszt díj | D20: 274 | E20: 274
A21: Nyugdíjas Klub Berhida Népt. és Mazs.cs. | D21: 100 | E21: 100
A22: Pere Rúzs Tánccsoport | D22: 60 | E22: 60
A23: Búzavirág Népdalkör | D23: 100 | E23: 100
A24: Kertbarát Kör | D24: 220 | E24: 220
A25: Berhida Táncegyüttes | D25: 90 | E25: 90
A26: Berhida Táncegyüttes tart-ból | D26: 200 | E26: 200
A27: 2.) Műv.Ház keretében | D27: =SUM(D28:D34) -> 517 | E27: =SUM(E28:E34) -> 517
A28: Őszi Napfény Nyugdíjas Klub | D28: 140 | E28: 140
A29: Őszi Napfény Nyugdíjas Klub tiszt díj | D29: 45 | E29: 45
A30: Őszi Napfény Néptánc Csoport | D30: 70 | E30: 70
A31: Őszi Napfény Néptánc Csoport tiszt díj | D31: 46 | E31: 46
A32: PERSZE színjátszó | D32: 100 | E32: 100
A33: PERSZE színjátszó tiszt díj | D33: 46 | E33: 46
A34: Őszi Napfény Népdalkör | D34: 70 | E34: 70
A35: 3.) Peremartonért Egyesület | D35: 150 | E35: 150
A36: Peremartonért Egyesület tiszt díj | D36: 120 | E36: 119
A37: 4.) Mozgássérültek Veszprém Megyei Egyesülete Berhidai Csoportja | D37: 150 | E37: 150
A38: 5.) Összefogással Berhidáért Egyesület | D38: 400 | E38: 400
A39: 8.) Berhida Városi Polgárőrség Egyesület | D39: 500 | E39: 500
... A43: 12. Győri Aneszteziológiáért Alapítvány | D43: 74 | E43: 74
A44: Összes közösségi | D44: =SUM(D35:D43) -> 1747 | E44: =SUM(E35:E43) -> 1746
A45: Összesen | D45: =D18+D27+D44 -> 3535 | E45: =E18+E27+E44 -> 3534
A46: Tartalék | D46: 30
A47: 2015 évi keret | D47: =D45+D46 -> 3565 | E47: =E45+E46 -> 3534
A49: Felhalmozási célú támogatás
A50: 12. Református Egyház Berhida templom felújítás | E50: 119
A51: Összes előirányzat | E51: =E47+E50 -> 3653

Sheet 6.mell.
C1: Berhida Város Önkormányzata
C2: ellátottak pénzbeli juttatásai | F2: 6. melléklet
C3: 2015. év | F3: a 7/2016. (V.2.) önkormányzati rendelethez
F4: adatok ezer Ft-ban
B5: A | C5: B | D5: C | E5: D | F5: E | G5: F
B6: Szociális jogcímek | C6: átruházott hatáskört gyakorló | E6: Képvis.test.jogk. | F6: Jegyzői jogk. | G6: Összes | H6: Teljesítés
C7: polgármester | D7: Humán Biz. | G7: előirányzat | H7: 42369
A8: 1 | B8: Pénzbeli ellátások összesen | C8: =SUM(C9:C21) -> 3300 | D8: =SUM(D9:D21) -> 13900 | E8: =SUM(E9:E21) -> 2500 | F8: =SUM(F9:F21) -> 31430 | G8: =SUM(G9:G21) -> 51130 | H8: =SUM(H9:H21) -> 35540
A9: 2 | B9: Rendsz szoc segély 03 hóig önr | F9: 1712 | G9: =SUM(C9:F9) -> 1712 | H9: 1547
A10: 3 | B10: foglal hely tám 03 hóig önrész | F10: 13085 | G10: =SUM(C10:F10) -> 13085 | H10: 12973
A11: 4 | B11: Lakásfenntartási tám. | F11: 10079 | G11: =SUM(C11:F11) -> 10079 | H11: 8859
B12: óvodáztatási támog | F12: 510 | G12: =SUM(C12:F12) -> 510 | H12: 510
A13: 4 | B13: term gyermekvédelmi tám | F13: 6044 | G13: =SUM(C13:F13) -> 6044 | H13: 6044
A14: 5 | B14: Települési támogatás
A15: 6 | B15: Lakhatási támog | D15: 12000 | G15: =SUM(C15:F15) -> 12000 | H15: 1870
A16: 7 | B16: Gyermekvéd.támog. | D16: 900 | E16: 100 | G16: =SUM(C16:F16) -> 1000 | H16: 15
A17: 8 | B17: Bursa Hung. (ösztöndíj tám) | E17: 2400 | G17: =SUM(C17:F17) -> 2400 | H17: 1690
A18: 9 | B18: Temetési segély | C18: 1500 | G18: =SUM(C18:F18) -> 1500 | H18: 1035
A19: 10 | B19: Átmeneti segély | D19: 1000 | G19: =SUM(C19:F19) -> 1000 | H19: 365
A20: 11 | B20: Köztemetés | C20: 900 | G20: =SUM(C20:F20) -> 900 | H20: 580
A21: 12 | B21: Közgyógyell,betegséggel kapcs | C21: 900 | G21: =SUM(C21:F21) -> 900 | H21: 52

Sheet 7 mell
B1: Berhida Város Önkormányzatának
B2: 2015. Évi költségvetési beszámolóhoz | E2: 7. melléklet
E3: a 7/2016. (V.2.) önkormányzati rendelethez
F4: adatok ezer Ft-ban
A5: 7 mell - Az eszközök értékvesztésének alakulása
B6: Megnevezés | C6: Nyitó adatok, bekerülési érték | D6: Nyitó adatok, értékvesztés | E6: Tárgyidőszakban elszámolt értékvesztés | F6: Tárgyidőszakban visszaírt értékvesztés | G6: Záró adatok, bekerülési érték | H6: Záró adatok, értékvesztés
A7: 1 | B7: 2 | C7: 3 | D7: 4 | E7: 5 | F7: 6 | G7: 7 | H7: 8
A8: 01 | B8: Adott előlegek | C8: 52 | D8: 0 | E8: 0 | F8: 0 | G8: 130 | H8: 0
A9: 02 | B9: Tartós részesedések | C9: 11241 | D9: 0 | E9: 0 | F9: 0 | G9: 11241 | H9: 91
A10: 04 | B10: Készletek | C10: 717 | D10: 0 | E10: 0 | F10: 0 | G10: 1012 | H10: 0
A11: 06 | B11: Kincstáron kívüli forintszámlák | C11: 234051 | D11: 0 | E11: 0 | F11: 0 | G11: 568229 | H11: 0
A12: 08 | B12: Követelések a követelés jellegű sajátos elszámolások kivételével | C12: 57861 | D12: 24999 | E12: 6911 | F12: 6177 | G12: 54237 | H12: 25733
A13: 11 | B13: Összesen (=01+…+10) | C13: 303922 | D13: 24999 | E13: 6911 | F13: 6177 | G13: 634849 | H13: 25824

Sheet 8 mell
B1: Berhida Város Önkormányzatának
B2: 2015. Évi költségvetési beszámolóhoz | E2: 8. melléklet
E3: a 7/2016. (V.2.) önkormányzati rendelethez
F4: adatok ezer Ft-ban
A5: 8 - Kimutatás az immateriális javak, tárgyi eszközök koncesszióba, vagyonkezelésbe adott eszközök állományának alakulásáról
B6: Megnevezés | C6: Immateriális javak | D6: Ingatlanok és kapcsolódó vagyoni értékű jogok | E6: Gépek, berendezések, felszerelések, járművek | F6: Tenyészállatok | G6: Beruházások és felújítások | H6: Koncesszióba, vagyonkezelésbe adott eszközök | I6: Összesen (=3+4+5+6+7+8)
A7: 1 | B7: 2 | C7: 3 | D7: 4 | E7: 5 | F7: 6 | G7: 7 | H7: 8 | I7: 9
A8: 01 | B8: Tárgyévi nyitó állomány (előző évi záró állomány) | C8: 24887 | D8: 3736370 | E8: 197077 | F8: 0 | G8: 33785 | H8: 154788 | I8: 4146907
A9: 02 | B9: Immateriális javak beszerzése, nem aktivált beruházások | C9: 1965 | D9: 0 | E9: 0 | F9: 0 | G9: 7256 | H9: 0 | I9: 9221
A10: 03 | B10: Nem aktivált felújítások | C10: 0 | D10: 0 | E10: 0 | F10: 0 | G10: 10328 | H10: 0 | I10: 10328
A11: 04 | B11: Beruházásokból, felújításokból aktivált érték | C11: 0 | D11: 37572 | E11: 14286 | F11: 0 | G11: 0 | H11: 0 | I11: 51858
A12: 05 | B12: Térítésmentes átvétel | C12: 0 | D12: 784 | E12: 410 | F12: 0 | G12: 0 | H12: 0 | I12: 1194
A13: 07 | B13: Egyéb növekedés | C13: 0 | D13: 488 | E13: 122 | F13: 0 | G13: 0 | H13: 0 | I13: 610
A14: 08 | B14: Összes növekedés (=02+…+07) | C14: 1965 | D14: 38844 | E14: 14818 | F14: 0 | G14: 17584 | H14: 0 | I14: 73211
A15: 10 | B15: Hiány, selejtezés, megsemmisülés | C15: 0 | D15: 0 | E15: 1791 | F15: 0 | G15: 4908 | H15: 0 | I15: 6699
A16: 11 | B16: Térítésmentes átadás | C16: 0 | D16: 0 | E16: 411 | F16: 0 | G16: 0 | H16: 0 | I16: 411
A17: 13 | B17: Egyéb csökkenés | C17: 0 | D17: 0 | E17: 0 | F17: 0 | G17: 1 | H17: 0 | I17: 1
A18: 14 | B18: Összes csökkenés (=09+…+13) | C18: 0 | D18: 0 | E18: 2202 | F18: 0 | G18: 4909 | H18: 0 | I18: 7111
A19: 15 | B19: Bruttó érték összesen (=01+08-14) | C19: 26852 | D19: 3775214 | E19: 209693 | F19: 0 | G19: 46460 | H19: 154788 | I19: 4213007
... A26: 26 | B26: Teljesen (0-ig) leírt eszközök bruttó értéke | C26: 17727 | D26: 722 | E26: 149626 | F26: 0 | G26: 0 | H26: 0 | I26: 168075

Sheet 9
B1: Berhida Város Önkormányzatának | C1: 9. melléklet
B2: 2015. Évi költségvetési beszámolóhoz | C2: a 7/2016. (V.2.) önkormányzati rendelethez
D3: adatok ezer Ft-ban
A5: 9- Mérleg
B6: Megnevezés | C6: Előző időszak | D6: Módosítások (+/-) | E6: Tárgyi időszak
A7: 1 | B7: 2 | C7: 3 | D7: 4 | E7: 5
A8: 01 | B8: A/I/1 Vagyoni értékű jogok | C8: 5864 | D8: 0 | E8: 6669
A9: 02 | B9: A/I/2 Szellemi termékek | C9: 564 | D9: 0 | E9: 31
A10: 04 | B10: A/I Immateriális javak (=A/I/1+A/I/2+A/I/3) | C10: 6428 | D10: 0 | E10: 6700
A11: 05 | B11: A/II/1 Ingatlanok és a kapcsolódó vagyoni értékű jogok | C11: 2582734 | D11: 0 | E11: 2534065
B12: -ebből forgalomképtelen | C12: 795591 | E12: 770159
B13: - ebből korlátozottan forgalomképes | C13: 1615418 | E13: 1589572
B14: - ebből forgalomképes, üzleti vagyon | C14: 171725 | E14: 174334
A15: 06 | B15: A/II/2 Gépek, berendezések, felszerelések, járművek | C15: 34057 | D15: 0 | E15: 31217
A16: 08 | B16: A/II/4 Beruházások, felújítások | C16: 33785 | D16: 0 | E16: 46460
A17: 10 | B17: A/II Tárgyi eszközök (=A/II/1+...+A/II/5) | C17: 2650576 | D17: 0 | E17: 2611742
A18: 11 | B18: A/III/1 Tartós részesedések (=A/III/1a+…+A/III/1e) | C18: 11241 | D18: 0 | E18: 11150
A19: 13 | B19: A/III/1b - ebből: tartós részesedések nem pénzügyi vállalkozásban | C19: 11241 | D19: 0 | E19: 11150
A20: 21 | B20: A/III Befektetett pénzügyi eszközök (=A/III/1+A/III/2+A/III/3) | C20: 11241 | D20: 0 | E20: 11150
A21: 22 | B21: A/IV/1 Koncesszióba, vagyonkezelésbe adott eszközök (=A/IV/1a+A/IV/1b+A/IV/1c) | C21: 145513 | D21: 0 | E21: 140408
A22: 24 | B22: A/IV/1b - ebből: tárgyi eszközök | C22: 145513 | D22: 0 | E22: 140408
A23: 27 | B23: A/IV Koncesszióba, vagyonkezelésbe adott eszközök (=A/IV/1+A/IV/2) | C23: 145513 | D23: 0 | E23: 140408
A24: 28 | B24: A) NEMZETI VAGYONBA TARTOZÓ BEFEKTETETT ESZKÖZÖK (=A/I+A/II+A/III+A/IV) | C24: 2813758 | D24: 0 | E24: 2770000
A25: 29 | B25: B/I/1 Vásárolt készletek | C25: 717 | D25: 0 | E25: 1012
A26: 34 | B26: B/I Készletek (=B/I/1+…+B/I/5) | C26: 717 | D26: 0 | E26: 1012
... A91: 243 | B91: FORRÁSOK ÖSSZESEN (=G+H+I+J) | C91: 3103375 | D91: 0 | E91: 3371904
B93: Részletező adatok:
B94: a.) 0-ra leírt eszközök | E94: 168075
B95: b.) használatban lévő kisértékű immateriális javak és tárgyi eszközök | E95: 13968
B96: c.) kulturális javak állománya | E96: 1616

Sheet 10
B1: Berhida Város Önkormányzatának | C1: 8. melléklet
B2: 2015. Évi költségvetési beszámolóhoz | C2: a 7/2016. (V.2.) önkormányzati rendelethez
D3: adatok ezer Ft-ban
A5: 10 - Eredménykimutatás
B6: Megnevezés | C6: Előző időszak | D6: Módosítások (+/-) | E6: Tárgyi időszak
A7: 1 | B7: 2 | C7: 3 | D7: 4 | E7: 5
A8: 01 | B8: 01 Közhatalmi eredményszemléletű bevételek | C8: 273378 | D8: 0 | E8: 310705
A9: 02 | B9: 02 Eszközök és szolgáltatások értékesítése nettó eredményszemléletű bevételei | C9: 30950 | D9: 0 | E9: 25972
A10: 03 | B10: 03 Tevékenység egyéb nettó eredményszemléletű bevételei | C10: 26878 | D10: 0 | E10: 25452
A11: 04 | B11: I Tevékenység nettó eredményszemléletű bevétele (=01+02+03) (04=01+02+03) | C11: 331206 | D11: 0 | E11: 362129
A12: 08 | B12: 06 Központi működési célú támogatások eredményszemléletű bevételei | C12: 787018 | D12: 0 | E12: 818966
A13: 09 | B13: 07 Egyéb működési célú támogatások eredményszemléletű bevételei | C13: 136545 | D13: 0 | E13: 110290
A14: 10 | B14: 08 Különféle egyéb eredményszemléletű bevételek | C14: 2233 | D14: 0 | E14: 1802
A15: 11 | B15: III Egyéb eredményszemléletű bevételek (=06+07+08) (11=08+09+10) | C15: 925796 | D15: 0 | E15: 931058
A16: 12 | B16: 09 Anyagköltség | C16: 35606 | D16: 0 | E16: 35794
A17: 13 | B17: 10 Igénybe vett szolgáltatások értéke | C17: 103868 | D17: 0 | E17: 110073
A18: 15 | B18: 12 Eladott (közvetített) szolgáltatások értéke | C18: 2866 | D18: 0 | E18: 3853
A19: 16 | B19: IV Anyagjellegű ráfordítások (=09+10+11+12) (16=12+...+15) | C19: 142340 | D19: 0 | E19: 149720
... A40: 41 | B40: E) MÉRLEG SZERINTI EREDMÉNY (=±C±D) (41=±35±40) | C40: -29315 | D40: 0 | E40: 89482

Sheet 11
C1: 11. melléklet
C2: a 7/2016. (V.2.) önkormányzati rendelethez
B3: Berhida Város Önkormányzatának
B4: 2015. Évi költségvetési beszámolóhoz
A5: Az önkormányzat által adott közvetett támogatások, kedvezmények
A8: A | B8: B | C8: C | D8: D
A9: Sorszám | B9: Bevételi jogcím | C9: Kedvezmény nélkül | D9: Kedvezmények
C10: elérhető | D10: összege
C11: bevétel e/Ft | D11: e/Ft
A12: 1. | B12: 2. | C12: 3. | D12: 4.
A13: 1. | B13: házi gondozás térítési díj | C13: 8160 | D13: 3944
A14: 2. | B14: idősek nappali ell térítési díj | C14: 2986 | D14: 1936
A15: 3. | B15: szoc. étkeztetés térítési díj | C15: 4516 | D15: 649
A16: 4. | B16: gépjármű adó bevétel | C16: 11612 | D16: 924
A17: 5. | B17: magánsz kommunális adó bev | C17: 15219 | D17: 649
A18: 6.
A19: 7.
A20: 8.
A21: 9.
A22: 27. | B22: Összesen: | C22: =SUM(C13:C21) -> 42493 | D22: =SUM(D13:D21) -> 8102

Sheet 12. mell
B1: Berhida Város Önkormányzatának
B2: 2015. Év | H2: 12. melléklet
H3: a 7/2016. (V.2.) önkormányzati rendelethez
A5: Több éves kihatással járó döntésekből származó kötelezettségek célok szerint, évenkénti bontásban
A6: Lejárat és eszközök szerinti bontásban (e/Ft-ban)
B9: A | C9: B | D9: C | E9: D | F9: E | G9: F | H9: G | I9: H | J9: I | K9: J | L9: K
C10: Kötelezett- | D10: Lejárat | E10: 2015
B11: Hitel jellege | C11: ségváll. | D11: éve | E11: előtti | F11: 2015. | G11: 2016. | H11: 2017. | I11: 2018. | J11: 2019. | K11: 2019. után | L11: Összesen
C12: éve | E12: kifizetés
A13: 1. | B13: Működési célú
A14: 2.
A15: 3.
A16: 4.
A17: 5.
A18: 6. | B18: Felhalmozási célú hitel áll.
A19: *7. | L19: =SUM(E19:K19) -> 0
A20: 8. | L20: =SUM(E20:K20) -> 0
A21: 9. | L21: =SUM(E21:K21) -> 0
A22: 10. | L22: =SUM(E22:K22) -> 0
A23: 11. | B23: Összesen: (1+6) | E23: =SUM(E19:E21) -> 0 | F23: =SUM(F19:F21) -> 0 | G23: =SUM(G19:G21) -> 0 | H23: =SUM(H19:H21) -> 0 | I23: =SUM(I19:I21) -> 0 | J23: =SUM(J19:J21) -> 0 | K23: =SUM(K19:K21) -> 0 | L23: =SUM(E23:K23) -> 0

Sheet 13
E1: 2013. évi költségvetés | H1: 13. melléklet
E2: Berhida Város Önkormányzata | H2: a 7/2016. (V.2.) önkormányzati rendelethez
E3: Bevételek | H3: adatok ezer Ft-ban
B4: A | F4: B
A5: 1 | B5: BEVÉTELI JOGCÍMEK | F5: 2013. Évi eredeti előirányzat | G5: 2013 mód előir | H5: Teljesítés 12.31
A6: 2 | B6: I.) Működési bevételek | F6: =F7+F19+F34+F78 -> 656965 | G6: =G7+G19+G34+G78 -> 813092 | H6: =H7+H19+H34+H78 -> 853331
A7: 3 | B7: 1.) Intézményi működési bevételek | F7: =SUM(F8:F18) -> 87244 | G7: =SUM(G8:G18) -> 78773 | H7: =SUM(H8:H18) -> 83335
A8: 4 | B8: a.) szoc. Étkeztetés, térítési díj | F8: 4500 | G8: 2343 | H8: 2343
A9: 5 | B9: b.) idősek klubja térítési díj | F9: 1332 | G9: 424 | H9: 424
A10: 6 | B10: c.) házi gondozás térítési díj | F10: 1202 | G10: 202 | H10: 202
A11: 7 | B11: d.) lakó ingatlanok bérbeadása | F11: 1089 | G11: 1089 | H11: 1301
A12: 8 | B12: e.) nem lakó ingatlan bérleti díjak | F12: 9995 | G12: 10148 | H12: 12003
A13: 9 | B13: f.) közmű bérleti díjak | F13: 9000 | G13: 9000 | H13: 8915
A14: 10 | B14: g.) szolgáltatási díj (továbbszámlázott..) | F14: 2398 | G14: 2622 | H14: 4253
A15: 11 | B15: i.) egyéb bevételek | F15: 305 | G15: 1174 | H15: 1609
A16: 12 | B16: j.) kamatbevételek | F16: 3000 | G16: 3002 | H16: 3257
A17: 13 | B17: k.) élelmezési bevételek | F17: 37210 | G17: 33325 | H17: 33226
A18: 14 | B18: l.) áfa bevételek | F18: 17213 | G18: 15444 | H18: 15802
A19: 15 | B19: 2. Közhatalmi bevételek | F19: =F20+F21+F24+F29+F30+F33 -> 200028 | G19: =G20+G21+G24+G29+G30+G33 -> 212727 | H19: =H20+H21+H24+H29+H30+H33 -> 251068
A20: 16 | B20: 2.1.) Igazgatási szolgáltatási díj | F20: 300 | G20: 100 | H20: 135
A21: 17 | B21: 2.2.) Önkorm-nak átengedett közhatalmi bevételek | F21: =SUM(F22:F23) -> 10768 | G21: =SUM(G22:G23) -> 10768 | H21: =SUM(H22:H23) -> 11826
A22: 18 | B22: a.) Gépjárműadó | F22: 10600 | G22: 10600 | H22: 11826
A23: 19 | B23: b) Termőföld bérbead.szárm.jöv.adó | F23: 168 | G23: 168
A24: 20 | B24: 2.3) Helyi adók és adójellegű bevételek | F24: =SUM(F25:F28) -> 187800 | G24: =SUM(G25:G28) -> 199794 | H24: =SUM(H25:H28) -> 234380
A25: 21 | B25: a.) építmény adó | F25: 70400 | G25: 70400 | H25: 77270
A26: 22 | B26: b.) kommunális adó | F26: 13100 | G26: 16345 | H26: 17506
A27: 23 | B27: c.) iparűzési adó | F27: 104000 | G27: 112749 | H27: 139341
A28: 24 | B28: d.) Talajterhelési díj | F28: 300 | G28: 300 | H28: 263
A29: 25 | B29: 2.4) Adópótlék, adóbírság | F29: 900 | G29: 1539 | H29: 3380
A30: 26 | B30: 2.5) Bírság bevételek | F30: =SUM(F31:F32) -> 100 | G30: =SUM(G31:G32) -> 208 | H30: =SUM(H31:H32) -> 788
A31: 27 | B31: a.) Környezetvédelmi bírság | F31: 100 | G31: 208 | H31: 788
A32: 28 | B32: b.) Építésügyi bírság
A33: 29 | B33: 2.6.)Egyéb közhatalmi bevételek (szabálysért bírs, eljár.bírs stb) | F33: 160 | G33: 318 | H33: 559
A34: 30 | B34: 3.) Működési célú támogatások államháztartáson belülről | F34: =F35+F57+F58 -> 369623 | G34: =G35+G57+G58 -> 521436 | H34: =H35+H57+H58 -> 518797
A35: 31 | B35: 3.1) Önkormányzatok működési célú költségvetési támogatása | F35: =F36+F37+F44 -> 297807 | G35: =G36+G37+G44+G49+G52 -> 425320 | H35: =H36+H37+H44+H49+H52 -> 425320
A36: 32 | B36: 3.1.1) Állami támogatások kv-i tv. 2. melléklet működési c | F36: 297592 | G36: 307354 | H36: 307354
A37: 33 | B37: 3.1.2) Egyes jövedelempótló támogatások kiegészítése | F37: =SUM(F38:F43) -> 0 | G37: =SUM(G38:G43) -> 86520 | H37: =SUM(H38:H43) -> 86520
A38: 34 | B38: a.) Rendszeres szociális segély | G38: 8434 | H38: 8434
A39: 35 | B39: b.) Időskorúak járadéka 2012 december | G39: 52 | H39: 52
A40: 36 | B40: c.) ápolási díj 2012 december | G40: 451 | H40: 451
A41: 37 | B41: d.) lakásfenntartási támogatás | G41: 15916 | H41: 15916
A42: 38 | B42: e.) foglalkoztat. helyettesítő támogatás | G42: 60617 | H42: 60617
A43: 39 | B43: f.) Óvodáztatási támogatás | G43: 1050 | H43: 1050
A44: 40 | B44: 3.1.3) Központosított előirányzatokból működési célúak | F44: =SUM(F45:F48) -> 215 | G44: =SUM(G45:G48) -> 1967 | H44: =SUM(H45:H48) -> 1967
A45: 41 | B45: a.) Lakott külterülettel kapcsolatos támogatás | F45: 215 | G45: 215 | H45: 215
A46: 42 | B46: b.) Közművelődési érdekeltségnövelő támogatás | G46: 0 | H46: 0
A47: 43 | B47: c.) Nyári gyermekétkeztetési pályázat tám. | G47: 1065 | H47: 1065
A48: 44 | B48: d.) közszféra bérkompenzációjára támogatás 2012 december | G48: 687 | H48: 687
A49: 45 | B49: 3.1.4) Egyéb működési célú állami | G49: =SUM(G50:G51) -> 14294 | H49: =SUM(H50:H51) -> 14294
A50: 46 | B50: a.) Bérkompenzáció | G50: 7015 | H50: 7015
A51: 47 | B51: b.) Természetbeni gyermekvédelmi támogatás | G51: 7279 | H51: 7279
A52: 48 | B52: 3.1.5) Szerkezetátalakítási tartalék | G52: =SUM(G53:G56) -> 15185 | H52: =SUM(H53:H56) -> 15185
A53: 49 | B53: a.) Gyermek étkeztetés kiegészítő támogatás | G53: 2130 | H53: 2130
A54: 50 | B54: b.) Település üzemeltetési feladatok beszámítás visszapótlása | G54: 6729 | H54: 6729
A55: 51 | B55: c.) Szoc. És gyermekjóléti alapell tám kiegészítés | G55: 2486 | H55: 2486
A56: 52 | B56: d.) Önk. Tul. Oktatási intézmények működtetésének tám. | G56: 3840 | H56: 3840
A57: 53 | B57: 3.2) Előző évi költségvetési kiegészítések, visszatérülések | H57: 2852
A58: 54 | B58: 3.3) Támogatásértékű működési bevételek | F58: =SUM(F59:F69) -> 71816 | G58: =SUM(G59:G77) -> 96116 | H58: =SUM(H59:H77) -> 90625
A59: 55 | B59: a.) Eü.pénztártól átvett pénzeszköz | F59: 11424 | G59: 12049 | H59: 12049
A60: 56 | B60: b.) Várpalotáról átvét Okmányiroda | F60: 2000 | G60: 1929 | H60: 1930
A61: 57 | B61: c.) Vilonyától átvét.(okt.társ.) | F61: 2431 | G61: 2431 | H61: 1788
A62: 58 | B62: d.) Vilonyától átvét (kirendeltség állami átvét) | F62: 10193 | G62: 10482 | H62: 10482
A63: 59 | B63: e.) Vilonyától átvét (CSK. Társ, Házig,szoc.étk) | F63: 734 | G63: 734 | H63: 734
A64: 60 | B64: f.) Német Nemzetiségi Önk. támogatása | F64: 222 | G64: 0
A65: 61 | B65: g.) Roma Nemzetiségi Önk. támogatása | F65: 222 | G65: 0
A66: 62 | B66: h.) 6-8 órás közfoglalkoztatás | F66: 34562 | G66: 33904 | H66: 23616
A67: 63 | B67: i.) közszféra bérkompenzációjára támogatás 2012 december | F67: 664 | G67: 0
A68: 64 | B68: j.) TÁMOP óvodai fejlesztési pályázat | F68: 9364 | G68: 9364 | H68: 3143
A69: 65 | B69: k.) Önkorm-tól intézményeknek előző évi pénzmar-hoz kötődő támog | G69: 2200 | H69: 1423
A70: 66 | B70: l.) 2013 évi bérkompenzációra átvett pe | G70: 0
A71: 67 | B71: m.) Várpalotai Kistérség Többc.Társ. 2012 évi elszám. | G71: 308 | H71: 308
A72: 68 | B72: n.) TIOP pálíyázat kultúrház 2012 áthúzódó elszám | G72: 736 | H72: 736
A73: 69 | B73: ny.) téli közfoglalkoztatás 2013. november-december működési | G73: 19451 | H73: 32061
A74: 70 | B74: o.) Nyári diákmunka támogatás Munkaügyi Kp | G74: 1933 | H74: 1933
A75: 71 | B75: p.) TESZ TÁMOP foglalkoztatási pályázat | G75: 408 | H75: 408
A76: 72 | B76: q.) KLIK Művészeti isk tandíj 30 % | H76: 14
A77: 73 | B77: r.) Önkorm Hivatal TÁMOP pályázat Önk-tól | G77: 187
A78: 74 | B78: 4.) Működési célú pénzeszköz átvétel áht. kívülről | F78: =SUM(F79:F81) -> 70 | G78: =SUM(G79:G81) -> 156 | H78: =SUM(H79:H81) -> 131
A79: 75 | B79: a.) gyermekorvostól működési hozzájárulás átvét | F79: 70 | G79: 70 | H79: 70
A80: 76 | B80: b.) TESZ lakóingatlan gazd pe átvét háztartásoktól | G80: 75 | H80: 50
A81: 77 | B81: c.) Süni óvodai programhoz szülői hozzájárulás | G81: 11 | H81: 11
A82: 78 | B82: II. Felhalmozási bevételek | F82: =F83+F88 -> 2548 | G82: =G83+G88 -> 2798 | H82: =H83+H88 -> 2984
A83: 79 | B83: 1.1.) Tárgyi eszközök, imm.javak értékesítése | F83: =SUM(F84:F87) -> 2548 | G83: =SUM(G84:G87) -> 2798 | H83: =SUM(H84:H87) -> 2984
A84: 80 | B84: a.) Telekértékesítés, ingatlanértékesítés | F84: 2248 | G84: 2248 | H84: 2248
A85: 81 | B85: b.) Önk-i lakások értékesítése, részlet | F85: 300 | G85: 340 | H85: 526
A86: 82 | B86: c.) Motoros fűnyírótraktor értékesítés | G86: 50 | H86: 50
A87: 83 | B87: d.) jármű értékesítés (multicar) | G87: 160 | H87: 160
A88: 84 | B88: 1.2.) Pénzügyi befektetések bevét.(részvényért)
A89: 85 | B89: III.) Felhalmozási célú támogatások államháztartáson belülről | F89: =F90+F93 -> 45718 | G89: =G90+G93 -> 50875 | H89: =H90+H93 -> 38541
A90: 86 | B90: 1.1) Önkormányzatok felhalmozási célú költségvetési támogatása | G90: =SUM(G91:G92) -> 1221 | H90: =SUM(H91:H92) -> 1221
A91: 87 | B91: a.) Könyvtári és közművelődési érdekeltség növelő támogtás | G91: 182 | H91: 182
A92: 88 | B92: b.) Vismaior támogatás (rendkívüli hóhelyzet pály) | G92: 1039 | H92: 1039
A93: 89 | B93: 1.2) Felhalmozási célú támogatásértékű bevételek | F93: =SUM(F94:F102) -> 45718 | G93: =SUM(G94:G102) -> 49654 | H93: =SUM(H94:H102) -> 37320
A94: 90 | B94: a.) TÁMOP óvodai fejlesztési pályázat | F94: 2226 | G94: 2226 | H94: 0
A95: 91 | B95: b.) Sportöltöző felújítás pályázat áthúzódó elsz | F95: 4661 | G95: 4728 | H95: 4727
A96: 92 | B96: c.) Kisfürdő kultúrpark LIADER pály. | F96: 36563 | G96: 36563 | H96: 28963
A97: 93 | B97: d.) Előző évi felhalmozási célú pénzmaradvány átvétel | F97: 2268 | G97: 0 | H97: 0
A98: 94 | B98: e.) intézmény támog önkorm-nak pénzmaradványhoz kötődő | G98: 1500 | H98: 0
A99: 95 | B99: f.) intézménynek támog önkorm-i pénzmaradványhoz kötődő | G99: 3126 | H99: 2119
A100: 96 | B100: g.) LÖGY-ös pályázati bevétel (eszközbeszerzés) | G100: 276 | H100: 276
...

Sheet 14
D1: 2013. Évi költségvetés
D2: Berhida Város Önkormányzata | H2: 14 melléklet
D3: Kiadások | H3: a 7/2016. (V.2.) önkormányzati rendelethez
H4: adatok ezer Ft-ban
B5: A | E5: B | F5: C | G5: D | H5: E
A6: 1 | B6: Kiadási jogcímek | E6: 2013. évi | F6: Kiadásból | I6: 2013. évi | J6: Kiadásból | M6: 2013. évi | N6: Kiadásból
E7: terv | F7: szem.jut. Járulékok Dologi | I7: módosított | J7: szem.jut. Járulékok Dologi | M7: teljesítés | N7: szem.jut. Járulékok Dologi
E8: előirányz | I8: előirányz | M8: 42004
A9: 2 | B9: a.) Süni Óvoda | E9: =SUM(F9:H9) -> 95693 | F9: 45919 | G9: 12049 | H9: 37725 | I9: =SUM(J9:L9) -> 105838 | J9: 51313 | K9: 12616 | L9: 41909 | M9: =SUM(N9:P9) -> 101013 | N9: 48238 | O9: 12334 | P9: 40441
A10: 3 | B10: b.) Hétszínvirág Óvoda és Bölcsöde | E10: =SUM(F10:H10) -> 78257 | F10: =F11+F12+F13 -> 39850 | G10: =G11+G12+G13 -> 10306 | H10: =H11+H12+H13 -> 28101 | I10: =SUM(J10:L10) -> 41545 | J10: =J11+J12+J13 -> 19916 | K10: =K11+K12+K13 -> 4943 | L10: =L11+L12+L13 -> 16686 | M10: =SUM(N10:P10) -> 41545 | N10: =N11+N12+N13 -> 19916 | O10: =O11+O12+O13 -> 4943 | P10: =P11+P12+P13 -> 16686
A11: 4 | B11: ebből Hétszínvirág Óvoda | E11: =SUM(F11:H11) -> 59571 | F11: 29506 | G11: 7699 | H11: 22366 | I11: =SUM(J11:L11) -> 32959 | J11: 15025 | K11: 3668 | L11: 14266 | M11: =SUM(N11:P11) -> 32959 | N11: 15025 | O11: 3668 | P11: 14266
A12: 5 | B12: Bölcsőde | E12: =SUM(F12:H12) -> 7273 | F12: 4401 | G12: 1056 | H12: 1816 | I12: =SUM(J12:L12) -> 3272 | J12: 1848 | K12: 478 | L12: 946 | M12: =SUM(N12:P12) -> 3272 | N12: 1848 | O12: 478 | P12: 946
A13: 6 | B13: Vilonyai tagóvoda | E13: =SUM(F13:H13) -> 11413 | F13: 5943 | G13: 1551 | H13: 3919 | I13: =SUM(J13:L13) -> 5314 | J13: 3043 | K13: 797 | L13: 1474 | M13: =SUM(N13:P13) -> 5314 | N13: 3043 | O13: 797 | P13: 1474
A14: 7 | B14: A: Oktatás Összesen | E14: =SUM(F14:H14) -> 173950 | F14: =F9+F10 -> 85769 | G14: =G9+G10 -> 22355 | H14: =H9+H10 -> 65826 | I14: =SUM(J14:L14) -> 147383 | J14: =J9+J10 -> 71229 | K14: =K9+K10 -> 17559 | L14: =L9+L10 -> 58595 | M14: =SUM(N14:P14) -> 142558 | N14: =N9+N10 -> 68154 | O14: =O9+O10 -> 17277 | P14: =P9+P10 -> 57127
A15: 8 | B15: B: Kultúra összesen | E15: =SUM(F15:H15) -> 39772 | F15: =SUM(F16+F20) -> 13732 | G15: =SUM(G16+G20) -> 3611 | H15: =SUM(H16+H20) -> 22429 | I15: =SUM(J15:L15) -> 45343 | J15: =SUM(J16+J20) -> 14578 | K15: =SUM(K16+K20) -> 3781 | L15: =SUM(L16+L20) -> 26984 | M15: =SUM(N15:P15) -> 43795 | N15: =SUM(N16+N20) -> 14564 | O15: =SUM(O16+O20) -> 3704 | P15: =SUM(P16+P20) -> 25527
A16: 9 | B16: a.) Kultúrház és könyvtár BN.: 4.800 | E16: =SUM(F16:H16) -> 26318 | F16: =SUM(F17:F19) -> 10178 | G16: =SUM(G17:G19) -> 2664 | H16: =SUM(H17:H19) -> 13476 | I16: =SUM(J16:L16) -> 28933 | J16: =SUM(J17:J19) -> 10731 | K16: =SUM(K17:K19) -> 2754 | L16: =SUM(L17:L19) -> 15448 | M16: =SUM(N16:P16) -> 28053 | N16: =SUM(N17:N19) -> 10724 | O16: =SUM(O17:O19) -> 2734 | P16: =SUM(P17:P19) -> 14595
A17: 10 | B17: ebből kultúrház és könyvtár | E17: =SUM(F17:H17) -> 25560 | F17: 9898 | G17: 2596 | H17: 13066 | I17: =SUM(J17:L17) -> 27105 | J17: 10451 | K17: 2686 | L17: 13968 | M17: =SUM(N17:P17) -> 26227 | N17: 10444 | O17: 2666 | P17: 13117
A18: 11 | B18: ebből: TIOP könyvtári pályázat | E18: =SUM(F18:H18) -> 758 | F18: 280 | G18: 68 | H18: 410 | I18: =SUM(J18:L18) -> 758 | J18: 280 | K18: 68 | L18: 410 | M18: =SUM(N18:P18) -> 758 | N18: 280 | O18: 68 | P18: 410
A19: 12 | B19: ebből: közösségi tám.kapcs. | E19: =SUM(F19:H19) -> 0 | I19: =SUM(J19:L19) -> 1070 | L19: 1070 | M19: =SUM(N19:P19) -> 1068 | P19: 1068 | Q19: 1105
A20: 13 | B20: b.) Művelődési Ház és könyvtár tagint. | E20: =SUM(F20:H20) -> 13454 | F20: 3554 | G20: 947 | H20: 8953 | I20: =SUM(J20:L20) -> 16410 | J20: 3847 | K20: 1027 | L20: 11536 | M20: =SUM(N20:P20) -> 15742 | N20: 3840 | O20: 970 | P20: 10932
A21: 14 | B21: ebből közösségi tám.kapcs. | E21: =SUM(F21:H21) -> 0 | I21: =SUM(J21:L21) -> 354 | L21: 354 | M21: =SUM(N21:P21) -> 280 | P21: 280
A22: 15 | B22: C: Családsegítő Központ | E22: =SUM(F22:H22) -> 38013 | F22: =F23+F26+F27+F28+F29 -> 20366 | G22: =G23+G26+G27+G28+G29 -> 5384 | H22: =H23+H26+H27+H28+H29 -> 12263 | I22: =SUM(J22:L22) -> 17236 | J22: =J23+J26+J27+J28+J29 -> 9274 | K22: =K23+K26+K27+K28+K29 -> 2329 | L22: =L23+L26+L27+L28+L29 -> 5633 | M22: =SUM(N22:P22) -> 17236 | N22: =N23+N26+N27+N28+N29 -> 9274 | O22: =O23+O26+O27+O28+O29 -> 2329 | P22: =P23+P26+P27+P28+P29 -> 5633
A23: 16 | B23: házi szoc.gond. | E23: =SUM(F23:H23) -> 2861 | F23: =SUM(F24:F25) -> 2163 | G23: =SUM(G24:G25) -> 567 | H23: =SUM(H24:H25) -> 131 | I23: =SUM(J23:L23) -> 1390 | J23: =SUM(J24:J25) -> 1075 | K23: =SUM(K24:K25) -> 285 | L23: =SUM(L24:L25) -> 30 | M23: =SUM(N23:P23) -> 1390 | N23: =SUM(N24:N25) -> 1075 | O23: =SUM(O24:O25) -> 285 | P23: =SUM(P24:P25) -> 30
A24: 17 | B24: házigond.Vilonya | E24: =SUM(F24:H24) -> 993 | F24: 726 | G24: 189 | H24: 78 | I24: =SUM(J24:L24) -> 477 | J24: 366 | K24: 97 | L24: 14 | M24: =SUM(N24:P24) -> 477 | N24: 366 | O24: 97 | P24: 14
A25: 18 | B25: házigond. Berhida | E25: =SUM(F25:H25) -> 1868 | F25: 1437 | G25: 378 | H25: 53 | I25: =SUM(J25:L25) -> 913 | J25: 709 | K25: 188 | L25: 16 | M25: =SUM(N25:P25) -> 913 | N25: 709 | O25: 188 | P25: 16
A26: 19 | B26: Idősek Klubja | E26: =SUM(F26:H26) -> 3980 | F26: 736 | G26: 196 | H26: 3048 | I26: =SUM(J26:L26) -> 1995 | J26: 413 | K26: 110 | L26: 1472 | M26: =SUM(N26:P26) -> 1995 | N26: 413 | O26: 110 | P26: 1472
A27: 20 | B27: szociális étkeztetés Vilonya | E27: =SUM(F27:H27) -> 1574 | F27: 711 | G27: 189 | H27: 674 | I27: =SUM(J27:L27) -> 569 | J27: 366 | K27: 97 | L27: 106 | M27: =SUM(N27:P27) -> 569 | N27: 366 | O27: 97 | P27: 106
A28: 21 | B28: szociális étkeztetés Berhida | E28: =SUM(F28:H28) -> 8085 | F28: 1422 | G28: 378 | H28: 6285 | I28: =SUM(J28:L28) -> 3929 | J28: 712 | K28: 188 | L28: 3029 | M28: =SUM(N28:P28) -> 3929 | N28: 712 | O28: 188 | P28: 3029
A29: 22 | B29: gyermekjóléti szolg., családsegítés | E29: =SUM(F29:H29) -> 21513 | F29: =F30+F31 -> 15334 | G29: =G30+G31 -> 4054 | H29: =H30+H31 -> 2125 | I29: =SUM(J29:L29) -> 9353 | J29: =J30+J31 -> 6708 | K29: =K30+K31 -> 1649 | L29: =L30+L31 -> 996 | M29: =SUM(N29:P29) -> 9353 | N29: =N30+N31 -> 6708 | O29: =O30+O31 -> 1649 | P29: =P30+P31 -> 996
A30: 23 | B30: Ebből: Vilonya társulás családs.gyerj. | E30: =SUM(F30:H30) -> 807 | F30: 545 | G30: 147 | H30: 115 | I30: =SUM(J30:L30) -> 360 | J30: 283 | K30: 77 | M30: =SUM(N30:P30) -> 360 | N30: 283 | O30: 77 | P30: 0
A31: 24 | B31: Berhida Csal.gyer.jól. | E31: =SUM(F31:H31) -> 20706 | F31: 14789 | G31: 3907 | H31: 2010 | I31: =SUM(J31:L31) -> 8993 | J31: 6425 | K31: 1572 | L31: 996 | M31: =SUM(N31:P31) -> 8993 | N31: 6425 | O31: 1572 | P31: 996
A32: 25 | B32: D.) TESZ feladatok együtt | E32: =SUM(F32:H32) -> 149371 | F32: =SUM(F33+F45+F48+F55) -> 73982 | G32: =SUM(G33+G45+G48+G55) -> 14268 | H32: =SUM(H33+H45+H48+H55) -> 61121 | I32: =SUM(J32:L32) -> 183728 | J32: =SUM(J33+J45+J48+J55) -> 90485 | K32: =SUM(K33+K45+K48+K55) -> 18177 | L32: =SUM(L33+L45+L48+L55) -> 75066 | M32: =SUM(N32:P32) -> 154210 | N32: =SUM(N33+N45+N48+N55) -> 76959 | O32: =SUM(O33+O45+O48+O55) -> 14318 | P32: =SUM(P33+P45+P48+P55) -> 62933
A33: 26 | B33: a.) TESZ feladatok: | E33: =SUM(F33:H33) -> 66184 | F33: =SUM(F34:F44) -> 22833 | G33: =SUM(G34:G44) -> 6041 | H33: =SUM(H34:H44) -> 37310 | I33: =SUM(J33:L33) -> 78676 | J33: =SUM(J34:J44) -> 26356 | K33: =SUM(K34:K44) -> 6444 | L33: =SUM(L34:L44) -> 45876 | M33: =SUM(N33:P33) -> 70954 | N33: =SUM(N34:N44) -> 26282 | O33: =SUM(O34:O44) -> 6299 | P33: =SUM(P34:P44) -> 38373
A34: 27 | B34: Tesz igazg.együtt: | E34: =SUM(F34:H34) -> 23821 | F34: 16398 | G34: 4328 | H34: 3095 | I34: =SUM(J34:L34) -> 27315 | J34: 18686 | K34: 4399 | L34: 4230 | M34: =SUM(N34:P34) -> 27103 | N34: 18662 | O34: 4271 | P34: 4170
A35: 28 | B35: TÁMOP pályázat kedv.foglalkoztatás | I35: =SUM(J35:L35) -> 866 | J35: 682 | K35: 184 | M35: =SUM(N35:P35) -> 866 | N35: 682 | O35: 184 | P35: 0
A36: 29 | B36: Zöldterület kezelés (park) | E36: =SUM(F36:H36) -> 8570 | F36: 4723 | G36: 1257 | H36: 2590 | I36: =SUM(J36:L36) -> 10201 | J36: 5133 | K36: 1368 | L36: 3700 | M36: =SUM(N36:P36) -> 9974 | N36: 5091 | O36: 1351 | P36: 3532
A37: 30 | B37: Köztemető fenntart. | E37: =SUM(F37:H37) -> 3593 | F37: 1712 | G37: 456 | H37: 1425 | I37: =SUM(J37:L37) -> 3563 | J37: 1855 | K37: 493 | L37: 1215 | M37: =SUM(N37:P37) -> 3096 | N37: 1847 | O37: 493 | P37: 756
A38: 31 | B38: Utak,hidak,közl. | E38: =SUM(F38:H38) -> 2222 | H38: 2222 | I38: =SUM(J38:L38) -> 7516 | L38: 7516 | M38: =SUM(N38:P38) -> 6935 | P38: 6935
A39: 32 | B39: Települési hulladék | E39: =SUM(F39:H39) -> 3448 | H39: 3448 | I39: =SUM(J39:L39) -> 3448 | L39: 3448 | M39: =SUM(N39:P39) -> 2619 | P39: 2619
A40: 33 | B40: Síkosság,hóeltak. | E40: =SUM(F40:H40) -> 4826 | H40: 4826 | I40: =SUM(J40:L40) -> 7010 | L40: 7010 | M40: =SUM(N40:P40) -> 5003 | P40: 5003
A41: 34 | B41: Lakás,ingatlan kez. | E41: =SUM(F41:H41) -> 6038 | H41: 6038 | I41: =SUM(J41:L41) -> 4551 | L41: 4551 | M41: =SUM(N41:P41) -> 4281 | P41: 4281
A42: 35 | B42: Közvilágítás | E42: =SUM(F42:H42) -> 12000 | H42: 12000 | I42: =SUM(J42:L42) -> 12000 | L42: 12000 | M42: =SUM(N42:P42) -> 9504 | P42: 9504
A43: 36 | B43: Települési vízellátás, belvíz | E43: =SUM(F43:H43) -> 127 | H43: 127 | I43: =SUM(J43:L43) -> 667 | L43: 667 | M43: =SUM(N43:P43) -> 248 | P43: 248
A44: 37 | B44: sportlétesítmények | E44: =SUM(F44:H44) -> 1539 | H44: 1539 | I44: =SUM(J44:L44) -> 1539 | L44: 1539 | M44: =SUM(N44:P44) -> 1325 | P44: 1325
A45: 38 | B45: b.) Köznevelési int. Ingatlan működt össz | E45: =SUM(F45:H45) -> 33356 | F45: =F46+F47 -> 10550 | G45: =G46+G47 -> 2772 | H45: =H46+H47 -> 20034 | I45: =SUM(J45:L45) -> 33953 | J45: =J46+J47 -> 10840 | K45: =K46+K47 -> 2849 | L45: =L46+L47 -> 20264 | M45: =SUM(N45:P45) -> 29543 | N45: =N46+N47 -> 9963 | O45: =O46+O47 -> 2479 | P45: =P46+P47 -> 17101
A46: 39 | B46: Ady Endre Ált Iskola működtetési ktg | E46: =SUM(F46:H46) -> 18807 | F46: 4944 | G46: 1310 | H46: 12553 | I46: =SUM(J46:L46) -> 19821 | J46: 5759 | K46: 1529 | L46: 12533 | M46: =SUM(N46:P46) -> 16948 | N46: 5555 | O46: 1317 | P46: 10076
A47: 40 | B47: II. Rákóczi f. Ált Isk működtetési ktg | E47: =SUM(F47:H47) -> 14549 | F47: 5606 | G47: 1462 | H47: 7481 | I47: =SUM(J47:L47) -> 14132 | J47: 5081 | K47: 1320 | L47: 7731 | M47: =SUM(N47:P47) -> 12595 | N47: 4408 | O47: 1162 | P47: 7025
A48: 41 | B48: c.) Eü ingatlan üzemeltetés | E48: =SUM(F48:H48) -> 1096 | F48: =SUM(F49:F54) -> 40 | G48: =SUM(G49:G54) -> 11 | H48: =SUM(H49:H54) -> 1045 | I48: =SUM(J48:L48) -> 1126 | J48: =SUM(J49:J54) -> 45 | K48: =SUM(K49:K54) -> 15 | L48: =SUM(L49:L54) -> 1066 | M48: =SUM(N48:P48) -> 859 | N48: =SUM(N49:N54) -> 44 | O48: =SUM(O49:O54) -> 14 | P48: =SUM(P49:P54) -> 801
A49: 42 | B49: I. körzet | E49: =SUM(F49:H49) -> 4 | H49: 4 | I49: =SUM(J49:L49) -> 4 | L49: 4 | M49: =SUM(N49:P49) -> 0 | P49: 0
A50: 43 | B50: II. körzet | E50: =SUM(F50:H50) -> 258 | H50: 258 | I50: =SUM(J50:L50) -> 258 | L50: 258 | M50: =SUM(N50:P50) -> 149 | P50: 149
A51: 44 | B51: III. körzet | E51: =SUM(F51:H51) -> 21 | H51: 21 | I51: =SUM(J51:L51) -> 51 | L51: 51 | M51: =SUM(N51:P51) -> 49 | P51: 49
A52: 45 | B52: gyermekorvosi szolg. Pgytp. | E52: =SUM(F52:H52) -> 735 | F52: 40 | G52: 11 | H52: 684 | I52: =SUM(J52:L52) -> 735 | J52: 45 | K52: 15 | L52: 675 | M52: =SUM(N52:P52) -> 649 | N52: 44 | O52: 14 | P52: 591
A53: 46 | B53: gyógyszertár | E53: =SUM(F53:H53) -> 32 | H53: 32 | I53: =SUM(J53:L53) -> 32 | L53: 32 | M53: =SUM(N53:P53) -> 5 | P53: 5
A54: 47 | B54: fogorvosi szolg. | E54: =SUM(F54:H54) -> 46 | H54: 46 | I54: =SUM(J54:L54) -> 46 | L54: 46 | M54: =SUM(N54:P54) -> 7 | P54: 7
A55: 48 | B55: d.) Közfoglalkoztatás | E55: =SUM(F55:H55) -> 48735 | F55: =SUM(F56:F57) -> 40559 | G55: =SUM(G56:G57) -> 5444 | H55: =SUM(H56:H57) -> 2732 | I55: =SUM(J55:L55) -> 69973 | J55: =SUM(J56:J57) -> 53244 | K55: =SUM(K56:K57) -> 8869 | L55: =SUM(L56:L57) -> 7860 | M55: =SUM(N55:P55) -> 52854 | N55: =SUM(N56:N57) -> 40670 | O55: =SUM(O56:O57) -> 5526 | P55: =SUM(P56:P57) -> 6658
A56: 48 | B56: 6-8 órás közfoglalkoztatás | E56: =SUM(F56:H56) -> 48735 | F56: 40559 | G56: 5444 | H56: 2732 | I56: =SUM(J56:L56) -> 49035 | J56: 40559 | K56: 5444 | L56: 3032 | M56: =SUM(N56:P56) -> 38823 | N56: 31593 | O56: 4301 | P56: 2929
A57: 48 | B57: téli közfoglalkoztatás | E57: =SUM(F57:H57) -> 0 | I57: =SUM(J57:L57) -> 20938 | J57: 12685 | K57: 3425 | L57: 4828 | M57: =SUM(N57:P57) -> 14031 | N57: 9077 | O57: 1225 | P57: 3729
A58: 49 | B58: E) Polgármesteri Hivatal össz. | E58: =SUM(F58:H58) -> 128213 | F58: =SUM(F59:F61) -> 78317 | G58: =SUM(G59:G61) -> 20627 | H58: =SUM(H59:H61) -> 29269 | I58: =SUM(J58:L58) -> 136611 | J58: =SUM(J59:J62) -> 87930 | K58: =SUM(K59:K62) -> 23174 | L58: =SUM(L59:L62) -> 25507 | M58: =SUM(N58:P58) -> 123421 | N58: =SUM(N59:N62) -> 83406 | O58: =SUM(O59:O62) -> 21619 | P58: =SUM(P59:P62) -> 18396
A59: 50 | B59: önkorm. igazgatási tev. 84112611 | E59: =SUM(F59:H59) -> 114692 | F59: 69043 | G59: 18182 | H59: 27467 | I59: =SUM(J59:L59) -> 121701 | J59: 77571 | K59: 20437 | L59: 23693 | M59: =SUM(N59:P59) -> 110070 | N59: 73148 | O59: 18963 | P59: 17959
A60: 51 | B60: Igazg. Tev. Vilonyai kirend 84112617 | E60: =SUM(F60:H60) -> 7255 | F60: 5244 | G60: 1353 | H60: 658 | I60: =SUM(J60:L60) -> 7809 | J60: 5681 | K60: 1470 | L60: 658 | M60: =SUM(N60:P60) -> 7208 | N60: 5637 | O60: 1438 | P60: 133
A61: 52 | B61: Adóügyi igazgatás 84113312 | E61: =SUM(F61:H61) -> 6266 | F61: 4030 | G61: 1092 | H61: 1144 | I61: =SUM(J61:L61) -> 6914 | J61: 4531 | K61: 1227 | L61: 1156 | M61: =SUM(N61:P61) -> 5956 | N61: 4474 | O61: 1178 | P61: 304
B62: TÁMOP 85100016 | I62: =SUM(J62:L62) -> 187 | J62: 147 | K62: 40 | M62: =SUM(N62:P62) -> 187 | N62: 147 | O62: 40 | P62: 0
A63: 53 | B63: F.) Önkormányzati feladatok össz | E63: =SUM(F63:H63) -> 84917 | F63: =SUM(F64:F78) -> 26436 | G63: =SUM(G64:G78) -> 7567 | H63: =SUM(H64:H78) -> 50914 | I63: =SUM(J63:L63) -> 94028 | J63: =SUM(J64:J78) -> 26308 | K63: =SUM(K64:K78) -> 7540 | L63: =SUM(L64:L78) -> 60180 | M63: =SUM(N63:P63) -> 72030 | N63: =SUM(N64:N78) -> 25027 | O63: =SUM(O64:O78) -> 6355 | P63: =SUM(P64:P78) -> 40648
A64: 54 | B64: nem lakó ingatlan ügyek | E64: =SUM(F64:H64) -> 5351 | H64: 5351 | I64: =SUM(J64:L64) -> 7587 | J64: 23 | K64: 7 | L64: 7557 | M64: =SUM(N64:P64) -> 3866 | N64: 23 | O64: 6 | P64: 3837
A65: 55 | B65: lakó ingatlan fel | E65: =SUM(F65:H65) -> 279 | H65: 279 | I65: =SUM(J65:L65) -> 279 | L65: 279 | M65: =SUM(N65:P65) -> 267 | P65: 267
A66: 56 | B66: nemzeti ünnepek 841191 | E66: =SUM(F66:H66) -> 302 | G66: 64 | H66: 238 | I66: =SUM(J66:L66) -> 302 | K66: 64 | L66: 238 | M66: =SUM(N66:P66) -> 12 | O66: 0 | P66: 12
A67: 57 | B67: állami és önkorm ünnep 841192 | E67: =SUM(F67:H67) -> 2449 | F67: 500 | G67: 521 | H67: 1428 | I67: =SUM(J67:L67) -> 2449 | J67: 500 | K67: 521 | L67: 1428 | M67: =SUM(N67:P67) -> 2254 | N67: 427 | O67: 457 | P67: 1370
A68: 58 | B68: város és községgazdálkodás 841403 | E68: =SUM(F68:H68) -> 11910 | H68: 11910 | I68: =SUM(J68:L68) -> 18108 | J68: 40 | K68: 74 | L68: 17994 | M68: =SUM(N68:P68) -> 12307 | N68: 40 | O68: 74 | P68: 12193
A69: 59 | B69: jogalkotás (képv tiszt., pm bér) 841112 | E69: =SUM(F69:H69) -> 24754 | F69: 17845 | G69: 4958 | H69: 1951 | I69: =SUM(J69:L69) -> 23730 | J69: 17039 | K69: 4740 | L69: 1951 | M69: =SUM(N69:P69) -> 21456 | N69: 16877 | O69: 4271 | P69: 308
A70: 60 | B70: védőnői szolgálat 869041 | E70: =SUM(F70:H70) -> 11100 | F70: 6441 | G70: 1721 | H70: 2938 | I70: =SUM(J70:L70) -> 12049 | J70: 7188 | K70: 1923 | L70: 2938 | M70: =SUM(N70:P70) -> 10814 | N70: 7130 | O70: 1494 | P70: 2190
A71: 61 | B71: Ady Endre Ált Isk étkeztetési fel | E71: =SUM(F71:H71) -> 10700 | H71: 10700 | I71: =SUM(J71:L71) -> 10394 | L71: 10394 | M71: =SUM(N71:P71) -> 9193 | P71: 9193
A72: 62 | B72: Ady Endre Ált Isk decemberi áthúzódó | E72: =SUM(F72:H72) -> 170 | F72: 131 | G72: 18 | H72: 21 | I72: =SUM(J72:L72) -> 268 | J72: 234 | K72: 13 | L72: 21 | M72: =SUM(N72:P72) -> 268 | N72: 234 | O72: 13 | P72: 21
A73: 63 | B73: II. Rákóczi Ferenc Ált Isk étkeztetési fel | E73: =SUM(F73:H73) -> 8196 | H73: 8196 | I73: =SUM(J73:L73) -> 9216 | L73: 9216 | M73: =SUM(N73:P73) -> 8854 | P73: 8854
A74: 64 | B74: II. Rákóczi Ferenc Ált Isk decemberi áth | E74: =SUM(F74:H74) -> 181 | F74: 139 | G74: 21 | H74: 21 | I74: =SUM(J74:L74) -> 271 | J74: 221 | K74: 29 | L74: 21 | M74: =SUM(N74:P74) -> 271 | N74: 221 | O74: 29 | P74: 21
A75: 65 | B75: TÁMOP óvodai fejlesztési pályázat | E75: =SUM(F75:H75) -> 9364 | F75: 1380 | G75: 264 | H75: 7720 | I75: =SUM(J75:L75) -> 8866 | J75: 988 | K75: 158 | L75: 7720 | M75: =SUM(N75:P75) -> 2108 | P75: 2108
A76: 66 | B76: LEADER kultúrpark pályázat | E76: =SUM(F76:H76) -> 161 | H76: 161 | I76: =SUM(J76:L76) -> 161 | K76: 1 | L76: 160 | M76: =SUM(N76:P76) -> 12 | N76: 0 | O76: 1 | P76: 11
A77: 67 | B77: Legjobb önk-i gyakorl pályázat áthúz | E77: =SUM(F77:H77) -> 0 | I77: =SUM(J77:L77) -> 85 | J77: 75 | K77: 10 | M77: =SUM(N77:P77) -> 85 | N77: 75 | O77: 10
A78: 68 | B78: Pgytp Sportöltöző felúj pály műk kiad | E78: =SUM(F78:H78) -> 0 | I78: =SUM(J78:L78) -> 263 | L78: 263 | M78: =SUM(N78:P78) -> 263 | P78: 263
A79: 69 | B79: Folyó kiadások együtt: | E79: =SUM(F79:H79) -> 614236 | F79: =SUM(F14+F15+F22+F32+F58+F63) -> 298602 | G79: =SUM(G14+G15+G22+G32+G58+G63) -> 73812 | H79: =SUM(H14+H15+H22+H32+H58+H63) -> 241822 | I79: =SUM(J79:L79) -> 624329 | J79: =SUM(J14+J15+J22+J32+J58+J63) -> 299804 | K79: =SUM(K14+K15+K22+K32+K58+K63) -> 72560 | L79: =SUM(L14+L15+L22+L32+L58+L63) -> 251965 | M79: =SUM(N79:P79) -> 553250 | N79: =SUM(N14+N15+N22+N32+N58+N63) -> 277384 | O79: =SUM(O14+O15+O22+O32+O58+O63) -> 65602 | P79: =SUM(P14+P15+P22+P32+P58+P63) -> 210264
A80: 70 | B80: a.) Szoc.tám.össz ÖNK.: | E80: =SUM(F80:H80) -> 32400 | G80: 200 | H80: 32200 | I80: =SUM(J80:L80) -> 122291 | K80: 200 | L80: 122091 | M80: =SUM(N80:P80) -> 117258 | O80: 0 | P80: 117258
A81: 71 | B81: G.)Ellátottak pénzbeli juttatásai : | E81: =SUM(F81:H81) -> 32400 | F81: =SUM(F80) -> 0 | G81: =SUM(G80) -> 200 | H81: =SUM(H80) -> 32200 | I81: =SUM(J81:L81) -> 122291 | J81: =SUM(J80) -> 0 | K81: =SUM(K80) -> 200 | L81: =SUM(L80) -> 122091 | M81: =SUM(N81:P81) -> 117258 | N81: =SUM(N80) -> 0 | O81: =SUM(O80) -> 0 | P81: =SUM(P80) -> 117258
A82: 72 | B82: a.) Többcélú tagdíj, megyei FT. hj. ÖNK | E82: =SUM(F82:H82) -> 911 | F82: 0 | G82: 0 | H82: 911 | I82: =SUM(J82:L82) -> 911 | J82: 0 | K82: 0 | L82: 911 | M82: =SUM(N82:P82) -> 911 | P82: 911
A83: 73 | B83: b.) TÖOSZ tagdíj ÖNK | E83: =SUM(F83:H83) -> 122 | F83: 0 | G83: 0 | H83: 122 | I83: =SUM(J83:L83) -> 0 | J83: 0 | K83: 0 | M83: =SUM(N83:P83) -> 0 | P83: 0
A84: 74 | B84: c.) Roma Nemz Önk. Pe átadás ÖNK | E84: =SUM(F84:H84) -> 522 | F84: 0 | G84: 0 | H84: 522 | I84: =SUM(J84:L84) -> 300 | J84: 0 | K84: 0 | L84: 300 | M84: =SUM(N84:P84) -> 300 | P84: 300
A85: 75 | B85: d.) Német Nemz Önk. Pe átadás ÖNK | E85: =SUM(F85:H85) -> 522 | F85: 0 | G85: 0 | H85: 522 | I85: =SUM(J85:L85) -> 300 | J85: 0 | K85: 0 | L85: 300 | M85: =SUM(N85:P85) -> 300 | P85: 300
A86: 76 | B86: e.) Vilonya elsz. (körj.) ÖNK | E86: =SUM(F86:H86) -> 0 | F86: 0 | G86: 0 | I86: =SUM(J86:L86) -> 281 | J86: 0 | K86: 0 | L86: 281 | M86: =SUM(N86:P86) -> 281 | P86: 281
A87: 77 | B87: f.) Vilonyai házigond, csl, szétk.elsz. | D87: ÖNK | E87: =SUM(F87:H87) -> 0 | I87: =SUM(J87:L87) -> 153 | L87: 153 | M87: =SUM(N87:P87) -> 153 | P87: 153
A88: 78 | B88: g.) Vilonya oktatás elszámolás ÖNK | E88: =SUM(F88:H88) -> 0 | I88: =SUM(J88:L88) -> 1200 | L88: 1200 | M88: =SUM(N88:P88) -> 1200 | P88: 1200
A89: 79 | B89: gy.) VKTT orvosi ügyeleti ellátás | E89: =SUM(F89:H89) -> 475 | H89: 475 | I89: =SUM(J89:L89) -> 1064 | L89: 1064 | M89: =SUM(N89:P89) -> 1064 | P89: 1064
A90: 80 | B90: h.) VKTT FONO tám | E90: =SUM(F90:H90) -> 85 | H90: 85 | I90: =SUM(J90:L90) -> 85 | L90: 85 | M90: =SUM(N90:P90) -> 0
A91: 81 | B91: i.) VKTT supervisor alk. Tám. | E91: =SUM(F91:H91) -> 384 | H91: 384 | I91: =SUM(J91:L91) -> 384 | L91: 384 | M91: =SUM(N91:P91) -> 0
A92: 82 | B92: j.) Pm-hez kötődő tám.ért int-nek áht belül | E92: =SUM(F92:H92) -> 0 | I92: =SUM(J92:L92) -> 2200 | L92: 2200 | M92: =SUM(N92:P92) -> 1423 | P92: 1423
A93: 83 | B93: k.) Rendőrségnek műk. C támogatás | E93: =SUM(F93:H93) -> 0 | I93: =SUM(J93:L93) -> 500 | L93: 500 | M93: =SUM(N93:P93) -> 500 | P93: 500
A94: 84 | B94: l.) Berhidai Szociális és Gyermekjól Társulás | E94: =SUM(F94:H94) -> 0 | I94: =SUM(J94:L94) -> 19266 | L94: 19266 | M94: =SUM(N94:P94) -> 16319 | P94: 16319
A95: 85 | B95: m.) Berhidai Köznevelési Társulás | E95: =SUM(F95:H95) -> 0 | I95: =SUM(J95:L95) -> 40124 | L95: 40124 | M95: =SUM(N95:P95) -> 37667 | P95: 37667
A96: 86 | B96: n.) Járási hiv. természetbeli családi pótlék | E96: =SUM(F96:H96) -> 0 | I96: =SUM(J96:L96) -> 43 | L96: 43 | M96: =SUM(N96:P96) -> 44 | P96: 44
B97: ny.) Önk Hivatalnak az Önk TÁMOP pályázat | I97: =SUM(J97:L97) -> 187 | L97: 187 | M97: =SUM(N97:P97) -> 0
B98: o.) Hétszínvirág Ó-nak Önk TÁMOP pály | I98: =SUM(J98:L98) -> 311 | L98: 311 | M98: =SUM(N98:P98) -> 0
A99: 87 | B99: H.)Támogatásértékű műk. Kiad. | E99: =SUM(F99:H99) -> 3021 | F99: =SUM(F82:F98) -> 0 | G99: =SUM(G82:G98) -> 0 | H99: =SUM(H82:H98) -> 3021 | I99: =SUM(J99:L99) -> 67309 | J99: =SUM(J82:J98) -> 0 | K99: =SUM(K82:K98) -> 0 | L99: =SUM(L82:L98) -> 67309 | M99: =SUM(N99:P99) -> 60162 | N99: =SUM(N82:N98) -> 0 | O99: =SUM(O82:O98) -> 0 | P99: =SUM(P82:P98) -> 60162
A100: 88 | B100: a.) Sporttámogatás ÖNK | E100: =SUM(F100:H100) -> 1800 | F100: 0 | G100: 0 | H100: 1800 | I100: =SUM(J100:L100) -> 2410 | J100: 0 | K100: 0 | L100: 2410 | M100: =SUM(N100:P100) -> 2371 | P100: 2371
...

Sheet 15
B1: Berhida Város Önkormányzata | D1: 15 melléklet
B2: 2014. évi költségvetés | D2: a 7/2016. (V.2.) önkormányzati rendelethez
B3: Bevételek | D3: adatok ezer Ft-ban
B4: Teljesítés 12.31
D5: Összesen | E5: Önkorm | F5: Hivatal | G5: TESZ | H5: Süni | I5: Kultúrház
A6: Sor- szám | B6: Rovat megnevezése | C6: Rovat száma | D6: Teljesítés | E6: Teljesítés | F6: Teljesítés | G6: Teljesítés | H6: Teljesítés | I6: Teljesítés
A7: 1. | B7: 2. | C7: 3. | D7: 4 | E7: 5 | F7: 6 | G7: 7 | H7: 8 | I7: 9
A8: 01 | B8: Helyi önkormányzatok működésének általános támogatása | C8: B111 | D8: =SUM(E8:I8) -> 168873 | E8: 168873
A9: 02 | B9: Települési önkormányzatok egyes köznevelési feladatainak támogatása | C9: B112 | D9: =SUM(E9:I9) -> 110352 | E9: 110352
A10: 03 | B10: Települési önkormányzatok szociális és gyermekjóléti feladatainak támogatása | C10: B113 | D10: =SUM(E10:I10) -> 130710 | E10: 130710
A11: 04 | B11: Települési önkormányzatok kulturális feladatainak támogatása | C11: B114 | D11: =SUM(E11:I11) -> 6975 | E11: 6975
A12: 05 | B12: Működési célú központosított előirányzatok | C12: B115 | D12: =SUM(E12:I12) -> 6907 | E12: 6907
A13: 06 | B13: Helyi önkormányzatok kiegészítő támogatásai | C13: B116 | D13: =SUM(E13:I13) -> 7491 | E13: 7491
A14: 07 | B14: Önkormányzatok működési támogatásai | C14: B11 | D14: =SUM(E14:I14) -> 431308 | E14: =SUM(E8:E13) -> 431308 | F14: =SUM(F8:F13) -> 0 | G14: =SUM(G8:G13) -> 0 | H14: =SUM(H8:H13) -> 0 | I14: =SUM(I8:I13) -> 0
A15: 08 | B15: Elvonások és befizetések bevételei | C15: B12 | D15: =SUM(E15:I15) -> 0
A16: 09 | B16: Működési célú garancia- és kezességvállalásból származó megtérülések államháztartáson belülről | C16: B13 | D16: =SUM(E16:I16) -> 0
A17: 10 | B17: Működési célú visszatérítendő támogatások, kölcsönök visszatérülése államháztartáson belülről | C17: B14 | D17: =SUM(E17:I17) -> 0
A18: 11 | B18: Működési célú visszatérítendő támogatások, kölcsönök igénybevétele államháztartáson belülről | C18: B15 | D18: =SUM(E18:I18) -> 0
A19: 12 | B19: Egyéb működési célú támogatások bevételei államháztartáson belülről | C19: B16 | D19: =SUM(E19:I19) -> 148187 | E19: =SUM(E20:E27) -> 30764 | F19: =SUM(F20:F27) -> 4491 | G19: =SUM(G20:G27) -> 111755 | H19: =SUM(H20:H27) -> 1177 | I19: =SUM(I20:I27) -> 0
B20: - ebből központi költségvetési szervek | C20: B161 | D20: =SUM(E20:I20) -> 4211 | F20: 4211
B21: - ebből Társadalombiztosítási Alapok | C21: B162 | D21: =SUM(E21:I21) -> 12932 | E21: 12932
B22: - ebből elkülönített állami alapok | C22: B163 | D22: =SUM(E22:I22) -> 112932 | G22: 111755 | H22: 1177
B23: - ebből helyi önkormányzatok és költségvetési szerveik | C23: B164 | D23: =SUM(E23:I23) -> 3066 | E23: 2786 | F23: 280
B24: - ebből helyi helyi önkorm.tól átvett kv-i mardból | D24: =SUM(E24:I24) -> 0
B25: - ebből társulások és költségvetési szerveik | C25: B165 | D25: =SUM(E25:I25) -> 5020 | E25: 5020
B26: - ebből nemzetiségi önkormányzatok és költségvetési szerveik | C26: B166 | D26: =SUM(E26:I26) -> 0
B27: - ebből fejezeti kezelésű | C27: B167 | D27: =SUM(E27:I27) -> 10026 | E27: 10026
A28: 13 | B28: Működési célú támogatások államháztartáson belülről | C28: B1 | D28: =SUM(E28:I28) -> 579495 | E28: =SUM(E14:E19) -> 462072 | F28: =SUM(F14:F19) -> 4491 | G28: =SUM(G14:G19) -> 111755 | H28: =SUM(H14:H19) -> 1177 | I28: =SUM(I14:I19) -> 0
A29: 14 | B29: Felhalmozási célú önkormányzati támogatások | C29: B21 | D29: =SUM(E29:I29) -> 226 | E29: 226
A30: 15 | B30: Felhalmozási célú garancia- és kezességvállalásból származó megtérülések államháztartáson belülről | C30: B22 | D30: =SUM(E30:I30) -> 0
A31: 16 | B31: Felhalmozási célú visszatérítendő támogatások, kölcsönök visszatérülése államháztartáson belülről | C31: B23 | D31: =SUM(E31:I31) -> 0
A32: 17 | B32: Felhalmozási célú visszatérítendő támogatások, kölcsönök igénybevétele államháztartáson belülről | C32: B24 | D32: =SUM(E32:I32) -> 0
A33: 18 | B33: Egyéb felhalmozási célú támogatások bevételei államháztartáson belülről | C33: B25 | D33: =SUM(E33:I33) -> 15358 | E33: 13345 | G33: 2013
A34: 19 | B34: Felhalmozási célú támogatások államháztartáson belülről | C34: B2 | D34: =SUM(E34:I34) -> 15584 | E34: =SUM(E29:E33) -> 13571 | F34: =SUM(F29:F33) -> 0 | G34: =SUM(G29:G33) -> 2013 | H34: =SUM(H29:H33) -> 0 | I34: =SUM(I29:I33) -> 0
A35: 20 | B35: Magánszemélyek jövedelemadói | C35: B311 | D35: =SUM(E35:I35) -> 99 | E35: 99
A36: 21 | B36: Társaságok jövedelemadói | C36: B312 | D36: =SUM(E36:I36) -> 0
A37: 22 | B37: Jövedelemadók | C37: B31 | D37: =SUM(E37:I37) -> 99 | E37: =SUM(E35:E36) -> 99 | F37: =SUM(F35:F36) -> 0 | G37: =SUM(G35:G36) -> 0 | H37: =SUM(H35:H36) -> 0 | I37: =SUM(I35:I36) -> 0
A38: 23 | B38: Szociális hozzájárulási adó és járulékok | C38: B32 | D38: =SUM(E38:I38) -> 0
A39: 24 | B39: Bérhez és foglalkoztatáshoz kapcsolódó adók | C39: B33 | D39: =SUM(E39:I39) -> 0
A40: 25 | B40: Vagyoni tipusú adók | C40: B34 | D40: =SUM(E40:I40) -> 94477 | E40: 94477
A41: 26 | B41: Értékesítési és forgalmi adók | C41: B351 | D41: =SUM(E41:I41) -> 161729 | E41: 161729
A42: 27 | B42: Fogyasztási adók | C42: B352 | D42: =SUM(E42:I42) -> 0
A43: 28 | B43: Pénzügyi monopóliumok nyereségét terhelő adók | C43: B353 | D43: =SUM(E43:I43) -> 0
A44: 29 | B44: Gépjárműadók | C44: B354 | D44: =SUM(E44:I44) -> 11474 | E44: 11474
A45: 30 | B45: Egyéb áruhasználati és szolgáltatási adók | C45: B355 | D45: =SUM(E45:I45) -> 346 | E45: 346
A46: 31 | B46: Termékek és szolgáltatások adói | C46: B35 | D46: =SUM(E46:I46) -> 173549 | E46: =SUM(E41:E45) -> 173549 | F46: =SUM(F41:F45) -> 0 | G46: =SUM(G41:G45) -> 0 | H46: =SUM(H41:H45) -> 0 | I46: =SUM(I41:I45) -> 0
A47: 32 | B47: Egyéb közhatalmi bevételek | C47: B36 | D47: =SUM(E47:I47) -> 2001 | E47: 1983 | F47: 18
A48: 33 | B48: Közhatalmi bevételek | C48: B3 | D48: =SUM(E48:I48) -> 270126 | E48: =E37+E38+E39+E40+E46+E47 -> 270108 | F48: =F37+F38+F39+F40+F46+F47 -> 18 | G48: =G37+G38+G39+G40+G46+G47 -> 0 | H48: =H37+H38+H39+H40+H46+H47 -> 0 | I48: =I37+I38+I39+I40+I46+I47 -> 0
A49: 34 | B49: Áru- és készletértékesítés ellenértéke | C49: B401 | D49: =SUM(E49:I49) -> 46 | G49: 12 | I49: 34
A50: 35 | B50: Szolgáltatások ellenértéke | C50: B402 | D50: =SUM(E50:I50) -> 13357 | E50: 8 | F50: 718 | G50: 616 | H50: 7537 | I50: 4478
A51: 36 | B51: Közvetített szolgáltatások értéke | C51: B403 | D51: =SUM(E51:I51) -> 3294 | E51: =SUM(E52:E53) -> 291 | F51: =SUM(F52:F53) -> 1582 | G51: =SUM(G52:G53) -> 1421 | H51: =SUM(H52:H53) -> 0 | I51: =SUM(I52:I53) -> 0
B52: - ebből ÁHT-n belülre közvetített | C52: B4031 | D52: =SUM(E52:I52) -> 1960 | E52: 257 | F52: 1582 | G52: 121
B53: - ebből áht-n kívülre közvetített | C53: B4032 | D53: =SUM(E53:I53) -> 1334 | E53: 34 | G53: 1300
A54: 37 | B54: Tulajdonosi bevételek | C54: B404 | D54: =SUM(E54:I54) -> 20510 | E54: 20510
A55: 38 | B55: Ellátási díjak | C55: B405 | D55: =SUM(E55:I55) -> 17958 | E55: 4067 | H55: 13891
A56: 39 | B56: Kiszámlázott általános forgalmi adó | C56: B406 | D56: =SUM(E56:I56) -> 12910 | E56: 6115 | F56: 609 | G56: 531 | H56: 5655
A57: 40 | B57: Általános forgalmi adó visszatérítése | C57: B407 | D57: =SUM(E57:I57) -> 0
A58: 41 | B58: Kamatbevételek | C58: B408 | D58: =SUM(E58:I58) -> 2494 | E58: 2418 | F58: 2 | G58: 71 | H58: 2 | I58: 1
A59: 42 | B59: Egyéb pénzügyi műveletek bevételei | C59: B409 | D59: =SUM(E59:I59) -> 113 | E59: 113
A60: 43 | B60: Egyéb működési bevételek | C60: B410 | D60: =SUM(E60:I60) -> 1993 | E60: 1980 | F60: 13
A61: 44 | B61: Működési bevételek | C61: B4 | D61: =SUM(E61:I61) -> 72675 | E61: =E49+E50+E51+E54+E55+E56+E57+E58+E59+E60 -> 35502 | F61: =F49+F50+F51+F54+F55+F56+F57+F58+F59+F60 -> 2924 | G61: =G49+G50+G51+G54+G55+G56+G57+G58+G59+G60 -> 2651 | H61: =H49+H50+H51+H54+H55+H56+H57+H58+H59+H60 -> 27085 | I61: =I49+I50+I51+I54+I55+I56+I57+I58+I59+I60 -> 4513
A62: 45 | B62: Immateriális javak értékesítése | C62: B51 | D62: =SUM(E62:I62) -> 0
A63: 46 | B63: Ingatlanok értékesítése | C63: B52 | D63: =SUM(E63:I63) -> 2022 | E63: 2022
A64: 47 | B64: Egyéb tárgyi eszközök értékesítése | C64: B53 | D64: =SUM(E64:I64) -> 4 | F64: 4
A65: 48 | B65: Részesedések értékesítése | C65: B54 | D65: =SUM(E65:I65) -> 0
A66: 49 | B66: Részesedések megszűnéséhez kapcsolódó bevételek | C66: B55 | D66: =SUM(E66:I66) -> 0
A67: 50 | B67: Felhalmozási bevételek | C67: B5 | D67: =SUM(E67:I67) -> 2026 | E67: =SUM(E62:E66) -> 2022 | F67: =SUM(F62:F66) -> 4 | G67: =SUM(G62:G66) -> 0 | H67: =SUM(H62:H66) -> 0 | I67: =SUM(I62:I66) -> 0
A68: 51 | B68: Működési célú garancia- és kezességvállalásból származó megtérülések államháztartáson kívülről | C68: B61 | D68: =SUM(E68:I68) -> 0
A69: 52 | B69: Működési célú visszatérítendő támogatások, kölcsönök visszatérülése államháztartáson kívülről | C69: B62 | D69: =SUM(E69:I69) -> 0
A70: 53 | B70: Egyéb működési célú átvett pénzeszközök | C70: B63 | D70: =SUM(E70:I70) -> 87 | G70: 82 | H70: 5
A71: 54 | B71: Működési célú átvett pénzeszközök | C71: B6 | D71: =SUM(E71:I71) -> 87 | E71: =SUM(E68:E70) -> 0 | F71: =SUM(F68:F70) -> 0 | G71: =SUM(G68:G70) -> 82 | H71: =SUM(H68:H70) -> 5 | I71: =SUM(I68:I70) -> 0
A72: 55 | B72: Felhalmozási célú garancia- és kezességvállalásból származó megtérülések államháztartáson kívülről | C72: B71 | D72: =SUM(E72:I72) -> 0
A73: 56 | B73: Felhalmozási célú visszatérítendő támogatások, kölcsönök visszatérülése államháztartáson kívülről | C73: B72 | D73: =SUM(E73:I73) -> 1439 | E73: 1439
A74: 57 | B74: Egyéb felhalmozási célú átvett pénzeszközök | C74: B73 | D74: =SUM(E74:I74) -> 59 | E74: 59
A75: 58 | B75: Felhalmozási célú átvett pénzeszközök | C75: B7 | D75: =SUM(E75:I75) -> 1498 | E75: =SUM(E72:E74) -> 1498 | F75: =SUM(F72:F74) -> 0 | G75: =SUM(G72:G74) -> 0 | H75: =SUM(H72:H74) -> 0 | I75: =SUM(I72:I74) -> 0
A76: 59 | B76: Költségvetési bevételek | C76: B1-B7 | D76: =SUM(E76:I76) -> 941491 | E76: =E28+E34+E48+E61+E67+E71+E75 -> 784773 | F76: =F28+F34+F48+F61+F67+F71+F75 -> 7437 | G76: =G28+G34+G48+G61+G67+G71+G75 -> 116501 | H76: =H28+H34+H48+H61+H67+H71+H75 -> 28267 | I76: =I28+I34+I48+I61+I67+I71+I75 -> 4513
A77: 60 | B77: Hitel-, kölcsönfelvétel államháztartáson kívülről | C77: B811 | D77: =SUM(E77:I77) -> 0
A78: 61 | B78: Belföldi értékpapírok bevételei | C78: B812 | D78: =SUM(E78:I78) -> 0
A79: 62 | B79: Előző év költségvetési maradványának igénybevétele | C79: B8131 | D79: =SUM(E79:I79) -> 238285 | E79: 201687 | F79: 4089 | G79: 28007 | H79: 3393 | I79: 1109
A80: 63 | B80: Előző év vállalkozási maradványának igénybevétele | C80: B8132 | D80: =SUM(E80:I80) -> 0
A81: 64 | B81: Maradvány igénybevétele | C81: B813 | D81: =SUM(E81:I81) -> 238285 | E81: =SUM(E79:E80) -> 201687 | F81: =SUM(F79:F80) -> 4089 | G81: =SUM(G79:G80) -> 28007 | H81: =SUM(H79:H80) -> 3393 | I81: =SUM(I79:I80) -> 1109
A82: 65 | B82: Államháztartáson belüli megelőlegezések | C82: B814 | D82: =SUM(E82:I82) -> 12345 | E82: 12345
A83: 66 | B83: Államháztartáson belüli megelőlegezések törlesztése | C83: B815 | D83: =SUM(E83:I83) -> 0
A84: 67 | B84: Központi, irányító szervi támogatás | C84: B816 | D84: =SUM(E84:I84) -> 355710 | F84: 132361 | G84: 99618 | H84: 81974 | I84: 41757
A85: 68 | B85: Betétek megszüntetése | C85: B817 | D85: =SUM(E85:I85) -> 0
A86: 69 | B86: Központi költségvetés sajátos finanszírozási bevételei | C86: B818 | D86: =SUM(E86:I86) -> 0
A87: 70 | B87: Belföldi finanszírozás bevételei | C87: B81 | D87: =SUM(E87:I87) -> 606340 | E87: =(SUM(E81:E86))+E77+E78 -> 214032 | F87: =(SUM(F81:F86))+F77+F78 -> 136450 | G87: =(SUM(G81:G86))+G77+G78 -> 127625 | H87: =(SUM(H81:H86))+H77+H78 -> 85367 | I87: =(SUM(I81:I86))+I77+I78 -> 42866
A88: 71 | B88: Külföldi finanszírozás bevételei | C88: B82 | D88: =SUM(E88:I88) -> 0
A89: 72 | B89: Finanszírozási bevételek | C89: B8 | D89: =SUM(E89:I89) -> 606340 | E89: =SUM(E87:E88) -> 214032 | F89: =SUM(F87:F88) -> 136450 | G89: =SUM(G87:G88) -> 127625 | H89: =SUM(H87:H88) -> 85367 | I89: =SUM(I87:I88) -> 42866
A90: 73 | B90: Összes bevétel | D90: =SUM(E90:I90) -> 1547831 | E90: =E76+E89 -> 998805 | F90: =F76+F89 -> 143887 | G90: =G76+G89 -> 244126 | H90: =H76+H89 -> 113634 | I90: =I76+I89 -> 47379

Sheet 16
B1: Berhida Város Önkormányzata | C1: 2.d melléklet
B2: 2014. évi költségvetés | C2: a 7/2016. (V.2.) önkormányzati rendelethez
B3: Kiadások | C3: adatok ezer Ft-ban
B4: Teljesítés 12.31
D5: ÖSSZESEN | E5: Önkorm | F5: Hivatal | G5: TESZ | H5: Süni | I5: Kultúrház
A6: Sor- szám | B6: Rovat megnevezése | C6: Rovat száma | D6: Teljesítés | E6: Teljesítés | F6: Teljesítés | G6: Teljesítés | H6: Teljesítés | I6: Teljesítés
A7: 1. | B7: 2. | C7: 3. | D7: 4 | E7: 5 | F7: 6 | G7: 7 | H7: 8 | I7: 9
A8: 1 | B8: Személyi juttatások | C8: K1 | D8: =SUM(E8:I8) -> 338169 | E8: 28230 | F8: 93385 | G8: 144493 | H8: 57804 | I8: 14257
A9: 2 | B9: Munkaadókat terhelő járulékok és szociális hozzájárulási adó | C9: K2 | D9: =SUM(E9:I9) -> 77165 | E9: 7553 | F9: 25961 | G9: 24850 | H9: 15007 | I9: 3794
A10: 3 | B10: Dologi kiadások | C10: K3 | D10: =SUM(E10:I10) -> 185556 | E10: 46033 | F10: 17931 | G10: 59463 | H10: 35908 | I10: 26221
A11: 4 | B11: Társadalombiztosítási ellátások | C11: K41 | D11: =SUM(E11:I11) -> 0
A12: 5 | B12: Családi támogatások | C12: K42 | D12: =SUM(E12:I12) -> 8187 | E12: 8187
A13: 6 | B13: Pénzbeli kárpótlások, kártérítések | C13: K43 | D13: =SUM(E13:I13) -> 0
A14: 7 | B14: Betegséggel kapcsolatos (nem társadalombiztosítási) ellátások | C14: K44 | D14: =SUM(E14:I14) -> 162 | E14: 162
A15: 8 | B15: Foglalkoztatással, munkanélküliséggel kapcsolatos ellátások | C15: K45 | D15: =SUM(E15:I15) -> 55621 | E15: 55621
A16: 9 | B16: Lakhatással kapcsolatos ellátások | C16: K46 | D16: =SUM(E16:I16) -> 16725 | E16: 16725
A17: 10 | B17: Intézményi ellátottak pénzbeli juttatásai | C17: K47 | D17: =SUM(E17:I17) -> 0
A18: 11 | B18: Egyéb nem intézményi ellátások | C18: K48 | D18: =SUM(E18:I18) -> 9884 | E18: 9884
A19: 12 | B19: Ellátottak pénzbeli juttatásai | C19: K4 | D19: =SUM(E19:I19) -> 90579 | E19: =SUM(E11:E18) -> 90579 | F19: =SUM(F11:F18) -> 0 | G19: =SUM(G11:G18) -> 0 | H19: =SUM(H11:H18) -> 0 | I19: =SUM(I11:I18) -> 0
A20: 13 | B20: Nemzetközi kötelezettségek | C20: K501 | D20: =SUM(E20:I20) -> 0
A21: 14 | B21: Elvonások és befizetések | C21: K502 | D21: =SUM(E21:I21) -> 1907 | E21: 367 | F21: 87 | G21: 583 | H21: 696 | I21: 174
A22: 15 | B22: Működési célú garancia- és kezességvállalásból származó kifizetés államháztartáson belülre | C22: K503 | D22: =SUM(E22:I22) -> 0
A23: 16 | B23: Működési célú visszatérítendő támogatások, kölcsönök nyújtása államháztartáson belülre | C23: K504 | D23: =SUM(E23:I23) -> 0
A24: 17 | B24: Működési célú visszatérítendő támogatások, kölcsönök törlesztése államháztartáson belülre | C24: K505 | D24: =SUM(E24:I24) -> 0
A25: 18 | B25: Egyéb működési célú támogatások államháztartáson belülre | C25: K506 | D25: =SUM(E25:I25) -> 118935 | E25: =SUM(E26:E35) -> 118935 | F25: =SUM(F26:F35) -> 0 | G25: =SUM(G26:G35) -> 0 | H25: =SUM(H26:H35) -> 0 | I25: =SUM(I26:I35) -> 0
B26: - ebből központi költségvetési szervek | C26: K5061 | D26: =SUM(E26:I26) -> 0
B27: - ebből fejezeti kezelésű kv-i szervnek | D27: =SUM(E27:I27) -> 1808 | E27: 1808
B28: - ebből Társadalombiztosítási Alapok | C28: K5062 | D28: =SUM(E28:I28) -> 0
B29: - ebből elkülönített állami alapok | C29: K5063 | D29: =SUM(E29:I29) -> 0
B30: - ebből helyi önkormányzatok és költségvetési szerveik | C30: K5064 | D30: =SUM(E30:I30) -> 1266 | E30: 1266
B31: - ebből társulások és költségvetési szerveik | C31: K50651 | D31: =SUM(E31:I31) -> 0
B32: - ebből Várpalotai TC társulás | D32: =SUM(E32:I32) -> 4643 | E32: 4643
B33: - ebből köznevelési társulásnak | C33: K50652 | D33: =SUM(E33:I33) -> 79590 | E33: 79590
B34: - ebből szociális társulásnak | C34: K50653 | D34: =SUM(E34:I34) -> 31028 | E34: 31028
B35: - ebből nemzetiségi önkormányzatok és költségvetési szerveik | C35: K5066 | D35: =SUM(E35:I35) -> 600 | E35: 600
A36: 19 | B36: Működési célú garancia- és kezességvállalásból származó kifizetés államháztartáson kívülre | C36: K507 | D36: =SUM(E36:I36) -> 0
A37: 20 | B37: Működési célú visszatérítendő támogatások, kölcsönök nyújtása államháztartáson kívülre | C37: K508 | D37: =SUM(E37:I37) -> 0
A38: 21 | B38: Árkiegészítések, ártámogatások | C38: K509 | D38: =SUM(E38:I38) -> 0
A39: 22 | B39: Kamattámogatások | C39: K510 | D39: =SUM(E39:I39) -> 0
A40: 23 | B40: Egyéb működési célú támogatások államháztartáson kívülre | C40: K511 | D40: =SUM(E40:I40) -> 3995 | E40: 3995
A41: 24 | B41: Tartalékok | C41: K512 | D41: =SUM(E41:I41) -> 0
A42: 25 | B42: Egyéb működési célú kiadások | C42: K5 | D42: =SUM(E42:I42) -> 124837 | E42: =E20+E21+E22+E23+E24+E25+E36+E37+E38+E39+E40+E41 -> 123297 | F42: =F20+F21+F22+F23+F24+F25+F36+F37+F38+F39+F40+F41 -> 87 | G42: =G20+G21+G22+G23+G24+G25+G36+G37+G38+G39+G40+G41 -> 583 | H42: =H20+H21+H22+H23+H24+H25+H36+H37+H38+H39+H40+H41 -> 696 | I42: =I20+I21+I22+I23+I24+I25+I36+I37+I38+I39+I40+I41 -> 174
A43: 26 | B43: Immateriális javak beszerzése, létesítése | C43: K61 | D43: =SUM(E43:I43) -> 6550 | E43: 6550
A44: 27 | B44: Ingatlanok beszerzése, létesítése | C44: K62 | D44: =SUM(E44:I44) -> 57502 | E44: 56826 | G44: 676
A45: 28 | B45: Informatikai eszközök beszerzése, létesítése | C45: K63 | D45: =SUM(E45:I45) -> 1505 | F45: 1505
A46: 29 | B46: Egyéb tárgyi eszközök beszerzése, létesítése | C46: K64 | D46: =SUM(E46:I46) -> 7470 | E46: 2333 | F46: 257 | G46: 3418 | H46: 101 | I46: 1361
A47: 30 | B47: Részesedések beszerzése | C47: K65 | D47: =SUM(E47:I47) -> 0
A48: 31 | B48: Meglévő részesedések növeléséhez kapcsolódó kiadások | C48: K66 | D48: =SUM(E48:I48) -> 0
A49: 32 | B49: Beruházási célú előzetesen felszámított általános forgalmi adó | C49: K67 | D49: =SUM(E49:I49) -> 19354 | E49: 17552 | F49: 476 | G49: 1105 | H49: 27 | I49: 194
A50: 33 | B50: Beruházások | C50: K6 | D50: =SUM(E50:I50) -> 92381 | E50: =SUM(E43:E49) -> 83261 | F50: =SUM(F43:F49) -> 2238 | G50: =SUM(G43:G49) -> 5199 | H50: =SUM(H43:H49) -> 128 | I50: =SUM(I43:I49) -> 1555
A51: 34 | B51: Ingatlanok felújítása | C51: K71 | D51: =SUM(E51:I51) -> 25087 | E51: 25087
A52: 35 | B52: Informatikai eszközök felújítása | C52: K72 | D52: =SUM(E52:I52) -> 9 | F52: 9
A53: 36 | B53: Egyéb tárgyi eszközök felújítása | C53: K73 | D53: =SUM(E53:I53) -> 127 | E53: 55 | G53: 72
A54: 37 | B54: Felújítási célú előzetesen felszámított általános forgalmi adó | C54: K74 | D54: =SUM(E54:I54) -> 5588 | E54: 5566 | F54: 3 | G54: 19
A55: 38 | B55: Felújítások | C55: K7 | D55: =SUM(E55:I55) -> 30811 | E55: =SUM(E51:E54) -> 30708 | F55: =SUM(F51:F54) -> 12 | G55: =SUM(G51:G54) -> 91 | H55: =SUM(H51:H54) -> 0 | I55: =SUM(I51:I54) -> 0
A56: 39 | B56: Felhalmozási célú garancia- és kezességvállalásból származó kifizetés államháztartáson belülre | C56: K81 | D56: =SUM(E56:I56) -> 0
A57: 40 | B57: Felhalmozási célú visszatérítendő támogatások, kölcsönök nyújtása államháztartáson belülre | C57: K82 | D57: =SUM(E57:I57) -> 0
A58: 41 | B58: Felhalmozási célú visszatérítendő támogatások, kölcsönök törlesztése államháztartáson belülre | C58: K83 | D58: =SUM(E58:I58) -> 0
A59: 42 | B59: Egyéb felhalmozási célú támogatások államháztartáson belülre | C59: K84 | D59: =SUM(E59:I59) -> 765 | E59: 765
A60: 43 | B60: Felhalmozási célú garancia- és kezességvállalásból származó kifizetés államháztartáson kívülre | C60: K85 | D60: =SUM(E60:I60) -> 0
A61: 44 | B61: Felhalmozási célú visszatérítendő támogatások, kölcsönök nyújtása államháztartáson kívülre | C61: K86 | D61: =SUM(E61:I61) -> 0
A62: 45 | B62: Lakástámogatás | C62: K87 | D62: =SUM(E62:I62) -> 0
A63: 46 | B63: Egyéb felhalmozási célú támogatások államháztartáson kívülre | C63: K88 | D63: =SUM(E63:I63) -> 3003 | E63: 3003
A64: 47 | B64: Egyéb felhalmozási célú kiadások | C64: K8 | D64: =SUM(E64:I64) -> 3768 | E64: =SUM(E56:E63) -> 3768 | F64: =SUM(F56:F63) -> 0 | G64: =SUM(G56:G63) -> 0 | H64: =SUM(H56:H63) -> 0 | I64: =SUM(I56:I63) -> 0
A65: 48 | B65: Költségvetési kiadások | C65: K1-K8 | D65: =SUM(E65:I65) -> 943266 | E65: =E8+E9+E10+E19+E42+E50+E55+E64 -> 413429 | F65: =F8+F9+F10+F19+F42+F50+F55+F64 -> 139614 | G65: =G8+G9+G10+G19+G42+G50+G55+G64 -> 234679 | H65: =H8+H9+H10+H19+H42+H50+H55+H64 -> 109543 | I65: =I8+I9+I10+I19+I42+I50+I55+I64 -> 46001
A66: 49 | B66: Hitel-, kölcsöntörlesztés államháztartáson kívülre | C66: K911 | D66: =SUM(E66:I66) -> 0
A67: 50 | B67: Belföldi értékpapírok kiadásai | C67: K912 | D67: =SUM(E67:I67) -> 0
A68: 51 | B68: Államháztartáson belüli megelőlegezések folyósítása | C68: K913 | D68: =SUM(E68:I68) -> 0
A69: 52 | B69: Államháztartáson belüli megelőlegezések visszafizetése | C69: K914 | D69: =SUM(E69:I69) -> 0
A70: 53 | B70: Központi, irányító szervi támogatások folyósítása | C70: K915 | D70: =SUM(E70:I70) -> 355710 | E70: 355710
A71: 54 | B71: Pénzeszközök betétként elhelyezése | C71: K916 | D71: =SUM(E71:I71) -> 0
A72: 55 | B72: Pénzügyi lízing kiadásai | C72: K917 | D72: =SUM(E72:I72) -> 0
A73: 56 | B73: Központi költségvetés sajátos finanszírozási kiadásai | C73: K918 | D73: =SUM(E73:I73) -> 0
A74: 57 | B74: Belföldi finanszírozás kiadásai | C74: K91 | D74: =SUM(E74:I74) -> 355710 | E74: =SUM(E66:E73) -> 355710 | F74: =SUM(F66:F73) -> 0 | G74: =SUM(G66:G73) -> 0 | H74: =SUM(H66:H73) -> 0 | I74: =SUM(I66:I73) -> 0
A75: 58 | B75: Külföldi finanszírozás kiadásai | C75: K92 | D75: =SUM(E75:I75) -> 0
A76: 59 | B76: Finanszírozási kiadások | C76: K9 | D76: =SUM(E76:I76) -> 355710 | E76: =SUM(E74:E75) -> 355710 | F76: =SUM(F74:F75) -> 0 | G76: =SUM(G74:G75) -> 0 | H76: =SUM(H74:H75) -> 0 | I76: =SUM(I74:I75) -> 0
A77: 60 | B77: Összes kiadás | D77: =SUM(E77:I77) -> 1298976 | E77: =E65+E76 -> 769139 | F77: =F65+F76 -> 139614 | G77: =G65+G76 -> 234679 | H77: =H65+H76 -> 109543 | I77: =I65+I76 -> 46001

Sheet 17
B1: Berhida Város Önkormányzata | D1: 17. melléklet
B2: 2016. évi költségvetés | D2: a 7/2016. (V.2.) önkormányzati rendelethez
B3: Bevételek | D3: adatok ezer Ft-ban
D5: Összesen | E5: Önkorm | F5: Hivatal | G5: TESZ | H5: Süni | I5: Kultúrház
A6: Sor- szám | B6: Rovat megnevezése | C6: Rovat száma | D6: Eredeti ei | E6: Eredeti ei | F6: Eredeti ei | G6: Eredeti ei | H6: Eredeti ei | I6: Eredeti ei
A7: 1. | B7: 2. | C7: 3. | D7: 4. | E7: 5. | F7: 6. | G7: 7. | H7: 8. | I7: 9.
A8: 01 | B8: Helyi önkormányzatok működésének általános támogatása | C8: B111 | D8: =SUM(E8:I8) -> 114837 | E8: 114837
A9: 02 | B9: Települési önkormányzatok egyes köznevelési feladatainak támogatása | C9: B112 | D9: =SUM(E9:I9) -> 130351 | E9: 130351
A10: 03 | B10: Tel önkorm szociális és gyermekjóléti, gyermekétk feladatainak támogatása | C10: B113 | D10: =SUM(E10:I10) -> 92325 | E10: 92325
A11: 04 | B11: Települési önkormányzatok kulturális feladatainak támogatása | C11: B114 | D11: =SUM(E11:I11) -> 6884 | E11: 6884
A12: 05 | B12: Működési célú költségvetési támogatások és kiegészítő támogatások | C12: B115 | D12: =SUM(E12:I12) -> 0
A13: 06 | B13: Elszámolásból származó bevételek | C13: B116 | D13: =SUM(E13:I13) -> 0
A14: 07 | B14: Önkormányzatok működési támogatásai | C14: B11 | D14: =SUM(E14:I14) -> 344397 | E14: =SUM(E8:E13) -> 344397 | F14: =SUM(F8:F13) -> 0 | G14: =SUM(G8:G13) -> 0 | H14: =SUM(H8:H13) -> 0 | I14: =SUM(I8:I13) -> 0
A15: 08 | B15: Elvonások és befizetések bevételei | C15: B12 | D15: =SUM(E15:I15) -> 0
A16: 09 | B16: Működési célú garancia- és kezességvállalásból származó megtérülések államháztartáson belülről | C16: B13 | D16: =SUM(E16:I16) -> 0
A17: 10 | B17: Működési célú visszatérítendő támogatások, kölcsönök visszatérülése államháztartáson belülről | C17: B14 | D17: =SUM(E17:I17) -> 0
A18: 11 | B18: Működési célú visszatérítendő támogatások, kölcsönök igénybevétele államháztartáson belülről | C18: B15 | D18: =SUM(E18:I18) -> 0
A19: 12 | B19: Egyéb működési célú támogatások bevételei államháztartáson belülről | C19: B16 | D19: =SUM(E19:I19) -> 85152 | E19: =SUM(E20:E26) -> 21752 | F19: =SUM(F20:F26) -> 0 | G19: =SUM(G20:G26) -> 62306 | H19: =SUM(H20:H26) -> 1094 | I19: =SUM(I20:I26) -> 0
B20: - ebből központi költségvetési szervek | C20: B161 | D20: =SUM(E20:I20) -> 0
B21: - ebből Társadalombiztosítási Alapok | C21: B162 | D21: =SUM(E21:I21) -> 13002 | E21: 13002
B22: - ebből elkülönített állami alapok (MUNKAÜGYI KP közfoglalk) | C22: B163 | D22: =SUM(E22:I22) -> 63400 | G22: 62306 | H22: 1094
B23: - ebből helyi önkormányzatok és költségvetési szerveik | C23: B164 | D23: =SUM(E23:I23) -> 0
B24: - ebből társulások és költségvetési szerveik | C24: B165 | D24: =SUM(E24:I24) -> 0
B25: - ebből nemzetiségi önkormányzatok és költségvetési szerveik | C25: B166 | D25: =SUM(E25:I25) -> 0
B26: - ebből fejezeti kezelésű | C26: B167 | D26: =SUM(E26:I26) -> 8750 | E26: 8750
A27: 13 | B27: Működési célú támogatások államháztartáson belülről | C27: B1 | D27: =SUM(E27:I27) -> 429549 | E27: =SUM(E14:E19) -> 366149 | F27: =SUM(F14:F19) -> 0 | G27: =SUM(G14:G19) -> 62306 | H27: =SUM(H14:H19) -> 1094 | I27: =SUM(I14:I19) -> 0
A28: 14 | B28: Felhalmozási célú önkormányzati támogatások | C28: B21 | D28: =SUM(E28:I28) -> 0
A29: 15 | B29: Felhalmozási célú garancia- és kezességvállalásból származó megtérülések államháztartáson belülről | C29: B22 | D29: =SUM(E29:I29) -> 0
A30: 16 | B30: Felhalmozási célú visszatérítendő támogatások, kölcsönök visszatérülése államháztartáson belülről | C30: B23 | D30: =SUM(E30:I30) -> 0
A31: 17 | B31: Felhalmozási célú visszatérítendő támogatások, kölcsönök igénybevétele államháztartáson belülről | C31: B24 | D31: =SUM(E31:I31) -> 0
A32: 18 | B32: Egyéb felhalmozási célú támogatások bevételei államháztartáson belülről | C32: B25 | D32: =SUM(E32:I32) -> 0
A33: 19 | B33: Felhalmozási célú támogatások államháztartáson belülről | C33: B2 | D33: =SUM(E33:I33) -> 0 | E33: =SUM(E28:E32) -> 0 | F33: =SUM(F28:F32) -> 0 | G33: =SUM(G28:G32) -> 0 | H33: =SUM(H28:H32) -> 0 | I33: =SUM(I28:I32) -> 0
A34: 20 | B34: Magánszemélyek jövedelemadói | C34: B311 | D34: =SUM(E34:I34) -> 0
A35: 21 | B35: Társaságok jövedelemadói | C35: B312 | D35: =SUM(E35:I35) -> 0
A36: 22 | B36: Jövedelemadók | C36: B31 | D36: =SUM(E36:I36) -> 0 | E36: =SUM(E34:E35) -> 0 | F36: =SUM(F34:F35) -> 0 | G36: =SUM(G34:G35) -> 0 | H36: =SUM(H34:H35) -> 0 | I36: =SUM(I34:I35) -> 0
A37: 23 | B37: Szociális hozzájárulási adó és járulékok | C37: B32 | D37: =SUM(E37:I37) -> 0
A38: 24 | B38: Bérhez és foglalkoztatáshoz kapcsolódó adók | C38: B33 | D38: =SUM(E38:I38) -> 0
A39: 25 | B39: Vagyoni tipusú adók | C39: B34 | D39: =SUM(E39:I39) -> 91747 | E39: 91747
A40: 26 | B40: Értékesítési és forgalmi adók | C40: B351 | D40: =SUM(E40:I40) -> 187900 | E40: 187900
A41: 27 | B41: Fogyasztási adók | C41: B352 | D41: =SUM(E41:I41) -> 0
A42: 28 | B42: Pénzügyi monopóliumok nyereségét terhelő adók | C42: B353 | D42: =SUM(E42:I42) -> 0
A43: 29 | B43: Gépjárműadók | C43: B354 | D43: =SUM(E43:I43) -> 10688 | E43: 10688
A44: 30 | B44: Egyéb áruhasználati és szolgáltatási adók | C44: B355 | D44: =SUM(E44:I44) -> 0
A45: 31 | B45: Termékek és szolgáltatások adói | C45: B35 | D45: =SUM(E45:I45) -> 198588 | E45: =SUM(E40:E44) -> 198588 | F45: =SUM(F40:F44) -> 0 | G45: =SUM(G40:G44) -> 0 | H45: =SUM(H40:H44) -> 0 | I45: =SUM(I40:I44) -> 0
A46: 32 | B46: Egyéb közhatalmi bevételek | C46: B36 | D46: =SUM(E46:I46) -> 1413 | E46: 1413
A47: 33 | B47: Közhatalmi bevételek | C47: B3 | D47: =SUM(E47:I47) -> 291748 | E47: =E36+E37+E38+E39+E45+E46 -> 291748 | F47: =F36+F37+F38+F39+F45+F46 -> 0 | G47: =G36+G37+G38+G39+G45+G46 -> 0 | H47: =H36+H37+H38+H39+H45+H46 -> 0 | I47: =I36+I37+I38+I39+I45+I46 -> 0
A48: 34 | B48: Áru- és készletértékesítés ellenértéke | C48: B401 | D48: =SUM(E48:I48) -> 0
A49: 35 | B49: Szolgáltatások ellenértéke | C49: B402 | D49: =SUM(E49:I49) -> 9048 | F49: 360 | G49: 1050 | H49: 6688 | I49: 950
A50: 36 | B50: Közvetített szolgáltatások értéke | C50: B403 | D50: =SUM(E50:I50) -> 3690 | E50: =SUM(E51:E52) -> 560 | F50: =SUM(F51:F52) -> 1500 | G50: =SUM(G51:G52) -> 1630 | H50: =SUM(H51:H52) -> 0 | I50: =SUM(I51:I52) -> 0
B51: - ebből ÁHT-n belülre közvetített | C51: B4031 | D51: =SUM(E51:I51) -> 1820 | E51: 240 | F51: 1500 | G51: 80
B52: - ebből áht-n kívülre közvetített | C52: B4032 | D52: =SUM(E52:I52) -> 1870 | E52: 320 | G52: 1550
A53: 37 | B53: Tulajdonosi bevételek | C53: B404 | D53: =SUM(E53:I53) -> 19579 | E53: 19579
A54: 38 | B54: Ellátási díjak | C54: B405 | D54: =SUM(E54:I54) -> 12612 | E54: 3579 | F54: 502 | H54: 8531
A55: 39 | B55: Kiszámlázott általános forgalmi adó | C55: B406 | D55: =SUM(E55:I55) -> 7128 | E55: 6404 | G55: 724
A56: 40 | B56: Általános forgalmi adó visszatérítése | C56: B407 | D56: =SUM(E56:I56) -> 4864 | H56: 4864
A57: 41 | B57: Kamatbevételek | C57: B408 | D57: =SUM(E57:I57) -> 1300 | E57: 1300
A58: 42 | B58: Egyéb pénzügyi műveletek bevételei | C58: B409 | D58: =SUM(E58:I58) -> 0
A59: 43 | B59: Egyéb működési bevételek | C59: B410 | D59: =SUM(E59:I59) -> 0
A60: 44 | B60: Működési bevételek | C60: B4 | D60: =SUM(E60:I60) -> 58221 | E60: =E48+E49+E50+E53+E54+E55+E56+E57+E58+E59 -> 31422 | F60: =F48+F49+F50+F53+F54+F55+F56+F57+F58+F59 -> 2362 | G60: =G48+G49+G50+G53+G54+G55+G56+G57+G58+G59 -> 3404 | H60: =H48+H49+H50+H53+H54+H55+H56+H57+H58+H59 -> 20083 | I60: =I48+I49+I50+I53+I54+I55+I56+I57+I58+I59 -> 950
A61: 45 | B61: Immateriális javak értékesítése | C61: B51 | D61: =SUM(E61:I61) -> 0
A62: 46 | B62: Ingatlanok értékesítése | C62: B52 | D62: =SUM(E62:I62) -> 8199 | E62: 8199
A63: 47 | B63: Egyéb tárgyi eszközök értékesítése | C63: B53 | D63: =SUM(E63:I63) -> 0
A64: 48 | B64: Részesedések értékesítése | C64: B54 | D64: =SUM(E64:I64) -> 0
A65: 49 | B65: Részesedések megszűnéséhez kapcsolódó bevételek | C65: B55 | D65: =SUM(E65:I65) -> 0
A66: 50 | B66: Felhalmozási bevételek | C66: B5 | D66: =SUM(E66:I66) -> 8199 | E66: =SUM(E61:E65) -> 8199 | F66: =SUM(F61:F65) -> 0 | G66: =SUM(G61:G65) -> 0 | H66: =SUM(H61:H65) -> 0 | I66: =SUM(I61:I65) -> 0
A67: 51 | B67: Működési célú garancia- és kezességvállalásból származó megtérülések államháztartáson kívülről | C67: B61 | D67: =SUM(E67:I67) -> 0
A68: 52 | B68: Működési célú visszatérítendő támogatások, kölcsönök visszatérülése államháztartáson kívülről | C68: B62 | D68: =SUM(E68:I68) -> 0
A69: 53 | B69: Egyéb működési célú átvett pénzeszközök | C69: B63 | D69: =SUM(E69:I69) -> 70 | G69: 70
A70: 54 | B70: Működési célú átvett pénzeszközök | C70: B6 | D70: =SUM(E70:I70) -> 70 | E70: =SUM(E67:E69) -> 0 | F70: =SUM(F67:F69) -> 0 | G70: =SUM(G67:G69) -> 70 | H70: =SUM(H67:H69) -> 0 | I70: =SUM(I67:I69) -> 0
A71: 55 | B71: Felhalmozási célú garancia- és kezességvállalásból származó megtérülések államháztartáson kívülről | C71: B71 | D71: =SUM(E71:I71) -> 0
A72: 56 | B72: Felhalmozási célú visszatérítendő támogatások, kölcsönök visszatérülése államháztartáson kívülről | C72: B72 | D72: =SUM(E72:I72) -> 0
A73: 57 | B73: Egyéb felhalmozási célú átvett pénzeszközök | C73: B73 | D73: =SUM(E73:I73) -> 352 | E73: 352
A74: 58 | B74: Felhalmozási célú átvett pénzeszközök | C74: B7 | D74: =SUM(E74:I74) -> 352 | E74: =SUM(E71:E73) -> 352 | F74: =SUM(F71:F73) -> 0 | G74: =SUM(G71:G73) -> 0 | H74: =SUM(H71:H73) -> 0 | I74: =SUM(I71:I73) -> 0
A75: 59 | B75: Költségvetési bevételek | C75: B1-B7 | D75: =SUM(E75:I75) -> 788139 | E75: =E27+E33+E47+E60+E66+E70+E74 -> 697870 | F75: =F27+F33+F47+F60+F66+F70+F74 -> 2362 | G75: =G27+G33+G47+G60+G66+G70+G74 -> 65780 | H75: =H27+H33+H47+H60+H66+H70+H74 -> 21177 | I75: =I27+I33+I47+I60+I66+I70+I74 -> 950
A76: 60 | B76: Hitel-, kölcsönfelvétel államháztartáson kívülről | C76: B811 | D76: =SUM(E76:I76) -> 0
A77: 61 | B77: Belföldi értékpapírok bevételei | C77: B812 | D77: =SUM(E77:I77) -> 0
A78: 62 | B78: Előző év költségvetési maradványának igénybevétele | C78: B8131 | D78: =SUM(E78:I78) -> 565881 | E78: 530547 | F78: 8680 | G78: 20933 | H78: 4153 | I78: 1568
A79: 63 | B79: Előző év vállalkozási maradványának igénybevétele | C79: B8132 | D79: =SUM(E79:I79) -> 0
A80: 64 | B80: Maradvány igénybevétele | C80: B813 | D80: =SUM(E80:I80) -> 565881 | E80: =SUM(E78:E79) -> 530547 | F80: =SUM(F78:F79) -> 8680 | G80: =SUM(G78:G79) -> 20933 | H80: =SUM(H78:H79) -> 4153 | I80: =SUM(I78:I79) -> 1568
A81: 65 | B81: Államháztartáson belüli megelőlegezések | C81: B814 | D81: =SUM(E81:I81) -> 0
A82: 66 | B82: Államháztartáson belüli megelőlegezések törlesztése | C82: B815 | D82: =SUM(E82:I82) -> 0
A83: 67 | B83: Központi, irányító szervi támogatás | C83: B816 | D83: =SUM(E83:I83) -> 469214 | F83: 160370 | G83: 143203 | H83: 113160 | I83: 52481
A84: 68 | B84: Betétek megszüntetése | C84: B817 | D84: =SUM(E84:I84) -> 0
A85: 69 | B85: Központi költségvetés sajátos finanszírozási bevételei | C85: B818 | D85: =SUM(E85:I85) -> 0
A86: 70 | B86: Belföldi finanszírozás bevételei | C86: B81 | D86: =SUM(E86:I86) -> 1035095 | E86: =(SUM(E80:E85))+E76+E77 -> 530547 | F86: =(SUM(F80:F85))+F76+F77 -> 169050 | G86: =(SUM(G80:G85))+G76+G77 -> 164136 | H86: =(SUM(H80:H85))+H76+H77 -> 117313 | I86: =(SUM(I80:I85))+I76+I77 -> 54049
A87: 71 | B87: Külföldi finanszírozás bevételei | C87: B82 | D87: =SUM(E87:I87) -> 0
A88: 72 | B88: Finanszírozási bevételek | C88: B8 | D88: =SUM(E88:I88) -> 1035095 | E88: =SUM(E86:E87) -> 530547 | F88: =SUM(F86:F87) -> 169050 | G88: =SUM(G86:G87) -> 164136 | H88: =SUM(H86:H87) -> 117313 | I88: =SUM(I86:I87) -> 54049
A89: 73 | B89: Összes bevétel | D89: =SUM(E89:I89) -> 1823234 | E89: =E75+E88 -> 1228417 | F89: =F75+F88 -> 171412 | G89: =G75+G88 -> 229916 | H89: =H75+H88 -> 138490 | I89: =I75+I88 -> 54999

Sheet 18
B1: Berhida Város Önkormányzata | C1: 18. melléklet
B2: 2016. évi költségvetés | C2: a 7/2016. (V.2.) önkormányzati rendelethez
B3: Kiadások | C3: adatok ezer Ft-ban
D5: ÖSSZESEN | E5: Önkorm | F5: Hivatal | G5: TESZ | H5: Süni | I5: Kultúrház
A6: Sor- szám | B6: Rovat megnevezése | C6: Rovat száma | D6: Eredeti ei | E6: Eredeti ei | F6: Eredeti ei | G6: Eredeti ei | H6: Eredeti ei | I6: Eredeti ei
A7: 1. | B7: 2. | C7: 3. | D7: 4. | E7: 5. | F7: 6. | G7: 7. | H7: 8. | I7: 9.
A8: 1 | B8: Személyi juttatások | C8: K1 | D8: =SUM(E8:I8) -> 340004 | E8: 31531 | F8: 103962 | G8: 112159 | H8: 73916 | I8: 18436
A9: 2 | B9: Munkaadókat terhelő járulékok és szociális hozzájárulási adó | C9: K2 | D9: =SUM(E9:I9) -> 85502 | E9: 9513 | F9: 29562 | G9: 21556 | H9: 19812 | I9: 5059
A10: 3 | B10: Dologi kiadások | C10: K3 | D10: =SUM(E10:I10) -> 262646 | E10: 75965 | F10: 30931 | G10: 83659 | H10: 43659 | I10: 28432
A11: 4 | B11: Társadalombiztosítási ellátások | C11: K41 | D11: =SUM(E11:I11) -> 0
A12: 5 | B12: Családi támogatások | C12: K42 | D12: =SUM(E12:I12) -> 0
A13: 6 | B13: Pénzbeli kárpótlások, kártérítések | C13: K43 | D13: =SUM(E13:I13) -> 0
A14: 7 | B14: Betegséggel kapcsolatos (nem társadalombiztosítási) ellátások | C14: K44 | D14: =SUM(E14:I14) -> 0
A15: 8 | B15: Foglalkoztatással, munkanélküliséggel kapcsolatos ellátások | C15: K45 | D15: =SUM(E15:I15) -> 0
A16: 9 | B16: Lakhatással kapcsolatos ellátások | C16: K46 | D16: =SUM(E16:I16) -> 0
A17: 10 | B17: Intézményi ellátottak pénzbeli juttatásai | C17: K47 | D17: =SUM(E17:I17) -> 0
A18: 11 | B18: Egyéb nem intézményi ellátások | C18: K48 | D18: =SUM(E18:I18) -> 22000 | E18: 22000
A19: 12 | B19: Ellátottak pénzbeli juttatásai | C19: K4 | D19: =SUM(E19:I19) -> 22000 | E19: =SUM(E11:E18) -> 22000 | F19: =SUM(F11:F18) -> 0 | G19: =SUM(G11:G18) -> 0 | H19: =SUM(H11:H18) -> 0 | I19: =SUM(I11:I18) -> 0
A20: 13 | B20: Nemzetközi kötelezettségek | C20: K501 | D20: =SUM(E20:I20) -> 0
A21: 14 | B21: Elvonások és befizetések | C21: K502 | D21: =SUM(E21:I21) -> 22 | E21: 22
A22: 15 | B22: Működési célú garancia- és kezességvállalásból származó kifizetés államháztartáson belülre | C22: K503 | D22: =SUM(E22:I22) -> 0
A23: 16 | B23: Működési célú visszatérítendő támogatások, kölcsönök nyújtása államháztartáson belülre | C23: K504 | D23: =SUM(E23:I23) -> 0
A24: 17 | B24: Működési célú visszatérítendő támogatások, kölcsönök törlesztése államháztartáson belülre | C24: K505 | D24: =SUM(E24:I24) -> 0
A25: 18 | B25: Egyéb működési célú támogatások államháztartáson belülre | C25: K506 | D25: =SUM(E25:I25) -> 140757 | E25: =SUM(E26:E33) -> 140757 | F25: =SUM(F26:F33) -> 0 | G25: =SUM(G26:G33) -> 0 | H25: =SUM(H26:H33) -> 0 | I25: =SUM(I26:I33) -> 0
B26: - ebből központi költségvetési szervek | C26: K5061 | D26: =SUM(E26:I26) -> 0
B27: - ebből Társadalombiztosítási Alapok | C27: K5062 | D27: =SUM(E27:I27) -> 0
B28: - ebből elkülönített állami alapok | C28: K5063 | D28: =SUM(E28:I28) -> 0
B29: - ebből helyi önkormányzatok és költségvetési szerveik | C29: K5064 | D29: =SUM(E29:I29) -> 0
B30: - ebből társulások és költségvetési szerveik | C30: K50651 | D30: =SUM(E30:I30) -> 3510 | E30: 3510
B31: - ebből köznevelési társulásnak | C31: K50652 | D31: =SUM(E31:I31) -> 105376 | E31: 105376
B32: - ebből szociális társulásnak | C32: K50653 | D32: =SUM(E32:I32) -> 31371 | E32: 31371
B33: - ebből fejezeti kez közp Rendőrség tám | C33: K5066 | D33: =SUM(E33:I33) -> 500 | E33: 500
A34: 19 | B34: Működési célú garancia- és kezességvállalásból származó kifizetés államháztartáson kívülre | C34: K507 | D34: =SUM(E34:I34) -> 0
A35: 20 | B35: Működési célú visszatérítendő támogatások, kölcsönök nyújtása államháztartáson kívülre | C35: K508 | D35: =SUM(E35:I35) -> 0
A36: 21 | B36: Árkiegészítések, ártámogatások | C36: K509 | D36: =SUM(E36:I36) -> 0
A37: 22 | B37: Kamattámogatások | C37: K510 | D37: =SUM(E37:I37) -> 0
A38: 23 | B38: Egyéb működési célú támogatások államháztartáson kívülre | C38: K511 | D38: =SUM(E38:I38) -> 6146 | E38: 6146
A39: 24 | B39: Tartalékok | C39: K512 | D39: =SUM(E39:I39) -> 205015 | E39: 205015
A40: 25 | B40: Egyéb működési célú kiadások | C40: K5 | D40: =SUM(E40:I40) -> 351940 | E40: =E20+E21+E22+E23+E24+E25+E34+E35+E36+E37+E38+E39 -> 351940 | F40: =F20+F21+F22+F23+F24+F25+F34+F35+F36+F37+F38+F39 -> 0 | G40: =G20+G21+G22+G23+G24+G25+G34+G35+G36+G37+G38+G39 -> 0 | H40: =H20+H21+H22+H23+H24+H25+H34+H35+H36+H37+H38+H39 -> 0 | I40: =I20+I21+I22+I23+I24+I25+I34+I35+I36+I37+I38+I39 -> 0
A41: 26 | B41: Immateriális javak, vagy jogok beszerzése, létesítése | C41: K61 | D41: =SUM(E41:I41) -> 4265 | E41: 2522 | F41: 1476 | G41: 267
A42: 27 | B42: Ingatlanok beszerzése, létesítése | C42: K62 | D42: =SUM(E42:I42) -> 56293 | E42: 55939 | G42: 354
A43: 28 | B43: Informatikai eszközök beszerzése, létesítése | C43: K63 | D43: =SUM(E43:I43) -> 3446 | F43: 2626 | G43: 465 | H43: 40 | I43: 315
A44: 29 | B44: Egyéb tárgyi eszközök beszerzése, létesítése | C44: K64 | D44: =SUM(E44:I44) -> 19544 | E44: 6950 | F44: 976 | G44: 8590 | H44: 829 | I44: 2199
A45: 30 | B45: Részesedések beszerzése | C45: K65 | D45: =SUM(E45:I45) -> 0
A46: 31 | B46: Meglévő részesedések növeléséhez kapcsolódó kiadások | C46: K66 | D46: =SUM(E46:I46) -> 0
A47: 32 | B47: Beruházási célú előzetesen felszámított általános forgalmi adó | C47: K67 | D47: =SUM(E47:I47) -> 22348 | E47: 17573 | F47: 1371 | G47: 2612 | H47: 234 | I47: 558
A48: 33 | B48: Beruházások | C48: K6 | D48: =SUM(E48:I48) -> 105896 | E48: =SUM(E41:E47) -> 82984 | F48: =SUM(F41:F47) -> 6449 | G48: =SUM(G41:G47) -> 12288 | H48: =SUM(H41:H47) -> 1103 | I48: =SUM(I41:I47) -> 3072
A49: 34 | B49: Ingatlanok felújítása | C49: K71 | D49: =SUM(E49:I49) -> 135621 | E49: 135621
A50: 35 | B50: Informatikai eszközök felújítása | C50: K72 | D50: =SUM(E50:I50) -> 300 | F50: 300
A51: 36 | B51: Egyéb tárgyi eszközök felújítása | C51: K73 | D51: =SUM(E51:I51) -> 1284 | E51: 984 | F51: 100 | G51: 200
A52: 37 | B52: Felújítási célú előzetesen felszámított általános forgalmi adó | C52: K74 | D52: =SUM(E52:I52) -> 37045 | E52: 36883 | F52: 108 | G52: 54
A53: 38 | B53: Felújítások | C53: K7 | D53: =SUM(E53:I53) -> 174250 | E53: =SUM(E49:E52) -> 173488 | F53: =SUM(F49:F52) -> 508 | G53: =SUM(G49:G52) -> 254 | H53: =SUM(H49:H52) -> 0 | I53: =SUM(I49:I52) -> 0
A54: 39 | B54: Felhalmozási célú garancia- és kezességvállalásból származó kifizetés államháztartáson belülre | C54: K81 | D54: =SUM(E54:I54) -> 0
A55: 40 | B55: Felhalmozási célú visszatérítendő támogatások, kölcsönök nyújtása államháztartáson belülre | C55: K82 | D55: =SUM(E55:I55) -> 0
A56: 41 | B56: Felhalmozási célú visszatérítendő támogatások, kölcsönök törlesztése államháztartáson belülre | C56: K83 | D56: =SUM(E56:I56) -> 0
A57: 42 | B57: Egyéb felhalmozási célú támogatások államháztartáson belülre | C57: K84 | D57: =SUM(E57:I57) -> 0
A58: 43 | B58: Felhalmozási célú garancia- és kezességvállalásból származó kifizetés államháztartáson kívülre | C58: K85 | D58: =SUM(E58:I58) -> 0
A59: 44 | B59: Felhalmozási célú visszatérítendő támogatások, kölcsönök nyújtása államháztartáson kívülre | C59: K86 | D59: =SUM(E59:I59) -> 0
A60: 45 | B60: Lakástámogatás | C60: K87 | D60: =SUM(E60:I60) -> 0
A61: 46 | B61: Egyéb felhalmozási célú támogatások államháztartáson kívülre | C61: K88 | D61: =SUM(E61:I61) -> 0
A62: 47 | B62: Egyéb felhalmozási célú kiadások | C62: K8 | D62: =SUM(E62:I62) -> 0 | E62: =SUM(E54:E61) -> 0 | F62: =SUM(F54:F61) -> 0 | G62: =SUM(G54:G61) -> 0 | H62: =SUM(H54:H61) -> 0 | I62: =SUM(I54:I61) -> 0
A63: 48 | B63: Költségvetési kiadások | C63: K1-K8 | D63: =SUM(E63:I63) -> 1342238 | E63: =E8+E9+E10+E19+E40+E48+E53+E62 -> 747421 | F63: =F8+F9+F10+F19+F40+F48+F53+F62 -> 171412 | G63: =G8+G9+G10+G19+G40+G48+G53+G62 -> 229916 | H63: =H8+H9+H10+H19+H40+H48+H53+H62 -> 138490 | I63: =I8+I9+I10+I19+I40+I48+I53+I62 -> 54999
A64: 49 | B64: Hitel-, kölcsöntörlesztés államháztartáson kívülre | C64: K911 | D64: =SUM(E64:I64) -> 0
A65: 50 | B65: Belföldi értékpapírok kiadásai | C65: K912 | D65: =SUM(E65:I65) -> 0
A66: 51 | B66: Államháztartáson belüli megelőlegezések folyósítása | C66: K913 | D66: =SUM(E66:I66) -> 0
A67: 52 | B67: Államháztartáson belüli megelőlegezések visszafizetése | C67: K914 | D67: =SUM(E67:I67) -> 11782 | E67: 11782
A68: 53 | B68: Központi, irányító szervi támogatások folyósítása | C68: K915 | D68: =SUM(E68:I68) -> 469214 | E68: 469214
A69: 54 | B69: Pénzeszközök betétként elhelyezése | C69: K916 | D69: =SUM(E69:I69) -> 0
A70: 55 | B70: Pénzügyi lízing kiadásai | C70: K917 | D70: =SUM(E70:I70) -> 0
A71: 56 | B71: Központi költségvetés sajátos finanszírozási kiadásai | C71: K918 | D71: =SUM(E71:I71) -> 0
A72: 57 | B72: Belföldi finanszírozás kiadásai | C72: K91 | D72: =SUM(E72:I72) -> 480996 | E72: =SUM(E64:E71) -> 480996 | F72: =SUM(F64:F71) -> 0 | G72: =SUM(G64:G71) -> 0 | H72: =SUM(H64:H71) -> 0 | I72: =SUM(I64:I71) -> 0
A73: 58 | B73: Külföldi finanszírozás kiadásai | C73: K92 | D73: =SUM(E73:I73) -> 0
A74: 59 | B74: Finanszírozási kiadások | C74: K9 | D74: =SUM(E74:I74) -> 480996 | E74: =SUM(E72:E73) -> 480996 | F74: =SUM(F72:F73) -> 0 | G74: =SUM(G72:G73) -> 0 | H74: =SUM(H72:H73) -> 0 | I74: =SUM(I72:I73) -> 0
A75: 60 | B75: Összes kiadás | D75: =SUM(E75:I75) -> 1823234 | E75: =E63+E74 -> 1228417 | F75: =F63+F74 -> 171412 | G75: =G63+G74 -> 229916 | H75: =H63+H74 -> 138490 | I75: =I63+I74 -> 54999

Sheet 18a
B1: Berhida Város Önkormányzata | C1: 18/a. melléklet
B2: 2016. évi költségvetés | C2: a 7/2016. (V.2.) önkormányzati rendelethez
B3: Kiadások | C3: adatok ezer Ft-ban
A5: Felújítások | C5: Eredeti előirányzat | D5: vált | E5: Mód előirányzat
A6: 1 | B6: ÖNK út-járda felújítások adosságkonsz pály +műsz ell kv-i m, | C6: 99547 | E6: =C6+D6 -> 99547
A7: 2 | B7: ÖNK Süni óvoda tető felújítás adósságkonsz pály+kieg kv-i m | C7: 33766 | E7: =C7+D7 -> 33766
A8: 3 | B8: ÖNK intézményi felújításokhoz kapcs tervek kv-i m | C8: 3000 | E8: =C8+D8 -> 3000
A9: 4 | B9: ÖNK Mesteriskola pályázat tervek kv-i m | C9: 2000 | E9: =C9+D9 -> 2000
A10: 5 | B10: ÖNK Kossuth u. 26. szolg. Lakás felúj nyílászáró csere II.ütem | C10: 2847 | E10: =C10+D10 -> 2847
A11: 6 | B11: ÖNK Süni Óvoda nyílászáró csere kv-i m | C11: 475 | E11: =C11+D11 -> 475
A12: 7 | B12: ÖNK Hétszín Óvoda átalakítási, felúj enged és kivit terv kv-i m | C12: 3994 | E12: =C12+D12 -> 3994
A13: 8 | B13: ÖNK Hétszín Óvoda konyhatechnológiai terv kv-i m | C13: 330 | E13: =C13+D13 -> 330
A14: 9 | B14: ÖNK Kiskovácsi szennyvízátemelő szivattyú csere | C14: 767 | E14: =C14+D14 -> 767
A15: 10 | B15: ÖNK hulladékudvar kerítés felújítás kv-i mar | C15: 500 | E15: =C15+D15 -> 500
A16: 11 | B16: ÖNK Önk Hivatal vizesblokk felújítás kv-i mar | C16: 5200 | E16: =C16+D16 -> 5200
A17: 12 | B17: ÖNK Pgytp Orgona u. 1/1 üzlet burkolási munkák | C17: 12 | E17: =C17+D17 -> 12
... A20: 15 | B20: ÖH egyéb gép, berendezés felújítás | C20: 127 | E20: =C20+D20 -> 127
A21: 16 | B21: ÖNK Hétszínv bölcsőde műk eng.kerítés, homokozó | D21: 1620 | E21: =C21+D21 -> 1620
A22: 17 | B22: ÖNK térfigyelő kamerák felújítása | D22: 483 | E22: =C22+D22 -> 483
A23: 18 | B23: ÖNK Kossuth u. 26. szolg. Lakás nyílászáró csere, kémény | D23: 1450 | E23: =C23+D23 -> 1450
A24: 19 | B24: ÖNK Ady tanári szoba gipsz karton fal | D24: 160 | E24: =C24+D24 -> 160
A25: 20 | B25: ÖNK Ady régi isk vizesblokk felújítás | D25: 980 | E25: =C25+D25 -> 980
A26: 21 | B26: ÖNK Rezeda 19. szolg. Lakás parkettázás, beázás | D26: 297 | E26: =C26+D26 -> 297
A27: 22 | B27: ÖNK kultúrház homlokzat felújítás | D27: 969 | E27: =C27+D27 -> 969
A28: 23 | B28: ÖNK Pgytp 1848-49 emlékmű felújítás | D28: 2000 | E28: =C28+D28 -> 2000
A29: 24 | B29: ÖNK Arany J u. felújítás süllyedés, kereszteződés | D29: 1631 | E29: =C29+D29 -> 1631
A30: 25 | B30: ÖNK járdalapos járdák felújítása Dankó u… | D30: 2010 | E30: =C30+D30 -> 2010
A31: 26 | B31: ÖNK Orgona-Szegfű utca útkereszteződés felújítás | D31: 2150 | E31: =C31+D31 -> 2150
A32: 27 | B32: ÖNK Süni Óvoda 6 cs szoba parkettázés műk. Enged. | D32: 4500 | E32: =C32+D32 -> 4500
... A34: 29 | B34: ÖNK Süni Óvodaq konyha-nevelő hely. Közötti tető felúj | D34: 400 | E34: =C34+D34 -> 400
A35: 30 | E35: =C35+D35 -> 0
A36: 31 | B36: Összesen | C36: =SUM(C6:C35) -> 153200 | D36: =SUM(D6:D35) -> 21050 | E36: =SUM(E6:E35) -> 174250

Sheet 18b
B1: Berhida Város Önkormányzata | C1: 18/b. melléklet
B2: 2016. évi költségvetés | C2: a 7/2016. (V.2.) önkormányzati rendelethez
B3: Kiadások | C3: adatok ezer Ft-ban
A5: Beruházások | C5: Eredeti előirányzat | D5: változás | E5: Mód előirányzat
A6: 1 | B6: ÖNK út-járda felújítások adosságkonsz pály +műsz ell kv-i m | C6: 50042 | E6: =C6+D6 -> 50042
A7: 2 | B7: ÖNK intézményi beruházásokhoz kapcs tervek kv-i m | C7: 3000 | E7: =C7+D7 -> 3000
A8: 3 | B8: ÖNK városközpont zöldpark kial munk, tervek kv-i m | C8: 1217 | E8: =C8+D8 -> 1217
A9: 4 | B9: ÖNK integrált településfejlesztési stratégia kv-i m | C9: 2540 | E9: =C9+D9 -> 2540
A10: 5 | B10: ÖNK elkerülő út eng-kiviteli terv kv-i m | C10: 953 | E10: =C10+D10 -> 953
A11: 6 | B11: ÖNK Veszprémi-Orgona út között telkek villamosterv kv-i m | C11: 499 | E11: =C11+D11 -> 499
A12: 7 | B12: ÖNK köznevelési intézmények egyéb eszközbeszerzés kv-i m | C12: 508 | E12: =C12+D12 -> 508
A13: 8 | B13: ÖNK védőnői szolg. Egyéb eszközbeszerzés kv-i m | C13: 127 | D13: 300 | E13: =C13+D13 -> 427
A14: 9 | B14: ÖNK TESZ telephely vásárlás | C14: 7900 | E14: =C14+D14 -> 7900
A15: 10 | B15: ÖNK Pgytp üzletsor mellett vízmérő kialakítási munkák k-vi mar | C15: 344 | E15: =C15+D15 -> 344
A16: 11 | B16: ÖH imm javak + áfa | C16: 1143 | D16: -589 | E16: =C16+D16 -> 554
A17: 12 | B17: TESZ imm javak +áfa | C17: 330 | D17: 9 | E17: =C17+D17 -> 339
A18: 13 | B18: TESZ egyéb tárgyi eszközök beszerz | C18: 3708 | E18: =C18+D18 -> 3708
A19: 14 | B19: Süni inform eszköz + áfa | C19: 203 | D19: -152 | E19: =C19+D19 -> 51
A20: 15 | B20: Kultúrház egyéb tárgyi eszköz, polc, hangtechnika stb | C20: 22 | D20: 1818 | E20: =C20+D20 -> 1840
A21: 16 | B21: Kultúrház egyéb tárgyi eszköz érdekeltségnöv pály-hoz önrész | C21: 254 | E21: =C21+D21 -> 254
A22: 17 | B22: Kultúrház könyv beszerzés (éven túli) | C22: 347 | D22: 231 | E22: =C22+D22 -> 578
A23: 18 | B23: Kultúrház informatikai eszköz beszerzés+áfa | D23: 400 | E23: =C23+D23 -> 400
A24: 19 | B24: Süni Óvoda konyhai robotgép | D24: 500 | E24: =C24+D24 -> 500
A25: 20 | B25: Süni egyéb tárgyi eszköz + áfa | D25: 552 | E25: =C25+D25 -> 552
A26: 21 | B26: TESZ informatikai eszközök+áfa | D26: 591 | E26: =C26+D26 -> 591
A27: 22 | B27: TESZ padok beszerzése (egyéb te+áfa) zöldter | D27: 1100 | E27: =C27+D27 -> 1100
A28: 23 | B28: TESZ szekrény, berend beszerzés + áfa | D28: 200 | E28: =C28+D28 -> 200
A29: 24 | B29: TESZ B1 kút üzembehelyezése | D29: 450 | E29: =C29+D29 -> 450
A30: 25 | B30: ÖH digitális temetőtérkép nyt program | D30: 1321 | E30: =C30+D30 -> 1321
A31: 26 | B31: ÖH informatikai eszközök + áfa | D31: 3335 | E31: =C31+D31 -> 3335
A32: 27 | B32: ÖH egyéb gép, berend + áfa | D32: 1239 | E32: =C32+D32 -> 1239
A33: 28 | B33: ÖNK önkormányzati WEB lap készítés | D33: 663 | E33: =C33+D33 -> 663
A34: 29 | B34: ÖNK hulladékudvar kiszolgáló épület építés | D34: 1500 | E34: =C34+D34 -> 1500
... A42: 37 | B42: TESZ teherautó vásárlás (Mazda helyett) | D42: 5900 | E42: =C42+D42 -> 5900
A43: 38 | E43: =C43+D43 -> 0
A44: 39 | B44: Összesen | C44: =SUM(C6:C43) -> 73137 | D44: =SUM(D6:D43) -> 32759 | E44: =SUM(E6:E43) -> 105896

Sheet 19a
B1: Berhida Város Önkormányzata | D1: 19.a. melléklet
B2: 2016. évi költségvetés | D2: a 7/2016. (V.2.) önkormányzati rendelethez
B3: Bevételek és kiadások | D3: adatok ezer Ft-ban
B4: Kötelezően ellátandó feladatok
D5: Összesen | E5: Önkorm | F5: Hivatal | G5: TESZ | H5: Süni | I5: Kultúrház
A6: Sor- szám | B6: Rovat megnevezése | C6: Rovat száma | D6: Mód ei | E6: Mód ei | F6: Mód ei | G6: Mód ei | H6: Mód ei | I6: Mód ei
A7: 1. | B7: 2. | C7: 3. | D7: 4. | E7: 4. | F7: 4. | G7: 4. | H7: 4.
A8: 01 | B8: Helyi önkormányzatok működésének általános támogatása | C8: B111 | D8: ='17'!D8-'19b mell'!D8-'19c mell'!D8 -> 109653 | E8: ='17'!E8-'19b mell'!E8-'19c mell'!E8 -> 109653 | F8: ='17'!F8-'19b mell'!F8-'19c mell'!F8 -> 0 | G8: ='17'!G8-'19b mell'!G8-'19c mell'!G8 -> 0 | H8: ='17'!H8-'19b mell'!H8-'19c mell'!H8 -> 0 | I8: ='17'!I8-'19b mell'!I8-'19c mell'!I8 -> 0
A9: 02 | B9: Települési önkormányzatok egyes köznevelési feladatainak támogatása | C9: B112 | D9: ='17'!D9-'19b mell'!D9-'19c mell'!D9 -> 130351 | E9: ='17'!E9-'19b mell'!E9-'19c mell'!E9 -> 130351 | F9: ='17'!F9-'19b mell'!F9-'19c mell'!F9 -> 0 | G9: ='17'!G9-'19b mell'!G9-'19c mell'!G9 -> 0 | H9: ='17'!H9-'19b mell'!H9-'19c mell'!H9 -> 0 | I9: ='17'!I9-'19b mell'!I9-'19c mell'!I9 -> 0
A10: 03 | B10: Települési önkormányzatok szociális és gyermekjóléti feladatainak támogatása | C10: B113 | D10: ='17'!D10-'19b mell'!D10-'19c mell'!D10 -> 87727 | E10: ='17'!E10-'19b mell'!E10-'19c mell'!E10 -> 87727 | F10: ='17'!F10-'19b mell'!F10-'19c mell'!F10 -> 0 | G10: ='17'!G10-'19b mell'!G10-'19c mell'!G10 -> 0 | H10: ='17'!H10-'19b mell'!H10-'19c mell'!H10 -> 0 | I10: ='17'!I10-'19b mell'!I10-'19c mell'!I10 -> 0
A11: 04 | B11: Települési önkormányzatok kulturális feladatainak támogatása | C11: B114 | D11: ='17'!D11-'19b mell'!D11-'19c mell'!D11 -> 6884 | E11: ='17'!E11-'19b mell'!E11-'19c mell'!E11 -> 6884 | F11: ='17'!F11-'19b mell'!F11-'19c mell'!F11 -> 0 | G11: ='17'!G11-'19b mell'!G11-'19c mell'!G11 -> 0 | H11: ='17'!H11-'19b mell'!H11-'19c mell'!H11 -> 0 | I11: ='17'!I11-'19b mell'!I11-'19c mell'!I11 -> 0
A12: 05 | B12: Működési célú költségvetési támogatások és kiegészítő támogatások | C12: B115 | D12: ='17'!D12-'19b mell'!D12-'19c mell'!D12 -> 0 | E12: ='17'!E12-'19b mell'!E12-'19c mell'!E12 -> 0 | F12: ='17'!F12-'19b mell'!F12-'19c mell'!F12 -> 0 | G12: ='17'!G12-'19b mell'!G12-'19c mell'!G12 -> 0 | H12: ='17'!H12-'19b mell'!H12-'19c mell'!H12 -> 0 | I12: ='17'!I12-'19b mell'!I12-'19c mell'!I12 -> 0
A13: 06 | B13: Elszámolásból származó bevételek | C13: B116 | D13: ='17'!D13-'19b mell'!D13-'19c mell'!D13 -> 0 | E13: ='17'!E13-'19b mell'!E13-'19c mell'!E13 -> 0 | F13: ='17'!F13-'19b mell'!F13-'19c mell'!F13 -> 0 | G13: ='17'!G13-'19b mell'!G13-'19c mell'!G13 -> 0 | H13: ='17'!H13-'19b mell'!H13-'19c mell'!H13 -> 0 | I13: ='17'!I13-'19b mell'!I13-'19c mell'!I13 -> 0
A14: 07 | B14: Önkormányzatok működési támogatásai | C14: B11 | D14: ='17'!D14-'19b mell'!D14-'19c mell'!D14 -> 334615 | E14: ='17'!E14-'19b mell'!E14-'19c mell'!E14 -> 334615 | F14: ='17'!F14-'19b mell'!F14-'19c mell'!F14 -> 0 | G14: ='17'!G14-'19b mell'!G14-'19c mell'!G14 -> 0 | H14: ='17'!H14-'19b mell'!H14-'19c mell'!H14 -> 0 | I14: ='17'!I14-'19b mell'!I14-'19c mell'!I14 -> 0
A15: 08 | B15: Elvonások és befizetések bevételei | C15: B12 | D15: ='17'!D15-'19b mell'!D15-'19c mell'!D15 -> 0 | E15: ='17'!E15-'19b mell'!E15-'19c mell'!E15 -> 0 | F15: ='17'!F15-'19b mell'!F15-'19c mell'!F15 -> 0 | G15: ='17'!G15-'19b mell'!G15-'19c mell'!G15 -> 0 | H15: ='17'!H15-'19b mell'!H15-'19c mell'!H15 -> 0 | I15: ='17'!I15-'19b mell'!I15-'19c mell'!I15 -> 0
A16: 09 | B16: Működési célú garancia- és kezességvállalásból származó megtérülések államháztartáson belülről | C16: B13 | D16: ='17'!D16-'19b mell'!D16-'19c mell'!D16 -> 0 | E16: ='17'!E16-'19b mell'!E16-'19c mell'!E16 -> 0 | F16: ='17'!F16-'19b mell'!F16-'19c mell'!F16 -> 0 | G16: ='17'!G16-'19b mell'!G16-'19c mell'!G16 -> 0 | H16: ='17'!H16-'19b mell'!H16-'19c mell'!H16 -> 0 | I16: ='17'!I16-'19b mell'!I16-'19c mell'!I16 -> 0
A17: 10 | B17: Működési célú visszatérítendő támogatások, kölcsönök visszatérülése államháztartáson belülről | C17: B14 | D17: ='17'!D17-'19b mell'!D17-'19c mell'!D17 -> 0 | E17: ='17'!E17-'19b mell'!E17-'19c mell'!E17 -> 0 | F17: ='17'!F17-'19b mell'!F17-'19c mell'!F17 -> 0 | G17: ='17'!G17-'19b mell'!G17-'19c mell'!G17 -> 0 | H17: ='17'!H17-'19b mell'!H17-'19c mell'!H17 -> 0 | I17: ='17'!I17-'19b mell'!I17-'19c mell'!I17 -> 0
A18: 11 | B18: Működési célú visszatérítendő támogatások, kölcsönök igénybevétele államháztartáson belülről | C18: B15 | D18: ='17'!D18-'19b mell'!D18-'19c mell'!D18 -> 0 | E18: ='17'!E18-'19b mell'!E18-'19c mell'!E18 -> 0 | F18: ='17'!F18-'19b mell'!F18-'19c mell'!F18 -> 0 | G18: ='17'!G18-'19b mell'!G18-'19c mell'!G18 -> 0 | H18: ='17'!H18-'19b mell'!H18-'19c mell'!H18 -> 0 | I18: ='17'!I18-'19b mell'!I18-'19c mell'!I18 -> 0
A19: 12 | B19: Egyéb működési célú támogatások bevételei államháztartáson belülről | C19: B16 | D19: ='17'!D19-'19b mell'!D19-'19c mell'!D19 -> 84003 | E19: ='17'!E19-'19b mell'!E19-'19c mell'!E19 -> 20603 | F19: ='17'!F19-'19b mell'!F19-'19c mell'!F19 -> 0 | G19: ='17'!G19-'19b mell'!G19-'19c mell'!G19 -> 62306 | H19: ='17'!H19-'19b mell'!H19-'19c mell'!H19 -> 1094 | I19: ='17'!I19-'19b mell'!I19-'19c mell'!I19 -> 0
B20: - ebből központi költségvetési szervek | C20: B161 | D20: ='17'!D20-'19b mell'!D20-'19c mell'!D20 -> 0 | E20: ='17'!E20-'19b mell'!E20-'19c mell'!E20 -> 0 | F20: ='17'!F20-'19b mell'!F20-'19c mell'!F20 -> 0 | G20: ='17'!G20-'19b mell'!G20-'19c mell'!G20 -> 0 | H20: ='17'!H20-'19b mell'!H20-'19c mell'!H20 -> 0 | I20: ='17'!I20-'19b mell'!I20-'19c mell'!I20 -> 0
B21: - ebből Társadalombiztosítási Alapok | C21: B162 | D21: ='17'!D21-'19b mell'!D21-'19c mell'!D21 -> 13002 | E21: ='17'!E21-'19b mell'!E21-'19c mell'!E21 -> 13002 | F21: ='17'!F21-'19b mell'!F21-'19c mell'!F21 -> 0 | G21: ='17'!G21-'19b mell'!G21-'19c mell'!G21 -> 0 | H21: ='17'!H21-'19b mell'!H21-'19c mell'!H21 -> 0 | I21: ='17'!I21-'19b mell'!I21-'19c mell'!I21 -> 0
B22: - ebből elkülönített állami alapok | C22: B163 | D22: ='17'!D22-'19b mell'!D22-'19c mell'!D22 -> 63400 | E22: ='17'!E22-'19b mell'!E22-'19c mell'!E22 -> 0 | F22: ='17'!F22-'19b mell'!F22-'19c mell'!F22 -> 0 | G22: ='17'!G22-'19b mell'!G22-'19c mell'!G22 -> 62306 | H22: ='17'!H22-'19b mell'!H22-'19c mell'!H22 -> 1094 | I22: ='17'!I22-'19b mell'!I22-'19c mell'!I22 -> 0
B23: - ebből helyi önkormányzatok és költségvetési szerveik | C23: B164 | D23: ='17'!D23-'19b mell'!D23-'19c mell'!D23 -> 0 | E23: ='17'!E23-'19b mell'!E23-'19c mell'!E23 -> 0 | F23: ='17'!F23-'19b mell'!F23-'19c mell'!F23 -> 0 | G23: ='17'!G23-'19b mell'!G23-'19c mell'!G23 -> 0 | H23: ='17'!H23-'19b mell'!H23-'19c mell'!H23 -> 0 | I23: ='17'!I23-'19b mell'!I23-'19c mell'!I23 -> 0
B24: - ebből társulások és költségvetési szerveik | C24: B165 | D24: ='17'!D24-'19b mell'!D24-'19c mell'!D24 -> 0 | E24: ='17'!E24-'19b mell'!E24-'19c mell'!E24 -> 0 | F24: ='17'!F24-'19b mell'!F24-'19c mell'!F24 -> 0 | G24: ='17'!G24-'19b mell'!G24-'19c mell'!G24 -> 0 | H24: ='17'!H24-'19b mell'!H24-'19c mell'!H24 -> 0 | I24: ='17'!I24-'19b mell'!I24-'19c mell'!I24 -> 0
B25: - ebből nemzetiségi önkormányzatok és költségvetési szerveik | C25: B166 | D25: ='17'!D25-'19b mell'!D25-'19c mell'!D25 -> 0 | E25: ='17'!E25-'19b mell'!E25-'19c mell'!E25 -> 0 | F25: ='17'!F25-'19b mell'!F25-'19c mell'!F25 -> 0 | G25: ='17'!G25-'19b mell'!G25-'19c mell'!G25 -> 0 | H25: ='17'!H25-'19b mell'!H25-'19c mell'!H25 -> 0 | I25: ='17'!I25-'19b mell'!I25-'19c mell'!I25 -> 0
