Workbook

Sheet 1
A1: Berhida Város Önkormányzata | G1: 1. melléklet a 4/2021.(II.25.) rendelethez
A2: állami támogatások részletezése | G2: 1/a. melléklet a 2/2020.(II.28.) rendelethez
C3: 2019 | H3: 2020
B4: IPA alap | E4: 9578698183 | G4: IPA alap | J4: 8739937119
B5: elvonás | C5: 0,55 %-nak | E5: =E4*0.0055 -> 52682840 | G5: elvonás | J5: =J4*0.0055 -> 48069654
A6: 2020. évi költségvetés | C6: =E6/E5 -> 0.52116317 | E6: 27456356 | H6: =J6/J5 -> 0.31538727 | J6: 15160557
B7: 1 lakosra jutó adóerőképesség | E7: =E4*0.014/C8 -> 22455.086 | G7: 1 lakosra jutó adóerőképesség | J7: =J4*0.014/H8 -> 20679.25
C8: 5972 | D8: fő | E8: beszámítás | F8: 2019 tényl | H8: 5917 | I8: fő | J8: beszámítás | K8: 2020 tényl
C9: Forint | F9: Módosított összesen | H9: Forint | K9: Módosított összesen | L9: Intézményi összesen | M9: Önkorm | N9: TESZ | O9: Hivatal | P9: Kultúrház | Q9: Családs Berh | R9: Családs Vi | S9: Süni | T9: Hétszínvirág | U9: Vi Óvoda
A10: Önkormányzatok működési támogatásai | D10: =D11+D22+D32+D51+D56+D59 -> 4.1380947e+08 | E10: =E11+E22+E32+E51+E56+E59 -> -27456356 | F10: =F11+F22+F32+F51+F56+F59 -> 3.8635312e+08 | I10: =I11+I22+I32+I51+I56+I59 -> 466193162 | J10: =J11+J22+J32+J51+J56+J59 -> -15160557 | K10: =K11+K22+K32+K51+K56+K59 -> 451032605 | L10: =SUM(M10:U10) -> 451032605 | M10: =M11+M22+M32+M51+M56+M59 -> 12353343 | N10: =N11+N22+N32+N51+N56+N59 -> 31353111 | O10: =O11+O22+O32+O51+O56+O59 -> 126814393 | P10: =P11+P22+P32+P51+P56+P59 -> 11658156 | Q10: =Q11+Q22+Q32+Q51+Q56+Q59 -> 40953006 | R10: =R11+R22+R32+R51+R56+R59 -> 1875040 | S10: =S11+S22+S32+S51+S56+S59 -> 1.1355633e+08 | T10: =T11+T22+T32+T51+T56+T59 -> 93065879 | U10: =U11+U22+U32+U51+U56+U59 -> 19403346 | V10: =SUM(M10:U10) -> 451032605
A11: 1.)Helyi önkormányzatok működésének általános támogatása | D11: =SUM(D12:D21) -> 149262079 | E11: =SUM(E12:E21) -> -27456356 | F11: =SUM(F12:F21) -> 1.2180572e+08 | I11: =SUM(I12:I21) -> 175795783 | J11: =SUM(J12:J21) -> -15160557 | K11: =SUM(K12:K21) -> 160635226 | L11: =SUM(M11:U11) -> 160635226 | M11: =SUM(M12:M21) -> 2353343 | N11: =SUM(N12:N21) -> 31353111 | O11: =SUM(O12:O21) -> 126814393 | P11: =SUM(P12:P21) -> 0 | Q11: =SUM(Q12:Q21) -> 91587 | R11: =SUM(R12:R21) -> 0 | S11: =SUM(S12:S21) -> 0 | T11: =SUM(T12:T21) -> 22792 | U11: =SUM(U12:U21) -> 0
A12: Önkormányzati hivatal működésének támogatása | B12: 4580000 | C12: 22.17 | D12: =B12*C12 -> 1.015386e+08 | F12: =D12+E12 -> 1.015386e+08 | G12: 5450000 | H12: 22.1 | I12: 126235332 | K12: 126235332 | L12: =SUM(M12:U12) -> 126235332 | O12: =K12 -> 126235332
A13: kieg. Min bér tám | I13: 579061 | K13: 579061 | L13: =SUM(M13:U13) -> 579061 | O13: 579061
A14: Település üzemeltetés: zöldterület-gazdálkodás | B14: 22300 | C14: 402 | D14: 8984670 | E14: =-D14 -> -8984670 | F14: =D14+E14 -> 0 | G14: 25200 | H14: 403.9 | I14: =G14*H14 -> 10178280 | K14: =I14+J14 -> 10178280 | L14: =SUM(M14:U14) -> 10178280 | N14: =K14 -> 10178280
A15: közvilágítás fenntartása | B15: 320000 | C15: 46.5 | D15: 9888000 | E15: -2140736 | F15: =D15+E15 -> 7747264 | G15: 320000 | I15: 10048000 | K15: =I15+J15 -> 10048000 | L15: =SUM(M15:U15) -> 10048000 | N15: =K15 -> 10048000
A16: köztemető fenntartással kapcs fel | B16: 69 | C16: 53051 | D16: =B16*C16 -> 3660519 | F16: =D16+E16 -> 3660519 | G16: 69 | H16: 53051 | I16: =G16*H16 -> 3660519 | K16: =I16+J16 -> 3660519 | L16: =SUM(M16:U16) -> 3660519 | N16: =K16 -> 3660519
A17: közutak fenntartásának támog | B17: 227000 | C17: 31.62 | D17: =B17*C17 -> 7177740 | F17: =D17+E17 -> 7177740 | G17: 227000 | H17: 31.78 | I17: =G17*H17 -> 7214060 | K17: =I17+J17 -> 7214060 | L17: =SUM(M17:U17) -> 7214060 | N17: =K17 -> 7214060
A18: Egyéb kötelező önkormányzati feladatok | B18: 2700 | C18: 5972 | D18: =B18*C18 -> 16124400 | E18: =-D18 -> -16124400 | F18: =D18+E18 -> 0 | G18: 2700 | H18: 5917 | I18: =G18*H18 -> 15975900 | J18: -15160557 | K18: =I18+J18 -> 815343 | L18: =SUM(M18:U18) -> 815343 | M18: 815343
A19: Lakott külterülettel kapcs feladatok | B19: 2550 | C19: 81 | D19: =B19*C19 -> 206550 | E19: =-D19 -> -206550 | F19: =D19+E19 -> 0 | G19: 2550 | H19: 78 | I19: =G19*H19 -> 198900 | K19: =I19+J19 -> 198900 | L19: =SUM(M19:U19) -> 198900 | N19: =K19 -> 198900
A20: bérkompenzáció | I20: 167731 | K20: =I20+J20 -> 167731 | L20: =SUM(M20:U20) -> 167731 | N20: 53352 | Q20: 91587 | T20: 22792
A21: Polgármesterek illetményének támogatása | D21: 1681600 | F21: =D21+E21 -> 1681600 | I21: 1538000 | K21: =I21+J21 -> 1538000 | L21: =SUM(M21:U21) -> 1538000 | M21: =K21 -> 1538000
A22: 2.)Települési önkorm. Egyes köznevelési feladatainak támoga | D22: =SUM(D23:D31) -> 1.4663217e+08 | E22: =SUM(E23:E31) -> 0 | F22: =SUM(F23:F31) -> 1.4663217e+08 | I22: =SUM(I23:I31) -> 156027310 | J22: =SUM(J23:J31) -> 0 | K22: =SUM(K23:K31) -> 156027310 | L22: =SUM(M22:U22) -> 156027310 | M22: =SUM(M23:M31) -> 0 | N22: =SUM(N23:N31) -> 0 | O22: =SUM(O23:O31) -> 0 | P22: =SUM(P23:P31) -> 0 | Q22: =SUM(Q23:Q31) -> 0 | R22: =SUM(R23:R31) -> 0 | S22: =SUM(S23:S31) -> 85385700 | T22: =SUM(T23:T31) -> 55074410 | U22: =SUM(U23:U31) -> 15567200
A23: óvodapedagógusok bértámogatása 8 hó (2020 éves) | B23: 4371500 | C23: 20.7 | D23: =B23*C23*8/12 -> 60326700 | F23: =D23+E23 -> 60326700 | G23: 4371500 | H23: 20.2 | I23: =G23*H23 -> 88304300 | K23: =I23+J23 -> 88304300 | L23: =SUM(M23:U23) -> 88304300 | S23: =$G$23*10.5 -> 45900750 | T23: =$G$23*7.5 -> 32786250 | U23: =$G$23*2.2 -> 9617300
A24: óvodaped munkáját közvetlenül segítők bértámogatása 8 hó (2020 éves) | B24: 2205000 | C24: 14 | D24: =B24*C24/12*8 -> 20580000 | F24: =D24+E24 -> 20580000 | G24: 2400000 | H24: 13.5 | I24: =G24*H24 -> 32400000 | K24: =I24+J24 -> 32400000 | L24: =SUM(M24:U24) -> 32400000 | S24: =$G$24*9 -> 21600000 | T24: 8400000 | U24: =$G$24*1 -> 2400000
A25: óvodapedagógusok bértámogatása 4 hó | B25: 4371500 | C25: 20.6 | D25: =B25*C25*4/12 -> 30017633 | F25: =D25+E25 -> 30017633 | G25: 4371500 | I25: =G25*H25*4/12 -> 0 | K25: =I25+J25 -> 0 | L25: =SUM(M25:U25) -> 0
A26: óvodaped munkáját közvetlenül segítők bértámogatása 4 hó | B26: 2205000 | C26: 14 | D26: =B26*C26/12*4 -> 10290000 | F26: =D26+E26 -> 10290000 | G26: 2205000 | I26: =G26*H26/12*4 -> 0 | K26: =I26+J26 -> 0 | L26: =SUM(M26:U26) -> 0
A27: Óvoda működtetési támogatás 8 hó | B27: 97400 | C27: 222 | D27: =B27*C27*8/12 -> 14415200 | F27: =D27+E27 -> 14415200 | G27: 97400 | H27: 217 | I27: =G27*H27 -> 21135800 | K27: =I27+J27 -> 21135800 | L27: =SUM(M27:U27) -> 21135800 | S27: 12301620 | T27: 6593980 | U27: =$G$27*23 -> 2240200
A28: Óvoda működtetési támogatás 4 hó | B28: 97400 | C28: 221 | D28: 7175133 | F28: =D28+E28 -> 7175133 | G28: 97400 | K28: =I28+J28 -> 0 | L28: =SUM(M28:U28) -> 0
A29: Kieg tám. Óv pedag minősítéséhez II. kategóriába sorolt | B29: 396700 | C29: 6 | D29: =B29*C29 -> 2380200 | F29: =D29+E29 -> 2380200 | G29: 396700 | H29: 4.3 | I29: =G29*H29 -> 1705810 | K29: =I29+J29 -> 1705810 | L29: =SUM(M29:U29) -> 1705810 | S29: 555380 | T29: 753730 | U29: 396700
A30: kieg. Min bér tám | I30: 11034100 | K30: =I30+J30 -> 11034100 | L30: =SUM(M30:U30) -> 11034100 | S30: 5027950 | T30: 5093150 | U30: 913000
A31: Mesterped kategóriába sorolt | B31: 1447300 | C31: 1 | D31: =B31*C31 -> 1447300 | F31: =D31+E31 -> 1447300 | G31: 1447300 | H31: 1 | I31: =G31*H31 -> 1447300 | K31: =I31+J31 -> 1447300 | L31: =SUM(M31:U31) -> 1447300 | T31: 1447300
A32: 3.) Tel önk szociális, gyermekjóléti és gyermekétk fel tám | D32: =SUM(D34:D50) -> 110689107 | E32: =SUM(E34:E50) -> 0 | F32: =SUM(F34:F50) -> 110689107 | I32: =SUM(I34:I50) -> 122711913 | J32: =SUM(J34:J50) -> 0 | K32: =SUM(K34:K50) -> 122711913 | L32: =SUM(M32:U32) -> 122711913 | M32: =SUM(M34:M50) -> 10000000 | N32: =SUM(N34:N50) -> 0 | O32: =SUM(O34:O50) -> 0 | P32: =SUM(P34:P50) -> 0 | Q32: =SUM(Q34:Q50) -> 40861419 | R32: =SUM(R34:R50) -> 1875040 | S32: =SUM(S34:S50) -> 28170631 | T32: =SUM(T34:T50) -> 37968677 | U32: =SUM(U34:U50) -> 3836146.1
L33: =SUM(M33:U33) -> 0
A34: gyermekétkeztetés szempontjából elismert dolgozók bértámog | B34: 1900000 | C34: 11.18 | D34: =B34*C34 -> 21242000 | F34: =D34+E34 -> 21242000 | G34: 2200000 | H34: 9.62 | I34: =G34*H34 -> 21164000 | K34: =I34+J34 -> 21164000 | L34: =SUM(M34:U34) -> 21164000 | S34: =K34*0.49 -> 10370360 | T34: =K34*0.44 -> 9312160 | U34: =K34*0.07 -> 1481480
A35: gyermekétkeztetés üzemeltetési támogatása | D35: 37497698 | F35: =D35+E35 -> 37497698 | I35: 32106658 | K35: =I35+J35 -> 32106658 | L35: =SUM(M35:U35) -> 32106658 | S35: =K35*0.49 -> 15732262 | T35: =K35*0.44 -> 14126930 | U35: =K35*0.07 -> 2247466.1
A36: kieg. Min bér tám | I36: 1707200 | K36: =I36+J36 -> 1707200 | L36: =SUM(M36:U36) -> 1707200 | S36: 800000 | T36: 800000 | U36: 107200
A37: szünidei gyermekétkeztetés | B37: 513 | C37: 6592 | D37: =B37*C37 -> 3381696 | F37: =D37+E37 -> 3381696 | G37: 542 | H37: 2788 | I37: =G37*H37 -> 1511096 | K37: =I37+J37 -> 1511096 | L37: =SUM(M37:U37) -> 1511096 | S37: =K37-T37 -> 1268009 | T37: 243087
A38: Hozzájárulás pénzbeli szociális ellátásokhoz | D38: 28785793 | F38: =D38+E38 -> 28785793 | I38: 34834144 | K38: =I38+J38 -> 34834144 | L38: =SUM(M38:U38) -> 34834144 | M38: 10000000 | Q38: 24834144
A39: Bölcsődei ellátás bértámogatás középfokú kisgyermeknevelők stb. | B39: 2993000 | C39: 3 | D39: =B39*C39 -> 8979000 | F39: =D39+E39 -> 8979000 | G39: 2993000 | H39: 2 | I39: =G39*H39 -> 5986000 | K39: =I39+J39 -> 5986000 | L39: =SUM(M39:U39) -> 5986000 | T39: =K39 -> 5986000
A40: Bölcsődei ellátás bértámogatás felsőfokú kisgyermeknevelők stb. | G40: 4419000 | H40: 1 | I40: =G40*H40 -> 4419000 | K40: =I40+J40 -> 4419000 | L40: =SUM(M40:U40) -> 4419000 | T40: =K40 -> 4419000
...

Sheet 2
B1: Berhida Város Önkormányzata | F1: 2. melléklet a 4/2021.(II.25.) rendelethez
B2: 2020. évi költségvetés | F2: 1/b. melléklet a 2/2020.(II.28.) rendelethez
F3: Ft-ban
C4: BEVÉTELEK
A5: Sor- szám | B5: Rovat megnevezése | C5: Módosított előirányzat összesen | D5: Önkormányzat | E5: Közös Hivatal | F5: TESZ | G5: Kultúrház | H5: Süni
A6: 1 | B6: Helyi önkormányzatok működésének általános támogatása (B1111) | C6: =SUM(D6:H6) -> 160635226 | D6: 160635226
A7: 2 | B7: Települési önkormányzatok egyes köznevelési feladatainak támogatása (B112) | C7: =SUM(D7:H7) -> 156027310 | D7: 156027310
A8: 3 | B8: Települési önkormányzatok szociális, gyermekjóléti feladatainak támogatása (B1131) | C8: =SUM(D8:H8) -> 66222959 | D8: 66222959
A9: 4 | B9: Tel.önkormányzat gyermekétkeztetési fel.tám( B 1132) | D9: 56488954
A10: 5 | B10: Települési önkormányzatok kulturális feladatainak támogatása (B114) | C10: =SUM(D10:H10) -> 11658156 | D10: 11658156
A11: 6 | B11: Működési célú költségvetési támogatások és kiegészítő támogatások (B115) | C11: =SUM(D11:H11) -> 0
A12: 7 | B12: Elszámolásból származó bevételek (B116) | C12: =SUM(D12:H12) -> 174078 | D12: 174078
A13: 8 | B13: Önkormányzatok működési támogatásai (B11) | C13: =SUM(D13:H13) -> 451206683 | D13: =SUM(D6:D12) -> 451206683 | E13: =SUM(E6:E12) -> 0 | F13: =SUM(F6:F12) -> 0 | G13: =SUM(G6:G12) -> 0 | H13: =SUM(H6:H12) -> 0
A14: 9 | B14: Elvonások és befizetések bevételei B12 | C14: =SUM(D14:H14) -> 0
A15: 10 | B15: Egyéb működési célú támogatások bevételei államháztartáson belülről (B16) | C15: =SUM(D15:H15) -> 243327003 | D15: =SUM(D16:D20) -> 204326231 | E15: =SUM(E16:E20) -> 0 | F15: =SUM(F16:F20) -> 39000772 | G15: =SUM(G16:G20) -> 0 | H15: =SUM(H16:H20) -> 0
A16: 11 | B16: ebből: egyéb központi kezelésű előirányzatok (B1612 | C16: =SUM(D16:H16) -> 16513398 | D16: 16513398
A17: 12 | B17: ebből: fejezeti kezelésű EU B16 | C17: =SUM(D17:H17) -> 150463717 | D17: 150463717
A18: 13 | B18: ebből: társadalombiztosítás pénzügyi alapjai (B1614 | C18: =SUM(D18:H18) -> 36688900 | D18: 36688900
A19: 14 | B19: ebből: elkülönített állami pénzal (B1615 | C19: =SUM(D19:H19) -> 39000772 | F19: 39000772
A20: 15 | B20: ebből: önkormányzat és kv-i szerveik (B 1616 | C20: =SUM(D20:H20) -> 660216 | D20: 660216
A21: 16 | B21: Működési célú támogatások államháztartáson belülről (B1) | C21: =SUM(D21:H21) -> 694533686 | D21: =D13+D15 -> 655532914 | E21: =E13+E15 -> 0 | F21: =F13+F15 -> 39000772 | G21: =G13+G15 -> 0 | H21: =H13+H15 -> 0
A22: 17 | B22: Felhalmozási célú önkormányzati támogatások (B21) | C22: =SUM(D22:H22) -> 606000 | D22: =D23 -> 606000 | E22: =E23 -> 0 | F22: =F23 -> 0 | G22: =G23 -> 0 | H22: =H23 -> 0
A23: 18 | B23: ebből: egyéb központi felhalmozási c tám B 2119 | C23: =SUM(D23:H23) -> 606000 | D23: 606000
A24: 19 | B24: Egyéb felhalmozási célú tám áht belülről B 25 | C24: =SUM(D24:H24) -> 604046307 | D24: =SUM(D25:D28) -> 604046307 | E24: =SUM(E25:E28) -> 0 | F24: =SUM(F25:F28) -> 0 | G24: =SUM(G25:G28) -> 0 | H24: =SUM(H25:H28) -> 0
A25: 20 | B25: ebből egyéb központi fc tám (B2512 | C25: =SUM(D25:H25) -> 81350056 | D25: 81350056
A26: 21 | B26: ebből: egyéb fejezeti kez EU fc (B25 | C26: =SUM(D26:H26) -> 522696251 | D26: 522696251
A27: 22 | B27: ebből: elkülönített állami pénzal fc (B2515 | C27: =SUM(D27:H27) -> 0
A28: 23 | B28: ebből: önkorm és kv-i szervek fc tám (B2516 | C28: =SUM(D28:H28) -> 0
A29: 24 | B29: Felhalmozási célú támogatások államháztartáson belülről (B2) | C29: =SUM(D29:H29) -> 604652307 | D29: =D22+D24 -> 604652307 | E29: =E22+E24 -> 0 | F29: =F22+F24 -> 0 | G29: =G22+G24 -> 0 | H29: =H22+H24 -> 0
A30: 25 | B30: Vagyoni tipusú adók (B34) | C30: =SUM(D30:H30) -> 110500000 | D30: =SUM(D31:D32) -> 110500000 | E30: =SUM(E31:E32) -> 0 | F30: =SUM(F31:F32) -> 0 | G30: =SUM(G31:G32) -> 0 | H30: =SUM(H31:H32) -> 0
A31: 26 | B31: ebből: építményadó (B34111) | C31: =SUM(D31:H31) -> 110500000 | D31: 110500000
A32: 27 | B32: ebből: magánszemélyek kommunális adója (B34114) | C32: =SUM(D32:H32) -> 0
A33: 28 | B33: Értékesítési és forgalmi adók iparűzési adó (B351121) | C33: =SUM(D33:H33) -> 264780000 | D33: 264780000
A34: 29 | B34: Gépjárműadó (B3541) | C34: =SUM(D34:H34) -> 0
A35: 30 | B35: Egyéb áruhasználati és szolgáltatási adók (B355) | C35: =SUM(D35:H35) -> 46610 | D35: 46610
A36: 31 | B36: Termékek és szolgáltatások adói (B35) | C36: =SUM(D36:H36) -> 264826610 | D36: =SUM(D33:D35) -> 264826610 | E36: =SUM(E33:E35) -> 0 | F36: =SUM(F33:F35) -> 0 | G36: =SUM(G33:G35) -> 0 | H36: =SUM(H33:H35) -> 0
A37: 32 | B37: Egyéb közhatalmi bevételek (B36) | C37: =SUM(D37:H37) -> 400000 | D37: 400000 | E37: =SUM(E38:E39) -> 0 | F37: =SUM(F38:F39) -> 0 | G37: =SUM(G38:G39) -> 0 | H37: =SUM(H38:H39) -> 0
A38: 33 | B38: ebből: szabálysértési pénz- és helyszíni bírság és a közlekedési szabályszegések után kiszabott közigazgatási bírság helyi önkormányzatot megillető része (B361225 köv) | C38: =SUM(D38:H38) -> 50000 | D38: 50000
A39: 34 | B39: ebből: egyéb bírság (B361229 köv) | C39: =SUM(D39:H39) -> 350000 | D39: 350000
A40: 35 | B40: Közhatalmi bevételek (B3) | C40: =SUM(D40:H40) -> 375726610 | D40: =D30+D36+D37 -> 375726610 | E40: =E30+E36+E37 -> 0 | F40: =F30+F36+F37 -> 0 | G40: =G30+G36+G37 -> 0 | H40: =H30+H36+H37 -> 0
...

Sheet 3
B1: Berhida Város Önkormányzata | C1: 3. melléklet a 4/2021.(II.25.) rendelethez
B2: 2020. évi költségvetés | C2: 2/b. melléklet a 2/2020.(II.28.) rendelethez
B3: Kiadások | C3: adatok Ft-ban
A5: Beruházások | C5: Eredeti előir | D5: Mód előir | E5: változás | F5: Mód javasl
A6: 1 | B6: TESZ imm. Javak és informatikai eszközök+áfa | C6: 190500 | D6: 190500 | F6: =D6+E6 -> 190500
A7: 2 | B7: TESZ egyéb gép- berendezés+áfa | C7: 4610100 | D7: 8834217 | F7: =D7+E7 -> 8834217
A8: 3 | B8: Kultúrház imm. javak és informatikai eszközök beszerzése | C8: 190500 | D8: 190500 | F8: =D8+E8 -> 190500
A9: 4 | B9: Kultúrház egyéb gép, berend beszerzés, könyv | C9: 3005818 | D9: 4562818 | F9: =D9+E9 -> 4562818
A10: 5 | B10: Süni imm.jav és informatika tárgyi eszköz + áfa | C10: 203200 | D10: 553200 | F10: =D10+E10 -> 553200
A11: 6 | B11: Süni egyéb tárgyi eszköz + áfa | C11: 717550 | D11: 963415 | F11: =D11+E11 -> 963415
A12: 7 | B12: ÖH imm. Javak és informatikai eszközök + áfa | C12: 1651000 | D12: 2351000 | F12: =D12+E12 -> 2351000
A13: 8 | B13: ÖH egyéb gép, berend + áfa | C13: 4445000 | D13: 7095000 | F13: =D13+E13 -> 7095000
A14: 9 | B14: ÖNK védőnői szolg. Egyéb eszközbeszerzés | C14: 508000 | D14: 608000 | F14: =D14+E14 -> 608000
A15: 10 | B15: ÖNK kerékpárút kialakítás TOP 3.1.1-16 pályázat KM | C15: 230266627 | D15: 239642601 | F15: =D15+E15 -> 239642601
A16: 11 | B16: ÖNK szennyvíz tisztítótelep, csatornahál fejl. KEHOP pályázat bev | C16: 492974394 | D16: 492974394 | F16: =D16+E16 -> 492974394
A17: 12 | B17: ÖNK bölcsőde kialakítás TOP pályázat bev | C17: 212847140 | D17: 212847140 | F17: =D17+E17 -> 212847140
... A35: 30 | B35: ÖNK Lakat János tér kialakítása | C35: 9000000 | D35: 15000000 | F35: =D35+E35 -> 15000000
A36: 31 | B36: ÖNK Hunyadi tér 950/10 hrsz ivókút vízellátása ( vízbekötővezeték, szakipari szerelés stb) | D36: 587617 | F36: =D36+E36 -> 587617
A37: 32 | B37: ÖNK Peremarton 1765/41 ivókút vízellátása (vízbekötővezeték, vízmérő kial stb) | D37: 1364857 | F37: =D37+E37 -> 1364857
A38: 33 | B38: ÖNK Ledes világító információs tábla, egyéb COVID 19 eszköz | D38: 929209 | F38: =D38+E38 -> 929209
A39: 34 | B39: TESZ permetezőgép vásárlás (fertőző betegség feladatra) | D39: 170000 | F39: =D39+E39 -> 170000
A40: 35 | B40: ÖNK Fenyős sor 1528 hrsz-ú összekötő útszakasz makadámút ép | D40: 7302500 | F40: =D40+E40 -> 7302500
A41: 36 | B41: ÖNK gyógyszertár padlásfeljáró elhelyezés | D41: 100000 | F41: =D41+E41 -> 100000
A42: 37 | B42: ÖNK légkondícionáló berendezés kiép. TESZ, Családsegítő Sz., házasságkötő terem | D42: 4245000 | F42: =D42+E42 -> 4245000
A43: 38 | B43: ÖNK Kistó kerítés építés | D43: 1700000 | F43: =D43+E43 -> 1700000
A44: 39 | B44: ÖNKVeszprémi út kerékpárút összekötő szakasz kial. | D44: 0 | F44: =D44+E44 -> 0
A45: 40 | B45: ÖNK Veszprémi úti buszmegálló beszerzés, térburkolat, kerékpár tároló | D45: 5445110 | F45: =D45+E45 -> 5445110
A46: 41 | B46: ÖNK Szabadság tér Takarék és a boltok előtti parkoló és járda ép. | D46: 8500000 | F46: =D46+E46 -> 8500000
A47: 42 | B47: ÖNK Péti úti ravatalozó akadálymentes feljáró kiépítés | D47: 1000000 | F47: =D47+E47 -> 1000000
... A54: 50 | B54: ÖNK rendőrség épületébe eszközbeszerzés | D54: 843298 | F54: =D54+E54 -> 843298
A55: 51 | B55: Művelődési Ház szakkörök kisértékű te + áfa | D55: 654210 | E55: -168970 | F55: =D55+E55 -> 485240
A56: 52 | B56: TESZ traktorvásárlás | D56: 3683000 | F56: =D56+E56 -> 3683000
A57: 53 | B57: ÖNK védőnői szolg és gyermekorvosi rendelők előtető | D57: 1810064 | E57: 5840 | F57: =D57+E57 -> 1815904
A58: 54 | B58: ÖNK II. orvosi rendelő eszközbeszerzés | D58: 2000000 | F58: =D58+E58 -> 2000000
A59: 55 | B59: ÖNK Berhida, Tulipán út 8. és Tulipán út 13.-15.-17. számú lakóépületek régi és új szennyvízelvezetés, továbbá a Berhida, Szegfű út 8-14. számú lakóépületek szennyvízbekötéseinek kivitelezése | D59: 2985027 | F59: =D59+E59 -> 2985027
A60: 56 | B60: Művelődési Ház szakkörök informatikai eszközök + áfa | E60: 168970 | F60: =D60+E60 -> 168970
A61: 57 | F61: =D61+E61 -> 0
A62: 58 | B62: Összesen | C62: =SUM(C6:C61) -> 1040431387 | D62: =SUM(D6:D61) -> 1119399230 | E62: =SUM(E6:E61) -> 5840 | F62: =SUM(F6:F61) -> 1119405070

Sheet 4
B1: Berhida Város Önkormányzata | E1: 6. melléklet a 4/2021.(II.25.) rendelethez
B2: 2020. évi költségvetés | E2: 2/d. melléklet a 2/2020.(II.28.) rendelethez
C3: KIADÁSOK | E3: Ft-ban
A5: Sor- szám | B5: Rovat megnevezése | C5: Módosított előirányzat összesen | D5: Önkormányzat | E5: Közös Hivatal | F5: TESZ | G5: Kultúrház | H5: Süni
A6: 27 | B6: Személyi juttatások (K1) | C6: =SUM(D6:H6) -> 441821244 | D6: 53111896 | E6: 160189004 | F6: 100512900 | G6: 31922749 | H6: 96084695
A7: 28 | B7: Munkaadókat terhelő járulékok és szociális hozzájárulási adó (K2) | C7: =SUM(D7:H7) -> 77957561 | D7: 10485958 | E7: 31250154 | F7: 13822409 | G7: 5579413 | H7: 16819627
A8: 87 | B8: Dologi kiadások (K3) | C8: =SUM(D8:H8) -> 536060407 | D8: 329833982 | E8: 39090986 | F8: 85528894 | G8: 36298804 | H8: 45307741
A9: 88 | B9: Családi támogatások (K42) | C9: =SUM(D9:H9) -> 0 | D9: =D10 -> 0 | E9: =E10 -> 0 | F9: =F10 -> 0 | G9: =G10 -> 0 | H9: =H10 -> 0
A10: 89 | B10: ebből: az egyéb pénzbeli és természetbeni gyermekvédelmi támogatások (K42132) | C10: =SUM(D10:H10) -> 0
A11: 90 | B11: Intézményi ellátottak pénzbeli juttatásai (K47) | C11: =SUM(D11:H11) -> 800000 | D11: =D12 -> 800000 | E11: =E12 -> 0 | F11: =F12 -> 0 | G11: =G12 -> 0 | H11: =H12 -> 0
A12: 91 | B12: ebből: oktatásban résztvevők pénzbeli juttatásai (K471) | C12: =SUM(D12:H12) -> 800000 | D12: 800000
A13: 92 | B13: Egyéb nem intézményi ellátások (K48) | C13: =SUM(D13:H13) -> 8700000 | D13: =SUM(D14:D15) -> 8700000 | E13: =SUM(E14:E15) -> 0 | F13: =SUM(F14:F15) -> 0 | G13: =SUM(G14:G15) -> 0 | H13: =SUM(H14:H15) -> 0
A14: 93 | B14: ebből: köztemetés [Szoctv. 48.§] (K48123) | C14: =SUM(D14:H14) -> 1000000 | D14: 1000000
A15: 94 | B15: ebből: települési támogatás [Szoctv. 45. §], (K48122) | C15: =SUM(D15:H15) -> 7700000 | D15: 7700000
A16: 96 | B16: Ellátottak pénzbeli juttatásai (K4) | C16: =SUM(D16:H16) -> 9500000 | D16: =D9+D11+D13 -> 9500000 | E16: =E9+E11+E13 -> 0 | F16: =F9+F11+F13 -> 0 | G16: =G9+G11+G13 -> 0 | H16: =H9+H11+H13 -> 0
A17: 97 | B17: Elvonások és befizetések (K5023) | C17: =SUM(D17:H17) -> 0
A18: 98 | B18: Egyéb működési célú támogatások államháztartáson belülre (K506) | C18: =SUM(D18:H18) -> 193323884 | D18: =SUM(D19:D22) -> 193323884 | E18: =SUM(E19:E22) -> 0 | F18: =SUM(F19:F22) -> 0 | G18: =SUM(G19:G22) -> 0 | H18: =SUM(H19:H22) -> 0
A19: 99 | B19: ebből: egyéb központi kezelésű előir (K50612) | C19: =SUM(D19:H19) -> 3069398 | D19: 3069398
A20: 100 | B20: ebből: elkülönített állami pénzalap (K50615) | C20: =SUM(D20:H20) -> 0
A21: 101 | B21: ebből: önkormányzatok és költségv-i szerveik K50616) | C21: =SUM(D21:H21) -> 0
A22: 102 | B22: ebből: társulások és költségvetési szerveik (K50617) | C22: =SUM(D22:H22) -> 190254486 | D22: 190254486
A23: 103 | B23: Egyéb működési célú támogatások államháztartáson kívülre (K512) | C23: =SUM(D23:H23) -> 25089148 | D23: 25089148
B24: Egyházi jogi személy egyé műk célú tám( K51216 | C24: =SUM(D24:H24) -> 0
A25: 104 | B25: Tartalékok (K51311) | C25: =SUM(D25:H25) -> 88824556 | D25: 88824556
A26: 105 | B26: Egyéb működési célú kiadások (K5) | C26: =SUM(D26:H26) -> 307237588 | D26: =D17+D18+D23+D24+D25 -> 307237588 | E26: =E17+E18+E23+E24+E25 -> 0 | F26: =F17+F18+F23+F24+F25 -> 0 | G26: =G17+G18+G23+G24+G25 -> 0 | H26: =H17+H18+H23+H24+H25 -> 0
A27: 106 | B27: Immateriális javak beszerzése, lét (K611) | C27: =SUM(D27:H27) -> 440000 | D27: 260000 | G27: 150000 | H27: 30000
A28: 107 | B28: Ingatlanok beszerzése, létesítése (K621) | C28: =SUM(D28:H28) -> 1013706452 | D28: 1013706452
A29: 108 | B29: Informatikai eszközök beszerzése, létesítése (K631) | C29: =SUM(D29:H29) -> 2539818 | E29: 1851181 | F29: 150000 | G29: 133047 | H29: 405590
A30: 109 | B30: Egyéb tárgyi eszközök beszerzése, létesítése (K641) | C30: =SUM(D30:H30) -> 56283775 | D30: 35812517 | E30: 5586614 | F30: 9989934 | G30: 4136116 | H30: 758594
A31: 110 | B31: Beruházási célú előzetesen felszámított általános forgalmi adó (K671) | C31: =SUM(D31:H31) -> 46435025 | D31: 40378241 | E31: 2008205 | F31: 2737783 | G31: 988365 | H31: 322431
A32: 111 | B32: Beruházások (K6) | C32: =SUM(D32:H32) -> 1119405070 | D32: =SUM(D27:D31) -> 1090157210 | E32: =SUM(E27:E31) -> 9446000 | F32: =SUM(F27:F31) -> 12877717 | G32: =SUM(G27:G31) -> 5407528 | H32: =SUM(H27:H31) -> 1516615
A33: 112 | B33: Ingatlanok felújítása (K711) | C33: =SUM(D33:H33) -> 190055068 | D33: 190055068
B34: Informatikai eszközök felújítása (K723) | C34: =SUM(D34:H34) -> 200000 | E34: 200000
A35: 113 | B35: Egyéb tárgyi eszközök felújítása (K731) | C35: =SUM(D35:H35) -> 0
A36: 114 | B36: Felújítási célú előzetesen felszámított általános forgalmi adó (K741) | C36: =SUM(D36:H36) -> 51368870 | D36: 51314870 | E36: 54000
A37: 115 | B37: Felújítások (K7) | C37: =SUM(D37:H37) -> 241623938 | D37: =SUM(D33:D36) -> 241369938 | E37: =SUM(E33:E36) -> 254000 | F37: =SUM(F33:F36) -> 0 | G37: =SUM(G33:G36) -> 0 | H37: =SUM(H33:H36) -> 0
A38: 116 | B38: Egyéb felhalmozási célú támogatások államháztartáson belülre (K84) | C38: =SUM(D38:H38) -> 7516495 | D38: 7516495 | E38: =SUM(E39:E41) -> 0 | F38: =SUM(F39:F41) -> 0 | G38: =SUM(G39:G41) -> 0 | H38: =SUM(H39:H41) -> 0
A39: 119 | B39: Egyéb felhalmozási célú támogatás Áht-n kívülre (K89) | C39: =SUM(D39:H39) -> 9554348 | D39: 9554348
A40: 118 | B40: ebből:önkormányzati többségi tulajdonú nem pénzügyi vállalkozások (K89122) | C40: =SUM(D40:H40) -> 634097 | D40: 634097
A41: 117 | B41: ebből: egyéb civil szervezeteknek | C41: =SUM(D41:H41) -> 7900000 | D41: 7900000
...

Sheet 5
C1: BERHIDA VÁROS ÖNKORMÁNYZATA | G1: 5. melléklet a 4/2021.(II.25.) rendelethez
D2: 2020.évi MÉRLEGTERV | G2: 4. melléklet a 2/2020.(II.28.) rendelethez
C3: a működési és felhalmozási célú bevételi és kiadási előirányzatokról | G3: adatok Ft-ban
B5: A | C5: B | D5: C | E5: D | F5: E | G5: F
A6: 1 | B6: BEVÉTELI TERV | E6: KIADÁSI TERV
A7: 2 | B7: I. | C7: Működési célú bevételi terv | E7: I. | F7: Működési célú kiadási terv
A8: 3 | B8: a.) | C8: Műk c támogatások áht belülről | D8: ='2'!C21 -> 694533686 | E8: a.) | F8: Személyi juttatások | G8: ='4'!C6 -> 441821244
A9: 4 | B9: b.) | C9: Közhatalmi bevételek | D9: ='2'!C40 -> 375726610 | E9: b.) | F9: Munkaadókat t járulékok | G9: ='4'!C7 -> 77957561
A10: 5 | B10: c.) | C10: Működési bevételek | D10: ='2'!C62 -> 42061324 | E10: c.) | F10: Dologi kiadások | G10: ='4'!C8 -> 536060407
A11: 6 | B11: d.) | C11: Működési átvett pénzeszközök | D11: ='2'!C68 -> 1474213 | E11: d.) | F11: Ellátottak pénzbeli jutt | G11: ='4'!C16 -> 9500000
A12: 7 | B12: e.) | E12: e.) | F12: Egyéb műk c kiadások | G12: ='4'!C26 -> 307237588
A13: 8 | B13: f.) | E13: f.)
A14: 9 | E14: g.)
A15: 10
A16: 11 | C16: I. Bevételek: | D16: =SUM(D8:D15) -> 1113795833 | F16: I. Kiadások együtt: | G16: =SUM(G8:G14) -> 1372576800 | H16: =D16-G16 -> -258780967
A17: 12 | F17: Működési célú bevételek: | G17: =D16 -> 1113795833
A18: 13 | F18: Működési egyenleg: | G18: =G16-G17 -> 258780967
A19: 14
A20: 15 | B20: II. | C20: Felhalmozási célú bevételi terv | E20: II. | F20: Felhalmozási célú kiadások:
A21: 16 | B21: 1.) | C21: Felhalmozási c támog. Áht-n bel | D21: ='2'!C29 -> 604652307 | E21: 1.) | F21: Beruházások | G21: ='4'!C32 -> 1119405070
A22: 17 | B22: 2.) | C22: Felhalmozási bevételek | D22: ='2'!C65 -> 9105200 | E22: 2.) | F22: Felújítások | G22: ='4'!C37 -> 241623938
A23: 18 | B23: 3.) | C23: Egyéb felhalmozási c átvett pe | D23: ='2'!C72 -> 1773021 | E23: 3.) | F23: Egyéb felhalm c kiadások | G23: ='4'!C42 -> 17070843
A24: 19 | B24: 4.) | E24: 4.)
A25: 20 | B25: 5.) | E25: 5.)
A26: 21 | B26: 6.)
A27: 22 | B27: 7.)
A28: 23 | B28: 8.)
A29: 24 | C29: II. Bevételek: | D29: =SUM(D21:D28) -> 615530528 | F29: II. Kiadások: | G29: =SUM(G21:G26) -> 1378099851 | H29: =D29-G29 -> -762569323
A30: 25 | F30: Felhalm.célú bevételek: | G30: =D29 -> 615530528
A31: 26 | F31: Felhalm. egyenleg: | G31: =G29-G30 -> 762569323
A32: 27
A33: 28 | C33: Költségv.bevételek összesen (I+II): | D33: =D16+D29 -> 1729326361 | F33: Költségv. kiadások összesen (I+II): | G33: =SUM(G16+G29) -> 2750676651 | H33: =D33-G33 -> -1021350290
C34: iránytószervi támogatás | D34: ='2'!C77 -> 587313940 | F34: iránítószervi támogatás | G34: ='4'!C45 -> 587313940 | H34: =D34+D35+D37-G34-G35 -> 988566065
C35: kv-i mararvány | D35: ='2'!C75 -> 977706022 | F35: Áht megelőleg visszafiz | G35: ='4'!C44 -> 49139957
C36: Áht megelőlegezés | D36: ='2'!C76 -> 32784225
C37: Államkötvény visszaváltás | D37: ='2'!C74 -> 60000000
C38: Finanszírozási bev.összesen | D38: =SUM(D34:D37) -> 1657804187 | E38: =SUM(E34:E37) -> 0 | F38: Finanszírozási kiad..összesen | G38: =SUM(G34:G37) -> 636453897
C39: Össz bevétel | D39: =D33+D38 -> 3387130548 | F39: Össz Kiadás | G39: =G33+G38 -> 3387130548

Sheet 6
C1: Berhida Város Önkormányzata | F1: 6. melléklet a 4/2021.(II.25.) rendelethez
C2: ellátottak pénzbeli juttatásai | F2: 6. melléklet a 2/2020.(II.28.) rendelethez
C3: 2020. évi költségvetés
F4: adatok Ft-ban
B5: A | C5: B | D5: C | E5: D | F5: E | G5: F
B6: Szociális jogcímek | C6: átruházott hatáskört gyakorló | E6: Képvis.test.jogk. | F6: Jegyzői jogk. | G6: Összes
C7: polgármester | D7: Humán Biz. | G7: előirányzat
A8: 1 | B8: Pénzbeli ellátások összesen | C8: =SUM(C9:C19) -> 3100000 | D8: =SUM(D9:D19) -> 5600000 | E8: =SUM(E9:E19) -> 800000 | F8: =SUM(F9:F19) -> 0 | G8: =SUM(G9:G19) -> 9500000
A9: 2 | B9: Települési támogatás
A10: 3 | B10: Nem intézményi ell. Ebből célonként
A11: 4 | B11: Gyermekvéd.támog. | D11: 600000 | G11: =SUM(C11:F11) -> 600000
A12: 5 | B12: Lakhatási támog | D12: 4000000 | G12: 3900000
A13: 6 | B13: Temetési segély | C13: 1500000 | G13: =SUM(C13:F13) -> 1500000
A14: 7 | B14: közgyógy ellátás helyi megáll | C14: 700000 | G14: =SUM(C14:F14) -> 700000
A15: 8 | B15: Átmeneti segély | D15: 1000000 | G15: =SUM(C15:F15) -> 1000000
A16: 9 | B16: Köztemetés | C16: 900000 | G16: 1000000
A17: 10 | B17: Intézményi ell., oktatásban részt vevők | G17: =SUM(C17:F17) -> 0
A18: 11 | B18: Arany János ösztöndíj | E18: 250000 | G18: =SUM(C18:F18) -> 250000
A19: 12 | B19: érettségire jelentkezők regisztrációs díja | E19: 550000 | G19: =SUM(C19:F19) -> 550000
B21: Dologi kiadás | G21: =SUM(G22:G23) -> 3800000
B23: szociális tüzifa juttatás | G23: 3800000
B24: Egyéb központi kezelésű tám
B25: Bursa hungarica felsőoktatási pály tám | G25: 3000000
B27: MMINDÖSSZESEN | G27: =G8+G21+G25 -> 16300000

Sheet 7
B1: Berhida Város Önkormányzata | F1: 7. melléklet a 4/2021.(II.25.) rendelethez
B2: 2020 évi költségvetés | F2: 9/a. melléklet a 2/2020.(II.28.) rendelethez
F3: Ft-ban
B4: KÖTELEZŐ FELADATOK | C4: BEVÉTELEK
A5: Sor- szám | B5: Rovat megnevezése | C5: Eredeti előirányzat összesen | D5: Önkormányzat | E5: Közös Hivatal | F5: TESZ | G5: Kultúrház | H5: Süni
A6: 1 | B6: Helyi önkormányzatok működésének általános támogatása (B1111) | C6: ='2'!C6-'8'!C6-'9'!C6 -> 160635226 | D6: ='2'!D6-'8'!D6-'9'!D6 -> 160635226 | E6: ='2'!E6-'8'!E6-'9'!E6 -> 0 | F6: ='2'!F6-'8'!F6-'9'!F6 -> 0 | G6: ='2'!G6-'8'!G6-'9'!G6 -> 0 | H6: ='2'!H6-'8'!H6-'9'!H6 -> 0
A7: 2 | B7: Települési önkormányzatok egyes köznevelési feladatainak támogatása (B112) | C7: ='2'!C7-'8'!C7-'9'!C7 -> 156027310 | D7: ='2'!D7-'8'!D7-'9'!D7 -> 156027310 | E7: ='2'!E7-'8'!E7-'9'!E7 -> 0 | F7: ='2'!F7-'8'!F7-'9'!F7 -> 0 | G7: ='2'!G7-'8'!G7-'9'!G7 -> 0 | H7: ='2'!H7-'8'!H7-'9'!H7 -> 0
A8: 3 | B8: Települési önkormányzatok szociális, gyermekjóléti feladatainak támogatása (B1131) | C8: ='2'!C8-'8'!C8-'9'!C8 -> 66222959 | D8: ='2'!D8-'8'!D8-'9'!D8 -> 66222959 | E8: ='2'!E8-'8'!E8-'9'!E8 -> 0 | F8: ='2'!F8-'8'!F8-'9'!F8 -> 0 | G8: ='2'!G8-'8'!G8-'9'!G8 -> 0 | H8: ='2'!H8-'8'!H8-'9'!H8 -> 0
A9: 4 | B9: Tel.önkormányzat gyermekétkeztetési fel.tám( B 1132) | C9: ='2'!C9-'8'!C10-'9'!C10 -> 0 | D9: ='2'!D9-'8'!D10-'9'!D10 -> 56488954 | E9: ='2'!E9-'8'!E10-'9'!E10 -> 0 | F9: ='2'!F9-'8'!F10-'9'!F10 -> 0 | G9: ='2'!G9-'8'!G10-'9'!G10 -> 0 | H9: ='2'!H9-'8'!H10-'9'!H10 -> 0
A10: 5 | B10: Települési önkormányzatok kulturális feladatainak támogatása (B114) | C10: ='2'!C10-'8'!C10-'9'!C10 -> 11658156 | D10: ='2'!D10-'8'!D10-'9'!D10 -> 11658156 | E10: ='2'!E10-'8'!E10-'9'!E10 -> 0 | F10: ='2'!F10-'8'!F10-'9'!F10 -> 0 | G10: ='2'!G10-'8'!G10-'9'!G10 -> 0 | H10: ='2'!H10-'8'!H10-'9'!H10 -> 0
A11: 6 | B11: Működési célú költségvetési támogatások és kiegészítő támogatások (B115) | C11: ='2'!C11-'8'!C11-'9'!C11 -> 0 | D11: ='2'!D11-'8'!D11-'9'!D11 -> 0 | E11: ='2'!E11-'8'!E11-'9'!E11 -> 0 | F11: ='2'!F11-'8'!F11-'9'!F11 -> 0 | G11: ='2'!G11-'8'!G11-'9'!G11 -> 0 | H11: ='2'!H11-'8'!H11-'9'!H11 -> 0
A12: 7 | B12: Elszámolásból származó bevételek (B116) | C12: ='2'!C12-'8'!C12-'9'!C12 -> 174078 | D12: ='2'!D12-'8'!D12-'9'!D12 -> 174078 | E12: ='2'!E12-'8'!E12-'9'!E12 -> 0 | F12: ='2'!F12-'8'!F12-'9'!F12 -> 0 | G12: ='2'!G12-'8'!G12-'9'!G12 -> 0 | H12: ='2'!H12-'8'!H12-'9'!H12 -> 0
A13: 8 | B13: Önkormányzatok működési támogatásai (B11) | C13: ='2'!C13-'8'!C13-'9'!C13 -> 451206683 | D13: ='2'!D13-'8'!D13-'9'!D13 -> 451206683 | E13: ='2'!E13-'8'!E13-'9'!E13 -> 0 | F13: ='2'!F13-'8'!F13-'9'!F13 -> 0 | G13: ='2'!G13-'8'!G13-'9'!G13 -> 0 | H13: ='2'!H13-'8'!H13-'9'!H13 -> 0
A14: 9 | B14: Elvonások és befizetések bevételei B12 | C14: ='2'!C14-'8'!C14-'9'!C14 -> 0 | D14: ='2'!D14-'8'!D14-'9'!D14 -> 0 | E14: ='2'!E14-'8'!E14-'9'!E14 -> 0 | F14: ='2'!F14-'8'!F14-'9'!F14 -> 0 | G14: ='2'!G14-'8'!G14-'9'!G14 -> 0 | H14: ='2'!H14-'8'!H14-'9'!H14 -> 0
A15: 10 | B15: Egyéb működési célú támogatások bevételei államháztartáson belülről (B16) | C15: ='2'!C15-'8'!C15-'9'!C15 -> 243327003 | D15: ='2'!D15-'8'!D15-'9'!D15 -> 204326231 | E15: ='2'!E15-'8'!E15-'9'!E15 -> 0 | F15: ='2'!F15-'8'!F15-'9'!F15 -> 39000772 | G15: ='2'!G15-'8'!G15-'9'!G15 -> 0 | H15: ='2'!H15-'8'!H15-'9'!H15 -> 0
A16: 11 | B16: ebből: egyéb központi kezelésű előirányzatok (B1612 | C16: ='2'!C16-'8'!C16-'9'!C16 -> 16513398 | D16: ='2'!D16-'8'!D16-'9'!D16 -> 16513398 | E16: ='2'!E16-'8'!E16-'9'!E16 -> 0 | F16: ='2'!F16-'8'!F16-'9'!F16 -> 0 | G16: ='2'!G16-'8'!G16-'9'!G16 -> 0 | H16: ='2'!H16-'8'!H16-'9'!H16 -> 0
A17: 12 | B17: ebből: fejezeti kezelésű EU B16 | C17: ='2'!C17-'8'!C17-'9'!C17 -> 150463717 | D17: ='2'!D17-'8'!D17-'9'!D17 -> 150463717 | E17: ='2'!E17-'8'!E17-'9'!E17 -> 0 | F17: ='2'!F17-'8'!F17-'9'!F17 -> 0 | G17: ='2'!G17-'8'!G17-'9'!G17 -> 0 | H17: ='2'!H17-'8'!H17-'9'!H17 -> 0
A18: 13 | B18: ebből: társadalombiztosítás pénzügyi alapjai (B1614 | C18: ='2'!C18-'8'!C18-'9'!C18 -> 36688900 | D18: ='2'!D18-'8'!D18-'9'!D18 -> 36688900 | E18: ='2'!E18-'8'!E18-'9'!E18 -> 0 | F18: ='2'!F18-'8'!F18-'9'!F18 -> 0 | G18: ='2'!G18-'8'!G18-'9'!G18 -> 0 | H18: ='2'!H18-'8'!H18-'9'!H18 -> 0
A19: 14 | B19: ebből: elkülönített állami pénzal (B1615 | C19: ='2'!C19-'8'!C19-'9'!C19 -> 39000772 | D19: ='2'!D19-'8'!D19-'9'!D19 -> 0 | E19: ='2'!E19-'8'!E19-'9'!E19 -> 0 | F19: ='2'!F19-'8'!F19-'9'!F19 -> 39000772 | G19: ='2'!G19-'8'!G19-'9'!G19 -> 0 | H19: ='2'!H19-'8'!H19-'9'!H19 -> 0
A20: 15 | B20: ebből: önkormányzat és kv-i szerveik (B 1616 | C20: ='2'!C20-'8'!C20-'9'!C20 -> 660216 | D20: ='2'!D20-'8'!D20-'9'!D20 -> 660216 | E20: ='2'!E20-'8'!E20-'9'!E20 -> 0 | F20: ='2'!F20-'8'!F20-'9'!F20 -> 0 | G20: ='2'!G20-'8'!G20-'9'!G20 -> 0 | H20: ='2'!H20-'8'!H20-'9'!H20 -> 0
A21: 16 | B21: Működési célú támogatások államháztartáson belülről (B1) | C21: ='2'!C21-'8'!C21-'9'!C21 -> 694533686 | D21: ='2'!D21-'8'!D21-'9'!D21 -> 655532914 | E21: ='2'!E21-'8'!E21-'9'!E21 -> 0 | F21: ='2'!F21-'8'!F21-'9'!F21 -> 39000772 | G21: ='2'!G21-'8'!G21-'9'!G21 -> 0 | H21: ='2'!H21-'8'!H21-'9'!H21 -> 0
... A65: 60 | B65: Felhalmozási bevételek (B5) | C65: ='2'!C65-'8'!C65-'9'!C65 -> 6105200 | D65: ='2'!D65-'8'!D65-'9'!D65 -> 6105200 | E65: ='2'!E65-'8'!E65-'9'!E65 -> 0 | F65: ='2'!F65-'8'!F65-'9'!F65 -> 0 | G65: ='2'!G65-'8'!G65-'9'!G65 -> 0 | H65: ='2'!H65-'8'!H65-'9'!H65 -> 0
B66: Működési c. visszatérítendő tám, kölcs (B64) | C66: ='2'!C66-'8'!C66-'9'!C66 -> 0 | D66: ='2'!D66-'8'!D66-'9'!D66 -> 0 | E66: ='2'!E66-'8'!E66-'9'!E66 -> 0 | F66: ='2'!F66-'8'!F66-'9'!F66 -> 0 | G66: ='2'!G66-'8'!G66-'9'!G66 -> 0 | H66: ='2'!H66-'8'!H66-'9'!H66 -> 0
A67: 61 | B67: Egyéb működési célú átvett pénzeszközök (65) | C67: ='2'!C67-'8'!C67-'9'!C67 -> 1474213 | D67: ='2'!D67-'8'!D67-'9'!D67 -> 1474213 | E67: ='2'!E67-'8'!E67-'9'!E67 -> 0 | F67: ='2'!F67-'8'!F67-'9'!F67 -> 0 | G67: ='2'!G67-'8'!G67-'9'!G67 -> 0 | H67: ='2'!H67-'8'!H67-'9'!H67 -> 0
A68: 62 | B68: Működési célú átvett pénzeszközök (B6) | C68: ='2'!C68-'8'!C68-'9'!C68 -> 1474213 | D68: ='2'!D68-'8'!D68-'9'!D68 -> 1474213 | E68: ='2'!E68-'8'!E68-'9'!E68 -> 0 | F68: ='2'!F68-'8'!F68-'9'!F68 -> 0 | G68: ='2'!G68-'8'!G68-'9'!G68 -> 0 | H68: ='2'!H68-'8'!H68-'9'!H68 -> 0
A69: 63 | B69: Felhalmozási célú visszatérítendő támogatások, kölcsönök visszatérülése államháztartáson kívülről (B74) | C69: ='2'!C69-'8'!C69-'9'!C69 -> 80000 | D69: ='2'!D69-'8'!D69-'9'!D69 -> 80000 | E69: ='2'!E69-'8'!E69-'9'!E69 -> 0 | F69: ='2'!F69-'8'!F69-'9'!F69 -> 0 | G69: ='2'!G69-'8'!G69-'9'!G69 -> 0 | H69: ='2'!H69-'8'!H69-'9'!H69 -> 0
A70: 64 | B70: ebből: háztartások (B74) | C70: ='2'!C70-'8'!C70-'9'!C70 -> 0 | D70: ='2'!D70-'8'!D70-'9'!D70 -> 0 | E70: ='2'!E70-'8'!E70-'9'!E70 -> 0 | F70: ='2'!F70-'8'!F70-'9'!F70 -> 0 | G70: ='2'!G70-'8'!G70-'9'!G70 -> 0 | H70: ='2'!H70-'8'!H70-'9'!H70 -> 0
A71: 65 | B71: Egyéb felhalmozási célú átvett pénzeszközök (B75) | C71: ='2'!C71-'8'!C71-'9'!C71 -> 1693021 | D71: ='2'!D71-'8'!D71-'9'!D71 -> 1693021 | E71: ='2'!E71-'8'!E71-'9'!E71 -> 0 | F71: ='2'!F71-'8'!F71-'9'!F71 -> 0 | G71: ='2'!G71-'8'!G71-'9'!G71 -> 0 | H71: ='2'!H71-'8'!H71-'9'!H71 -> 0
A72: 66 | B72: Felhalmozási célú átvett pénzeszközök (B7) | C72: ='2'!C72-'8'!C72-'9'!C72 -> 1693021 | D72: ='2'!D72-'8'!D72-'9'!D72 -> 1693021 | E72: ='2'!E72-'8'!E72-'9'!E72 -> 0 | F72: ='2'!F72-'8'!F72-'9'!F72 -> 0 | G72: ='2'!G72-'8'!G72-'9'!G72 -> 0 | H72: ='2'!H72-'8'!H72-'9'!H72 -> 0
A73: 67 | B73: Költségvetési bevételek (B1-B7) | C73: ='2'!C73-'8'!C73-'9'!C73 -> 1688809362 | D73: ='2'!D73-'8'!D73-'9'!D73 -> 1631358101 | E73: ='2'!E73-'8'!E73-'9'!E73 -> 2057400 | F73: ='2'!F73-'8'!F73-'9'!F73 -> 41927992 | G73: ='2'!G73-'8'!G73-'9'!G73 -> 1400000 | H73: ='2'!H73-'8'!H73-'9'!H73 -> 12065869
A74: 68 | B74: Befektetési célú belföldi egyéb hitelviszonyt megtestesítő értékpapír beváltása, értékesítése (B 81231 | C74: ='2'!C74-'8'!C74-'9'!C74 -> 60000000 | D74: ='2'!D74-'8'!D74-'9'!D74 -> 60000000 | E74: ='2'!E74-'8'!E74-'9'!E74 -> 0 | F74: ='2'!F74-'8'!F74-'9'!F74 -> 0 | G74: ='2'!G74-'8'!G74-'9'!G74 -> 0 | H74: ='2'!H74-'8'!H74-'9'!H74 -> 0
A75: 69 | B75: Előző év költségvetési maradványának igénybevétele (B813) | C75: ='2'!C75-'8'!C75-'9'!C75 -> 977706022 | D75: ='2'!D75-'8'!D75-'9'!D75 -> 932530487 | E75: ='2'!E75-'8'!E75-'9'!E75 -> 12183896 | F75: ='2'!F75-'8'!F75-'9'!F75 -> 21638751 | G75: ='2'!G75-'8'!G75-'9'!G75 -> 4001119 | H75: ='2'!H75-'8'!H75-'9'!H75 -> 7351769
A76: 70 | B76: Államháztartáson belüli megelőlegezések (B814) | C76: ='2'!C76-'8'!C76-'9'!C76 -> 32784225 | D76: ='2'!D76-'8'!D76-'9'!D76 -> 32784225 | E76: ='2'!E76-'8'!E76-'9'!E76 -> 0 | F76: ='2'!F76-'8'!F76-'9'!F76 -> 0 | G76: ='2'!G76-'8'!G76-'9'!G76 -> 0 | H76: ='2'!H76-'8'!H76-'9'!H76 -> 0
A77: 71 | B77: Irányító szervi támogatás (B816 | C77: ='2'!C77-'8'!C77-'9'!C77 -> 570231653 | D77: ='2'!D77-'8'!D77-'9'!D77 -> 0 | E77: ='2'!E77-'8'!E77-'9'!E77 -> 216216236 | F77: ='2'!F77-'8'!F77-'9'!F77 -> 144740577 | G77: ='2'!G77-'8'!G77-'9'!G77 -> 68963800 | H77: ='2'!H77-'8'!H77-'9'!H77 -> 140311040
A78: 72 | B78: Belföldi finanszírozás bevételei (B81) | C78: ='2'!C78-'8'!C78-'9'!C78 -> 1640721900 | D78: ='2'!D78-'8'!D78-'9'!D78 -> 1025314712 | E78: ='2'!E78-'8'!E78-'9'!E78 -> 228400132 | F78: ='2'!F78-'8'!F78-'9'!F78 -> 166379328 | G78: ='2'!G78-'8'!G78-'9'!G78 -> 72964919 | H78: ='2'!H78-'8'!H78-'9'!H78 -> 147662809
... A80: 74 | B80: MINDÖSSZESEN: | C80: ='2'!C80-'8'!C80-'9'!C80 -> 3329531262 | D80: ='2'!D80-'8'!D80-'9'!D80 -> 2656672813 | E80: ='2'!E80-'8'!E80-'9'!E80 -> 230457532 | F80: ='2'!F80-'8'!F80-'9'!F80 -> 208307320 | G80: ='2'!G80-'8'!G80-'9'!G80 -> 74364919 | H80: ='2'!H80-'8'!H80-'9'!H80 -> 159728678
A81: 75 | B81: Személyi juttatások (K1) | C81: =#REF!-'8'!C81-'9'!C81 -> #REF! | D81: =#REF!-'8'!D81-'9'!D81 -> #REF! | E81: =#REF!-'8'!E81-'9'!E81 -> #REF! | F81: =#REF!-'8'!F81-'9'!F81 -> #REF! | G81: =#REF!-'8'!G81-'9'!G81 -> #REF! | H81: =#REF!-'8'!H81-'9'!H81 -> #REF!
A82: 76 | B82: Munkaadókat terhelő járulékok és szociális hozzájárulási adó (K2) | C82: =#REF!-'8'!C82-'9'!C82 -> #REF! | D82: =#REF!-'8'!D82-'9'!D82 -> #REF! | E82: =#REF!-'8'!E82-'9'!E82 -> #REF! | F82: =#REF!-'8'!F82-'9'!F82 -> #REF! | G82: =#REF!-'8'!G82-'9'!G82 -> #REF! | H82: =#REF!-'8'!H82-'9'!H82 -> #REF!
A83: 77 | B83: Dologi kiadások (K3) | C83: =#REF!-'8'!C83-'9'!C83 -> #REF! | D83: =#REF!-'8'!D83-'9'!D83 -> #REF! | E83: =#REF!-'8'!E83-'9'!E83 -> #REF! | F83: =#REF!-'8'!F83-'9'!F83 -> #REF! | G83: =#REF!-'8'!G83-'9'!G83 -> #REF! | H83: =#REF!-'8'!H83-'9'!H83 -> #REF!
A84: 78 | B84: Családi támogatások (K42) | C84: =#REF!-'8'!C84-'9'!C84 -> #REF! | D84: =#REF!-'8'!D84-'9'!D84 -> #REF! | E84: =#REF!-'8'!E84-'9'!E84 -> #REF! | F84: =#REF!-'8'!F84-'9'!F84 -> #REF! | G84: =#REF!-'8'!G84-'9'!G84 -> #REF! | H84: =#REF!-'8'!H84-'9'!H84 -> #REF!
...

Sheet 8
B1: Berhida Város Önkormányzata | F1: 8. melléklet a 4/2021.(II.25.) rendelethez
B2: 2020 évi költségvetés | F2: 9/b melléklet a 2/2020.(II.28.) rendelethez
F3: Ft-ban
B4: ÖNKÉNT VÁLLALT FELADATOK | C4: BEVÉTELEK
A5: Sor- szám | B5: Rovat megnevezése | C5: Eredeti előirányzat összesen | D5: Önkormányzat | E5: Közös Hivatal | F5: TESZ | G5: Kultúrház | H5: Süni
A6: 1 | B6: Helyi önkormányzatok működésének általános támogatása (B1111) | C6: =SUM(D6:H6) -> 0
A7: 2 | B7: Települési önkormányzatok egyes köznevelési feladatainak támogatása (B112) | C7: =SUM(D7:H7) -> 0
A8: 3 | B8: Települési önkormányzatok szociális, gyermekjóléti feladatainak támogatása (B1131) | C8: =SUM(D8:H8) -> 0
A9: 4 | B9: Tel.önkormányzat gyermekétkeztetési fel.tám( B 1132)
A10: 5 | B10: Települési önkormányzatok kulturális feladatainak támogatása (B114) | C10: =SUM(D10:H10) -> 0
A11: 6 | B11: Működési célú költségvetési támogatások és kiegészítő támogatások (B115) | C11: =SUM(D11:H11) -> 0
A12: 7 | B12: Elszámolásból származó bevételek (B116) | C12: =SUM(D12:H12) -> 0
A13: 8 | B13: Önkormányzatok működési támogatásai (B11) | C13: =SUM(D13:H13) -> 0 | D13: =SUM(D6:D12) -> 0 | E13: =SUM(E6:E12) -> 0 | F13: =SUM(F6:F12) -> 0 | G13: =SUM(G6:G12) -> 0 | H13: =SUM(H6:H12) -> 0
A14: 9 | B14: Elvonások és befizetések bevételei B12 | C14: =SUM(D14:H14) -> 0
A15: 10 | B15: Egyéb működési célú támogatások bevételei államháztartáson belülről (B16) | C15: =SUM(D15:H15) -> 0 | D15: =SUM(D16:D20) -> 0 | E15: =SUM(E16:E20) -> 0 | F15: =SUM(F16:F20) -> 0 | G15: =SUM(G16:G20) -> 0 | H15: =SUM(H16:H20) -> 0
A16: 11 | B16: ebből: egyéb központi kezelésű előirányzatok (B1612 | C16: =SUM(D16:H16) -> 0
A17: 12 | B17: ebből: fejezeti kezelésű EU B16 | C17: =SUM(D17:H17) -> 0
A18: 13 | B18: ebből: társadalombiztosítás pénzügyi alapjai (B1614 | C18: =SUM(D18:H18) -> 0
A19: 14 | B19: ebből: elkülönített állami pénzal (B1615 | C19: =SUM(D19:H19) -> 0
A20: 15 | B20: ebből: önkormányzat és kv-i szerveik (B 1616 | C20: =SUM(D20:H20) -> 0
A21: 16 | B21: Működési célú támogatások államháztartáson belülről (B1) | C21: =SUM(D21:H21) -> 0 | D21: =D13+D15 -> 0 | E21: =E13+E15 -> 0 | F21: =F13+F15 -> 0 | G21: =G13+G15 -> 0 | H21: =H13+H15 -> 0
A22: 17 | B22: Felhalmozási célú önkormányzati támogatások (B21) | C22: =SUM(D22:H22) -> 0 | D22: =D23 -> 0 | E22: =E23 -> 0 | F22: =F23 -> 0 | G22: =G23 -> 0 | H22: =H23 -> 0
A23: 18 | B23: ebből: egyéb központi felhalmozási c tám B 2119 | C23: =SUM(D23:H23) -> 0
A24: 19 | B24: Egyéb felhalmozási célú tám áht belülről B 25 | C24: =SUM(D24:H24) -> 0 | D24: =SUM(D25:D28) -> 0 | E24: =SUM(E25:E28) -> 0 | F24: =SUM(F25:F28) -> 0 | G24: =SUM(G25:G28) -> 0 | H24: =SUM(H25:H28) -> 0
A25: 20 | B25: ebből egyéb központi fc tám (B2512 | C25: =SUM(D25:H25) -> 0
A26: 21 | B26: ebből: egyéb fejezeti kez EU fc (B25 | C26: =SUM(D26:H26) -> 0
A27: 22 | B27: ebből: elkülönített állami pénzal fc (B2515 | C27: =SUM(D27:H27) -> 0
A28: 23 | B28: ebből: önkorm és kv-i szervek fc tám (B2516 | C28: =SUM(D28:H28) -> 0
A29: 24 | B29: Felhalmozási célú támogatások államháztartáson belülről (B2) | C29: =SUM(D29:H29) -> 0 | D29: =D22+D24 -> 0 | E29: =E22+E24 -> 0 | F29: =F22+F24 -> 0 | G29: =G22+G24 -> 0 | H29: =H22+H24 -> 0
A30: 25 | B30: Vagyoni tipusú adók (B34) | C30: =SUM(D30:H30) -> 381500 | D30: =SUM(D31:D32) -> 381500 | E30: =SUM(E31:E32) -> 0 | F30: =SUM(F31:F32) -> 0 | G30: =SUM(G31:G32) -> 0 | H30: =SUM(H31:H32) -> 0
A31: 26 | B31: ebből: építményadó (B34111) | C31: =SUM(D31:H31) -> 381500 | D31: 381500
A32: 27 | B32: ebből: magánszemélyek kommunális adója (B34114) | C32: =SUM(D32:H32) -> 0
A33: 28 | B33: Értékesítési és forgalmi adók iparűzési adó (B351121) | C33: =SUM(D33:H33) -> 10689687 | D33: 10689687
A34: 29 | B34: Gépjárműadó (B3541) | C34: =SUM(D34:H34) -> 0
A35: 30 | B35: Egyéb áruhasználati és szolgáltatási adók, környezetterh díj, talajterhelési díj (B355) | C35: =SUM(D35:H35) -> 0
A36: 31 | B36: Termékek és szolgáltatások adói (B35) | C36: =SUM(D36:H36) -> 10689687 | D36: =SUM(D33:D35) -> 10689687 | E36: =SUM(E33:E35) -> 0 | F36: =SUM(F33:F35) -> 0 | G36: =SUM(G33:G35) -> 0 | H36: =SUM(H33:H35) -> 0
A37: 32 | B37: Egyéb közhatalmi bevételek (B36) | C37: =SUM(D37:H37) -> 0 | D37: =SUM(D38:D39) -> 0 | E37: =SUM(E38:E39) -> 0 | F37: =SUM(F38:F39) -> 0 | G37: =SUM(G38:G39) -> 0 | H37: =SUM(H38:H39) -> 0
A38: 33 | B38: ebből: szabálysértési pénz- és helyszíni bírság és a közlekedési szabályszegések után kiszabott közigazgatási bírság helyi önkormányzatot megillető része (B361225 köv) | C38: =SUM(D38:H38) -> 0
A39: 34 | B39: ebből: egyéb bírság (B361229 köv) | C39: =SUM(D39:H39) -> 0
A40: 35 | B40: Közhatalmi bevételek (B3) | C40: =SUM(D40:H40) -> 11071187 | D40: =D30+D36+D37 -> 11071187 | E40: =E30+E36+E37 -> 0 | F40: =F30+F36+F37 -> 0 | G40: =G30+G36+G37 -> 0 | H40: =H30+H36+H37 -> 0
...

Sheet 9
B1: Berhida Város Önkormányzata | F1: 9. melléklet a 4/2021.(II.25.) rendelethez
B2: 2020 évi költségvetés | F2: 9/C. melléklet a 2/2020.(II.28.) rendelethez
F3: Ft-ban
B4: ÁLLAMIGAZGATÁSI FELADATOK | C4: BEVÉTELEK
A5: Sor- szám | B5: Rovat megnevezése | C5: Eredeti előirányzat összesen | D5: Önkormányzat | E5: Közös Hivatal | F5: TESZ | G5: Kultúrház | H5: Süni
A6: 1 | B6: Helyi önkormányzatok működésének általános támogatása (B1111) | C6: =SUM(D6:H6) -> 0
A7: 2 | B7: Települési önkormányzatok egyes köznevelési feladatainak támogatása (B112) | C7: =SUM(D7:H7) -> 0
A8: 3 | B8: Települési önkormányzatok szociális, gyermekjóléti feladatainak támogatása (B1131) | C8: =SUM(D8:H8) -> 0
A9: 4 | B9: Tel.önkormányzat gyermekétkeztetési fel.tám( B 1132)
A10: 5 | B10: Települési önkormányzatok kulturális feladatainak támogatása (B114) | C10: =SUM(D10:H10) -> 0
A11: 6 | B11: Működési célú költségvetési támogatások és kiegészítő támogatások (B115) | C11: =SUM(D11:H11) -> 0
A12: 7 | B12: Elszámolásból származó bevételek (B116) | C12: =SUM(D12:H12) -> 0
A13: 8 | B13: Önkormányzatok működési támogatásai (B11) | C13: =SUM(D13:H13) -> 0 | D13: =SUM(D6:D12) -> 0 | E13: =SUM(E6:E12) -> 0 | F13: =SUM(F6:F12) -> 0 | G13: =SUM(G6:G12) -> 0 | H13: =SUM(H6:H12) -> 0
A14: 9 | B14: Elvonások és befizetések bevételei B12 | C14: =SUM(D14:H14) -> 0
A15: 10 | B15: Egyéb működési célú támogatások bevételei államháztartáson belülről (B16) | C15: =SUM(D15:H15) -> 0 | D15: =SUM(D16:D20) -> 0 | E15: =SUM(E16:E20) -> 0 | F15: =SUM(F16:F20) -> 0 | G15: =SUM(G16:G20) -> 0 | H15: =SUM(H16:H20) -> 0
A16: 11 | B16: ebből: egyéb központi kezelésű előirányzatok (B1612 | C16: =SUM(D16:H16) -> 0
A17: 12 | B17: ebből: fejezeti kezelésű EU B16 | C17: =SUM(D17:H17) -> 0
A18: 13 | B18: ebből: társadalombiztosítás pénzügyi alapjai (B1614 | C18: =SUM(D18:H18) -> 0
A19: 14 | B19: ebből: elkülönített állami pénzal (B1615 | C19: =SUM(D19:H19) -> 0
A20: 15 | B20: ebből: önkormányzat és kv-i szerveik (B 1616 | C20: =SUM(D20:H20) -> 0
A21: 16 | B21: Működési célú támogatások államháztartáson belülről (B1) | C21: =SUM(D21:H21) -> 0 | D21: =D13+D15 -> 0 | E21: =E13+E15 -> 0 | F21: =F13+F15 -> 0 | G21: =G13+G15 -> 0 | H21: =H13+H15 -> 0
A22: 17 | B22: Felhalmozási célú önkormányzati támogatások (B21) | C22: =SUM(D22:H22) -> 0 | D22: =D23 -> 0 | E22: =E23 -> 0 | F22: =F23 -> 0 | G22: =G23 -> 0 | H22: =H23 -> 0
A23: 18 | B23: ebből: egyéb központi felhalmozási c tám B 2119 | C23: =SUM(D23:H23) -> 0
A24: 19 | B24: Egyéb felhalmozási célú tám áht belülről B 25 | C24: =SUM(D24:H24) -> 0 | D24: =SUM(D25:D28) -> 0 | E24: =SUM(E25:E28) -> 0 | F24: =SUM(F25:F28) -> 0 | G24: =SUM(G25:G28) -> 0 | H24: =SUM(H25:H28) -> 0
A25: 20 | B25: ebből egyéb központi fc tám (B2512 | C25: =SUM(D25:H25) -> 0
A26: 21 | B26: ebből: egyéb fejezeti kez EU fc (B25 | C26: =SUM(D26:H26) -> 0
A27: 22 | B27: ebből: elkülönített állami pénzal fc (B2515 | C27: =SUM(D27:H27) -> 0
A28: 23 | B28: ebből: önkorm és kv-i szervek fc tám (B2516 | C28: =SUM(D28:H28) -> 0
A29: 24 | B29: Felhalmozási célú támogatások államháztartáson belülről (B2) | C29: =SUM(D29:H29) -> 0 | D29: =D22+D24 -> 0 | E29: =E22+E24 -> 0 | F29: =F22+F24 -> 0 | G29: =G22+G24 -> 0 | H29: =H22+H24 -> 0
A30: 25 | B30: Vagyoni tipusú adók (B34) | C30: =SUM(D30:H30) -> 9772612 | D30: =SUM(D31:D32) -> 9772612 | E30: =SUM(E31:E32) -> 0 | F30: =SUM(F31:F32) -> 0 | G30: =SUM(G31:G32) -> 0 | H30: =SUM(H31:H32) -> 0
A31: 26 | B31: ebből: építményadó (B34111) | C31: =SUM(D31:H31) -> 9772612 | D31: =D120 -> 9772612
A32: 27 | B32: ebből: magánszemélyek kommunális adója (B34114) | C32: =SUM(D32:H32) -> 0
A33: 28 | B33: Értékesítési és forgalmi adók iparűzési adó (B351121) | C33: =SUM(D33:H33) -> 0
A34: 29 | B34: Gépjárműadó (B3541) | C34: =SUM(D34:H34) -> 0
A35: 30 | B35: Egyéb áruhasználati és szolgáltatási adók, környezetterh díj, talajterhelési díj (B355) | C35: =SUM(D35:H35) -> 0
A36: 31 | B36: Termékek és szolgáltatások adói (B35) | C36: =SUM(D36:H36) -> 0 | D36: =SUM(D33:D35) -> 0 | E36: =SUM(E33:E35) -> 0 | F36: =SUM(F33:F35) -> 0 | G36: =SUM(G33:G35) -> 0 | H36: =SUM(H33:H35) -> 0
A37: 32 | B37: Egyéb közhatalmi bevételek (B36) | C37: =SUM(D37:H37) -> 0 | D37: =SUM(D38:D39) -> 0 | E37: =SUM(E38:E39) -> 0 | F37: =SUM(F38:F39) -> 0 | G37: =SUM(G38:G39) -> 0 | H37: =SUM(H38:H39) -> 0
A38: 33 | B38: ebből: szabálysértési pénz- és helyszíni bírság és a közlekedési szabályszegések után kiszabott közigazgatási bírság helyi önkormányzatot megillető része (B361225 köv) | C38: =SUM(D38:H38) -> 0
A39: 34 | B39: ebből: egyéb bírság (B361229 köv) | C39: =SUM(D39:H39) -> 0
A40: 35 | B40: Közhatalmi bevételek (B3) | C40: =SUM(D40:H40) -> 9772612 | D40: =D30+D36+D37 -> 9772612 | E40: =E30+E36+E37 -> 0 | F40: =F30+F36+F37 -> 0 | G40: =G30+G36+G37 -> 0 | H40: =H30+H36+H37 -> 0
...

Sheet 10
C1: Berhida Város Önkormányzatának
C2: 2020 évi költségvetés | G2: 10. melléklet a 4/2021.(II.25.) rendelethez
C3: ELŐIRÁNYZAT FELHASZNÁLÁSI ÜTEMTERV | G3: 13. melléklet a 2/2020.(II.28.) rendelethez
G4: adatok Ft-ban
A6: 1 | B6: MEGNEVEZÉS | C6: Összesen | D6: január | E6: február | F6: március | G6: április | H6: május | I6: június | J6: július | K6: augusztus | L6: szeptember | M6: október | N6: november | O6: december | P6: Ellenőrző sor
A7: 2 | B7: Személyi juttatások | C7: ='4'!C6 -> 441821244 | D7: =C7/12 -> 36818437 | E7: =C7/12 -> 36818437 | F7: =C7/12 -> 36818437 | G7: =C7/12 -> 36818437 | H7: =C7/12 -> 36818437 | I7: =C7/12 -> 36818437 | J7: =C7/12 -> 36818437 | K7: =C7/12 -> 36818437 | L7: =C7/12 -> 36818437 | M7: =C7/12 -> 36818437 | N7: =C7/12 -> 36818437 | O7: =C7/12 -> 36818437 | P7: =SUM(D7:O7) -> 441821244
A8: 3 | B8: Munkaadókat terhelő járulékok és szociális hozzájárulási adó, | C8: ='4'!C7 -> 77957561 | D8: =C8/12 -> 6496463.4 | E8: =C8/12 -> 6496463.4 | F8: =C8/12 -> 6496463.4 | G8: =C8/12 -> 6496463.4 | H8: =C8/12 -> 6496463.4 | I8: =C8/12 -> 6496463.4 | J8: =C8/12 -> 6496463.4 | K8: =C8/12 -> 6496463.4 | L8: =C8/12 -> 6496463.4 | M8: =C8/12 -> 6496463.4 | N8: =C8/12 -> 6496463.4 | O8: =C8/12 -> 6496463.4 | P8: =SUM(D8:O8) -> 77957561
A9: 4 | B9: Dologi kiadások | C9: ='4'!C8 -> 536060407 | D9: =C9/12 -> 44671701 | E9: =C9/12 -> 44671701 | F9: =C9/12 -> 44671701 | G9: =C9/12 -> 44671701 | H9: =C9/12 -> 44671701 | I9: =C9/12 -> 44671701 | J9: =C9/12 -> 44671701 | K9: =C9/12 -> 44671701 | L9: =C9/12 -> 44671701 | M9: =C9/12 -> 44671701 | N9: =C9/12 -> 44671701 | O9: =C9/12 -> 44671701 | P9: =SUM(D9:O9) -> 5.3606041e+08
A10: 5 | B10: Ellátottak pénzbeli juttatásai | C10: ='4'!C16 -> 9500000 | D10: =C10/12 -> 791666.67 | E10: =C10/12 -> 791666.67 | F10: =C10/12 -> 791666.67 | G10: =C10/12 -> 791666.67 | H10: =C10/12 -> 791666.67 | I10: =C10/12 -> 791666.67 | J10: =C10/12 -> 791666.67 | K10: =C10/12 -> 791666.67 | L10: =C10/12 -> 791666.67 | M10: =C10/12 -> 791666.67 | N10: =C10/12 -> 791666.67 | O10: =C10/12 -> 791666.67 | P10: =SUM(D10:O10) -> 9500000
A11: 7 | B11: Egyéb működési célú kiadások | C11: ='4'!C26 -> 307237588 | D11: =C11/12 -> 25603132 | E11: =C11/12 -> 25603132 | F11: =C11/12 -> 25603132 | G11: =C11/12 -> 25603132 | H11: =C11/12 -> 25603132 | I11: =C11/12 -> 25603132 | J11: =C11/12 -> 25603132 | K11: =C11/12 -> 25603132 | L11: =C11/12 -> 25603132 | M11: =C11/12 -> 25603132 | N11: =C11/12 -> 25603132 | O11: =C11/12 -> 25603132 | P11: =SUM(D11:O11) -> 307237588
A12: 16 | B12: Beruházások | C12: ='4'!C32 -> 1119405070 | D12: =C12/12 -> 93283756 | E12: =C12/12 -> 93283756 | F12: =C12/12 -> 93283756 | G12: =C12/12 -> 93283756 | H12: =C12/12 -> 93283756 | I12: =C12/12 -> 93283756 | J12: =C12/12 -> 93283756 | K12: =C12/12 -> 93283756 | L12: =C12/12 -> 93283756 | M12: =C12/12 -> 93283756 | N12: =C12/12 -> 93283756 | O12: =C12/12 -> 93283756 | P12: =SUM(D12:O12) -> 1.1194051e+09
A13: 17 | B13: Felújítások | C13: ='4'!C37 -> 241623938 | D13: =C13/12 -> 20135328 | E13: =C13/12 -> 20135328 | F13: =C13/12 -> 20135328 | G13: =C13/12 -> 20135328 | H13: =C13/12 -> 20135328 | I13: =C13/12 -> 20135328 | J13: =C13/12 -> 20135328 | K13: =C13/12 -> 20135328 | L13: =C13/12 -> 20135328 | M13: =C13/12 -> 20135328 | N13: =C13/12 -> 20135328 | O13: =C13/12 -> 20135328 | P13: =SUM(D13:O13) -> 2.4162394e+08
A14: 19 | B14: Egyéb felhalmozási célú támogatások | C14: ='4'!C42 -> 17070843 | F14: 4500000 | I14: 2920251 | K14: 7516495 | N14: 734097 | P14: =SUM(D14:O14) -> 15670843
A15: 20 | B15: Költségvetési kiadások | C15: =SUM(C7:C14) -> 2750676651 | D15: =SUM(D7:D14) -> 2.2780048e+08 | E15: =SUM(E7:E14) -> 2.2780048e+08 | F15: =SUM(F7:F14) -> 2.3230048e+08 | G15: =SUM(G7:G14) -> 2.2780048e+08 | H15: =SUM(H7:H14) -> 2.2780048e+08 | I15: =SUM(I7:I14) -> 2.3072073e+08 | J15: =SUM(J7:J14) -> 2.2780048e+08 | ... O15: =SUM(O7:O14) -> 2.2780048e+08 | P15: =SUM(D15:O15) -> 2.7492767e+09
A16: 27 | B16: Finanszírozási kiadások | C16: =C17+C18 -> 636453897 | D16: =D17+D18 -> 65298560 | E16: =E17+E18 -> 52579318 | F16: =F17+F18 -> 48942828 | G16: =G17+G18 -> 48942828 | H16: =H17+H18 -> 50834110 | I16: =I17+I18 -> 48942828 | J16: =J17+J18 -> 48942828 | ... O16: =O17+O18 -> 71624127 | P16: =SUM(D16:O16) -> 636453897
B17: ÁHT belüli megelőlegezések visszafiz | C17: ='4'!C44 -> 49139957 | D17: 16355732 | E17: 3636490 | H17: 1891282 | L17: 4575154 | O17: 22681299 | P17: =SUM(D17:O17) -> 49139957
A18: 29 | B18: Irányító szervtől finansz támogatás | C18: ='4'!C45 -> 587313940 | D18: =C18/12 -> 48942828 | E18: =C18/12 -> 48942828 | F18: =C18/12 -> 48942828 | G18: =C18/12 -> 48942828 | H18: =C18/12 -> 48942828 | I18: =C18/12 -> 48942828 | J18: =C18/12 -> 48942828 | K18: =C18/12 -> 48942828 | L18: =C18/12 -> 48942828 | M18: =C18/12 -> 48942828 | N18: =C18/12 -> 48942828 | O18: =C18/12 -> 48942828 | P18: =SUM(D18:O18) -> 587313940
A19: 30 | B19: KIADÁSOK ÖSSZESEN: | C19: =C15+C16 -> 3387130548 | D19: =D15+D16 -> 2.9309904e+08 | E19: =E15+E16 -> 2.803798e+08 | F19: =F15+F16 -> 2.8124331e+08 | G19: =G15+G16 -> 2.7674331e+08 | H19: =H15+H16 -> 2.7863459e+08 | I19: =I15+I16 -> 2.7966356e+08 | J19: =J15+J16 -> 2.7674331e+08 | ... O19: =O15+O16 -> 2.9942461e+08 | P19: =SUM(D19:O19) -> 3.3857305e+09
A20: 33 | B20: Működési célú támogatások államháztartáson belül | C20: ='2'!C21 -> 694533686 | D20: =C20/12 -> 57877807 | E20: =C20/12 -> 57877807 | F20: =C20/12 -> 57877807 | G20: =C20/12 -> 57877807 | H20: =C20/12 -> 57877807 | I20: =C20/12 -> 57877807 | J20: =C20/12 -> 57877807 | K20: =C20/12 -> 57877807 | L20: =C20/12 -> 57877807 | M20: =C20/12 -> 57877807 | N20: =C20/12 -> 57877807 | O20: =C20/12 -> 57877807 | P20: =SUM(D20:O20) -> 694533686
A21: 34 | B21: Felhalmozási célú támogatások államháztartáson belülről | C21: ='2'!C29 -> 604652307 | D21: =C21/12 -> 50387692 | E21: =C21/12 -> 50387692 | F21: =C21/12 -> 50387692 | G21: =C21/12 -> 50387692 | H21: =C21/12 -> 50387692 | I21: =C21/12 -> 50387692 | J21: =C21/12 -> 50387692 | K21: =C21/12 -> 50387692 | L21: =C21/12 -> 50387692 | M21: =C21/12 -> 50387692 | N21: =C21/12 -> 50387692 | O21: =C21/12 -> 50387692 | P21: =SUM(D21:O21) -> 604652307
A22: 35 | B22: Közhatalmi bevételek | C22: ='2'!C40 -> 375726610 | D22: =C22/12 -> 31310551 | E22: =C22/12 -> 31310551 | F22: =C22/12 -> 31310551 | G22: =C22/12 -> 31310551 | H22: =C22/12 -> 31310551 | I22: =C22/12 -> 31310551 | J22: =C22/12 -> 31310551 | K22: =C22/12 -> 31310551 | L22: =C22/12 -> 31310551 | M22: =C22/12 -> 31310551 | N22: =C22/12 -> 31310551 | O22: =C22/12 -> 31310551 | P22: =SUM(D22:O22) -> 3.7572661e+08
A23: 36 | B23: Működési bevételek | C23: ='2'!C62 -> 42061324 | D23: =C23/12 -> 3505110.3 | E23: =C23/12 -> 3505110.3 | F23: =C23/12 -> 3505110.3 | G23: =C23/12 -> 3505110.3 | H23: =C23/12 -> 3505110.3 | I23: =C23/12 -> 3505110.3 | J23: =C23/12 -> 3505110.3 | K23: =C23/12 -> 3505110.3 | L23: =C23/12 -> 3505110.3 | M23: =C23/12 -> 3505110.3 | N23: =C23/12 -> 3505110.3 | O23: =C23/12 -> 3505110.3 | P23: =SUM(D23:O23) -> 42061324
A24: 37 | B24: Felhalmozási bevételek | C24: ='2'!C65 -> 9105200 | D24: =C24/12 -> 758766.67 | E24: =C24/12 -> 758766.67 | F24: =C24/12 -> 758766.67 | G24: =C24/12 -> 758766.67 | H24: =C24/12 -> 758766.67 | I24: =C24/12 -> 758766.67 | J24: =C24/12 -> 758766.67 | K24: =C24/12 -> 758766.67 | L24: =C24/12 -> 758766.67 | M24: =C24/12 -> 758766.67 | N24: =C24/12 -> 758766.67 | O24: =C24/12 -> 758766.67 | P24: =SUM(D24:O24) -> 9105200
B25: Működési célú átvett pénzeszközök | C25: ='2'!C68 -> 1474213 | D25: =C25/12 -> 122851.08 | E25: =C25/12 -> 122851.08 | F25: =C25/12 -> 122851.08 | G25: =C25/12 -> 122851.08 | H25: =C25/12 -> 122851.08 | I25: =C25/12 -> 122851.08 | J25: =C25/12 -> 122851.08 | K25: =C25/12 -> 122851.08 | L25: =C25/12 -> 122851.08 | M25: =C25/12 -> 122851.08 | N25: =C25/12 -> 122851.08 | O25: =C25/12 -> 122851.08 | P25: =SUM(D25:O25) -> 1474213
A26: 38 | B26: Felhalmozási célú átvett pénzeszközök | C26: ='2'!C72 -> 1773021 | D26: =C26/12 -> 147751.75 | E26: =C26/12 -> 147751.75 | F26: =C26/12 -> 147751.75 | G26: =C26/12 -> 147751.75 | H26: =C26/12 -> 147751.75 | I26: =C26/12 -> 147751.75 | J26: =C26/12 -> 147751.75 | K26: =C26/12 -> 147751.75 | L26: =C26/12 -> 147751.75 | M26: =C26/12 -> 147751.75 | N26: =C26/12 -> 147751.75 | O26: =C26/12 -> 147751.75 | P26: =SUM(D26:O26) -> 1773021
A27: 39 | B27: Költségvetési bevételek | C27: =SUM(C20:C26) -> 1729326361 | D27: =SUM(D20:D26) -> 1.4411053e+08 | E27: =SUM(E20:E26) -> 1.4411053e+08 | F27: =SUM(F20:F26) -> 1.4411053e+08 | G27: =SUM(G20:G26) -> 1.4411053e+08 | H27: =SUM(H20:H26) -> 1.4411053e+08 | I27: =SUM(I20:I26) -> 1.4411053e+08 | J27: =SUM(J20:J26) -> 1.4411053e+08 | ... O27: =SUM(O20:O26) -> 1.4411053e+08 | P27: =SUM(D27:O27) -> 1.7293264e+09
A28: 55 | B28: Finanszírozási bevételek | C28: =SUM(C29:C32) -> 1657804187 | D28: =SUM(D29:D32) -> 1.0266489e+09 | E28: =SUM(E29:E32) -> 52579318 | F28: =SUM(F29:F32) -> 1.0894283e+08 | G28: =SUM(G29:G32) -> 48942828 | H28: =SUM(H29:H32) -> 50834110 | I28: =SUM(I29:I32) -> 48942828 | J28: =SUM(J29:J32) -> 48942828 | ... O28: =SUM(O29:O32) -> 71624127 | P28: =SUM(D28:O28) -> 1.6578042e+09
B29: Költségvetési maradvány igénybevétele | C29: ='2'!C75 -> 977706022 | D29: ='2'!C75 -> 977706022 | P29: =SUM(D29:O29) -> 977706022
B30: Áht megelőlegezés | C30: ='2'!C76 -> 32784225 | E30: 3636490 | H30: 1891282 | L30: 4575154 | O30: 22681299 | P30: =SUM(D30:O30) -> 32784225
B31: Államkötvény értékesítés | C31: 60000000 | F31: 60000000 | P31: =SUM(D31:O31) -> 60000000
A32: 56 | B32: Irányító szervtől finansz támogatás | C32: ='2'!C77 -> 587313940 | D32: =C32/12 -> 48942828 | E32: =C32/12 -> 48942828 | F32: =C32/12 -> 48942828 | G32: =C32/12 -> 48942828 | H32: =C32/12 -> 48942828 | I32: =C32/12 -> 48942828 | J32: =C32/12 -> 48942828 | K32: =C32/12 -> 48942828 | L32: =C32/12 -> 48942828 | M32: =C32/12 -> 48942828 | N32: =C32/12 -> 48942828 | O32: =C32/12 -> 48942828 | P32: =SUM(D32:O32) -> 587313940
