Workbook
Name onev: [1]kod!$BT$34:$BT$3186

Sheet 1.sz.tábla
B2: Megnevezés | C2: Előző időszak | D2: Módosítások (+/-) | E2: Tárgyi időszak
A3: 1 | B3: 2 | C3: 3 | D3: 4 | E3: 5
A4: 02 | B4: A/I/2 Szellemi termékek | C4: 0 | D4: 0 | E4: 951920
A5: 04 | B5: A/I Immateriális javak (=A/I/1+A/I/2+A/I/3) | C5: 0 | D5: 0 | E5: 951920
A6: 05 | B6: A/II/1 Ingatlanok és a kapcsolódó vagyoni értékű jogok | C6: 325734512 | D6: 0 | E6: 319463084
A7: 06 | B7: A/II/2 Gépek, berendezések, felszerelések, járművek | C7: 9399856 | D7: 0 | E7: 9019484
A8: 08 | B8: A/II/4 Beruházások, felújítások | C8: 5855926 | D8: 0 | E8: 5037403
A9: 10 | B9: A/II Tárgyi eszközök (=A/II/1+...+A/II/5) | C9: 340990294 | D9: 0 | E9: 333519971
A10: 11 | B10: A/III/1 Tartós részesedések (=A/III/1a+…+A/III/1e) | C10: 3550644 | D10: 0 | E10: 3550644
A11: 16 | B11: A/III/1e - ebből: egyéb tartós részesedések | C11: 3550644 | D11: 0 | E11: 3550644
A12: 21 | B12: A/III Befektetett pénzügyi eszközök (=A/III/1+A/III/2+A/III/3) | C12: 3550644 | D12: 0 | E12: 3550644
A13: 28 | B13: A) NEMZETI VAGYONBA TARTOZÓ BEFEKTETETT ESZKÖZÖK (=A/I+A/II+A/III+A/IV) | C13: 344540938 | D13: 0 | E13: 338022535
A14: 29 | B14: B/I/1 Vásárolt készletek | C14: 16517 | D14: 0 | E14: 38884
A15: 34 | B15: B/I Készletek (=B/I/1+…+B/I/5) | C15: 16517 | D15: 0 | E15: 38884
... A70: 254 | B70: FORRÁSOK ÖSSZESEN (=G+H+I+J) | C70: 380711010 | D70: 0 | E70: 396760107

Sheet 2.sz.tábla
B2: Megnevezés | C2: Előző időszak | D2: Módosítások (+/-) | E2: Tárgyi időszak
A3: 1 | B3: 2 | C3: 3 | D3: 4 | E3: 5
A4: 01 | B4: 01 Közhatalmi eredményszemléletű bevételek | C4: 20661076 | D4: 0 | E4: 21965066
A5: 02 | B5: 02 Eszközök és szolgáltatások értékesítése nettó eredményszemléletű bevételei | C5: 3808419 | D5: 0 | E5: 5305458
A6: 03 | B6: 03 Tevékenység egyéb nettó eredményszemléletű bevételei | C6: 2387639 | D6: 0 | E6: 2089515
A7: 04 | B7: I Tevékenység nettó eredményszemléletű bevétele (=01+02+03) | C7: 26857134 | D7: 0 | E7: 29360039
A8: 08 | B8: 06 Központi működési célú támogatások eredményszemléletű bevételei | C8: 24761685 | D8: 0 | E8: 25534006
A9: 09 | B9: 07 Egyéb működési célú támogatások eredményszemléletű bevételei | C9: 9584480 | D9: 0 | E9: 7171819
A10: 10 | B10: 08 Felhalmozási célú támogatások eredményszemléletű bevételei | C10: 3778631 | D10: 0 | E10: 4514183
A11: 11 | B11: 09 Különféle egyéb eredményszemléletű bevételek | C11: -4276174 | D11: 0 | E11: 10460773
A12: 12 | B12: III Egyéb eredményszemléletű bevételek (=06+07+08+09) | C12: 33848622 | D12: 0 | E12: 47680781
A13: 13 | B13: 10 Anyagköltség | C13: 2517760 | D13: 0 | E13: 2031267
A14: 14 | B14: 11 Igénybe vett szolgáltatások értéke | C14: 21823189 | D14: 0 | E14: 14735785
A15: 16 | B15: 13 Eladott (közvetített) szolgáltatások értéke | C15: 19400 | D15: 0 | E15: 2884677
... A30: 44 | B30: C) MÉRLEG SZERINTI EREDMÉNY (=±A±B) | C30: -15170618 | D30: 0 | E30: 3258516

Sheet 3.sz.tábla
B2: Megnevezés | C2: Összeg
A3: 1 | B3: 2 | C3: 3
A4: 01 | B4: 01 Alaptevékenység költségvetési bevételei | C4: 92418813
A5: 02 | B5: 02 Alaptevékenység költségvetési kiadásai | C5: 69967148
A6: 03 | B6: I Alaptevékenység költségvetési egyenlege (=01-02) | C6: 22451665
A7: 04 | B7: 03 Alaptevékenység finanszírozási bevételei | C7: 101975213
A8: 05 | B8: 04 Alaptevékenység finanszírozási kiadásai | C8: 71491905
A9: 06 | B9: II Alaptevékenység finanszírozási egyenlege (=03-04) | C9: 30483308
A10: 07 | B10: A) Alaptevékenység maradványa (=±I±II) | C10: 52934973
A11: 15 | B11: C) Összes maradvány (=A+B) | C11: 52934973
A12: 16 | B12: D) Alaptevékenység kötelezettségvállalással terhelt maradványa | C12: 29179328
A13: 17 | B13: E) Alaptevékenység szabad maradványa (=A-D) | C13: 23755645

Sheet 4.sz.tábla
A3: MEGNEVEZÉS | B3: 2016. évi eredeti ei. | C3: 2016.V. módosítás | D3: 2016. évi teljesítés | E3: %
A4: I. Működési célú támogatások államháztartáson belülről | B4: ='5.sz.tábla'!B5 -> 30097837 | C4: ='5.sz.tábla'!C5 -> 33029837 | D4: ='5.sz.tábla'!D5 -> 33029297 | E4: =D4/C4*100 -> 99.998365
A5: II. Felhalmozási célú támogatások államháztartáson belülről | B5: ='5.sz.tábla'!B20 -> 0 | C5: ='5.sz.tábla'!C20 -> 22516000 | D5: ='5.sz.tábla'!D20 -> 22516342 | E5: =D5/C5*100 -> 100.00152
A6: III. Közhatalmi bevételek | B6: ='5.sz.tábla'!B30 -> 20450163 | C6: ='5.sz.tábla'!C30 -> 24429163 | D6: ='5.sz.tábla'!D30 -> 25199240 | E6: =D6/C6*100 -> 103.15229
A7: IV. Működési bevételek | B7: ='5.sz.tábla'!B44 -> 6600000 | C7: ='5.sz.tábla'!C44 -> 9722000 | D7: ='5.sz.tábla'!D44 -> 9738934 | E7: =D7/C7*100 -> 100.17418
A8: V. Felhalmozási bevételek | B8: ='5.sz.tábla'!B57 -> 5000000 | C8: ='5.sz.tábla'!C57 -> 0 | D8: ='5.sz.tábla'!D57 -> 0
A9: VI. Működési célú átvett pénzeszközök | B9: ='5.sz.tábla'!B63 -> 0 | C9: ='5.sz.tábla'!C63 -> 20000 | D9: ='5.sz.tábla'!D63 -> 20000 | E9: =D9/C9*100 -> 100
A10: VII. Felhalmozási célú átvett pénzeszközök | B10: ='5.sz.tábla'!B67 -> 0 | C10: ='5.sz.tábla'!C67 -> 1915000 | D10: ='5.sz.tábla'!D67 -> 1915000 | E10: =D10/C10*100 -> 100
A11: Költségvetési bevételek összesen: | B11: =SUM(B4:B10) -> 62148000 | C11: =SUM(C4:C10) -> 91632000 | D11: =SUM(D4:D10) -> 92418813 | E11: =D11/C11*100 -> 100.85867
A12: VIII. Finanszírozási bevételek
A13: 1. Költségvetési hiány belső finanszírozására szolgáló finanszírozási bevételek | B13: ='5.sz.tábla'!B74 -> 5000000 | C13: ='5.sz.tábla'!C74 -> 5474000 | D13: ='5.sz.tábla'!D74 -> 5474000 | E13: =D13/C13*100 -> 100
A14: 2. Költségvetési hiány külső finanszírozására szolgáló finanszírozási célú pénzügyi műveletek bevételei | B14: ='5.sz.tábla'!B77 -> 25380000 | C14: ='5.sz.tábla'!C77 -> 26501000 | D14: ='5.sz.tábla'!D77 -> 96501213 | E14: =D14/C14*100 -> 364.14178
A15: Finanszírozási bevételek összesen: | B15: =B13+B14 -> 30380000 | C15: =C13+C14 -> 31975000 | D15: =D13+D14 -> 101975213 | E15: =D15/C15*100 -> 318.9217
A16: Bevételek összesen: | B16: =B11+B15 -> 92528000 | C16: =C11+C15 -> 123607000 | D16: =D11+D15 -> 194394026 | E16: =D16/C16*100 -> 157.26781
A18: Működési kiadások | B18: =SUM(B19:B19) -> 56163000 | C18: =SUM(C19:C19) -> 62450000 | D18: =SUM(D19:D19) -> 57207442 | E18: =D18/C18*100 -> 91.605191
A19: Önkormányzat | B19: ='6.sz.tábla'!B44 -> 56163000 | C19: ='6.sz.tábla'!C44 -> 62450000 | D19: ='6.sz.tábla'!D44 -> 57207442 | E19: =D19/C19*100 -> 91.605191
A20: Felhalmozási kiadások | B20: =SUM(B21:B23) -> 16481000 | C20: =SUM(C21:C23) -> 49232000 | D20: =SUM(D21:D23) -> 12759706 | E20: =D20/C20*100 -> 25.917505
A21: Fejlesztési kiadások | B21: ='8.sz.tábla'!B37 -> 0 | C21: ='8.sz.tábla'!C37 -> 71000 | D21: ='8.sz.tábla'!D37 -> 71000 | E21: =D21/C21*100 -> 100
A22: Beruházás | B22: ='8.sz.tábla'!B4 -> 4200000 | C22: ='8.sz.tábla'!C4 -> 5254000 | D22: ='8.sz.tábla'!D4 -> 3969650 | E22: =D22/C22*100 -> 75.554815
A23: Felújítás | B23: ='8.sz.tábla'!B18 -> 12281000 | C23: ='8.sz.tábla'!C18 -> 43907000 | D23: ='8.sz.tábla'!D18 -> 8719056 | E23: =D23/C23*100 -> 19.858009
A24: Tartalékok | B24: =SUM(B25:B26) -> 18507000 | C24: =SUM(C25:C26) -> 10129000 | D24: =SUM(D25:D26) -> 0 | E24: =D24/C24*100 -> 0
A25: Általános | B25: 18507000 | C25: 10129000 | D25: 0 | E25: =D25/C25*100 -> 0
A26: Cél
A27: Költségvetési kiadások összesen: | B27: =SUM(B24,B20,B18) -> 91151000 | C27: =SUM(C24,C20,C18) -> 121811000 | D27: =SUM(D24,D20,D18) -> 69967148 | E27: =D27/C27*100 -> 57.439105
A28: Hiteltörlesztés
A29: Pénzeszközök betétként való elhelyezése | B29: ='8.sz.tábla'!B43 -> 0 | C29: ='8.sz.tábla'!C43 -> 0 | D29: ='8.sz.tábla'!D43 -> 70000000
A30: Állami támogatás megelőlegezés visszafizetés | B30: ='8.sz.tábla'!B44 -> 1377000 | C30: ='8.sz.tábla'!C44 -> 1796000 | D30: ='8.sz.tábla'!D44 -> 1491905 | E30: =D30/C30*100 -> 83.068207
A31: Finanszírozási kiadások összesen: | B31: =SUM(B28:B30) -> 1377000 | C31: =SUM(C28:C30) -> 1796000 | D31: =SUM(D28:D30) -> 71491905 | E31: =D31/C31*100 -> 3980.6183
A32: Kiadások összesen: | B32: =SUM(B27,B31) -> 92528000 | C32: =SUM(C27,C31) -> 123607000 | D32: =SUM(D27,D31) -> 141459053 | E32: =D32/C32*100 -> 114.44259

Sheet 5.sz.tábla
A3: MEGNEVEZÉS | B3: ÖNKORMÁNYZAT
B4: 2016. évi eredeti ei. | C4: 2016.V. módosítás | D4: 2016. évi teljesítés | E4: %
A5: I. Működési célú támogatások államháztartáson belülről | B5: =B6+B14+B15+B16+B17+B18 -> 30097837 | C5: =C6+C14+C15+C16+C17+C18 -> 33029837 | D5: =D6+D14+D15+D16+D17+D18 -> 33029297 | E5: =D5/C5*100 -> 99.998365
A6: 1. Önkormányzat működési támogatásai | B6: =SUM(B7:B13) -> 24943837 | C6: =SUM(C7:C12) -> 26067837 | D6: =SUM(D7:D12) -> 26067406 | E6: =D6/C6*100 -> 99.998347
A7: 1.1. Helyi önk. működésének ált. támogatása | B7: 16018253 | C7: 16018253 | D7: 16018253 | E7: =D7/C7*100 -> 100
A8: 1.2. Települési önk. egyes köznev. feladatainak támogatása
A9: 1.3. Települési önk. szoc. és gyermekjóléti feladatainak tám. | B9: 7725584 | C9: 7780584 | D9: 7780702 | E9: =D9/C9*100 -> 100.00152
A10: 1.4. Települési önk. kult. feladatainak támogatása | B10: 1200000 | C10: 1200000 | D10: 1200000 | E10: =D10/C10*100 -> 100
A11: 1.5. Helyi önk. Működési célú költségvetési támogatásai és kiegészítő támogatásai | C11: 1069000 | D11: 1068451 | E11: =D11/C11*100 -> 99.948644
A12: 1.6. Elszámolásból származó bevételek
A13: 1.7. Gyermekétkeztetés
A14: 2. Elvonások, befizetések
A15: 3. Működési célú garancia- és kezességvállalásból származó megtérülések áh-n belülről
A16: 4. Működési célú visszatérítendő támogatások, kölcsönök visszatérülése áh-n belülről
A17: 5. Működési célú visszatérítendő támogatások, kölcsönök igénybevétele áh-n belülről
A18: 6. Egyéb működési célú támogatások bevételei államháztartáson belülről | B18: 5154000 | C18: 6962000 | D18: 6961891 | E18: =D18/C18*100 -> 99.998434
A19: ebből működési célú támogatás társadalombiztosítási alapból | B19: 4056000 | C19: 4279000 | D19: 4385700 | E19: =D19/C19*100 -> 102.49357
A20: II. Felhalmozási célú támogatások államháztartáson belülről | B20: 0 | C20: =C21+C23 -> 22516000 | D20: =D21+D23 -> 22516342 | E20: =D20/C20*100 -> 100.00152
A21: 1. Felhalmozási célú önkormányzati támogatások | B21: 0 | C21: 22516000 | D21: 22516342 | E21: =D21/C21*100 -> 100.00152
A22: 1.1. Felhalmozási célú központosított támogatások | C22: 0
A23: 1.2. Felhalmozási célú egyéb támogatások | C23: 0
A24: 1.3. Belterületi utak felújítása támogatás | B24: 0 | C24: 12750000 | D24: 12750000 | E24: =D24/C24*100 -> 100
A25: 1.4. Adósságkonszolidációs tám. | C25: 9766000 | D25: 9766342 | E25: =D25/C25*100 -> 100.0035
A26: 2. Felhalmozási célú garancia- és kezességvállalásból származó megtérülések áh-n belülről
A27: 3. Felhalmozási célú visszatérítendő támogatások, kölcsönök visszatérülése áh-n belülről
A28: 4. Felhalmozási célú visszatérítendő támogatások, kölcsönök igénybevétele áh-n belülről
A29: 5. Egyéb felhalmozási célú támogatások államháztartáson belülről
A30: III. Közhatalmi bevételek | B30: 20450163 | C30: 24429163 | D30: =D31+D35+D43 -> 25199240 | E30: =D30/C30*100 -> 103.15229
A31: 1. Vagyoni típusú adók | B31: =SUM(B32:B34) -> 10000000 | C31: =SUM(C32:C34) -> 10819000 | D31: =SUM(D32:D34) -> 10797589 | E31: =D31/C31*100 -> 99.802098
A32: 1.1. Építményadó
A33: 1.2. Telekadó | B33: 200000 | C33: 374000 | D33: 380860 | E33: =D33/C33*100 -> 101.83422
A34: 1.3. Magánszemélyek kommunális adója | B34: 9800000 | C34: 10445000 | D34: 10416729 | E34: =D34/C34*100 -> 99.729335
A35: 2. Termékek és szolgáltatások adói | B35: =B36+B38+B39 -> 10200000 | C35: =C36+C38+C39 -> 13142000 | D35: =D36+D38+D39 -> 13809187 | E35: =D35/C35*100 -> 105.07675
A36: 2.1. Értékesítési és forgalmi adók | B36: =SUM(B37) -> 8600000 | C36: =SUM(C37) -> 10426000 | D36: =SUM(D37) -> 11166607 | E36: =D36/C36*100 -> 107.10346
A37: 2.1. 1. Iparűzési adó | B37: 8600000 | C37: 10426000 | D37: 11166607 | E37: =D37/C37*100 -> 107.10346
A38: 2.2. Gépjárműadók | B38: 1500000 | C38: 1719000 | D38: 1640180 | E38: =D38/C38*100 -> 95.414776
A39: 2.3. Egyéb áruhasználati és szolgáltatási adók | B39: =SUM(B40:B42) -> 100000 | C39: =SUM(C40:C42) -> 997000 | D39: =SUM(D40:D42) -> 1002400 | E39: =D39/C39*100 -> 100.54162
A40: 2.3.1. Ifa személyek u. | B40: 100000 | C40: 997000 | D40: 1002400 | E40: =D40/C40*100 -> 100.54162
A41: 2.3.2. Talajterhelési díj
A42: 2.3.3. Települési adó
...

Sheet 6.sz.tábla
A1: MEGNEVEZÉS | B1: 2016. évi eredeti ei. | C1: 2016.V. módosítás | D1: 2016. évi teljesítés | E1: %
A2: Önkormányzat költségvetése
A3: I. Személyi juttatás | B3: 13077000 | C3: 14622000 | D3: 14218314 | E3: =D3/C3*100 -> 97.239188
A4: II. Munkaadót terhelő járulékok | B4: 2907000 | C4: 3666000 | D4: 3663608 | E4: =D4/C4*100 -> 99.934752
A5: III. Dologi kiadások | B5: =SUM(B7:B24) -> 28980000 | C5: =SUM(C7:C24) -> 29408000 | D5: =SUM(D7:D24) -> 25606124 | E5: =D5/C5*100 -> 87.071967
A6: Ebből
A7: Szakmai anyagok beszerzése | B7: 120000 | C7: 90000 | D7: 44511 | E7: =D7/C7*100 -> 49.456667
A8: Üzemeltetési anyagok beszerzése | B8: 2500000 | C8: 2500000 | D8: 2021342 | E8: =D8/C8*100 -> 80.85368
A9: Árubeszerzés | B9: 0 | C9: 0
A10: Informatikai szolgáltatások igénybevétele | B10: 750000 | C10: 425000 | D10: 237495 | E10: =D10/C10*100 -> 55.881176
A11: Egyéb kommunikációs szolgáltatások | B11: 750000 | C11: 515000 | D11: 479632 | E11: =D11/C11*100 -> 93.132427
A12: Közüzemi díjak | B12: 6000000 | C12: 4910000 | D12: 4049748 | E12: =D12/C12*100 -> 82.479593
A13: Vásárolt élelmezés | B13: 2500000 | C13: 2500000 | D13: 2159466 | E13: =D13/C13*100 -> 86.37864
A14: Bérleti és lízing díjak | B14: 0 | C14: 0
A15: Karbantartási, kisjavítási szolgáltatások | B15: 3000000 | C15: 1000000 | D15: 936724 | E15: =D15/C15*100 -> 93.6724
A16: Közvetített szolgáltatások | B16: 0 | C16: 2900000 | D16: 2884677 | E16: =D16/C16*100 -> 99.471621
A17: Szakmai tevékenységet segítő szolgáltatások | B17: 2000000 | C17: 1864000 | D17: 1540080 | E17: =D17/C17*100 -> 82.622318
A18: Egyéb szolgáltatások | B18: 4000000 | C18: 5630000 | D18: 5121365 | E18: =D18/C18*100 -> 90.965631
A19: Kiküldetések kiadásai | B19: 360000 | C19: 324000 | D19: 297580 | E19: =D19/C19*100 -> 91.845679
A20: Reklám- és propagandakiadások | B20: 100000 | C20: 166000 | D20: 117077 | E20: =D20/C20*100 -> 70.528313
A21: Működési célú előzetesen felszámított általános forgalmi adó | B21: 5100000 | C21: 4784000 | D21: 4176868 | E21: =D21/C21*100 -> 87.309114
A22: Fizetendő általános forgalmi adó | B22: 1400000 | C22: 1399000 | D22: 1200000 | E22: =D22/C22*100 -> 85.775554
A23: Egyéb pénzügyi műveletek kiadásai | B23: 0 | C23: 1000 | D23: 306 | E23: =D23/C23*100 -> 30.6
A24: Egyéb dologi kiadások | B24: 400000 | C24: 400000 | D24: 339253 | E24: =D24/C24*100 -> 84.81325
A25: IV. Egyéb működési célú kiadások (7 tábla)
A26: 1. Működési célú támogatások áhb | B26: ='7.sz.tábla'!B4 -> 8699000 | C26: ='7.sz.tábla'!C4 -> 9396000 | D26: ='7.sz.tábla'!D4 -> 9043327 | E26: =D26/C26*100 -> 96.246562
A27: 2. Működési célú támogatások áhk | B27: ='7.sz.tábla'!B13 -> 635000 | C27: ='7.sz.tábla'!C13 -> 644000 | D27: ='7.sz.tábla'!D13 -> 543952 | E27: =D27/C27*100 -> 84.464596
A28: 3. Állami támogatás visszafizetése elszámolás alapján | B28: 0 | C28: 72000 | D28: 71507 | E28: =D28/C28*100 -> 99.315278
A29: IV. Összesen: | B29: =SUM(B26:B28) -> 9334000 | C29: =SUM(C26:C28) -> 10112000 | D29: =SUM(D26:D28) -> 9658786 | E29: =D29/C29*100 -> 95.518058
A30: V. Ellátottak pénzbeli juttatásai
A31: Nyári szociális gyermekétkeztetés
A32: Rendkívüli gyermekvédelmi támogatás
A33: Átmeneti segély | B33: 1173000 | C33: 1173000 | D33: 368610 | E33: =D33/C33*100 -> 31.424552
A34: Méltányos ápolási díj
A35: Születési segély | D35: 90000
A36: Temetési segély | B36: 100000 | C36: 100000 | D36: 60000 | E36: =D36/C36*100 -> 60
A37: Köztemetés
A38: Közlekedési támogatás
A39: Ápolási díj | B39: 342000 | C39: 342000 | D39: 342000 | E39: =D39/C39*100 -> 100
A40: Egyéb önkormányzati támogatás | C40: 2200000 | D40: 3200000 | E40: =D40/C40*100 -> 145.45455
...

Sheet 7.sz.tábla
A3: MEGNEVEZÉS | B3: 2016. évi eredeti ei. | C3: 2016.V. módosítás | D3: 2016. évi teljesítés | E3: %
A4: Működési célú támogatás államháztartáson belülre | B4: =SUM(B5:B12) -> 8699000 | C4: =SUM(C5:C12) -> 9396000 | D4: =SUM(D5:D12) -> 9043327 | E4: =D4/C4*100 -> 96.246562
A5: Közoktatási Intézményfenntartó Társulás (Óvoda) | B5: 3988000 | C5: 3917000 | D5: 3543000 | E5: =D5/C5*100 -> 90.451876
A6: Balatonfüredi Közös Önkormányzati Hivatal (Hivatal) | B6: 4083000 | C6: 4715000 | D6: 4616470
A7: Közoös Hivatal (rendszeres gyermekvédelmi)
A8: Gyermekjóléti szolgálat
A9: BURSA Hungarica ösztöndíj (Wekerle Sándor Alapkezelő) | D9: 120000
A10: Balatonfüredi Többcélú Társulás (Jelzőrendszeres házi segítségnyújtás, Házi segítségnyújtás) | B10: 501000 | C10: 501000 | D10: =763857-277516 -> 486341 | E10: =D10/C10*100 -> 97.074052
A11: Balatonfüredi Többcélú Társulás (Belső ellenőrzés, család-és gyermekjóléti szolg.) | B11: 127000 | C11: 263000 | D11: 277516 | E11: =D11/C11*100 -> 105.51939
A13: Működési célú támogatás államháztartáson kívülre | B13: =B14+B24+B18 -> 635000 | C13: =C14+C24+C18 -> 644000 | D13: =D14+D24+D18 -> 543952 | E13: =D13/C13*100 -> 84.464596
A14: Egyesületek alapítványok támogatása | B14: 300000 | C14: 300000 | D14: 200000 | E14: =D14/C14*100 -> 66.666667
A15: Pécselyi Református Egyházközség | B15: 0 | C15: 100000 | D15: 200000 | E15: =D15/C15*100 -> 200
A16: Pécselyi Katolikus Egyház | B16: 0 | C16: 0
A17: Pécselyi Ált.Isk. és Óvoda Gyermekeiért Alapítvány | B17: 0 | C17: 0
A18: Tihany Iskoláért alapítvány
A19: Pécselyi Sportegyesület
A20: Balaton-felvidéki Turisztikai Közhasznú Egyesület
A21: Balatonfüredi Református Iskola
A22: Bakonykarszt pályázati támogatás (lakossági víz és szennyv.sz.)
A24: Balatonfüredi Önkéntes Tűzoltóság | B24: 335000 | C24: 344000 | D24: 343952 | E24: =D24/C24*100 -> 99.986047
A26: Összesen: | B26: =B13+B4 -> 9334000 | C26: =C13+C4 -> 10040000 | D26: =D13+D4 -> 9587279 | E26: =D26/C26*100 -> 95.490827

Sheet 8.sz.tábla
A3: MEGNEVEZÉS | B3: 2016. évi eredeti ei. | C3: 2016.V. módosítás | D3: 2016. évi teljesítés | E3: %
A4: I. Beruházások | B4: =B5+B6+B7 -> 4200000 | C4: =C5+C6+C7+C9+C10+C11+C12+C13+C14+C15+C16+C17 -> 5254000 | D4: =D5+D6+D7+D9+D10+D11+D12+D13+D14+D15+D16+D17 -> 3969650 | E4: =D4/C4*100 -> 75.554815
A5: Ingatlanok beszerzése (2db buszváró) | B5: 1600000 | C5: 1977000 | D5: 1830163 | E5: =D5/C5*100 -> 92.572736
A6: Lombfúvó beszerzése | B6: 100000 | C6: 100000 | D6: 57990 | E6: =D6/C6*100 -> 57.99
A7: Közvilágítás bővítése | B7: 2500000 | C7: 2500000 | D7: 1485900 | E7: =D7/C7*100 -> 59.436
A8: Gép beszerzés
A9: Irodaszékek vásárlása a hivatalba | C9: 48000 | D9: 47970 | E9: =D9/C9*100 -> 99.9375
A10: MATADOR nyári gumi (4 db) beszerzése | C10: 95000 | D10: 94488 | E10: =D10/C10*100 -> 99.461053
A11: CD-lejátszós MP3 + tartozékai beszerzése | C11: 25000 | D11: 24597 | E11: =D11/C11*100 -> 98.388
A12: Fűnyíró beszerzése | C12: 70000 | D12: 69900 | E12: =D12/C12*100 -> 99.857143
A13: Hulladékgyűjtők vásárlása | C13: 65000 | D13: 64186 | E13: =D13/C13*100 -> 98.747692
A14: Korlát beszerzése (iskola) | C14: 60000 | D14: =31280+8443 -> 39723 | E14: =D14/C14*100 -> 66.205
A15: "Pécselyért érdemrend" emléktáblák beszerzése (62/2016. (04.26.) hat.) | C15: 104000 | D15: 104013 | E15: =D15/C15*100 -> 100.0125
A16: Tűzoltó-készülék beszerzése orvosi rendelőbe | C16: 10000 | D16: 9300 | E16: =D16/C16*100 -> 93
A17: Kisértékű eszköz beszerzése | C17: 200000 | D17: =96898+119+44403 -> 141420 | E17: =D17/C17*100 -> 70.71
A18: II. Felújítások | B18: =B19+B20+B21+B22+B23+B24+B25+B26+B27+B29+B30+B31+B32+B33+B34+B35+B36 -> 12281000 | C18: =C19+C20+C21+C22+C23+C24+C25+C26+C27+C29+C30+C31+C32+C33+C34+C35+C36 -> 43907000 | D18: =D19+D20+D21+D22+D23+D24+D25+D26+D27+D29+D30+D31+D32+D33+D34+D35+D36+D28 -> 8719056 | E18: =D18/C18*100 -> 19.858009
A19: Orvosi rendelő felújítása | B19: 3191000 | C19: 3191000 | D19: 3196445 | E19: =D19/C19*100 -> 100.17064
A20: Külterületi utak felújítása | B20: 1000000 | C20: 1000000 | E20: =D20/C20*100 -> 0
A21: Rendezési terv módosítása | B21: 2800000 | C21: 2800000 | D21: =804329+1850000 -> 2654329 | E21: =D21/C21*100 -> 94.797464
A22: Kultúrház - villámhárító | B22: 289000 | C22: 289000 | D22: 267730 | E22: =D22/C22*100 -> 92.640138
A23: Kultúrház felújítás | B23: 3000000 | C23: 3000000 | D23: 1222235 | E23: =D23/C23*100 -> 40.741167
A24: belső munkák - Vászolyi-Ács Kft. | B24: 1001000 | C24: 1001000 | E24: =D24/C24*100 -> 0
A25: Hivatal felújítása | B25: 1000000 | C25: 1000000 | E25: =D25/C25*100 -> 0
A26: Belterületi utak felújítása pályázathoz önerő | C26: 2250000 | E26: =D26/C26*100 -> 0
A27: Belterületi utak felújítása pályázat | C27: 12750000 | E27: =D27/C27*100 -> 0
A28: 768.HRSZ-Ú ÚT FELÚJÍTÁSA - 5% VISSZATARTÁSA | D28: 23600
A29: Óvoda felújítás pályázatának elkészítési díja | C29: 0
A30: Buszvárók felújításának tervdokumentum elkészítése | C30: 200000 | D30: 200000 | E30: =D30/C30*100 -> 100
A31: Mozgáskorlátozott feljáró terv (orvosi rendelő felújítása) | C31: 200000 | E31: =D31/C31*100 -> 0
A32: Orvosi rendelő és lakás radiátorok lecserélése | C32: 1155000 | D32: 1154717 | E32: =D32/C32*100 -> 99.975498
A33: I. Világháborús emlékművek helyreállítása | C33: 1415000 | E33: =D33/C33*100 -> 0
A34: Bérelt önkormányzati lakáson felújítás (ablakcsere) | C34: 748000 | E34: =D34/C34*100 -> 0
A35: iskolán viharkár miatti felújítás | C35: 3142000 | E35: =D35/C35*100 -> 0
A36: adósságkonszolidáció - utak felújítása | C36: 9766000 | E36: =D36/C36*100 -> 0
A37: III. Egyéb felhalmozási kiadások: | C37: 71000 | D37: 71000 | E37: =D37/C37*100 -> 100
A38: Egyéb felhalm.tám. ÁHB | C38: 71000 | D38: 71000 | E38: =D38/C38*100 -> 100
A39: Felhalmozási kiadások összesen: | B39: =B37+B4+B18 -> 16481000 | C39: =C37+C4+C18 -> 49232000 | D39: =D37+D4+D18 -> 12759706 | E39: =D39/C39*100 -> 25.917505
A40: IV. Finanszírozási kiadások
A41: Hitel törlesztés
A42: Forgatási célú értékpapír vásárlás
...

Sheet 9.sz.tábla
A4: Az Önkormányzat működési bevételei és kiadásai 2016. év
A6: MEGNEVEZÉS | B6: 2016. évi eredeti ei. | C6: 2016.V. módosítás | D6: 2016. évi teljesítés | E6: % | F6: MEGNEVEZÉS | G6: 2016. évi eredeti ei. | H6: 2016.V. módosítás | I6: 2016. évi teljesítés | J6: %
A7: 1. Működési célú támogatások államháztartáson belülről | B7: ='4.sz.tábla'!B4 -> 30097837 | C7: ='4.sz.tábla'!C4 -> 33029837 | D7: ='4.sz.tábla'!D4 -> 33029297 | E7: =D7/C7*100 -> 99.998365 | F7: 1. Személyi juttatások | G7: ='6.sz.tábla'!B3 -> 13077000 | H7: ='6.sz.tábla'!C3 -> 14622000 | I7: ='6.sz.tábla'!D3 -> 14218314 | J7: =I7/H7*100 -> 97.239188
A8: 2. Közhatalmi bevételek | B8: ='4.sz.tábla'!B6 -> 20450163 | C8: ='4.sz.tábla'!C6 -> 24429163 | D8: ='4.sz.tábla'!D6 -> 25199240 | E8: =D8/C8*100 -> 103.15229 | F8: 2. Munkaadót terhelő járulékok és szoc.hj. Adó | G8: ='6.sz.tábla'!B4 -> 2907000 | H8: ='6.sz.tábla'!C4 -> 3666000 | I8: ='6.sz.tábla'!D4 -> 3663608 | J8: =I8/H8*100 -> 99.934752
A9: 3. Működési bevételek | B9: ='4.sz.tábla'!B7 -> 6600000 | C9: ='4.sz.tábla'!C7 -> 9722000 | D9: ='4.sz.tábla'!D7 -> 9738934 | E9: =D9/C9*100 -> 100.17418 | F9: 3. Dologi kiadások | G9: ='6.sz.tábla'!B5 -> 28980000 | H9: ='6.sz.tábla'!C5 -> 29408000 | I9: ='6.sz.tábla'!D5 -> 25606124 | J9: =I9/H9*100 -> 87.071967 | K9: =SUM(#REF!) -> #REF!
A10: 4. Működési célú átvett pénzeszközök államháztartáson kivülről | B10: ='4.sz.tábla'!B9 -> 0 | C10: ='4.sz.tábla'!C9 -> 20000 | D10: ='4.sz.tábla'!D9 -> 20000 | E10: =D10/C10*100 -> 100 | F10: 4. Ellátottak pénzbeli juttatásai | G10: ='6.sz.tábla'!B42 -> 1865000 | H10: ='6.sz.tábla'!C42 -> 4642000 | I10: ='6.sz.tábla'!D42 -> 4060610 | J10: =I10/H10*100 -> 87.475442
F11: 5. Egyéb működési célú kiadások | G11: ='6.sz.tábla'!B29 -> 9334000 | H11: ='6.sz.tábla'!C29 -> 10112000 | I11: ='6.sz.tábla'!D29 -> 9658786 | J11: =I11/H11*100 -> 95.518058 | K11: =SUM(#REF!) -> #REF!
F12: 5.1. Elvonások, befizetések | G12: ='6.sz.tábla'!B28 -> 0 | H12: ='6.sz.tábla'!C28 -> 72000 | I12: ='6.sz.tábla'!D28 -> 71507 | J12: =I12/H12*100 -> 99.315278
F13: 5.2. Egyéb működési célú támogatások áh-n belülre | G13: ='6.sz.tábla'!B26 -> 8699000 | H13: ='6.sz.tábla'!C26 -> 9396000 | I13: ='6.sz.tábla'!D26 -> 9043327 | J13: =I13/H13*100 -> 96.246562 | K13: =SUM(#REF!) -> #REF!
F14: 5.4. Egyéb működési célú támogatások áh-n kívülre | G14: ='6.sz.tábla'!B27 -> 635000 | H14: ='6.sz.tábla'!C27 -> 644000 | I14: ='6.sz.tábla'!D27 -> 543952 | J14: =I14/H14*100 -> 84.464596
F15: 5.5. Működési célú visszatérítendő támogatások, kölcsönök nyújtása áh-n kívülre | G15: ='6.sz.tábla'!B32 -> 0 | H15: 0 | I15: 0
F16: 6. Pénzforgalom nélküli kiadások (tartalék) | G16: ='4.sz.tábla'!B24 -> 18507000 | H16: ='4.sz.tábla'!C24 -> 10129000 | I16: ='4.sz.tábla'!D24 -> 0 | J16: =I16/H16*100 -> 0
A17: Összes költségvetési működési bevétel: | B17: =SUM(B7:B16) -> 57148000 | C17: =SUM(C7:C16) -> 67201000 | D17: =SUM(D7:D16) -> 67987471 | E17: =D17/C17*100 -> 101.17033 | F17: Összes költségvetési működési kiadás: | G17: =G7+G8+G9+G10+G11+G16 -> 74670000 | H17: =H7+H8+H9+H10+H11+H16 -> 72579000 | I17: =I7+I8+I9+I10+I11+I16 -> 57207442 | J17: =I17/H17*100 -> 78.820929
A18: Működési többlet: | B18: =B17-G17 -> -17522000 | C18: =C17-H17 -> -5378000 | D18: =D17-I17 -> 10780029 | F18: Működési hiány:
A19: Költségvetési hiány belső finanszírozása működési célú | B19: =SUM(B20) -> 5000000 | C19: =SUM(C20) -> 5474000 | D19: =SUM(D20) -> 5474000 | E19: =D19/C19*100 -> 100 | F19: Finanszírozási célú műveletek kiadásai működési célú | G19: =SUM(G20:G20) -> 1377000 | H19: =SUM(H20:H21) -> 1796000 | I19: =SUM(I20:I22) -> 71491905 | J19: =I19/H19*100 -> 3980.6183
A20: 5. Költségvetési Maradvány | B20: ='5.sz.tábla'!B75 -> 5000000 | C20: ='5.sz.tábla'!C75 -> 5474000 | D20: ='5.sz.tábla'!D75 -> 5474000 | E20: =D20/C20*100 -> 100 | F20: 7. Állami támogatás megelőlegezés visszafizetése | G20: ='4.sz.tábla'!B30 -> 1377000 | H20: ='4.sz.tábla'!C30 -> 1796000 | I20: ='4.sz.tábla'!D30 -> 1491905 | J20: =I20/H20*100 -> 83.068207
A21: Költségvetési hiány külső finanszírozása működési célú | B21: =SUM(B22:B25) -> 25380000 | C21: =SUM(C22:C25) -> 26501000 | D21: =SUM(D22:D25) -> 96501213 | E21: =D21/C21*100 -> 364.14178 | F21: 8. Hitelek törlesztése
A22: 6. Értékpapír kibocsátás, értékesítés | F22: 9. Betét vásárlás | I22: 70000000
A23: 7. Hitelfelvétel
A24: 8. Állami támogatás megelőlegezés | B24: ='5.sz.tábla'!B88 -> 380000 | C24: ='5.sz.tábla'!C88 -> 1501000 | D24: ='5.sz.tábla'!D88 -> 1501213 | E24: =D24/C24*100 -> 100.01419
A25: 9. Lekötött betét bevonása | B25: ='5.sz.tábla'!B87 -> 25000000 | C25: ='5.sz.tábla'!C87 -> 25000000 | D25: ='5.sz.tábla'!D87 -> 95000000 | E25: =D25/C25*100 -> 380
A26: Összes működési bevétel: | B26: =B17+B19+B21 -> 87528000 | C26: =C17+C19+C21 -> 99176000 | D26: =D17+D19+D21 -> 169962684 | E26: =D26/C26*100 -> 171.37481 | F26: Összes működési kiadás | G26: =G17+G19 -> 76047000 | H26: =H19+H17 -> 74375000 | I26: =I19+I17 -> 128699347 | J26: =I26/H26*100 -> 173.04114
A28: Az Önkormányzat felhalmozási bevételei és kiadásai 2016. év
A30: 1. Felhalmozási bevételek | B30: 2016. évi eredeti ei. | C30: 2016.V. módosítás | D30: 2016. évi teljesítés | E30: % | F30: 2. Felhalmozási kiadások | G30: 2016. évi eredeti ei. | H30: 2016.V. módosítás | I30: 2016. évi teljesítés | J30: %
A31: 1. Felhalmozási célú támogatások államháztartáson belülről | B31: ='4.sz.tábla'!B5 -> 0 | C31: ='4.sz.tábla'!C5 -> 22516000 | D31: ='4.sz.tábla'!D5 -> 22516342 | E31: =D31/C31*100 -> 100.00152 | F31: 1.1. Beruházások | G31: ='4.sz.tábla'!B22 -> 4200000 | H31: ='4.sz.tábla'!C22 -> 5254000 | I31: ='4.sz.tábla'!D22 -> 3969650 | J31: ='4.sz.tábla'!E22 -> 75.554815
A32: 2. Felhalmozási bev. | B32: ='4.sz.tábla'!B8 -> 5000000 | C32: ='4.sz.tábla'!C8 -> 0 | D32: ='4.sz.tábla'!D8 -> 0 | F32: 1.2. Int.saját hatáskörű fejlesztések | G32: 0 | H32: 0 | I32: 0 | J32: 0
A33: 3. Felhalmozási célú átvett pénzeszközök | B33: ='4.sz.tábla'!B10 -> 0 | C33: ='4.sz.tábla'!C10 -> 1915000 | D33: ='4.sz.tábla'!D10 -> 1915000 | E33: =D33/C33*100 -> 100 | F33: 2. Felújítások | G33: ='4.sz.tábla'!B23 -> 12281000 | H33: ='4.sz.tábla'!C23 -> 43907000 | I33: ='4.sz.tábla'!D23 -> 8719056 | J33: ='4.sz.tábla'!E23 -> 19.858009
F34: 3. Egyéb felhalmozási kiadások | G34: =SUM(G35:G38) -> 0 | H34: =SUM(H35:H38) -> 71000 | I34: =SUM(I35:I38) -> 71000 | J34: =SUM(J35:J38) -> 100
F35: 3.1. Egyéb felhalmozási célú támogatások áh-n kívülre
F36: 3.2. Egyéb felhalmozási célú támogatások áh-n belülre | G36: ='8.sz.tábla'!B37 -> 0 | H36: ='8.sz.tábla'!C37 -> 71000 | I36: ='8.sz.tábla'!D37 -> 71000 | J36: ='8.sz.tábla'!E37 -> 100
F37: 3.3. Felhalmozási célú visszatérítendő támogatások, kölcsönök nyújtása áh-n belülre
F38: 3.3. Felhalmozási célú visszatérítendő támogatások, kölcsönök nyújtása áh-n kívülre
A39: Összes költségvetési felhalmozási bevétel: | B39: =SUM(B31:B37) -> 5000000 | C39: =SUM(C31:C37) -> 24431000 | D39: =SUM(D31:D37) -> 24431342 | E39: =D39/C39*100 -> 100.0014 | F39: Összes költségvetési felhalmozási kiadás: | G39: =SUM(G31:G34) -> 16481000 | H39: =SUM(H31:H34) -> 49232000 | I39: =SUM(I31:I34) -> 12759706 | J39: =SUM(J31:J34) -> 195.41282
A40: Felhalmozási többlet: | D40: =D39-I39 -> 11671636 | F40: Felhalmozási hiány: | G40: =B39-G39 -> -11481000 | H40: =C39-H39 -> -24801000
A41: Költségvetési hiány belső finanszírozása felhalmozási célú | B41: =SUM(B42) -> 0 | C41: =SUM(C42) -> 0 | D41: =SUM(D42) -> 0 | F41: Finanszírozási célú műveletek kiadásai felhalmozási célú | G41: =SUM(G42:G44) -> 0 | H41: =SUM(H42:H43) -> 0 | J41: =SUM(J42:J43) -> 0
A42: 4.Költségvetési maradvány | B42: 0 | C42: 0 | D42: 0 | F42: 4. Értékpapírok visszavásárlása
A43: Költségvetési hiány külső finanszírozása felhalmozási célú | B43: =SUM(B44:B45) -> 0 | C43: =SUM(C44:C45) -> 0 | D43: =SUM(D44:D45) -> 0 | F43: 5. Hitelek törlesztése
A44: 5. Értékpapír kibocsátás, értékesítés | F44: 6. Állami támogatás megelőlegezés visszafizetése
A45: 6. Hitelfelvétel
A46: Összes felhalmozási bevétel: | B46: =B39+B41+B43 -> 5000000 | C46: =C39+C41+C43 -> 24431000 | D46: =D39+D41+D43 -> 24431342 | E46: =D46/C46*100 -> 100.0014 | F46: Összes felhalmozási kiadás | G46: =G39+G41 -> 16481000 | H46: =H39+H41 -> 49232000 | I46: =I39+I41 -> 12759706 | J46: =J39+J41 -> 195.41282
...

Sheet 10.sz.tábla
A4: Az Önkormányzat kötelező feladatok bevételei és kiadásai 2016. év
A6: MEGNEVEZÉS | B6: 2016. évi eredeti ei. | C6: 2016.V. módosítás | D6: 2016. évi teljesítés | E6: % | F6: MEGNEVEZÉS | G6: 2016. évi eredeti ei. | H6: 2016.V. módosítás | I6: 2016. évi teljesítés | J6: %
A7: Működési bevételek | F7: Működési kiadások
A8: 1. Működési támogatások államháztartáson belülről | B8: ='9.sz.tábla'!B7 -> 30097837 | C8: ='9.sz.tábla'!C7 -> 33029837 | D8: ='9.sz.tábla'!D7 -> 33029297 | E8: =D8/C8*100 -> 99.998365 | F8: 1. Személyi juttatások | G8: ='9.sz.tábla'!G7 -> 13077000 | H8: ='9.sz.tábla'!H7 -> 14622000 | I8: ='9.sz.tábla'!I7 -> 14218314 | J8: =I8/H8*100 -> 97.239188
A9: 2. Közhatalmi bevételek | B9: ='9.sz.tábla'!B8 -> 20450163 | C9: ='9.sz.tábla'!C8 -> 24429163 | D9: ='9.sz.tábla'!D8 -> 25199240 | E9: =D9/C9*100 -> 103.15229 | F9: 2. Munkaadót terhelő járulékok | G9: ='9.sz.tábla'!G8 -> 2907000 | H9: ='9.sz.tábla'!H8 -> 3666000 | I9: ='9.sz.tábla'!I8 -> 3663608 | J9: =I9/H9*100 -> 99.934752
A10: 3. Működési bevételek | B10: ='9.sz.tábla'!B9 -> 6600000 | C10: ='9.sz.tábla'!C9 -> 9722000 | D10: ='9.sz.tábla'!D9 -> 9738934 | E10: =D10/C10*100 -> 100.17418 | F10: 3. Dologi kiadások | G10: ='9.sz.tábla'!G9 -> 28980000 | H10: ='9.sz.tábla'!H9 -> 29408000 | I10: ='9.sz.tábla'!I9 -> 25606124 | J10: =I10/H10*100 -> 87.071967
A11: 4. Működési célú átvett pénzeszközök áhk | B11: ='9.sz.tábla'!B10 -> 0 | C11: ='9.sz.tábla'!C10 -> 20000 | D11: ='9.sz.tábla'!D10 -> 20000 | E11: =D11/C11*100 -> 100 | F11: 4. Ellátottak pénzbeli juttatásai | G11: ='9.sz.tábla'!G10 -> 1865000 | H11: ='9.sz.tábla'!H10 -> 4642000 | I11: ='9.sz.tábla'!I10 -> 4060610 | J11: =I11/H11*100 -> 87.475442
F12: 5. Egyéb működési célú kiadások
F13: 5.1. Elvonások, befizetések | G13: ='9.sz.tábla'!G12 -> 0 | H13: ='9.sz.tábla'!H12 -> 72000 | I13: ='9.sz.tábla'!I12 -> 71507 | J13: =I13/H13*100 -> 99.315278
F14: 5.2. Egyéb működési célú támogatások áhb | G14: ='7.sz.tábla'!B6+'7.sz.tábla'!B8+'7.sz.tábla'!B9 -> 4083000 | H14: ='7.sz.tábla'!C6 -> 4715000 | I14: ='7.sz.tábla'!D6+120000 -> 4736470 | J14: =I14/H14*100 -> 100.45536
F15: 5.4. Egyéb működési célú támogatások áhk | G15: 0 | H15: 0 | I15: 0
F16: 5.5. Műk.c.visszatérítendő tám.-k, kölcs.-k áhk | G16: ='9.sz.tábla'!G15 -> 0 | H16: ='9.sz.tábla'!H15 -> 0 | I16: ='9.sz.tábla'!I15 -> 0
F17: 6. Pénzforgalom nélküli kiadások (tartalék) | G17: ='9.sz.tábla'!G16 -> 18507000 | H17: ='9.sz.tábla'!H16 -> 10129000 | I17: ='9.sz.tábla'!I16 -> 0 | J17: =I17/H17*100 -> 0
A18: Költségvetési működési bevételek kötelező feladatok szerinti bontásban | B18: =SUM(B8:B17) -> 57148000 | C18: =SUM(C8:C17) -> 67201000 | D18: =SUM(D8:D17) -> 67987471 | E18: =D18/C18*100 -> 101.17033 | F18: Költségvetési felhalmozási kiadások kötelező feladatok szerinti bontásban | G18: =SUM(G8:G17) -> 69419000 | H18: =SUM(H8:H17) -> 67254000 | I18: =SUM(I8:I17) -> 52356633 | J18: =I18/H18*100 -> 77.849099
A19: Finanszírozási bevételek | B19: ='4.sz.tábla'!B15 -> 30380000 | C19: ='4.sz.tábla'!C15 -> 31975000 | D19: ='4.sz.tábla'!D15 -> 101975213 | E19: =D19/C19*100 -> 318.9217 | F19: Finanszírozási kiadások | G19: ='4.sz.tábla'!B31 -> 1377000 | H19: ='4.sz.tábla'!C31 -> 1796000 | I19: ='4.sz.tábla'!D31 -> 71491905 | J19: =I19/H19*100 -> 3980.6183
A20: Működési bevételek kiemelt előirányzatonként kötelező feladatok szerinti bontásban | B20: =B18+B19 -> 87528000 | C20: =C18+C19 -> 99176000 | D20: =D18+D19 -> 169962684 | E20: =D20/C20*100 -> 171.37481 | F20: Működési kiadások kiemelt előirányzatonként kötelező feladatok szerinti bontásban | G20: =G18+G19 -> 70796000 | H20: =H18+H19 -> 69050000 | I20: =I18+I19 -> 123848538 | J20: =I20/H20*100 -> 179.36066
A21: Felhalmozási bevételek | F21: Felhalmozási kiadások
A22: 1. Felhalmozási célú támogatások áhb | B22: ='9.sz.tábla'!B31 -> 0 | C22: ='9.sz.tábla'!C31 -> 22516000 | D22: ='9.sz.tábla'!D31 -> 22516342 | E22: =D22/C22*100 -> 100.00152 | F22: 1.1. Beruházások | G22: ='9.sz.tábla'!G31 -> 4200000 | H22: ='9.sz.tábla'!H31 -> 5254000 | I22: ='9.sz.tábla'!I31 -> 3969650 | J22: =I22/H22*100 -> 75.554815
A23: 2. Felhalmozási bevételek | B23: ='9.sz.tábla'!B32 -> 5000000 | C23: ='9.sz.tábla'!C32 -> 0 | D23: ='9.sz.tábla'!D32 -> 0 | F23: 1.2. Int.saját hatáskörű fejlesztések
A24: 3. Felhalm. célú átvett pénzeszközök áhk | B24: ='9.sz.tábla'!B33 -> 0 | C24: ='9.sz.tábla'!C33 -> 1915000 | D24: ='9.sz.tábla'!D33 -> 1915000 | E24: =D24/C24*100 -> 100 | F24: 2. Felújítások | G24: ='9.sz.tábla'!G33 -> 12281000 | H24: ='9.sz.tábla'!H33 -> 43907000 | I24: ='9.sz.tábla'!I33 -> 8719056 | J24: =I24/H24*100 -> 19.858009
F25: 3. Egyéb felhalmozási célú kiadások
F26: 3.1. Egyéb felhalm. célú pénzeszk. átadás áhk
F27: 3.2. Egyéb felhalmozási célú pénzeszköz átadás áh-n belülre
F28: 3.4. Felhalmozási célú visszatérítendő támogatások, kölcsönök nyújtása áh-n kívülre
A29: Költségvetési felhalmozási bevételek kötelező feladatok szerinti bontásban | B29: =SUM(B22:B28) -> 5000000 | C29: =SUM(C22:C28) -> 24431000 | D29: =SUM(D22:D28) -> 24431342 | E29: =D29/C29*100 -> 100.0014 | F29: Költségvetési felhalmozási kiadások kötelező feladatok szerinti bontásban | G29: =SUM(G22:G28) -> 16481000 | H29: =SUM(H22:H28) -> 49161000 | I29: =SUM(I22:I28) -> 12688706 | J29: =I29/H29*100 -> 25.810512
A30: Finanszírozási bevételek | F30: Finanszírozási kiadások
A31: Felhalmozási bevételek kiemelt előirányzatonként kötelező feladatok szerinti bontásban | B31: =B29+B30 -> 5000000 | C31: =C29+C30 -> 24431000 | D31: =D29+D30 -> 24431342 | E31: =D31/C31*100 -> 100.0014 | F31: Felhalmozási kiadások kiemelt előirányzatonként kötelező feladatok szerinti bontásban | G31: =G29+G30 -> 16481000 | H31: =H29+H30 -> 49161000 | I31: =I29+I30 -> 12688706 | J31: =I31/H31*100 -> 25.810512
A39: Az Önkormányzat önként vállalt feladatok bevételei és kiadásai 2016. év
A41: MEGNEVEZÉS | B41: 2016. évi eredeti ei. | C41: 2016.V. módosítás | D41: 2016. évi teljesítés | E41: % | F41: MEGNEVEZÉS | G41: 2016. évi eredeti ei. | H41: 2016.V. módosítás | I41: 2016. évi teljesítés | J41: %
A42: Működési bevételek | F42: Működési kiadások
A43: 1. Működési támogatások áhb | F43: 1. Személyi juttatások
A44: 2. Közhatalmi bevételek | F44: 2. Munkaadót terhelő járulékok
A45: 3. Működési bevételek | F45: 3. Dologi kiadások
A46: 4. Működési célú átvett pénzeszközök áhk | F46: 4. Ellátottak pénzbeli juttatásai
F47: 5. Egyéb működési célú kiadások
F48: 5.1. Elvonások, befizetések
F49: 5.2. Egyéb működési célú támogatások áhb | G49: ='7.sz.tábla'!B5+'7.sz.tábla'!B10+'7.sz.tábla'!B11 -> 4616000 | H49: ='7.sz.tábla'!C5+'7.sz.tábla'!C10+'7.sz.tábla'!C11 -> 4681000 | I49: ='7.sz.tábla'!D5+'7.sz.tábla'!D10+'7.sz.tábla'!D11 -> 4306857 | J49: =I49/H49*100 -> 92.007199
F50: 5.4. Egyéb működési célú támogatások áhk | G50: ='7.sz.tábla'!B14+'7.sz.tábla'!B24 -> 635000 | H50: ='7.sz.tábla'!C14+'7.sz.tábla'!C24+'7.sz.tábla'!C18 -> 644000 | I50: ='7.sz.tábla'!D14+'7.sz.tábla'!D24+'7.sz.tábla'!D18 -> 543952 | J50: =I50/H50*100 -> 84.464596
F51: 5.5. Műk.c.visszatérítendő tám.-k, kölcs.-k áhk
F52: 6. Pénzforgalom nélküli kiadások (tartalék)
...

Sheet 11.sz.tábla
A3: Több éves kihatással járó döntésekből származó kötelezettségek célok szerint,
A4: évenkénti bontásban (e/Ft)
A6: S.sz. | B6: Kötelezettség jogcíme | C6: Kötelezettség- | D6: 2016. évig | E6: 2016. évi költségvetés terhére fizetendő | J6: 2020. után | K6: Tárgyéven túli köt. Összesen (6+7+8+9+10) | L6: Összesen (4+5+11)
C7: vállalás | D7: kifizetés | F7: 2017. | G7: 2018. | H7: 2019. | I7: 2020.
C8: éve | D8: (aktuális kv-i év)
A9: 1. | B9: 2. | C9: 3. | D9: 4. | E9: 5. | F9: 6. | G9: 7. | H9: 8. | I9: 9. | J9: 10. | K9: 11. | L9: 12.
A10: 1. | B10: Működési célú hitel-törlesztés
B11: (tőke + kamat )
A13: 2. | B13: Felhalmozási célú hitel-törlesztés
B14: (tőke + kamat) | D14: =D18+D21+D23+D25 -> 0 | E14: =E18+E21+E23+E25 -> 0 | F14: =F18+F21+F23+F25 -> 0 | G14: =G18+G21+G23+G25 -> 0 | H14: =H18+H21+H23+H25 -> 0 | J14: =J18+J21+J23+J25 -> 0 | K14: =K18+K21+K23+K25 -> 0 | L14: =L18+L21+L23+L25 -> 0
K15: =F15+G15+H15+I15+J15 -> 0 | L15: =D15+E15+K15 -> 0
A18: 8. | B18: hitel összesen | D18: =SUM(D15:D16) -> 0 | E18: =SUM(E15:E16) -> 0 | F18: =SUM(F15:F17) -> 0 | G18: =SUM(G15:G17) -> 0 | H18: =SUM(H15:H17) -> 0 | I18: =SUM(I15:I17) -> 0 | J18: =SUM(J15:J17) -> 0 | K18: =SUM(K15:K17) -> 0 | L18: =SUM(L15:L17) -> 0
K19: =F19+G19+H19+I19+J19 -> 0 | L19: =D19+E19+K19 -> 0
A21: 14 | B21: kamat összesen | D21: =SUM(D19:D20) -> 0 | E21: =SUM(E19:E20) -> 0 | F21: =SUM(F19:F20) -> 0 | G21: =SUM(G19:G20) -> 0 | H21: =SUM(H19:H20) -> 0 | I21: =SUM(I19:I20) -> 0 | J21: =SUM(J19:J20) -> 0 | K21: =SUM(K19:K20) -> 0 | L21: =SUM(L19:L20) -> 0
K22: =F22+G22+H22+I22+J22 -> 0 | L22: =D22+E22+K22 -> 0
A23: 16 | B23: kezességvállalás: hitelek összesen | D23: =SUM(D22) -> 0 | E23: =SUM(E22) -> 0 | F23: =SUM(F22) -> 0 | G23: =SUM(G22) -> 0 | H23: =SUM(H22) -> 0 | J23: =SUM(J22) -> 0 | K23: =SUM(K22) -> 0 | L23: =SUM(L22) -> 0
K24: =F24+G24+H24+I24+J24 -> 0 | L24: =D24+E24+K24 -> 0
A25: 18 | B25: kezességvállalás: hitelkamatok össz. | D25: =SUM(D24) -> 0 | E25: =SUM(E24) -> 0 | F25: =SUM(F24) -> 0 | G25: =SUM(G24) -> 0 | H25: =SUM(H24) -> 0 | J25: =SUM(J24) -> 0 | K25: =SUM(K24) -> 0 | L25: =SUM(L24) -> 0
A26: 19 | B26: Fejlesztés feladatonként | D26: =SUM(D27:D28) -> 0 | E26: =SUM(E27:E28) -> 0 | F26: =SUM(F27:F28) -> 0 | G26: =SUM(G27:G28) -> 0 | H26: =SUM(H27:H28) -> 0 | I26: =SUM(I27:I28) -> 0 | J26: =SUM(J27:J28) -> 0 | K26: =SUM(K27:K28) -> 0 | L26: =SUM(L27:L28) -> 0
K27: =F27+G27+H27+I27+J27 -> 0 | L27: =D27+E27+K27 -> 0
B29: Összesen: (1+4+9) | D29: =D26+D14 -> 0 | E29: =E26+E14 -> 0 | F29: =F26+F14 -> 0 | G29: =G26+G14 -> 0 | H29: =H26+H14 -> 0 | I29: =I26+I14 -> 0 | J29: =J26+J14 -> 0 | K29: =K26+K14 -> 0 | L29: =L26+L14 -> 0

Sheet 12.sz.tábla
A3: Az Önkormányzat adósságállományának alakulása
A4: lejárat, eszközök bel- és külföldi hitelezők szerinti bontásban (e/Ft-ban)
A7: Sorszám | C7: Felvétel | D7: Lejárat | E7: Hitel állomány december 31-jén
B8: Hitel jellege | C8: éve | D8: éve | E8: 2016. | F8: 2017. | G8: 2018. | H8: 2019.
A10: 1. | B10: 2. | C10: 3. | D10: 4. | E10: 5. | F10: 6. | G10: 7. | H10: 8.
B11: BELFÖLDI HITELÁLLOMÁNY
A12: 1. | B12: Működési célú hitel állomány + kamat
A13: 2.
A14: 3. | B14: Hitel összesen
A15: 4.
A16: 5. | B16: Kamat összesen
A17: 6. | B17: Felhalmozási célú hitel állomány+kamat | E17: =E19+E21 -> 0 | F17: =F19+F21 -> 0 | G17: =G19+G21 -> 0 | H17: =H19+H21 -> 0
A18: 7. | E18: 0
A19: 8. | B19: Hitel összesen (7-10) | E19: =SUM(E18:E18) -> 0 | F19: =SUM(F18:F18) -> 0 | G19: =SUM(G18:G18) -> 0 | H19: =SUM(H18:H18) -> 0
A20: 9. | E20: 0
A21: 10. | B21: Kamat összesen (12-15) | E21: =SUM(E20:E20) -> 0 | F21: =SUM(F20:F20) -> 0 | G21: =SUM(G20:G20) -> 0 | H21: =SUM(H20:H20) -> 0
A22: 11. | B22: Összesen: (1+6) | E22: =E17+E12 -> 0 | F22: =F17+F12 -> 0 | G22: =G17+G12 -> 0 | H22: =H17+H12 -> 0
A23: 12. | B23: KÜLFÖLDI HITELÁLLOMÁNY
A24: 13. | B24: Működési célú hitel állomány + kamat
A25: 14.
A26: 15. | B26: Hitel összesen
A27: 16.
A28: 17. | B28: Kamat összesen
A29: 18. | B29: Felhalmozási célú hitel állomány+kamat
A30: 19.
A31: 20.
A32: 21.
A33: 22. | B33: Hitel összesen
A34: 23.
A35: 24.
A36: 25.
A37: 26. | B37: Kamat összesen
A38: 27. | B38: Összesen: (18+23)
A39: 28. | B39: Összesen: (17+32) | E39: =E22+E38 -> 0 | F39: =F22+F38 -> 0 | G39: =G22+G38 -> 0 | H39: =H22+H38 -> 0

Sheet 13.sz.tábla
A4: Az önkormányzat által adott közvetett támogatások
A5: (kedvezmények) 2016. év
A7: Sorszám | B7: Bevételi jogcím | C7: Intézmények, | D7: Kedvezmény nélkül | E7: Kedvezmények
C8: adónemek | D8: elérhető | E8: összege
D9: bevétel Ft | E9: Ft
A10: 1. | B10: 2. | C10: 3. | D10: 4. | E10: 5.
A11: 2. | B11: Ellátottak térítési díjának ill. kártérítésének méltányossági alapon történő elengedésének összege | D11: =SUM(D12:D13) -> 0 | E11: =SUM(E12:E17) -> 0
A19: 3. | B19: Lakosság részére nyújtott lakásépítéshez, lakásfelújításhoz nyújtott kölcsönök elengedésének összege | E19: 0
B20: Helyi adónál, gépjárműadónál biztosított kedvezmény, mentesség összege | D20: =SUM(D21:D28) -> 22663000 | E20: =SUM(E21:E28) -> 2213000
C21: Építményadó | D21: =F21+E21 -> 0 | E21: 0 | F21: ='[2]2.sz.tábla'!D34 -> 0
C22: Kommunális adó | D22: =F22+E22 -> 11455000 | E22: 1655000 | F22: ='[2]2.sz.tábla'!B36 -> 9800000
C23: Iparűzési adó | D23: =F23+E23 -> 8866000 | E23: 266000 | F23: ='[2]2.sz.tábla'!D39 -> 8600000
C24: IFA személyek után | D24: =F24+E24 -> 138000 | E24: 38000 | F24: ='[2]2.sz.tábla'!D42 -> 100000
C25: Telekadó | D25: =F25+E25 -> 200000 | E25: 0 | F25: ='[2]2.sz.tábla'!D35 -> 200000
C26: Talajterhelési díj | D26: =F26+E26 -> 0 | E26: 0 | F26: ='[2]2.sz.tábla'!D43 -> 0
C27: Gépjárműadó | D27: =F27+E27 -> 1754000 | E27: 254000 | F27: ='[2]2.sz.tábla'!D40 -> 1500000
C28: Egyéb bírság | D28: =F28+E28 -> 250000 | E28: 0 | F28: ='[2]2.sz.tábla'!D45 -> 250000
A29: 4. | B29: Helyiségek, eszközök hasznosításából származó bevételből nyújtott kedvezmény, mentesség összege | D29: =F29+E29 -> 0 | E29: 0
A30: 5. | B30: egyéb nyújtott kedvezmény vagy kölcsön elengedésének összege | D30: =F30+E30+G30 -> 0 | E30: 0
B31: Összesen : | D31: =D30+D29+D19+D20+D11 -> 22663000 | E31: =E30+E29+E19+E20+E11 -> 2213000 | F31: =SUM(F22:F28) -> 20450000

Sheet 14.sz.tábla
A4: Az önkormányzat adósságot keletkeztető ügyletből származó tárgyévi összes fizetési kötelezettsége az adósságot keletkeztető ügylet futamidejének végéig egyik évben sem haladja meg az önkormányzat adott évi saját bevételeinek 50%-át.
A7: Megnevezés | B7: 2016. év terv | C7: 2016. év teljesítés | D7: 2017. év terv | E7: 2018. év terv | F7: 2019. év terv
A8: 1. Helyi adó bevétel | B8: ='5.sz.tábla'!B30-B12-'5.sz.tábla'!B38-B12 -> 18450163 | C8: ='5.sz.tábla'!C30-C12-'5.sz.tábla'!D38 -> 22196519 | D8: ='[2]2.sz.tábla'!B33+'[2]2.sz.tábla'!B38+'[2]2.sz.tábla'!B41 -> 18700000 | E8: 18700000 | F8: ='[2]2.sz.tábla'!D33+'[2]2.sz.tábla'!D38+'[2]2.sz.tábla'!D41 -> 18700000
A9: 2. Vagyon és vagyonértékű jog értékesítéséből származó bevétel
A10: 3. Osztalék, koncessziós díj és hozambevétel, | B10: 0 | C10: 0 | D10: 0 | E10: 0 | F10: 0
A11: 4. tárgyi eszköz és immateriális jószág, részvény, részesedés, vállalalat értékesítésből vagy privatizációból származó bevétel
A12: 5. Bírság, pótlék- és díjbevétel | B12: ='5.sz.tábla'!B43 -> 250000 | C12: ='5.sz.tábla'!D43 -> 592464 | D12: 250000 | E12: 250000 | F12: 250000
A13: 6. Kezességvállalással kapcsolatos megtérülés
A14: Összesen: | B14: =SUM(B8:B13) -> 18700163 | C14: =SUM(C8:C13) -> 22788983 | D14: =SUM(D8:D13) -> 18950000 | E14: =SUM(E8:E13) -> 18950000 | F14: =SUM(F8:F13) -> 18950000
A15: az önkormányzat adott évi saját bevételeinek 50%-a | B15: =B14*0.5 -> 9350081.5 | C15: =C14*0.5 -> 11394492 | D15: =D14*0.5 -> 9475000 | E15: =E14*0.5 -> 9475000 | F15: =F14*0.5 -> 9475000
A18: adósságot keletkeztető ügyletekből és kezességvállalásokból fennálló kötelezettségek | C18: futamidő kezdete | D18: 2017. | E18: 2018. | F18: 2019.
A25: Összesen: | D25: =SUM(D19:D24) -> 0 | E25: =SUM(E19:E24) -> 0 | F25: =SUM(F19:F24) -> 0

Sheet 15.sz.tábla
A5: Önkormányzati ingatlanvagyon | B5: Állomány 2015.dec.31-én | C5: Átvezetések | D5: Forgalom 2016 | E5: Beemelés | F5: Állomány 2016.dec.31-én
A6: Üzleti | B6: =39102080+425304+3904000+207506+25000+363000-28187 -> 43998703 | D6: =F6-B6 -> 5349536 | F6: =39379600+425304+3904000+187372+25000+363000+5064001-38 -> 49348239
A7: Korlátozottan forgalomképes | B7: =3971000+403696+3588520+10538254+495000+1999572+136838892 -> 157834934 | D7: =F7-B7 -> -2294959 | F7: =3971000+403696+3588520+15177561+495000+1906602+129997596 -> 155539975
A8: Forgalomképtelen | B8: =36194000+48042306+34375330+5289239 -> 123900875 | D8: =F8-B8 -> -9326005 | F8: =35916480+45973650+32684740 -> 114574870
A9: Ebből: nemzetgazdasági szempontból kiemelt jelentőségű befektetett eszközök
A10: Összesen: | B10: =SUM(B6:B8) -> 325734512 | D10: =SUM(D6:D8) -> -6271428 | E10: 0 | F10: =SUM(F6:F8) -> 319463084
A13: A részletes vagyonkimutatás a Hivatalban megtekinthető.

Sheet 15.a.sz.tábla
A2: Vagyonkimutatás
A3: 2016.év
B4: Sorszám | C4: Előző év | E4: Tárgyév | G4: %
A5: Eszközök | C5: Bruttó | D5: Nettó | E5: Bruttó | F5: Nettó
A6: 1. | B6: 2. | C6: állományi érték | E6: állományi érték | G6: 5.
A7: A.) Nemzeti vagyonba tartozó befektetett eszközök | B7: 01. | C7: =C8+C12+C37+C29 -> 502982689 | D7: =D8+D12+D37+D29 -> 344540938 | E7: =E8+E12+E37+E29 -> 510294633 | F7: =F8+F12+F37+F29 -> 338022535 | G7: =F7/D7*100 -> 98.10809
A8: I. Immateriális javak | B8: 01. | C8: =SUM(C9:C11) -> 0 | D8: =SUM(D9:D11) -> 0 | E8: =SUM(E9:E11) -> 7289580 | F8: =SUM(F9:F11) -> 951920
A9: 1.1. Forgalomképtelen immateriális javak | B9: 02.
A10: 1.2. Korlátozottan forgalomképes immateriális javak | B10: 03.
A11: 1.3. Üzleti immateriális javak | B11: 04. | E11: 7289580 | F11: 951920
A12: II. Tárgyi eszközök | B12: 05. | C12: =C13+C18+C23 -> 499432045 | D12: =D13+D18+D23 -> 340990294 | E12: =E13+E18+E23 -> 499454409 | F12: =F13+F18+F23 -> 333519971 | G12: =F12/D12*100 -> 97.809227
A13: 1.Ingatlanok és kapcsolódó vagyoni értékű jogok | B13: 06. | C13: =C14+C16+C17 -> 473440553 | D13: =D14+D16+D17 -> 325734512 | E13: =E14+E16+E17 -> 478510535 | F13: =F14+F16+F17 -> 319463084 | G13: =F13/D13*100 -> 98.074681
A14: 1.1 Forgalomképtelen ingatlanok és kapcsolódó vagyoni értékű jogok | B14: 07. | C14: =36194000+68955107+56353000+7507956 -> 169010063 | D14: ='15.sz.tábla'!B8 -> 123900875 | E14: =35916480+68955107+56353000 -> 161224587 | F14: ='15.sz.tábla'!F8 -> 114574870 | G14: =F14/D14*100 -> 92.473011
A15: Ebből :nemzetgazdasági szempontból kiemelt jelentőségű ingatlanok | B15: 13.
A16: 1.2. Korlátozottan forgalomképes ingatlanok és kapcsolódó vagyoni értékű jogok | B16: 14. | C16: =3971000+403696+3588520+19857306+495000+228043258+3245600 -> 259604380 | D16: ='15.sz.tábla'!B7 -> 157834934 | E16: =3971000+403696+3588520+24927288+495000+3245600+228043258 -> 264674362 | F16: ='15.sz.tábla'!F7 -> 155539975 | G16: =F16/D16*100 -> 98.545975
A17: 1.3. Üzleti ingatlanok és kapcsolódó vagyoni értékű jogok | B17: 21. | C17: =39102080+425304+3904000+1006726+25000+363000 -> 44826110 | D17: ='15.sz.tábla'!B6 -> 43998703 | E17: =39379600+425304+3904000+1006726+25000+363000+7507956 -> 52611586 | F17: ='15.sz.tábla'!F6 -> 49348239 | G17: =F17/D17*100 -> 112.15839
A18: 2. Gépek,berendezések, felszerelések, járművek | B18: 26. | C18: =C19+C20+C21 -> 20135566 | D18: =D19+D20+D21 -> 9399856 | E18: =E19+E20+E21 -> 15906471 | F18: =F19+F20+F21 -> 9019484 | G18: =F18/D18*100 -> 95.953427
A19: 2.1. Forgalomképtelen gépek,berendezések, felsz., járművek | B19: 27.
A20: 2.2. Korlátozottan forgalomképes gépek,berendezések, felszerelések, járművek | B20: 28. | C20: 1076750 | D20: =323653+3 -> 323656 | E20: 373250 | F20: 203917
A21: 2.3. Üzleti gépek,berendezések, felsz., járművek | B21: 29. | C21: =200000+7650556+11208260 -> 19058816 | D21: =63260+659682+8353258 -> 9076200 | E21: =200000+3956062+11208260+168899 -> 15533221 | F21: =34260+2669701+6111606+56683-56683 -> 8815567 | G21: =F21/D21*100 -> 97.128391
A22: 3. Tenyészállatok | B22: 30. | C22: 0 | D22: 0 | E22: 0 | F22: 0
A23: 4. Beruházások, felújítások | B23: 31. | C23: 5855926 | D23: 5855926 | E23: 5037403 | F23: 5037403 | G23: =F23/D23*100 -> 86.022313
A24: 4.1. Forgalomképtelen eszköz létesítésére irányuló beruházások, felújítások | B24: 32.
A25: Ebből :nemzetgazdasági szempontból kiemelt jelentőségű beruházások, felújítások | B25: 33.
A26: 4.2. Korlátozottan forgalomképes eszköz létesítésére irányuló beruházások, felújítások | B26: 34.
A27: 4.3. Üzleti eszköz létesítésére irányuló beruházások, felújítások | B27: 35.
A28: 5. Tárgyi eszközök értékhelyesbítése | B28: 36. | C28: 0 | D28: 0 | E28: 0 | F28: 0
A29: III. Befektetett pénzügyi eszközök | B29: 37. | C29: =C30+C35 -> 3550644 | D29: =D30+D35 -> 3550644 | E29: =E30+E35 -> 3550644 | F29: =F30+F35 -> 3550644 | G29: =F29/D29*100 -> 100
A30: 1. Tartós részesedés | B30: 38. | C30: 3550644 | D30: 3550644 | E30: 3550644 | F30: 3550644 | G30: =F30/D30*100 -> 100
A31: 1.1.Forgalomképtelen tartós részesedés | B31: 39.
A32: Ebből: nemzetgazdasági szempontból kiemelt jelentőségűtartós részesedés | B32: 40.
A33: 1.2. Korlátozottan forg.képes tartós részesedés | B33: 41. | C33: 3540644 | D33: ='16.sz.tábla'!C25 -> 3540644 | E33: 3540644 | F33: 3540644
A34: 1.3. Üzleti tartós részesedések | B34: 42. | C34: 10000 | D34: ='16.sz.tábla'!C24 -> 10000 | E34: 10000 | F34: 10000
A35: 2. Tartós hitelviszonyt mentestesítő értékpapírok korlátozottan forgalomképes | B35: 43.
A36: 3. Befektetett pénzügyi eszközök értékhelyesbítése | B36: 44.
A37: IV. Koncesszióba, vagyonkezelésbe adott eszközök | B37: 45. | D37: =D38+D43 -> 0 | E37: =E38+E43 -> 0 | F37: =F38+F43 -> 0 | G37: 0
A38: 1. Koncesszióba, vagyonkezelésbe adott eszközök | B38: 46. | D38: =SUM(D39+D41+D42) -> 0 | F38: =SUM(F39+F41+F42) -> 0
A39: 1.1. Koncesszióba, vagyonkezelésbe adott forgalomképtelen eszközök | B39: 47.
A40: Ebből: nemzetgazdasági szempontból kiemelt jelentőségű koncesszióba, vagyonkezelésbe adott eszközök | B40: 48.
A41: 1.2. Koncesszióba, vagyonkezelésbe adott korlátozottan forgalomképes eszközök | B41: 49.
...

Sheet 15.b.sz.tábla
A1: Vagyonkimutatás
A2: 2016. év
B3: Sor- | C3: Előző év | E3: Tárgyév | G3: %
A4: Források | B4: szám | C4: Bruttó | D4: Nettó | E4: Bruttó | F4: Nettó
C5: állományi érték | E5: állományi érték
A6: 1. | B6: 2. | D6: 3. | F6: 4. | G6: 5.
A7: G) Saját tőke | B7: 76. | D7: =SUM(D8:D13) -> 335274432 | F7: =SUM(F8:F13) -> 338532948 | G7: =F7/D7*100 -> 100.9719
A8: I. Nemzeti vagyon induláskori értéke | B8: 77. | D8: 507424180 | F8: 507424180 | G8: =F8/D8*100 -> 100
A9: II. Nemzeti vagyon változásai | B9: 78. | D9: -5778430 | F9: -5778430
A10: III. Egyéb eszközök induláskori értéke és változásai | B10: 79. | D10: 7275815 | F10: 7275815 | G10: =F10/D10*100 -> 100
A11: IV. Felhalmozott eredmény | B11: 80. | D11: -158478429 | F11: -173647133 | G11: =F11/D11*100 -> 109.57146
A12: V. Eszközök értékhelybítésének forrása | B12: 81.
A13: VI. Mérleg szerinti eredmény | B13: 82. | D13: -15168704 | F13: 3258516 | G13: =F13/D13*100 -> -21.481835
A14: H) Kötelezettségek | B14: 83. | D14: =SUM(D15:D17) -> 6331398 | F14: =SUM(F15:F17) -> 4001868 | G14: =F14/D14*100 -> 63.206704
A15: I. Kölségvetési évben esedékes kötelezettségek | B15: 84. | D15: 224379 | F15: 1149028 | G15: =F15/D15*100 -> 512.09249
A16: II. Költségvetési évet követően esedékes kötelezettségek | B16: 85. | D16: 4154055 | F16: 1438725 | G16: =F16/D16*100 -> 34.634231
A17: III. Kötelezettségjellegű sajátos elszámolások | B17: 86. | D17: 1952964 | F17: 1414115 | G17: =F17/D17*100 -> 72.408657
A18: I) Kincstári számlavezetéssel kapcsolatos elszámolások | B18: 87. | F18: 0
A19: J) Passzív időbeli elhatárolások | B19: 88. | D19: 39105180 | F19: 54225291 | G19: =F19/D19*100 -> 138.66524
A20: Források összesen: | B20: 89. | D20: =D19+D18+D14+D7 -> 380711010 | F20: =F19+F18+F14+F7 -> 396760107 | G20: =F20/D20*100 -> 104.21556
A23: Könyvviteli mérlegen kívüli függő kötelezettségek
A24: 1. Kezességgel-, garanciavállalással kapcsolatos függő kötelezettségek | B24: 01. | F24: 23600
A25: 2. Peres ügyekkel kapcsolatos függő kötelezettségek | B25: 02.
A26: 3. El nem ismert tartozások | B26: 03.
A27: 4. Támogatási célú előlegekkel kapcsolatos elszámolási kötelezettségek | B27: 04.
A28: 5. Egyéb függő kötelezettségek | B28: 05.

Sheet 15.c.sz.tábla
A1: Kimutatás az immateriális javak, tárgyi eszközök koncesszióba, vagyonkezelésbe adott eszközök állományának alakulásáról
A2: # | B2: Megnevezés | C2: Immateriális javak | D2: Ingatlanok és kapcsolódó vagyoni értékű jogok | E2: Gépek, berendezések, felszerelések, járművek | F2: Tenyészállatok | G2: Beruházások és felújítások | H2: Koncesszióba, vagyonkezelésbe adott eszközök | I2: Összesen (=3+4+5+6+7+8)
A3: 1 | B3: 2 | C3: 3 | D3: 4 | E3: 5 | F3: 6 | G3: 7 | H3: 8 | I3: 9
A4: 01 | B4: Tárgyévi nyitó állomány (előző évi záró állomány) | C4: 9580035 | D4: 475154485 | E4: 39755562 | F4: 0 | G4: 5855926 | H4: 0 | I4: 530346008
A5: 02 | B5: Immateriális javak beszerzése, nem aktivált beruházások | C5: 2483330 | D5: 0 | E5: 0 | F5: 0 | G5: 3141715 | H5: 0 | I5: 5625045
A6: 03 | B6: Nem aktivált felújítások | C6: 0 | D6: 0 | E6: 0 | F6: 0 | G6: 6734784 | H6: 0 | I6: 6734784
A7: 04 | B7: Beruházásokból, felújításokból aktivált érték | C7: 0 | D7: 5069982 | E7: 1796989 | F7: 0 | G7: 0 | H7: 0 | I7: 6866971
A8: 08 | B8: Összes növekedés (=02+…+07) | C8: 2483330 | D8: 5069982 | E8: 1796989 | F8: 0 | G8: 9876499 | H8: 0 | I8: 19226800
A9: 13 | B9: Egyéb csökkenés | C9: 0 | D9: 0 | E9: 0 | F9: 0 | G9: 10695022 | H9: 0 | I9: 10695022
A10: 14 | B10: Összes csökkenés (=09+…+13) | C10: 0 | D10: 0 | E10: 0 | F10: 0 | G10: 10695022 | H10: 0 | I10: 10695022
A11: 15 | B11: Bruttó érték összesen (=01+08-14) | C11: 12063365 | D11: 480224467 | E11: 41552551 | F11: 0 | G11: 5037403 | H11: 0 | I11: 538877786
A12: 16 | B12: Terv szerinti értékcsökkenés nyitó állománya | C12: 9580035 | D12: 149419973 | E12: 30355706 | F12: 0 | G12: 0 | H12: 0 | I12: 189355714
A13: 17 | B13: Terv szerinti értékcsökkenés növekedése | C13: 1531410 | D13: 11341410 | E13: 2120742 | F13: 0 | G13: 0 | H13: 0 | I13: 14993562
A14: 19 | B14: Terv szerinti értékcsökkenés záró állománya (=16+17-18) | C14: 11111445 | D14: 160761383 | E14: 32476448 | F14: 0 | G14: 0 | H14: 0 | I14: 204349276
A15: 21 | B15: Terven felüli értékcsökkenés növekedés | C15: 0 | D15: 0 | E15: 56619 | F15: 0 | G15: 0 | H15: 0 | I15: 56619
... A19: 26 | B19: Teljesen (0-ig) leírt eszközök bruttó értéke | C19: 4747285 | D19: 1713970 | E19: 24108417 | F19: 0 | G19: 0 | H19: 0 | I19: 30569672

Sheet 16.sz.tábla
A3: Részesedések és értékpapírok állománya 2016. év
A6: Megnevezés | B6: Székhely | C6: Érték (eFt)
A7: 100%-os önkormányzati részesedés
A12: összesen: | C12: =C8+C9+C10+C11 -> 0
A14: 75% feletti önkormányzati részesedés
A16: összesen: | C16: =C15 -> 0
A18: 50% feletti önkormányzati részesedés | C18: 0
A21: 25% feletti önkormányzati részesedés | C21: 0
A23: 25% alatti önkormányzati részesedés
A24: Bakonykarszt Zrt. | B24: 8200. Veszprém, Pápai u. 41. | C24: 10000
A25: Elmib Zrt. | B25: 8800. Nagykanizsa, Csengery u. 9. | C25: 3540644
A29: összesen: | C29: =C24+C25+C26+C27+C28 -> 3550644
A30: Részesedések mindösszesen: | C30: =C29+C16+C12 -> 3550644
A32: Kárpótlási jegyek
A33: Mindösszesen: | C33: =C30+C32 -> 3550644
A35: Az Önkormányzat tulajdonában álló gazdálkodó szervezetek működéséből származó kötelezettségei az önkormányzatnak nincsenek.

Sheet 17.sz.tábla
A7: Pénzeszközök változása 2016. év
B11: Megnevezés | C11: Összeg
A12: 1 | B12: 2 | C12: 3
A13: 01 | B13: Pénzkészlet tárgyidőszak elején | C13: =32151022 -> 32151022
A14: 02 | B14: Költségvetési bevételek (+) | C14: ='4.sz.tábla'!D11 -> 92418813
A15: 03 | B15: Finanszírozási bevételek (kivéve maradvány igénybevétel) (+) | C15: ='4.sz.tábla'!D15-'4.sz.tábla'!D13-25000000 -> 71501213
A16: 04 | B16: Költségvetési kiadások (-) | C16: ='4.sz.tábla'!D27 -> 69967148
A17: 05 | B17: Finanszírozási kiadások (-) | C17: ='4.sz.tábla'!D31 -> 71491905
A18: 06 | B18: Sajátos elszámolások (+/-) | C18: ='1.sz.tábla'!E38*-1 -> -10000
A19: 07 | B19: Kapott előlegek (+/-) | C19: =1414115-1952964 -> -538849
A20: 08 | B20: Pénzkészlet tárgyidőszak végén | C20: =C13+C14+C15-C16-C17+C18+C19 -> 54063146
C22: 54063146
C23: =C20-C22 -> 0
C25: =C20-C13 -> 21912124

Sheet 18.sz.tábla
A1: A helyi önkormányzatok kiegészítő támogatásainak és egyéb kötött felhasználású támogatásainak elszámolása
A2: # | B2: Megnevezés | C2: A központi költségvetésből támogatásként rendelkezésre bocsátott összeg | D2: Az önkormányzat által az adott célra ténylegesen felhasznált összeg | E2: Az önkormányzat által fel nem használt, de a következő évben jogszerűen felhasználható összeg | F2: Eltérés (=3-4-5)
A3: 1 | B3: 2 | C3: 3 | D3: 4 | E3: 5 | F3: 6
A4: 14 | B4: Belterületi utak, járdák, hidak felújítása | C4: 12750000 | D4: 0 | E4: 12750000 | F4: 0
A5: 16 | B5: Önkormányzati feladatellátást szolgáló fejlesztések (=12+….+15) | C5: 12750000 | D5: 0 | E5: 12750000 | F5: 0
A6: 23 | B6: Adósságkonszolidációban nem részesült települési önkormányzatok fejlesztéseinek támogatása | C6: 9766342 | D6: 0 | E6: 9766342 | F6: 0
A7: 25 | B7: Helyi önkormányzatok felhalmozási célú költségvetési támogatásai összesen (=10+11+16+17+…+24) | C7: 22516342 | D7: 0 | E7: 22516342 | F7: 0
A8: 36 | B8: Helyi önkormányzatok kiegészítő támogatásai összesen (=9+25+26+….+35) | C8: 22516342 | D8: 0 | E8: 22516342 | F8: 0
A9: 37 | B9: A 2015. évről áthúzódó bérkompenzáció támogatása | C9: 20320 | D9: 20320 | E9: 0 | F9: 0
A10: 40 | B10: A települési önkormányzatok szociális feladatainak egyéb támogatása | C10: 3854822 | D10: 3854822 | E10: 0 | F10: 0
A11: 41 | B11: Szociális ágazati pótlék | C11: 55118 | D11: 27305 | E11: 0 | F11: 27813
A12: 45 | B12: Települési önkormányzatok nyilvános könyvtári és közművelődési feladatainak támogatása | C12: 1200000 | D12: 1200000 | E12: 0 | F12: 0
A13: 51 | B13: Könyvtári, közművelődési és múzeumi feladatok támogatása (=42+…+50) | C13: 1200000 | D13: 1200000 | E13: 0 | F13: 0
A14: 60 | B14: 5. A költségvetési szerveknél foglalkoztatottak 2016. évi kompenzációja (1047/2016. (II. 15.) Korm. hat.) | C14: 535051 | D14: 535051 | E14: 0 | F14: 0
A15: 71 | B15: 18. A helyi önkormányzatok szociális célú tüzelőanyag vásárláshoz kapcsolódó kiegészítő támogatás (1426/2016. (VIII. 17.) Korm. hat.) | C15: 533400 | D15: 0 | E15: 533400 | F15: 0
... A17: 89 | B17: Mindösszesen (=36+37+...+41+51+58+59+…+87) | C17: 28715053 | D17: 5637498 | E17: 23049742 | F17: 27813

Sheet 18.a.sz.tábla
A1: Az előző évi (2015.) kötelezettségvállalással terhelt kiegészítő támogatásainak és egyéb kötött felhasználású támogatások maradványainak elszámolása
