Workbook
Name _pr232: '18.sz.m.többéves'!$A$16
Name _pr232: '19.sz.m.közvetett'!#REF!
Name _pr232: '20.sz.m.gördülő'!#REF!
Name _pr232: GÖRDÜLŐ!#REF!
Name _pr232: KÖZVETETT!$A$12
Name _pr232: 'TÖBB ÉVES'!$A$18
Name _pr233: '18.sz.m.többéves'!$A$17
Name _pr233: '19.sz.m.közvetett'!#REF!
Name _pr233: '20.sz.m.gördülő'!#REF!
Name _pr233: GÖRDÜLŐ!#REF!
Name _pr233: KÖZVETETT!$A$17
Name _pr233: 'TÖBB ÉVES'!$A$19
Name _pr234: '18.sz.m.többéves'!$A$18
Name _pr234: '19.sz.m.közvetett'!#REF!
Name _pr234: '20.sz.m.gördülő'!#REF!
Name _pr234: GÖRDÜLŐ!#REF!
Name _pr234: KÖZVETETT!$A$25
Name _pr234: 'TÖBB ÉVES'!$A$20
Name _pr235: '18.sz.m.többéves'!$A$19
Name _pr235: '19.sz.m.közvetett'!#REF!
Name _pr235: '20.sz.m.gördülő'!#REF!
Name _pr235: GÖRDÜLŐ!#REF!
Name _pr235: KÖZVETETT!$A$30
Name _pr235: 'TÖBB ÉVES'!$A$21
Name _pr236: '18.sz.m.többéves'!$A$20
Name _pr236: '19.sz.m.közvetett'!#REF!
Name _pr236: '20.sz.m.gördülő'!#REF!
Name _pr236: GÖRDÜLŐ!#REF!
Name _pr236: KÖZVETETT!$A$35
Name _pr236: 'TÖBB ÉVES'!$A$22
Name _pr312: '18.sz.m.többéves'!$A$9
Name _pr312: '19.sz.m.közvetett'!#REF!
Name _pr312: '20.sz.m.gördülő'!#REF!
Name _pr312: GÖRDÜLŐ!#REF!
Name _pr312: KÖZVETETT!#REF!
Name _pr312: 'TÖBB ÉVES'!$A$9
Name _pr313: '18.sz.m.többéves'!$A$4
Name _pr313: '19.sz.m.közvetett'!#REF!
Name _pr313: '20.sz.m.gördülő'!#REF!
Name _pr313: GÖRDÜLŐ!#REF!
Name _pr313: KÖZVETETT!#REF!
Name _pr313: 'TÖBB ÉVES'!$A$4
Name _pr314: '18.sz.m.többéves'!$A$11
Name _pr314: '19.sz.m.közvetett'!$A$4
Name _pr314: '20.sz.m.gördülő'!#REF!
Name _pr314: GÖRDÜLŐ!#REF!
Name _pr314: KÖZVETETT!$A$4
Name _pr314: 'TÖBB ÉVES'!$A$11
Name _pr315: '18.sz.m.többéves'!$A$12
Name _pr315: '19.sz.m.közvetett'!#REF!
Name _pr315: '20.sz.m.gördülő'!$A$4
Name _pr315: GÖRDÜLŐ!$A$4
Name _pr315: KÖZVETETT!#REF!
Name _pr315: 'TÖBB ÉVES'!$A$12
Name _pr347: '20.sz.m.gördülő'!$A$7
Name _pr347: GÖRDÜLŐ!$A$7
Name _pr348: '20.sz.m.gördülő'!$A$8
Name _pr348: GÖRDÜLŐ!$A$8
Name _pr349: '20.sz.m.gördülő'!$A$9
Name _pr349: GÖRDÜLŐ!$A$9

Sheet Mellékletek
A1: Iharosberény Község Önkormányzata
A2: 2015. évi költségvetés
A4: Mellékletek
A6: Kötelező mellékletek:
A8: 1.számú melléklet | B8: Kiemelt előirányzatok
A9: 2.számú melléklet | B9: Kiadások működési és felhalmozási bontásban
A10: 3.számú melléklet | B10: Betételek működési és felhalmozási bontásban
A11: 4.számú melléklet | B11: Létszámkeret
A14: Tájékoztató mellékletek:
A16: 5.számú melléklet | B16: Szociális kiadások
A17: 6.számú melléklet | B17: Átadott pénzeszközök
A18: 7.számú melléklet | B18: Átvett pénzeszközök
A19: 8.számú melléklet | B19: Helyi adók
A20: 9.számú melléklet | B20: Beruházások, felújítások
A21: 10.számú melléklet | B21: Tartalékok
A22: 11.számú melléklet | B22: Stabilitás 1.
A23: 12.számú melléklet | B23: Stabilitás 2.
A24: 13.számú melléklet | B24: EU projektek
A25: 14.számú melléklet | B25: Hitelek
A26: 15.számú melléklet | B26: Finanszírozás
A27: 16.számú melléklet | B27: Előirányzat felhasználási terv
... A33: 22.számú melléklet | B33: Bevételek kormányzati funkciók szerinti bontásban

Sheet kiemelt ei
A1: 1.sz. melléklet az .../2016.(......) rendelethez
A2: =Mellékletek!A1 -> Iharosberény Község Önkormányzata
A4: 2016. évi költségvetés
A5: Az egységes rovatrend szerint a kiemelt kiadási és bevételi jogcímek
B7: eredeti előirányzat | F7: Nettósított
A8: Megnevezés | B8: önkormányzat | C8: ='kiadások korm. funkciónként'!C10 -> 17934334 | D8: Óvoda | E8: összevont
A9: K1. Személyi juttatások | B9: ='kiadások működés felhalmozás'!C26 -> 27145191 | C9: ='kiadások működés felhalmozás'!D26 -> 42450771 | D9: ='kiadások működés felhalmozás'!E26 -> 21592400 | E9: =SUM(B9:D9) -> 91188362 | F9: =E9 -> 91188362
A10: K2. Munkaadókat terhelő járulékok és szociális hozzájárulási adó | B10: ='kiadások működés felhalmozás'!C27 -> 5059495 | C10: ='kiadások működés felhalmozás'!D27 -> 11186992 | D10: ='kiadások működés felhalmozás'!E27 -> 5775948 | E10: =SUM(B10:D10) -> 22022435 | F10: =E10 -> 22022435
A11: K3. Dologi kiadások | B11: ='kiadások működés felhalmozás'!C52 -> 56154063 | C11: ='kiadások működés felhalmozás'!D52 -> 12056000 | D11: ='kiadások működés felhalmozás'!E52 -> 3774000 | E11: =SUM(B11:D11) -> 71984063 | F11: =E11 -> 71984063
A12: K4. Ellátottak pénzbeli juttatásai | B12: ='kiadások működés felhalmozás'!C61 -> 11163162 | C12: ='kiadások működés felhalmozás'!D61 -> 0 | D12: ='kiadások működés felhalmozás'!E61 -> 0 | E12: =SUM(B12:D12) -> 11163162 | F12: =E12 -> 11163162
A13: K5. Egyéb működési célú kiadások | B13: ='kiadások működés felhalmozás'!C75 -> 64077827 | C13: ='kiadások működés felhalmozás'!D75 -> 0 | D13: ='kiadások működés felhalmozás'!E75 -> 0 | E13: =SUM(B13:D13) -> 64077827 | F13: =E13 -> 64077827
A14: K6. Beruházási kiadások | B14: ='kiadások működés felhalmozás'!C84 -> 3360250 | C14: ='kiadások működés felhalmozás'!D84 -> 508000 | D14: ='kiadások működés felhalmozás'!E84 -> 0 | E14: =SUM(B14:D14) -> 3868250 | F14: =E14 -> 3868250
A15: K7. Felújítások | B15: ='kiadások működés felhalmozás'!C89 -> 33167231 | C15: ='kiadások működés felhalmozás'!D89 -> 0 | D15: ='kiadások működés felhalmozás'!E89 -> 0 | E15: =SUM(B15:D15) -> 33167231 | F15: =E15 -> 33167231
A16: K8. Egyéb felhalmozási célú kiadások | B16: ='kiadások működés felhalmozás'!C98 -> 0 | C16: ='kiadások működés felhalmozás'!D98 -> 0 | D16: ='kiadások működés felhalmozás'!E98 -> 0 | E16: =SUM(B16:D16) -> 0 | F16: =E16 -> 0
A17: K1-8. Költségvetési kiadások | B17: =SUM(B9:B16) -> 200127219 | C17: =SUM(C9:C16) -> 66201763 | D17: =SUM(D9:D16) -> 31142348 | E17: =SUM(E9:E16) -> 297471330 | F17: =SUM(F9:F16) -> 297471330
A18: K9. Finanszírozási kiadások | B18: ='kiadások működés felhalmozás'!C123 -> 97726926 | C18: ='kiadások működés felhalmozás'!D123 -> 0 | D18: ='kiadások működés felhalmozás'!E123 -> 0 | E18: =B18+C18+D18 -> 97726926 | F18: 0
A19: KIADÁSOK ÖSSZESEN (K1-9) | B19: =B17+B18 -> 297854145 | C19: =C17+C18 -> 66201763 | D19: =D17+D18 -> 31142348 | E19: =E17+E18 -> 395198256 | F19: =F17+F18 -> 297471330
A20: B1. Működési célú támogatások államháztartáson belülről | B20: ='bevételek működés felhalmozás'!C20 -> 128860125 | C20: ='bevételek működés felhalmozás'!D20 -> 0 | D20: ='bevételek működés felhalmozás'!E20 -> 0 | E20: =SUM(B20:D20) -> 128860125 | F20: =SUM(C20:E20) -> 128860125
A21: B2. Felhalmozási célú támogatások államháztartáson belülről | B21: ='bevételek működés felhalmozás'!C56 -> 0 | C21: ='bevételek működés felhalmozás'!D56 -> 0 | D21: ='bevételek működés felhalmozás'!E56 -> 0 | E21: =SUM(B21:D21) -> 0 | F21: =SUM(C21:E21) -> 0
A22: B3. Közhatalmi bevételek | B22: ='bevételek működés felhalmozás'!C34 -> 29970000 | C22: ='bevételek működés felhalmozás'!D34 -> 0 | D22: ='bevételek működés felhalmozás'!E34 -> 0 | E22: =SUM(B22:D22) -> 29970000 | F22: =SUM(C22:E22) -> 29970000
A23: B4. Működési bevételek | B23: ='bevételek működés felhalmozás'!C45 -> 22771714 | C23: ='bevételek működés felhalmozás'!D45 -> 0 | D23: ='bevételek működés felhalmozás'!E45 -> 0 | E23: =SUM(B23:D23) -> 22771714 | F23: =SUM(C23:E23) -> 22771714
A24: B5. Felhalmozási bevételek | B24: ='bevételek működés felhalmozás'!C62 -> 390000 | C24: ='bevételek működés felhalmozás'!D62 -> 0 | D24: ='bevételek működés felhalmozás'!E62 -> 0 | E24: =SUM(B24:D24) -> 390000 | F24: =SUM(C24:E24) -> 390000
A25: B6. Működési célú átvett pénzeszközök | B25: ='bevételek működés felhalmozás'!C49 -> 0 | C25: ='bevételek működés felhalmozás'!D49 -> 0 | D25: ='bevételek működés felhalmozás'!E49 -> 0 | E25: =SUM(B25:D25) -> 0 | F25: =SUM(C25:E25) -> 0
A26: B7. Felhalmozási célú átvett pénzeszközök | B26: ='bevételek működés felhalmozás'!C66 -> 0 | C26: 0 | D26: 0 | E26: =SUM(B26:D26) -> 0 | F26: =SUM(C26:E26) -> 0
A27: B1-7. Költségvetési bevételek | B27: =SUM(B20:B26) -> 181991839 | C27: =SUM(C20:C26) -> 0 | D27: =SUM(D20:D26) -> 0 | E27: =SUM(E20:E26) -> 181991839 | F27: =SUM(F20:F26) -> 181991839
A28: B8. Finanszírozási bevételek | B28: ='bevételek működés felhalmozás'!C97 -> 76403317 | C28: ='bevételek működés felhalmozás'!D97 -> 66201763 | D28: ='bevételek működés felhalmozás'!E97 -> 31142348 | E28: =B28+C28+D28 -> 173747428 | F28: ='bevételek működés felhalmozás'!C80+'bevételek működés felhalmozás'!D80+'bevételek működés felhalmozás'!E80 -> 76732020
A29: BEVÉTELEK ÖSSZESEN (B1-8) | B29: =B27+B28 -> 258395156 | C29: =C27+C28 -> 66201763 | D29: =D27+D28 -> 31142348 | E29: =E27+E28 -> 355739267 | F29: =F27+F28 -> 258723859

Sheet kiadások működés felhalmozás
A1: 2.sz. melléklet az 1/2015.(II.23.) rendelethez
A2: =Mellékletek!A1 -> Iharosberény Község Önkormányzata
A3: 2014. évi költségvetés
A4: Kiadások (E Ft)
A6: ÖNKORMÁNYZATI ELŐIRÁNYZATOK
A7: Rovat megnevezése | B7: Rovat-szám | C7: önkormányzat | D7: Közös Hivatal | E7: Óvoda | F7: összevont | G7: Nettósitott
A8: Törvény szerinti illetmények, munkabérek | B8: K1101 | C8: ='kiadások korm. funkciónként'!C10 -> 17934334 | D8: ='kiadások korm. funkciónként'!D10 -> 38517000 | E8: ='kiadások korm. funkciónként'!E10+'kiadások korm. funkciónként'!F10+'kiadások korm. funkciónként'!G10 -> 21392400 | F8: =SUM(C8:E8) -> 77843734 | G8: =F8 -> 77843734
A9: Normatív jutalmak | B9: K1102 | C9: ='kiadások korm. funkciónként'!C11 -> 0 | D9: ='kiadások korm. funkciónként'!D11 -> 0 | E9: ='kiadások korm. funkciónként'!E11+'kiadások korm. funkciónként'!F11+'kiadások korm. funkciónként'!G11 -> 0 | F9: =SUM(C9:E9) -> 0 | G9: =F9 -> 0
A10: Céljuttatás, projektprémium | B10: K1103 | C10: ='kiadások korm. funkciónként'!C12 -> 0 | D10: ='kiadások korm. funkciónként'!D12 -> 0 | E10: ='kiadások korm. funkciónként'!E12+'kiadások korm. funkciónként'!F12+'kiadások korm. funkciónként'!G12 -> 0 | F10: =SUM(C10:E10) -> 0 | G10: =F10 -> 0
A11: Készenléti, ügyeleti, helyettesítési díj, túlóra, túlszolgálat | B11: K1104 | C11: ='kiadások korm. funkciónként'!C13 -> 0 | D11: ='kiadások korm. funkciónként'!D13 -> 0 | E11: ='kiadások korm. funkciónként'!E13+'kiadások korm. funkciónként'!F13+'kiadások korm. funkciónként'!G13 -> 0 | F11: =SUM(C11:E11) -> 0 | G11: =F11 -> 0
A12: Végkielégítés | B12: K1105 | C12: ='kiadások korm. funkciónként'!C14 -> 0 | D12: ='kiadások korm. funkciónként'!D14 -> 0 | E12: ='kiadások korm. funkciónként'!E14+'kiadások korm. funkciónként'!F14+'kiadások korm. funkciónként'!G14 -> 0 | F12: =SUM(C12:E12) -> 0 | G12: =F12 -> 0
A13: Jubileumi jutalom | B13: K1106 | C13: ='kiadások korm. funkciónként'!C15 -> 0 | D13: ='kiadások korm. funkciónként'!D15 -> 742000 | E13: ='kiadások korm. funkciónként'!E15+'kiadások korm. funkciónként'!F15+'kiadások korm. funkciónként'!G15 -> 0 | F13: =SUM(C13:E13) -> 742000 | G13: =F13 -> 742000
A14: Béren kívüli juttatások | B14: K1107 | C14: ='kiadások korm. funkciónként'!C16 -> 0 | D14: ='kiadások korm. funkciónként'!D16 -> 1829771 | E14: ='kiadások korm. funkciónként'!E16+'kiadások korm. funkciónként'!F16+'kiadások korm. funkciónként'!G16 -> 0 | F14: =SUM(C14:E14) -> 1829771 | G14: =F14 -> 1829771
A15: Ruházati költségtérítés | B15: K1108 | C15: ='kiadások korm. funkciónként'!C17 -> 0 | D15: ='kiadások korm. funkciónként'!D17 -> 0 | E15: ='kiadások korm. funkciónként'!E17+'kiadások korm. funkciónként'!F17+'kiadások korm. funkciónként'!G17 -> 0 | F15: =SUM(C15:E15) -> 0 | G15: =F15 -> 0
A16: Közlekedési költségtérítés | B16: K1109 | C16: ='kiadások korm. funkciónként'!C18 -> 155000 | D16: ='kiadások korm. funkciónként'!D18 -> 502000 | E16: ='kiadások korm. funkciónként'!E18+'kiadások korm. funkciónként'!F18+'kiadások korm. funkciónként'!G18 -> 200000 | F16: =SUM(C16:E16) -> 857000 | G16: =F16 -> 857000
A17: Egyéb költségtérítések | B17: K1110 | C17: ='kiadások korm. funkciónként'!C19 -> 0 | D17: ='kiadások korm. funkciónként'!D19 -> 0 | E17: ='kiadások korm. funkciónként'!E19+'kiadások korm. funkciónként'!F19+'kiadások korm. funkciónként'!G19 -> 0 | F17: =SUM(C17:E17) -> 0 | G17: =F17 -> 0
A18: Lakhatási támogatások | B18: K1111 | C18: ='kiadások korm. funkciónként'!C20 -> 0 | D18: ='kiadások korm. funkciónként'!D20 -> 0 | E18: 0 | F18: =SUM(C18:E18) -> 0 | G18: =F18 -> 0
A19: Szociális támogatások | B19: K1112 | C19: ='kiadások korm. funkciónként'!C21 -> 0 | D19: ='kiadások korm. funkciónként'!D21 -> 200000 | E19: ='kiadások korm. funkciónként'!E21+'kiadások korm. funkciónként'!F21+'kiadások korm. funkciónként'!G21 -> 0 | F19: =SUM(C19:E19) -> 200000 | G19: =F19 -> 200000
A20: Foglalkoztatottak egyéb személyi juttatásai | B20: K1113 | C20: ='kiadások korm. funkciónként'!C22 -> 0 | D20: ='kiadások korm. funkciónként'!D22 -> 0 | E20: ='kiadások korm. funkciónként'!E22+'kiadások korm. funkciónként'!F22+'kiadások korm. funkciónként'!G22 -> 0 | F20: =SUM(C20:E20) -> 0 | G20: =F20 -> 0
A21: Foglalkoztatottak személyi juttatásai | B21: K11 | C21: =SUM(C8:C20) -> 18089334 | D21: =SUM(D8:D20) -> 41790771 | E21: =SUM(E8:E20) -> 21592400 | F21: =SUM(C21:E21) -> 81472505 | G21: =F21 -> 81472505
A22: Választott tisztségviselők juttatásai | B22: K121 | C22: ='kiadások korm. funkciónként'!C24 -> 6634200 | D22: ='kiadások korm. funkciónként'!D24 -> 0 | E22: ='kiadások korm. funkciónként'!E24 -> 0 | F22: =SUM(C22:E22) -> 6634200 | G22: =F22 -> 6634200
A23: Munkavégzésre irányuló egyéb jogviszonyban nem saját foglalkoztatottnak fizetett juttatások | B23: K122 | C23: ='kiadások korm. funkciónként'!C25 -> 0 | D23: ='kiadások korm. funkciónként'!D25 -> 0 | E23: ='kiadások korm. funkciónként'!E25 -> 0 | F23: =SUM(C23:E23) -> 0 | G23: =F23 -> 0
A24: Egyéb külső személyi juttatások | B24: K123 | C24: ='kiadások korm. funkciónként'!C26 -> 2421657 | D24: ='kiadások korm. funkciónként'!D26 -> 660000 | E24: ='kiadások korm. funkciónként'!E26 -> 0 | F24: =SUM(C24:E24) -> 3081657 | G24: =F24 -> 3081657
A25: Külső személyi juttatások | B25: K12 | C25: =SUM(C22:C24) -> 9055857 | D25: =D23+D24 -> 660000 | E25: =SUM(E22:E24) -> 0 | F25: =SUM(C25:E25) -> 9715857 | G25: =F25 -> 9715857
A26: Személyi juttatások | B26: K1 | C26: =C21+C25 -> 27145191 | D26: =D21+D25 -> 42450771 | E26: =E21+E25 -> 21592400 | F26: =SUM(C26:E26) -> 91188362 | G26: =F26 -> 91188362
A27: Munkaadókat terhelő járulékok és szociális hozzájárulási adó | B27: K2 | C27: ='kiadások korm. funkciónként'!C29 -> 5059495 | D27: ='kiadások korm. funkciónként'!D29 -> 11186992 | E27: ='kiadások korm. funkciónként'!E29+'kiadások korm. funkciónként'!F29+'kiadások korm. funkciónként'!G29 -> 5775948 | F27: =SUM(C27:E27) -> 22022435 | G27: =F27 -> 22022435
A28: Szakmai anyagok beszerzése | B28: K311 | C28: ='kiadások korm. funkciónként'!C30 -> 160000 | D28: ='kiadások korm. funkciónként'!D30 -> 220000 | E28: ='kiadások korm. funkciónként'!F30+'kiadások korm. funkciónként'!G30 -> 185000 | F28: =SUM(C28:E28) -> 565000 | G28: =F28 -> 565000
A29: Üzemeltetési anyagok beszerzése | B29: K312 | C29: ='kiadások korm. funkciónként'!C31 -> 7152579 | D29: ='kiadások korm. funkciónként'!D31 -> 2370000 | E29: ='kiadások korm. funkciónként'!F31+'kiadások korm. funkciónként'!G31 -> 770000 | F29: =SUM(C29:E29) -> 10292579 | G29: =F29 -> 10292579
A30: Árubeszerzés | B30: K313 | C30: ='kiadások korm. funkciónként'!C32 -> 0 | D30: ='kiadások korm. funkciónként'!D32 -> 0 | E30: ='kiadások korm. funkciónként'!F32+'kiadások korm. funkciónként'!G32 -> 0 | F30: =SUM(C30:E30) -> 0 | G30: =F30 -> 0
A31: Készletbeszerzés | B31: K31 | C31: =SUM(C28:C30) -> 7312579 | D31: =SUM(D28:D30) -> 2590000 | E31: =SUM(E28:E30) -> 955000 | F31: =SUM(C31:E31) -> 10857579 | G31: =F31 -> 10857579
A32: Informatikai szolgáltatások igénybevétele | B32: K321 | C32: ='kiadások korm. funkciónként'!C34 -> 387500 | D32: ='kiadások korm. funkciónként'!D34 -> 1475000 | E32: ='kiadások korm. funkciónként'!F34 -> 45000 | F32: =SUM(C32:E32) -> 1907500 | G32: =F32 -> 1907500
A33: Egyéb kommunikációs szolgáltatások | B33: K322 | C33: ='kiadások korm. funkciónként'!C35 -> 305800 | D33: ='kiadások korm. funkciónként'!D35 -> 560000 | E33: ='kiadások korm. funkciónként'!F35 -> 30000 | F33: =SUM(C33:E33) -> 895800 | G33: =F33 -> 895800
A34: Kommunikációs szolgáltatások | B34: K32 | C34: =SUM(C32:C33) -> 693300 | D34: =SUM(D32:D33) -> 2035000 | E34: =SUM(E32:E33) -> 75000 | F34: =SUM(C34:E34) -> 2803300 | G34: =F34 -> 2803300
A35: Közüzemi díjak | B35: K331 | C35: ='kiadások korm. funkciónként'!C37 -> 5177000 | D35: ='kiadások korm. funkciónként'!D37 -> 1225000 | E35: ='kiadások korm. funkciónként'!E37+'kiadások korm. funkciónként'!F37+'kiadások korm. funkciónként'!G37 -> 965000 | F35: =SUM(C35:E35) -> 7367000 | G35: =F35 -> 7367000
A36: Vásárolt élelmezés | B36: K332 | C36: ='kiadások korm. funkciónként'!C38 -> 18017190 | D36: ='kiadások korm. funkciónként'!D38 -> 0 | E36: ='kiadások korm. funkciónként'!E38+'kiadások korm. funkciónként'!F38+'kiadások korm. funkciónként'!G38 -> 0 | F36: =SUM(C36:E36) -> 18017190 | G36: =F36 -> 18017190
A37: Bérleti és lízing díjak | B37: K333 | C37: ='kiadások korm. funkciónként'!C39 -> 30000 | D37: ='kiadások korm. funkciónként'!D39 -> 0 | E37: ='kiadások korm. funkciónként'!E39+'kiadások korm. funkciónként'!F39+'kiadások korm. funkciónként'!G39 -> 0 | F37: =SUM(C37:E37) -> 30000 | G37: =F37 -> 30000
A38: Karbantartási, kisjavítási szolgáltatások | B38: K334 | C38: ='kiadások korm. funkciónként'!C40 -> 2370000 | D38: ='kiadások korm. funkciónként'!D40 -> 200000 | E38: ='kiadások korm. funkciónként'!E40+'kiadások korm. funkciónként'!F40+'kiadások korm. funkciónként'!G40 -> 300000 | F38: =SUM(C38:E38) -> 2870000 | G38: =F38 -> 2870000
A39: Közvetített szolgáltatások | B39: K335 | C39: ='kiadások korm. funkciónként'!C41 -> 0 | D39: ='kiadások korm. funkciónként'!D41 -> 0 | E39: ='kiadások korm. funkciónként'!E41+'kiadások korm. funkciónként'!F41+'kiadások korm. funkciónként'!G41 -> 0 | F39: =SUM(C39:E39) -> 0 | G39: =F39 -> 0
A40: Szakmai tevékenységet segítő szolgáltatások | B40: K336 | C40: ='kiadások korm. funkciónként'!C42 -> 2290844 | D40: ='kiadások korm. funkciónként'!D42 -> 906000 | E40: ='kiadások korm. funkciónként'!E42+'kiadások korm. funkciónként'!F42+'kiadások korm. funkciónként'!G42 -> 390000 | F40: =SUM(C40:E40) -> 3586844 | G40: =F40 -> 3586844
A41: Egyéb szolgáltatások | B41: K337 | C41: ='kiadások korm. funkciónként'!C43 -> 6800705 | D41: ='kiadások korm. funkciónként'!D43 -> 2380000 | E41: ='kiadások korm. funkciónként'!E43+'kiadások korm. funkciónként'!F43+'kiadások korm. funkciónként'!G43 -> 192000 | F41: =SUM(C41:E41) -> 9372705 | G41: =F41 -> 9372705
...

Sheet bevételek működés felhalmozás
A1: 3.sz. melléklet a 1/2015.(II.23.) rendelethez
A2: =Mellékletek!A1 -> Iharosberény Község Önkormányzata
A3: 2015. évi költségvetés
A4: Bevételek (E Ft)
A6: ÖNKORMÁNYZATI ELŐIRÁNYZATOK
A7: Rovat megnevezése | B7: Rovat- szám | C7: önkormányzat | D7: Közös Hivatal | E7: Óvoda | F7: összevont | G7: Nettósitott
A8: Helyi önkormányzatok működésének általános támogatása | B8: B111 | C8: ='kiadások korm. funkciónként'!C10 -> 17934334 | D8: ='bevételek korm. funkciónként'!D9 -> 0 | E8: ='bevételek korm. funkciónként'!E9 -> 0 | F8: =SUM(C8:E8) -> 17934334 | G8: =SUM(D8:F8) -> 17934334
A9: Települési önkormányzatok egyes köznevelési feladatainak támogatása | B9: B112 | C9: ='bevételek korm. funkciónként'!C10 -> 26392000 | F9: =SUM(C9:E9) -> 26392000 | G9: =SUM(D9:F9) -> 26392000
A10: Települési önkormányzatok szociális és gyermekjóléti feladatainak támogatása | B10: B113 | C10: ='bevételek korm. funkciónként'!C11 -> 42157009 | F10: =SUM(C10:E10) -> 42157009 | G10: =SUM(D10:F10) -> 42157009
A11: Települési önkormányzatok kulturális feladatainak támogatása | B11: B114 | C11: ='bevételek korm. funkciónként'!C12 -> 1556100 | F11: =SUM(C11:E11) -> 1556100 | G11: =SUM(D11:F11) -> 1556100
A12: Működési célú központosított előirányzatok | B12: B115 | C12: ='bevételek korm. funkciónként'!C13 -> 0 | F12: =SUM(C12:E12) -> 0 | G12: =SUM(D12:F12) -> 0
A13: Helyi önkormányzatok kiegészítő támogatásai | B13: B116 | C13: ='bevételek korm. funkciónként'!C14 -> 0 | F13: =SUM(C13:E13) -> 0 | G13: =SUM(D13:F13) -> 0
A14: Önkormányzatok működési támogatásai | B14: B11 | C14: =SUM(C8:C13) -> 88039443 | D14: =SUM(D8:D13) -> 0 | E14: =SUM(E8:E13) -> 0 | F14: =SUM(C14:E14) -> 88039443 | G14: =SUM(D14:F14) -> 88039443
A15: Elvonások és befizetések bevételei | B15: B12 | C15: ='bevételek korm. funkciónként'!C16 -> 0 | D15: ='bevételek korm. funkciónként'!D16 -> 0 | E15: ='bevételek korm. funkciónként'!E16 -> 0 | F15: =SUM(C15:E15) -> 0 | G15: =SUM(D15:F15) -> 0
A16: Működési célú garancia- és kezességvállalásból származó megtérülések államháztartáson belülről | B16: B13 | C16: ='bevételek korm. funkciónként'!C17 -> 0 | D16: ='bevételek korm. funkciónként'!D17 -> 0 | E16: ='bevételek korm. funkciónként'!E17 -> 0 | F16: =SUM(C16:E16) -> 0 | G16: =SUM(D16:F16) -> 0
A17: Működési célú visszatérítendő támogatások, kölcsönök visszatérülése államháztartáson belülről | B17: B14 | C17: ='bevételek korm. funkciónként'!C18 -> 0 | D17: ='bevételek korm. funkciónként'!D18 -> 0 | E17: ='bevételek korm. funkciónként'!E18 -> 0 | F17: =SUM(C17:E17) -> 0 | G17: =SUM(D17:F17) -> 0
A18: Működési célú visszatérítendő támogatások, kölcsönök igénybevétele államháztartáson belülről | B18: B15 | C18: ='bevételek korm. funkciónként'!C19 -> 0 | D18: ='bevételek korm. funkciónként'!D19 -> 0 | E18: ='bevételek korm. funkciónként'!E19 -> 0 | F18: =SUM(C18:E18) -> 0 | G18: =SUM(D18:F18) -> 0
A19: Egyéb működési célú támogatások bevételei államháztartáson belülről | B19: B16 | C19: ='bevételek korm. funkciónként'!C20 -> 40820682 | D19: ='bevételek korm. funkciónként'!D20 -> 0 | E19: ='bevételek korm. funkciónként'!E20 -> 0 | F19: =SUM(C19:E19) -> 40820682 | G19: =SUM(D19:F19) -> 40820682
A20: Működési célú támogatások államháztartáson belülről | B20: B1 | C20: =C14+SUM(C15:C19) -> 128860125 | D20: =D14+SUM(D15:D19) -> 0 | E20: =E14+SUM(E15:E19) -> 0 | F20: =SUM(C20:E20) -> 128860125 | G20: =SUM(D20:F20) -> 128860125
A21: Magánszemélyek jövedelemadói | B21: B311 | C21: ='bevételek korm. funkciónként'!C22 -> 0 | D21: ='bevételek korm. funkciónként'!D22 -> 0 | E21: ='bevételek korm. funkciónként'!E22 -> 0 | F21: ='bevételek korm. funkciónként'!F22 -> 0 | G21: =SUM(D21:F21) -> 0
A22: Társaságok jövedelemadói | B22: B312 | C22: ='bevételek korm. funkciónként'!C23 -> 0 | D22: ='bevételek korm. funkciónként'!D23 -> 0 | E22: ='bevételek korm. funkciónként'!E23 -> 0 | F22: ='bevételek korm. funkciónként'!F23 -> 0 | G22: =SUM(D22:F22) -> 0
A23: Jövedelemadók | B23: B31 | C23: =SUM(C21:C22) -> 0 | D23: =SUM(D21:D22) -> 0 | E23: =SUM(E21:E22) -> 0 | F23: =SUM(C23:E23) -> 0 | G23: =SUM(D23:F23) -> 0
A24: Szociális hozzájárulási adó és járulékok | B24: B32 | C24: ='bevételek korm. funkciónként'!C25 -> 0 | D24: ='bevételek korm. funkciónként'!D25 -> 0 | E24: ='bevételek korm. funkciónként'!E25 -> 0 | F24: =SUM(C24:E24) -> 0 | G24: =SUM(D24:F24) -> 0
A25: Bérhez és foglalkoztatáshoz kapcsolódó adók | B25: B33 | C25: ='bevételek korm. funkciónként'!C26 -> 0 | D25: ='bevételek korm. funkciónként'!D26 -> 0 | E25: ='bevételek korm. funkciónként'!E26 -> 0 | F25: =SUM(C25:E25) -> 0 | G25: =SUM(D25:F25) -> 0
A26: Vagyoni tipusú adók | B26: B34 | C26: ='bevételek korm. funkciónként'!C27 -> 9500000 | D26: ='bevételek korm. funkciónként'!D27 -> 0 | E26: ='bevételek korm. funkciónként'!E27 -> 0 | F26: =SUM(C26:E26) -> 9500000 | G26: =SUM(D26:F26) -> 9500000
A27: Értékesítési és forgalmi adók | B27: B351 | C27: ='bevételek korm. funkciónként'!C28 -> 17000000 | D27: ='bevételek korm. funkciónként'!D28 -> 0 | E27: ='bevételek korm. funkciónként'!E28 -> 0 | F27: =SUM(C27:E27) -> 17000000 | G27: =SUM(D27:F27) -> 17000000
A28: Fogyasztási adók | B28: B352 | C28: ='bevételek korm. funkciónként'!C29 -> 0 | D28: ='bevételek korm. funkciónként'!D29 -> 0 | E28: ='bevételek korm. funkciónként'!E29 -> 0 | F28: =SUM(C28:E28) -> 0 | G28: =SUM(D28:F28) -> 0
A29: Pénzügyi monopóliumok nyereségét terhelő adók | B29: B353 | C29: ='bevételek korm. funkciónként'!C30 -> 0 | D29: ='bevételek korm. funkciónként'!D30 -> 0 | E29: ='bevételek korm. funkciónként'!E30 -> 0 | F29: =SUM(C29:E29) -> 0 | G29: =SUM(D29:F29) -> 0
A30: Gépjárműadók | B30: B354 | C30: ='bevételek korm. funkciónként'!C31 -> 2100000 | D30: ='bevételek korm. funkciónként'!D31 -> 0 | E30: ='bevételek korm. funkciónként'!E31 -> 0 | F30: =SUM(C30:E30) -> 2100000 | G30: =SUM(D30:F30) -> 2100000
A31: Egyéb áruhasználati és szolgáltatási adók | B31: B355 | C31: ='bevételek korm. funkciónként'!C32 -> 610000 | D31: ='bevételek korm. funkciónként'!D32 -> 0 | E31: ='bevételek korm. funkciónként'!E32 -> 0 | F31: =SUM(C31:E31) -> 610000 | G31: =SUM(D31:F31) -> 610000
A32: Termékek és szolgáltatások adói | B32: B35 | C32: =SUM(C27:C31) -> 19710000 | D32: =SUM(D27:D31) -> 0 | E32: =SUM(E27:E31) -> 0 | F32: =SUM(C32:E32) -> 19710000 | G32: =SUM(D32:F32) -> 19710000
A33: Egyéb közhatalmi bevételek | B33: B36 | C33: ='bevételek korm. funkciónként'!C34 -> 760000 | D33: ='bevételek korm. funkciónként'!D34 -> 0 | E33: ='bevételek korm. funkciónként'!E34 -> 0 | F33: =SUM(C33:E33) -> 760000 | G33: =SUM(D33:F33) -> 760000
A34: Közhatalmi bevételek | B34: B3 | C34: =C23+C24+C25+C26+C32+C33 -> 29970000 | D34: =D23+D24+D25+D26+D32+D33 -> 0 | E34: =E23+E24+E25+E26+E32+E33 -> 0 | F34: =SUM(C34:E34) -> 29970000 | G34: =SUM(D34:F34) -> 29970000
A35: Áru- és készletértékesítés ellenértéke | B35: B401 | C35: ='bevételek korm. funkciónként'!C36 -> 0 | D35: ='bevételek korm. funkciónként'!D36 -> 0 | E35: ='bevételek korm. funkciónként'!E36 -> 0 | F35: =SUM(C35:E35) -> 0 | G35: =SUM(D35:F35) -> 0
A36: Szolgáltatások ellenértéke | B36: B402 | C36: ='bevételek korm. funkciónként'!C37 -> 11045028 | D36: ='bevételek korm. funkciónként'!D37 -> 0 | E36: ='bevételek korm. funkciónként'!E37 -> 0 | F36: =SUM(C36:E36) -> 11045028 | G36: =SUM(D36:F36) -> 11045028
A37: Közvetített szolgáltatások értéke | B37: B403 | C37: ='bevételek korm. funkciónként'!C38 -> 0 | D37: ='bevételek korm. funkciónként'!D38 -> 0 | E37: ='bevételek korm. funkciónként'!E38 -> 0 | F37: =SUM(C37:E37) -> 0 | G37: =SUM(D37:F37) -> 0
A38: Tulajdonosi bevételek | B38: B404 | C38: ='bevételek korm. funkciónként'!C39 -> 8560540 | D38: ='bevételek korm. funkciónként'!D39 -> 0 | E38: ='bevételek korm. funkciónként'!E39 -> 0 | F38: =SUM(C38:E38) -> 8560540 | G38: =SUM(D38:F38) -> 8560540
A39: Ellátási díjak | B39: B405 | C39: ='bevételek korm. funkciónként'!C40 -> 272118 | D39: ='bevételek korm. funkciónként'!D40 -> 0 | E39: ='bevételek korm. funkciónként'!E40 -> 0 | F39: =SUM(C39:E39) -> 272118 | G39: =SUM(D39:F39) -> 272118
A40: Kiszámlázott általános forgalmi adó | B40: B406 | C40: ='bevételek korm. funkciónként'!C41 -> 2894028 | D40: ='bevételek korm. funkciónként'!D41 -> 0 | E40: ='bevételek korm. funkciónként'!E41 -> 0 | F40: =SUM(C40:E40) -> 2894028 | G40: =SUM(D40:F40) -> 2894028
A41: Általános forgalmi adó visszatérítése | B41: B407 | C41: ='bevételek korm. funkciónként'!C42 -> 0 | D41: ='bevételek korm. funkciónként'!D42 -> 0 | E41: ='bevételek korm. funkciónként'!E42 -> 0 | F41: =SUM(C41:E41) -> 0 | G41: =SUM(D41:F41) -> 0
...

Sheet létszám
A1: 4.sz. melléklet a ……./2015.(…….) rendelethez
A2: =Mellékletek!A1 -> Iharosberény Község Önkormányzata
A3: 2015. évi költségvetés
A4: Foglalkoztatottak létszáma (fő)
A7: MEGNEVEZÉS | B7: Költségvetési engedélyezett létszámkeret (álláshely) (fő) ÖNKORMÁNYZAT | C7: Költségvetési engedélyezett létszámkeret (álláshely) (fő) KÖZÖS HIVATAL | D7: Költségvetési engedélyezett létszámkeret (álláshely) (fő) Óvoda | E7: MINDÖSSZESEN
A8: főjegyző, jegyző, aljegyző, címzetes főjegyző, körjegyző | B8: 0 | C8: ='kiadások korm. funkciónként'!C10 -> 17934334 | D8: 0 | E8: =SUM(B8:D8) -> 17934334
A9: I. besorolási osztály összesen | B9: 0 | C9: 3 | D9: 0 | E9: =SUM(B9:D9) -> 3
A10: II. besorolási osztály összesen | B10: 0 | C10: 11 | D10: 0 | E10: =SUM(B10:D10) -> 11
A11: III. besorolási osztály összesen | B11: 0 | C11: 0 | D11: 0 | E11: =SUM(B11:D11) -> 0
A12: KÖZTISZTVISELŐK, KORMÁNYTISZTVISELŐK ÖSSZESEN | B12: =SUM(B8:B11) -> 0 | C12: =SUM(C8:C11) -> 17934348 | D12: =SUM(D8:D11) -> 0 | E12: =SUM(B12:D12) -> 17934348
A13: igazgató (főigazgató), igazgatóhelyettes (főigazgató-helyettes) | B13: 0 | C13: 0 | D13: 0 | E13: =SUM(B13:D13) -> 0
A14: főosztályvezető, főosztályvezető-helyettes, osztályvezető, ügykezelő osztályvezető, további vezető | B14: 0 | C14: 0 | D14: 0 | E14: =SUM(B14:D14) -> 0
A15: főtanácsos, főmunkatárs, tanácsos, munkatárs | B15: 0 | C15: 0 | D15: 0 | E15: =SUM(B15:D15) -> 0
A16: "A", "B" fizetési osztály összesen | B16: 0 | C16: 0 | D16: 2 | E16: =SUM(B16:D16) -> 2
A17: "C", "D" fizetési osztály összesen | B17: 0 | C17: 0 | D17: 0 | E17: =SUM(B17:D17) -> 0
A18: "E"-"J" fizetési osztály összesen | B18: 3 | C18: 0 | D18: 4 | E18: =SUM(B18:D18) -> 7
A19: kutató, felsőoktatásban oktató | B19: 0 | C19: 0 | D19: 0 | E19: =SUM(B19:D19) -> 0
A20: KÖZALKALMAZOTTAK ÖSSZESEN | B20: =SUM(B13:B19) -> 3 | C20: =SUM(C13:C19) -> 0 | D20: =SUM(D13:D19) -> 6 | E20: =SUM(B20:D20) -> 9
A21: fizikai alkalmazott, a költségvetési szerveknél foglalkoztatott egyéb munkavállaló (fizikai alkalmazott) | B21: 1 | C21: 1 | D21: 0 | E21: =SUM(B21:D21) -> 2
A22: egyéb alkalmazott | B22: 0 | C22: 1 | D22: 0 | E22: =SUM(B22:D22) -> 1
A23: közfoglalkoztatott | B23: 0 | C23: 0 | D23: 0 | E23: =SUM(B23:D23) -> 0
A24: EGYÉB BÉRRENDSZER ÖSSZESEN | B24: =SUM(B21:B23) -> 1 | C24: =SUM(C21:C23) -> 2 | D24: =SUM(D21:D23) -> 0 | E24: =SUM(B24:D24) -> 3
A25: polgármester, főpolgármester | B25: 1 | C25: 0 | D25: 0 | E25: =SUM(B25:D25) -> 1
A26: helyi önkormányzati képviselő-testület tagja, megyei közgyűlés tagja | B26: 5 | C26: 0 | D26: 0 | E26: =SUM(B26:D26) -> 5
A27: alpolgármester, főpolgármester-helyettes, megyei közgyűlés elnöke, alelnöke | B27: 1 | C27: 0 | D27: 0 | E27: =SUM(B27:D27) -> 1
A28: VÁLASZTOTT TISZTSÉGVISELŐK ÖSSZESEN | B28: =SUM(B25:B27) -> 7 | C28: =SUM(C25:C27) -> 0 | D28: =SUM(D25:D27) -> 0 | E28: =SUM(B28:D28) -> 7
A29: KÖLTSÉGVETÉSI ENGEDÉLYEZETT LÉTSZÁMKERETBE TARTOZÓ FOGLALKOZTATOTTAK LÉTSZÁMA MINDÖSSZESEN | B29: =B12+B20+B24+B28 -> 11 | C29: =C12+C20+C24+C28 -> 17934350 | D29: =D12+D20+D24+D28 -> 6 | E29: =SUM(B29:D29) -> 17934367
A30: prémiumévek programról és a különleges foglalkoztatási állományról szóló 2004. évi CXXII. törvény alapján foglalkoztatott prémiumévesek | B30: 0 | C30: 0 | D30: 0 | E30: =SUM(B30:D30) -> 0
A31: prémiumévek programról és a különleges foglalkoztatási állományról szóló 2004. évi CXXII. törvény alapján foglalkoztatott különleges foglalkoztatási állományba helyezettek létszáma | B31: 0 | C31: 0 | D31: 0 | E31: =SUM(B31:D31) -> 0
A32: ösztöndíjas foglalkoztatottak (Pftv, illetve Magyar Közigazgatási Ösztöndíjról szóló 228/2011. (X. 28.) Korm. rendelet) | B32: 0 | C32: 0 | D32: 0 | E32: =SUM(B32:D32) -> 0
A33: munkaerőpiactól tartósan távol lévő személyek | B33: 0 | C33: 0 | D33: 0 | E33: =SUM(B33:D33) -> 0
A34: KÖLTSÉGVETÉSI ENGEDÉLYEZETT LÉTSZÁMKERETBE NEM TARTOZÓ FOGLALKOZTATOTTAK LÉTSZÁMA AZ IDŐSZAK VÉGÉN ÖSSZESEN (=80+…+86) | B34: =SUM(B30:B33) -> 0 | C34: =SUM(C30:C33) -> 0 | D34: =SUM(D30:D33) -> 0 | E34: =SUM(B34:D34) -> 0

Sheet szociális kiadások
A1: 5.sz. melléklet a ……./2015.(…….) rendelethez
A2: =Mellékletek!A1 -> Iharosberény Község Önkormányzata
A3: 2015. évi költségvetés
A4: Lakosságnak juttatott támogatások, szociális, rászorultsági jellegű ellátások (E Ft)
A6: ÖNKORMÁNYZATI ELŐIRÁNYZATOK
A7: Megnevezés | B7: Rovat-szám | C7: eredeti ei.
A8: mozgáskorlátozottak közlekedési támogatása | B8: K44 | C8: ='kiadások korm. funkciónként'!C10 -> 17934334
A9: mozgáskorlátozottak szerzési és átalakítási támogatása | B9: K44 | C9: 0
A10: megváltozott munkaképességűek illetve egészségkárosodottak keresetkiegészítése | B10: K44 | C10: 0
A11: cukorbetegek támogatása | B11: K44 | C11: 0
A12: helyi megállapítású ápolási díj | B12: K44 | C12: 0
A13: helyi megállapítású közgyógyellátás | B13: K44
A14: Betegséggel kapcsolatos (nem társadalombiztosítási) ellátások | B14: K44
A15: foglalkoztatást helyettesítő támogatás | B15: K45 | C15: ='kiadások működés felhalmozás'!C57 -> 0
A16: Foglalkoztatással, munkanélküliséggel kapcsolatos ellátások | B16: K45 | C16: =SUM(C15) -> 0
A17: hozzájárulás a lakossági energiaköltségekhez | B17: K46
A18: lakbértámogatás | B18: K46
A19: lakásfenntartási támogatás | B19: K46
A20: adósságcsökkentési támogatás | B20: K46 | C20: 0
A21: természetben nyújtott lakásfenntartási támogatás | B21: K46 | C21: ='kiadások működés felhalmozás'!C58 -> 0
A22: adósságkezelési szolgáltatás keretében gáz-vagy áram fogyasztást mérő készülék biztosítása | B22: K46 | C22: 0
A23: Lakhatással kapcsolatos ellátások | B23: K46
A24: állami gondozottak pénzbeli juttatásai | B24: K47 | C24: 0
A25: oktatásban résztvevők pénzbeli juttatásai | B25: K47 | C25: 0
A26: Intézményi ellátottak pénzbeli juttatásai | B26: K47
A27: időskorúak járadéka | B27: K48 | C27: 0
A28: rendszeres szociális segély | B28: K48
A29: átmeneti segély | B29: K48
A30: temetési segély | B30: K48
A31: egyéb, az önkormányzat rendeletében megállapított juttatás | B31: K48
A32: természetben nyújtott rendszeres szociális segély | B32: K48
A33: átmeneti segély | B33: K48
A34: temetési segély | B34: K48
A35: köztemetés | B35: K48
A36: rászorultságtól függõ normatív kedvezmények | B36: K48
A37: önkormányzati segély (nem szociális és gyermekvédelmi előírások alapján) adott pénzügyi ellátás | B37: K48 | C37: ='kiadások működés felhalmozás'!C60 -> 9163162
A38: önkormányzat segély (nem szociális és gyermekvédelmi előírások alapján) adott természetbeni ellátás | B38: K48 | C38: 0
A39: Egyéb nem intézményi ellátások | B39: K48 | C39: =SUM(C27:C38) -> 9163162
A40: Ellátottak pénzbeli juttatásai | B40: K4 | C40: =C14+C16+C23+C26+C39 -> 9163162

Sheet átadott
A1: 6.sz. melléklet a ……./2015.(…….) rendelethez
A2: =Mellékletek!A1 -> Iharosberény Község Önkormányzata
A3: 2015. évi költségvetés
A4: Támogatások, kölcsönök nyújtása és törlesztése (E Ft)
A6: ÖNKORMÁNYZATI ELŐIRÁNYZATOK
A7: Megnevezés | B7: Rovat-szám | C7: eredeti ei.
A8: központi költségvetési szervek részére | B8: K504 | C8: ='kiadások korm. funkciónként'!C10 -> 17934334
A9: központi kezelésű előirányzatok részére | B9: K504
A10: fejezeti kezelésű előirányzatok EU-s programokra és azok hazai társfinanszírozása részére | B10: K504
A11: egyéb fejezeti kezelésű előirányzatok részére | B11: K504
A12: társadalombiztosítás pénzügyi alapjai részére | B12: K504
A13: elkülönített állami pénzalapok részére | B13: K504
A14: helyi önkormányzatok és költségvetési szerveik részére | B14: K504
A15: társulások és költségvetési szerveik részére | B15: K504
A16: nemzetiségi önkormányzatok és költségvetési szerveik részére | B16: K504
A17: térségi fejlesztési tanácsok és költségvetési szerveik részére | B17: K504
A18: Működési célú visszatérítendő támogatások, kölcsönök nyújtása államháztartáson belülre | B18: K504 | C18: =SUM(C8:C17) -> 17934334
A19: központi költségvetési szervek részére | B19: K505
A20: központi kezelésű előirányzatok részére | B20: K505
A21: fejezeti kezelésű előirányzatok EU-s programokra és azok hazai társfinanszírozása részére | B21: K505
A22: egyéb fejezeti kezelésű előirányzatok részére | B22: K505
A23: társadalombiztosítás pénzügyi alapjai részére | B23: K505
A24: elkülönített állami pénzalapok részére | B24: K505
A25: helyi önkormányzatok és költségvetési szerveik részére | B25: K505
A26: társulások és költségvetési szerveik részére | B26: K505
A27: nemzetiségi önkormányzatok és költségvetési szerveik részére | B27: K505
A28: térségi fejlesztési tanácsok és költségvetési szerveik részére | B28: K505
A29: Működési célú visszatérítendő támogatások, kölcsönök törlesztése államháztartáson belülre | B29: K505 | C29: =SUM(C19:C28) -> 0
A30: központi költségvetési szervek részére | B30: K506
A31: központi kezelésű előirányzatok részére | B31: K506
A32: fejezeti kezelésű előirányzatok EU-s programokra és azok hazai társfinanszírozása részére | B32: K506
A33: egyéb fejezeti kezelésű előirányzatok részére | B33: K506
A34: társadalombiztosítás pénzügyi alapjai részére | B34: K506
A35: elkülönített állami pénzalapok részére | B35: K506
A36: helyi önkormányzatok és költségvetési szerveik részére | B36: K506
A37: társulások és költségvetési szerveik részére | B37: K506 | C37: 1558
A38: nemzetiségi önkormányzatok és költségvetési szerveik részére | B38: K506
A39: térségi fejlesztési tanácsok és költségvetési szerveik részére | B39: K506
A40: Egyéb működési célú támogatások államháztartáson belülre | B40: K506 | C40: =SUM(C30:C39) -> 1558
A41: egyházi jogi személyek részére | B41: K508
...

Sheet átvett
A1: 7.sz. melléklet a ……./2015.(…….) rendelethez
A2: =Mellékletek!A1 -> Iharosberény Község Önkormányzata
A3: 2015. évi költségvetés
A4: Támogatások, kölcsönök bevételei (E Ft)
A6: ÖNKORMÁNYZATI ELŐIRÁNYZATOK
A7: Megnevezés | B7: Rovat-szám | C7: eredeti ei.
A8: központi költségvetési szervektől | B8: B14 | C8: ='kiadások korm. funkciónként'!C10 -> 17934334
A9: központi kezelésű előirányzatoktól | B9: B14
A10: fejezeti kezelésű előirányzatok EU-s programokra és azok hazai társfinanszírozásától | B10: B14
A11: egyéb fejezeti kezelésű előirányzatoktól | B11: B14
A12: társadalombiztosítás pénzügyi alapjaitól | B12: B14
A13: elkülönített állami pénzalapoktól | B13: B14
A14: helyi önkormányzatok és költségvetési szerveiktől | B14: B14
A15: társulások és költségvetési szerveiktől | B15: B14
A16: nemzetiségi önkormányzatok és költségvetési szerveiktől | B16: B14
A17: térségi fejlesztési tanácsok és költségvetési szerveiktől | B17: B14
A18: Működési célú visszatérítendő támogatások, kölcsönök visszatérülése államháztartáson belülről | B18: B14 | C18: =SUM(C8:C17) -> 17934334
A19: központi költségvetési szervektől | B19: B15
A20: központi kezelésű előirányzatoktól | B20: B15
A21: fejezeti kezelésű előirányzatok EU-s programokra és azok hazai társfinanszírozásától | B21: B15
A22: egyéb fejezeti kezelésű előirányzatoktól | B22: B15
A23: társadalombiztosítás pénzügyi alapjaitól | B23: B15
A24: elkülönített állami pénzalapoktól | B24: B15
A25: helyi önkormányzatok és költségvetési szerveiktől | B25: B15
A26: társulások és költségvetési szerveiktől | B26: B15
A27: nemzetiségi önkormányzatok és költségvetési szerveiktől | B27: B15
A28: térségi fejlesztési tanácsok és költségvetési szerveiktől | B28: B15
A29: Működési célú visszatérítendő támogatások, kölcsönök igénybevétele államháztartáson belülről | B29: B15 | C29: =SUM(C19:C28) -> 0
A30: központi költségvetési szervektől | B30: B16 | C30: 1140
A31: központi kezelésű előirányzatoktól | B31: B16
A32: fejezeti kezelésű előirányzatok EU-s programokra és azok hazai társfinanszírozásától | B32: B16
A33: egyéb fejezeti kezelésű előirányzatoktól | B33: B16 | C33: 0
A34: társadalombiztosítás pénzügyi alapjaitól | B34: B16 | C34: 6828
A35: elkülönített állami pénzalapoktól | B35: B16
A36: helyi önkormányzatok és költségvetési szerveiktől | B36: B16 | C36: 9865
A37: társulások és költségvetési szerveiktől | B37: B16
A38: nemzetiségi önkormányzatok és költségvetési szerveiktől | B38: B16
A39: térségi fejlesztési tanácsok és költségvetési szerveiktől | B39: B16
A40: Egyéb működési célú támogatások bevételei államháztartáson belülről | B40: B16 | C40: =SUM(C30:C39) -> 17833
A41: központi költségvetési szervektől | B41: B23
...

Sheet helyi adók
A1: 8.sz. melléklet a …../2015.(…….) rendelethez
A2: =Mellékletek!A1 -> Iharosberény Község Önkormányzata
A3: 2015. évi költségvetés
A4: Helyi adó és egyéb közhatalmi bevételek (E Ft)
A6: Megnevezés | B6: Rovat-szám | C6: eredeti ei.
A7: építményadó | B7: B34 | C7: 3150
A8: épület után fizetett idegenforgalmi adó | B8: B34 | C8: ='kiadások korm. funkciónként'!C10 -> 17934334
A9: magánszemélyek kommunális adója | B9: B34 | C9: 4000
A10: telekadó | B10: B34
A11: Vagyoni tipusú adók | B11: B34 | C11: =SUM(C7:C10) -> 17941484
A12: Értékesítési és forgalmi adók | B12: B351 | C12: =C13+C14 -> 11000
A13: ebből: állandó jeleggel végzett iparűzési tevékenység után fizetett helyi iparűzési adó | B13: B351 | C13: 11000
A14: ebből: ideiglenes jeleggel végzett tevékenység után fizetett helyi iparűzési adó | B14: B351
A15: Gépjárműadók | B15: B354 | C15: =C16+C17+C18+C19 -> 3800
A16: ebből: belföldi gépjárművek adójának a központi költségvetést megillető része | B16: B354
A17: ebből: belföldi gépjárművek adójának a helyi önkormányzatot megillető része | B17: B354 | C17: 3800
A18: ebből: külföldi gépjárművek adója | B18: B354
A19: ebből: gépjármű túlsúlydíj | B19: B354
A20: Egyéb áruhasználati és szolgáltatási adók | B20: B355
A21: ebből: tartózkodás után fizetett idegenforgalmi adó | B21: B355
A22: ebből: talajterhelési díj | B22: B355 | C22: 1000
A23: Termékek és szolgáltatások adói | B23: B35 | C23: =C12+C15+C20 -> 14800
A24: eljárási illetékek | B24: B36
A25: igazgatási szolgáltatási díjak | B25: B36
A26: felügyeleti díjak | B26: B36
A27: ebrendészeti hozzájárulás | B27: B36
A28: környezetvédelmi bírság | B28: B36
A29: természetvédelmi bírság | B29: B36
A30: műemlékvédelmi bírság | B30: B36
A31: építésügyi bírság | B31: B36
A32: szabálysértési pénz- és helyszíni mbírság és a közlekedési szabályszegések után kiszabott közigazgatási bírság helyi önkormányzatot megillető része | B32: B36
A33: egyéb bírság | B33: B36 | C33: 500
A34: Egyéb közhatalmi bevételek | B34: B36 | C34: =SUM(C24:C33) -> 500
A35: KÖZHATALMI BEVÉTELEK ÖSSZESEN: | B35: B3 | C35: =C11+C23+C34 -> 17956784

Sheet beruházások felújítások
A1: 9.sz. melléklet a …../2015.(…….) rendelethez
A2: =Mellékletek!A1 -> Iharosberény Község Önkormányzata
A3: 2015. évi költségvetés
A4: Beruházások és felújítások (E Ft)
A6: Rovat megnevezése | B6: Rovat-szám | C6: ÖNKORMÁNYZATI ELŐIRÁNYZATOK | D6: KÖZÖS HIVATAL | E6: ÁMK | F6: MINDÖSSZESEN
F7: =SUM(C7:E7) -> 0
C8: ='kiadások korm. funkciónként'!C10 -> 17934334 | F8: =SUM(C8:E8) -> 17934334
F9: =SUM(C9:E9) -> 0
F10: =SUM(C10:E10) -> 0
A11: Immateriális javak beszerzése, létesítése | B11: K61 | C11: =SUM(C7:C10) -> 17934334 | D11: =SUM(D7:D10) -> 0 | E11: =SUM(E7:E10) -> 0 | F11: =SUM(C11:E11) -> 17934334
F12: =SUM(C12:E12) -> 0
F13: =SUM(C13:E13) -> 0
F14: =SUM(C14:E14) -> 0
F15: =SUM(C15:E15) -> 0
A16: Ingatlanok beszerzése, létesítése | B16: K62 | C16: =SUM(C12:C15) -> 0 | D16: =SUM(D12:D15) -> 0 | E16: =SUM(E12:E15) -> 0 | F16: =SUM(C16:E16) -> 0
F17: =SUM(C17:E17) -> 0
F18: =SUM(C18:E18) -> 0
F19: =SUM(C19:E19) -> 0
F20: =SUM(C20:E20) -> 0
A21: Informatikai eszközök beszerzése, létesítése | B21: K63 | C21: =SUM(C17:C20) -> 0 | D21: =SUM(D17:D20) -> 0 | E21: =SUM(E17:E20) -> 0 | F21: =SUM(C21:E21) -> 0
C22: 0 | F22: =SUM(C22:E22) -> 0
F23: =SUM(C23:E23) -> 0
A24: Egyéb tárgyi eszközök beszerzése, létesítése | B24: K64 | C24: =SUM(C22:C23) -> 0 | D24: =SUM(D22:D23) -> 0 | E24: =SUM(E22:E23) -> 0 | F24: =SUM(C24:E24) -> 0
F25: =SUM(C25:E25) -> 0
F26: =SUM(C26:E26) -> 0
A27: Részesedések beszerzése | B27: K65 | C27: =SUM(C25:C26) -> 0 | D27: =SUM(D25:D26) -> 0 | E27: =SUM(E25:E26) -> 0 | F27: =SUM(C27:E27) -> 0
F28: =SUM(C28:E28) -> 0
F29: =SUM(C29:E29) -> 0
A30: Meglévő részesedések növeléséhez kapcsolódó kiadások | B30: K66 | C30: =SUM(C28:C29) -> 0 | D30: =SUM(D28:D29) -> 0 | E30: =SUM(E28:E29) -> 0 | F30: =SUM(C30:E30) -> 0
A31: Beruházási célú előzetesen felszámított általános forgalmi adó | B31: K67 | F31: =SUM(C31:E31) -> 0
A32: Beruházások | B32: K6 | C32: =C11+C16+C21+C24+C27+C30+C31 -> 17934334 | D32: =D11+D16+D21+D24+D27+D30+D31 -> 0 | E32: =E11+E16+E21+E24+E27+E30+E31 -> 0 | F32: =SUM(C32:E32) -> 17934334
F33: =SUM(C33:E33) -> 0
F34: =SUM(C34:E34) -> 0
F35: =SUM(C35:E35) -> 0
F36: =SUM(C36:E36) -> 0
A37: Ingatlanok felújítása | B37: K71 | C37: =SUM(C33:C36) -> 0 | D37: =SUM(D33:D36) -> 0 | E37: =SUM(E33:E36) -> 0 | F37: =SUM(C37:E37) -> 0
F38: =SUM(C38:E38) -> 0
F39: =SUM(C39:E39) -> 0
F40: =SUM(C40:E40) -> 0
F41: =SUM(C41:E41) -> 0
...

Sheet tartalékok
A1: 10.sz. melléklet a …../2015.(…….) rendelethez
A2: =Mellékletek!A1 -> Iharosberény Község Önkormányzata
A3: 2015. évi költségvetés
A4: Általános- és céltartalékok (E Ft)
A7: Rovat megnevezése | B7: Rovat-szám | C7: ÖNKORMÁNYZATI ELŐIRÁNYZATOK | D7: KÖZÖS HIVATAL | E7: ÁMK | F7: MINDÖSSZESEN
C8: ='kiadások korm. funkciónként'!C10 -> 17934334 | F8: =SUM(C8:E8) -> 17934334
F9: =SUM(C9:E9) -> 0
F10: =SUM(C10:E10) -> 0
F11: =SUM(C11:E11) -> 0
A12: Általános tartalékok | B12: K512 | C12: =SUM(C8:C11) -> 17934334 | D12: =SUM(D8:D11) -> 0 | E12: =SUM(E8:E11) -> 0 | F12: =SUM(C12:E12) -> 17934334
F13: =SUM(C13:E13) -> 0
F14: =SUM(C14:E14) -> 0
F15: =SUM(C15:E15) -> 0
C16: 57035 | F16: =SUM(C16:E16) -> 57035
A17: Céltartalékok- | B17: K512 | C17: =SUM(C13:C16) -> 57035 | D17: =SUM(D13:D16) -> 0 | E17: =SUM(E13:E16) -> 0 | F17: =SUM(C17:E17) -> 57035

Sheet stabilitási 1
A1: 11.sz. melléklet a ……/2015. (……..) rendelethez
A2: =Mellékletek!A1 -> Iharosberény Község Önkormányzata
A3: 2015. évi költségvetés
A4: a költségvetési év azon fejlesztési céljai, amelyek megvalósításához a Stabilitási tv. 3. § (1) bekezdése szerinti adósságot keletkeztető ügylet megkötése válik vagy válhat szükségessé (E Ft)
A6: ÖNKORMÁNYZATI ELŐIRÁNYZATOK
A7: Rovat megnevezése | B7: Rovat-szám | C7: kiadási eredeti előirányzat | D7: ebből kiadási előirányzat fedezete-saját forrás | E7: ebből kiadási előirányzat fedezete-adósságot keletkeztető ügylet | F7: adósságot keletkeztető ügylet fajtája | G7: adósságot keletkeztető ügylet rovatszáma (B8) | H7: adósságot keletkeztető ügylet kezdő időpontja | I7: adósságot keletkeztető ügylet lejárati időpontja | J7: adósságot keletkeztető ügylet- várható visszatérítendő összege (kamattal) leáratig mindösszesen
C8: ='kiadások korm. funkciónként'!C10 -> 17934334 | F8: hitel/lízing/kölcsön/értékpapír
A12: Immateriális javak beszerzése, létesítése | B12: K61
A17: Ingatlanok beszerzése, létesítése | B17: K62
A22: Informatikai eszközök beszerzése, létesítése | B22: K63 | C22: ='kiadások működés felhalmozás'!G79 -> 200000
A25: Egyéb tárgyi eszközök beszerzése, létesítése | B25: K64
A28: Részesedések beszerzése | B28: K65
A31: Meglévő részesedések növeléséhez kapcsolódó kiadások | B31: K66
A32: Beruházási célú előzetesen felszámított általános forgalmi adó | B32: K67
A33: Beruházások | B33: K6 | C33: =C12+C17+C22+C25+C28+C31+C32 -> 200000 | D33: =D12+D17+D22+D25+D28+D31+D32 -> 0
A38: Ingatlanok felújítása | B38: K71
A43: Informatikai eszközök felújítása | B43: K72
A48: Egyéb tárgyi eszközök felújítása | B48: K73
A49: Felújítási célú előzetesen felszámított általános forgalmi adó | B49: K74
A50: Felújítások | B50: K7 | C50: =C38+C43+C48+C49 -> 0 | D50: =D38+D43+D48+D49 -> 0

Sheet stabilitási 2
A1: 12.sz. melléklet a ……/2015. (……..) rendelethez
A2: =Mellékletek!A1 -> Iharosberény Község Önkormányzata
A3: 2015. évi költségvetés
A4: A Stabilitási tv. 3. § (1) bekezdése szerinti adósságot keletkeztető ügyletekből és kezességvállalásokból fennálló kötelezettségek az adósságot keletkeztető ügyletek futamidejének végéig, illetve a kezesség érvényesíthetőségéig, és a Stabilitási tv. 45. § (1) bekezdés a) pontja felhatalmazása alapján kiadott jogszabályban meghatározottak szerinti saját bevételek (E Ft)
A6: ÖNKORMÁNYZATI ELŐIRÁNYZATOK
A7: Rovat megnevezése | B7: Rovat-szám | C7: adósságot keletkeztető ügylet kezdő időpontja | D7: adósságot keletkeztető ügylet lejárati időpontja | E7: adósságot keletkeztető ügyletekből és kezességvállalásokból fennálló kötelezettségek | F7: saját bevételek 2014. | G7: saját bevételek 2015. | H7: saját bevételek 2016. | I7: saját bevételek 2017.
A8: Hosszú lejáratú hitelek, kölcsönök felvétele | B8: B8111 | C8: ='kiadások korm. funkciónként'!C10 -> 17934334
A9: ebből: pénzügyi vállalkozás | B9: B8111
A10: Likviditási célú hitelek, kölcsönök felvétele pénzügyi vállalkozástól | B10: B8112
A11: Rövid lejáratú hitelek, kölcsönök felvétele | B11: B8113
A12: ebből: pénzügyi vállalkozás | B12: B8113
A13: Hitel-, kölcsönfelvétel államháztartáson kívülről | B13: B811
A14: Forgatási célú belföldi értékpapírok beváltása, értékesítése | B14: B8121
A15: ebből: befektetési jegyek | B15: B8121
A16: Forgatási célú belföldi értékpapírok kibocsátása | B16: B8122
A17: Befektetési célú belföldi értékpapírok beváltása, értékesítése | B17: B8123
A18: ebből: kárpótlási jegyek | B18: B8123
A19: Befektetési célú belföldi értékpapírok kibocsátása | B19: B8124
A20: Belföldi értékpapírok bevételei | B20: B812
... A30: Rovat megnevezése | B30: Rovat-szám
A31: 353/2011. (XII. 30.) Korm. Rendelet értelmében az önkormányzat saját bevételének minősül
A32: 1. a helyi adóból származó bevétel,
A33: 2. az önkormányzati vagyon és az önkormányzatot megillető vagyoni értékű jog értékesítéséből és hasznosításából származó bevétel,
A34: 3. az osztalék, a koncessziós díj és a hozambevétel,
A35: 4. a tárgyi eszköz és az immateriális jószág, részvény, részesedés, vállalat értékesítéséből vagy privatizációból származó bevétel,
A36: 5. bírság-, pótlék- és díjbevétel, valamint
A37: 6. a kezességvállalással kapcsolatos megtérülés.
A38: ÖSSZESEN:
A50: a)4 hitel, kölcsön felvétele, átvállalása a folyósítás, átvállalás napjától a végtörlesztés napjáig, és annak aktuális tőketartozása,
A51: b) a számvitelről szóló törvény (a továbbiakban: Szt.) szerinti hitelviszonyt megtestesítő értékpapír forgalomba hozatala a forgalomba hozatal napjától a beváltás napjáig, kamatozó értékpapír esetén annak névértéke, egyéb értékpapír esetén annak vételára,
A52: c) váltó kibocsátása a kibocsátás napjától a beváltás napjáig, és annak a váltóval kiváltott kötelezettséggel megegyező, kamatot nem tartalmazó értéke,
A53: d) az Szt. szerint pénzügyi lízing lízingbevevői félként történő megkötése a lízing futamideje alatt, és a lízingszerződésben kikötött tőkerész hátralévő összege,
... A75: 6. a kezességvállalással kapcsolatos megtérülés.

Sheet EU projektek
A1: 13.sz. melléklet a ……/2015.(…….) rendelethez
A2: =Mellékletek!A1 -> Iharosberény Község Önkormányzata
A3: 2015. évi költségvetés
A4: Az európai uniós forrásból finanszírozott támogatással megvalósuló programok, projektek kiadásai, bevételei, valamint a helyi önkormányzat ilyen projektekhez történő hozzájárulásai (E Ft)
A6: ÖNKORMÁNYZATI ELŐIRÁNYZATOK
A7: Projekt megnevezése | B7: Eredeti ei.
A8: K1. Személyi juttatások | C8: ='kiadások korm. funkciónként'!C10 -> 17934334
A9: K2. Munkaadókat terhelő járulékok és szociális hozzájárulási adó
A10: K3. Dologi kiadások
A11: K4. Ellátottak pénzbeli juttatásai
A12: K5. Egyéb működési célú kiadások
A13: K6. Beruházási kiadások
A14: K7. Felújítások
A15: K8. Egyéb felhalmozási célú kiadások
A16: K1-K8. Költségvetési kiadások ÖSSZESEN | B16: =SUM(B8:B15) -> 0
A17: B16 Működési célú támogatások fejezeti kezelésű előirányzatok EU-s programokra és azok hazai társfinanszírozásától
A18: B25 Felhalmozási célú támogatásokfejezeti kezelésű előirányzatok EU-s programokra és azok hazai társfinanszírozásától
A19: B63 Működési célú átvett pénzeszközök Európai Uniótól
A20: B73 Felhalmozási célú átvett pénzeszközök Európai Uniótól
A21: B1-7 A helyi önkormányzat projekthez történő hozzájárulása
A22: B1-B7 Költségvetési bevételek
A23: B8 Finanszírozási bevételek- önkormányzat projekthez történő hozzájárulása
A24: BEVÉTELEK ÖSSZESEN | B24: =SUM(B22:B23) -> 0
A27: Projekt megnevezése | B27: Eredeti ei.
A28: K1. Személyi juttatások
A29: K2. Munkaadókat terhelő járulékok és szociális hozzájárulási adó
A30: K3. Dologi kiadások
A31: K4. Ellátottak pénzbeli juttatásai
A32: K5. Egyéb működési célú kiadások
A33: K6. Beruházási kiadások
A34: K7. Felújítások
A35: K8. Egyéb felhalmozási célú kiadások
A36: K1-K8. Költségvetési kiadások ÖSSZESEN
A37: B16 Működési célú támogatások fejezeti kezelésű előirányzatok EU-s programokra és azok hazai társfinanszírozásától
A38: B25 Felhalmozási célú támogatásokfejezeti kezelésű előirányzatok EU-s programokra és azok hazai társfinanszírozásától
A39: B63 Működési célú átvett pénzeszközök Európai Uniótól
... A44: BEVÉTELEK ÖSSZESEN

Sheet hitelek
A1: 13.sz. melléklet a ……/2015.(…….) rendelethez
A2: =Mellékletek!A1 -> Iharosberény Község Önkormányzata
A3: 2015. évi költségvetés
A4: A költségvetési hiány külső finanszírozására vagy a költségvetési többlet felhasználására szolgáló finanszírozási bevételek és kiadások működési és felhalmozási cél szerinti tagolásban (E Ft)
A6: ÖNKORMÁNYZATI ELŐIRÁNYZATOK
A7: Megnevezés | B7: Rovat-szám | C7: eredeti ei. Működési célú | D7: eredeti ei. Felhalmozási célú
A8: Hosszú lejáratú hitelek, kölcsönök törlesztése | B8: K9111 | C8: ='kiadások korm. funkciónként'!C10 -> 17934334
A9: ebből: pénzügyi vállalkozás | B9: K9111
A10: ebből: fedezeti ügyletek nettó kiadásai | B10: K9111
A11: Likviditási célú hitelek, kölcsönök törlesztése pénzügyi vállalkozásnak | B11: K9112
A12: Rövid lejáratú hitelek, kölcsönök törlesztése | B12: K9113
A13: ebből: pénzügyi vállalkozás | B13: K9113
A14: ebből: fedezeti ügyletek nettó kiadásai | B14: K9113
A15: Hitel-, kölcsöntörlesztés államháztartáson kívülre | B15: K911
A16: Forgatási célú belföldi értékpapírok vásárlása | B16: K9121
A17: ebből: befektetési jegyek | B17: K9121
A18: ebből: kárpótlási jegyek | B18: K9121
A19: Forgatási célú belföldi értékpapírok beváltása | B19: K9122
A20: ebből: fedezeti ügyletek nettó kiadásai | B20: K9122
... A41: Külföldi finanszírozás kiadásai | B41: K92
A44: Megnevezés | B44: Rovat-szám | C44: eredeti ei. Működési célú | D44: eredeti ei. Felhalmozáci célú
A45: Hosszú lejáratú hitelek, kölcsönök felvétele | B45: B8111
A46: ebből: pénzügyi vállalkozás | B46: B8111
A47: Likviditási célú hitelek, kölcsönök felvétele pénzügyi vállalkozástól | B47: B8112
A48: Rövid lejáratú hitelek, kölcsönök felvétele | B48: B8113
A49: ebből: pénzügyi vállalkozás | B49: B8113
A50: Hitel-, kölcsönfelvétel államháztartáson kívülről | B50: B811
A51: Forgatási célú belföldi értékpapírok beváltása, értékesítése | B51: B8121
A52: ebből: befektetési jegyek | B52: B8121
A53: Forgatási célú belföldi értékpapírok kibocsátása | B53: B8122
A54: Befektetési célú belföldi értékpapírok beváltása, értékesítése | B54: B8123
A55: ebből: kárpótlási jegyek | B55: B8123
A56: Befektetési célú belföldi értékpapírok kibocsátása | B56: B8124
... A71: Külföldi finanszírozás bevételei | B71: B82

Sheet finanszírozás
A1: 15.sz. melléklet a …../2015.(…….) rendelethez
A2: =Mellékletek!A1 -> Iharosberény Község Önkormányzata
A3: 2015. évi költségvetés
A4: Irányító szervi támogatások folyósítása (E Ft)
A6: ÖNKORMÁNYZATI ELŐIRÁNYZATOK
A7: Megnevezés | B7: Rovat-szám | C7: Közös Hivatal | D7: Óvoda | E7: ÖSSZESEN
A8: Központi, irányító szervi támogatások folyósítása működési célra | B8: K915 | C8: ='kiadások korm. funkciónként'!C10 -> 17934334 | D8: 29048 | E8: =SUM(C8:D8) -> 17963382
A9: Központi, irányító szervi támogatások folyósítása felhalmozási célra | B9: K915
A10: ÖSSZESEN:

Sheet EI FELHASZN TERV
A1: 16.sz. melléklet a …../2015.(…..) rendelethez
A2: =Mellékletek!A1 -> Iharosberény Község Önkormányzata
A3: 2015. évi költségvetés
A4: Előirányzat felhasználási terv (E Ft)
A6: ÖNKORMÁNYZATI ELŐIRÁNYZATOK
A7: Rovat megnevezése | B7: Rovat-szám | C7: JANUÁR | D7: FEBRUÁR | E7: MÁRCIUS | F7: ÁPRILIS | G7: MÁJUS | H7: JÚNIUS | I7: JÚLIUS | J7: AUGUSZTUS | K7: SZEPTEMBER | L7: OKTÓBER | M7: NOVEMBER | N7: DECEMBER | O7: MINDÖSSZESEN
A8: Törvény szerinti illetmények, munkabérek | B8: K1101 | C8: ='kiadások korm. funkciónként'!C10 -> 17934334
A9: Normatív jutalmak | B9: K1102
A10: Céljuttatás, projektprémium | B10: K1103
A11: Készenléti, ügyeleti, helyettesítési díj, túlóra, túlszolgálat | B11: K1104
A12: Végkielégítés | B12: K1105
A13: Jubileumi jutalom | B13: K1106
A14: Béren kívüli juttatások | B14: K1107
A15: Ruházati költségtérítés | B15: K1108
A16: Közlekedési költségtérítés | B16: K1109
A17: Egyéb költségtérítések | B17: K1110
A18: Lakhatási támogatások | B18: K1111
A19: Szociális támogatások | B19: K1112
A20: Foglalkoztatottak egyéb személyi juttatásai | B20: K1113
... A75: Egyéb működési célú kiadások | B75: K5
A76: Működési költségvetés előirányzat csoport
A77: Immateriális javak beszerzése, létesítése | B77: K61
A78: Ingatlanok beszerzése, létesítése | B78: K62
A79: Informatikai eszközök beszerzése, létesítése | B79: K63
A80: Egyéb tárgyi eszközök beszerzése, létesítése | B80: K64
A81: Részesedések beszerzése | B81: K65
A82: Meglévő részesedések növeléséhez kapcsolódó kiadások | B82: K66
A83: Beruházási célú előzetesen felszámított általános forgalmi adó | B83: K67
A84: Beruházások | B84: K6
A85: Ingatlanok felújítása | B85: K71
A86: Informatikai eszközök felújítása | B86: K72
A87: Egyéb tárgyi eszközök felújítása | B87: K73
A88: Felújítási célú előzetesen felszámított általános forgalmi adó | B88: K74
... A98: Egyéb felhalmozási célú kiadások | B98: K8
A99: Felhalmozási költségvetés előirányzat csoport
A100: Költségvetési kiadások | B100: K1-K8
A101: Hosszú lejáratú hitelek, kölcsönök törlesztése | B101: K9111
A102: Likviditási célú hitelek, kölcsönök törlesztése pénzügyi vállalkozásnak | B102: K9112
A103: Rövid lejáratú hitelek, kölcsönök törlesztése | B103: K9113
A104: Hitel-, kölcsöntörlesztés államháztartáson kívülre | B104: K911
...

Sheet TÖBB ÉVES
A1: 17.sz. melléklet a …../2015.(……..) rendelethez
A2: =Mellékletek!A1 -> Iharosberény Község Önkormányzata
A3: 2015. évi költségvetés
A4: A többéves kihatással járó döntések számszerűsítése évenkénti bontásban és összesítve (E Ft)
A6: ÖNKORMÁNYZATI ELŐIRÁNYZATOK
A7: Kötelezettségek megnevezése | B7: Köt.vállalás éve | C7: Tárgyév előtti kifizetés | D7: Tárgyévi kifizetés (2015. évi ei.) | E7: 2016. évi kifizetés | F7: 2017. évi kifizetés | G7: 2018. évi kifizetés | H7: 2019. év utáni kifizetések | I7: Összesen
C8: ='kiadások korm. funkciónként'!C10 -> 17934334
A12: Működési célú hiteltörlesztések összesen:
I13: =SUM(C13:H13) -> 0
A17: Felhalmozási célú hiteltörlesztések | C17: =SUM(C13:C16) -> 0 | D17: =SUM(D13:D16) -> 0 | E17: =SUM(E13:E16) -> 0 | F17: =SUM(F13:F16) -> 0 | G17: =SUM(G13:G16) -> 0 | H17: =SUM(H13:H16) -> 0 | I17: =SUM(I13:I16) -> 0
A22: Beruházások összesen:
A27: Felújítások összesen:
A32: MINDÖSSZESEN: | C32: =C12+C17+C22+C27 -> 0 | D32: =D12+D17+D22+D27 -> 0 | E32: =E12+E17+E22+E27 -> 0 | F32: =F12+F17+F22+F27 -> 0 | G32: =G12+G17+G22+G27 -> 0 | H32: =H12+H17+H22+H27 -> 0 | I32: =I12+I17+I22+I27 -> 0

Sheet KÖZVETETT
A1: 18.sz. melléklet a …../2015.(…..) rendelethez
A2: =Mellékletek!A1 -> Iharosberény Község Önkormányzata
A3: 2015. évi költségvetés
A4: A közvetett támogatások (E Ft)
A6: ÖNKORMÁNYZATI ELŐIRÁNYZATOK
A7: Rovat megnevezése | B7: Rovat-szám | C7: tervezett elvárt bevétel | D7: közvetett támogatás | E7: várható bevétel
C8: ='kiadások korm. funkciónként'!C10 -> 17934334
A12: az ellátottak térítési díjának, kártérítésének méltányossági alapon történő elengedésének összege | B12: B405
A17: a lakosság részére lakásépítéshez, lakásfelújításhoz nyújtott kölcsönök elengedésének összege | B17: B72
A18: építményadó | B18: B34
A19: épület után fizetett idegenforgalmi adó | B19: B34
A20: magánszemélyek kommunális adója | B20: B34
A21: telekadó | B21: B34
A22: Gépjárműadók | B22: B354
A23: Értékesítési és forgalmi adók | B23: B351
A25: a helyi adónál, gépjárműadónál biztosított kedvezmény, mentesség összege adónemenként | B25: B3, B7
B26: B402
B27: B5
A30: a helyiségek, eszközök hasznosításából származó bevételből nyújtott kedvezmény, mentesség összege | B30: B4, B5
A35: az egyéb nyújtott kedvezmény vagy kölcsön elengedésének összege

Sheet GÖRDÜLŐ
A1: 19.sz. melléklet a …../2015.(……) rendelethez
A2: =Mellékletek!A1 -> Iharosberény Község Önkormányzata
A3: 2015. évi költségvetés
A4: AZ Áht.29/A. § szerinti tervszámoknak megfelelően a költségvetési évet követő három év tervezett előirányzatainak keretszámai főbb csoportokban, és a 29/A. § szerinti tervszámoktól történő esetleges eltérés indokai
A6: Áht. 29/A. § A helyi önkormányzat, a nemzetiségi önkormányzat és a társulás évente, legkésőbb a költségvetési rendelet, határozat elfogadásáig határozatban állapítja meg
A7: a) a Stabilitási tv. 45. § (1) bekezdés a) pontjában kapott felhatalmazás alapján kiadott jogszabályban meghatározottak szerinti saját bevételeinek és
