Workbook
Name _pr232: '18.sz.m.többéves'!$A$16
Name _pr232: '19.sz.m.közvetett'!#REF!
Name _pr232: '20.sz.m.gördülő'!#REF!
Name _pr232: GÖRDÜLŐ!#REF!
Name _pr232: KÖZVETETT!$A$12
Name _pr232: 'TÖBB ÉVES'!$A$18
Name _pr233: '18.sz.m.többéves'!$A$17
Name _pr233: '19.sz.m.közvetett'!#REF!
Name _pr233: '20.sz.m.gördülő'!#REF!
Name _pr233: GÖRDÜLŐ!#REF!
Name _pr233: KÖZVETETT!$A$17
Name _pr233: 'TÖBB ÉVES'!$A$19
Name _pr234: '18.sz.m.többéves'!$A$18
Name _pr234: '19.sz.m.közvetett'!#REF!
Name _pr234: '20.sz.m.gördülő'!#REF!
Name _pr234: GÖRDÜLŐ!#REF!
Name _pr234: KÖZVETETT!$A$25
Name _pr234: 'TÖBB ÉVES'!$A$20
Name _pr235: '18.sz.m.többéves'!$A$19
Name _pr235: '19.sz.m.közvetett'!#REF!
Name _pr235: '20.sz.m.gördülő'!#REF!
Name _pr235: GÖRDÜLŐ!#REF!
Name _pr235: KÖZVETETT!$A$30
Name _pr235: 'TÖBB ÉVES'!$A$21
Name _pr236: '18.sz.m.többéves'!$A$20
Name _pr236: '19.sz.m.közvetett'!#REF!
Name _pr236: '20.sz.m.gördülő'!#REF!
Name _pr236: GÖRDÜLŐ!#REF!
Name _pr236: KÖZVETETT!$A$35
Name _pr236: 'TÖBB ÉVES'!$A$22
Name _pr312: '18.sz.m.többéves'!$A$9
Name _pr312: '19.sz.m.közvetett'!#REF!
Name _pr312: '20.sz.m.gördülő'!#REF!
Name _pr312: GÖRDÜLŐ!#REF!
Name _pr312: KÖZVETETT!#REF!
Name _pr312: 'TÖBB ÉVES'!$A$9
Name _pr313: '18.sz.m.többéves'!$A$4
Name _pr313: '19.sz.m.közvetett'!#REF!
Name _pr313: '20.sz.m.gördülő'!#REF!
Name _pr313: GÖRDÜLŐ!#REF!
Name _pr313: KÖZVETETT!#REF!
Name _pr313: 'TÖBB ÉVES'!$A$4
Name _pr314: '18.sz.m.többéves'!$A$11
Name _pr314: '19.sz.m.közvetett'!$A$4
Name _pr314: '20.sz.m.gördülő'!#REF!
Name _pr314: GÖRDÜLŐ!#REF!
Name _pr314: KÖZVETETT!$A$4
Name _pr314: 'TÖBB ÉVES'!$A$11
Name _pr315: '18.sz.m.többéves'!$A$12
Name _pr315: '19.sz.m.közvetett'!#REF!
Name _pr315: '20.sz.m.gördülő'!$A$4
Name _pr315: GÖRDÜLŐ!$A$4
Name _pr315: KÖZVETETT!#REF!
Name _pr315: 'TÖBB ÉVES'!$A$12
Name _pr347: '20.sz.m.gördülő'!$A$7
Name _pr347: GÖRDÜLŐ!$A$7
Name _pr348: '20.sz.m.gördülő'!$A$8
Name _pr348: GÖRDÜLŐ!$A$8
Name _pr349: '20.sz.m.gördülő'!$A$9
Name _pr349: GÖRDÜLŐ!$A$9

Sheet Mellékletek
A1: Iharosberény Község Önkormányzata
A2: 2015. évi költségvetés
A4: Mellékletek
A6: Kötelező mellékletek:
A8: 1.számú melléklet | B8: Kiemelt előirányzatok
A9: 2.számú melléklet | B9: Kiadások működési és felhalmozási bontásban
A10: 3.számú melléklet | B10: Betételek működési és felhalmozási bontásban
A11: 4.számú melléklet | B11: Létszámkeret
A14: Tájékoztató mellékletek:
A16: 5.számú melléklet | B16: Szociális kiadások
A17: 6.számú melléklet | B17: Átadott pénzeszközök
A18: 7.számú melléklet | B18: Átvett pénzeszközök
A19: 8.számú melléklet | B19: Helyi adók
A20: 9.számú melléklet | B20: Beruházások, felújítások
A21: 10.számú melléklet | B21: Tartalékok
A22: 11.számú melléklet | B22: Stabilitás 1.
A23: 12.számú melléklet | B23: Stabilitás 2.
A24: 13.számú melléklet | B24: EU projektek
A25: 14.számú melléklet | B25: Hitelek
A26: 15.számú melléklet | B26: Finanszírozás
A27: 16.számú melléklet | B27: Előirányzat felhasználási terv
... A33: 22.számú melléklet | B33: Bevételek kormányzati funkciók szerinti bontásban

Sheet kiemelt ei
A1: 1.sz. melléklet az .../2016.(......) rendelethez
A2: =Mellékletek!A1 -> Iharosberény Község Önkormányzata
A4: 2016. évi költségvetés
A5: Az egységes rovatrend szerint a kiemelt kiadási és bevételi jogcímek
B7: eredeti előirányzat | F7: Nettósított
A8: Megnevezés | B8: önkormányzat | C8: ='kiadások korm. funkciónként'!C10 -> 17934334 | D8: Óvoda | E8: összevont
A9: K1. Személyi juttatások | B9: ='kiadások működés felhalmozás'!C26 -> 27145191 | C9: ='kiadások működés felhalmozás'!D26 -> 42450771 | D9: ='kiadások működés felhalmozás'!E26 -> 21592400 | E9: =SUM(B9:D9) -> 91188362 | F9: =E9 -> 91188362
A10: K2. Munkaadókat terhelő járulékok és szociális hozzájárulási adó | B10: ='kiadások működés felhalmozás'!C27 -> 5059495 | C10: ='kiadások működés felhalmozás'!D27 -> 11186992 | D10: ='kiadások működés felhalmozás'!E27 -> 5775948 | E10: =SUM(B10:D10) -> 22022435 | F10: =E10 -> 22022435
A11: K3. Dologi kiadások | B11: ='kiadások működés felhalmozás'!C52 -> 56154063 | C11: ='kiadások működés felhalmozás'!D52 -> 12056000 | D11: ='kiadások működés felhalmozás'!E52 -> 3774000 | E11: =SUM(B11:D11) -> 71984063 | F11: =E11 -> 71984063
A12: K4. Ellátottak pénzbeli juttatásai | B12: ='kiadások működés felhalmozás'!C61 -> 11163162 | C12: ='kiadások működés felhalmozás'!D61 -> 0 | D12: ='kiadások működés felhalmozás'!E61 -> 0 | E12: =SUM(B12:D12) -> 11163162 | F12: =E12 -> 11163162
A13: K5. Egyéb működési célú kiadások | B13: ='kiadások működés felhalmozás'!C75 -> 64077827 | C13: ='kiadások működés felhalmozás'!D75 -> 0 | D13: ='kiadások működés felhalmozás'!E75 -> 0 | E13: =SUM(B13:D13) -> 64077827 | F13: =E13 -> 64077827
A14: K6. Beruházási kiadások | B14: ='kiadások működés felhalmozás'!C84 -> 3360250 | C14: ='kiadások működés felhalmozás'!D84 -> 508000 | D14: ='kiadások működés felhalmozás'!E84 -> 0 | E14: =SUM(B14:D14) -> 3868250 | F14: =E14 -> 3868250
A15: K7. Felújítások | B15: ='kiadások működés felhalmozás'!C89 -> 33167231 | C15: ='kiadások működés felhalmozás'!D89 -> 0 | D15: ='kiadások működés felhalmozás'!E89 -> 0 | E15: =SUM(B15:D15) -> 33167231 | F15: =E15 -> 33167231
A16: K8. Egyéb felhalmozási célú kiadások | B16: ='kiadások működés felhalmozás'!C98 -> 0 | C16: ='kiadások működés felhalmozás'!D98 -> 0 | D16: ='kiadások működés felhalmozás'!E98 -> 0 | E16: =SUM(B16:D16) -> 0 | F16: =E16 -> 0
A17: K1-8. Költségvetési kiadások | B17: =SUM(B9:B16) -> 200127219 | C17: =SUM(C9:C16) -> 66201763 | D17: =SUM(D9:D16) -> 31142348 | E17: =SUM(E9:E16) -> 297471330 | F17: =SUM(F9:F16) -> 297471330
A18: K9. Finanszírozási kiadások | B18: ='kiadások működés felhalmozás'!C123 -> 97726926 | C18: ='kiadások működés felhalmozás'!D123 -> 0 | D18: ='kiadások működés felhalmozás'!E123 -> 0 | E18: =B18+C18+D18 -> 97726926 | F18: 0
A19: KIADÁSOK ÖSSZESEN (K1-9) | B19: =B17+B18 -> 297854145 | C19: =C17+C18 -> 66201763 | D19: =D17+D18 -> 31142348 | E19: =E17+E18 -> 395198256 | F19: =F17+F18 -> 297471330
A20: B1. Működési célú támogatások államháztartáson belülről | B20: ='bevételek működés felhalmozás'!C20 -> 128860125 | C20: ='bevételek működés felhalmozás'!D20 -> 0 | D20: ='bevételek működés felhalmozás'!E20 -> 0 | E20: =SUM(B20:D20) -> 128860125 | F20: =SUM(C20:E20) -> 128860125
A21: B2. Felhalmozási célú támogatások államháztartáson belülről | B21: ='bevételek működés felhalmozás'!C56 -> 0 | C21: ='bevételek működés felhalmozás'!D56 -> 0 | D21: ='bevételek működés felhalmozás'!E56 -> 0 | E21: =SUM(B21:D21) -> 0 | F21: =SUM(C21:E21) -> 0
A22: B3. Közhatalmi bevételek | B22: ='bevételek működés felhalmozás'!C34 -> 29970000 | C22: ='bevételek működés felhalmozás'!D34 -> 0 | D22: ='bevételek működés felhalmozás'!E34 -> 0 | E22: =SUM(B22:D22) -> 29970000 | F22: =SUM(C22:E22) -> 29970000
A23: B4. Működési bevételek | B23: ='bevételek működés felhalmozás'!C45 -> 22771714 | C23: ='bevételek működés felhalmozás'!D45 -> 0 | D23: ='bevételek működés felhalmozás'!E45 -> 0 | E23: =SUM(B23:D23) -> 22771714 | F23: =SUM(C23:E23) -> 22771714
A24: B5. Felhalmozási bevételek | B24: ='bevételek működés felhalmozás'!C62 -> 390000 | C24: ='bevételek működés felhalmozás'!D62 -> 0 | D24: ='bevételek működés felhalmozás'!E62 -> 0 | E24: =SUM(B24:D24) -> 390000 | F24: =SUM(C24:E24) -> 390000
A25: B6. Működési célú átvett pénzeszközök | B25: ='bevételek működés felhalmozás'!C49 -> 0 | C25: ='bevételek működés felhalmozás'!D49 -> 0 | D25: ='bevételek működés felhalmozás'!E49 -> 0 | E25: =SUM(B25:D25) -> 0 | F25: =SUM(C25:E25) -> 0
A26: B7. Felhalmozási célú átvett pénzeszközök | B26: ='bevételek működés felhalmozás'!C66 -> 0 | C26: 0 | D26: 0 | E26: =SUM(B26:D26) -> 0 | F26: =SUM(C26:E26) -> 0
A27: B1-7. Költségvetési bevételek | B27: =SUM(B20:B26) -> 181991839 | C27: =SUM(C20:C26) -> 0 | D27: =SUM(D20:D26) -> 0 | E27: =SUM(E20:E26) -> 181991839 | F27: =SUM(F20:F26) -> 181991839
A28: B8. Finanszírozási bevételek | B28: ='bevételek működés felhalmozás'!C97 -> 76403317 | C28: ='bevételek működés felhalmozás'!D97 -> 66201763 | D28: ='bevételek működés felhalmozás'!E97 -> 31142348 | E28: =B28+C28+D28 -> 173747428 | F28: ='bevételek működés felhalmozás'!C80+'bevételek működés felhalmozás'!D80+'bevételek működés felhalmozás'!E80 -> 76732020
A29: BEVÉTELEK ÖSSZESEN (B1-8) | B29: =B27+B28 -> 258395156 | C29: =C27+C28 -> 66201763 | D29: =D27+D28 -> 31142348 | E29: =E27+E28 -> 355739267 | F29: =F27+F28 -> 258723859

Sheet kiadások működés felhalmozás
A1: 2.sz. melléklet az 1/2015.(II.23.) rendelethez
A2: =Mellékletek!A1 -> Iharosberény Község Önkormányzata
A3: 2014. évi költségvetés
A4: Kiadások (E Ft)
A6: ÖNKORMÁNYZATI ELŐIRÁNYZATOK
A7: Rovat megnevezése | B7: Rovat-szám | C7: önkormányzat | D7: Közös Hivatal | E7: Óvoda | F7: összevont | G7: Nettósitott
A8: Törvény szerinti illetmények, munkabérek | B8: K1101 | C8: ='kiadások korm. funkciónként'!C10 -> 17934334 | D8: ='kiadások korm. funkciónként'!D10 -> 38517000 | E8: ='kiadások korm. funkciónként'!E10+'kiadások korm. funkciónként'!F10+'kiadások korm. funkciónként'!G10 -> 21392400 | F8: =SUM(C8:E8) -> 77843734 | G8: =F8 -> 77843734
A9: Normatív jutalmak | B9: K1102 | C9: ='kiadások korm. funkciónként'!C11 -> 0 | D9: ='kiadások korm. funkciónként'!D11 -> 0 | E9: ='kiadások korm. funkciónként'!E11+'kiadások korm. funkciónként'!F11+'kiadások korm. funkciónként'!G11 -> 0 | F9: =SUM(C9:E9) -> 0 | G9: =F9 -> 0
A10: Céljuttatás, projektprémium | B10: K1103 | C10: ='kiadások korm. funkciónként'!C12 -> 0 | D10: ='kiadások korm. funkciónként'!D12 -> 0 | E10: ='kiadások korm. funkciónként'!E12+'kiadások korm. funkciónként'!F12+'kiadások korm. funkciónként'!G12 -> 0 | F10: =SUM(C10:E10) -> 0 | G10: =F10 -> 0
A11: Készenléti, ügyeleti, helyettesítési díj, túlóra, túlszolgálat | B11: K1104 | C11: ='kiadások korm. funkciónként'!C13 -> 0 | D11: ='kiadások korm. funkciónként'!D13 -> 0 | E11: ='kiadások korm. funkciónként'!E13+'kiadások korm. funkciónként'!F13+'kiadások korm. funkciónként'!G13 -> 0 | F11: =SUM(C11:E11) -> 0 | G11: =F11 -> 0
A12: Végkielégítés | B12: K1105 | C12: ='kiadások korm. funkciónként'!C14 -> 0 | D12: ='kiadások korm. funkciónként'!D14 -> 0 | E12: ='kiadások korm. funkciónként'!E14+'kiadások korm. funkciónként'!F14+'kiadások korm. funkciónként'!G14 -> 0 | F12: =SUM(C12:E12) -> 0 | G12: =F12 -> 0
A13: Jubileumi jutalom | B13: K1106 | C13: ='kiadások korm. funkciónként'!C15 -> 0 | D13: ='kiadások korm. funkciónként'!D15 -> 742000 | E13: ='kiadások korm. funkciónként'!E15+'kiadások korm. funkciónként'!F15+'kiadások korm. funkciónként'!G15 -> 0 | F13: =SUM(C13:E13) -> 742000 | G13: =F13 -> 742000
A14: Béren kívüli juttatások | B14: K1107 | C14: ='kiadások korm. funkciónként'!C16 -> 0 | D14: ='kiadások korm. funkciónként'!D16 -> 1829771 | E14: ='kiadások korm. funkciónként'!E16+'kiadások korm. funkciónként'!F16+'kiadások korm. funkciónként'!G16 -> 0 | F14: =SUM(C14:E14) -> 1829771 | G14: =F14 -> 1829771
A15: Ruházati költségtérítés | B15: K1108 | C15: ='kiadások korm. funkciónként'!C17 -> 0 | D15: ='kiadások korm. funkciónként'!D17 -> 0 | E15: ='kiadások korm. funkciónként'!E17+'kiadások korm. funkciónként'!F17+'kiadások korm. funkciónként'!G17 -> 0 | F15: =SUM(C15:E15) -> 0 | G15: =F15 -> 0
A16: Közlekedési költségtérítés | B16: K1109 | C16: ='kiadások korm. funkciónként'!C18 -> 155000 | D16: ='kiadások korm. funkciónként'!D18 -> 502000 | E16: ='kiadások korm. funkciónként'!E18+'kiadások korm. funkciónként'!F18+'kiadások korm. funkciónként'!G18 -> 200000 | F16: =SUM(C16:E16) -> 857000 | G16: =F16 -> 857000
A17: Egyéb költségtérítések | B17: K1110 | C17: ='kiadások korm. funkciónként'!C19 -> 0 | D17: ='kiadások korm. funkciónként'!D19 -> 0 | E17: ='kiadások korm. funkciónként'!E19+'kiadások korm. funkciónként'!F19+'kiadások korm. funkciónként'!G19 -> 0 | F17: =SUM(C17:E17) -> 0 | G17: =F17 -> 0
A18: Lakhatási támogatások | B18: K1111 | C18: ='kiadások korm. funkciónként'!C20 -> 0 | D18: ='kiadások korm. funkciónként'!D20 -> 0 | E18: 0 | F18: =SUM(C18:E18) -> 0 | G18: =F18 -> 0
A19: Szociális támogatások | B19: K1112 | C19: ='kiadások korm. funkciónként'!C21 -> 0 | D19: ='kiadások korm. funkciónként'!D21 -> 200000 | E19: ='kiadások korm. funkciónként'!E21+'kiadások korm. funkciónként'!F21+'kiadások korm. funkciónként'!G21 -> 0 | F19: =SUM(C19:E19) -> 200000 | G19: =F19 -> 200000
A20: Foglalkoztatottak egyéb személyi juttatásai | B20: K1113 | C20: ='kiadások korm. funkciónként'!C22 -> 0 | D20: ='kiadások korm. funkciónként'!D22 -> 0 | E20: ='kiadások korm. funkciónként'!E22+'kiadások korm. funkciónként'!F22+'kiadások korm. funkciónként'!G22 -> 0 | F20: =SUM(C20:E20) -> 0 | G20: =F20 -> 0
A21: Foglalkoztatottak személyi juttatásai | B21: K11 | C21: =SUM(C8:C20) -> 18089334 | D21: =SUM(D8:D20) -> 41790771 | E21: =SUM(E8:E20) -> 21592400 | F21: =SUM(C21:E21) -> 81472505 | G21: =F21 -> 81472505
A22: Választott tisztségviselők juttatásai | B22: K121 | C22: ='kiadások korm. funkciónként'!C24 -> 6634200 | D22: ='kiadások korm. funkciónként'!D24 -> 0 | E22: ='kiadások korm. funkciónként'!E24 -> 0 | F22: =SUM(C22:E22) -> 6634200 | G22: =F22 -> 6634200
A23: Munkavégzésre irányuló egyéb jogviszonyban nem saját foglalkoztatottnak fizetett juttatások | B23: K122 | C23: ='kiadások korm. funkciónként'!C25 -> 0 | D23: ='kiadások korm. funkciónként'!D25 -> 0 | E23: ='kiadások korm. funkciónként'!E25 -> 0 | F23: =SUM(C23:E23) -> 0 | G23: =F23 -> 0
A24: Egyéb külső személyi juttatások | B24: K123 | C24: ='kiadások korm. funkciónként'!C26 -> 2421657 | D24: ='kiadások korm. funkciónként'!D26 -> 660000 | E24: ='kiadások korm. funkciónként'!E26 -> 0 | F24: =SUM(C24:E24) -> 3081657 | G24: =F24 -> 3081657
A25: Külső személyi juttatások | B25: K12 | C25: =SUM(C22:C24) -> 9055857 | D25: =D23+D24 -> 660000 | E25: =SUM(E22:E24) -> 0 | F25: =SUM(C25:E25) -> 9715857 | G25: =F25 -> 9715857
A26: Személyi juttatások | B26: K1 | C26: =C21+C25 -> 27145191 | D26: =D21+D25 -> 42450771 | E26: =E21+E25 -> 21592400 | F26: =SUM(C26:E26) -> 91188362 | G26: =F26 -> 91188362
A27: Munkaadókat terhelő járulékok és szociális hozzájárulási adó | B27: K2 | C27: ='kiadások korm. funkciónként'!C29 -> 5059495 | D27: ='kiadások korm. funkciónként'!D29 -> 11186992 | E27: ='kiadások korm. funkciónként'!E29+'kiadások korm. funkciónként'!F29+'kiadások korm. funkciónként'!G29 -> 5775948 | F27: =SUM(C27:E27) -> 22022435 | G27: =F27 -> 22022435
A28: Szakmai anyagok beszerzése | B28: K311 | C28: ='kiadások korm. funkciónként'!C30 -> 160000 | D28: ='kiadások korm. funkciónként'!D30 -> 220000 | E28: ='kiadások korm. funkciónként'!F30+'kiadások korm. funkciónként'!G30 -> 185000 | F28: =SUM(C28:E28) -> 565000 | G28: =F28 -> 565000
A29: Üzemeltetési anyagok beszerzése | B29: K312 | C29: ='kiadások korm. funkciónként'!C31 -> 7152579 | D29: ='kiadások korm. funkciónként'!D31 -> 2370000 | E29: ='kiadások korm. funkciónként'!F31+'kiadások korm. funkciónként'!G31 -> 770000 | F29: =SUM(C29:E29) -> 10292579 | G29: =F29 -> 10292579
A30: Árubeszerzés | B30: K313 | C30: ='kiadások korm. funkciónként'!C32 -> 0 | D30: ='kiadások korm. funkciónként'!D32 -> 0 | E30: ='kiadások korm. funkciónként'!F32+'kiadások korm. funkciónként'!G32 -> 0 | F30: =SUM(C30:E30) -> 0 | G30: =F30 -> 0
A31: Készletbeszerzés | B31: K31 | C31: =SUM(C28:C30) -> 7312579 | D31: =SUM(D28:D30) -> 2590000 | E31: =SUM(E28:E30) -> 955000 | F31: =SUM(C31:E31) -> 10857579 | G31: =F31 -> 10857579
A32: Informatikai szolgáltatások igénybevétele | B32: K321 | C32: ='kiadások korm. funkciónként'!C34 -> 387500 | D32: ='kiadások korm. funkciónként'!D34 -> 1475000 | E32: ='kiadások korm. funkciónként'!F34 -> 45000 | F32: =SUM(C32:E32) -> 1907500 | G32: =F32 -> 1907500
A33: Egyéb kommunikációs szolgáltatások | B33: K322 | C33: ='kiadások korm. funkciónként'!C35 -> 305800 | D33: ='kiadások korm. funkciónként'!D35 -> 560000 | E33: ='kiadások korm. funkciónként'!F35 -> 30000 | F33: =SUM(C33:E33) -> 895800 | G33: =F33 -> 895800
A34: Kommunikációs szolgáltatások | B34: K32 | C34: =SUM(C32:C33) -> 693300 | D34: =SUM(D32:D33) -> 2035000 | E34: =SUM(E32:E33) -> 75000 | F34: =SUM(C34:E34) -> 2803300 | G34: =F34 -> 2803300
A35: Közüzemi díjak | B35: K331 | C35: ='kiadások korm. funkciónként'!C37 -> 5177000 | D35: ='kiadások korm. funkciónként'!D37 -> 1225000 | E35: ='kiadások korm. funkciónként'!E37+'kiadások korm. funkciónként'!F37+'kiadások korm. funkciónként'!G37 -> 965000 | F35: =SUM(C35:E35) -> 7367000 | G35: =F35 -> 7367000
A36: Vásárolt élelmezés | B36: K332 | C36: ='kiadások korm. funkciónként'!C38 -> 18017190 | D36: ='kiadások korm. funkciónként'!D38 -> 0 | E36: ='kiadások korm. funkciónként'!E38+'kiadások korm. funkciónként'!F38+'kiadások korm. funkciónként'!G38 -> 0 | F36: =SUM(C36:E36) -> 18017190 | G36: =F36 -> 18017190
A37: Bérleti és lízing díjak | B37: K333 | C37: ='kiadások korm. funkciónként'!C39 -> 30000 | D37: ='kiadások korm. funkciónként'!D39 -> 0 | E37: ='kiadások korm. funkciónként'!E39+'kiadások korm. funkciónként'!F39+'kiadások korm. funkciónként'!G39 -> 0 | F37: =SUM(C37:E37) -> 30000 | G37: =F37 -> 30000
A38: Karbantartási, kisjavítási szolgáltatások | B38: K334 | C38: ='kiadások korm. funkciónként'!C40 -> 2370000 | D38: ='kiadások korm. funkciónként'!D40 -> 200000 | E38: ='kiadások korm. funkciónként'!E40+'kiadások korm. funkciónként'!F40+'kiadások korm. funkciónként'!G40 -> 300000 | F38: =SUM(C38:E38) -> 2870000 | G38: =F38 -> 2870000
A39: Közvetített szolgáltatások | B39: K335 | C39: ='kiadások korm. funkciónként'!C41 -> 0 | D39: ='kiadások korm. funkciónként'!D41 -> 0 | E39: ='kiadások korm. funkciónként'!E41+'kiadások korm. funkciónként'!F41+'kiadások korm. funkciónként'!G41 -> 0 | F39: =SUM(C39:E39) -> 0 | G39: =F39 -> 0
A40: Szakmai tevékenységet segítő szolgáltatások | B40: K336 | C40: ='kiadások korm. funkciónként'!C42 -> 2290844 | D40: ='kiadások korm. funkciónként'!D42 -> 906000 | E40: ='kiadások korm. funkciónként'!E42+'kiadások korm. funkciónként'!F42+'kiadások korm. funkciónként'!G42 -> 390000 | F40: =SUM(C40:E40) -> 3586844 | G40: =F40 -> 3586844
A41: Egyéb szolgáltatások | B41: K337 | C41: ='kiadások korm. funkciónként'!C43 -> 6800705 | D41: ='kiadások korm. funkciónként'!D43 -> 2380000 | E41: ='kiadások korm. funkciónként'!E43+'kiadások korm. funkciónként'!F43+'kiadások korm. funkciónként'!G43 -> 192000 | F41: =SUM(C41:E41) -> 9372705 | G41: =F41 -> 9372705
A42: Szolgáltatási kiadások | B42: K33 | C42: =SUM(C35:C41) -> 34685739 | D42: =SUM(D35:D41) -> 4711000 | E42: =SUM(E35:E41) -> 1847000 | F42: =SUM(C42:E42) -> 41243739 | G42: =F42 -> 41243739
A43: Kiküldetések kiadásai | B43: K341 | C43: ='kiadások korm. funkciónként'!C45 -> 1051622 | D43: ='kiadások korm. funkciónként'!D45 -> 220000 | E43: ='kiadások korm. funkciónként'!E45+'kiadások korm. funkciónként'!F45+'kiadások korm. funkciónként'!G45 -> 50000 | F43: =SUM(C43:E43) -> 1321622 | G43: =F43 -> 1321622
A44: Reklám- és propagandakiadások | B44: K342 | C44: ='kiadások korm. funkciónként'!C46 -> 50000 | D44: ='kiadások korm. funkciónként'!D46 -> 0 | E44: ='kiadások korm. funkciónként'!E46+'kiadások korm. funkciónként'!F46+'kiadások korm. funkciónként'!G46 -> 0 | F44: =SUM(C44:E44) -> 50000 | G44: =F44 -> 50000
A45: Kiküldetések, reklám- és propagandakiadások | B45: K34 | C45: =SUM(C43:C44) -> 1101622 | D45: =SUM(D43:D44) -> 220000 | E45: =SUM(E43:E44) -> 50000 | F45: =SUM(C45:E45) -> 1371622 | G45: =F45 -> 1371622
A46: Működési célú előzetesen felszámított általános forgalmi adó | B46: K351 | C46: ='kiadások korm. funkciónként'!C48 -> 10554743 | D46: ='kiadások korm. funkciónként'!D48 -> 2500000 | E46: ='kiadások korm. funkciónként'!E48+'kiadások korm. funkciónként'!F48+'kiadások korm. funkciónként'!G48 -> 827000 | F46: =SUM(C46:E46) -> 13881743 | G46: =F46 -> 13881743
A47: Fizetendő általános forgalmi adó | B47: K352 | C47: ='kiadások korm. funkciónként'!C49 -> 950000 | D47: ='kiadások korm. funkciónként'!D49 -> 0 | E47: ='kiadások korm. funkciónként'!E49+'kiadások korm. funkciónként'!F49+'kiadások korm. funkciónként'!G49 -> 0 | F47: =SUM(C47:E47) -> 950000 | G47: =F47 -> 950000
A48: Kamatkiadások | B48: K353 | C48: ='kiadások korm. funkciónként'!C50 -> 0 | D48: ='kiadások korm. funkciónként'!D50 -> 0 | E48: ='kiadások korm. funkciónként'!E50+'kiadások korm. funkciónként'!F50+'kiadások korm. funkciónként'!G50 -> 0 | F48: =SUM(C48:E48) -> 0 | G48: =F48 -> 0
A49: Egyéb pénzügyi műveletek kiadásai | B49: K354 | C49: ='kiadások korm. funkciónként'!C51 -> 0 | D49: ='kiadások korm. funkciónként'!D51 -> 0 | E49: ='kiadások korm. funkciónként'!E51+'kiadások korm. funkciónként'!F51+'kiadások korm. funkciónként'!G51 -> 0 | F49: =SUM(C49:E49) -> 0 | G49: =F49 -> 0
A50: Egyéb dologi kiadások | B50: K355 | C50: ='kiadások korm. funkciónként'!C52 -> 856080 | D50: ='kiadások korm. funkciónként'!D52 -> 0 | E50: ='kiadások korm. funkciónként'!E52+'kiadások korm. funkciónként'!F52+'kiadások korm. funkciónként'!G52 -> 20000 | F50: =SUM(C50:E50) -> 876080 | G50: =F50 -> 876080
A51: Különféle befizetések és egyéb dologi kiadások | B51: K35 | C51: =SUM(C46:C50) -> 12360823 | D51: =SUM(D46:D50) -> 2500000 | E51: =SUM(E46:E50) -> 847000 | F51: =SUM(C51:E51) -> 15707823 | G51: =F51 -> 15707823
A52: Dologi kiadások | B52: K3 | C52: =C31+C34+C45+C42+C51 -> 56154063 | D52: =D31+D34+D45+D42+D51 -> 12056000 | E52: =E31+E34+E45+E42+E51 -> 3774000 | F52: =SUM(C52:E52) -> 71984063 | G52: =F52 -> 71984063
A53: Társadalombiztosítási ellátások | B53: K41 | C53: ='kiadások korm. funkciónként'!C55 -> 0 | D53: ='kiadások korm. funkciónként'!D55 -> 0 | E53: ='kiadások korm. funkciónként'!E55 -> 0 | F53: =SUM(C53:E53) -> 0 | G53: =F53 -> 0
A54: Családi támogatások | B54: K42 | C54: ='kiadások korm. funkciónként'!C56 -> 2000000 | D54: ='kiadások korm. funkciónként'!D56 -> 0 | E54: ='kiadások korm. funkciónként'!E56 -> 0 | F54: =SUM(C54:E54) -> 2000000 | G54: =F54 -> 2000000
A55: Pénzbeli kárpótlások, kártérítések | B55: K43 | C55: ='kiadások korm. funkciónként'!C57 -> 0 | D55: ='kiadások korm. funkciónként'!D57 -> 0 | E55: ='kiadások korm. funkciónként'!E57 -> 0 | F55: =SUM(C55:E55) -> 0 | G55: =F55 -> 0
A56: Betegséggel kapcsolatos (nem társadalombiztosítási) ellátások | B56: K44 | C56: ='kiadások korm. funkciónként'!C58 -> 0 | D56: ='kiadások korm. funkciónként'!D58 -> 0 | E56: ='kiadások korm. funkciónként'!E58 -> 0 | F56: =SUM(C56:E56) -> 0 | G56: =F56 -> 0
A57: Foglalkoztatással, munkanélküliséggel kapcsolatos ellátások | B57: K45 | C57: ='kiadások korm. funkciónként'!C59 -> 0 | D57: ='kiadások korm. funkciónként'!D59 -> 0 | E57: ='kiadások korm. funkciónként'!E59 -> 0 | F57: =SUM(C57:E57) -> 0 | G57: =F57 -> 0
A58: Lakhatással kapcsolatos ellátások | B58: K46 | C58: ='kiadások korm. funkciónként'!C60 -> 0 | D58: ='kiadások korm. funkciónként'!D60 -> 0 | E58: ='kiadások korm. funkciónként'!E60 -> 0 | F58: =SUM(C58:E58) -> 0 | G58: =F58 -> 0
A59: Intézményi ellátottak pénzbeli juttatásai | B59: K47 | C59: ='kiadások korm. funkciónként'!C61 -> 0 | D59: ='kiadások korm. funkciónként'!D61 -> 0 | E59: ='kiadások korm. funkciónként'!E61 -> 0 | F59: =SUM(C59:E59) -> 0 | G59: =F59 -> 0
A60: Egyéb nem intézményi ellátások | B60: K48 | C60: ='kiadások korm. funkciónként'!C62 -> 9163162 | D60: ='kiadások korm. funkciónként'!D62 -> 0 | E60: ='kiadások korm. funkciónként'!E62 -> 0 | F60: =SUM(C60:E60) -> 9163162 | G60: =F60 -> 9163162
A61: Ellátottak pénzbeli juttatásai | B61: K4 | C61: =SUM(C53:C60) -> 11163162 | D61: =SUM(D53:D60) -> 0 | E61: =SUM(E53:E60) -> 0 | F61: =SUM(C61:E61) -> 11163162 | G61: =F61 -> 11163162
A62: Nemzetközi kötelezettségek | B62: K501 | C62: ='kiadások korm. funkciónként'!C64 -> 0 | D62: ='kiadások korm. funkciónként'!D64 -> 0 | E62: ='kiadások korm. funkciónként'!E64 -> 0 | F62: =SUM(C62:E62) -> 0 | G62: =F62 -> 0
A63: Elvonások és befizetések | B63: K502 | C63: ='kiadások korm. funkciónként'!C65 -> 0 | D63: ='kiadások korm. funkciónként'!D65 -> 0 | E63: ='kiadások korm. funkciónként'!E65 -> 0 | F63: =SUM(C63:E63) -> 0 | G63: =F63 -> 0
A64: Működési célú garancia- és kezességvállalásból származó kifizetés államháztartáson belülre | B64: K503 | C64: ='kiadások korm. funkciónként'!C66 -> 0 | D64: ='kiadások korm. funkciónként'!D66 -> 0 | E64: ='kiadások korm. funkciónként'!E66 -> 0 | F64: =SUM(C64:E64) -> 0 | G64: =F64 -> 0
A65: Működési célú visszatérítendő támogatások, kölcsönök nyújtása államháztartáson belülre | B65: K504 | C65: ='kiadások korm. funkciónként'!C67 -> 0 | D65: ='kiadások korm. funkciónként'!D67 -> 0 | E65: ='kiadások korm. funkciónként'!E67 -> 0 | F65: =SUM(C65:E65) -> 0 | G65: =F65 -> 0
A66: Működési célú visszatérítendő támogatások, kölcsönök törlesztése államháztartáson belülre | B66: K505 | C66: ='kiadások korm. funkciónként'!C68 -> 0 | D66: ='kiadások korm. funkciónként'!D68 -> 0 | E66: ='kiadások korm. funkciónként'!E68 -> 0 | F66: =SUM(C66:E66) -> 0 | G66: =F66 -> 0
A67: Egyéb működési célú támogatások államháztartáson belülre | B67: K506 | C67: ='kiadások korm. funkciónként'!C69 -> 4797325 | D67: ='kiadások korm. funkciónként'!D69 -> 0 | E67: ='kiadások korm. funkciónként'!E69 -> 0 | F67: =SUM(C67:E67) -> 4797325 | G67: =F67 -> 4797325
A68: Működési célú garancia- és kezességvállalásból származó kifizetés államháztartáson kívülre | B68: K507 | C68: ='kiadások korm. funkciónként'!C70 -> 0 | D68: ='kiadások korm. funkciónként'!D70 -> 0 | E68: ='kiadások korm. funkciónként'!E70 -> 0 | F68: =SUM(C68:E68) -> 0 | G68: =F68 -> 0
A69: Működési célú visszatérítendő támogatások, kölcsönök nyújtása államháztartáson kívülre | B69: K508 | C69: ='kiadások korm. funkciónként'!C71 -> 0 | D69: ='kiadások korm. funkciónként'!D71 -> 0 | E69: ='kiadások korm. funkciónként'!E71 -> 0 | F69: =SUM(C69:E69) -> 0 | G69: =F69 -> 0
A70: Árkiegészítések, ártámogatások | B70: K509 | C70: ='kiadások korm. funkciónként'!C72 -> 0 | D70: ='kiadások korm. funkciónként'!D72 -> 0 | E70: ='kiadások korm. funkciónként'!E72 -> 0 | F70: =SUM(C70:E70) -> 0 | G70: =F70 -> 0
A71: Kamattámogatások | B71: K510 | C71: ='kiadások korm. funkciónként'!C73 -> 0 | D71: ='kiadások korm. funkciónként'!D73 -> 0 | E71: ='kiadások korm. funkciónként'!E73 -> 0 | F71: =SUM(C71:E71) -> 0 | G71: =F71 -> 0
A72: Egyéb működési célú támogatások államháztartáson kívülre | B72: K511 | C72: ='kiadások korm. funkciónként'!C74 -> 1173817 | D72: ='kiadások korm. funkciónként'!D74 -> 0 | E72: ='kiadások korm. funkciónként'!E74 -> 0 | F72: =SUM(C72:E72) -> 1173817 | G72: =F72 -> 1173817
A73: Tartalékok-általános | B73: K512 | C73: ='kiadások korm. funkciónként'!C75 -> 58106685 | D73: ='kiadások korm. funkciónként'!D75 -> 0 | E73: ='kiadások korm. funkciónként'!E75 -> 0 | F73: =SUM(C73:E73) -> 58106685 | G73: =F73 -> 58106685
A74: Tartalékok-cél | B74: K512 | C74: ='kiadások korm. funkciónként'!C76 -> 0 | D74: ='kiadások korm. funkciónként'!D76 -> 0 | E74: ='kiadások korm. funkciónként'!E76 -> 0 | F74: =SUM(C74:E74) -> 0 | G74: =F74 -> 0
A75: Egyéb működési célú kiadások | B75: K5 | C75: =SUM(C62:C74) -> 64077827 | D75: =SUM(D62:D74) -> 0 | E75: =SUM(E62:E74) -> 0 | F75: =SUM(C75:E75) -> 64077827 | G75: =F75 -> 64077827
A76: Működési költségvetés előirányzat csoport | C76: =C26+C27+C52+C61+C75 -> 163599738 | D76: =D26+D27+D52+D61+D75 -> 65693763 | E76: =E26+E27+E52+E61+E75 -> 31142348 | F76: =F26+F27+F52+F61+F75 -> 260435849 | G76: =G26+G27+G52+G61+G75 -> 260435849
A77: Immateriális javak beszerzése, létesítése | B77: K61 | C77: ='kiadások korm. funkciónként'!C79 -> 0 | D77: ='kiadások korm. funkciónként'!D79 -> 0 | E77: ='kiadások korm. funkciónként'!E79+'kiadások korm. funkciónként'!F79+'kiadások korm. funkciónként'!G79 -> 0 | F77: =SUM(C77:E77) -> 0 | G77: =F77 -> 0
A78: Ingatlanok beszerzése, létesítése | B78: K62 | C78: ='kiadások korm. funkciónként'!C80 -> 0 | D78: ='kiadások korm. funkciónként'!D80 -> 0 | E78: ='kiadások korm. funkciónként'!E80+'kiadások korm. funkciónként'!F80+'kiadások korm. funkciónként'!G80 -> 0 | F78: =SUM(C78:E78) -> 0 | G78: =F78 -> 0
A79: Informatikai eszközök beszerzése, létesítése | B79: K63 | C79: ='kiadások korm. funkciónként'!C81 -> 0 | D79: ='kiadások korm. funkciónként'!D81 -> 200000 | E79: ='kiadások korm. funkciónként'!E81+'kiadások korm. funkciónként'!F81+'kiadások korm. funkciónként'!G81 -> 0 | F79: =SUM(C79:E79) -> 200000 | G79: =F79 -> 200000
A80: Egyéb tárgyi eszközök beszerzése, létesítése | B80: K64 | C80: ='kiadások korm. funkciónként'!C82 -> 2865172 | D80: ='kiadások korm. funkciónként'!D82 -> 200000 | E80: ='kiadások korm. funkciónként'!E82+'kiadások korm. funkciónként'!F82+'kiadások korm. funkciónként'!G82 -> 0 | F80: =SUM(C80:E80) -> 3065172 | G80: =F80 -> 3065172
A81: Részesedések beszerzése | B81: K65 | C81: ='kiadások korm. funkciónként'!C83 -> 0 | D81: ='kiadások korm. funkciónként'!D83 -> 0 | E81: ='kiadások korm. funkciónként'!E83+'kiadások korm. funkciónként'!F83+'kiadások korm. funkciónként'!G83 -> 0 | F81: =SUM(C81:E81) -> 0 | G81: =F81 -> 0
A82: Meglévő részesedések növeléséhez kapcsolódó kiadások | B82: K66 | C82: ='kiadások korm. funkciónként'!C84 -> 0 | D82: ='kiadások korm. funkciónként'!D84 -> 0 | E82: ='kiadások korm. funkciónként'!E84+'kiadások korm. funkciónként'!F84+'kiadások korm. funkciónként'!G84 -> 0 | F82: =SUM(C82:E82) -> 0 | G82: =F82 -> 0
A83: Beruházási célú előzetesen felszámított általános forgalmi adó | B83: K67 | C83: ='kiadások korm. funkciónként'!C85 -> 495078 | D83: ='kiadások korm. funkciónként'!D85 -> 108000 | E83: ='kiadások korm. funkciónként'!E85+'kiadások korm. funkciónként'!F85+'kiadások korm. funkciónként'!G85 -> 0 | F83: =SUM(C83:E83) -> 603078 | G83: =F83 -> 603078
A84: Beruházások | B84: K6 | C84: =SUM(C77:C83) -> 3360250 | D84: =SUM(D77:D83) -> 508000 | E84: =SUM(E77:E83) -> 0 | F84: =SUM(C84:E84) -> 3868250 | G84: =F84 -> 3868250
A85: Ingatlanok felújítása | B85: K71 | C85: ='kiadások korm. funkciónként'!C87 -> 26328221 | D85: ='kiadások korm. funkciónként'!D87 -> 0 | E85: ='kiadások korm. funkciónként'!E87 -> 0 | F85: =SUM(C85:E85) -> 26328221 | G85: =F85 -> 26328221
A86: Informatikai eszközök felújítása | B86: K72 | C86: ='kiadások korm. funkciónként'!C88 -> 0 | D86: ='kiadások korm. funkciónként'!D88 -> 0 | E86: ='kiadások korm. funkciónként'!E88 -> 0 | F86: =SUM(C86:E86) -> 0 | G86: =F86 -> 0
A87: Egyéb tárgyi eszközök felújítása | B87: K73 | C87: ='kiadások korm. funkciónként'!C89 -> 0 | D87: ='kiadások korm. funkciónként'!D89 -> 0 | E87: ='kiadások korm. funkciónként'!E89 -> 0 | F87: =SUM(C87:E87) -> 0 | G87: =F87 -> 0
A88: Felújítási célú előzetesen felszámított általános forgalmi adó | B88: K74 | C88: ='kiadások korm. funkciónként'!C90 -> 6839010 | D88: ='kiadások korm. funkciónként'!D90 -> 0 | E88: ='kiadások korm. funkciónként'!E90 -> 0 | F88: =SUM(C88:E88) -> 6839010 | G88: =F88 -> 6839010
A89: Felújítások | B89: K7 | C89: =SUM(C85:C88) -> 33167231 | D89: =SUM(D85:D88) -> 0 | E89: =SUM(E85:E88) -> 0 | F89: =SUM(C89:E89) -> 33167231 | G89: =F89 -> 33167231
A90: Felhalmozási célú garancia- és kezességvállalásból származó kifizetés államháztartáson belülre | B90: K81 | C90: ='kiadások korm. funkciónként'!C92 -> 0 | D90: ='kiadások korm. funkciónként'!D92 -> 0 | E90: ='kiadások korm. funkciónként'!E92 -> 0 | F90: =SUM(C90:E90) -> 0 | G90: =F90 -> 0
A91: Felhalmozási célú visszatérítendő támogatások, kölcsönök nyújtása államháztartáson belülre | B91: K82 | C91: ='kiadások korm. funkciónként'!C93 -> 0 | D91: ='kiadások korm. funkciónként'!D93 -> 0 | E91: ='kiadások korm. funkciónként'!E93 -> 0 | F91: =SUM(C91:E91) -> 0 | G91: =F91 -> 0
A92: Felhalmozási célú visszatérítendő támogatások, kölcsönök törlesztése államháztartáson belülre | B92: K83 | C92: ='kiadások korm. funkciónként'!C94 -> 0 | D92: ='kiadások korm. funkciónként'!D94 -> 0 | E92: ='kiadások korm. funkciónként'!E94 -> 0 | F92: =SUM(C92:E92) -> 0 | G92: =F92 -> 0
A93: Egyéb felhalmozási célú támogatások államháztartáson belülre | B93: K84 | C93: ='kiadások korm. funkciónként'!C95 -> 0 | D93: ='kiadások korm. funkciónként'!D95 -> 0 | E93: ='kiadások korm. funkciónként'!E95 -> 0 | F93: =SUM(C93:E93) -> 0 | G93: =F93 -> 0
A94: Felhalmozási célú garancia- és kezességvállalásból származó kifizetés államháztartáson kívülre | B94: K85 | C94: ='kiadások korm. funkciónként'!C96 -> 0 | D94: ='kiadások korm. funkciónként'!D96 -> 0 | E94: ='kiadások korm. funkciónként'!E96 -> 0 | F94: =SUM(C94:E94) -> 0 | G94: =F94 -> 0
A95: Felhalmozási célú visszatérítendő támogatások, kölcsönök nyújtása államháztartáson kívülre | B95: K86 | C95: ='kiadások korm. funkciónként'!C97 -> 0 | D95: ='kiadások korm. funkciónként'!D97 -> 0 | E95: ='kiadások korm. funkciónként'!E97 -> 0 | F95: =SUM(C95:E95) -> 0 | G95: =F95 -> 0
A96: Lakástámogatás | B96: K87 | C96: ='kiadások korm. funkciónként'!C98 -> 0 | D96: ='kiadások korm. funkciónként'!D98 -> 0 | E96: ='kiadások korm. funkciónként'!E98 -> 0 | F96: =SUM(C96:E96) -> 0 | G96: =F96 -> 0
A97: Egyéb felhalmozási célú támogatások államháztartáson kívülre | B97: K88 | C97: ='kiadások korm. funkciónként'!C99 -> 0 | D97: ='kiadások korm. funkciónként'!D99 -> 0 | E97: ='kiadások korm. funkciónként'!E99 -> 0 | F97: =SUM(C97:E97) -> 0 | G97: =F97 -> 0
A98: Egyéb felhalmozási célú kiadások | B98: K8 | C98: =SUM(C90:C97) -> 0 | D98: =SUM(D90:D97) -> 0 | E98: =SUM(E90:E97) -> 0 | F98: =SUM(C98:E98) -> 0 | G98: =F98 -> 0
A99: Felhalmozási költségvetés előirányzat csoport | C99: =C84+C89+C98 -> 36527481 | D99: =D84+D89+D98 -> 508000 | E99: =E84+E89+E98 -> 0 | F99: =F84+F89+F98 -> 37035481 | G99: =F99 -> 37035481
A100: Költségvetési kiadások | B100: K1-K8 | C100: =C26+C27+C52+C61+C75+C84+C89+C98 -> 200127219 | D100: =D26+D27+D52+D61+D75+D84+D89+D98 -> 66201763 | E100: =E26+E27+E52+E61+E75+E84+E89+E98 -> 31142348 | F100: =SUM(C100:E100) -> 297471330 | G100: =F100 -> 297471330
A101: Hosszú lejáratú hitelek, kölcsönök törlesztése | B101: K9111 | C101: ='kiadások korm. funkciónként'!C103 -> 0 | D101: ='kiadások korm. funkciónként'!D103 -> 0 | E101: ='kiadások korm. funkciónként'!E103 -> 0 | F101: =SUM(C101:E101) -> 0 | G101: =SUM(D101:F101) -> 0
...

Sheet bevételek működés felhalmozás
A1: 3.sz. melléklet a 1/2015.(II.23.) rendelethez
A2: =Mellékletek!A1 -> Iharosberény Község Önkormányzata
A3: 2015. évi költségvetés
A4: Bevételek (E Ft)
A6: ÖNKORMÁNYZATI ELŐIRÁNYZATOK
A7: Rovat megnevezése | B7: Rovat- szám | C7: önkormányzat | D7: Közös Hivatal | E7: Óvoda | F7: összevont | G7: Nettósitott
A8: Helyi önkormányzatok működésének általános támogatása | B8: B111 | C8: ='kiadások korm. funkciónként'!C10 -> 17934334 | D8: ='bevételek korm. funkciónként'!D9 -> 0 | E8: ='bevételek korm. funkciónként'!E9 -> 0 | F8: =SUM(C8:E8) -> 17934334 | G8: =SUM(D8:F8) -> 17934334
A9: Települési önkormányzatok egyes köznevelési feladatainak támogatása | B9: B112 | C9: ='bevételek korm. funkciónként'!C10 -> 26392000 | F9: =SUM(C9:E9) -> 26392000 | G9: =SUM(D9:F9) -> 26392000
A10: Települési önkormányzatok szociális és gyermekjóléti feladatainak támogatása | B10: B113 | C10: ='bevételek korm. funkciónként'!C11 -> 42157009 | F10: =SUM(C10:E10) -> 42157009 | G10: =SUM(D10:F10) -> 42157009
A11: Települési önkormányzatok kulturális feladatainak támogatása | B11: B114 | C11: ='bevételek korm. funkciónként'!C12 -> 1556100 | F11: =SUM(C11:E11) -> 1556100 | G11: =SUM(D11:F11) -> 1556100
A12: Működési célú központosított előirányzatok | B12: B115 | C12: ='bevételek korm. funkciónként'!C13 -> 0 | F12: =SUM(C12:E12) -> 0 | G12: =SUM(D12:F12) -> 0
A13: Helyi önkormányzatok kiegészítő támogatásai | B13: B116 | C13: ='bevételek korm. funkciónként'!C14 -> 0 | F13: =SUM(C13:E13) -> 0 | G13: =SUM(D13:F13) -> 0
A14: Önkormányzatok működési támogatásai | B14: B11 | C14: =SUM(C8:C13) -> 88039443 | D14: =SUM(D8:D13) -> 0 | E14: =SUM(E8:E13) -> 0 | F14: =SUM(C14:E14) -> 88039443 | G14: =SUM(D14:F14) -> 88039443
A15: Elvonások és befizetések bevételei | B15: B12 | C15: ='bevételek korm. funkciónként'!C16 -> 0 | D15: ='bevételek korm. funkciónként'!D16 -> 0 | E15: ='bevételek korm. funkciónként'!E16 -> 0 | F15: =SUM(C15:E15) -> 0 | G15: =SUM(D15:F15) -> 0
A16: Működési célú garancia- és kezességvállalásból származó megtérülések államháztartáson belülről | B16: B13 | C16: ='bevételek korm. funkciónként'!C17 -> 0 | D16: ='bevételek korm. funkciónként'!D17 -> 0 | E16: ='bevételek korm. funkciónként'!E17 -> 0 | F16: =SUM(C16:E16) -> 0 | G16: =SUM(D16:F16) -> 0
A17: Működési célú visszatérítendő támogatások, kölcsönök visszatérülése államháztartáson belülről | B17: B14 | C17: ='bevételek korm. funkciónként'!C18 -> 0 | D17: ='bevételek korm. funkciónként'!D18 -> 0 | E17: ='bevételek korm. funkciónként'!E18 -> 0 | F17: =SUM(C17:E17) -> 0 | G17: =SUM(D17:F17) -> 0
A18: Működési célú visszatérítendő támogatások, kölcsönök igénybevétele államháztartáson belülről | B18: B15 | C18: ='bevételek korm. funkciónként'!C19 -> 0 | D18: ='bevételek korm. funkciónként'!D19 -> 0 | E18: ='bevételek korm. funkciónként'!E19 -> 0 | F18: =SUM(C18:E18) -> 0 | G18: =SUM(D18:F18) -> 0
A19: Egyéb működési célú támogatások bevételei államháztartáson belülről | B19: B16 | C19: ='bevételek korm. funkciónként'!C20 -> 40820682 | D19: ='bevételek korm. funkciónként'!D20 -> 0 | E19: ='bevételek korm. funkciónként'!E20 -> 0 | F19: =SUM(C19:E19) -> 40820682 | G19: =SUM(D19:F19) -> 40820682
A20: Működési célú támogatások államháztartáson belülről | B20: B1 | C20: =C14+SUM(C15:C19) -> 128860125 | D20: =D14+SUM(D15:D19) -> 0 | E20: =E14+SUM(E15:E19) -> 0 | F20: =SUM(C20:E20) -> 128860125 | G20: =SUM(D20:F20) -> 128860125
A21: Magánszemélyek jövedelemadói | B21: B311 | C21: ='bevételek korm. funkciónként'!C22 -> 0 | D21: ='bevételek korm. funkciónként'!D22 -> 0 | E21: ='bevételek korm. funkciónként'!E22 -> 0 | F21: ='bevételek korm. funkciónként'!F22 -> 0 | G21: =SUM(D21:F21) -> 0
A22: Társaságok jövedelemadói | B22: B312 | C22: ='bevételek korm. funkciónként'!C23 -> 0 | D22: ='bevételek korm. funkciónként'!D23 -> 0 | E22: ='bevételek korm. funkciónként'!E23 -> 0 | F22: ='bevételek korm. funkciónként'!F23 -> 0 | G22: =SUM(D22:F22) -> 0
A23: Jövedelemadók | B23: B31 | C23: =SUM(C21:C22) -> 0 | D23: =SUM(D21:D22) -> 0 | E23: =SUM(E21:E22) -> 0 | F23: =SUM(C23:E23) -> 0 | G23: =SUM(D23:F23) -> 0
A24: Szociális hozzájárulási adó és járulékok | B24: B32 | C24: ='bevételek korm. funkciónként'!C25 -> 0 | D24: ='bevételek korm. funkciónként'!D25 -> 0 | E24: ='bevételek korm. funkciónként'!E25 -> 0 | F24: =SUM(C24:E24) -> 0 | G24: =SUM(D24:F24) -> 0
A25: Bérhez és foglalkoztatáshoz kapcsolódó adók | B25: B33 | C25: ='bevételek korm. funkciónként'!C26 -> 0 | D25: ='bevételek korm. funkciónként'!D26 -> 0 | E25: ='bevételek korm. funkciónként'!E26 -> 0 | F25: =SUM(C25:E25) -> 0 | G25: =SUM(D25:F25) -> 0
A26: Vagyoni tipusú adók | B26: B34 | C26: ='bevételek korm. funkciónként'!C27 -> 9500000 | D26: ='bevételek korm. funkciónként'!D27 -> 0 | E26: ='bevételek korm. funkciónként'!E27 -> 0 | F26: =SUM(C26:E26) -> 9500000 | G26: =SUM(D26:F26) -> 9500000
A27: Értékesítési és forgalmi adók | B27: B351 | C27: ='bevételek korm. funkciónként'!C28 -> 17000000 | D27: ='bevételek korm. funkciónként'!D28 -> 0 | E27: ='bevételek korm. funkciónként'!E28 -> 0 | F27: =SUM(C27:E27) -> 17000000 | G27: =SUM(D27:F27) -> 17000000
A28: Fogyasztási adók | B28: B352 | C28: ='bevételek korm. funkciónként'!C29 -> 0 | D28: ='bevételek korm. funkciónként'!D29 -> 0 | E28: ='bevételek korm. funkciónként'!E29 -> 0 | F28: =SUM(C28:E28) -> 0 | G28: =SUM(D28:F28) -> 0
A29: Pénzügyi monopóliumok nyereségét terhelő adók | B29: B353 | C29: ='bevételek korm. funkciónként'!C30 -> 0 | D29: ='bevételek korm. funkciónként'!D30 -> 0 | E29: ='bevételek korm. funkciónként'!E30 -> 0 | F29: =SUM(C29:E29) -> 0 | G29: =SUM(D29:F29) -> 0
A30: Gépjárműadók | B30: B354 | C30: ='bevételek korm. funkciónként'!C31 -> 2100000 | D30: ='bevételek korm. funkciónként'!D31 -> 0 | E30: ='bevételek korm. funkciónként'!E31 -> 0 | F30: =SUM(C30:E30) -> 2100000 | G30: =SUM(D30:F30) -> 2100000
A31: Egyéb áruhasználati és szolgáltatási adók | B31: B355 | C31: ='bevételek korm. funkciónként'!C32 -> 610000 | D31: ='bevételek korm. funkciónként'!D32 -> 0 | E31: ='bevételek korm. funkciónként'!E32 -> 0 | F31: =SUM(C31:E31) -> 610000 | G31: =SUM(D31:F31) -> 610000
A32: Termékek és szolgáltatások adói | B32: B35 | C32: =SUM(C27:C31) -> 19710000 | D32: =SUM(D27:D31) -> 0 | E32: =SUM(E27:E31) -> 0 | F32: =SUM(C32:E32) -> 19710000 | G32: =SUM(D32:F32) -> 19710000
A33: Egyéb közhatalmi bevételek | B33: B36 | C33: ='bevételek korm. funkciónként'!C34 -> 760000 | D33: ='bevételek korm. funkciónként'!D34 -> 0 | E33: ='bevételek korm. funkciónként'!E34 -> 0 | F33: =SUM(C33:E33) -> 760000 | G33: =SUM(D33:F33) -> 760000
A34: Közhatalmi bevételek | B34: B3 | C34: =C23+C24+C25+C26+C32+C33 -> 29970000 | D34: =D23+D24+D25+D26+D32+D33 -> 0 | E34: =E23+E24+E25+E26+E32+E33 -> 0 | F34: =SUM(C34:E34) -> 29970000 | G34: =SUM(D34:F34) -> 29970000
A35: Áru- és készletértékesítés ellenértéke | B35: B401 | C35: ='bevételek korm. funkciónként'!C36 -> 0 | D35: ='bevételek korm. funkciónként'!D36 -> 0 | E35: ='bevételek korm. funkciónként'!E36 -> 0 | F35: =SUM(C35:E35) -> 0 | G35: =SUM(D35:F35) -> 0
A36: Szolgáltatások ellenértéke | B36: B402 | C36: ='bevételek korm. funkciónként'!C37 -> 11045028 | D36: ='bevételek korm. funkciónként'!D37 -> 0 | E36: ='bevételek korm. funkciónként'!E37 -> 0 | F36: =SUM(C36:E36) -> 11045028 | G36: =SUM(D36:F36) -> 11045028
A37: Közvetített szolgáltatások értéke | B37: B403 | C37: ='bevételek korm. funkciónként'!C38 -> 0 | D37: ='bevételek korm. funkciónként'!D38 -> 0 | E37: ='bevételek korm. funkciónként'!E38 -> 0 | F37: =SUM(C37:E37) -> 0 | G37: =SUM(D37:F37) -> 0
A38: Tulajdonosi bevételek | B38: B404 | C38: ='bevételek korm. funkciónként'!C39 -> 8560540 | D38: ='bevételek korm. funkciónként'!D39 -> 0 | E38: ='bevételek korm. funkciónként'!E39 -> 0 | F38: =SUM(C38:E38) -> 8560540 | G38: =SUM(D38:F38) -> 8560540
A39: Ellátási díjak | B39: B405 | C39: ='bevételek korm. funkciónként'!C40 -> 272118 | D39: ='bevételek korm. funkciónként'!D40 -> 0 | E39: ='bevételek korm. funkciónként'!E40 -> 0 | F39: =SUM(C39:E39) -> 272118 | G39: =SUM(D39:F39) -> 272118
A40: Kiszámlázott általános forgalmi adó | B40: B406 | C40: ='bevételek korm. funkciónként'!C41 -> 2894028 | D40: ='bevételek korm. funkciónként'!D41 -> 0 | E40: ='bevételek korm. funkciónként'!E41 -> 0 | F40: =SUM(C40:E40) -> 2894028 | G40: =SUM(D40:F40) -> 2894028
A41: Általános forgalmi adó visszatérítése | B41: B407 | C41: ='bevételek korm. funkciónként'!C42 -> 0 | D41: ='bevételek korm. funkciónként'!D42 -> 0 | E41: ='bevételek korm. funkciónként'!E42 -> 0 | F41: =SUM(C41:E41) -> 0 | G41: =SUM(D41:F41) -> 0
A42: Kamatbevételek | B42: B408 | C42: ='bevételek korm. funkciónként'!C43 -> 0 | D42: ='bevételek korm. funkciónként'!D43 -> 0 | E42: ='bevételek korm. funkciónként'!E43 -> 0 | F42: =SUM(C42:E42) -> 0 | G42: =SUM(D42:F42) -> 0
A43: Egyéb pénzügyi műveletek bevételei | B43: B409 | C43: ='bevételek korm. funkciónként'!C44 -> 0 | D43: ='bevételek korm. funkciónként'!D44 -> 0 | E43: ='bevételek korm. funkciónként'!E44 -> 0 | F43: =SUM(C43:E43) -> 0 | G43: =SUM(D43:F43) -> 0
A44: Egyéb működési bevételek | B44: B410 | C44: ='bevételek korm. funkciónként'!C45 -> 0 | D44: ='bevételek korm. funkciónként'!D45 -> 0 | E44: ='bevételek korm. funkciónként'!E45 -> 0 | F44: =SUM(C44:E44) -> 0 | G44: =SUM(D44:F44) -> 0
A45: Működési bevételek | B45: B4 | C45: =SUM(C35:C44) -> 22771714 | D45: =SUM(D35:D44) -> 0 | E45: =SUM(E35:E44) -> 0 | F45: =SUM(C45:E45) -> 22771714 | G45: =SUM(D45:F45) -> 22771714
A46: Működési célú garancia- és kezességvállalásból származó megtérülések államháztartáson kívülről | B46: B61 | C46: ='bevételek korm. funkciónként'!C47 -> 0 | D46: ='bevételek korm. funkciónként'!D47 -> 0 | E46: ='bevételek korm. funkciónként'!E47 -> 0 | F46: =SUM(C46:E46) -> 0 | G46: =SUM(D46:F46) -> 0
A47: Működési célú visszatérítendő támogatások, kölcsönök visszatérülése államháztartáson kívülről | B47: B62 | C47: ='bevételek korm. funkciónként'!C48 -> 0 | F47: =SUM(C47:E47) -> 0 | G47: =SUM(D47:F47) -> 0
A48: Egyéb működési célú átvett pénzeszközök | B48: B63 | C48: ='bevételek korm. funkciónként'!C49 -> 0 | F48: =SUM(C48:E48) -> 0 | G48: =SUM(D48:F48) -> 0
A49: Működési célú átvett pénzeszközök | B49: B6 | C49: =SUM(C46:C48) -> 0 | D49: =SUM(D46:D48) -> 0 | E49: =SUM(E46:E48) -> 0 | F49: =SUM(C49:E49) -> 0 | G49: =SUM(D49:F49) -> 0
A50: Működési költségvetés előirányzat csoport | C50: =C20+C34+C45+C49 -> 181601839 | D50: =D20+D34+D45+D49 -> 0 | E50: =E20+E34+E45+E49 -> 0 | F50: =F20+F34+F45+F49 -> 181601839 | G50: =G20+G34+G45+G49 -> 181601839
A51: Felhalmozási célú önkormányzati támogatások | B51: B21 | C51: ='bevételek korm. funkciónként'!C52 -> 0 | D51: ='bevételek korm. funkciónként'!D52 -> 0 | E51: ='bevételek korm. funkciónként'!E52 -> 0 | F51: =SUM(C51:E51) -> 0 | G51: =SUM(D51:F51) -> 0
A52: Felhalmozási célú garancia- és kezességvállalásból származó megtérülések államháztartáson belülről | B52: B22 | C52: ='bevételek korm. funkciónként'!C53 -> 0 | D52: ='bevételek korm. funkciónként'!D53 -> 0 | E52: ='bevételek korm. funkciónként'!E53 -> 0 | F52: =SUM(C52:E52) -> 0 | G52: =SUM(D52:F52) -> 0
A53: Felhalmozási célú visszatérítendő támogatások, kölcsönök visszatérülése államháztartáson belülről | B53: B23 | C53: ='bevételek korm. funkciónként'!C54 -> 0 | D53: ='bevételek korm. funkciónként'!D54 -> 0 | E53: ='bevételek korm. funkciónként'!E54 -> 0 | F53: =SUM(C53:E53) -> 0 | G53: =SUM(D53:F53) -> 0
A54: Felhalmozási célú visszatérítendő támogatások, kölcsönök igénybevétele államháztartáson belülről | B54: B24 | C54: ='bevételek korm. funkciónként'!C55 -> 0 | D54: ='bevételek korm. funkciónként'!D55 -> 0 | E54: ='bevételek korm. funkciónként'!E55 -> 0 | F54: =SUM(C54:E54) -> 0 | G54: =SUM(D54:F54) -> 0
A55: Egyéb felhalmozási célú támogatások bevételei államháztartáson belülről | B55: B25 | C55: ='bevételek korm. funkciónként'!C56 -> 0 | D55: ='bevételek korm. funkciónként'!D56 -> 0 | E55: ='bevételek korm. funkciónként'!E56 -> 0 | F55: =SUM(C55:E55) -> 0 | G55: =SUM(D55:F55) -> 0
A56: Felhalmozási célú támogatások államháztartáson belülről | B56: B2 | C56: =SUM(C51:C55) -> 0 | D56: =SUM(D51:D55) -> 0 | E56: =SUM(E51:E55) -> 0 | F56: =SUM(C56:E56) -> 0 | G56: =SUM(D56:F56) -> 0
A57: Immateriális javak értékesítése | B57: B51 | C57: ='bevételek korm. funkciónként'!C58 -> 0 | D57: ='bevételek korm. funkciónként'!D58 -> 0 | E57: ='bevételek korm. funkciónként'!E58 -> 0 | F57: =SUM(C57:E57) -> 0 | G57: =SUM(D57:F57) -> 0
A58: Ingatlanok értékesítése | B58: B52 | C58: ='bevételek korm. funkciónként'!C59 -> 0 | D58: ='bevételek korm. funkciónként'!D59 -> 0 | E58: ='bevételek korm. funkciónként'!E59 -> 0 | F58: =SUM(C58:E58) -> 0 | G58: =SUM(D58:F58) -> 0
A59: Egyéb tárgyi eszközök értékesítése | B59: B53 | C59: ='bevételek korm. funkciónként'!C60 -> 390000 | D59: ='bevételek korm. funkciónként'!D60 -> 0 | E59: ='bevételek korm. funkciónként'!E60 -> 0 | F59: =SUM(C59:E59) -> 390000 | G59: =SUM(D59:F59) -> 390000
A60: Részesedések értékesítése | B60: B54 | C60: ='bevételek korm. funkciónként'!C61 -> 0 | D60: ='bevételek korm. funkciónként'!D61 -> 0 | E60: ='bevételek korm. funkciónként'!E61 -> 0 | F60: =SUM(C60:E60) -> 0 | G60: =SUM(D60:F60) -> 0
A61: Részesedések megszűnéséhez kapcsolódó bevételek | B61: B55 | C61: ='bevételek korm. funkciónként'!C62 -> 0 | D61: ='bevételek korm. funkciónként'!D62 -> 0 | E61: ='bevételek korm. funkciónként'!E62 -> 0 | F61: =SUM(C61:E61) -> 0 | G61: =SUM(D61:F61) -> 0
A62: Felhalmozási bevételek | B62: B5 | C62: =SUM(C57:C61) -> 390000 | D62: =SUM(D57:D61) -> 0 | E62: =SUM(E57:E61) -> 0 | F62: =SUM(C62:E62) -> 390000 | G62: =SUM(D62:F62) -> 390000
A63: Felhalmozási célú garancia- és kezességvállalásból származó megtérülések államháztartáson kívülről | B63: B71 | F63: =SUM(C63:E63) -> 0 | G63: =SUM(D63:F63) -> 0
A64: Felhalmozási célú visszatérítendő támogatások, kölcsönök visszatérülése államháztartáson kívülről | B64: B72 | F64: =SUM(C64:E64) -> 0 | G64: =SUM(D64:F64) -> 0
A65: Egyéb felhalmozási célú átvett pénzeszközök | B65: B73 | F65: =SUM(C65:E65) -> 0 | G65: =SUM(D65:F65) -> 0
A66: Felhalmozási célú átvett pénzeszközök | B66: B7 | C66: =SUM(C63:C65) -> 0 | D66: =SUM(D63:D65) -> 0 | E66: =SUM(E63:E65) -> 0 | F66: =SUM(C66:E66) -> 0 | G66: =SUM(D66:F66) -> 0
A67: Felhalmozási költségvetés előirányzat csoport | C67: =C56+C62+C66 -> 390000 | D67: =D56+D62+D66 -> 0 | E67: =E56+E62+E66 -> 0 | F67: =F56+F62+F66 -> 390000 | G67: =G56+G62+G66 -> 390000
A68: Költségvetési bevételek | B68: B1-B7 | C68: =C20+C34+C45+C49+C56+C62+C66 -> 181991839 | D68: =D20+D34+D45+D49+D56+D62+D66 -> 0 | E68: =E20+E34+E45+E49+E56+E62+E66 -> 0 | F68: =F20+F34+F45+F49+F56+F62+F66 -> 181991839 | G68: =G20+G34+G45+G49+G56+G62+G66 -> 181991839
A69: költségvetési egyenleg MŰKÖDÉSI | C69: =C50-'kiadások működés felhalmozás'!C76 -> 18002101 | D69: =D50-'kiadások működés felhalmozás'!D76 -> -65693763 | E69: =E50-'kiadások működés felhalmozás'!E76 -> -31142348 | F69: =F50-'kiadások működés felhalmozás'!F76 -> -78834010 | G69: =G50-'kiadások működés felhalmozás'!G76 -> -78834010
A70: költségvetési egyenleg FELHALMOZÁSI | C70: =C67-'kiadások működés felhalmozás'!C99 -> -36137481 | D70: =D67-'kiadások működés felhalmozás'!D99 -> -508000 | E70: =E67-'kiadások működés felhalmozás'!E99 -> 0 | F70: =F67-'kiadások működés felhalmozás'!F99 -> -36645481 | G70: =G67-'kiadások működés felhalmozás'!G99 -> -36645481
A71: Hosszú lejáratú hitelek, kölcsönök felvétele | B71: B8111 | F71: =SUM(C71:E71) -> 0 | G71: =SUM(D71:F71) -> 0
A72: Likviditási célú hitelek, kölcsönök felvétele pénzügyi vállalkozástól | B72: B8112 | F72: =SUM(C72:E72) -> 0 | G72: =SUM(D72:F72) -> 0
A73: Rövid lejáratú hitelek, kölcsönök felvétele | B73: B8113 | F73: =SUM(C73:E73) -> 0 | G73: =SUM(D73:F73) -> 0
A74: Hitel-, kölcsönfelvétel államháztartáson kívülről | B74: B811 | C74: =SUM(C71:C73) -> 0 | D74: =SUM(D71:D73) -> 0 | E74: =SUM(E71:E73) -> 0 | F74: =SUM(C74:E74) -> 0 | G74: =SUM(D74:F74) -> 0
A75: Forgatási célú belföldi értékpapírok beváltása, értékesítése | B75: B8121 | F75: =SUM(C75:E75) -> 0 | G75: =SUM(D75:F75) -> 0
A76: Forgatási célú belföldi értékpapírok kibocsátása | B76: B8122 | F76: =SUM(C76:E76) -> 0 | G76: =SUM(D76:F76) -> 0
A77: Befektetési célú belföldi értékpapírok beváltása, értékesítése | B77: B8123 | F77: =SUM(C77:E77) -> 0 | G77: =SUM(D77:F77) -> 0
A78: Befektetési célú belföldi értékpapírok kibocsátása | B78: B8124 | F78: =SUM(C78:E78) -> 0 | G78: =SUM(D78:F78) -> 0
A79: Belföldi értékpapírok bevételei | B79: B812 | C79: =SUM(C75:C78) -> 0 | D79: =SUM(D75:D78) -> 0 | E79: =SUM(E75:E78) -> 0 | F79: =SUM(C79:E79) -> 0 | G79: =SUM(D79:F79) -> 0
A80: Előző év költségvetési maradványának igénybevétele MŰKÖDÉSRE | B80: B8131 | C80: ='bevételek korm. funkciónként'!C81 -> 76403317 | D80: ='bevételek korm. funkciónként'!D85 -> 234761 | E80: ='bevételek korm. funkciónként'!G81 -> 93942 | F80: =SUM(C80:E80) -> 76732020 | G80: =SUM(D80:F80) -> 77060723
A81: Előző év költségvetési maradványának igénybevétele FELHALMOZÁSRA | B81: B8131 | C81: ='bevételek korm. funkciónként'!C82 -> 0 | D81: ='bevételek korm. funkciónként'!D82 -> 0 | E81: ='bevételek korm. funkciónként'!E82 -> 0 | F81: =SUM(C81:E81) -> 0 | G81: =SUM(D81:F81) -> 0
A82: Előző év vállalkozási maradványának igénybevétele MŰKÖDÉSRE | B82: B8132 | C82: ='bevételek korm. funkciónként'!C83 -> 0 | D82: ='bevételek korm. funkciónként'!D83 -> 0 | E82: ='bevételek korm. funkciónként'!E83 -> 0 | F82: =SUM(C82:E82) -> 0 | G82: =SUM(D82:F82) -> 0
A83: Előző év vállalkozási maradványának igénybevétele FELHALMOZÁSRA | B83: B8132 | C83: ='bevételek korm. funkciónként'!C84 -> 0 | D83: ='bevételek korm. funkciónként'!D84 -> 0 | E83: ='bevételek korm. funkciónként'!E84 -> 0 | F83: =SUM(C83:E83) -> 0 | G83: =SUM(D83:F83) -> 0
A84: Maradvány igénybevétele | B84: B813 | C84: =SUM(C80:C83) -> 76403317 | D84: =SUM(D80:D83) -> 234761 | E84: =SUM(E80:E83) -> 93942 | F84: =SUM(C84:E84) -> 76732020 | G84: =SUM(D84:F84) -> 77060723
A85: Államháztartáson belüli megelőlegezések | B85: B814 | F85: =SUM(C85:E85) -> 0 | G85: =SUM(D85:F85) -> 0
A86: Államháztartáson belüli megelőlegezések törlesztése | B86: B815 | F86: =SUM(C86:E86) -> 0 | G86: =SUM(D86:F86) -> 0
A87: Központi, irányító szervi támogatás | B87: B816 | C87: ='bevételek korm. funkciónként'!C88 -> 0 | D87: ='bevételek korm. funkciónként'!D88 -> 65967002 | E87: ='bevételek korm. funkciónként'!G88 -> 31048406 | F87: =SUM(C87:E87) -> 97015408
A88: Betétek megszüntetése | B88: B817 | F88: =SUM(C88:E88) -> 0 | G88: =SUM(D88:F88) -> 0
A89: Központi költségvetés sajátos finanszírozási bevételei | B89: B818 | F89: =SUM(C89:E89) -> 0 | G89: =SUM(D89:F89) -> 0
A90: Belföldi finanszírozás bevételei | B90: B81 | C90: =C74+C79+C84+C85+C86+C87+C88+C89 -> 76403317 | D90: =D74+D79+D84+D85+D86+D87+D88+D89 -> 66201763 | E90: =E74+E79+E84+E85+E86+E87+E88+E89 -> 31142348 | F90: =F74+F79+F84+F85+F86+F87+F88+F89 -> 173747428 | G90: =G74+G79+G84+G85+G86+G87+G88+G89 -> 77060723
A91: Forgatási célú külföldi értékpapírok beváltása, értékesítése | B91: B821 | F91: =SUM(C91:E91) -> 0 | G91: =SUM(D91:F91) -> 0
A92: Befektetési célú külföldi értékpapírok beváltása, értékesítése | B92: B822 | F92: =SUM(C92:E92) -> 0 | G92: =SUM(D92:F92) -> 0
A93: Külföldi értékpapírok kibocsátása | B93: B823 | F93: =SUM(C93:E93) -> 0 | G93: =SUM(D93:F93) -> 0
A94: Külföldi hitelek, kölcsönök felvétele | B94: B824 | F94: =SUM(C94:E94) -> 0 | G94: =SUM(D94:F94) -> 0
A95: Külföldi finanszírozás bevételei | B95: B82 | C95: =SUM(C91:C94) -> 0 | D95: =SUM(D91:D94) -> 0 | E95: =SUM(E91:E94) -> 0 | F95: =SUM(C95:E95) -> 0 | G95: =SUM(D95:F95) -> 0
A96: Adóssághoz nem kapcsolódó származékos ügyletek bevételei | B96: B83 | F96: =SUM(C96:E96) -> 0 | G96: =SUM(D96:F96) -> 0
A97: Finanszírozási bevételek | B97: B8 | C97: =C90+C95+C96 -> 76403317 | D97: =D90+D95+D96 -> 66201763 | E97: =E90+E95+E96 -> 31142348 | F97: =F90+F95+F96 -> 173747428 | G97: =G90+G95+G96 -> 77060723
A98: BEVÉTELEK ÖSSZESEN (B1-8) | C98: =C68+C97 -> 258395156 | D98: =D68+D97 -> 66201763 | E98: =E68+E97 -> 31142348 | F98: =F68+F97 -> 355739267 | G98: =G68+G97 -> 259052562

Sheet létszám
A1: 4.sz. melléklet a ……./2015.(…….) rendelethez
A2: =Mellékletek!A1 -> Iharosberény Község Önkormányzata
A3: 2015. évi költségvetés
A4: Foglalkoztatottak létszáma (fő)
A7: MEGNEVEZÉS | B7: Költségvetési engedélyezett létszámkeret (álláshely) (fő) ÖNKORMÁNYZAT | C7: Költségvetési engedélyezett létszámkeret (álláshely) (fő) KÖZÖS HIVATAL | D7: Költségvetési engedélyezett létszámkeret (álláshely) (fő) Óvoda | E7: MINDÖSSZESEN
A8: főjegyző, jegyző, aljegyző, címzetes főjegyző, körjegyző | B8: 0 | C8: ='kiadások korm. funkciónként'!C10 -> 17934334 | D8: 0 | E8: =SUM(B8:D8) -> 17934334
A9: I. besorolási osztály összesen | B9: 0 | C9: 3 | D9: 0 | E9: =SUM(B9:D9) -> 3
A10: II. besorolási osztály összesen | B10: 0 | C10: 11 | D10: 0 | E10: =SUM(B10:D10) -> 11
A11: III. besorolási osztály összesen | B11: 0 | C11: 0 | D11: 0 | E11: =SUM(B11:D11) -> 0
A12: KÖZTISZTVISELŐK, KORMÁNYTISZTVISELŐK ÖSSZESEN | B12: =SUM(B8:B11) -> 0 | C12: =SUM(C8:C11) -> 17934348 | D12: =SUM(D8:D11) -> 0 | E12: =SUM(B12:D12) -> 17934348
A13: igazgató (főigazgató), igazgatóhelyettes (főigazgató-helyettes) | B13: 0 | C13: 0 | D13: 0 | E13: =SUM(B13:D13) -> 0
A14: főosztályvezető, főosztályvezető-helyettes, osztályvezető, ügykezelő osztályvezető, további vezető | B14: 0 | C14: 0 | D14: 0 | E14: =SUM(B14:D14) -> 0
A15: főtanácsos, főmunkatárs, tanácsos, munkatárs | B15: 0 | C15: 0 | D15: 0 | E15: =SUM(B15:D15) -> 0
A16: "A", "B" fizetési osztály összesen | B16: 0 | C16: 0 | D16: 2 | E16: =SUM(B16:D16) -> 2
A17: "C", "D" fizetési osztály összesen | B17: 0 | C17: 0 | D17: 0 | E17: =SUM(B17:D17) -> 0
A18: "E"-"J" fizetési osztály összesen | B18: 3 | C18: 0 | D18: 4 | E18: =SUM(B18:D18) -> 7
A19: kutató, felsőoktatásban oktató | B19: 0 | C19: 0 | D19: 0 | E19: =SUM(B19:D19) -> 0
A20: KÖZALKALMAZOTTAK ÖSSZESEN | B20: =SUM(B13:B19) -> 3 | C20: =SUM(C13:C19) -> 0 | D20: =SUM(D13:D19) -> 6 | E20: =SUM(B20:D20) -> 9
A21: fizikai alkalmazott, a költségvetési szerveknél foglalkoztatott egyéb munkavállaló (fizikai alkalmazott) | B21: 1 | C21: 1 | D21: 0 | E21: =SUM(B21:D21) -> 2
A22: egyéb alkalmazott | B22: 0 | C22: 1 | D22: 0 | E22: =SUM(B22:D22) -> 1
A23: közfoglalkoztatott | B23: 0 | C23: 0 | D23: 0 | E23: =SUM(B23:D23) -> 0
A24: EGYÉB BÉRRENDSZER ÖSSZESEN | B24: =SUM(B21:B23) -> 1 | C24: =SUM(C21:C23) -> 2 | D24: =SUM(D21:D23) -> 0 | E24: =SUM(B24:D24) -> 3
A25: polgármester, főpolgármester | B25: 1 | C25: 0 | D25: 0 | E25: =SUM(B25:D25) -> 1
A26: helyi önkormányzati képviselő-testület tagja, megyei közgyűlés tagja | B26: 5 | C26: 0 | D26: 0 | E26: =SUM(B26:D26) -> 5
A27: alpolgármester, főpolgármester-helyettes, megyei közgyűlés elnöke, alelnöke | B27: 1 | C27: 0 | D27: 0 | E27: =SUM(B27:D27) -> 1
A28: VÁLASZTOTT TISZTSÉGVISELŐK ÖSSZESEN | B28: =SUM(B25:B27) -> 7 | C28: =SUM(C25:C27) -> 0 | D28: =SUM(D25:D27) -> 0 | E28: =SUM(B28:D28) -> 7
A29: KÖLTSÉGVETÉSI ENGEDÉLYEZETT LÉTSZÁMKERETBE TARTOZÓ FOGLALKOZTATOTTAK LÉTSZÁMA MINDÖSSZESEN | B29: =B12+B20+B24+B28 -> 11 | C29: =C12+C20+C24+C28 -> 17934350 | D29: =D12+D20+D24+D28 -> 6 | E29: =SUM(B29:D29) -> 17934367
A30: prémiumévek programról és a különleges foglalkoztatási állományról szóló 2004. évi CXXII. törvény alapján foglalkoztatott prémiumévesek | B30: 0 | C30: 0 | D30: 0 | E30: =SUM(B30:D30) -> 0
A31: prémiumévek programról és a különleges foglalkoztatási állományról szóló 2004. évi CXXII. törvény alapján foglalkoztatott különleges foglalkoztatási állományba helyezettek létszáma | B31: 0 | C31: 0 | D31: 0 | E31: =SUM(B31:D31) -> 0
A32: ösztöndíjas foglalkoztatottak (Pftv, illetve Magyar Közigazgatási Ösztöndíjról szóló 228/2011. (X. 28.) Korm. rendelet) | B32: 0 | C32: 0 | D32: 0 | E32: =SUM(B32:D32) -> 0
A33: munkaerőpiactól tartósan távol lévő személyek | B33: 0 | C33: 0 | D33: 0 | E33: =SUM(B33:D33) -> 0
A34: KÖLTSÉGVETÉSI ENGEDÉLYEZETT LÉTSZÁMKERETBE NEM TARTOZÓ FOGLALKOZTATOTTAK LÉTSZÁMA AZ IDŐSZAK VÉGÉN ÖSSZESEN (=80+…+86) | B34: =SUM(B30:B33) -> 0 | C34: =SUM(C30:C33) -> 0 | D34: =SUM(D30:D33) -> 0 | E34: =SUM(B34:D34) -> 0

Sheet szociális kiadások
A1: 5.sz. melléklet a ……./2015.(…….) rendelethez
A2: =Mellékletek!A1 -> Iharosberény Község Önkormányzata
A3: 2015. évi költségvetés
A4: Lakosságnak juttatott támogatások, szociális, rászorultsági jellegű ellátások (E Ft)
A6: ÖNKORMÁNYZATI ELŐIRÁNYZATOK
A7: Megnevezés | B7: Rovat-szám | C7: eredeti ei.
A8: mozgáskorlátozottak közlekedési támogatása | B8: K44 | C8: ='kiadások korm. funkciónként'!C10 -> 17934334
A9: mozgáskorlátozottak szerzési és átalakítási támogatása | B9: K44 | C9: 0
A10: megváltozott munkaképességűek illetve egészségkárosodottak keresetkiegészítése | B10: K44 | C10: 0
A11: cukorbetegek támogatása | B11: K44 | C11: 0
A12: helyi megállapítású ápolási díj | B12: K44 | C12: 0
A13: helyi megállapítású közgyógyellátás | B13: K44
A14: Betegséggel kapcsolatos (nem társadalombiztosítási) ellátások | B14: K44
A15: foglalkoztatást helyettesítő támogatás | B15: K45 | C15: ='kiadások működés felhalmozás'!C57 -> 0
A16: Foglalkoztatással, munkanélküliséggel kapcsolatos ellátások | B16: K45 | C16: =SUM(C15) -> 0
A17: hozzájárulás a lakossági energiaköltségekhez | B17: K46
A18: lakbértámogatás | B18: K46
A19: lakásfenntartási támogatás | B19: K46
A20: adósságcsökkentési támogatás | B20: K46 | C20: 0
A21: természetben nyújtott lakásfenntartási támogatás | B21: K46 | C21: ='kiadások működés felhalmozás'!C58 -> 0
A22: adósságkezelési szolgáltatás keretében gáz-vagy áram fogyasztást mérő készülék biztosítása | B22: K46 | C22: 0
A23: Lakhatással kapcsolatos ellátások | B23: K46
A24: állami gondozottak pénzbeli juttatásai | B24: K47 | C24: 0
A25: oktatásban résztvevők pénzbeli juttatásai | B25: K47 | C25: 0
A26: Intézményi ellátottak pénzbeli juttatásai | B26: K47
A27: időskorúak járadéka | B27: K48 | C27: 0
A28: rendszeres szociális segély | B28: K48
A29: átmeneti segély | B29: K48
A30: temetési segély | B30: K48
A31: egyéb, az önkormányzat rendeletében megállapított juttatás | B31: K48
A32: természetben nyújtott rendszeres szociális segély | B32: K48
A33: átmeneti segély | B33: K48
A34: temetési segély | B34: K48
A35: köztemetés | B35: K48
A36: rászorultságtól függõ normatív kedvezmények | B36: K48
A37: önkormányzati segély (nem szociális és gyermekvédelmi előírások alapján) adott pénzügyi ellátás | B37: K48 | C37: ='kiadások működés felhalmozás'!C60 -> 9163162
A38: önkormányzat segély (nem szociális és gyermekvédelmi előírások alapján) adott természetbeni ellátás | B38: K48 | C38: 0
A39: Egyéb nem intézményi ellátások | B39: K48 | C39: =SUM(C27:C38) -> 9163162
A40: Ellátottak pénzbeli juttatásai | B40: K4 | C40: =C14+C16+C23+C26+C39 -> 9163162

Sheet átadott
A1: 6.sz. melléklet a ……./2015.(…….) rendelethez
A2: =Mellékletek!A1 -> Iharosberény Község Önkormányzata
A3: 2015. évi költségvetés
A4: Támogatások, kölcsönök nyújtása és törlesztése (E Ft)
A6: ÖNKORMÁNYZATI ELŐIRÁNYZATOK
A7: Megnevezés | B7: Rovat-szám | C7: eredeti ei.
A8: központi költségvetési szervek részére | B8: K504 | C8: ='kiadások korm. funkciónként'!C10 -> 17934334
A9: központi kezelésű előirányzatok részére | B9: K504
A10: fejezeti kezelésű előirányzatok EU-s programokra és azok hazai társfinanszírozása részére | B10: K504
A11: egyéb fejezeti kezelésű előirányzatok részére | B11: K504
A12: társadalombiztosítás pénzügyi alapjai részére | B12: K504
A13: elkülönített állami pénzalapok részére | B13: K504
A14: helyi önkormányzatok és költségvetési szerveik részére | B14: K504
A15: társulások és költségvetési szerveik részére | B15: K504
A16: nemzetiségi önkormányzatok és költségvetési szerveik részére | B16: K504
A17: térségi fejlesztési tanácsok és költségvetési szerveik részére | B17: K504
A18: Működési célú visszatérítendő támogatások, kölcsönök nyújtása államháztartáson belülre | B18: K504 | C18: =SUM(C8:C17) -> 17934334
A19: központi költségvetési szervek részére | B19: K505
A20: központi kezelésű előirányzatok részére | B20: K505
A21: fejezeti kezelésű előirányzatok EU-s programokra és azok hazai társfinanszírozása részére | B21: K505
A22: egyéb fejezeti kezelésű előirányzatok részére | B22: K505
A23: társadalombiztosítás pénzügyi alapjai részére | B23: K505
A24: elkülönített állami pénzalapok részére | B24: K505
A25: helyi önkormányzatok és költségvetési szerveik részére | B25: K505
A26: társulások és költségvetési szerveik részére | B26: K505
A27: nemzetiségi önkormányzatok és költségvetési szerveik részére | B27: K505
A28: térségi fejlesztési tanácsok és költségvetési szerveik részére | B28: K505
A29: Működési célú visszatérítendő támogatások, kölcsönök törlesztése államháztartáson belülre | B29: K505 | C29: =SUM(C19:C28) -> 0
A30: központi költségvetési szervek részére | B30: K506
A31: központi kezelésű előirányzatok részére | B31: K506
A32: fejezeti kezelésű előirányzatok EU-s programokra és azok hazai társfinanszírozása részére | B32: K506
A33: egyéb fejezeti kezelésű előirányzatok részére | B33: K506
A34: társadalombiztosítás pénzügyi alapjai részére | B34: K506
A35: elkülönített állami pénzalapok részére | B35: K506
A36: helyi önkormányzatok és költségvetési szerveik részére | B36: K506
A37: társulások és költségvetési szerveik részére | B37: K506 | C37: 1558
A38: nemzetiségi önkormányzatok és költségvetési szerveik részére | B38: K506
A39: térségi fejlesztési tanácsok és költségvetési szerveik részére | B39: K506
A40: Egyéb működési célú támogatások államháztartáson belülre | B40: K506 | C40: =SUM(C30:C39) -> 1558
A41: egyházi jogi személyek részére | B41: K508
A42: egyéb civil szervezetek részére | B42: K508 | C42: 0
A43: háztartások részére | B43: K508 | C43: 0
A44: pénzügyi vállalkozások részére | B44: K508
A45: állami többségi tulajdonú nem pénzügyi vállalkozások részére | B45: K508
A46: önkormányzati többségi tulajdonú nem pénzügyi vállalkozások részére | B46: K508
A47: egyéb vállalkozások részére | B47: K508
A48: Európai Unió részére | B48: K508
A49: kormányok és nemzetközi szervezetek részére | B49: K508
A50: egyéb külföldiek részére | B50: K508
A51: Működési célú visszatérítendő támogatások, kölcsönök nyújtása államháztartáson kívülre | B51: K508 | C51: =SUM(C41:C50) -> 0
A52: egyházi jogi személyek részére | B52: K511
A53: egyéb civil szervezetek részére | B53: K511
A54: háztartások részére | B54: K511
A55: pénzügyi vállalkozások részére | B55: K511
A56: állami többségi tulajdonú nem pénzügyi vállalkozások részére | B56: K511
A57: önkormányzati többségi tulajdonú nem pénzügyi vállalkozások részére | B57: K511 | C57: 2359
A58: egyéb vállalkozások részére | B58: K511
A59: Európai Unió részére | B59: K511
A60: kormányok és nemzetközi szervezetek részére | B60: K511
A61: egyéb külföldiek részére | B61: K511
A62: Egyéb működési célú támogatások államháztartáson kívülre | B62: K511 | C62: =SUM(C52:C61) -> 2359
A63: központi költségvetési szervek részére | B63: K82
A64: központi kezelésű előirányzatok részére | B64: K82
A65: fejezeti kezelésű előirányzatok EU-s programokra és azok hazai társfinanszírozása részére | B65: K82
A66: egyéb fejezeti kezelésű előirányzatok részére | B66: K82
A67: társadalombiztosítás pénzügyi alapjai részére | B67: K82
A68: elkülönített állami pénzalapok részére | B68: K82
A69: helyi önkormányzatok és költségvetési szerveik részére | B69: K82
A70: társulások és költségvetési szerveik részére | B70: K82
A71: nemzetiségi önkormányzatok és költségvetési szerveik részére | B71: K82
A72: térségi fejlesztési tanácsok és költségvetési szerveik részére | B72: K82
A73: Felhalmozási célú visszatérítendő támogatások, kölcsönök nyújtása államháztartáson belülre | B73: K82 | C73: =SUM(C63:C72) -> 0
A74: központi költségvetési szervek részére | B74: K83
A75: központi kezelésű előirányzatok részére | B75: K83
A76: fejezeti kezelésű előirányzatok EU-s programokra és azok hazai társfinanszírozása részére | B76: K83
A77: egyéb fejezeti kezelésű előirányzatok részére | B77: K83
A78: társadalombiztosítás pénzügyi alapjai részére | B78: K83
A79: elkülönített állami pénzalapok részére | B79: K83
A80: helyi önkormányzatok és költségvetési szerveik részére | B80: K83
A81: társulások és költségvetési szerveik részére | B81: K83
A82: nemzetiségi önkormányzatok és költségvetési szerveik részére | B82: K83
A83: térségi fejlesztési tanácsok és költségvetési szerveik részére | B83: K83
A84: Felhalmozási célú visszatérítendő támogatások, kölcsönök törlesztése államháztartáson belülre | B84: K83 | C84: =SUM(C74:C83) -> 0
A85: központi költségvetési szervek részére | B85: K84
A86: központi kezelésű előirányzatok részére | B86: K84
A87: fejezeti kezelésű előirányzatok EU-s programokra és azok hazai társfinanszírozása részére | B87: K84
A88: egyéb fejezeti kezelésű előirányzatok részére | B88: K84
A89: társadalombiztosítás pénzügyi alapjai részére | B89: K84
A90: elkülönített állami pénzalapok részére | B90: K84
A91: helyi önkormányzatok és költségvetési szerveik részére | B91: K84
A92: társulások és költségvetési szerveik részére | B92: K84
A93: nemzetiségi önkormányzatok és költségvetési szerveik részére | B93: K84
A94: térségi fejlesztési tanácsok és költségvetési szerveik részére | B94: K84
A95: Egyéb felhalmozási célú támogatások államháztartáson belülre | B95: K84 | C95: =SUM(C85:C94) -> 0
A96: egyházi jogi személyek részére | B96: K86
A97: egyéb civil szervezetek részére | B97: K86
A98: háztartások részére | B98: K86
A99: pénzügyi vállalkozások részére | B99: K86
A100: állami többségi tulajdonú nem pénzügyi vállalkozások részére | B100: K86
A101: önkormányzati többségi tulajdonú nem pénzügyi vállalkozások részére | B101: K86
...

Sheet átvett
A1: 7.sz. melléklet a ……./2015.(…….) rendelethez
A2: =Mellékletek!A1 -> Iharosberény Község Önkormányzata
A3: 2015. évi költségvetés
A4: Támogatások, kölcsönök bevételei (E Ft)
A6: ÖNKORMÁNYZATI ELŐIRÁNYZATOK
A7: Megnevezés | B7: Rovat-szám | C7: eredeti ei.
A8: központi költségvetési szervektől | B8: B14 | C8: ='kiadások korm. funkciónként'!C10 -> 17934334
A9: központi kezelésű előirányzatoktól | B9: B14
A10: fejezeti kezelésű előirányzatok EU-s programokra és azok hazai társfinanszírozásától | B10: B14
A11: egyéb fejezeti kezelésű előirányzatoktól | B11: B14
A12: társadalombiztosítás pénzügyi alapjaitól | B12: B14
A13: elkülönített állami pénzalapoktól | B13: B14
A14: helyi önkormányzatok és költségvetési szerveiktől | B14: B14
A15: társulások és költségvetési szerveiktől | B15: B14
A16: nemzetiségi önkormányzatok és költségvetési szerveiktől | B16: B14
A17: térségi fejlesztési tanácsok és költségvetési szerveiktől | B17: B14
A18: Működési célú visszatérítendő támogatások, kölcsönök visszatérülése államháztartáson belülről | B18: B14 | C18: =SUM(C8:C17) -> 17934334
A19: központi költségvetési szervektől | B19: B15
A20: központi kezelésű előirányzatoktól | B20: B15
A21: fejezeti kezelésű előirányzatok EU-s programokra és azok hazai társfinanszírozásától | B21: B15
A22: egyéb fejezeti kezelésű előirányzatoktól | B22: B15
A23: társadalombiztosítás pénzügyi alapjaitól | B23: B15
A24: elkülönített állami pénzalapoktól | B24: B15
A25: helyi önkormányzatok és költségvetési szerveiktől | B25: B15
A26: társulások és költségvetési szerveiktől | B26: B15
A27: nemzetiségi önkormányzatok és költségvetési szerveiktől | B27: B15
A28: térségi fejlesztési tanácsok és költségvetési szerveiktől | B28: B15
A29: Működési célú visszatérítendő támogatások, kölcsönök igénybevétele államháztartáson belülről | B29: B15 | C29: =SUM(C19:C28) -> 0
A30: központi költségvetési szervektől | B30: B16 | C30: 1140
A31: központi kezelésű előirányzatoktól | B31: B16
A32: fejezeti kezelésű előirányzatok EU-s programokra és azok hazai társfinanszírozásától | B32: B16
A33: egyéb fejezeti kezelésű előirányzatoktól | B33: B16 | C33: 0
A34: társadalombiztosítás pénzügyi alapjaitól | B34: B16 | C34: 6828
A35: elkülönített állami pénzalapoktól | B35: B16
A36: helyi önkormányzatok és költségvetési szerveiktől | B36: B16 | C36: 9865
A37: társulások és költségvetési szerveiktől | B37: B16
A38: nemzetiségi önkormányzatok és költségvetési szerveiktől | B38: B16
A39: térségi fejlesztési tanácsok és költségvetési szerveiktől | B39: B16
A40: Egyéb működési célú támogatások bevételei államháztartáson belülről | B40: B16 | C40: =SUM(C30:C39) -> 17833
A41: központi költségvetési szervektől | B41: B23
A42: központi kezelésű előirányzatoktól | B42: B23
A43: fejezeti kezelésű előirányzatok EU-s programokra és azok hazai társfinanszírozásától | B43: B23
A44: egyéb fejezeti kezelésű előirányzatoktól | B44: B23
A45: társadalombiztosítás pénzügyi alapjaitól | B45: B23
A46: elkülönített állami pénzalapoktól | B46: B23
A47: helyi önkormányzatok és költségvetési szerveiktől | B47: B23
A48: társulások és költségvetési szerveiktől | B48: B23
A49: nemzetiségi önkormányzatok és költségvetési szerveiktől | B49: B23
A50: térségi fejlesztési tanácsok és költségvetési szerveiktől | B50: B23
A51: Felhalmozási célú visszatérítendő támogatások, kölcsönök visszatérülése államháztartáson belülről | B51: B23 | C51: =SUM(C41:C50) -> 0
A52: központi költségvetési szervektől | B52: B24
A53: központi kezelésű előirányzatoktól | B53: B24
A54: fejezeti kezelésű előirányzatok EU-s programokra és azok hazai társfinanszírozásától | B54: B24
A55: egyéb fejezeti kezelésű előirányzatoktól | B55: B24
A56: társadalombiztosítás pénzügyi alapjaitól | B56: B24
A57: elkülönített állami pénzalapoktól | B57: B24
A58: helyi önkormányzatok és költségvetési szerveiktől | B58: B24
A59: társulások és költségvetési szerveiktől | B59: B24
A60: nemzetiségi önkormányzatok és költségvetési szerveiktől | B60: B24
A61: térségi fejlesztési tanácsok és költségvetési szerveiktől | B61: B24
A62: Felhalmozási célú visszatérítendő támogatások, kölcsönök igénybevétele államháztartáson belülről | B62: B24 | C62: =SUM(C52:C61) -> 0
A63: központi költségvetési szervektől | B63: B25
A64: központi kezelésű előirányzatoktól | B64: B25
A65: fejezeti kezelésű előirányzatok EU-s programokra és azok hazai társfinanszírozásától | B65: B25 | C65: 0
A66: egyéb fejezeti kezelésű előirányzatoktól | B66: B25
A67: társadalombiztosítás pénzügyi alapjaitól | B67: B25
A68: elkülönített állami pénzalapoktól | B68: B25
A69: helyi önkormányzatok és költségvetési szerveiktől | B69: B25
A70: társulások és költségvetési szerveiktől | B70: B25
A71: nemzetiségi önkormányzatok és költségvetési szerveiktől | B71: B25
A72: térségi fejlesztési tanácsok és költségvetési szerveiktől | B72: B25
A73: Egyéb felhalmozási célú támogatások bevételei államháztartáson belülről | B73: B25 | C73: =SUM(C63:C72) -> 0
A74: egyházi jogi személyektől | B74: B62
A75: egyéb civil szervezetektől | B75: B62 | C75: 0
A76: háztartásoktól | B76: B62
A77: pénzügyi vállalkozásoktól | B77: B62
A78: állami többségi tulajdonú nem pénzügyi vállalkozásoktól | B78: B62
A79: önkormányzati többségi tulajdonú nem pénzügyi vállalkozásoktól | B79: B62
A80: egyéb vállalkozásoktól | B80: B62
A81: Európai Uniótól | B81: B62
A82: kormányok és nemzetközi szervezetektől | B82: B62
A83: egyéb külföldiektől | B83: B62
A84: Működési célú visszatérítendő támogatások, kölcsönök visszatérülése államháztartáson kívülről | B84: B62 | C84: =SUM(C74:C83) -> 0
A85: egyházi jogi személyektől | B85: B63
A86: egyéb civil szervezetektől | B86: B63
A87: háztartásoktól | B87: B63
A88: pénzügyi vállalkozásoktól | B88: B63
A89: állami többségi tulajdonú nem pénzügyi vállalkozásoktól | B89: B63
A90: önkormányzati többségi tulajdonú nem pénzügyi vállalkozásoktól | B90: B63
A91: egyéb vállalkozásoktól | B91: B63
A92: Európai Uniótól | B92: B63
A93: kormányok és nemzetközi szervezetektől | B93: B63
A94: egyéb külföldiektől | B94: B63
A95: Egyéb működési célú átvett pénzeszközök | B95: B63 | C95: =SUM(C85:C94) -> 0
A96: egyházi jogi személyektől | B96: B72
A97: egyéb civil szervezetektől | B97: B72
A98: háztartásoktól | B98: B72
A99: pénzügyi vállalkozásoktól | B99: B72
A100: állami többségi tulajdonú nem pénzügyi vállalkozásoktól | B100: B72
A101: önkormányzati többségi tulajdonú nem pénzügyi vállalkozásoktól | B101: B72
...

Sheet helyi adók
A1: 8.sz. melléklet a …../2015.(…….) rendelethez
A2: =Mellékletek!A1 -> Iharosberény Község Önkormányzata
A3: 2015. évi költségvetés
A4: Helyi adó és egyéb közhatalmi bevételek (E Ft)
A6: Megnevezés | B6: Rovat-szám | C6: eredeti ei.
A7: építményadó | B7: B34 | C7: 3150
A8: épület után fizetett idegenforgalmi adó | B8: B34 | C8: ='kiadások korm. funkciónként'!C10 -> 17934334
A9: magánszemélyek kommunális adója | B9: B34 | C9: 4000
A10: telekadó | B10: B34
A11: Vagyoni tipusú adók | B11: B34 | C11: =SUM(C7:C10) -> 17941484
A12: Értékesítési és forgalmi adók | B12: B351 | C12: =C13+C14 -> 11000
A13: ebből: állandó jeleggel végzett iparűzési tevékenység után fizetett helyi iparűzési adó | B13: B351 | C13: 11000
A14: ebből: ideiglenes jeleggel végzett tevékenység után fizetett helyi iparűzési adó | B14: B351
A15: Gépjárműadók | B15: B354 | C15: =C16+C17+C18+C19 -> 3800
A16: ebből: belföldi gépjárművek adójának a központi költségvetést megillető része | B16: B354
A17: ebből: belföldi gépjárművek adójának a helyi önkormányzatot megillető része | B17: B354 | C17: 3800
A18: ebből: külföldi gépjárművek adója | B18: B354
A19: ebből: gépjármű túlsúlydíj | B19: B354
A20: Egyéb áruhasználati és szolgáltatási adók | B20: B355
A21: ebből: tartózkodás után fizetett idegenforgalmi adó | B21: B355
A22: ebből: talajterhelési díj | B22: B355 | C22: 1000
A23: Termékek és szolgáltatások adói | B23: B35 | C23: =C12+C15+C20 -> 14800
A24: eljárási illetékek | B24: B36
A25: igazgatási szolgáltatási díjak | B25: B36
A26: felügyeleti díjak | B26: B36
A27: ebrendészeti hozzájárulás | B27: B36
A28: környezetvédelmi bírság | B28: B36
A29: természetvédelmi bírság | B29: B36
A30: műemlékvédelmi bírság | B30: B36
A31: építésügyi bírság | B31: B36
A32: szabálysértési pénz- és helyszíni mbírság és a közlekedési szabályszegések után kiszabott közigazgatási bírság helyi önkormányzatot megillető része | B32: B36
A33: egyéb bírság | B33: B36 | C33: 500
A34: Egyéb közhatalmi bevételek | B34: B36 | C34: =SUM(C24:C33) -> 500
A35: KÖZHATALMI BEVÉTELEK ÖSSZESEN: | B35: B3 | C35: =C11+C23+C34 -> 17956784

Sheet beruházások felújítások
A1: 9.sz. melléklet a …../2015.(…….) rendelethez
A2: =Mellékletek!A1 -> Iharosberény Község Önkormányzata
A3: 2015. évi költségvetés
A4: Beruházások és felújítások (E Ft)
A6: Rovat megnevezése | B6: Rovat-szám | C6: ÖNKORMÁNYZATI ELŐIRÁNYZATOK | D6: KÖZÖS HIVATAL | E6: ÁMK | F6: MINDÖSSZESEN
F7: =SUM(C7:E7) -> 0
C8: ='kiadások korm. funkciónként'!C10 -> 17934334 | F8: =SUM(C8:E8) -> 17934334
F9: =SUM(C9:E9) -> 0
F10: =SUM(C10:E10) -> 0
A11: Immateriális javak beszerzése, létesítése | B11: K61 | C11: =SUM(C7:C10) -> 17934334 | D11: =SUM(D7:D10) -> 0 | E11: =SUM(E7:E10) -> 0 | F11: =SUM(C11:E11) -> 17934334
F12: =SUM(C12:E12) -> 0
F13: =SUM(C13:E13) -> 0
F14: =SUM(C14:E14) -> 0
F15: =SUM(C15:E15) -> 0
A16: Ingatlanok beszerzése, létesítése | B16: K62 | C16: =SUM(C12:C15) -> 0 | D16: =SUM(D12:D15) -> 0 | E16: =SUM(E12:E15) -> 0 | F16: =SUM(C16:E16) -> 0
F17: =SUM(C17:E17) -> 0
F18: =SUM(C18:E18) -> 0
F19: =SUM(C19:E19) -> 0
F20: =SUM(C20:E20) -> 0
A21: Informatikai eszközök beszerzése, létesítése | B21: K63 | C21: =SUM(C17:C20) -> 0 | D21: =SUM(D17:D20) -> 0 | E21: =SUM(E17:E20) -> 0 | F21: =SUM(C21:E21) -> 0
C22: 0 | F22: =SUM(C22:E22) -> 0
F23: =SUM(C23:E23) -> 0
A24: Egyéb tárgyi eszközök beszerzése, létesítése | B24: K64 | C24: =SUM(C22:C23) -> 0 | D24: =SUM(D22:D23) -> 0 | E24: =SUM(E22:E23) -> 0 | F24: =SUM(C24:E24) -> 0
F25: =SUM(C25:E25) -> 0
F26: =SUM(C26:E26) -> 0
A27: Részesedések beszerzése | B27: K65 | C27: =SUM(C25:C26) -> 0 | D27: =SUM(D25:D26) -> 0 | E27: =SUM(E25:E26) -> 0 | F27: =SUM(C27:E27) -> 0
F28: =SUM(C28:E28) -> 0
F29: =SUM(C29:E29) -> 0
A30: Meglévő részesedések növeléséhez kapcsolódó kiadások | B30: K66 | C30: =SUM(C28:C29) -> 0 | D30: =SUM(D28:D29) -> 0 | E30: =SUM(E28:E29) -> 0 | F30: =SUM(C30:E30) -> 0
A31: Beruházási célú előzetesen felszámított általános forgalmi adó | B31: K67 | F31: =SUM(C31:E31) -> 0
A32: Beruházások | B32: K6 | C32: =C11+C16+C21+C24+C27+C30+C31 -> 17934334 | D32: =D11+D16+D21+D24+D27+D30+D31 -> 0 | E32: =E11+E16+E21+E24+E27+E30+E31 -> 0 | F32: =SUM(C32:E32) -> 17934334
F33: =SUM(C33:E33) -> 0
F34: =SUM(C34:E34) -> 0
F35: =SUM(C35:E35) -> 0
F36: =SUM(C36:E36) -> 0
A37: Ingatlanok felújítása | B37: K71 | C37: =SUM(C33:C36) -> 0 | D37: =SUM(D33:D36) -> 0 | E37: =SUM(E33:E36) -> 0 | F37: =SUM(C37:E37) -> 0
F38: =SUM(C38:E38) -> 0
F39: =SUM(C39:E39) -> 0
F40: =SUM(C40:E40) -> 0
F41: =SUM(C41:E41) -> 0
A42: Informatikai eszközök felújítása | B42: K72 | C42: =SUM(C38:C41) -> 0 | D42: =SUM(D38:D41) -> 0 | E42: =SUM(E38:E41) -> 0 | F42: =SUM(C42:E42) -> 0
F43: =SUM(C43:E43) -> 0
F44: =SUM(C44:E44) -> 0
F45: =SUM(C45:E45) -> 0
F46: =SUM(C46:E46) -> 0
A47: Egyéb tárgyi eszközök felújítása | B47: K73 | C47: =SUM(C43:C46) -> 0 | D47: =SUM(D43:D46) -> 0 | E47: =SUM(E43:E46) -> 0 | F47: =SUM(C47:E47) -> 0
A48: Felújítási célú előzetesen felszámított általános forgalmi adó | B48: K74 | F48: =SUM(C48:E48) -> 0
A49: Felújítások | B49: K7 | C49: =C37+C42+C47+C48 -> 0 | D49: =D37+D42+D47+D48 -> 0 | E49: =E37+E42+E47+E48 -> 0 | F49: =SUM(C49:E49) -> 0
A52: Megnevezés | B52: Rovat-szám | C52: nettó | D52: áfa | E52: bruttó
E53: =SUM(C53:D53) -> 0
E54: =SUM(C54:D54) -> 0
E55: =SUM(C55:D55) -> 0
E56: =SUM(C56:D56) -> 0
A57: Immateriális javak beszerzése, létesítése | B57: K61 | C57: =SUM(C53:C56) -> 0 | D57: =SUM(D53:D56) -> 0 | E57: =SUM(C57:D57) -> 0
E58: =SUM(C58:D58) -> 0
E59: =SUM(C59:D59) -> 0
E60: =SUM(C60:D60) -> 0
E61: =SUM(C61:D61) -> 0
A62: Ingatlanok beszerzése, létesítése | B62: K62 | C62: =SUM(C58:C61) -> 0 | D62: =SUM(D58:D61) -> 0 | E62: =SUM(C62:D62) -> 0
E63: =SUM(C63:D63) -> 0
E64: =SUM(C64:D64) -> 0
E65: =SUM(C65:D65) -> 0
E66: =SUM(C66:D66) -> 0
A67: Informatikai eszközök beszerzése, létesítése | B67: K63 | C67: =SUM(C63:C66) -> 0 | D67: =SUM(D63:D66) -> 0 | E67: =SUM(C67:D67) -> 0
A68: falubusz beszerzés | E68: =SUM(C68:D68) -> 0
A69: eszköz beszerzés | E69: =SUM(C69:D69) -> 0
A70: Egyéb tárgyi eszközök beszerzése, létesítése | B70: K64 | C70: =SUM(C68:C69) -> 0 | D70: =SUM(D68:D69) -> 0 | E70: =SUM(C70:D70) -> 0
A71: Beruházások | B71: K6 | C71: =C57+C62+C67+C70 -> 0 | D71: =D57+D62+D67+D70 -> 0 | E71: =SUM(C71:D71) -> 0
E72: =SUM(C72:D72) -> 0
E73: =SUM(C73:D73) -> 0
E74: =SUM(C74:D74) -> 0
E75: =SUM(C75:D75) -> 0
A76: Ingatlanok felújítása | B76: K71 | C76: =SUM(C72:C75) -> 0 | D76: =SUM(D72:D75) -> 0 | E76: =SUM(C76:D76) -> 0
E77: =SUM(C77:D77) -> 0
E78: =SUM(C78:D78) -> 0
E79: =SUM(C79:D79) -> 0
E80: =SUM(C80:D80) -> 0
A81: Informatikai eszközök felújítása | B81: K72 | C81: =SUM(C77:C80) -> 0 | D81: =SUM(D77:D80) -> 0 | E81: =SUM(C81:D81) -> 0
E82: =SUM(C82:D82) -> 0
E83: =SUM(C83:D83) -> 0
E84: =SUM(C84:D84) -> 0
E85: =SUM(C85:D85) -> 0
A86: Egyéb tárgyi eszközök felújítása | B86: K73 | C86: =SUM(C82:C85) -> 0 | D86: =SUM(D82:D85) -> 0 | E86: =SUM(C86:D86) -> 0
A87: Felújítások | B87: K7 | C87: =C76+C81+C86 -> 0 | D87: =D76+D81+D86 -> 0 | E87: =SUM(C87:D87) -> 0

Sheet tartalékok
A1: 10.sz. melléklet a …../2015.(…….) rendelethez
A2: =Mellékletek!A1 -> Iharosberény Község Önkormányzata
A3: 2015. évi költségvetés
A4: Általános- és céltartalékok (E Ft)
A7: Rovat megnevezése | B7: Rovat-szám | C7: ÖNKORMÁNYZATI ELŐIRÁNYZATOK | D7: KÖZÖS HIVATAL | E7: ÁMK | F7: MINDÖSSZESEN
C8: ='kiadások korm. funkciónként'!C10 -> 17934334 | F8: =SUM(C8:E8) -> 17934334
F9: =SUM(C9:E9) -> 0
F10: =SUM(C10:E10) -> 0
F11: =SUM(C11:E11) -> 0
A12: Általános tartalékok | B12: K512 | C12: =SUM(C8:C11) -> 17934334 | D12: =SUM(D8:D11) -> 0 | E12: =SUM(E8:E11) -> 0 | F12: =SUM(C12:E12) -> 17934334
F13: =SUM(C13:E13) -> 0
F14: =SUM(C14:E14) -> 0
F15: =SUM(C15:E15) -> 0
C16: 57035 | F16: =SUM(C16:E16) -> 57035
A17: Céltartalékok- | B17: K512 | C17: =SUM(C13:C16) -> 57035 | D17: =SUM(D13:D16) -> 0 | E17: =SUM(E13:E16) -> 0 | F17: =SUM(C17:E17) -> 57035

Sheet stabilitási 1
A1: 11.sz. melléklet a ……/2015. (……..) rendelethez
A2: =Mellékletek!A1 -> Iharosberény Község Önkormányzata
A3: 2015. évi költségvetés
A4: a költségvetési év azon fejlesztési céljai, amelyek megvalósításához a Stabilitási tv. 3. § (1) bekezdése szerinti adósságot keletkeztető ügylet megkötése válik vagy válhat szükségessé (E Ft)
A6: ÖNKORMÁNYZATI ELŐIRÁNYZATOK
A7: Rovat megnevezése | B7: Rovat-szám | C7: kiadási eredeti előirányzat | D7: ebből kiadási előirányzat fedezete-saját forrás | E7: ebből kiadási előirányzat fedezete-adósságot keletkeztető ügylet | F7: adósságot keletkeztető ügylet fajtája | G7: adósságot keletkeztető ügylet rovatszáma (B8) | H7: adósságot keletkeztető ügylet kezdő időpontja | I7: adósságot keletkeztető ügylet lejárati időpontja | J7: adósságot keletkeztető ügylet- várható visszatérítendő összege (kamattal) leáratig mindösszesen
C8: ='kiadások korm. funkciónként'!C10 -> 17934334 | F8: hitel/lízing/kölcsön/értékpapír
A12: Immateriális javak beszerzése, létesítése | B12: K61
A17: Ingatlanok beszerzése, létesítése | B17: K62
A22: Informatikai eszközök beszerzése, létesítése | B22: K63 | C22: ='kiadások működés felhalmozás'!G79 -> 200000
A25: Egyéb tárgyi eszközök beszerzése, létesítése | B25: K64
A28: Részesedések beszerzése | B28: K65
A31: Meglévő részesedések növeléséhez kapcsolódó kiadások | B31: K66
A32: Beruházási célú előzetesen felszámított általános forgalmi adó | B32: K67
A33: Beruházások | B33: K6 | C33: =C12+C17+C22+C25+C28+C31+C32 -> 200000 | D33: =D12+D17+D22+D25+D28+D31+D32 -> 0
A38: Ingatlanok felújítása | B38: K71
A43: Informatikai eszközök felújítása | B43: K72
A48: Egyéb tárgyi eszközök felújítása | B48: K73
A49: Felújítási célú előzetesen felszámított általános forgalmi adó | B49: K74
A50: Felújítások | B50: K7 | C50: =C38+C43+C48+C49 -> 0 | D50: =D38+D43+D48+D49 -> 0

Sheet stabilitási 2
A1: 12.sz. melléklet a ……/2015. (……..) rendelethez
A2: =Mellékletek!A1 -> Iharosberény Község Önkormányzata
A3: 2015. évi költségvetés
A4: A Stabilitási tv. 3. § (1) bekezdése szerinti adósságot keletkeztető ügyletekből és kezességvállalásokból fennálló kötelezettségek az adósságot keletkeztető ügyletek futamidejének végéig, illetve a kezesség érvényesíthetőségéig, és a Stabilitási tv. 45. § (1) bekezdés a) pontja felhatalmazása alapján kiadott jogszabályban meghatározottak szerinti saját bevételek (E Ft)
A6: ÖNKORMÁNYZATI ELŐIRÁNYZATOK
A7: Rovat megnevezése | B7: Rovat-szám | C7: adósságot keletkeztető ügylet kezdő időpontja | D7: adósságot keletkeztető ügylet lejárati időpontja | E7: adósságot keletkeztető ügyletekből és kezességvállalásokból fennálló kötelezettségek | F7: saját bevételek 2014. | G7: saját bevételek 2015. | H7: saját bevételek 2016. | I7: saját bevételek 2017.
A8: Hosszú lejáratú hitelek, kölcsönök felvétele | B8: B8111 | C8: ='kiadások korm. funkciónként'!C10 -> 17934334
A9: ebből: pénzügyi vállalkozás | B9: B8111
A10: Likviditási célú hitelek, kölcsönök felvétele pénzügyi vállalkozástól | B10: B8112
A11: Rövid lejáratú hitelek, kölcsönök felvétele | B11: B8113
A12: ebből: pénzügyi vállalkozás | B12: B8113
A13: Hitel-, kölcsönfelvétel államháztartáson kívülről | B13: B811
A14: Forgatási célú belföldi értékpapírok beváltása, értékesítése | B14: B8121
A15: ebből: befektetési jegyek | B15: B8121
A16: Forgatási célú belföldi értékpapírok kibocsátása | B16: B8122
A17: Befektetési célú belföldi értékpapírok beváltása, értékesítése | B17: B8123
A18: ebből: kárpótlási jegyek | B18: B8123
A19: Befektetési célú belföldi értékpapírok kibocsátása | B19: B8124
A20: Belföldi értékpapírok bevételei | B20: B812
... A30: Rovat megnevezése | B30: Rovat-szám
A31: 353/2011. (XII. 30.) Korm. Rendelet értelmében az önkormányzat saját bevételének minősül
A32: 1. a helyi adóból származó bevétel,
A33: 2. az önkormányzati vagyon és az önkormányzatot megillető vagyoni értékű jog értékesítéséből és hasznosításából származó bevétel,
A34: 3. az osztalék, a koncessziós díj és a hozambevétel,
A35: 4. a tárgyi eszköz és az immateriális jószág, részvény, részesedés, vállalat értékesítéséből vagy privatizációból származó bevétel,
A36: 5. bírság-, pótlék- és díjbevétel, valamint
A37: 6. a kezességvállalással kapcsolatos megtérülés.
A38: ÖSSZESEN:
A50: a)4 hitel, kölcsön felvétele, átvállalása a folyósítás, átvállalás napjától a végtörlesztés napjáig, és annak aktuális tőketartozása,
A51: b) a számvitelről szóló törvény (a továbbiakban: Szt.) szerinti hitelviszonyt megtestesítő értékpapír forgalomba hozatala a forgalomba hozatal napjától a beváltás napjáig, kamatozó értékpapír esetén annak névértéke, egyéb értékpapír esetén annak vételára,
A52: c) váltó kibocsátása a kibocsátás napjától a beváltás napjáig, és annak a váltóval kiváltott kötelezettséggel megegyező, kamatot nem tartalmazó értéke,
A53: d) az Szt. szerint pénzügyi lízing lízingbevevői félként történő megkötése a lízing futamideje alatt, és a lízingszerződésben kikötött tőkerész hátralévő összege,
... A75: 6. a kezességvállalással kapcsolatos megtérülés.

Sheet EU projektek
A1: 13.sz. melléklet a ……/2015.(…….) rendelethez
A2: =Mellékletek!A1 -> Iharosberény Község Önkormányzata
A3: 2015. évi költségvetés
A4: Az európai uniós forrásból finanszírozott támogatással megvalósuló programok, projektek kiadásai, bevételei, valamint a helyi önkormányzat ilyen projektekhez történő hozzájárulásai (E Ft)
A6: ÖNKORMÁNYZATI ELŐIRÁNYZATOK
A7: Projekt megnevezése | B7: Eredeti ei.
A8: K1. Személyi juttatások | C8: ='kiadások korm. funkciónként'!C10 -> 17934334
A9: K2. Munkaadókat terhelő járulékok és szociális hozzájárulási adó
A10: K3. Dologi kiadások
A11: K4. Ellátottak pénzbeli juttatásai
A12: K5. Egyéb működési célú kiadások
A13: K6. Beruházási kiadások
A14: K7. Felújítások
A15: K8. Egyéb felhalmozási célú kiadások
A16: K1-K8. Költségvetési kiadások ÖSSZESEN | B16: =SUM(B8:B15) -> 0
A17: B16 Működési célú támogatások fejezeti kezelésű előirányzatok EU-s programokra és azok hazai társfinanszírozásától
A18: B25 Felhalmozási célú támogatásokfejezeti kezelésű előirányzatok EU-s programokra és azok hazai társfinanszírozásától
A19: B63 Működési célú átvett pénzeszközök Európai Uniótól
A20: B73 Felhalmozási célú átvett pénzeszközök Európai Uniótól
A21: B1-7 A helyi önkormányzat projekthez történő hozzájárulása
A22: B1-B7 Költségvetési bevételek
A23: B8 Finanszírozási bevételek- önkormányzat projekthez történő hozzájárulása
A24: BEVÉTELEK ÖSSZESEN | B24: =SUM(B22:B23) -> 0
A27: Projekt megnevezése | B27: Eredeti ei.
A28: K1. Személyi juttatások
A29: K2. Munkaadókat terhelő járulékok és szociális hozzájárulási adó
A30: K3. Dologi kiadások
A31: K4. Ellátottak pénzbeli juttatásai
A32: K5. Egyéb működési célú kiadások
A33: K6. Beruházási kiadások
A34: K7. Felújítások
A35: K8. Egyéb felhalmozási célú kiadások
A36: K1-K8. Költségvetési kiadások ÖSSZESEN
A37: B16 Működési célú támogatások fejezeti kezelésű előirányzatok EU-s programokra és azok hazai társfinanszírozásától
A38: B25 Felhalmozási célú támogatásokfejezeti kezelésű előirányzatok EU-s programokra és azok hazai társfinanszírozásától
A39: B63 Működési célú átvett pénzeszközök Európai Uniótól
... A44: BEVÉTELEK ÖSSZESEN

Sheet hitelek
A1: 13.sz. melléklet a ……/2015.(…….) rendelethez
A2: =Mellékletek!A1 -> Iharosberény Község Önkormányzata
A3: 2015. évi költségvetés
A4: A költségvetési hiány külső finanszírozására vagy a költségvetési többlet felhasználására szolgáló finanszírozási bevételek és kiadások működési és felhalmozási cél szerinti tagolásban (E Ft)
A6: ÖNKORMÁNYZATI ELŐIRÁNYZATOK
A7: Megnevezés | B7: Rovat-szám | C7: eredeti ei. Működési célú | D7: eredeti ei. Felhalmozási célú
A8: Hosszú lejáratú hitelek, kölcsönök törlesztése | B8: K9111 | C8: ='kiadások korm. funkciónként'!C10 -> 17934334
A9: ebből: pénzügyi vállalkozás | B9: K9111
A10: ebből: fedezeti ügyletek nettó kiadásai | B10: K9111
A11: Likviditási célú hitelek, kölcsönök törlesztése pénzügyi vállalkozásnak | B11: K9112
A12: Rövid lejáratú hitelek, kölcsönök törlesztése | B12: K9113
A13: ebből: pénzügyi vállalkozás | B13: K9113
A14: ebből: fedezeti ügyletek nettó kiadásai | B14: K9113
A15: Hitel-, kölcsöntörlesztés államháztartáson kívülre | B15: K911
A16: Forgatási célú belföldi értékpapírok vásárlása | B16: K9121
A17: ebből: befektetési jegyek | B17: K9121
A18: ebből: kárpótlási jegyek | B18: K9121
A19: Forgatási célú belföldi értékpapírok beváltása | B19: K9122
A20: ebből: fedezeti ügyletek nettó kiadásai | B20: K9122
... A41: Külföldi finanszírozás kiadásai | B41: K92
A44: Megnevezés | B44: Rovat-szám | C44: eredeti ei. Működési célú | D44: eredeti ei. Felhalmozáci célú
A45: Hosszú lejáratú hitelek, kölcsönök felvétele | B45: B8111
A46: ebből: pénzügyi vállalkozás | B46: B8111
A47: Likviditási célú hitelek, kölcsönök felvétele pénzügyi vállalkozástól | B47: B8112
A48: Rövid lejáratú hitelek, kölcsönök felvétele | B48: B8113
A49: ebből: pénzügyi vállalkozás | B49: B8113
A50: Hitel-, kölcsönfelvétel államháztartáson kívülről | B50: B811
A51: Forgatási célú belföldi értékpapírok beváltása, értékesítése | B51: B8121
A52: ebből: befektetési jegyek | B52: B8121
A53: Forgatási célú belföldi értékpapírok kibocsátása | B53: B8122
A54: Befektetési célú belföldi értékpapírok beváltása, értékesítése | B54: B8123
A55: ebből: kárpótlási jegyek | B55: B8123
A56: Befektetési célú belföldi értékpapírok kibocsátása | B56: B8124
... A71: Külföldi finanszírozás bevételei | B71: B82

Sheet finanszírozás
A1: 15.sz. melléklet a …../2015.(…….) rendelethez
A2: =Mellékletek!A1 -> Iharosberény Község Önkormányzata
A3: 2015. évi költségvetés
A4: Irányító szervi támogatások folyósítása (E Ft)
A6: ÖNKORMÁNYZATI ELŐIRÁNYZATOK
A7: Megnevezés | B7: Rovat-szám | C7: Közös Hivatal | D7: Óvoda | E7: ÖSSZESEN
A8: Központi, irányító szervi támogatások folyósítása működési célra | B8: K915 | C8: ='kiadások korm. funkciónként'!C10 -> 17934334 | D8: 29048 | E8: =SUM(C8:D8) -> 17963382
A9: Központi, irányító szervi támogatások folyósítása felhalmozási célra | B9: K915
A10: ÖSSZESEN:

Sheet EI FELHASZN TERV
A1: 16.sz. melléklet a …../2015.(…..) rendelethez
A2: =Mellékletek!A1 -> Iharosberény Község Önkormányzata
A3: 2015. évi költségvetés
A4: Előirányzat felhasználási terv (E Ft)
A6: ÖNKORMÁNYZATI ELŐIRÁNYZATOK
A7: Rovat megnevezése | B7: Rovat-szám | C7: JANUÁR | D7: FEBRUÁR | E7: MÁRCIUS | F7: ÁPRILIS | G7: MÁJUS | H7: JÚNIUS | I7: JÚLIUS | J7: AUGUSZTUS | K7: SZEPTEMBER | L7: OKTÓBER | M7: NOVEMBER | N7: DECEMBER | O7: MINDÖSSZESEN
A8: Törvény szerinti illetmények, munkabérek | B8: K1101 | C8: ='kiadások korm. funkciónként'!C10 -> 17934334
A9: Normatív jutalmak | B9: K1102
A10: Céljuttatás, projektprémium | B10: K1103
A11: Készenléti, ügyeleti, helyettesítési díj, túlóra, túlszolgálat | B11: K1104
A12: Végkielégítés | B12: K1105
A13: Jubileumi jutalom | B13: K1106
A14: Béren kívüli juttatások | B14: K1107
A15: Ruházati költségtérítés | B15: K1108
A16: Közlekedési költségtérítés | B16: K1109
A17: Egyéb költségtérítések | B17: K1110
A18: Lakhatási támogatások | B18: K1111
A19: Szociális támogatások | B19: K1112
A20: Foglalkoztatottak egyéb személyi juttatásai | B20: K1113
... A75: Egyéb működési célú kiadások | B75: K5
A76: Működési költségvetés előirányzat csoport
A77: Immateriális javak beszerzése, létesítése | B77: K61
A78: Ingatlanok beszerzése, létesítése | B78: K62
A79: Informatikai eszközök beszerzése, létesítése | B79: K63
A80: Egyéb tárgyi eszközök beszerzése, létesítése | B80: K64
A81: Részesedések beszerzése | B81: K65
A82: Meglévő részesedések növeléséhez kapcsolódó kiadások | B82: K66
A83: Beruházási célú előzetesen felszámított általános forgalmi adó | B83: K67
A84: Beruházások | B84: K6
A85: Ingatlanok felújítása | B85: K71
A86: Informatikai eszközök felújítása | B86: K72
A87: Egyéb tárgyi eszközök felújítása | B87: K73
A88: Felújítási célú előzetesen felszámított általános forgalmi adó | B88: K74
... A98: Egyéb felhalmozási célú kiadások | B98: K8
A99: Felhalmozási költségvetés előirányzat csoport
A100: Költségvetési kiadások | B100: K1-K8
A101: Hosszú lejáratú hitelek, kölcsönök törlesztése | B101: K9111
A102: Likviditási célú hitelek, kölcsönök törlesztése pénzügyi vállalkozásnak | B102: K9112
A103: Rövid lejáratú hitelek, kölcsönök törlesztése | B103: K9113
A104: Hitel-, kölcsöntörlesztés államháztartáson kívülre | B104: K911
A105: Forgatási célú belföldi értékpapírok vásárlása | B105: K9121
A106: Forgatási célú belföldi értékpapírok beváltása | B106: K9122
A107: Befektetési célú belföldi értékpapírok vásárlása | B107: K9123
A108: Befektetési célú belföldi értékpapírok beváltása | B108: K9124
A109: Belföldi értékpapírok kiadásai | B109: K912
A110: Államháztartáson belüli megelőlegezések folyósítása | B110: K913
A111: Államháztartáson belüli megelőlegezések visszafizetése | B111: K914
... A123: Finanszírozási kiadások | B123: K9
A124: KIADÁSOK ÖSSZESEN (K1-9)
A125: Rovat megnevezése | B125: Rovat száma
A126: Helyi önkormányzatok működésének általános támogatása | B126: B111
A127: Települési önkormányzatok egyes köznevelési feladatainak támogatása | B127: B112
A128: Települési önkormányzatok szociális és gyermekjóléti feladatainak támogatása | B128: B113
A129: Települési önkormányzatok kulturális feladatainak támogatása | B129: B114
A130: Működési célú központosított előirányzatok | B130: B115
A131: Helyi önkormányzatok kiegészítő támogatásai | B131: B116
A132: Önkormányzatok működési támogatásai | B132: B11
A133: Elvonások és befizetések bevételei | B133: B12
A134: Működési célú garancia- és kezességvállalásból származó megtérülések államháztartáson belülről | B134: B13
A135: Működési célú visszatérítendő támogatások, kölcsönök visszatérülése államháztartáson belülről | B135: B14
A136: Működési célú visszatérítendő támogatások, kölcsönök igénybevétele államháztartáson belülről | B136: B15
... A167: Működési célú átvett pénzeszközök | B167: B6
A168: Működési költségvetés előirányzat csoport
A169: Felhalmozási célú önkormányzati támogatások | B169: B21
A170: Felhalmozási célú garancia- és kezességvállalásból származó megtérülések államháztartáson belülről | B170: B22
A171: Felhalmozási célú visszatérítendő támogatások, kölcsönök visszatérülése államháztartáson belülről | B171: B23
A172: Felhalmozási célú visszatérítendő támogatások, kölcsönök igénybevétele államháztartáson belülről | B172: B24
A173: Egyéb felhalmozási célú támogatások bevételei államháztartáson belülről | B173: B25
A174: Felhalmozási célú támogatások államháztartáson belülről | B174: B2
A175: Immateriális javak értékesítése | B175: B51
A176: Ingatlanok értékesítése | B176: B52
A177: Egyéb tárgyi eszközök értékesítése | B177: B53
A178: Részesedések értékesítése | B178: B54
A179: Részesedések megszűnéséhez kapcsolódó bevételek | B179: B55
A180: Felhalmozási bevételek | B180: B5
... A184: Felhalmozási célú átvett pénzeszközök | B184: B7
A185: Felhalmozási költségvetés előirányzat csoport
A186: Költségvetési bevételek | B186: B1-B7
A187: költségvetési egyenleg MŰKÖDÉSI
A188: költségvetési egyenleg FELHALMOZÁSI
A189: Hosszú lejáratú hitelek, kölcsönök felvétele | B189: B8111
A190: Likviditási célú hitelek, kölcsönök felvétele pénzügyi vállalkozástól | B190: B8112
A191: Rövid lejáratú hitelek, kölcsönök felvétele | B191: B8113
A192: Hitel-, kölcsönfelvétel államháztartáson kívülről | B192: B811
A193: Forgatási célú belföldi értékpapírok beváltása, értékesítése | B193: B8121
A194: Forgatási célú belföldi értékpapírok kibocsátása | B194: B8122
A195: Befektetési célú belföldi értékpapírok beváltása, értékesítése | B195: B8123
A196: Befektetési célú belföldi értékpapírok kibocsátása | B196: B8124
A197: Belföldi értékpapírok bevételei | B197: B812
A198: Előző év költségvetési maradványának igénybevétele MŰKÖDÉSRE | B198: B8131
A199: Előző év költségvetési maradványának igénybevétele FELHALMOZÁSRA | B199: B8131
A200: Előző év vállalkozási maradványának igénybevétele MŰKÖDÉSRE | B200: B8132
... A215: Finanszírozási bevételek | B215: B8
A216: BEVÉTELEK ÖSSZESEN (B1-8)

Sheet TÖBB ÉVES
A1: 17.sz. melléklet a …../2015.(……..) rendelethez
A2: =Mellékletek!A1 -> Iharosberény Község Önkormányzata
A3: 2015. évi költségvetés
A4: A többéves kihatással járó döntések számszerűsítése évenkénti bontásban és összesítve (E Ft)
A6: ÖNKORMÁNYZATI ELŐIRÁNYZATOK
A7: Kötelezettségek megnevezése | B7: Köt.vállalás éve | C7: Tárgyév előtti kifizetés | D7: Tárgyévi kifizetés (2015. évi ei.) | E7: 2016. évi kifizetés | F7: 2017. évi kifizetés | G7: 2018. évi kifizetés | H7: 2019. év utáni kifizetések | I7: Összesen
C8: ='kiadások korm. funkciónként'!C10 -> 17934334
A12: Működési célú hiteltörlesztések összesen:
I13: =SUM(C13:H13) -> 0
A17: Felhalmozási célú hiteltörlesztések | C17: =SUM(C13:C16) -> 0 | D17: =SUM(D13:D16) -> 0 | E17: =SUM(E13:E16) -> 0 | F17: =SUM(F13:F16) -> 0 | G17: =SUM(G13:G16) -> 0 | H17: =SUM(H13:H16) -> 0 | I17: =SUM(I13:I16) -> 0
A22: Beruházások összesen:
A27: Felújítások összesen:
A32: MINDÖSSZESEN: | C32: =C12+C17+C22+C27 -> 0 | D32: =D12+D17+D22+D27 -> 0 | E32: =E12+E17+E22+E27 -> 0 | F32: =F12+F17+F22+F27 -> 0 | G32: =G12+G17+G22+G27 -> 0 | H32: =H12+H17+H22+H27 -> 0 | I32: =I12+I17+I22+I27 -> 0

Sheet KÖZVETETT
A1: 18.sz. melléklet a …../2015.(…..) rendelethez
A2: =Mellékletek!A1 -> Iharosberény Község Önkormányzata
A3: 2015. évi költségvetés
A4: A közvetett támogatások (E Ft)
A6: ÖNKORMÁNYZATI ELŐIRÁNYZATOK
A7: Rovat megnevezése | B7: Rovat-szám | C7: tervezett elvárt bevétel | D7: közvetett támogatás | E7: várható bevétel
C8: ='kiadások korm. funkciónként'!C10 -> 17934334
A12: az ellátottak térítési díjának, kártérítésének méltányossági alapon történő elengedésének összege | B12: B405
A17: a lakosság részére lakásépítéshez, lakásfelújításhoz nyújtott kölcsönök elengedésének összege | B17: B72
A18: építményadó | B18: B34
A19: épület után fizetett idegenforgalmi adó | B19: B34
A20: magánszemélyek kommunális adója | B20: B34
A21: telekadó | B21: B34
A22: Gépjárműadók | B22: B354
A23: Értékesítési és forgalmi adók | B23: B351
A25: a helyi adónál, gépjárműadónál biztosított kedvezmény, mentesség összege adónemenként | B25: B3, B7
B26: B402
B27: B5
A30: a helyiségek, eszközök hasznosításából származó bevételből nyújtott kedvezmény, mentesség összege | B30: B4, B5
A35: az egyéb nyújtott kedvezmény vagy kölcsön elengedésének összege

Sheet GÖRDÜLŐ
A1: 19.sz. melléklet a …../2015.(……) rendelethez
A2: =Mellékletek!A1 -> Iharosberény Község Önkormányzata
A3: 2015. évi költségvetés
A4: AZ Áht.29/A. § szerinti tervszámoknak megfelelően a költségvetési évet követő három év tervezett előirányzatainak keretszámai főbb csoportokban, és a 29/A. § szerinti tervszámoktól történő esetleges eltérés indokai
A6: Áht. 29/A. § A helyi önkormányzat, a nemzetiségi önkormányzat és a társulás évente, legkésőbb a költségvetési rendelet, határozat elfogadásáig határozatban állapítja meg
A7: a) a Stabilitási tv. 45. § (1) bekezdés a) pontjában kapott felhatalmazás alapján kiadott jogszabályban meghatározottak szerinti saját bevételeinek és
A8: b) a Stabilitási tv. 3. § (1) bekezdése szerinti adósságot keletkeztető ügyleteiből eredő fizetési kötelezettségeinek | C8: ='kiadások korm. funkciónként'!C10 -> 17934334
A9: a költségvetési évet követő három évre várható összegét.
A11: 353/2011. (XII. 30.) Korm. rendelet
A12: 2. § (1) Az önkormányzat saját bevételének minősül
A13: 1. a helyi adóból származó bevétel,
A14: 2. az önkormányzati vagyon és az önkormányzatot megillető vagyoni értékű jog értékesítéséből és hasznosításából származó bevétel,
A15: 3. az osztalék, a koncessziós díj és a hozambevétel,
A16: 4. a tárgyi eszköz és az immateriális jószág, részvény, részesedés, vállalat értékesítéséből vagy privatizációból származó bevétel,
A17: 5. bírság-, pótlék- és díjbevétel, valamint
A18: 6. a kezességvállalással kapcsolatos megtérülés.
A20: ÖNKORMÁNYZAT ÉS KÖLTSÉGVETÉSI SZERVEI ELŐIRÁNYZATA MINDÖSSZESEN
A21: Rovat megnevezése | B21: Rovat-szám | C21: adósságot keletkeztető ügyletekből és kezességvállalásokból fennálló kötelezettségek 2015. | D21: adósságot keletkeztető ügyletekből és kezességvállalásokból fennálló kötelezettségek 2016. | E21: adósságot keletkeztető ügyletekből és kezességvállalásokból fennálló kötelezettségek 2017. | F21: adósságot keletkeztető ügyletekből és kezességvállalásokból fennálló kötelezettségek 2018. | G21: saját bevételek 2015. | H21: saját bevételek 2016. | I21: saját bevételek 2017. | J21: saját bevételek 2018.
A22: Hosszú lejáratú hitelek, kölcsönök felvétele | B22: B8111
A23: ebből: pénzügyi vállalkozás | B23: B8111
A24: Likviditási célú hitelek, kölcsönök felvétele pénzügyi vállalkozástól | B24: B8112
A25: Rövid lejáratú hitelek, kölcsönök felvétele | B25: B8113
A26: ebből: pénzügyi vállalkozás | B26: B8113
A27: Hitel-, kölcsönfelvétel államháztartáson kívülről | B27: B811
A28: Forgatási célú belföldi értékpapírok beváltása, értékesítése | B28: B8121
A29: ebből: befektetési jegyek | B29: B8121
A30: Forgatási célú belföldi értékpapírok kibocsátása | B30: B8122
A31: Befektetési célú belföldi értékpapírok beváltása, értékesítése | B31: B8123
A32: ebből: kárpótlási jegyek | B32: B8123
A33: Befektetési célú belföldi értékpapírok kibocsátása | B33: B8124
... A42: Külföldi finanszírozás bevételei | B42: B82
A46: Rovat megnevezése | B46: Rovat-szám | C46: saját bevételek 2015. | D46: saját bevételek 2016. | E46: saját bevételek 2017. | F46: saját bevételek 2018.
A47: 353/2011. (XII. 30.) Korm. Rendelet értelmében az önkormányzat saját bevételének minősül
A48: 1. a helyi adóból származó bevétel, | C48: 14800 | D48: 14500 | E48: 14500 | F48: 14500
A49: 2. az önkormányzati vagyon és az önkormányzatot megillető vagyoni értékű jog értékesítéséből és hasznosításából származó bevétel,
A50: 3. az osztalék, a koncessziós díj és a hozambevétel,
A51: 4. a tárgyi eszköz és az immateriális jószág, részvény, részesedés, vállalat értékesítéséből vagy privatizációból származó bevétel,
A52: 5. bírság-, pótlék- és díjbevétel, valamint | C52: 500 | D52: 500 | E52: 500 | F52: 500
A53: 6. a kezességvállalással kapcsolatos megtérülés.
A54: ÖSSZESEN:

Sheet átadott részl.
A1: 20.sz. melléklet a …../2016.(……) rendelethez
A2: Iharosberény Község Önkormányzata
A4: 2016. ÉVI KÖLTSÉGVETÉS
A5: Egyéb működési célú kiadások, egyéb felhalmozási célú kiadások
B6: ezer Ft-ban
A7: Megnevezés | B7: eredeti előirányzat
A8: Működési célú támogatásértékű kiadások | C8: ='kiadások korm. funkciónként'!C10 -> 17934334
A14: Működési célú támogatásértékű kiadások összesen | B14: =SUM(B9:B13) -> 0
A16: Működési célú pénzeszközátadások államháztartáson kívülre
A22: Működési célú pénzeszközátadások államháztartáson kívülre összesen | B22: =SUM(B17:B21) -> 0
A23: Egyéb működési célú kiadások összesen | B23: =B14+B22 -> 0
A25: Felhalmozási célú visszatérítendő támogatások, kölcsönök törlesztése államháztartáson belülre
A27: Egyéb felhalmozási célú kiadások összesen | B27: =SUM(B26) -> 0

Sheet bevételek korm. funkciónként
A1: 22.sz. melléklet a ……/2016.(…..) számú rendelethez
A2: =Mellékletek!A1 -> Iharosberény Község Önkormányzata
A3: 2016. évi költségvetés
A4: Bevételek kormányzati funkciók szerint (E Ft)
J5: ÖNKORMÁNYZAT
A6: ELŐIRÁNYZATOK | D6: Közös Hivatal | G6: Óvoda | H6: összevont | I6: NETTÓSÍTOTT | J6: 011130 | K6: 066020 | L6: 107051 | M6: 074031 | N6: 082091 | O6: 096015 | P6: 900020 | Q6: 018010 | R6: 041233 | S6: 018030
A7: Rovat megnevezése | B7: Rovat- szám | C7: önkormányzat | D7: 018030 | E7: 011130 | F7: HIVATAL ÖSSZESEN | G7: 18030 | J7: igazgatás | K7: községgazd. | L7: Szociális étkeztetés | M7: védőnő | N7: Közművelődés | O7: Gyermekétkezt. Köznevelési int. | P7: Feladatra nem sorolható | Q7: Elsz. a közp.ktgvetéssel | R7: Közfoglalkoztatás | S7: Támogatási célú fin.műveletek | AD7: Rovat- szám
D8: Finanszírozás | E8: Igazgatás
A9: Helyi önkormányzatok működésének általános támogatása | B9: B111 | C9: =J9+K9+L9+M9+N9+P9+Q9+R9+S9+T9+U9+V9+W9+X9+Y9+Z9+AA9+O9 -> 70983780 | H9: =SUM(C9:F9) -> 70983780 | I9: =H9 -> 70983780 | J9: 0 | K9: 0 | L9: 0 | Q9: 70983780 | AB9: =SUM(J9:AA9) -> 70983780 | AC9: =AB9-C9 -> 0 | AD9: B111
A10: Települési önkormányzatok egyes köznevelési feladatainak támogatása | B10: B112 | C10: =J10+K10+L10+M10+N10+P10+Q10+R10+S10+T10+U10+V10+W10+X10+Y10+Z10+AA10 -> 26392000 | H10: =SUM(C10:F10) -> 26392000 | I10: =H10 -> 26392000 | J10: 0 | Q10: 26392000 | AB10: =SUM(J10:AA10) -> 26392000 | AC10: =AB10-C10 -> 0 | AD10: B112
A11: Települési önkormányzatok szociális és gyermekjóléti feladatainak támogatása | B11: B113 | C11: =J11+K11+L11+M11+N11+P11+Q11+R11+S11+T11+U11+V11+W11+X11+Y11+Z11+AA11 -> 42157009 | H11: =SUM(C11:F11) -> 42157009 | I11: =H11 -> 42157009 | J11: 0 | Q11: 42157009 | S11: 0 | V11: 0 | W11: 0 | X11: 0 | AB11: =SUM(J11:AA11) -> 42157009 | AC11: =AB11-C11 -> 0 | AD11: B113
A12: Települési önkormányzatok kulturális feladatainak támogatása | B12: B114 | C12: =J12+K12+L12+M12+N12+P12+Q12+R12+S12+T12+U12+V12+W12+X12+Y12+Z12+AA12 -> 1556100 | H12: =SUM(C12:F12) -> 1556100 | I12: =H12 -> 1556100 | J12: 0 | Q12: 1556100 | AB12: =SUM(J12:AA12) -> 1556100 | AC12: =AB12-C12 -> 0 | AD12: B114
A13: Működési célú központosított előirányzatok | B13: B115 | C13: =J13+K13+L13+M13+N13+P13+Q13+R13+S13+T13+U13+V13+W13+X13+Y13+Z13+AA13 -> 0 | H13: =SUM(C13:F13) -> 0 | I13: =H13 -> 0 | AB13: =SUM(J13:AA13) -> 0 | AC13: =AB13-C13 -> 0 | AD13: B115
A14: Helyi önkormányzatok kiegészítő támogatásai | B14: B116 | C14: =J14+K14+L14+M14+N14+P14+Q14+R14+S14+T14+U14+V14+W14+X14+Y14+Z14+AA14 -> 0 | H14: =SUM(C14:F14) -> 0 | I14: =H14 -> 0 | AB14: =SUM(J14:AA14) -> 0 | AC14: =AB14-C14 -> 0 | AD14: B116
A15: Önkormányzatok működési támogatásai | B15: B11 | C15: =SUM(C9:C14) -> 141088889 | D15: =SUM(D9:D14) -> 0 | F15: =SUM(F9:F14) -> 0 | H15: =SUM(C15:F15) -> 141088889 | I15: =H15 -> 141088889 | J15: =SUM(J9:J14) -> 0 | K15: =SUM(K9:K14) -> 0 | L15: =SUM(L9:L14) -> 0 | M15: =SUM(M9:M14) -> 0 | N15: =SUM(N9:N14) -> 0 | O15: =SUM(O9:O14) -> 0 | P15: =SUM(P9:P14) -> 0 | Q15: =SUM(Q9:Q14) -> 141088889 | ... AA15: =SUM(AA9:AA14) -> 0 | AB15: =SUM(J15:AA15) -> 141088889 | AC15: =AB15-C15 -> 0 | AD15: B11
A16: Elvonások és befizetések bevételei | B16: B12 | C16: =J16+K16+L16+M16+N16++O16+P16+Q16+R16+S16+T16+U16+V16+W16+X16+Y16+Z16+AA16 -> 0 | H16: =SUM(C16:F16) -> 0 | I16: =H16 -> 0 | AB16: =SUM(J16:AA16) -> 0 | AC16: =AB16-C16 -> 0 | AD16: B12
A17: Működési célú garancia- és kezességvállalásból származó megtérülések államháztartáson belülről | B17: B13 | C17: =J17+K17+L17+M17+N17++O17+P17+Q17+R17+S17+T17+U17+V17+W17+X17+Y17+Z17+AA17 -> 0 | H17: =SUM(C17:F17) -> 0 | I17: =H17 -> 0 | AB17: =SUM(J17:AA17) -> 0 | AC17: =AB17-C17 -> 0 | AD17: B13
A18: Működési célú visszatérítendő támogatások, kölcsönök visszatérülése államháztartáson belülről | B18: B14 | C18: =J18+K18+L18+M18+N18++O18+P18+Q18+R18+S18+T18+U18+V18+W18+X18+Y18+Z18+AA18 -> 0 | H18: =SUM(C18:F18) -> 0 | I18: =H18 -> 0 | AB18: =SUM(J18:AA18) -> 0 | AC18: =AB18-C18 -> 0 | AD18: B14
A19: Működési célú visszatérítendő támogatások, kölcsönök igénybevétele államháztartáson belülről | B19: B15 | C19: =J19+K19+L19+M19+N19++O19+P19+Q19+R19+S19+T19+U19+V19+W19+X19+Y19+Z19+AA19 -> 0 | H19: =SUM(C19:F19) -> 0 | I19: =H19 -> 0 | AB19: =SUM(J19:AA19) -> 0 | AC19: =AB19-C19 -> 0 | AD19: B15
A20: Egyéb működési célú támogatások bevételei államháztartáson belülről | B20: B16 | C20: =J20+K20+L20+M20+N20++O20+P20+Q20+R20+S20+T20+U20+V20+W20+X20+Y20+Z20+AA20 -> 40820682 | F20: 0 | H20: =SUM(C20:F20) -> 40820682 | I20: =H20 -> 40820682 | J20: 16631188 | L20: 0 | M20: 6992000 | P20: 0 | R20: 17197494 | Y20: 0 | Z20: 0 | AA20: 0 | AB20: =SUM(J20:AA20) -> 40820682 | AC20: =AB20-C20 -> 0 | AD20: B16
A21: Működési célú támogatások államháztartáson belülről | B21: B1 | C21: =C15+SUM(C16:C20) -> 181909571 | D21: =D15+SUM(D16:D20) -> 0 | F21: =F15+SUM(F16:F20) -> 0 | H21: =SUM(C21:F21) -> 181909571 | I21: =H21 -> 181909571 | J21: =J15+SUM(J16:J20) -> 16631188 | K21: =K15+SUM(K16:K20) -> 0 | L21: =L15+SUM(L16:L20) -> 0 | M21: =M15+SUM(M16:M20) -> 6992000 | N21: =N15+SUM(N16:N20) -> 0 | O21: =O15+SUM(O16:O20) -> 0 | P21: =P15+SUM(P16:P20) -> 0 | Q21: =Q15+SUM(Q16:Q20) -> 141088889 | ... AA21: =AA15+SUM(AA16:AA20) -> 0 | AB21: =SUM(J21:AA21) -> 181909571 | AC21: =AB21-C21 -> 0 | AD21: B1
A22: Magánszemélyek jövedelemadói | B22: B311 | C22: =J22+K22+L22+M22+N22+O22+P22+R22+S22+T22+U22+V22+W22+X22+Y22+Z22+AA22 -> 0 | H22: =SUM(C22:F22) -> 0 | I22: =H22 -> 0 | AB22: =SUM(J22:AA22) -> 0 | AC22: =AB22-C22 -> 0 | AD22: B311
A23: Társaságok jövedelemadói | B23: B312 | C23: =J23+K23+L23+M23+N23+O23+P23+R23+S23+T23+U23+V23+W23+X23+Y23+Z23+AA23 -> 0 | H23: =SUM(C23:F23) -> 0 | I23: =H23 -> 0 | AB23: =SUM(J23:AA23) -> 0 | AC23: =AB23-C23 -> 0 | AD23: B312
A24: Jövedelemadók | B24: B31 | C24: =SUM(C22:C23) -> 0 | D24: =SUM(D22:D23) -> 0 | F24: =SUM(F22:F23) -> 0 | H24: =SUM(C24:F24) -> 0 | I24: =H24 -> 0 | J24: =SUM(J22:J23) -> 0 | AB24: =SUM(J24:AA24) -> 0 | AC24: =AB24-C24 -> 0 | AD24: B31
A25: Szociális hozzájárulási adó és járulékok | B25: B32 | C25: =J25+K25+L25+M25+N25+O25+P25+Q25+R25+S25+T25+U25+V25+W25+X25+Y25+Z25+AA25 -> 0 | H25: =SUM(C25:F25) -> 0 | I25: =H25 -> 0 | AB25: =SUM(J25:AA25) -> 0 | AC25: =AB25-C25 -> 0 | AD25: B32
A26: Bérhez és foglalkoztatáshoz kapcsolódó adók | B26: B33 | C26: =J26+K26+L26+M26+N26+O26+P26+Q26+R26+S26+T26+U26+V26+W26+X26+Y26+Z26+AA26 -> 0 | H26: =SUM(C26:F26) -> 0 | I26: =H26 -> 0 | AB26: =SUM(J26:AA26) -> 0 | AC26: =AB26-C26 -> 0 | AD26: B33
A27: Vagyoni tipusú adók | B27: B34 | C27: =J27+K27+L27+M27+N27+O27+P27+Q27+R27+S27+T27+U27+V27+W27+X27+Y27+Z27+AA27 -> 9500000 | H27: =SUM(C27:F27) -> 9500000 | I27: =H27 -> 9500000 | J27: 0 | P27: 9500000 | Y27: 0 | AB27: =SUM(J27:AA27) -> 9500000 | AC27: =AB27-C27 -> 0 | AD27: B34
A28: Értékesítési és forgalmi adók | B28: B351 | C28: =J28+K28+L28+M28+N28+O28+P28+Q28+R28+S28+T28+U28+V28+W28+X28+Y28+Z28+AA28 -> 17000000 | H28: =SUM(C28:F28) -> 17000000 | I28: =H28 -> 17000000 | J28: 0 | P28: 17000000 | Y28: 0 | AB28: =SUM(J28:AA28) -> 17000000 | AC28: =AB28-C28 -> 0 | AD28: B351
A29: Fogyasztási adók | B29: B352 | C29: =J29+K29+L29+M29+N29+O29+P29+Q29+R29+S29+T29+U29+V29+W29+X29+Y29+Z29+AA29 -> 0 | H29: =SUM(C29:F29) -> 0 | I29: =H29 -> 0 | AB29: =SUM(J29:AA29) -> 0 | AC29: =AB29-C29 -> 0 | AD29: B352
A30: Pénzügyi monopóliumok nyereségét terhelő adók | B30: B353 | C30: =J30+K30+L30+M30+N30+O30+P30+Q30+R30+S30+T30+U30+V30+W30+X30+Y30+Z30+AA30 -> 0 | H30: =SUM(C30:F30) -> 0 | I30: =H30 -> 0 | AB30: =SUM(J30:AA30) -> 0 | AC30: =AB30-C30 -> 0 | AD30: B353
A31: Gépjárműadók | B31: B354 | C31: =J31+K31+L31+M31+N31+O31+P31+Q31+R31+S31+T31+U31+V31+W31+X31+Y31+Z31+AA31 -> 2100000 | H31: =SUM(C31:F31) -> 2100000 | I31: =H31 -> 2100000 | J31: 0 | P31: 2100000 | Y31: 0 | AB31: =SUM(J31:AA31) -> 2100000 | AC31: =AB31-C31 -> 0 | AD31: B354
A32: Egyéb áruhasználati és szolgáltatási adók | B32: B355 | C32: =J32+K32+L32+M32+N32+O32+P32+Q32+R32+S32+T32+U32+V32+W32+X32+Y32+Z32+AA32 -> 610000 | H32: =SUM(C32:F32) -> 610000 | I32: =H32 -> 610000 | P32: 610000 | Y32: 0 | AB32: =SUM(J32:AA32) -> 610000 | AC32: =AB32-C32 -> 0 | AD32: B355
A33: Termékek és szolgáltatások adói | B33: B35 | C33: =SUM(C28:C32) -> 19710000 | D33: =SUM(D28:D32) -> 0 | F33: =SUM(F28:F32) -> 0 | H33: =SUM(C33:F33) -> 19710000 | I33: =H33 -> 19710000 | J33: =SUM(J28:J32) -> 0 | K33: =SUM(K28:K32) -> 0 | L33: =SUM(L28:L32) -> 0 | M33: =SUM(M28:M32) -> 0 | N33: =SUM(N28:N32) -> 0 | O33: =SUM(O28:O32) -> 0 | P33: =SUM(P28:P32) -> 19710000 | Q33: =SUM(Q28:Q32) -> 0 | ... AA33: =SUM(AA28:AA32) -> 0 | AB33: =SUM(J33:AA33) -> 19710000 | AC33: =AB33-C33 -> 0 | AD33: B35
A34: Egyéb közhatalmi bevételek | B34: B36 | C34: =J34+K34+L34+M34+N34+O34+P34+Q34+R34+S34+T34+U34+V34+W34+X34+Y34+Z34+AA34 -> 760000 | H34: =SUM(C34:F34) -> 760000 | I34: =H34 -> 760000 | P34: 760000 | Y34: 0 | AB34: =SUM(J34:AA34) -> 760000 | AC34: =AB34-C34 -> 0 | AD34: B36
A35: Közhatalmi bevételek | B35: B3 | C35: =C24+C25+C26+C27+C33+C34 -> 29970000 | D35: =D24+D25+D26+D27+D33+D34 -> 0 | F35: =F24+F25+F26+F27+F33+F34 -> 0 | H35: =SUM(C35:F35) -> 29970000 | I35: =H35 -> 29970000 | J35: =J24+J25+J26+J27+J33+J34 -> 0 | K35: =K24+K25+K26+K27+K33+K34 -> 0 | L35: =L24+L25+L26+L27+L33+L34 -> 0 | M35: =M24+M25+M26+M27+M33+M34 -> 0 | N35: =N24+N25+N26+N27+N33+N34 -> 0 | O35: =O24+O25+O26+O27+O33+O34 -> 0 | P35: =P24+P25+P26+P27+P33+P34 -> 29970000 | Q35: =Q24+Q25+Q26+Q27+Q33+Q34 -> 0 | ... AA35: =AA24+AA25+AA26+AA27+AA33+AA34 -> 0 | AB35: =SUM(J35:AA35) -> 29970000 | AC35: =AB35-C35 -> 0 | AD35: B3
A36: Áru- és készletértékesítés ellenértéke | B36: B401 | C36: =J36+K36+L36+M36+N36+O36+P36+Q36+R36+S36+T36+U36+V36+W36+X36+Y36+Z36++AA36 -> 0 | H36: =SUM(C36:F36) -> 0 | I36: =H36 -> 0 | AB36: =SUM(J36:AA36) -> 0 | AC36: =AB36-C36 -> 0 | AD36: B401
A37: Szolgáltatások ellenértéke | B37: B402 | C37: =J37+K37+L37+M37+N37+O37+P37+Q37+R37+S37+T37+U37+V37+W37+X37+Y37+Z37++AA37 -> 11045028 | H37: =SUM(C37:F37) -> 11045028 | I37: =H37 -> 11045028 | K37: 3408240 | L37: 6556788 | M37: 480000 | N37: 600000 | T37: 0 | U37: 0 | AB37: =SUM(J37:AA37) -> 11045028 | AC37: =AB37-C37 -> 0 | AD37: B402
A38: Közvetített szolgáltatások értéke | B38: B403 | C38: =J38+K38+L38+M38+N38+O38+P38+Q38+R38+S38+T38+U38+V38+W38+X38+Y38+Z38++AA38 -> 0 | H38: =SUM(C38:F38) -> 0 | I38: =H38 -> 0 | T38: 0 | U38: 0 | AB38: =SUM(J38:AA38) -> 0 | AC38: =AB38-C38 -> 0 | AD38: B403
A39: Tulajdonosi bevételek | B39: B404 | C39: =J39+K39+L39+M39+N39+O39+P39+Q39+R39+S39+T39+U39+V39+W39+X39+Y39+Z39++AA39 -> 8560540 | H39: =SUM(C39:F39) -> 8560540 | I39: =H39 -> 8560540 | K39: 8560540 | AB39: =SUM(J39:AA39) -> 8560540 | AC39: =AB39-C39 -> 0 | AD39: B404
A40: Ellátási díjak | B40: B405 | C40: =J40+K40+L40+M40+N40+O40+P40+Q40+R40+S40+T40+U40+V40+W40+X40+Y40+Z40++AA40 -> 272118 | H40: =SUM(C40:F40) -> 272118 | I40: =H40 -> 272118 | O40: 272118 | S40: 0 | AB40: =SUM(J40:AA40) -> 272118 | AC40: =AB40-C40 -> 0 | AD40: B405
A41: Kiszámlázott általános forgalmi adó | B41: B406 | C41: =J41+K41+L41+M41+N41+O41+P41+Q41+R41+S41+T41+U41+V41+W41+X41+Y41+Z41++AA41 -> 2894028 | H41: =SUM(C41:F41) -> 2894028 | I41: =H41 -> 2894028 | K41: 920225 | L41: 1770331 | M41: 130000 | O41: 73472 | S41: 0 | AB41: =SUM(J41:AA41) -> 2894028 | AC41: =AB41-C41 -> 0 | AD41: B406
A42: Általános forgalmi adó visszatérítése | B42: B407 | C42: =J42+K42+L42+M42+N42+O42+P42+Q42+R42+S42+T42+U42+V42+W42+X42+Y42+Z42++AA42 -> 0 | H42: =SUM(C42:F42) -> 0 | I42: =H42 -> 0 | AB42: =SUM(J42:AA42) -> 0 | AC42: =AB42-C42 -> 0 | AD42: B407
A43: Kamatbevételek | B43: B408 | C43: =J43+K43+L43+M43+N43+O43+P43+Q43+R43+S43+T43+U43+V43+W43+X43+Y43+Z43++AA43 -> 0 | F43: 0 | H43: =SUM(C43:F43) -> 0 | I43: =H43 -> 0 | AB43: =SUM(J43:AA43) -> 0 | AC43: =AB43-C43 -> 0 | AD43: B408
A44: Egyéb pénzügyi műveletek bevételei | B44: B409 | C44: =J44+K44+L44+M44+N44+O44+P44+Q44+R44+S44+T44+U44+V44+W44+X44+Y44+Z44++AA44 -> 0 | H44: =SUM(C44:F44) -> 0 | I44: =H44 -> 0 | AB44: =SUM(J44:AA44) -> 0 | AC44: =AB44-C44 -> 0 | AD44: B409
A45: Egyéb működési bevételek | B45: B410 | C45: =J45+K45+L45+M45+N45+O45+P45+Q45+R45+S45+T45+U45+V45+W45+X45+Y45+Z45++AA45 -> 0 | H45: =SUM(C45:F45) -> 0 | I45: =H45 -> 0 | AB45: =SUM(J45:AA45) -> 0 | AC45: =AB45-C45 -> 0 | AD45: B410
A46: Működési bevételek | B46: B4 | C46: =SUM(C36:C45) -> 22771714 | D46: =SUM(D36:D45) -> 0 | F46: =SUM(F36:F45) -> 0 | H46: =SUM(C46:F46) -> 22771714 | I46: =H46 -> 22771714 | J46: =SUM(J36:J45) -> 0 | K46: =SUM(K36:K45) -> 12889005 | L46: =SUM(L36:L45) -> 8327119 | M46: =SUM(M36:M45) -> 610000 | N46: =SUM(N36:N45) -> 600000 | O46: =SUM(O36:O45) -> 345590 | P46: =SUM(P36:P45) -> 0 | Q46: =SUM(Q36:Q45) -> 0 | ... AA46: =SUM(AA36:AA45) -> 0 | AB46: =SUM(J46:AA46) -> 22771714 | AC46: =AB46-C46 -> 0 | AD46: B4
A47: Működési célú garancia- és kezességvállalásból származó megtérülések államháztartáson kívülről | B47: B61 | C47: =J47+K47+L47+M47+N47++O47+P47+Q47+R47+S47+T47+U47++V47+W47+X47+Y47+Z47++AA47 -> 0 | H47: =SUM(C47:F47) -> 0 | I47: =H47 -> 0 | AB47: =SUM(J47:AA47) -> 0 | AC47: =AB47-C47 -> 0 | AD47: B61
A48: Működési célú visszatérítendő támogatások, kölcsönök visszatérülése államháztartáson kívülről | B48: B62 | C48: =J48+K48+L48+M48+N48++O48+P48+Q48+R48+S48+T48+U48++V48+W48+X48+Y48+Z48++AA48 -> 0 | H48: =SUM(C48:F48) -> 0 | I48: =H48 -> 0 | K48: 0 | AB48: =SUM(J48:AA48) -> 0 | AC48: =AB48-C48 -> 0 | AD48: B62
A49: Egyéb működési célú átvett pénzeszközök | B49: B63 | C49: =J49+K49+L49+M49+N49++O49+P49+Q49+R49+S49+T49+U49++V49+W49+X49+Y49+Z49++AA49 -> 0 | H49: =SUM(C49:F49) -> 0 | I49: =H49 -> 0 | AB49: =SUM(J49:AA49) -> 0 | AC49: =AB49-C49 -> 0 | AD49: B63
A50: Működési célú átvett pénzeszközök | B50: B6 | C50: =SUM(C47:C49) -> 0 | D50: =SUM(D47:D49) -> 0 | F50: =SUM(F47:F49) -> 0 | H50: =SUM(C50:F50) -> 0 | I50: =H50 -> 0 | J50: =SUM(J47:J49) -> 0 | K50: =SUM(K47:K49) -> 0 | L50: =SUM(L47:L49) -> 0 | M50: =SUM(M47:M49) -> 0 | N50: =SUM(N47:N49) -> 0 | O50: =SUM(O47:O49) -> 0 | P50: =SUM(P47:P49) -> 0 | Q50: =SUM(Q47:Q49) -> 0 | ... AA50: =SUM(AA47:AA49) -> 0 | AB50: =SUM(J50:AA50) -> 0 | AC50: =AB50-C50 -> 0 | AD50: B6
A51: Működési költségvetés előirányzat csoport | C51: =C21+C35+C46+C50 -> 234651285 | D51: =D21+D35+D46+D50 -> 0 | F51: =F21+F35+F46+F50 -> 0 | H51: =H21+H35+H46+H50 -> 234651285 | I51: =H51 -> 234651285 | J51: =J21+J35+J46+J50 -> 16631188 | K51: =K21+K35+K46+K50 -> 12889005 | L51: =L21+L35+L46+L50 -> 8327119 | M51: =M21+M35+M46+M50 -> 7602000 | N51: =N21+N35+N46+N50 -> 600000 | O51: =O21+O35+O46+O50 -> 345590 | P51: =P21+P35+P46+P50 -> 29970000 | Q51: =Q21+Q35+Q46+Q50 -> 141088889 | ... AA51: =AA21+AA35+AA46+AA50 -> 0 | AB51: =SUM(J51:AA51) -> 234651285 | AC51: =AB51-C51 -> 0
A52: Felhalmozási célú önkormányzati támogatások | B52: B21 | C52: =J52+K52+L52+M52+N52+O52+P52+Q52+R52+S52+T52+U52+V52+W52+X52+Y52+Z52+AA52 -> 0 | H52: =SUM(C52:F52) -> 0 | I52: =H52 -> 0 | AB52: =SUM(J52:AA52) -> 0 | AC52: =AB52-C52 -> 0 | AD52: B21
A53: Felhalmozási célú garancia- és kezességvállalásból származó megtérülések államháztartáson belülről | B53: B22 | C53: =J53+K53+L53+M53+N53+O53+P53+Q53+R53+S53+T53+U53+V53+W53+X53+Y53+Z53+AA53 -> 0 | H53: =SUM(C53:F53) -> 0 | I53: =H53 -> 0 | AB53: =SUM(J53:AA53) -> 0 | AC53: =AB53-C53 -> 0 | AD53: B22
A54: Felhalmozási célú visszatérítendő támogatások, kölcsönök visszatérülése államháztartáson belülről | B54: B23 | C54: =J54+K54+L54+M54+N54+O54+P54+Q54+R54+S54+T54+U54+V54+W54+X54+Y54+Z54+AA54 -> 0 | H54: =SUM(C54:F54) -> 0 | I54: =H54 -> 0 | AB54: =SUM(J54:AA54) -> 0 | AC54: =AB54-C54 -> 0 | AD54: B23
A55: Felhalmozási célú visszatérítendő támogatások, kölcsönök igénybevétele államháztartáson belülről | B55: B24 | C55: =J55+K55+L55+M55+N55+O55+P55+Q55+R55+S55+T55+U55+V55+W55+X55+Y55+Z55+AA55 -> 0 | H55: =SUM(C55:F55) -> 0 | I55: =H55 -> 0 | AB55: =SUM(J55:AA55) -> 0 | AC55: =AB55-C55 -> 0 | AD55: B24
A56: Egyéb felhalmozási célú támogatások bevételei államháztartáson belülről | B56: B25 | C56: =J56+K56+L56+M56+N56+O56+P56+Q56+R56+S56+T56+U56+V56+W56+X56+Y56+Z56+AA56 -> 0 | H56: =SUM(C56:F56) -> 0 | I56: =H56 -> 0 | K56: 0 | AB56: =SUM(J56:AA56) -> 0 | AC56: =AB56-C56 -> 0 | AD56: B25
A57: Felhalmozási célú támogatások államháztartáson belülről | B57: B2 | C57: =SUM(C52:C56) -> 0 | D57: =SUM(D52:D56) -> 0 | F57: =SUM(F52:F56) -> 0 | H57: =SUM(C57:F57) -> 0 | I57: =H57 -> 0 | J57: =SUM(J52:J56) -> 0 | K57: =SUM(K52:K56) -> 0 | L57: =SUM(L52:L56) -> 0 | M57: =SUM(M52:M56) -> 0 | N57: =SUM(N52:N56) -> 0 | O57: =SUM(O52:O56) -> 0 | P57: =SUM(P52:P56) -> 0 | Q57: =SUM(Q52:Q56) -> 0 | ... AA57: =SUM(AA52:AA56) -> 0 | AB57: =SUM(J57:AA57) -> 0 | AC57: =AB57-C57 -> 0 | AD57: B2
A58: Immateriális javak értékesítése | B58: B51 | C58: =J58+K58+L58+M58+N58+O58+P58+Q58+R58+S58+T58+U58+V58+W58+X58+Y58+Z58+AA58 -> 0 | H58: =SUM(C58:F58) -> 0 | I58: =H58 -> 0 | AB58: =SUM(J58:AA58) -> 0 | AC58: =AB58-C58 -> 0 | AD58: B51
A59: Ingatlanok értékesítése | B59: B52 | C59: =J59+K59+L59+M59+N59+O59+P59+Q59+R59+S59+T59+U59+V59+W59+X59+Y59+Z59+AA59 -> 0 | H59: =SUM(C59:F59) -> 0 | I59: =H59 -> 0 | AB59: =SUM(J59:AA59) -> 0 | AC59: =AB59-C59 -> 0 | AD59: B52
A60: Egyéb tárgyi eszközök értékesítése | B60: B53 | C60: =J60+K60+L60+M60+N60+O60+P60+Q60+R60+S60+T60+U60+V60+W60+X60+Y60+Z60+AA60 -> 390000 | H60: 0 | I60: =H60 -> 0 | K60: 0 | N60: 390000 | AB60: =SUM(J60:AA60) -> 390000 | AC60: =AB60-C60 -> 0 | AD60: B53
A61: Részesedések értékesítése | B61: B54 | C61: =J61+K61+L61+M61+N61+O61+P61+Q61+R61+S61+T61+U61+V61+W61+X61+Y61+Z61+AA61 -> 0 | H61: =SUM(C61:F61) -> 0 | I61: =H61 -> 0 | AB61: =SUM(J61:AA61) -> 0 | AC61: =AB61-C61 -> 0 | AD61: B54
A62: Részesedések megszűnéséhez kapcsolódó bevételek | B62: B55 | C62: =J62+K62+L62+M62+N62+O62+P62+Q62+R62+S62+T62+U62+V62+W62+X62+Y62+Z62+AA62 -> 0 | H62: =SUM(C62:F62) -> 0 | I62: =H62 -> 0 | AB62: =SUM(J62:AA62) -> 0 | AC62: =AB62-C62 -> 0 | AD62: B55
A63: Felhalmozási bevételek | B63: B5 | C63: =SUM(C58:C62) -> 390000 | D63: =SUM(D58:D62) -> 0 | F63: =SUM(F58:F62) -> 0 | H63: =SUM(C63:F63) -> 390000 | I63: =H63 -> 390000 | J63: =SUM(J58:J62) -> 0 | K63: =SUM(K58:K62) -> 0 | L63: =SUM(L58:L62) -> 0 | M63: =SUM(M58:M62) -> 0 | N63: =SUM(N58:N62) -> 390000 | O63: =SUM(O58:O62) -> 0 | P63: =SUM(P58:P62) -> 0 | Q63: =SUM(Q58:Q62) -> 0 | ... AA63: =SUM(AA58:AA62) -> 0 | AB63: =SUM(J63:AA63) -> 390000 | AC63: =AB63-C63 -> 0 | AD63: B5
A64: Felhalmozási célú garancia- és kezességvállalásból származó megtérülések államháztartáson kívülről | B64: B71 | C64: =J64+K64+L64+M64+N64+O64+P64+Q64+R64+S64+T64+U64+V64+W64+X64+Z64++AA64 -> 0 | H64: =SUM(C64:F64) -> 0 | I64: =H64 -> 0 | AB64: =SUM(J64:AA64) -> 0 | AC64: =AB64-C64 -> 0 | AD64: B71
A65: Felhalmozási célú visszatérítendő támogatások, kölcsönök visszatérülése államháztartáson kívülről | B65: B72 | C65: =J65+K65+L65+M65+N65+O65+P65+Q65+R65+S65+T65+U65+V65+W65+X65+Z65++AA65 -> 0 | H65: =SUM(C65:F65) -> 0 | I65: =H65 -> 0 | AB65: =SUM(J65:AA65) -> 0 | AC65: =AB65-C65 -> 0 | AD65: B72
A66: Egyéb felhalmozási célú átvett pénzeszközök | B66: B73 | C66: =J66+K66+L66+M66+N66+O66+P66+Q66+R66+S66+T66+U66+V66+W66+X66+Z66++AA66 -> 0 | H66: =SUM(C66:F66) -> 0 | I66: =H66 -> 0 | AB66: =SUM(J66:AA66) -> 0 | AC66: =AB66-C66 -> 0 | AD66: B73
A67: Felhalmozási célú átvett pénzeszközök | B67: B7 | C67: =SUM(C64:C66) -> 0 | D67: =SUM(D64:D66) -> 0 | F67: =SUM(F64:F66) -> 0 | H67: =SUM(C67:F67) -> 0 | I67: =H67 -> 0 | J67: =SUM(J64:J66) -> 0 | K67: =SUM(K64:K66) -> 0 | L67: =SUM(L64:L66) -> 0 | M67: =SUM(M64:M66) -> 0 | N67: =SUM(N64:N66) -> 0 | O67: =SUM(O64:O66) -> 0 | P67: =SUM(P64:P66) -> 0 | Q67: =SUM(Q64:Q66) -> 0 | ... AA67: =SUM(AA64:AA66) -> 0 | AB67: =SUM(J67:AA67) -> 0 | AC67: =AB67-C67 -> 0 | AD67: B7
A68: Felhalmozási költségvetés előirányzat csoport | C68: =C57+C63+C67 -> 390000 | D68: =D57+D63+D67 -> 0 | F68: =F57+F63+F67 -> 0 | H68: =H57+H63+H67 -> 390000 | I68: =I57+I63+I67 -> 390000 | J68: =J57+J63+J67 -> 0 | K68: =K57+K63+K67 -> 0 | L68: =L57+L63+L67 -> 0 | M68: =M57+M63+M67 -> 0 | N68: =N57+N63+N67 -> 390000 | O68: =O57+O63+O67 -> 0 | ... AA68: =AA57+AA63+AA67 -> 0 | AB68: =SUM(J68:AA68) -> 390000 | AC68: =AB68-C68 -> 0
A69: Költségvetési bevételek | B69: B1-B7 | C69: =C21+C35+C46+C50+C57+C63+C67 -> 235041285 | D69: =D21+D35+D46+D50+D57+D63+D67 -> 0 | F69: =F21+F35+F46+F50+F57+F63+F67 -> 0 | H69: =H21+H35+H46+H50+H57+H63+H67 -> 235041285 | I69: =H69 -> 235041285 | J69: =J21+J35+J46+J50+J57+J63+J67 -> 16631188 | K69: =K21+K35+K46+K50+K57+K63+K67 -> 12889005 | L69: =L21+L35+L46+L50+L57+L63+L67 -> 8327119 | M69: =M21+M35+M46+M50+M57+M63+M67 -> 7602000 | N69: =N21+N35+N46+N50+N57+N63+N67 -> 990000 | O69: =O21+O35+O46+O50+O57+O63+O67 -> 345590 | P69: =P21+P35+P46+P50+P57+P63+P67 -> 29970000 | Q69: =Q21+Q35+Q46+Q50+Q57+Q63+Q67 -> 141088889 | ... AA69: =AA21+AA35+AA46+AA50+AA57+AA63+AA67 -> 0 | AB69: =SUM(J69:AA69) -> 235041285 | AC69: =AB69-C69 -> 0 | AD69: B1-B7
A70: költségvetési egyenleg MŰKÖDÉSI | C70: =C51-'kiadások működés felhalmozás'!C76 -> 71051547 | D70: =D51-'kiadások működés felhalmozás'!D76 -> -65693763 | F70: =F51-'kiadások működés felhalmozás'!E76 -> -31142348 | H70: =H51-'kiadások működés felhalmozás'!F76 -> -25784564 | I70: =H70 -> -25784564 | R70: =R51-'kiadások működés felhalmozás'!C76 -> -146402244 | AA70: =AA51-'kiadások működés felhalmozás'!L76 -> 0 | AB70: =SUM(J70:AA70) -> -146402244
A71: költségvetési egyenleg FELHALMOZÁSI | C71: =C68-'kiadások működés felhalmozás'!C99 -> -36137481 | D71: =D68-'kiadások működés felhalmozás'!D99 -> -508000 | F71: =F68-'kiadások működés felhalmozás'!E99 -> 0 | H71: =H68-'kiadások működés felhalmozás'!F99 -> -36645481 | I71: =H71 -> -36645481 | R71: =R68-'kiadások működés felhalmozás'!C99 -> -36527481 | AA71: =AA68-'kiadások működés felhalmozás'!L99 -> 0 | AB71: =SUM(J71:AA71) -> -36527481
A72: Hosszú lejáratú hitelek, kölcsönök felvétele | B72: B8111 | H72: =SUM(C72:F72) -> 0 | I72: =H72 -> 0 | AB72: =SUM(J72:AA72) -> 0 | AC72: =AB72-C72 -> 0 | AD72: B8111
A73: Likviditási célú hitelek, kölcsönök felvétele pénzügyi vállalkozástól | B73: B8112 | H73: =SUM(C73:F73) -> 0 | I73: =H73 -> 0 | AB73: =SUM(J73:AA73) -> 0 | AC73: =AB73-C73 -> 0 | AD73: B8112
A74: Rövid lejáratú hitelek, kölcsönök felvétele | B74: B8113 | H74: =SUM(C74:F74) -> 0 | AB74: =SUM(J74:AA74) -> 0 | AC74: =AB74-C74 -> 0 | AD74: B8113
A75: Hitel-, kölcsönfelvétel államháztartáson kívülről | B75: B811 | C75: =SUM(C72:C74) -> 0 | D75: =SUM(D72:D74) -> 0 | F75: =SUM(F72:F74) -> 0 | H75: =SUM(C75:F75) -> 0 | J75: =SUM(J72:J74) -> 0 | K75: =SUM(K72:K74) -> 0 | L75: =SUM(L72:L74) -> 0 | M75: =SUM(M72:M74) -> 0 | N75: =SUM(N72:N74) -> 0 | O75: =SUM(O72:O74) -> 0 | P75: =SUM(P72:P74) -> 0 | Q75: =SUM(Q72:Q74) -> 0 | ... AA75: =SUM(AA72:AA74) -> 0 | AB75: =SUM(J75:AA75) -> 0 | AC75: =AB75-C75 -> 0 | AD75: B811
A76: Forgatási célú belföldi értékpapírok beváltása, értékesítése | B76: B8121 | H76: =SUM(C76:F76) -> 0 | AB76: =SUM(J76:AA76) -> 0 | AC76: =AB76-C76 -> 0 | AD76: B8121
A77: Forgatási célú belföldi értékpapírok kibocsátása | B77: B8122 | H77: =SUM(C77:F77) -> 0 | AB77: =SUM(J77:AA77) -> 0 | AC77: =AB77-C77 -> 0 | AD77: B8122
A78: Befektetési célú belföldi értékpapírok beváltása, értékesítése | B78: B8123 | H78: =SUM(C78:F78) -> 0 | AB78: =SUM(J78:AA78) -> 0 | AC78: =AB78-C78 -> 0 | AD78: B8123
A79: Befektetési célú belföldi értékpapírok kibocsátása | B79: B8124 | H79: =SUM(C79:F79) -> 0 | AB79: =SUM(J79:AA79) -> 0 | AC79: =AB79-C79 -> 0 | AD79: B8124
A80: Belföldi értékpapírok bevételei | B80: B812 | C80: =SUM(C76:C79) -> 0 | D80: =SUM(D76:D79) -> 0 | F80: =SUM(F76:F79) -> 0 | H80: =SUM(C80:F80) -> 0 | J80: =SUM(J76:J79) -> 0 | K80: =SUM(K76:K79) -> 0 | L80: =SUM(L76:L79) -> 0 | M80: =SUM(M76:M79) -> 0 | N80: =SUM(N76:N79) -> 0 | O80: =SUM(O76:O79) -> 0 | P80: =SUM(P76:P79) -> 0 | Q80: =SUM(Q76:Q79) -> 0 | ... AA80: =SUM(AA76:AA79) -> 0 | AB80: =SUM(J80:AA80) -> 0 | AC80: =AB80-C80 -> 0 | AD80: B812
A81: Előző év költségvetési maradványának igénybevétele MŰKÖDÉSRE | B81: B8131 | C81: 76403317 | D81: 234761 | E81: 0 | F81: 0 | G81: 93942 | H81: =SUM(C81:F81) -> 76638078 | I81: =H81 -> 76638078 | J81: 0 | K81: 0 | S81: 76403317 | AA81: 0 | AB81: =SUM(J81:AA81) -> 76403317 | AC81: =AB81-C81 -> 0 | AD81: B8131
A82: Előző év költségvetési maradványának igénybevétele FELHALMOZÁSRA | B82: B8131 | C82: 0 | F82: 0 | H82: =SUM(C82:F82) -> 0 | I82: =H82 -> 0 | K82: 0 | AB82: =SUM(J82:AA82) -> 0 | AC82: =AB82-C82 -> 0 | AD82: B8131
A83: Előző év vállalkozási maradványának igénybevétele MŰKÖDÉSRE | B83: B8132 | H83: =SUM(C83:F83) -> 0 | I83: =H83 -> 0 | AB83: =SUM(J83:AA83) -> 0 | AC83: =AB83-C83 -> 0 | AD83: B8132
A84: Előző év vállalkozási maradványának igénybevétele FELHALMOZÁSRA | B84: B8132 | H84: =SUM(C84:F84) -> 0 | I84: =H84 -> 0 | AB84: =SUM(J84:AA84) -> 0 | AC84: =AB84-C84 -> 0 | AD84: B8132
A85: Maradvány igénybevétele | B85: B813 | C85: =SUM(C81:C84) -> 76403317 | D85: =SUM(D81:D84) -> 234761 | E85: =SUM(E81:E84) -> 0 | F85: =D85+E85 -> 234761 | G85: 93942 | H85: =C85+F85+G85 -> 76732020 | I85: =H85 -> 76732020 | J85: =SUM(J81:J84) -> 0 | K85: =SUM(K81:K84) -> 0 | L85: =SUM(L81:L84) -> 0 | M85: =SUM(M81:M84) -> 0 | N85: =SUM(N81:N84) -> 0 | O85: =SUM(O81:O84) -> 0 | P85: =SUM(P81:P84) -> 0 | Q85: =SUM(Q81:Q84) -> 0 | ... AA85: =SUM(AA81:AA84) -> 0 | AB85: =SUM(J85:AA85) -> 76403317 | AC85: =AB85-C85 -> 0 | AD85: B813
A86: Államháztartáson belüli megelőlegezések | B86: B814 | H86: =SUM(C86:F86) -> 0 | I86: =H86 -> 0 | AB86: =SUM(J86:AA86) -> 0 | AC86: =AB86-C86 -> 0 | AD86: B814
A87: Államháztartáson belüli megelőlegezések törlesztése | B87: B815 | H87: =SUM(C87:F87) -> 0 | I87: =H87 -> 0 | AB87: =SUM(J87:AA87) -> 0 | AC87: =AB87-C87 -> 0 | AD87: B815
A88: Központi, irányító szervi támogatás | B88: B816 | D88: 65967002 | F88: =D88+E88 -> 65967002 | G88: 31048406 | H88: =C88+F88+G88 -> 97015408 | I88: 0 | AB88: =SUM(J88:AA88) -> 0 | AC88: =AB88-C88 -> 0 | AD88: B816
A89: Betétek megszüntetése | B89: B817 | H89: =SUM(C89:F89) -> 0 | I89: =H89 -> 0 | AB89: =SUM(J89:AA89) -> 0 | AC89: =AB89-C89 -> 0 | AD89: B817
A90: Központi költségvetés sajátos finanszírozási bevételei | B90: B818 | H90: =SUM(C90:F90) -> 0 | I90: =H90 -> 0 | AB90: =SUM(J90:AA90) -> 0 | AC90: =AB90-C90 -> 0 | AD90: B818
A91: Belföldi finanszírozás bevételei | B91: B81 | C91: =C75+C80+C85+C86+C87+C88+C89+C90 -> 76403317 | D91: =D75+D80+D85+D86+D87+D88+D89+D90 -> 66201763 | E91: =E75+E80+E85+E86+E87+E88+E89+E90 -> 0 | F91: =D91+E91 -> 66201763 | G91: =G85+G88 -> 31142348 | H91: =H75+H80+H85+H86+H87+H88+H89+H90 -> 173747428 | I91: 0 | J91: =J75+J80+J85+J86+J87+J88+J89+J90 -> 0 | K91: =K75+K80+K85+K86+K87+K88+K89+K90 -> 0 | L91: =L75+L80+L85+L86+L87+L88+L89+L90 -> 0 | M91: =M75+M80+M85+M86+M87+M88+M89+M90 -> 0 | N91: =N75+N80+N85+N86+N87+N88+N89+N90 -> 0 | O91: =O75+O80+O85+O86+O87+O88+O89+O90 -> 0 | P91: =P75+P80+P85+P86+P87+P88+P89+P90 -> 0 | Q91: =Q75+Q80+Q85+Q86+Q87+Q88+Q89+Q90 -> 0 | ... AA91: =AA75+AA80+AA85+AA86+AA87+AA88+AA89+AA90 -> 0 | AB91: =SUM(J91:AA91) -> 76403317 | AC91: =AB91-C91 -> 0 | AD91: B81
A92: Forgatási célú külföldi értékpapírok beváltása, értékesítése | B92: B821 | H92: =SUM(C92:F92) -> 0 | I92: =H92 -> 0 | AB92: =SUM(J92:AA92) -> 0 | AC92: =AB92-C92 -> 0 | AD92: B821
A93: Befektetési célú külföldi értékpapírok beváltása, értékesítése | B93: B822 | H93: =SUM(C93:F93) -> 0 | I93: =H93 -> 0 | AB93: =SUM(J93:AA93) -> 0 | AC93: =AB93-C93 -> 0 | AD93: B822
A94: Külföldi értékpapírok kibocsátása | B94: B823 | H94: =SUM(C94:F94) -> 0 | I94: =H94 -> 0 | AB94: =SUM(J94:AA94) -> 0 | AC94: =AB94-C94 -> 0 | AD94: B823
A95: Külföldi hitelek, kölcsönök felvétele | B95: B824 | H95: =SUM(C95:F95) -> 0 | I95: =H95 -> 0 | AB95: =SUM(J95:AA95) -> 0 | AC95: =AB95-C95 -> 0 | AD95: B824
A96: Külföldi finanszírozás bevételei | B96: B82 | C96: =SUM(C92:C95) -> 0 | D96: =SUM(D92:D95) -> 0 | E96: =SUM(E92:E95) -> 0 | F96: =SUM(F92:F95) -> 0 | H96: =SUM(C96:F96) -> 0 | I96: =H96 -> 0 | J96: =SUM(J92:J95) -> 0 | K96: =SUM(K92:K95) -> 0 | L96: =SUM(L92:L95) -> 0 | M96: =SUM(M92:M95) -> 0 | N96: =SUM(N92:N95) -> 0 | O96: =SUM(O92:O95) -> 0 | P96: =SUM(P92:P95) -> 0 | Q96: =SUM(Q92:Q95) -> 0 | ... AA96: =SUM(AA92:AA95) -> 0 | AB96: =SUM(J96:AA96) -> 0 | AC96: =AB96-C96 -> 0 | AD96: B82
A97: Adóssághoz nem kapcsolódó származékos ügyletek bevételei | B97: B83 | H97: =SUM(C97:F97) -> 0 | I97: =H97 -> 0 | AB97: =SUM(J97:AA97) -> 0 | AC97: =AB97-C97 -> 0 | AD97: B83
A98: Finanszírozási bevételek | B98: B8 | C98: =C91+C96+C97 -> 76403317 | D98: =D91+D96+D97 -> 66201763 | E98: =E91+E96+E97 -> 0 | F98: =F91+F96+F97 -> 66201763 | G98: =G91 -> 31142348 | H98: =H91+H96+H97 -> 173747428 | I98: =H98 -> 173747428 | J98: =J91+J96+J97 -> 0 | K98: =K91+K96+K97 -> 0 | L98: =L91+L96+L97 -> 0 | M98: =M91+M96+M97 -> 0 | N98: =N91+N96+N97 -> 0 | O98: =O91+O96+O97 -> 0 | P98: =P91+P96+P97 -> 0 | Q98: =Q91+Q96+Q97 -> 0 | ... AA98: =AA91+AA96+AA97 -> 0 | AB98: =SUM(J98:AA98) -> 76403317 | AC98: =AB98-C98 -> 0 | AD98: B8
A99: BEVÉTELEK ÖSSZESEN (B1-8) | C99: =C69+C98 -> 311444602 | D99: =D69+D98 -> 66201763 | E99: =E69+E98 -> 0 | F99: =F69+F98 -> 66201763 | G99: =G98 -> 31142348 | H99: =H69+H98 -> 408788713 | I99: =I21+I35+I46+I68+I85+I91 -> 311773305 | J99: =J69+J98 -> 16631188 | K99: =K69+K98 -> 12889005 | L99: =L69+L98 -> 8327119 | M99: =M69+M98 -> 7602000 | N99: =N69+N98 -> 990000 | O99: =O69+O98 -> 345590 | P99: =P69+P98 -> 29970000 | Q99: =Q69+Q98 -> 141088889 | ... AA99: =AA69+AA98 -> 0 | AB99: =SUM(J99:AA99) -> 311444602 | AC99: =AB99-C99 -> 0

Sheet kiadások működés felhalmozá (2)
A1: 2.sz. melléklet az 1/2015.(II.23.) rendelethez
A2: =Mellékletek!A1 -> Iharosberény Község Önkormányzata
A3: 2014. évi költségvetés
A4: Kiadások (E Ft)
A6: ÖNKORMÁNYZATI ELŐIRÁNYZATOK
A7: Rovat megnevezése | B7: Rovat-szám | C7: önkormányzat | D7: Közös Hivatal | E7: Óvoda | F7: összevont | G7: Nettósitott
A8: Törvény szerinti illetmények, munkabérek | B8: K1101 | C8: ='kiadások korm. funkciónként'!C10 -> 17934334 | D8: ='kiadások korm. funkciónként'!D10 -> 38517000 | E8: ='kiadások korm. funkciónként'!E10+'kiadások korm. funkciónként'!F10+'kiadások korm. funkciónként'!G10 -> 21392400 | F8: =SUM(C8:E8) -> 77843734 | G8: =F8 -> 77843734
A9: Normatív jutalmak | B9: K1102 | C9: ='kiadások korm. funkciónként'!C11 -> 0 | D9: ='kiadások korm. funkciónként'!D11 -> 0 | E9: ='kiadások korm. funkciónként'!E11+'kiadások korm. funkciónként'!F11+'kiadások korm. funkciónként'!G11 -> 0 | F9: =SUM(C9:E9) -> 0 | G9: =F9 -> 0
A10: Céljuttatás, projektprémium | B10: K1103 | C10: ='kiadások korm. funkciónként'!C12 -> 0 | D10: ='kiadások korm. funkciónként'!D12 -> 0 | E10: ='kiadások korm. funkciónként'!E12+'kiadások korm. funkciónként'!F12+'kiadások korm. funkciónként'!G12 -> 0 | F10: =SUM(C10:E10) -> 0 | G10: =F10 -> 0
A11: Készenléti, ügyeleti, helyettesítési díj, túlóra, túlszolgálat | B11: K1104 | C11: ='kiadások korm. funkciónként'!C13 -> 0 | D11: ='kiadások korm. funkciónként'!D13 -> 0 | E11: ='kiadások korm. funkciónként'!E13+'kiadások korm. funkciónként'!F13+'kiadások korm. funkciónként'!G13 -> 0 | F11: =SUM(C11:E11) -> 0 | G11: =F11 -> 0
A12: Végkielégítés | B12: K1105 | C12: ='kiadások korm. funkciónként'!C14 -> 0 | D12: ='kiadások korm. funkciónként'!D14 -> 0 | E12: ='kiadások korm. funkciónként'!E14+'kiadások korm. funkciónként'!F14+'kiadások korm. funkciónként'!G14 -> 0 | F12: =SUM(C12:E12) -> 0 | G12: =F12 -> 0
A13: Jubileumi jutalom | B13: K1106 | C13: ='kiadások korm. funkciónként'!C15 -> 0 | D13: ='kiadások korm. funkciónként'!D15 -> 742000 | E13: ='kiadások korm. funkciónként'!E15+'kiadások korm. funkciónként'!F15+'kiadások korm. funkciónként'!G15 -> 0 | F13: =SUM(C13:E13) -> 742000 | G13: =F13 -> 742000
A14: Béren kívüli juttatások | B14: K1107 | C14: ='kiadások korm. funkciónként'!C16 -> 0 | D14: ='kiadások korm. funkciónként'!D16 -> 1829771 | E14: ='kiadások korm. funkciónként'!E16+'kiadások korm. funkciónként'!F16+'kiadások korm. funkciónként'!G16 -> 0 | F14: =SUM(C14:E14) -> 1829771 | G14: =F14 -> 1829771
A15: Ruházati költségtérítés | B15: K1108 | C15: ='kiadások korm. funkciónként'!C17 -> 0 | D15: ='kiadások korm. funkciónként'!D17 -> 0 | E15: ='kiadások korm. funkciónként'!E17+'kiadások korm. funkciónként'!F17+'kiadások korm. funkciónként'!G17 -> 0 | F15: =SUM(C15:E15) -> 0 | G15: =F15 -> 0
A16: Közlekedési költségtérítés | B16: K1109 | C16: ='kiadások korm. funkciónként'!C18 -> 155000 | D16: ='kiadások korm. funkciónként'!D18 -> 502000 | E16: ='kiadások korm. funkciónként'!E18+'kiadások korm. funkciónként'!F18+'kiadások korm. funkciónként'!G18 -> 200000 | F16: =SUM(C16:E16) -> 857000 | G16: =F16 -> 857000
A17: Egyéb költségtérítések | B17: K1110 | C17: ='kiadások korm. funkciónként'!C19 -> 0 | D17: ='kiadások korm. funkciónként'!D19 -> 0 | E17: ='kiadások korm. funkciónként'!E19+'kiadások korm. funkciónként'!F19+'kiadások korm. funkciónként'!G19 -> 0 | F17: =SUM(C17:E17) -> 0 | G17: =F17 -> 0
A18: Lakhatási támogatások | B18: K1111 | C18: ='kiadások korm. funkciónként'!C20 -> 0 | D18: ='kiadások korm. funkciónként'!D20 -> 0 | E18: 0 | F18: =SUM(C18:E18) -> 0 | G18: =F18 -> 0
A19: Szociális támogatások | B19: K1112 | C19: ='kiadások korm. funkciónként'!C21 -> 0 | D19: ='kiadások korm. funkciónként'!D21 -> 200000 | E19: ='kiadások korm. funkciónként'!E21+'kiadások korm. funkciónként'!F21+'kiadások korm. funkciónként'!G21 -> 0 | F19: =SUM(C19:E19) -> 200000 | G19: =F19 -> 200000
A20: Foglalkoztatottak egyéb személyi juttatásai | B20: K1113 | C20: ='kiadások korm. funkciónként'!C22 -> 0 | D20: ='kiadások korm. funkciónként'!D22 -> 0 | E20: ='kiadások korm. funkciónként'!E22+'kiadások korm. funkciónként'!F22+'kiadások korm. funkciónként'!G22 -> 0 | F20: =SUM(C20:E20) -> 0 | G20: =F20 -> 0
A21: Foglalkoztatottak személyi juttatásai | B21: K11 | C21: =SUM(C8:C20) -> 18089334 | D21: =SUM(D8:D20) -> 41790771 | E21: =SUM(E8:E20) -> 21592400 | F21: =SUM(C21:E21) -> 81472505 | G21: =F21 -> 81472505
A22: Választott tisztségviselők juttatásai | B22: K121 | C22: ='kiadások korm. funkciónként'!C24 -> 6634200 | D22: ='kiadások korm. funkciónként'!D24 -> 0 | E22: ='kiadások korm. funkciónként'!E24 -> 0 | F22: =SUM(C22:E22) -> 6634200 | G22: =F22 -> 6634200
A23: Munkavégzésre irányuló egyéb jogviszonyban nem saját foglalkoztatottnak fizetett juttatások | B23: K122 | C23: ='kiadások korm. funkciónként'!C25 -> 0 | D23: ='kiadások korm. funkciónként'!D25 -> 0 | E23: ='kiadások korm. funkciónként'!E25 -> 0 | F23: =SUM(C23:E23) -> 0 | G23: =F23 -> 0
A24: Egyéb külső személyi juttatások | B24: K123 | C24: ='kiadások korm. funkciónként'!C26 -> 2421657 | D24: ='kiadások korm. funkciónként'!D26 -> 660000 | E24: ='kiadások korm. funkciónként'!E26 -> 0 | F24: =SUM(C24:E24) -> 3081657 | G24: =F24 -> 3081657
A25: Külső személyi juttatások | B25: K12 | C25: =SUM(C22:C24) -> 9055857 | D25: =D23+D24 -> 660000 | E25: =SUM(E22:E24) -> 0 | F25: =SUM(C25:E25) -> 9715857 | G25: =F25 -> 9715857
A26: Személyi juttatások | B26: K1 | C26: =C21+C25 -> 27145191 | D26: =D21+D25 -> 42450771 | E26: =E21+E25 -> 21592400 | F26: =SUM(C26:E26) -> 91188362 | G26: =F26 -> 91188362
A27: Munkaadókat terhelő járulékok és szociális hozzájárulási adó | B27: K2 | C27: ='kiadások korm. funkciónként'!C29 -> 5059495 | D27: ='kiadások korm. funkciónként'!D29 -> 11186992 | E27: ='kiadások korm. funkciónként'!E29+'kiadások korm. funkciónként'!F29+'kiadások korm. funkciónként'!G29 -> 5775948 | F27: =SUM(C27:E27) -> 22022435 | G27: =F27 -> 22022435
A28: Szakmai anyagok beszerzése | B28: K311 | C28: ='kiadások korm. funkciónként'!C30 -> 160000 | D28: ='kiadások korm. funkciónként'!D30 -> 220000 | E28: ='kiadások korm. funkciónként'!F30+'kiadások korm. funkciónként'!G30 -> 185000 | F28: =SUM(C28:E28) -> 565000 | G28: =F28 -> 565000
A29: Üzemeltetési anyagok beszerzése | B29: K312 | C29: ='kiadások korm. funkciónként'!C31 -> 7152579 | D29: ='kiadások korm. funkciónként'!D31 -> 2370000 | E29: ='kiadások korm. funkciónként'!F31+'kiadások korm. funkciónként'!G31 -> 770000 | F29: =SUM(C29:E29) -> 10292579 | G29: =F29 -> 10292579
A30: Árubeszerzés | B30: K313 | C30: ='kiadások korm. funkciónként'!C32 -> 0 | D30: ='kiadások korm. funkciónként'!D32 -> 0 | E30: ='kiadások korm. funkciónként'!F32+'kiadások korm. funkciónként'!G32 -> 0 | F30: =SUM(C30:E30) -> 0 | G30: =F30 -> 0
A31: Készletbeszerzés | B31: K31 | C31: =SUM(C28:C30) -> 7312579 | D31: =SUM(D28:D30) -> 2590000 | E31: =SUM(E28:E30) -> 955000 | F31: =SUM(C31:E31) -> 10857579 | G31: =F31 -> 10857579
A32: Informatikai szolgáltatások igénybevétele | B32: K321 | C32: ='kiadások korm. funkciónként'!C34 -> 387500 | D32: ='kiadások korm. funkciónként'!D34 -> 1475000 | E32: ='kiadások korm. funkciónként'!F34 -> 45000 | F32: =SUM(C32:E32) -> 1907500 | G32: =F32 -> 1907500
A33: Egyéb kommunikációs szolgáltatások | B33: K322 | C33: ='kiadások korm. funkciónként'!C35 -> 305800 | D33: ='kiadások korm. funkciónként'!D35 -> 560000 | E33: ='kiadások korm. funkciónként'!F35 -> 30000 | F33: =SUM(C33:E33) -> 895800 | G33: =F33 -> 895800
A34: Kommunikációs szolgáltatások | B34: K32 | C34: =SUM(C32:C33) -> 693300 | D34: =SUM(D32:D33) -> 2035000 | E34: =SUM(E32:E33) -> 75000 | F34: =SUM(C34:E34) -> 2803300 | G34: =F34 -> 2803300
A35: Közüzemi díjak | B35: K331 | C35: ='kiadások korm. funkciónként'!C37 -> 5177000 | D35: ='kiadások korm. funkciónként'!D37 -> 1225000 | E35: ='kiadások korm. funkciónként'!E37+'kiadások korm. funkciónként'!F37+'kiadások korm. funkciónként'!G37 -> 965000 | F35: =SUM(C35:E35) -> 7367000 | G35: =F35 -> 7367000
A36: Vásárolt élelmezés | B36: K332 | C36: ='kiadások korm. funkciónként'!C38 -> 18017190 | D36: ='kiadások korm. funkciónként'!D38 -> 0 | E36: ='kiadások korm. funkciónként'!E38+'kiadások korm. funkciónként'!F38+'kiadások korm. funkciónként'!G38 -> 0 | F36: =SUM(C36:E36) -> 18017190 | G36: =F36 -> 18017190
A37: Bérleti és lízing díjak | B37: K333 | C37: ='kiadások korm. funkciónként'!C39 -> 30000 | D37: ='kiadások korm. funkciónként'!D39 -> 0 | E37: ='kiadások korm. funkciónként'!E39+'kiadások korm. funkciónként'!F39+'kiadások korm. funkciónként'!G39 -> 0 | F37: =SUM(C37:E37) -> 30000 | G37: =F37 -> 30000
A38: Karbantartási, kisjavítási szolgáltatások | B38: K334 | C38: ='kiadások korm. funkciónként'!C40 -> 2370000 | D38: ='kiadások korm. funkciónként'!D40 -> 200000 | E38: ='kiadások korm. funkciónként'!E40+'kiadások korm. funkciónként'!F40+'kiadások korm. funkciónként'!G40 -> 300000 | F38: =SUM(C38:E38) -> 2870000 | G38: =F38 -> 2870000
A39: Közvetített szolgáltatások | B39: K335 | C39: ='kiadások korm. funkciónként'!C41 -> 0 | D39: ='kiadások korm. funkciónként'!D41 -> 0 | E39: ='kiadások korm. funkciónként'!E41+'kiadások korm. funkciónként'!F41+'kiadások korm. funkciónként'!G41 -> 0 | F39: =SUM(C39:E39) -> 0 | G39: =F39 -> 0
A40: Szakmai tevékenységet segítő szolgáltatások | B40: K336 | C40: ='kiadások korm. funkciónként'!C42 -> 2290844 | D40: ='kiadások korm. funkciónként'!D42 -> 906000 | E40: ='kiadások korm. funkciónként'!E42+'kiadások korm. funkciónként'!F42+'kiadások korm. funkciónként'!G42 -> 390000 | F40: =SUM(C40:E40) -> 3586844 | G40: =F40 -> 3586844
A41: Egyéb szolgáltatások | B41: K337 | C41: ='kiadások korm. funkciónként'!C43 -> 6800705 | D41: ='kiadások korm. funkciónként'!D43 -> 2380000 | E41: ='kiadások korm. funkciónként'!E43+'kiadások korm. funkciónként'!F43+'kiadások korm. funkciónként'!G43 -> 192000 | F41: =SUM(C41:E41) -> 9372705 | G41: =F41 -> 9372705
A42: Szolgáltatási kiadások | B42: K33 | C42: =SUM(C35:C41) -> 34685739 | D42: =SUM(D35:D41) -> 4711000 | E42: =SUM(E35:E41) -> 1847000 | F42: =SUM(C42:E42) -> 41243739 | G42: =F42 -> 41243739
A43: Kiküldetések kiadásai | B43: K341 | C43: ='kiadások korm. funkciónként'!C45 -> 1051622 | D43: ='kiadások korm. funkciónként'!D45 -> 220000 | E43: ='kiadások korm. funkciónként'!E45+'kiadások korm. funkciónként'!F45+'kiadások korm. funkciónként'!G45 -> 50000 | F43: =SUM(C43:E43) -> 1321622 | G43: =F43 -> 1321622
A44: Reklám- és propagandakiadások | B44: K342 | C44: ='kiadások korm. funkciónként'!C46 -> 50000 | D44: ='kiadások korm. funkciónként'!D46 -> 0 | E44: ='kiadások korm. funkciónként'!E46+'kiadások korm. funkciónként'!F46+'kiadások korm. funkciónként'!G46 -> 0 | F44: =SUM(C44:E44) -> 50000 | G44: =F44 -> 50000
A45: Kiküldetések, reklám- és propagandakiadások | B45: K34 | C45: =SUM(C43:C44) -> 1101622 | D45: =SUM(D43:D44) -> 220000 | E45: =SUM(E43:E44) -> 50000 | F45: =SUM(C45:E45) -> 1371622 | G45: =F45 -> 1371622
A46: Működési célú előzetesen felszámított általános forgalmi adó | B46: K351 | C46: ='kiadások korm. funkciónként'!C48 -> 10554743 | D46: ='kiadások korm. funkciónként'!D48 -> 2500000 | E46: ='kiadások korm. funkciónként'!E48+'kiadások korm. funkciónként'!F48+'kiadások korm. funkciónként'!G48 -> 827000 | F46: =SUM(C46:E46) -> 13881743 | G46: =F46 -> 13881743
A47: Fizetendő általános forgalmi adó | B47: K352 | C47: ='kiadások korm. funkciónként'!C49 -> 950000 | D47: ='kiadások korm. funkciónként'!D49 -> 0 | E47: ='kiadások korm. funkciónként'!E49+'kiadások korm. funkciónként'!F49+'kiadások korm. funkciónként'!G49 -> 0 | F47: =SUM(C47:E47) -> 950000 | G47: =F47 -> 950000
A48: Kamatkiadások | B48: K353 | C48: ='kiadások korm. funkciónként'!C50 -> 0 | D48: ='kiadások korm. funkciónként'!D50 -> 0 | E48: ='kiadások korm. funkciónként'!E50+'kiadások korm. funkciónként'!F50+'kiadások korm. funkciónként'!G50 -> 0 | F48: =SUM(C48:E48) -> 0 | G48: =F48 -> 0
A49: Egyéb pénzügyi műveletek kiadásai | B49: K354 | C49: ='kiadások korm. funkciónként'!C51 -> 0 | D49: ='kiadások korm. funkciónként'!D51 -> 0 | E49: ='kiadások korm. funkciónként'!E51+'kiadások korm. funkciónként'!F51+'kiadások korm. funkciónként'!G51 -> 0 | F49: =SUM(C49:E49) -> 0 | G49: =F49 -> 0
A50: Egyéb dologi kiadások | B50: K355 | C50: ='kiadások korm. funkciónként'!C52 -> 856080 | D50: ='kiadások korm. funkciónként'!D52 -> 0 | E50: ='kiadások korm. funkciónként'!E52+'kiadások korm. funkciónként'!F52+'kiadások korm. funkciónként'!G52 -> 20000 | F50: =SUM(C50:E50) -> 876080 | G50: =F50 -> 876080
A51: Különféle befizetések és egyéb dologi kiadások | B51: K35 | C51: =SUM(C46:C50) -> 12360823 | D51: =SUM(D46:D50) -> 2500000 | E51: =SUM(E46:E50) -> 847000 | F51: =SUM(C51:E51) -> 15707823 | G51: =F51 -> 15707823
A52: Dologi kiadások | B52: K3 | C52: =C31+C34+C45+C42+C51 -> 56154063 | D52: =D31+D34+D45+D42+D51 -> 12056000 | E52: =E31+E34+E45+E42+E51 -> 3774000 | F52: =SUM(C52:E52) -> 71984063 | G52: =F52 -> 71984063
A53: Társadalombiztosítási ellátások | B53: K41 | C53: ='kiadások korm. funkciónként'!C55 -> 0 | D53: ='kiadások korm. funkciónként'!D55 -> 0 | E53: ='kiadások korm. funkciónként'!E55 -> 0 | F53: =SUM(C53:E53) -> 0 | G53: =F53 -> 0
A54: Családi támogatások | B54: K42 | C54: ='kiadások korm. funkciónként'!C56 -> 2000000 | D54: ='kiadások korm. funkciónként'!D56 -> 0 | E54: ='kiadások korm. funkciónként'!E56 -> 0 | F54: =SUM(C54:E54) -> 2000000 | G54: =F54 -> 2000000
A55: Pénzbeli kárpótlások, kártérítések | B55: K43 | C55: ='kiadások korm. funkciónként'!C57 -> 0 | D55: ='kiadások korm. funkciónként'!D57 -> 0 | E55: ='kiadások korm. funkciónként'!E57 -> 0 | F55: =SUM(C55:E55) -> 0 | G55: =F55 -> 0
A56: Betegséggel kapcsolatos (nem társadalombiztosítási) ellátások | B56: K44 | C56: ='kiadások korm. funkciónként'!C58 -> 0 | D56: ='kiadások korm. funkciónként'!D58 -> 0 | E56: ='kiadások korm. funkciónként'!E58 -> 0 | F56: =SUM(C56:E56) -> 0 | G56: =F56 -> 0
A57: Foglalkoztatással, munkanélküliséggel kapcsolatos ellátások | B57: K45 | C57: ='kiadások korm. funkciónként'!C59 -> 0 | D57: ='kiadások korm. funkciónként'!D59 -> 0 | E57: ='kiadások korm. funkciónként'!E59 -> 0 | F57: =SUM(C57:E57) -> 0 | G57: =F57 -> 0
A58: Lakhatással kapcsolatos ellátások | B58: K46 | C58: ='kiadások korm. funkciónként'!C60 -> 0 | D58: ='kiadások korm. funkciónként'!D60 -> 0 | E58: ='kiadások korm. funkciónként'!E60 -> 0 | F58: =SUM(C58:E58) -> 0 | G58: =F58 -> 0
A59: Intézményi ellátottak pénzbeli juttatásai | B59: K47 | C59: ='kiadások korm. funkciónként'!C61 -> 0 | D59: ='kiadások korm. funkciónként'!D61 -> 0 | E59: ='kiadások korm. funkciónként'!E61 -> 0 | F59: =SUM(C59:E59) -> 0 | G59: =F59 -> 0
A60: Egyéb nem intézményi ellátások | B60: K48 | C60: ='kiadások korm. funkciónként'!C62 -> 9163162 | D60: ='kiadások korm. funkciónként'!D62 -> 0 | E60: ='kiadások korm. funkciónként'!E62 -> 0 | F60: =SUM(C60:E60) -> 9163162 | G60: =F60 -> 9163162
A61: Ellátottak pénzbeli juttatásai | B61: K4 | C61: =SUM(C53:C60) -> 11163162 | D61: =SUM(D53:D60) -> 0 | E61: =SUM(E53:E60) -> 0 | F61: =SUM(C61:E61) -> 11163162 | G61: =F61 -> 11163162
A62: Nemzetközi kötelezettségek | B62: K501 | C62: ='kiadások korm. funkciónként'!C64 -> 0 | D62: ='kiadások korm. funkciónként'!D64 -> 0 | E62: ='kiadások korm. funkciónként'!E64 -> 0 | F62: =SUM(C62:E62) -> 0 | G62: =F62 -> 0
A63: Elvonások és befizetések | B63: K502 | C63: ='kiadások korm. funkciónként'!C65 -> 0 | D63: ='kiadások korm. funkciónként'!D65 -> 0 | E63: ='kiadások korm. funkciónként'!E65 -> 0 | F63: =SUM(C63:E63) -> 0 | G63: =F63 -> 0
A64: Működési célú garancia- és kezességvállalásból származó kifizetés államháztartáson belülre | B64: K503 | C64: ='kiadások korm. funkciónként'!C66 -> 0 | D64: ='kiadások korm. funkciónként'!D66 -> 0 | E64: ='kiadások korm. funkciónként'!E66 -> 0 | F64: =SUM(C64:E64) -> 0 | G64: =F64 -> 0
A65: Működési célú visszatérítendő támogatások, kölcsönök nyújtása államháztartáson belülre | B65: K504 | C65: ='kiadások korm. funkciónként'!C67 -> 0 | D65: ='kiadások korm. funkciónként'!D67 -> 0 | E65: ='kiadások korm. funkciónként'!E67 -> 0 | F65: =SUM(C65:E65) -> 0 | G65: =F65 -> 0
A66: Működési célú visszatérítendő támogatások, kölcsönök törlesztése államháztartáson belülre | B66: K505 | C66: ='kiadások korm. funkciónként'!C68 -> 0 | D66: ='kiadások korm. funkciónként'!D68 -> 0 | E66: ='kiadások korm. funkciónként'!E68 -> 0 | F66: =SUM(C66:E66) -> 0 | G66: =F66 -> 0
A67: Egyéb működési célú támogatások államháztartáson belülre | B67: K506 | C67: ='kiadások korm. funkciónként'!C69 -> 4797325 | D67: ='kiadások korm. funkciónként'!D69 -> 0 | E67: ='kiadások korm. funkciónként'!E69 -> 0 | F67: =SUM(C67:E67) -> 4797325 | G67: =F67 -> 4797325
A68: Működési célú garancia- és kezességvállalásból származó kifizetés államháztartáson kívülre | B68: K507 | C68: ='kiadások korm. funkciónként'!C70 -> 0 | D68: ='kiadások korm. funkciónként'!D70 -> 0 | E68: ='kiadások korm. funkciónként'!E70 -> 0 | F68: =SUM(C68:E68) -> 0 | G68: =F68 -> 0
A69: Működési célú visszatérítendő támogatások, kölcsönök nyújtása államháztartáson kívülre | B69: K508 | C69: ='kiadások korm. funkciónként'!C71 -> 0 | D69: ='kiadások korm. funkciónként'!D71 -> 0 | E69: ='kiadások korm. funkciónként'!E71 -> 0 | F69: =SUM(C69:E69) -> 0 | G69: =F69 -> 0
A70: Árkiegészítések, ártámogatások | B70: K509 | C70: ='kiadások korm. funkciónként'!C72 -> 0 | D70: ='kiadások korm. funkciónként'!D72 -> 0 | E70: ='kiadások korm. funkciónként'!E72 -> 0 | F70: =SUM(C70:E70) -> 0 | G70: =F70 -> 0
A71: Kamattámogatások | B71: K510 | C71: ='kiadások korm. funkciónként'!C73 -> 0 | D71: ='kiadások korm. funkciónként'!D73 -> 0 | E71: ='kiadások korm. funkciónként'!E73 -> 0 | F71: =SUM(C71:E71) -> 0 | G71: =F71 -> 0
A72: Egyéb működési célú támogatások államháztartáson kívülre | B72: K511 | C72: ='kiadások korm. funkciónként'!C74 -> 1173817 | D72: ='kiadások korm. funkciónként'!D74 -> 0 | E72: ='kiadások korm. funkciónként'!E74 -> 0 | F72: =SUM(C72:E72) -> 1173817 | G72: =F72 -> 1173817
A73: Tartalékok-általános | B73: K512 | C73: ='kiadások korm. funkciónként'!C75 -> 58106685 | D73: ='kiadások korm. funkciónként'!D75 -> 0 | E73: ='kiadások korm. funkciónként'!E75 -> 0 | F73: =SUM(C73:E73) -> 58106685 | G73: =F73 -> 58106685
A74: Tartalékok-cél | B74: K512 | C74: ='kiadások korm. funkciónként'!C76 -> 0 | D74: ='kiadások korm. funkciónként'!D76 -> 0 | E74: ='kiadások korm. funkciónként'!E76 -> 0 | F74: =SUM(C74:E74) -> 0 | G74: =F74 -> 0
A75: Egyéb működési célú kiadások | B75: K5 | C75: =SUM(C62:C74) -> 64077827 | D75: =SUM(D62:D74) -> 0 | E75: =SUM(E62:E74) -> 0 | F75: =SUM(C75:E75) -> 64077827 | G75: =F75 -> 64077827
A76: Működési költségvetés előirányzat csoport | C76: =C26+C27+C52+C61+C75 -> 163599738 | D76: =D26+D27+D52+D61+D75 -> 65693763 | E76: =E26+E27+E52+E61+E75 -> 31142348 | F76: =F26+F27+F52+F61+F75 -> 260435849 | G76: =G26+G27+G52+G61+G75 -> 260435849
A77: Immateriális javak beszerzése, létesítése | B77: K61 | C77: ='kiadások korm. funkciónként'!C79 -> 0 | D77: ='kiadások korm. funkciónként'!D79 -> 0 | E77: ='kiadások korm. funkciónként'!E79+'kiadások korm. funkciónként'!F79+'kiadások korm. funkciónként'!G79 -> 0 | F77: =SUM(C77:E77) -> 0 | G77: =F77 -> 0
A78: Ingatlanok beszerzése, létesítése | B78: K62 | C78: ='kiadások korm. funkciónként'!C80 -> 0 | D78: ='kiadások korm. funkciónként'!D80 -> 0 | E78: ='kiadások korm. funkciónként'!E80+'kiadások korm. funkciónként'!F80+'kiadások korm. funkciónként'!G80 -> 0 | F78: =SUM(C78:E78) -> 0 | G78: =F78 -> 0
A79: Informatikai eszközök beszerzése, létesítése | B79: K63 | C79: ='kiadások korm. funkciónként'!C81 -> 0 | D79: ='kiadások korm. funkciónként'!D81 -> 200000 | E79: ='kiadások korm. funkciónként'!E81+'kiadások korm. funkciónként'!F81+'kiadások korm. funkciónként'!G81 -> 0 | F79: =SUM(C79:E79) -> 200000 | G79: =F79 -> 200000
A80: Egyéb tárgyi eszközök beszerzése, létesítése | B80: K64 | C80: ='kiadások korm. funkciónként'!C82 -> 2865172 | D80: ='kiadások korm. funkciónként'!D82 -> 200000 | E80: ='kiadások korm. funkciónként'!E82+'kiadások korm. funkciónként'!F82+'kiadások korm. funkciónként'!G82 -> 0 | F80: =SUM(C80:E80) -> 3065172 | G80: =F80 -> 3065172
A81: Részesedések beszerzése | B81: K65 | C81: ='kiadások korm. funkciónként'!C83 -> 0 | D81: ='kiadások korm. funkciónként'!D83 -> 0 | E81: ='kiadások korm. funkciónként'!E83+'kiadások korm. funkciónként'!F83+'kiadások korm. funkciónként'!G83 -> 0 | F81: =SUM(C81:E81) -> 0 | G81: =F81 -> 0
A82: Meglévő részesedések növeléséhez kapcsolódó kiadások | B82: K66 | C82: ='kiadások korm. funkciónként'!C84 -> 0 | D82: ='kiadások korm. funkciónként'!D84 -> 0 | E82: ='kiadások korm. funkciónként'!E84+'kiadások korm. funkciónként'!F84+'kiadások korm. funkciónként'!G84 -> 0 | F82: =SUM(C82:E82) -> 0 | G82: =F82 -> 0
A83: Beruházási célú előzetesen felszámított általános forgalmi adó | B83: K67 | C83: ='kiadások korm. funkciónként'!C85 -> 495078 | D83: ='kiadások korm. funkciónként'!D85 -> 108000 | E83: ='kiadások korm. funkciónként'!E85+'kiadások korm. funkciónként'!F85+'kiadások korm. funkciónként'!G85 -> 0 | F83: =SUM(C83:E83) -> 603078 | G83: =F83 -> 603078
A84: Beruházások | B84: K6 | C84: =SUM(C77:C83) -> 3360250 | D84: =SUM(D77:D83) -> 508000 | E84: =SUM(E77:E83) -> 0 | F84: =SUM(C84:E84) -> 3868250 | G84: =F84 -> 3868250
A85: Ingatlanok felújítása | B85: K71 | C85: ='kiadások korm. funkciónként'!C87 -> 26328221 | D85: ='kiadások korm. funkciónként'!D87 -> 0 | E85: ='kiadások korm. funkciónként'!E87 -> 0 | F85: =SUM(C85:E85) -> 26328221 | G85: =F85 -> 26328221
A86: Informatikai eszközök felújítása | B86: K72 | C86: ='kiadások korm. funkciónként'!C88 -> 0 | D86: ='kiadások korm. funkciónként'!D88 -> 0 | E86: ='kiadások korm. funkciónként'!E88 -> 0 | F86: =SUM(C86:E86) -> 0 | G86: =F86 -> 0
A87: Egyéb tárgyi eszközök felújítása | B87: K73 | C87: ='kiadások korm. funkciónként'!C89 -> 0 | D87: ='kiadások korm. funkciónként'!D89 -> 0 | E87: ='kiadások korm. funkciónként'!E89 -> 0 | F87: =SUM(C87:E87) -> 0 | G87: =F87 -> 0
A88: Felújítási célú előzetesen felszámított általános forgalmi adó | B88: K74 | C88: ='kiadások korm. funkciónként'!C90 -> 6839010 | D88: ='kiadások korm. funkciónként'!D90 -> 0 | E88: ='kiadások korm. funkciónként'!E90 -> 0 | F88: =SUM(C88:E88) -> 6839010 | G88: =F88 -> 6839010
A89: Felújítások | B89: K7 | C89: =SUM(C85:C88) -> 33167231 | D89: =SUM(D85:D88) -> 0 | E89: =SUM(E85:E88) -> 0 | F89: =SUM(C89:E89) -> 33167231 | G89: =F89 -> 33167231
A90: Felhalmozási célú garancia- és kezességvállalásból származó kifizetés államháztartáson belülre | B90: K81 | C90: ='kiadások korm. funkciónként'!C92 -> 0 | D90: ='kiadások korm. funkciónként'!D92 -> 0 | E90: ='kiadások korm. funkciónként'!E92 -> 0 | F90: =SUM(C90:E90) -> 0 | G90: =F90 -> 0
A91: Felhalmozási célú visszatérítendő támogatások, kölcsönök nyújtása államháztartáson belülre | B91: K82 | C91: ='kiadások korm. funkciónként'!C93 -> 0 | D91: ='kiadások korm. funkciónként'!D93 -> 0 | E91: ='kiadások korm. funkciónként'!E93 -> 0 | F91: =SUM(C91:E91) -> 0 | G91: =F91 -> 0
A92: Felhalmozási célú visszatérítendő támogatások, kölcsönök törlesztése államháztartáson belülre | B92: K83 | C92: ='kiadások korm. funkciónként'!C94 -> 0 | D92: ='kiadások korm. funkciónként'!D94 -> 0 | E92: ='kiadások korm. funkciónként'!E94 -> 0 | F92: =SUM(C92:E92) -> 0 | G92: =F92 -> 0
A93: Egyéb felhalmozási célú támogatások államháztartáson belülre | B93: K84 | C93: ='kiadások korm. funkciónként'!C95 -> 0 | D93: ='kiadások korm. funkciónként'!D95 -> 0 | E93: ='kiadások korm. funkciónként'!E95 -> 0 | F93: =SUM(C93:E93) -> 0 | G93: =F93 -> 0
A94: Felhalmozási célú garancia- és kezességvállalásból származó kifizetés államháztartáson kívülre | B94: K85 | C94: ='kiadások korm. funkciónként'!C96 -> 0 | D94: ='kiadások korm. funkciónként'!D96 -> 0 | E94: ='kiadások korm. funkciónként'!E96 -> 0 | F94: =SUM(C94:E94) -> 0 | G94: =F94 -> 0
A95: Felhalmozási célú visszatérítendő támogatások, kölcsönök nyújtása államháztartáson kívülre | B95: K86 | C95: ='kiadások korm. funkciónként'!C97 -> 0 | D95: ='kiadások korm. funkciónként'!D97 -> 0 | E95: ='kiadások korm. funkciónként'!E97 -> 0 | F95: =SUM(C95:E95) -> 0 | G95: =F95 -> 0
A96: Lakástámogatás | B96: K87 | C96: ='kiadások korm. funkciónként'!C98 -> 0 | D96: ='kiadások korm. funkciónként'!D98 -> 0 | E96: ='kiadások korm. funkciónként'!E98 -> 0 | F96: =SUM(C96:E96) -> 0 | G96: =F96 -> 0
A97: Egyéb felhalmozási célú támogatások államháztartáson kívülre | B97: K88 | C97: ='kiadások korm. funkciónként'!C99 -> 0 | D97: ='kiadások korm. funkciónként'!D99 -> 0 | E97: ='kiadások korm. funkciónként'!E99 -> 0 | F97: =SUM(C97:E97) -> 0 | G97: =F97 -> 0
A98: Egyéb felhalmozási célú kiadások | B98: K8 | C98: =SUM(C90:C97) -> 0 | D98: =SUM(D90:D97) -> 0 | E98: =SUM(E90:E97) -> 0 | F98: =SUM(C98:E98) -> 0 | G98: =F98 -> 0
A99: Felhalmozási költségvetés előirányzat csoport | C99: =C84+C89+C98 -> 36527481 | D99: =D84+D89+D98 -> 508000 | E99: =E84+E89+E98 -> 0 | F99: =F84+F89+F98 -> 37035481 | G99: =F99 -> 37035481
A100: Költségvetési kiadások | B100: K1-K8 | C100: =C26+C27+C52+C61+C75+C84+C89+C98 -> 200127219 | D100: =D26+D27+D52+D61+D75+D84+D89+D98 -> 66201763 | E100: =E26+E27+E52+E61+E75+E84+E89+E98 -> 31142348 | F100: =SUM(C100:E100) -> 297471330 | G100: =F100 -> 297471330
A101: Hosszú lejáratú hitelek, kölcsönök törlesztése | B101: K9111 | C101: ='kiadások korm. funkciónként'!C103 -> 0 | D101: ='kiadások korm. funkciónként'!D103 -> 0 | E101: ='kiadások korm. funkciónként'!E103 -> 0 | F101: =SUM(C101:E101) -> 0 | G101: =SUM(D101:F101) -> 0
...

Sheet  Melléklet 2020
A1: Szőc Község Önkormányzata
A2: 2020. évi költségvetés
A5: Mellékletek
A7: Kötelező mellékletek:
A9: 1. melléklet | B9: Címrend
A10: 2. melléklet | B10: Kiemelt előirányzatok Önkormányzat
A11: 3.melléklet | B11: Kiadások működési és felhalmozási bontásban
A12: 4. melléklet | B12: Betételek működési és felhalmozási bontásban, költségvetési egyenleg
A13: 5. melléklet | B13: Létszámkeret
A16: Tájékoztató mellékletek:
A18: 6. melléklet | B18: Szociális kiadások
A19: 7. melléklet | B19: Átadott pénzeszközök
A20: 8. melléklet | B20: Átvett pénzeszközök
A21: 9. melléklet | B21: Helyi adók
A22: 10. melléklet | B22: Beruházások, felújítások
A23: 11. melléklet | B23: Tartalékok
A24: 12. melléklet | B24: Stabilitás 1.
A25: 13. melléklet | B25: Stabilitás 2.
A26: 14. melléklet | B26: EU projektek
A27: 15. melléklet | B27: Hitelek
A28: 16. melléklet | B28: Finanszírozás
A29: 17. melléklet | B29: Előirányzat felhasználási terv
... A37: 25. melléklet | B37: Összevont költségvetési mérleg

Sheet 1.sz.m.címrend
A1: Címszám | B1: Alcímszám
A2: 1. | C2: Önkormányzat összesen
B3: 1. | C3: Önkormányzat

Sheet 2.sz.m.kiemelt ei
A1: 2. melléklet az …./2020.(…....) rendelethez
A2: Szőc Község Önkormányzata
A4: 2020. évi költségvetés összesítője
A5: Az egységes rovatrend szerint a kiemelt kiadási és bevételi jogcímek (Ft)
A8: Megnevezés | B8: 2020.évi eredeti előirányzat | C8: Változás | D8: Módosítottt előirányzat | E8: Változás | F8: Jóváhagyott előirányzat
A9: K1. Személyi juttatások | B9: ='3.sz.m.kiadások M-F'!C26 -> 12877000 | C9: 0 | D9: =SUM(B9:C9) -> 12877000 | E9: 0 | F9: =SUM(D9:E9) -> 12877000
A10: K2. Munkaadókat terhelő járulékok és szociális hozzájárulási adó | B10: ='3.sz.m.kiadások M-F'!C27 -> 2249000 | C10: 0 | D10: =SUM(B10:C10) -> 2249000 | E10: 0 | F10: =SUM(D10:E10) -> 2249000
A11: K3. Dologi kiadások | B11: ='3.sz.m.kiadások M-F'!C52 -> 11493000 | C11: 1321052 | D11: =SUM(B11:C11) -> 12814052 | E11: 213050 | F11: =SUM(D11:E11) -> 13027102
A12: K4. Ellátottak pénzbeli juttatásai | B12: ='3.sz.m.kiadások M-F'!C61 -> 6712468 | C12: 0 | D12: =SUM(B12:C12) -> 6712468 | E12: 0 | F12: =SUM(D12:E12) -> 6712468
A13: K5. Egyéb működési célú kiadások | B13: ='3.sz.m.kiadások M-F'!C75 -> 10613251 | C13: -686952 | D13: =SUM(B13:C13) -> 9926299 | E13: 369843 | F13: =SUM(D13:E13) -> 10296142
A14: K6. Beruházási kiadások | B14: ='3.sz.m.kiadások M-F'!C84 -> 2645500 | C14: 265900 | D14: =SUM(B14:C14) -> 2911400 | E14: 1888115 | F14: =SUM(D14:E14) -> 4799515
A15: K7. Felújítások | B15: ='3.sz.m.kiadások M-F'!C89 -> 8651000 | C15: -1270000 | D15: =SUM(B15:C15) -> 7381000 | E15: 6997181 | F15: =SUM(D15:E15) -> 14378181
A16: K8. Egyéb felhalmozási célú kiadások | B16: ='3.sz.m.kiadások M-F'!C98 -> 0 | C16: 0 | D16: =SUM(B16:C16) -> 0 | E16: 0 | F16: =SUM(D16:E16) -> 0
A17: K1-8. Költségvetési kiadások | B17: =SUM(B9:B16) -> 55241219 | C17: =SUM(C9:C16) -> -370000 | D17: =SUM(D9:D16) -> 54871219 | E17: =SUM(E9:E16) -> 9468189 | F17: =SUM(F9:F16) -> 64339408
A18: K9. Finanszírozási kiadások | B18: ='3.sz.m.kiadások M-F'!C123 -> 1135000 | C18: 500000 | D18: =SUM(B18:C18) -> 1635000 | E18: 0 | F18: =SUM(D18:E18) -> 1635000
A19: KIADÁSOK ÖSSZESEN (K1-9) | B19: =B17+B18 -> 56376219 | C19: =SUM(C17:C18) -> 130000 | D19: =SUM(B19:C19) -> 56506219 | E19: =SUM(E17:E18) -> 9468189 | F19: =SUM(D19:E19) -> 65974408
A20: B1. Működési célú támogatások államháztartáson belülről | B20: 36628759 | C20: 0 | D20: =SUM(B20:C20) -> 36628759 | E20: 433000 | F20: =SUM(D20:E20) -> 37061759
A21: B2. Felhalmozási célú támogatások államháztartáson belülről | B21: ='4.sz.m.bevételek M-F'!C57 -> 1000000 | C21: 0 | D21: =SUM(B21:C21) -> 1000000 | E21: 7996296 | F21: =SUM(D21:E21) -> 8996296
A22: B3. Közhatalmi bevételek | B22: ='4.sz.m.bevételek M-F'!C34 -> 2300000 | C22: -370000 | D22: =SUM(B22:C22) -> 1930000 | E22: 0 | F22: =SUM(D22:E22) -> 1930000
A23: B4. Működési bevételek | B23: 832000 | C23: 0 | D23: =SUM(B23:C23) -> 832000 | E23: 1038893 | F23: =SUM(D23:E23) -> 1870893
A24: B5. Felhalmozási bevételek | B24: ='4.sz.m.bevételek M-F'!C63 -> 0 | C24: 0 | D24: =SUM(B24:C24) -> 0 | E24: 0 | F24: =SUM(D24:E24) -> 0
A25: B6. Működési célú átvett pénzeszközök | B25: ='4.sz.m.bevételek M-F'!C50 -> 300000 | C25: 0 | D25: =SUM(B25:C25) -> 300000 | E25: 0 | F25: =SUM(D25:E25) -> 300000
A26: B7. Felhalmozási célú átvett pénzeszközök | B26: ='4.sz.m.bevételek M-F'!C67 -> 0 | C26: 0 | D26: =SUM(B26:C26) -> 0 | E26: 0 | F26: =SUM(D26:E26) -> 0
A27: B1-7. Költségvetési bevételek | B27: =SUM(B20:B26) -> 41060759 | C27: =SUM(C20:C26) -> -370000 | D27: =SUM(B27:C27) -> 40690759 | E27: =SUM(E20:E26) -> 9468189 | F27: =SUM(D27:E27) -> 50158948
A28: B8. Finanszírozási bevételek | B28: ='4.sz.m.bevételek M-F'!C96 -> 15315460 | C28: 500000 | D28: =SUM(B28:C28) -> 15815460 | E28: 0 | F28: =SUM(D28:E28) -> 15815460
A29: BEVÉTELEK ÖSSZESEN (B1-8) | B29: =B27+B28 -> 56376219 | C29: =SUM(C27:C28) -> 130000 | D29: =SUM(D27:D28) -> 56506219 | E29: =SUM(E27:E28) -> 9468189 | F29: =SUM(F27:F28) -> 65974408

Sheet 3.sz.m.kiadások M-F
A1: 3. melléklet az …../2020.(…........) rendelethez
A2: Szőc Község Önkormányzata
A3: 2020. évi költségvetés
A4: Kiadások (Ft)
A6: ELŐIRÁNYZATOK
A7: Rovat megnevezése | B7: Rovat-szám | C7: 2020. évi erdeti előirányzat | D7: Változás | E7: Módosított előirányzat | F7: Változás | G7: Jóváhagyott előirányzat
A8: Törvény szerinti illetmények, munkabérek | B8: K1101 | C8: 9555000 | D8: =-3938000-10000-117000 -> -4065000 | E8: =SUM(C8:D8) -> 5490000 | F8: 0 | G8: =SUM(E8:F8) -> 5490000
A9: Normatív jutalmak | B9: K1102 | C9: 657000 | D9: 0 | E9: =SUM(C9:D9) -> 657000 | F9: 0 | G9: =SUM(E9:F9) -> 657000
A10: Céljuttatás, projektprémium | B10: K1103 | C10: 0 | D10: 0 | E10: =SUM(C10:D10) -> 0 | F10: 0 | G10: =SUM(E10:F10) -> 0
A11: Készenléti, ügyeleti, helyettesítési díj, túlóra, túlszolgálat | B11: K1104 | C11: ='22.sz.kiadások korm. funk.'!C13 -> 0 | D11: 0 | E11: =SUM(C11:D11) -> 0 | F11: 0 | G11: =SUM(E11:F11) -> 0
A12: Végkielégítés | B12: K1105 | C12: ='22.sz.kiadások korm. funk.'!C14 -> 0 | D12: 0 | E12: =SUM(C12:D12) -> 0 | F12: 0 | G12: =SUM(E12:F12) -> 0
A13: Jubileumi jutalom | B13: K1106 | C13: ='22.sz.kiadások korm. funk.'!C15 -> 0 | D13: 0 | E13: =SUM(C13:D13) -> 0 | F13: 0 | G13: =SUM(E13:F13) -> 0
A14: Béren kívüli juttatások | B14: K1107 | C14: 200000 | D14: 0 | E14: =SUM(C14:D14) -> 200000 | F14: 0 | G14: =SUM(E14:F14) -> 200000
A15: Ruházati költségtérítés | B15: K1108 | C15: ='22.sz.kiadások korm. funk.'!C17 -> 0 | D15: 0 | E15: =SUM(C15:D15) -> 0 | F15: 0 | G15: =SUM(E15:F15) -> 0
A16: Közlekedési költségtérítés | B16: K1109 | C16: ='22.sz.kiadások korm. funk.'!C18 -> 0 | D16: 0 | E16: =SUM(C16:D16) -> 0 | F16: 0 | G16: =SUM(E16:F16) -> 0
A17: Egyéb költségtérítések | B17: K1110 | C17: ='22.sz.kiadások korm. funk.'!C19 -> 0 | D17: 0 | E17: =SUM(C17:D17) -> 0 | F17: 0 | G17: =SUM(E17:F17) -> 0
A18: Lakhatási támogatások | B18: K1111 | C18: ='22.sz.kiadások korm. funk.'!C20 -> 0 | D18: 0 | E18: =SUM(C18:D18) -> 0 | F18: 0 | G18: =SUM(E18:F18) -> 0
A19: Szociális támogatások | B19: K1112 | C19: ='22.sz.kiadások korm. funk.'!C21 -> 0 | D19: 0 | E19: =SUM(C19:D19) -> 0 | F19: 0 | G19: =SUM(E19:F19) -> 0
A20: Foglalkoztatottak egyéb személyi juttatásai | B20: K1113 | C20: 0 | D20: =10000+117000 -> 127000 | E20: =SUM(C20:D20) -> 127000 | F20: 0 | G20: =SUM(E20:F20) -> 127000
A21: Foglalkoztatottak személyi juttatásai | B21: K11 | C21: =SUM(C8:C20) -> 10412000 | D21: =SUM(D8:D20) -> -3938000 | E21: =SUM(E8:E20) -> 6474000 | F21: =SUM(F8:F20) -> 0 | G21: =SUM(G8:G20) -> 6474000
A22: Választott tisztségviselők juttatásai | B22: K121 | C22: 2162000 | D22: 3938000 | E22: =SUM(C22:D22) -> 6100000 | F22: 0 | G22: =SUM(E22:F22) -> 6100000
A23: Munkavégzésre irányuló egyéb jogviszonyban nem saját foglalkoztatottnak fizetett juttatások | B23: K122 | C23: ='22.sz.kiadások korm. funk.'!C25 -> 0 | D23: 0 | E23: =SUM(C23:D23) -> 0 | F23: 0 | G23: =SUM(E23:F23) -> 0
A24: Egyéb külső személyi juttatások | B24: K123 | C24: 303000 | D24: 0 | E24: =SUM(C24:D24) -> 303000 | F24: 0 | G24: =SUM(E24:F24) -> 303000
A25: Külső személyi juttatások | B25: K12 | C25: =SUM(C22:C24) -> 2465000 | D25: =SUM(D22:D24) -> 3938000 | E25: =SUM(E22:E24) -> 6403000 | F25: =SUM(F22:F24) -> 0 | G25: =SUM(G22:G24) -> 6403000
A26: Személyi juttatások | B26: K1 | C26: =C21+C25 -> 12877000 | D26: =D21+D25 -> 0 | E26: =E21+E25 -> 12877000 | F26: =F21+F25 -> 0 | G26: =G21+G25 -> 12877000
A27: Munkaadókat terhelő járulékok és szociális hozzájárulási adó | B27: K2 | C27: 2249000 | D27: 0 | E27: 2249000 | F27: 0 | G27: 2249000
A28: Szakmai anyagok beszerzése | B28: K311 | C28: 43000 | D28: 0 | E28: =SUM(C28:D28) -> 43000 | F28: 0 | G28: =SUM(E28:F28) -> 43000
A29: Üzemeltetési anyagok beszerzése | B29: K312 | C29: 2410000 | D29: -50000 | E29: =SUM(C29:D29) -> 2360000 | F29: 0 | G29: =SUM(E29:F29) -> 2360000
A30: Árubeszerzés | B30: K313 | C30: ='22.sz.kiadások korm. funk.'!C32 -> 0 | D30: 0 | E30: =SUM(C30:D30) -> 0 | F30: 0 | G30: =SUM(E30:F30) -> 0
A31: Készletbeszerzés | B31: K31 | C31: =SUM(C28:C30) -> 2453000 | D31: =SUM(D28:D30) -> -50000 | E31: =SUM(E28:E30) -> 2403000 | F31: =SUM(F28:F30) -> 0 | G31: =SUM(G28:G30) -> 2403000
A32: Informatikai szolgáltatások igénybevétele | B32: K321 | C32: 94000 | D32: =16000+2440+13800+50000 -> 82240 | E32: =SUM(C32:D32) -> 176240 | F32: 110000 | G32: =SUM(E32:F32) -> 286240
A33: Egyéb kommunikációs szolgáltatások | B33: K322 | C33: 34000 | D33: =2772+13800 -> 16572 | E33: =SUM(C33:D33) -> 50572 | F33: 55000 | G33: =SUM(E33:F33) -> 105572
A34: Kommunikációs szolgáltatások | B34: K32 | C34: =SUM(C32:C33) -> 128000 | D34: =SUM(D32:D33) -> 98812 | E34: =SUM(E32:E33) -> 226812 | F34: =SUM(F32:F33) -> 165000 | G34: =SUM(G32:G33) -> 391812
A35: Közüzemi díjak | B35: K331 | C35: 2215000 | D35: 0 | E35: =SUM(C35:D35) -> 2215000 | F35: 258898 | G35: =SUM(E35:F35) -> 2473898
A36: Vásárolt élelmezés | B36: K332 | C36: 850000 | D36: 0 | E36: =SUM(C36:D36) -> 850000 | F36: 0 | G36: =SUM(E36:F36) -> 850000
A37: Bérleti és lízing díjak | B37: K333 | C37: 5000 | D37: 0 | E37: =SUM(C37:D37) -> 5000 | F37: 2000 | G37: =SUM(E37:F37) -> 7000
A38: Karbantartási, kisjavítási szolgáltatások | B38: K334 | C38: 574000 | D38: 1000000 | E38: =SUM(C38:D38) -> 1574000 | F38: 0 | G38: =SUM(E38:F38) -> 1574000
A39: Közvetített szolgáltatások | B39: K335 | C39: ='22.sz.kiadások korm. funk.'!C41 -> 0 | D39: 0 | E39: =SUM(C39:D39) -> 0 | F39: 0 | G39: =SUM(E39:F39) -> 0
A40: Szakmai tevékenységet segítő szolgáltatások | B40: K336 | C40: 15000 | D40: 0 | E40: =SUM(C40:D40) -> 15000 | F40: 110000 | G40: =SUM(E40:F40) -> 125000
A41: Egyéb szolgáltatások | B41: K337 | C41: 2400000 | D41: -5212 | E41: =SUM(C41:D41) -> 2394788 | F41: 0 | G41: =SUM(E41:F41) -> 2394788
A42: Szolgáltatási kiadások | B42: K33 | C42: =SUM(C35:C41) -> 6059000 | D42: =SUM(D35:D41) -> 994788 | E42: =SUM(E35:E41) -> 7053788 | F42: =SUM(F35:F41) -> 370898 | G42: =SUM(G35:G41) -> 7424686
A43: Kiküldetések kiadásai | B43: K341 | C43: ='22.sz.kiadások korm. funk.'!C45 -> 0 | D43: 0 | E43: =SUM(C43:D43) -> 0 | F43: 0 | G43: =SUM(E43:F43) -> 0
A44: Reklám- és propagandakiadások | B44: K342 | C44: ='22.sz.kiadások korm. funk.'!C46 -> 0 | D44: 0 | E44: =SUM(C44:D44) -> 0 | F44: 0 | G44: =SUM(E44:F44) -> 0
A45: Kiküldetések, reklám- és propagandakiadások | B45: K34 | C45: =SUM(C43:C44) -> 0 | D45: =SUM(D43:D44) -> 0 | E45: =SUM(E43:E44) -> 0 | F45: =SUM(F43:F44) -> 0 | G45: =SUM(G43:G44) -> 0
A46: Működési célú előzetesen felszámított általános forgalmi adó | B46: K351 | C46: 2153000 | D46: =3726+3726+270000 -> 277452 | E46: =SUM(C46:D46) -> 2430452 | F46: 74152 | G46: =SUM(E46:F46) -> 2504604
A47: Fizetendő általános forgalmi adó | B47: K352 | C47: ='22.sz.kiadások korm. funk.'!C49 -> 0 | D47: 0 | E47: =SUM(C47:D47) -> 0 | F47: 0 | G47: =SUM(E47:F47) -> 0
A48: Kamatkiadások | B48: K353 | C48: ='22.sz.kiadások korm. funk.'!C50 -> 0 | D48: 0 | E48: =SUM(C48:D48) -> 0 | F48: 0 | G48: =SUM(E48:F48) -> 0
A49: Egyéb pénzügyi műveletek kiadásai | B49: K354 | C49: ='22.sz.kiadások korm. funk.'!C51 -> 0 | D49: 0 | E49: =SUM(C49:D49) -> 0 | F49: 0 | G49: =SUM(E49:F49) -> 0
A50: Egyéb dologi kiadások | B50: K355 | C50: 700000 | D50: 0 | E50: =SUM(C50:D50) -> 700000 | F50: -397000 | G50: =SUM(E50:F50) -> 303000
A51: Különféle befizetések és egyéb dologi kiadások | B51: K35 | C51: =SUM(C46:C50) -> 2853000 | D51: =SUM(D46:D50) -> 277452 | E51: =SUM(E46:E50) -> 3130452 | F51: =SUM(F46:F50) -> -322848 | G51: =SUM(G46:G50) -> 2807604
A52: Dologi kiadások | B52: K3 | C52: =C31+C34+C45+C42+C51 -> 11493000 | D52: =D31+D34+D45+D42+D51 -> 1321052 | E52: =E31+E34+E45+E42+E51 -> 12814052 | F52: =F31+F34+F45+F42+F51 -> 213050 | G52: =G31+G34+G45+G42+G51 -> 13027102
A53: Társadalombiztosítási ellátások | B53: K41 | C53: ='22.sz.kiadások korm. funk.'!C55 -> 0 | D53: 0 | E53: =SUM(C53:D53) -> 0 | F53: 0 | G53: =SUM(E53:F53) -> 0
A54: Családi támogatások | B54: K42 | C54: ='22.sz.kiadások korm. funk.'!C56 -> 0 | D54: 0 | E54: =SUM(C54:D54) -> 0 | F54: 0 | G54: =SUM(E54:F54) -> 0
A55: Pénzbeli kárpótlások, kártérítések | B55: K43 | C55: ='22.sz.kiadások korm. funk.'!C57 -> 0 | D55: 0 | E55: =SUM(C55:D55) -> 0 | F55: 0 | G55: =SUM(E55:F55) -> 0
A56: Betegséggel kapcsolatos (nem társadalombiztosítási) ellátások | B56: K44 | C56: ='22.sz.kiadások korm. funk.'!C58 -> 0 | D56: 0 | E56: =SUM(C56:D56) -> 0 | F56: 0 | G56: =SUM(E56:F56) -> 0
A57: Foglalkoztatással, munkanélküliséggel kapcsolatos ellátások | B57: K45 | C57: ='22.sz.kiadások korm. funk.'!C59 -> 0 | D57: 0 | E57: =SUM(C57:D57) -> 0 | F57: 0 | G57: =SUM(E57:F57) -> 0
A58: Lakhatással kapcsolatos ellátások | B58: K46 | C58: ='22.sz.kiadások korm. funk.'!C60 -> 0 | D58: 0 | E58: =SUM(C58:D58) -> 0 | F58: 0 | G58: =SUM(E58:F58) -> 0
A59: Intézményi ellátottak pénzbeli juttatásai | B59: K47 | C59: ='22.sz.kiadások korm. funk.'!C61 -> 0 | D59: 0 | E59: =SUM(C59:D59) -> 0 | F59: 0 | G59: =SUM(E59:F59) -> 0
A60: Egyéb nem intézményi ellátások | B60: K48 | C60: 6712468 | D60: 0 | E60: =SUM(C60:D60) -> 6712468 | F60: 0 | G60: =SUM(E60:F60) -> 6712468
A61: Ellátottak pénzbeli juttatásai | B61: K4 | C61: =SUM(C53:C60) -> 6712468 | D61: =SUM(D53:D60) -> 0 | E61: =SUM(E53:E60) -> 6712468 | F61: =SUM(F53:F60) -> 0 | G61: =SUM(G53:G60) -> 6712468
A62: Nemzetközi kötelezettségek | B62: K501 | C62: ='22.sz.kiadások korm. funk.'!C64 -> 0 | D62: 0 | E62: =SUM(C62:D62) -> 0 | F62: 0 | G62: =SUM(E62:F62) -> 0
A63: Elvonások és befizetések | B63: K502 | C63: 0 | D63: =4000+68022 -> 72022 | E63: =SUM(C63:D63) -> 72022 | F63: 0 | G63: =SUM(E63:F63) -> 72022
A64: Működési célú garancia- és kezességvállalásból származó kifizetés államháztartáson belülre | B64: K503 | C64: ='22.sz.kiadások korm. funk.'!C66 -> 0 | D64: 0 | E64: =SUM(C64:D64) -> 0 | F64: 0 | G64: =SUM(E64:F64) -> 0
A65: Működési célú visszatérítendő támogatások, kölcsönök nyújtása államháztartáson belülre | B65: K504 | C65: ='22.sz.kiadások korm. funk.'!C67 -> 0 | D65: 0 | E65: =SUM(C65:D65) -> 0 | F65: 0 | G65: =SUM(E65:F65) -> 0
A66: Működési célú visszatérítendő támogatások, kölcsönök törlesztése államháztartáson belülre | B66: K505 | C66: ='22.sz.kiadások korm. funk.'!C68 -> 0 | D66: 0 | E66: =SUM(C66:D66) -> 0 | F66: 0 | G66: =SUM(E66:F66) -> 0
A67: Egyéb működési célú támogatások államháztartáson belülre | B67: K506 | C67: 1060000 | D67: 0 | E67: =SUM(C67:D67) -> 1060000 | F67: 0 | G67: =SUM(E67:F67) -> 1060000
A68: Működési célú garancia- és kezességvállalásból származó kifizetés államháztartáson kívülre | B68: K507 | C68: ='22.sz.kiadások korm. funk.'!C70 -> 0 | D68: 0 | E68: =SUM(C68:D68) -> 0 | F68: 0 | G68: =SUM(E68:F68) -> 0
A69: Működési célú visszatérítendő támogatások, kölcsönök nyújtása államháztartáson kívülre | B69: K508 | C69: 300000 | D69: 0 | E69: =SUM(C69:D69) -> 300000 | F69: 0 | G69: =SUM(E69:F69) -> 300000
A70: Árkiegészítések, ártámogatások | B70: K509 | C70: ='22.sz.kiadások korm. funk.'!C72 -> 0 | D70: 0 | E70: =SUM(C70:D70) -> 0 | F70: 0 | G70: =SUM(E70:F70) -> 0
A71: Kamattámogatások | B71: K510 | C71: ='22.sz.kiadások korm. funk.'!C73 -> 0 | D71: 0 | E71: =SUM(C71:D71) -> 0 | F71: 0 | G71: =SUM(E71:F71) -> 0
A72: Egyéb működési célú támogatások államháztartáson kívülre | B72: K512 | C72: 342000 | D72: 0 | E72: =SUM(C72:D72) -> 342000 | F72: 0 | G72: =SUM(E72:F72) -> 342000
A73: Tartalékok-általános | B73: K513 | C73: 6822644 | D73: =-16000-17526-17526-4000-175900-68022-90000-370000 -> -758974 | E73: =SUM(C73:D73) -> 6063670 | F73: 369843 | G73: =SUM(E73:F73) -> 6433513
A74: Tartalékok-cél | B74: K513 | C74: 2088607 | D74: 0 | E74: =SUM(C74:D74) -> 2088607 | F74: 0 | G74: =SUM(E74:F74) -> 2088607
A75: Egyéb működési célú kiadások | B75: K5 | C75: =SUM(C62:C74) -> 10613251 | D75: =SUM(D62:D74) -> -686952 | E75: =SUM(E62:E74) -> 9926299 | F75: =SUM(F62:F74) -> 369843 | G75: =SUM(G62:G74) -> 10296142
A76: Működési költségvetés előirányzat csoport | C76: =C26+C27+C52+C61+C75 -> 43944719 | D76: =D26+D27+D52+D61+D75 -> 634100 | E76: =E26+E27+E52+E61+E75 -> 44578819 | F76: =F26+F27+F52+F61+F75 -> 582893 | G76: =G26+G27+G52+G61+G75 -> 45161712
A77: Immateriális javak beszerzése, létesítése | B77: K61 | C77: 0 | D77: 70000 | E77: =SUM(C77:D77) -> 70000 | F77: 0 | G77: =SUM(E77:F77) -> 70000
A78: Ingatlanok beszerzése, létesítése | B78: K62 | C78: 1000000 | D78: 0 | E78: =SUM(C78:D78) -> 1000000 | F78: 0 | G78: =SUM(E78:F78) -> 1000000
A79: Informatikai eszközök beszerzése, létesítése | B79: K63 | D79: 138500 | E79: =SUM(C79:D79) -> 138500 | F79: 0 | G79: =SUM(E79:F79) -> 138500
A80: Egyéb tárgyi eszközök beszerzése, létesítése | B80: K64 | C80: 1083071 | D80: 0 | E80: =SUM(C80:D80) -> 1083071 | F80: 1486705 | G80: =SUM(E80:F80) -> 2569776
A81: Részesedések beszerzése | B81: K65 | C81: ='22.sz.kiadások korm. funk.'!C83 -> 0 | D81: 0 | E81: =SUM(C81:D81) -> 0 | F81: 0 | G81: =SUM(E81:F81) -> 0
A82: Meglévő részesedések növeléséhez kapcsolódó kiadások | B82: K66 | C82: ='22.sz.kiadások korm. funk.'!C84 -> 0 | D82: 0 | E82: =SUM(C82:D82) -> 0 | F82: 0 | G82: =SUM(E82:F82) -> 0
A83: Beruházási célú előzetesen felszámított általános forgalmi adó | B83: K67 | C83: 562429 | D83: =37400+20000 -> 57400 | E83: =SUM(C83:D83) -> 619829 | F83: 401409 | G83: =SUM(E83:F83) -> 1021238
A84: Beruházások | B84: K6 | C84: =SUM(C77:C83) -> 2645500 | D84: =SUM(D77:D83) -> 265900 | E84: =SUM(E77:E83) -> 2911400 | F84: =SUM(F77:F83) -> 1888114 | G84: =SUM(G77:G83) -> 4799514
A85: Ingatlanok felújítása | B85: K71 | C85: 6811811 | D85: -1000000 | E85: =SUM(C85:D85) -> 5811811 | F85: 5509592 | G85: =SUM(E85:F85) -> 11321403
A86: Informatikai eszközök felújítása | B86: K72 | C86: ='22.sz.kiadások korm. funk.'!C88 -> 0 | D86: 0 | E86: =SUM(C86:D86) -> 0 | F86: 0 | G86: =SUM(E86:F86) -> 0
A87: Egyéb tárgyi eszközök felújítása | B87: K73 | C87: ='22.sz.kiadások korm. funk.'!C89 -> 0 | D87: 0 | E87: =SUM(C87:D87) -> 0 | F87: 0 | G87: =SUM(E87:F87) -> 0
A88: Felújítási célú előzetesen felszámított általános forgalmi adó | B88: K74 | C88: 1839189 | D88: -270000 | E88: =SUM(C88:D88) -> 1569189 | F88: 1487590 | G88: =SUM(E88:F88) -> 3056779
A89: Felújítások | B89: K7 | C89: =SUM(C85:C88) -> 8651000 | D89: =SUM(D85:D88) -> -1270000 | E89: =SUM(E85:E88) -> 7381000 | F89: =SUM(F85:F88) -> 6997182 | G89: =SUM(G85:G88) -> 14378182
A90: Felhalmozási célú garancia- és kezességvállalásból származó kifizetés államháztartáson belülre | B90: K81 | C90: ='22.sz.kiadások korm. funk.'!C92 -> 0 | D90: 0 | E90: =SUM(C90:D90) -> 0 | F90: 0 | G90: =SUM(E90:F90) -> 0
A91: Felhalmozási célú visszatérítendő támogatások, kölcsönök nyújtása államháztartáson belülre | B91: K82 | C91: ='22.sz.kiadások korm. funk.'!C93 -> 0 | D91: 0 | E91: =SUM(C91:D91) -> 0 | F91: 0 | G91: =SUM(E91:F91) -> 0
A92: Felhalmozási célú visszatérítendő támogatások, kölcsönök törlesztése államháztartáson belülre | B92: K83 | C92: ='22.sz.kiadások korm. funk.'!C94 -> 0 | D92: 0 | E92: =SUM(C92:D92) -> 0 | F92: 0 | G92: =SUM(E92:F92) -> 0
A93: Egyéb felhalmozási célú támogatások államháztartáson belülre | B93: K84 | C93: ='22.sz.kiadások korm. funk.'!C95 -> 0 | D93: 0 | E93: =SUM(C93:D93) -> 0 | F93: 0 | G93: =SUM(E93:F93) -> 0
A94: Felhalmozási célú garancia- és kezességvállalásból származó kifizetés államháztartáson kívülre | B94: K85 | C94: ='22.sz.kiadások korm. funk.'!C96 -> 0 | D94: 0 | E94: =SUM(C94:D94) -> 0 | F94: 0 | G94: =SUM(E94:F94) -> 0
A95: Felhalmozási célú visszatérítendő támogatások, kölcsönök nyújtása államháztartáson kívülre | B95: K86 | C95: ='22.sz.kiadások korm. funk.'!C97 -> 0 | D95: 0 | E95: =SUM(C95:D95) -> 0 | F95: 0 | G95: =SUM(E95:F95) -> 0
A96: Lakástámogatás | B96: K87 | C96: ='22.sz.kiadások korm. funk.'!C98 -> 0 | D96: 0 | E96: =SUM(C96:D96) -> 0 | F96: 0 | G96: =SUM(E96:F96) -> 0
A97: Egyéb felhalmozási célú támogatások államháztartáson kívülre | B97: K88 | C97: ='22.sz.kiadások korm. funk.'!C99 -> 0 | D97: 0 | E97: =SUM(C97:D97) -> 0 | F97: 0 | G97: =SUM(E97:F97) -> 0
A98: Egyéb felhalmozási célú kiadások | B98: K8 | C98: =SUM(C90:C97) -> 0 | D98: =SUM(D90:D97) -> 0 | E98: =SUM(E90:E97) -> 0 | F98: =SUM(F90:F97) -> 0 | G98: =SUM(G90:G97) -> 0
A99: Felhalmozási költségvetés előirányzat csoport | C99: =C84+C89+C98 -> 11296500 | D99: =D84+D89+D98 -> -1004100 | E99: =E84+E89+E98 -> 10292400 | F99: =F84+F89+F98 -> 8885296 | G99: =G84+G89+G98 -> 19177696
A100: Költségvetési kiadások | B100: K1-K8 | C100: =C26+C27+C52+C61+C75+C84+C89+C98 -> 55241219 | D100: =D26+D27+D52+D61+D75+D84+D89+D98 -> -370000 | E100: =E26+E27+E52+E61+E75+E84+E89+E98 -> 54871219 | F100: =F26+F27+F52+F61+F75+F84+F89+F98 -> 9468189 | G100: =G26+G27+G52+G61+G75+G84+G89+G98 -> 64339408
A101: Hosszú lejáratú hitelek, kölcsönök törlesztése | B101: K9111 | C101: ='22.sz.kiadások korm. funk.'!C103 -> 0 | D101: 0 | E101: =SUM(C101:D101) -> 0 | F101: 0 | G101: =SUM(E101:F101) -> 0
...

Sheet 4.sz.m.bevételek M-F
A1: 4. melléklet az …......./2020.(…...........) rendelethez
A2: =' Melléklet 2020'!A1:B1 -> Szőc Község Önkormányzata
A3: 2020. évi költségvetés
A4: Bevételek , költségvetési egyenleg (Ft)
A6: ÖNKORMÁNYZATI ELŐIRÁNYZATOK
A7: Rovat megnevezése | B7: Rovat- szám | C7: 2020.évi eredeti előirányzat | D7: Változás | E7: Módosított előirányzat | F7: Változás | G7: Jóváhagyott előirányzat
A8: Helyi önkormányzatok működésének általános támogatása | B8: B111 | C8: 15285891 | D8: 0 | E8: =SUM(C8:D8) -> 15285891 | F8: 0 | G8: =SUM(E8:F8) -> 15285891
A9: Települési önkormányzatok egyes köznevelési feladatainak támogatása | B9: B112 | C9: ='23.sz.bev. korm. funk.'!C10 -> 0 | D9: 0 | E9: =SUM(C9:D9) -> 0 | F9: 0 | G9: =SUM(E9:F9) -> 0
A10: Települési önkormányzatok szociális és gyermekjóléti feladatainak támogatása | B10: B113 | C10: 11296868 | D10: 0 | E10: =SUM(C10:D10) -> 11296868 | F10: 233000 | G10: =SUM(E10:F10) -> 11529868
A11: Települési önkormányzatok kulturális feladatainak támogatása | B11: B114 | C11: 1800000 | D11: 0 | E11: =SUM(C11:D11) -> 1800000 | F11: 200000 | G11: =SUM(E11:F11) -> 2000000
A12: Működési célú központosított előirányzatok | B12: B115 | C12: ='23.sz.bev. korm. funk.'!C13 -> 0 | D12: 0 | E12: =SUM(C12:D12) -> 0 | F12: 0 | G12: =SUM(E12:F12) -> 0
A13: Helyi önkormányzatok kiegészítő támogatásai | B13: B116 | C13: ='23.sz.bev. korm. funk.'!C14 -> 0 | D13: 0 | E13: =SUM(C13:D13) -> 0 | F13: 0 | G13: =SUM(E13:F13) -> 0
A14: Önkormányzatok működési támogatásai | B14: B11 | C14: =SUM(C8:C13) -> 28382759 | D14: =SUM(D8:D13) -> 0 | E14: =SUM(E8:E13) -> 28382759 | F14: =SUM(F8:F13) -> 433000 | G14: =SUM(G8:G13) -> 28815759
A15: Elvonások és befizetések bevételei | B15: B12 | C15: ='23.sz.bev. korm. funk.'!C16 -> 0 | D15: 0 | E15: =SUM(C15:D15) -> 0 | F15: 0 | G15: =SUM(E15:F15) -> 0
A16: Működési célú garancia- és kezességvállalásból származó megtérülések államháztartáson belülről | B16: B13 | C16: ='23.sz.bev. korm. funk.'!C17 -> 0 | D16: 0 | E16: =SUM(C16:D16) -> 0 | F16: 0 | G16: =SUM(E16:F16) -> 0
A17: Működési célú visszatérítendő támogatások, kölcsönök visszatérülése államháztartáson belülről | B17: B14 | C17: ='23.sz.bev. korm. funk.'!C18 -> 0 | D17: 0 | E17: =SUM(C17:D17) -> 0 | F17: 0 | G17: =SUM(E17:F17) -> 0
A18: Működési célú visszatérítendő támogatások, kölcsönök igénybevétele államháztartáson belülről | B18: B15 | C18: ='23.sz.bev. korm. funk.'!C19 -> 0 | D18: 0 | E18: =SUM(C18:D18) -> 0 | F18: 0 | G18: =SUM(E18:F18) -> 0
A19: Egyéb működési célú támogatások bevételei államháztartáson belülről | B19: B16 | C19: 8246000 | D19: 0 | E19: =SUM(C19:D19) -> 8246000 | F19: 0 | G19: =SUM(E19:F19) -> 8246000
A20: Működési célú támogatások államháztartáson belülről | B20: B1 | C20: =C14+SUM(C15:C19) -> 36628759 | D20: =D14+SUM(D15:D19) -> 0 | E20: =E14+SUM(E15:E19) -> 36628759 | F20: =F14+SUM(F15:F19) -> 433000 | G20: =G14+SUM(G15:G19) -> 37061759
A21: Magánszemélyek jövedelemadói | B21: B311 | C21: ='23.sz.bev. korm. funk.'!C22 -> 0 | D21: ='23.sz.bev. korm. funk.'!D22 -> 0 | E21: =SUM(C21:D21) -> 0 | F21: ='23.sz.bev. korm. funk.'!F22 -> 0 | G21: =SUM(E21:F21) -> 0
A22: Társaságok jövedelemadói | B22: B312 | C22: ='23.sz.bev. korm. funk.'!C23 -> 0 | D22: 0 | E22: =SUM(C22:D22) -> 0 | F22: 0 | G22: =SUM(E22:F22) -> 0
A23: Jövedelemadók | B23: B31 | C23: =SUM(C21:C22) -> 0 | D23: =SUM(D21:D22) -> 0 | E23: =SUM(E21:E22) -> 0 | F23: =SUM(F21:F22) -> 0 | G23: =SUM(G21:G22) -> 0
A24: Szociális hozzájárulási adó és járulékok | B24: B32 | C24: ='23.sz.bev. korm. funk.'!C25 -> 0 | D24: ='23.sz.bev. korm. funk.'!D25 -> 0 | E24: =SUM(C24:D24) -> 0 | F24: ='23.sz.bev. korm. funk.'!F25 -> 0 | G24: =SUM(E24:F24) -> 0
A25: Bérhez és foglalkoztatáshoz kapcsolódó adók | B25: B33 | C25: ='23.sz.bev. korm. funk.'!C26 -> 0 | D25: 0 | E25: =SUM(C25:D25) -> 0 | F25: 0 | G25: =SUM(E25:F25) -> 0
A26: Vagyoni tipusú adók | B26: B34 | C26: ='23.sz.bev. korm. funk.'!C27 -> 880000 | D26: 0 | E26: =SUM(C26:D26) -> 880000 | F26: 0 | G26: =SUM(E26:F26) -> 880000
A27: Értékesítési és forgalmi adók | B27: B351 | C27: 1000000 | D27: 0 | E27: =SUM(C27:D27) -> 1000000 | F27: 0 | G27: =SUM(E27:F27) -> 1000000
A28: Fogyasztási adók | B28: B352 | C28: ='23.sz.bev. korm. funk.'!C29 -> 0 | D28: 0 | E28: =SUM(C28:D28) -> 0 | F28: 0 | G28: =SUM(E28:F28) -> 0
A29: Pénzügyi monopóliumok nyereségét terhelő adók | B29: B353 | C29: ='23.sz.bev. korm. funk.'!C30 -> 0 | D29: 0 | E29: =SUM(C29:D29) -> 0 | F29: 0 | G29: =SUM(E29:F29) -> 0
A30: Gépjárműadók | B30: B354 | C30: 370000 | D30: -370000 | E30: =SUM(C30:D30) -> 0 | F30: 0 | G30: =SUM(E30:F30) -> 0
A31: Egyéb áruhasználati és szolgáltatási adók | B31: B355 | C31: ='23.sz.bev. korm. funk.'!C32 -> 0 | D31: 0 | E31: =SUM(C31:D31) -> 0 | F31: 0 | G31: =SUM(E31:F31) -> 0
A32: Termékek és szolgáltatások adói | B32: B35 | C32: =SUM(C27:C31) -> 1370000 | D32: =SUM(D27:D31) -> -370000 | E32: =SUM(E27:E31) -> 1000000 | F32: =SUM(F27:F31) -> 0 | G32: =SUM(G27:G31) -> 1000000
A33: Egyéb közhatalmi bevételek | B33: B36 | C33: ='23.sz.bev. korm. funk.'!C34 -> 50000 | D33: 0 | E33: =SUM(C33:D33) -> 50000 | F33: 0 | G33: =SUM(E33:F33) -> 50000
A34: Közhatalmi bevételek | B34: B3 | C34: =C23+C24+C25+C26+C32+C33 -> 2300000 | D34: =D23+D24+D25+D26+D32+D33 -> -370000 | E34: =E23+E24+E25+E26+E32+E33 -> 1930000 | F34: =F23+F24+F25+F26+F32+F33 -> 0 | G34: =G23+G24+G25+G26+G32+G33 -> 1930000
A35: Áru- és készletértékesítés ellenértéke | B35: B401 | C35: ='23.sz.bev. korm. funk.'!C36 -> 0 | D35: ='23.sz.bev. korm. funk.'!D36 -> 0 | E35: ='23.sz.bev. korm. funk.'!E36 -> 0 | F35: ='23.sz.bev. korm. funk.'!F36 -> 0 | G35: ='23.sz.bev. korm. funk.'!G36 -> 0
A36: Szolgáltatások ellenértéke | B36: B402 | C36: 300000 | D36: 0 | E36: 300000 | F36: 0 | G36: 300000
A37: Közvetített szolgáltatások értéke | B37: B403 | C37: 0 | D37: 0 | E37: ='23.sz.bev. korm. funk.'!E38 -> 0 | F37: 0 | G37: ='23.sz.bev. korm. funk.'!G38 -> 0
A38: Tulajdonosi bevételek | B38: B404 | C38: 132000 | D38: 0 | E38: 132000 | F38: 0 | G38: 132000
A39: Ellátási díjak | B39: B405 | C39: 400000 | D39: 0 | E39: 400000 | F39: 0 | G39: 400000
A40: Kiszámlázott általános forgalmi adó | B40: B406 | C40: ='23.sz.bev. korm. funk.'!C41 -> 0 | D40: 0 | E40: ='23.sz.bev. korm. funk.'!E41 -> 0 | F40: 0 | G40: ='23.sz.bev. korm. funk.'!G41 -> 0
A41: Általános forgalmi adó visszatérítése | B41: B407 | C41: ='23.sz.bev. korm. funk.'!C42 -> 0 | D41: 0 | E41: ='23.sz.bev. korm. funk.'!E42 -> 0 | F41: 0 | G41: ='23.sz.bev. korm. funk.'!G42 -> 0
A42: Kamatbevételek | B42: B408 | C42: ='23.sz.bev. korm. funk.'!C43 -> 0 | D42: 0 | E42: ='23.sz.bev. korm. funk.'!E43 -> 0 | F42: 0 | G42: ='23.sz.bev. korm. funk.'!G43 -> 0
A43: Egyéb pénzügyi műveletek bevételei | B43: B409 | C43: ='23.sz.bev. korm. funk.'!C44 -> 0 | D43: 0 | E43: ='23.sz.bev. korm. funk.'!E44 -> 0 | F43: 0 | G43: ='23.sz.bev. korm. funk.'!G44 -> 0
A44: Egyéb működési bevételek | B44: B410 | D44: 0 | E44: ='23.sz.bev. korm. funk.'!E45 -> 0 | F44: 0 | G44: ='23.sz.bev. korm. funk.'!G45 -> 0
A45: Egyéb működési bevételek | B45: B411 | C45: 0 | D45: 0 | E45: ='23.sz.bev. korm. funk.'!E46 -> 0 | F45: 1038893 | G45: 1038893
A46: Működési bevételek | B46: B4 | C46: =SUM(C35:C45) -> 832000 | D46: =SUM(D35:D45) -> 0 | E46: =SUM(E35:E45) -> 832000 | F46: =SUM(F35:F45) -> 1038893 | G46: =SUM(G35:G45) -> 1870893
A47: Működési célú garancia- és kezességvállalásból származó megtérülések államháztartáson kívülről | B47: B61 | C47: ='23.sz.bev. korm. funk.'!C48 -> 0 | D47: ='23.sz.bev. korm. funk.'!D48 -> 0 | E47: ='23.sz.bev. korm. funk.'!E48 -> 0 | F47: ='23.sz.bev. korm. funk.'!F48 -> 0 | G47: ='23.sz.bev. korm. funk.'!G48 -> 0
A48: Működési célú visszatérítendő támogatások visszatérülése | B48: B64 | C48: 300000 | D48: 0 | E48: 300000 | F48: 0 | G48: 300000
A49: Egyéb működési célú átvett pénzeszközök | B49: B63 | C49: 0 | D49: 0 | E49: ='23.sz.bev. korm. funk.'!E50 -> 0 | F49: 0 | G49: ='23.sz.bev. korm. funk.'!G50 -> 0
A50: Működési célú átvett pénzeszközök | B50: B6 | C50: =SUM(C47:C49) -> 300000 | D50: =SUM(D47:D49) -> 0 | E50: =SUM(E47:E49) -> 300000 | F50: =SUM(F47:F49) -> 0 | G50: =SUM(G47:G49) -> 300000
A51: Működési költségvetés előirányzat csoport | C51: =C20+C34+C46+C50 -> 40060759 | D51: =D20+D34+D46+D50 -> -370000 | E51: =E20+E34+E46+E50 -> 39690759 | F51: =F20+F34+F46+F50 -> 1471893 | G51: =G20+G34+G46+G50 -> 41162652
A52: Felhalmozási célú önkormányzati támogatások | B52: B21 | C52: 1000000 | D52: 0 | E52: =SUM(C52:D52) -> 1000000 | F52: 0 | G52: =SUM(E52:F52) -> 1000000
A53: Felhalmozási célú garancia- és kezességvállalásból származó megtérülések államháztartáson belülről | B53: B22 | C53: ='23.sz.bev. korm. funk.'!C56 -> 0 | D53: 0 | E53: =SUM(C53:D53) -> 0 | F53: 0 | G53: =SUM(E53:F53) -> 0
A54: Felhalmozási célú visszatérítendő támogatások, kölcsönök visszatérülése államháztartáson belülről | B54: B23 | C54: ='23.sz.bev. korm. funk.'!C57 -> 0 | D54: 0 | E54: =SUM(C54:D54) -> 0 | F54: 0 | G54: =SUM(E54:F54) -> 0
A55: Felhalmozási célú visszatérítendő támogatások, kölcsönök igénybevétele államháztartáson belülről | B55: B24 | C55: ='23.sz.bev. korm. funk.'!C58 -> 0 | D55: 0 | E55: =SUM(C55:D55) -> 0 | F55: 0 | G55: =SUM(E55:F55) -> 0
A56: Egyéb felhalmozási célú támogatások bevételei államháztartáson belülről | B56: B25 | C56: 0 | D56: 0 | E56: =SUM(C56:D56) -> 0 | F56: 7996296 | G56: =SUM(E56:F56) -> 7996296
A57: Felhalmozási célú támogatások államháztartáson belülről | B57: B2 | C57: =SUM(C52:C56) -> 1000000 | D57: =SUM(D52:D56) -> 0 | E57: =SUM(E52:E56) -> 1000000 | F57: =SUM(F52:F56) -> 7996296 | G57: =SUM(G52:G56) -> 8996296
A58: Immateriális javak értékesítése | B58: B51 | C58: ='23.sz.bev. korm. funk.'!C61 -> 0 | D58: 0 | E58: =SUM(C58:D58) -> 0 | F58: 0 | G58: =SUM(E58:F58) -> 0
A59: Ingatlanok értékesítése | B59: B52 | C59: ='23.sz.bev. korm. funk.'!C62 -> 0 | D59: 0 | E59: =SUM(C59:D59) -> 0 | F59: 0 | G59: =SUM(E59:F59) -> 0
A60: Egyéb tárgyi eszközök értékesítése | B60: B53 | C60: ='23.sz.bev. korm. funk.'!C63 -> 0 | D60: 0 | E60: =SUM(C60:D60) -> 0 | F60: 0 | G60: =SUM(E60:F60) -> 0
A61: Részesedések értékesítése | B61: B54 | C61: ='23.sz.bev. korm. funk.'!C64 -> 0 | D61: 0 | E61: =SUM(C61:D61) -> 0 | F61: 0 | G61: =SUM(E61:F61) -> 0
A62: Részesedések megszűnéséhez kapcsolódó bevételek | B62: B55 | C62: ='23.sz.bev. korm. funk.'!C65 -> 0 | D62: 0 | E62: =SUM(C62:D62) -> 0 | F62: 0 | G62: =SUM(E62:F62) -> 0
A63: Felhalmozási bevételek | B63: B5 | C63: =SUM(C58:C62) -> 0 | E63: =SUM(C63:D63) -> 0 | G63: =SUM(E63:F63) -> 0
A64: Felhalmozási célú garancia- és kezességvállalásból származó megtérülések államháztartáson kívülről | B64: B71 | C64: 0 | D64: 0 | E64: =SUM(C64:D64) -> 0 | F64: 0 | G64: =SUM(E64:F64) -> 0
A65: Felhalmozási célú visszatérítendő támogatások, kölcsönök visszatérülése államháztartáson kívülről | B65: B72 | C65: 0 | D65: 0 | E65: =SUM(C65:D65) -> 0 | F65: 0 | G65: =SUM(E65:F65) -> 0
A66: Egyéb felhalmozási célú átvett pénzeszközök | B66: B73 | C66: 0 | D66: 0 | E66: =SUM(C66:D66) -> 0 | F66: 0 | G66: =SUM(E66:F66) -> 0
A67: Felhalmozási célú átvett pénzeszközök | B67: B7 | C67: 0 | E67: =SUM(C67:D67) -> 0 | G67: =SUM(E67:F67) -> 0
A68: Felhalmozási költségvetés előirányzat csoport | C68: =C57+C63+C67 -> 1000000 | D68: =D57+D63+D67 -> 0 | E68: =E57+E63+E67 -> 1000000 | F68: =F57+F63+F67 -> 7996296 | G68: =G57+G63+G67 -> 8996296
A69: Költségvetési bevételek | B69: B1-B7 | C69: =C20+C34+C46+C50+C57+C63+C67 -> 41060759 | D69: =D20+D34+D46+D50+D57+D63+D67 -> -370000 | E69: =E20+E34+E46+E50+E57+E63+E67 -> 40690759 | F69: =F20+F34+F46+F50+F57+F63+F67 -> 9468189 | G69: =G20+G34+G46+G50+G57+G63+G67 -> 50158948
A70: Hosszú lejáratú hitelek, kölcsönök felvétele | B70: B8111
A71: Likviditási célú hitelek, kölcsönök felvétele pénzügyi vállalkozástól | B71: B8112
A72: Rövid lejáratú hitelek, kölcsönök felvétele | B72: B8113
A73: Hitel-, kölcsönfelvétel államháztartáson kívülről | B73: B811 | C73: =SUM(C70:C72) -> 0 | D73: 0 | E73: =SUM(C73:D73) -> 0 | F73: 0 | G73: =SUM(E73:F73) -> 0
A74: Forgatási célú belföldi értékpapírok beváltása, értékesítése | B74: B8121
A75: Forgatási célú belföldi értékpapírok kibocsátása | B75: B8122
A76: Befektetési célú belföldi értékpapírok beváltása, értékesítése | B76: B8123
A77: Befektetési célú belföldi értékpapírok kibocsátása | B77: B8124
A78: Belföldi értékpapírok bevételei | B78: B812 | C78: =SUM(C74:C77) -> 0 | D78: 0 | E78: =SUM(C78:D78) -> 0 | F78: 0 | G78: =SUM(E78:F78) -> 0
A79: Előző év költségvetési maradványának igénybevétele MŰKÖDÉSRE | B79: B8131 | C79: 14180150 | D79: 0 | E79: =SUM(C79:D79) -> 14180150 | F79: 0 | G79: =SUM(E79:F79) -> 14180150
A80: Előző év költségvetési maradványának igénybevétele FELHALMOZÁSRA | B80: B8131 | C80: ='23.sz.bev. korm. funk.'!C83 -> 0 | D80: 0 | E80: =SUM(C80:D80) -> 0 | F80: 0 | G80: =SUM(E80:F80) -> 0
A81: Előző év vállalkozási maradványának igénybevétele MŰKÖDÉSRE | B81: B8132 | C81: ='23.sz.bev. korm. funk.'!C84 -> 0 | D81: 0 | E81: =SUM(C81:D81) -> 0 | F81: 0 | G81: =SUM(E81:F81) -> 0
A82: Előző év vállalkozási maradványának igénybevétele FELHALMOZÁSRA | B82: B8132 | C82: ='23.sz.bev. korm. funk.'!C85 -> 0 | D82: 0 | E82: =SUM(C82:D82) -> 0 | F82: 0 | G82: =SUM(E82:F82) -> 0
A83: Maradvány igénybevétele | B83: B813 | C83: =SUM(C79:C82) -> 14180150 | D83: =SUM(D80:D82) -> 0 | E83: =SUM(C83:D83) -> 14180150 | F83: =SUM(F80:F82) -> 0 | G83: =SUM(E83:F83) -> 14180150
A84: Államháztartáson belüli megelőlegezések | B84: B814 | C84: 1135310 | D84: 0 | E84: 1635000 | F84: 0 | G84: =SUM(E84:F84) -> 1635000
A85: Államháztartáson belüli megelőlegezések törlesztése | B85: B815 | E85: 0 | G85: =SUM(E85:F85) -> 0
A86: Központi, irányító szervi támogatás | B86: B816 | C86: ='23.sz.bev. korm. funk.'!C89 -> 0 | D86: 0 | E86: =SUM(C86:D86) -> 0 | F86: 0 | G86: =SUM(E86:F86) -> 0
A87: Betétek megszüntetése | B87: B817
A88: Központi költségvetés sajátos finanszírozási bevételei | B88: B818
A89: Belföldi finanszírozás bevételei | B89: B81 | C89: =C73+C78+C83+C84+C85+C86+C87+C88 -> 15315460 | D89: 0 | E89: =SUM(C89:D89) -> 15315460 | F89: 0 | G89: =SUM(E89:F89) -> 15315460
A90: Forgatási célú külföldi értékpapírok beváltása, értékesítése | B90: B821
A91: Befektetési célú külföldi értékpapírok beváltása, értékesítése | B91: B822
A92: Külföldi értékpapírok kibocsátása | B92: B823
A93: Külföldi hitelek, kölcsönök felvétele | B93: B824
A94: Külföldi finanszírozás bevételei | B94: B82 | C94: =SUM(C90:C93) -> 0 | D94: 0 | E94: =SUM(C94:D94) -> 0 | F94: 0 | G94: =SUM(E94:F94) -> 0
A95: Adóssághoz nem kapcsolódó származékos ügyletek bevételei | B95: B83
A96: Finanszírozási bevételek | B96: B8 | C96: =C89+C94+C95 -> 15315460 | D96: 500000 | E96: =SUM(C96:D96) -> 15815460 | F96: 0 | G96: =SUM(E96:F96) -> 15815460
A97: BEVÉTELEK ÖSSZESEN (B1-8) | C97: =C69+C96 -> 56376219 | D97: =D69+D96 -> 130000 | E97: =E69+E96 -> 56506219 | F97: =F69+F96 -> 9468189 | G97: =G69+G96 -> 65974408
A99: Működési költségvetés előirányzat csoport bevételek | C99: =C20+C34+C46+C50+C83 -> 54240909 | D99: =D20+D34+D46+D50+D83 -> -370000 | E99: =E20+E34+E46+E50+E83 -> 53870909 | F99: =F20+F34+F46+F50+F83 -> 1471893 | G99: =G20+G34+G46+G50+G83 -> 55342802
A100: Működési költségvetés előirányzat csoport kiadás | C100: ='3.sz.m.kiadások M-F'!C26+'3.sz.m.kiadások M-F'!C27+'3.sz.m.kiadások M-F'!C52+'3.sz.m.kiadások M-F'!C61+'3.sz.m.kiadások M-F'!C75+'3.sz.m.kiadások M-F'!C123 -> 45079719 | D100: 0 | E100: ='3.sz.m.kiadások M-F'!E26+'3.sz.m.kiadások M-F'!E27+'3.sz.m.kiadások M-F'!E52+'3.sz.m.kiadások M-F'!E61+'3.sz.m.kiadások M-F'!E75+'3.sz.m.kiadások M-F'!E123 -> 46213819 | F100: 0 | G100: ='3.sz.m.kiadások M-F'!G26+'3.sz.m.kiadások M-F'!G27+'3.sz.m.kiadások M-F'!G52+'3.sz.m.kiadások M-F'!G61+'3.sz.m.kiadások M-F'!G75+'3.sz.m.kiadások M-F'!G123 -> 46796712
A101: Működési egyenleg | C101: =C99-C100 -> 9161190 | D101: =D99-D100 -> -370000 | E101: =E99-E100 -> 7657090 | F101: =F99-F100 -> 1471893 | G101: =G99-G100 -> 8546090
A103: Felhalmozási költségvetés előirányzat csoport bevételek | C103: =C57+C63+C67 -> 1000000 | D103: 0 | E103: =SUM(C103:D103) -> 1000000 | F103: 0 | G103: =SUM(E103:F103) -> 1000000
...

Sheet 5.sz.m.létszám
A1: 5. melléklet az ….../2020.(….....) rendelethez
A2: =' Melléklet 2020'!A1:B1 -> Szőc Község Önkormányzata
A3: 2020. évi költségvetés
A4: Foglalkoztatottak létszáma (fő)
A7: MEGNEVEZÉS | B7: Költségvetési engedélyezett létszámkeret (álláshely) (fő) ÖNKORMÁNYZAT
A8: főjegyző, jegyző, aljegyző, címzetes főjegyző, körjegyző | B8: 0
A9: I. besorolási osztály összesen | B9: 0
A10: II. besorolási osztály összesen | B10: 0
A11: III. besorolási osztály összesen | B11: 0
A12: KÖZTISZTVISELŐK, KORMÁNYTISZTVISELŐK ÖSSZESEN | B12: =SUM(B8:B11) -> 0
A13: igazgató (főigazgató), igazgatóhelyettes (főigazgató-helyettes) | B13: 0
A14: főosztályvezető, főosztályvezető-helyettes, osztályvezető, ügykezelő osztályvezető, további vezető | B14: 0
A15: főtanácsos, főmunkatárs, tanácsos, munkatárs | B15: 0
A16: "A", "B" fizetési osztály összesen | B16: 1
A17: "C", "D" fizetési osztály összesen | B17: 0
A18: "E"-"J" fizetési osztály összesen | B18: 0
A19: kutató, felsőoktatásban oktató | B19: 0
A20: KÖZALKALMAZOTTAK ÖSSZESEN | B20: =SUM(B13:B19) -> 1
A21: fizikai alkalmazott, a költségvetési szerveknél foglalkoztatott egyéb munkavállaló (fizikai alkalmazott) | B21: 0
A22: egyéb alkalmazott | B22: 0
A23: közfoglalkoztatott | B23: 3
A24: EGYÉB BÉRRENDSZER ÖSSZESEN | B24: =SUM(B21:B23) -> 3
A25: polgármester, főpolgármester | B25: 1
A26: helyi önkormányzati képviselő-testület tagja, megyei közgyűlés tagja | B26: 3
A27: alpolgármester, főpolgármester-helyettes, megyei közgyűlés elnöke, alelnöke | B27: 1
A28: VÁLASZTOTT TISZTSÉGVISELŐK ÖSSZESEN | B28: =SUM(B25:B27) -> 5
A29: KÖLTSÉGVETÉSI ENGEDÉLYEZETT LÉTSZÁMKERETBE TARTOZÓ FOGLALKOZTATOTTAK LÉTSZÁMA MINDÖSSZESEN | B29: =B12+B20+B24+B28 -> 9
