Workbook
Name onev: [1]kod!$BT$34:$BT$3186
Name onev: [1]kod!$BT$34:$BT$3186
Name onev: [1]kod!$BT$34:$BT$3186

Sheet 1.sz.tábla   (2)
A1: AZ ÖNKORMÁNYZAT 2017. ÉVI KÖLTSÉGVETÉSÉNEK FŐÖSSZESÍTŐJE
A5: MEGNEVEZÉS | B5: 2017. évi eredeti ei. | C5: 2017. évi módosított ei. I. | D5: Eltérés
A6: I. Működési célú támogatások államháztartáson belülről | B6: ='2.sz.tábla (2)'!K6 -> 1142330655 | C6: ='2.sz.tábla (2)'!L6 -> 1486989512 | D6: =C6-B6 -> 344658857
A7: II. Felhalmozási célú támogatások államháztartáson belülről | B7: ='2.sz.tábla (2)'!K21 -> 1798268854 | C7: ='2.sz.tábla (2)'!L21 -> 2362779525 | D7: =C7-B7 -> 564510671
A8: III. Közhatalmi bevételek | B8: ='2.sz.tábla (2)'!K29 -> 1675900000 | C8: ='2.sz.tábla (2)'!L29 -> 1675900000 | D8: =C8-B8 -> 0
A9: IV. Működési bevételek | B9: ='2.sz.tábla (2)'!K42 -> 602267389 | C9: ='2.sz.tábla (2)'!L42 -> 602267389 | D9: =C9-B9 -> 0
A10: V. Felhalmozási bevételek | B10: ='2.sz.tábla (2)'!K57 -> 171355383 | C10: ='2.sz.tábla (2)'!L57 -> 171355383 | D10: =C10-B10 -> 0
A11: VI. Működési célú átvett pénzeszközök | B11: ='2.sz.tábla (2)'!K65 -> 5600000 | C11: ='2.sz.tábla (2)'!L65 -> 6150575 | D11: =C11-B11 -> 550575
A12: VII. Felhalmozási célú átvett pénzeszközök | B12: ='2.sz.tábla (2)'!K69 -> 85818959 | C12: ='2.sz.tábla (2)'!L69 -> 275818959 | D12: =C12-B12 -> 190000000
A13: Költségvetési bevételek összesen: | B13: =SUM(B6:B12) -> 5481541240 | C13: =SUM(C6:C12) -> 6581261343 | D13: =SUM(D6:D12) -> 1099720103
A14: VIII. Finanszírozási bevételek
A15: 1. Költségvetési hiány belső finanszírozására szolgáló finanszírozási bevételek | B15: ='2.sz.tábla (2)'!K75 -> 791176379 | C15: ='2.sz.tábla (2)'!L75 -> 1057086156 | D15: =C15-B15 -> 265909777
A16: 2. Költségvetési hiány külső finanszírozására szolgáló finanszírozási célú pénzügyi műveletek bevételei | B16: ='2.sz.tábla (2)'!K78 -> 1193980000 | C16: ='2.sz.tábla (2)'!L78 -> 2505160000 | D16: =C16-B16 -> 1311180000
A17: Finanszírozási bevételek összesen: | B17: =SUM(B15:B16) -> 1985156379 | C17: =SUM(C15:C16) -> 3562246156 | D17: =SUM(D15:D16) -> 1577089777
A18: Bevételek összesen: | B18: =B13+B17 -> 7466697619 | C18: =C13+C17 -> 10143507499 | D18: =D13+D17 -> 2676809880
A20: Működési kiadások | B20: =SUM(B21:B23) -> 2545400173 | C20: =SUM(C21:C23) -> 2957819951 | D20: =SUM(D21:D23) -> 412419778
A21: Önkormányzat | B21: ='5.tábla (2)'!B115 -> 1877506459 | C21: ='5.tábla (2)'!C115 -> 2261332404 | D21: =C21-B21 -> 383825945
A22: Önkormányzati Hivatal | B22: ='5.tábla (2)'!B20 -> 384058714 | C22: ='5.tábla (2)'!C20 -> 397002002 | D22: =C22-B22 -> 12943288
A23: Intézmények | B23: ='4.sz.tábla '!AL7-'4.sz.tábla '!V7 -> 283835000 | C23: ='4.sz.tábla '!AM7-'4.sz.tábla '!W7 -> 299485545 | D23: =C23-B23 -> 15650545
A25: Felhalmozási kiadások | B25: =SUM(B26:B28) -> 4526675473 | C25: =SUM(C26:C28) -> 4817922757 | D25: =SUM(D26:D28) -> 291247284
A26: Fejlesztési kiadások | B26: ='7. sz. tábla 1'!B161 -> 4426965134 | C26: ='7. sz. tábla 1'!C161 -> 4711254035 | D26: =C26-B26 -> 284288901
A27: Intézm saját hatásk fejl | B27: ='4.sz.tábla '!V9 -> 6571000 | C27: ='4a. sz. tábla (3)'!D29 -> 12423318 | D27: =C27-B27 -> 5852318
A28: Felújítás | B28: ='6.sz.tábla (4)'!B121 -> 93139339 | C28: ='6.sz.tábla (4)'!C121 -> 94245404 | D28: =C28-B28 -> 1106065
A30: Tartalékok | B30: =SUM(B31:B32) -> 276288740 | C30: =SUM(C31:C32) -> 939084558 | D30: =SUM(D31:D32) -> 662795818
A31: Általános | B31: 76175628 | C31: 55851676 | D31: =C31-B31 -> -20323952
A32: Cél | B32: =B39 -> 200113112 | C32: =C39 -> 883232882 | D32: =C32-B32 -> 683119770
A33: Költségvetési kiadások összesen: | B33: =SUM(B30,B25,B20) -> 7348364386 | C33: =SUM(C30,C25,C20) -> 8714827266 | D33: =SUM(D30,D25,D20) -> 1366462880
A34: Hiteltörlesztés | B34: ='7. sz. tábla 1'!B163 -> 74242424 | C34: ='7. sz. tábla 1'!C163 -> 74242424 | D34: =C34-B34 -> 0
A35: Állami támogatás megelőlegezés visszafizetés | B35: ='7. sz. tábla 1'!B165 -> 44090809 | C35: ='7. sz. tábla 1'!C165 -> 44090809 | D35: =C35-B35 -> 0
A36: Forgatási célú értékpapír vásárlása | C36: ='7. sz. tábla 1'!C164 -> 1310347000
A37: Finanszírozási kiadások összesen: | B37: =SUM(B34:B36) -> 118333233 | C37: =SUM(C34:C36) -> 1428680233 | D37: =SUM(D34:D36) -> 0
A38: Kiadások összesen: | B38: =SUM(B33,B37) -> 7466697619 | C38: =SUM(C33,C37) -> 10143507499 | D38: =SUM(D33,D37) -> 1366462880
A39: Céltartalék: | B39: =SUM(B40:B52) -> 200113112 | C39: =SUM(C40:C57) -> 883232882 | D39: =SUM(D40:D52) -> -145916609
A40: MÁK forgótőke | B40: 800000 | C40: 800000 | D40: =C40-B40 -> 0
A41: környezetvédelmi alap | B41: 7768000 | C41: 7768000 | D41: =C41-B41 -> 0
A42: Polgármester saját hatáskörű keret | B42: 5000000 | C42: 3532935 | D42: =C42-B42 -> -1467065
A43: Népház, posta pénzügyi alap | B43: 19589955 | C43: 19589955 | D43: =C43-B43 -> 0
A44: Helyi védelem | B44: 3000000 | C44: 3000000 | D44: =C44-B44 -> 0
A45: Közhasznú foglalkoztatás | B45: 4000000 | C45: 4000000 | D45: =C45-B45 -> 0
A46: Zsinagóga felújítási alap | B46: 2589753 | C46: 2589753 | D46: =C46-B46 -> 0
...

Sheet 2.sz.tábla   (2)
A3: BEVÉTELEK ELŐIRÁNYZATA 2017. ÉV
A4: MEGNEVEZÉS | B4: ÖNKORMÁNYZAT | E4: KÖZÖS ÖNKORMÁNYZATI HIVATAL | H4: KÖLTSÉGVETÉSI SZERVEK | K4: ÖNKORMÁNYZAT ÖSSZESEN
B5: 2017. évi eredeti ei. | C5: 2017. évi módosított ei. I. | D5: Eltérés | E5: 2017. évi eredeti ei. | F5: 2017. évi módosított ei. I. | G5: Eltérés | H5: 2017. évi eredeti ei. | I5: 2017. évi módosított ei. I. | J5: Eltérés | K5: 2017. évi eredeti ei. | L5: 2017. évi módosított ei. I. | M5: Eltérés
A6: I. Működési célú támogatások államháztartáson belülről | B6: =B7+B15+B16+B17+B18+B19 -> 1011904875 | C6: =C7+C15+C16+C17+C18+C19 -> 1351753707 | D6: =C6-B6 -> 339848832 | E6: =E7+E15+E16+E17+E18+E19 -> 21498780 | F6: =F7+F15+F16+F17+F18+F19 -> 22112074 | G6: =F6-E6 -> 613294 | H6: =H7+H15+H16+H17+H18+H19 -> 108927000 | I6: =I7+I15+I16+I17+I18+I19 -> 113123731 | J6: =I6-H6 -> 4196731 | K6: =K7+K15+K16+K17+K18+K19 -> 1142330655 | L6: =L7+L15+L16+L17+L18+L19 -> 1486989512 | M6: =L6-K6 -> 344658857
A7: 1. Önkormányzat működési támogatásai | B7: =SUM(B8:B14) -> 879671876 | C7: =SUM(C8:C14) -> 903353760 | D7: =C7-B7 -> 23681884 | G7: =F7-E7 -> 0 | J7: =I7-H7 -> 0 | K7: =SUM(K8:K14) -> 879671876 | L7: =SUM(L8:L14) -> 903353760 | M7: =L7-K7 -> 23681884
A8: 1.1. Helyi önk. működésének ált. támogatása | B8: 427352737 | C8: 427352737 | D8: =C8-B8 -> 0 | G8: =F8-E8 -> 0 | J8: =I8-H8 -> 0 | K8: =SUM(B8+E8+H8) -> 427352737 | L8: =SUM(C8+F8+I8) -> 427352737 | M8: =L8-K8 -> 0
A9: 1.2. Települési önk. egyes köznev. feladatainak támogatása | B9: 263108980 | C9: 264871280 | D9: =C9-B9 -> 1762300 | G9: =F9-E9 -> 0 | J9: =I9-H9 -> 0 | K9: =SUM(B9+E9+H9) -> 263108980 | L9: =SUM(C9+F9+I9) -> 264871280 | M9: =L9-K9 -> 1762300
A10: 1.3. Települési önk. szoc. és gyermekjóléti feladatainak tám. | B10: 173304879 | C10: 186543549 | D10: =C10-B10 -> 13238670 | G10: =F10-E10 -> 0 | J10: =I10-H10 -> 0 | K10: =SUM(B10+E10+H10) -> 173304879 | L10: =SUM(C10+F10+I10) -> 186543549 | M10: =L10-K10 -> 13238670
A11: 1.4. Települési önk. kult. feladatainak támogatása | B11: 15905280 | C11: 17377221 | D11: =C11-B11 -> 1471941 | G11: =F11-E11 -> 0 | J11: =I11-H11 -> 0 | K11: =SUM(B11+E11+H11) -> 15905280 | L11: =SUM(C11+F11+I11) -> 17377221 | M11: =L11-K11 -> 1471941
A12: 1.5. Működési célú költségvetési támogatások és kiegészítő támogatások | C12: 3884841 | D12: =C12-B12 -> 3884841 | G12: =F12-E12 -> 0 | J12: =I12-H12 -> 0 | K12: =SUM(B12+E12+H12) -> 0 | L12: =SUM(C12+F12+I12) -> 3884841 | M12: =L12-K12 -> 3884841
A13: 1.6. Elszámolásból származó bevételek | C13: 3324132 | D13: =C13-B13 -> 3324132 | G13: =F13-E13 -> 0 | J13: =I13-H13 -> 0 | K13: =SUM(B13+E13+H13) -> 0 | L13: =SUM(C13+F13+I13) -> 3324132 | M13: =L13-K13 -> 3324132
A14: 1.7. Vis major | D14: =C14-B14 -> 0 | G14: =F14-E14 -> 0 | J14: =I14-H14 -> 0 | K14: =SUM(B14+E14+H14) -> 0 | L14: =SUM(C14+F14+I14) -> 0 | M14: =L14-K14 -> 0
A15: 2. Elvonások, befizetések | D15: =C15-B15 -> 0 | G15: =F15-E15 -> 0 | J15: =I15-H15 -> 0 | K15: =SUM(B15+E15+H15) -> 0 | M15: =L15-K15 -> 0
A16: 3. Működési célú garancia- és kezességvállalásból származó megtérülések áh-n belülről | D16: =C16-B16 -> 0 | G16: =F16-E16 -> 0 | J16: =I16-H16 -> 0 | K16: =SUM(B16+E16+H16) -> 0 | L16: =C16+F16+I16 -> 0 | M16: =L16-K16 -> 0
A17: 4. Működési célú visszatérítendő támogatások, kölcsönök visszatérülése áh-n belülről | D17: =C17-B17 -> 0 | G17: =F17-E17 -> 0 | J17: =I17-H17 -> 0 | K17: =SUM(B17+E17+H17) -> 0 | L17: =C17+F17+I17 -> 0 | M17: =L17-K17 -> 0
A18: 5. Működési célú visszatérítendő támogatások, kölcsönök igénybevétele áh-n belülről | D18: =C18-B18 -> 0 | G18: =F18-E18 -> 0 | J18: =I18-H18 -> 0 | K18: =SUM(B18+E18+H18) -> 0 | L18: =C18+F18+I18 -> 0 | M18: =L18-K18 -> 0
A19: 6. Egyéb működési célú támogatások bevételei államháztartáson belülről | B19: 132232999 | C19: 448399947 | D19: =C19-B19 -> 316166948 | E19: ='2.a tábla ÚJ '!O13 -> 21498780 | F19: ='2.a tábla ÚJ '!P13 -> 22112074 | G19: =F19-E19 -> 613294 | H19: ='2.a tábla ÚJ '!K13 -> 108927000 | I19: ='2.a tábla ÚJ '!L13 -> 113123731 | J19: =I19-H19 -> 4196731 | K19: =SUM(B19+E19+H19) -> 262658779 | L19: =C19+F19+I19 -> 583635752 | M19: =L19-K19 -> 320976973
A20: ebből működési célú támogatás társadalombiztosítási alapból | D20: =C20-B20 -> 0 | G20: =F20-E20 -> 0 | H20: ='2.a tábla ÚJ '!K14 -> 103000000 | I20: ='2.a tábla ÚJ '!L14 -> 107196731 | J20: =I20-H20 -> 4196731 | K20: =SUM(B20+E20+H20) -> 103000000 | L20: =C20+F20+I20 -> 107196731 | M20: =L20-K20 -> 4196731
A21: II. Felhalmozási célú támogatások államháztartáson belülről | B21: =B22+B23+B24+B25+B26 -> 1798268854 | C21: =C22+C23+C24+C25+C26 -> 2362779525 | D21: =C21-B21 -> 564510671 | E21: =E22+E23+E24+E25+E26 -> 0 | G21: =F21-E21 -> 0 | H21: =H22+H23+H24+H25+H26 -> 0 | I21: =I22+I23+I24+I25+I26 -> 0 | J21: =I21-H21 -> 0 | K21: =K22+K23+K24+K25+K26 -> 1798268854 | L21: =L22+L23+L24+L25+L26 -> 2362779525 | M21: =L21-K21 -> 564510671
A22: 1. Felhalmozási célú önkormányzati támogatások | B22: 163583000 | C22: 163348384 | D22: =C22-B22 -> -234616 | G22: =F22-E22 -> 0 | J22: =I22-H22 -> 0 | K22: =SUM(B22+E22+H22) -> 163583000 | L22: =C22+F22+I22 -> 163348384 | M22: =L22-K22 -> -234616
A23: 2. Felhalmozási célú garancia- és kezességvállalásból származó megtérülések áh-n belülről | D23: =C23-B23 -> 0 | G23: =F23-E23 -> 0 | J23: =I23-H23 -> 0 | K23: =SUM(B23+E23+H23) -> 0 | L23: =C23+F23+I23 -> 0 | M23: =L23-K23 -> 0
A24: 3. Felhalmozási célú visszatérítendő támogatások, kölcsönök visszatérülése áh-n belülről | B24: 0 | D24: =C24-B24 -> 0 | G24: =F24-E24 -> 0 | J24: =I24-H24 -> 0 | K24: =SUM(B24+E24+H24) -> 0 | L24: =C24+F24+I24 -> 0 | M24: =L24-K24 -> 0
A25: 4. Felhalmozási célú visszatérítendő támogatások, kölcsönök igénybevétele áh-n belülről | D25: =C25-B25 -> 0 | G25: =F25-E25 -> 0 | J25: =I25-H25 -> 0 | K25: =SUM(B25+E25+H25) -> 0 | L25: =C25+F25+I25 -> 0 | M25: =L25-K25 -> 0
A26: 5. Egyéb felhalmozási célú támogatások államháztartáson belülről | B26: 1634685854 | C26: 2199431141 | D26: =C26-B26 -> 564745287 | G26: =F26-E26 -> 0 | J26: =I26-H26 -> 0 | K26: =SUM(B26+E26+H26) -> 1634685854 | L26: =C26+F26+I26 -> 2199431141 | M26: =L26-K26 -> 564745287
A27: MEGNEVEZÉS | B27: ÖNKORMÁNYZAT | E27: KÖZÖS ÖNKORMÁNYZATI HIVATAL | H27: KÖLTSÉGVETÉSI SZERVEK | K27: ÖNKORMÁNYZAT ÖSSZESEN
B28: 2017. évi eredeti ei. | C28: 2017. évi módosított ei. I. | D28: Eltérés | E28: 2017. évi eredeti ei. | F28: 2017. évi módosított ei. I. | G28: Eltérés | H28: 2017. évi eredeti ei. | I28: 2017. évi módosított ei. I. | J28: Eltérés | K28: 2017. évi eredeti ei. | L28: 2017. évi módosított ei. I. | M28: Eltérés
A29: III. Közhatalmi bevételek | B29: =B30+B33+B41 -> 1675400000 | C29: =C30+C33+C41 -> 1675400000 | D29: =C29-B29 -> 0 | E29: =E30+E33+E41 -> 500000 | F29: =F30+F33+F41 -> 500000 | G29: =F29-E29 -> 0 | K29: =SUM(B29+E29+H29) -> 1675900000 | L29: =SUM(C29+F29+I29) -> 1675900000 | M29: =L29-K29 -> 0
A30: 1. Vagyoni típusú adók | B30: =SUM(B31:B32) -> 440000000 | C30: =SUM(C31:C32) -> 440000000 | D30: =C30-B30 -> 0 | K30: =SUM(B30+E30+H30) -> 440000000 | L30: =SUM(C30+F30+I30) -> 440000000 | M30: =L30-K30 -> 0
A31: 1.1. Építményadó | B31: 410000000 | C31: 410000000 | D31: =C31-B31 -> 0 | K31: =SUM(B31+E31+H31) -> 410000000 | L31: =SUM(C31+F31+I31) -> 410000000 | M31: =L31-K31 -> 0
A32: 1.2. Telekadó | B32: 30000000 | C32: 30000000 | D32: =C32-B32 -> 0 | K32: =SUM(B32+E32+H32) -> 30000000 | L32: =SUM(C32+F32+I32) -> 30000000 | M32: =L32-K32 -> 0
A33: 2. Termékek és szolgáltatások adói | B33: =B34+B36+B37 -> 1149000000 | C33: =C34+C36+C37 -> 1149000000 | D33: =C33-B33 -> 0 | K33: =SUM(B33+E33+H33) -> 1149000000 | L33: =SUM(C33+F33+I33) -> 1149000000 | M33: =L33-K33 -> 0
A34: 2.1. Értékesítési és forgalmi adók | B34: =SUM(B35) -> 762000000 | C34: =SUM(C35) -> 762000000 | D34: =C34-B34 -> 0 | K34: =SUM(B34+E34+H34) -> 762000000 | L34: =SUM(C34+F34+I34) -> 762000000 | M34: =L34-K34 -> 0
A35: 2.1. 1. Iparűzési adó | B35: 762000000 | C35: 762000000 | D35: =C35-B35 -> 0 | K35: =SUM(B35+E35+H35) -> 762000000 | L35: =SUM(C35+F35+I35) -> 762000000 | M35: =L35-K35 -> 0
A36: 2.2. Gépjárműadók | B36: 52000000 | C36: 52000000 | D36: =C36-B36 -> 0 | K36: =SUM(B36+E36+H36) -> 52000000 | L36: =SUM(C36+F36+I36) -> 52000000 | M36: =L36-K36 -> 0
A37: 2.3. Egyéb áruhasználati és szolgáltatási adók | B37: =SUM(B38:B40) -> 335000000 | C37: =SUM(C38:C40) -> 335000000 | D37: =C37-B37 -> 0 | K37: =SUM(B37+E37+H37) -> 335000000 | L37: =SUM(C37+F37+I37) -> 335000000 | M37: =L37-K37 -> 0
A38: 2.3.1. Ifa személyek u. | B38: 335000000 | C38: 335000000 | D38: =C38-B38 -> 0 | K38: =SUM(B38+E38+H38) -> 335000000 | L38: =SUM(C38+F38+I38) -> 335000000 | M38: =L38-K38 -> 0
A39: 2.3.2. Talajterhelési díj | B39: 0 | D39: =C39-B39 -> 0 | K39: =SUM(B39+E39+H39) -> 0 | L39: =SUM(C39+F39+I39) -> 0 | M39: =L39-K39 -> 0
A40: 2.3.3. Települési adó | C40: 0 | D40: =C40-B40 -> 0 | K40: =SUM(B40+E40+H40) -> 0 | L40: =SUM(C40+F40+I40) -> 0 | M40: =L40-K40 -> 0
A41: 3. Egyéb közhatalmi bevételek (bírság, pótlék, településrendezési szerz.) | B41: 86400000 | C41: 86400000 | D41: =C41-B41 -> 0 | E41: ='2.a tábla ÚJ '!O20 -> 500000 | F41: ='2.a tábla ÚJ '!P20 -> 500000 | G41: =F41-E41 -> 0 | K41: =SUM(B41+E41+H41) -> 86900000 | L41: =SUM(C41+F41+I41) -> 86900000 | M41: =L41-K41 -> 0
A42: IV. Működési bevételek | B42: =B43+B44+B46+B47+B50+B51+B52+B53+B56+B54+B55 -> 548809439 | C42: =C43+C44+C46+C47+C50+C51+C52+C53+C56+C54+C55 -> 548809439 | D42: =C42-B42 -> 0 | E42: =E43+E44+E46+E47+E50+E51+E52+E53+E56 -> 16109950 | F42: =F43+F44+F46+F47+F50+F51+F52+F53+F56 -> 16109950 | G42: =F42-E42 -> 0 | H42: =SUM(H43+H44+H46+H47+H50+H51+H52+H53+H56) -> 37348000 | I42: =SUM(I43+I44+I46+I47+I50+I51+I52+I53+I56) -> 37348000 | J42: =I42-H42 -> 0 | K42: =SUM(B42+E42+H42) -> 602267389 | L42: =SUM(C42+F42+I42) -> 602267389 | M42: =L42-K42 -> 0
...

Sheet 2.a tábla ÚJ 
A6: BEVÉTELEK ELŐIRÁNYZATA INTÉZMÉNYEK SZERINTI BONTÁSBAN 2017. ÉV
A10: MEGNEVEZÉS | B10: VÁROSI KÖNYVTÁR | E10: VÁROSI RENDELŐINTÉZET | H10: VÁROSI BÖLCSŐDE | K10: KÖLTSÉGVETÉSI SZERVEK ÖSSZESEN | O10: KÖZÖS ÖNKORMÁNYZATI HIVATAL
B11: 2017. évi eredeti ei. | C11: 2017. évi módosított ei. I. | D11: Eltérés | E11: 2017. évi eredeti ei. | F11: 2017. évi módosított ei. I. | G11: Eltérés | H11: 2017. évi eredeti ei. | I11: 2017. évi módosított ei. I. | J11: Eltérés | K11: 2017. évi eredeti ei. | L11: 2017. évi módosított ei. I. | M11: Eltérés | O11: 2017. évi eredeti ei. | P11: 2017. évi módosított ei. I. | Q11: Eltérés
A12: I. Működési célú támogatások államházatartáson belülről | B12: =B13 -> 1585000 | C12: =C13 -> 1585000 | D12: =C12-B12 -> 0 | E12: =E13 -> 105171000 | F12: =F13 -> 109367731 | G12: =F12-E12 -> 4196731 | H12: =H13 -> 2171000 | I12: =I13 -> 2171000 | J12: =I12-H12 -> 0 | K12: =K13 -> 108927000 | L12: =L13 -> 113123731 | M12: =L12-K12 -> 4196731 | N12: =N13+N16 -> 0 | O12: =O13+O16 -> 21498780 | P12: =P13+P16 -> 22112074 | Q12: =P12-O12 -> 613294
A13: 6. Egyéb működési célú támogatások bevételei államháztartáson belülről | B13: 1585000 | C13: 1585000 | D13: =C13-B13 -> 0 | E13: 105171000 | F13: 109367731 | G13: =F13-E13 -> 4196731 | H13: 2171000 | I13: 2171000 | J13: =I13-H13 -> 0 | K13: =B13+E13+H13 -> 108927000 | L13: =C13+F13+I13 -> 113123731 | M13: =L13-K13 -> 4196731 | O13: 21498780 | P13: 22112074 | Q13: =P13-O13 -> 613294
A14: ebből működési célú támogatás társadalombiztosítási alapból | D14: =C14-B14 -> 0 | E14: 103000000 | F14: 107196731 | G14: =F14-E14 -> 4196731 | J14: =I14-H14 -> 0 | K14: =B14+E14+H14 -> 103000000 | L14: =C14+F14+I14 -> 107196731 | M14: =L14-K14 -> 4196731 | Q14: =P14-O14 -> 0
A15: II. Felhalmozási célú támogatások államháztartáson belülről | B15: =B16 -> 0 | C15: =C16 -> 0 | D15: =C15-B15 -> 0 | E15: =E16 -> 0 | F15: =F16 -> 0 | G15: =F15-E15 -> 0 | H15: =H16 -> 0 | I15: =I16 -> 0 | J15: =I15-H15 -> 0 | K15: =B15+E15+H15 -> 0 | L15: =C15+F15+I15 -> 0 | M15: =L15-K15 -> 0 | N15: =N16 -> 0 | O15: =O16 -> 0 | P15: =P16 -> 0 | Q15: =P15-O15 -> 0
A16: 4. Egyéb felhalmozási célú támogatások államháztartáson belülről | D16: =C16-B16 -> 0 | G16: =F16-E16 -> 0 | J16: =I16-H16 -> 0 | K16: =B16+E16+H16 -> 0 | L16: =C16+F16+I16 -> 0 | M16: =L16-K16 -> 0 | Q16: =P16-O16 -> 0
A17: II. Közhatalmi bevételek | D17: =C17-B17 -> 0 | G17: =F17-E17 -> 0 | J17: =I17-H17 -> 0 | K17: =B17+E17+H17 -> 0 | L17: =C17+F17+I17 -> 0 | M17: =L17-K17 -> 0 | N17: =B17+#REF!+E17+H17+K17 -> #REF! | O17: =SUM(O18:O20) -> 500000 | P17: =SUM(P18:P20) -> 500000 | Q17: =P17-O17 -> 0
A18: 1. Vagyoni típusú adók | D18: =C18-B18 -> 0 | G18: =F18-E18 -> 0 | J18: =I18-H18 -> 0 | K18: =B18+E18+H18 -> 0 | L18: =C18+F18+I18 -> 0 | M18: =L18-K18 -> 0 | N18: =#REF!+#REF!+#REF!+#REF!+#REF!+#REF!+#REF!+#REF!+#REF!+#REF!+B18+#REF!+E18+H18+K18 -> #REF! | Q18: =P18-O18 -> 0
A19: 2. Termékek és szolgáltatások adói | D19: =C19-B19 -> 0 | G19: =F19-E19 -> 0 | J19: =I19-H19 -> 0 | K19: =B19+E19+H19 -> 0 | L19: =C19+F19+I19 -> 0 | M19: =L19-K19 -> 0 | Q19: =P19-O19 -> 0
A20: 3. Egyéb közhatalmi bevételek (bírság, pótlék,) | D20: =C20-B20 -> 0 | G20: =F20-E20 -> 0 | J20: =I20-H20 -> 0 | K20: =B20+E20+H20 -> 0 | L20: =C20+F20+I20 -> 0 | M20: =L20-K20 -> 0 | O20: 500000 | P20: 500000 | Q20: =P20-O20 -> 0
A21: 1V. Működési bevételek | B21: =B22+B23+B25+B26+B27+B28+B29+B30+B33 -> 2790000 | C21: =C22+C23+C25+C26+C27+C28+C29+C30+C33 -> 2790000 | D21: =C21-B21 -> 0 | E21: =E22+E23+E25+E26+E27+E28+E29+E30+E33 -> 33541000 | F21: =F22+F23+F25+F26+F27+F28+F29+F30+F33 -> 33541000 | G21: =F21-E21 -> 0 | H21: =H22+H23+H25+H26+H27+H28+H29+H30+H33 -> 1017000 | I21: =I22+I23+I25+I26+I27+I28+I29+I30+I33 -> 1017000 | J21: =I21-H21 -> 0 | K21: =K22+K23+K25+K26+K27+K28+K29+K30+K33 -> 37348000 | L21: =L22+L23+L25+L26+L27+L28+L29+L30+L33 -> 37348000 | M21: =L21-K21 -> 0 | N21: =N22+N23+N25+N26+N27+N28+N29+N30+N33 -> #REF! | O21: =O22+O23+O25+O26+O27+O28+O29+O30+O33 -> 16109950 | P21: =P22+P23+P25+P26+P27+P28+P29+P30+P33 -> 16109950 | Q21: =P21-O21 -> 0 | R21: =K23+K25+K27+K286+K28+K33+K29 -> 37348000 | S21: =#REF!+#REF!+#REF!+#REF!+#REF!+#REF!+#REF! -> #REF!
A22: 1. Készletértékesítés bevétele | D22: =C22-B22 -> 0 | G22: =F22-E22 -> 0 | J22: =I22-H22 -> 0 | K22: =B22+E22+H22 -> 0 | L22: =C22+F22+I22 -> 0 | M22: =L22-K22 -> 0 | N22: =B22+#REF!+E22+H22+K22 -> #REF! | Q22: =P22-O22 -> 0
A23: 2. Szolgáltatások ellenértéke | B23: 2319000 | C23: 2319000 | D23: =C23-B23 -> 0 | E23: =33260000+281000 -> 33541000 | F23: 33541000 | G23: =F23-E23 -> 0 | J23: =I23-H23 -> 0 | K23: =B23+E23+H23 -> 35860000 | L23: =C23+F23+I23 -> 35860000 | M23: =L23-K23 -> 0 | N23: =B23+#REF!+E23+H23+K23 -> #REF! | O23: 12300000 | P23: 12300000 | Q23: =P23-O23 -> 0
A24: Ebből: bérleti díj | B24: 50000 | C24: 50000 | D24: =C24-B24 -> 0 | E24: 6200000 | F24: 6200000 | G24: =F24-E24 -> 0 | J24: =I24-H24 -> 0 | K24: =B24+E24+H24 -> 6250000 | L24: =C24+F24+I24 -> 6250000 | M24: =L24-K24 -> 0 | N24: =B24+#REF!+E24+H24+K24 -> #REF! | O24: 8100000 | P24: 8100000 | Q24: =P24-O24 -> 0
A25: 3. Közvetített szolgáltatások ellenértéke | D25: =C25-B25 -> 0 | G25: =F25-E25 -> 0 | J25: =I25-H25 -> 0 | K25: =B25+E25+H25 -> 0 | L25: =C25+F25+I25 -> 0 | M25: =L25-K25 -> 0 | N25: =B25+#REF!+E25+H25+K25 -> #REF! | O25: 385000 | P25: 385000 | Q25: =P25-O25 -> 0
A26: 4. Tulajdonosi bevételek | D26: =C26-B26 -> 0 | G26: =F26-E26 -> 0 | J26: =I26-H26 -> 0 | K26: =B26+E26+H26 -> 0 | L26: =C26+F26+I26 -> 0 | M26: =L26-K26 -> 0 | N26: =B26+#REF!+E26+H26+K26 -> #REF! | Q26: =P26-O26 -> 0
A27: 5. Ellátási díjak | D27: =C27-B27 -> 0 | G27: =F27-E27 -> 0 | H27: 1017000 | I27: 1017000 | J27: =I27-H27 -> 0 | K27: =B27+E27+H27 -> 1017000 | L27: =C27+F27+I27 -> 1017000 | M27: =L27-K27 -> 0 | N27: =B27+#REF!+E27+H27+K27 -> #REF! | Q27: =P27-O27 -> 0
A28: 6. Kiszámlázott Áfa | B28: 451000 | C28: 451000 | D28: =C28-B28 -> 0 | G28: =F28-E28 -> 0 | J28: =I28-H28 -> 0 | K28: =B28+E28+H28 -> 451000 | L28: =C28+F28+I28 -> 451000 | M28: =L28-K28 -> 0 | N28: =B28+#REF!+E28+H28+K28 -> #REF! | O28: 3424950 | P28: 3424950 | Q28: =P28-O28 -> 0
A29: 7. Áfa visszatérítés | D29: =C29-B29 -> 0 | G29: =F29-E29 -> 0 | J29: =I29-H29 -> 0 | K29: =B29+E29+H29 -> 0 | L29: =C29+F29+I29 -> 0 | M29: =L29-K29 -> 0 | N29: =B29+#REF!+E29+H29+K29 -> #REF! | Q29: =P29-O29 -> 0
A30: 8. Kamatbevétel | D30: =C30-B30 -> 0 | G30: =F30-E30 -> 0 | J30: =I30-H30 -> 0 | K30: =B30+E30+H30 -> 0 | L30: =C30+F30+I30 -> 0 | M30: =L30-K30 -> 0 | N30: =B30+#REF!+E30+H30+K30 -> #REF! | Q30: =P30-O30 -> 0
A31: 9. Egyéb pénzügyi műveletek bevételei | D31: =C31-B31 -> 0 | G31: =F31-E31 -> 0 | J31: =I31-H31 -> 0 | K31: =B31+E31+H31 -> 0 | L31: =C31+F31+I31 -> 0 | M31: =L31-K31 -> 0 | Q31: =P31-O31 -> 0
A32: 10. Biztosító által fizetett kártérítés | D32: =C32-B32 -> 0 | G32: =F32-E32 -> 0 | J32: =I32-H32 -> 0 | K32: =B32+E32+H32 -> 0 | L32: =C32+F32+I32 -> 0 | M32: =L32-K32 -> 0 | Q32: =P32-O32 -> 0
A33: 11. Egyéb működési bevételek | B33: 20000 | C33: 20000 | D33: =C33-B33 -> 0 | G33: =F33-E33 -> 0 | J33: =I33-H33 -> 0 | K33: =B33+E33+H33 -> 20000 | L33: =C33+F33+I33 -> 20000 | M33: =L33-K33 -> 0 | N33: =B33+#REF!+E33+H33+K33 -> #REF! | Q33: =P33-O33 -> 0
A34: V. Felhalmozási bevételek | B34: =SUM(B35:B39) -> 0 | C34: =SUM(C35:C39) -> 0 | D34: =C34-B34 -> 0 | E34: =SUM(E35:E39) -> 0 | F34: =SUM(F35:F39) -> 0 | G34: =F34-E34 -> 0 | H34: =SUM(H35:H39) -> 0 | I34: =SUM(I35:I39) -> 0 | J34: =I34-H34 -> 0 | K34: =SUM(K35:K39) -> 0 | L34: =SUM(L35:L39) -> 0 | M34: =L34-K34 -> 0 | N34: =B34+#REF!+E34+H34+K34 -> #REF! | O34: =SUM(O35:O39) -> 0 | P34: =SUM(P35:P39) -> 0 | Q34: =P34-O34 -> 0
A35: 1. Immateriális javak értékesítése | D35: =C35-B35 -> 0 | G35: =F35-E35 -> 0 | J35: =I35-H35 -> 0 | K35: =B35+E35+H35 -> 0 | L35: =C35+F35+I35 -> 0 | M35: =L35-K35 -> 0 | Q35: =P35-O35 -> 0
A36: 2. Ingatlanok értékesítése | D36: =C36-B36 -> 0 | G36: =F36-E36 -> 0 | J36: =I36-H36 -> 0 | K36: =B36+E36+H36 -> 0 | L36: =C36+F36+I36 -> 0 | M36: =L36-K36 -> 0 | Q36: =P36-O36 -> 0
A37: 3. Egyéb tárgyi eszközök értékesítése | D37: =C37-B37 -> 0 | G37: =F37-E37 -> 0 | J37: =I37-H37 -> 0 | K37: =B37+E37+H37 -> 0 | L37: =C37+F37+I37 -> 0 | M37: =L37-K37 -> 0 | Q37: =P37-O37 -> 0
A38: 4. Részesedések értékesítése | D38: =C38-B38 -> 0 | G38: =F38-E38 -> 0 | J38: =I38-H38 -> 0 | K38: =B38+E38+H38 -> 0 | L38: =C38+F38+I38 -> 0 | M38: =L38-K38 -> 0 | Q38: =P38-O38 -> 0
A39: 5. Részesedések megszűnéséhez kapcsolódó bevételek | D39: =C39-B39 -> 0 | G39: =F39-E39 -> 0 | J39: =I39-H39 -> 0 | K39: =B39+E39+H39 -> 0 | L39: =C39+F39+I39 -> 0 | M39: =L39-K39 -> 0 | Q39: =P39-O39 -> 0
A40: VI. Működési célú átvett pénzeszközök | B40: =SUM(B41) -> 0 | C40: =SUM(C41) -> 0 | D40: =C40-B40 -> 0 | E40: =SUM(E41) -> 0 | F40: =SUM(F41) -> 0 | G40: =F40-E40 -> 0 | H40: =SUM(H41) -> 0 | I40: =SUM(I41) -> 0 | J40: =I40-H40 -> 0 | K40: =SUM(K41) -> 0 | L40: =SUM(L41) -> 0 | M40: =L40-K40 -> 0 | N40: =B40+#REF!+E40+H40+K40 -> #REF! | O40: =SUM(O41) -> 0 | P40: =SUM(P41) -> 0 | Q40: =P40-O40 -> 0
A41: 3. Egyéb működési célú átvett pénzeszközök | D41: =C41-B41 -> 0 | G41: =F41-E41 -> 0 | J41: =I41-H41 -> 0 | K41: =B41+E41+H41 -> 0 | L41: =C41+F41+I41 -> 0 | M41: =L41-K41 -> 0 | Q41: =P41-O41 -> 0
A42: VII. Felhalmozási célú átvett pénzeszközök | B42: =SUM(B43) -> 0 | C42: =SUM(C43) -> 0 | D42: =C42-B42 -> 0 | E42: =SUM(E43) -> 0 | F42: =SUM(F43) -> 0 | G42: =F42-E42 -> 0 | H42: =SUM(H43) -> 0 | I42: =SUM(I43) -> 0 | J42: =I42-H42 -> 0 | K42: =B42+E42+H42 -> 0 | L42: =C42+F42+I42 -> 0 | M42: =L42-K42 -> 0 | N42: =B42+#REF!+E42+H42+K42 -> #REF! | O42: =SUM(O43) -> 0 | P42: =SUM(P43) -> 0 | Q42: =P42-O42 -> 0
A43: 3. Egyéb felhalmozási célú átvett pénzeszközök | D43: =C43-B43 -> 0 | G43: =F43-E43 -> 0 | J43: =I43-H43 -> 0 | K43: =B43+E43+H43 -> 0 | L43: =C43+F43+I43 -> 0 | M43: =L43-K43 -> 0 | Q43: =P43-O43 -> 0
A44: Költségvetési bevételek összesen: | B44: =B42+B40+B34+B21+B17+B15+B12 -> 4375000 | C44: =C42+C40+C34+C21+C17+C15+C12 -> 4375000 | D44: =C44-B44 -> 0 | E44: =E42+E40+E34+E21+E17+E15+E12 -> 138712000 | F44: =F42+F40+F34+F21+F17+F15+F12 -> 142908731 | G44: =F44-E44 -> 4196731 | H44: =H42+H40+H34+H21+H17+H15+H12 -> 3188000 | I44: =I42+I40+I34+I21+I17+I15+I12 -> 3188000 | J44: =I44-H44 -> 0 | K44: =B44+E44+H44 -> 146275000 | L44: =C44+F44+I44 -> 150471731 | M44: =L44-K44 -> 4196731 | N44: =N42+N40+N34+N21+N17+N15+N12 -> #REF! | O44: =O42+O40+O34+O21+O17+O15+O12 -> 38108730 | P44: =P42+P40+P34+P21+P17+P15+P12 -> 38722024 | Q44: =P44-O44 -> 613294 | R44: =K42+K40+K21+K17+K15+K12 -> 146275000
A45: VIII. Finanszírozási bevételek | B45: =B46+B49+B50 -> 51519000 | C45: =C46+C49+C50 -> 52722186 | D45: =C45-B45 -> 1203186 | E45: =E46+E49+E50 -> 31547000 | F45: =F46+F49+F50 -> 42101828 | G45: =F45-E45 -> 10554828 | H45: =H46+H49+H50 -> 58065000 | I45: =I46+I49+I50 -> 58751301 | J45: =I45-H45 -> 686301 | K45: =B45+E45+H45 -> 141131000 | L45: =C45+F45+I45 -> 153575315 | M45: =L45-K45 -> 12444315 | N45: =N46+N49+N50 -> 0 | O45: =O46+O49+O50 -> 348949984 | P45: =P46+P49+P50 -> 366141795 | Q45: =P45-O45 -> 17191811
A46: 1. Költségvetési hiány belső finanszírozására szolgáló bevételek | B46: =SUM(B47:B48) -> 480000 | C46: =SUM(C47:C48) -> 2854366 | D46: =C46-B46 -> 2374366 | E46: =SUM(E47:E48) -> 0 | F46: =SUM(F47:F48) -> 8148956 | G46: =F46-E46 -> 8148956 | H46: =SUM(H47:H48) -> 0 | I46: =SUM(I47:I48) -> 2374784 | J46: =I46-H46 -> 2374784 | K46: =SUM(K47:K48) -> 480000 | L46: =SUM(L47:L48) -> 13378106 | M46: =L46-K46 -> 12898106 | O46: =SUM(O47:O48) -> 0 | P46: =SUM(P47:P48) -> 26436722 | Q46: =P46-O46 -> 26436722
A47: 1.1. Előző év költségvetési maradványának igénybevétele működési célra | B47: 480000 | C47: 2854366 | D47: =C47-B47 -> 2374366 | F47: 7548956 | G47: =F47-E47 -> 7548956 | I47: 1988483 | J47: =I47-H47 -> 1988483 | K47: =B47+E47+H47 -> 480000 | L47: =C47+F47+I47 -> 12391805 | M47: =L47-K47 -> 11911805 | P47: 24232422 | Q47: =P47-O47 -> 24232422
A48: 1.2. Előző év költségvetési maradványának igénybevétele felhalmozási célra | D48: =C48-B48 -> 0 | F48: 600000 | G48: =F48-E48 -> 600000 | I48: 386301 | J48: =I48-H48 -> 386301 | K48: =B48+E48+H48 -> 0 | L48: =C48+F48+I48 -> 986301 | M48: =L48-K48 -> 986301 | P48: 2204300 | Q48: =P48-O48 -> 2204300
...

Sheet 2b. tábla (2)
A1: ÁLLAMI TÁMOGATÁSOK 2017. ÉV
A3: MEGNEVEZÉS | B3: LÉTSZÁM | C3: MUTATÓ | D3: FAJLAGOS | E3: ELŐIRÁNYZAT | F3: I.MÓDOSÍ-TÁS | G3: MÓDOSÍTOTT EI.
A5: I. HELYI ÖNKORMÁNYZATOK MŰKÖDÉSÉNEK ÁLT.TÁMOGATÁSA | E5: =E6+E28 -> 427352737 | G5: =G6+G28 -> 427352737
A6: 1. Települési önkormányzatok működésének támogatása | E6: =E7+E10+E20+E21+E23+E24+E26+E27 -> 426395665 | G6: =G7+G10+G20+G21+G23+G24+G26+G27 -> 426395665
A7: Önkormányzati hivatal működtetésének támogatás (beszámítás után) | E7: =E8 -> 180635200 | G7: =G8 -> 180635200
A8: Önkormányzati hivatal működtetésének támogatás elismert hivatali létsz. | C8: 39.44 | D8: 4580000 | E8: =C8*D8 -> 180635200 | G8: =E8+F8 -> 180635200
A9: Beszámítás összege | E9: 0 | G9: 0
A10: Település üzemeltetéséhez kapcsolódó feladatellát.támog.(beszámítás után) | E10: =E11+E12+E13+E14+E15+E16+E17+E18 -> 0 | G10: =G11+G12+G13+G14+G15+G16+G17+G18 -> 0
A11: Zöldterület-gazdálk-al kapcsolatos feladatok ellátásának támog. (HA) | D11: 22300 | E11: 15634530 | G11: =E11+F11 -> 15634530
A12: Beszámítás összege | E12: -15634530 | G12: =E12+F12 -> -15634530
A13: Közvilágítás fenntartásának támogatás | E13: 58240000 | G13: =E13+F13 -> 58240000
A14: Beszámítás összege | E14: -58240000 | G14: =E14+F14 -> -58240000
A15: Köztemető fenntartással kapcsolatos feladatok támog. | E15: 2176616 | G15: =E15+F15 -> 2176616
A16: Beszámítás összege | E16: -2176616 | G16: =E16+F16 -> -2176616
A17: Közutak fenntartásának támogatás | E17: 22310850 | G17: =E17+F17 -> 22310850
A18: Beszámítás összege | E18: -22310850 | G18: =E18+F18 -> -22310850
A19: Egyéb önkormányzati feladatok támogatása (beszámítás után) | E19: =E20+E21 -> 0 | G19: =G20+G21 -> 0
A20: Egyéb önkormányzati feladatok támogatása | D20: 2700 | E20: 37670400 | G20: =E20+F20 -> 37670400
A21: Beszámítás összege | E21: -37670400 | G21: =E21+F21 -> -37670400
A22: Lakott külterületekkel kapcsolatos feladatok támogatása(beszámítás után) | E22: =E23+E24 -> 0 | G22: =G23+G24 -> 0
A23: Lakott külterületekkel kapcsolatos feladatok támogatása | E23: 311100 | G23: =E23+F23 -> 311100
A24: Beszámítás összege | E24: -311100 | G24: =E24+F24 -> -311100
A25: Üdülőhelyi feladatok támogatása (beszámitás után) | E25: =SUM(E26:E27) -> 245760465 | G25: =SUM(G26:G27) -> 245760465
A26: Üdülőhelyi feladatok támogatása | E26: 295274000 | G26: =E26+F26 -> 295274000
A27: Beszámítás összege | E27: -49513535 | G27: =E27+F27 -> -49513535
A28: 2016. évről áthúzódó bérkompenzáció támogatása | E28: 957072 | G28: 957072
A30: II. EGYES KÖZNEVELÉSI FELADATOK TÁMOGATÁSA | E30: =SUM(E31:E38) -> 263108980 | F30: =SUM(F31:F38) -> 1762300 | G30: =SUM(G31:G38) -> 264871280
A31: Óvodapedagógusok elismert létszáma (8 hó) | B31: 37.8 | C31: =E31/D31 -> 25.2 | D31: 4469900 | E31: 112641480 | F31: 1489967 | G31: =E31+F31 -> 114131447
A32: Óvodapedagógusok munkáját kvetlenül segítők (8 hó) | B32: 30 | C32: =E32/D32 -> 20 | D32: 1800000 | E32: 36000000 | G32: =E32+F32 -> 36000000
A33: Óvodapedagógusok elismert létszáma (4 hó) | B33: 36.6 | C33: =E33/D33 -> 12.2 | D33: 4469900 | E33: 54532780 | G33: =E33+F33 -> 54532780
A34: Óvodapedagógusok munkáját kvetlenül segítők (4 hó) | B34: 30 | C34: =E34/D34 -> 10 | D34: 1800000 | E34: 18000000 | G34: =E34+F34 -> 18000000
A35: Óvodapedagógusok elismert létszáma (4 hó) (pótlólagos összeg) | B35: 36.6 | C35: =E35/D35 -> 36.6 | D35: 38200 | E35: 1398120 | G35: =E35+F35 -> 1398120
A36: Gyermeklétszám (8 hó) | B36: 414 | C36: =E36/D36 -> 276 | D36: 81700 | E36: 22549200 | F36: 272333 | G36: =E36+F36 -> 22821533
A37: Gyermeklétszám (4 hó) | B37: 399 | C37: =E37/D37 -> 135.82625 | D37: 80000 | E37: 10866100 | G37: =E37+F37 -> 10866100
A38: Pedagógus II. kat. sorolt óvodapedag. kieg. támog.-minősítés 2015. dec.31-ig szerezték meg | B38: 17 | C38: 17 | D38: 418900 | E38: =D38*C38 -> 7121300 | G38: =E38+F38 -> 7121300
A41: MEGNEVEZÉS | B41: LÉTSZÁM | C41: MUTATÓ | D41: FAJLAGOS | E41: ELŐIRÁNYZAT | F41: I.MÓDOSÍ-TÁS | G41: MÓDOSÍTOTT EI.
A42: III. SZOCIÁLIS, GYERMEKJÓLÉTI ÉS GYERMEKÉTKEZTETÉSI FELADATAI | E42: =E43+E46+E60 -> 173304879 | F42: =F43+F46+F60+F64+F65 -> 13238670 | G42: =G43+G46+G60+G64+G65 -> 186543549 | I42: =E42+F42 -> 186543549
A43: Pénzbeli szociális juttatások | E43: =SUM(E44:E45) -> 0
A44: Pénzbeli szociális ellátások kiegészítése
A45: Települési önkormányzatok szociális feladatainak egyéb támogatása
...

Sheet 2c. tábla (2)
A1: ÁLLAMI TÁMOGATÁSOK INTÉZMÉNYENKÉNT 2017. ÉV
A3: Mell. | B3: Sorszám | C3: Megnevezés | D3: Létszám | E3: MUTATÓ | F3: FAJLAGOS | G3: EREDETI EI. | H3: I. MÓDOSÍTÁS | I3: MÓDOSÍTOTT EI.
A4: 2 | B4: II.1. | C4: Óvodapedagógusok elismert létszáma (8 hó) | D4: 17.2 | E4: 17.2 | F4: 4308000 | G4: 51254853 | H4: 744984 | I4: =G4+H4 -> 51999837 | K4: =G4+G16+G28+G40 -> 112641480
A5: 2 | B5: II.1. | C5: Óvodapedagógusok munkáját kvetlenül segítők (8 hó) | D5: 14 | E5: 14 | F5: 1800000 | G5: 16800000 | I5: =G5+H5 -> 16800000 | K5: =G5+G17+G29+G41 -> 36000000
A6: 2 | B6: II.1. | C6: Óvodapedagógusok elismert létszáma (4 hó) | D6: 16.9 | E6: 16.9 | F6: 4308000 | G6: 25180437 | I6: =G6+H6 -> 25180437 | K6: =G6+G18+G30+G42 -> 54532780
A7: 2 | B7: II.1. | C7: Óvodapedagógusok munkáját kvetlenül segítők (4 hó) | D7: 14 | E7: 14 | F7: 1800000 | G7: 8400000 | I7: =G7+H7 -> 8400000 | K7: =G7+G19+G31+G43 -> 18000000
A8: 2 | B8: II.2. | C8: Óvodaműködtetési támogatás (8 hó) | D8: 194 | E8: =G8/F8 -> 129.33334 | F8: 81700 | G8: 10566534 | H8: 163400 | I8: =G8+H8 -> 10729934 | K8: =G8+G20+G32+G44 -> 22549200
A9: 2 | B9: II.2. | C9: Óvodaműködtetési támogatás (4 hó) | D9: 190 | E9: =G9/F9 -> 63.333329 | F9: 81700 | G9: 5174333 | I9: =G9+H9 -> 5174333 | K9: =G9+G21+G33+G45 -> 10866100
A10: 2 | B10: II.5.a | C10: Pedagógus II. kategóriába sorolt óvodapedagógusok kieg. támog. | D10: 7 | E10: 7 | F10: 418900 | G10: =E10*F10 -> 2932300 | I10: =G10+H10 -> 2932300 | K10: =G10+G22+G34+G46 -> 7121300 | M10: =K4+K5+K6+K7+#REF!+K8+K9+K10 -> #REF!
A11: 2 | B11: III. 5.a | C11: Gyermekétkeztetés támogatása (bértámogatás) | E11: =G11/F11 -> 3.6700674 | F11: 1632000 | G11: 5989550 | I11: =G11+H11 -> 5989550 | K11: =G11+G23+G35+G47+G55+G102 -> 43052160
A12: 2 | B12: III. 5.b | C12: Gyermekétkeztetés üzemeltetési támogatása | D12: 179 | G12: 8507072 | I12: =G12+H12 -> 8507072 | K12: =G12+G24+G36+G48+G56+G103 -> 35089063
C13: Bérkompenzáció | H13: 125640 | I13: =G13+H13 -> 125640
C14: Kiserdei óvoda összesen: | G14: =SUM(G4:G12) -> 134805079 | H14: =SUM(H4:H13) -> 1034024 | I14: =SUM(I4:I13) -> 135839103
A16: 2 | B16: II.1. | C16: Óvodapedagógusok elismert létszáma (8 hó) | D16: 10.1 | E16: 10.1 | F16: 4308000 | G16: 30097327 | H16: 297993 | I16: =G16+H16 -> 30395320
A17: 2 | B17: II.1. | C17: Óvodapedagógusok munkáját kvetlenül segítők (8 hó) | D17: 9 | E17: =G17/F17 -> 6 | F17: 1800000 | G17: 10800000 | I17: =G17+H17 -> 10800000 | L17: =H13+H25+H37+H49+H58+H75+H80+H85+I89+H105 -> 3378668
A18: 2 | B18: II.1. | C18: Óvodapedagógusok elismert létszáma (4 hó) | D18: 10.1 | E18: 10.1 | F18: 4308000 | G18: 15048663 | I18: =G18+H18 -> 15048663
A19: 2 | B19: II.1. | C19: Óvodapedagógusok munkáját kvetlenül segítők (4 hó) | D19: 9 | E19: =G19/F19 -> 3 | F19: 1800000 | G19: 5400000 | H19: 54466 | I19: =G19+H19 -> 5454466
A20: 2 | B20: II.2. | C20: Gyermeklétszám (8 hó) | D20: 108 | E20: =G20/F20 -> 72 | F20: 81700 | G20: 5882400 | I20: =G20+H20 -> 5882400
A21: 2 | B21: II.2. | C21: Gyermeklétszám (4 hó) | D21: 108 | E21: =G21/F21 -> 36 | F21: 81700 | G21: 2941200 | I21: =G21+H21 -> 2941200
A22: 2 | B22: II.5.a | C22: Pedagógus II. kategóriába sorolt óvodapedagógusok kieg. támog. | D22: 5 | E22: 5 | F22: 418900 | G22: =F22*D22 -> 2094500 | I22: =G22+H22 -> 2094500
A23: 2 | B23: III. 5.a | C23: Gyermekétkeztetés támogatása (bértámogatás) | E23: =G23/F23 -> 2.2020404 | F23: 1632000 | G23: 3593730 | I23: =G23+H23 -> 3593730
A24: 2 | B24: III. 5.b | C24: Gyermekétkeztetés üzemeltetési támogatása | D24: 94 | G24: 6138411 | I24: =G24+H24 -> 6138411
C25: Bérkompenzáció | H25: 202139 | I25: =G25+H25 -> 202139
C26: Óvárosi óvoda összesen: | G26: =SUM(G16:G24) -> 81996231 | H26: =SUM(H16:H25) -> 554598 | I26: =SUM(I16:I25) -> 82550829
A28: 2 | B28: II.1. | C28: Óvodapedagógusok elismert létszáma (8 hó) | D28: 7 | E28: 6.8 | F28: 4308000 | G28: 20859533 | I28: =G28+H28 -> 20859533
A29: 2 | B29: II.1. | C29: Óvodapedagógusok munkáját kvetlenül segítők (8 hó) | D29: 5 | E29: =G29/F29 -> 3.3333333 | F29: 1800000 | G29: 6000000 | I29: =G29+H29 -> 6000000
A30: 2 | B30: II.1. | C30: Óvodapedagógusok elismert létszáma (4 hó) | D30: 6.6 | E30: 6.2 | F30: 4308000 | G30: 9833780 | I30: =G30+H30 -> 9833780
A31: 2 | B31: II.1. | C31: Óvodapedagógusok munkáját kvetlenül segítők (4 hó) | D31: 5 | E31: =G31/F31 -> 1.6666667 | F31: 1800000 | G31: 3000000 | I31: =G31+H31 -> 3000000
A32: 2 | B32: II.2. | C32: Gyermeklétszám (8 hó) | D32: 73 | E32: =G32/F32 -> 48.666659 | F32: 81700 | G32: 3976066 | H32: -54466 | I32: =G32+H32 -> 3921600
A33: 2 | B33: II.2. | C33: Gyermeklétszám (4 hó) | D33: 67 | E33: =G33/F33 -> 22.333341 | F33: 81700 | G33: 1824634 | I33: =G33+H33 -> 1824634
A34: 2 | B34: II.5.a | C34: Pedagógus II. kategóriába sorolt óvodapedagógusok kieg. támog. | D34: 4 | E34: 4 | F34: 418900 | G34: =F34*D34 -> 1675600 | I34: =G34+H34 -> 1675600
A35: 2 | B35: III. 5.a | C35: Gyermekétkeztetés támogatása (bértámogatás) | E35: =G35/F35 -> 1.3568131 | F35: 1632000 | G35: 2214319 | I35: =G35+H35 -> 2214319
A36: 2 | B36: III. 5.b | C36: Gyermekétkeztetés üzemeltetési támogatása | G36: 3317104 | I36: =G36+H36 -> 3317104
C37: Bérkompenzáció | H37: 164296 | I37: =G37+H37 -> 164296
C38: Tündérkert óvoda összesen: | G38: =SUM(G28:G36) -> 52701036 | H38: =SUM(H32:H37) -> 109830 | I38: =SUM(G38:H38) -> 52810866
A40: 2 | B40: II.1. | C40: Óvodapedagógusok elismert létszáma (8 hó) | D40: 3.5 | E40: 3.9 | F40: 4308000 | G40: 10429767 | H40: 446990 | I40: =G40+H40 -> 10876757
A41: 2 | B41: II.1. | C41: Óvodapedagógusok munkáját kvetlenül segítők (8 hó) | D41: 2 | E41: =G41/F41 -> 1.3333333 | F41: 1800000 | G41: 2400000 | I41: =G41+H41 -> 2400000
A42: 2 | B42: II.1. | C42: Óvodapedagógusok elismert létszáma (4 hó) | D42: 3 | E42: 3.2 | F42: 4308000 | G42: 4469900 | I42: =G42+H42 -> 4469900
A43: 2 | B43: II.1. | C43: Óvodapedagógusok munkáját kvetlenül segítők (4 hó) | D43: 2 | E43: =G43/F43 -> 0.66666667 | F43: 1800000 | G43: 1200000 | I43: =G43+H43 -> 1200000
A44: 2 | B44: II.2. | C44: Gyermeklétszám (8 hó) | D44: 39 | E44: =G44/F44 -> 26 | F44: 81700 | G44: 2124200 | H44: 108933 | I44: =G44+H44 -> 2233133
...

Sheet 3.sz. tábla  (2)
M2: AZ ÖNKORMÁNYZAT BEVÉTELEI INTÉZMÉNYEK SZERINTI BONTÁSBAN KIEMELT ELŐIRÁNYZATONKÉNT 2017. ÉV
A6: MEGNEVEZÉS | B6: ÁLLAMI TÁMOGATÁS | E6: ÖNKORMÁNYZATI TÁMOGATÁS | H6: IRÁNYÍTÓ SZERVTŐL KAPOTT TÁMOGATÁS | K6: SAJÁT BEVÉTEL | N6: MARADVÁNY IGÉNYBEVÉTEL | Q6: FINANSZÍROZÁSI CÉLÚ BEVÉTELEK | T6: BEVÉTELEK ÖSSZESEN
B7: 2017. évi eredeti ei. | C7: 2017. évi módosított ei. I. | D7: Eltérés | E7: 2017. évi eredeti ei. | F7: 2017. évi módosított ei. I. | G7: Eltérés | H7: 2017. évi eredeti ei. | I7: 2017. évi módosított ei. I. | J7: Eltérés | K7: 2017. évi eredeti ei. | L7: 2017. évi módosított ei. I. | M7: Eltérés | N7: 2017. évi eredeti ei. | O7: 2017. évi módosított ei. I. | P7: Eltérés | Q7: 2017. évi eredeti ei. | R7: 2017. évi módosított ei. I. | S7: Eltérés | T7: 2017. évi eredeti ei. | U7: 2017. évi módosított ei. I. | V7: Eltérés
A8: Városi Könyvtár | B8: ='2c. tábla (2)'!G87 -> 15905280 | C8: 17623798 | D8: =C8-B8 -> 1718518 | E8: ='2.a tábla ÚJ '!B50-'3.sz. tábla (2)'!B8 -> 35133720 | F8: ='2.a tábla ÚJ '!C50-'3.sz. tábla (2)'!C8 -> 32244022 | G8: =F8-E8 -> -2889698 | H8: =B8+E8 -> 51039000 | I8: =SUM(C8+F8) -> 49867820 | J8: =I8-H8 -> -1171180 | K8: ='2.a tábla ÚJ '!B44 -> 4375000 | L8: ='2.a tábla ÚJ '!C44 -> 4375000 | M8: =L8-K8 -> 0 | N8: ='2.a tábla ÚJ '!K46 -> 480000 | O8: ='2.a tábla ÚJ '!C46 -> 2854366 | P8: =O8-N8 -> 2374366 | T8: =H8+K8+N8+Q8 -> 55894000 | U8: =I8+L8+O8+R8 -> 57097186 | V8: =U8-T8 -> 1203186
A9: Városi Rendelőint. | B9: ='2c. tábla (2)'!G90 -> 0 | C9: ='2c. tábla (2)'!H90 -> 730850 | D9: =C9-B9 -> 730850 | E9: ='2.a tábla ÚJ '!E50-'3.sz. tábla (2)'!B9 -> 31547000 | F9: ='2.a tábla ÚJ '!F50-'3.sz. tábla (2)'!C9 -> 33222022 | G9: =F9-E9 -> 1675022 | H9: =B9+E9 -> 31547000 | I9: =SUM(C9+F9) -> 33952872 | J9: =I9-H9 -> 2405872 | K9: ='2.a tábla ÚJ '!E44 -> 138712000 | L9: ='2.a tábla ÚJ '!F44 -> 142908731 | M9: =L9-K9 -> 4196731 | N9: ='2.a tábla ÚJ '!E46 -> 0 | O9: ='2.a tábla ÚJ '!F46 -> 8148956 | P9: =O9-N9 -> 8148956 | T9: =H9+K9+N9+Q9 -> 170259000 | U9: =I9+L9+O9+R9 -> 185010559 | V9: =U9-T9 -> 14751559
A10: Városi Bölcsőde | B10: ='2c. tábla (2)'!G61+17 -> 28203000 | C10: ='2c. tábla (2)'!I61+17 -> 31342732 | D10: =C10-B10 -> 3139732 | E10: ='2.a tábla ÚJ '!H50-'3.sz. tábla (2)'!B10 -> 29862000 | F10: ='2.a tábla ÚJ '!I50-'3.sz. tábla (2)'!C10 -> 25033785 | G10: =F10-E10 -> -4828215 | H10: ='2.a tábla ÚJ '!H50 -> 58065000 | I10: =SUM(C10+F10) -> 56376517 | J10: =I10-H10 -> -1688483 | K10: ='2.a tábla ÚJ '!H44 -> 3188000 | L10: ='2.a tábla ÚJ '!I44 -> 3188000 | M10: =L10-K10 -> 0 | N10: ='2.a tábla ÚJ '!H46 -> 0 | O10: ='2.a tábla ÚJ '!I46 -> 2374784 | P10: =O10-N10 -> 2374784 | T10: =H10+K10+N10+Q10 -> 61253000 | U10: =I10+L10+O10+R10 -> 61939301 | V10: =U10-T10 -> 686301
A11: Költségvetési szervek összesen: | B11: =B8+B9+B10 -> 44108280 | C11: =C8+C9+C10 -> 49697380 | D11: =C11-B11 -> 5589100 | E11: =E8+E9+E10 -> 96542720 | F11: =F8+F9+F10 -> 90499829 | G11: =F11-E11 -> -6042891 | H11: =H8+H9+H10 -> 140651000 | I11: =I8+I9+I10 -> 140197209 | J11: =I11-H11 -> -453791 | K11: =K8+K9+K10 -> 146275000 | L11: =L8+L9+L10 -> 150471731 | M11: =L11-K11 -> 4196731 | N11: =N8+N9+N10 -> 480000 | O11: =O8+O9+O10 -> 13378106 | P11: =O11-N11 -> 12898106 | Q11: =Q8+Q9+Q10 -> 0 | R11: =R8+R9+R10 -> 0 | S11: =R11-Q11 -> 0 | T11: =T8+T9+T10 -> 287406000 | U11: =U8+U9+U10 -> 304047046 | V11: =U11-T11 -> 16641046
A12: Önkormányzati Hivatal | B12: ='2c. tábla (2)'!G81 -> 180635200 | C12: ='2c. tábla (2)'!I81 -> 181706032 | D12: =C12-B12 -> 1070832 | E12: ='2.a tábla ÚJ '!O50-'3.sz. tábla (2)'!B12 -> 168314784 | F12: ='2.a tábla ÚJ '!P50-'3.sz. tábla (2)'!C12 -> 157999041 | G12: =F12-E12 -> -10315743 | H12: =B12+E12 -> 348949984 | I12: =C12+F12 -> 339705073 | J12: =I12-H12 -> -9244911 | K12: ='2.sz.tábla (2)'!E73 -> 38108730 | L12: ='2.a tábla ÚJ '!P44 -> 38722024 | M12: =L12-K12 -> 613294 | N12: ='2.a tábla ÚJ '!O46 -> 0 | O12: ='2.a tábla ÚJ '!P46 -> 26436722 | P12: =O12-N12 -> 26436722 | T12: =H12+K12+N12+Q12 -> 387058714 | U12: =I12+L12+O12+R12 -> 404863819 | V12: =U12-T12 -> 17805105
A13: Intézmények összesen: | B13: =SUM(B11:B12) -> 224743480 | C13: =SUM(C11:C12) -> 231403412 | D13: =C13-B13 -> 6659932 | E13: =SUM(E11:E12) -> 264857504 | F13: =SUM(F11:F12) -> 248498870 | G13: =F13-E13 -> -16358634 | H13: =SUM(H11:H12) -> 489600984 | I13: =SUM(I11:I12) -> 479902282 | J13: =I13-H13 -> -9698702 | K13: =SUM(K11:K12) -> 184383730 | L13: =SUM(L11:L12) -> 189193755 | M13: =L13-K13 -> 4810025 | N13: =SUM(N11:N12) -> 480000 | O13: =SUM(O11:O12) -> 39814828 | P13: =O13-N13 -> 39334828 | Q13: =SUM(Q11:Q12) -> 0 | R13: =SUM(R11:R12) -> 0 | S13: =R13-Q13 -> 0 | T13: =SUM(T11:T12) -> 674464714 | U13: =SUM(U11:U12) -> 708910865 | V13: =U13-T13 -> 34446151
A14: Önkormányzat | B14: =B17-B13 -> 818511396 | C14: =C17-C13 -> 835298732 | D14: =C14-B14 -> 16787336 | E14: =-E13 -> -264857504 | F14: =-F13 -> -248498870 | G14: =F14-E14 -> 16358634 | J14: =I14-H14 -> 0 | K14: ='2.sz.tábla (2)'!B91-'2.sz.tábla (2)'!B78-'2.sz.tábla (2)'!B75-'2.sz.tábla (2)'!B7-'2.sz.tábla (2)'!B22 -> 4253902634 | L14: ='2.sz.tábla (2)'!C91-'2.sz.tábla (2)'!C78-'2.sz.tábla (2)'!C75-'2.sz.tábla (2)'!C7-'2.sz.tábla (2)'!C22 -> 5325365444 | M14: =L14-K14 -> 1071462810 | N14: ='2.sz.tábla (2)'!B75 -> 790696379 | O14: ='2.sz.tábla (2)'!C75 -> 1017271328 | P14: =O14-N14 -> 226574949 | Q14: ='2.sz.tábla (2)'!B78 -> 1193980000 | R14: ='2.sz.tábla (2)'!C78 -> 2505160000 | S14: =R14-Q14 -> 1311180000 | T14: =H14+K14+N14+Q14+E14+B14 -> 6792232905 | U14: =I14+L14+O14+R14+F14+C14 -> 9434596634 | V14: =U14-T14 -> 2642363729
A15: Mindösszesen: | B15: =SUM(B13:B14) -> 1043254876 | C15: =SUM(C13:C14) -> 1066702144 | D15: =C15-B15 -> 23447268 | E15: =SUM(E13:E14) -> 0 | F15: =SUM(F13:F14) -> 0 | G15: =F15-E15 -> 0 | H15: =SUM(H13:H14) -> 489600984 | I15: =SUM(I13:I14) -> 479902282 | J15: =I15-H15 -> -9698702 | K15: =SUM(K13:K14) -> 4438286364 | L15: =SUM(L13:L14) -> 5514559199 | M15: =L15-K15 -> 1076272835 | N15: =SUM(N13:N14) -> 791176379 | O15: =SUM(O13:O14) -> 1057086156 | P15: =O15-N15 -> 265909777 | Q15: =SUM(Q13:Q14) -> 1193980000 | R15: =SUM(R13:R14) -> 2505160000 | S15: =R15-Q15 -> 1311180000 | T15: =SUM(T13:T14) -> 7466697619 | U15: =SUM(U13:U14) -> 10143507499 | V15: =U15-T15 -> 2676809880
V16: ='2.sz.tábla (2)'!M91-'3.sz. tábla (2)'!V15 -> 0
B17: ='2c. tábla (2)'!G120 -> 1043254876 | C17: ='2c. tábla (2)'!I120 -> 1066702144

Sheet 4.sz.tábla 
AF1: AZ ÖNKORMÁNYZAT KIADÁSAI INTÉZMÉNYEK SZERINTI BONTÁSBAN KIEMELT ELŐIRÁNYZATONKÉNT 2017. ÉV
A2: MEGNEVEZÉS | B2: SZEMÉLYI JUTTATÁS | E2: MUNKAADÓKAT TERH. JÁRULÉKOK ÉS SZOCIÁLIS HOZZÁJÁRULÁSI ADÓ | H2: DOLOGI KIADÁSOK | K2: ELLÁTOTTAK PÉNZBELI JUTTATÁSAI | R2: MEGNEVEZÉS | S2: EGYÉB MŰKÖDÉSI CÉLÚ KIADÁSOK | V2: BERUHÁZÁSOK | Y2: FELÚJÍTÁSOK | AB2: EGYÉB FELHALMOZÁSI KIADÁSOK | AE2: MEGNEVEZÉS | AF2: FINANSZÍROZÁSI KIADÁSOK | AI2: TARTALÉKOK | AL2: ÖSSZESEN
B3: 2017. évi eredeti ei. | C3: 2017. évi módosított ei. I. | D3: Eltérés | E3: 2017. évi eredeti ei. | F3: 2017. évi módosított ei. I. | G3: Eltérés | H3: 2017. évi eredeti ei. | I3: 2017. évi módosított ei. I. | J3: Eltérés | K3: 2017. évi eredeti ei. | L3: 2017. évi módosított ei. I. | M3: Eltérés | S3: 2017. évi eredeti ei. | T3: 2017. évi módosított ei. I. | U3: Eltérés | V3: 2017. évi eredeti ei. | W3: 2017. évi módosított ei. I. | X3: Eltérés | Y3: 2017. évi eredeti ei. | Z3: 2017. évi módosított ei. I. | AA3: Eltérés | AB3: 2017. évi eredeti ei. | AC3: 2017. évi módosított ei. I. | AD3: Eltérés | AF3: 2017. évi eredeti ei. | AG3: 2017. évi módosított ei. I. | AH3: Eltérés | AI3: 2017. évi eredeti ei. | AJ3: 2017. évi módosított ei. I. | AK3: Eltérés | AL3: 2017. évi eredeti ei. | AM3: 2017. évi módosított ei. I. | AN3: Eltérés
A4: Városi Könyvtár | B4: 33334000 | C4: 33889155 | D4: =C4-B4 -> 555155 | E4: 7550000 | F4: 7703142 | G4: =F4-E4 -> 153142 | H4: 12039000 | I4: 12529689 | J4: =I4-H4 -> 490689 | R4: Városi Könyvtár | V4: ='4a. sz. tábla (3)'!C5 -> 2971000 | W4: ='4a. sz. tábla (3)'!D5 -> 2975200 | X4: =W4-V4 -> 4200 | AE4: Városi Könyvtár | AL4: =SUM(Y4,AB4,AF4,V4,S4,K4,H4,E4,B4) -> 55894000 | AM4: =SUM(Z4,AC4,AG4,W4,T4,L4,I4,F4,C4) -> 57097186 | AN4: =AM4-AL4 -> 1203186
A5: Városi Rendelőint. | B5: 88161000 | C5: 88586016 | D5: =C5-B5 -> 425016 | E5: 19753000 | F5: 20966310 | G5: =F5-E5 -> 1213310 | H5: =61381000+564000 -> 61945000 | I5: 74458233 | J5: =I5-H5 -> 12513233 | R5: Városi Rendelőint. | V5: ='4a. sz. tábla (3)'!C21 -> 400000 | W5: ='4a. sz. tábla (3)'!D21 -> 1000000 | X5: =W5-V5 -> 600000 | AE5: Városi Rendelőint. | AL5: =SUM(Y5,AB5,AF5,V5,S5,K5,H5,E5,B5) -> 170259000 | AM5: =SUM(Z5,AC5,AG5,W5,T5,L5,I5,F5,C5) -> 185010559 | AN5: =AM5-AL5 -> 14751559
A6: Bölcsöde | B6: 40127000 | C6: 39680830 | D6: =C6-B6 -> -446170 | E6: 8243000 | F6: 8689170 | G6: =F6-E6 -> 446170 | H6: 12683000 | I6: 12983000 | J6: =I6-H6 -> 300000 | R6: Városi Bölcsőde | V6: ='4a. sz. tábla (3)'!C14 -> 200000 | W6: ='4a. sz. tábla (3)'!D14 -> 586301 | X6: =W6-V6 -> 386301 | AE6: Bölcsöde | AL6: =SUM(Y6,AB6,AF6,V6,S6,K6,H6,E6,B6) -> 61253000 | AM6: =SUM(Z6,AC6,AG6,W6,T6,L6,I6,F6,C6) -> 61939301 | AN6: =AM6-AL6 -> 686301
A7: Költségvetési szervek összesen: | B7: =B4+B5+B6 -> 161622000 | C7: =C4+C5+C6 -> 162156001 | D7: =C7-B7 -> 534001 | E7: =E4+E5+E6 -> 35546000 | F7: =F4+F5+F6 -> 37358622 | G7: =F7-E7 -> 1812622 | H7: =+H4+H5+H6 -> 86667000 | I7: =I4+I5+I6 -> 99970922 | J7: =I7-H7 -> 13303922 | K7: =K4+K5+K6 -> 0 | L7: =L4+L5+L6 -> 0 | M7: =L7-K7 -> 0 | N7: =#REF!+N4+N5+N6 -> #REF! | O7: =#REF!+O4+O5+O6 -> #REF! | P7: =#REF!+P4+P5+P6 -> #REF! | Q7: =#REF!+Q4+Q5+Q6 -> #REF! | R7: Költségvetési szervek összesen: | S7: =S4+S5+S6 -> 0 | T7: =T4+T5+T6 -> 0 | U7: =T7-S7 -> 0 | V7: =V4+V5+V6 -> 3571000 | W7: =W4+W5+W6 -> 4561501 | X7: =W7-V7 -> 990501 | Y7: =Y4+Y5+Y6 -> 0 | Z7: =Z4+Z5+Z6 -> 0 | AA7: =Z7-Y7 -> 0 | AB7: =AB4+AB5+AB6 -> 0 | AC7: =AC4+AC5+AC6 -> 0 | AD7: =AC7-AB7 -> 0 | AE7: Költségvetési szervek összesen: | AF7: =AF4+AF5+AF6 -> 0 | AG7: =AG4+AG5+AG6 -> 0 | AH7: =AG7-AF7 -> 0 | AI7: =AI4+AI5+AI6 -> 0 | AJ7: =AJ4+AJ5+AJ6 -> 0 | AK7: =AJ7-AI7 -> 0 | AL7: =AL4+AL5+AL6 -> 287406000 | AM7: =AM4+AM5+AM6 -> 304047046 | AN7: =AM7-AL7 -> 16641046
A8: Önkormányzati Hivatal | B8: ='5.tábla (2)'!B7 -> 248441476 | C8: ='5.tábla (2)'!C7 -> 254177426 | D8: =C8-B8 -> 5735950 | E8: ='5.tábla (2)'!B8 -> 59971194 | F8: ='5.tábla (2)'!C8 -> 62183686 | G8: =F8-E8 -> 2212492 | H8: ='5.tábla (2)'!B9 -> 73251644 | I8: ='5.tábla (2)'!C9 -> 76141092 | J8: =I8-H8 -> 2889448 | K8: ='5.tábla (2)'!B15+'5.tábla (2)'!B17 -> 2394400 | L8: ='5.tábla (2)'!C15+'5.tábla (2)'!C17 -> 2394400 | M8: =L8-K8 -> 0 | R8: Önkormányzati Hivatal | T8: ='5.tábla (2)'!C19 -> 2105398 | U8: =T8-S8 -> 2105398 | V8: ='4a. sz. tábla (3)'!C25 -> 3000000 | W8: ='5.tábla (2)'!C21 -> 7861817 | X8: =W8-V8 -> 4861817 | AE8: Önkormányzati Hivatal | AL8: =SUM(Y8,AB8,AF8,V8,S8,K8,H8,E8,B8) -> 387058714 | AM8: =SUM(Z8,AC8,AG8,W8,T8,L8,I8,F8,C8) -> 404863819 | AN8: =AM8-AL8 -> 17805105
A9: Intézmények összesen: | B9: =SUM(B7:B8) -> 410063476 | C9: =SUM(C7:C8) -> 416333427 | D9: =C9-B9 -> 6269951 | E9: =SUM(E7:E8) -> 95517194 | F9: =SUM(F7:F8) -> 99542308 | G9: =F9-E9 -> 4025114 | H9: =SUM(H7:H8) -> 159918644 | I9: =SUM(I7:I8) -> 176112014 | J9: =I9-H9 -> 16193370 | K9: =SUM(K7:K8) -> 2394400 | L9: =SUM(L7:L8) -> 2394400 | M9: =L9-K9 -> 0 | N9: =SUM(N7:N8) -> #REF! | O9: =SUM(O7:O8) -> #REF! | P9: =SUM(P7:P8) -> #REF! | Q9: =SUM(Q7:Q8) -> #REF! | R9: Intézmények összesen: | S9: =SUM(S7:S8) -> 0 | T9: =SUM(T7:T8) -> 2105398 | U9: =SUM(U7:U8) -> 2105398 | V9: =SUM(V7:V8) -> 6571000 | W9: =SUM(W7:W8) -> 12423318 | X9: =W9-V9 -> 5852318 | Y9: =SUM(Y7:Y8) -> 0 | Z9: =SUM(Z7:Z8) -> 0 | AA9: =Z9-Y9 -> 0 | AB9: =SUM(AB7:AB8) -> 0 | AC9: =SUM(AC7:AC8) -> 0 | AD9: =AC9-AB9 -> 0 | AE9: Intézmények összesen: | AF9: =SUM(AF7:AF8) -> 0 | AG9: =SUM(AG7:AG8) -> 0 | AH9: =AG9-AF9 -> 0 | AI9: =SUM(AI7:AI8) -> 0 | AJ9: =SUM(AJ7:AJ8) -> 0 | AK9: =AJ9-AI9 -> 0 | AL9: =SUM(AL7:AL8) -> 674464714 | AM9: =SUM(AM7:AM8) -> 708910865 | AN9: =AM9-AL9 -> 34446151
A10: Önkormányzat | B10: ='5.tábla (2)'!B28 -> 70721753 | C10: ='5.tábla (2)'!C28 -> 82159964 | D10: =C10-B10 -> 11438211 | E10: ='5.tábla (2)'!B42 -> 12636881 | F10: ='5.tábla (2)'!C42 -> 18039937 | G10: =F10-E10 -> 5403056 | H10: ='5.tábla (2)'!B56 -> 754991434 | I10: ='5.tábla (2)'!C56 -> 1136820370 | J10: =I10-H10 -> 381828936 | K10: ='5.tábla (2)'!B92 -> 29200000 | L10: ='5.tábla (2)'!C92 -> 28702500 | M10: =L10-K10 -> -497500 | R10: Önkormányzat | S10: ='5.tábla (2)'!B101 -> 1009956391 | T10: ='5.tábla (2)'!C101 -> 995609633 | U10: =T10-S10 -> -14346758 | V10: ='7. sz. tábla 1'!B95 -> 3738509802 | W10: ='7. sz. tábla 1'!C95 -> 3808718660 | X10: =W10-V10 -> 70208858 | Y10: ='7. sz. tábla 1'!B171 -> 93139339 | Z10: ='7. sz. tábla 1'!C171 -> 94245404 | AA10: =Z10-Y10 -> 1106065 | AB10: ='7. sz. tábla 1'!B160 -> 688455332 | AC10: ='7. sz. tábla 1'!C160 -> 902535375 | AD10: =AC10-AB10 -> 214080043 | AE10: Önkormányzat | AF10: ='7. sz. tábla 1'!B166 -> 118333233 | AG10: ='7. sz. tábla 1'!C166 -> 1428680233 | AH10: =AG10-AF10 -> 1310347000 | AI10: ='1.sz.tábla (2)'!B30 -> 276288740 | AJ10: ='1.sz.tábla (2)'!C30 -> 939084558 | AK10: =AJ10-AI10 -> 662795818 | AL10: =SUM(Y10,AB10,AF10,V10,S10,K10,H10,E10,B10,AI10) -> 6792232905 | AM10: =SUM(Z10,AC10,AG10,W10,T10,L10,I10,F10,C10,AJ10) -> 9434596634 | AN10: =AM10-AL10 -> 2642363729
A11: Mindösszesen: | B11: =SUM(B9:B10) -> 480785229 | C11: =SUM(C9:C10) -> 498493391 | D11: =C11-B11 -> 17708162 | E11: =SUM(E9:E10) -> 108154075 | F11: =SUM(F9:F10) -> 117582245 | G11: =F11-E11 -> 9428170 | H11: =SUM(H9:H10) -> 914910078 | I11: =SUM(I9:I10) -> 1312932384 | J11: =I11-H11 -> 398022306 | K11: =SUM(K9:K10) -> 31594400 | L11: =SUM(L9:L10) -> 31096900 | M11: =L11-K11 -> -497500 | N11: =SUM(N9:N10) -> #REF! | O11: =SUM(O9:O10) -> #REF! | P11: =SUM(P9:P10) -> #REF! | Q11: =SUM(Q9:Q10) -> #REF! | R11: Mindösszesen: | S11: =SUM(S9:S10) -> 1009956391 | T11: =SUM(T9:T10) -> 997715031 | U11: =T11-S11 -> -12241360 | V11: =SUM(V9:V10) -> 3745080802 | W11: =SUM(W9:W10) -> 3821141978 | X11: =W11-V11 -> 76061176 | Y11: =SUM(Y9:Y10) -> 93139339 | Z11: =SUM(Z9:Z10) -> 94245404 | AA11: =Z11-Y11 -> 1106065 | AB11: =SUM(AB9:AB10) -> 688455332 | AC11: =SUM(AC9:AC10) -> 902535375 | AD11: =AC11-AB11 -> 214080043 | AE11: Mindösszesen: | AF11: =SUM(AF9:AF10) -> 118333233 | AG11: =SUM(AG9:AG10) -> 1428680233 | AH11: =AG11-AF11 -> 1310347000 | AI11: =SUM(AI9:AI10) -> 276288740 | AJ11: =SUM(AJ9:AJ10) -> 939084558 | AK11: =AJ11-AI11 -> 662795818 | AL11: =SUM(AL9:AL10) -> 7466697619 | AM11: =SUM(AM9:AM10) -> 10143507499 | AN11: =AM11-AL11 -> 2676809880

Sheet 4a. sz. tábla  (3)
A2: INTÉZMÉNYI SAJÁTHATÁSKÖRŰ FEJLESZTÉSEK 2017. ÉV
A3: Intézmény | B3: Megnevezés | C3: 2017. évi eredeti ei. | D3: 2017. évi módosított ei. I. | E3: Eltérés
A5: KÖNYVTÁR | C5: =SUM(C6:C12) -> 2971000 | D5: =SUM(D6:D12) -> 2975200 | E5: =D5-C5 -> 4200
B6: Dokumentumbeszerzés | C6: 2671000 | D6: 2675200 | E6: =D6-C6 -> 4200
B7: Informatikai eszközök | C7: 0 | D7: 0 | E7: =D7-C7 -> 0
B8: Kamera, kameraállvány | C8: 0 | D8: 0 | E8: =D8-C8 -> 0
B9: Könyvtári felirat | C9: 0 | D9: 0 | E9: =D9-C9 -> 0
B10: Bútor | C10: 293000 | D10: 293000 | E10: =D10-C10 -> 0
B11: Függöny | C11: 0 | D11: 0 | E11: =D11-C11 -> 0
B12: egyéb kisértékű eszközök | C12: 7000 | D12: 7000 | E12: =D12-C12 -> 0
A14: BÖLCSÖDE | C14: =SUM(C15:C19) -> 200000 | D14: =SUM(D15:D19) -> 586301 | E14: =D14-C14 -> 386301
B15: fűnyíró | D15: 80000
B16: hűtő | D16: 60000
B17: játékok | C17: 180000 | D17: 180000 | E17: =D17-C17 -> 0
B18: egyéb kisértékű eszközök | C18: 20000 | D18: 236301 | E18: =D18-C18 -> 216301
B19: microhullámú | D19: 30000 | E19: =D19-C19 -> 30000
A21: RENDELŐINTÉZET | C21: =SUM(C22:C24) -> 400000 | D21: =SUM(D22:D24) -> 1000000 | E21: =D21-C21 -> 600000
B22: informatikai eszközök | C22: 200000 | D22: 400000 | E22: =D22-C22 -> 200000
B23: Orvosi műszerek | E23: =D23-C23 -> 0
B24: egyéb kisértékű eszközök | C24: 200000 | D24: 600000 | E24: =D24-C24 -> 400000
A25: KÖZÖS ÖNKORMÁNYZATI HIVATAL | C25: =SUM(C26:C28) -> 3000000 | D25: =SUM(D26:D28) -> 7861817 | E25: =D25-C25 -> 4861817
B26: Számítástechnikai eszközök | C26: 2000000 | D26: 4204300 | E26: =D26-C26 -> 2204300
B27: Fénymásoló + nyomtató | D27: 2657517 | E27: =D27-C27 -> 2657517
B28: egyéb kisértékű eszközök | C28: 1000000 | D28: ='5.tábla (2)'!C23 -> 1000000 | E28: =D28-C28 -> 0
A29: ÖSSZESEN: | C29: =SUM(C5+C14+C21+C25) -> 6571000 | D29: =SUM(D5+D14+D21+D25) -> 12423318 | E29: =SUM(E5+E14+E21+E25) -> 5852318

Sheet 5.tábla (2)
A3: MŰKÖDÉSI KIADÁSOK ÖNKORMÁNYZAT, HIVATAL BONTÁSBAN 2017. ÉV
A5: MEGNEVEZÉS | B5: 2017. évi eredeti ei. | C5: 2017. évi módosított ei. I. | D5: Eltérés
A6: I. Közös Önkormányzati Hivatal költségvetése
A7: 1. Személyi juttatás | B7: 248441476 | C7: 254177426 | D7: =C7-B7 -> 5735950
A8: 2. Munkaadót terhelő járulékok | B8: 59971194 | C8: 62183686 | D8: =C8-B8 -> 2212492
A9: 3. Dologi kiadások | B9: =SUM(B10:B14) -> 73251644 | C9: =SUM(C10:C14) -> 76141092 | D9: =C9-B9 -> 2889448
A10: Igazgatás dologi Balatonfüred | B10: =58640000+29624 -> 58669624 | C10: 61559072 | D10: =C10-B10 -> 2889448
A11: Telephelyek dologi | B11: 1600000 | C11: 1600000 | D11: =C11-B11 -> 0
A12: Családi iroda | B12: 403000 | C12: 403000 | D12: =C12-B12 -> 0
A13: Közösségi Ház | B13: 9000000 | C13: 9000000 | D13: =C13-B13 -> 0
A14: Befizetendő áfa | B14: 3579020 | C14: 3579020 | D14: =C14-B14 -> 0
A15: 4.1. Ellátottak pénzbeli juttatásai Balatonfüred | B15: =B16 -> 2000000 | C15: =C16 -> 2000000 | D15: =C15-B15 -> 0
A16: Rendszeres gyermekvédelmi támogatás | B16: 2000000 | C16: 2000000 | D16: =C16-B16 -> 0
A17: 4.2. Ellátottak pénzbeli juttatásai telephelyek | B17: =SUM(B18:B18) -> 394400 | C17: =SUM(C18:C18) -> 394400 | D17: =C17-B17 -> 0
A18: Rendszeres gyermekvédelmi támogatás | B18: 394400 | C18: 394400 | D18: =C18-B18 -> 0
A19: 5. Egyéb működési célú kiadások áh-n belülre | B19: 0 | C19: 2105398 | D19: =C19-B19 -> 2105398
A20: Hivatal működési kiadások összesen: | B20: =B19+B17+B15+B9+B8+B7 -> 384058714 | C20: =C19+C17+C15+C9+C8+C7 -> 397002002 | D20: =C20-B20 -> 12943288
A21: 6. Saját hatáskörű fejlesztések | B21: =SUM(B22:B23) -> 3000000 | C21: =SUM(C22:C23) -> 7861817 | D21: =C21-B21 -> 4861817
A22: Informatikai fejlesztések (kisértékű, nagyértékű) | B22: 2000000 | C22: 6861817 | D22: =C22-B22 -> 4861817
A23: Kisértékű tárgyi eszközök | B23: 1000000 | C23: 1000000 | D23: =C23-B23 -> 0
A24: I. Közös Önkormányzati Hivatal összesen: | B24: =B21+B20 -> 387058714 | C24: =C21+C20 -> 404863819 | D24: =C24-B24 -> 17805105
A26: MEGNEVEZÉS | B26: 2017. évi eredeti ei. | C26: 2017. évi módosított ei. I. | D26: Eltérés
A27: II. Önkormányzat költségvetése
A28: 1. Személyi juttatások | B28: =SUM(B29:B37) -> 70721753 | C28: =SUM(C29:C41) -> 82159964 | D28: =C28-B28 -> 11438211
A29: Képviselő-testület személyi juttatásai | B29: 25264401 | C29: 27226756 | D29: =C29-B29 -> 1962355
A30: Közfoglalkoztatás | B30: 23149644 | C30: 20540693 | D30: =C30-B30 -> -2608951
A31: Nyári diákmunka | B31: 0 | D31: =C31-B31 -> 0
A32: BISZ december havi bér | B32: 2951508 | C32: 2951508 | D32: =C32-B32 -> 0
A33: Megbízási díjak | B33: 9506200 | C33: 9851800 | D33: =C33-B33 -> 345600
A34: Városi Kitüntetések | B34: 1150000 | C34: 1070000 | D34: =C34-B34 -> -80000
A35: Ösztöndíjak | B35: 5800000 | C35: 5800000 | D35: =C35-B35 -> 0
A36: Rendezvényekhez kapcsolódó személyi | B36: 2400000 | C36: =10363368-500000 -> 9863368 | D36: =C36-B36 -> 7463368
A37: Idősek napja ajándék | B37: 500000 | C37: 500000 | D37: =C37-B37 -> 0
A38: KÖFOP-1.2.1. ASP központhoz való csatlakozás | C38: 339106 | D38: =C38-B38 -> 339106
A39: TOP-1.2.1-15 Széchényi Strand turisztikai infrastruktúra fejlesztés | C39: 85587 | D39: =C39-B39 -> 85587
A40: TOP-4.1.1-15 Egészségügyi alapellátás fejlesztése | C40: 199038 | D40: =C40-B40 -> 199038
A41: TOP-1.1.2-15 Balatonfüred és Balatonalmádi közös helyi foglalkoztatási együttműködés | C41: 3732108 | D41: =C41-B41 -> 3732108
A42: 2. Munkaadót terhelő járulékok és szociális hozzájárulási adó | B42: =SUM(B43:B50) -> 12636881 | C42: =SUM(C43:C54) -> 18039937 | D42: =SUM(D43:D54) -> 5403056
A43: Képviselő-testület személyi juttatásai | B43: 5775168 | C43: 6338827 | D43: =C43-B43 -> 563659
A44: Közfoglalkoztatás | B44: 2585077 | C44: 2298092 | D44: =C44-B44 -> -286985
...

Sheet 5b. sz. tábla  (2)
A2: TÁMOGATÁSOK 2017. ÉV
A3: MEGNEVEZÉS | B3: 2017. évi eredeti ei. | C3: 2017. évi módosított ei. I. | D3: Eltérés
A4: Működési célú támogatások áh-n belülre: | B4: =SUM(B5:B11) -> 513966253 | C4: =SUM(C5:C11) -> 497594495 | D4: =C4-B4 -> -16371758
A5: Országos Mentőszolgálat támogatás
A6: Veszprém Megyei Rendőr-főkapitányság | C6: 366920 | D6: =C6-B6 -> 366920
A7: BURSA Hungarica ösztöndíj | B7: 1350000 | C7: 1350000 | D7: =C7-B7 -> 0
A8: Balatonfüredi Többcélú Társulás BSZAK | B8: 126987697 | C8: 117044468 | D8: =C8-B8 -> -9943229
A9: Közoktatási Intézményfenntartó Társulás Óvodák | B9: 385628556 | C9: 378653425 | D9: =C9-B9 -> -6975131
A10: Munkaügyi Központ BISZ előleg visszautalás | C10: 179682 | D10: =C10-B10 -> 179682
A11: Uniós pályázat szabálytalanság miatti visszafizetés | D11: =C11-B11 -> 0
A12: Működési célú támogatások áh-n kívülre: | B12: =SUM(B13:B82) -> 495989058 | C12: =SUM(C13:C84) -> 498014058 | D12: =C12-B12 -> 2025000
A13: Önkéntes Tűzoltóság | B13: 11500000 | C13: 11500000 | D13: =C13-B13 -> 0
A14: Vagyonvédelmi Alapítvány | B14: 1500000 | C14: 1500000 | D14: =C14-B14 -> 0
A15: Váll. Fejl. Közalapítvány | B15: 1500000 | C15: 1500000 | D15: =C15-B15 -> 0
A16: ÉNYKK (Balaton Volán jogutódja) | B16: 23656200 | C16: 23656200 | D16: =C16-B16 -> 0
A17: Városért Közalapítvány | B17: 1520000 | C17: 1520000 | D17: =C17-B17 -> 0
A18: Balatonfüred Város Közalapítvány Tempevölgy | B18: 2500000 | C18: 2500000 | D18: =C18-B18 -> 0
A19: Kovászna Testvérvárosi Egyesület | B19: 200000 | C19: 200000 | D19: =C19-B19 -> 0
A20: Opatija Testvérvárosi Egyesület | B20: 200000 | C20: 200000 | D20: =C20-B20 -> 0
A21: Kouvala Testvérvárosi Egyesület | B21: 400000 | C21: 400000 | D21: =C21-B21 -> 0
A22: Germering Testvérvárosi Egyesület | B22: 200000 | C22: 200000 | D22: =C22-B22 -> 0
A23: QUASIMODO Alapítvány | B23: 2000000 | C23: 2000000 | D23: =C23-B23 -> 0
