Workbook
Name onev: [1]kod!$BT$34:$BT$3186
Name onev: [1]kod!$BT$34:$BT$3186
Name onev: [1]kod!$BT$34:$BT$3186

Sheet 1.sz.tábla   (2)
A1: AZ ÖNKORMÁNYZAT 2017. ÉVI KÖLTSÉGVETÉSÉNEK FŐÖSSZESÍTŐJE
A5: MEGNEVEZÉS | B5: 2017. évi eredeti ei. | C5: 2017. évi módosított ei. I. | D5: Eltérés
A6: I. Működési célú támogatások államháztartáson belülről | B6: ='2.sz.tábla (2)'!K6 -> 1142330655 | C6: ='2.sz.tábla (2)'!L6 -> 1486989512 | D6: =C6-B6 -> 344658857
A7: II. Felhalmozási célú támogatások államháztartáson belülről | B7: ='2.sz.tábla (2)'!K21 -> 1798268854 | C7: ='2.sz.tábla (2)'!L21 -> 2362779525 | D7: =C7-B7 -> 564510671
A8: III. Közhatalmi bevételek | B8: ='2.sz.tábla (2)'!K29 -> 1675900000 | C8: ='2.sz.tábla (2)'!L29 -> 1675900000 | D8: =C8-B8 -> 0
A9: IV. Működési bevételek | B9: ='2.sz.tábla (2)'!K42 -> 602267389 | C9: ='2.sz.tábla (2)'!L42 -> 602267389 | D9: =C9-B9 -> 0
A10: V. Felhalmozási bevételek | B10: ='2.sz.tábla (2)'!K57 -> 171355383 | C10: ='2.sz.tábla (2)'!L57 -> 171355383 | D10: =C10-B10 -> 0
A11: VI. Működési célú átvett pénzeszközök | B11: ='2.sz.tábla (2)'!K65 -> 5600000 | C11: ='2.sz.tábla (2)'!L65 -> 6150575 | D11: =C11-B11 -> 550575
A12: VII. Felhalmozási célú átvett pénzeszközök | B12: ='2.sz.tábla (2)'!K69 -> 85818959 | C12: ='2.sz.tábla (2)'!L69 -> 275818959 | D12: =C12-B12 -> 190000000
A13: Költségvetési bevételek összesen: | B13: =SUM(B6:B12) -> 5481541240 | C13: =SUM(C6:C12) -> 6581261343 | D13: =SUM(D6:D12) -> 1099720103
A14: VIII. Finanszírozási bevételek
A15: 1. Költségvetési hiány belső finanszírozására szolgáló finanszírozási bevételek | B15: ='2.sz.tábla (2)'!K75 -> 791176379 | C15: ='2.sz.tábla (2)'!L75 -> 1057086156 | D15: =C15-B15 -> 265909777
A16: 2. Költségvetési hiány külső finanszírozására szolgáló finanszírozási célú pénzügyi műveletek bevételei | B16: ='2.sz.tábla (2)'!K78 -> 1193980000 | C16: ='2.sz.tábla (2)'!L78 -> 2505160000 | D16: =C16-B16 -> 1311180000
A17: Finanszírozási bevételek összesen: | B17: =SUM(B15:B16) -> 1985156379 | C17: =SUM(C15:C16) -> 3562246156 | D17: =SUM(D15:D16) -> 1577089777
A18: Bevételek összesen: | B18: =B13+B17 -> 7466697619 | C18: =C13+C17 -> 10143507499 | D18: =D13+D17 -> 2676809880
A20: Működési kiadások | B20: =SUM(B21:B23) -> 2545400173 | C20: =SUM(C21:C23) -> 2957819951 | D20: =SUM(D21:D23) -> 412419778
A21: Önkormányzat | B21: ='5.tábla (2)'!B115 -> 1877506459 | C21: ='5.tábla (2)'!C115 -> 2261332404 | D21: =C21-B21 -> 383825945
A22: Önkormányzati Hivatal | B22: ='5.tábla (2)'!B20 -> 384058714 | C22: ='5.tábla (2)'!C20 -> 397002002 | D22: =C22-B22 -> 12943288
A23: Intézmények | B23: ='4.sz.tábla '!AL7-'4.sz.tábla '!V7 -> 283835000 | C23: ='4.sz.tábla '!AM7-'4.sz.tábla '!W7 -> 299485545 | D23: =C23-B23 -> 15650545
A25: Felhalmozási kiadások | B25: =SUM(B26:B28) -> 4526675473 | C25: =SUM(C26:C28) -> 4817922757 | D25: =SUM(D26:D28) -> 291247284
A26: Fejlesztési kiadások | B26: ='7. sz. tábla 1'!B161 -> 4426965134 | C26: ='7. sz. tábla 1'!C161 -> 4711254035 | D26: =C26-B26 -> 284288901
A27: Intézm saját hatásk fejl | B27: ='4.sz.tábla '!V9 -> 6571000 | C27: ='4a. sz. tábla (3)'!D29 -> 12423318 | D27: =C27-B27 -> 5852318
A28: Felújítás | B28: ='6.sz.tábla (4)'!B121 -> 93139339 | C28: ='6.sz.tábla (4)'!C121 -> 94245404 | D28: =C28-B28 -> 1106065
A30: Tartalékok | B30: =SUM(B31:B32) -> 276288740 | C30: =SUM(C31:C32) -> 939084558 | D30: =SUM(D31:D32) -> 662795818
A31: Általános | B31: 76175628 | C31: 55851676 | D31: =C31-B31 -> -20323952
A32: Cél | B32: =B39 -> 200113112 | C32: =C39 -> 883232882 | D32: =C32-B32 -> 683119770
A33: Költségvetési kiadások összesen: | B33: =SUM(B30,B25,B20) -> 7348364386 | C33: =SUM(C30,C25,C20) -> 8714827266 | D33: =SUM(D30,D25,D20) -> 1366462880
A34: Hiteltörlesztés | B34: ='7. sz. tábla 1'!B163 -> 74242424 | C34: ='7. sz. tábla 1'!C163 -> 74242424 | D34: =C34-B34 -> 0
A35: Állami támogatás megelőlegezés visszafizetés | B35: ='7. sz. tábla 1'!B165 -> 44090809 | C35: ='7. sz. tábla 1'!C165 -> 44090809 | D35: =C35-B35 -> 0
A36: Forgatási célú értékpapír vásárlása | C36: ='7. sz. tábla 1'!C164 -> 1310347000
A37: Finanszírozási kiadások összesen: | B37: =SUM(B34:B36) -> 118333233 | C37: =SUM(C34:C36) -> 1428680233 | D37: =SUM(D34:D36) -> 0
A38: Kiadások összesen: | B38: =SUM(B33,B37) -> 7466697619 | C38: =SUM(C33,C37) -> 10143507499 | D38: =SUM(D33,D37) -> 1366462880
A39: Céltartalék: | B39: =SUM(B40:B52) -> 200113112 | C39: =SUM(C40:C57) -> 883232882 | D39: =SUM(D40:D52) -> -145916609
A40: MÁK forgótőke | B40: 800000 | C40: 800000 | D40: =C40-B40 -> 0
A41: környezetvédelmi alap | B41: 7768000 | C41: 7768000 | D41: =C41-B41 -> 0
A42: Polgármester saját hatáskörű keret | B42: 5000000 | C42: 3532935 | D42: =C42-B42 -> -1467065
A43: Népház, posta pénzügyi alap | B43: 19589955 | C43: 19589955 | D43: =C43-B43 -> 0
A44: Helyi védelem | B44: 3000000 | C44: 3000000 | D44: =C44-B44 -> 0
A45: Közhasznú foglalkoztatás | B45: 4000000 | C45: 4000000 | D45: =C45-B45 -> 0
A46: Zsinagóga felújítási alap | B46: 2589753 | C46: 2589753 | D46: =C46-B46 -> 0
A47: Közfoglalkoztatásra kapott előleg | B47: 0 | C47: 2895936 | D47: =C47-B47 -> 2895936
A48: Intézményi elkülönített keret | B48: 0 | C48: 7933804 | D48: =C48-B48 -> 7933804
A49: Társulásoknak átadott intézmények kv-i maradványa | B49: 78000 | C49: 78000 | D49: =C49-B49 -> 0
A50: köznevelési feladatok támogatása pótlólagos összeg | B50: 1398120 | C50: 1398120 | D50: =C50-B50 -> 0
A51: FINA parkolófejlesztés Borsos M. u. támogatás | B51: 155279284 | C51: 0 | D51: =C51-B51 -> -155279284
A52: óvodákban évközben jelentkező SNI többletktg. | B52: 610000 | C52: 610000 | D52: =C52-B52 -> 0
A53: KÖFOP-1.2.1. ASP központhoz való csatlakozás áthúzódó | C53: 3456290 | D53: =C53-B53 -> 3456290
A54: TOP-1.2.1-15 Széchényi Strand turisztikai infrastruktúra fejlesztés áthúzódó | C54: 166877644 | D54: =C54-B54 -> 166877644
A55: TOP-1.1.1-15 Ipari parkok, iparterületek fejlesztése | C55: 553280000 | D55: =C55-B55 -> 553280000
A56: TOP-4.1.1-15 Egészségügyi alapellátás fejlesztése | C56: 58287222 | D56: =C56-B56 -> 58287222
A57: TOP-1.1.2-15 Balatonfüred és Balatonalmádi közös helyi foglalkoztatási együttműködés | C57: 47135223 | D57: =C57-B57 -> 47135223

Sheet 2.sz.tábla   (2)
A3: BEVÉTELEK ELŐIRÁNYZATA 2017. ÉV
A4: MEGNEVEZÉS | B4: ÖNKORMÁNYZAT | E4: KÖZÖS ÖNKORMÁNYZATI HIVATAL | H4: KÖLTSÉGVETÉSI SZERVEK | K4: ÖNKORMÁNYZAT ÖSSZESEN
B5: 2017. évi eredeti ei. | C5: 2017. évi módosított ei. I. | D5: Eltérés | E5: 2017. évi eredeti ei. | F5: 2017. évi módosított ei. I. | G5: Eltérés | H5: 2017. évi eredeti ei. | I5: 2017. évi módosított ei. I. | J5: Eltérés | K5: 2017. évi eredeti ei. | L5: 2017. évi módosított ei. I. | M5: Eltérés
A6: I. Működési célú támogatások államháztartáson belülről | B6: =B7+B15+B16+B17+B18+B19 -> 1011904875 | C6: =C7+C15+C16+C17+C18+C19 -> 1351753707 | D6: =C6-B6 -> 339848832 | E6: =E7+E15+E16+E17+E18+E19 -> 21498780 | F6: =F7+F15+F16+F17+F18+F19 -> 22112074 | G6: =F6-E6 -> 613294 | H6: =H7+H15+H16+H17+H18+H19 -> 108927000 | I6: =I7+I15+I16+I17+I18+I19 -> 113123731 | J6: =I6-H6 -> 4196731 | K6: =K7+K15+K16+K17+K18+K19 -> 1142330655 | L6: =L7+L15+L16+L17+L18+L19 -> 1486989512 | M6: =L6-K6 -> 344658857
A7: 1. Önkormányzat működési támogatásai | B7: =SUM(B8:B14) -> 879671876 | C7: =SUM(C8:C14) -> 903353760 | D7: =C7-B7 -> 23681884 | G7: =F7-E7 -> 0 | J7: =I7-H7 -> 0 | K7: =SUM(K8:K14) -> 879671876 | L7: =SUM(L8:L14) -> 903353760 | M7: =L7-K7 -> 23681884
A8: 1.1. Helyi önk. működésének ált. támogatása | B8: 427352737 | C8: 427352737 | D8: =C8-B8 -> 0 | G8: =F8-E8 -> 0 | J8: =I8-H8 -> 0 | K8: =SUM(B8+E8+H8) -> 427352737 | L8: =SUM(C8+F8+I8) -> 427352737 | M8: =L8-K8 -> 0
A9: 1.2. Települési önk. egyes köznev. feladatainak támogatása | B9: 263108980 | C9: 264871280 | D9: =C9-B9 -> 1762300 | G9: =F9-E9 -> 0 | J9: =I9-H9 -> 0 | K9: =SUM(B9+E9+H9) -> 263108980 | L9: =SUM(C9+F9+I9) -> 264871280 | M9: =L9-K9 -> 1762300
A10: 1.3. Települési önk. szoc. és gyermekjóléti feladatainak tám. | B10: 173304879 | C10: 186543549 | D10: =C10-B10 -> 13238670 | G10: =F10-E10 -> 0 | J10: =I10-H10 -> 0 | K10: =SUM(B10+E10+H10) -> 173304879 | L10: =SUM(C10+F10+I10) -> 186543549 | M10: =L10-K10 -> 13238670
A11: 1.4. Települési önk. kult. feladatainak támogatása | B11: 15905280 | C11: 17377221 | D11: =C11-B11 -> 1471941 | G11: =F11-E11 -> 0 | J11: =I11-H11 -> 0 | K11: =SUM(B11+E11+H11) -> 15905280 | L11: =SUM(C11+F11+I11) -> 17377221 | M11: =L11-K11 -> 1471941
A12: 1.5. Működési célú költségvetési támogatások és kiegészítő támogatások | C12: 3884841 | D12: =C12-B12 -> 3884841 | G12: =F12-E12 -> 0 | J12: =I12-H12 -> 0 | K12: =SUM(B12+E12+H12) -> 0 | L12: =SUM(C12+F12+I12) -> 3884841 | M12: =L12-K12 -> 3884841
A13: 1.6. Elszámolásból származó bevételek | C13: 3324132 | D13: =C13-B13 -> 3324132 | G13: =F13-E13 -> 0 | J13: =I13-H13 -> 0 | K13: =SUM(B13+E13+H13) -> 0 | L13: =SUM(C13+F13+I13) -> 3324132 | M13: =L13-K13 -> 3324132
A14: 1.7. Vis major | D14: =C14-B14 -> 0 | G14: =F14-E14 -> 0 | J14: =I14-H14 -> 0 | K14: =SUM(B14+E14+H14) -> 0 | L14: =SUM(C14+F14+I14) -> 0 | M14: =L14-K14 -> 0
A15: 2. Elvonások, befizetések | D15: =C15-B15 -> 0 | G15: =F15-E15 -> 0 | J15: =I15-H15 -> 0 | K15: =SUM(B15+E15+H15) -> 0 | M15: =L15-K15 -> 0
A16: 3. Működési célú garancia- és kezességvállalásból származó megtérülések áh-n belülről | D16: =C16-B16 -> 0 | G16: =F16-E16 -> 0 | J16: =I16-H16 -> 0 | K16: =SUM(B16+E16+H16) -> 0 | L16: =C16+F16+I16 -> 0 | M16: =L16-K16 -> 0
A17: 4. Működési célú visszatérítendő támogatások, kölcsönök visszatérülése áh-n belülről | D17: =C17-B17 -> 0 | G17: =F17-E17 -> 0 | J17: =I17-H17 -> 0 | K17: =SUM(B17+E17+H17) -> 0 | L17: =C17+F17+I17 -> 0 | M17: =L17-K17 -> 0
A18: 5. Működési célú visszatérítendő támogatások, kölcsönök igénybevétele áh-n belülről | D18: =C18-B18 -> 0 | G18: =F18-E18 -> 0 | J18: =I18-H18 -> 0 | K18: =SUM(B18+E18+H18) -> 0 | L18: =C18+F18+I18 -> 0 | M18: =L18-K18 -> 0
A19: 6. Egyéb működési célú támogatások bevételei államháztartáson belülről | B19: 132232999 | C19: 448399947 | D19: =C19-B19 -> 316166948 | E19: ='2.a tábla ÚJ '!O13 -> 21498780 | F19: ='2.a tábla ÚJ '!P13 -> 22112074 | G19: =F19-E19 -> 613294 | H19: ='2.a tábla ÚJ '!K13 -> 108927000 | I19: ='2.a tábla ÚJ '!L13 -> 113123731 | J19: =I19-H19 -> 4196731 | K19: =SUM(B19+E19+H19) -> 262658779 | L19: =C19+F19+I19 -> 583635752 | M19: =L19-K19 -> 320976973
A20: ebből működési célú támogatás társadalombiztosítási alapból | D20: =C20-B20 -> 0 | G20: =F20-E20 -> 0 | H20: ='2.a tábla ÚJ '!K14 -> 103000000 | I20: ='2.a tábla ÚJ '!L14 -> 107196731 | J20: =I20-H20 -> 4196731 | K20: =SUM(B20+E20+H20) -> 103000000 | L20: =C20+F20+I20 -> 107196731 | M20: =L20-K20 -> 4196731
A21: II. Felhalmozási célú támogatások államháztartáson belülről | B21: =B22+B23+B24+B25+B26 -> 1798268854 | C21: =C22+C23+C24+C25+C26 -> 2362779525 | D21: =C21-B21 -> 564510671 | E21: =E22+E23+E24+E25+E26 -> 0 | G21: =F21-E21 -> 0 | H21: =H22+H23+H24+H25+H26 -> 0 | I21: =I22+I23+I24+I25+I26 -> 0 | J21: =I21-H21 -> 0 | K21: =K22+K23+K24+K25+K26 -> 1798268854 | L21: =L22+L23+L24+L25+L26 -> 2362779525 | M21: =L21-K21 -> 564510671
A22: 1. Felhalmozási célú önkormányzati támogatások | B22: 163583000 | C22: 163348384 | D22: =C22-B22 -> -234616 | G22: =F22-E22 -> 0 | J22: =I22-H22 -> 0 | K22: =SUM(B22+E22+H22) -> 163583000 | L22: =C22+F22+I22 -> 163348384 | M22: =L22-K22 -> -234616
A23: 2. Felhalmozási célú garancia- és kezességvállalásból származó megtérülések áh-n belülről | D23: =C23-B23 -> 0 | G23: =F23-E23 -> 0 | J23: =I23-H23 -> 0 | K23: =SUM(B23+E23+H23) -> 0 | L23: =C23+F23+I23 -> 0 | M23: =L23-K23 -> 0
A24: 3. Felhalmozási célú visszatérítendő támogatások, kölcsönök visszatérülése áh-n belülről | B24: 0 | D24: =C24-B24 -> 0 | G24: =F24-E24 -> 0 | J24: =I24-H24 -> 0 | K24: =SUM(B24+E24+H24) -> 0 | L24: =C24+F24+I24 -> 0 | M24: =L24-K24 -> 0
A25: 4. Felhalmozási célú visszatérítendő támogatások, kölcsönök igénybevétele áh-n belülről | D25: =C25-B25 -> 0 | G25: =F25-E25 -> 0 | J25: =I25-H25 -> 0 | K25: =SUM(B25+E25+H25) -> 0 | L25: =C25+F25+I25 -> 0 | M25: =L25-K25 -> 0
A26: 5. Egyéb felhalmozási célú támogatások államháztartáson belülről | B26: 1634685854 | C26: 2199431141 | D26: =C26-B26 -> 564745287 | G26: =F26-E26 -> 0 | J26: =I26-H26 -> 0 | K26: =SUM(B26+E26+H26) -> 1634685854 | L26: =C26+F26+I26 -> 2199431141 | M26: =L26-K26 -> 564745287
A27: MEGNEVEZÉS | B27: ÖNKORMÁNYZAT | E27: KÖZÖS ÖNKORMÁNYZATI HIVATAL | H27: KÖLTSÉGVETÉSI SZERVEK | K27: ÖNKORMÁNYZAT ÖSSZESEN
B28: 2017. évi eredeti ei. | C28: 2017. évi módosított ei. I. | D28: Eltérés | E28: 2017. évi eredeti ei. | F28: 2017. évi módosított ei. I. | G28: Eltérés | H28: 2017. évi eredeti ei. | I28: 2017. évi módosított ei. I. | J28: Eltérés | K28: 2017. évi eredeti ei. | L28: 2017. évi módosított ei. I. | M28: Eltérés
A29: III. Közhatalmi bevételek | B29: =B30+B33+B41 -> 1675400000 | C29: =C30+C33+C41 -> 1675400000 | D29: =C29-B29 -> 0 | E29: =E30+E33+E41 -> 500000 | F29: =F30+F33+F41 -> 500000 | G29: =F29-E29 -> 0 | K29: =SUM(B29+E29+H29) -> 1675900000 | L29: =SUM(C29+F29+I29) -> 1675900000 | M29: =L29-K29 -> 0
A30: 1. Vagyoni típusú adók | B30: =SUM(B31:B32) -> 440000000 | C30: =SUM(C31:C32) -> 440000000 | D30: =C30-B30 -> 0 | K30: =SUM(B30+E30+H30) -> 440000000 | L30: =SUM(C30+F30+I30) -> 440000000 | M30: =L30-K30 -> 0
A31: 1.1. Építményadó | B31: 410000000 | C31: 410000000 | D31: =C31-B31 -> 0 | K31: =SUM(B31+E31+H31) -> 410000000 | L31: =SUM(C31+F31+I31) -> 410000000 | M31: =L31-K31 -> 0
A32: 1.2. Telekadó | B32: 30000000 | C32: 30000000 | D32: =C32-B32 -> 0 | K32: =SUM(B32+E32+H32) -> 30000000 | L32: =SUM(C32+F32+I32) -> 30000000 | M32: =L32-K32 -> 0
A33: 2. Termékek és szolgáltatások adói | B33: =B34+B36+B37 -> 1149000000 | C33: =C34+C36+C37 -> 1149000000 | D33: =C33-B33 -> 0 | K33: =SUM(B33+E33+H33) -> 1149000000 | L33: =SUM(C33+F33+I33) -> 1149000000 | M33: =L33-K33 -> 0
A34: 2.1. Értékesítési és forgalmi adók | B34: =SUM(B35) -> 762000000 | C34: =SUM(C35) -> 762000000 | D34: =C34-B34 -> 0 | K34: =SUM(B34+E34+H34) -> 762000000 | L34: =SUM(C34+F34+I34) -> 762000000 | M34: =L34-K34 -> 0
A35: 2.1. 1. Iparűzési adó | B35: 762000000 | C35: 762000000 | D35: =C35-B35 -> 0 | K35: =SUM(B35+E35+H35) -> 762000000 | L35: =SUM(C35+F35+I35) -> 762000000 | M35: =L35-K35 -> 0
A36: 2.2. Gépjárműadók | B36: 52000000 | C36: 52000000 | D36: =C36-B36 -> 0 | K36: =SUM(B36+E36+H36) -> 52000000 | L36: =SUM(C36+F36+I36) -> 52000000 | M36: =L36-K36 -> 0
A37: 2.3. Egyéb áruhasználati és szolgáltatási adók | B37: =SUM(B38:B40) -> 335000000 | C37: =SUM(C38:C40) -> 335000000 | D37: =C37-B37 -> 0 | K37: =SUM(B37+E37+H37) -> 335000000 | L37: =SUM(C37+F37+I37) -> 335000000 | M37: =L37-K37 -> 0
A38: 2.3.1. Ifa személyek u. | B38: 335000000 | C38: 335000000 | D38: =C38-B38 -> 0 | K38: =SUM(B38+E38+H38) -> 335000000 | L38: =SUM(C38+F38+I38) -> 335000000 | M38: =L38-K38 -> 0
A39: 2.3.2. Talajterhelési díj | B39: 0 | D39: =C39-B39 -> 0 | K39: =SUM(B39+E39+H39) -> 0 | L39: =SUM(C39+F39+I39) -> 0 | M39: =L39-K39 -> 0
A40: 2.3.3. Települési adó | C40: 0 | D40: =C40-B40 -> 0 | K40: =SUM(B40+E40+H40) -> 0 | L40: =SUM(C40+F40+I40) -> 0 | M40: =L40-K40 -> 0
A41: 3. Egyéb közhatalmi bevételek (bírság, pótlék, településrendezési szerz.) | B41: 86400000 | C41: 86400000 | D41: =C41-B41 -> 0 | E41: ='2.a tábla ÚJ '!O20 -> 500000 | F41: ='2.a tábla ÚJ '!P20 -> 500000 | G41: =F41-E41 -> 0 | K41: =SUM(B41+E41+H41) -> 86900000 | L41: =SUM(C41+F41+I41) -> 86900000 | M41: =L41-K41 -> 0
A42: IV. Működési bevételek | B42: =B43+B44+B46+B47+B50+B51+B52+B53+B56+B54+B55 -> 548809439 | C42: =C43+C44+C46+C47+C50+C51+C52+C53+C56+C54+C55 -> 548809439 | D42: =C42-B42 -> 0 | E42: =E43+E44+E46+E47+E50+E51+E52+E53+E56 -> 16109950 | F42: =F43+F44+F46+F47+F50+F51+F52+F53+F56 -> 16109950 | G42: =F42-E42 -> 0 | H42: =SUM(H43+H44+H46+H47+H50+H51+H52+H53+H56) -> 37348000 | I42: =SUM(I43+I44+I46+I47+I50+I51+I52+I53+I56) -> 37348000 | J42: =I42-H42 -> 0 | K42: =SUM(B42+E42+H42) -> 602267389 | L42: =SUM(C42+F42+I42) -> 602267389 | M42: =L42-K42 -> 0
A43: 1. Készletértékesítés bevétele | B43: 5967322 | C43: 5967322 | D43: =C43-B43 -> 0 | G43: =F43-E43 -> 0 | K43: =SUM(B43+E43+H43) -> 5967322 | L43: =SUM(C43+F43+I43) -> 5967322 | M43: =L43-K43 -> 0
A44: 2. Szolgáltatások ellenértéke | B44: 337189893 | C44: 337189893 | D44: =C44-B44 -> 0 | E44: ='2.a tábla ÚJ '!O23 -> 12300000 | F44: ='2.a tábla ÚJ '!P23 -> 12300000 | G44: =F44-E44 -> 0 | H44: ='2.a tábla ÚJ '!K23 -> 35860000 | I44: ='2.a tábla ÚJ '!L23 -> 35860000 | J44: =I44-H44 -> 0 | K44: =SUM(B44+E44+H44) -> 385349893 | L44: =SUM(C44+F44+I44) -> 385349893 | M44: =L44-K44 -> 0
A45: Ebből: bérleti díjak | B45: 337189893 | C45: 337189893 | D45: =C45-B45 -> 0 | E45: ='2.a tábla ÚJ '!O24 -> 8100000 | F45: ='2.a tábla ÚJ '!P24 -> 8100000 | G45: =F45-E45 -> 0 | H45: ='2.a tábla ÚJ '!K24 -> 6250000 | I45: ='2.a tábla ÚJ '!L24 -> 6250000 | J45: =I45-H45 -> 0 | K45: =SUM(B45+E45+H45) -> 351539893 | L45: =SUM(C45+F45+I45) -> 351539893 | M45: =L45-K45 -> 0
A46: 3. Közvetített szolgáltatások ellenértéke | B46: 21105228 | C46: 21105228 | D46: =C46-B46 -> 0 | E46: ='2.a tábla ÚJ '!O25 -> 385000 | F46: ='2.a tábla ÚJ '!P25 -> 385000 | G46: =F46-E46 -> 0 | H46: ='2.a tábla ÚJ '!K25 -> 0 | I46: ='2.a tábla ÚJ '!L25 -> 0 | J46: =I46-H46 -> 0 | K46: =SUM(B46+E46+H46) -> 21490228 | L46: =SUM(C46+F46+I46) -> 21490228 | M46: =L46-K46 -> 0
A47: 4. Tulajdonosi bevételek | B47: =SUM(B48:B49) -> 18264000 | C47: =SUM(C48:C49) -> 18264000 | D47: =C47-B47 -> 0 | G47: =F47-E47 -> 0 | J47: =I47-H47 -> 0 | K47: =SUM(B47+E47+H47) -> 18264000 | L47: =SUM(C47+F47+I47) -> 18264000 | M47: =L47-K47 -> 0
A48: 4.1. Üzemeltetési díjak | B48: 4264000 | C48: 4264000 | D48: =C48-B48 -> 0 | G48: =F48-E48 -> 0 | J48: =I48-H48 -> 0 | K48: =SUM(B48+E48+H48) -> 4264000 | L48: =SUM(C48+F48+I48) -> 4264000 | M48: =L48-K48 -> 0
A49: 4.2. Részesedés után kapott osztalék | B49: 14000000 | C49: 14000000 | D49: =C49-B49 -> 0 | G49: =F49-E49 -> 0 | J49: =I49-H49 -> 0 | K49: =SUM(B49+E49+H49) -> 14000000 | L49: =SUM(C49+F49+I49) -> 14000000 | M49: =L49-K49 -> 0
A50: 5. Ellátási díjak | B50: 35410309 | C50: 35410309 | D50: =C50-B50 -> 0 | G50: =F50-E50 -> 0 | H50: ='2.a tábla ÚJ '!K27 -> 1017000 | I50: ='2.a tábla ÚJ '!L27 -> 1017000 | J50: =I50-H50 -> 0 | K50: =SUM(B50+E50+H50) -> 36427309 | L50: =SUM(C50+F50+I50) -> 36427309 | M50: =L50-K50 -> 0
A51: 6. Kiszámlázott Áfa | B51: 98272687 | C51: 98272687 | D51: =C51-B51 -> 0 | E51: ='2.a tábla ÚJ '!O28 -> 3424950 | F51: ='2.a tábla ÚJ '!P28 -> 3424950 | G51: =F51-E51 -> 0 | H51: ='2.a tábla ÚJ '!K28 -> 451000 | I51: ='2.a tábla ÚJ '!L28 -> 451000 | J51: =I51-H51 -> 0 | K51: =SUM(B51+E51+H51) -> 102148637 | L51: =SUM(C51+F51+I51) -> 102148637 | M51: =L51-K51 -> 0
A52: 7. Áfa visszatérítés | D52: =C52-B52 -> 0 | G52: =F52-E52 -> 0 | H52: ='2.a tábla ÚJ '!K29 -> 0 | I52: ='2.a tábla ÚJ '!L29 -> 0 | J52: =I52-H52 -> 0 | K52: =SUM(B52+E52+H52) -> 0 | L52: =SUM(C52+F52+I52) -> 0 | M52: =L52-K52 -> 0
A53: 8. Kamatbevétel | B53: 30000000 | C53: 30000000 | D53: =C53-B53 -> 0 | G53: =F53-E53 -> 0 | J53: =I53-H53 -> 0 | K53: =SUM(B53+E53+H53) -> 30000000 | L53: =SUM(C53+F53+I53) -> 30000000 | M53: =L53-K53 -> 0
A54: 9. Egyéb pénzügyi műveletek bevételei | D54: =C54-B54 -> 0 | G54: =F54-E54 -> 0 | J54: =I54-H54 -> 0 | K54: =SUM(B54+E54+H54) -> 0 | L54: =SUM(C54+F54+I54) -> 0 | M54: =L54-K54 -> 0
A55: 10. Biztosító által fizetett kártérítés | D55: =C55-B55 -> 0 | G55: =F55-E55 -> 0 | J55: =I55-H55 -> 0 | K55: =SUM(B55+E55+H55) -> 0 | L55: =SUM(C55+F55+I55) -> 0 | M55: =L55-K55 -> 0
A56: 11. Egyéb működési bevételek | B56: 2600000 | C56: 2600000 | D56: =C56-B56 -> 0 | G56: =F56-E56 -> 0 | H56: ='2.a tábla ÚJ '!K33 -> 20000 | I56: ='2.a tábla ÚJ '!L33 -> 20000 | J56: =I56-H56 -> 0 | K56: =SUM(B56+E56+H56) -> 2620000 | L56: =SUM(C56+F56+I56) -> 2620000 | M56: =L56-K56 -> 0
A57: V. Felhalmozási bevételek | B57: =SUM(B58:B62) -> 171355383 | C57: =SUM(C58:C62) -> 171355383 | D57: =C57-B57 -> 0 | E57: =SUM(E58:E62) -> 0 | F57: =SUM(F58:F62) -> 0 | G57: =F57-E57 -> 0 | H57: =SUM(H58:H62) -> 0 | I57: =SUM(I58:I62) -> 0 | J57: =I57-H57 -> 0 | K57: =SUM(K58:K62) -> 171355383 | L57: =SUM(L58:L62) -> 171355383 | M57: =L57-K57 -> 0
A58: 1. Immateriális javak értékesítése | D58: =C58-B58 -> 0 | M58: =L58-K58 -> 0
A59: 2. Ingatlanok értékesítése | B59: 169623100 | C59: 169623100 | D59: =C59-B59 -> 0 | K59: =B59+H59+E59 -> 169623100 | L59: =C59+I59+F59 -> 169623100 | M59: =L59-K59 -> 0
A60: 3. Egyéb tárgyi eszközök értékesítése | B60: 1732283 | C60: 1732283 | D60: =C60-B60 -> 0 | K60: =B60+H60+E60 -> 1732283 | L60: =C60+I60+F60 -> 1732283 | M60: =L60-K60 -> 0
A61: 4. Részesedések értékesítése | D61: =C61-B61 -> 0 | K61: =B61+H61+E61 -> 0 | L61: =C61+I61+F61 -> 0 | M61: =L61-K61 -> 0
A62: 5. Részesedések megszűnéséhez kapcsolódó bevételek | D62: =C62-B62 -> 0 | K62: =B62+H62+E62 -> 0 | L62: =C62+I62+F62 -> 0 | M62: =L62-K62 -> 0
A63: MEGNEVEZÉS | B63: ÖNKORMÁNYZAT | E63: KÖZÖS ÖNKORMÁNYZATI HIVATAL | H63: KÖLTSÉGVETÉSI SZERVEK | K63: ÖNKORMÁNYZAT ÖSSZESEN
B64: 2017. évi eredeti ei. | C64: 2017. évi módosított ei. I. | D64: Eltérés | E64: 2017. évi eredeti ei. | F64: 2017. évi módosított ei. I. | G64: Eltérés | H64: 2017. évi eredeti ei. | I64: 2017. évi módosított ei. I. | J64: Eltérés | K64: 2017. évi eredeti ei. | L64: 2017. évi módosított ei. I. | M64: Eltérés
A65: VI. Működési célú átvett pénzeszközök | B65: =SUM(B66:B68) -> 5600000 | C65: =SUM(C66:C68) -> 6150575 | D65: =C65-B65 -> 550575 | E65: =SUM(E66:E68) -> 0 | F65: =SUM(F66:F68) -> 0 | G65: =F65-E65 -> 0 | H65: =SUM(H66:H68) -> 0 | I65: =SUM(I66:I68) -> 0 | J65: =I65-H65 -> 0 | K65: =SUM(K66:K68) -> 5600000 | L65: =SUM(L66:L68) -> 6150575 | M65: =L65-K65 -> 550575
A66: 1. Működési célú garancia- és kezességvállalásból származó megtérülések áh-n kívülről | K66: =B66+E66+H66 -> 0 | L66: =C66+F66+I66 -> 0 | M66: =L66-K66 -> 0
A67: 2. Működési célú visszatérítendő támogatások, kölcsönök visszatérülése államháztartáson kívülről | B67: 1600000 | C67: 1600000 | D67: =C67-B67 -> 0 | K67: =B67+E67+H67 -> 1600000 | L67: =C67+F67+I67 -> 1600000 | M67: =L67-K67 -> 0
A68: 3. Egyéb működési célú átvett pénzeszközök | B68: 4000000 | C68: 4550575 | D68: =C68-B68 -> 550575 | K68: =B68+E68+H68 -> 4000000 | L68: =SUM(C68+F68+I68) -> 4550575 | M68: =L68-K68 -> 550575
A69: VII. Felhalmozási célú átvett pénzeszközök | B69: =SUM(B70:B72) -> 85818959 | C69: =SUM(C70:C72) -> 275818959 | D69: =C69-B69 -> 190000000 | E69: =SUM(E70:E72) -> 0 | F69: =SUM(F70:F72) -> 0 | G69: =F69-E69 -> 0 | H69: =SUM(H70:H72) -> 0 | I69: =SUM(I70:I72) -> 0 | J69: =I69-H69 -> 0 | K69: =SUM(K70:K72) -> 85818959 | L69: =SUM(L70:L72) -> 275818959 | M69: =L69-K69 -> 190000000
A70: 1. Felhalmozási célú garancia- és kezességvállalásból származó megtérülések áh-n kívülről | D70: =C70-B70 -> 0 | K70: =B70+E70+H70 -> 0 | L70: =C70+F70+I70 -> 0 | M70: =L70-K70 -> 0
A71: 2. Felhalmozási célú visszatérítendő támogatások, kölcsönök visszatérülése államháztartáson kívülről | B71: 68818959 | C71: 258818959 | D71: =C71-B71 -> 190000000 | K71: =B71+E71+H71 -> 68818959 | L71: =C71+F71+I71 -> 258818959 | M71: =L71-K71 -> 190000000
A72: 3. Egyéb felhalmozási célú átvett pénzeszközök | B72: 17000000 | C72: 17000000 | D72: =C72-B72 -> 0 | K72: =B72+E72+H72 -> 17000000 | L72: =C72+F72+I72 -> 17000000 | M72: =L72-K72 -> 0
A73: Költségvetési bevételek összesen: | B73: =B69+B65+B57+B42+B29+B21+B6 -> 5297157510 | C73: =C69+C65+C57+C42+C29+C21+C6 -> 6392067588 | D73: =D69+D65+D57+D42+D29+D21+D6 -> 1094910078 | E73: =E69+E65+E57+E42+E29+E21+E6 -> 38108730 | F73: =F69+F65+F57+F42+F29+F21+F6 -> 38722024 | G73: =F73-E73 -> 613294 | H73: =H69+H65+H57+H42+H29+H21+H6 -> 146275000 | I73: =I69+I65+I57+I42+I29+I21+I6 -> 150471731 | J73: =I73-H73 -> 4196731 | K73: =K69+K65+K57+K42+K29+K21+K6 -> 5481541240 | L73: =L69+L65+L57+L42+L29+L21+L6 -> 6581261343 | M73: =L73-K73 -> 1099720103 | N73: =D73+G73+J73 -> 1099720103 | P73: =#REF!+#REF!+#REF! -> #REF!
A74: VIII. Finanszírozási bevételek | B74: =B75+B78 -> 1984676379 | C74: =C75+C78 -> 3522431328 | D74: =C74-B74 -> 1537754949 | E74: =E75+E78 -> 0 | F74: =F75+F78 -> 26436722 | G74: =F74-E74 -> 26436722 | H74: =H75+H78 -> 480000 | I74: =I75+I78 -> 13378106 | J74: =I74-H74 -> 12898106 | K74: =K75+K78 -> 1985156379 | L74: =L75+L78 -> 3562246156 | M74: =L74-K74 -> 1577089777
A75: 1. Költségvetési hiány belső finanszírozására szolgáló bevételek | B75: =SUM(B76:B77) -> 790696379 | C75: =SUM(C76:C77) -> 1017271328 | D75: =C75-B75 -> 226574949 | E75: =SUM(E76:E77) -> 0 | F75: =SUM(F76:F77) -> 26436722 | G75: =F75-E75 -> 26436722 | H75: =SUM(H76:H77) -> 480000 | I75: =SUM(I76:I77) -> 13378106 | J75: =I75-H75 -> 12898106 | K75: =B75+H75+E75 -> 791176379 | L75: =C75+I75+F75 -> 1057086156 | M75: =L75-K75 -> 265909777
A76: 1.1. Előző év költségvetési maradványának igénybevétele működési célra | B76: 124233457 | C76: 315133363 | D76: =C76-B76 -> 190899906 | E76: ='2.a tábla ÚJ '!O47 -> 0 | F76: ='2.a tábla ÚJ '!P47 -> 24232422 | G76: =F76-E76 -> 24232422 | H76: ='2.a tábla ÚJ '!K47 -> 480000 | I76: ='2.a tábla ÚJ '!L47 -> 12391805 | J76: =I76-H76 -> 11911805 | K76: =B76+E76+H76 -> 124713457 | L76: =C76+F76+I76 -> 351757590 | M76: =L76-K76 -> 227044133
A77: 1.2. Előző év költségvetési maradványának igénybevétele felhalmozási célra | B77: 666462922 | C77: 702137965 | D77: =C77-B77 -> 35675043 | E77: ='2.a tábla ÚJ '!O48 -> 0 | F77: ='2.a tábla ÚJ '!P48 -> 2204300 | G77: =F77-E77 -> 2204300 | H77: ='2.a tábla ÚJ '!K48 -> 0 | I77: ='2.a tábla ÚJ '!L48 -> 986301 | J77: =I77-H77 -> 986301 | K77: =B77+E77+H77 -> 666462922 | L77: =C77+F77+I77 -> 705328566 | M77: =L77-K77 -> 38865644
A78: 2. Költségvetési hiány külső finanszírozására szolgáló finanszírozási bevételek | B78: =B79+B83+B88+B89 -> 1193980000 | C78: =C79+C83+C88+C89 -> 2505160000 | D78: =C78-B78 -> 1311180000 | E78: =E79+E83 -> 0 | F78: =F79+F83 -> 0 | G78: =F78-E78 -> 0 | H78: =H79+H83 -> 0 | I78: =I79+I83 -> 0 | J78: =I78-H78 -> 0 | K78: =K79+K83+K88+K89 -> 1193980000 | L78: =L79+L83+L88+L89 -> 2505160000 | M78: =L78-K78 -> 1311180000
A79: 1. Hitel, kölcsön felvétele áh-n kívülről | B79: =SUM(B80:B82) -> 0 | C79: =SUM(C80:C82) -> 0 | D79: =C79-B79 -> 0 | E79: =SUM(E80:E82) -> 0 | F79: =SUM(F80:F82) -> 0 | G79: =F79-E79 -> 0 | H79: =SUM(H80:H82) -> 0 | I79: =SUM(I80:I82) -> 0 | J79: =I79-H79 -> 0 | K79: =SUM(K80:K82) -> 0 | L79: =SUM(L80:L82) -> 0 | M79: =L79-K79 -> 0
A80: 1.1. Hosszú lejáratú hitelek, kölcsönök felvétele | D80: =C80-B80 -> 0 | G80: =F80-E80 -> 0 | J80: =I80-H80 -> 0 | K80: =B80+H80 -> 0 | L80: =C80+I80 -> 0 | M80: =L80-K80 -> 0
A81: 1.2. Likviditási célú hitelek, kölcsönök felvétele pénzügyi vállalkozástól | D81: =C81-B81 -> 0 | G81: =F81-E81 -> 0 | J81: =I81-H81 -> 0 | K81: =B81+H81 -> 0 | L81: =C81+I81 -> 0 | M81: =L81-K81 -> 0
A82: 1.3. Rövid lejáratú hitelek, kölcsönök felvétele | D82: =C82-B82 -> 0 | G82: =F82-E82 -> 0 | J82: =I82-H82 -> 0 | K82: =B82+H82 -> 0 | L82: =C82+I82 -> 0 | M82: =L82-K82 -> 0
A83: 2. Belföldi értékpapírok bevételei | B83: =SUM(B84:B87) -> 1181180000 | C83: =SUM(C84:C87) -> 2492360000 | D83: =C83-B83 -> 1311180000 | E83: =SUM(E84:E87) -> 0 | F83: =SUM(F84:F87) -> 0 | G83: =F83-E83 -> 0 | H83: =SUM(H84:H87) -> 0 | I83: =SUM(I84:I87) -> 0 | J83: =I83-H83 -> 0 | K83: =B83+H83 -> 1181180000 | L83: =C83+I83 -> 2492360000 | M83: =L83-K83 -> 1311180000
A84: 2.1. Forgatási célú értékpapírok beváltása, értékesítéseű | B84: =481180000+700000000 -> 1181180000 | C84: 2492360000 | D84: =C84-B84 -> 1311180000 | G84: =F84-E84 -> 0 | J84: =I84-H84 -> 0 | K84: =B84+H84 -> 1181180000 | L84: =C84+I84 -> 2492360000 | M84: =L84-K84 -> 1311180000
A85: 2.2. Forgatási célú értékpapírok kibocsátása | D85: =C85-B85 -> 0 | G85: =F85-E85 -> 0 | J85: =I85-H85 -> 0 | K85: =B85+H85 -> 0 | L85: =C85+I85 -> 0 | M85: =L85-K85 -> 0
A86: 2.3. Befektetési célú belföldi értékpapírok beváltása, értékesítése | D86: =C86-B86 -> 0 | G86: =F86-E86 -> 0 | J86: =I86-H86 -> 0 | K86: =B86+H86 -> 0 | L86: =C86+I86 -> 0 | M86: =L86-K86 -> 0
A87: 2.4. Befektetési célú belföldi értékpapírok kibocsátása | D87: =C87-B87 -> 0 | G87: =F87-E87 -> 0 | J87: =I87-H87 -> 0 | K87: =B87+H87 -> 0 | L87: =C87+I87 -> 0 | M87: =L87-K87 -> 0
A88: 3. Betét bevonás | D88: =C88-B88 -> 0 | G88: =F88-E88 -> 0 | J88: =I88-H88 -> 0 | K88: =B88+H88 -> 0 | L88: =C88+I88 -> 0 | M88: =L88-K88 -> 0
A89: 4. Államháztartáson belüli megelőlegezések | B89: 12800000 | C89: 12800000 | D89: =C89-B89 -> 0 | G89: =F89-E89 -> 0 | J89: =I89-H89 -> 0 | K89: =B89+H89 -> 12800000 | L89: =C89+I89 -> 12800000 | M89: =L89-K89 -> 0
A90: Finanszírozási bevételek összesen: | B90: =B78+B75 -> 1984676379 | C90: =C78+C75 -> 3522431328 | D90: =C90-B90 -> 1537754949 | E90: =E78+E75 -> 0 | F90: =F78+F75 -> 26436722 | G90: =F90-E90 -> 26436722 | H90: =H78+H75 -> 480000 | I90: =I78+I75 -> 13378106 | J90: =I90-H90 -> 12898106 | K90: =B90+H90 -> 1985156379 | L90: =C90+I90+F90:F93 -> 3562246156 | M90: =L90-K90 -> 1577089777
A91: Összes bevétel: | B91: =B73+B90 -> 7281833889 | C91: =C73+C90 -> 9914498916 | D91: =C91-B91 -> 2632665027 | E91: =E73+E90 -> 38108730 | F91: =F73+F90 -> 65158746 | G91: =F91-E91 -> 27050016 | H91: =H73+H90 -> 146755000 | I91: =I73+I90 -> 163849837 | J91: =I91-H91 -> 17094837 | K91: =B91+H91+E91 -> 7466697619 | L91: =C91+I91+F91 -> 10143507499 | M91: =L91-K91 -> 2676809880 | N91: =M90+M73 -> 2676809880
A92: Intézményi létszámok: | B92: ='2.a tábla ÚJ '!O60+'2.a tábla ÚJ '!O61+'2.a tábla ÚJ '!O62 -> 27 | C92: ='2.a tábla ÚJ '!P60+'2.a tábla ÚJ '!P61+'2.a tábla ÚJ '!P62 -> 27 | D92: =C92-B92 -> 0 | E92: ='2.a tábla ÚJ '!O59 -> 77 | F92: ='2.a tábla ÚJ '!P59 -> 77 | G92: =F92-E92 -> 0 | H92: ='2.a tábla ÚJ '!K59 -> 60 | I92: ='2.a tábla ÚJ '!L59 -> 60 | J92: =I92-H92 -> 0 | K92: =B92+H92+E92 -> 164 | L92: =C92+I92+F92 -> 164 | M92: =L92-K92 -> 0
A93: ebből közfoglalkoztatott | B93: ='2.a tábla ÚJ '!O62 -> 25 | C93: ='2.a tábla ÚJ '!P62 -> 25 | D93: =C93-B93 -> 0 | E93: ='2.a tábla ÚJ '!O58 -> 0 | F93: ='2.a tábla ÚJ '!P58 -> 0 | H93: ='2.a tábla ÚJ '!K58 -> 5 | I93: ='2.a tábla ÚJ '!L58 -> 5 | J93: =I93-H93 -> 0 | K93: =B93+H93 -> 30 | L93: =C93+I93 -> 30 | M93: =L93-K93 -> 0

Sheet 2.a tábla ÚJ 
A6: BEVÉTELEK ELŐIRÁNYZATA INTÉZMÉNYEK SZERINTI BONTÁSBAN 2017. ÉV
A10: MEGNEVEZÉS | B10: VÁROSI KÖNYVTÁR | E10: VÁROSI RENDELŐINTÉZET | H10: VÁROSI BÖLCSŐDE | K10: KÖLTSÉGVETÉSI SZERVEK ÖSSZESEN | O10: KÖZÖS ÖNKORMÁNYZATI HIVATAL
B11: 2017. évi eredeti ei. | C11: 2017. évi módosított ei. I. | D11: Eltérés | E11: 2017. évi eredeti ei. | F11: 2017. évi módosított ei. I. | G11: Eltérés | H11: 2017. évi eredeti ei. | I11: 2017. évi módosított ei. I. | J11: Eltérés | K11: 2017. évi eredeti ei. | L11: 2017. évi módosított ei. I. | M11: Eltérés | O11: 2017. évi eredeti ei. | P11: 2017. évi módosított ei. I. | Q11: Eltérés
A12: I. Működési célú támogatások államházatartáson belülről | B12: =B13 -> 1585000 | C12: =C13 -> 1585000 | D12: =C12-B12 -> 0 | E12: =E13 -> 105171000 | F12: =F13 -> 109367731 | G12: =F12-E12 -> 4196731 | H12: =H13 -> 2171000 | I12: =I13 -> 2171000 | J12: =I12-H12 -> 0 | K12: =K13 -> 108927000 | L12: =L13 -> 113123731 | M12: =L12-K12 -> 4196731 | N12: =N13+N16 -> 0 | O12: =O13+O16 -> 21498780 | P12: =P13+P16 -> 22112074 | Q12: =P12-O12 -> 613294
A13: 6. Egyéb működési célú támogatások bevételei államháztartáson belülről | B13: 1585000 | C13: 1585000 | D13: =C13-B13 -> 0 | E13: 105171000 | F13: 109367731 | G13: =F13-E13 -> 4196731 | H13: 2171000 | I13: 2171000 | J13: =I13-H13 -> 0 | K13: =B13+E13+H13 -> 108927000 | L13: =C13+F13+I13 -> 113123731 | M13: =L13-K13 -> 4196731 | O13: 21498780 | P13: 22112074 | Q13: =P13-O13 -> 613294
A14: ebből működési célú támogatás társadalombiztosítási alapból | D14: =C14-B14 -> 0 | E14: 103000000 | F14: 107196731 | G14: =F14-E14 -> 4196731 | J14: =I14-H14 -> 0 | K14: =B14+E14+H14 -> 103000000 | L14: =C14+F14+I14 -> 107196731 | M14: =L14-K14 -> 4196731 | Q14: =P14-O14 -> 0
A15: II. Felhalmozási célú támogatások államháztartáson belülről | B15: =B16 -> 0 | C15: =C16 -> 0 | D15: =C15-B15 -> 0 | E15: =E16 -> 0 | F15: =F16 -> 0 | G15: =F15-E15 -> 0 | H15: =H16 -> 0 | I15: =I16 -> 0 | J15: =I15-H15 -> 0 | K15: =B15+E15+H15 -> 0 | L15: =C15+F15+I15 -> 0 | M15: =L15-K15 -> 0 | N15: =N16 -> 0 | O15: =O16 -> 0 | P15: =P16 -> 0 | Q15: =P15-O15 -> 0
A16: 4. Egyéb felhalmozási célú támogatások államháztartáson belülről | D16: =C16-B16 -> 0 | G16: =F16-E16 -> 0 | J16: =I16-H16 -> 0 | K16: =B16+E16+H16 -> 0 | L16: =C16+F16+I16 -> 0 | M16: =L16-K16 -> 0 | Q16: =P16-O16 -> 0
A17: II. Közhatalmi bevételek | D17: =C17-B17 -> 0 | G17: =F17-E17 -> 0 | J17: =I17-H17 -> 0 | K17: =B17+E17+H17 -> 0 | L17: =C17+F17+I17 -> 0 | M17: =L17-K17 -> 0 | N17: =B17+#REF!+E17+H17+K17 -> #REF! | O17: =SUM(O18:O20) -> 500000 | P17: =SUM(P18:P20) -> 500000 | Q17: =P17-O17 -> 0
A18: 1. Vagyoni típusú adók | D18: =C18-B18 -> 0 | G18: =F18-E18 -> 0 | J18: =I18-H18 -> 0 | K18: =B18+E18+H18 -> 0 | L18: =C18+F18+I18 -> 0 | M18: =L18-K18 -> 0 | N18: =#REF!+#REF!+#REF!+#REF!+#REF!+#REF!+#REF!+#REF!+#REF!+#REF!+B18+#REF!+E18+H18+K18 -> #REF! | Q18: =P18-O18 -> 0
A19: 2. Termékek és szolgáltatások adói | D19: =C19-B19 -> 0 | G19: =F19-E19 -> 0 | J19: =I19-H19 -> 0 | K19: =B19+E19+H19 -> 0 | L19: =C19+F19+I19 -> 0 | M19: =L19-K19 -> 0 | Q19: =P19-O19 -> 0
A20: 3. Egyéb közhatalmi bevételek (bírság, pótlék,) | D20: =C20-B20 -> 0 | G20: =F20-E20 -> 0 | J20: =I20-H20 -> 0 | K20: =B20+E20+H20 -> 0 | L20: =C20+F20+I20 -> 0 | M20: =L20-K20 -> 0 | O20: 500000 | P20: 500000 | Q20: =P20-O20 -> 0
A21: 1V. Működési bevételek | B21: =B22+B23+B25+B26+B27+B28+B29+B30+B33 -> 2790000 | C21: =C22+C23+C25+C26+C27+C28+C29+C30+C33 -> 2790000 | D21: =C21-B21 -> 0 | E21: =E22+E23+E25+E26+E27+E28+E29+E30+E33 -> 33541000 | F21: =F22+F23+F25+F26+F27+F28+F29+F30+F33 -> 33541000 | G21: =F21-E21 -> 0 | H21: =H22+H23+H25+H26+H27+H28+H29+H30+H33 -> 1017000 | I21: =I22+I23+I25+I26+I27+I28+I29+I30+I33 -> 1017000 | J21: =I21-H21 -> 0 | K21: =K22+K23+K25+K26+K27+K28+K29+K30+K33 -> 37348000 | L21: =L22+L23+L25+L26+L27+L28+L29+L30+L33 -> 37348000 | M21: =L21-K21 -> 0 | N21: =N22+N23+N25+N26+N27+N28+N29+N30+N33 -> #REF! | O21: =O22+O23+O25+O26+O27+O28+O29+O30+O33 -> 16109950 | P21: =P22+P23+P25+P26+P27+P28+P29+P30+P33 -> 16109950 | Q21: =P21-O21 -> 0 | R21: =K23+K25+K27+K286+K28+K33+K29 -> 37348000 | S21: =#REF!+#REF!+#REF!+#REF!+#REF!+#REF!+#REF! -> #REF!
A22: 1. Készletértékesítés bevétele | D22: =C22-B22 -> 0 | G22: =F22-E22 -> 0 | J22: =I22-H22 -> 0 | K22: =B22+E22+H22 -> 0 | L22: =C22+F22+I22 -> 0 | M22: =L22-K22 -> 0 | N22: =B22+#REF!+E22+H22+K22 -> #REF! | Q22: =P22-O22 -> 0
A23: 2. Szolgáltatások ellenértéke | B23: 2319000 | C23: 2319000 | D23: =C23-B23 -> 0 | E23: =33260000+281000 -> 33541000 | F23: 33541000 | G23: =F23-E23 -> 0 | J23: =I23-H23 -> 0 | K23: =B23+E23+H23 -> 35860000 | L23: =C23+F23+I23 -> 35860000 | M23: =L23-K23 -> 0 | N23: =B23+#REF!+E23+H23+K23 -> #REF! | O23: 12300000 | P23: 12300000 | Q23: =P23-O23 -> 0
A24: Ebből: bérleti díj | B24: 50000 | C24: 50000 | D24: =C24-B24 -> 0 | E24: 6200000 | F24: 6200000 | G24: =F24-E24 -> 0 | J24: =I24-H24 -> 0 | K24: =B24+E24+H24 -> 6250000 | L24: =C24+F24+I24 -> 6250000 | M24: =L24-K24 -> 0 | N24: =B24+#REF!+E24+H24+K24 -> #REF! | O24: 8100000 | P24: 8100000 | Q24: =P24-O24 -> 0
A25: 3. Közvetített szolgáltatások ellenértéke | D25: =C25-B25 -> 0 | G25: =F25-E25 -> 0 | J25: =I25-H25 -> 0 | K25: =B25+E25+H25 -> 0 | L25: =C25+F25+I25 -> 0 | M25: =L25-K25 -> 0 | N25: =B25+#REF!+E25+H25+K25 -> #REF! | O25: 385000 | P25: 385000 | Q25: =P25-O25 -> 0
A26: 4. Tulajdonosi bevételek | D26: =C26-B26 -> 0 | G26: =F26-E26 -> 0 | J26: =I26-H26 -> 0 | K26: =B26+E26+H26 -> 0 | L26: =C26+F26+I26 -> 0 | M26: =L26-K26 -> 0 | N26: =B26+#REF!+E26+H26+K26 -> #REF! | Q26: =P26-O26 -> 0
A27: 5. Ellátási díjak | D27: =C27-B27 -> 0 | G27: =F27-E27 -> 0 | H27: 1017000 | I27: 1017000 | J27: =I27-H27 -> 0 | K27: =B27+E27+H27 -> 1017000 | L27: =C27+F27+I27 -> 1017000 | M27: =L27-K27 -> 0 | N27: =B27+#REF!+E27+H27+K27 -> #REF! | Q27: =P27-O27 -> 0
A28: 6. Kiszámlázott Áfa | B28: 451000 | C28: 451000 | D28: =C28-B28 -> 0 | G28: =F28-E28 -> 0 | J28: =I28-H28 -> 0 | K28: =B28+E28+H28 -> 451000 | L28: =C28+F28+I28 -> 451000 | M28: =L28-K28 -> 0 | N28: =B28+#REF!+E28+H28+K28 -> #REF! | O28: 3424950 | P28: 3424950 | Q28: =P28-O28 -> 0
A29: 7. Áfa visszatérítés | D29: =C29-B29 -> 0 | G29: =F29-E29 -> 0 | J29: =I29-H29 -> 0 | K29: =B29+E29+H29 -> 0 | L29: =C29+F29+I29 -> 0 | M29: =L29-K29 -> 0 | N29: =B29+#REF!+E29+H29+K29 -> #REF! | Q29: =P29-O29 -> 0
A30: 8. Kamatbevétel | D30: =C30-B30 -> 0 | G30: =F30-E30 -> 0 | J30: =I30-H30 -> 0 | K30: =B30+E30+H30 -> 0 | L30: =C30+F30+I30 -> 0 | M30: =L30-K30 -> 0 | N30: =B30+#REF!+E30+H30+K30 -> #REF! | Q30: =P30-O30 -> 0
A31: 9. Egyéb pénzügyi műveletek bevételei | D31: =C31-B31 -> 0 | G31: =F31-E31 -> 0 | J31: =I31-H31 -> 0 | K31: =B31+E31+H31 -> 0 | L31: =C31+F31+I31 -> 0 | M31: =L31-K31 -> 0 | Q31: =P31-O31 -> 0
A32: 10. Biztosító által fizetett kártérítés | D32: =C32-B32 -> 0 | G32: =F32-E32 -> 0 | J32: =I32-H32 -> 0 | K32: =B32+E32+H32 -> 0 | L32: =C32+F32+I32 -> 0 | M32: =L32-K32 -> 0 | Q32: =P32-O32 -> 0
A33: 11. Egyéb működési bevételek | B33: 20000 | C33: 20000 | D33: =C33-B33 -> 0 | G33: =F33-E33 -> 0 | J33: =I33-H33 -> 0 | K33: =B33+E33+H33 -> 20000 | L33: =C33+F33+I33 -> 20000 | M33: =L33-K33 -> 0 | N33: =B33+#REF!+E33+H33+K33 -> #REF! | Q33: =P33-O33 -> 0
A34: V. Felhalmozási bevételek | B34: =SUM(B35:B39) -> 0 | C34: =SUM(C35:C39) -> 0 | D34: =C34-B34 -> 0 | E34: =SUM(E35:E39) -> 0 | F34: =SUM(F35:F39) -> 0 | G34: =F34-E34 -> 0 | H34: =SUM(H35:H39) -> 0 | I34: =SUM(I35:I39) -> 0 | J34: =I34-H34 -> 0 | K34: =SUM(K35:K39) -> 0 | L34: =SUM(L35:L39) -> 0 | M34: =L34-K34 -> 0 | N34: =B34+#REF!+E34+H34+K34 -> #REF! | O34: =SUM(O35:O39) -> 0 | P34: =SUM(P35:P39) -> 0 | Q34: =P34-O34 -> 0
A35: 1. Immateriális javak értékesítése | D35: =C35-B35 -> 0 | G35: =F35-E35 -> 0 | J35: =I35-H35 -> 0 | K35: =B35+E35+H35 -> 0 | L35: =C35+F35+I35 -> 0 | M35: =L35-K35 -> 0 | Q35: =P35-O35 -> 0
A36: 2. Ingatlanok értékesítése | D36: =C36-B36 -> 0 | G36: =F36-E36 -> 0 | J36: =I36-H36 -> 0 | K36: =B36+E36+H36 -> 0 | L36: =C36+F36+I36 -> 0 | M36: =L36-K36 -> 0 | Q36: =P36-O36 -> 0
A37: 3. Egyéb tárgyi eszközök értékesítése | D37: =C37-B37 -> 0 | G37: =F37-E37 -> 0 | J37: =I37-H37 -> 0 | K37: =B37+E37+H37 -> 0 | L37: =C37+F37+I37 -> 0 | M37: =L37-K37 -> 0 | Q37: =P37-O37 -> 0
A38: 4. Részesedések értékesítése | D38: =C38-B38 -> 0 | G38: =F38-E38 -> 0 | J38: =I38-H38 -> 0 | K38: =B38+E38+H38 -> 0 | L38: =C38+F38+I38 -> 0 | M38: =L38-K38 -> 0 | Q38: =P38-O38 -> 0
A39: 5. Részesedések megszűnéséhez kapcsolódó bevételek | D39: =C39-B39 -> 0 | G39: =F39-E39 -> 0 | J39: =I39-H39 -> 0 | K39: =B39+E39+H39 -> 0 | L39: =C39+F39+I39 -> 0 | M39: =L39-K39 -> 0 | Q39: =P39-O39 -> 0
A40: VI. Működési célú átvett pénzeszközök | B40: =SUM(B41) -> 0 | C40: =SUM(C41) -> 0 | D40: =C40-B40 -> 0 | E40: =SUM(E41) -> 0 | F40: =SUM(F41) -> 0 | G40: =F40-E40 -> 0 | H40: =SUM(H41) -> 0 | I40: =SUM(I41) -> 0 | J40: =I40-H40 -> 0 | K40: =SUM(K41) -> 0 | L40: =SUM(L41) -> 0 | M40: =L40-K40 -> 0 | N40: =B40+#REF!+E40+H40+K40 -> #REF! | O40: =SUM(O41) -> 0 | P40: =SUM(P41) -> 0 | Q40: =P40-O40 -> 0
A41: 3. Egyéb működési célú átvett pénzeszközök | D41: =C41-B41 -> 0 | G41: =F41-E41 -> 0 | J41: =I41-H41 -> 0 | K41: =B41+E41+H41 -> 0 | L41: =C41+F41+I41 -> 0 | M41: =L41-K41 -> 0 | Q41: =P41-O41 -> 0
A42: VII. Felhalmozási célú átvett pénzeszközök | B42: =SUM(B43) -> 0 | C42: =SUM(C43) -> 0 | D42: =C42-B42 -> 0 | E42: =SUM(E43) -> 0 | F42: =SUM(F43) -> 0 | G42: =F42-E42 -> 0 | H42: =SUM(H43) -> 0 | I42: =SUM(I43) -> 0 | J42: =I42-H42 -> 0 | K42: =B42+E42+H42 -> 0 | L42: =C42+F42+I42 -> 0 | M42: =L42-K42 -> 0 | N42: =B42+#REF!+E42+H42+K42 -> #REF! | O42: =SUM(O43) -> 0 | P42: =SUM(P43) -> 0 | Q42: =P42-O42 -> 0
A43: 3. Egyéb felhalmozási célú átvett pénzeszközök | D43: =C43-B43 -> 0 | G43: =F43-E43 -> 0 | J43: =I43-H43 -> 0 | K43: =B43+E43+H43 -> 0 | L43: =C43+F43+I43 -> 0 | M43: =L43-K43 -> 0 | Q43: =P43-O43 -> 0
A44: Költségvetési bevételek összesen: | B44: =B42+B40+B34+B21+B17+B15+B12 -> 4375000 | C44: =C42+C40+C34+C21+C17+C15+C12 -> 4375000 | D44: =C44-B44 -> 0 | E44: =E42+E40+E34+E21+E17+E15+E12 -> 138712000 | F44: =F42+F40+F34+F21+F17+F15+F12 -> 142908731 | G44: =F44-E44 -> 4196731 | H44: =H42+H40+H34+H21+H17+H15+H12 -> 3188000 | I44: =I42+I40+I34+I21+I17+I15+I12 -> 3188000 | J44: =I44-H44 -> 0 | K44: =B44+E44+H44 -> 146275000 | L44: =C44+F44+I44 -> 150471731 | M44: =L44-K44 -> 4196731 | N44: =N42+N40+N34+N21+N17+N15+N12 -> #REF! | O44: =O42+O40+O34+O21+O17+O15+O12 -> 38108730 | P44: =P42+P40+P34+P21+P17+P15+P12 -> 38722024 | Q44: =P44-O44 -> 613294 | R44: =K42+K40+K21+K17+K15+K12 -> 146275000
A45: VIII. Finanszírozási bevételek | B45: =B46+B49+B50 -> 51519000 | C45: =C46+C49+C50 -> 52722186 | D45: =C45-B45 -> 1203186 | E45: =E46+E49+E50 -> 31547000 | F45: =F46+F49+F50 -> 42101828 | G45: =F45-E45 -> 10554828 | H45: =H46+H49+H50 -> 58065000 | I45: =I46+I49+I50 -> 58751301 | J45: =I45-H45 -> 686301 | K45: =B45+E45+H45 -> 141131000 | L45: =C45+F45+I45 -> 153575315 | M45: =L45-K45 -> 12444315 | N45: =N46+N49+N50 -> 0 | O45: =O46+O49+O50 -> 348949984 | P45: =P46+P49+P50 -> 366141795 | Q45: =P45-O45 -> 17191811
A46: 1. Költségvetési hiány belső finanszírozására szolgáló bevételek | B46: =SUM(B47:B48) -> 480000 | C46: =SUM(C47:C48) -> 2854366 | D46: =C46-B46 -> 2374366 | E46: =SUM(E47:E48) -> 0 | F46: =SUM(F47:F48) -> 8148956 | G46: =F46-E46 -> 8148956 | H46: =SUM(H47:H48) -> 0 | I46: =SUM(I47:I48) -> 2374784 | J46: =I46-H46 -> 2374784 | K46: =SUM(K47:K48) -> 480000 | L46: =SUM(L47:L48) -> 13378106 | M46: =L46-K46 -> 12898106 | O46: =SUM(O47:O48) -> 0 | P46: =SUM(P47:P48) -> 26436722 | Q46: =P46-O46 -> 26436722
A47: 1.1. Előző év költségvetési maradványának igénybevétele működési célra | B47: 480000 | C47: 2854366 | D47: =C47-B47 -> 2374366 | F47: 7548956 | G47: =F47-E47 -> 7548956 | I47: 1988483 | J47: =I47-H47 -> 1988483 | K47: =B47+E47+H47 -> 480000 | L47: =C47+F47+I47 -> 12391805 | M47: =L47-K47 -> 11911805 | P47: 24232422 | Q47: =P47-O47 -> 24232422
A48: 1.2. Előző év költségvetési maradványának igénybevétele felhalmozási célra | D48: =C48-B48 -> 0 | F48: 600000 | G48: =F48-E48 -> 600000 | I48: 386301 | J48: =I48-H48 -> 386301 | K48: =B48+E48+H48 -> 0 | L48: =C48+F48+I48 -> 986301 | M48: =L48-K48 -> 986301 | P48: 2204300 | Q48: =P48-O48 -> 2204300
A49: 2. Költségvetési hiány külső finanszírozására szolgáló finanszírozási bevételek | D49: =C49-B49 -> 0 | G49: =F49-E49 -> 0 | J49: =I49-H49 -> 0 | K49: =B49+E49+H49 -> 0 | L49: =C49+F49+I49 -> 0 | M49: =L49-K49 -> 0 | Q49: =P49-O49 -> 0
A50: 3. Irányító szervi támogatások | B50: =SUM(B51:B52) -> 51039000 | C50: =SUM(C51:C52) -> 49867820 | D50: =C50-B50 -> -1171180 | E50: =SUM(E51:E52) -> 31547000 | F50: =SUM(F51:F52) -> 33952872 | G50: =F50-E50 -> 2405872 | H50: =SUM(H51:H52) -> 58065000 | I50: =SUM(I51:I52) -> 56376517 | J50: =I50-H50 -> -1688483 | K50: =SUM(K51:K52) -> 140651000 | L50: =SUM(L51:L52) -> 140197209 | M50: =L50-K50 -> -453791 | N50: =SUM(N51:N52) -> 0 | O50: =SUM(O51:O52) -> 348949984 | P50: =SUM(P51:P52) -> 339705073 | Q50: =P50-O50 -> -9244911
A51: 1. Irányító szervtől kapott működési célú támogatás | B51: 48068000 | C51: 46896820 | D51: =C51-B51 -> -1171180 | E51: =30864000+283000 -> 31147000 | F51: 33552872 | G51: =F51-E51 -> 2405872 | H51: 57865000 | I51: 56176517 | J51: =I51-H51 -> -1688483 | K51: =B51+E51+H51 -> 137080000 | L51: =C51+F51+I51 -> 136626209 | M51: =L51-K51 -> -453791 | O51: 345949984 | P51: =345949984-16401496-405332+4904400+2657517 -> 336705073 | Q51: =P51-O51 -> -9244911
A52: 2. Irányító szervtől kapott felhalmozási célú támogatás | B52: ='4.sz.tábla '!V4 -> 2971000 | C52: 2971000 | D52: =C52-B52 -> 0 | E52: ='4.sz.tábla '!V5 -> 400000 | F52: 400000 | G52: =F52-E52 -> 0 | H52: ='4.sz.tábla '!V6 -> 200000 | I52: 200000 | J52: =I52-H52 -> 0 | K52: =B52+E52+H52 -> 3571000 | L52: =C52+F52+I52 -> 3571000 | M52: =L52-K52 -> 0 | O52: ='4.sz.tábla '!V8 -> 3000000 | P52: 3000000 | Q52: =P52-O52 -> 0
A53: Összes bevétel: | B53: =B45+B44 -> 55894000 | C53: =C45+C44 -> 57097186 | D53: =C53-B53 -> 1203186 | E53: =E45+E44 -> 170259000 | F53: =F45+F44 -> 185010559 | G53: =F53-E53 -> 14751559 | H53: =H45+H44 -> 61253000 | I53: =I45+I44 -> 61939301 | J53: =I53-H53 -> 686301 | K53: =B53+E53+H53 -> 287406000 | L53: =C53+F53+I53 -> 304047046 | M53: =L53-K53 -> 16641046 | N53: =N45+N44 -> #REF! | O53: =O45+O44 -> 387058714 | P53: =P45+P44 -> 404863819 | Q53: =P53-O53 -> 17805105 | R53: =K50+K46+K42+K40+K34+K21+K15+K12 -> 287406000
A54: Létszámadatok intézményenként | D54: =C54-B54 -> 0 | G54: =F54-E54 -> 0 | J54: =I54-H54 -> 0 | K54: =B54+E54+H54 -> 0 | L54: =C54+F54+I54 -> 0 | M54: =L54-K54 -> 0 | Q54: =P54-O54 -> 0
A55: technikai állomány (fő) | B55: 1.5 | C55: 1.5 | D55: =C55-B55 -> 0 | E55: 12 | F55: 12 | G55: =F55-E55 -> 0 | H55: 5 | I55: 5 | J55: =I55-H55 -> 0 | K55: =B55+E55+H55 -> 18.5 | L55: =C55+F55+I55 -> 18.5 | M55: =L55-K55 -> 0 | N55: =#REF!+#REF!+#REF!+#REF!+#REF!+B55+#REF!+E55+H55+K55 -> #REF! | O55: 5 | P55: 5 | Q55: =P55-O55 -> 0
A56: szakmai állomány (fő) | B56: 9.5 | C56: 9.5 | D56: =C56-B56 -> 0 | E56: 18 | F56: 18 | G56: =F56-E56 -> 0 | H56: 9 | I56: 9 | J56: =I56-H56 -> 0 | K56: =B56+E56+H56 -> 36.5 | L56: =C56+F56+I56 -> 36.5 | M56: =L56-K56 -> 0 | N56: =#REF!+#REF!+#REF!+#REF!+#REF!+B56+#REF!+E56+H56+K56 -> #REF! | O56: 71 | P56: 71 | Q56: =P56-O56 -> 0
A57: határozott idejű (fő | D57: =C57-B57 -> 0 | E57: 0 | F57: 0 | G57: =F57-E57 -> 0 | J57: =I57-H57 -> 0 | K57: =B57+E57+H57 -> 0 | L57: =C57+F57+I57 -> 0 | M57: =L57-K57 -> 0 | N57: =#REF!+#REF!+#REF!+#REF!+#REF!+B57+#REF!+E57+H57+K57 -> #REF! | O57: 1 | P57: 1 | Q57: =P57-O57 -> 0
A58: közfoglalkoztatott (fő) | B58: 1 | C58: 1 | D58: =C58-B58 -> 0 | E58: 2 | F58: 2 | G58: =F58-E58 -> 0 | H58: 2 | I58: 2 | J58: =I58-H58 -> 0 | K58: =B58+E58+H58 -> 5 | L58: =C58+F58+I58 -> 5 | M58: =L58-K58 -> 0 | N58: =#REF!+#REF!+#REF!+#REF!+#REF!+B58+#REF!+E58+H58+K58 -> #REF! | Q58: =P58-O58 -> 0
A59: Összesen (fő): | B59: =SUM(B55:B58) -> 12 | C59: =SUM(C55:C58) -> 12 | D59: =C59-B59 -> 0 | E59: =SUM(E55:E58) -> 32 | F59: =SUM(F55:F58) -> 32 | G59: =F59-E59 -> 0 | H59: =SUM(H55:H58) -> 16 | I59: =SUM(I55:I58) -> 16 | J59: =I59-H59 -> 0 | K59: =B59+E59+H59 -> 60 | L59: =C59+F59+I59 -> 60 | M59: =L59-K59 -> 0 | N59: =#REF!+#REF!+#REF!+#REF!+#REF!+B59+#REF!+E59+H59+K59 -> #REF! | O59: =SUM(O55:O58) -> 77 | P59: =SUM(P55:P58) -> 77 | Q59: =P59-O59 -> 0
A60: Önkormányzat engedélyezett létszám | N60: =#REF!+#REF!+#REF!+#REF!+#REF!+B60+#REF!+E60+H60+K60 -> #REF! | O60: 2 | P60: 2 | Q60: =P60-O60 -> 0
A61: ebből: TÁMOP pályázatok | O61: 0 | Q61: =P61-O61 -> 0
A62: Önkormányzat közfoglalkoztatott (fő) | N62: =#REF!+#REF!+#REF!+#REF!+#REF!+B62+#REF!+E62+H62+K62 -> #REF! | O62: 25 | P62: 25 | Q62: =P62-O62 -> 0
O63: =K59+O59+O60+O62 -> 164 | P63: =L59+P59+P60+P62 -> 164 | Q63: =P63-O63 -> 0
O64: =K58+O58+O62 -> 30 | P64: =L58+P58+P62 -> 30 | Q64: =P64-O64 -> 0
O65: =K55+K56+K57 -> 55 | P65: =L55+L56+L57 -> 55 | Q65: =P65-O65 -> 0
O66: =O55+O56 -> 76 | P66: =P55+P56 -> 76 | Q66: =P66-O66 -> 0
O67: =O56+O57 -> 72 | P67: =P56+P57 -> 72 | Q67: =P67-O67 -> 0
O68: =O62+O58+K58 -> 30 | P68: =P62+P58+L58 -> 30 | Q68: =P68-O68 -> 0
O69: =SUM(O67:O68) -> 102 | P69: =SUM(P67:P68) -> 102 | Q69: =P69-O69 -> 0

Sheet 2b. tábla (2)
A1: ÁLLAMI TÁMOGATÁSOK 2017. ÉV
A3: MEGNEVEZÉS | B3: LÉTSZÁM | C3: MUTATÓ | D3: FAJLAGOS | E3: ELŐIRÁNYZAT | F3: I.MÓDOSÍ-TÁS | G3: MÓDOSÍTOTT EI.
A5: I. HELYI ÖNKORMÁNYZATOK MŰKÖDÉSÉNEK ÁLT.TÁMOGATÁSA | E5: =E6+E28 -> 427352737 | G5: =G6+G28 -> 427352737
A6: 1. Települési önkormányzatok működésének támogatása | E6: =E7+E10+E20+E21+E23+E24+E26+E27 -> 426395665 | G6: =G7+G10+G20+G21+G23+G24+G26+G27 -> 426395665
A7: Önkormányzati hivatal működtetésének támogatás (beszámítás után) | E7: =E8 -> 180635200 | G7: =G8 -> 180635200
A8: Önkormányzati hivatal működtetésének támogatás elismert hivatali létsz. | C8: 39.44 | D8: 4580000 | E8: =C8*D8 -> 180635200 | G8: =E8+F8 -> 180635200
A9: Beszámítás összege | E9: 0 | G9: 0
A10: Település üzemeltetéséhez kapcsolódó feladatellát.támog.(beszámítás után) | E10: =E11+E12+E13+E14+E15+E16+E17+E18 -> 0 | G10: =G11+G12+G13+G14+G15+G16+G17+G18 -> 0
A11: Zöldterület-gazdálk-al kapcsolatos feladatok ellátásának támog. (HA) | D11: 22300 | E11: 15634530 | G11: =E11+F11 -> 15634530
A12: Beszámítás összege | E12: -15634530 | G12: =E12+F12 -> -15634530
A13: Közvilágítás fenntartásának támogatás | E13: 58240000 | G13: =E13+F13 -> 58240000
A14: Beszámítás összege | E14: -58240000 | G14: =E14+F14 -> -58240000
A15: Köztemető fenntartással kapcsolatos feladatok támog. | E15: 2176616 | G15: =E15+F15 -> 2176616
A16: Beszámítás összege | E16: -2176616 | G16: =E16+F16 -> -2176616
A17: Közutak fenntartásának támogatás | E17: 22310850 | G17: =E17+F17 -> 22310850
A18: Beszámítás összege | E18: -22310850 | G18: =E18+F18 -> -22310850
A19: Egyéb önkormányzati feladatok támogatása (beszámítás után) | E19: =E20+E21 -> 0 | G19: =G20+G21 -> 0
A20: Egyéb önkormányzati feladatok támogatása | D20: 2700 | E20: 37670400 | G20: =E20+F20 -> 37670400
A21: Beszámítás összege | E21: -37670400 | G21: =E21+F21 -> -37670400
A22: Lakott külterületekkel kapcsolatos feladatok támogatása(beszámítás után) | E22: =E23+E24 -> 0 | G22: =G23+G24 -> 0
A23: Lakott külterületekkel kapcsolatos feladatok támogatása | E23: 311100 | G23: =E23+F23 -> 311100
A24: Beszámítás összege | E24: -311100 | G24: =E24+F24 -> -311100
A25: Üdülőhelyi feladatok támogatása (beszámitás után) | E25: =SUM(E26:E27) -> 245760465 | G25: =SUM(G26:G27) -> 245760465
A26: Üdülőhelyi feladatok támogatása | E26: 295274000 | G26: =E26+F26 -> 295274000
A27: Beszámítás összege | E27: -49513535 | G27: =E27+F27 -> -49513535
A28: 2016. évről áthúzódó bérkompenzáció támogatása | E28: 957072 | G28: 957072
A30: II. EGYES KÖZNEVELÉSI FELADATOK TÁMOGATÁSA | E30: =SUM(E31:E38) -> 263108980 | F30: =SUM(F31:F38) -> 1762300 | G30: =SUM(G31:G38) -> 264871280
A31: Óvodapedagógusok elismert létszáma (8 hó) | B31: 37.8 | C31: =E31/D31 -> 25.2 | D31: 4469900 | E31: 112641480 | F31: 1489967 | G31: =E31+F31 -> 114131447
A32: Óvodapedagógusok munkáját kvetlenül segítők (8 hó) | B32: 30 | C32: =E32/D32 -> 20 | D32: 1800000 | E32: 36000000 | G32: =E32+F32 -> 36000000
A33: Óvodapedagógusok elismert létszáma (4 hó) | B33: 36.6 | C33: =E33/D33 -> 12.2 | D33: 4469900 | E33: 54532780 | G33: =E33+F33 -> 54532780
A34: Óvodapedagógusok munkáját kvetlenül segítők (4 hó) | B34: 30 | C34: =E34/D34 -> 10 | D34: 1800000 | E34: 18000000 | G34: =E34+F34 -> 18000000
A35: Óvodapedagógusok elismert létszáma (4 hó) (pótlólagos összeg) | B35: 36.6 | C35: =E35/D35 -> 36.6 | D35: 38200 | E35: 1398120 | G35: =E35+F35 -> 1398120
A36: Gyermeklétszám (8 hó) | B36: 414 | C36: =E36/D36 -> 276 | D36: 81700 | E36: 22549200 | F36: 272333 | G36: =E36+F36 -> 22821533
A37: Gyermeklétszám (4 hó) | B37: 399 | C37: =E37/D37 -> 135.82625 | D37: 80000 | E37: 10866100 | G37: =E37+F37 -> 10866100
A38: Pedagógus II. kat. sorolt óvodapedag. kieg. támog.-minősítés 2015. dec.31-ig szerezték meg | B38: 17 | C38: 17 | D38: 418900 | E38: =D38*C38 -> 7121300 | G38: =E38+F38 -> 7121300
A41: MEGNEVEZÉS | B41: LÉTSZÁM | C41: MUTATÓ | D41: FAJLAGOS | E41: ELŐIRÁNYZAT | F41: I.MÓDOSÍ-TÁS | G41: MÓDOSÍTOTT EI.
A42: III. SZOCIÁLIS, GYERMEKJÓLÉTI ÉS GYERMEKÉTKEZTETÉSI FELADATAI | E42: =E43+E46+E60 -> 173304879 | F42: =F43+F46+F60+F64+F65 -> 13238670 | G42: =G43+G46+G60+G64+G65 -> 186543549 | I42: =E42+F42 -> 186543549
A43: Pénzbeli szociális juttatások | E43: =SUM(E44:E45) -> 0
A44: Pénzbeli szociális ellátások kiegészítése
A45: Települési önkormányzatok szociális feladatainak egyéb támogatása
A46: Egyes szoc.és gyermekjólétii felad.támog. | E46: =E47+E48+E49+E50+E52+E53+E57+E51 -> 94435880 | F46: =F47+F48+F49+F50+F52+F53+F57+F51 -> 0 | G46: =G47+G48+G49+G50+G52+G53+G57+G51 -> 94435880
A47: család- és gyermekjóléti szolgálat | C47: =E47/D47 -> 7.6 | D47: 3000000 | E47: 22800000 | G47: =E47+F47 -> 22800000
A48: család- és gyermekjóléti központ | C48: =E48/D48 -> 3.7 | D48: 3000000 | E48: 11100000 | G48: =E48+F48 -> 11100000
A49: szociális étkeztetés | B49: 100 | C49: 100 | D49: 55360 | E49: =C49*D49 -> 5536000 | G49: =E49+F49 -> 5536000
A50: házi segítségnyújtás - szociális segítés | B50: 12 | C50: 12 | D50: 25000 | E50: =C50*D50 -> 300000 | G50: =E50+F50 -> 300000
A51: házi segítségnyújtás - személyi gondozás - társuál által történő feladatellátás | B51: 25 | C51: 25 | D51: 273000 | E51: 6825000 | G51: =E51+F51 -> 6825000
A52: időskorúak nappali intézényi ellátása - társulás által történő feladatellátás | B52: 43 | C52: 43 | D52: 163500 | E52: =C52*D52 -> 7030500 | G52: =E52+F52 -> 7030500
A53: Fogyatékos és demens személyek nappali intézményi ellátása | E53: =E54+E55+E56 -> 16060000 | G53: =E53+F53 -> 16060000
A54: fogyatékos személyek nappali intézményi ellátása társulás általi feladatellátás | B54: 13 | C54: 13 | D54: 550000 | E54: =C54*D54 -> 7150000 | G54: =E54+F54 -> 7150000
A55: foglalkoztatási támog-ban részesülő fogyatékos nappali intézményben ellátottak | B55: 23 | C55: 23 | D55: 220000 | E55: =C55*D55 -> 5060000 | G55: =E55+F55 -> 5060000
A56: demens személyek nappali intézményi ellátása - társulás által történő feladatellátás | B56: 7 | C56: 7 | D56: 550000 | E56: =C56*D56 -> 3850000 | G56: =E56+F56 -> 3850000
A57: Gyermekek napközbeni ellátása | E57: =SUM(E58:E59) -> 24784380 | G57: =SUM(G58:G59) -> 24784380
A58: bölcsödei ellátás | B58: 41 | C58: 41 | D58: 494100 | E58: =C58*D58 -> 20258100 | G58: =E58+F58 -> 20258100
A59: kiegészítő támogatás a bölcsődében foglalkoztatott felsőfokú végzettségű kisgyermeknevelők béréhez | B59: 3 | C59: 3 | D59: 1508760 | E59: 4526280 | G59: =E59+F59 -> 4526280
A60: Gyermekétkeztetés támogatása | D60: 1632000 | E60: =E61+E62+E63 -> 78868999 | F60: =F61+F62+F63 -> -17100 | G60: =G61+G62+G63 -> 78851899
A61: Finanszírozás szempontjábol elismert dolgozók bértámogatása | C61: 26.38 | D61: 1632000 | E61: 43052160 | G61: =E61+F61 -> 43052160
A62: Gyermekétkeztetés üzemeltetési támogatása | B62: 1194 | E62: 35089063 | G62: =E62+F62 -> 35089063
A63: A rászoruló gyermekek intézményen kívüli szünidei étkeztetésének támogatása | B63: 2128 | C63: 2128 | D63: 342 | E63: 727776 | F63: -17100 | G63: =E63+F63 -> 710676
A64: Összevont ágazati pótlék | F64: 11732993 | G64: =F64+E64 -> 11732993
A65: Bölcsödei pótlék | F65: 1522777 | G65: =F65+E65 -> 1522777
A67: Kulturális feladatok támogatása | E67: =E68 -> 15905280 | F67: =F68+F69+F70 -> 1471941 | G67: =G68+G69+G70 -> 17377221
A68: Nyilvános könyvtári és közművelődési feladatok támogatása | E68: 15905280 | G68: 15905280
A69: Könyvtári érdekeltségnövelő támogatás
A70: Kulturális pótlék | F70: 1471941 | G70: =E70+F70 -> 1471941
A72: Helyi Önkormányzatok kiegészítő támogatásai (működési) | F72: =F73+F74+F75 -> 3884841 | G72: =G73+G74+G75 -> 3884841
A73: 2017. évi bérkompenzáció | F73: 3884841 | G73: =E73+F73 -> 3884841 | I73: 506173 | J73: előleg
A74: 2017. évi lakosssági víz- és csatornatámogatás
A75: Közösségi közlekedés támogatása
A77: Elszámolásból származó bevételek | F77: 3324132 | G77: =F77 -> 3324132
A79: Felhalmozási célú önormányzati támogatások | E79: =SUM(E80:E81) -> 163583000 | F79: =SUM(F80:F81) -> -234616 | G79: =SUM(G80:G81) -> 163348384
A80: 1818/2016. Korm. határozat alapján támogatás fejlesztések | E80: 160000000 | G80: =E80+F80 -> 160000000
A81: Vis maior támogatás | E81: 3583000 | F81: -234616 | G81: =E81+F81 -> 3348384
A82: Közművelődési érdekeltségnövelő támogatás
I83: =G85-I85 -> 0
A85: Összesen | E85: =E67+E42+E30+E5+E79 -> 1043254876 | F85: =F67+F42+F30+F5+F79+F77+F72 -> 23447268 | G85: =G67+G42+G30+G5+G79+G77+G72 -> 1066702144 | I85: =E85+F85 -> 1066702144

Sheet 2c. tábla (2)
A1: ÁLLAMI TÁMOGATÁSOK INTÉZMÉNYENKÉNT 2017. ÉV
A3: Mell. | B3: Sorszám | C3: Megnevezés | D3: Létszám | E3: MUTATÓ | F3: FAJLAGOS | G3: EREDETI EI. | H3: I. MÓDOSÍTÁS | I3: MÓDOSÍTOTT EI.
A4: 2 | B4: II.1. | C4: Óvodapedagógusok elismert létszáma (8 hó) | D4: 17.2 | E4: 17.2 | F4: 4308000 | G4: 51254853 | H4: 744984 | I4: =G4+H4 -> 51999837 | K4: =G4+G16+G28+G40 -> 112641480
A5: 2 | B5: II.1. | C5: Óvodapedagógusok munkáját kvetlenül segítők (8 hó) | D5: 14 | E5: 14 | F5: 1800000 | G5: 16800000 | I5: =G5+H5 -> 16800000 | K5: =G5+G17+G29+G41 -> 36000000
A6: 2 | B6: II.1. | C6: Óvodapedagógusok elismert létszáma (4 hó) | D6: 16.9 | E6: 16.9 | F6: 4308000 | G6: 25180437 | I6: =G6+H6 -> 25180437 | K6: =G6+G18+G30+G42 -> 54532780
A7: 2 | B7: II.1. | C7: Óvodapedagógusok munkáját kvetlenül segítők (4 hó) | D7: 14 | E7: 14 | F7: 1800000 | G7: 8400000 | I7: =G7+H7 -> 8400000 | K7: =G7+G19+G31+G43 -> 18000000
A8: 2 | B8: II.2. | C8: Óvodaműködtetési támogatás (8 hó) | D8: 194 | E8: =G8/F8 -> 129.33334 | F8: 81700 | G8: 10566534 | H8: 163400 | I8: =G8+H8 -> 10729934 | K8: =G8+G20+G32+G44 -> 22549200
A9: 2 | B9: II.2. | C9: Óvodaműködtetési támogatás (4 hó) | D9: 190 | E9: =G9/F9 -> 63.333329 | F9: 81700 | G9: 5174333 | I9: =G9+H9 -> 5174333 | K9: =G9+G21+G33+G45 -> 10866100
A10: 2 | B10: II.5.a | C10: Pedagógus II. kategóriába sorolt óvodapedagógusok kieg. támog. | D10: 7 | E10: 7 | F10: 418900 | G10: =E10*F10 -> 2932300 | I10: =G10+H10 -> 2932300 | K10: =G10+G22+G34+G46 -> 7121300 | M10: =K4+K5+K6+K7+#REF!+K8+K9+K10 -> #REF!
A11: 2 | B11: III. 5.a | C11: Gyermekétkeztetés támogatása (bértámogatás) | E11: =G11/F11 -> 3.6700674 | F11: 1632000 | G11: 5989550 | I11: =G11+H11 -> 5989550 | K11: =G11+G23+G35+G47+G55+G102 -> 43052160
A12: 2 | B12: III. 5.b | C12: Gyermekétkeztetés üzemeltetési támogatása | D12: 179 | G12: 8507072 | I12: =G12+H12 -> 8507072 | K12: =G12+G24+G36+G48+G56+G103 -> 35089063
C13: Bérkompenzáció | H13: 125640 | I13: =G13+H13 -> 125640
C14: Kiserdei óvoda összesen: | G14: =SUM(G4:G12) -> 134805079 | H14: =SUM(H4:H13) -> 1034024 | I14: =SUM(I4:I13) -> 135839103
A16: 2 | B16: II.1. | C16: Óvodapedagógusok elismert létszáma (8 hó) | D16: 10.1 | E16: 10.1 | F16: 4308000 | G16: 30097327 | H16: 297993 | I16: =G16+H16 -> 30395320
A17: 2 | B17: II.1. | C17: Óvodapedagógusok munkáját kvetlenül segítők (8 hó) | D17: 9 | E17: =G17/F17 -> 6 | F17: 1800000 | G17: 10800000 | I17: =G17+H17 -> 10800000 | L17: =H13+H25+H37+H49+H58+H75+H80+H85+I89+H105 -> 3378668
A18: 2 | B18: II.1. | C18: Óvodapedagógusok elismert létszáma (4 hó) | D18: 10.1 | E18: 10.1 | F18: 4308000 | G18: 15048663 | I18: =G18+H18 -> 15048663
A19: 2 | B19: II.1. | C19: Óvodapedagógusok munkáját kvetlenül segítők (4 hó) | D19: 9 | E19: =G19/F19 -> 3 | F19: 1800000 | G19: 5400000 | H19: 54466 | I19: =G19+H19 -> 5454466
A20: 2 | B20: II.2. | C20: Gyermeklétszám (8 hó) | D20: 108 | E20: =G20/F20 -> 72 | F20: 81700 | G20: 5882400 | I20: =G20+H20 -> 5882400
A21: 2 | B21: II.2. | C21: Gyermeklétszám (4 hó) | D21: 108 | E21: =G21/F21 -> 36 | F21: 81700 | G21: 2941200 | I21: =G21+H21 -> 2941200
A22: 2 | B22: II.5.a | C22: Pedagógus II. kategóriába sorolt óvodapedagógusok kieg. támog. | D22: 5 | E22: 5 | F22: 418900 | G22: =F22*D22 -> 2094500 | I22: =G22+H22 -> 2094500
A23: 2 | B23: III. 5.a | C23: Gyermekétkeztetés támogatása (bértámogatás) | E23: =G23/F23 -> 2.2020404 | F23: 1632000 | G23: 3593730 | I23: =G23+H23 -> 3593730
A24: 2 | B24: III. 5.b | C24: Gyermekétkeztetés üzemeltetési támogatása | D24: 94 | G24: 6138411 | I24: =G24+H24 -> 6138411
C25: Bérkompenzáció | H25: 202139 | I25: =G25+H25 -> 202139
C26: Óvárosi óvoda összesen: | G26: =SUM(G16:G24) -> 81996231 | H26: =SUM(H16:H25) -> 554598 | I26: =SUM(I16:I25) -> 82550829
A28: 2 | B28: II.1. | C28: Óvodapedagógusok elismert létszáma (8 hó) | D28: 7 | E28: 6.8 | F28: 4308000 | G28: 20859533 | I28: =G28+H28 -> 20859533
A29: 2 | B29: II.1. | C29: Óvodapedagógusok munkáját kvetlenül segítők (8 hó) | D29: 5 | E29: =G29/F29 -> 3.3333333 | F29: 1800000 | G29: 6000000 | I29: =G29+H29 -> 6000000
A30: 2 | B30: II.1. | C30: Óvodapedagógusok elismert létszáma (4 hó) | D30: 6.6 | E30: 6.2 | F30: 4308000 | G30: 9833780 | I30: =G30+H30 -> 9833780
A31: 2 | B31: II.1. | C31: Óvodapedagógusok munkáját kvetlenül segítők (4 hó) | D31: 5 | E31: =G31/F31 -> 1.6666667 | F31: 1800000 | G31: 3000000 | I31: =G31+H31 -> 3000000
A32: 2 | B32: II.2. | C32: Gyermeklétszám (8 hó) | D32: 73 | E32: =G32/F32 -> 48.666659 | F32: 81700 | G32: 3976066 | H32: -54466 | I32: =G32+H32 -> 3921600
A33: 2 | B33: II.2. | C33: Gyermeklétszám (4 hó) | D33: 67 | E33: =G33/F33 -> 22.333341 | F33: 81700 | G33: 1824634 | I33: =G33+H33 -> 1824634
A34: 2 | B34: II.5.a | C34: Pedagógus II. kategóriába sorolt óvodapedagógusok kieg. támog. | D34: 4 | E34: 4 | F34: 418900 | G34: =F34*D34 -> 1675600 | I34: =G34+H34 -> 1675600
A35: 2 | B35: III. 5.a | C35: Gyermekétkeztetés támogatása (bértámogatás) | E35: =G35/F35 -> 1.3568131 | F35: 1632000 | G35: 2214319 | I35: =G35+H35 -> 2214319
A36: 2 | B36: III. 5.b | C36: Gyermekétkeztetés üzemeltetési támogatása | G36: 3317104 | I36: =G36+H36 -> 3317104
C37: Bérkompenzáció | H37: 164296 | I37: =G37+H37 -> 164296
C38: Tündérkert óvoda összesen: | G38: =SUM(G28:G36) -> 52701036 | H38: =SUM(H32:H37) -> 109830 | I38: =SUM(G38:H38) -> 52810866
A40: 2 | B40: II.1. | C40: Óvodapedagógusok elismert létszáma (8 hó) | D40: 3.5 | E40: 3.9 | F40: 4308000 | G40: 10429767 | H40: 446990 | I40: =G40+H40 -> 10876757
A41: 2 | B41: II.1. | C41: Óvodapedagógusok munkáját kvetlenül segítők (8 hó) | D41: 2 | E41: =G41/F41 -> 1.3333333 | F41: 1800000 | G41: 2400000 | I41: =G41+H41 -> 2400000
A42: 2 | B42: II.1. | C42: Óvodapedagógusok elismert létszáma (4 hó) | D42: 3 | E42: 3.2 | F42: 4308000 | G42: 4469900 | I42: =G42+H42 -> 4469900
A43: 2 | B43: II.1. | C43: Óvodapedagógusok munkáját kvetlenül segítők (4 hó) | D43: 2 | E43: =G43/F43 -> 0.66666667 | F43: 1800000 | G43: 1200000 | I43: =G43+H43 -> 1200000
A44: 2 | B44: II.2. | C44: Gyermeklétszám (8 hó) | D44: 39 | E44: =G44/F44 -> 26 | F44: 81700 | G44: 2124200 | H44: 108933 | I44: =G44+H44 -> 2233133
A45: 2 | B45: II.2. | C45: Gyermeklétszám (4 hó) | D45: 34 | E45: =G45/F45 -> 11.333329 | F45: 81700 | G45: 925933 | I45: =G45+H45 -> 925933
A46: 2 | B46: II.5.a | C46: Pedagógus II. kategóriába sorolt óvodapedagógusok kieg. támog. | D46: 1 | E46: 1 | F46: 418900 | G46: =F46*D46 -> 418900 | I46: =G46+H46 -> 418900
A47: 2 | B47: III. 5.a | C47: Gyermekétkeztetés támogatása (bértámogatás) | E47: =G47/F47 -> 0.77849939 | F47: 1632000 | G47: 1270511 | I47: =G47+H47 -> 1270511
A48: 2 | B48: III. 5.b | C48: Gyermekétkeztetés üzemeltetési támogatása | G48: 2190348 | I48: =G48+H48 -> 2190348
C49: Bérkompenzáció | H49: 60833 | I49: =G49+H49 -> 60833
C50: Kökörcsin óvoda összesen: | G50: =SUM(G40:G48) -> 25429559 | H50: =SUM(H40:H49) -> 616756 | I50: =SUM(I40:I49) -> 26046315 | J50: =H50+H38+H26+H14 -> 2315208
A51: Mell. | B51: Sorszám | C51: Megnevezés | E51: MUTATÓ | F51: FAJLAGOS | G51: EREDETI EI. | H51: I. MÓDOSÍTÁS | I51: MÓDOSÍTOTT EI.
A52: 2
A53: 2
B54: III.3. ja. | C54: Bölcsödei ellátás | D54: 41 | E54: 41 | F54: 494100 | G54: 20258100 | I54: =G54+H54 -> 20258100
B55: III. 5.a | C55: Bölcsödében elhelyezett gyermekek étkeztetése (bértámogatás) | D55: 34 | E55: =G55/F55 -> 0.75625613 | F55: 1632000 | G55: 1234210 | I55: =G55+H55 -> 1234210
B56: III. 5.b | C56: Gyermekétkeztetés üzemeltetési támogatása | D56: 34 | G56: 2184393 | I56: =G56+H56 -> 2184393
B57: III.7. | C57: kiegészítő támogatás a bölcsődében foglalkoztatott felsőfokú végzettségű kisgyermeknevelők béréhez | D57: 3 | E57: 3 | F57: 1508760 | G57: 4526280 | I57: =G57+H57 -> 4526280
A58: 2 | C58: Bérkompenzáció | H58: 393239 | I58: =G58+H58 -> 393239
A59: 2 | C59: Ágazati pótlék, kiegészítő ágazati pótlék | H59: 1223716 | I59: =G59+H59 -> 1223716
C60: Bölcsödei pótlék (középfokú végzettségű kisgyermeknevelő) | H60: 1522777 | I60: =G60+H60 -> 1522777
A61: 2 | C61: Bölcsöde összesen. | G61: =SUM(G54:G57) -> 28202983 | H61: =SUM(H54:H60) -> 3139732 | I61: =SUM(I54:I60) -> 31342715
A62: 2
B64: III.3. | C64: Egyes szociális és gyermekjóléti feladatok támog.
B65: III.3. a. | C65: család- és gyermekjóléti szolgálat | E65: =G65/F65 -> 7.6 | F65: 3000000 | G65: 22800000 | I65: =G65+H65 -> 22800000
B66: III.3. b. | C66: család- és gyermekjóléti központ | E66: =G66/F66 -> 3.7 | F66: 3000000 | G66: 11100000 | I66: =G66+H66 -> 11100000
B67: III.3. c. | C67: szociális étkeztetés | D67: 100 | E67: 100 | F67: 55360 | G67: 5536000 | I67: =G67+H67 -> 5536000
A68: 2 | B68: III.3. da | C68: házi segítségnyújtás | D68: 12 | E68: 12 | F68: 25000 | G68: =F68*E68 -> 300000 | I68: =G68+H68 -> 300000
A69: 2 | B69: III.3. db | C69: házi segítségnyújtás | D69: 25 | E69: 25 | F69: 273000 | G69: =F69*E69 -> 6825000 | I69: =G69+H69 -> 6825000
A70: 2 | B70: III.3. f. | C70: időskorúak nappali intézényi ellátása | D70: 43 | E70: 43 | F70: 163500 | G70: =F70*E70 -> 7030500 | I70: =G70+H70 -> 7030500
A71: 2 | B71: III.3. g. | C71: Fogyatékos és demens személyek nappali intézményi ellátása | G71: =G72+G73+G74 -> 16060000 | I71: =G71+H71 -> 16060000
A72: 2 | B72: III.3. g(2) | C72: fogyatékos személyek nappali intézményi ellátása | D72: 13 | E72: 13 | F72: 550000 | G72: =F72*E72 -> 7150000 | I72: =G72+H72 -> 7150000
B73: III.3. g (4) | C73: foglalkoztatási támog-ban részesülő fogyatékos nappali intézményben ellátottak | D73: 23 | E73: 23 | F73: 220000 | G73: =F73*E73 -> 5060000 | I73: =G73+H73 -> 5060000
A74: 2 | B74: III.3. g (6) | C74: demens személyek nappali int-i ellát - társulás által történő feladatellátás | D74: 7 | E74: 7 | F74: 550000 | G74: =F74*E74 -> 3850000 | I74: =G74+H74 -> 3850000
A75: 2 | C75: Bérkompenzáció | H75: 1266785 | I75: =G75+H75 -> 1266785
A76: 2 | C76: Ágazati pótlék, kiegészítő ágazati pótlék | H76: 10509277 | I76: =G76+H76 -> 10509277
A77: 2 | C77: BSZAK összesen: | G77: =G65+G66+G67+G68+G70+G71+G69 -> 69651500 | H77: =H65+H66+H67+H68+H70+H71+H69+H75+H76 -> 11776062 | I77: =I65+I66+I67+I68+I70+I71+I69+I75+I76 -> 81427562
A78: 2
B79: I.a. | C79: Önkormányzati hivatal működtetésének támogatás | D79: 39.36 | E79: 39.36 | F79: 4580000 | G79: 180635200 | I79: =G79+H79 -> 180635200
C80: Bérkompenzáció | H80: 1070832 | I80: =G80+H80 -> 1070832
C81: Önkormányzati Hivatal összesen: | G81: =G79 -> 180635200 | H81: =H80 -> 1070832 | I81: =I79+I80 -> 181706032
A83: 2 | B83: IV. 1.d. | C83: Nyilvános könyvtári feladatok támogatása | D83: 13952 | E83: 13952 | F83: 1140 | G83: 15905280 | I83: 15905280
B84: IV.1.i. | C84: Könyvtári érdekeltségnövelő
C85: Bérkompenzáció | H85: 246577 | I85: =G85+H85 -> 246577
C86: Kulturális pótlék | H86: 1471941 | I86: =G86+H86 -> 1471941
C87: Könyvtár összesen: | G87: =G83 -> 15905280 | H87: =SUM(H85:H86) -> 1718518 | I87: =I83+I84+I85+I86 -> 17623798
A88: 2
A89: 2. | C89: Bérkompenzáció | H89: 730850 | I89: =G89+H89 -> 730850
A90: 3. | C90: Rendelőintézet | H90: =SUM(H89) -> 730850 | I90: =SUM(I89) -> 730850
B91: Sorszám | C91: Megnevezés | E91: MUTATÓ | F91: FAJLAGOS | G91: EREDETI EI. | H91: I. MÓDOSÍTÁS | I91: MÓDOSÍTOTT EI.
B92: III.2. | C92: Települési önkormányzatok szociális feladatainak egyéb támogatása
B93: I.b. | C93: Település üz-hez kapcsolódó feladatellát.támog. | G93: =G94+G95+G96+G97 -> 0
B94: I.ba. | C94: Zöldterület-gazdálk-al kapcsolatos feladatok ellátásának támog. | G94: 0
A95: Mell. | B95: I.bb. | C95: Közvilágítás fenntartásának támogatás | G95: 0
A96: 2 | B96: I.bc. | C96: Köztemető fenntartással kapcsolatos feladatok támog. | G96: 0
A97: 2 | B97: I.bd. | C97: Közutak fenntartásának támogatás | G97: 0
A98: 2 | B98: I.c. | C98: Egyéb önkormányzati feladatok támogatása | G98: 0
A99: 2 | B99: I.d. | C99: Lakott külterületekkel kapcsolatos feladatok támogatása | G99: 0
A100: 2 | B100: I.e. | C100: Üdülőhelyi feladatok támogatása | G100: 245760465 | I100: =G100+H100 -> 245760465
A101: 2 | B101: II.1. | C101: Óvodapedagógusok elismert létszáma (4 hó) (pótlólagos összeg) | G101: 1398120 | I101: =G101+H101 -> 1398120
A102: 2 | B102: III. 5.a | C102: Iskolai étkeztetés támogatása (bértámogatás) | G102: 28749840 | I102: =G102+H102 -> 28749840
A103: 2 | B103: III. 5.b | C103: Gyermekétkeztetés üzemeltetési támogatása | G103: 12751735 | I103: =G103+H103 -> 12751735
A104: 2 | B104: III. 6. | C104: A rászoruló gyermekek int. kívüli szünidei étk. támogatása | E104: 2128 | F104: 342 | G104: 727776 | H104: -17100 | I104: =G104+H104 -> 710676
A105: 2 | B105: I.6. | C105: 2016. évről áthúzódó bérkompenzáció támogatása (int.ellátó) | G105: 957072 | H105: -882523 | I105: =G105+H105 -> 74549
C106: 2017.évi bérkompenzáció (ELŐLEG) | H106: 506173 | I106: =G106+H106 -> 506173
...

Sheet 3.sz. tábla  (2)
M2: AZ ÖNKORMÁNYZAT BEVÉTELEI INTÉZMÉNYEK SZERINTI BONTÁSBAN KIEMELT ELŐIRÁNYZATONKÉNT 2017. ÉV
A6: MEGNEVEZÉS | B6: ÁLLAMI TÁMOGATÁS | E6: ÖNKORMÁNYZATI TÁMOGATÁS | H6: IRÁNYÍTÓ SZERVTŐL KAPOTT TÁMOGATÁS | K6: SAJÁT BEVÉTEL | N6: MARADVÁNY IGÉNYBEVÉTEL | Q6: FINANSZÍROZÁSI CÉLÚ BEVÉTELEK | T6: BEVÉTELEK ÖSSZESEN
B7: 2017. évi eredeti ei. | C7: 2017. évi módosított ei. I. | D7: Eltérés | E7: 2017. évi eredeti ei. | F7: 2017. évi módosított ei. I. | G7: Eltérés | H7: 2017. évi eredeti ei. | I7: 2017. évi módosított ei. I. | J7: Eltérés | K7: 2017. évi eredeti ei. | L7: 2017. évi módosított ei. I. | M7: Eltérés | N7: 2017. évi eredeti ei. | O7: 2017. évi módosított ei. I. | P7: Eltérés | Q7: 2017. évi eredeti ei. | R7: 2017. évi módosított ei. I. | S7: Eltérés | T7: 2017. évi eredeti ei. | U7: 2017. évi módosított ei. I. | V7: Eltérés
A8: Városi Könyvtár | B8: ='2c. tábla (2)'!G87 -> 15905280 | C8: 17623798 | D8: =C8-B8 -> 1718518 | E8: ='2.a tábla ÚJ '!B50-'3.sz. tábla (2)'!B8 -> 35133720 | F8: ='2.a tábla ÚJ '!C50-'3.sz. tábla (2)'!C8 -> 32244022 | G8: =F8-E8 -> -2889698 | H8: =B8+E8 -> 51039000 | I8: =SUM(C8+F8) -> 49867820 | J8: =I8-H8 -> -1171180 | K8: ='2.a tábla ÚJ '!B44 -> 4375000 | L8: ='2.a tábla ÚJ '!C44 -> 4375000 | M8: =L8-K8 -> 0 | N8: ='2.a tábla ÚJ '!K46 -> 480000 | O8: ='2.a tábla ÚJ '!C46 -> 2854366 | P8: =O8-N8 -> 2374366 | T8: =H8+K8+N8+Q8 -> 55894000 | U8: =I8+L8+O8+R8 -> 57097186 | V8: =U8-T8 -> 1203186
A9: Városi Rendelőint. | B9: ='2c. tábla (2)'!G90 -> 0 | C9: ='2c. tábla (2)'!H90 -> 730850 | D9: =C9-B9 -> 730850 | E9: ='2.a tábla ÚJ '!E50-'3.sz. tábla (2)'!B9 -> 31547000 | F9: ='2.a tábla ÚJ '!F50-'3.sz. tábla (2)'!C9 -> 33222022 | G9: =F9-E9 -> 1675022 | H9: =B9+E9 -> 31547000 | I9: =SUM(C9+F9) -> 33952872 | J9: =I9-H9 -> 2405872 | K9: ='2.a tábla ÚJ '!E44 -> 138712000 | L9: ='2.a tábla ÚJ '!F44 -> 142908731 | M9: =L9-K9 -> 4196731 | N9: ='2.a tábla ÚJ '!E46 -> 0 | O9: ='2.a tábla ÚJ '!F46 -> 8148956 | P9: =O9-N9 -> 8148956 | T9: =H9+K9+N9+Q9 -> 170259000 | U9: =I9+L9+O9+R9 -> 185010559 | V9: =U9-T9 -> 14751559
A10: Városi Bölcsőde | B10: ='2c. tábla (2)'!G61+17 -> 28203000 | C10: ='2c. tábla (2)'!I61+17 -> 31342732 | D10: =C10-B10 -> 3139732 | E10: ='2.a tábla ÚJ '!H50-'3.sz. tábla (2)'!B10 -> 29862000 | F10: ='2.a tábla ÚJ '!I50-'3.sz. tábla (2)'!C10 -> 25033785 | G10: =F10-E10 -> -4828215 | H10: ='2.a tábla ÚJ '!H50 -> 58065000 | I10: =SUM(C10+F10) -> 56376517 | J10: =I10-H10 -> -1688483 | K10: ='2.a tábla ÚJ '!H44 -> 3188000 | L10: ='2.a tábla ÚJ '!I44 -> 3188000 | M10: =L10-K10 -> 0 | N10: ='2.a tábla ÚJ '!H46 -> 0 | O10: ='2.a tábla ÚJ '!I46 -> 2374784 | P10: =O10-N10 -> 2374784 | T10: =H10+K10+N10+Q10 -> 61253000 | U10: =I10+L10+O10+R10 -> 61939301 | V10: =U10-T10 -> 686301
A11: Költségvetési szervek összesen: | B11: =B8+B9+B10 -> 44108280 | C11: =C8+C9+C10 -> 49697380 | D11: =C11-B11 -> 5589100 | E11: =E8+E9+E10 -> 96542720 | F11: =F8+F9+F10 -> 90499829 | G11: =F11-E11 -> -6042891 | H11: =H8+H9+H10 -> 140651000 | I11: =I8+I9+I10 -> 140197209 | J11: =I11-H11 -> -453791 | K11: =K8+K9+K10 -> 146275000 | L11: =L8+L9+L10 -> 150471731 | M11: =L11-K11 -> 4196731 | N11: =N8+N9+N10 -> 480000 | O11: =O8+O9+O10 -> 13378106 | P11: =O11-N11 -> 12898106 | Q11: =Q8+Q9+Q10 -> 0 | R11: =R8+R9+R10 -> 0 | S11: =R11-Q11 -> 0 | T11: =T8+T9+T10 -> 287406000 | U11: =U8+U9+U10 -> 304047046 | V11: =U11-T11 -> 16641046
A12: Önkormányzati Hivatal | B12: ='2c. tábla (2)'!G81 -> 180635200 | C12: ='2c. tábla (2)'!I81 -> 181706032 | D12: =C12-B12 -> 1070832 | E12: ='2.a tábla ÚJ '!O50-'3.sz. tábla (2)'!B12 -> 168314784 | F12: ='2.a tábla ÚJ '!P50-'3.sz. tábla (2)'!C12 -> 157999041 | G12: =F12-E12 -> -10315743 | H12: =B12+E12 -> 348949984 | I12: =C12+F12 -> 339705073 | J12: =I12-H12 -> -9244911 | K12: ='2.sz.tábla (2)'!E73 -> 38108730 | L12: ='2.a tábla ÚJ '!P44 -> 38722024 | M12: =L12-K12 -> 613294 | N12: ='2.a tábla ÚJ '!O46 -> 0 | O12: ='2.a tábla ÚJ '!P46 -> 26436722 | P12: =O12-N12 -> 26436722 | T12: =H12+K12+N12+Q12 -> 387058714 | U12: =I12+L12+O12+R12 -> 404863819 | V12: =U12-T12 -> 17805105
A13: Intézmények összesen: | B13: =SUM(B11:B12) -> 224743480 | C13: =SUM(C11:C12) -> 231403412 | D13: =C13-B13 -> 6659932 | E13: =SUM(E11:E12) -> 264857504 | F13: =SUM(F11:F12) -> 248498870 | G13: =F13-E13 -> -16358634 | H13: =SUM(H11:H12) -> 489600984 | I13: =SUM(I11:I12) -> 479902282 | J13: =I13-H13 -> -9698702 | K13: =SUM(K11:K12) -> 184383730 | L13: =SUM(L11:L12) -> 189193755 | M13: =L13-K13 -> 4810025 | N13: =SUM(N11:N12) -> 480000 | O13: =SUM(O11:O12) -> 39814828 | P13: =O13-N13 -> 39334828 | Q13: =SUM(Q11:Q12) -> 0 | R13: =SUM(R11:R12) -> 0 | S13: =R13-Q13 -> 0 | T13: =SUM(T11:T12) -> 674464714 | U13: =SUM(U11:U12) -> 708910865 | V13: =U13-T13 -> 34446151
A14: Önkormányzat | B14: =B17-B13 -> 818511396 | C14: =C17-C13 -> 835298732 | D14: =C14-B14 -> 16787336 | E14: =-E13 -> -264857504 | F14: =-F13 -> -248498870 | G14: =F14-E14 -> 16358634 | J14: =I14-H14 -> 0 | K14: ='2.sz.tábla (2)'!B91-'2.sz.tábla (2)'!B78-'2.sz.tábla (2)'!B75-'2.sz.tábla (2)'!B7-'2.sz.tábla (2)'!B22 -> 4253902634 | L14: ='2.sz.tábla (2)'!C91-'2.sz.tábla (2)'!C78-'2.sz.tábla (2)'!C75-'2.sz.tábla (2)'!C7-'2.sz.tábla (2)'!C22 -> 5325365444 | M14: =L14-K14 -> 1071462810 | N14: ='2.sz.tábla (2)'!B75 -> 790696379 | O14: ='2.sz.tábla (2)'!C75 -> 1017271328 | P14: =O14-N14 -> 226574949 | Q14: ='2.sz.tábla (2)'!B78 -> 1193980000 | R14: ='2.sz.tábla (2)'!C78 -> 2505160000 | S14: =R14-Q14 -> 1311180000 | T14: =H14+K14+N14+Q14+E14+B14 -> 6792232905 | U14: =I14+L14+O14+R14+F14+C14 -> 9434596634 | V14: =U14-T14 -> 2642363729
A15: Mindösszesen: | B15: =SUM(B13:B14) -> 1043254876 | C15: =SUM(C13:C14) -> 1066702144 | D15: =C15-B15 -> 23447268 | E15: =SUM(E13:E14) -> 0 | F15: =SUM(F13:F14) -> 0 | G15: =F15-E15 -> 0 | H15: =SUM(H13:H14) -> 489600984 | I15: =SUM(I13:I14) -> 479902282 | J15: =I15-H15 -> -9698702 | K15: =SUM(K13:K14) -> 4438286364 | L15: =SUM(L13:L14) -> 5514559199 | M15: =L15-K15 -> 1076272835 | N15: =SUM(N13:N14) -> 791176379 | O15: =SUM(O13:O14) -> 1057086156 | P15: =O15-N15 -> 265909777 | Q15: =SUM(Q13:Q14) -> 1193980000 | R15: =SUM(R13:R14) -> 2505160000 | S15: =R15-Q15 -> 1311180000 | T15: =SUM(T13:T14) -> 7466697619 | U15: =SUM(U13:U14) -> 10143507499 | V15: =U15-T15 -> 2676809880
V16: ='2.sz.tábla (2)'!M91-'3.sz. tábla (2)'!V15 -> 0
B17: ='2c. tábla (2)'!G120 -> 1043254876 | C17: ='2c. tábla (2)'!I120 -> 1066702144

Sheet 4.sz.tábla 
AF1: AZ ÖNKORMÁNYZAT KIADÁSAI INTÉZMÉNYEK SZERINTI BONTÁSBAN KIEMELT ELŐIRÁNYZATONKÉNT 2017. ÉV
A2: MEGNEVEZÉS | B2: SZEMÉLYI JUTTATÁS | E2: MUNKAADÓKAT TERH. JÁRULÉKOK ÉS SZOCIÁLIS HOZZÁJÁRULÁSI ADÓ | H2: DOLOGI KIADÁSOK | K2: ELLÁTOTTAK PÉNZBELI JUTTATÁSAI | R2: MEGNEVEZÉS | S2: EGYÉB MŰKÖDÉSI CÉLÚ KIADÁSOK | V2: BERUHÁZÁSOK | Y2: FELÚJÍTÁSOK | AB2: EGYÉB FELHALMOZÁSI KIADÁSOK | AE2: MEGNEVEZÉS | AF2: FINANSZÍROZÁSI KIADÁSOK | AI2: TARTALÉKOK | AL2: ÖSSZESEN
B3: 2017. évi eredeti ei. | C3: 2017. évi módosított ei. I. | D3: Eltérés | E3: 2017. évi eredeti ei. | F3: 2017. évi módosított ei. I. | G3: Eltérés | H3: 2017. évi eredeti ei. | I3: 2017. évi módosított ei. I. | J3: Eltérés | K3: 2017. évi eredeti ei. | L3: 2017. évi módosított ei. I. | M3: Eltérés | S3: 2017. évi eredeti ei. | T3: 2017. évi módosított ei. I. | U3: Eltérés | V3: 2017. évi eredeti ei. | W3: 2017. évi módosított ei. I. | X3: Eltérés | Y3: 2017. évi eredeti ei. | Z3: 2017. évi módosított ei. I. | AA3: Eltérés | AB3: 2017. évi eredeti ei. | AC3: 2017. évi módosított ei. I. | AD3: Eltérés | AF3: 2017. évi eredeti ei. | AG3: 2017. évi módosított ei. I. | AH3: Eltérés | AI3: 2017. évi eredeti ei. | AJ3: 2017. évi módosított ei. I. | AK3: Eltérés | AL3: 2017. évi eredeti ei. | AM3: 2017. évi módosított ei. I. | AN3: Eltérés
A4: Városi Könyvtár | B4: 33334000 | C4: 33889155 | D4: =C4-B4 -> 555155 | E4: 7550000 | F4: 7703142 | G4: =F4-E4 -> 153142 | H4: 12039000 | I4: 12529689 | J4: =I4-H4 -> 490689 | R4: Városi Könyvtár | V4: ='4a. sz. tábla (3)'!C5 -> 2971000 | W4: ='4a. sz. tábla (3)'!D5 -> 2975200 | X4: =W4-V4 -> 4200 | AE4: Városi Könyvtár | AL4: =SUM(Y4,AB4,AF4,V4,S4,K4,H4,E4,B4) -> 55894000 | AM4: =SUM(Z4,AC4,AG4,W4,T4,L4,I4,F4,C4) -> 57097186 | AN4: =AM4-AL4 -> 1203186
A5: Városi Rendelőint. | B5: 88161000 | C5: 88586016 | D5: =C5-B5 -> 425016 | E5: 19753000 | F5: 20966310 | G5: =F5-E5 -> 1213310 | H5: =61381000+564000 -> 61945000 | I5: 74458233 | J5: =I5-H5 -> 12513233 | R5: Városi Rendelőint. | V5: ='4a. sz. tábla (3)'!C21 -> 400000 | W5: ='4a. sz. tábla (3)'!D21 -> 1000000 | X5: =W5-V5 -> 600000 | AE5: Városi Rendelőint. | AL5: =SUM(Y5,AB5,AF5,V5,S5,K5,H5,E5,B5) -> 170259000 | AM5: =SUM(Z5,AC5,AG5,W5,T5,L5,I5,F5,C5) -> 185010559 | AN5: =AM5-AL5 -> 14751559
A6: Bölcsöde | B6: 40127000 | C6: 39680830 | D6: =C6-B6 -> -446170 | E6: 8243000 | F6: 8689170 | G6: =F6-E6 -> 446170 | H6: 12683000 | I6: 12983000 | J6: =I6-H6 -> 300000 | R6: Városi Bölcsőde | V6: ='4a. sz. tábla (3)'!C14 -> 200000 | W6: ='4a. sz. tábla (3)'!D14 -> 586301 | X6: =W6-V6 -> 386301 | AE6: Bölcsöde | AL6: =SUM(Y6,AB6,AF6,V6,S6,K6,H6,E6,B6) -> 61253000 | AM6: =SUM(Z6,AC6,AG6,W6,T6,L6,I6,F6,C6) -> 61939301 | AN6: =AM6-AL6 -> 686301
A7: Költségvetési szervek összesen: | B7: =B4+B5+B6 -> 161622000 | C7: =C4+C5+C6 -> 162156001 | D7: =C7-B7 -> 534001 | E7: =E4+E5+E6 -> 35546000 | F7: =F4+F5+F6 -> 37358622 | G7: =F7-E7 -> 1812622 | H7: =+H4+H5+H6 -> 86667000 | I7: =I4+I5+I6 -> 99970922 | J7: =I7-H7 -> 13303922 | K7: =K4+K5+K6 -> 0 | L7: =L4+L5+L6 -> 0 | M7: =L7-K7 -> 0 | N7: =#REF!+N4+N5+N6 -> #REF! | O7: =#REF!+O4+O5+O6 -> #REF! | P7: =#REF!+P4+P5+P6 -> #REF! | Q7: =#REF!+Q4+Q5+Q6 -> #REF! | R7: Költségvetési szervek összesen: | S7: =S4+S5+S6 -> 0 | T7: =T4+T5+T6 -> 0 | U7: =T7-S7 -> 0 | V7: =V4+V5+V6 -> 3571000 | W7: =W4+W5+W6 -> 4561501 | X7: =W7-V7 -> 990501 | Y7: =Y4+Y5+Y6 -> 0 | Z7: =Z4+Z5+Z6 -> 0 | AA7: =Z7-Y7 -> 0 | AB7: =AB4+AB5+AB6 -> 0 | AC7: =AC4+AC5+AC6 -> 0 | AD7: =AC7-AB7 -> 0 | AE7: Költségvetési szervek összesen: | AF7: =AF4+AF5+AF6 -> 0 | AG7: =AG4+AG5+AG6 -> 0 | AH7: =AG7-AF7 -> 0 | AI7: =AI4+AI5+AI6 -> 0 | AJ7: =AJ4+AJ5+AJ6 -> 0 | AK7: =AJ7-AI7 -> 0 | AL7: =AL4+AL5+AL6 -> 287406000 | AM7: =AM4+AM5+AM6 -> 304047046 | AN7: =AM7-AL7 -> 16641046
A8: Önkormányzati Hivatal | B8: ='5.tábla (2)'!B7 -> 248441476 | C8: ='5.tábla (2)'!C7 -> 254177426 | D8: =C8-B8 -> 5735950 | E8: ='5.tábla (2)'!B8 -> 59971194 | F8: ='5.tábla (2)'!C8 -> 62183686 | G8: =F8-E8 -> 2212492 | H8: ='5.tábla (2)'!B9 -> 73251644 | I8: ='5.tábla (2)'!C9 -> 76141092 | J8: =I8-H8 -> 2889448 | K8: ='5.tábla (2)'!B15+'5.tábla (2)'!B17 -> 2394400 | L8: ='5.tábla (2)'!C15+'5.tábla (2)'!C17 -> 2394400 | M8: =L8-K8 -> 0 | R8: Önkormányzati Hivatal | T8: ='5.tábla (2)'!C19 -> 2105398 | U8: =T8-S8 -> 2105398 | V8: ='4a. sz. tábla (3)'!C25 -> 3000000 | W8: ='5.tábla (2)'!C21 -> 7861817 | X8: =W8-V8 -> 4861817 | AE8: Önkormányzati Hivatal | AL8: =SUM(Y8,AB8,AF8,V8,S8,K8,H8,E8,B8) -> 387058714 | AM8: =SUM(Z8,AC8,AG8,W8,T8,L8,I8,F8,C8) -> 404863819 | AN8: =AM8-AL8 -> 17805105
A9: Intézmények összesen: | B9: =SUM(B7:B8) -> 410063476 | C9: =SUM(C7:C8) -> 416333427 | D9: =C9-B9 -> 6269951 | E9: =SUM(E7:E8) -> 95517194 | F9: =SUM(F7:F8) -> 99542308 | G9: =F9-E9 -> 4025114 | H9: =SUM(H7:H8) -> 159918644 | I9: =SUM(I7:I8) -> 176112014 | J9: =I9-H9 -> 16193370 | K9: =SUM(K7:K8) -> 2394400 | L9: =SUM(L7:L8) -> 2394400 | M9: =L9-K9 -> 0 | N9: =SUM(N7:N8) -> #REF! | O9: =SUM(O7:O8) -> #REF! | P9: =SUM(P7:P8) -> #REF! | Q9: =SUM(Q7:Q8) -> #REF! | R9: Intézmények összesen: | S9: =SUM(S7:S8) -> 0 | T9: =SUM(T7:T8) -> 2105398 | U9: =SUM(U7:U8) -> 2105398 | V9: =SUM(V7:V8) -> 6571000 | W9: =SUM(W7:W8) -> 12423318 | X9: =W9-V9 -> 5852318 | Y9: =SUM(Y7:Y8) -> 0 | Z9: =SUM(Z7:Z8) -> 0 | AA9: =Z9-Y9 -> 0 | AB9: =SUM(AB7:AB8) -> 0 | AC9: =SUM(AC7:AC8) -> 0 | AD9: =AC9-AB9 -> 0 | AE9: Intézmények összesen: | AF9: =SUM(AF7:AF8) -> 0 | AG9: =SUM(AG7:AG8) -> 0 | AH9: =AG9-AF9 -> 0 | AI9: =SUM(AI7:AI8) -> 0 | AJ9: =SUM(AJ7:AJ8) -> 0 | AK9: =AJ9-AI9 -> 0 | AL9: =SUM(AL7:AL8) -> 674464714 | AM9: =SUM(AM7:AM8) -> 708910865 | AN9: =AM9-AL9 -> 34446151
A10: Önkormányzat | B10: ='5.tábla (2)'!B28 -> 70721753 | C10: ='5.tábla (2)'!C28 -> 82159964 | D10: =C10-B10 -> 11438211 | E10: ='5.tábla (2)'!B42 -> 12636881 | F10: ='5.tábla (2)'!C42 -> 18039937 | G10: =F10-E10 -> 5403056 | H10: ='5.tábla (2)'!B56 -> 754991434 | I10: ='5.tábla (2)'!C56 -> 1136820370 | J10: =I10-H10 -> 381828936 | K10: ='5.tábla (2)'!B92 -> 29200000 | L10: ='5.tábla (2)'!C92 -> 28702500 | M10: =L10-K10 -> -497500 | R10: Önkormányzat | S10: ='5.tábla (2)'!B101 -> 1009956391 | T10: ='5.tábla (2)'!C101 -> 995609633 | U10: =T10-S10 -> -14346758 | V10: ='7. sz. tábla 1'!B95 -> 3738509802 | W10: ='7. sz. tábla 1'!C95 -> 3808718660 | X10: =W10-V10 -> 70208858 | Y10: ='7. sz. tábla 1'!B171 -> 93139339 | Z10: ='7. sz. tábla 1'!C171 -> 94245404 | AA10: =Z10-Y10 -> 1106065 | AB10: ='7. sz. tábla 1'!B160 -> 688455332 | AC10: ='7. sz. tábla 1'!C160 -> 902535375 | AD10: =AC10-AB10 -> 214080043 | AE10: Önkormányzat | AF10: ='7. sz. tábla 1'!B166 -> 118333233 | AG10: ='7. sz. tábla 1'!C166 -> 1428680233 | AH10: =AG10-AF10 -> 1310347000 | AI10: ='1.sz.tábla (2)'!B30 -> 276288740 | AJ10: ='1.sz.tábla (2)'!C30 -> 939084558 | AK10: =AJ10-AI10 -> 662795818 | AL10: =SUM(Y10,AB10,AF10,V10,S10,K10,H10,E10,B10,AI10) -> 6792232905 | AM10: =SUM(Z10,AC10,AG10,W10,T10,L10,I10,F10,C10,AJ10) -> 9434596634 | AN10: =AM10-AL10 -> 2642363729
A11: Mindösszesen: | B11: =SUM(B9:B10) -> 480785229 | C11: =SUM(C9:C10) -> 498493391 | D11: =C11-B11 -> 17708162 | E11: =SUM(E9:E10) -> 108154075 | F11: =SUM(F9:F10) -> 117582245 | G11: =F11-E11 -> 9428170 | H11: =SUM(H9:H10) -> 914910078 | I11: =SUM(I9:I10) -> 1312932384 | J11: =I11-H11 -> 398022306 | K11: =SUM(K9:K10) -> 31594400 | L11: =SUM(L9:L10) -> 31096900 | M11: =L11-K11 -> -497500 | N11: =SUM(N9:N10) -> #REF! | O11: =SUM(O9:O10) -> #REF! | P11: =SUM(P9:P10) -> #REF! | Q11: =SUM(Q9:Q10) -> #REF! | R11: Mindösszesen: | S11: =SUM(S9:S10) -> 1009956391 | T11: =SUM(T9:T10) -> 997715031 | U11: =T11-S11 -> -12241360 | V11: =SUM(V9:V10) -> 3745080802 | W11: =SUM(W9:W10) -> 3821141978 | X11: =W11-V11 -> 76061176 | Y11: =SUM(Y9:Y10) -> 93139339 | Z11: =SUM(Z9:Z10) -> 94245404 | AA11: =Z11-Y11 -> 1106065 | AB11: =SUM(AB9:AB10) -> 688455332 | AC11: =SUM(AC9:AC10) -> 902535375 | AD11: =AC11-AB11 -> 214080043 | AE11: Mindösszesen: | AF11: =SUM(AF9:AF10) -> 118333233 | AG11: =SUM(AG9:AG10) -> 1428680233 | AH11: =AG11-AF11 -> 1310347000 | AI11: =SUM(AI9:AI10) -> 276288740 | AJ11: =SUM(AJ9:AJ10) -> 939084558 | AK11: =AJ11-AI11 -> 662795818 | AL11: =SUM(AL9:AL10) -> 7466697619 | AM11: =SUM(AM9:AM10) -> 10143507499 | AN11: =AM11-AL11 -> 2676809880

Sheet 4a. sz. tábla  (3)
A2: INTÉZMÉNYI SAJÁTHATÁSKÖRŰ FEJLESZTÉSEK 2017. ÉV
A3: Intézmény | B3: Megnevezés | C3: 2017. évi eredeti ei. | D3: 2017. évi módosított ei. I. | E3: Eltérés
A5: KÖNYVTÁR | C5: =SUM(C6:C12) -> 2971000 | D5: =SUM(D6:D12) -> 2975200 | E5: =D5-C5 -> 4200
B6: Dokumentumbeszerzés | C6: 2671000 | D6: 2675200 | E6: =D6-C6 -> 4200
B7: Informatikai eszközök | C7: 0 | D7: 0 | E7: =D7-C7 -> 0
B8: Kamera, kameraállvány | C8: 0 | D8: 0 | E8: =D8-C8 -> 0
B9: Könyvtári felirat | C9: 0 | D9: 0 | E9: =D9-C9 -> 0
B10: Bútor | C10: 293000 | D10: 293000 | E10: =D10-C10 -> 0
B11: Függöny | C11: 0 | D11: 0 | E11: =D11-C11 -> 0
B12: egyéb kisértékű eszközök | C12: 7000 | D12: 7000 | E12: =D12-C12 -> 0
A14: BÖLCSÖDE | C14: =SUM(C15:C19) -> 200000 | D14: =SUM(D15:D19) -> 586301 | E14: =D14-C14 -> 386301
B15: fűnyíró | D15: 80000
B16: hűtő | D16: 60000
B17: játékok | C17: 180000 | D17: 180000 | E17: =D17-C17 -> 0
B18: egyéb kisértékű eszközök | C18: 20000 | D18: 236301 | E18: =D18-C18 -> 216301
B19: microhullámú | D19: 30000 | E19: =D19-C19 -> 30000
A21: RENDELŐINTÉZET | C21: =SUM(C22:C24) -> 400000 | D21: =SUM(D22:D24) -> 1000000 | E21: =D21-C21 -> 600000
B22: informatikai eszközök | C22: 200000 | D22: 400000 | E22: =D22-C22 -> 200000
B23: Orvosi műszerek | E23: =D23-C23 -> 0
B24: egyéb kisértékű eszközök | C24: 200000 | D24: 600000 | E24: =D24-C24 -> 400000
A25: KÖZÖS ÖNKORMÁNYZATI HIVATAL | C25: =SUM(C26:C28) -> 3000000 | D25: =SUM(D26:D28) -> 7861817 | E25: =D25-C25 -> 4861817
B26: Számítástechnikai eszközök | C26: 2000000 | D26: 4204300 | E26: =D26-C26 -> 2204300
B27: Fénymásoló + nyomtató | D27: 2657517 | E27: =D27-C27 -> 2657517
B28: egyéb kisértékű eszközök | C28: 1000000 | D28: ='5.tábla (2)'!C23 -> 1000000 | E28: =D28-C28 -> 0
A29: ÖSSZESEN: | C29: =SUM(C5+C14+C21+C25) -> 6571000 | D29: =SUM(D5+D14+D21+D25) -> 12423318 | E29: =SUM(E5+E14+E21+E25) -> 5852318

Sheet 5.tábla (2)
A3: MŰKÖDÉSI KIADÁSOK ÖNKORMÁNYZAT, HIVATAL BONTÁSBAN 2017. ÉV
A5: MEGNEVEZÉS | B5: 2017. évi eredeti ei. | C5: 2017. évi módosított ei. I. | D5: Eltérés
A6: I. Közös Önkormányzati Hivatal költségvetése
A7: 1. Személyi juttatás | B7: 248441476 | C7: 254177426 | D7: =C7-B7 -> 5735950
A8: 2. Munkaadót terhelő járulékok | B8: 59971194 | C8: 62183686 | D8: =C8-B8 -> 2212492
A9: 3. Dologi kiadások | B9: =SUM(B10:B14) -> 73251644 | C9: =SUM(C10:C14) -> 76141092 | D9: =C9-B9 -> 2889448
A10: Igazgatás dologi Balatonfüred | B10: =58640000+29624 -> 58669624 | C10: 61559072 | D10: =C10-B10 -> 2889448
A11: Telephelyek dologi | B11: 1600000 | C11: 1600000 | D11: =C11-B11 -> 0
A12: Családi iroda | B12: 403000 | C12: 403000 | D12: =C12-B12 -> 0
A13: Közösségi Ház | B13: 9000000 | C13: 9000000 | D13: =C13-B13 -> 0
A14: Befizetendő áfa | B14: 3579020 | C14: 3579020 | D14: =C14-B14 -> 0
A15: 4.1. Ellátottak pénzbeli juttatásai Balatonfüred | B15: =B16 -> 2000000 | C15: =C16 -> 2000000 | D15: =C15-B15 -> 0
A16: Rendszeres gyermekvédelmi támogatás | B16: 2000000 | C16: 2000000 | D16: =C16-B16 -> 0
A17: 4.2. Ellátottak pénzbeli juttatásai telephelyek | B17: =SUM(B18:B18) -> 394400 | C17: =SUM(C18:C18) -> 394400 | D17: =C17-B17 -> 0
A18: Rendszeres gyermekvédelmi támogatás | B18: 394400 | C18: 394400 | D18: =C18-B18 -> 0
A19: 5. Egyéb működési célú kiadások áh-n belülre | B19: 0 | C19: 2105398 | D19: =C19-B19 -> 2105398
A20: Hivatal működési kiadások összesen: | B20: =B19+B17+B15+B9+B8+B7 -> 384058714 | C20: =C19+C17+C15+C9+C8+C7 -> 397002002 | D20: =C20-B20 -> 12943288
A21: 6. Saját hatáskörű fejlesztések | B21: =SUM(B22:B23) -> 3000000 | C21: =SUM(C22:C23) -> 7861817 | D21: =C21-B21 -> 4861817
A22: Informatikai fejlesztések (kisértékű, nagyértékű) | B22: 2000000 | C22: 6861817 | D22: =C22-B22 -> 4861817
A23: Kisértékű tárgyi eszközök | B23: 1000000 | C23: 1000000 | D23: =C23-B23 -> 0
A24: I. Közös Önkormányzati Hivatal összesen: | B24: =B21+B20 -> 387058714 | C24: =C21+C20 -> 404863819 | D24: =C24-B24 -> 17805105
A26: MEGNEVEZÉS | B26: 2017. évi eredeti ei. | C26: 2017. évi módosított ei. I. | D26: Eltérés
A27: II. Önkormányzat költségvetése
A28: 1. Személyi juttatások | B28: =SUM(B29:B37) -> 70721753 | C28: =SUM(C29:C41) -> 82159964 | D28: =C28-B28 -> 11438211
A29: Képviselő-testület személyi juttatásai | B29: 25264401 | C29: 27226756 | D29: =C29-B29 -> 1962355
A30: Közfoglalkoztatás | B30: 23149644 | C30: 20540693 | D30: =C30-B30 -> -2608951
A31: Nyári diákmunka | B31: 0 | D31: =C31-B31 -> 0
A32: BISZ december havi bér | B32: 2951508 | C32: 2951508 | D32: =C32-B32 -> 0
A33: Megbízási díjak | B33: 9506200 | C33: 9851800 | D33: =C33-B33 -> 345600
A34: Városi Kitüntetések | B34: 1150000 | C34: 1070000 | D34: =C34-B34 -> -80000
A35: Ösztöndíjak | B35: 5800000 | C35: 5800000 | D35: =C35-B35 -> 0
A36: Rendezvényekhez kapcsolódó személyi | B36: 2400000 | C36: =10363368-500000 -> 9863368 | D36: =C36-B36 -> 7463368
A37: Idősek napja ajándék | B37: 500000 | C37: 500000 | D37: =C37-B37 -> 0
A38: KÖFOP-1.2.1. ASP központhoz való csatlakozás | C38: 339106 | D38: =C38-B38 -> 339106
A39: TOP-1.2.1-15 Széchényi Strand turisztikai infrastruktúra fejlesztés | C39: 85587 | D39: =C39-B39 -> 85587
A40: TOP-4.1.1-15 Egészségügyi alapellátás fejlesztése | C40: 199038 | D40: =C40-B40 -> 199038
A41: TOP-1.1.2-15 Balatonfüred és Balatonalmádi közös helyi foglalkoztatási együttműködés | C41: 3732108 | D41: =C41-B41 -> 3732108
A42: 2. Munkaadót terhelő járulékok és szociális hozzájárulási adó | B42: =SUM(B43:B50) -> 12636881 | C42: =SUM(C43:C54) -> 18039937 | D42: =SUM(D43:D54) -> 5403056
A43: Képviselő-testület személyi juttatásai | B43: 5775168 | C43: 6338827 | D43: =C43-B43 -> 563659
A44: Közfoglalkoztatás | B44: 2585077 | C44: 2298092 | D44: =C44-B44 -> -286985
A45: Diákmunka | B45: 0 | D45: =C45-B45 -> 0
A46: BISZ december havi bér | B46: 829715 | C46: 829715 | D46: =C46-B46 -> 0
A47: Megbízási díjak | B47: 1927781 | C47: 1997141 | D47: =C47-B47 -> 69360
A48: Városi Kitüntetések | B48: 253000 | C48: 253000 | D48: =C48-B48 -> 0
A49: Rendezvényekhez kapcsolódó járulék és kifizetői adó | B49: 1047840 | C49: =5164042-218300 -> 4945742 | D49: =C49-B49 -> 3897902
A50: Idősek napja ajándék | B50: 218300 | C50: 218300 | D50: =C50-B50 -> 0
A51: KÖFOP-1.2.1. ASP központhoz való csatlakozás | C51: 74603 | D51: =C51-B51 -> 74603
A52: TOP-1.2.1-15 Széchényi Strand turisztikai infrastruktúra fejlesztés | C52: 23108 | D52: =C52-B52 -> 23108
A53: TOP-4.1.1-15 Egészségügyi alapellátás fejlesztése | C53: 53740 | D53: =C53-B53 -> 53740
A54: TOP-1.1.2-15 Balatonfüred és Balatonalmádi közös helyi foglalkoztatási együttműködés | C54: 1007669 | D54: =C54-B54 -> 1007669
A55: MEGNEVEZÉS | B55: 2017. évi eredeti ei. | C55: 2017. évi módosított ei. I. | D55: Eltérés
A56: 3. Dologi kiadások | B56: =SUM(B57:B90) -> 754991434 | C56: =SUM(C57:C90) -> 1136820370 | D56: =C56-B56 -> 381828936
A57: Építés és településfejlesztés | B57: 4000000 | C57: 4279400 | D57: =C57-B57 -> 279400
A58: Városüzemeltetés | B58: 340420445 | C58: 388625483 | D58: =C58-B58 -> 48205038
A59: Idegenforgalmi feladatok | B59: 40940000 | C59: 33080218 | D59: =C59-B59 -> -7859782
A60: Oktatás, nevelés | B60: 2500000 | C60: 1531202 | D60: =C60-B60 -> -968798
A61: Közművelődés | B61: 13085000 | C61: 17121155 | D61: =C61-B61 -> 4036155
A62: Sport | B62: 4700000 | C62: 4540080 | D62: =C62-B62 -> -159920
A63: TV és újság | B63: 800000 | C63: 800000 | D63: =C63-B63 -> 0
A64: Lakásgazdálkodás | B64: 11000000 | C64: 11803164 | D64: =C64-B64 -> 803164
A65: Vagyonhasznosítás | B65: 36358000 | C65: 39645721 | D65: =C65-B65 -> 3287721
A66: ÁFA befizetés | B66: 48570329 | C66: 75577681 | D66: =C66-B66 -> 27007352
A67: Munkaegészségügyi ellát | B67: 1200000 | C67: 1514600 | D67: =C67-B67 -> 314600
A68: Házi segítségnyújtás | B68: 780000 | C68: 780000 | D68: =C68-B68 -> 0
... A74: Autóbusz pályaudvar pályázat dologi kiadás | B74: 254000 | C74: 254000 | D74: =C74-B74 -> 0
A75: TOP-4.1.1.-15 VE Egészségügyi alapellátás infrastruktúrális fejlesztése pályázat előkészítés | C75: 1397000 | D75: =C75-B75 -> 1397000
A76: TOP-4.2.1.-15 Szoc. Alapszolg. Fejlesztése pályázat előkészítés | D76: =C76-B76 -> 0
A77: GINOP-7.1.3-2015 Gyógyhely fejlesztés előkészítés | B77: 889000 | C77: 0 | D77: =C77-B77 -> -889000
A78: KÖFOP-1.2.1. ASP központhoz való csatlakozás | C78: 4050001 | D78: =C78-B78 -> 4050001
A79: TOP-1.1.1.-15 Ipari parkok, iparterületek fejlesztése pályázat előkészítés | B79: 1016000 | C79: 8736000 | D79: =C79-B79 -> 7720000
A80: TOP-1.1.2-15 Balatonfüred és Balatonalmádi közös helyi foglalkoztatási együttműködés | C80: 24900000 | D80: =C80-B80 -> 24900000
A81: TOP-2.1.1.-15 Barnamezős területek rehabilitációja pályázat előkészítés | D81: =C81-B81 -> 0
A82: TOP-2.1.3.-15 Csapadékcsatorna hálózat fejlesztése pályázat előkészítés | D82: =C82-B82 -> 0
A83: TOP-1.2.1-15 Széchenyi strand fejlesztése pályázat előkészítés | B83: 635000 | C83: 3685000 | D83: =C83-B83 -> 3050000
A84: TOP-3.2.2-15 -VE1-2016-00002 helyi adottságokhoz illeszkedő megújuló energiaforrások kiaknázására irányuló energiaellátás biztosítása pályázat előkészítés | D84: =C84-B84 -> 0
A85: TOP-2.1.2-15 Zöld város kialakítása pályázat előkészítés | B85: 1016000 | C85: 1016000 | D85: =C85-B85 -> 0
A86: HU07-0037-A1-2013 Zsinagóga pályázat dologi kiadások (nyilvánosság, könyvvizsgálat, projektmenedzsment) | B86: 16357600 | C86: 17437735 | D86: =C86-B86 -> 1080135
A87: TOP CLLD pályázat közösségi fejlesztések megvalósítására irányuló helyi akciócsoportok megalakítására és azok regisztrációjára vonatkozó felhívás | B87: 1270000 | C87: 1270000 | D87: =C87-B87 -> 0
A88: Vizes VB parkolófejlesztés | B88: 3810000 | C88: 7080000 | D88: =C88-B88 -> 3270000
A89: Vizes VB létesítményfejlesztés | B89: 71250500 | C89: 333055409 | D89: =C89-B89 -> 261804909
A90: Beruházásokhoz kapcsolódó dologi kiadások | B90: 9343000 | C90: 7814920 | D90: =C90-B90 -> -1528080
A92: 4. Ellátottak pénzbeli juttatásai | B92: =SUM(B93:B100) -> 29200000 | C92: =SUM(C93:C100) -> 28702500 | D92: =C92-B92 -> -497500
A93: Rendkívüli gyermekvédelmi támogatás | B93: 17500000 | C93: 17000000 | D93: =C93-B93 -> -500000
A94: Átm szociális segély (kölcsön) | B94: 3000000 | C94: 3000000 | D94: =C94-B94 -> 0
A95: Települési ápolási támogatás | B95: 2000000 | C95: 2000000 | D95: =C95-B95 -> 0
A96: Temetési segély | B96: 500000 | C96: 500000 | D96: =C96-B96 -> 0
A97: Köztemetés | B97: 500000 | C97: 500000 | D97: =C97-B97 -> 0
A98: Rendkívüli települési támogatás | B98: 1500000 | C98: 1500000 | D98: =C98-B98 -> 0
A99: Települési gyógyszertámogatás | B99: 2000000 | C99: 2000000 | D99: =C99-B99 -> 0
A100: Települési lakhatási támogatás | B100: 2200000 | C100: 2202500 | D100: =C100-B100 -> 2500
A101: 5. Egyéb működési célú kiadások | B101: =B102+B103+B104+B105+B106+B107+B108+B113+B114 -> 1009956391 | C101: =C102+C103+C104+C105+C106+C107+C108+C113+C114 -> 995609633 | D101: =C101-B101 -> -14346758
A102: 1. Elvonások, befizetések | B102: 1080 | C102: 1080 | D102: =C102-B102 -> 0
A103: 2. Működési célú garancia- és kezességvállalásból származó kifizetés államháztartáson belülre | D103: =C103-B103 -> 0
A104: 3. Működési célú visszatérítendő támogatások, kölcsönök nyújtása áh-n belülre | D104: =C104-B104 -> 0
A105: 4. Működési célú visszatérítendő támogatások, kölcsönök törlesztése áh-n belülre | D105: =C105-B105 -> 0
A106: 5. Egyéb működési célú támogatások áh-n belülre | B106: ='5b. sz. tábla (2)'!B4 -> 513966253 | C106: ='5b. sz. tábla (2)'!C4 -> 497594495 | D106: =C106-B106 -> -16371758
A107: 6. Működési célú garancia- és kezességvállalásból származó kifizetés államháztartáson kívülre | D107: =C107-B107 -> 0
A108: 7. Működési célú visszatérítendő támogatások, kölcsönök nyújtása áh-n kívülre | C108: =SUM(C109:C112) -> 0 | D108: =C108-B108 -> 0
A109: Balaton Best Nonprofit Kft. TDM pályázat önrész megelőlegezés | D109: =C109-B109 -> 0
A110: Turisztikai Egyesület TDM pályázat önrész megelőlegezés | D110: =C110-B110 -> 0
...

Sheet 5b. sz. tábla  (2)
A2: TÁMOGATÁSOK 2017. ÉV
A3: MEGNEVEZÉS | B3: 2017. évi eredeti ei. | C3: 2017. évi módosított ei. I. | D3: Eltérés
A4: Működési célú támogatások áh-n belülre: | B4: =SUM(B5:B11) -> 513966253 | C4: =SUM(C5:C11) -> 497594495 | D4: =C4-B4 -> -16371758
A5: Országos Mentőszolgálat támogatás
A6: Veszprém Megyei Rendőr-főkapitányság | C6: 366920 | D6: =C6-B6 -> 366920
A7: BURSA Hungarica ösztöndíj | B7: 1350000 | C7: 1350000 | D7: =C7-B7 -> 0
A8: Balatonfüredi Többcélú Társulás BSZAK | B8: 126987697 | C8: 117044468 | D8: =C8-B8 -> -9943229
A9: Közoktatási Intézményfenntartó Társulás Óvodák | B9: 385628556 | C9: 378653425 | D9: =C9-B9 -> -6975131
A10: Munkaügyi Központ BISZ előleg visszautalás | C10: 179682 | D10: =C10-B10 -> 179682
A11: Uniós pályázat szabálytalanság miatti visszafizetés | D11: =C11-B11 -> 0
A12: Működési célú támogatások áh-n kívülre: | B12: =SUM(B13:B82) -> 495989058 | C12: =SUM(C13:C84) -> 498014058 | D12: =C12-B12 -> 2025000
A13: Önkéntes Tűzoltóság | B13: 11500000 | C13: 11500000 | D13: =C13-B13 -> 0
A14: Vagyonvédelmi Alapítvány | B14: 1500000 | C14: 1500000 | D14: =C14-B14 -> 0
A15: Váll. Fejl. Közalapítvány | B15: 1500000 | C15: 1500000 | D15: =C15-B15 -> 0
A16: ÉNYKK (Balaton Volán jogutódja) | B16: 23656200 | C16: 23656200 | D16: =C16-B16 -> 0
A17: Városért Közalapítvány | B17: 1520000 | C17: 1520000 | D17: =C17-B17 -> 0
A18: Balatonfüred Város Közalapítvány Tempevölgy | B18: 2500000 | C18: 2500000 | D18: =C18-B18 -> 0
A19: Kovászna Testvérvárosi Egyesület | B19: 200000 | C19: 200000 | D19: =C19-B19 -> 0
A20: Opatija Testvérvárosi Egyesület | B20: 200000 | C20: 200000 | D20: =C20-B20 -> 0
A21: Kouvala Testvérvárosi Egyesület | B21: 400000 | C21: 400000 | D21: =C21-B21 -> 0
A22: Germering Testvérvárosi Egyesület | B22: 200000 | C22: 200000 | D22: =C22-B22 -> 0
A23: QUASIMODO Alapítvány | B23: 2000000 | C23: 2000000 | D23: =C23-B23 -> 0
A24: Fordítóház Alapítvány | B24: 2100000 | C24: 2100000 | D24: =C24-B24 -> 0
... A42: Balatonfüredi Turisztikai Egyesület (TDM) | B42: 22500000 | C42: 22500000 | D42: =C42-B42 -> 0
A43: Balatonfüredi Turisztikai Egyesület (TDM pályázat önrész 2016. évi) | D43: =C43-B43 -> 0
A44: Művészeti együttesek nemzetközi kapcsolattartás | B44: 874250 | C44: 874250 | D44: =C44-B44 -> 0
A45: Reformkori Hagyományőrzők Egyesülete | B45: 300000 | C45: 300000 | D45: =C45-B45 -> 0
A46: Advent fényei | B46: 450000 | C46: 450000 | D46: =C46-B46 -> 0
A47: Művészeti együttesek formaruha pályázat | B47: 400000 | C47: 400000 | D47: =C47-B47 -> 0
A48: "S.O.S. és Könyvelő" Szociálisan Rászorultakat Segítő Kft | B48: 8178240 | C48: 8178240 | D48: =C48-B48 -> 0
A49: Balaton Mozi | B49: 1200000 | C49: 1200000 | D49: =C49-B49 -> 0
A50: Probió Zrt. Virágos Füred | B50: 3412400 | C50: 3412400 | D50: =C50-B50 -> 0
A53: MEGNEVEZÉS | B53: 2017. évi eredeti ei. | C53: 2017. évi módosított ei. I. | D53: Eltérés
A54: Sportesemények támogatása: Magyar Vitorlás Szövetség Kékszalag Fesztivál | B54: 1600000 | C54: 1600000 | D54: =C54-B54 -> 0
A55: Sportesemények támogatása: Nemzetközi ultramaraton | B55: 250000 | C55: 250000 | D55: =C55-B55 -> 0
A56: Sportesemények támogatása: Úszó Világkupa | B56: 7900000 | C56: 7900000 | D56: =C56-B56 -> 0
A57: Balatonfüred Kulturális Nonprofit Kft. | B57: 161036000 | C57: 162536000 | D57: =C57-B57 -> 1500000
A58: Múzsák Egyesülete Sirály táncfesztivál | B58: 700000 | C58: 700000 | D58: =C58-B58 -> 0
A59: Balatonfüredi Néptánc Egyesület | B59: 1000000 | C59: 1000000 | D59: =C59-B59 -> 0
A60: Rákóczy Szövetség | B60: 200000 | C60: 200000 | D60: =C60-B60 -> 0
A61: MVM Sportegyesület Riói olimpia felkészülés | B61: 800000 | C61: 800000 | D61: =C61-B61 -> 0
A62: Füred Studió Kft. | B62: 21614000 | C62: 24114000 | D62: =C62-B62 -> 2500000
A63: Balatonfüredi Református Egyház (Református Iskola) | B63: 5411000 | C63: 5411000 | D63: =C63-B63 -> 0
A64: Siloam Református Otthon támogatása | B64: 1400000 | C64: 1400000 | D64: =C64-B64 -> 0
A65: Konferencia Központ Kft. | B65: 96200000 | C65: 96200000 | D65: =C65-B65 -> 0
... A68: Balaton Best Nonprofit Kft. | B68: 3750000 | C68: 3750000 | D68: =C68-B68 -> 0
A69: Balaton Best Nonprofit Kft. (TDM pályázati önrész 2016. évi) | D69: =C69-B69 -> 0
A70: Almási László Borok háza | B70: 150000 | C70: 150000 | D70: =C70-B70 -> 0
A71: Egyéb sporttámogatás | B71: 4000000 | C71: 4000000 | D71: =C71-B71 -> 0
A72: Balatoni Kajak- Kenu Evezős és Vitorlás SE | B72: 100000 | C72: 100000 | D72: =C72-B72 -> 0
A73: Acro Dance Sporttánc Egyesület | B73: 0 | C73: 0 | D73: =C73-B73 -> 0
A74: Magyar Judó Szövetség Veterán Judo Európa Bajnokság | B74: 0 | C74: 0 | D74: =C74-B74 -> 0
A75: Védett szőlők támogatása | B75: 840756 | C75: 840756 | D75: =C75-B75 -> 0
A76: Lóczy Lajos Alapítvány | B76: 150000 | C76: 350000 | D76: =C76-B76 -> 200000
A77: Maros Megye Cserkészeiért Egyesület (Petőfi szobor állítása) | B77: 0 | C77: 100000 | D77: =C77-B77 -> 100000
A78: Füred Dixiland Band támogatása | B78: 0 | C78: 1000000 | D78: =C78-B78 -> 1000000
A79: Balatonfüred - Szőlősi Hegyközség viharkár támogatása 2016., 2017. évi | B79: 3570000 | C79: 3570000 | D79: =C79-B79 -> 0
A80: Cimbora Alapítvány az Egészséges és Kulturált Gyermekekért | B80: 1000000 | C80: 1000000 | D80: =C80-B80 -> 0
A81: Szent Benedek Gimnázium | B81: 2398643 | C81: 2463643 | D81: =C81-B81 -> 65000
... A84: DÓR Sporegyesület | B84: 0 | C84: 150000 | D84: =C84-B84 -> 150000
A85: Összesen: | B85: =B12+B4 -> 1009955311 | C85: =C12+C4 -> 995608553 | D85: =C85-B85 -> -14346758

Sheet 6.sz.tábla  (4)
A3: INTÉZMÉNYI FELÚJÍTÁSOK 2017. ÉV
A4: Intézmény / munkanemek | B4: 2017. évi eredeti ei. | C4: 2017. évi módosított ei. I. | D4: Eltérés
A6: 1. Park u-i óvoda I/a.
A7: Hátsó nagy kapu javítása(2015. évi kötváll.)
A8: Udvari betonfelület eltakarása | B8: 200000 | C8: 200000
A9: Összesen: | B9: =SUM(B8) -> 200000 | C9: =SUM(C8) -> 200000 | D9: =C9-B9 -> 0
D10: =C10-B10 -> 0
A11: 2. Arácsi óvoda - Iskolalépcső u. I/c. | D11: =C11-B11 -> 0
A12: Posta épület helyének tereprendezése, öntözési lehetőséggel 2016. évről | B12: 4500000 | C12: 4500000 | D12: =C12-B12 -> 0
A13: Udvari fajátékok felújítása, festése 2016. évről | B13: 500000 | C13: 500000 | D13: =C13-B13 -> 0
A14: Összesen: | B14: =SUM(B12:B13) -> 5000000 | C14: =SUM(C12:C13) -> 5000000 | D14: =C14-B14 -> 0
D15: =C15-B15 -> 0
A16: 3. Hunyadi u. óvoda I/b. | D16: =C16-B16 -> 0
A17: NÉBIH által jelzett hiányosságok rendezése | C17: 1000000 | D17: =C17-B17 -> 1000000
A18: Konyhai mosogatók cseréje (nagyüzemi) 2016. évről | B18: 500000 | C18: 500000 | D18: =C18-B18 -> 0
A19: Udvar rendezése, füvesítés 2016. évről | B19: 1000000 | C19: 1000000 | D19: =C19-B19 -> 0
A20: Összesen: | B20: =SUM(B17:B19) -> 1500000 | C20: =SUM(C17:C19) -> 2500000 | D20: =C20-B20 -> 1000000
A22: 4. Noszlopy G. u. óvoda III. | D22: =C22-B22 -> 0
A23: Terasz lapozás, járda; terasz kerítés 2016. évi | B23: 3600000 | C23: 3600000 | D23: =C23-B23 -> 0
A24: NÉBIH által jelzett hiányosságok rendezése | C24: 200000 | D24: =C24-B24 -> 200000
A25: 4. vizesblokk felújítása 2016. évről | B25: 2700000 | C25: 2700000 | D25: =C25-B25 -> 0
A26: Terasz árnyékoló berendezés csere 2016. évről | B26: 12000000 | C26: 12000000 | D26: =C26-B26 -> 0
A27: Villamos elosztó szekrény felújítása | B27: 2500000 | C27: 2500000 | D27: =C27-B27 -> 0
A28: udvar füvesítése | B28: 400000 | C28: 400000 | D28: =C28-B28 -> 0
A29: Keverőszelepek cseréje | B29: 180000 | C29: 180000 | D29: =C29-B29 -> 0
A30: Solar rendszer beüzemelése | B30: 2500000 | C30: 2500000 | D30: =C30-B30 -> 0
A31: Hőközponti vez. beüzemelése | B31: 1500000 | C31: 1500000 | D31: =C31-B31 -> 0
A32: Összesen: | B32: =SUM(B23:B31) -> 25380000 | C32: =SUM(C23:C31) -> 25580000 | D32: =C32-B32 -> 200000
A34: 5. Bölcsőde | D34: =C34-B34 -> 0
A35: Terasz lapozás, járda; terasz kerítés 2016. évi | B35: 3600000 | C35: 3600000 | D35: =C35-B35 -> 0
A36: udvar füvesítés | B36: 400000 | C36: 400000 | D36: =C36-B36 -> 0
A37: 2 db tátszóeszköz szabvány szerinti esési felület kialakítása | B37: 2210000 | C37: 2210000 | D37: =C37-B37 -> 0
A38: Összesen: | B38: =SUM(B35:B37) -> 6210000 | C38: =SUM(C35:C37) -> 6210000 | D38: =C38-B38 -> 0
A42: Intézmény / munkanemek | B42: 2017. évi eredeti ei. | C42: 2017. évi módosított ei. I. | D42: Eltérés
A43: 6. Kossuth u. Óvoda | D43: =C43-B43 -> 0
A44: udvar fakerítés eleminek cseréje a Könyvtár felöl 2016. évről | B44: 1000000 | C44: 1000000 | D44: =C44-B44 -> 0
A45: A csúszdák védőburkolatának szélesítése 2016. évről | B45: 350000 | C45: 350000 | D45: =C45-B45 -> 0
A46: öntözési mellékmérő 2016. évről | B46: 100000 | C46: 100000 | D46: =C46-B46 -> 0
A47: Bejárati ajtóportál felújítása | B47: 2500000 | C47: 2500000 | D47: =C47-B47 -> 0
A48: Összesen: | B48: =SUM(B44:B47) -> 3950000 | C48: =SUM(C44:C47) -> 3950000 | D48: =C48-B48 -> 0
A50: 7. Mogyoró u. Óvoda | D50: =C50-B50 -> 0
A51: Arácsi Óvoda költözése miatti munkálatok ( 3 fázisú mosogató, gázboyler beüzemelése, duguláselhárítás) | C51: 600000 | D51: =C51-B51 -> 600000
A52: Összesen: | B52: =SUM(B51:B51) -> 0 | C52: =SUM(C51:C51) -> 600000 | D52: =C52-B52 -> 600000
A54: 8. Általános Iskola Eötvös Lóránd
A55: sportcsarnok áramellátásának biztosítása érdekében kábel és álmennyezet elhelyezés | C55: 1106065 | D55: =C55-B55 -> 1106065
A56: Alsós lépcsőház festése 2016. évről | B56: 450000 | C56: 450000 | D56: =C56-B56 -> 0
A57: emeleti tanári WC-k felújítása 2016. évről | B57: 1700000 | C57: 1700000 | D57: =C57-B57 -> 0
A58: Tantermek világítás korszerűsítése 2016. évről | B58: 2500000 | C58: 2500000 | D58: =C58-B58 -> 0
A59: Tantermek és folyosók festése 2016. évről | B59: 2850000 | C59: 2850000 | D59: =C59-B59 -> 0
A60: Konyha falfelújítás és festés 2016. évről | B60: 120000 | C60: 120000 | D60: =C60-B60 -> 0
A61: Sportpálya lejáró és kerítés 2016. évről | B61: 400000 | C61: 400000 | D61: =C61-B61 -> 0
A62: Folyosói burkolatcsere folytatása 2016. évről | B62: 500000 | C62: 500000 | D62: =C62-B62 -> 0
A63: Összesen: | B63: =SUM(B55:B62) -> 8520000 | C63: =SUM(C55:C62) -> 9626065 | D63: =C63-B63 -> 1106065
A65: 9. Református Általános Iskola | D65: =C65-B65 -> 0
A66: 1 db alsós tt. parketta+festés 2016. évi | B66: 2000000 | C66: 2000000 | D66: =C66-B66 -> 0
A67: 2 db alsós terem világítása 2016. évről | B67: 1000000 | C67: 1000000 | D67: =C67-B67 -> 0
A68: műfüves pálya levezető út burkolás , vízelvezetés 2016. évről | B68: 2000000 | C68: 2000000 | D68: =C68-B68 -> 0
A69: Összesen: | B69: =SUM(B66:B68) -> 5000000 | C69: =SUM(C66:C68) -> 5000000 | D69: =C69-B69 -> 0
A71: 10. Általános Iskola Radnóti M. | D71: =C71-B71 -> 0
A72: Vihar rongált előtetők javítása 2016. évről | B72: 500000 | C72: 500000 | D72: =C72-B72 -> 0
A73: Sportpálya vonal festése (aszf) (2015. évi kötváll.) | D73: =C73-B73 -> 0
A74: Összesen: | B74: =SUM(B72:B73) -> 500000 | C74: =SUM(C72:C73) -> 500000 | D74: =C74-B74 -> 0
A76: 11. Általános Iskola Fekete I. | D76: =C76-B76 -> 0
A77: Alsó két teremben táblák áthelyezése | D77: =C77-B77 -> 0
A78: Összesen: | B78: =SUM(B77:B77) -> 0 | C78: =SUM(C77:C77) -> 0 | D78: =C78-B78 -> 0
A79: Intézmény / munkanemek | B79: 2017. évi eredeti ei. | C79: 2017. évi módosított ei. I. | D79: Eltérés
A80: 12. Ferencsik János Zeneiskola | D80: =C80-B80 -> 0
A81: Épület lábazat javítása 2016. évről | B81: 400000 | C81: 400000 | D81: =C81-B81 -> 0
A82: Beázott falfelület javítása (2015. évi kötváll.) | D82: =C82-B82 -> 0
A83: Összesen: | B83: =SUM(B81:B82) -> 400000 | C83: =SUM(C81:C82) -> 400000 | D83: =C83-B83 -> 0
A85: 14. Lóczy L. Gimnázium
A86: Belső udvar eresz javítás 2016. évről | B86: 400000 | C86: 400000 | D86: =C86-B86 -> 0
A87: Linóleum padló felújítás | D87: =C87-B87 -> 0
A88: Labdafogó háló felszerelése | B88: 1216000 | C88: 1216000 | D88: =C88-B88 -> 0
A89: Összesen | B89: =SUM(B86:B88) -> 1616000 | C89: =SUM(C86:C88) -> 1616000 | D89: =C89-B89 -> 0
A91: 15. Közösségi Ház | D91: =C91-B91 -> 0
A92: Hőközpont kering. sziv. csere | B92: 226000 | C92: 226000 | D92: =C92-B92 -> 0
A93: Összesen: | B93: =SUM(B92) -> 226000 | C93: =SUM(C92) -> 226000 | D93: =C93-B93 -> 0
D94: =C94-B94 -> 0
A95: 16. BSZAK | D95: =C95-B95 -> 0
A96: Összesen: | D96: =C96-B96 -> 0
D97: =C97-B97 -> 0
A98: 17. Szakorvosi Rendelő Intézet | D98: =C98-B98 -> 0
A99: Folyadékhűtő berendezés csere | B99: 4380000 | C99: 4380000 | D99: =C99-B99 -> 0
A100: Összesen: | B100: =SUM(B99) -> 4380000 | C100: =SUM(C99) -> 4380000 | D100: =C100-B100 -> 0
A102: 18. Városi Könyvtár | D102: =C102-B102 -> 0
A103: Összesen: | B103: =SUM(B102) -> 0 | C103: =SUM(C102) -> 0 | D103: =SUM(D102) -> 0
A106: 22. Hivatali épület | D106: =C106-B106 -> 0
A107: Irodák felújítása | B107: 4000000 | C107: 4000000 | D107: =C107-B107 -> 0
A108: 2013. évi kötelezettségvállalás | D108: =C108-B108 -> 0
A109: Velux roló csere, felújítása | B109: 200000 | C109: 200000 | D109: =C109-B109 -> 0
A110: Összesen: | B110: =SUM(B107:B109) -> 4200000 | C110: =SUM(C107:C109) -> 4200000 | D110: =C110-B110 -> 0
A112: 23. Vaszary villa, Jókai Múzeum állagmegóvás | D112: =C112-B112 -> 0
A113: Összesen: | B113: =SUM(B112) -> 0 | C113: =SUM(C112) -> 0 | D113: =C113-B113 -> 0
A115: 24. Konferencia Központ | D115: =C115-B115 -> 0
A116: Összesen: | B116: 0 | C116: 0 | D116: =C116-B116 -> 0
A118: 25. Tartalék | B118: 17057339 | C118: 15257339 | D118: =C118-B118 -> -1800000
A119: 26. Lakásfelújítás2017 évi | B119: 9000000 | C119: 9000000 | D119: =C119-B119 -> 0
A120: 27. Lakásfelújítás (2016. évi kötváll. | B120: 0 | C120: 0 | D120: =C120-B120 -> 0
A121: Mindösszesen: | B121: =B119+B110+B103+B100+B96+B93+B89+B74+B69+B63+B52+B48+B38+B32+B20+B14+B9+B83+B118+B116+B113+B78+B120 -> 93139339 | C121: =C119+C110+C103+C100+C96+C93+C89+C74+C69+C63+C52+C48+C38+C32+C20+C14+C9+C83+C118+C116+C113+C78+C120 -> 94245404 | D121: =C121-B121 -> 1106065
...

Sheet 7. sz. tábla 1
A1: FELHALMOZÁSI KIADÁSOK 2017. ÉV
A2: Megnevezés | B2: 2017. évi eredeti ei. | C2: 2017. évi módosított ei. I. | D2: Eltérés
A3: I. Kötelezettséggel terhelt fejlesztések
A4: Savanyúvizes kutak védterület kijelőlése (340/2007 sz. hat.) hidrogeológiai geodéziai anyag készítése | B4: 636000 | C4: 636000 | D4: =C4-B4 -> 0
A5: Tervek, megvalósítási tanulmányok, pályázatok | B5: 2921000 | C5: 2921000 | D5: =C5-B5 -> 0
A6: KDOP-2.1.1/D-12 Turisztikai attrakciók és szolgáltatások fejlesztése | B6: 445000 | C6: 0 | D6: =C6-B6 -> -445000
A7: Útépítések 2016. évi I. ütem | B7: 64063000 | C7: 64063000 | D7: =C7-B7 -> 0
A8: Zsinagóga építés | B8: 183166561 | C8: 177126595 | D8: =C8-B8 -> -6039966
A9: P.Horváth Á. U. járda tervezési ktg. | B9: 864000 | C9: 864000 | D9: =C9-B9 -> 0
A10: Ingatlan csere és telekalakítás 1249 hrsz-ú és 1248/26 hrsz-ú ingatlanok | B10: 976500 | C10: 976500 | D10: =C10-B10 -> 0
A11: Horváth Mihály u. közmű kiváltás | B11: 31802000 | C11: 29250000 | D11: =C11-B11 -> -2552000
A12: Utcai bútorok beszerzése (padok, szemetesek) | B12: 3183000 | C12: 3182774 | D12: =C12-B12 -> -226
A13: Arácsi úti ingatlanok vétel, csere 101-103 hrsz. | B13: 15192000 | C13: 15192000 | D13: =C13-B13 -> 0
A14: 072 hrsz-ú ingatlan megvásárlása 2016. évi ütem | B14: 50750000 | C14: 45111115 | D14: =C14-B14 -> -5638885
A15: Konferencia Központ Kft. Szabadtéri színpad felújítása | B15: 1905000 | C15: 1905000 | D15: =C15-B15 -> 0
... A32: Vizes VB parkolófejlesztés Zákonyi mélygarázs | B32: 1759750910 | C32: 1922666818 | D32: =C32-B32 -> 162915908
A33: I. összesen: | B33: =SUM(B4:B32) -> 2930202607 | C33: =SUM(C4:C32) -> 2796742379 | D33: =C33-B33 -> -133460228 | E33: =544469-D33 -> 134004697
A34: Megnevezés | B34: 2017. évi eredeti ei. | C34: 2017. évi módosított ei. I. | D34: Eltérés
A35: II. Javasolt fejlesztések | D35: =C35-B35 -> 0
A36: Beruházás előkészítő kiadások (tervezés, önrészek) | B36: 10000000 | C36: 2975726 | D36: =C36-B36 -> -7024274
A37: Útfelújítások 2017. I. ütem | B37: 109800000 | C37: 109800000 | D37: =C37-B37 -> 0
A38: Útfelújítások 2017. II. ütem | B38: 50000000 | C38: 50000000 | D38: =C38-B38 -> 0
A39: Szelektív hulladékgyűjtő sziget II. ütem | B39: 4000000 | C39: 4000000 | D39: =C39-B39 -> 0
A40: Balatoni Sellők szoborcsoport áthelyezés | B40: 5000000 | C40: 5000000 | D40: =C40-B40 -> 0
A41: Petőfi- Táncsics u., Öreghegyi u., Balaton u. kisajátítások | B41: 15000000 | C41: 15000000 | D41: =C41-B41 -> 0
A42: Felhagyott temetők (Papsoka, Katolikus, Zsidó) felújítása | B42: 15000000 | C42: 15000000 | D42: =C42-B42 -> 0
A43: Kisfaludy üzletház WC bővítés | B43: 18120000 | C43: 18120000 | D43: =C43-B43 -> 0
A44: Kisfaludy üzletház előtti közterület rendezése | B44: 8000000 | C44: 8621000 | D44: =C44-B44 -> 621000
A45: Lóczy L. u. 52. ingatlan felújítás | B45: 25400000 | C45: 25400000 | D45: =C45-B45 -> 0
A46: 1552/1 hrsz-ú ingatlan vásárlás csere útján (Kossuth u. 26/B) | B46: 36900000 | C46: 36900000 | D46: =C46-B46 -> 0
A47: Forgalomtechnikai feladatok tervezése | B47: 1291000 | C47: 1291000 | D47: =C47-B47 -> 0
... A49: GINOP-7.1.6-16 Világörökségi helyszínek fejlesztése pályázathoz előkészítési ktg.-ek (3/2017.(I.20.)) | B49: 9093200 | C49: 9093200 | D49: =C49-B49 -> 0
A50: Zákonyi u. csapadékvíz elvezetés | C50: 2489200 | D50: =C50-B50 -> 2489200
A51: Balatontourist vizisí tervezés hozzájárulás | B51: 762000 | C51: 762000 | D51: =C51-B51 -> 0
A52: 359/2016. (XII.15.) új gépkocsi vásárlás | B52: 7936925 | C52: 7936925 | D52: =C52-B52 -> 0
A53: 377/2016.(XII.15.) településtervezési ktg | B53: 1270000 | C53: 10096500 | D53: =C53-B53 -> 8826500
A54: Úttervek készítése 2017. | B54: 15000000 | C54: 15000000 | D54: =C54-B54 -> 0
A55: 1818/2016. (XII.22.) Korm.határozat alapján megítélt támogatásból Hivatal B épület felújítás | B55: 60000000 | C55: 60000000 | D55: =C55-B55 -> 0
A56: 1818/2016. (XII.22.) Korm.határozat alapján megítélt támogatásból Arácsi Óvoda felújítás | B56: 50000000 | C56: 50000000 | D56: =C56-B56 -> 0
A57: Kamerarendszer fejlesztése | B57: 35034070 | C57: 35034070 | D57: =C57-B57 -> 0
A58: Keretösszeg fejlesztésekre | B58: 100000000 | C58: 107864985 | D58: =C58-B58 -> 7864985
A59: 71-es út forgalmi rend felülvizsgálat | B59: 5000000 | C59: 5000000 | D59: =C59-B59 -> 0
A60: Autóbusz várók telepítése 2017. | B60: 7500000 | C60: 7500000 | D60: =C60-B60 -> 0
A61: Információs táblarendszer | B61: 5000000 | C61: 5000000 | D61: =C61-B61 -> 0
A62: Radnóti csarnok járulékos munkái + kert | B62: 20000000 | C62: 20000000 | D62: =C62-B62 -> 0
... A74: Infromatikai fejlesztés, fénymásolók besz. Hivatalban | B74: 15000000 | C74: 12342483 | D74: =C74-B74 -> -2657517
A75: Füred Kemping műszaki felújítási munkák áfa | C75: 896092 | D75: =C75-B75 -> 896092
A76: Horgász Klubház előkészítés 403/16 hrsz-ú ingatlan | C76: 4038600 | D76: =C76-B76 -> 4038600
A77: Balatonfüred Bringapark | C77: 100000 | D77: =C77-B77 -> 100000
A78: Emléktábla Yacht Club 150 éves évforduló | C78: 406000 | D78: =C78-B78 -> 406000
A79: Tündérkert Óvoda mosogatógép | C79: 600000 | D79: =C79-B79 -> 600000
A80: EFOP-4.1.8-16-2017 Konyvtári intézményrendszer infrastruktúláis pályázat | C80: 3454400 | D80: =C80-B80 -> 3454400
A81: 4912 hrsz-ú ingatlanból vásárlás | C81: 164100 | D81: =C81-B81 -> 164100
A82: Arculati Kézikönyv | C82: 3810000 | D82: =C82-B82 -> 3810000
A83: TOP-1.1.1.-15 Ipari parkok, iparterületek fejlesztése | C83: 29000000 | D83: =C83-B83 -> 29000000
A84: KÖFOP -1.2.1. ASP központhoz való csatlakozás | C84: 1080000 | D84: =C84-B84 -> 1080000
A85: Ingatlan vásárlás (Spar lenti) | C85: 150000000 | D85: =C85-B85 -> 150000000
A86: Meglévő részesedések növeléséhez kapcsolódó kiadások: törzstőke emelés | B86: =SUM(B87:B90) -> 0 | C86: =SUM(C87:C90) -> 0 | D86: =C86-B86 -> 0
A87: Konferencia Központ | D87: =C87-B87 -> 0
A88: Füredkult Kft. | D88: =C88-B88 -> 0
A89: Gótika Kft. | D89: =C89-B89 -> 0
A90: BVSZK Balatonfüredi Vizisport és Szabadidő Központ Nonprofit Kft. | D90: =C90-B90 -> 0
A91: Részesedések beszerzése: | B91: =SUM(B92:B93) -> 21000000 | C91: =SUM(C92:C93) -> 21000000 | D91: =C91-B91 -> 0
A92: Aranyhíd Patika Bt. Részesedés | D92: =C92-B92 -> 0
A93: Üzletrész vásálás részletek | B93: 21000000 | C93: 21000000 | D93: =C93-B93 -> 0
A94: II. összesen: | B94: =SUM(B36:B86,B91) -> 808307195 | C94: =SUM(C36:C86,C91) -> 1011976281 | D94: =C94-B94 -> 203669086
A95: I+II. összesen: | B95: =B94+B33 -> 3738509802 | C95: =C94+C33 -> 3808718660 | D95: =C95-B95 -> 70208858
A96: Megnevezés | B96: 2017. évi eredeti ei. | C96: 2017. évi módosított ei. I. | D96: Eltérés
A97: III. Egyéb felhalmozási kiadások | D97: =C97-B97 -> 0
A98: Felhalmozási célú visszatérítendő támogatások, kölcsönök nyújtása áh-n kívülre | B98: =SUM(B99:B104) -> 314686968 | C98: =SUM(C99:C104) -> 515486968 | D98: =C98-B98 -> 200800000
A99: - tagi hitel Probio Zrt. | B99: 5200000 | C99: 5200000 | D99: =C99-B99 -> 0
A100: - tagi hitel Gótika Kft. | B100: 300000000 | C100: 490000000 | D100: =C100-B100 -> 190000000
A101: - Lakásépítés, -vásárlás kölcsön (dolgozói + lakáshoz jutás tám.) | B101: 9486968 | C101: 9486968 | D101: =C101-B101 -> 0
A102: - Társasház, Balatonfüred, Noszlopy Gáspár u. 14. | D102: =C102-B102 -> 0
A103: - Társasház, Balatonfüred, Noszlopy Gáspár u. 12. | D103: =C103-B103 -> 0
A104: - Társasház, Balatonfüred, Tamási Áron u. 27. | C104: 10800000 | D104: =C104-B104 -> 10800000
A105: Felhalmozási célú visszatérítendő támogatások, kölcsönök nyújtása áh-n belülre | D105: =C105-B105 -> 0
A106: Egyéb felhalmozási célú támogatások áh-n belülre | B106: =SUM(B107:B110) -> 2550000 | C106: =SUM(C107:C110) -> 2550000 | D106: =C106-B106 -> 0
A107: - Rendelőintézet műszerbeszerzés támogatása (orvos pályázati alap) | D107: =C107-B107 -> 0
A108: -Többcélú Társulás (BSZAK fejlesztési tám.) | B108: 800000 | C108: 800000 | D108: =C108-B108 -> 0
A109: - Közoktatási Társulás (óvodák fejlesztési tám.) | B109: 1750000 | C109: 1750000 | D109: =C109-B109 -> 0
A110: -Uniós támogatás visszafizetés | D110: =C110-B110 -> 0
A111: Egyéb felhalmozási célú támogatások áh-n kívülre | B111: =SUM(B113:B145) -> 371218364 | C111: =SUM(C112:C145) -> 384498407 | D111: =C111-B111 -> 13280043
A112: - Veszprém Kereszténységért Közhasznú Alapítvány Horváth Balázs broznz dombormű | C112: 100000 | D112: =C112-B112 -> 100000
A113: - Krutz Károly helyi védettség alatt álló épület felújítása (300/2010.és 39/2013.(II.07.)) | B113: 1500000 | C113: 1500000 | D113: =C113-B113 -> 0
A114: -Andrew John Prest Koloska u. 8. helyi védettség alatt álló épület felújítása 311/2015.(XII.17.) | B114: 500000 | C114: 500000 | D114: =C114-B114 -> 0
A115: -Hegyi Rita Dózsa György u. 1/a helyi védettség alatt álló épület felújítása 312/2015.(XII.17.) | B115: 340000 | C115: 340000 | D115: =C115-B115 -> 0
A116: -Pósvári Gábor Arácsi út 94. helyi védett épület felújítása tám. 314/2015. (XII.17.) | B116: 900000 | C116: 900000 | D116: =C116-B116 -> 0
A117: - Kovács Szilárdné Németh L. u. 3. helyi védett épület felújítása 318/2016.(X.27.) | B117: 1000000 | C117: 1000000 | D117: =C117-B117 -> 0
A118: -Szollősi Lajosné Bajcsy-Zs. u. 8. helyi védett épület felújítása 319/2016.(X.27.) | B118: 167000 | C118: 167000 | D118: =C118-B118 -> 0
A119: -Iglói Eszter Bfüred Major u. 6. helyi védett épüle felújítása tám. 387/2016.(XII.15.) | B119: 493000 | C119: 493000 | D119: =C119-B119 -> 0
A120: -Gács Béla Bfüred Kossuth u. 2/A. helyi védett épüle felújítása tám. 388/2016.(XII.15.) | B120: 290000 | C120: 290000 | D120: =C120-B120 -> 0
A121: -Ján Miklós Bfüred Csokonai u. 8. helyi védett épüle felújítása tám. 389/2016.(XII.15.) | B121: 50000 | C121: 50000 | D121: =C121-B121 -> 0
A122: - Infrastruktúrális fejlesztések | D122: =C122-B122 -> 0
A123: - BYC infrastruktúrális fejlesztések | B123: 1200000 | C123: 1200000 | D123: =C123-B123 -> 0
A124: - Balatonfüredi Futball Club infrastruktúrális fejlesztések | B124: 3800000 | C124: 3800000 | D124: =C124-B124 -> 0
A125: -Balatonfüredi Utánpótlás Sport Club infrastruktúrális fejlesztések | B125: 3200000 | C125: 3200000 | D125: =C125-B125 -> 0
A126: - Balatonfüred Sportjáért Közhasznú Alapítvány látvány csapatsport támogatása (363/2011.(X.3.) ) (uszoda) | B126: 15000000 | C126: 15000000 | D126: =C126-B126 -> 0
A127: - Probio Zrt. fejlesztési támogatása | B127: 12000000 | C127: 12000000 | D127: =C127-B127 -> 0
A128: - Petőfi Sport Kör lelátó építés támogatása | B128: 0 | C128: 2000000 | D128: =C128-B128 -> 2000000
...

Sheet 8. sz. tábla  (3)
C2: AZ ÖNKORMÁNYZAT MŰKÖDÉSI ÉS FELHALMOZÁSI MÉRLEGE 2017 ÉV
A4: Az Önkormányzat működési bevételei és kiadásai 2017. év
A6: 1. Működési bevételek | B6: 2017. évi eredeti ei. | C6: 2017. évi módosított ei. I. | D6: Eltérés | E6: 2. Működési kiadások | F6: 2017. évi eredeti ei. | G6: 2017. évi módosított ei. I. | H6: Eltérés
A7: 1. Működési célú támogatások államháztartáson belülről | B7: ='2.sz.tábla (2)'!K6 -> 1142330655 | C7: ='2.sz.tábla (2)'!L6 -> 1486989512 | D7: =C7-B7 -> 344658857 | E7: 1. Személyi juttatások | F7: ='4.sz.tábla '!B11 -> 480785229 | G7: ='4.sz.tábla '!C11 -> 498493391 | H7: =G7-F7 -> 17708162
A8: 2. Közhatalmi bevételek | B8: ='2.sz.tábla (2)'!K29 -> 1675900000 | C8: ='2.sz.tábla (2)'!L29 -> 1675900000 | D8: =C8-B8 -> 0 | E8: 2. Munkaadót terhelő járulékok és szoc.hj. Adó | F8: ='4.sz.tábla '!E11 -> 108154075 | G8: ='4.sz.tábla '!F11 -> 117582245 | H8: =G8-F8 -> 9428170
A9: 3. Működési bevételek | B9: ='2.sz.tábla (2)'!K42 -> 602267389 | C9: ='2.sz.tábla (2)'!L42 -> 602267389 | D9: =C9-B9 -> 0 | E9: 3. Dologi kiadások | F9: ='4.sz.tábla '!H11 -> 914910078 | G9: ='4.sz.tábla '!I11 -> 1312932384 | H9: =G9-F9 -> 398022306
A10: 4. Működési célú átvett pénzeszközök államháztartáson kivülről | B10: ='2.sz.tábla (2)'!K65 -> 5600000 | C10: ='2.sz.tábla (2)'!L65 -> 6150575 | D10: =C10-B10 -> 550575 | E10: 4. Ellátottak pénzbeli juttatásai | F10: ='4.sz.tábla '!K11 -> 31594400 | G10: ='4.sz.tábla '!L11 -> 31096900 | H10: =G10-F10 -> -497500
D11: =C11-B11 -> 0 | E11: 5. Egyéb működési célú kiadások | F11: =SUM(F12:F15) -> 1009956391 | G11: =SUM(G12:G15) -> 997715031 | H11: =G11-F11 -> -12241360
D12: =C12-B12 -> 0 | E12: 5.1. Elvonások, befizetések | F12: ='5.tábla (2)'!B102 -> 1080 | G12: ='5.tábla (2)'!C102 -> 1080 | H12: =G12-F12 -> 0
D13: =C13-B13 -> 0 | E13: 5.2. Egyéb működési célú támogatások áh-n belülre | F13: ='5.tábla (2)'!B106 -> 513966253 | G13: ='5.tábla (2)'!C106+'5.tábla (2)'!C19 -> 499699893 | H13: =G13-F13 -> -14266360
D14: =C14-B14 -> 0 | E14: 5.4. Egyéb működési célú támogatások áh-n kívülre | F14: ='5.tábla (2)'!B113 -> 495989058 | G14: ='5.tábla (2)'!C113 -> 498014058 | H14: =G14-F14 -> 2025000
D15: =C15-B15 -> 0 | E15: 5.5. Működési célú visszatérítendő támogatások, kölcsönök nyújtása áh-n kívülre | F15: ='5.tábla (2)'!B108 -> 0 | G15: ='5.tábla (2)'!C108 -> 0 | H15: =G15-F15 -> 0
D16: =C16-B16 -> 0 | E16: 6. Pénzforgalom nélküli kiadások (tartalék) | F16: ='1.sz.tábla (2)'!B30-'8. sz. tábla (3)'!F38 -> 88061748 | G16: ='1.sz.tábla (2)'!C30-'8. sz. tábla (3)'!G38 -> 80556761 | H16: =G16-F16 -> -7504987
A17: Összes költségvetési működési bevétel: | B17: =SUM(B7:B16) -> 3426098044 | C17: =SUM(C7:C16) -> 3771307476 | D17: =C17-B17 -> 345209432 | E17: Összes költségvetési működési kiadás: | F17: =F7+F8+F9+F10+F11+F16 -> 2633461921 | G17: =G7+G8+G9+G10+G11+G16 -> 3038376712 | H17: =G17-F17 -> 404914791
A18: Működési többlet: | B18: =B17-F17 -> 792636123 | C18: =C17-G17 -> 732930764 | D18: =C18-B18 -> -59705359 | E18: Működési hiány: | H18: =G18-F18 -> 0
A19: Költségvetési hiány belső finanszírozása működési célú | B19: =SUM(B20) -> 124713457 | C19: =SUM(C20) -> 351757590 | D19: =C19-B19 -> 227044133 | E19: Finanszírozási célú műveletek kiadásai működési célú | F19: =SUM(F20:F23) -> 44090809 | G19: =SUM(G20:G23) -> 44090809 | H19: =G19-F19 -> 0
A20: 5. Költségvetési Maradvány | B20: ='2.sz.tábla (2)'!K76 -> 124713457 | C20: ='2.sz.tábla (2)'!L76 -> 351757590 | D20: =C20-B20 -> 227044133 | E20: 7. Állami támogatás megelőlegezés visszafizetése | F20: ='7. sz. tábla 1'!B165 -> 44090809 | G20: ='7. sz. tábla 1'!C165 -> 44090809 | H20: =G20-F20 -> 0
A21: Költségvetési hiány külső finanszírozása működési célú | B21: =SUM(B22:B24) -> 12800000 | C21: =SUM(C22:C24) -> 12800000 | D21: =C21-B21 -> 0 | E21: 8. Hitelek törlesztése | H21: =G21-F21 -> 0
A22: 6. Értékpapír kibocsátás, értékesítés | D22: =C22-B22 -> 0 | E22: 9. Betét vásárlás | H22: =G22-F22 -> 0
A23: 7. Hitelfelvétel | D23: =C23-B23 -> 0 | E23: 10. Forgatási célú értékpapír vásárlás | H23: =G23-F23 -> 0
A24: 8. Állami támogatás megelőlegezés visszafizetése | B24: ='2.sz.tábla (2)'!K89 -> 12800000 | C24: ='2.sz.tábla (2)'!L89 -> 12800000 | D24: =C24-B24 -> 0 | H24: =G24-F24 -> 0
A25: Összes működési bevétel: | B25: =B17+B19+B21 -> 3563611501 | C25: =C17+C19+C21 -> 4135865066 | D25: =C25-B25 -> 572253565 | E25: Összes működési kiadás | F25: =F19+F17 -> 2677552730 | G25: =G19+G17 -> 3082467521 | H25: =G25-F25 -> 404914791
E26: Finanszírozási célú műveletek után hiány/ többlet | F26: =B25-F25 -> 886058771 | G26: =C25-G25 -> 1053397545 | H26: =D25-H25 -> 167338774
A27: Az Önkormányzat felhalmozási bevételei és kiadásai 2017. év
A29: 1. Felhalmozási bevételek | B29: 2017. évi eredeti ei. | C29: 2017. évi módosított ei. I. | D29: Eltérés | E29: 2. Felhalmozási kiadások | F29: 2017. évi eredeti ei. | G29: 2017. évi módosított ei. I. | H29: Eltérés
A30: 1. Felhalmozási célú támogatások államháztartáson belülről | B30: ='2.sz.tábla (2)'!K21 -> 1798268854 | C30: ='2.sz.tábla (2)'!L21 -> 2362779525 | D30: =C30-B30 -> 564510671 | E30: 1.1. Beruházások | F30: ='7. sz. tábla 1'!B95 -> 3738509802 | G30: ='7. sz. tábla 1'!C95 -> 3808718660 | H30: =G30-F30 -> 70208858
A31: 2. Felhalmozási bev. | B31: ='2.sz.tábla (2)'!K57 -> 171355383 | C31: ='2.sz.tábla (2)'!L57 -> 171355383 | D31: =C31-B31 -> 0 | E31: 1.2. Int.saját hatáskörű fejlesztések | F31: ='4.sz.tábla '!V9 -> 6571000 | G31: ='4.sz.tábla '!W9 -> 12423318 | H31: =G31-F31 -> 5852318
A32: 3. Felhalmozási célú átvett pénzeszközök | B32: ='2.sz.tábla (2)'!K69 -> 85818959 | C32: ='2.sz.tábla (2)'!L69 -> 275818959 | D32: =C32-B32 -> 190000000 | E32: 2. Felújítások | F32: ='7. sz. tábla 1'!B171 -> 93139339 | G32: ='7. sz. tábla 1'!C171 -> 94245404 | H32: =G32-F32 -> 1106065
E33: 3. Egyéb felhalmozási kiadások | F33: =SUM(F34:F37) -> 688455332 | G33: =SUM(G34:G37) -> 902535375 | H33: =G33-F33 -> 214080043
E34: 3.1. Egyéb felhalmozási célú támogatások áh-n kívülre | F34: ='7. sz. tábla 1'!B111 -> 371218364 | G34: ='7. sz. tábla 1'!C111 -> 384498407 | H34: =G34-F34 -> 13280043
E35: 3.2. Egyéb felhalmozási célú támogatások áh-n belülre | F35: ='7. sz. tábla 1'!B106 -> 2550000 | G35: ='7. sz. tábla 1'!C106 -> 2550000 | H35: =G35-F35 -> 0
E36: 3.3. Felhalmozási célú visszatérítendő támogatások, kölcsönök nyújtása áh-n belülre | F36: ='7. sz. tábla 1'!B105 -> 0 | G36: ='7. sz. tábla 1'!C105 -> 0 | H36: =G36-F36 -> 0
E37: 3.3. Felhalmozási célú visszatérítendő támogatások, kölcsönök nyújtása áh-n kívülre | F37: ='7. sz. tábla 1'!B98 -> 314686968 | G37: ='7. sz. tábla 1'!C98 -> 515486968 | H37: =G37-F37 -> 200800000
E38: 4. Pénzforgalom nélküli kiadások (tartalék) | F38: ='1.sz.tábla (2)'!B41+'1.sz.tábla (2)'!B43+'1.sz.tábla (2)'!B44+'1.sz.tábla (2)'!B46+'1.sz.tábla (2)'!B51 -> 188226992 | G38: ='1.sz.tábla (2)'!C41+'1.sz.tábla (2)'!C43+'1.sz.tábla (2)'!C44+'1.sz.tábla (2)'!C46+'1.sz.tábla (2)'!C54+'1.sz.tábla (2)'!C55+'1.sz.tábla (2)'!C56+'1.sz.tábla (2)'!C57 -> 858527797 | H38: =G38-F38 -> 670300805 | J38: =H38+H16 -> 662795818
A39: Összes költségvetési felhalmozási bevétel: | B39: =SUM(B30:B36) -> 2055443196 | C39: =SUM(C30:C36) -> 2809953867 | D39: =C39-B39 -> 754510671 | E39: Összes költségvetési felhalmozási kiadás: | F39: =F30+F31+F32+F33+F38 -> 4714902465 | G39: =G30+G31+G32+G33+G38 -> 5676450554 | H39: =G39-F39 -> 961548089
A40: Felhalmozási többlet: | D40: =C40-B40 -> 0 | E40: Felhalmozási hiány: | F40: =B39-F39 -> -2659459269 | G40: =C39-G39 -> -2866496687 | H40: =G40-F40 -> -207037418
A41: Költségvetési hiány belső finanszírozása felhalmozási célú | B41: =SUM(B42) -> 666462922 | C41: =SUM(C42) -> 705328566 | D41: =C41-B41 -> 38865644 | E41: Finanszírozási célú műveletek kiadásai felhalmozási célú | F41: =SUM(F42:F43) -> 74242424 | G41: =SUM(G42:G43) -> 1384589424 | H41: =G41-F41 -> 1310347000
A42: 4.Költségvetési maradvány | B42: ='2.sz.tábla (2)'!K77 -> 666462922 | C42: ='2.sz.tábla (2)'!L77 -> 705328566 | D42: =C42-B42 -> 38865644 | E42: 4. Értékpapírok vásárlása | G42: ='7. sz. tábla 1'!C164 -> 1310347000 | H42: =G42-F42 -> 1310347000
A43: Költségvetési hiány külső finanszírozása felhalmozási célú | B43: =SUM(B44:B45) -> 1181180000 | C43: =SUM(C44:C45) -> 2492360000 | D43: =C43-B43 -> 1311180000 | E43: 5. Hitelek törlesztése | F43: ='7. sz. tábla 1'!B163 -> 74242424 | G43: ='7. sz. tábla 1'!C163 -> 74242424 | H43: =G43-F43 -> 0
A44: 5. Értékpapír kibocsátás, értékesítés | B44: ='2.sz.tábla (2)'!K83 -> 1181180000 | C44: ='2.sz.tábla (2)'!L83 -> 2492360000 | D44: =C44-B44 -> 1311180000 | E44: 6. Állami támogatás megelőlegezés visszafizetése | H44: =G44-F44 -> 0
A45: 6. Hitelfelvétel | D45: =C45-B45 -> 0 | H45: =G45-F45 -> 0
A46: Összes felhalmozási bevétel: | B46: =B39+B41+B43 -> 3903086118 | C46: =C39+C41+C43 -> 6007642433 | D46: =C46-B46 -> 2104556315 | E46: Összes felhalmozási kiadás | F46: =F39+F41 -> 4789144889 | G46: =G39+G41 -> 7061039978 | H46: =G46-F46 -> 2271895089
E47: Finanszírozási célú műveletek után hiány/ többlet | F47: =B46-F46 -> -886058771 | G47: =C46-G46 -> -1053397545 | H47: =G47-F47 -> -167338774
A48: Bevétele és kiadások mérlege 2016. év
A50: BEVÉTELEK | B50: 2017. évi eredeti ei. | C50: 2017. évi módosított ei. I. | D50: Eltérés | E50: KIADÁSOK | F50: 2017. évi eredeti ei. | G50: 2017. évi módosított ei. I. | H50: Eltérés
A51: Költségvetési működési bevételek | B51: =B17 -> 3426098044 | C51: =C17 -> 3771307476 | D51: =C51-B51 -> 345209432 | E51: Költségvetési működési kiadások | F51: =F17 -> 2633461921 | G51: =G17 -> 3038376712 | H51: =G51-F51 -> 404914791
A52: Költségvetési felhalmozási bevételek | B52: =B39 -> 2055443196 | C52: =C39 -> 2809953867 | D52: =C52-B52 -> 754510671 | E52: Költségvetési felhalmozási kiadások | F52: =F39 -> 4714902465 | G52: =G39 -> 5676450554 | H52: =G52-F52 -> 961548089
A53: Költségvetési bevételek összesen: | B53: =SUM(B51:B52) -> 5481541240 | C53: =SUM(C51:C52) -> 6581261343 | D53: =C53-B53 -> 1099720103 | E53: Költségvetési kiadások összesen: | F53: =SUM(F51:F52) -> 7348364386 | G53: =SUM(G51:G52) -> 8714827266 | H53: =G53-F53 -> 1366462880
A54: Költségvetési többlet: | D54: =C54-B54 -> 0 | E54: Költségvetési hiány / többlet: | F54: =B53-F53 -> -1866823146 | G54: =C53-G53 -> -2133565923 | H54: =G54-F54 -> -266742777
A55: Költségvetési hiány belső finanszírozása: | B55: =SUM(B56:B57) -> 791176379 | C55: =SUM(C56:C57) -> 1057086156 | D55: =C55-B55 -> 265909777 | E55: Finanszírozási célú műveletek kiadásai összesen: | F55: =SUM(F56:F57) -> 118333233 | G55: =SUM(G56:G57) -> 1428680233 | H55: =G55-F55 -> 1310347000
A56: Költségvetési hiány belső finanszírozása működési célú | B56: =B19 -> 124713457 | C56: =C19 -> 351757590 | D56: =C56-B56 -> 227044133 | E56: Finanszírozási célú műveletek működési kiadásai | F56: =F19 -> 44090809 | G56: =G19 -> 44090809 | H56: =G56-F56 -> 0
A57: Költségvetési hiány belső finanszírozása felhalmozási célú | B57: =B41 -> 666462922 | C57: =C41 -> 705328566 | D57: =C57-B57 -> 38865644 | E57: Finanszírozási célú műveletek felhalmozási kiadásai | F57: =F41 -> 74242424 | G57: =G41 -> 1384589424 | H57: =G57-F57 -> 1310347000
A58: Költségvetési hiány külső finanszírozása: | B58: =SUM(B59:B60) -> 1193980000 | C58: =SUM(C59:C60) -> 2505160000 | D58: =C58-B58 -> 1311180000 | H58: =G58-F58 -> 0
A59: Költségvetési hiány külső finanszírozása működési célú | B59: =B21 -> 12800000 | C59: =C21 -> 12800000 | D59: =C59-B59 -> 0 | H59: =G59-F59 -> 0
A60: Költségvetési hiány külső finanszírozása felhalmozási célú | B60: =B43 -> 1181180000 | C60: =C43 -> 2492360000 | D60: =C60-B60 -> 1311180000 | H60: =G60-F60 -> 0
A61: Összes bevétel: | B61: =B53+B55+B58 -> 7466697619 | C61: =C53+C55+C58 -> 10143507499 | D61: =C61-B61 -> 2676809880 | E61: Összes kiadás: | F61: =F53+F55 -> 7466697619 | G61: =G53+G55 -> 10143507499 | H61: =G61-F61 -> 2676809880
A62: TÖBBLET | F62: =B61-F61 -> 0 | H62: =D61-H61 -> 0

Sheet 8a. sz. tábla  (4)
A3: AZ ÖNKORMÁNYZAT MŰKÖDÉSI ÉS FELHALMOZÁSI MÉRLEGE KÖLTSÉGVETÉSI SZERVEK ÉS ÖNKORMÁNYZAT BONTÁSBAN 2017. ÉV
A5: Az Önkormányzat működési bevételei és kiadásai 2017. év
A7: 1. Működési bevételek | B7: Költségve-tési szervek | C7: Önkormányzat | D7: Önkormányzat összesen | E7: 2. Működési kiadások | F7: Költségve-tési szervek | G7: Önkormányzat | H7: Önkormányzat összesen
A8: 1. Működési célú támogatások államháztartáson belülről | B8: ='2.sz.tábla (2)'!F6+'2.sz.tábla (2)'!I6+'3.sz. tábla (2)'!C13 -> 366639217 | C8: ='2.sz.tábla (2)'!L6-'8a. sz. tábla (4)'!B8 -> 1120350295 | D8: =SUM(B8:C8) -> 1486989512 | E8: 1. Személyi juttatások | F8: ='4.sz.tábla '!C9 -> 416333427 | G8: ='5.tábla (2)'!C28 -> 82159964 | H8: =SUM(F8:G8) -> 498493391
A9: 2. Közhatalmi bevételek | B9: ='2.sz.tábla (2)'!F29+'2.sz.tábla (2)'!I29 -> 500000 | C9: ='2.sz.tábla (2)'!C29 -> 1675400000 | D9: =SUM(B9:C9) -> 1675900000 | E9: 2. Munkaadót terhelő járulékok és szoc.hj. Adó | F9: ='4.sz.tábla '!F9 -> 99542308 | G9: ='5.tábla (2)'!C42 -> 18039937 | H9: =SUM(F9:G9) -> 117582245
A10: 3. Működési bevételek | B10: ='2.sz.tábla (2)'!F42+'2.sz.tábla (2)'!I42 -> 53457950 | C10: ='2.sz.tábla (2)'!C42 -> 548809439 | D10: =SUM(B10:C10) -> 602267389 | E10: 3. Dologi kiadások | F10: ='4.sz.tábla '!I9 -> 176112014 | G10: ='5.tábla (2)'!C56 -> 1136820370 | H10: =SUM(F10:G10) -> 1312932384 | I10: =SUM(G8:G10) -> 1237020271
A11: 4. Működési célú átvett pénzeszközök államháztartáson kivülről | B11: ='2.sz.tábla (2)'!F65+'2.sz.tábla (2)'!I65 -> 0 | C11: ='2.sz.tábla (2)'!C65 -> 6150575 | D11: =SUM(B11:C11) -> 6150575 | E11: 4. Ellátottak pénzbeli juttatásai | F11: ='4.sz.tábla '!L9 -> 2394400 | G11: ='5.tábla (2)'!C92 -> 28702500 | H11: =SUM(F11:G11) -> 31096900
D12: =SUM(B12:C12) -> 0 | E12: 5. Egyéb működési célú kiadások | F12: =F13+F14+F15+F16 -> 2105398 | G12: =G13+G14+G15+G16 -> 995609633 | H12: =SUM(F12:G12) -> 997715031
D13: =SUM(B13:C13) -> 0 | E13: 5.1. Elvonások, befizetések | G13: ='5.tábla (2)'!C102 -> 1080 | H13: =SUM(F13:G13) -> 1080
D14: =SUM(B14:C14) -> 0 | E14: 5.2. Egyéb működési célú támogatások áh-n belülre | F14: ='5.tábla (2)'!C19 -> 2105398 | G14: ='5.tábla (2)'!C106 -> 497594495 | H14: =SUM(F14:G14) -> 499699893
E15: 5.4. Egyéb működési célú támogatások áh-n kívülre | G15: ='5.tábla (2)'!C113 -> 498014058 | H15: =SUM(F15:G15) -> 498014058
E16: 5.5. Működési célú visszatérítendő támogatások, kölcsönök nyújtása áh-n kívülre | G16: ='5.tábla (2)'!D108 -> 0 | H16: =SUM(F16:G16) -> 0
E17: 6. Pénzforgalom nélküli kiadások (tartalék) | G17: ='8. sz. tábla (3)'!G16 -> 80556761 | H17: =SUM(F17:G17) -> 80556761
A18: Összes költségvetési működési bevétel: | B18: =SUM(B8:B17) -> 420597167 | C18: =SUM(C8:C17) -> 3350710309 | D18: =SUM(D8:D17) -> 3771307476 | E18: Összes költségvetési működési kiadás: | F18: =F8+F9+F10+F11+F12+F17 -> 696487547 | G18: =G8+G9+G10+G11+G12+G17 -> 2341889165 | H18: =H8+H9+H10+H11+H12+H17 -> 3038376712
A19: Működési többlet: | B19: =B18-F18 -> -275890380 | C19: =C18-G18 -> 1008821144 | D19: =D18-H18 -> 732930764 | E19: Működési hiány:
A20: Költségvetési hiány belső finanszírozása működési célú | B20: =SUM(B21) -> 36624227 | C20: =SUM(C21) -> 315133363 | D20: =SUM(B20:C20) -> 351757590 | E20: Finanszírozási célú műveletek kiadásai működési célú | F20: =SUM(F21:F21) -> 0 | G20: =SUM(G21:G25) -> 44090809 | H20: =G20-F20 -> 44090809
A21: 5. Költségvetési Maradvány | B21: ='2.sz.tábla (2)'!F76+'2.sz.tábla (2)'!I76 -> 36624227 | C21: ='2.sz.tábla (2)'!C76 -> 315133363 | D21: =SUM(B21:C21) -> 351757590 | E21: 7. Állami támogatás megelőlegezés visszafizetése | G21: ='7. sz. tábla 1'!C165 -> 44090809 | H21: =SUM(F21:G21) -> 44090809
A22: Költségvetési hiány külső finanszírozása működési célú | C22: =SUM(C23:C25) -> 12800000 | D22: =SUM(B22:C22) -> 12800000 | E22: 8. Hitelek törlesztése | H22: =SUM(F22:G22) -> 0
A23: 6. Értékpapír kibocsátás, értékesítés | D23: =SUM(B23:C23) -> 0 | E23: 9. Betét vásárlás | H23: =SUM(F23:G23) -> 0
A24: 7. Hitelfelvétel | E24: 10. Forgatási célú értékpapír vásárlás | H24: =SUM(F24:G24) -> 0
A25: 8. Állami támogatás megelőlegezés visszafizetése | C25: ='2.sz.tábla (2)'!C89 -> 12800000 | D25: =SUM(B25:C25) -> 12800000
A26: Összes működési bevétel: | B26: =B18+B20+B22 -> 457221394 | C26: =C18+C20+C22 -> 3678643672 | D26: =D18+D20+D22 -> 4135865066 | E26: Összes működési kiadás | F26: =F18+F20 -> 696487547 | G26: =G18+G20 -> 2385979974 | H26: =H18+H20 -> 3082467521
A28: Az Önkormányzat felhalmozási bevételei és kiadásai 2017. év
A30: 1. Felhalmozási bevételek | B30: Költségve-tési szervek | C30: Önkormányzat | D30: Önkormányzat összesen | E30: 2. Felhalmozási kiadások | F30: Költségve-tési szervek | G30: Önkormányzat | H30: Önkormányzat összesen
A31: 1. Felhalmozási célú támogatások államháztartáson belülről | B31: ='2.sz.tábla (2)'!F21+'2.sz.tábla (2)'!I21 -> 0 | C31: ='2.sz.tábla (2)'!C21 -> 2362779525 | D31: =SUM(B31:C31) -> 2362779525 | E31: 1.1. Beruházások | G31: ='7. sz. tábla 1'!C95 -> 3808718660 | H31: =SUM(F31:G31) -> 3808718660
A32: 2. Felhalmozási bev. | B32: ='2.sz.tábla (2)'!F57+'2.sz.tábla (2)'!I57 -> 0 | C32: ='2.sz.tábla (2)'!C57 -> 171355383 | D32: =SUM(B32:C32) -> 171355383 | E32: 1.2. Int.saját hatáskörű fejlesztések | F32: ='4a. sz. tábla (3)'!D29 -> 12423318 | H32: =SUM(F32:G32) -> 12423318
A33: 3. Felhalmozási célú átvett pénzeszközök | B33: ='2.sz.tábla (2)'!F69+'2.sz.tábla (2)'!I69 -> 0 | C33: ='2.sz.tábla (2)'!C69 -> 275818959 | D33: =SUM(B33:C33) -> 275818959 | E33: 2. Felújítások | G33: ='6.sz.tábla (4)'!C121 -> 94245404 | H33: =SUM(F33:G33) -> 94245404
E34: 3. Egyéb felhalmozási kiadások | G34: =SUM(G35:G38) -> 902535375 | H34: =SUM(F34:G34) -> 902535375 | I34: =SUM(#REF!) -> #REF!
E35: 3.1. Egyéb felhalmozási célú támogatások áh-n kívülre | G35: ='7. sz. tábla 1'!C111 -> 384498407 | H35: =SUM(F35:G35) -> 384498407
E36: 3.2. Egyéb felhalmozási célú támogatások áh-n belülre | G36: ='7. sz. tábla 1'!C106 -> 2550000 | H36: =SUM(F36:G36) -> 2550000
E37: 3.3. Felhalmozási célú visszatérítendő támogatások, kölcsönök nyújtása áh-n belülre | G37: ='7. sz. tábla 1'!D105 -> 0 | H37: =SUM(F37:G37) -> 0
E38: 3.4. Felhalmozási célú visszatérítendő támogatások, kölcsönök nyújtása áh-n kívülre | G38: ='7. sz. tábla 1'!C98 -> 515486968 | H38: =SUM(F38:G38) -> 515486968
E39: 4. Pénzforgalom nélküli kiadások (tartalék) | G39: ='8. sz. tábla (3)'!G38 -> 858527797 | H39: =SUM(F39:G39) -> 858527797
A40: Összes költségvetési felhalmozási bevétel: | B40: =SUM(B31:B37) -> 0 | C40: =SUM(C31:C37) -> 2809953867 | D40: =SUM(D31:D37) -> 2809953867 | E40: Összes költségvetési felhalmozási kiadás: | F40: =SUM(F31:F34) -> 12423318 | G40: =G31+G32+G33+G34+G39 -> 5664027236 | H40: =H31+H32+H33+H34+H39 -> 5676450554
A41: Felhalmozási többlet: | E41: Felhalmozási hiány: | F41: =B40-F40 -> -12423318 | G41: =C40-G40 -> -2854073369 | H41: =D40-H40 -> -2866496687
A42: Költségvetési hiány belső finanszírozása felhalmozási célú | B42: =SUM(B43) -> 3190601 | C42: =SUM(C43) -> 702137965 | D42: =SUM(D43) -> 705328566 | E42: Finanszírozási célú műveletek kiadásai felhalmozási célú | F42: =SUM(F43:F44) -> 0 | G42: =SUM(G43:G44) -> 1384589424 | H42: =SUM(H43:H45) -> 1384589424
A43: 4.Költségvetési maradvány | B43: ='2.sz.tábla (2)'!F77+'2.sz.tábla (2)'!I77 -> 3190601 | C43: ='2.sz.tábla (2)'!C77 -> 702137965 | D43: =SUM(B43:C43) -> 705328566 | E43: 4. Értékpapírok visszavásárlása | G43: ='7. sz. tábla 1'!C164 -> 1310347000 | H43: =SUM(F43:G43) -> 1310347000
A44: Költségvetési hiány külső finanszírozása felhalmozási célú | B44: =SUM(B45:B46) -> 0 | C44: =SUM(C45:C46) -> 2492360000 | D44: =SUM(D45:D46) -> 2492360000 | E44: 5. Hitelek törlesztése | G44: ='7. sz. tábla 1'!C163 -> 74242424 | H44: =SUM(F44:G44) -> 74242424
A45: 5. Értékpapír kibocsátás, értékesítés | C45: ='2.sz.tábla (2)'!C83 -> 2492360000 | D45: =SUM(B45:C45) -> 2492360000 | E45: 6. Állami támogatás megelőlegezés visszafizetése
A46: 6. Hitelfelvétel
A47: Összes felhalmozási bevétel: | B47: =B40+B42+B44 -> 3190601 | C47: =C40+C42+C44 -> 6004451832 | D47: =D40+D42+D44 -> 6007642433 | E47: Összes felhalmozási kiadás | F47: =F40+F42 -> 12423318 | G47: =G40+G42 -> 7048616660 | H47: =H40+H42 -> 7061039978
A49: Bevétele és kiadások mérlege 2017. év
A51: BEVÉTELEK | B51: Költségve-tési szervek | C51: Önkormányzat | D51: Önkormányzat összesen | E51: KIADÁSOK | F51: Költségve-tési szervek | G51: Önkormányzat | H51: Önkormányzat összesen
A52: Költségvetési működési bevételek | B52: =B18 -> 420597167 | C52: =C18 -> 3350710309 | D52: =D18 -> 3771307476 | E52: Költségvetési működési kiadások | F52: =F18 -> 696487547 | G52: =G18 -> 2341889165 | H52: =H18 -> 3038376712
A53: Költségvetési felhalmozási bevételek | B53: =B40 -> 0 | C53: =C40 -> 2809953867 | D53: =D40 -> 2809953867 | E53: Költségvetési felhalmozási kiadások | F53: =F40 -> 12423318 | G53: =G40 -> 5664027236 | H53: =H40 -> 5676450554
A54: Költségvetési bevételek összesen: | B54: =SUM(B52:B53) -> 420597167 | C54: =SUM(C52:C53) -> 6160664176 | D54: =SUM(D52:D53) -> 6581261343 | E54: Költségvetési kiadások összesen: | F54: =SUM(F52:F53) -> 708910865 | G54: =SUM(G52:G53) -> 8005916401 | H54: =SUM(H52:H53) -> 8714827266
A55: Költségvetési többlet: | E55: Költségvetési hiány: | F55: =B54-F54 -> -288313698 | G55: =C54-G54 -> -1845252225 | H55: =D54-H54 -> -2133565923
A56: Költségvetési hiány belső finanszírozása: | B56: =SUM(B57:B58) -> 39814828 | C56: =SUM(C57:C58) -> 1017271328 | D56: =SUM(D57:D58) -> 1057086156 | E56: Finanszírozási célú műveletek kiadásai összesen: | F56: =SUM(F57:F58) -> 0 | G56: =SUM(G57:G58) -> 1428680233 | H56: =SUM(H57:H58) -> 1428680233
A57: Költségvetési hiány belső finanszírozása működési célú | B57: =B20 -> 36624227 | C57: =C20 -> 315133363 | D57: =D20 -> 351757590 | E57: Finanszírozási célú műveletek működési kiadásai | F57: =F20 -> 0 | G57: =G20 -> 44090809 | H57: =H20 -> 44090809
A58: Költségvetési hiány belső finanszírozása felhalmozási célú | B58: =B42 -> 3190601 | C58: =C42 -> 702137965 | D58: =D42 -> 705328566 | E58: Finanszírozási célú műveletek felhalmozási kiadásai | F58: =F42 -> 0 | G58: =G42 -> 1384589424 | H58: =H42 -> 1384589424
A59: Költségvetési hiány külső finanszírozása: | B59: =SUM(B60:B61) -> 0 | C59: =SUM(C60:C61) -> 2505160000 | D59: =SUM(D60:D61) -> 2505160000
A60: Költségvetési hiány külső finanszírozása működési célú | B60: =B22 -> 0 | C60: =C22 -> 12800000 | D60: =D22 -> 12800000
A61: Költségvetési hiány külső finanszírozása felhalmozási célú | B61: =B44 -> 0 | C61: =C44 -> 2492360000 | D61: =D44 -> 2492360000
A62: Összes bevétel: | B62: =B54+B56+B59 -> 460411995 | C62: =C54+C56+C59 -> 9683095504 | D62: =D54+D56+D59 -> 10143507499 | E62: Összes kiadás: | F62: =F54+F56 -> 708910865 | G62: =G54+G56 -> 9434596634 | H62: =H54+H56 -> 10143507499
A63: Intézményfinanszírozás | B63: =B62-F62 -> -248498870 | C63: =C62-G62 -> 248498870 | D63: =D62-H62 -> 0

Sheet 9. sz. tábla (2)
A1: Az önkormányzat működési bevételei és kiadásai, a felhalmozási bevételei és kiadásai kiemelt előirányzatok, és kötelező feladatok, önként vállalt feladatok és államigazgatási feladatok bontásban 2017. év
A5: Az Önkormányzat kötelező feladatok bevételei és kiadásai 2017. év
A7: 1. Működési bevételek | B7: Intézmények | C7: Önkormányzati Hivatal | D7: Önkormányzat | E7: Önkormányzat összesen | F7: 2. Működési kiadások | G7: Intézmények | H7: Önkormányzati Hivatal | I7: Önkormányzat | J7: Önkormányzat összesen
A8: Működési bevételek | F8: Működési kiadások
A9: 1. Működési támogatások államháztartáson belülről | B9: ='2.sz.tábla (2)'!I6-'9. sz. tábla (2)'!B39+'3.sz. tábla (2)'!C11 -> 116701773 | C9: ='[2]3.sz. tábla (2)'!C12*0.7344+603125+21508949*0.649 -> 1.4800734e+08 | D9: ='2.sz.tábla (2)'!C6-'3.sz. tábla (2)'!C13-'9. sz. tábla (2)'!D39 -> 726175863 | E9: =SUM(B9:D9) -> 9.9088498e+08 | F9: 1. Személyi juttatások | G9: ='4.sz.tábla '!C7-'9. sz. tábla (2)'!G39 -> 120204566 | H9: 184427638 | I9: 57216301 | J9: =SUM(G9:I9) -> 361848505
A10: 2. Közhatalmi bevételek | D10: ='2.sz.tábla (2)'!C29 -> 1675400000 | E10: =SUM(B10:D10) -> 1675400000 | F10: 2. Munkaadót terhelő járulékok | G10: ='4.sz.tábla '!F7-'9. sz. tábla (2)'!G40 -> 27234014 | H10: 45118567 | I10: 10811489 | J10: =SUM(G10:I10) -> 83164070
A11: 3. Működési bevételek | B11: ='2.sz.tábla (2)'!I42-'9. sz. tábla (2)'!B41 -> 15598000 | C11: ='[2]2.sz.tábla (2)'!F41-'[2]9. sz. tábla (2)'!C73 -> 16109950 | D11: ='2.sz.tábla (2)'!C42-'9. sz. tábla (2)'!D41 -> 511936889 | E11: =SUM(B11:D11) -> 543644839 | F11: 3. Dologi kiadások | G11: ='4.sz.tábla '!I7-'9. sz. tábla (2)'!G41 -> 54750561 | H11: 59237271 | I11: 712606008 | J11: =SUM(G11:I11) -> 826593840
A12: 4. Működési célú átvett pénzeszközök államháztartáson kivülről | E12: =SUM(B12:D12) -> 0 | F12: 4. Ellátottak pénzbeli juttatásai | H12: 2394400 | I12: 28702500 | J12: =SUM(G12:I12) -> 31096900
F13: 5. Egyéb működési célú kiadások | J13: =SUM(G13:I13) -> 0
F14: 5.1. Elvonások, befizetések | I14: 1080 | J14: =SUM(G14:I14) -> 1080
F15: 5.2. Egyéb működési célú támogatások áh-n belülre | G15: ='[2]4.sz.tábla '!U7-G45 -> 0 | H15: 1366403 | I15: 477946266 | J15: =SUM(G15:I15) -> 479312669
F16: 5.4. Egyéb működési célú támogatások áh-n kívülre | I16: 11500000 | J16: =SUM(G16:I16) -> 11500000
F17: 5.5. Működési célú visszatérítendő támogatások, kölcsönök nyújtása áh-n kívülre | J17: =SUM(G17:I17) -> 0
F18: 6. Pénzforgalom nélküli kiadások (tartalék) | I18: ='8a. sz. tábla (4)'!G17 -> 80556761 | J18: =SUM(G18:I18) -> 80556761
A19: Költségvetési működési bevételek kötelező feladatok szerinti bontásban | B19: =SUM(B9:B18) -> 132299773 | C19: =SUM(C9:C18) -> 1.6411729e+08 | D19: =SUM(D9:D18) -> 2913512752 | E19: =SUM(E9:E18) -> 3.2099298e+09 | F19: Költségvetési működési kiadások kötelező feladatok szerinti bontásban | G19: =SUM(G9:G18) -> 202189141 | H19: =SUM(H9:H18) -> 292544279 | I19: =SUM(I9:I18) -> 1379340405 | J19: =SUM(J9:J18) -> 1874073825
A20: Finanszírozási bevételek | B20: ='2.sz.tábla (2)'!I76-'9. sz. tábla (2)'!B50 -> 4842849 | C20: ='[2]2.sz.tábla (2)'!F75-'[2]9. sz. tábla (2)'!C82 -> 24232422 | D20: =1796820+2898445+850000+31290809+10000000+78000+53486734+2077274+168285837 -> 270763919 | E20: =SUM(B20:D20) -> 299839190 | F20: Finanszírozási kiadások | I20: 44090809 | J20: =SUM(G20:I20) -> 44090809
A21: Működési bevételek kiemelt előirányzatonként kötelező feladatok szerinti bontásban | B21: =B19+B20 -> 137142622 | C21: =C19+C20 -> 1.8834971e+08 | D21: =D19+D20 -> 3184276671 | E21: =E19+E20 -> 3.509769e+09 | F21: Működési kiadások kiemelt előirányzatonként kötelező feladatok szerinti bontásban | G21: =G19+G20 -> 202189141 | H21: =H19+H20 -> 292544279 | I21: =I19+I20 -> 1423431214 | J21: =J19+J20 -> 1918164634
A22: Felhalmozási bevételek | F22: Felhalmozási kiadások
A23: 1. Felhalmozási célú támogatások államháztartáson belülről | D23: ='2.sz.tábla (2)'!C21-'9. sz. tábla (2)'!D53 -> 1424985384 | E23: =SUM(B23:D23) -> 1424985384 | F23: 1.1. Beruházások | I23: 2717309416 | J23: =SUM(G23:I23) -> 2717309416
A24: 2. Felhalmozási bevételek | D24: =100000000+3800000+1223100+1732283 -> 106755383 | E24: =SUM(B24:D24) -> 106755383 | F24: 1.2. Int.saját hatáskörű fejlesztések | G24: ='4.sz.tábla '!W7-'9. sz. tábla (2)'!G54 -> 3761501 | H24: 5773718 | J24: =SUM(G24:I24) -> 9535219
A25: 3. Felhalmozási célú átvett pénzeszközök áh-n kívülről | E25: =SUM(B25:D25) -> 0 | F25: 2. Felújítások | I25: 94245404 | J25: =SUM(G25:I25) -> 94245404
F26: 3. Egyéb felhalmozási célú kiadások | J26: =SUM(G26:I26) -> 0
F27: 3.1. Egyéb felhalmozási célú pénzeszköz átadás áh-n kívülre | I27: 0 | J27: =SUM(G27:I27) -> 0
F28: 3.2. Egyéb felhalmozási célú pénzeszköz átadás áh-n belülre | I28: 2550000 | J28: =SUM(G28:I28) -> 2550000
F29: 3.4. Felhalmozási célú visszatérítendő támogatások, kölcsönök nyújtása áh-n kívülre
F30: 4. Pénzforgalom nélküli kiadások (tartalék) | I30: ='8a. sz. tábla (4)'!G39 -> 858527797
A31: Költségvetési felhalmozási bevételek kötelező feladatok szerinti bontásban | B31: =SUM(B23:B29) -> 0 | C31: =SUM(C23:C29) -> 0 | D31: =SUM(D23:D29) -> 1531740767 | E31: =SUM(E23:E29) -> 1531740767 | F31: Költségvetési felhalmozási kiadások kötelező feladatok szerinti bontásban | G31: =SUM(G23:G29) -> 3761501 | H31: =SUM(H23:H29) -> 5773718 | I31: =SUM(I23:I30) -> 3672632617 | J31: =SUM(J23:J29) -> 2823640039
A32: Finanszírozási bevételek | B32: ='2.sz.tábla (2)'!I77-'9. sz. tábla (2)'!B62 -> 386301 | C32: ='[2]2.sz.tábla (2)'!F76-'[2]9. sz. tábla (2)'!C90 -> 1618837.9 | D32: =6868000+16842955+44670000+113037000+12800000 -> 194217955 | E32: =SUM(B32:D32) -> 1.9622309e+08 | F32: Finanszírozási kiadások | I32: 74242424 | J32: =SUM(G32:I32) -> 74242424
A33: Felhalmozási bevételek kiemelt előirányzatonként kötelező feladatok szerinti bontásban | B33: =B31+B32 -> 386301 | C33: =C31+C32 -> 1618837.9 | D33: =D31+D32 -> 1725958722 | E33: =E31+E32 -> 1.7279639e+09 | F33: Felhalmozási kiadások kiemelt előirányzatonként kötelező feladatok szerinti bontásban | G33: =G31+G32 -> 3761501 | H33: =H31+H32 -> 5773718 | I33: =I31+I32 -> 3746875041 | J33: =J31+J32 -> 2897882463
B34: =B33+B21 -> 137528923 | C34: =C33+C21 -> 1.8996855e+08 | D34: =D33+D21 -> 4910235393 | E34: =E33+E21 -> 5.2377329e+09 | G34: =G33+G21 -> 205950642 | H34: =H33+H21 -> 298317997 | I34: =I33+I21 -> 5170306255 | J34: =J33+J21 -> 4816047097
A35: Az Önkormányzat önként vállalt feladatok bevételei és kiadásai 2017. év
A37: 1. Működési bevételek | B37: Intézmények | C37: Önkormányzati Hivatal | D37: Önkormányzat | E37: Önkormányzat összesen | F37: 2. Működési kiadások | G37: Intézmények | H37: Önkormányzati Hivatal | I37: Önkormányzat | J37: Önkormányzat összesen
A38: Működési bevételek | F38: Működési kiadások | M38: rend
A39: 1. Működési támogatások államháztartáson belülről | B39: =45950731+168607 -> 46119338 | D39: =3461832+35575500+16357600+18000000+600000+320179500 -> 394174432 | E39: =SUM(B39:D39) -> 440293770 | F39: 1. Személyi juttatások | G39: 41951435 | I39: 24943663 | J39: =SUM(G39:I39) -> 66895098 | M39: 41284
A40: 2. Közhatalmi bevételek | E40: =SUM(B40:D40) -> 0 | F40: 2. Munkaadót terhelő járulékok | G40: 10124608 | I40: 7228448 | J40: =SUM(G40:I40) -> 17353056 | M40: 9596
A41: 3. Működési bevételek | B41: 21750000 | D41: =16905228+14000000+5967322 -> 36872550 | E41: =SUM(B41:D41) -> 58622550 | F41: 3. Dologi kiadások | G41: 45220361 | I41: 424214362 | J41: =SUM(G41:I41) -> 469434723 | M41: 36690
A42: 4. Működési célú átvett pénzeszközök államháztartáson kivülről | D42: ='2.sz.tábla (2)'!C65 -> 6150575 | E42: =SUM(B42:D42) -> 6150575 | F42: 4. Ellátottak pénzbeli juttatásai | J42: =SUM(G42:I42) -> 0 | M42: 200
E43: =SUM(B43:D43) -> 0 | F43: 5. Egyéb működési célú kiadások | J43: =SUM(G43:I43) -> 0 | M43: =SUM(M39:M42) -> 87770
F44: 5.1. Elvonások, befizetések | J44: =SUM(G44:I44) -> 0
F45: 5.2. Egyéb működési célú támogatások áh-n belülre | I45: 19648229 | J45: =SUM(G45:I45) -> 19648229
F46: 5.4. Egyéb működési célú támogatások áh-n kívülre | I46: 486514058 | J46: =SUM(G46:I46) -> 486514058
F47: 5.5. Működési célú visszatérítendő támogatások, kölcsönök nyújtása áh-n kívülre | I47: 0 | J47: =SUM(G47:I47) -> 0
F48: 6. Pénzforgalom nélküli kiadások (tartalék)
A49: Költségvetési működési bevételek önként vállalt feladatok szerinti bontásban | B49: =SUM(B39:B48) -> 67869338 | C49: =SUM(C39:C48) -> 0 | D49: =SUM(D39:D48) -> 437197557 | E49: =SUM(E39:E48) -> 505066895 | F49: Költségvetési működési kiadások önként vállalt feladatok szerinti bontásban | G49: =SUM(G39:G48) -> 97296404 | H49: =SUM(H39:H48) -> 0 | I49: =SUM(I39:I48) -> 962548760 | J49: =SUM(J39:J48) -> 1059845164 | M49: =I19+I49 -> 2341889165
A50: Finanszírozási bevételek | B50: =8148956-B62 -> 7548956 | D50: ='2.sz.tábla (2)'!C76+'2.sz.tábla (2)'!C84+'2.sz.tábla (2)'!C89-'9. sz. tábla (2)'!D20 -> 2549529444 | E50: =SUM(B50:D50) -> 2557078400 | F50: Finanszírozási kiadások | I50: 1310347000
A51: Működési bevételek kiemelt előirányzatonként önként vállalt feladatok szerinti bontásban | B51: =B49+B50 -> 75418294 | C51: =C49+C50 -> 0 | D51: =D49+D50 -> 2986727001 | E51: =E49+E50 -> 3062145295 | F51: Működési kiadások kiemelt előirányzatonként önként vállalt feladatok szerinti bontásban | G51: =G49+G50 -> 97296404 | H51: =H49+H50 -> 0 | I51: =I49+I50 -> 2272895760 | J51: =J49+J50 -> 1059845164
A52: Felhalmozási bevételek | F52: Felhalmozási kiadások
A53: 1. Felhalmozási célú támogatások államháztartáson belülről | D53: =112806354-31410961+320179500-320179500+19587409+170036339+590000000+76775000 -> 937794141 | E53: =SUM(B53:D53) -> 937794141 | F53: 1.1. Beruházások | I53: 1091409244 | J53: =SUM(G53:I53) -> 1091409244
A54: 2. Felhalmozási bevételek | D54: =47500000+17100000 -> 64600000 | E54: =SUM(B54:D54) -> 64600000 | F54: 1.2. Int.saját hatáskörű fejlesztések | G54: 800000 | J54: =SUM(G54:I54) -> 800000
A55: 3. Felhalmozási célú átvett pénzeszközök áh-n kívülről | D55: ='2.sz.tábla (2)'!C69 -> 275818959 | E55: =SUM(B55:D55) -> 275818959 | F55: 2. Felújítások | J55: =SUM(G55:I55) -> 0
F56: 3. Egyéb felhalmozási célú kiadások | J56: =SUM(G56:I56) -> 0
F57: 3.1. Egyéb felhalmozási célú pénzeszköz átadás áh-n kívülre | I57: 384498407 | J57: =SUM(G57:I57) -> 384498407
F58: 3.2. Egyéb felhalmozási célú pénzeszköz átadás áh-n belülre | I58: 0 | J58: =SUM(G58:I58) -> 0
F59: 3.3. Felhalmozási célú visszatérítendő támogatások, kölcsönök nyújtása áh-n belülre | I59: 0 | J59: =SUM(G59:I59) -> 0
F60: 3.4. Felhalmozási célú visszatérítendő támogatások, kölcsönök nyújtása áh-n kívülre | I60: 515486968 | J60: =SUM(G60:I60) -> 515486968
A61: Költségvetési felhalmozási bevételek önként vállalt feladatok szerinti bontásban | B61: =SUM(B53:B59) -> 0 | C61: =SUM(C53:C59) -> 0 | D61: =SUM(D53:D59) -> 1278213100 | E61: =SUM(E53:E59) -> 1278213100 | F61: Költségvetési felhalmozási kiadások önként vállalt feladatok szerinti bontásban | G61: =SUM(G53:G59) -> 800000 | H61: =SUM(H53:H59) -> 0 | I61: =SUM(I53:I60) -> 1991394619 | J61: =SUM(J53:J60) -> 1992194619
A62: Finanszírozási bevételek | B62: 600000 | D62: ='2.sz.tábla (2)'!C77-'9. sz. tábla (2)'!D32 -> 507920010 | E62: =SUM(B62:D62) -> 508520010 | F62: Finanszírozási kiadások
A64: Felhalmozási bevételek kiemelt előirányzatonként önként vállalt feladatok szerinti bontásban | B64: =B61+B62 -> 600000 | C64: =C61+C62 -> 0 | D64: =D61+D62 -> 1786133110 | E64: =E61+E62 -> 1786733110 | F64: Felhalmozási kiadások kiemelt előirányzatonként önként vállalt feladatok szerinti bontásban | G64: =G61+G62 -> 800000 | H64: =H61+H62 -> 0 | I64: =I61+I62 -> 1991394619 | J64: =J61+J62 -> 1992194619
B65: =B64+B51 -> 76018294 | C65: =C64+C51 -> 0 | D65: =D64+D51 -> 4772860111 | E65: =E64+E51 -> 4848878405 | G65: =G64+G51 -> 98096404 | H65: =H64+H51 -> 0 | I65: =I64+I51 -> 4264290379 | J65: =J64+J51 -> 3052039783
A68: Az Önkormányzat államigazgatási feladatok bevételei és kiadásai 2017. év
A70: 1. Működési bevételek | B70: Intézmények | C70: Önkormányzati Hivatal | D70: Önkormányzat | E70: Önkormányzat összesen | F70: 2. Működési kiadások | G70: Intézmények | H70: Önkormányzati Hivatal | I70: Önkormányzat | J70: Önkormányzat összesen
A71: Működési bevételek | F71: Működési kiadások
A72: 1. Működési támogatások államháztartáson belülről | C72: ='[2]3.sz. tábla (2)'!C12*0.2656+21508949*0.351 -> 55810763 | E72: =SUM(B72:D72) -> 55810763 | F72: 1. Személyi juttatások | H72: 69749788 | J72: =SUM(G72:I72) -> 69749788
A73: 2. Közhatalmi bevételek | C73: 500000 | E73: =SUM(B73:D73) -> 500000 | F73: 2. Munkaadót terhelő járulékok | H73: 17065119 | J73: =SUM(G73:I73) -> 17065119
A74: 3. Működési bevételek | B74: 0 | E74: =SUM(B74:D74) -> 0 | F74: 3. Dologi kiadások | H74: 16903821 | J74: =SUM(G74:I74) -> 16903821
A75: 4. Működési célú átvett pénzeszközök államháztartáson kivülről | F75: 4. Ellátottak pénzbeli juttatásai | J75: =SUM(G75:I75) -> 0
F76: 5. Egyéb működési célú kiadások | J76: =SUM(G76:I76) -> 0
F77: 5.1. Elvonások, befizetések | J77: =SUM(G77:I77) -> 0
F78: 5.2. Egyéb működési célú támogatások áh-n belülre | H78: 738995 | J78: =SUM(G78:I78) -> 738995
F79: 5.4. Egyéb működési célú támogatások áh-n kívülre
F80: 5.5. Működési célú visszatérítendő támogatások, kölcsönök nyújtása áh-n kívülre
F81: 6. Pénzforgalom nélküli kiadások (tartalék)
A82: Költségvetési működési bevételek állami (államigazgatási) feladatok szerinti bontásban | B82: =SUM(B72:B81) -> 0 | C82: =SUM(C72:C81) -> 56310763 | D82: =SUM(D72:D81) -> 0 | E82: =SUM(E72:E81) -> 56310763 | F82: Költségvetési működési kiadások állami (államigazgatási) feladatok szerinti bontásban | G82: =SUM(G72:G81) -> 0 | H82: =SUM(H72:H81) -> 104457723 | I82: =SUM(I72:I81) -> 0 | J82: =SUM(J72:J81) -> 104457723
A83: Finanszírozási bevételek | E83: =SUM(B83:D83) -> 0 | F83: Finanszírozási kiadások
A84: Működési bevételek kiemelt előirányzatonként állami (államigazgatási) feladatok szerinti bontásban | B84: =B82+B83 -> 0 | C84: =C82+C83 -> 56310763 | D84: =D82+D83 -> 0 | E84: =E82+E83 -> 56310763 | F84: Működési kiadások kiemelt előirányzatonként állami (államigazgatási) feladatok szerinti bontásban | G84: =G82+G83 -> 0 | H84: =H82+H83 -> 104457723 | I84: =I82+I83 -> 0 | J84: =J82+J83 -> 104457723
A85: Felhalmozási bevételek | F85: Felhalmozási kiadások
A86: 1. Felhalmozási célú támogatások államháztartáson belülről | F86: 1.1. Beruházások | J86: =SUM(G86:I86) -> 0
A87: 2. Felhalmozási bevételek | F87: 1.2. Int.saját hatáskörű fejlesztések | H87: 2088099 | J87: =SUM(G87:I87) -> 2088099
A88: 3. Felhalmozási célú átvett pénzeszközök áh-n kívülről | F88: 2. Felújítások | J88: =SUM(G88:I88) -> 0
F89: 3. Egyéb felhalmozási célú kiadások | J89: =SUM(G89:I89) -> 0
A90: Költségvetési felhalmozási bevételek önként vállalt feladatok szerinti bontásban | B90: =SUM(B86:B88) -> 0 | C90: =SUM(C86:C88) -> 0 | D90: =SUM(D86:D88) -> 0 | E90: =SUM(E86:E88) -> 0 | F90: 3.1. Egyéb felhalmozási célú pénzeszköz átadás áh-n kívülre | J90: =SUM(G90:I90) -> 0
A91: Finanszírozási bevételek | C91: ='[2]2.sz.tábla (2)'!F76*0.2656 -> 585462.08 | E91: =SUM(B91:D91) -> 585462.08 | F91: 3.2. Egyéb felhalmozási célú pénzeszköz átadás áh-n belülre | J91: =SUM(G91:I91) -> 0
F92: 3.3. Felhalmozási célú visszatérítendő támogatások, kölcsönök nyújtása áh-n kívülre
A93: Felhalmozási bevételek kiemelt előirányzatonként állami (államigazgatási) feladatok szerinti bontásban | B93: =SUM(B86:B92) -> 0 | C93: =SUM(C86:C92) -> 585462.08 | D93: =SUM(D86:D92) -> 0 | E93: =SUM(E86:E92) -> 585462.08 | F93: Felhalmozási kiadások kiemelt előirányzatonként állami (államigazgatási) feladatok szerinti bontásban | G93: =SUM(G86:G92) -> 0 | H93: =SUM(H86:H92) -> 2088099 | I93: =SUM(I86:I92) -> 0 | J93: =SUM(J86:J92) -> 2088099
B94: =B93+B84+B64+B51+B33+B21 -> 213547217 | C94: =C93+C84+C64+C51+C33+C21 -> 246864778 | D94: =D93+D84+D64+D51+D33+D21 -> 9683095504 | E94: =E93+E84+E64+E51+E33+E21 -> 10143507499 | G94: =G93+G84+G64+G51+G33+G21 -> 304047046 | H94: =H93+H84+H64+H51+H33+H21 -> 404863819 | I94: =I93+I84+I64+I51+I33+I21 -> 9434596634 | J94: =SUM(G94:I94) -> 10143507499
A95: Önkormányzati támogatás | B95: =B94-G94 -> -90499829 | C95: =C94-H94 -> -157999041 | D95: =D94-I94 -> 248498870 | E95: =J94-E94 -> 0

Sheet 10. tábla többéves VÉGLEGES 
A1: Több éves kihatással járó döntésekből származó kötelezettségek célok szerint,
A2: évenkénti bontásban (eFt)
A4: Sorszám | B4: Kötelezettség jogcíme | C4: Kötelezettség- | D4: 2016.12.31-ig kifizetés | E4: 2016. évi költségvetést terhelő | J4: 2020. után | K4: Tárgyéven túli köt. Összesen (7+8+9+10) | L4: Összesen (4+5+6+11)
C5: vállalás | F5: 2017. | G5: 2018. | H5: 2019. | I5: 2020.
C6: éve | D6: (aktuális kv-i év)
A7: 1. | B7: 2. | C7: 3. | D7: 4. | E7: 5. | F7: 6. | G7: 7. | H7: 8. | I7: 9. | J7: 10. | K7: 11. | L7: 12.
A8: 1. | B8: Működési célú hitel-törlesztés
B9: (tőke + kamat )
A11: 2. | B11: Felhalmozási célú hitel-törlesztés
B12: (tőke + kamat) | D12: =D18+D24+D26+D28 -> 743854 | E12: =E18+E24+E26+E28 -> 0 | F12: =F18+F24+F26+F28 -> 92829 | G12: =G18+G24+G26+G28 -> 90872 | H12: =H18+H24+H26+H28 -> 88915 | I12: =I18+I24+I26+I28 -> 87188 | J12: =J18+J24+J26+J28 -> 482472 | K12: =K18+K24+K26+K28 -> 749447 | L12: =D12+E12+F12+K12 -> 1586130
A13: 3. | B13: Bérlakásépítés hitel | C13: 2005 | D13: 91120 | K13: =G13+H13+I13+J13 -> 0 | L13: =D13+E13+F13+K13 -> 91120
A14: 4. | B14: Szennyvízcsatorna beruházás hitel | C14: 2005 | D14: 11224 | E14: 0 | K14: =G14+H14+I14+J14 -> 0 | L14: =D14+E14+F14+K14 -> 11224
A15: 5. | B15: Útépítés, intézményi beruházás hitel | C15: 2006 | D15: 98236 | E15: 0 | K15: =G15+H15+I15+J15 -> 0 | L15: =D15+E15+F15+K15 -> 98236
A16: 6. | B16: Zákonyi utca átépítése hitel | C16: 2008 | D16: 76025 | E16: 0 | K16: =G16+H16+I16+J16 -> 0 | L16: =D16+E16+F16+K16 -> 76025
A17: 7. | B17: Füred Kemping vásárlása hitel | C17: 2014 | D17: 257575 | F17: 74242 | G17: 74242 | H17: 74242 | I17: 74242 | J17: 445457 | K17: =G17+H17+I17+J17 -> 668183 | L17: =D17+E17+F17+K17 -> 1000000
A18: 8. | B18: hitel összesen | D18: =SUM(D13:D17) -> 534180 | E18: =SUM(E13:E16) -> 0 | F18: =SUM(F13:F17) -> 74242 | G18: =SUM(G13:G17) -> 74242 | H18: =SUM(H13:H17) -> 74242 | I18: =SUM(I13:I17) -> 74242 | J18: =SUM(J13:J17) -> 445457 | K18: =SUM(K13:K17) -> 668183 | L18: =SUM(L13:L17) -> 1276605
A19: 9. | B19: Bérlakás hitel kamata | C19: 2005 | D19: 34151 | E19: 0 | K19: 0 | L19: 34151
A20: 10. | B20: Szennyvízcsatorna beruházás hitel kamata | C20: 2005 | D20: 3650 | E20: 0 | K20: 0 | L20: 3650
A21: 11. | B21: Útépítés, intézményi beruházás hitel kamata | C21: 2006 | D21: 27478 | E21: 0 | K21: 0 | L21: 27478
A22: 12. | B22: Zákonyi utca átépítése hitel kamata | C22: 2008 | D22: 13991 | E22: 0 | K22: 0 | L22: 13991
A23: 13. | B23: Füred Kemping vásárlása hitel kamat | C23: 2014 | D23: 50007 | E23: 0 | F23: 18587 | G23: 16630 | H23: 14673 | I23: 12946 | J23: 37015 | K23: =G23+H23+I23+J23 -> 81264 | L23: =D23+E23+F23+K23 -> 149858
A24: 14 | B24: kamat összesen | D24: =SUM(D19:D23) -> 129277 | E24: =SUM(E19:E23) -> 0 | F24: =SUM(F19:F23) -> 18587 | G24: =SUM(G19:G23) -> 16630 | H24: =SUM(H19:H23) -> 14673 | I24: =SUM(I19:I23) -> 12946 | J24: =SUM(J19:J23) -> 37015 | K24: =SUM(K19:K23) -> 81264 | L24: =SUM(L19:L23) -> 229128
A25: 15 | B25: kezességvállalás: Orvosok hitelei | C25: 2006 | D25: 59185 | F25: 0 | G25: 0 | K25: =F25+G25+J25+H25 -> 0 | L25: 59185
A26: 16 | B26: kezességvállalás: hitelek összesen | D26: =SUM(D25) -> 59185 | E26: =SUM(E25) -> 0 | F26: =SUM(F25) -> 0 | G26: =SUM(G25) -> 0 | J26: =SUM(J25) -> 0 | K26: =SUM(K25) -> 0 | L26: =SUM(L25) -> 59185
A27: 17 | B27: kezességvállalás: Orvosok hitelkamatai | C27: 2006 | D27: 21212 | E27: 0 | F27: 0 | G27: 0 | K27: =F27+G27+J27+H27 -> 0 | L27: 21212
A28: 18 | B28: kezességvállalás: hitelkamatok össz. | D28: =SUM(D27) -> 21212 | E28: =SUM(E27) -> 0 | F28: =SUM(F27) -> 0 | G28: =SUM(G27) -> 0 | J28: =SUM(J27) -> 0 | K28: =SUM(K27) -> 0 | L28: =SUM(L27) -> 21212
A29: 1. | B29: 2. | C29: 3. | D29: 4. | E29: 5. | F29: 6. | G29: 7. | H29: 8. | I29: 9. | J29: 10. | K29: 11. | L29: 12.
A30: 19 | B30: Fejlesztés feladatonként | D30: =SUM(D31:D101) -> 1542862 | E30: =SUM(E31:E101) -> 110930 | F30: =SUM(F31:F101) -> 834040.2 | G30: =SUM(G31:G101) -> 511570.2 | H30: =SUM(H31:H101) -> 112314.2 | I30: =SUM(I31:I101) -> 84942.2 | J30: =SUM(J31:J101) -> 264361.2 | K30: =SUM(K31:K101) -> 973187.8 | L30: =D30+E30+F30+K30 -> 3461020
A31: 20 | B31: Panelprogram tám.: Köztársaság u. 3. (351/2005) | C31: 2005. | D31: 12000 | E31: 0 | F31: 0 | G31: 0 | K31: =G31+H31+I31+J31 -> 0 | L31: =D31+E31+F31+K31 -> 12000
A32: 21 | B32: Panelprogram tám.: Köztársaság u. 5. (352/2005) | C32: 2005. | D32: 12000 | F32: 0 | G32: 0 | K32: =G32+H32+I32+J32 -> 0 | L32: =D32+E32+F32+K32 -> 12000
A33: 22 | B33: Panelprogram tám.: Noszlopy u. 16. (353/2005) | C33: 2005. | D33: 17000 | E33: 0 | F33: 0 | G33: 0 | K33: =G33+H33+I33+J33 -> 0 | L33: =D33+E33+F33+K33 -> 17000
A34: 23 | B34: Panelprogram tám.: Kéki u. 2. (289/2006) | C34: 2006. | D34: 3600 | E34: 0 | F34: 400 | G34: 0 | K34: =G34+H34+I34+J34 -> 0 | L34: =D34+E34+F34+K34 -> 4000
A35: 24 | B35: Panelprogram tám.: Csárda u. 2. (290/2006) | C35: 2006. | D35: 3600 | E35: 0 | F35: 400 | G35: 0 | K35: =G35+H35+I35+J35 -> 0 | L35: =D35+E35+F35+K35 -> 4000
A36: 25 | B36: Panelprogram tám.: Köztársaság u. 13. (291/2006) | C36: 2006. | D36: 10800 | E36: 0 | F36: 1200 | G36: 0 | K36: =G36+H36+I36+J36 -> 0 | L36: =D36+E36+F36+K36 -> 12000
A37: 26 | B37: Panelprogram tám.: Kéki u. 5. (292/2006) | C37: 2006. | D37: 3360 | E37: 420 | F37: 420 | G37: 0 | K37: =G37+H37+I37+J37 -> 0 | L37: =D37+E37+F37+K37 -> 4200
A38: 27 | B38: Panelprogram tám.: Köztársaság u. 7. (293/2006) | C38: 2006. | D38: 7992 | E38: 999 | F38: 999 | G38: 0 | K38: =G38+H38+I38+J38 -> 0 | L38: =D38+E38+F38+K38 -> 9990
A39: 28 | B39: Panelprogram tám.: Csárda u. 19. (294/2006) | C39: 2006. | D39: 1920 | E39: 240 | F39: 240 | G39: 0 | J39: 0 | K39: =G39+H39+I39+J39 -> 0 | L39: =D39+E39+F39+K39 -> 2400
A40: 29 | B40: Népház és posta rekonstrukciója pályázathoz kapcsolódó ingatlan karbantartás és fenntartás költségeire pénzügyi alap (220/2008) | C40: 2008. | D40: 16483 | E40: 0 | F40: 2747 | G40: 2747 | H40: 2747 | I40: 1672 | J40: 0 | K40: =G40+H40+I40+J40 -> 7166 | L40: =D40+E40+F40+K40 -> 26396
A41: 30 | B41: Balatoni Hajózási Zrt részvénycsomagjának átvételével kapcsolatos kötváll (tőkeemelés és tőkejuttatás) (285/2008) | C41: 2008. | D41: 51820 | F41: 0 | G41: 128160 | J41: 0 | K41: =F41+G41+J41+H41 -> 128160 | L41: =D41+E41+F41+K41 -> 179980
A42: 31 | B42: Mederhasználati díjra megkötött szerződés (lejár 2067.09.17) | C42: 2008. | D42: 20584 | E42: 0 | F42: 1964 | G42: 1964 | H42: 1964 | I42: 1964 | J42: 94272 | K42: =G42+H42+I42+J42 -> 100164 | L42: =D42+E42+F42+K42 -> 122712
A43: 32 | B43: Panelprogram Köztársaság u. 19. tám (8/2009) | C43: 2009 | D43: 10472 | F43: 1496 | G43: 1496 | H43: 1496 | J43: 0 | K43: =G43+H43+I43+J43 -> 2992 | L43: =D43+E43+F43+K43 -> 14960
A44: 33 | B44: Panelpromram Köztársaság u. 17. tám (9/2009) | C44: 2009 | D44: 11123 | F44: 1589 | G44: 1589 | H44: 1589 | J44: 0 | K44: =G44+H44+I44+J44 -> 3178 | L44: =D44+E44+F44+K44 -> 15890
A45: 34 | B45: Panelprogram Köztársaság u.15.tám. (10/2009) | C45: 2009. | D45: 8341 | E45: 1390 | F45: 1390 | G45: 1390 | H45: 1394 | J45: 0 | K45: =G45+H45+I45+J45 -> 2784 | L45: =D45+E45+F45+K45 -> 13905
A46: 35 | B46: Panelprogram Köztársaság u.11.tám. (11/2009) | C46: 2009. | D46: 16235 | E46: 0 | F46: 2320 | G46: 2320 | H46: 2320 | J46: 0 | K46: =G46+H46+I46+J46 -> 4640 | L46: =D46+E46+F46+K46 -> 23195
A47: 36 | B47: Panelprogram Köztársaság u.1. tám. (12/2009) | C47: 2009. | D47: 10493 | F47: 1499 | G47: 1499 | H47: 1498 | J47: 0 | K47: =G47+H47+I47+J47 -> 2997 | L47: =D47+E47+F47+K47 -> 14989
A48: 1. | B48: 2. | C48: 3. | D48: 4. | E48: 5. | F48: 6. | G48: 7. | H48: 8. | I48: 9. | J48: 10. | K48: 11. | L48: 12.
A49: 37 | B49: TDM pályázat működési támogatás (2+5 évre) (194,201/2009) | C49: 2009 | D49: 139362 | F49: 19500 | K49: =G49+H49+I49+J49 -> 0 | L49: =D49+E49+F49 -> 158862
A50: 38 | B50: Autóbuszpályaudvar fejlesztése pályázat: elszámolható költségek önrész, pályázaton kívűli beruházás teljes összeg(86/2010) | C50: 2010 | D50: 25624 | E50: 1676 | K50: =G50+H50+I50+J50 -> 0 | L50: =D50+E50+F50 -> 27300
A51: 39 | B51: Autóbuszpályaudvar pm költség, közbeszerzés 339/2011 (IX.15) | C51: 2011 | D51: 9510 | E51: 254 | K51: =G51+H51+I51+J51 -> 0 | L51: =D51+E51+F51 -> 9764
A52: 40 | B52: Balaton Mozi támogatása (53/2011) | C52: 2011 | D52: 2400 | E52: 4800 | F52: 1200 | G52: 1200 | H52: 1200 | I52: 1200 | J52: 0 | K52: =G52+H52+I52+J52 -> 3600 | L52: =D52+E52+F52+K52 -> 12000
A53: 41 | B53: 2 TDM projekt 2017-2018 évi támogatása (124/2011) | C53: 2011 | G53: 12000 | H53: 12000 | J53: 0 | K53: =G53+H53+I53+J53 -> 24000 | L53: =D53+E53+F53+K53 -> 24000
A54: 42 | B54: Balatonfüred Vizilabda Sportjáért Közhasznú Alapítvány támogatás saját forrás biztosítására 341/2011 (IX.15.), 295/2013. (IX.30.) | C54: 2011 | D54: 339350 | E54: 15000 | K54: =G54+H54+I54+J54 -> 0 | L54: =D54+E54+F54+K54 -> 354350
A55: 43 | B55: Annagóra Park Társasház tulajdonjog szerzés 339/2012. (XII.13.) | C55: 2012 | F55: 33600 | K55: =G55+H55+I55+J55 -> 0 | L55: =D55+E55+F55+K55 -> 33600
A56: 44 | B56: Balatonfüred Kézilabda Sportjáért Közhasznú Alapítvány kézilabda sportakadémia önrész 151/2013. (IV.26.) /2014-2015./ | C56: 2013 | D56: 50000 | F56: 124270 | K56: =G56+H56+I56+J56 -> 0 | L56: =D56+E56+F56+K56 -> 174270
A57: 45 | B57: Balatonfüredi Yacht Club éves működési támogatásának biztosítása 10 éven keresztül 231/2013. (VII.05.) | C57: 2013 | D57: 3600 | F57: 1200 | G57: 1200 | H57: 1200 | I57: 1200 | J57: 3600 | K57: =G57+H57+I57+J57 -> 7200 | L57: =D57+E57+F57+K57 -> 12000
A58: 46 | B58: KMF Közép-magyarországi Fejlesztési Zrt. Konferencia Központ üzletrész részletek | C58: 2014 | D58: 21000 | E58: 5000 | F58: 10000 | G58: 10000 | H58: 10000 | I58: 4000 | J58: 0 | K58: =G58+H58+I58+J58 -> 24000 | L58: =D58+E58+F58+K58 -> 60000
A59: 47 | B59: KMF Közép-magyarországi Fejlesztési Zrt. Konferencia Központ üzletrész részletek | C59: 2015 | D59: 12000 | F59: 6000 | G59: 6000 | H59: 6000 | I59: 6000 | J59: 50000 | K59: =G59+H59+I59+J59 -> 68000 | L59: =D59+E59+F59+K59 -> 86000
A60: 48 | B60: 114/2014.(V.20.) Norvég Alap Városi épített örökség megőrzése című pályázat önrész | C60: 2014 | D60: 1143 | E60: 8569 | K60: =G60+H60+I60+J60 -> 0 | L60: =D60+E60+F60+K60 -> 9712
A61: 49 | B61: 300/2014.(XII.18.) intézményi felújítások közbeszerzési kiírásához fedezet biztosítása | C61: 2014 | D61: 34733 | E61: 44670 | F61: =148590-E61-D61 -> 69187 | G61: 0 | K61: =G61+H61+I61+J61 -> 0 | L61: =D61+E61+F61+K61 -> 148590
A62: 1. | B62: 2. | C62: 3. | D62: 4. | E62: 5. | F62: 6. | G62: 7. | H62: 8. | I62: 9. | J62: 10. | K62: 11. | L62: 12.
A63: 50 | B63: 309/2014. (XII.18.) kisajátítást megelőző vétel, telekalakítás ingatlanok vételára, műszaki és zöldkár megtérítése P. Horváth Á. u. | C63: 2014 | D63: 14160 | E63: 507 | K63: =G63+H63+I63+J63 -> 0 | L63: =D63+E63+F63+K63 -> 14667
A64: 51 | B64: 163/2015.(VI.25.) SOS Együtt Egymásért Alapítvánnyal együttműködési megállapodás városüzemeltetés szakfeladat terhére üzemanyagköltségekre | C64: 2015 | D64: 762 | F64: 254 | G64: 254 | H64: 0 | K64: =G64+H64+I64+J64 -> 254 | L64: =D64+E64+F64+K64 -> 1270
A65: 52 | B65: 210/2015.(VIII.26.) 139 hrsz-ú ingatlan megvásárlása | C65: 2015 | D65: 168000 | F65: 89000 | G65: 69000 | H65: 0 | K65: =G65+H65+I65+J65 -> 69000 | L65: =D65+E65+F65+K65 -> 326000
A66: 53 | B66: 241/2015. (X.13.) 2015. évi útépítések átütemezése | C66: 2015 | D66: 189888 | E66: 1905 | K66: =G66+H66+I66+J66 -> 0 | L66: =D66+E66+F66+K66 -> 191793
A67: 54 | B67: 306/2015.(XII.17.) 5477 hrsz-ú ingatlan megvásárlása | C67: 2015. | D67: 6466 | E67: 0 | F67: 4466 | G67: 4465 | K67: =G67+H67+I67+J67 -> 4465 | L67: =D67+E67+F67+K67 -> 15397
A68: 55 | B68: 18/2016. (II.04.) 1322. hrsz-ú ingatlan megvásárlása (Zsinagóga) két ütemben | C68: 2016. | D68: 15000 | F68: 15000 | K68: =G68+H68+I68+J68 -> 0 | L68: =D68+E68+F68+K68 -> 30000
A69: 56 | B69: 30/2016.(II.25.) helyi TDM szervezet GINOP pályázathoz önerő | C69: 2016. | E69: 1500 | F69: 1367 | K69: =G69+H69+I69+J69 -> 0 | L69: =D69+E69+F69+K69 -> 2867
A70: 57 | B70: 30/2016.(II.25.) térségi TDM szervezet GINOP pályázathoz önerő | C70: 2016. | E70: 11000 | F70: 10700 | K70: =G70+H70+I70+J70 -> 0 | L70: =D70+E70+F70+K70 -> 21700
A71: 58 | B71: 47/2016.(III.17.) GINOP-7.1.3.-2015. Gyógyhelyek komplex turisztikai fejlesztése önrész 2016-2017. évek 350.324.200,-Ft | C71: 2016. | K71: =G71+H71+I71+J71 -> 0 | L71: =D71+E71+F71+K71 -> 0
A72: 59 | B72: 54/2016.(III.17.) Állami Szívkórház ingatlan bérleti szerződés a 403/15 hrsz-ú ingatlanra 25 éves időtartamra 3 MFt/év | C72: 2016. | E72: 1000 | F72: 3000 | G72: 3000 | H72: 3000 | I72: 3000 | J72: 62000 | K72: =G72+H72+I72+J72 -> 71000 | L72: =D72+E72+F72+K72 -> 75000
A73: 60 | B73: 54/2016.(III.17.) Állami Szívkórház éves támogatás biztosítása 2017-2021. évekre | C73: 2016. | F73: 12000 | G73: 12000 | H73: 12000 | I73: 12000 | J73: 12000 | K73: =G73+H73+I73+J73 -> 48000 | L73: =D73+E73+F73+K73 -> 60000
A74: 1. | B74: 2. | C74: 3. | D74: 4. | E74: 5. | F74: 6. | G74: 7. | H74: 8. | I74: 9. | J74: 10. | K74: 11. | L74: 12.
A75: 61 | B75: 55/2016.(III.17.) Balatonfüredi Horgász Egyesület 403/16 hrsz-ú ingatlan bérleti szerződés 25 éves időtartamra 2 MFt/év | C75: 2016. | D75: 667 | F75: 2000 | G75: 2000 | H75: 2000 | I75: 2000 | J75: 41333 | K75: =G75+H75+I75+J75 -> 47333 | L75: =D75+E75+F75+K75 -> 50000
A76: 62 | B76: 55/2016.(III.17.) Balatonfüredi Horgász Egyesület csónak vételár | C76: 2016. | F76: 6000 | K76: =G76+H76+I76+J76 -> 0 | L76: =D76+E76+F76+K76 -> 6000
A77: 63 | B77: 61/2016.(III.24.) Balatontourist Füred Club Camping Kft. Által előfinanszírozott keleti oldali vizesblokk felújítás megtérítése 2017. árpilis 30-ig | C77: 2016 | D77: 5400 | F77: 20000 | K77: =G77+H77+I77+J77 -> 0 | L77: =D77+E77+F77+K77 -> 25400
A78: 64 | B78: 146/2016.(V.06.) 072 hrsz-ú ingatlan megvásárlása | C78: 2016. | D78: 26350 | F78: 50750 | G78: 50750 | H78: 50750 | I78: 50750 | J78: 0 | K78: =G78+H78+I78+J78 -> 152250 | L78: =D78+E78+F78+K78 -> 229350
A79: 65 | B79: 188/2016.(VI.23.) Füredi Kézilabda Sport Egyesület 2016/2017. évi TAO pályázat öltöző felújítás önrész | C79: 2016. | F79: 17521 | K79: =G79+H79+I79+J79 -> 0 | L79: =D79+E79+F79+K79 -> 17521
A80: 66 | B80: 201/2016.(VI.23.) 139 hrsz-ú ingatlan megvásárlása ütemezés módosítása | C80: 2016. | D80: 28862 | F80: -20000 | G80: -10000 | K80: =G80+H80+I80+J80 -> -10000 | L80: =D80+E80+F80+K80 -> -1138
A81: 67 | B81: 206/2016.(VI.23.) 1542 hrsz-ú ingatlan Kossuth u. 22. megvásárlása | C81: 2016. | D81: 27500 | F81: 27500 | K81: =G81+H81+I81+J81 -> 0 | L81: =D81+E81+F81+K81 -> 55000
A82: 68 | B82: 241/2016.(VIII.22.) TOP-2.1.2. Zöld város pályázat önrész | C82: 2016. | F82: 68071 | K82: =G82+H82+I82+J82 -> 0 | L82: =D82+E82+F82+K82 -> 68071
A83: 69 | B83: 243/2016.(VIII.22.) 1322 hrsz-ú ingatlan vásárlás ütemezés módosítás | C83: 2016. | D83: 15000 | F83: -15000 | K83: =G83+H83+I83+J83 -> 0 | L83: =D83+E83+F83+K83 -> 0
A84: 70 | B84: 254/2016. (IX.22.) Balatonfüred - Szőlős Hegyközség támogatása jégverés kártalanítása miatt | C84: 2016. | D84: 4000 | F84: 3570 | K84: =G84+H84+I84+J84 -> 0 | L84: =D84+E84+F84+K84 -> 7570
A85: 71 | B85: 256/2016. (IX.22.) MEDNA radiológia támogatása | C85: 2016. | F85: 5200 | K85: =G85+H85+I85+J85 -> 0 | L85: =D85+E85+F85+K85 -> 5200
A86: 72 | B86: 271/2016.(IX.22.) 139 hrsz-ú ingatlan megvásárlása ütemezés módosítása | C86: 2016. | D86: 28862 | F86: -20000 | G86: -10000 | K86: =G86+H86+I86+J86 -> -10000 | L86: =D86+E86+F86+K86 -> -1138
A87: 73 | B87: 282/2016.(X.07.) 1543/2 hrsz-ú Kossuth u. 24.ingatlan megvásárlása ütemezés módosítása | C87: 2016. | D87: 90000 | G87: 12140 | K87: =G87+H87+I87+J87 -> 12140 | L87: =D87+E87+F87+K87 -> 102140
A88: 1. | B88: 2. | C88: 3. | D88: 4. | E88: 5. | F88: 6. | G88: 7. | H88: 8. | I88: 9. | J88: 10. | K88: 11. | L88: 12.
A89: 74 | B89: 299/2016.(X.27.) Annagóra Park Bevásárlóközpont Társasház 41,11 % tulajdoni hányad megvásárlása ütemezés módosítása | C89: 2016. | D89: 65400 | F89: 63000 | G89: 63000 | K89: =G89+H89+I89+J89 -> 63000 | L89: =D89+E89+F89+K89 -> 191400
A90: 75 | B90: 316/2016.(X.27.) 0118/61 ingatlanra vonatkozó megállapodás megállapodásból eredő fiz. Köt. | F90: 6706 | K90: =G90+H90+I90+J90 -> 0 | L90: =D90+E90+F90+K90 -> 6706
A91: 76 | B91: 340/2016.(XI.24.) 1552/1 hrsz-ú ingatlan (Kossuth u. 26/B) csere a 679/1 hrsz-ú ingatlanra értékkülönbözet | C91: 2016. | E91: 12000 | F91: 7800 | K91: =G91+H91+I91+J91 -> 0 | L91: =D91+E91+F91+K91 -> 19800
A92: 77 | B92: 343/2016.(XI.24.) Zákonyi mélygarázs többletforrás (tartalékkeret nélkül) | C92: 2016. | F92: 105421 | K92: =G92+H92+I92+J92 -> 0 | L92: =D92+E92+F92+K92 -> 105421
A93: 78 | B93: 358/2016. (XII.15.) fejlesztési előirányzatok átütemezése 2017, évre | C93: 2016. | F93: 64000 | K93: =G93+H93+I93+J93 -> 0 | L93: =D93+E93+F93+K93 -> 64000
A94: 79 | B94: 359/2016.(XII.15.) Passat gépkocsi | C94: 2016. | F94: 7937 | K94: =G94+H94+I94+J94 -> 0 | L94: =D94+E94+F94+K94 -> 7937
A95: 80 | B95: 378/2016. (XII.15.) BFT és NFM Településfejlesztési beruházások támogatására kiírt pályázat önrész | C95: 2016. | F95: 15000 | K95: =G95+H95+I95+J95 -> 0 | L95: =D95+E95+F95+K95 -> 15000
A96: 81 | B96: 6/2017.(I.20.) Parkolóhelyek megvásárlása előszerződés | C96: 2017. | G96: 142240 | K96: =G96+H96+I96+J96 -> 142240 | L96: =D96+E96+F96+K96 -> 142240
A97: 82 | B97: 17/2017. (II.10.) ÉNYKK Zrt. 2014. évi veszteség rendezés | C97: 2017. | F97: 1156.2 | G97: 1156.2 | H97: 1156.2 | I97: 1156.2 | J97: 1156.2 | K97: =G97+H97+I97+J97 -> 4624.8 | L97: =D97+E97+F97+K97 -> 5781
K98: =G98+H98+I98+J98 -> 0 | L98: =D98+E98+F98+K98 -> 0
K99: =G99+H99+I99+J99 -> 0 | L99: =D99+E99+F99+K99 -> 0
K100: =G100+H100+I100+J100 -> 0 | L100: =D100+E100+F100+K100 -> 0
K101: =G101+H101+I101+J101 -> 0 | L101: =D101+E101+F101+K101 -> 0
B102: Összesen: (1+4+9) | D102: =D30+D12 -> 2286716 | E102: =E30+E12 -> 110930 | F102: =F30+F12 -> 926869.2 | G102: =G30+G12 -> 602442.2 | H102: =H30+H12 -> 201229.2 | I102: =I30+I12 -> 172130.2 | J102: =J30+J12 -> 746833.2 | K102: =K30+K12 -> 1722634.8 | L102: =L30+L12 -> 5047150

Sheet 11. sz. tábla
A5: Az Önkormányzat adósságállományának alakulása
A6: lejárat, eszközök bel- és külföldi hitelezők szerinti bontásban (e/Ft-ban)
A9: Sorszám | C9: Felvétel | D9: Lejárat | E9: Állomány január 1-én (EFT)
B10: Hitel jellege | C10: éve | D10: éve | E10: 2017 | F10: 2018 | G10: 2019 | H10: 2019. után
A12: 1. | B12: 2. | C12: 3. | D12: 4. | E12: 5. | F12: 6. | G12: 7. | H12: 8.
B13: BELFÖLDI HITELEZŐK
A14: 1. | B14: Működési célú hitel állomány + kamat
A15: 2.
A16: 3. | B16: Hitel összesen
A17: 4.
A18: 5. | B18: Kamat összesen
A19: 6. | B19: Felhalmozási célú hitel állomány+kamat | E19: =E21+E23 -> 842276 | F19: =F21+F23 -> 749447 | G19: =G21+G23 -> 658574 | H19: =H21+H23 -> 569659
A20: 7. | B20: Füred Kemping vásárlása hitel | C20: 2014 | D20: 2026 | E20: 742425 | F20: =E20-74242 -> 668183 | G20: =F20-74243 -> 593940 | H20: =G20-74242 -> 519698
A21: 8. | B21: Hitel összesen (7-10) | E21: =SUM(E20:E20) -> 742425 | F21: =SUM(F20:F20) -> 668183 | G21: =SUM(G20:G20) -> 593940 | H21: =SUM(H20:H20) -> 519698
A22: 9. | B22: Füred Kemping vásárlása hitel kamat | C22: 2014 | D22: 2026 | E22: 99851 | F22: 81264 | G22: 64634 | H22: 49961
A23: 10. | B23: Kamat összesen (12-15) | E23: =SUM(E22:E22) -> 99851 | F23: =SUM(F22:F22) -> 81264 | G23: =SUM(G22:G22) -> 64634 | H23: =SUM(H22:H22) -> 49961
A24: 11. | B24: Összesen: (1+6) | E24: =E19+E14 -> 842276 | F24: =F19+F14 -> 749447 | G24: =G19+G14 -> 658574 | H24: =H19+H14 -> 569659
A25: 12. | B25: a szerződésben kapott, legalább háromszázhatvanöt nap időtartamú halasztott fizetés, részletfizetés, és a még ki nem fizetett ellenérték,
A26: 13. | B26: DRV környezetvédelmi beruházások megvalósítása | C26: 2005. | D26: 2015. | E26: 0 | F26: 0 | G26: 0 | H26: 0
A27: 14. | B27: Balatoni Hajózási Zrt. részvények átvét. Tőkejuttatás | C27: 2008. | D27: 2017. | E27: 128160 | F27: 128160 | G27: 0 | H27: 0
A28: 15. | B28: Konferencia Központ üzletrész megvásárlása | C28: 2003. | D28: 2020. | E28: 113000 | F28: 92000 | G28: =F28-16000 -> 76000 | H28: =G28-16000 -> 60000
A29: 16. | B29: Panelprogram támogatás | C29: 2005-2009. | D29: 2017-2019 | E29: 31591 | F29: 16589 | G29: 8295
A30: 17. | B30: Összesen (13-16) | E30: =SUM(E26:E29) -> 272751 | F30: =SUM(F26:F29) -> 236749 | G30: =SUM(G26:G29) -> 84295 | H30: =SUM(H26:H29) -> 60000
A31: 18. | B31: KÜLFÖLDI HITELEZŐK
A32: 19. | B32: Működési célú hitel állomány + kamat
A33: 20.
A34: 21. | B34: Hitel összesen
A35: 22.
A36: 23. | B36: Kamat összesen
A37: 24. | B37: Felhalmozási célú hitel állomány+kamat
A38: 25.
A39: 26. | B39: Hitel összesen
A40: 27.
A41: 28. | B41: Kamat összesen
A42: 29. | B42: Összesen: (19+24)
A43: 30. | B43: Összesen: (11+17+29) | E43: =E24+E30 -> 1115027 | F43: =F24+F30 -> 986196 | G43: =G24+G30 -> 742869 | H43: =H24+H30 -> 629659

Sheet 12. sz. tábla
A4: Az önkormányzat által nyújtott közvetett támogatások jogcímenként
A5: (kedvezmények) 2017. év
A7: Sorszám | B7: Bevételi jogcím | C7: Intézmények, | D7: Kedvezmény nélkül | E7: Kedvezmények
C8: adónemek | D8: elérhető | E8: összege
D9: bevétel e/Ft | E9: e/Ft
A10: 1. | B10: 2. | C10: 3. | D10: 4. | E10: 5.
A11: 2. | B11: Ellátottak térítési díjának ill. kártérítésének méltányossági alapon történő elengedésének összege | D11: =SUM(D12:D13) -> 36427309 | E11: =SUM(E12:E12) -> 0
C12: Bölcsőde | D12: ='[3]2.a tábla ÚJ '!AG27 -> 1017000 | E12: 0
C13: Iskolák | D13: ='[3]2.sz.tábla (2)'!D49 -> 35410309 | E13: 0
A14: 3. | B14: Lakosság részére nyújtott lakásépítéshez, lakásfelújításhoz nyújtott kölcsönök elengedésének összege | E14: 0
B15: Helyi adónál, gépjárműadónál biztosított kedvezmény, mentesség összege | D15: =SUM(D16:D21) -> 2095519 | E15: =SUM(E16:E22) -> 516519 | F15: =SUM(F16:F21) -> 1589000
C16: Építményadó | D16: =F16+E16 -> 608244 | E16: 198244 | F16: 410000
C17: Iparűzési adó | D17: =F17+E17 -> 797469 | E17: 35469 | F17: 762000
C18: IFA személyek után | D18: =F18+E18 -> 450668 | E18: 115668 | F18: 335000
C19: Telekadó | D19: =F19+E19 -> 32181 | E19: 2181 | F19: 30000
C20: Gépjárműadó | D20: =F20+E20 -> 68580 | E20: 16580 | F20: 52000
C21: Települési adó/termőföldadó | D21: =F21+E21 -> 138377 | E21: 138377 | F21: 0
C22: Települési adó/külterületi | D22: =F22+E22 -> 12500 | E22: 10000 | F22: 2500
A23: 4. | B23: Helyiségek, eszközök hasznosításából származó bevételből nyújtott kedvezmény, mentesség összege | D23: =F23+E23 -> 363139 | E23: 11599 | F23: 351540 | H23: ='[3]2.sz.tábla (2)'!M44 -> 351539893
A24: 5. | B24: egyéb nyújtott kedvezmény vagy kölcsön elengedésének összege | D24: =F24+E24+G24 -> 70419 | E24: 0 | F24: 70419 | H24: ='[3]2.sz.tábla (2)'!M70+'[3]2.sz.tábla (2)'!M66 -> 70418959
B25: Összesen : | D25: =D24+D23+D14+D15+D11 -> 38956386 | E25: =E24+E23+E14+E15+E11 -> 528118

Sheet 13. tábla EU pályázatok
A2: EURÓPAI UNIÓS TÁMOGATÁSSAL MEGVALÓSULÓ PROGRAMOK BEVÉTELEI ÉS KIADÁSAI 2017. ÉV
B3: HU07-0037-A1-2013
A4: EU Projekt megnevezése: | B4: "A Zsidóság és a csúcstechnika Einsteintől napjainkig" (addicionális pályázattal együtt)
A7: Bevételek | B7: 2017 év | C7: 2018 év | D7: 2019 év | E7: Következő évek | F7: Összesen
A8: EU forrás | B8: 100982802 | F8: =SUM(B8:E8) -> 100982802
A9: Egyéb forrás | F9: =SUM(B9:E9) -> 0
A10: Saját forrás | B10: 112339784 | F10: =SUM(B10:E10) -> 112339784
A11: Összesen | B11: =SUM(B8:B10) -> 213322586 | C11: =SUM(C8:C10) -> 0 | D11: =SUM(D8:D10) -> 0 | E11: =SUM(E8:E10) -> 0 | F11: =SUM(F8:F10) -> 213322586
A13: Kiadások | B13: 2017 év | C13: 2018 év | D13: 2019 év | E13: Következő évek | F13: Összesen
A14: személyi juttatások | B14: 0 | F14: 0
A15: személyi juttatások járulékai | F15: 0
A16: dologi kiadások | B16: 16357600 | F16: =SUM(B16:E16) -> 16357600
A17: felújítások | F17: =SUM(B17:E17) -> 0
A18: beruházások | B18: 196964986 | F18: =SUM(B18:E18) -> 196964986
A19: átadott pénzeszközök | F19: =SUM(B19:E19) -> 0
A20: Összesen | B20: =SUM(B14:B19) -> 213322586 | C20: =SUM(C14:C19) -> 0 | D20: =SUM(D14:D19) -> 0 | E20: =SUM(E14:E19) -> 0 | F20: =SUM(F14:F19) -> 213322586
B23: TOP-1.2.1-15-VE1-2016-00029
A24: EU Projekt megnevezése: | B24: "Balatonfüred, Széchenyi strand turisztikai infrastruktúrájának fejlesztése"
A27: Bevételek | B27: 2017 év | C27: 2018 év | D27: 2019 év | E27: Következő évek | F27: Összesen
A28: EU forrás | B28: 170036339 | F28: =SUM(B28:E28) -> 170036339
A29: Egyéb forrás | F29: =SUM(B29:E29) -> 0
A30: Saját forrás | B30: 0 | F30: =SUM(B30:E30) -> 0
A31: Összesen | B31: =SUM(B28:B30) -> 170036339 | C31: =SUM(C28:C30) -> 0 | D31: =SUM(D28:D30) -> 0 | E31: =SUM(E28:E30) -> 0 | F31: =SUM(F28:F30) -> 170036339
A33: Kiadások | B33: 2017 év | C33: 2018 év | D33: 2019 év | E33: Következő évek | F33: Összesen
A34: személyi juttatások | B34: 85587 | C34: 205409 | D34: 102705 | F34: =SUM(B34:E34) -> 393701
A35: személyi juttatások járulékai | B35: =B34*0.27 -> 23108.49 | C35: =C34*0.27 -> 55460.43 | D35: =D34*0.27 -> 27730.35 | F35: =SUM(B35:E35) -> 106299.27
A36: dologi kiadások | B36: 3050000 | C36: 6600000 | D36: 5241339 | F36: =SUM(B36:E36) -> 14891339
A37: felújítások | F37: =SUM(B37:E37) -> 0
A38: beruházások | C38: 146845000 | D38: 7800000 | F38: =SUM(B38:E38) -> 154645000
A39: átadott pénzeszközök | F39: 0
A40: Összesen | B40: =SUM(B34:B39) -> 3158695.5 | C40: =SUM(C34:C39) -> 1.5370587e+08 | D40: =SUM(D34:D39) -> 13171774 | E40: =SUM(E34:E39) -> 0 | F40: =SUM(F34:F39) -> 1.7003634e+08
B43: TOP-1.1.1-15-VE1-2016-00010
A44: EU Projekt megnevezése: | B44: "Térségi kihatással bíró ipartelepíítés infrastruktúrális feltételeinek megteremtése Balatonfüreden"
A47: Bevételek | B47: 2017 év | C47: 2018 év | D47: 2019 év | E47: Következő évek | F47: Összesen
A48: EU forrás | B48: 590000000 | F48: =SUM(B48:E48) -> 590000000
A49: Egyéb forrás | F49: =SUM(B49:E49) -> 0
A50: Saját forrás | B50: 0 | F50: =SUM(B50:E50) -> 0
A51: Összesen | B51: =SUM(B48:B50) -> 590000000 | C51: =SUM(C48:C50) -> 0 | D51: =SUM(D48:D50) -> 0 | E51: =SUM(E48:E50) -> 0 | F51: =SUM(F48:F50) -> 590000000
A53: Kiadások | B53: 2017 év | C53: 2018 év | D53: 2019 év | E53: Következő évek | F53: Összesen
A54: személyi juttatások | F54: =SUM(B54:E54) -> 0
A55: személyi juttatások járulékai | B55: =B54*0.27 -> 0 | C55: =C54*0.27 -> 0 | D55: =D54*0.27 -> 0 | F55: =SUM(B55:E55) -> 0
A56: dologi kiadások | B56: 7720000 | C56: 4666666 | D56: 4666666 | E56: 3946668 | F56: =SUM(B56:E56) -> 21000000
A57: felújítások | F57: =SUM(B57:E57) -> 0
A58: beruházások | B58: 29000000 | C58: 351250000 | D58: 188750000 | F58: =SUM(B58:E58) -> 569000000
A59: átadott pénzeszközök | F59: 0
A60: Összesen | B60: =SUM(B54:B59) -> 36720000 | C60: =SUM(C54:C59) -> 355916666 | D60: =SUM(D54:D59) -> 193416666 | E60: =SUM(E54:E59) -> 3946668 | F60: =SUM(F54:F59) -> 590000000
B63: TOP-4.1.1-15-VE1-2016-00019
A64: EU Projekt megnevezése: | B64: "Az egészségügyi alapellátás fejelesztése Balatonfüreden"
A67: Bevételek | B67: 2017 év | C67: 2018 év | D67: 2019 év | E67: Következő évek | F67: Összesen
A68: EU forrás | B68: 59937000 | F68: =SUM(B68:E68) -> 59937000
A69: Egyéb forrás | F69: =SUM(B69:E69) -> 0
A70: Saját forrás | B70: 0 | F70: =SUM(B70:E70) -> 0
A71: Összesen | B71: =SUM(B68:B70) -> 59937000 | C71: =SUM(C68:C70) -> 0 | D71: =SUM(D68:D70) -> 0 | E71: =SUM(E68:E70) -> 0 | F71: =SUM(F68:F70) -> 59937000
A73: Kiadások | B73: 2017 év | C73: 2018 év | D73: 2019 év | E73: Következő évek | F73: Összesen
A74: személyi juttatások | B74: 199038 | C74: 341207 | D74: 341207 | E74: 142170 | F74: =SUM(B74:E74) -> 1023622
A75: személyi juttatások járulékai | B75: =B74*0.27 -> 53740.26 | C75: =C74*0.27 -> 92125.89 | D75: =D74*0.27 -> 92125.89 | E75: =E74*0.27 -> 38385.9 | F75: =SUM(B75:E75) -> 276377.94
A76: dologi kiadások | B76: 1397000 | C76: 500000 | E76: 230000 | F76: =SUM(B76:E76) -> 2127000
A77: felújítások | F77: =SUM(B77:E77) -> 0
A78: beruházások | C78: 28820000 | D78: 27690000 | F78: =SUM(B78:E78) -> 56510000
A79: átadott pénzeszközök | F79: 0
A80: Összesen | B80: =SUM(B74:B79) -> 1649778.3 | C80: =SUM(C74:C79) -> 29753333 | D80: =SUM(D74:D79) -> 28123333 | E80: =SUM(E74:E79) -> 410555.9 | F80: =SUM(F74:F79) -> 59937000
B83: KÖFOP-1.2.1-VEKOP-16-2017-01024
A84: EU Projekt megnevezése: | B84: "Balatonfüred Város Önkormányzata ASP központhoz való csatlakozása"
A87: Bevételek | B87: 2017 év | C87: 2018 év | D87: 2019 év | E87: Következő évek | F87: Összesen
A88: EU forrás | B88: 9000000 | F88: =SUM(B88:E88) -> 9000000
A89: Egyéb forrás | F89: =SUM(B89:E89) -> 0
A90: Saját forrás | B90: 0 | F90: =SUM(B90:E90) -> 0
A91: Összesen | B91: =SUM(B88:B90) -> 9000000 | C91: =SUM(C88:C90) -> 0 | D91: =SUM(D88:D90) -> 0 | E91: =SUM(E88:E90) -> 0 | F91: =SUM(F88:F90) -> 9000000
A93: Kiadások | B93: 2017 év | C93: 2018 év | D93: 2019 év | E93: Következő évek | F93: Összesen
A94: személyi juttatások | B94: 339106 | C94: 214172 | F94: =SUM(B94:E94) -> 553278
A95: személyi juttatások járulékai | B95: =B94*0.22 -> 74603.32 | C95: =C94*0.22 -> 47117.84 | D95: =D94*0.27 -> 0 | F95: =SUM(B95:E95) -> 121721.16
A96: dologi kiadások | B96: 4050001 | C96: 2115000 | F96: =SUM(B96:E96) -> 6165001
A97: felújítások | F97: =SUM(B97:E97) -> 0
A98: beruházások | B98: 1080000 | C98: 1080000 | F98: =SUM(B98:E98) -> 2160000
A99: átadott pénzeszközök | F99: 0
A100: Összesen | B100: =SUM(B94:B99) -> 5543710.3 | C100: =SUM(C94:C99) -> 3456289.8 | D100: =SUM(D94:D99) -> 0 | E100: =SUM(E94:E99) -> 0 | F100: =SUM(F94:F99) -> 9000000.2
B102: TOP-5.1.2-15-VE1-2016-00001
A103: EU Projekt megnevezése: | B103: "Balatonfüred és Balatonalmádi közös helyi foglalkoztatási együttműködés"
A106: Bevételek | B106: 2017 év | C106: 2018 év | D106: 2019 év | E106: Következő évek | F106: Összesen
A107: EU forrás | B107: 76775000 | F107: =SUM(B107:E107) -> 76775000
A108: Egyéb forrás | F108: =SUM(B108:E108) -> 0
A109: Saját forrás | B109: 0 | F109: =SUM(B109:E109) -> 0
A110: Összesen | B110: =SUM(B107:B109) -> 76775000 | C110: =SUM(C107:C109) -> 0 | D110: =SUM(D107:D109) -> 0 | E110: =SUM(E107:E109) -> 0 | F110: =SUM(F107:F109) -> 76775000
A112: Kiadások | B112: 2017 év | C112: 2018 év | D112: 2019 év | E112: Következő évek | F112: Összesen
A113: személyi juttatások | B113: 3732108 | C113: 6397900 | D113: 6397900 | E113: 2665792 | F113: =SUM(B113:E113) -> 19193700
A114: személyi juttatások járulékai | B114: =B113*0.27 -> 1007669.2 | C114: =C113*0.27 -> 1727433 | D114: =D113*0.27 -> 1727433 | E114: =E113*0.27 -> 719763.84 | F114: =SUM(B114:E114) -> 5182299
A115: dologi kiadások | B115: 24900000 | C115: 10103401 | D115: 16287600 | E115: 1108000 | F115: =SUM(B115:E115) -> 52399001
A116: felújítások | F116: =SUM(B116:E116) -> 0
A117: beruházások | F117: =SUM(B117:E117) -> 0
A118: átadott pénzeszközök | F118: 0
A119: Összesen | B119: =SUM(B113:B118) -> 29639777 | C119: =SUM(C113:C118) -> 18228734 | D119: =SUM(D113:D118) -> 24412933 | E119: =SUM(E113:E118) -> 4493555.8 | F119: =SUM(F113:F118) -> 76775000

Sheet 14. sz. stabilitási tv  (3)
A4: Az önkormányzat adósságot keletkeztető ügyletből származó tárgyévi összes fizetési kötelezettsége az adósságot keletkeztető ügylet futamidejének végéig egyik évben sem haladja meg az önkormányzat adott évi saját bevételeinek 50%-át.
A7: megnevezés | C7: 2017. | D7: 2018. | E7: 2019. | F7: 2020.
A8: 1. Helyi adó és települési adó bevétel | C8: 1537000 | D8: 1537000 | E8: 1537000 | F8: 1537000
A9: 2. Vagyon és vagyonértékű jog értékesítéséből származó bevétel | C9: 169623
A10: 3. Osztalék, koncessziós díj és hozambevétel, | C10: 14000 | D10: 14000 | E10: 14000 | F10: 14000
A11: 4. tárgyi eszköz és immateriális jószág, részvény, részesedés, vállalalat értékesítésből vagy privatizációból származó bevétel | C11: 1732
A12: 5. Bírság, pótlék- és díjbevétel | C12: 86400 | D12: 6400 | E12: 6400 | F12: 6400
A13: 6. Kezességvállalással kapcsolatos megtérülés
A14: Összesen: | C14: =SUM(C8:C13) -> 1808755 | D14: =SUM(D8:D13) -> 1557400 | E14: =SUM(E8:E13) -> 1557400 | F14: =SUM(F8:F13) -> 1557400
A15: az önkormányzat adott évi saját bevételeinek 50%-a (Eft) | C15: =C14*0.5 -> 904377.5 | D15: =D14*0.5 -> 778700 | E15: =E14*0.5 -> 778700 | F15: =F14*0.5 -> 778700
A19: adósságot keletkeztető ügyletekből és kezességvállalásokból fennálló kötelezettségek | B19: futamidő kezdete | C19: 2017. | D19: 2018. | E19: 2019. | F19: 2020.
A20: Balatonfüred Kemping ingatlan vásárlás felvett hitel | B20: 2014 | C20: 74242 | D20: 74242 | E20: 74242 | F20: 74242
A21: Balatonfüred Kemping ingatlan vásárlás hitel kamata | B21: 2014 | C21: 18587 | D21: 16630 | E21: 14673 | F21: 12946
A22: Balatoni Hajózási Zrt. részvények átvét. Tőkejuttatás | B22: 2008. | D22: 128160
A23: Konferencia Központ üzletrész megvásárlása | B23: 2003. | C23: 21000 | D23: 16000 | E23: 16000 | F23: 10000
A24: Panelprogram támogatás | B24: 2005-2009. | C24: 15002 | D24: 8294 | E24: 8295
A25: Összesen (Eft): | C25: =SUM(C20:C24) -> 128831 | D25: =SUM(D20:D24) -> 243326 | E25: =SUM(E20:E24) -> 113210 | F25: =SUM(F20:F24) -> 97188

Sheet 15.16. sz. tábla (2)
A1: 15. sz. melléklet
A3: PARKOLÓHELY MEGVÁLTÁS ALAKULÁSA 2017. ÉV
A6: Megnevezés | B6: Összeg (eFt)
A7: 2011-2015. években befolyt parkolóhely megváltás bevétele | B7: 36650
A8: 2016. évben befolyt parkolóhely megváltás bevétele | B8: 7600
A9: 2017. évben tervezett parkolóhely megváltás bevétele | B9: 5600
A10: Bevétel összesen: | B10: =SUM(B7:B9) -> 49850
A12: 2011. évben a parkolóhely megváltás alap terhére elsz. kiadás | B12: 24450
A13: 2011. évben megelőlegezett kiadás a 2013. évi bevétel terhére | B13: 1000
A14: 2011. évben megelőlegezett kiadás a 2014. évi bevétel terhére | B14: 5600
A15: 2011. évben megelőlegezett kiadás a 2015. évi bevétel terhére | B15: 5600
A16: 2011. évben megelőlegezett kiadás a 2016. évi bevétel terhére | B16: 7600
A17: 2011. évben megelőlegezett kiadás a 2017. évi bevétel terhére | B17: 5600
A18: Kiadás összesen: | B18: =SUM(B12:B17) -> 49850 | D18: =24450+29000 -> 53450
A20: 2017. évben céltartalékba helyezve | B20: =B10-B18 -> 0
A24: 16. sz. melléklet
A26: KÖRNYEZETVÉDELMI ALAP ALAKULÁSA 2017. ÉV
A29: Megnevezés | B29: Összeg (eFt)
A30: 2014. évi záró | B30: 5301
A31: 2015. év
A32: Környezetvédelmi bírság | B32: 0
A33: Talajterhelési díj | B33: 860
A34: 2015. évi kiadás | B34: 0
A35: 2015. évi záró | B35: =B30+B32+B33-B34 -> 6161
A36: 2016. évi kiadás | B36: 0
A37: 2016. évi bevétel | B37: =707 -> 707
A38: 2016. évi záró | B38: =B35-B36+B37 -> 6868
A39: 2017. évi tervezetett kiadás
A40: 2017. évi tervezett bevétel | B40: 900
A41: 2017. évi várható záró | B41: =B38-B39+B40 -> 7768

Sheet 17. sz. tábla 
A3: BEVÉTELEK ÉS KIADÁSOK ELŐIRÁNYZATÁNAK HAVI ÜTEMEZÉSE 2017. ÉV
A5: Megnevezés | B5: Január | C5: Február | D5: Március | E5: Április | F5: Május | G5: Június | H5: Július | I5: Augusztus | J5: Szeptember | K5: Október | L5: November | M5: December | N5: Összesen
A6: Nyitó pénzkészlet | B6: 976185625 | C6: =B55 -> 863230417 | D6: =C55 -> 726988337 | E6: =D55 -> 125219202 | F6: =E55 -> 840093689 | G6: =F55 -> 440751566 | H6: =G55 -> 1298827380 | I6: =H55 -> 976029365 | J6: =I55 -> 774696388 | ... M6: =L55 -> 1084912126 | N6: 976185625
A7: Önkormányzat
A8: Működési célú támogatások áh-n belülről | B8: 116516137 | C8: 75434495 | D8: 80123085 | E8: 76060756 | F8: 87503520 | G8: 436159264 | H8: 76212591 | I8: 83212591 | J8: 93570191 | K8: 74212591 | L8: 77760407 | M8: 74988079 | N8: =SUM(B8:M8) -> 1351753707 | O8: ='8a. sz. tábla (4)'!C8 -> 1120350295
A9: Közhatalmi bevételek | B9: 16170000 | C9: 12000000 | D9: 461000000 | E9: 28000000 | F9: 81000000 | G9: 42230000 | H9: 80000000 | I9: 130000000 | J9: 600000000 | K9: 60000000 | L9: 60000000 | M9: 105000000 | N9: =SUM(B9:M9) -> 1675400000 | O9: ='8a. sz. tábla (4)'!C9 -> 1675400000
A10: Működési bevételek | B10: 21234618 | C10: 41452420 | D10: 22595299 | E10: 31411835 | F10: 42665459 | G10: 22253399 | H10: 65445320 | I10: 169482070 | J10: 78005299 | K10: 23054120 | L10: 12810300 | M10: 18399300 | N10: =SUM(B10:M10) -> 548809439 | O10: ='8a. sz. tábla (4)'!C10 -> 548809439
A11: Működési célú átvett pénzeszközök | B11: 50000 | C11: 50000 | D11: 5050000 | E11: 50000 | F11: 600575 | G11: 50000 | H11: 50000 | I11: 50000 | J11: 50000 | K11: 50000 | L11: 50000 | M11: 50000 | N11: =SUM(B11:M11) -> 6150575 | O11: ='8a. sz. tábla (4)'!C11 -> 6150575
A12: Közös Önkormányzati Hivatal | N12: =SUM(B12:M12) -> 0
A13: Működési célú támogatások áh-n belülről | B13: 0 | C13: 603125 | D13: 5223910 | E13: 1741305 | F13: 1741305 | G13: 1741305 | H13: 1843521 | I13: 1843521 | J13: 1843521 | K13: 1843521 | L13: 1843521 | M13: 1843519 | N13: =SUM(B13:M13) -> 22112074 | O13: ='2.sz.tábla (2)'!F6 -> 22112074
A14: Közhatalmi bevételek | C14: 50000 | F14: 150000 | I14: 150000 | L14: 150000 | N14: =SUM(B14:M14) -> 500000 | O14: ='2.sz.tábla (2)'!F29 -> 500000
A15: Működési bevételek | B15: 632460 | C15: 886460 | D15: 1013460 | E15: 1907540 | F15: 3426460 | G15: 1521460 | H15: 1457960 | I15: 1463040 | J15: 949960 | K15: 1394460 | L15: 822960 | M15: 633730 | N15: =SUM(B15:M15) -> 16109950 | O15: ='2.sz.tábla (2)'!F42 -> 16109950
A16: Intézmények | N16: =SUM(B16:M16) -> 0
A17: Működési célú támogatások áh-n belülről | B17: 9034417 | C17: 9035416 | D17: 9035417 | E17: 9035417 | F17: 9035416 | G17: 9620214 | H17: 10008626 | I17: 9661071 | J17: 9694863 | K17: 9718393 | L17: 9683381 | M17: 9561100 | N17: =SUM(B17:M17) -> 113123731 | O17: ='2.sz.tábla (2)'!I6 -> 113123731
A18: Működési bevételek | B18: 2484000 | C18: 3345000 | D18: 3340000 | E18: 2486000 | F18: 3345000 | G18: 4006000 | H18: 2485000 | I18: 3347000 | J18: 3340000 | K18: 2485000 | L18: 3344000 | M18: 3341000 | N18: =SUM(B18:M18) -> 37348000 | O18: ='2.sz.tábla (2)'!I42 -> 37348000
A19: Működési célú átvett pénzeszközök | N19: =SUM(B19:M19) -> 0 | O19: ='2.a tábla ÚJ '!M40 -> 0
A20: Működési bevételek összesen: | B20: =SUM(B8:B19) -> 166121632 | C20: =SUM(C8:C19) -> 142856916 | D20: =SUM(D8:D19) -> 587381171 | E20: =SUM(E8:E19) -> 150692853 | F20: =SUM(F8:F19) -> 229467735 | G20: =SUM(G8:G19) -> 517581642 | H20: =SUM(H8:H19) -> 237503018 | I20: =SUM(I8:I19) -> 399209293 | ... O20: =SUM(O8:O19) -> 3539904064
A21: Felhalmozási célú támogatások áh-n belülről | B21: 0 | C21: 3348384 | D21: 0 | E21: 761000000 | F21: 600700000 | G21: 814973339 | H21: 0 | I21: 76775000 | J21: 100982802 | M21: 5000000 | N21: =SUM(B21:M21) -> 2362779525 | O21: ='8a. sz. tábla (4)'!C31 -> 2362779525
A22: Felhalmozási bevételek | B22: 48723100 | C22: 20900000 | D22: 101732283 | E22: 0 | N22: =SUM(B22:M22) -> 171355383 | O22: ='8a. sz. tábla (4)'!C32 -> 171355383
A23: Felhalmozási célú átvett pénzeszközök | B23: 7970885 | C23: 1675091 | D23: 1675091 | E23: 2970885 | F23: 1675091 | G23: 36675091 | H23: 191970885 | I23: 18675091 | J23: 1675091 | K23: 1970885 | L23: 1675091 | M23: 7209782 | N23: =SUM(B23:M23) -> 275818959 | O23: ='8a. sz. tábla (4)'!C33 -> 275818959
A24: Közös Önkormányzati Hivatal felhalm.bev. | N24: =SUM(B24:M24) -> 0
A25: Intézményi felhalmozási bevételek | N25: =SUM(B25:M25) -> 0
A26: Felhalmozási bevételek összesen | B26: =SUM(B21:B25) -> 56693985 | C26: =SUM(C21:C25) -> 25923475 | D26: =SUM(D21:D25) -> 103407374 | E26: =SUM(E21:E25) -> 763970885 | F26: =SUM(F21:F25) -> 602375091 | G26: =SUM(G21:G25) -> 851648430 | H26: =SUM(H21:H25) -> 191970885 | I26: =SUM(I21:I25) -> 95450091 | ... O26: =SUM(O21:O25) -> 2809953867
A27: Költségvetési bevételek összesen: | B27: =B20+B26 -> 222815617 | C27: =C20+C26 -> 168780391 | D27: =D20+D26 -> 690788545 | E27: =E20+E26 -> 914663738 | F27: =F20+F26 -> 831842826 | G27: =G20+G26 -> 1369230072 | H27: =H20+H26 -> 429473903 | I27: =I20+I26 -> 494659384 | ... N27: =N20+N26 -> 6581261343 | O27: =O26+O20 -> 6349857931
A28: Finanszírozási bevételek (hitel, kötvény, értékpapír, betét, állami támogatás megelőlegezés) | B28: 1100000 | C28: 1100000 | D28: 1282280000 | E28: 610100000 | F28: 1100000 | G28: 482280000 | H28: 1100000 | I28: 1100000 | J28: 1000000 | K28: 1000000 | L28: 122000000 | M28: 1000000 | N28: =SUM(B28:M28) -> 2505160000 | O28: ='8a. sz. tábla (4)'!C45+'8a. sz. tábla (4)'!C25 -> 2505160000
A29: Pénzforgalom nélküli bevételek Önkormányzat | B29: 259729894 | C29: 102980960 | D29: 310481495 | E29: 15835000 | F29: 80110570 | G29: 17991575 | H29: 349250 | I29: 25833000 | J29: 2911000 | K29: 316000 | L29: 0 | M29: 200732584 | N29: =SUM(B29:M29) -> 1017271328 | O29: ='2.sz.tábla (2)'!C75 -> 1017271328
A30: Pénzforgalom nélküli bevételek Hivatal | B30: 5524496 | G30: 16806828 | H30: 2105398 | K30: 2000000 | N30: =SUM(B30:M30) -> 26436722 | O30: ='2.a tábla ÚJ '!Q46 -> 26436722
A31: Pénzforgalom nélküli bevételek Intézmények | B31: 100000 | C31: 80000 | D31: 200000 | E31: 100000 | F31: 0 | G31: 12898106 | H31: 0 | I31: 0 | J31: 0 | K31: 0 | L31: 0 | M31: 0 | N31: =SUM(B31:M31) -> 13378106 | O31: ='2.sz.tábla (2)'!I75 -> 13378106
A32: Bevételek összesen: | B32: =SUM(B27:B31) -> 489270007 | C32: =SUM(C27:C31) -> 272941351 | D32: =SUM(D27:D31) -> 2283750040 | E32: =SUM(E27:E31) -> 1540698738 | F32: =SUM(F27:F31) -> 913053396 | G32: =SUM(G27:G31) -> 1899206581 | H32: =SUM(H27:H31) -> 433028551 | I32: =SUM(I27:I31) -> 521592384 | ... O32: =SUM(O27:O31) -> 9912104087
A33: Közös Önkormányzati Hivatal működési kiadásai személyi juttatás | B33: 18219473 | C33: 19625679 | D33: 19561219 | E33: 20716219 | F33: 24758912 | G33: 20327219 | H33: 20593719 | I33: 21256219 | J33: 23944219 | K33: 20001222 | L33: 20301219 | M33: 24872107 | N33: =SUM(B33:M33) -> 254177426 | O33: ='5.tábla (2)'!C7 -> 254177426
