Workbook
Name Excel_BuiltIn_Print_Area: BEVÉTELEK!$A$1:$K$45
Name Excel_BuiltIn_Print_Area: 'BEVÉTELEK ÖNK'!$A$1:$H$46
Name Excel_BuiltIn_Print_Area: 'BEVÉTELEK TÁRSULÁS'!$A$1:$H$18
Name Excel_BuiltIn_Print_Area: HITEL!$A$1:$D$70
Name Excel_BuiltIn_Print_Area: KÖZVETETT!$A$2:$E$31
Name Excel_BuiltIn_Print_Area: 'STABILITÁSI 2'!$A$1:$G$42
Name Excel_BuiltIn_Print_Area: 'STABILTÁSI 1'!$A$1:$J$41
Name Excel_BuiltIn_Print_Area: 'TÖBB ÉVES'!$A$3:$I$33

Sheet BEVÉTELEK
A1: BALATONEDERICS KÖZSÉG ÖNKORMÁNYZAT 2020. ÉVI KÖLTSÉGVETÉS
A2: Önkormányzat és költségvetési szervei - Bevételek (Ft)
B3: 1. melléklet Balatonederics Község Önkormányzat 2020.évi költségvetésének módosításáról szóló 20/2020.(XII.10.) önkormányzati rendelethez.
B4: 1. melléklet Balatonederics Község Önkormányzat 2020.évi költségvetéséről szóló 4/2020.(III.12.) önkormányzati rendelethez.
A5: Sor- szám | B5: Rovat megnevezése | C5: Rovat száma | D5: ÖNKORMÁNYZAT EREDETI EI. | E5: TÁRSULÁS EREDETI EI. | F5: ÓVODA EREDETI EI. | G5: MINDÖSSZESEN EREDETI EI. | H5: ÖNKORMÁNYZAT Módosított Ei. | I5: TÁRSULÁS Módosított EI. | J5: ÓVODA Módosított EI. | K5: MINDÖSSZESEN Módosított EI.
A6: 01 | B6: Helyi önkormányzatok működésének általános támogatása | C6: B111 | D6: =SUM('BEVÉTELEK ÖNK'!D7) -> 27806802 | E6: 0 | F6: 0 | G6: =SUM(D6:F6) -> 27806802 | H6: 27424702 | I6: 0 | J6: 0 | K6: =SUM(H6:J6) -> 27424702
A7: 02 | B7: Települési önkormányzatok egyes köznevelési feladatainak támogatása | C7: B112 | D7: =SUM('BEVÉTELEK ÖNK'!D8) -> 29754540 | E7: 0 | F7: 0 | G7: =SUM(D7:F7) -> 29754540 | H7: 32157930 | I7: 0 | J7: 0 | K7: =SUM(H7:J7) -> 32157930
A8: 03 | B8: Települési önkormányzatok szociális gyermekjóléti feladatainak támogatás | C8: B1131 | D8: =SUM('BEVÉTELEK ÖNK'!D9) -> 6376000 | E8: 0 | F8: 0 | G8: =SUM(D8:F8) -> 6376000 | H8: 6376000 | I8: 0 | J8: 0 | K8: =SUM(H8:J8) -> 6376000
A9: 04 | B9: Települési Önkormányzatok Gyermekétkeztetési feladatainak támogatása | C9: B1132 | E9: 0 | F9: 0 | H9: 14223285 | I9: 0 | J9: 0 | K9: =SUM(H9:J9) -> 14223285
A10: 05 | B10: Települési önkormányzatok kulturális feladatainak támogatása | C10: B114 | D10: =SUM('BEVÉTELEK ÖNK'!D11) -> 1800000 | E10: 0 | F10: 0 | G10: =SUM(D10:F10) -> 1800000 | H10: 2593466 | I10: 0 | J10: 0 | K10: =SUM(H10:J10) -> 2593466
A11: 06 | B11: Működési célú költségvetési támogatások és kiegészítések | C11: B115 | E11: 0 | H11: 1090950 | K11: =SUM(H11:J11) -> 1090950
A12: 07 | B12: Önkormányzatok működési támogatásai (=01+…+06) | C12: B11 | D12: =SUM('BEVÉTELEK ÖNK'!D13) -> 65737342 | E12: 0 | F12: 0 | G12: =SUM(D12:F12) -> 65737342 | H12: =SUM(H6:H11) -> 83866333 | I12: 0 | J12: 0 | K12: =SUM(H12:J12) -> 83866333
A13: 08 | B13: Egyéb működési célú támogatások bevételei államháztartáson belülről | C13: B16 | D13: =SUM('BEVÉTELEK ÖNK'!D14) -> 17781663 | E13: 0 | F13: 0 | G13: =SUM(D13:F13) -> 17781663 | H13: 14326140 | I13: 74719942 | J13: 0 | K13: =SUM(H13:J13) -> 89046082
A14: 09 | B14: Működési célú támogatások államháztartáson belülről (=07+…+12) | C14: B1 | D14: =SUM(D12+D13) -> 83519005 | E14: 0 | F14: 0 | G14: =SUM(G12:G13) -> 83519005 | H14: =SUM(H12+H13) -> 98192473 | I14: =SUM(I13) -> 74719942 | J14: 0 | K14: =SUM(H14:J14) -> 172912415
A15: 10 | B15: Felhalmozási célú önkormányzati támogatások | C15: B21 | D15: =SUM('BEVÉTELEK ÖNK'!D16) -> 32127349 | E15: 0 | F15: 0 | G15: =SUM(D15:F15) -> 32127349 | H15: 0 | I15: 0 | J15: 0 | K15: =SUM(H15:J15) -> 0
A16: 11 | B16: Egyéb felhalmozási célú támogatások bevételei államháztartáson belülről | C16: B25 | D16: =SUM('BEVÉTELEK ÖNK'!D17) -> 0 | E16: 0 | F16: 0 | G16: =SUM(D16:F16) -> 0 | H16: 64474985 | I16: 0 | J16: 0 | K16: =SUM(H16:J16) -> 64474985
A17: 12 | B17: Felhalmozási célú támogatások államháztartáson belülről (=14+…+18) | C17: B2 | D17: =SUM('BEVÉTELEK ÖNK'!D18) -> 32127349 | E17: 0 | F17: 0 | G17: =SUM(D17:F17) -> 32127349 | H17: =SUM(H15:H16) -> 64474985 | I17: 0 | J17: 0 | K17: =SUM(H17:J17) -> 64474985
A18: 13 | B18: Vagyoni tipusú adók | C18: B34 | D18: =SUM('BEVÉTELEK ÖNK'!D19) -> 22910491 | E18: 0 | F18: 0 | G18: =SUM(D18:F18) -> 22910491 | H18: =SUM(E18:G18) -> 22910491 | I18: 0 | J18: 0 | K18: =SUM(H18:J18) -> 22910491
A19: 14 | B19: Értékesítési és forgalmi adók | C19: B351 | D19: =SUM('BEVÉTELEK ÖNK'!D20) -> 15385294 | E19: 0 | F19: 0 | G19: =SUM(D19:F19) -> 15385294 | H19: =SUM(E19:G19) -> 15385294 | I19: 0 | J19: 0 | K19: =SUM(H19:J19) -> 15385294
A20: 15 | B20: Gépjárműadók | C20: B354 | D20: =SUM('BEVÉTELEK ÖNK'!D23) -> 3229810 | E20: 0 | F20: 0 | G20: =SUM(D20:F20) -> 3229810 | H20: 0 | I20: 0 | J20: 0 | K20: =SUM(H20:J20) -> 0
A21: 16 | B21: Egyéb áruhasználati és szolgáltatási adók | C21: B355 | D21: =SUM('BEVÉTELEK ÖNK'!D24) -> 0 | E21: 0 | F21: 0 | G21: =SUM(D21:F21) -> 0 | H21: 143730 | I21: 0 | J21: 0 | K21: =SUM(H21:J21) -> 143730
A22: 17 | B22: Termékek és szolgáltatások adói (=26+…+30) | C22: B35 | D22: =SUM(D18:D21) -> 41525595 | E22: 0 | F22: 0 | G22: =SUM(D22:F22) -> 41525595 | H22: =SUM(H19:H21) -> 15529024 | I22: 0 | J22: 0 | K22: =SUM(H22:J22) -> 15529024
A23: 18 | B23: Egyéb közhatalmi bevételek | C23: B36 | D23: =SUM('BEVÉTELEK ÖNK'!D26) -> 49870 | E23: 0 | F23: 0 | G23: =SUM(D23:F23) -> 49870 | H23: 184799 | I23: 0 | J23: 0 | K23: =SUM(H23:J23) -> 184799
A24: 19 | B24: Közhatalmi bevételek (=22+...+25+31+32) | C24: B3 | D24: =SUM(D22:D23) -> 41575465 | E24: 0 | F24: 0 | G24: =SUM(G22:G23) -> 41575465 | H24: =SUM(H18+H22+H23) -> 38624314 | I24: 0 | J24: 0 | K24: =SUM(H24:J24) -> 38624314
A25: 20 | B25: Szolgáltatások ellenértéke | C25: B402 | D25: =SUM('BEVÉTELEK ÖNK'!D28) -> 18650000 | E25: 0 | F25: 16618151 | G25: =SUM(D25:F25) -> 35268151 | H25: 52322866 | I25: 0 | J25: 16618151 | K25: =SUM(H25:J25) -> 68941017
A26: 21 | B26: Közvetített szolgáltatások ellenértéke | C26: B403 | D26: =SUM('BEVÉTELEK ÖNK'!D29) -> 0 | E26: 0 | F26: 0 | G26: =SUM(D26:F26) -> 0 | H26: 566508 | I26: 0 | J26: 0 | K26: =SUM(H26:J26) -> 566508
A27: 22 | B27: Tulajdonosi bevételek | C27: B404 | D27: 50000000 | E27: 0 | F27: 0 | G27: =SUM(D27:F27) -> 50000000 | H27: 3044650 | I27: 0 | J27: 0 | K27: =SUM(H27:J27) -> 3044650
A28: 23 | B28: Ellátási díjak | C28: B405 | D28: 0 | E28: 0 | F28: =SUM('BEVÉTEL ÓVODA'!D8) -> 2460886 | G28: =SUM(D28:F28) -> 2460886 | H28: 0 | I28: 0 | J28: 2460886 | K28: =SUM(H28:J28) -> 2460886
A29: 24 | B29: Kiszámlázott általános forgalmi adó | C29: B406 | D29: =SUM('BEVÉTELEK ÖNK'!D31) -> 4295000 | E29: 0 | F29: =SUM('BEVÉTEL ÓVODA'!D9) -> 5151345 | G29: =SUM(D29:F29) -> 9446345 | H29: 11248152 | I29: 0 | J29: 5151345 | K29: =SUM(H29:J29) -> 16399497
A30: 25 | B30: Kamatbevételek és más nyereségjellegű bevételek (=41+42) | C30: B408 | D30: =SUM('BEVÉTELEK ÖNK'!D33) -> 0 | E30: 0 | F30: =SUM('BEVÉTEL ÓVODA'!D10) -> 0 | G30: =SUM(D30:F30) -> 0 | H30: 20 | I30: 0 | J30: 1 | K30: =SUM(H30:J30) -> 21
A31: 26 | B31: Egyéb működési bevételek | C31: B411 | D31: =SUM('BEVÉTELEK ÖNK'!D34) -> 800000 | E31: 0 | F31: =SUM('BEVÉTEL ÓVODA'!D11) -> 0 | G31: =SUM(D31:F31) -> 800000 | H31: 1825413 | I31: 0 | J31: 5000 | K31: =SUM(H31:J31) -> 1830413
A32: 27 | B32: Működési bevételek (=34+…+40+43+46+...+48) | C32: B4 | D32: =SUM(D25:D31) -> 73745000 | E32: 0 | F32: =SUM('BEVÉTEL ÓVODA'!D12) -> 24230382 | G32: =SUM(G25:G31) -> 97975382 | H32: =SUM(H25:H31) -> 69007609 | I32: 0 | J32: =SUM(J25+J28+J29+J30+J31) -> 24235383 | K32: =SUM(H32:J32) -> 93242992
A33: 28 | B33: Ingatlanok értékesítése | C33: B52 | D33: =SUM('BEVÉTELEK ÖNK'!D36) -> 0 | E33: 0 | F33: 0 | G33: =SUM(D33:F33) -> 0 | H33: 1600000 | I33: 0 | J33: 0 | K33: =SUM(H33:J33) -> 1600000
A34: 29 | B34: Felhalmozási bevételek (=50+…+54) | C34: B5 | D34: =SUM('BEVÉTELEK ÖNK'!D37) -> 0 | E34: 0 | F34: 0 | G34: =SUM(G33:G33) -> 0 | H34: =SUM(H33:H33) -> 1600000 | I34: 0 | J34: 0 | K34: =SUM(H34:J34) -> 1600000
A35: 30 | B35: Felhalmozási célú visszatérítendő támogatások, kölcsönök visszatérülése államháztartáson kívülről | C35: B74 | D35: =SUM('BEVÉTELEK ÖNK'!D38) -> 0 | E35: 0 | F35: 0 | G35: =SUM(D35:F35) -> 0 | H35: 100000 | I35: 0 | J35: 0 | K35: =SUM(H35:J35) -> 100000
A36: 31 | B36: Egyéb felhalmozási célú átvett pénzeszközök | C36: B75 | D36: 0 | E36: 0 | F36: 0 | G36: =SUM(D36:F36) -> 0 | H36: 0 | I36: 0 | J36: 0 | K36: =SUM(H36:J36) -> 0
A37: 32 | B37: Felhalmozási célú átvett pénzeszközök (=62+…+66) | C37: B7 | D37: =SUM('BEVÉTELEK ÖNK'!D39) -> 0 | E37: 0 | F37: 0 | G37: =SUM(G35:G36) -> 0 | H37: =SUM(H35:H36) -> 100000 | I37: 0 | J37: 0 | K37: =SUM(H37:J37) -> 100000
A38: 33 | B38: Költségvetési bevételek (=13+19+33+49+55+61+67) | C38: B1-B7 | D38: =SUM(D14+D17+D24+D32) -> 230966819 | E38: =SUM('BEVÉTELEK TÁRSULÁS'!E9) -> 0 | F38: =SUM('BEVÉTEL ÓVODA'!D13) -> 24230382 | G38: =SUM(G14+G17+G24+G32+G34+G37) -> 255197201 | H38: =SUM(H14+H17+H24+H32+H34+H37) -> 271999381 | I38: =SUM(I14) -> 74719942 | J38: =SUM(J32) -> 24235383 | K38: =SUM(H38:J38) -> 370954706
A39: 34 | B39: Előző év költségvetési maradványának igénybevétele | C39: B8131 | D39: =SUM('BEVÉTELEK ÖNK'!D41) -> 103770784 | E39: =SUM('BEVÉTELEK TÁRSULÁS'!D10) -> 104094 | F39: =SUM('BEVÉTEL ÓVODA'!D14) -> 123965 | G39: =SUM(D39:F39) -> 103998843 | H39: 85482904 | I39: 104122 | J39: 81267 | K39: =SUM(H39:J39) -> 85668293
A40: 35 | B40: Maradvány igénybevétele (=10+11) | C40: B813 | D40: =SUM('BEVÉTELEK ÖNK'!D42) -> 103770784 | E40: =SUM('BEVÉTELEK TÁRSULÁS'!D12) -> 104094 | F40: =SUM('BEVÉTEL ÓVODA'!D15) -> 123965 | G40: =SUM(D40:F40) -> 103998843 | H40: =SUM(H39:H39) -> 85482904 | I40: =SUM(I39:I39) -> 104122 | J40: =SUM(J39:J39) -> 81267 | K40: =SUM(H40:J40) -> 85668293
...

Sheet BEVÉTELEK ÖNK
B1: 2. melléklet Balatonederics Község Önkormányzat 2020.évi költségvetésének módosításáról szóló 20/2020.(XII.10.) önkormányzati rendelethez.
B2: 2. melléklet Balatonederics Község Önkormányzat 2020.évi költségvetéséről szóló 4/2020.(III.12.) önkormányzati rendelethez.
A3: BALATONEDERICS KÖZSÉG ÖNKORMÁNYZAT 2020. ÉVI KÖLTSÉGVETÉS
A4: Önkormányzati előirányzatok - Bevételek (Ft)
A6: Sor- szám | B6: Rovat megnevezése | C6: Rovat száma | D6: ÖNKORMÁNYZAT EREDETI EI. | E6: EBBŐL KÖTELEZŐ | F6: Módosítás | G6: ÖNKORMÁNYZAT MÓDOSÍTOTT EI. | H6: EBBŐL KÖTELEZŐ
A7: 01 | B7: Helyi önkormányzatok működésének általános támogatása | C7: B111 | D7: 27806802 | E7: =D7 -> 27806802 | F7: =G7-E7 -> -382100 | G7: 27424702 | H7: 27424702
A8: 02 | B8: Települési önkormányzatok egyes köznevelési feladatainak támogatása | C8: B112 | D8: 29754540 | E8: =D8 -> 29754540 | F8: =G8-E8 -> 2403390 | G8: 32157930 | H8: 32157930
A9: 03 | B9: Települési önkormányzatok szociális gyermekjóléti és gyermekétkeztetési feladatainak támogatása | C9: B1131 | D9: 6376000 | E9: =D9 -> 6376000 | F9: =G9-E9 -> 0 | G9: =E9 -> 6376000 | H9: =G9 -> 6376000
A10: 04 | B10: Települési Önkormányzatok Gyermekétkeztetési feladatainak támogatása | C10: B1132 | D10: 0 | E10: 0 | F10: =G10-E10 -> 14223285 | G10: 14223285 | H10: 14223285
A11: 05 | B11: Települési önkormányzatok kulturális feladatainak támogatása | C11: B114 | D11: 1800000 | E11: =D11 -> 1800000 | F11: =G11-E11 -> 793466 | G11: 2593466 | H11: 2593466
A12: 06 | B12: Működési célú költségvetési támogatások és kiegészítések | C12: B115 | D12: 0 | E12: 0 | F12: =G12-E12 -> 1090950 | G12: 1090950 | H12: 1090950
A13: 07 | B13: Önkormányzatok működési támogatásai (=01+…+06) | C13: B11 | D13: =SUM(D7:D12) -> 65737342 | E13: =SUM(E7:E12) -> 65737342 | F13: =G13-E13 -> 18128991 | G13: =SUM(G7:G12) -> 83866333 | H13: =SUM(H7:H12) -> 83866333
A14: 08 | B14: Egyéb működési célú támogatások bevételei államháztartáson belülről | C14: B16 | D14: 17781663 | E14: =D14 -> 17781663 | F14: =G14-E14 -> -3455523 | G14: 14326140 | H14: 14326140
A15: 09 | B15: Működési célú támogatások államháztartáson belülről (=07+…+12) | C15: B1 | D15: =SUM(D13:D14) -> 83519005 | E15: =SUM(E13:E14) -> 83519005 | F15: =G15-E15 -> 14673468 | G15: =SUM(G13:G14) -> 98192473 | H15: =SUM(H13:H14) -> 98192473
A16: 10 | B16: Felhalmozási célú önkormányzati támogatások | C16: B21 | D16: 32127349 | E16: 32127349 | F16: =G16-E16 -> -32127349 | G16: 0 | H16: 0
A17: 11 | B17: Egyéb felhalmozási célú támogatások bevételei államháztartáson belülről | C17: B25 | D17: 0 | E17: 0 | F17: =G17-E17 -> 64474985 | G17: 64474985 | H17: 64474985
A18: 12 | B18: Felhalmozási célú támogatások államháztartáson belülről (=14+…+18) | C18: B2 | D18: =SUM(D16:D17) -> 32127349 | E18: =SUM(E16:E17) -> 32127349 | F18: =G18-E18 -> 32347636 | G18: =SUM(G16:G17) -> 64474985 | H18: =SUM(H16:H17) -> 64474985
A19: 13 | B19: Vagyoni tipusú adók | C19: B34 | D19: 22910491 | E19: =D19 -> 22910491 | F19: =G19-E19 -> 0 | G19: =E19 -> 22910491 | H19: =G19 -> 22910491
A20: 14 | B20: Értékesítési és forgalmi adók | C20: B351 | D20: 15385294 | E20: =D20 -> 15385294 | F20: =G20-E20 -> 0 | G20: =E20 -> 15385294 | H20: =G20 -> 15385294
A21: 15 | B21: Fogyasztási adók | C21: B352 | D21: 0 | E21: =D21 -> 0 | F21: =G21-E21 -> 0 | G21: 0 | H21: 0
A22: 16 | B22: Pénzügyi monopóliumok nyereségét terhelő adók | C22: B353 | D22: 0 | E22: =D22 -> 0 | F22: =G22-E22 -> 0 | G22: 0 | H22: 0
A23: 17 | B23: Gépjárműadók | C23: B354 | D23: 3229810 | E23: =D23 -> 3229810 | F23: =G23-E23 -> -3229810 | G23: 0 | H23: 0
A24: 18 | B24: Egyéb áruhasználati és szolgáltatási adók | C24: B355 | D24: 0 | E24: =D24 -> 0 | F24: =G24-E24 -> 143730 | G24: 143730 | H24: 143730
A25: 19 | B25: Termékek és szolgáltatások adói (=26+…+30) | C25: B35 | D25: =SUM(D20:D24) -> 18615104 | E25: =SUM(E20:E24) -> 18615104 | F25: =G25-E25 -> -3086080 | G25: =SUM(G20:G24) -> 15529024 | H25: =SUM(H20:H24) -> 15529024
A26: 20 | B26: Egyéb közhatalmi bevételek | C26: B36 | D26: 49870 | E26: =D26 -> 49870 | F26: =G26-E26 -> 134929 | G26: 184799 | H26: 184799
A27: 21 | B27: Közhatalmi bevételek (=22+...+25+31+32) | C27: B3 | D27: =SUM(D19+D25+D26) -> 41575465 | E27: =SUM(E19+E25+E26) -> 41575465 | F27: =G27-E27 -> -2951151 | G27: =SUM(G19+G25+G26) -> 38624314 | H27: =SUM(H19+H25+H26) -> 38624314
A28: 22 | B28: Szolgáltatások ellenértéke | C28: B402 | D28: 18650000 | E28: =D28 -> 18650000 | F28: =G28-E28 -> 33672866 | G28: 52322866 | H28: 52322866
A29: 23 | B29: Közvetített szolgáltatások ellenértéke | C29: B403 | D29: 0 | E29: =D29 -> 0 | F29: =G29-E29 -> 566508 | G29: 566508 | H29: 566508
A30: 24 | B30: Tulajdonosi bevételek | C30: B404 | D30: 50000000 | E30: =D30 -> 50000000 | F30: =G30-E30 -> -46955350 | G30: 3044650 | H30: 3044650
A31: 25 | B31: Kiszámlázott általános forgalmi adó | C31: B406 | D31: 4295000 | E31: =D31 -> 4295000 | F31: =G31-E31 -> 6953152 | G31: 11248152 | H31: 11248152
A32: 26 | B32: Egyéb kapott (járó) kamatok és kamatjellegű bevételek | C32: B4082 | D32: 0 | E32: =D32 -> 0 | F32: =G32-E32 -> 20 | G32: 20 | H32: 20
A33: 27 | B33: Kamatbevételek és más nyereségjellegű bevételek (=41+42) | C33: B408 | D33: =SUM(D32:D32) -> 0 | E33: =SUM(E32:E32) -> 0 | F33: =G33-E33 -> 20 | G33: =SUM(G32) -> 20 | H33: =SUM(H32) -> 20
A34: 28 | B34: Egyéb működési bevételek | C34: B411 | D34: 800000 | E34: =D34 -> 800000 | F34: =G34-E34 -> 1025413 | G34: 1825413 | H34: 1825413
A35: 29 | B35: Működési bevételek (=34+…+40+43+46+...+48) | C35: B4 | D35: =SUM(D28+D29+D30+D31+D33+D34) -> 73745000 | E35: =SUM(E28+E29+E30+E31+E33+E34) -> 73745000 | F35: =G35-E35 -> -4737391 | G35: =SUM(G28+G29+G30+G31+G33+G34) -> 69007609 | H35: =SUM(H28+H29+H30+H31+H33+H34) -> 69007609
A36: 30 | B36: Ingatlanok értékesítése | C36: B52 | D36: 0 | E36: 0 | F36: =G36-E36 -> 1600000 | G36: 1600000 | H36: 1600000
A37: 31 | B37: Felhalmozási bevételek (=50+…+54) | C37: B5 | D37: =SUM(D36:D36) -> 0 | E37: =SUM(E36:E36) -> 0 | F37: =G37-E37 -> 1600000 | G37: =SUM(G36) -> 1600000 | H37: =SUM(H36) -> 1600000
A38: 32 | B38: Felhalmozási célú visszatérítendő támogatások, kölcsönök visszatérülése államháztartáson kívülről | C38: B74 | D38: 0 | E38: 0 | F38: =G38-E38 -> 100000 | G38: 100000 | H38: 100000
A39: 33 | B39: Felhalmozási célú átvett pénzeszközök (=62+…+66) | C39: B7 | D39: =SUM(D38:D38) -> 0 | E39: =SUM(E38:E38) -> 0 | F39: =G39-E39 -> 100000 | G39: =SUM(G38) -> 100000 | H39: =SUM(H38) -> 100000
A40: 34 | B40: Költségvetési bevételek (=13+19+33+49+55+61+67) | C40: B1-B7 | D40: =SUM(D15+D18+D27+D35+D37+D39) -> 230966819 | E40: =SUM(E15+E18+E27+E35+E37+E39) -> 230966819 | F40: =G40-E40 -> 41032562 | G40: =SUM(G15+G18+G27+G35+G37+G39) -> 271999381 | H40: =SUM(H15+H18+H27+H35+H37+H39) -> 271999381
A41: 35 | B41: Előző év költségvetési maradványának igénybevétele | C41: B8131 | D41: 103770784 | E41: =D41 -> 103770784 | F41: =G41-E41 -> -18287880 | G41: 85482904 | H41: 85482904
...

Sheet BEVÉTELEK TÁRSULÁS
B1: 3. melléklet Balatonederics Község Önkormányzat 2020.évi költségvetésének módosításáról szóló 20/2020.(XII.10.) önkormányzati rendelethez.
B2: 3. melléklet Balatonederics Község Önkormányzat 2020.évi költségvetéséről szóló 4/2020.(III.12.) önkormányzati rendelethez.
A3: ÓVODAI ÉS VÉDŐNŐI TÁRSULÁS BALATONEDERICS 2020. ÉVI KÖLTSÉGVETÉS
A4: Társulási előirányzatok - Bevételek (Ft)
A6: Sor- szám | B6: Rovat megnevezése | C6: Rovat száma | D6: TÁRSULÁS EREDETI EI. | E6: EBBŐL KÖTELEZŐ | F6: MÓDOSÍTÁS | G6: TÁRSULÁS MÓDOSÍTOTT EI. | H6: EBBŐL KÖTELEZŐ
A7: 1 | B7: Egyéb működési célú támogatások bevételei államháztartáson belülről | C7: B16 | E7: =D7 -> 0 | F7: =G7-E7 -> 74719942 | G7: 74719942 | H7: 74719942
A8: 2 | B8: Működési célú támogatások államháztartáson belülről (=07+…+12) | C8: B1 | D8: 0 | E8: 0 | F8: =G8-E8 -> 74719942 | G8: =SUM(G7) -> 74719942 | H8: =SUM(H7) -> 74719942
A9: 3 | B9: Költségvetési bevételek (=13+19+33+49+55+61+67) | C9: B1-B7 | D9: 0 | E9: 0 | F9: =G9-E9 -> 74719942 | G9: =SUM(G8) -> 74719942 | H9: =SUM(H8) -> 74719942
A10: 4 | B10: Előző év költségvetési maradványának igénybevétele | C10: B8131 | D10: 104094 | E10: =D10 -> 104094 | F10: =G10-E10 -> 28 | G10: 104122 | H10: 104122
A11: 5 | B11: Előző év vállalkozási maradványának igénybevétele | C11: B8132 | D11: 0 | E11: 0 | F11: =G11-E11 -> 0 | G11: 0 | H11: 0
A12: 6 | B12: Maradvány igénybevétele (=10+11) | C12: B813 | D12: =SUM(D10:D11) -> 104094 | E12: =SUM(E10:E11) -> 104094 | F12: =G12-E12 -> 28 | G12: =SUM(G10:G11) -> 104122 | H12: =SUM(H10:H11) -> 104122
A13: 7 | B13: Államháztartáson belüli megelőlegezések | C13: B814 | D13: 0 | E13: 0 | F13: =G13-E13 -> 0 | G13: 0 | H13: 0
A14: 8 | B14: Államháztartáson belüli megelőlegezések törlesztése | C14: B815 | D14: 0 | E14: 0 | F14: =G14-E14 -> 0 | G14: 0 | H14: 0
A15: 9 | B15: Központi, irányító szervi támogatás | C15: B816 | D15: 68026305 | E15: =D15 -> 68026305 | F15: =G15-E15 -> -68026305 | G15: 0 | H15: 0
A16: 10 | B16: Belföldi finanszírozás bevételei (=04+09+12+…+17+20) | C16: B81 | D16: =SUM(D12:D15) -> 68130399 | E16: =SUM(E12:E15) -> 68130399 | F16: =G16-E16 -> -68026277 | G16: =SUM(G12:G15) -> 104122 | H16: =SUM(H12:H15) -> 104122
A17: 11 | B17: Finanszírozási bevételek (=21+27+28+29) | C17: B8 | D17: =SUM(D16) -> 68130399 | E17: =SUM(E16) -> 68130399 | F17: =G17-E17 -> -68026277 | G17: =SUM(G12) -> 104122 | H17: =SUM(H12) -> 104122
A18: 12 | B18: BEVÉTELEK MINDÖSSZESEN | D18: =SUM(D17+D9) -> 68130399 | E18: =SUM(E17+E9) -> 68130399 | F18: =SUM(F9+F17) -> 6693665 | G18: =SUM(G9+G17) -> 74824064 | H18: =SUM(H9+H17) -> 74824064

Sheet BEVÉTEL ÓVODA
B1: 4. melléklet Balatonederics Község Önkormányzat 2020.évi költségvetésének módosításáról szóló 20/2020.(XII.10.) önkormányzati rendelethez.
B2: 4. melléklet Balatonederics Község Önkormányzat 2020.évi költségvetéséről szóló 4/2020.(III.12.) önkormányzati rendelethez.
A3: ÓVODAI ÉS VÉDŐNŐI TÁRSULÁS BALATONEDERICS 2020. ÉVI KÖLTSÉGVETÉS
A4: Lesencetomaji Mesevár Óvoda - Bevételek (Ft)
A6: Sor- szám | B6: Rovat megnevezése | C6: Rovat száma | D6: Óvoda EREDETI EI. | E6: EBBŐL KÖTELEZŐ | F6: MÓDOSÍTÁS | G6: Óvoda MÓDOSÍTOTT EI. | H6: EBBŐL KÖTELEZŐ
A7: 1 | B7: Szolgáltatások ellenértéke | C7: B402 | D7: 16618151 | E7: =D7 -> 16618151 | F7: =G7-E7 -> 0 | G7: 16618151 | H7: 16618151
A8: 2 | B8: Ellátási díjak | C8: B405 | D8: 2460886 | E8: =D8 -> 2460886 | F8: =G8-E8 -> 0 | G8: 2460886 | H8: 2460886
A9: 3 | B9: Kiszámlázott általános forgalmi adó | C9: B406 | D9: 5151345 | E9: =D9 -> 5151345 | F9: =G9-E9 -> 0 | G9: 5151345 | H9: 5151345
A10: 4 | B10: Kamatbevételek és más nyereségjellegű bevételek (=41+42) | C10: B408 | D10: 0 | E10: 0 | F10: =G10-E10 -> 1 | G10: 1 | H10: 1
A11: 5 | B11: Egyéb működési bevételek | C11: B411 | D11: 0 | E11: =D11 -> 0 | F11: =G11-E11 -> 5000 | G11: 5000 | H11: 5000
A12: 6 | B12: Működési bevételek (=34+…+40+43+46+...+48) | C12: B4 | D12: =SUM(D7:D11) -> 24230382 | E12: =SUM(E7:E11) -> 24230382 | F12: =G12-E12 -> 5001 | G12: =SUM(G7:G11) -> 24235383 | H12: =SUM(H7:H11) -> 24235383
A13: 7 | B13: Költségvetési bevételek (=13+19+33+49+55+61+67) | C13: B1-B7 | D13: =SUM(D12) -> 24230382 | E13: =SUM(E12) -> 24230382 | F13: =G13-E13 -> 5001 | G13: =SUM(G12) -> 24235383 | H13: =SUM(H12) -> 24235383
A14: 8 | B14: Előző év költségvetési maradványának igénybevétele | C14: B8131 | D14: 123965 | E14: 123965 | F14: =G14-E14 -> -42698 | G14: 81267 | H14: 81267
A15: 9 | B15: Maradvány igénybevétele (=10+11) | C15: B813 | D15: =SUM(D14:D14) -> 123965 | E15: =SUM(E14:E14) -> 123965 | F15: =G15-E15 -> -42698 | G15: =SUM(G14:G14) -> 81267 | H15: =SUM(H14:H14) -> 81267
A16: 10 | B16: Központi, irányító szervi támogatás | C16: B816 | D16: 68026305 | E16: =D16 -> 68026305 | F16: =G16-E16 -> 6693637 | G16: 74719942 | H16: 74719942
A17: 11 | B17: Belföldi finanszírozás bevételei (=04+09+12+…+17+20) | C17: B81 | D17: =SUM(D15:D16) -> 68150270 | E17: =SUM(E15:E16) -> 68150270 | F17: =G17-E17 -> 6650939 | G17: =SUM(G15:G16) -> 74801209 | H17: =SUM(H15:H16) -> 74801209
A18: 12 | B18: Finanszírozási bevételek (=21+27+28+29) | C18: B8 | D18: =SUM(D17) -> 68150270 | E18: =SUM(E17) -> 68150270 | F18: =G18-E18 -> 6650939 | G18: =SUM(G17) -> 74801209 | H18: =SUM(H17) -> 74801209
A19: 13 | B19: BEVÉTELEK MINDÖSSZESEN | D19: =SUM(D18+D13) -> 92380652 | E19: =SUM(E18+E13) -> 92380652 | F19: =G19-E19 -> 6655940 | G19: =SUM(G13+G18) -> 99036592 | H19: =SUM(H13+H18) -> 99036592

Sheet KIADÁSOK
B1: 5. melléklet Balatonederics Község Önkormányzat 2020.évi költségvetésének módosításáról szóló 20/2020.(XII.10.) önkormányzati rendelethez.
B2: 5. melléklet Balatonederics Község Önkormányzat 2020.évi költségvetéséről szóló 4/2020.(III.12.) önkormányzati rendelethez.
A3: BALATONEDERICS KÖZSÉG ÖNKORMÁNYZAT 2020. ÉVI KÖLTSÉGVETÉS
A4: Önkormányzat és költségvetési szervei - Kiadások (Ft)
A6: Sor- szám | B6: Rovat megnevezése | C6: Rovat száma | D6: ÖNKORMÁNYZAT EREDETI EI. | E6: TÁRSULÁS EREDETI EI. | F6: ÓVODA EREDETI EI. | G6: MINDÖSSZESEN EREDETI EI. | H6: ÖNKORMÁNYZAT MÓDOSÍTOTT EI. | I6: TÁRSULÁS MÓDOSÍTOTT EI. | J6: ÓVODA MÓDOSÍTOTT EI. | K6: MINDÖSSZESEN MÓDOSÍTOTT EI.
A7: 01 | B7: Törvény szerinti illetmények, munkabérek | C7: K1101 | D7: =SUM('KIADÁSOK ÖNK'!D7) -> 20427000 | E7: 0 | F7: =SUM('KIADÁSOK ÓVODA'!D7) -> 46116499 | G7: =SUM(D7:F7) -> 66543499 | H7: 25001513 | I7: 0 | J7: 46116499 | K7: =SUM(H7:J7) -> 71118012
A8: 02 | B8: Normatív jutalmak | C8: K1102 | D8: =SUM('KIADÁSOK ÖNK'!D8) -> 0 | E8: 0 | F8: =SUM('KIADÁSOK ÓVODA'!D8) -> 1689975 | G8: =SUM(D8:F8) -> 1689975 | H8: 0 | I8: 0 | J8: 1689975 | K8: =SUM(H8:J8) -> 1689975
A9: 03 | B9: Céljuttatás, projektprémium | C9: K1103 | D9: =SUM('KIADÁSOK ÖNK'!D9) -> 1300000 | E9: 0 | F9: =SUM('KIADÁSOK ÓVODA'!D9) -> 500000 | G9: =SUM(D9:F9) -> 1800000 | H9: 800000 | I9: 0 | J9: 500000 | K9: =SUM(H9:J9) -> 1300000
A10: 04 | B10: Végkielégítés | C10: K1105 | D10: 0 | E10: 0 | F10: 0 | G10: 0 | H10: 421200 | I10: 0 | J10: 0 | K10: =SUM(H10:J10) -> 421200
A11: 05 | B11: Jubileumi jutalom | C11: K1106 | D11: 0 | E11: 0 | F11: 0 | G11: 0 | H11: 1300000 | I11: 0 | J11: 0 | K11: =SUM(H11:J11) -> 1300000
A12: 06 | B12: Béren kívüli juttatások | C12: K1107 | D12: =SUM('KIADÁSOK ÖNK'!D13) -> 926944 | E12: 0 | F12: =SUM('KIADÁSOK ÓVODA'!D13) -> 1456000 | G12: =SUM(D12:F12) -> 2382944 | H12: 862944 | I12: 0 | J12: 1456000 | K12: =SUM(H12:J12) -> 2318944
A13: 07 | B13: Közlekedési költségtérítés | C13: K1109 | D13: =SUM('KIADÁSOK ÖNK'!D15) -> 24000 | E13: 0 | F13: =SUM('KIADÁSOK ÓVODA'!D15) -> 504000 | G13: =SUM(D13:F13) -> 528000 | H13: 74000 | I13: 0 | J13: 504000 | K13: =SUM(H13:J13) -> 578000
A14: 08 | B14: Foglalkoztatottak egyéb személyi juttatásai | C14: K1113 | D14: =SUM('KIADÁSOK ÖNK'!D19) -> 0 | E14: 0 | F14: =SUM('KIADÁSOK ÓVODA'!D19) -> 319713 | G14: =SUM(D14:F14) -> 319713 | H14: 1649048 | I14: 0 | J14: 519713 | K14: =SUM(H14:J14) -> 2168761
A15: 09 | B15: Foglalkoztatottak személyi juttatásai (=01+…+13) | C15: K11 | D15: =SUM(D7:D14) -> 22677944 | E15: 0 | F15: =SUM(F7:F14) -> 50586187 | G15: =SUM(D15:F15) -> 73264131 | H15: =SUM(H7:H14) -> 30108705 | I15: 0 | J15: =SUM(J7:J14) -> 50786187 | K15: =SUM(H15:J15) -> 80894892
A16: 10 | B16: Választott tisztségviselők juttatásai | C16: K121 | D16: =SUM('KIADÁSOK ÖNK'!D21) -> 8305848 | E16: 0 | F16: =SUM('KIADÁSOK ÓVODA'!D21) -> 0 | G16: =SUM(D16:F16) -> 8305848 | H16: 8305848 | I16: 0 | J16: 0 | K16: =SUM(H16:J16) -> 8305848
A17: 11 | B17: Munkavégzésre irányuló egyéb jogviszonyban nem saját foglalkoztatottnak fizetett juttatások | C17: K122 | D17: =SUM('KIADÁSOK ÖNK'!D22) -> 240000 | E17: 0 | F17: =SUM('KIADÁSOK ÓVODA'!D22) -> 80000 | G17: =SUM(D17:F17) -> 320000 | H17: 840000 | I17: 0 | J17: 80000 | K17: =SUM(H17:J17) -> 920000
A18: 12 | B18: Egyéb külső személyi juttatások | C18: K123 | D18: =SUM('KIADÁSOK ÖNK'!D23) -> 0 | E18: 0 | F18: =SUM('KIADÁSOK ÓVODA'!D23) -> 0 | G18: =SUM(D18:F18) -> 0 | H18: 0 | I18: 0 | J18: 0 | K18: =SUM(H18:J18) -> 0
A19: 13 | B19: Külső személyi juttatások (=15+16+17) | C19: K12 | D19: =SUM(D16:D18) -> 8545848 | E19: 0 | F19: =SUM(F16:F18) -> 80000 | G19: =SUM(D19:F19) -> 8625848 | H19: =SUM(H16:H18) -> 9145848 | I19: 0 | J19: =SUM(J16:J18) -> 80000 | K19: =SUM(H19:J19) -> 9225848
A20: 14 | B20: Személyi juttatások (=14+18) | C20: K1 | D20: =SUM('KIADÁSOK ÖNK'!D25) -> 31223792 | E20: 0 | F20: =SUM('KIADÁSOK ÓVODA'!D25) -> 50666187 | G20: =SUM(D20:F20) -> 81889979 | H20: =SUM(H19,H15) -> 39254553 | I20: 0 | J20: =SUM(J19,J15) -> 50866187 | K20: =SUM(H20:J20) -> 90120740
A21: 15 | B21: Munkaadókat terhelő járulékok és szociális hozzájárulási adó | C21: K2 | D21: =SUM('KIADÁSOK ÖNK'!D26) -> 6155036 | E21: 0 | F21: =SUM('KIADÁSOK ÓVODA'!D26) -> 10098306 | G21: =SUM(D21:F21) -> 16253342 | H21: 6486900 | I21: 0 | J21: 10098306 | K21: =SUM(H21:J21) -> 16585206
A22: 16 | B22: Szakmai anyagok beszerzése | C22: K311 | D22: =SUM('KIADÁSOK ÖNK'!D27) -> 177000 | E22: 0 | F22: =SUM('KIADÁSOK ÓVODA'!D27) -> 115000 | G22: =SUM(D22:F22) -> 292000 | H22: 177000 | I22: 0 | J22: 170347 | K22: =SUM(H22:J22) -> 347347
A23: 17 | B23: Üzemeltetési anyagok beszerzése | C23: K312 | D23: =SUM('KIADÁSOK ÖNK'!D28) -> 6686000 | E23: 0 | F23: =SUM('KIADÁSOK ÓVODA'!D28) -> 19548823 | G23: =SUM(D23:F23) -> 26234823 | H23: 7339070 | I23: 0 | J23: 23744803 | K23: =SUM(H23:J23) -> 31083873
A24: 18 | B24: Árubeszerzés | C24: K313 | D24: =SUM('KIADÁSOK ÖNK'!D29) -> 0 | E24: 0 | F24: =SUM('KIADÁSOK ÓVODA'!D29) -> 0 | G24: =SUM(D24:F24) -> 0 | H24: 0 | I24: 0 | J24: 0 | K24: =SUM(H24:J24) -> 0
A25: 19 | B25: Készletbeszerzés (=21+22+23) | C25: K31 | D25: =SUM('KIADÁSOK ÖNK'!D30) -> 6863000 | E25: 0 | F25: =SUM('KIADÁSOK ÓVODA'!D30) -> 19663823 | G25: =SUM(D25:F25) -> 26526823 | H25: =SUM(H22:H24) -> 7516070 | I25: 0 | J25: =SUM(J22:J24) -> 23915150 | K25: =SUM(H25:J25) -> 31431220
A26: 20 | B26: Informatikai szolgáltatások igénybevétele | C26: K321 | D26: =SUM('KIADÁSOK ÖNK'!D31) -> 0 | E26: 0 | F26: =SUM('KIADÁSOK ÓVODA'!D31) -> 0 | G26: =SUM(D26:F26) -> 0 | H26: 3810 | I26: 0 | J26: 0 | K26: =SUM(H26:J26) -> 3810
A27: 21 | B27: Egyéb kommunikációs szolgáltatások | C27: K322 | D27: =SUM('KIADÁSOK ÖNK'!D32) -> 825000 | E27: 0 | F27: =SUM('KIADÁSOK ÓVODA'!D32) -> 186115 | G27: =SUM(D27:F27) -> 1011115 | H27: 670000 | I27: 0 | J27: 186115 | K27: =SUM(H27:J27) -> 856115
A28: 22 | B28: Kommunikációs szolgáltatások (=25+26) | C28: K32 | D28: =SUM('KIADÁSOK ÖNK'!D33) -> 825000 | E28: 0 | F28: =SUM('KIADÁSOK ÓVODA'!D33) -> 186115 | G28: =SUM(D28:F28) -> 1011115 | H28: =SUM(H26:H27) -> 673810 | I28: 0 | J28: =SUM(J26:J27) -> 186115 | K28: =SUM(H28:J28) -> 859925
A29: 23 | B29: Közüzemi díjak | C29: K331 | D29: =SUM('KIADÁSOK ÖNK'!D34) -> 10781000 | E29: 0 | F29: =SUM('KIADÁSOK ÓVODA'!D34) -> 2782731 | G29: =SUM(D29:F29) -> 13563731 | H29: 10263618 | I29: 0 | J29: 2782731 | K29: =SUM(H29:J29) -> 13046349
A30: 24 | B30: Vásárolt élelmezés | C30: K332 | D30: =SUM('KIADÁSOK ÖNK'!D35) -> 0 | E30: 0 | F30: =SUM('KIADÁSOK ÓVODA'!D35) -> 0 | G30: =SUM(D30:F30) -> 0 | H30: 0 | I30: 0 | J30: 0 | K30: =SUM(H30:J30) -> 0
A31: 25 | B31: Bérleti és lízing díjak | C31: K333 | D31: =SUM('KIADÁSOK ÖNK'!D36) -> 0 | E31: 0 | F31: =SUM('KIADÁSOK ÓVODA'!D36) -> 0 | G31: =SUM(D31:F31) -> 0 | H31: 0 | I31: 0 | J31: 0 | K31: =SUM(H31:J31) -> 0
A32: 26 | B32: Karbantartási, kisjavítási szolgáltatások | C32: K334 | D32: =SUM('KIADÁSOK ÖNK'!D37) -> 7266000 | E32: 0 | F32: =SUM('KIADÁSOK ÓVODA'!D37) -> 408000 | G32: =SUM(D32:F32) -> 7674000 | H32: 2451932 | I32: 0 | J32: 408000 | K32: =SUM(H32:J32) -> 2859932
A33: 27 | B33: Közvetített szolgáltatások | C33: K335 | D33: =SUM('KIADÁSOK ÖNK'!D38) -> 0 | E33: 0 | F33: =SUM('KIADÁSOK ÓVODA'!D38) -> 11000 | G33: =SUM(D33:F33) -> 11000 | H33: 629110 | I33: 0 | J33: 2232441 | K33: =SUM(H33:J33) -> 2861551
A34: 28 | B34: Szakmai tevékenységet segítő szolgáltatások | C34: K336 | D34: =SUM('KIADÁSOK ÖNK'!D39) -> 3258094 | E34: 0 | F34: =SUM('KIADÁSOK ÓVODA'!D39) -> 122000 | G34: =SUM(D34:F34) -> 3380094 | H34: 6307625 | I34: 0 | J34: 122000 | K34: =SUM(H34:J34) -> 6429625
A35: 29 | B35: Egyéb szolgáltatások | C35: K337 | D35: =SUM('KIADÁSOK ÖNK'!D40) -> 19620000 | E35: =SUM('KIADÁSOK TÁRSULÁS'!D7) -> 84000 | F35: =SUM('KIADÁSOK ÓVODA'!D40) -> 1678000 | G35: =SUM(D35:F35) -> 21382000 | H35: 18080915 | I35: 84028 | J35: 1658172 | K35: =SUM(H35:J35) -> 19823115
A36: 30 | B36: Szolgáltatási kiadások (=28+…+34) | C36: K33 | D36: =SUM('KIADÁSOK ÖNK'!D41) -> 40925094 | E36: =SUM('KIADÁSOK TÁRSULÁS'!D8) -> 84000 | F36: =SUM('KIADÁSOK ÓVODA'!D41) -> 5001731 | G36: =SUM(D36:F36) -> 46010825 | H36: =SUM(H29:H35) -> 37733200 | I36: =SUM(I35) -> 84028 | J36: =SUM(J29:J35) -> 7203344 | K36: =SUM(H36:J36) -> 45020572
A37: 31 | B37: Kiküldetések kiadásai | C37: K341 | D37: =SUM('KIADÁSOK ÖNK'!D42) -> 0 | E37: 0 | F37: =SUM('KIADÁSOK ÓVODA'!D42) -> 3490 | G37: =SUM(D37:F37) -> 3490 | H37: 0 | I37: 0 | J37: 3490 | K37: =SUM(H37:J37) -> 3490
A38: 32 | B38: Reklám- és propagandakiadások | C38: K342 | D38: =SUM('KIADÁSOK ÖNK'!D43) -> 1500000 | E38: 0 | F38: =SUM('KIADÁSOK ÓVODA'!D43) -> 0 | G38: =SUM(D38:F38) -> 1500000 | H38: 274000 | I38: 0 | J38: 0 | K38: =SUM(H38:J38) -> 274000
A39: 33 | B39: Kiküldetések, reklám- és propagandakiadások (=36+37) | C39: K34 | D39: =SUM('KIADÁSOK ÖNK'!D44) -> 1500000 | E39: 0 | F39: =SUM('KIADÁSOK ÓVODA'!D44) -> 3490 | G39: =SUM(D39:F39) -> 1503490 | H39: =SUM(H37:H38) -> 274000 | I39: 0 | J39: =SUM(J37:J38) -> 3490 | K39: =SUM(H39:J39) -> 277490
A40: 34 | B40: Működési célú előzetesen felszámított általános forgalmi adó | C40: K351 | D40: =SUM('KIADÁSOK ÖNK'!D45) -> 12560630 | E40: 0 | F40: =SUM('KIADÁSOK ÓVODA'!D45) -> 4876000 | G40: =SUM(D40:F40) -> 17436630 | H40: 6700000 | I40: 0 | J40: 4708000 | K40: =SUM(H40:J40) -> 11408000
A41: 35 | B41: Fizetendő általános forgalmi adó | C41: K352 | D41: =SUM('KIADÁSOK ÖNK'!D46) -> 5500000 | E41: 0 | F41: =SUM('KIADÁSOK ÓVODA'!D46) -> 1885000 | G41: =SUM(D41:F41) -> 7385000 | H41: 16313024 | I41: 0 | J41: 2053000 | K41: =SUM(H41:J41) -> 18366024
...

Sheet KIADÁSOK ÖNK
B1: 6. melléklet Balatonederics Község Önkormányzat 2020.évi költségvetésének módosításáról szóló 20/2020.(XII.10.) önkormányzati rendelethez.
B2: 6. melléklet Balatonederics Község Önkormányzat 2020.évi költségvetéséről szóló 4/2020.(III.12.) önkormányzati rendelethez.
A3: BALATONEDERICS KÖZSÉG ÖNKORMÁNYZAT 2020. ÉVI KÖLTSÉGVETÉS
A4: Önkormányzati előirányzatok - Kiadások (Ft)
A6: Sor- szám | B6: Rovat megnevezése | C6: Rovat száma | D6: ÖNKORMÁNYZAT EREDETI EI. | E6: EBBŐL KÖTELEZŐ | F6: MÓDOSÍTÁS | G6: ÖNKORMÁNYZAT MÓDOSÍTOTT EI. | H6: EBBŐL KÖTELEZŐ
A7: 01 | B7: Törvény szerinti illetmények, munkabérek | C7: K1101 | D7: 20427000 | E7: =D7 -> 20427000 | F7: =G7-E7 -> 4574513 | G7: 25001513 | H7: 25001513
A8: 02 | B8: Normatív jutalmak | C8: K1102 | D8: 0 | E8: =D8 -> 0 | F8: =G8-E8 -> 0 | G8: 0 | H8: 0
A9: 03 | B9: Céljuttatás, projektprémium | C9: K1103 | D9: 1300000 | E9: =D9 -> 1300000 | F9: =G9-E9 -> -500000 | G9: 800000 | H9: 800000
A10: 04 | B10: Készenléti, ügyeleti, helyettesítési díj, túlóra, túlszolgálat | C10: K1104 | D10: 0 | E10: =D10 -> 0 | F10: =G10-E10 -> 0 | G10: 0 | H10: 0
A11: 05 | B11: Végkielégítés | C11: K1105 | D11: 0 | E11: =D11 -> 0 | F11: =G11-E11 -> 421200 | G11: 421200 | H11: 421200
A12: 06 | B12: Jubileumi jutalom | C12: K1106 | D12: 0 | E12: =D12 -> 0 | F12: =G12-E12 -> 1300000 | G12: 1300000 | H12: 1300000
A13: 07 | B13: Béren kívüli juttatások | C13: K1107 | D13: 926944 | E13: =D13 -> 926944 | F13: =G13-E13 -> -64000 | G13: 862944 | H13: 862944
A14: 08 | B14: Ruházati költségtérítés | C14: K1108 | D14: 0 | E14: =D14 -> 0 | F14: =G14-E14 -> 0 | G14: 0 | H14: 0
A15: 09 | B15: Közlekedési költségtérítés | C15: K1109 | D15: 24000 | E15: =D15 -> 24000 | F15: =G15-E15 -> 50000 | G15: 74000 | H15: 74000
A16: 10 | B16: Egyéb költségtérítések | C16: K1110 | D16: 0 | E16: =D16 -> 0 | F16: =G16-E16 -> 0 | G16: 0 | H16: 0
A17: 11 | B17: Lakhatási támogatások | C17: K1111 | D17: 0 | E17: =D17 -> 0 | F17: =G17-E17 -> 0 | G17: 0 | H17: 0
A18: 12 | B18: Szociális támogatások | C18: K1112 | D18: 0 | E18: =D18 -> 0 | F18: =G18-E18 -> 0 | G18: 0 | H18: 0
A19: 13 | B19: Foglalkoztatottak egyéb személyi juttatásai | C19: K1113 | D19: 0 | E19: =D19 -> 0 | F19: =G19-E19 -> 1649048 | G19: 1649048 | H19: 1649048
A20: 14 | B20: Foglalkoztatottak személyi juttatásai (=01+…+13) | C20: K11 | D20: =SUM(D7:D19) -> 22677944 | E20: =D20 -> 22677944 | F20: =G20-E20 -> 7430761 | G20: =SUM(G7:G19) -> 30108705 | H20: =SUM(H7:H19) -> 30108705
A21: 15 | B21: Választott tisztségviselők juttatásai | C21: K121 | D21: 8305848 | E21: =D21 -> 8305848 | F21: =G21-E21 -> 0 | G21: 8305848 | H21: 8305848
A22: 16 | B22: Munkavégzésre irányuló egyéb jogviszonyban nem saját foglalkoztatottnak fizetett juttatások | C22: K122 | D22: 240000 | E22: =D22 -> 240000 | F22: =G22-E22 -> 600000 | G22: 840000 | H22: 840000
A23: 17 | B23: Egyéb külső személyi juttatások | C23: K123 | D23: 0 | E23: =D23 -> 0 | F23: =G23-E23 -> 0 | G23: 0 | H23: 0
A24: 18 | B24: Külső személyi juttatások (=15+16+17) | C24: K12 | D24: =SUM(D21:D23) -> 8545848 | E24: =D24 -> 8545848 | F24: =G24-E24 -> 600000 | G24: =SUM(G21:G23) -> 9145848 | H24: =SUM(H21:H23) -> 9145848
A25: 19 | B25: Személyi juttatások (=14+18) | C25: K1 | D25: =SUM(D20+D24) -> 31223792 | E25: =SUM(E20+E24) -> 31223792 | F25: =G25-E25 -> 8030761 | G25: =SUM(G20+G24) -> 39254553 | H25: =SUM(H20+H24) -> 39254553
A26: 20 | B26: Munkaadókat terhelő járulékok és szociális hozzájárulási adó | C26: K2 | D26: 6155036 | E26: =D26 -> 6155036 | F26: =G26-E26 -> 331864 | G26: 6486900 | H26: 6486900
A27: 21 | B27: Szakmai anyagok beszerzése | C27: K311 | D27: 177000 | E27: =D27 -> 177000 | F27: =G27-E27 -> 0 | G27: =E27 -> 177000 | H27: =G27 -> 177000
A28: 22 | B28: Üzemeltetési anyagok beszerzése | C28: K312 | D28: 6686000 | E28: =D28 -> 6686000 | F28: =G28-E28 -> 653070 | G28: 7339070 | H28: 7339070
A29: 23 | B29: Árubeszerzés | C29: K313 | D29: 0 | E29: =D29 -> 0 | F29: =G29-E29 -> 0 | G29: 0 | H29: 0
A30: 24 | B30: Készletbeszerzés (=21+22+23) | C30: K31 | D30: =SUM(D27:D29) -> 6863000 | E30: =SUM(E27:E29) -> 6863000 | F30: =G30-E30 -> 653070 | G30: =SUM(G27:G29) -> 7516070 | H30: =SUM(H27:H29) -> 7516070
A31: 25 | B31: Informatikai szolgáltatások igénybevétele | C31: K321 | D31: 0 | E31: =D31 -> 0 | F31: =G31-E31 -> 3810 | G31: 3810 | H31: 3810
A32: 26 | B32: Egyéb kommunikációs szolgáltatások | C32: K322 | D32: 825000 | E32: =D32 -> 825000 | F32: =G32-E32 -> -155000 | G32: 670000 | H32: 670000
A33: 27 | B33: Kommunikációs szolgáltatások (=25+26) | C33: K32 | D33: =SUM(D31:D32) -> 825000 | E33: =SUM(E31:E32) -> 825000 | F33: =G33-E33 -> -151190 | G33: =SUM(G31:G32) -> 673810 | H33: =SUM(H31:H32) -> 673810
A34: 28 | B34: Közüzemi díjak | C34: K331 | D34: 10781000 | E34: =D34 -> 10781000 | F34: =G34-E34 -> -517382 | G34: 10263618 | H34: 10263618
A35: 29 | B35: Vásárolt élelmezés | C35: K332 | D35: 0 | E35: =D35 -> 0 | F35: =G35-E35 -> 0 | G35: 0 | H35: 0
A36: 30 | B36: Bérleti és lízing díjak | C36: K333 | D36: 0 | E36: =D36 -> 0 | F36: =G36-E36 -> 0 | G36: 0 | H36: 0
A37: 31 | B37: Karbantartási, kisjavítási szolgáltatások | C37: K334 | D37: 7266000 | E37: =D37 -> 7266000 | F37: =G37-E37 -> -4814068 | G37: 2451932 | H37: 2451932
A38: 32 | B38: Közvetített szolgáltatások | C38: K335 | D38: 0 | E38: =D38 -> 0 | F38: =G38-E38 -> 629110 | G38: 629110 | H38: 629110
A39: 33 | B39: Szakmai tevékenységet segítő szolgáltatások | C39: K336 | D39: 3258094 | E39: =D39 -> 3258094 | F39: =G39-E39 -> 3049531 | G39: 6307625 | H39: 6307625
A40: 34 | B40: Egyéb szolgáltatások | C40: K337 | D40: 19620000 | E40: =D40 -> 19620000 | F40: =G40-E40 -> -1539085 | G40: 18080915 | H40: 18080915
A41: 35 | B41: Szolgáltatási kiadások (=28+…+34) | C41: K33 | D41: =SUM(D34:D40) -> 40925094 | E41: =SUM(E34:E40) -> 40925094 | F41: =G41-E41 -> -3191894 | G41: =SUM(G34:G40) -> 37733200 | H41: =SUM(H34:H40) -> 37733200
...

Sheet KIADÁSOK TÁRSULÁS
B1: 7. melléklet Balatonederics Község Önkormányzat 2020.évi költségvetésének módosításáról szóló 20/2020.(XII.10.) önkormányzati rendelethez.
B2: 7. melléklet Balatonederics Község Önkormányzat 2020.évi költségvetéséről szóló 4/2020.(III.12.) önkormányzati rendelethez.
A3: ÓVODAI ÉS VÉDŐNŐI TÁRSULÁS BALATONEDERICS 2020. ÉVI KÖLTSÉGVETÉS
A4: Társulási előirányzatok - Kiadások (Ft)
A6: Sor- szám | B6: Rovat megnevezése | C6: Rovat száma | D6: TÁRSULÁS EREDETI EI. | E6: EBBŐL KÖTELEZŐ | F6: MÓDOSÍTÁS | G6: TÁRSULÁS MÓDOSÍTOTT EI. | H6: EBBŐL KÖTELEZŐ
A7: 1 | B7: Egyéb szolgáltatások | C7: K337 | D7: 84000 | E7: =D7 -> 84000 | F7: =G7-E7 -> 28 | G7: 84028 | H7: 84028
A8: 2 | B8: Szolgáltatási kiadások (=28+…+34) | C8: K33 | D8: =SUM(D7:D7) -> 84000 | E8: =SUM(E7:E7) -> 84000 | F8: =G8-E8 -> 28 | G8: =SUM(G7) -> 84028 | H8: =SUM(H7) -> 84028
A9: 3 | B9: Dologi kiadások (=24+27+35+38+44) | C9: K3 | D9: =SUM(D8) -> 84000 | E9: =SUM(E8) -> 84000 | F9: =G9-E9 -> 28 | G9: =SUM(G8) -> 84028 | H9: =SUM(H8) -> 84028
A10: 4 | B10: Tartalékok | C10: K513 | D10: 20094 | E10: 20094 | F10: =G10-E10 -> 0 | G10: 20094 | H10: 20094
A11: 5 | B11: Egyéb működési célú kiadások (=55+59+…+70) | C11: K5 | D11: =SUM(D10:D10) -> 20094 | E11: =SUM(E10:E10) -> 20094 | F11: =G11-E11 -> 0 | G11: =SUM(G10) -> 20094 | H11: =SUM(H10) -> 20094
A12: 6 | B12: Költségvetési kiadások (=19+20+45+54+71+79+84+94) | C12: K1-K8 | D12: =SUM(D9+D11) -> 104094 | E12: =SUM(E9+E11) -> 104094 | F12: =G12-E12 -> 28 | G12: =SUM(G9+G11) -> 104122 | H12: =SUM(H9+H11) -> 104122
A13: 7 | B13: Központi, irányító szervi támogatások folyósítása | C13: K915 | D13: 68026305 | E13: =D13 -> 68026305 | F13: =G13-E13 -> 6693637 | G13: 74719942 | H13: 74719942
A14: 8 | B14: Belföldi finanszírozás kiadásai (=04+11+…+17+20) | C14: K91 | D14: =SUM(D13) -> 68026305 | E14: =SUM(E13) -> 68026305 | F14: =G14-E14 -> 6693637 | G14: =SUM(G13) -> 74719942 | H14: =SUM(H13) -> 74719942
A15: 9 | B15: Finanszírozási kiadások (=21+27+28+29) | C15: K9 | D15: =SUM(D14) -> 68026305 | E15: =SUM(E14) -> 68026305 | F15: =G15-E15 -> 6693637 | G15: =SUM(G14) -> 74719942 | H15: =SUM(H14) -> 74719942
A16: 10 | B16: KIADÁSOK MINDÖSSZESEN | D16: =SUM(D15+D12) -> 68130399 | E16: =SUM(E15+E12) -> 68130399 | F16: =G16-E16 -> 6693665 | G16: =SUM(G12+G15) -> 74824064 | H16: =SUM(H12+H15) -> 74824064

Sheet KIADÁSOK ÓVODA
B1: 8. melléklet Balatonederics Község Önkormányzat 2020.évi költségvetésének módosításáról szóló 20/2020.(XII.10.) önkormányzati rendelethez.
B2: 8. melléklet Balatonederics Község Önkormányzat 2020.évi költségvetéséről szóló 4/2020.(III.12.) önkormányzati rendelethez.
A3: ÓVODAI ÉS VÉDŐNŐI TÁRSULÁS BALATONEDERICS 2020. ÉVI KÖLTSÉGVETÉS
A4: Lesencetomaji Mesevár Óvoda - Kiadások (Ft)
A6: Sor- szám | B6: Rovat megnevezése | C6: Rovat száma | D6: ÓVODA EREDETI EI. | E6: EBBŐL KÖTELEZŐ | F6: MÓDOSÍTÁS | G6: ÓVODA MÓDOSÍTOTT EI. | H6: EBBŐL KÖTELEZŐ
A7: 01 | B7: Törvény szerinti illetmények, munkabérek | C7: K1101 | D7: 46116499 | E7: =D7 -> 46116499 | F7: =G7-E7 -> 0 | G7: 46116499 | H7: 46116499
A8: 02 | B8: Normatív jutalmak | C8: K1102 | D8: 1689975 | E8: =D8 -> 1689975 | F8: =G8-E8 -> 0 | G8: 1689975 | H8: 1689975
A9: 03 | B9: Céljuttatás, projektprémium | C9: K1103 | D9: 500000 | E9: =D9 -> 500000 | F9: =G9-E9 -> 0 | G9: 500000 | H9: 500000
A10: 04 | B10: Készenléti, ügyeleti, helyettesítési díj, túlóra, túlszolgálat | C10: K1104 | D10: 0 | E10: =D10 -> 0 | F10: =G10-E10 -> 0 | G10: 0 | H10: 0
A11: 05 | B11: Végkielégítés | C11: K1105 | D11: 0 | E11: =D11 -> 0 | F11: =G11-E11 -> 0 | G11: 0 | H11: 0
A12: 06 | B12: Jubileumi jutalom | C12: K1106 | D12: 0 | E12: =D12 -> 0 | F12: =G12-E12 -> 0 | G12: 0 | H12: 0
A13: 07 | B13: Béren kívüli juttatások | C13: K1107 | D13: 1456000 | E13: =D13 -> 1456000 | F13: =G13-E13 -> 0 | G13: =E13 -> 1456000 | H13: =G13 -> 1456000
A14: 08 | B14: Ruházati költségtérítés | C14: K1108 | D14: 0 | E14: =D14 -> 0 | F14: =G14-E14 -> 0 | G14: 0 | H14: 0
A15: 09 | B15: Közlekedési költségtérítés | C15: K1109 | D15: 504000 | E15: =D15 -> 504000 | F15: =G15-E15 -> 0 | G15: =E15 -> 504000 | H15: =G15 -> 504000
A16: 10 | B16: Egyéb költségtérítések | C16: K1110 | D16: 0 | E16: =D16 -> 0 | F16: =G16-E16 -> 0 | G16: 0 | H16: 0
A17: 11 | B17: Lakhatási támogatások | C17: K1111 | D17: 0 | E17: =D17 -> 0 | F17: =G17-E17 -> 0 | G17: 0 | H17: 0
A18: 12 | B18: Szociális támogatások | C18: K1112 | D18: 0 | E18: =D18 -> 0 | F18: =G18-E18 -> 0 | G18: 0 | H18: 0
A19: 13 | B19: Foglalkoztatottak egyéb személyi juttatásai | C19: K1113 | D19: 319713 | E19: 319713 | F19: =G19-E19 -> 200000 | G19: 519713 | H19: 519713
A20: 14 | B20: Foglalkoztatottak személyi juttatásai (=01+…+13) | C20: K11 | D20: =SUM(D7:D19) -> 50586187 | E20: =D20 -> 50586187 | F20: =G20-E20 -> 200000 | G20: =SUM(G7:G19) -> 50786187 | H20: =SUM(H7:H19) -> 50786187
A21: 15 | B21: Választott tisztségviselők juttatásai | C21: K121 | D21: 0 | E21: =D21 -> 0 | F21: =G21-E21 -> 0 | G21: 0 | H21: 0
A22: 16 | B22: Munkavégzésre irányuló egyéb jogviszonyban nem saját foglalkoztatottnak fizetett juttatások | C22: K122 | D22: 80000 | E22: =D22 -> 80000 | F22: =G22-E22 -> 0 | G22: =E22 -> 80000 | H22: =G22 -> 80000
A23: 17 | B23: Egyéb külső személyi juttatások | C23: K123 | D23: 0 | E23: =D23 -> 0 | F23: =G23-E23 -> 0 | G23: 0 | H23: 0
A24: 18 | B24: Külső személyi juttatások (=15+16+17) | C24: K12 | D24: =SUM(D21:D23) -> 80000 | E24: =D24 -> 80000 | F24: =G24-E24 -> 0 | G24: =SUM(G21:G23) -> 80000 | H24: =SUM(H21:H23) -> 80000
A25: 19 | B25: Személyi juttatások (=14+18) | C25: K1 | D25: =SUM(D24,D20) -> 50666187 | E25: =SUM(E20+E24) -> 50666187 | F25: =G25-E25 -> 200000 | G25: =SUM(G24,G20) -> 50866187 | H25: =SUM(H24,H20) -> 50866187
A26: 20 | B26: Munkaadókat terhelő járulékok és szociális hozzájárulási adó | C26: K2 | D26: 10098306 | E26: =D26 -> 10098306 | F26: =G26-E26 -> 0 | G26: 10098306 | H26: 9148326
A27: 21 | B27: Szakmai anyagok beszerzése | C27: K311 | D27: 115000 | E27: =D27 -> 115000 | F27: =G27-E27 -> 55347 | G27: 170347 | H27: 170347
A28: 22 | B28: Üzemeltetési anyagok beszerzése | C28: K312 | D28: 19548823 | E28: =D28 -> 19548823 | F28: =G28-E28 -> 4195980 | G28: 23744803 | H28: 23744803
A29: 23 | B29: Árubeszerzés | C29: K313 | D29: 0 | E29: =D29 -> 0 | F29: =G29-E29 -> 0 | G29: 0 | H29: 0
A30: 24 | B30: Készletbeszerzés (=21+22+23) | C30: K31 | D30: =SUM(D27:D29) -> 19663823 | E30: =SUM(E27:E29) -> 19663823 | F30: =G30-E30 -> 4251327 | G30: =SUM(G27:G29) -> 23915150 | H30: =SUM(H27:H29) -> 23915150
A31: 25 | B31: Informatikai szolgáltatások igénybevétele | C31: K321 | D31: 0 | E31: =D31 -> 0 | F31: =G31-E31 -> 0 | G31: 0 | H31: 0
A32: 26 | B32: Egyéb kommunikációs szolgáltatások | C32: K322 | D32: 186115 | E32: =D32 -> 186115 | F32: =G32-E32 -> 0 | G32: 186115 | H32: 186115
A33: 27 | B33: Kommunikációs szolgáltatások (=25+26) | C33: K32 | D33: =SUM(D31:D32) -> 186115 | E33: =SUM(E31:E32) -> 186115 | F33: =G33-E33 -> 0 | G33: =SUM(G31:G32) -> 186115 | H33: =SUM(H31:H32) -> 186115
A34: 28 | B34: Közüzemi díjak | C34: K331 | D34: 2782731 | E34: =D34 -> 2782731 | F34: =G34-E34 -> 0 | G34: =E34 -> 2782731 | H34: =G34 -> 2782731
A35: 29 | B35: Vásárolt élelmezés | C35: K332 | D35: 0 | E35: =D35 -> 0 | F35: =G35-E35 -> 0 | G35: 0 | H35: 0
A36: 30 | B36: Bérleti és lízing díjak | C36: K333 | D36: 0 | E36: =D36 -> 0 | F36: =G36-E36 -> 0 | G36: 0 | H36: 0
A37: 31 | B37: Karbantartási, kisjavítási szolgáltatások | C37: K334 | D37: 408000 | E37: =D37 -> 408000 | F37: =G37-E37 -> 0 | G37: =E37 -> 408000 | H37: =G37 -> 408000
A38: 32 | B38: Közvetített szolgáltatások | C38: K335 | D38: 11000 | E38: =D38 -> 11000 | F38: =G38-E38 -> 2221441 | G38: 2232441 | H38: 2232441
A39: 33 | B39: Szakmai tevékenységet segítő szolgáltatások | C39: K336 | D39: 122000 | E39: =D39 -> 122000 | F39: =G39-E39 -> 0 | G39: 122000 | H39: 122000
A40: 34 | B40: Egyéb szolgáltatások | C40: K337 | D40: 1678000 | E40: =D40 -> 1678000 | F40: =G40-E40 -> -19828 | G40: 1658172 | H40: 1658172
A41: 35 | B41: Szolgáltatási kiadások (=28+…+34) | C41: K33 | D41: =SUM(D34:D40) -> 5001731 | E41: =SUM(E34:E40) -> 5001731 | F41: =G41-E41 -> 2201613 | G41: =SUM(G34:G40) -> 7203344 | H41: =SUM(H34:H40) -> 7203344
...

Sheet LÉTSZÁM
A1: 9. melléklet Balatonederics Község Önkormányzat 2020.évi költségvetésének módosításáról szóló 20/2020.(XII.10.) önkormányzati rendelethez.
A2: 9. melléklet Balatonederics Község Önkormányzat 2020.évi költségvetéséről szóló 4/2020.(III.12.) önkormányzati rendelethez.
A3: BALATONEDERICS KÖZSÉG ÖNKORMÁNYZAT 2020. ÉVI KÖLTSÉGVETÉS
A4: Létszám (Fő)
A6: MEGNEVEZÉS | B6: ÖNKORMÁNYZAT | C6: TÁRSULÁS | D6: ÓVODA | E6: MINDÖSSZESEN EREDETI EI.
A7: főjegyző, jegyző, aljegyző, címzetes főjegyző, körjegyző | C7: 0 | E7: =SUM(B7:D7) -> 0
A8: I. besorolási osztály összesen | C8: 0 | E8: =SUM(B8:D8) -> 0
A9: II. besorolási osztály összesen | C9: 0 | E9: =SUM(B9:D9) -> 0
A10: III. besorolási osztály összesen | C10: 0 | E10: =SUM(B10:D10) -> 0
A11: KÖZTISZTVISELŐK, KORMÁNYTISZTVISELŐK ÖSSZESEN | C11: 0 | E11: =SUM(B11:D11) -> 0
A12: igazgató (főigazgató), igazgatóhelyettes (főigazgató-helyettes) | D12: 1 | E12: =SUM(B12:D12) -> 1
A13: főosztályvezető, főosztályvezető-helyettes, osztályvezető, ügykezelő osztályvezető, további vezető | E13: =SUM(B13:D13) -> 0
A14: főtanácsos, főmunkatárs, tanácsos, munkatárs | E14: =SUM(B14:D14) -> 0
A15: "A", "B" fizetési osztály összesen | D15: 6 | E15: =SUM(B15:D15) -> 6
A16: "C", "D" fizetési osztály összesen | D16: 2 | E16: =SUM(B16:D16) -> 2
A17: "E"-"J" fizetési osztály összesen | B17: 2 | D17: 2 | E17: =SUM(B17:D17) -> 4
A18: kutató, felsőoktatásban oktató | E18: =SUM(B18:D18) -> 0
A19: KÖZALKALMAZOTTAK ÖSSZESEN | B19: =SUM(B17:B18) -> 2 | D19: 14 | E19: =SUM(B19:D19) -> 16
A20: fizikai alkalmazott, a költségvetési szerveknél foglalkoztatott egyéb munkavállaló (fizikai alkalmazott) | B20: 2 | C20: 0 | D20: 0 | E20: =SUM(B20:D20) -> 2
A21: ösztöndíjas foglalkoztatott | B21: 0 | E21: =SUM(B21:D21) -> 0
A22: közfoglalkoztatott | B22: 0 | E22: =SUM(B22:D22) -> 0
A23: EGYÉB BÉRRENDSZER ÖSSZESEN | B23: =SUM(B20:B22) -> 2 | C23: 0 | E23: =SUM(B23:D23) -> 2
A24: polgármester, főpolgármester | B24: 1 | E24: =SUM(B24:D24) -> 1
A25: helyi önkormányzati képviselő-testület tagja, megyei közgyűlés tagja | B25: 5 | E25: =SUM(B25:D25) -> 5
A26: alpolgármester, főpolgármester-helyettes, megyei közgyűlés elnöke, alelnöke | B26: 1 | E26: =SUM(B26:D26) -> 1
A27: VÁLASZTOTT TISZTSÉGVISELŐK ÖSSZESEN | B27: =SUM(B24:B26) -> 7 | E27: =SUM(B27:D27) -> 7
A28: KÖLTSÉGVETÉSI ENGEDÉLYEZETT LÉTSZÁMKERETBE TARTOZÓ FOGLALKOZTATOTTAK LÉTSZÁMA MINDÖSSZESEN | B28: =SUM(B19+B23+B27) -> 11 | C28: 0 | D28: 15 | E28: =SUM(B28:D28) -> 26
A29: prémiumévek programról és a különleges foglalkoztatási állományról szóló 2004. évi CXXII. törvény alapján foglalkoztatott prémiumévesek | E29: =SUM(B29:D29) -> 0
A30: prémiumévek programról és a különleges foglalkoztatási állományról szóló 2004. évi CXXII. törvény alapján foglalkoztatott különleges foglalkoztatási állományba helyezettek létszáma | E30: =SUM(B30:D30) -> 0
A31: ösztöndíjas foglalkoztatottak (Pftv, illetve Magyar Közigazgatási Ösztöndíjról szóló 228/2011. (X. 28.) Korm. rendelet) | E31: =SUM(B31:D31) -> 0
A32: munkaerőpiactól tartósan távol lévő személyek | E32: =SUM(B32:D32) -> 0
A33: KÖLTSÉGVETÉSI ENGEDÉLYEZETT LÉTSZÁMKERETBE NEM TARTOZÓ FOGLALKOZTATOTTAK LÉTSZÁMA AZ IDŐSZAK VÉGÉN ÖSSZESEN | B33: 0 | C33: 0 | D33: 0 | E33: 0

Sheet 10. szociális kiadások
A1: 10. melléklet Balatonederics Község Önkormányzat 2020.évi költségvetésének módosításáról szóló 20/2020.(XII.10.) önkormányzati rendelethez.
A2: 10. melléklet Balatonederics Község Önkormányzat 2020.évi költségvetéséről szóló 4/2020.(III.12.) önkormányzati rendelethez.
A3: BALATONEDERICS KÖZSÉG ÖNKORMÁNYZAT 2020. ÉVI KÖLTSÉGVETÉS
A4: Lakosságnak juttatott támogatások, szociális, rászorultsági jellegű ellátások (Ft)
A7: Megnevezés | B7: Rovat-szám | C7: ÖNKORMÁNYZAT MÓDOSÍTOTT EI. | D7: P.HIVATAL MÓDOSÍTOTT EI. | E7: ÓVODA MÓDOSÍTOTT EI. | F7: MINDÖSSZESEN MÓDOSÍTOTT EI.
A8: mozgáskorlátozottak közlekedési támogatása | B8: K44 | C8: 0 | D8: 0 | E8: 0 | F8: =SUM(C8:E8) -> 0
A9: mozgáskorlátozottak szerzési és átalakítási támogatása | B9: K44 | C9: 0 | D9: 0 | E9: 0 | F9: =SUM(C9:E9) -> 0
A10: megváltozott munkaképességűek illetve egészségkárosodottak keresetkiegészítése | B10: K44 | C10: 0 | D10: 0 | E10: 0 | F10: =SUM(C10:E10) -> 0
A11: cukorbetegek támogatása | B11: K44 | C11: 0 | D11: 0 | E11: 0 | F11: =SUM(C11:E11) -> 0
A12: helyi megállapítású ápolási díj [Szoctv. 43/B. §] | B12: K44 | C12: 377940 | D12: 0 | E12: 0 | F12: =SUM(C12:E12) -> 377940
A13: helyi megállapítású közgyógyellátás [Szoctv.50.§ (3) bek.] | B13: K44 | C13: 0 | D13: 0 | E13: 0 | F13: =SUM(C13:E13) -> 0
A14: foglalkoztatást helyettesítő támogatás [Szoctv. 35. § (1) bek.] | B14: K45 | C14: 0 | D14: 0 | E14: 0 | F14: =SUM(C14:E14) -> 0
A15: hozzájárulás a lakossági energiaköltségekhez | B15: K46 | C15: 0 | D15: 0 | E15: 0 | F15: =SUM(C15:E15) -> 0
A16: lakbértámogatás | B16: K46 | C16: 0 | D16: 0 | E16: 0 | F16: =SUM(C16:E16) -> 0
A17: lakásfenntartási támogatás [Szoctv. 38. § (1) bek. a) és b) pontok] | B17: K46 | C17: 0 | D17: 0 | E17: 0 | F17: =SUM(C17:E17) -> 0
A18: adósságcsökkentési támogatás [Szoctv. 55/A. § 1. bek. b) pont] | B18: K46 | C18: 0 | D18: 0 | E18: 0 | F18: =SUM(C18:E18) -> 0
A19: természetben nyújtott lakásfenntartási támogatás [Szoctv. 47.§ (1) bek. b) pont] | B19: K46 | C19: 0 | D19: 0 | E19: 0 | F19: =SUM(C19:E19) -> 0
... A29: átmeneti segély [Szoctv. 47.§ (1) bek. c) pont] | B29: K48 | C29: 0 | D29: 0 | E29: 0 | F29: =SUM(C29:E29) -> 0
A30: temetési segély [Szoctv. 47.§ (1) bek. d) pont} | B30: K48 | D30: 0 | E30: 0 | F30: =SUM(C30:E30) -> 0
A31: köztemetés [Szoctv. 48.§] | B31: K48 | C31: 0 | D31: 0 | E31: 0 | F31: =SUM(C31:E31) -> 0
A32: egyéb szociális ellátások (állami normatíva) | B32: K48 | C32: 0 | D32: 0 | E32: 0 | F32: =SUM(C32:E32) -> 0
A33: rászorultságtól függõ normatív kedvezmények [Gyvt. 151. § (5) bek.] | B33: K48 | C33: 0 | D33: 0 | E33: 0 | F33: =SUM(C33:E33) -> 0
A34: önkormányzat által saját hatáskörben (nem szociális és gyermekvédelmi előírások alapján) adott pénzügyi ellátás | B34: K48 | C34: 0 | D34: 0 | E34: 0 | F34: =SUM(C34:E34) -> 0
A35: önkormányzat által saját hatáskörben (nem szociális és gyermekvédelmi előírások alapján) adott természetbeni ellátás | B35: K48 | C35: 0 | D35: 0 | E35: 0 | F35: =SUM(C35:E35) -> 0
A36: Ellátottak pénzbeli juttatásai | B36: K4 | C36: =SUM(C8:C35) -> 3946499 | D36: =SUM(D8:D35) -> 0 | E36: =SUM(E8:E35) -> 0 | F36: =SUM(F8:F35) -> 3946499

Sheet ÁTADOTT ÁTVETT
A1: 11. melléklet Balatonederics Község Önkormányzat 2020.évi költségvetésének módosításáról szóló 20/2020.(XII.10.) önkormányzati rendelethez.
A2: 11. melléklet Balatonederics Község Önkormányzat 2020.évi költségvetéséről szóló 4/2020.(III.12.) önkormányzati rendelethez.
A3: BALATONEDERICS KÖZSÉG ÖNKORMÁNYZAT 2020. ÉVI KÖLTSÉGVETÉS
A4: Támogatási kiadások és bevételek, átdott pénzeszközök, átvett pénzeszközök (Ft)
A6: Rovat megnevezése | B6: Rovat száma | C6: ÖNKORMÁNYZAT EREDETI EI. | D6: TÁRSULÁS EREDETI EI. | E6: ÓVODA EREDETI EI. | F6: MINDÖSSZESEN EREDETI EI. | G6: ÖNKORMÁNYZAT MÓDOSÍTOTT EI. | H6: TÁRSULÁS MÓDOSÍTOTT EI. | I6: ÓVODA mÓDOSÍTOTT EI. | J6: MINDÖSSZESEN EREDETI EI.
A7: Lesencetomaji Mesevár Óvodaállami tám.(állami támogatás) | B7: K506 | C7: 68026305 | D7: 0 | E7: 0 | F7: =SUM(C7:E7) -> 68026305 | G7: 46381215 | H7: 0 | I7: 0 | J7: =SUM(G7:I7) -> 46381215
A8: Lesencetomaj Község Önkormányzata (3 negyedév) | G8: 8738796 | J8: =SUM(G8:I8) -> 8738796
A9: Lesencefalu Község Önkormányzata (3 negyedév) | G9: 2560041 | J9: =SUM(G9:I9) -> 2560041
A10: Nemesvita Község Önkormányzata(3 negyedév) | G10: 1358274 | J10: =SUM(G10:I10) -> 1358274
A11: Balatonederics Község Önkormányzata(1 év) | G11: 10557064 | J11: =SUM(G11:I11) -> 10557064
A12: Lesencetomaji Közös Önkormányzati Hivatal | B12: K506 | C12: 3915698 | D12: 0 | E12: 0 | F12: =SUM(C12:E12) -> 3915698 | G12: 5663116 | H12: 0 | I12: 0 | J12: =SUM(G12:I12) -> 5663116
A13: Emberi Erőforrások Minisztériuma (Bursa Hungarica támogatás) | B13: K506 | G13: 80000 | H13: 0 | I13: 0 | J13: =SUM(G13:I13) -> 80000
A14: Egyéb működési célú támogatások államháztartáson belülre | B14: K506 | C14: =SUM(C7:C12) -> 71942003 | D14: =SUM(D7:D12) -> 0 | E14: =SUM(E7:E12) -> 0 | F14: =SUM(F7:F12) -> 71942003 | G14: =SUM(G7:G13) -> 75338506 | H14: 0 | I14: 0 | J14: =SUM(J7:J13) -> 75338506
A15: Működési célú visszatérítendő támogatások, kölcsönök nyújtása államháztartáson kívülre | B15: K508 | C15: 0 | D15: 0 | E15: 0 | F15: =SUM(C15:E15) -> 0 | G15: 0 | H15: 0 | I15: 0 | J15: 0
A16: Árkiegészítések, ártámogatások | B16: K509 | C16: 0 | D16: 0 | E16: 0 | F16: =SUM(C16:E16) -> 0 | G16: 0 | H16: 0 | I16: 0 | J16: 0
A17: Balaton- felvidéki Szociális és Gyermekjóléti Központ | B17: K512 | C17: 1602054 | D17: 0 | E17: 0 | F17: =SUM(C17:E17) -> 1602054 | G17: 1816248 | H17: 0 | I17: 0 | J17: =SUM(G17:I17) -> 1816248
A18: Házi orvos támogatás | B18: K512 | C18: 756000 | D18: 0 | E18: 0 | F18: =SUM(C18:E18) -> 756000 | G18: 0 | H18: 0 | I18: 0 | J18: =SUM(G18:I18) -> 0
A19: NABE támogatása | B19: K512 | C19: 100000 | D19: 0 | E19: 0 | F19: =SUM(C19:E19) -> 100000 | G19: 100000 | H19: 0 | I19: 0 | J19: =SUM(G19:I19) -> 100000
A20: TÖOSZ, Balatoni Szövetség, Sportegyesület, horgászegyesület | B20: K512 | C20: 1520000 | D20: 0 | E20: 0 | F20: =SUM(C20:E20) -> 1520000 | G20: 1213191 | H20: 0 | I20: 0 | J20: =SUM(G20:I20) -> 1213191
A21: Dr.Bucur Blanka | B21: K512 | C21: 0 | D21: 0 | E21: 0 | F21: 0 | G21: 224289 | H21: 0 | I21: 0 | J21: =SUM(G21:I21) -> 224289
A22: Grund focipálya (műfűves fudball pálya) | B22: K512 | C22: 0 | D22: 0 | E22: 0 | F22: 0 | G22: 1813744 | H22: 0 | I22: 0 | J22: =SUM(G22:I22) -> 1813744
A23: Egyéb működési célú támogatások államháztartáson kívülre | B23: K512 | C23: =SUM(C17:C20) -> 3978054 | D23: =SUM(D17:D20) -> 0 | E23: =SUM(E17:E20) -> 0 | F23: =SUM(F17:F20) -> 3978054 | G23: =SUM(G15:G22) -> 5167472 | H23: 0 | I23: 0 | J23: =SUM(G23:I23) -> 5167472
A25: 11. melléklet Balatonederics Község Önkormányzata 2020. évi költségvetéséről szóló...../2020. (II........) sz. önkormányzati rendelethez
A27: Rovat megnevezése | B27: Rovat száma | C27: ÖNKORMÁNYZAT EREDETI EI. | D27: TÁRSULÁS EREDETI EI. | E27: ÓVODA EREDETI EI. | F27: MINDÖSSZESEN EREDETI EI. | G27: ÖNKORMÁNYZAT MÓDOSÍTOTT EI. | H27: TÁRSULÁS MÓDOSÍTOTT EI. | I27: ÓVODA MÓDOSÍTOTT EI. | J27: MINDÖSSZESEN EREDETI EI.
A28: Közfoglalkoztatottak finanszírozása | B28: B16 | C28: 0 | D28: 0 | E28: 0 | F28: 0 | G28: 961092 | H28: 0 | I28: 0 | J28: =SUM(G28:I28) -> 961092
A29: Társadalombiztosítás pénzügyi alapjai | B29: B16 | C29: 0 | D29: 0 | E29: 0 | F29: 0 | G29: 28800 | H29: 0 | I29: 0 | J29: =SUM(G29:I29) -> 28800
A30: Helyi önkormányzatoktól és azok költségvetési szervétől | B30: B16 | C30: 0 | D30: 0 | E30: 0 | F30: 0 | G30: 13336248 | H30: 0 | I30: 0 | J30: =SUM(G30:I30) -> 13336248
A31: Egyéb működési célú támogatások bevételei államháztartáson belülről | B31: B16 | C31: 17781663 | D31: 68026305 | E31: 68026305 | F31: =SUM(C31:E31) -> 153834273 | G31: =SUM(G28:G30) -> 14326140 | H31: 74719942 | I31: 0 | J31: =SUM(G31:I31) -> 89046082
A32: Felhalmozási célú önkormányzati támogatások | B32: B21 | C32: 0 | D32: 0 | E32: 0 | F32: =SUM(C32:E32) -> 0 | G32: 0 | H32: 0 | I32: 0 | J32: 0
A33: Egyéb felhalmozási célú támogatások bevételei államháztartáson belülről | B33: B25 | C33: 0 | D33: 0 | E33: 0 | F33: =SUM(C33:E33) -> 0 | G33: 64474985 | H33: 0 | I33: 0 | J33: =SUM(G33:I33) -> 64474985
A34: Felhalmozási célú támogatások államháztartáson belülről | B34: B2 | C34: =SUM(C32:C33) -> 0 | D34: =SUM(D32:D33) -> 0 | E34: =SUM(E32:E33) -> 0 | F34: =SUM(C34:E34) -> 0 | G34: =SUM(G32:G33) -> 64474985 | H34: 0 | I34: 0 | J34: =SUM(J32:J33) -> 64474985
A35: Működési célú visszatérítendő támogatások, kölcsönök visszatérülése államháztartáson kívülről | B35: B64 | C35: 0 | D35: 0 | E35: 0 | F35: =SUM(C35:E35) -> 0 | G35: 0 | H35: 0 | I35: 0 | J35: 0
A36: Egyéb működési célú átvett pénzeszközök | B36: B65 | C36: 0 | D36: 0 | E36: 0 | F36: =SUM(C36:E36) -> 0 | G36: 0 | H36: 0 | I36: 0 | J36: 0
A37: Működési célú átvett pénzeszközök | B37: B6 | C37: =SUM(C35:C36) -> 0 | D37: =SUM(D35:D36) -> 0 | E37: =SUM(E35:E36) -> 0 | F37: =SUM(C37:E37) -> 0 | G37: 0 | H37: 0 | I37: 0 | J37: 0
A38: Felhalmozási célú visszatérítendő támogatások, kölcsönök visszatérülése államháztartáson kívülről | B38: B74 | C38: 0 | D38: 0 | E38: 0 | F38: =SUM(C38:E38) -> 0 | G38: 100000 | H38: 0 | I38: 0 | J38: =SUM(G38:I38) -> 100000
A39: Egyéb felhalmozási célú átvett pénzeszközök | B39: B75 | C39: 0 | D39: 0 | E39: 0 | F39: =SUM(C39:E39) -> 0 | G39: 0 | H39: 0 | I39: 0 | J39: 0
A40: Felhalmozási célú átvett pénzeszközök | B40: B7 | C40: =SUM(C38:C39) -> 0 | D40: =SUM(D38:D39) -> 0 | E40: =SUM(E38:E39) -> 0 | F40: =SUM(C40:E40) -> 0 | G40: =SUM(G38:G39) -> 100000 | H40: 0 | I40: 0 | J40: =SUM(J38:J39) -> 100000

Sheet BERUH FELÚJ
A1: 12. melléklet Balatonederics Község Önkormányzat 2020.évi költségvetésének módosításáról szóló 20/2020.(XII.10.) önkormányzati rendelethez.
A2: 12. melléklet Balatonederics Község Önkormányzat 2020.évi költségvetéséről szóló 4/2020.(III.12.) önkormányzati rendelethez.
A3: BALATONEDERICS KÖZSÉG ÖNKORMÁNYZAT 2020. ÉVI KÖLTSÉGVETÉS
A4: Beruházások és felújítások (Ft)
A6: Rovat megnevezése | B6: Rovat-szám | C6: ÖNKORMÁNYZAT EREDETI EI. | D6: TÁRSULÁS EREDETI EI. | E6: ÓVODA EREDETI EI. | F6: MINDÖSSZESEN EREDETI EI. | G6: ÖNKORMÁNYZAT Módosított EI. | H6: TÁRSULÁS Módosított EI. | I6: ÓVODA Módosított EI. | J6: MINDÖSSZESEN EREDETI EI.
A7: Immateriális javak beszerzése, létesítése | B7: K61 | C7: 0 | D7: 0 | E7: 0 | F7: 0
F8: =SUM(C8:E8) -> 0
F9: =SUM(C9:E9) -> 0
F10: =SUM(C10:E10) -> 0
F11: =SUM(C11:E11) -> 0
A12: Ingatlanok beszerzése, létesítése | B12: K62 | C12: =SUM(C8:C11) -> 0 | D12: =SUM(D8:D11) -> 0 | E12: =SUM(E8:E11) -> 0 | F12: =SUM(C12:E12) -> 0 | G12: 5293500 | J12: =SUM(G12:I12) -> 5293500
F13: =SUM(C13:E13) -> 0
F14: =SUM(C14:E14) -> 0
F15: =SUM(C15:E15) -> 0
F16: =SUM(C16:E16) -> 0
A17: Informatikai eszközök beszerzése, létesítése | B17: K63 | C17: 0 | D17: 0 | E17: =SUM(E13:E16) -> 0 | F17: =SUM(C17:E17) -> 0
