Workbook
Name Excel_BuiltIn_Print_Area: BEVÉTELEK!$A$1:$K$45
Name Excel_BuiltIn_Print_Area: 'BEVÉTELEK ÖNK'!$A$1:$H$46
Name Excel_BuiltIn_Print_Area: 'BEVÉTELEK TÁRSULÁS'!$A$1:$H$18
Name Excel_BuiltIn_Print_Area: HITEL!$A$1:$D$70
Name Excel_BuiltIn_Print_Area: KÖZVETETT!$A$2:$E$31
Name Excel_BuiltIn_Print_Area: 'STABILITÁSI 2'!$A$1:$G$42
Name Excel_BuiltIn_Print_Area: 'STABILTÁSI 1'!$A$1:$J$41
Name Excel_BuiltIn_Print_Area: 'TÖBB ÉVES'!$A$3:$I$33

Sheet BEVÉTELEK
A1: BALATONEDERICS KÖZSÉG ÖNKORMÁNYZAT 2020. ÉVI KÖLTSÉGVETÉS
A2: Önkormányzat és költségvetési szervei - Bevételek (Ft)
B3: 1. melléklet Balatonederics Község Önkormányzat 2020.évi költségvetésének módosításáról szóló 20/2020.(XII.10.) önkormányzati rendelethez.
B4: 1. melléklet Balatonederics Község Önkormányzat 2020.évi költségvetéséről szóló 4/2020.(III.12.) önkormányzati rendelethez.
A5: Sor- szám | B5: Rovat megnevezése | C5: Rovat száma | D5: ÖNKORMÁNYZAT EREDETI EI. | E5: TÁRSULÁS EREDETI EI. | F5: ÓVODA EREDETI EI. | G5: MINDÖSSZESEN EREDETI EI. | H5: ÖNKORMÁNYZAT Módosított Ei. | I5: TÁRSULÁS Módosított EI. | J5: ÓVODA Módosított EI. | K5: MINDÖSSZESEN Módosított EI.
A6: 01 | B6: Helyi önkormányzatok működésének általános támogatása | C6: B111 | D6: =SUM('BEVÉTELEK ÖNK'!D7) -> 27806802 | E6: 0 | F6: 0 | G6: =SUM(D6:F6) -> 27806802 | H6: 27424702 | I6: 0 | J6: 0 | K6: =SUM(H6:J6) -> 27424702
A7: 02 | B7: Települési önkormányzatok egyes köznevelési feladatainak támogatása | C7: B112 | D7: =SUM('BEVÉTELEK ÖNK'!D8) -> 29754540 | E7: 0 | F7: 0 | G7: =SUM(D7:F7) -> 29754540 | H7: 32157930 | I7: 0 | J7: 0 | K7: =SUM(H7:J7) -> 32157930
A8: 03 | B8: Települési önkormányzatok szociális gyermekjóléti feladatainak támogatás | C8: B1131 | D8: =SUM('BEVÉTELEK ÖNK'!D9) -> 6376000 | E8: 0 | F8: 0 | G8: =SUM(D8:F8) -> 6376000 | H8: 6376000 | I8: 0 | J8: 0 | K8: =SUM(H8:J8) -> 6376000
A9: 04 | B9: Települési Önkormányzatok Gyermekétkeztetési feladatainak támogatása | C9: B1132 | E9: 0 | F9: 0 | H9: 14223285 | I9: 0 | J9: 0 | K9: =SUM(H9:J9) -> 14223285
A10: 05 | B10: Települési önkormányzatok kulturális feladatainak támogatása | C10: B114 | D10: =SUM('BEVÉTELEK ÖNK'!D11) -> 1800000 | E10: 0 | F10: 0 | G10: =SUM(D10:F10) -> 1800000 | H10: 2593466 | I10: 0 | J10: 0 | K10: =SUM(H10:J10) -> 2593466
A11: 06 | B11: Működési célú költségvetési támogatások és kiegészítések | C11: B115 | E11: 0 | H11: 1090950 | K11: =SUM(H11:J11) -> 1090950
A12: 07 | B12: Önkormányzatok működési támogatásai (=01+…+06) | C12: B11 | D12: =SUM('BEVÉTELEK ÖNK'!D13) -> 65737342 | E12: 0 | F12: 0 | G12: =SUM(D12:F12) -> 65737342 | H12: =SUM(H6:H11) -> 83866333 | I12: 0 | J12: 0 | K12: =SUM(H12:J12) -> 83866333
A13: 08 | B13: Egyéb működési célú támogatások bevételei államháztartáson belülről | C13: B16 | D13: =SUM('BEVÉTELEK ÖNK'!D14) -> 17781663 | E13: 0 | F13: 0 | G13: =SUM(D13:F13) -> 17781663 | H13: 14326140 | I13: 74719942 | J13: 0 | K13: =SUM(H13:J13) -> 89046082
A14: 09 | B14: Működési célú támogatások államháztartáson belülről (=07+…+12) | C14: B1 | D14: =SUM(D12+D13) -> 83519005 | E14: 0 | F14: 0 | G14: =SUM(G12:G13) -> 83519005 | H14: =SUM(H12+H13) -> 98192473 | I14: =SUM(I13) -> 74719942 | J14: 0 | K14: =SUM(H14:J14) -> 172912415
A15: 10 | B15: Felhalmozási célú önkormányzati támogatások | C15: B21 | D15: =SUM('BEVÉTELEK ÖNK'!D16) -> 32127349 | E15: 0 | F15: 0 | G15: =SUM(D15:F15) -> 32127349 | H15: 0 | I15: 0 | J15: 0 | K15: =SUM(H15:J15) -> 0
A16: 11 | B16: Egyéb felhalmozási célú támogatások bevételei államháztartáson belülről | C16: B25 | D16: =SUM('BEVÉTELEK ÖNK'!D17) -> 0 | E16: 0 | F16: 0 | G16: =SUM(D16:F16) -> 0 | H16: 64474985 | I16: 0 | J16: 0 | K16: =SUM(H16:J16) -> 64474985
A17: 12 | B17: Felhalmozási célú támogatások államháztartáson belülről (=14+…+18) | C17: B2 | D17: =SUM('BEVÉTELEK ÖNK'!D18) -> 32127349 | E17: 0 | F17: 0 | G17: =SUM(D17:F17) -> 32127349 | H17: =SUM(H15:H16) -> 64474985 | I17: 0 | J17: 0 | K17: =SUM(H17:J17) -> 64474985
A18: 13 | B18: Vagyoni tipusú adók | C18: B34 | D18: =SUM('BEVÉTELEK ÖNK'!D19) -> 22910491 | E18: 0 | F18: 0 | G18: =SUM(D18:F18) -> 22910491 | H18: =SUM(E18:G18) -> 22910491 | I18: 0 | J18: 0 | K18: =SUM(H18:J18) -> 22910491
A19: 14 | B19: Értékesítési és forgalmi adók | C19: B351 | D19: =SUM('BEVÉTELEK ÖNK'!D20) -> 15385294 | E19: 0 | F19: 0 | G19: =SUM(D19:F19) -> 15385294 | H19: =SUM(E19:G19) -> 15385294 | I19: 0 | J19: 0 | K19: =SUM(H19:J19) -> 15385294
A20: 15 | B20: Gépjárműadók | C20: B354 | D20: =SUM('BEVÉTELEK ÖNK'!D23) -> 3229810 | E20: 0 | F20: 0 | G20: =SUM(D20:F20) -> 3229810 | H20: 0 | I20: 0 | J20: 0 | K20: =SUM(H20:J20) -> 0
A21: 16 | B21: Egyéb áruhasználati és szolgáltatási adók | C21: B355 | D21: =SUM('BEVÉTELEK ÖNK'!D24) -> 0 | E21: 0 | F21: 0 | G21: =SUM(D21:F21) -> 0 | H21: 143730 | I21: 0 | J21: 0 | K21: =SUM(H21:J21) -> 143730
A22: 17 | B22: Termékek és szolgáltatások adói (=26+…+30) | C22: B35 | D22: =SUM(D18:D21) -> 41525595 | E22: 0 | F22: 0 | G22: =SUM(D22:F22) -> 41525595 | H22: =SUM(H19:H21) -> 15529024 | I22: 0 | J22: 0 | K22: =SUM(H22:J22) -> 15529024
A23: 18 | B23: Egyéb közhatalmi bevételek | C23: B36 | D23: =SUM('BEVÉTELEK ÖNK'!D26) -> 49870 | E23: 0 | F23: 0 | G23: =SUM(D23:F23) -> 49870 | H23: 184799 | I23: 0 | J23: 0 | K23: =SUM(H23:J23) -> 184799
A24: 19 | B24: Közhatalmi bevételek (=22+...+25+31+32) | C24: B3 | D24: =SUM(D22:D23) -> 41575465 | E24: 0 | F24: 0 | G24: =SUM(G22:G23) -> 41575465 | H24: =SUM(H18+H22+H23) -> 38624314 | I24: 0 | J24: 0 | K24: =SUM(H24:J24) -> 38624314
A25: 20 | B25: Szolgáltatások ellenértéke | C25: B402 | D25: =SUM('BEVÉTELEK ÖNK'!D28) -> 18650000 | E25: 0 | F25: 16618151 | G25: =SUM(D25:F25) -> 35268151 | H25: 52322866 | I25: 0 | J25: 16618151 | K25: =SUM(H25:J25) -> 68941017
A26: 21 | B26: Közvetített szolgáltatások ellenértéke | C26: B403 | D26: =SUM('BEVÉTELEK ÖNK'!D29) -> 0 | E26: 0 | F26: 0 | G26: =SUM(D26:F26) -> 0 | H26: 566508 | I26: 0 | J26: 0 | K26: =SUM(H26:J26) -> 566508
A27: 22 | B27: Tulajdonosi bevételek | C27: B404 | D27: 50000000 | E27: 0 | F27: 0 | G27: =SUM(D27:F27) -> 50000000 | H27: 3044650 | I27: 0 | J27: 0 | K27: =SUM(H27:J27) -> 3044650
A28: 23 | B28: Ellátási díjak | C28: B405 | D28: 0 | E28: 0 | F28: =SUM('BEVÉTEL ÓVODA'!D8) -> 2460886 | G28: =SUM(D28:F28) -> 2460886 | H28: 0 | I28: 0 | J28: 2460886 | K28: =SUM(H28:J28) -> 2460886
A29: 24 | B29: Kiszámlázott általános forgalmi adó | C29: B406 | D29: =SUM('BEVÉTELEK ÖNK'!D31) -> 4295000 | E29: 0 | F29: =SUM('BEVÉTEL ÓVODA'!D9) -> 5151345 | G29: =SUM(D29:F29) -> 9446345 | H29: 11248152 | I29: 0 | J29: 5151345 | K29: =SUM(H29:J29) -> 16399497
A30: 25 | B30: Kamatbevételek és más nyereségjellegű bevételek (=41+42) | C30: B408 | D30: =SUM('BEVÉTELEK ÖNK'!D33) -> 0 | E30: 0 | F30: =SUM('BEVÉTEL ÓVODA'!D10) -> 0 | G30: =SUM(D30:F30) -> 0 | H30: 20 | I30: 0 | J30: 1 | K30: =SUM(H30:J30) -> 21
A31: 26 | B31: Egyéb működési bevételek | C31: B411 | D31: =SUM('BEVÉTELEK ÖNK'!D34) -> 800000 | E31: 0 | F31: =SUM('BEVÉTEL ÓVODA'!D11) -> 0 | G31: =SUM(D31:F31) -> 800000 | H31: 1825413 | I31: 0 | J31: 5000 | K31: =SUM(H31:J31) -> 1830413
A32: 27 | B32: Működési bevételek (=34+…+40+43+46+...+48) | C32: B4 | D32: =SUM(D25:D31) -> 73745000 | E32: 0 | F32: =SUM('BEVÉTEL ÓVODA'!D12) -> 24230382 | G32: =SUM(G25:G31) -> 97975382 | H32: =SUM(H25:H31) -> 69007609 | I32: 0 | J32: =SUM(J25+J28+J29+J30+J31) -> 24235383 | K32: =SUM(H32:J32) -> 93242992
A33: 28 | B33: Ingatlanok értékesítése | C33: B52 | D33: =SUM('BEVÉTELEK ÖNK'!D36) -> 0 | E33: 0 | F33: 0 | G33: =SUM(D33:F33) -> 0 | H33: 1600000 | I33: 0 | J33: 0 | K33: =SUM(H33:J33) -> 1600000
A34: 29 | B34: Felhalmozási bevételek (=50+…+54) | C34: B5 | D34: =SUM('BEVÉTELEK ÖNK'!D37) -> 0 | E34: 0 | F34: 0 | G34: =SUM(G33:G33) -> 0 | H34: =SUM(H33:H33) -> 1600000 | I34: 0 | J34: 0 | K34: =SUM(H34:J34) -> 1600000
A35: 30 | B35: Felhalmozási célú visszatérítendő támogatások, kölcsönök visszatérülése államháztartáson kívülről | C35: B74 | D35: =SUM('BEVÉTELEK ÖNK'!D38) -> 0 | E35: 0 | F35: 0 | G35: =SUM(D35:F35) -> 0 | H35: 100000 | I35: 0 | J35: 0 | K35: =SUM(H35:J35) -> 100000
A36: 31 | B36: Egyéb felhalmozási célú átvett pénzeszközök | C36: B75 | D36: 0 | E36: 0 | F36: 0 | G36: =SUM(D36:F36) -> 0 | H36: 0 | I36: 0 | J36: 0 | K36: =SUM(H36:J36) -> 0
A37: 32 | B37: Felhalmozási célú átvett pénzeszközök (=62+…+66) | C37: B7 | D37: =SUM('BEVÉTELEK ÖNK'!D39) -> 0 | E37: 0 | F37: 0 | G37: =SUM(G35:G36) -> 0 | H37: =SUM(H35:H36) -> 100000 | I37: 0 | J37: 0 | K37: =SUM(H37:J37) -> 100000
A38: 33 | B38: Költségvetési bevételek (=13+19+33+49+55+61+67) | C38: B1-B7 | D38: =SUM(D14+D17+D24+D32) -> 230966819 | E38: =SUM('BEVÉTELEK TÁRSULÁS'!E9) -> 0 | F38: =SUM('BEVÉTEL ÓVODA'!D13) -> 24230382 | G38: =SUM(G14+G17+G24+G32+G34+G37) -> 255197201 | H38: =SUM(H14+H17+H24+H32+H34+H37) -> 271999381 | I38: =SUM(I14) -> 74719942 | J38: =SUM(J32) -> 24235383 | K38: =SUM(H38:J38) -> 370954706
A39: 34 | B39: Előző év költségvetési maradványának igénybevétele | C39: B8131 | D39: =SUM('BEVÉTELEK ÖNK'!D41) -> 103770784 | E39: =SUM('BEVÉTELEK TÁRSULÁS'!D10) -> 104094 | F39: =SUM('BEVÉTEL ÓVODA'!D14) -> 123965 | G39: =SUM(D39:F39) -> 103998843 | H39: 85482904 | I39: 104122 | J39: 81267 | K39: =SUM(H39:J39) -> 85668293
A40: 35 | B40: Maradvány igénybevétele (=10+11) | C40: B813 | D40: =SUM('BEVÉTELEK ÖNK'!D42) -> 103770784 | E40: =SUM('BEVÉTELEK TÁRSULÁS'!D12) -> 104094 | F40: =SUM('BEVÉTEL ÓVODA'!D15) -> 123965 | G40: =SUM(D40:F40) -> 103998843 | H40: =SUM(H39:H39) -> 85482904 | I40: =SUM(I39:I39) -> 104122 | J40: =SUM(J39:J39) -> 81267 | K40: =SUM(H40:J40) -> 85668293
A41: 36 | B41: Államháztartáson belüli megelőlegezések | C41: B814 | D41: 0 | E41: =SUM('BEVÉTELEK TÁRSULÁS'!D13) -> 0 | F41: 0 | G41: =SUM(D41:F41) -> 0 | H41: 3060985 | I41: 0 | J41: 0 | K41: =SUM(H41:J41) -> 3060985
A42: 37 | B42: Központi, irányító szervi támogatás | C42: B816 | D42: 0 | E42: =SUM('BEVÉTELEK TÁRSULÁS'!E15) -> 68026305 | F42: =SUM('BEVÉTEL ÓVODA'!D16) -> 68026305 | G42: 0 | H42: 0 | I42: 0 | J42: 74719942 | K42: =SUM(H42:J42) -> 74719942
A43: 38 | B43: Belföldi finanszírozás bevételei (=04+09+12+…+17+20) | C43: B81 | D43: =SUM('BEVÉTELEK ÖNK'!D44) -> 103770784 | E43: =SUM('BEVÉTELEK TÁRSULÁS'!E16) -> 68130399 | F43: =SUM('BEVÉTEL ÓVODA'!D17) -> 68150270 | G43: =SUM(G40) -> 103998843 | H43: =SUM(H40:H41) -> 88543889 | I43: 0 | J43: 0 | K43: =SUM(K40:K42) -> 163449220
A44: 39 | B44: Finanszírozási bevételek (=21+27+28+29) | C44: B8 | D44: =SUM('BEVÉTELEK ÖNK'!D45) -> 103770784 | E44: =SUM('BEVÉTELEK TÁRSULÁS'!E17) -> 68130399 | F44: =SUM('BEVÉTEL ÓVODA'!D18) -> 68150270 | G44: =SUM(G43) -> 103998843 | H44: =SUM(H43) -> 88543889 | I44: =SUM(I40) -> 104122 | J44: =SUM(J40:J42) -> 74801209 | K44: =SUM(H44:J44) -> 163449220
A45: 40 | B45: BEVÉTELEK MINDÖSSZESEN | D45: =SUM(D38+D44) -> 334737603 | E45: =SUM('BEVÉTELEK TÁRSULÁS'!E18) -> 68130399 | F45: =SUM('BEVÉTEL ÓVODA'!D19) -> 92380652 | G45: =SUM(G44+G38) -> 359196044 | H45: =SUM(H38+H44) -> 360543270 | I45: =SUM(I44+I38) -> 74824064 | J45: =SUM(J38+J44) -> 99036592 | K45: =SUM(H45:J45) -> 534403926

Sheet BEVÉTELEK ÖNK
B1: 2. melléklet Balatonederics Község Önkormányzat 2020.évi költségvetésének módosításáról szóló 20/2020.(XII.10.) önkormányzati rendelethez.
B2: 2. melléklet Balatonederics Község Önkormányzat 2020.évi költségvetéséről szóló 4/2020.(III.12.) önkormányzati rendelethez.
A3: BALATONEDERICS KÖZSÉG ÖNKORMÁNYZAT 2020. ÉVI KÖLTSÉGVETÉS
A4: Önkormányzati előirányzatok - Bevételek (Ft)
A6: Sor- szám | B6: Rovat megnevezése | C6: Rovat száma | D6: ÖNKORMÁNYZAT EREDETI EI. | E6: EBBŐL KÖTELEZŐ | F6: Módosítás | G6: ÖNKORMÁNYZAT MÓDOSÍTOTT EI. | H6: EBBŐL KÖTELEZŐ
A7: 01 | B7: Helyi önkormányzatok működésének általános támogatása | C7: B111 | D7: 27806802 | E7: =D7 -> 27806802 | F7: =G7-E7 -> -382100 | G7: 27424702 | H7: 27424702
A8: 02 | B8: Települési önkormányzatok egyes köznevelési feladatainak támogatása | C8: B112 | D8: 29754540 | E8: =D8 -> 29754540 | F8: =G8-E8 -> 2403390 | G8: 32157930 | H8: 32157930
A9: 03 | B9: Települési önkormányzatok szociális gyermekjóléti és gyermekétkeztetési feladatainak támogatása | C9: B1131 | D9: 6376000 | E9: =D9 -> 6376000 | F9: =G9-E9 -> 0 | G9: =E9 -> 6376000 | H9: =G9 -> 6376000
A10: 04 | B10: Települési Önkormányzatok Gyermekétkeztetési feladatainak támogatása | C10: B1132 | D10: 0 | E10: 0 | F10: =G10-E10 -> 14223285 | G10: 14223285 | H10: 14223285
A11: 05 | B11: Települési önkormányzatok kulturális feladatainak támogatása | C11: B114 | D11: 1800000 | E11: =D11 -> 1800000 | F11: =G11-E11 -> 793466 | G11: 2593466 | H11: 2593466
A12: 06 | B12: Működési célú költségvetési támogatások és kiegészítések | C12: B115 | D12: 0 | E12: 0 | F12: =G12-E12 -> 1090950 | G12: 1090950 | H12: 1090950
A13: 07 | B13: Önkormányzatok működési támogatásai (=01+…+06) | C13: B11 | D13: =SUM(D7:D12) -> 65737342 | E13: =SUM(E7:E12) -> 65737342 | F13: =G13-E13 -> 18128991 | G13: =SUM(G7:G12) -> 83866333 | H13: =SUM(H7:H12) -> 83866333
A14: 08 | B14: Egyéb működési célú támogatások bevételei államháztartáson belülről | C14: B16 | D14: 17781663 | E14: =D14 -> 17781663 | F14: =G14-E14 -> -3455523 | G14: 14326140 | H14: 14326140
A15: 09 | B15: Működési célú támogatások államháztartáson belülről (=07+…+12) | C15: B1 | D15: =SUM(D13:D14) -> 83519005 | E15: =SUM(E13:E14) -> 83519005 | F15: =G15-E15 -> 14673468 | G15: =SUM(G13:G14) -> 98192473 | H15: =SUM(H13:H14) -> 98192473
A16: 10 | B16: Felhalmozási célú önkormányzati támogatások | C16: B21 | D16: 32127349 | E16: 32127349 | F16: =G16-E16 -> -32127349 | G16: 0 | H16: 0
A17: 11 | B17: Egyéb felhalmozási célú támogatások bevételei államháztartáson belülről | C17: B25 | D17: 0 | E17: 0 | F17: =G17-E17 -> 64474985 | G17: 64474985 | H17: 64474985
A18: 12 | B18: Felhalmozási célú támogatások államháztartáson belülről (=14+…+18) | C18: B2 | D18: =SUM(D16:D17) -> 32127349 | E18: =SUM(E16:E17) -> 32127349 | F18: =G18-E18 -> 32347636 | G18: =SUM(G16:G17) -> 64474985 | H18: =SUM(H16:H17) -> 64474985
A19: 13 | B19: Vagyoni tipusú adók | C19: B34 | D19: 22910491 | E19: =D19 -> 22910491 | F19: =G19-E19 -> 0 | G19: =E19 -> 22910491 | H19: =G19 -> 22910491
A20: 14 | B20: Értékesítési és forgalmi adók | C20: B351 | D20: 15385294 | E20: =D20 -> 15385294 | F20: =G20-E20 -> 0 | G20: =E20 -> 15385294 | H20: =G20 -> 15385294
A21: 15 | B21: Fogyasztási adók | C21: B352 | D21: 0 | E21: =D21 -> 0 | F21: =G21-E21 -> 0 | G21: 0 | H21: 0
A22: 16 | B22: Pénzügyi monopóliumok nyereségét terhelő adók | C22: B353 | D22: 0 | E22: =D22 -> 0 | F22: =G22-E22 -> 0 | G22: 0 | H22: 0
A23: 17 | B23: Gépjárműadók | C23: B354 | D23: 3229810 | E23: =D23 -> 3229810 | F23: =G23-E23 -> -3229810 | G23: 0 | H23: 0
A24: 18 | B24: Egyéb áruhasználati és szolgáltatási adók | C24: B355 | D24: 0 | E24: =D24 -> 0 | F24: =G24-E24 -> 143730 | G24: 143730 | H24: 143730
A25: 19 | B25: Termékek és szolgáltatások adói (=26+…+30) | C25: B35 | D25: =SUM(D20:D24) -> 18615104 | E25: =SUM(E20:E24) -> 18615104 | F25: =G25-E25 -> -3086080 | G25: =SUM(G20:G24) -> 15529024 | H25: =SUM(H20:H24) -> 15529024
A26: 20 | B26: Egyéb közhatalmi bevételek | C26: B36 | D26: 49870 | E26: =D26 -> 49870 | F26: =G26-E26 -> 134929 | G26: 184799 | H26: 184799
A27: 21 | B27: Közhatalmi bevételek (=22+...+25+31+32) | C27: B3 | D27: =SUM(D19+D25+D26) -> 41575465 | E27: =SUM(E19+E25+E26) -> 41575465 | F27: =G27-E27 -> -2951151 | G27: =SUM(G19+G25+G26) -> 38624314 | H27: =SUM(H19+H25+H26) -> 38624314
A28: 22 | B28: Szolgáltatások ellenértéke | C28: B402 | D28: 18650000 | E28: =D28 -> 18650000 | F28: =G28-E28 -> 33672866 | G28: 52322866 | H28: 52322866
A29: 23 | B29: Közvetített szolgáltatások ellenértéke | C29: B403 | D29: 0 | E29: =D29 -> 0 | F29: =G29-E29 -> 566508 | G29: 566508 | H29: 566508
A30: 24 | B30: Tulajdonosi bevételek | C30: B404 | D30: 50000000 | E30: =D30 -> 50000000 | F30: =G30-E30 -> -46955350 | G30: 3044650 | H30: 3044650
A31: 25 | B31: Kiszámlázott általános forgalmi adó | C31: B406 | D31: 4295000 | E31: =D31 -> 4295000 | F31: =G31-E31 -> 6953152 | G31: 11248152 | H31: 11248152
A32: 26 | B32: Egyéb kapott (járó) kamatok és kamatjellegű bevételek | C32: B4082 | D32: 0 | E32: =D32 -> 0 | F32: =G32-E32 -> 20 | G32: 20 | H32: 20
A33: 27 | B33: Kamatbevételek és más nyereségjellegű bevételek (=41+42) | C33: B408 | D33: =SUM(D32:D32) -> 0 | E33: =SUM(E32:E32) -> 0 | F33: =G33-E33 -> 20 | G33: =SUM(G32) -> 20 | H33: =SUM(H32) -> 20
A34: 28 | B34: Egyéb működési bevételek | C34: B411 | D34: 800000 | E34: =D34 -> 800000 | F34: =G34-E34 -> 1025413 | G34: 1825413 | H34: 1825413
A35: 29 | B35: Működési bevételek (=34+…+40+43+46+...+48) | C35: B4 | D35: =SUM(D28+D29+D30+D31+D33+D34) -> 73745000 | E35: =SUM(E28+E29+E30+E31+E33+E34) -> 73745000 | F35: =G35-E35 -> -4737391 | G35: =SUM(G28+G29+G30+G31+G33+G34) -> 69007609 | H35: =SUM(H28+H29+H30+H31+H33+H34) -> 69007609
A36: 30 | B36: Ingatlanok értékesítése | C36: B52 | D36: 0 | E36: 0 | F36: =G36-E36 -> 1600000 | G36: 1600000 | H36: 1600000
A37: 31 | B37: Felhalmozási bevételek (=50+…+54) | C37: B5 | D37: =SUM(D36:D36) -> 0 | E37: =SUM(E36:E36) -> 0 | F37: =G37-E37 -> 1600000 | G37: =SUM(G36) -> 1600000 | H37: =SUM(H36) -> 1600000
A38: 32 | B38: Felhalmozási célú visszatérítendő támogatások, kölcsönök visszatérülése államháztartáson kívülről | C38: B74 | D38: 0 | E38: 0 | F38: =G38-E38 -> 100000 | G38: 100000 | H38: 100000
A39: 33 | B39: Felhalmozási célú átvett pénzeszközök (=62+…+66) | C39: B7 | D39: =SUM(D38:D38) -> 0 | E39: =SUM(E38:E38) -> 0 | F39: =G39-E39 -> 100000 | G39: =SUM(G38) -> 100000 | H39: =SUM(H38) -> 100000
A40: 34 | B40: Költségvetési bevételek (=13+19+33+49+55+61+67) | C40: B1-B7 | D40: =SUM(D15+D18+D27+D35+D37+D39) -> 230966819 | E40: =SUM(E15+E18+E27+E35+E37+E39) -> 230966819 | F40: =G40-E40 -> 41032562 | G40: =SUM(G15+G18+G27+G35+G37+G39) -> 271999381 | H40: =SUM(H15+H18+H27+H35+H37+H39) -> 271999381
A41: 35 | B41: Előző év költségvetési maradványának igénybevétele | C41: B8131 | D41: 103770784 | E41: =D41 -> 103770784 | F41: =G41-E41 -> -18287880 | G41: 85482904 | H41: 85482904
A42: 36 | B42: Maradvány igénybevétele (=10+11) | C42: B813 | D42: =SUM(D41:D41) -> 103770784 | E42: =SUM(E41:E41) -> 103770784 | F42: =G42-E42 -> -18287880 | G42: 85482904 | H42: 85482904
A43: 37 | B43: Államháztartáson belüli megelőlegezés | C43: B814 | D43: 0 | E43: 0 | F43: =G43-E43 -> 3060985 | G43: 3060985 | H43: 3060985
A44: 38 | B44: Belföldi finanszírozás bevételei (=04+09+12+…+17+20) | C44: B81 | D44: =SUM(D42) -> 103770784 | E44: =SUM(E42) -> 103770784 | F44: =G44-E44 -> -15226895 | G44: =SUM(G42:G43) -> 88543889 | H44: =SUM(H42:H43) -> 88543889
A45: 39 | B45: Finanszírozási bevételek (=21+27+28+29) | C45: B8 | D45: =SUM(D44) -> 103770784 | E45: =SUM(E44) -> 103770784 | F45: =G45-E45 -> -15226895 | G45: =SUM(G44) -> 88543889 | H45: =SUM(H44) -> 88543889
A46: 40 | B46: BEVÉTELEK MINDÖSSZESEN | D46: =SUM(D45+D40) -> 334737603 | E46: =SUM(E45+E40) -> 334737603 | F46: =G46-E46 -> 25805667 | G46: =SUM(G40+G45) -> 360543270 | H46: =SUM(H40+H45) -> 360543270

Sheet BEVÉTELEK TÁRSULÁS
B1: 3. melléklet Balatonederics Község Önkormányzat 2020.évi költségvetésének módosításáról szóló 20/2020.(XII.10.) önkormányzati rendelethez.
B2: 3. melléklet Balatonederics Község Önkormányzat 2020.évi költségvetéséről szóló 4/2020.(III.12.) önkormányzati rendelethez.
A3: ÓVODAI ÉS VÉDŐNŐI TÁRSULÁS BALATONEDERICS 2020. ÉVI KÖLTSÉGVETÉS
A4: Társulási előirányzatok - Bevételek (Ft)
A6: Sor- szám | B6: Rovat megnevezése | C6: Rovat száma | D6: TÁRSULÁS EREDETI EI. | E6: EBBŐL KÖTELEZŐ | F6: MÓDOSÍTÁS | G6: TÁRSULÁS MÓDOSÍTOTT EI. | H6: EBBŐL KÖTELEZŐ
A7: 1 | B7: Egyéb működési célú támogatások bevételei államháztartáson belülről | C7: B16 | E7: =D7 -> 0 | F7: =G7-E7 -> 74719942 | G7: 74719942 | H7: 74719942
A8: 2 | B8: Működési célú támogatások államháztartáson belülről (=07+…+12) | C8: B1 | D8: 0 | E8: 0 | F8: =G8-E8 -> 74719942 | G8: =SUM(G7) -> 74719942 | H8: =SUM(H7) -> 74719942
A9: 3 | B9: Költségvetési bevételek (=13+19+33+49+55+61+67) | C9: B1-B7 | D9: 0 | E9: 0 | F9: =G9-E9 -> 74719942 | G9: =SUM(G8) -> 74719942 | H9: =SUM(H8) -> 74719942
A10: 4 | B10: Előző év költségvetési maradványának igénybevétele | C10: B8131 | D10: 104094 | E10: =D10 -> 104094 | F10: =G10-E10 -> 28 | G10: 104122 | H10: 104122
A11: 5 | B11: Előző év vállalkozási maradványának igénybevétele | C11: B8132 | D11: 0 | E11: 0 | F11: =G11-E11 -> 0 | G11: 0 | H11: 0
A12: 6 | B12: Maradvány igénybevétele (=10+11) | C12: B813 | D12: =SUM(D10:D11) -> 104094 | E12: =SUM(E10:E11) -> 104094 | F12: =G12-E12 -> 28 | G12: =SUM(G10:G11) -> 104122 | H12: =SUM(H10:H11) -> 104122
A13: 7 | B13: Államháztartáson belüli megelőlegezések | C13: B814 | D13: 0 | E13: 0 | F13: =G13-E13 -> 0 | G13: 0 | H13: 0
A14: 8 | B14: Államháztartáson belüli megelőlegezések törlesztése | C14: B815 | D14: 0 | E14: 0 | F14: =G14-E14 -> 0 | G14: 0 | H14: 0
A15: 9 | B15: Központi, irányító szervi támogatás | C15: B816 | D15: 68026305 | E15: =D15 -> 68026305 | F15: =G15-E15 -> -68026305 | G15: 0 | H15: 0
A16: 10 | B16: Belföldi finanszírozás bevételei (=04+09+12+…+17+20) | C16: B81 | D16: =SUM(D12:D15) -> 68130399 | E16: =SUM(E12:E15) -> 68130399 | F16: =G16-E16 -> -68026277 | G16: =SUM(G12:G15) -> 104122 | H16: =SUM(H12:H15) -> 104122
A17: 11 | B17: Finanszírozási bevételek (=21+27+28+29) | C17: B8 | D17: =SUM(D16) -> 68130399 | E17: =SUM(E16) -> 68130399 | F17: =G17-E17 -> -68026277 | G17: =SUM(G12) -> 104122 | H17: =SUM(H12) -> 104122
A18: 12 | B18: BEVÉTELEK MINDÖSSZESEN | D18: =SUM(D17+D9) -> 68130399 | E18: =SUM(E17+E9) -> 68130399 | F18: =SUM(F9+F17) -> 6693665 | G18: =SUM(G9+G17) -> 74824064 | H18: =SUM(H9+H17) -> 74824064

Sheet BEVÉTEL ÓVODA
B1: 4. melléklet Balatonederics Község Önkormányzat 2020.évi költségvetésének módosításáról szóló 20/2020.(XII.10.) önkormányzati rendelethez.
B2: 4. melléklet Balatonederics Község Önkormányzat 2020.évi költségvetéséről szóló 4/2020.(III.12.) önkormányzati rendelethez.
A3: ÓVODAI ÉS VÉDŐNŐI TÁRSULÁS BALATONEDERICS 2020. ÉVI KÖLTSÉGVETÉS
A4: Lesencetomaji Mesevár Óvoda - Bevételek (Ft)
A6: Sor- szám | B6: Rovat megnevezése | C6: Rovat száma | D6: Óvoda EREDETI EI. | E6: EBBŐL KÖTELEZŐ | F6: MÓDOSÍTÁS | G6: Óvoda MÓDOSÍTOTT EI. | H6: EBBŐL KÖTELEZŐ
A7: 1 | B7: Szolgáltatások ellenértéke | C7: B402 | D7: 16618151 | E7: =D7 -> 16618151 | F7: =G7-E7 -> 0 | G7: 16618151 | H7: 16618151
A8: 2 | B8: Ellátási díjak | C8: B405 | D8: 2460886 | E8: =D8 -> 2460886 | F8: =G8-E8 -> 0 | G8: 2460886 | H8: 2460886
A9: 3 | B9: Kiszámlázott általános forgalmi adó | C9: B406 | D9: 5151345 | E9: =D9 -> 5151345 | F9: =G9-E9 -> 0 | G9: 5151345 | H9: 5151345
A10: 4 | B10: Kamatbevételek és más nyereségjellegű bevételek (=41+42) | C10: B408 | D10: 0 | E10: 0 | F10: =G10-E10 -> 1 | G10: 1 | H10: 1
A11: 5 | B11: Egyéb működési bevételek | C11: B411 | D11: 0 | E11: =D11 -> 0 | F11: =G11-E11 -> 5000 | G11: 5000 | H11: 5000
A12: 6 | B12: Működési bevételek (=34+…+40+43+46+...+48) | C12: B4 | D12: =SUM(D7:D11) -> 24230382 | E12: =SUM(E7:E11) -> 24230382 | F12: =G12-E12 -> 5001 | G12: =SUM(G7:G11) -> 24235383 | H12: =SUM(H7:H11) -> 24235383
A13: 7 | B13: Költségvetési bevételek (=13+19+33+49+55+61+67) | C13: B1-B7 | D13: =SUM(D12) -> 24230382 | E13: =SUM(E12) -> 24230382 | F13: =G13-E13 -> 5001 | G13: =SUM(G12) -> 24235383 | H13: =SUM(H12) -> 24235383
A14: 8 | B14: Előző év költségvetési maradványának igénybevétele | C14: B8131 | D14: 123965 | E14: 123965 | F14: =G14-E14 -> -42698 | G14: 81267 | H14: 81267
A15: 9 | B15: Maradvány igénybevétele (=10+11) | C15: B813 | D15: =SUM(D14:D14) -> 123965 | E15: =SUM(E14:E14) -> 123965 | F15: =G15-E15 -> -42698 | G15: =SUM(G14:G14) -> 81267 | H15: =SUM(H14:H14) -> 81267
A16: 10 | B16: Központi, irányító szervi támogatás | C16: B816 | D16: 68026305 | E16: =D16 -> 68026305 | F16: =G16-E16 -> 6693637 | G16: 74719942 | H16: 74719942
A17: 11 | B17: Belföldi finanszírozás bevételei (=04+09+12+…+17+20) | C17: B81 | D17: =SUM(D15:D16) -> 68150270 | E17: =SUM(E15:E16) -> 68150270 | F17: =G17-E17 -> 6650939 | G17: =SUM(G15:G16) -> 74801209 | H17: =SUM(H15:H16) -> 74801209
A18: 12 | B18: Finanszírozási bevételek (=21+27+28+29) | C18: B8 | D18: =SUM(D17) -> 68150270 | E18: =SUM(E17) -> 68150270 | F18: =G18-E18 -> 6650939 | G18: =SUM(G17) -> 74801209 | H18: =SUM(H17) -> 74801209
A19: 13 | B19: BEVÉTELEK MINDÖSSZESEN | D19: =SUM(D18+D13) -> 92380652 | E19: =SUM(E18+E13) -> 92380652 | F19: =G19-E19 -> 6655940 | G19: =SUM(G13+G18) -> 99036592 | H19: =SUM(H13+H18) -> 99036592

Sheet KIADÁSOK
B1: 5. melléklet Balatonederics Község Önkormányzat 2020.évi költségvetésének módosításáról szóló 20/2020.(XII.10.) önkormányzati rendelethez.
B2: 5. melléklet Balatonederics Község Önkormányzat 2020.évi költségvetéséről szóló 4/2020.(III.12.) önkormányzati rendelethez.
A3: BALATONEDERICS KÖZSÉG ÖNKORMÁNYZAT 2020. ÉVI KÖLTSÉGVETÉS
A4: Önkormányzat és költségvetési szervei - Kiadások (Ft)
A6: Sor- szám | B6: Rovat megnevezése | C6: Rovat száma | D6: ÖNKORMÁNYZAT EREDETI EI. | E6: TÁRSULÁS EREDETI EI. | F6: ÓVODA EREDETI EI. | G6: MINDÖSSZESEN EREDETI EI. | H6: ÖNKORMÁNYZAT MÓDOSÍTOTT EI. | I6: TÁRSULÁS MÓDOSÍTOTT EI. | J6: ÓVODA MÓDOSÍTOTT EI. | K6: MINDÖSSZESEN MÓDOSÍTOTT EI.
A7: 01 | B7: Törvény szerinti illetmények, munkabérek | C7: K1101 | D7: =SUM('KIADÁSOK ÖNK'!D7) -> 20427000 | E7: 0 | F7: =SUM('KIADÁSOK ÓVODA'!D7) -> 46116499 | G7: =SUM(D7:F7) -> 66543499 | H7: 25001513 | I7: 0 | J7: 46116499 | K7: =SUM(H7:J7) -> 71118012
A8: 02 | B8: Normatív jutalmak | C8: K1102 | D8: =SUM('KIADÁSOK ÖNK'!D8) -> 0 | E8: 0 | F8: =SUM('KIADÁSOK ÓVODA'!D8) -> 1689975 | G8: =SUM(D8:F8) -> 1689975 | H8: 0 | I8: 0 | J8: 1689975 | K8: =SUM(H8:J8) -> 1689975
A9: 03 | B9: Céljuttatás, projektprémium | C9: K1103 | D9: =SUM('KIADÁSOK ÖNK'!D9) -> 1300000 | E9: 0 | F9: =SUM('KIADÁSOK ÓVODA'!D9) -> 500000 | G9: =SUM(D9:F9) -> 1800000 | H9: 800000 | I9: 0 | J9: 500000 | K9: =SUM(H9:J9) -> 1300000
A10: 04 | B10: Végkielégítés | C10: K1105 | D10: 0 | E10: 0 | F10: 0 | G10: 0 | H10: 421200 | I10: 0 | J10: 0 | K10: =SUM(H10:J10) -> 421200
A11: 05 | B11: Jubileumi jutalom | C11: K1106 | D11: 0 | E11: 0 | F11: 0 | G11: 0 | H11: 1300000 | I11: 0 | J11: 0 | K11: =SUM(H11:J11) -> 1300000
A12: 06 | B12: Béren kívüli juttatások | C12: K1107 | D12: =SUM('KIADÁSOK ÖNK'!D13) -> 926944 | E12: 0 | F12: =SUM('KIADÁSOK ÓVODA'!D13) -> 1456000 | G12: =SUM(D12:F12) -> 2382944 | H12: 862944 | I12: 0 | J12: 1456000 | K12: =SUM(H12:J12) -> 2318944
A13: 07 | B13: Közlekedési költségtérítés | C13: K1109 | D13: =SUM('KIADÁSOK ÖNK'!D15) -> 24000 | E13: 0 | F13: =SUM('KIADÁSOK ÓVODA'!D15) -> 504000 | G13: =SUM(D13:F13) -> 528000 | H13: 74000 | I13: 0 | J13: 504000 | K13: =SUM(H13:J13) -> 578000
A14: 08 | B14: Foglalkoztatottak egyéb személyi juttatásai | C14: K1113 | D14: =SUM('KIADÁSOK ÖNK'!D19) -> 0 | E14: 0 | F14: =SUM('KIADÁSOK ÓVODA'!D19) -> 319713 | G14: =SUM(D14:F14) -> 319713 | H14: 1649048 | I14: 0 | J14: 519713 | K14: =SUM(H14:J14) -> 2168761
A15: 09 | B15: Foglalkoztatottak személyi juttatásai (=01+…+13) | C15: K11 | D15: =SUM(D7:D14) -> 22677944 | E15: 0 | F15: =SUM(F7:F14) -> 50586187 | G15: =SUM(D15:F15) -> 73264131 | H15: =SUM(H7:H14) -> 30108705 | I15: 0 | J15: =SUM(J7:J14) -> 50786187 | K15: =SUM(H15:J15) -> 80894892
A16: 10 | B16: Választott tisztségviselők juttatásai | C16: K121 | D16: =SUM('KIADÁSOK ÖNK'!D21) -> 8305848 | E16: 0 | F16: =SUM('KIADÁSOK ÓVODA'!D21) -> 0 | G16: =SUM(D16:F16) -> 8305848 | H16: 8305848 | I16: 0 | J16: 0 | K16: =SUM(H16:J16) -> 8305848
A17: 11 | B17: Munkavégzésre irányuló egyéb jogviszonyban nem saját foglalkoztatottnak fizetett juttatások | C17: K122 | D17: =SUM('KIADÁSOK ÖNK'!D22) -> 240000 | E17: 0 | F17: =SUM('KIADÁSOK ÓVODA'!D22) -> 80000 | G17: =SUM(D17:F17) -> 320000 | H17: 840000 | I17: 0 | J17: 80000 | K17: =SUM(H17:J17) -> 920000
A18: 12 | B18: Egyéb külső személyi juttatások | C18: K123 | D18: =SUM('KIADÁSOK ÖNK'!D23) -> 0 | E18: 0 | F18: =SUM('KIADÁSOK ÓVODA'!D23) -> 0 | G18: =SUM(D18:F18) -> 0 | H18: 0 | I18: 0 | J18: 0 | K18: =SUM(H18:J18) -> 0
A19: 13 | B19: Külső személyi juttatások (=15+16+17) | C19: K12 | D19: =SUM(D16:D18) -> 8545848 | E19: 0 | F19: =SUM(F16:F18) -> 80000 | G19: =SUM(D19:F19) -> 8625848 | H19: =SUM(H16:H18) -> 9145848 | I19: 0 | J19: =SUM(J16:J18) -> 80000 | K19: =SUM(H19:J19) -> 9225848
A20: 14 | B20: Személyi juttatások (=14+18) | C20: K1 | D20: =SUM('KIADÁSOK ÖNK'!D25) -> 31223792 | E20: 0 | F20: =SUM('KIADÁSOK ÓVODA'!D25) -> 50666187 | G20: =SUM(D20:F20) -> 81889979 | H20: =SUM(H19,H15) -> 39254553 | I20: 0 | J20: =SUM(J19,J15) -> 50866187 | K20: =SUM(H20:J20) -> 90120740
A21: 15 | B21: Munkaadókat terhelő járulékok és szociális hozzájárulási adó | C21: K2 | D21: =SUM('KIADÁSOK ÖNK'!D26) -> 6155036 | E21: 0 | F21: =SUM('KIADÁSOK ÓVODA'!D26) -> 10098306 | G21: =SUM(D21:F21) -> 16253342 | H21: 6486900 | I21: 0 | J21: 10098306 | K21: =SUM(H21:J21) -> 16585206
A22: 16 | B22: Szakmai anyagok beszerzése | C22: K311 | D22: =SUM('KIADÁSOK ÖNK'!D27) -> 177000 | E22: 0 | F22: =SUM('KIADÁSOK ÓVODA'!D27) -> 115000 | G22: =SUM(D22:F22) -> 292000 | H22: 177000 | I22: 0 | J22: 170347 | K22: =SUM(H22:J22) -> 347347
A23: 17 | B23: Üzemeltetési anyagok beszerzése | C23: K312 | D23: =SUM('KIADÁSOK ÖNK'!D28) -> 6686000 | E23: 0 | F23: =SUM('KIADÁSOK ÓVODA'!D28) -> 19548823 | G23: =SUM(D23:F23) -> 26234823 | H23: 7339070 | I23: 0 | J23: 23744803 | K23: =SUM(H23:J23) -> 31083873
A24: 18 | B24: Árubeszerzés | C24: K313 | D24: =SUM('KIADÁSOK ÖNK'!D29) -> 0 | E24: 0 | F24: =SUM('KIADÁSOK ÓVODA'!D29) -> 0 | G24: =SUM(D24:F24) -> 0 | H24: 0 | I24: 0 | J24: 0 | K24: =SUM(H24:J24) -> 0
A25: 19 | B25: Készletbeszerzés (=21+22+23) | C25: K31 | D25: =SUM('KIADÁSOK ÖNK'!D30) -> 6863000 | E25: 0 | F25: =SUM('KIADÁSOK ÓVODA'!D30) -> 19663823 | G25: =SUM(D25:F25) -> 26526823 | H25: =SUM(H22:H24) -> 7516070 | I25: 0 | J25: =SUM(J22:J24) -> 23915150 | K25: =SUM(H25:J25) -> 31431220
A26: 20 | B26: Informatikai szolgáltatások igénybevétele | C26: K321 | D26: =SUM('KIADÁSOK ÖNK'!D31) -> 0 | E26: 0 | F26: =SUM('KIADÁSOK ÓVODA'!D31) -> 0 | G26: =SUM(D26:F26) -> 0 | H26: 3810 | I26: 0 | J26: 0 | K26: =SUM(H26:J26) -> 3810
A27: 21 | B27: Egyéb kommunikációs szolgáltatások | C27: K322 | D27: =SUM('KIADÁSOK ÖNK'!D32) -> 825000 | E27: 0 | F27: =SUM('KIADÁSOK ÓVODA'!D32) -> 186115 | G27: =SUM(D27:F27) -> 1011115 | H27: 670000 | I27: 0 | J27: 186115 | K27: =SUM(H27:J27) -> 856115
A28: 22 | B28: Kommunikációs szolgáltatások (=25+26) | C28: K32 | D28: =SUM('KIADÁSOK ÖNK'!D33) -> 825000 | E28: 0 | F28: =SUM('KIADÁSOK ÓVODA'!D33) -> 186115 | G28: =SUM(D28:F28) -> 1011115 | H28: =SUM(H26:H27) -> 673810 | I28: 0 | J28: =SUM(J26:J27) -> 186115 | K28: =SUM(H28:J28) -> 859925
A29: 23 | B29: Közüzemi díjak | C29: K331 | D29: =SUM('KIADÁSOK ÖNK'!D34) -> 10781000 | E29: 0 | F29: =SUM('KIADÁSOK ÓVODA'!D34) -> 2782731 | G29: =SUM(D29:F29) -> 13563731 | H29: 10263618 | I29: 0 | J29: 2782731 | K29: =SUM(H29:J29) -> 13046349
A30: 24 | B30: Vásárolt élelmezés | C30: K332 | D30: =SUM('KIADÁSOK ÖNK'!D35) -> 0 | E30: 0 | F30: =SUM('KIADÁSOK ÓVODA'!D35) -> 0 | G30: =SUM(D30:F30) -> 0 | H30: 0 | I30: 0 | J30: 0 | K30: =SUM(H30:J30) -> 0
A31: 25 | B31: Bérleti és lízing díjak | C31: K333 | D31: =SUM('KIADÁSOK ÖNK'!D36) -> 0 | E31: 0 | F31: =SUM('KIADÁSOK ÓVODA'!D36) -> 0 | G31: =SUM(D31:F31) -> 0 | H31: 0 | I31: 0 | J31: 0 | K31: =SUM(H31:J31) -> 0
A32: 26 | B32: Karbantartási, kisjavítási szolgáltatások | C32: K334 | D32: =SUM('KIADÁSOK ÖNK'!D37) -> 7266000 | E32: 0 | F32: =SUM('KIADÁSOK ÓVODA'!D37) -> 408000 | G32: =SUM(D32:F32) -> 7674000 | H32: 2451932 | I32: 0 | J32: 408000 | K32: =SUM(H32:J32) -> 2859932
A33: 27 | B33: Közvetített szolgáltatások | C33: K335 | D33: =SUM('KIADÁSOK ÖNK'!D38) -> 0 | E33: 0 | F33: =SUM('KIADÁSOK ÓVODA'!D38) -> 11000 | G33: =SUM(D33:F33) -> 11000 | H33: 629110 | I33: 0 | J33: 2232441 | K33: =SUM(H33:J33) -> 2861551
A34: 28 | B34: Szakmai tevékenységet segítő szolgáltatások | C34: K336 | D34: =SUM('KIADÁSOK ÖNK'!D39) -> 3258094 | E34: 0 | F34: =SUM('KIADÁSOK ÓVODA'!D39) -> 122000 | G34: =SUM(D34:F34) -> 3380094 | H34: 6307625 | I34: 0 | J34: 122000 | K34: =SUM(H34:J34) -> 6429625
A35: 29 | B35: Egyéb szolgáltatások | C35: K337 | D35: =SUM('KIADÁSOK ÖNK'!D40) -> 19620000 | E35: =SUM('KIADÁSOK TÁRSULÁS'!D7) -> 84000 | F35: =SUM('KIADÁSOK ÓVODA'!D40) -> 1678000 | G35: =SUM(D35:F35) -> 21382000 | H35: 18080915 | I35: 84028 | J35: 1658172 | K35: =SUM(H35:J35) -> 19823115
A36: 30 | B36: Szolgáltatási kiadások (=28+…+34) | C36: K33 | D36: =SUM('KIADÁSOK ÖNK'!D41) -> 40925094 | E36: =SUM('KIADÁSOK TÁRSULÁS'!D8) -> 84000 | F36: =SUM('KIADÁSOK ÓVODA'!D41) -> 5001731 | G36: =SUM(D36:F36) -> 46010825 | H36: =SUM(H29:H35) -> 37733200 | I36: =SUM(I35) -> 84028 | J36: =SUM(J29:J35) -> 7203344 | K36: =SUM(H36:J36) -> 45020572
A37: 31 | B37: Kiküldetések kiadásai | C37: K341 | D37: =SUM('KIADÁSOK ÖNK'!D42) -> 0 | E37: 0 | F37: =SUM('KIADÁSOK ÓVODA'!D42) -> 3490 | G37: =SUM(D37:F37) -> 3490 | H37: 0 | I37: 0 | J37: 3490 | K37: =SUM(H37:J37) -> 3490
A38: 32 | B38: Reklám- és propagandakiadások | C38: K342 | D38: =SUM('KIADÁSOK ÖNK'!D43) -> 1500000 | E38: 0 | F38: =SUM('KIADÁSOK ÓVODA'!D43) -> 0 | G38: =SUM(D38:F38) -> 1500000 | H38: 274000 | I38: 0 | J38: 0 | K38: =SUM(H38:J38) -> 274000
A39: 33 | B39: Kiküldetések, reklám- és propagandakiadások (=36+37) | C39: K34 | D39: =SUM('KIADÁSOK ÖNK'!D44) -> 1500000 | E39: 0 | F39: =SUM('KIADÁSOK ÓVODA'!D44) -> 3490 | G39: =SUM(D39:F39) -> 1503490 | H39: =SUM(H37:H38) -> 274000 | I39: 0 | J39: =SUM(J37:J38) -> 3490 | K39: =SUM(H39:J39) -> 277490
A40: 34 | B40: Működési célú előzetesen felszámított általános forgalmi adó | C40: K351 | D40: =SUM('KIADÁSOK ÖNK'!D45) -> 12560630 | E40: 0 | F40: =SUM('KIADÁSOK ÓVODA'!D45) -> 4876000 | G40: =SUM(D40:F40) -> 17436630 | H40: 6700000 | I40: 0 | J40: 4708000 | K40: =SUM(H40:J40) -> 11408000
A41: 35 | B41: Fizetendő általános forgalmi adó | C41: K352 | D41: =SUM('KIADÁSOK ÖNK'!D46) -> 5500000 | E41: 0 | F41: =SUM('KIADÁSOK ÓVODA'!D46) -> 1885000 | G41: =SUM(D41:F41) -> 7385000 | H41: 16313024 | I41: 0 | J41: 2053000 | K41: =SUM(H41:J41) -> 18366024
A42: 36 | B42: Kamatkiadások | C42: K353 | D42: =SUM('KIADÁSOK ÖNK'!D47) -> 0 | E42: 0 | F42: =SUM('KIADÁSOK ÓVODA'!D47) -> 0 | G42: =SUM(D42:F42) -> 0 | H42: 21263 | I42: 0 | J42: 0 | K42: =SUM(H42:J42) -> 21263
A43: 37 | B43: Egyéb pénzügyi műveletek kiadásai | C43: K354 | D43: =SUM('KIADÁSOK ÖNK'!D48) -> 0 | E43: 0 | F43: =SUM('KIADÁSOK ÓVODA'!D48) -> 0 | G43: =SUM(D43:F43) -> 0 | H43: 0 | I43: 0 | J43: 0 | K43: =SUM(H43:J43) -> 0
A44: 38 | B44: Egyéb dologi kiadások | C44: K355 | D44: =SUM('KIADÁSOK ÖNK'!D49) -> 0 | E44: 0 | F44: =SUM('KIADÁSOK ÓVODA'!D49) -> 0 | G44: =SUM(D44:F44) -> 0 | H44: 37383 | I44: 0 | J44: 3000 | K44: =SUM(H44:J44) -> 40383
A45: 39 | B45: Különféle befizetések és egyéb dologi kiadások (=39+…+43) | C45: K35 | D45: =SUM('KIADÁSOK ÖNK'!D50) -> 18060630 | E45: 0 | F45: =SUM('KIADÁSOK ÓVODA'!D50) -> 6761000 | G45: =SUM(D45:F45) -> 24821630 | H45: =SUM(H40:H44) -> 23071670 | I45: 0 | J45: =SUM(J40:J44) -> 6764000 | K45: =SUM(H45:J45) -> 29835670
A46: 40 | B46: Dologi kiadások (=24+27+35+38+44) | C46: K3 | D46: =SUM('KIADÁSOK ÖNK'!D51) -> 68173724 | E46: =SUM('KIADÁSOK TÁRSULÁS'!D9) -> 84000 | F46: =SUM('KIADÁSOK ÓVODA'!D51) -> 31616159 | G46: =SUM(D46:F46) -> 99873883 | H46: =SUM(H25+H28+H36+H39+H45) -> 69268750 | I46: 0 | J46: =SUM(J25+J28+J36+J39+J45) -> 38072099 | K46: =SUM(H46:J46) -> 107340849
A47: 41 | B47: Egyéb nem intézményi ellátások | C47: K48 | D47: =SUM('KIADÁSOK ÖNK'!D52) -> 6077904 | E47: 0 | F47: 0 | G47: =SUM(D47:F47) -> 6077904 | H47: 3946499 | I47: 0 | J47: 0 | K47: =SUM(H47:J47) -> 3946499
A48: 42 | B48: Ellátottak pénzbeli juttatásai (=46+...+53) | C48: K4 | D48: =SUM('KIADÁSOK ÖNK'!D53) -> 6077904 | E48: 0 | F48: 0 | G48: =SUM(D48:F48) -> 6077904 | H48: =SUM(H47) -> 3946499 | I48: 0 | J48: 0 | K48: =SUM(H48:J48) -> 3946499
A49: 43 | B49: A helyi önkormányzatok előző évi elszámolásából származó kiadások | C49: K5021 | D49: =SUM('KIADÁSOK ÖNK'!D55) -> 0 | E49: 0 | F49: 0 | G49: =SUM(D49:F49) -> 0 | H49: 1549116 | I49: 0 | J49: 0 | K49: =SUM(H49:J49) -> 1549116
A50: 44 | B50: Egyéb működési célú támogatások államháztartáson belülre | C50: K506 | D50: =SUM('KIADÁSOK ÖNK'!D56) -> 71942003 | E50: 0 | F50: 0 | G50: =SUM(D50:F50) -> 71942003 | H50: 75258506 | I50: 0 | J50: 0 | K50: =SUM(H50:J50) -> 75258506
A51: 45 | B51: Egyéb működési célú támogatások államháztartáson kívülre | C51: K512 | D51: =SUM('KIADÁSOK ÖNK'!D57) -> 4170054 | E51: 0 | F51: 0 | G51: =SUM(D51:F51) -> 4170054 | H51: 4790001 | I51: 0 | J51: 0 | K51: =SUM(H51:J51) -> 4790001
A52: 46 | B52: Tartalékok | C52: K513 | D52: 20926110 | E52: =SUM('KIADÁSOK TÁRSULÁS'!D10) -> 20094 | F52: 0 | G52: =SUM(D52:F52) -> 20946204 | H52: 0 | I52: 20094 | J52: 0 | K52: =SUM(H52:J52) -> 20094
A53: 47 | B53: Egyéb működési célú kiadások (=55+59+…+70) | C53: K5 | D53: =SUM(D49:D52) -> 97038167 | E53: =SUM('KIADÁSOK TÁRSULÁS'!D11) -> 20094 | F53: 0 | G53: =SUM(D53:F53) -> 97058261 | H53: =SUM(H49:H52) -> 81597623 | I53: =SUM(I52) -> 20094 | J53: 0 | K53: =SUM(H53:J53) -> 81617717
A54: 48 | B54: Immateriális javak beszerzése, létesítése | C54: K61 | D54: =SUM('KIADÁSOK ÖNK'!D60) -> 0 | E54: 0 | F54: 0 | G54: =SUM(D54:F54) -> 0 | H54: 0 | I54: 0 | J54: 0 | K54: =SUM(H54:J54) -> 0
A55: 49 | B55: Ingatlanok beszerzése, létesítése | C55: K62 | D55: =SUM('KIADÁSOK ÖNK'!D61) -> 0 | E55: 0 | F55: 0 | G55: =SUM(D55:F55) -> 0 | H55: 5293500 | I55: 0 | J55: 0 | K55: =SUM(H55:J55) -> 5293500
A56: 50 | B56: Informatikai eszközök beszerzése, létesítése | C56: K63 | D56: =SUM('KIADÁSOK ÖNK'!D62) -> 0 | E56: 0 | F56: 0 | G56: =SUM(D56:F56) -> 0 | H56: 0 | I56: 0 | J56: 0 | K56: =SUM(H56:J56) -> 0
A57: 51 | B57: Egyéb tárgyi eszközök beszerzése, létesítése | C57: K64 | D57: =SUM('KIADÁSOK ÖNK'!D63) -> 0 | E57: 0 | F57: 0 | G57: =SUM(D57:F57) -> 0 | H57: 48935358 | I57: 0 | J57: 0 | K57: =SUM(H57:J57) -> 48935358
A58: 52 | B58: Részesedések beszerzése | C58: K65 | D58: 0 | E58: 0 | F58: 0 | G58: =SUM(D58:F58) -> 0 | H58: 0 | I58: 0 | J58: 0 | K58: =SUM(H58:J58) -> 0
A59: 53 | B59: Meglévő részesedések növeléséhez kapcsolódó kiadások | C59: K66 | D59: 0 | E59: 0 | F59: 0 | G59: =SUM(D59:F59) -> 0 | H59: 0 | I59: 0 | J59: 0 | K59: =SUM(H59:J59) -> 0
A60: 54 | B60: Beruházási célú előzetesen felszámított általános forgalmi adó | C60: K67 | D60: =SUM('KIADÁSOK ÖNK'!D64) -> 0 | E60: 0 | F60: 0 | G60: =SUM(D60:F60) -> 0 | H60: 5733872 | I60: 0 | J60: 0 | K60: =SUM(H60:J60) -> 5733872
A61: 55 | B61: Beruházások (=72+…+78) | C61: K6 | D61: =SUM('KIADÁSOK ÖNK'!D65) -> 0 | E61: 0 | F61: 0 | G61: =SUM(D61:F61) -> 0 | H61: =SUM(H54:H60) -> 59962730 | I61: 0 | J61: 0 | K61: =SUM(H61:J61) -> 59962730
A62: 56 | B62: Ingatlanok felújítása | C62: K71 | D62: =SUM('KIADÁSOK ÖNK'!D66) -> 77578242 | E62: 0 | F62: 0 | G62: =SUM(D62:F62) -> 77578242 | H62: 69976643 | I62: 0 | J62: 0 | K62: =SUM(H62:J62) -> 69976643
A63: 57 | B63: Informatikai eszközök felújítása | C63: K72 | D63: =SUM('KIADÁSOK ÖNK'!D67) -> 0 | E63: 0 | F63: 0 | G63: =SUM(D63:F63) -> 0 | H63: 0 | I63: 0 | J63: 0 | K63: =SUM(H63:J63) -> 0
A64: 58 | B64: Egyéb tárgyi eszközök felújítása | C64: K73 | D64: =SUM('KIADÁSOK ÖNK'!D68) -> 0 | E64: 0 | F64: 0 | G64: =SUM(D64:F64) -> 0 | H64: 23444491 | I64: 0 | J64: 0 | K64: =SUM(H64:J64) -> 23444491
A65: 59 | B65: Felújítási célú előzetesen felszámított általános forgalmi adó | C65: K74 | D65: =SUM('KIADÁSOK ÖNK'!D69) -> 21533391 | E65: 0 | F65: 0 | G65: =SUM(D65:F65) -> 21533391 | H65: 3552814 | I65: 0 | J65: 0 | K65: =SUM(H65:J65) -> 3552814
A66: 60 | B66: Felújítások (=80+...+83) | C66: K7 | D66: =SUM('KIADÁSOK ÖNK'!D70) -> 99111633 | E66: 0 | F66: 0 | G66: =SUM(D66:F66) -> 99111633 | H66: =SUM(H62:H65) -> 96973948 | I66: 0 | J66: 0 | K66: =SUM(H66:J66) -> 96973948
A67: 61 | B67: Költségvetési kiadások (=19+20+45+54+71+79+84+94) | C67: K1-K8 | D67: =SUM(D20+D21+D46+D48+D53+D61+D66) -> 307780256 | E67: =SUM('KIADÁSOK TÁRSULÁS'!D12) -> 104094 | F67: =SUM('KIADÁSOK ÓVODA'!D52) -> 92380652 | G67: =SUM(D67:F67) -> 400265002 | H67: =SUM(H20+H21+H46+H48+H53+H61+H66) -> 357491003 | I67: =SUM(I36+I53) -> 104122 | J67: =SUM(J46+J21+J20) -> 99036592 | K67: =SUM(H67:J67) -> 456631717
A68: 62 | B68: Államháztartáson belüli megelőlegezések visszafizetése | C68: K914 | D68: =SUM('KIADÁSOK ÖNK'!D72) -> 2629493 | E68: 0 | F68: 0 | G68: =SUM(D68:F68) -> 2629493 | H68: 3052267 | I68: 0 | J68: 0 | K68: =SUM(H68:J68) -> 3052267
A69: 63 | B69: Központi, irányító szervi támogatások folyósítása | C69: K915 | D69: 23938271 | E69: =SUM('KIADÁSOK TÁRSULÁS'!D13) -> 68026305 | F69: 0 | G69: =SUM(D69:F69) -> 91964576 | H69: 0 | I69: 74719942 | J69: 0 | K69: =SUM(H69:J69) -> 74719942
A70: 64 | B70: Központi költségvetés sajátos finanszírozási kiadásai | C70: K918 | D70: =SUM('KIADÁSOK ÖNK'!D74) -> 389583 | E70: 0 | F70: 0 | G70: =SUM(D70:F70) -> 389583 | H70: 0 | I70: 0 | J70: 0 | K70: =SUM(H70:J70) -> 0
A71: 65 | B71: Belföldi finanszírozás kiadásai (=04+11+…+17+20) | C71: K91 | D71: =SUM('KIADÁSOK ÖNK'!D75) -> 26957347 | E71: =SUM(E68:E70) -> 68026305 | F71: 0 | G71: =SUM(G68:G70) -> 94983652 | H71: =SUM(H68:H70) -> 3052267 | I71: =SUM(I68:I70) -> 74719942 | J71: 0 | K71: =SUM(H71:J71) -> 77772209
A72: 66 | B72: Finanszírozási kiadások (=21+27+28+29) | C72: K9 | D72: =SUM('KIADÁSOK ÖNK'!D76) -> 26957347 | E72: =SUM('KIADÁSOK TÁRSULÁS'!D15) -> 68026305 | F72: =SUM('KIADÁSOK ÓVODA'!D53) -> 0 | G72: 3019076 | H72: =SUM(H71) -> 3052267 | I72: =SUM(I71) -> 74719942 | J72: 0 | K72: =SUM(H72:J72) -> 77772209
A73: 67 | B73: KIADÁSOK MINDÖSSZESEN | D73: =SUM(D67+D72) -> 334737603 | E73: =SUM('KIADÁSOK TÁRSULÁS'!D16) -> 68130399 | F73: =SUM('KIADÁSOK ÓVODA'!D54) -> 92380652 | G73: =SUM(G72+G67) -> 403284078 | H73: =SUM(H67+H72) -> 360543270 | I73: =SUM(I67+I69) -> 74824064 | J73: =SUM(J67) -> 99036592 | K73: =SUM(H73:J73) -> 534403926

Sheet KIADÁSOK ÖNK
B1: 6. melléklet Balatonederics Község Önkormányzat 2020.évi költségvetésének módosításáról szóló 20/2020.(XII.10.) önkormányzati rendelethez.
B2: 6. melléklet Balatonederics Község Önkormányzat 2020.évi költségvetéséről szóló 4/2020.(III.12.) önkormányzati rendelethez.
A3: BALATONEDERICS KÖZSÉG ÖNKORMÁNYZAT 2020. ÉVI KÖLTSÉGVETÉS
A4: Önkormányzati előirányzatok - Kiadások (Ft)
A6: Sor- szám | B6: Rovat megnevezése | C6: Rovat száma | D6: ÖNKORMÁNYZAT EREDETI EI. | E6: EBBŐL KÖTELEZŐ | F6: MÓDOSÍTÁS | G6: ÖNKORMÁNYZAT MÓDOSÍTOTT EI. | H6: EBBŐL KÖTELEZŐ
A7: 01 | B7: Törvény szerinti illetmények, munkabérek | C7: K1101 | D7: 20427000 | E7: =D7 -> 20427000 | F7: =G7-E7 -> 4574513 | G7: 25001513 | H7: 25001513
A8: 02 | B8: Normatív jutalmak | C8: K1102 | D8: 0 | E8: =D8 -> 0 | F8: =G8-E8 -> 0 | G8: 0 | H8: 0
A9: 03 | B9: Céljuttatás, projektprémium | C9: K1103 | D9: 1300000 | E9: =D9 -> 1300000 | F9: =G9-E9 -> -500000 | G9: 800000 | H9: 800000
A10: 04 | B10: Készenléti, ügyeleti, helyettesítési díj, túlóra, túlszolgálat | C10: K1104 | D10: 0 | E10: =D10 -> 0 | F10: =G10-E10 -> 0 | G10: 0 | H10: 0
A11: 05 | B11: Végkielégítés | C11: K1105 | D11: 0 | E11: =D11 -> 0 | F11: =G11-E11 -> 421200 | G11: 421200 | H11: 421200
A12: 06 | B12: Jubileumi jutalom | C12: K1106 | D12: 0 | E12: =D12 -> 0 | F12: =G12-E12 -> 1300000 | G12: 1300000 | H12: 1300000
A13: 07 | B13: Béren kívüli juttatások | C13: K1107 | D13: 926944 | E13: =D13 -> 926944 | F13: =G13-E13 -> -64000 | G13: 862944 | H13: 862944
A14: 08 | B14: Ruházati költségtérítés | C14: K1108 | D14: 0 | E14: =D14 -> 0 | F14: =G14-E14 -> 0 | G14: 0 | H14: 0
A15: 09 | B15: Közlekedési költségtérítés | C15: K1109 | D15: 24000 | E15: =D15 -> 24000 | F15: =G15-E15 -> 50000 | G15: 74000 | H15: 74000
A16: 10 | B16: Egyéb költségtérítések | C16: K1110 | D16: 0 | E16: =D16 -> 0 | F16: =G16-E16 -> 0 | G16: 0 | H16: 0
A17: 11 | B17: Lakhatási támogatások | C17: K1111 | D17: 0 | E17: =D17 -> 0 | F17: =G17-E17 -> 0 | G17: 0 | H17: 0
A18: 12 | B18: Szociális támogatások | C18: K1112 | D18: 0 | E18: =D18 -> 0 | F18: =G18-E18 -> 0 | G18: 0 | H18: 0
A19: 13 | B19: Foglalkoztatottak egyéb személyi juttatásai | C19: K1113 | D19: 0 | E19: =D19 -> 0 | F19: =G19-E19 -> 1649048 | G19: 1649048 | H19: 1649048
A20: 14 | B20: Foglalkoztatottak személyi juttatásai (=01+…+13) | C20: K11 | D20: =SUM(D7:D19) -> 22677944 | E20: =D20 -> 22677944 | F20: =G20-E20 -> 7430761 | G20: =SUM(G7:G19) -> 30108705 | H20: =SUM(H7:H19) -> 30108705
A21: 15 | B21: Választott tisztségviselők juttatásai | C21: K121 | D21: 8305848 | E21: =D21 -> 8305848 | F21: =G21-E21 -> 0 | G21: 8305848 | H21: 8305848
A22: 16 | B22: Munkavégzésre irányuló egyéb jogviszonyban nem saját foglalkoztatottnak fizetett juttatások | C22: K122 | D22: 240000 | E22: =D22 -> 240000 | F22: =G22-E22 -> 600000 | G22: 840000 | H22: 840000
A23: 17 | B23: Egyéb külső személyi juttatások | C23: K123 | D23: 0 | E23: =D23 -> 0 | F23: =G23-E23 -> 0 | G23: 0 | H23: 0
A24: 18 | B24: Külső személyi juttatások (=15+16+17) | C24: K12 | D24: =SUM(D21:D23) -> 8545848 | E24: =D24 -> 8545848 | F24: =G24-E24 -> 600000 | G24: =SUM(G21:G23) -> 9145848 | H24: =SUM(H21:H23) -> 9145848
A25: 19 | B25: Személyi juttatások (=14+18) | C25: K1 | D25: =SUM(D20+D24) -> 31223792 | E25: =SUM(E20+E24) -> 31223792 | F25: =G25-E25 -> 8030761 | G25: =SUM(G20+G24) -> 39254553 | H25: =SUM(H20+H24) -> 39254553
A26: 20 | B26: Munkaadókat terhelő járulékok és szociális hozzájárulási adó | C26: K2 | D26: 6155036 | E26: =D26 -> 6155036 | F26: =G26-E26 -> 331864 | G26: 6486900 | H26: 6486900
A27: 21 | B27: Szakmai anyagok beszerzése | C27: K311 | D27: 177000 | E27: =D27 -> 177000 | F27: =G27-E27 -> 0 | G27: =E27 -> 177000 | H27: =G27 -> 177000
A28: 22 | B28: Üzemeltetési anyagok beszerzése | C28: K312 | D28: 6686000 | E28: =D28 -> 6686000 | F28: =G28-E28 -> 653070 | G28: 7339070 | H28: 7339070
A29: 23 | B29: Árubeszerzés | C29: K313 | D29: 0 | E29: =D29 -> 0 | F29: =G29-E29 -> 0 | G29: 0 | H29: 0
A30: 24 | B30: Készletbeszerzés (=21+22+23) | C30: K31 | D30: =SUM(D27:D29) -> 6863000 | E30: =SUM(E27:E29) -> 6863000 | F30: =G30-E30 -> 653070 | G30: =SUM(G27:G29) -> 7516070 | H30: =SUM(H27:H29) -> 7516070
A31: 25 | B31: Informatikai szolgáltatások igénybevétele | C31: K321 | D31: 0 | E31: =D31 -> 0 | F31: =G31-E31 -> 3810 | G31: 3810 | H31: 3810
A32: 26 | B32: Egyéb kommunikációs szolgáltatások | C32: K322 | D32: 825000 | E32: =D32 -> 825000 | F32: =G32-E32 -> -155000 | G32: 670000 | H32: 670000
A33: 27 | B33: Kommunikációs szolgáltatások (=25+26) | C33: K32 | D33: =SUM(D31:D32) -> 825000 | E33: =SUM(E31:E32) -> 825000 | F33: =G33-E33 -> -151190 | G33: =SUM(G31:G32) -> 673810 | H33: =SUM(H31:H32) -> 673810
A34: 28 | B34: Közüzemi díjak | C34: K331 | D34: 10781000 | E34: =D34 -> 10781000 | F34: =G34-E34 -> -517382 | G34: 10263618 | H34: 10263618
A35: 29 | B35: Vásárolt élelmezés | C35: K332 | D35: 0 | E35: =D35 -> 0 | F35: =G35-E35 -> 0 | G35: 0 | H35: 0
A36: 30 | B36: Bérleti és lízing díjak | C36: K333 | D36: 0 | E36: =D36 -> 0 | F36: =G36-E36 -> 0 | G36: 0 | H36: 0
A37: 31 | B37: Karbantartási, kisjavítási szolgáltatások | C37: K334 | D37: 7266000 | E37: =D37 -> 7266000 | F37: =G37-E37 -> -4814068 | G37: 2451932 | H37: 2451932
A38: 32 | B38: Közvetített szolgáltatások | C38: K335 | D38: 0 | E38: =D38 -> 0 | F38: =G38-E38 -> 629110 | G38: 629110 | H38: 629110
A39: 33 | B39: Szakmai tevékenységet segítő szolgáltatások | C39: K336 | D39: 3258094 | E39: =D39 -> 3258094 | F39: =G39-E39 -> 3049531 | G39: 6307625 | H39: 6307625
A40: 34 | B40: Egyéb szolgáltatások | C40: K337 | D40: 19620000 | E40: =D40 -> 19620000 | F40: =G40-E40 -> -1539085 | G40: 18080915 | H40: 18080915
A41: 35 | B41: Szolgáltatási kiadások (=28+…+34) | C41: K33 | D41: =SUM(D34:D40) -> 40925094 | E41: =SUM(E34:E40) -> 40925094 | F41: =G41-E41 -> -3191894 | G41: =SUM(G34:G40) -> 37733200 | H41: =SUM(H34:H40) -> 37733200
A42: 36 | B42: Kiküldetések kiadásai | C42: K341 | D42: 0 | E42: =D42 -> 0 | F42: =G42-E42 -> 0 | G42: 0 | H42: 0
A43: 37 | B43: Reklám- és propagandakiadások | C43: K342 | D43: 1500000 | E43: =D43 -> 1500000 | F43: =G43-E43 -> -1226000 | G43: 274000 | H43: 274000
A44: 38 | B44: Kiküldetések, reklám- és propagandakiadások (=36+37) | C44: K34 | D44: =SUM(D42:D43) -> 1500000 | E44: =SUM(E42:E43) -> 1500000 | F44: =G44-E44 -> -1226000 | G44: =SUM(G42:G43) -> 274000 | H44: =SUM(H42:H43) -> 274000
A45: 39 | B45: Működési célú előzetesen felszámított általános forgalmi adó | C45: K351 | D45: 12560630 | E45: =D45 -> 12560630 | F45: =G45-E45 -> -5860630 | G45: 6700000 | H45: 6700000
A46: 40 | B46: Fizetendő általános forgalmi adó | C46: K352 | D46: 5500000 | E46: =D46 -> 5500000 | F46: =G46-E46 -> 10813024 | G46: 16313024 | H46: 16313024
A47: 41 | B47: Kamatkiadások | C47: K353 | D47: 0 | E47: =D47 -> 0 | F47: =G47-E47 -> 21263 | G47: 21263 | H47: 21263
A48: 42 | B48: Egyéb pénzügyi műveletek kiadásai | C48: K354 | D48: 0 | E48: =D48 -> 0 | F48: =G48-E48 -> 0 | G48: 0 | H48: 0
A49: 43 | B49: Egyéb dologi kiadások | C49: K355 | D49: 0 | E49: =D49 -> 0 | F49: =G49-E49 -> 37383 | G49: 37383 | H49: 37383
A50: 44 | B50: Különféle befizetések és egyéb dologi kiadások (=39+…+43) | C50: K35 | D50: =SUM(D45:D49) -> 18060630 | E50: =SUM(E45:E49) -> 18060630 | F50: =G50-E50 -> 5011040 | G50: =SUM(G45:G49) -> 23071670 | H50: =SUM(H45:H49) -> 23071670
A51: 45 | B51: Dologi kiadások (=24+27+35+38+44) | C51: K3 | D51: =SUM(D50,D44,D41,D33,D30) -> 68173724 | E51: =SUM(E50,E44,E41,E33,E30) -> 68173724 | F51: =G51-E51 -> 1095026 | G51: =SUM(G30+G33+G41+G44+G50) -> 69268750 | H51: =SUM(H30+H33+H41+H44+H50) -> 69268750
A52: 46 | B52: Egyéb nem intézményi ellátások | C52: K48 | D52: 6077904 | E52: =D52 -> 6077904 | F52: =G52-E52 -> -2131405 | G52: 3946499 | H52: 3946499
A53: 47 | B53: Ellátottak pénzbeli juttatásai (=46+...+53) | C53: K4 | D53: =SUM(D52:D52) -> 6077904 | E53: =SUM(E52:E52) -> 6077904 | F53: =G53-E53 -> -2131405 | G53: =SUM(G52) -> 3946499 | H53: =SUM(H52) -> 3946499
A54: 48 | B54: Nemzetközi kötelezettségek | C54: K501 | D54: 0 | E54: =D54 -> 0 | F54: =G54-E54 -> 0 | G54: 0 | H54: 0
A55: 49 | B55: A helyi önkormányzatok előző évi elszámolásából származó kiadások | C55: K5021 | D55: 0 | E55: =D55 -> 0 | F55: =G55-E55 -> 1549116 | G55: 1549116 | H55: 1549116
A56: 50 | B56: Egyéb működési célú támogatások államháztartáson belülre | C56: K506 | D56: 71942003 | E56: =D56 -> 71942003 | F56: =G56-E56 -> 3316503 | G56: 75258506 | H56: 75258506
A57: 51 | B57: Egyéb működési célú támogatások államháztartáson kívülre | C57: K512 | D57: 4170054 | E57: =D57 -> 4170054 | F57: =G57-E57 -> 619947 | G57: 4790001 | H57: 4790001
A58: 52 | B58: Tartalékok | C58: K513 | D58: 20926110 | E58: 20926110 | F58: =G58-E58 -> -20926110 | G58: 0 | H58: 0
A59: 53 | B59: Egyéb működési célú kiadások (=55+59+…+70) | C59: K5 | D59: =SUM(D54:D58) -> 97038167 | E59: =SUM(E54:E58) -> 97038167 | F59: =G59-E59 -> -15440544 | G59: =SUM(G54:G58) -> 81597623 | H59: =SUM(H54:H58) -> 81597623
A60: 54 | B60: Immateriális javak beszerzése, létesítése | C60: K61 | D60: 0 | E60: =D60 -> 0 | F60: =G60-E60 -> 0 | G60: 0 | H60: 0
A61: 55 | B61: Ingatlanok beszerzése, létesítése | C61: K62 | D61: 0 | E61: =D61 -> 0 | F61: =G61-E61 -> 5293500 | G61: 5293500 | H61: 5293500
A62: 56 | B62: Informatikai eszközök beszerzése, létesítése | C62: K63 | D62: 0 | E62: =D62 -> 0 | F62: =G62-E62 -> 0 | G62: 0 | H62: 0
A63: 57 | B63: Egyéb tárgyi eszközök beszerzése, létesítése | C63: K64 | D63: 0 | E63: =D63 -> 0 | F63: =G63-E63 -> 48935358 | G63: 48935358 | H63: 48935358
A64: 58 | B64: Beruházási célú előzetesen felszámított általános forgalmi adó | C64: K67 | D64: 0 | E64: =D64 -> 0 | F64: =G64-E64 -> 5733872 | G64: 5733872 | H64: 5733872
A65: 59 | B65: Beruházások (=72+…+78) | C65: K6 | D65: =SUM(D60:D64) -> 0 | E65: =SUM(E60:E64) -> 0 | F65: =G65-E65 -> 59962730 | G65: =SUM(G60:G64) -> 59962730 | H65: =SUM(H60:H64) -> 59962730
A66: 60 | B66: Ingatlanok felújítása | C66: K71 | D66: 77578242 | E66: =D66 -> 77578242 | F66: =G66-E66 -> -7601599 | G66: 69976643 | H66: 69976643
A67: 61 | B67: Informatikai eszközök felújítása | C67: K72 | D67: 0 | E67: =D67 -> 0 | F67: =G67-E67 -> 0 | G67: 0 | H67: 0
A68: 62 | B68: Egyéb tárgyi eszközök felújítása | C68: K73 | D68: 0 | E68: =D68 -> 0 | F68: =G68-E68 -> 23444491 | G68: 23444491 | H68: 23444491
A69: 63 | B69: Felújítási célú előzetesen felszámított általános forgalmi adó | C69: K74 | D69: 21533391 | E69: =D69 -> 21533391 | F69: =G69-E69 -> -17980577 | G69: 3552814 | H69: 3552814
A70: 64 | B70: Felújítások (=80+...+83) | C70: K7 | D70: =SUM(D66:D69) -> 99111633 | E70: =SUM(E66:E69) -> 99111633 | F70: =G70-E70 -> -2137685 | G70: =SUM(G66:G69) -> 96973948 | H70: =SUM(H66:H69) -> 96973948
A71: 65 | B71: Költségvetési kiadások (=19+20+45+54+71+79+84+94) | C71: K1-K8 | D71: =SUM(D70+D65+D59+D53+D51+D26+D25) -> 307780256 | E71: =SUM(E70+E65+E59+E53+E51+E26+E25) -> 307780256 | F71: =G71-E71 -> 49710747 | G71: =SUM(G25+G26+G51+G53+G59+G65+G70) -> 357491003 | H71: =SUM(H25+H26+H51+H53+H59+H65+H70) -> 357491003
A72: 66 | B72: Államháztartáson belüli megelőlegezések visszafizetése | C72: K914 | D72: 2629493 | E72: =D72 -> 2629493 | F72: =G72-E72 -> 422774 | G72: 3052267 | H72: 3052267
A73: 67 | B73: Központi, irányító szervi támogatások folyósítása | C73: K915 | D73: 23938271 | E73: =D73 -> 23938271 | F73: =G73-E73 -> -23938271 | G73: 0 | H73: 0
A74: 68 | B74: Központi költségvetés sajátos finanszírozási kiadásai | C74: K918 | D74: 389583 | E74: 389583 | F74: =G74-E74 -> -389583
A75: 69 | B75: Belföldi finanszírozás kiadásai (=04+11+…+17+20) | C75: K91 | D75: =SUM(D72:D74) -> 26957347 | E75: =SUM(E72:E74) -> 26957347 | F75: =G75-E75 -> -23905080 | G75: =SUM(G72) -> 3052267 | H75: =SUM(H72) -> 3052267
A76: 70 | B76: Finanszírozási kiadások (=21+27+28+29) | C76: K9 | D76: =SUM(D75) -> 26957347 | E76: =SUM(E75) -> 26957347 | F76: =G76-E76 -> -23905080 | G76: =SUM(G75) -> 3052267 | H76: =SUM(H75) -> 3052267
A77: 71 | B77: KIADÁSOK MINDÖSSZESEN | D77: =SUM(D76+D71) -> 334737603 | E77: =SUM(E76+E71) -> 334737603 | F77: =G77-E77 -> 25805667 | G77: =SUM(G71+G76) -> 360543270 | H77: =SUM(H71+H76) -> 360543270

Sheet KIADÁSOK TÁRSULÁS
B1: 7. melléklet Balatonederics Község Önkormányzat 2020.évi költségvetésének módosításáról szóló 20/2020.(XII.10.) önkormányzati rendelethez.
B2: 7. melléklet Balatonederics Község Önkormányzat 2020.évi költségvetéséről szóló 4/2020.(III.12.) önkormányzati rendelethez.
A3: ÓVODAI ÉS VÉDŐNŐI TÁRSULÁS BALATONEDERICS 2020. ÉVI KÖLTSÉGVETÉS
A4: Társulási előirányzatok - Kiadások (Ft)
A6: Sor- szám | B6: Rovat megnevezése | C6: Rovat száma | D6: TÁRSULÁS EREDETI EI. | E6: EBBŐL KÖTELEZŐ | F6: MÓDOSÍTÁS | G6: TÁRSULÁS MÓDOSÍTOTT EI. | H6: EBBŐL KÖTELEZŐ
A7: 1 | B7: Egyéb szolgáltatások | C7: K337 | D7: 84000 | E7: =D7 -> 84000 | F7: =G7-E7 -> 28 | G7: 84028 | H7: 84028
A8: 2 | B8: Szolgáltatási kiadások (=28+…+34) | C8: K33 | D8: =SUM(D7:D7) -> 84000 | E8: =SUM(E7:E7) -> 84000 | F8: =G8-E8 -> 28 | G8: =SUM(G7) -> 84028 | H8: =SUM(H7) -> 84028
A9: 3 | B9: Dologi kiadások (=24+27+35+38+44) | C9: K3 | D9: =SUM(D8) -> 84000 | E9: =SUM(E8) -> 84000 | F9: =G9-E9 -> 28 | G9: =SUM(G8) -> 84028 | H9: =SUM(H8) -> 84028
A10: 4 | B10: Tartalékok | C10: K513 | D10: 20094 | E10: 20094 | F10: =G10-E10 -> 0 | G10: 20094 | H10: 20094
A11: 5 | B11: Egyéb működési célú kiadások (=55+59+…+70) | C11: K5 | D11: =SUM(D10:D10) -> 20094 | E11: =SUM(E10:E10) -> 20094 | F11: =G11-E11 -> 0 | G11: =SUM(G10) -> 20094 | H11: =SUM(H10) -> 20094
A12: 6 | B12: Költségvetési kiadások (=19+20+45+54+71+79+84+94) | C12: K1-K8 | D12: =SUM(D9+D11) -> 104094 | E12: =SUM(E9+E11) -> 104094 | F12: =G12-E12 -> 28 | G12: =SUM(G9+G11) -> 104122 | H12: =SUM(H9+H11) -> 104122
A13: 7 | B13: Központi, irányító szervi támogatások folyósítása | C13: K915 | D13: 68026305 | E13: =D13 -> 68026305 | F13: =G13-E13 -> 6693637 | G13: 74719942 | H13: 74719942
A14: 8 | B14: Belföldi finanszírozás kiadásai (=04+11+…+17+20) | C14: K91 | D14: =SUM(D13) -> 68026305 | E14: =SUM(E13) -> 68026305 | F14: =G14-E14 -> 6693637 | G14: =SUM(G13) -> 74719942 | H14: =SUM(H13) -> 74719942
A15: 9 | B15: Finanszírozási kiadások (=21+27+28+29) | C15: K9 | D15: =SUM(D14) -> 68026305 | E15: =SUM(E14) -> 68026305 | F15: =G15-E15 -> 6693637 | G15: =SUM(G14) -> 74719942 | H15: =SUM(H14) -> 74719942
A16: 10 | B16: KIADÁSOK MINDÖSSZESEN | D16: =SUM(D15+D12) -> 68130399 | E16: =SUM(E15+E12) -> 68130399 | F16: =G16-E16 -> 6693665 | G16: =SUM(G12+G15) -> 74824064 | H16: =SUM(H12+H15) -> 74824064

Sheet KIADÁSOK ÓVODA
B1: 8. melléklet Balatonederics Község Önkormányzat 2020.évi költségvetésének módosításáról szóló 20/2020.(XII.10.) önkormányzati rendelethez.
B2: 8. melléklet Balatonederics Község Önkormányzat 2020.évi költségvetéséről szóló 4/2020.(III.12.) önkormányzati rendelethez.
A3: ÓVODAI ÉS VÉDŐNŐI TÁRSULÁS BALATONEDERICS 2020. ÉVI KÖLTSÉGVETÉS
A4: Lesencetomaji Mesevár Óvoda - Kiadások (Ft)
A6: Sor- szám | B6: Rovat megnevezése | C6: Rovat száma | D6: ÓVODA EREDETI EI. | E6: EBBŐL KÖTELEZŐ | F6: MÓDOSÍTÁS | G6: ÓVODA MÓDOSÍTOTT EI. | H6: EBBŐL KÖTELEZŐ
A7: 01 | B7: Törvény szerinti illetmények, munkabérek | C7: K1101 | D7: 46116499 | E7: =D7 -> 46116499 | F7: =G7-E7 -> 0 | G7: 46116499 | H7: 46116499
A8: 02 | B8: Normatív jutalmak | C8: K1102 | D8: 1689975 | E8: =D8 -> 1689975 | F8: =G8-E8 -> 0 | G8: 1689975 | H8: 1689975
A9: 03 | B9: Céljuttatás, projektprémium | C9: K1103 | D9: 500000 | E9: =D9 -> 500000 | F9: =G9-E9 -> 0 | G9: 500000 | H9: 500000
A10: 04 | B10: Készenléti, ügyeleti, helyettesítési díj, túlóra, túlszolgálat | C10: K1104 | D10: 0 | E10: =D10 -> 0 | F10: =G10-E10 -> 0 | G10: 0 | H10: 0
A11: 05 | B11: Végkielégítés | C11: K1105 | D11: 0 | E11: =D11 -> 0 | F11: =G11-E11 -> 0 | G11: 0 | H11: 0
A12: 06 | B12: Jubileumi jutalom | C12: K1106 | D12: 0 | E12: =D12 -> 0 | F12: =G12-E12 -> 0 | G12: 0 | H12: 0
A13: 07 | B13: Béren kívüli juttatások | C13: K1107 | D13: 1456000 | E13: =D13 -> 1456000 | F13: =G13-E13 -> 0 | G13: =E13 -> 1456000 | H13: =G13 -> 1456000
A14: 08 | B14: Ruházati költségtérítés | C14: K1108 | D14: 0 | E14: =D14 -> 0 | F14: =G14-E14 -> 0 | G14: 0 | H14: 0
A15: 09 | B15: Közlekedési költségtérítés | C15: K1109 | D15: 504000 | E15: =D15 -> 504000 | F15: =G15-E15 -> 0 | G15: =E15 -> 504000 | H15: =G15 -> 504000
A16: 10 | B16: Egyéb költségtérítések | C16: K1110 | D16: 0 | E16: =D16 -> 0 | F16: =G16-E16 -> 0 | G16: 0 | H16: 0
A17: 11 | B17: Lakhatási támogatások | C17: K1111 | D17: 0 | E17: =D17 -> 0 | F17: =G17-E17 -> 0 | G17: 0 | H17: 0
A18: 12 | B18: Szociális támogatások | C18: K1112 | D18: 0 | E18: =D18 -> 0 | F18: =G18-E18 -> 0 | G18: 0 | H18: 0
A19: 13 | B19: Foglalkoztatottak egyéb személyi juttatásai | C19: K1113 | D19: 319713 | E19: 319713 | F19: =G19-E19 -> 200000 | G19: 519713 | H19: 519713
A20: 14 | B20: Foglalkoztatottak személyi juttatásai (=01+…+13) | C20: K11 | D20: =SUM(D7:D19) -> 50586187 | E20: =D20 -> 50586187 | F20: =G20-E20 -> 200000 | G20: =SUM(G7:G19) -> 50786187 | H20: =SUM(H7:H19) -> 50786187
A21: 15 | B21: Választott tisztségviselők juttatásai | C21: K121 | D21: 0 | E21: =D21 -> 0 | F21: =G21-E21 -> 0 | G21: 0 | H21: 0
A22: 16 | B22: Munkavégzésre irányuló egyéb jogviszonyban nem saját foglalkoztatottnak fizetett juttatások | C22: K122 | D22: 80000 | E22: =D22 -> 80000 | F22: =G22-E22 -> 0 | G22: =E22 -> 80000 | H22: =G22 -> 80000
A23: 17 | B23: Egyéb külső személyi juttatások | C23: K123 | D23: 0 | E23: =D23 -> 0 | F23: =G23-E23 -> 0 | G23: 0 | H23: 0
A24: 18 | B24: Külső személyi juttatások (=15+16+17) | C24: K12 | D24: =SUM(D21:D23) -> 80000 | E24: =D24 -> 80000 | F24: =G24-E24 -> 0 | G24: =SUM(G21:G23) -> 80000 | H24: =SUM(H21:H23) -> 80000
A25: 19 | B25: Személyi juttatások (=14+18) | C25: K1 | D25: =SUM(D24,D20) -> 50666187 | E25: =SUM(E20+E24) -> 50666187 | F25: =G25-E25 -> 200000 | G25: =SUM(G24,G20) -> 50866187 | H25: =SUM(H24,H20) -> 50866187
A26: 20 | B26: Munkaadókat terhelő járulékok és szociális hozzájárulási adó | C26: K2 | D26: 10098306 | E26: =D26 -> 10098306 | F26: =G26-E26 -> 0 | G26: 10098306 | H26: 9148326
A27: 21 | B27: Szakmai anyagok beszerzése | C27: K311 | D27: 115000 | E27: =D27 -> 115000 | F27: =G27-E27 -> 55347 | G27: 170347 | H27: 170347
A28: 22 | B28: Üzemeltetési anyagok beszerzése | C28: K312 | D28: 19548823 | E28: =D28 -> 19548823 | F28: =G28-E28 -> 4195980 | G28: 23744803 | H28: 23744803
A29: 23 | B29: Árubeszerzés | C29: K313 | D29: 0 | E29: =D29 -> 0 | F29: =G29-E29 -> 0 | G29: 0 | H29: 0
A30: 24 | B30: Készletbeszerzés (=21+22+23) | C30: K31 | D30: =SUM(D27:D29) -> 19663823 | E30: =SUM(E27:E29) -> 19663823 | F30: =G30-E30 -> 4251327 | G30: =SUM(G27:G29) -> 23915150 | H30: =SUM(H27:H29) -> 23915150
A31: 25 | B31: Informatikai szolgáltatások igénybevétele | C31: K321 | D31: 0 | E31: =D31 -> 0 | F31: =G31-E31 -> 0 | G31: 0 | H31: 0
A32: 26 | B32: Egyéb kommunikációs szolgáltatások | C32: K322 | D32: 186115 | E32: =D32 -> 186115 | F32: =G32-E32 -> 0 | G32: 186115 | H32: 186115
A33: 27 | B33: Kommunikációs szolgáltatások (=25+26) | C33: K32 | D33: =SUM(D31:D32) -> 186115 | E33: =SUM(E31:E32) -> 186115 | F33: =G33-E33 -> 0 | G33: =SUM(G31:G32) -> 186115 | H33: =SUM(H31:H32) -> 186115
A34: 28 | B34: Közüzemi díjak | C34: K331 | D34: 2782731 | E34: =D34 -> 2782731 | F34: =G34-E34 -> 0 | G34: =E34 -> 2782731 | H34: =G34 -> 2782731
A35: 29 | B35: Vásárolt élelmezés | C35: K332 | D35: 0 | E35: =D35 -> 0 | F35: =G35-E35 -> 0 | G35: 0 | H35: 0
A36: 30 | B36: Bérleti és lízing díjak | C36: K333 | D36: 0 | E36: =D36 -> 0 | F36: =G36-E36 -> 0 | G36: 0 | H36: 0
A37: 31 | B37: Karbantartási, kisjavítási szolgáltatások | C37: K334 | D37: 408000 | E37: =D37 -> 408000 | F37: =G37-E37 -> 0 | G37: =E37 -> 408000 | H37: =G37 -> 408000
A38: 32 | B38: Közvetített szolgáltatások | C38: K335 | D38: 11000 | E38: =D38 -> 11000 | F38: =G38-E38 -> 2221441 | G38: 2232441 | H38: 2232441
A39: 33 | B39: Szakmai tevékenységet segítő szolgáltatások | C39: K336 | D39: 122000 | E39: =D39 -> 122000 | F39: =G39-E39 -> 0 | G39: 122000 | H39: 122000
A40: 34 | B40: Egyéb szolgáltatások | C40: K337 | D40: 1678000 | E40: =D40 -> 1678000 | F40: =G40-E40 -> -19828 | G40: 1658172 | H40: 1658172
A41: 35 | B41: Szolgáltatási kiadások (=28+…+34) | C41: K33 | D41: =SUM(D34:D40) -> 5001731 | E41: =SUM(E34:E40) -> 5001731 | F41: =G41-E41 -> 2201613 | G41: =SUM(G34:G40) -> 7203344 | H41: =SUM(H34:H40) -> 7203344
A42: 36 | B42: Kiküldetések kiadásai | C42: K341 | D42: 3490 | E42: =D42 -> 3490 | F42: =G42-E42 -> 0 | G42: 3490 | H42: 3490
A43: 37 | B43: Reklám- és propagandakiadások | C43: K342 | D43: 0 | E43: =D43 -> 0 | F43: =G43-E43 -> 0 | G43: 0 | H43: 0
A44: 38 | B44: Kiküldetések, reklám- és propagandakiadások (=36+37) | C44: K34 | D44: =SUM(D42:D43) -> 3490 | E44: =SUM(E42:E43) -> 3490 | F44: =G44-E44 -> 0 | G44: =SUM(G42:G43) -> 3490 | H44: =SUM(H42:H43) -> 3490
A45: 39 | B45: Működési célú előzetesen felszámított általános forgalmi adó | C45: K351 | D45: 4876000 | E45: =D45 -> 4876000 | F45: =G45-E45 -> -168000 | G45: 4708000 | H45: 4708000
A46: 40 | B46: Fizetendő általános forgalmi adó | C46: K352 | D46: 1885000 | E46: =D46 -> 1885000 | F46: =G46-E46 -> 168000 | G46: 2053000 | H46: 2053000
A47: 41 | B47: Kamatkiadások | C47: K353 | D47: 0 | E47: =D47 -> 0 | F47: =G47-E47 -> 0 | G47: 0 | H47: 0
A48: 42 | B48: Egyéb pénzügyi műveletek kiadásai | C48: K354 | D48: 0 | E48: =D48 -> 0 | F48: =G48-E48 -> 0 | G48: 0 | H48: 0
A49: 43 | B49: Egyéb dologi kiadások | C49: K355 | D49: 0 | E49: =D49 -> 0 | F49: =G49-E49 -> 3000 | G49: 3000 | H49: 3000
A50: 44 | B50: Különféle befizetések és egyéb dologi kiadások (=39+…+43) | C50: K35 | D50: =SUM(D45:D49) -> 6761000 | E50: =SUM(E45:E49) -> 6761000 | F50: =G50-E50 -> 3000 | G50: =SUM(G45:G49) -> 6764000 | H50: =SUM(H45:H49) -> 6764000
A51: 45 | B51: Dologi kiadások (=24+27+35+38+44) | C51: K3 | D51: =SUM(D50,D44,D41,D33,D30) -> 31616159 | E51: =SUM(E50,E44,E41,E33,E30) -> 31616159 | F51: =G51-E51 -> 6455940 | G51: =SUM(G30+G33+G41+G44+G50) -> 38072099 | H51: =SUM(H30+H33+H41+H44+H50) -> 38072099
A52: 46 | B52: Költségvetési kiadások (=19+20+45+54+71+79+84+94) | C52: K1-K8 | D52: =SUM(D25+D26+D51) -> 92380652 | E52: =SUM(E25+E26+E51) -> 92380652 | F52: =G52-E52 -> 6655940 | G52: =SUM(G25+G26+G51) -> 99036592 | H52: =SUM(H25+H26+H51) -> 98086612
A53: 47 | B53: Finanszírozási kiadások (=21+27+28+29) | C53: K9 | D53: 0 | E53: 0 | F53: =G53-E53 -> 0 | G53: 0 | H53: 0
A54: 48 | B54: KIADÁSOK MINDÖSSZESEN | D54: =SUM(D53+D52) -> 92380652 | E54: =SUM(E53+E52) -> 92380652 | F54: =G54-E54 -> 6655940 | G54: =SUM(G52) -> 99036592 | H54: =SUM(H52) -> 98086612

Sheet LÉTSZÁM
A1: 9. melléklet Balatonederics Község Önkormányzat 2020.évi költségvetésének módosításáról szóló 20/2020.(XII.10.) önkormányzati rendelethez.
A2: 9. melléklet Balatonederics Község Önkormányzat 2020.évi költségvetéséről szóló 4/2020.(III.12.) önkormányzati rendelethez.
A3: BALATONEDERICS KÖZSÉG ÖNKORMÁNYZAT 2020. ÉVI KÖLTSÉGVETÉS
A4: Létszám (Fő)
A6: MEGNEVEZÉS | B6: ÖNKORMÁNYZAT | C6: TÁRSULÁS | D6: ÓVODA | E6: MINDÖSSZESEN EREDETI EI.
A7: főjegyző, jegyző, aljegyző, címzetes főjegyző, körjegyző | C7: 0 | E7: =SUM(B7:D7) -> 0
A8: I. besorolási osztály összesen | C8: 0 | E8: =SUM(B8:D8) -> 0
A9: II. besorolási osztály összesen | C9: 0 | E9: =SUM(B9:D9) -> 0
A10: III. besorolási osztály összesen | C10: 0 | E10: =SUM(B10:D10) -> 0
A11: KÖZTISZTVISELŐK, KORMÁNYTISZTVISELŐK ÖSSZESEN | C11: 0 | E11: =SUM(B11:D11) -> 0
A12: igazgató (főigazgató), igazgatóhelyettes (főigazgató-helyettes) | D12: 1 | E12: =SUM(B12:D12) -> 1
A13: főosztályvezető, főosztályvezető-helyettes, osztályvezető, ügykezelő osztályvezető, további vezető | E13: =SUM(B13:D13) -> 0
A14: főtanácsos, főmunkatárs, tanácsos, munkatárs | E14: =SUM(B14:D14) -> 0
A15: "A", "B" fizetési osztály összesen | D15: 6 | E15: =SUM(B15:D15) -> 6
A16: "C", "D" fizetési osztály összesen | D16: 2 | E16: =SUM(B16:D16) -> 2
A17: "E"-"J" fizetési osztály összesen | B17: 2 | D17: 2 | E17: =SUM(B17:D17) -> 4
A18: kutató, felsőoktatásban oktató | E18: =SUM(B18:D18) -> 0
A19: KÖZALKALMAZOTTAK ÖSSZESEN | B19: =SUM(B17:B18) -> 2 | D19: 14 | E19: =SUM(B19:D19) -> 16
A20: fizikai alkalmazott, a költségvetési szerveknél foglalkoztatott egyéb munkavállaló (fizikai alkalmazott) | B20: 2 | C20: 0 | D20: 0 | E20: =SUM(B20:D20) -> 2
A21: ösztöndíjas foglalkoztatott | B21: 0 | E21: =SUM(B21:D21) -> 0
A22: közfoglalkoztatott | B22: 0 | E22: =SUM(B22:D22) -> 0
A23: EGYÉB BÉRRENDSZER ÖSSZESEN | B23: =SUM(B20:B22) -> 2 | C23: 0 | E23: =SUM(B23:D23) -> 2
A24: polgármester, főpolgármester | B24: 1 | E24: =SUM(B24:D24) -> 1
A25: helyi önkormányzati képviselő-testület tagja, megyei közgyűlés tagja | B25: 5 | E25: =SUM(B25:D25) -> 5
A26: alpolgármester, főpolgármester-helyettes, megyei közgyűlés elnöke, alelnöke | B26: 1 | E26: =SUM(B26:D26) -> 1
A27: VÁLASZTOTT TISZTSÉGVISELŐK ÖSSZESEN | B27: =SUM(B24:B26) -> 7 | E27: =SUM(B27:D27) -> 7
A28: KÖLTSÉGVETÉSI ENGEDÉLYEZETT LÉTSZÁMKERETBE TARTOZÓ FOGLALKOZTATOTTAK LÉTSZÁMA MINDÖSSZESEN | B28: =SUM(B19+B23+B27) -> 11 | C28: 0 | D28: 15 | E28: =SUM(B28:D28) -> 26
A29: prémiumévek programról és a különleges foglalkoztatási állományról szóló 2004. évi CXXII. törvény alapján foglalkoztatott prémiumévesek | E29: =SUM(B29:D29) -> 0
A30: prémiumévek programról és a különleges foglalkoztatási állományról szóló 2004. évi CXXII. törvény alapján foglalkoztatott különleges foglalkoztatási állományba helyezettek létszáma | E30: =SUM(B30:D30) -> 0
A31: ösztöndíjas foglalkoztatottak (Pftv, illetve Magyar Közigazgatási Ösztöndíjról szóló 228/2011. (X. 28.) Korm. rendelet) | E31: =SUM(B31:D31) -> 0
A32: munkaerőpiactól tartósan távol lévő személyek | E32: =SUM(B32:D32) -> 0
A33: KÖLTSÉGVETÉSI ENGEDÉLYEZETT LÉTSZÁMKERETBE NEM TARTOZÓ FOGLALKOZTATOTTAK LÉTSZÁMA AZ IDŐSZAK VÉGÉN ÖSSZESEN | B33: 0 | C33: 0 | D33: 0 | E33: 0

Sheet 10. szociális kiadások
A1: 10. melléklet Balatonederics Község Önkormányzat 2020.évi költségvetésének módosításáról szóló 20/2020.(XII.10.) önkormányzati rendelethez.
A2: 10. melléklet Balatonederics Község Önkormányzat 2020.évi költségvetéséről szóló 4/2020.(III.12.) önkormányzati rendelethez.
A3: BALATONEDERICS KÖZSÉG ÖNKORMÁNYZAT 2020. ÉVI KÖLTSÉGVETÉS
A4: Lakosságnak juttatott támogatások, szociális, rászorultsági jellegű ellátások (Ft)
A7: Megnevezés | B7: Rovat-szám | C7: ÖNKORMÁNYZAT MÓDOSÍTOTT EI. | D7: P.HIVATAL MÓDOSÍTOTT EI. | E7: ÓVODA MÓDOSÍTOTT EI. | F7: MINDÖSSZESEN MÓDOSÍTOTT EI.
A8: mozgáskorlátozottak közlekedési támogatása | B8: K44 | C8: 0 | D8: 0 | E8: 0 | F8: =SUM(C8:E8) -> 0
A9: mozgáskorlátozottak szerzési és átalakítási támogatása | B9: K44 | C9: 0 | D9: 0 | E9: 0 | F9: =SUM(C9:E9) -> 0
A10: megváltozott munkaképességűek illetve egészségkárosodottak keresetkiegészítése | B10: K44 | C10: 0 | D10: 0 | E10: 0 | F10: =SUM(C10:E10) -> 0
A11: cukorbetegek támogatása | B11: K44 | C11: 0 | D11: 0 | E11: 0 | F11: =SUM(C11:E11) -> 0
A12: helyi megállapítású ápolási díj [Szoctv. 43/B. §] | B12: K44 | C12: 377940 | D12: 0 | E12: 0 | F12: =SUM(C12:E12) -> 377940
A13: helyi megállapítású közgyógyellátás [Szoctv.50.§ (3) bek.] | B13: K44 | C13: 0 | D13: 0 | E13: 0 | F13: =SUM(C13:E13) -> 0
A14: foglalkoztatást helyettesítő támogatás [Szoctv. 35. § (1) bek.] | B14: K45 | C14: 0 | D14: 0 | E14: 0 | F14: =SUM(C14:E14) -> 0
A15: hozzájárulás a lakossági energiaköltségekhez | B15: K46 | C15: 0 | D15: 0 | E15: 0 | F15: =SUM(C15:E15) -> 0
A16: lakbértámogatás | B16: K46 | C16: 0 | D16: 0 | E16: 0 | F16: =SUM(C16:E16) -> 0
A17: lakásfenntartási támogatás [Szoctv. 38. § (1) bek. a) és b) pontok] | B17: K46 | C17: 0 | D17: 0 | E17: 0 | F17: =SUM(C17:E17) -> 0
A18: adósságcsökkentési támogatás [Szoctv. 55/A. § 1. bek. b) pont] | B18: K46 | C18: 0 | D18: 0 | E18: 0 | F18: =SUM(C18:E18) -> 0
A19: természetben nyújtott lakásfenntartási támogatás [Szoctv. 47.§ (1) bek. b) pont] | B19: K46 | C19: 0 | D19: 0 | E19: 0 | F19: =SUM(C19:E19) -> 0
... A29: átmeneti segély [Szoctv. 47.§ (1) bek. c) pont] | B29: K48 | C29: 0 | D29: 0 | E29: 0 | F29: =SUM(C29:E29) -> 0
A30: temetési segély [Szoctv. 47.§ (1) bek. d) pont} | B30: K48 | D30: 0 | E30: 0 | F30: =SUM(C30:E30) -> 0
A31: köztemetés [Szoctv. 48.§] | B31: K48 | C31: 0 | D31: 0 | E31: 0 | F31: =SUM(C31:E31) -> 0
A32: egyéb szociális ellátások (állami normatíva) | B32: K48 | C32: 0 | D32: 0 | E32: 0 | F32: =SUM(C32:E32) -> 0
A33: rászorultságtól függõ normatív kedvezmények [Gyvt. 151. § (5) bek.] | B33: K48 | C33: 0 | D33: 0 | E33: 0 | F33: =SUM(C33:E33) -> 0
A34: önkormányzat által saját hatáskörben (nem szociális és gyermekvédelmi előírások alapján) adott pénzügyi ellátás | B34: K48 | C34: 0 | D34: 0 | E34: 0 | F34: =SUM(C34:E34) -> 0
A35: önkormányzat által saját hatáskörben (nem szociális és gyermekvédelmi előírások alapján) adott természetbeni ellátás | B35: K48 | C35: 0 | D35: 0 | E35: 0 | F35: =SUM(C35:E35) -> 0
A36: Ellátottak pénzbeli juttatásai | B36: K4 | C36: =SUM(C8:C35) -> 3946499 | D36: =SUM(D8:D35) -> 0 | E36: =SUM(E8:E35) -> 0 | F36: =SUM(F8:F35) -> 3946499

Sheet ÁTADOTT ÁTVETT
A1: 11. melléklet Balatonederics Község Önkormányzat 2020.évi költségvetésének módosításáról szóló 20/2020.(XII.10.) önkormányzati rendelethez.
A2: 11. melléklet Balatonederics Község Önkormányzat 2020.évi költségvetéséről szóló 4/2020.(III.12.) önkormányzati rendelethez.
A3: BALATONEDERICS KÖZSÉG ÖNKORMÁNYZAT 2020. ÉVI KÖLTSÉGVETÉS
A4: Támogatási kiadások és bevételek, átdott pénzeszközök, átvett pénzeszközök (Ft)
A6: Rovat megnevezése | B6: Rovat száma | C6: ÖNKORMÁNYZAT EREDETI EI. | D6: TÁRSULÁS EREDETI EI. | E6: ÓVODA EREDETI EI. | F6: MINDÖSSZESEN EREDETI EI. | G6: ÖNKORMÁNYZAT MÓDOSÍTOTT EI. | H6: TÁRSULÁS MÓDOSÍTOTT EI. | I6: ÓVODA mÓDOSÍTOTT EI. | J6: MINDÖSSZESEN EREDETI EI.
A7: Lesencetomaji Mesevár Óvodaállami tám.(állami támogatás) | B7: K506 | C7: 68026305 | D7: 0 | E7: 0 | F7: =SUM(C7:E7) -> 68026305 | G7: 46381215 | H7: 0 | I7: 0 | J7: =SUM(G7:I7) -> 46381215
A8: Lesencetomaj Község Önkormányzata (3 negyedév) | G8: 8738796 | J8: =SUM(G8:I8) -> 8738796
A9: Lesencefalu Község Önkormányzata (3 negyedév) | G9: 2560041 | J9: =SUM(G9:I9) -> 2560041
A10: Nemesvita Község Önkormányzata(3 negyedév) | G10: 1358274 | J10: =SUM(G10:I10) -> 1358274
A11: Balatonederics Község Önkormányzata(1 év) | G11: 10557064 | J11: =SUM(G11:I11) -> 10557064
A12: Lesencetomaji Közös Önkormányzati Hivatal | B12: K506 | C12: 3915698 | D12: 0 | E12: 0 | F12: =SUM(C12:E12) -> 3915698 | G12: 5663116 | H12: 0 | I12: 0 | J12: =SUM(G12:I12) -> 5663116
A13: Emberi Erőforrások Minisztériuma (Bursa Hungarica támogatás) | B13: K506 | G13: 80000 | H13: 0 | I13: 0 | J13: =SUM(G13:I13) -> 80000
A14: Egyéb működési célú támogatások államháztartáson belülre | B14: K506 | C14: =SUM(C7:C12) -> 71942003 | D14: =SUM(D7:D12) -> 0 | E14: =SUM(E7:E12) -> 0 | F14: =SUM(F7:F12) -> 71942003 | G14: =SUM(G7:G13) -> 75338506 | H14: 0 | I14: 0 | J14: =SUM(J7:J13) -> 75338506
A15: Működési célú visszatérítendő támogatások, kölcsönök nyújtása államháztartáson kívülre | B15: K508 | C15: 0 | D15: 0 | E15: 0 | F15: =SUM(C15:E15) -> 0 | G15: 0 | H15: 0 | I15: 0 | J15: 0
A16: Árkiegészítések, ártámogatások | B16: K509 | C16: 0 | D16: 0 | E16: 0 | F16: =SUM(C16:E16) -> 0 | G16: 0 | H16: 0 | I16: 0 | J16: 0
A17: Balaton- felvidéki Szociális és Gyermekjóléti Központ | B17: K512 | C17: 1602054 | D17: 0 | E17: 0 | F17: =SUM(C17:E17) -> 1602054 | G17: 1816248 | H17: 0 | I17: 0 | J17: =SUM(G17:I17) -> 1816248
A18: Házi orvos támogatás | B18: K512 | C18: 756000 | D18: 0 | E18: 0 | F18: =SUM(C18:E18) -> 756000 | G18: 0 | H18: 0 | I18: 0 | J18: =SUM(G18:I18) -> 0
A19: NABE támogatása | B19: K512 | C19: 100000 | D19: 0 | E19: 0 | F19: =SUM(C19:E19) -> 100000 | G19: 100000 | H19: 0 | I19: 0 | J19: =SUM(G19:I19) -> 100000
A20: TÖOSZ, Balatoni Szövetség, Sportegyesület, horgászegyesület | B20: K512 | C20: 1520000 | D20: 0 | E20: 0 | F20: =SUM(C20:E20) -> 1520000 | G20: 1213191 | H20: 0 | I20: 0 | J20: =SUM(G20:I20) -> 1213191
A21: Dr.Bucur Blanka | B21: K512 | C21: 0 | D21: 0 | E21: 0 | F21: 0 | G21: 224289 | H21: 0 | I21: 0 | J21: =SUM(G21:I21) -> 224289
A22: Grund focipálya (műfűves fudball pálya) | B22: K512 | C22: 0 | D22: 0 | E22: 0 | F22: 0 | G22: 1813744 | H22: 0 | I22: 0 | J22: =SUM(G22:I22) -> 1813744
A23: Egyéb működési célú támogatások államháztartáson kívülre | B23: K512 | C23: =SUM(C17:C20) -> 3978054 | D23: =SUM(D17:D20) -> 0 | E23: =SUM(E17:E20) -> 0 | F23: =SUM(F17:F20) -> 3978054 | G23: =SUM(G15:G22) -> 5167472 | H23: 0 | I23: 0 | J23: =SUM(G23:I23) -> 5167472
A25: 11. melléklet Balatonederics Község Önkormányzata 2020. évi költségvetéséről szóló...../2020. (II........) sz. önkormányzati rendelethez
A27: Rovat megnevezése | B27: Rovat száma | C27: ÖNKORMÁNYZAT EREDETI EI. | D27: TÁRSULÁS EREDETI EI. | E27: ÓVODA EREDETI EI. | F27: MINDÖSSZESEN EREDETI EI. | G27: ÖNKORMÁNYZAT MÓDOSÍTOTT EI. | H27: TÁRSULÁS MÓDOSÍTOTT EI. | I27: ÓVODA MÓDOSÍTOTT EI. | J27: MINDÖSSZESEN EREDETI EI.
A28: Közfoglalkoztatottak finanszírozása | B28: B16 | C28: 0 | D28: 0 | E28: 0 | F28: 0 | G28: 961092 | H28: 0 | I28: 0 | J28: =SUM(G28:I28) -> 961092
A29: Társadalombiztosítás pénzügyi alapjai | B29: B16 | C29: 0 | D29: 0 | E29: 0 | F29: 0 | G29: 28800 | H29: 0 | I29: 0 | J29: =SUM(G29:I29) -> 28800
A30: Helyi önkormányzatoktól és azok költségvetési szervétől | B30: B16 | C30: 0 | D30: 0 | E30: 0 | F30: 0 | G30: 13336248 | H30: 0 | I30: 0 | J30: =SUM(G30:I30) -> 13336248
A31: Egyéb működési célú támogatások bevételei államháztartáson belülről | B31: B16 | C31: 17781663 | D31: 68026305 | E31: 68026305 | F31: =SUM(C31:E31) -> 153834273 | G31: =SUM(G28:G30) -> 14326140 | H31: 74719942 | I31: 0 | J31: =SUM(G31:I31) -> 89046082
A32: Felhalmozási célú önkormányzati támogatások | B32: B21 | C32: 0 | D32: 0 | E32: 0 | F32: =SUM(C32:E32) -> 0 | G32: 0 | H32: 0 | I32: 0 | J32: 0
A33: Egyéb felhalmozási célú támogatások bevételei államháztartáson belülről | B33: B25 | C33: 0 | D33: 0 | E33: 0 | F33: =SUM(C33:E33) -> 0 | G33: 64474985 | H33: 0 | I33: 0 | J33: =SUM(G33:I33) -> 64474985
A34: Felhalmozási célú támogatások államháztartáson belülről | B34: B2 | C34: =SUM(C32:C33) -> 0 | D34: =SUM(D32:D33) -> 0 | E34: =SUM(E32:E33) -> 0 | F34: =SUM(C34:E34) -> 0 | G34: =SUM(G32:G33) -> 64474985 | H34: 0 | I34: 0 | J34: =SUM(J32:J33) -> 64474985
A35: Működési célú visszatérítendő támogatások, kölcsönök visszatérülése államháztartáson kívülről | B35: B64 | C35: 0 | D35: 0 | E35: 0 | F35: =SUM(C35:E35) -> 0 | G35: 0 | H35: 0 | I35: 0 | J35: 0
A36: Egyéb működési célú átvett pénzeszközök | B36: B65 | C36: 0 | D36: 0 | E36: 0 | F36: =SUM(C36:E36) -> 0 | G36: 0 | H36: 0 | I36: 0 | J36: 0
A37: Működési célú átvett pénzeszközök | B37: B6 | C37: =SUM(C35:C36) -> 0 | D37: =SUM(D35:D36) -> 0 | E37: =SUM(E35:E36) -> 0 | F37: =SUM(C37:E37) -> 0 | G37: 0 | H37: 0 | I37: 0 | J37: 0
A38: Felhalmozási célú visszatérítendő támogatások, kölcsönök visszatérülése államháztartáson kívülről | B38: B74 | C38: 0 | D38: 0 | E38: 0 | F38: =SUM(C38:E38) -> 0 | G38: 100000 | H38: 0 | I38: 0 | J38: =SUM(G38:I38) -> 100000
A39: Egyéb felhalmozási célú átvett pénzeszközök | B39: B75 | C39: 0 | D39: 0 | E39: 0 | F39: =SUM(C39:E39) -> 0 | G39: 0 | H39: 0 | I39: 0 | J39: 0
A40: Felhalmozási célú átvett pénzeszközök | B40: B7 | C40: =SUM(C38:C39) -> 0 | D40: =SUM(D38:D39) -> 0 | E40: =SUM(E38:E39) -> 0 | F40: =SUM(C40:E40) -> 0 | G40: =SUM(G38:G39) -> 100000 | H40: 0 | I40: 0 | J40: =SUM(J38:J39) -> 100000

Sheet BERUH FELÚJ
A1: 12. melléklet Balatonederics Község Önkormányzat 2020.évi költségvetésének módosításáról szóló 20/2020.(XII.10.) önkormányzati rendelethez.
A2: 12. melléklet Balatonederics Község Önkormányzat 2020.évi költségvetéséről szóló 4/2020.(III.12.) önkormányzati rendelethez.
A3: BALATONEDERICS KÖZSÉG ÖNKORMÁNYZAT 2020. ÉVI KÖLTSÉGVETÉS
A4: Beruházások és felújítások (Ft)
A6: Rovat megnevezése | B6: Rovat-szám | C6: ÖNKORMÁNYZAT EREDETI EI. | D6: TÁRSULÁS EREDETI EI. | E6: ÓVODA EREDETI EI. | F6: MINDÖSSZESEN EREDETI EI. | G6: ÖNKORMÁNYZAT Módosított EI. | H6: TÁRSULÁS Módosított EI. | I6: ÓVODA Módosított EI. | J6: MINDÖSSZESEN EREDETI EI.
A7: Immateriális javak beszerzése, létesítése | B7: K61 | C7: 0 | D7: 0 | E7: 0 | F7: 0
F8: =SUM(C8:E8) -> 0
F9: =SUM(C9:E9) -> 0
F10: =SUM(C10:E10) -> 0
F11: =SUM(C11:E11) -> 0
A12: Ingatlanok beszerzése, létesítése | B12: K62 | C12: =SUM(C8:C11) -> 0 | D12: =SUM(D8:D11) -> 0 | E12: =SUM(E8:E11) -> 0 | F12: =SUM(C12:E12) -> 0 | G12: 5293500 | J12: =SUM(G12:I12) -> 5293500
F13: =SUM(C13:E13) -> 0
F14: =SUM(C14:E14) -> 0
F15: =SUM(C15:E15) -> 0
F16: =SUM(C16:E16) -> 0
A17: Informatikai eszközök beszerzése, létesítése | B17: K63 | C17: 0 | D17: 0 | E17: =SUM(E13:E16) -> 0 | F17: =SUM(C17:E17) -> 0
A18: kisértékű tárgyi eszközök beszerzése | C18: 0 | D18: 0 | E18: 0 | F18: =SUM(C18:E18) -> 0
A19: Egyéb tárgyi eszközök beszerzése, létesítése | B19: K64 | C19: =SUM(C18:C18) -> 0 | D19: =SUM(D18:D18) -> 0 | E19: =SUM(E18:E18) -> 0 | F19: =SUM(F18) -> 0 | G19: 48935358 | J19: =SUM(G19:I19) -> 48935358
F20: =SUM(C20:E20) -> 0
F21: =SUM(C21:E21) -> 0
A22: Részesedések beszerzése | B22: K65 | C22: =SUM(C20:C21) -> 0 | D22: =SUM(D20:D21) -> 0 | E22: =SUM(E20:E21) -> 0 | F22: =SUM(C22:E22) -> 0
F23: =SUM(C23:E23) -> 0
F24: =SUM(C24:E24) -> 0
A25: Meglévő részesedések növeléséhez kapcsolódó kiadások | B25: K66 | C25: =SUM(C23:C24) -> 0 | D25: =SUM(D23:D24) -> 0 | E25: =SUM(E23:E24) -> 0 | F25: =SUM(C25:E25) -> 0
A26: Beruházási célú előzetesen felszámított általános forgalmi adó | B26: K67 | C26: 0 | D26: 0 | E26: 0 | F26: =SUM(C26:E26) -> 0 | G26: 5733872 | J26: =SUM(G26:I26) -> 5733872
A27: Beruházások | B27: K6 | C27: =SUM(C25,C22,C19,C17,C12,C7,C26) -> 0 | D27: =SUM(D25,D22,D19,D17,D12,D7,D26) -> 0 | E27: =SUM(E25,E22,E19,E17,E12,E7,E26) -> 0 | F27: =SUM(F7+F12+F17+F19+F22+F25+F26) -> 0 | G27: =SUM(G7:G26) -> 59962730 | H27: 0 | I27: 0 | J27: =SUM(G27:I27) -> 59962730
A28: Általános ingatlan felújítási keret | C28: 0 | F28: =SUM(C28:E28) -> 0
A29: Erdősor vis maior védekezés, helyreállítás ( támogatásból ) | C29: 0 | F29: =SUM(C29:E29) -> 0
F30: =SUM(C30:E30) -> 0
F31: =SUM(C31:E31) -> 0
A32: Ingatlanok felújítása | B32: K71 | C32: 77578242 | D32: =SUM(D28:D31) -> 0 | E32: =SUM(E28:E31) -> 0 | F32: =SUM(C32:E32) -> 77578242 | G32: 69976643 | J32: =SUM(G32:I32) -> 69976643
F33: =SUM(C33:E33) -> 0
F34: =SUM(C34:E34) -> 0
F35: =SUM(C35:E35) -> 0
F36: =SUM(C36:E36) -> 0
A37: Informatikai eszközök felújítása | B37: K72 | C37: 0 | D37: 0 | E37: =SUM(E33:E36) -> 0 | F37: =SUM(C37:E37) -> 0
F38: =SUM(C38:E38) -> 0
F39: =SUM(C39:E39) -> 0
F40: =SUM(C40:E40) -> 0
F41: =SUM(C41:E41) -> 0
A42: Egyéb tárgyi eszközök felújítása | B42: K73 | C42: =SUM(C38:C41) -> 0 | D42: =SUM(D38:D41) -> 0 | E42: =SUM(E38:E41) -> 0 | F42: =SUM(C42:E42) -> 0 | G42: 23444491 | J42: =SUM(G42:I42) -> 23444491
A43: Felújítási célú előzetesen felszámított általános forgalmi adó | B43: K74 | C43: 21533391 | F43: =SUM(C43:E43) -> 21533391 | G43: 3552814 | J43: =SUM(G43:I43) -> 3552814
A44: Felújítások | B44: K7 | C44: =SUM(C42,C37,C32,C43) -> 99111633 | D44: =SUM(D42,D37,D32,D43) -> 0 | E44: =SUM(E42,E37,E32,E43) -> 0 | F44: =SUM(F32:F43) -> 99111633 | G44: =SUM(G28:G43) -> 96973948 | H44: 0 | I44: 0 | J44: =SUM(G44:I44) -> 96973948

Sheet TARTALÉKOK
A1: 13. melléklet Balatonederics Község Önkormányzat 2020.évi költségvetésének módosításáról szóló 20/2020.(XII.10.) önkormányzati rendelethez.
A2: 13. melléklet Balatonederics Község Önkormányzat 2020.évi költségvetéséről szóló 4/2020.(III.12.) önkormányzati rendelethez.
A3: BALATONEDERICS KÖZSÉG ÖNKORMÁNYZAT 2020. ÉVI KÖLTSÉGVETÉS
A4: Tartalékok (Ft)
A6: Rovat megnevezése | B6: Rovat-szám | C6: ÖNKORMÁNYZAT EREDETI EI. | D6: TÁRSULÁS EREDETI EI. | E6: ÓVODA EREDETI EI. | F6: MINDÖSSZESEN EREDETI EI. | G6: ÖNKORMÁNYZAT MÓDOSÍTOTT EI. | H6: TÁRSULÁS MÓDOSÍTOTT EI. | I6: ÓVODA MÓDOSÍTOTT EI. | J6: MINDÖSSZESEN EREDETI EI.
A7: általános tartalék | C7: 20926110 | D7: 20094 | E7: 0 | F7: =SUM(C7:E7) -> 20946204 | G7: 0 | H7: 20094 | I7: 0 | J7: =SUM(G7:I7) -> 20094
A11: Általános tartalékok összesen | B11: K512 | C11: =SUM(C7:C10) -> 20926110 | D11: =SUM(D7:D10) -> 20094 | E11: =SUM(E7:E10) -> 0 | F11: =SUM(F7:F10) -> 20946204 | G11: =SUM(G7:G10) -> 0 | H11: =SUM(H7:H10) -> 20094 | I11: =SUM(I7:I10) -> 0 | J11: =SUM(J7:J10) -> 20094
A14: Céltartalékok összesen | B14: K512 | C14: =SUM(C12:C13) -> 0 | D14: =SUM(D12:D13) -> 0 | E14: =SUM(E12:E13) -> 0 | F14: =SUM(F12:F13) -> 0 | G14: =SUM(G12:G13) -> 0 | H14: =SUM(H12:H13) -> 0 | I14: =SUM(I12:I13) -> 0 | J14: =SUM(J12:J13) -> 0
A15: TARTALÉKOK ÖSSZESEN | C15: =SUM(C14,C11) -> 20926110 | D15: =SUM(D14,D11) -> 20094 | E15: =SUM(E14,E11) -> 0 | F15: =SUM(F14,F11) -> 20946204 | G15: =SUM(G14,G11) -> 0 | H15: =SUM(H14,H11) -> 20094 | I15: =SUM(I14,I11) -> 0 | J15: =SUM(J14,J11) -> 20094

Sheet STABILTÁSI  1
A1: BALATONEDERICS KÖZSÉG ÖNKORMÁNYZAT 2020. ÉVI KÖLTSÉGVETÉS
A2: A költségvetési év azon fejlesztési céljai, amelyek megvalósításához a Gst. 3. § (1) bekezdése szerinti adósságot keletkeztető ügylet megkötése válik vagy válhat szükségessé (Ft)
A3: Balatonederics Község Önkormányzat 2020. évre adósságot keletkeztető ügyletet nem tervez
A4: ÖNKORMÁNYZATI ELŐIRÁNYZATOK
A5: Rovat megnevezése | B5: Rovat-szám | C5: kiadási eredeti előirányzat | D5: ebből kiadási előirányzat fedezete-saját forrás | E5: ebből kiadási előirányzat fedezete-adósságot keletkeztető ügylet | F5: adósságot keletkeztető ügylet fajtájahitel/lízing/kölcsön/értékpapír | G5: adósságot keletkeztető ügylet rovatszáma (B8) | H5: adósságot keletkeztető ügylet kezdő időpontja | I5: adósságot keletkeztető ügylet lejárati időpontja | J5: adósságot keletkeztető ügylet- várható visszatérítendő összege (kamattal) leáratig mindösszesen
A8: Immateriális javak beszerzése, létesítése | B8: K61 | C8: =SUM(C7:C7) -> 0 | D8: =SUM(D7:D7) -> 0 | E8: =SUM(E7:E7) -> 0
A11: Ingatlanok beszerzése, létesítése | B11: K62 | C11: =SUM(C9:C10) -> 0 | D11: =SUM(D9:D10) -> 0 | E11: =SUM(E9:E10) -> 0
A14: Informatikai eszközök beszerzése, létesítése | B14: K63 | C14: =SUM(C12:C13) -> 0 | D14: =SUM(D12:D13) -> 0 | E14: =SUM(E12:E13) -> 0
A17: Egyéb tárgyi eszközök beszerzése, létesítése | B17: K64 | C17: =SUM(C15:C16) -> 0 | D17: =SUM(D15:D16) -> 0 | E17: =SUM(E15:E16) -> 0
A20: Részesedések beszerzése | B20: K65 | C20: =SUM(C18:C19) -> 0 | D20: =SUM(D18:D19) -> 0 | E20: =SUM(E18:E19) -> 0
A23: Meglévő részesedések növeléséhez kapcsolódó kiadások | B23: K66 | C23: =SUM(C21:C22) -> 0 | D23: =SUM(D21:D22) -> 0 | E23: =SUM(E21:E22) -> 0
A24: Beruházási célú előzetesen felszámított általános forgalmi adó | B24: K67
A25: Beruházások | B25: K6 | C25: =SUM(C23,C20,C17,C14,C11,C8,C24) -> 0 | D25: =SUM(D23,D20,D17,D14,D11,D8,D24) -> 0 | E25: =SUM(E23,E20,E17,E14,E11,E8,E24) -> 0
A28: Ingatlanok felújítása | B28: K71 | C28: =SUM(C26:C27) -> 0 | D28: =SUM(D26:D27) -> 0 | E28: =SUM(E26:E27) -> 0
A31: Informatikai eszközök felújítása | B31: K72 | C31: =SUM(C29:C30) -> 0 | D31: =SUM(D29:D30) -> 0 | E31: =SUM(E29:E30) -> 0
A34: Egyéb tárgyi eszközök felújítása | B34: K73 | C34: =SUM(C32:C33) -> 0 | D34: =SUM(D32:D33) -> 0 | E34: =SUM(E32:E33) -> 0
A35: Felújítási célú előzetesen felszámított általános forgalmi adó | B35: K74
A36: Felújítások | B36: K7 | C36: =SUM(C34,C31,C28,C35) -> 0 | D36: =SUM(D34,D31,D28,D35) -> 0 | E36: =SUM(E34,E31,E28,E35) -> 0
A37: Az önkormányzati garanciákból és önkormányzati kezességekből fennálló kötelezettségek az adósságot keletkeztető ügyletek futamidejének végéig, illetve a garancia, kezesség érvényesíthetőségéig
A38: ebből:
A39: ebből:
A40: ebből:
A43: Adósságot keletkeztető ügylet és annak értéke:
A45: a) hitel, kölcsön felvétele, átvállalása a folyósítás, átvállalás napjától a végtörlesztés napjáig, és annak aktuális tőketartozása,
A46: b) a számvitelről szóló törvény (a továbbiakban: Szt.) szerinti hitelviszonyt megtestesítő értékpapír forgalomba hozatala a forgalomba hozatal napjától a beváltás napjáig, kamatozó értékpapír esetén annak névértéke, egyéb értékpapír esetén annak vételára,
A47: c) váltó kibocsátása a kibocsátás napjától a beváltás napjáig, és annak a váltóval kiváltott kötelezettséggel megegyező, kamatot nem tartalmazó értéke,
A48: d) az Szt. szerint pénzügyi lízing lízingbevevői félként történő megkötése a lízing futamideje alatt, és a lízingszerződésben kikötött tőkerész hátralévő összege,
A49: e) a visszavásárlási kötelezettség kikötésével megkötött adásvételi szerződés eladói félként történő megkötése - ideértve az Szt. szerinti valódi penziós és óvadéki repóügyleteket is - a visszavásárlásig, és a kikötött visszavásárlási ár,
A50: f) a szerződésben kapott, legalább háromszázhatvanöt nap időtartamú halasztott fizetés, részletfizetés, és a még ki nem fizetett ellenérték,
A51: g) hitelintézetek által, származékos műveletek különbözeteként az Államadósság Kezelő Központ Zrt.-nél (a továbbiakban: ÁKK Zrt.) elhelyezett fedezeti betétek, és azok összege.
A52: (2) Az (1) bekezdés szerinti adósságot keletkeztető ügyletként nem kell figyelembe venni a költségvetési év első hat hónapjában lejáró adósság előző költségvetési évben történő előfinanszírozását, amelynek összege nem haladja meg a költségvetési év első hat hónapja során várható törlesztések összegét.

Sheet STABILITÁSI 2
A1: BALATONEDERICS KÖZSÉG ÖNKORMÁNYZAT 2020. ÉVI KÖLTSÉGVETÉS
A2: A Gst. 3. § (1) bekezdése szerinti adósságot keletkeztető ügyletekből és kezességvállalásokból fennálló kötelezettségek az adósságot keletkeztető ügyletek futamidejének végéig, illetve a kezesség érvényesíthetőségéig, és a Gst. 45. § (1) bekezdés a) pontja felhatalmazása alapján kiadott jogszabályban meghatározottak szerinti saját bevételek (Ft)
A3: Balatonederics Község Önkormányzat 2020. évre adósságot keletkeztető ügyletet nem tervez
A4: ÖNKORMÁNYZATI ELŐIRÁNYZATOK
A5: Rovat megnevezése | B5: Rovat-szám | C5: adósságot keletkeztető ügylet kezdő időpontja | D5: adósságot keletkeztető ügylet lejárati időpontja | E5: adósságot keletkeztető ügyletekből és kezességvállalásokból fennálló kötelezettségek
A6: Hosszú lejáratú hitelek, kölcsönök felvétele | B6: B8111
A7: ebből: pénzügyi vállalkozás | B7: B8111
A8: Likviditási célú hitelek, kölcsönök felvétele pénzügyi vállalkozástól | B8: B8112
A9: Rövid lejáratú hitelek, kölcsönök felvétele | B9: B8113
A10: ebből: pénzügyi vállalkozás | B10: B8113
A11: Hitel-, kölcsönfelvétel államháztartáson kívülről | B11: B811
A12: Forgatási célú belföldi értékpapírok beváltása, értékesítése | B12: B8121
A13: ebből: befektetési jegyek | B13: B8121
A14: Forgatási célú belföldi értékpapírok kibocsátása | B14: B8122
A15: Befektetési célú belföldi értékpapírok beváltása, értékesítése | B15: B8123
A16: ebből: kárpótlási jegyek | B16: B8123
A17: Befektetési célú belföldi értékpapírok kibocsátása | B17: B8124
... A26: Külföldi finanszírozás bevételei | B26: B82
A28: Rovat megnevezése | B28: Rovat-szám | C28: saját bevételek 2020. | D28: saját bevételek 2021. | E28: saját bevételek 2022. | F28: saját bevételek 2023. | G28: saját bevételek 2024.
A29: 353/2011. (XII. 30.) Korm. Rendelet értelmében az önkormányzat saját bevételének minősül
A30: 1.a helyi adóból és a települési adóból származó bevétel,
A31: 2. az önkormányzati vagyon és az önkormányzatot megillető vagyoni értékű jog értékesítéséből és hasznosításából származó bevétel,
A32: 3. az osztalék, a koncessziós díj és a hozambevétel,
A33: 4. a tárgyi eszköz és az immateriális jószág, részvény, részesedés, vállalat értékesítéséből vagy privatizációból származó bevétel,
A34: 5. bírság-, pótlék- és díjbevétel,
A35: 6. a kezesség-, illetve garanciavállalással kapcsolatos megtérülés.
A36: ÖSSZESEN:
A39: Az önkormányzat adósságot keletkeztető ügyletből származó tárgyévi összes fizetési kötelezettsége az adósságot keletkeztető ügylet futamidejének végéig egyik évben sem haladhatja meg az önkormányzat adott évi saját bevételeinek 50%-át.

Sheet HITEL
A1: BALATONEDERICS KÖZSÉG ÖNKORMÁNYZAT 2020. ÉVI KÖLTSÉGVETÉS
A2: A költségvetési hiány külső finanszírozására vagy a költségvetési többlet felhasználására szolgáló finanszírozási bevételek és kiadások működési és felhalmozási cél szerinti tagolásban (Ft)
A3: Balatonederics Község Önkormányzat 2020. évben hitel felvételt nem tervez.
A4: ÖNKORMÁNYZATI ELŐIRÁNYZATOK
A5: Megnevezés | B5: Rovat-szám | C5: eredeti ei. Működési célú | D5: eredeti ei. Felhalmozási célú
A6: Hosszú lejáratú hitelek, kölcsönök törlesztése | B6: K9111
A7: ebből: pénzügyi vállalkozás | B7: K9111
A8: ebből: fedezeti ügyletek nettó kiadásai | B8: K9111
A9: Likviditási célú hitelek, kölcsönök törlesztése pénzügyi vállalkozásnak | B9: K9112
A10: Rövid lejáratú hitelek, kölcsönök törlesztése | B10: K9113
A11: ebből: pénzügyi vállalkozás | B11: K9113
A12: ebből: fedezeti ügyletek nettó kiadásai | B12: K9113
A13: Hitel-, kölcsöntörlesztés államháztartáson kívülre | B13: K911
A14: Forgatási célú belföldi értékpapírok vásárlása | B14: K9121
A15: ebből: befektetési jegyek | B15: K9121
A16: ebből: kárpótlási jegyek | B16: K9121
A17: Forgatási célú belföldi értékpapírok beváltása | B17: K9122
... A39: Külföldi finanszírozás kiadásai | B39: K92
A42: Megnevezés | B42: Rovat-szám | C42: eredeti ei. Működési célú | D42: eredeti ei. Felhalmozási célú
A43: Hosszú lejáratú hitelek, kölcsönök felvétele | B43: B8111
A44: ebből: pénzügyi vállalkozás | B44: B8111
A45: Likviditási célú hitelek, kölcsönök felvétele pénzügyi vállalkozástól | B45: B8112
A46: Rövid lejáratú hitelek, kölcsönök felvétele | B46: B8113
A47: ebből: pénzügyi vállalkozás | B47: B8113
A48: Hitel-, kölcsönfelvétel államháztartáson kívülről | B48: B811
A49: Forgatási célú belföldi értékpapírok beváltása, értékesítése | B49: B8121
A50: ebből: befektetési jegyek | B50: B8121
A51: Forgatási célú belföldi értékpapírok kibocsátása | B51: B8122
A52: Befektetési célú belföldi értékpapírok beváltása, értékesítése | B52: B8123
A53: ebből: kárpótlási jegyek | B53: B8123
A54: Befektetési célú belföldi értékpapírok kibocsátása | B54: B8124
... A69: Külföldi finanszírozás bevételei | B69: B82

Sheet EU PROJEKT
A1: 14. melléklet Balatonederics Község Önkormányzat 2020.évi költségvetésének módosításáról szóló 20/2020.(XII.10.) önkormányzati rendelethez.
A2: 17.melléklet Balatonederics Község Önkormányzat 2020.évi költségvetéséről szóló 4/2020.(III.12.) önkormányzati rendelethez.
A3: BALATONEDERICS KÖZSÉG ÖNKORMÁNYZAT 2020. ÉVI KÖLTSÉGVETÉS
A4: Az európai uniós forrásból finanszírozott támogatással megvalósuló programok, projektek kiadásai, bevételei, valamint a helyi önkormányzat ilyen projektekhez történő hozzájárulásai (Ft)
A6: ÖNKORMÁNYZATI ELŐIRÁNYZATOK | B6: Módosított ei.
A7: TOP-2.1-3-16-VE1-2017-00015 Környezetvédelmi infrastruktúra fejlesztés | B7: 2020 előtti | C7: 2020 | D7: Összesen
A8: K1. Személyi juttatások | B8: 1037400 | D8: =SUM(B8:C8) -> 1037400
A9: K2. Munkaadókat terhelő járulékok és szociális hozzájárulási adó | B9: 522600 | D9: =SUM(B9:C9) -> 522600
A10: K3. Dologi kiadások | B10: 381000 | C10: 1375664 | D10: =SUM(B10:C10) -> 1756664
A11: K4. Ellátottak pénzbeli juttatásai
A12: K5. Egyéb működési célú kiadások
A13: K6. Beruházási kiadások
A14: K7. Felújítások | B14: 3692500 | C14: 69908576 | D14: =SUM(B14:C14) -> 73601076
A15: K8. Egyéb felhalmozási célú kiadások
A16: K1-K8. Költségvetési kiadások ÖSSZESEN | B16: =SUM(B8:B15) -> 5633500 | C16: =SUM(C8:C15) -> 71284240 | D16: =SUM(B16:C16) -> 76917740
A17: B16 Működési célú támogatások fejezeti kezelésű előirányzatok EU-s programokra és azok hazai társfinanszírozásától
A18: B25 Felhalmozási célú támogatásokfejezeti kezelésű előirányzatok EU-s programokra és azok hazai társfinanszírozásától | B18: 75161076 | D18: =SUM(B18:C18) -> 75161076
A19: B63 Működési célú átvett pénzeszközök Európai Uniótól
A20: B73 Felhalmozási célú átvett pénzeszközök Európai Uniótól
A21: B1-7 A helyi önkormányzat projekthez történő hozzájárulása | B21: 381000 | C21: 1375664 | D21: =SUM(B21:C21) -> 1756664
A22: B1-B7 Költségvetési bevételek | B22: =SUM(B17:B21) -> 75542076 | C22: =SUM(C21) -> 1375664 | D22: =SUM(B22:C22) -> 76917740
A23: B8 Finanszírozási bevételek- önkormányzat projekthez történő hozzájárulása
A24: BEVÉTELEK ÖSSZESEN | B24: =SUM(B22:B23) -> 75542076 | C24: =SUM(C17:C23) -> 2751328 | D24: =SUM(D22) -> 76917740

Sheet INT FINANSZÍROZÁS
A1: 15. melléklet Balatonederics Község Önkormányzat 2020.évi költségvetésének módosításáról szóló 20/2020.(XII.10.) önkormányzati rendelethez.
A2: 18. melléklet Balatonederics Község Önkormányzat 2020.évi költségvetéséről szóló 4/2020.(III.12.) önkormányzati rendelethez.
A3: BALATONEDERICS KÖZSÉG ÖNKORMÁNYZAT 2020. ÉVI KÖLTSÉGVETÉS
A4: Irányító szervi támogatások folyósítása (Ft)
A6: ÖNKORMÁNYZATI ELŐIRÁNYZATOK
A7: Megnevezés | B7: Rovat-szám | C7: ÖNKORMÁNYZAT EREDETI EI. | D7: TÁRSULÁS EREDETI EI. | E7: ÓVODA EREDETI EI. | F7: MINDÖSSZESEN EREDETI EI. | G7: ÖNKORMÁNYZAT Módosított EI. | H7: TÁRSULÁS MódosítottEI. | I7: ÓVODA Módosított EI. | J7: MINDÖSSZESEN Módosított EI.
A8: Központi, irányító szervi támogatások folyósítása működési célra | B8: K915 | D8: 68026305 | E8: 0 | F8: =SUM(D8:E8) -> 68026305 | H8: 74719942 | J8: =SUM(G8:I8) -> 74719942
A9: Központi, irányító szervi támogatások folyósítása felhalmozási célra | B9: K915 | D9: 0 | E9: 0 | F9: =SUM(D9:E9) -> 0
A10: ÖSSZESEN: | D10: =SUM(D8:D9) -> 68026305 | E10: =SUM(E8:E9) -> 0 | F10: =SUM(F8:F9) -> 68026305 | H10: =SUM(H8:H9) -> 74719942 | J10: =SUM(J8:J9) -> 74719942

Sheet HELYI ADÓ
A1: 18. melléklet Balatonederics Község Önkormányzat 2020.évi költségvetésének módosításáról szóló 20/2020.(XII.10.) önkormányzati rendelethez.
A2: 23. melléklet Balatonederics Község Önkormányzat 2020.évi költségvetéséről szóló 4/2020.(III.12.) önkormányzati rendelethez.
A3: BALATONEDERICS KÖZSÉG ÖNKORMÁNYZAT 2020. ÉVI KÖLTSÉGVETÉS
A4: Helyi adók (Ft)
A7: Rovat megnevezése | B7: Rovat száma | C7: ÖNKORMÁNYZAT EREDETI EI. | D7: ÖNKORMÁNYZAT MÓDOSÍTOTT EI.
A8: Szociális hozzájárulási adó és járulékok | B8: B32
A9: Bérhez és foglalkoztatáshoz kapcsolódó adók | B9: B33
A10: építmény adó | B10: B34 | C10: 21565687 | D10: 21565687
A11: telekadó | B11: B34 | C11: 1344804 | D11: 1344804
A12: Vagyoni tipusú adók | B12: B34 | C12: =SUM(C10:C11) -> 22910491 | D12: =SUM(D10:D11) -> 22910491
A13: Értékesítési és forgalmi adók - Iparűzési adó | B13: B351 | C13: 13591064 | D13: 15385294
A14: Fogyasztási adók | B14: B352
A15: Pénzügyi monopóliumok nyereségét terhelő adók | B15: B353
A16: Gépjárműadók | B16: B354 | C16: 3229810
A17: Egyéb áruhasználati és szolgáltatási adók | B17: B355 | C17: 1794230 | D17: 143730
A18: Termékek és szolgáltatások adói | B18: B35 | C18: =SUM(C13:C17) -> 18615104 | D18: =SUM(D13:D17) -> 15529024
A19: Egyéb közhatalmi bevételek - pótlék, bírság, talajterhelési díj egyéb bevétel | B19: B36 | C19: 49870 | D19: 184799
A20: Közhatalmi bevételek | B20: B3 | C20: =SUM(C12+C18+C19) -> 41575465 | D20: =SUM(D12+D18+D19) -> 38624314

Sheet EI FELH ÜTEMTERV
B1: 16. melléklet Balatonederics Község Önkormányzat 2020.évi költségvetésének módosításáról szóló 20/2020.(XII.10.) önkormányzati rendelethez.
B2: 19. melléklet Balatonederics Község Önkormányzat 2020.évi költségvetéséről szóló 4/2020.(III.12.) önkormányzati rendelethez.
A3: BALATONEDERICS KÖZSÉG ÖNKORMÁNYZAT 2020. ÉVI KÖLTSÉGVETÉS
A4: Előirányzat felhasználási ütemterv (Ft)
A6: ÖNKORMÁNYZAT ÉS KÖLTSÉGVETÉSI SZERVEI ELŐIRÁNYZATA MINDÖSSZESEN
A7: Sor- szám | B7: Rovat megnevezése | C7: Rovat száma | D7: EREDETI EI. | E7: JANUÁR | F7: FEBRUÁR | G7: MÁRCIUS | H7: ÁPRILIS | I7: MÁJUS | J7: JÚNIUS | K7: JÚLIUS | L7: AUGUSZTUS | M7: SZEPTEMBER | N7: OKTÓBER | O7: NOVEMBER | P7: DECEMBER | Q7: MÓDOSÍTOTT MINDÖSSZESEN
A8: 1 | B8: Törvény szerinti illetmények, munkabérek | C8: K1101 | D8: 66543499 | E8: 5926501 | F8: 5926501 | G8: 5926501 | H8: 5926501 | I8: 5926501 | J8: 5926501 | K8: 5926501 | L8: 5926501 | M8: 5926501 | N8: 5926501 | O8: 5926501 | P8: 5926501 | Q8: 71118012
A9: 2 | B9: Normatív jutalmak | C9: K1102 | D9: =SUM(KIADÁSOK!G8) -> 1689975 | E9: =SUM($D$9/12) -> 140831.25 | F9: =SUM($D$9/12) -> 140831.25 | G9: =SUM($D$9/12) -> 140831.25 | H9: =SUM($D$9/12) -> 140831.25 | I9: =SUM($D$9/12) -> 140831.25 | J9: =SUM($D$9/12) -> 140831.25 | K9: =SUM($D$9/12) -> 140831.25 | L9: =SUM($D$9/12) -> 140831.25 | ... P9: =SUM($D$9/12) -> 140831.25 | Q9: =SUM(E9:P9) -> 1689975
A10: 3 | B10: Céljuttatás, projektprémium | C10: K1103 | D10: =SUM(KIADÁSOK!G9) -> 1800000 | E10: =SUM(Q10/12) -> 108333.33 | F10: 108333 | G10: 108333 | H10: 108333 | I10: 108333 | J10: 108333 | K10: 108333 | L10: 108333 | M10: 108333 | N10: 108333 | O10: 108333 | P10: 108333 | Q10: 1300000
A11: 4 | B11: Végkielégítés | C11: K1105 | D11: 0 | E11: 0 | F11: 0 | G11: 0 | H11: 421200 | I11: 0 | J11: 0 | K11: 0 | L11: 0 | M11: 0 | N11: 0 | O11: 0 | P11: 0 | Q11: 421200
A12: 5 | B12: Jubileumi jutalom | C12: K1106 | D12: 0 | E12: =SUM($D$12/12) -> 0 | F12: 0 | G12: 0 | H12: 0 | I12: 0 | J12: 0 | K12: 0 | L12: 1300000 | M12: 0 | N12: 0 | O12: 0 | P12: 0 | Q12: 1300000
A13: 6 | B13: Béren kívüli juttatások | C13: K1107 | D13: =SUM(KIADÁSOK!G12) -> 2382944 | E13: 193245 | F13: 193245 | G13: 193245 | H13: 193245 | I13: 193245 | J13: 193245 | K13: 193245 | L13: 193245 | M13: 193245 | N13: 193245 | O13: 193245 | P13: 193249 | Q13: 2318944
A14: 7 | B14: Közlekedési költségtérítés | C14: K1109 | D14: =SUM(KIADÁSOK!G13) -> 528000 | E14: 48166 | F14: 48166 | G14: 48166 | H14: 48166 | I14: 48166 | J14: 48166 | K14: 48166 | L14: 48166 | M14: 48166 | N14: 48166 | O14: 48166 | P14: 48174 | Q14: 578000
A15: 8 | B15: Foglalkoztatottak egyéb személyi juttatásai | C15: K1113 | D15: =SUM(KIADÁSOK!G14) -> 319713 | E15: 180730 | F15: 180730 | G15: 180730 | H15: 180730 | I15: 180730 | J15: 180730 | K15: 180730 | L15: 180730 | M15: 180730 | N15: 180730 | O15: 180730 | P15: 180731 | Q15: 2168761
A16: 9 | B16: Foglalkoztatottak személyi juttatásai (=01+…+13) | C16: K11 | D16: =SUM(KIADÁSOK!G15) -> 73264131 | E16: =SUM($D$16/12) -> 6105344.2 | F16: 0 | G16: 0 | H16: 0 | I16: 0 | J16: 0 | K16: 0 | L16: 0 | M16: 0 | N16: 0 | O16: 0 | P16: 0 | Q16: =SUM(Q8:Q15) -> 80894892
A17: 10 | B17: Választott tisztségviselők juttatásai | C17: K121 | D17: =SUM(KIADÁSOK!G16) -> 8305848 | E17: =SUM($D$17/12) -> 692154 | F17: =SUM($D$17/12) -> 692154 | G17: =SUM($D$17/12) -> 692154 | H17: =SUM($D$17/12) -> 692154 | I17: =SUM($D$17/12) -> 692154 | J17: =SUM($D$17/12) -> 692154 | K17: =SUM($D$17/12) -> 692154 | L17: =SUM($D$17/12) -> 692154 | ... P17: =SUM($D$17/12) -> 692154 | Q17: =SUM(E17:P17) -> 8305848
A18: 11 | B18: Munkavégzésre irányuló egyéb jogviszonyban nem saját foglalkoztatottnak fizetett juttatások | C18: K122 | D18: =SUM(KIADÁSOK!G17) -> 320000 | E18: =SUM($D$18/12) -> 26666.667 | F18: =SUM($D$18/12) -> 26666.667 | G18: =SUM($D$18/12) -> 26666.667 | H18: =SUM($D$18/12) -> 26666.667 | I18: =SUM($D$18/12) -> 26666.667 | J18: =SUM($D$18/12) -> 26666.667 | K18: =SUM($D$18/12) -> 26666.667 | L18: =SUM($D$18/12) -> 26666.667 | ... P18: =SUM($D$18/12) -> 26666.667 | Q18: 920000
A19: 12 | B19: Egyéb külső személyi juttatások | C19: K123 | D19: =SUM(KIADÁSOK!G18) -> 0 | E19: =SUM($D$19/12) -> 0 | F19: =SUM($D$19/12) -> 0 | G19: =SUM($D$19/12) -> 0 | H19: =SUM($D$19/12) -> 0 | I19: =SUM($D$19/12) -> 0 | J19: =SUM($D$19/12) -> 0 | K19: =SUM($D$19/12) -> 0 | L19: =SUM($D$19/12) -> 0 | ... P19: =SUM($D$19/12) -> 0 | Q19: =SUM(E19:P19) -> 0
A20: 13 | B20: Külső személyi juttatások (=15+16+17) | C20: K12 | D20: =SUM(KIADÁSOK!G19) -> 8625848 | E20: =SUM($D$20/12) -> 718820.67 | F20: =SUM($D$20/12) -> 718820.67 | G20: =SUM($D$20/12) -> 718820.67 | H20: =SUM($D$20/12) -> 718820.67 | I20: =SUM($D$20/12) -> 718820.67 | J20: =SUM($D$20/12) -> 718820.67 | K20: =SUM($D$20/12) -> 718820.67 | L20: =SUM($D$20/12) -> 718820.67 | ... P20: =SUM($D$20/12) -> 718820.67 | Q20: 9225848
A21: 14 | B21: Személyi juttatások (=14+18) | C21: K1 | D21: =SUM(D16+D20) -> 81889979 | E21: =SUM(E8:E20) -> 14140792 | F21: =SUM(F8:F20) -> 8035447.6 | G21: =SUM(G8:G20) -> 8035447.6 | H21: =SUM(H8:H20) -> 8456647.6 | I21: =SUM(I8:I20) -> 8035447.6 | J21: =SUM(J8:J20) -> 8035447.6 | K21: =SUM(K8:K20) -> 8035447.6 | L21: =SUM(L8:L20) -> 9335447.6 | ... P21: =SUM(P8:P20) -> 8035460.6 | Q21: =SUM(Q16+Q20) -> 90120740
A22: 15 | B22: Munkaadókat terhelő járulékok és szociális hozzájárulási adó | C22: K2 | D22: =SUM(KIADÁSOK!G21) -> 16253342 | E22: =SUM($D$22/12) -> 1354445.2 | F22: =SUM($D$22/12) -> 1354445.2 | G22: =SUM($D$22/12) -> 1354445.2 | H22: =SUM($D$22/12) -> 1354445.2 | I22: =SUM($D$22/12) -> 1354445.2 | J22: =SUM($D$22/12) -> 1354445.2 | K22: =SUM($D$22/12) -> 1354445.2 | L22: =SUM($D$22/12) -> 1354445.2 | ... P22: =SUM($D$22/12) -> 1354445.2 | Q22: 16585206
A23: 16 | B23: Szakmai anyagok beszerzése | C23: K311 | D23: =SUM(KIADÁSOK!G22) -> 292000 | E23: 28945 | F23: 28945 | G23: 28945 | H23: 28945 | I23: 28945 | J23: 28945 | K23: 28945 | L23: 28945 | M23: 28945 | N23: 28945 | O23: 28945 | P23: 28952 | Q23: 347347
A24: 17 | B24: Üzemeltetési anyagok beszerzése | C24: K312 | D24: 26234823 | E24: 2590322 | F24: 2590322 | G24: 2590322 | H24: 2590322 | I24: 2590322 | J24: 2590322 | K24: 2590322 | L24: 2590322 | M24: 2590322 | N24: 2590322 | O24: 2590322 | P24: 2590331 | Q24: 31083873
A25: 18 | B25: Árubeszerzés | C25: K313 | D25: =SUM(KIADÁSOK!G24) -> 0 | E25: =SUM(D25/12) -> 0 | F25: 0 | G25: 0 | H25: 0 | I25: 0 | J25: 0 | K25: 0 | L25: 0 | M25: 0 | N25: 0 | O25: 0 | P25: 0 | Q25: =SUM(E25:P25) -> 0
A26: 19 | B26: Készletbeszerzés (=21+22+23) | C26: K31 | D26: =SUM(D23:D25) -> 26526823 | E26: =SUM(E23:E25) -> 2619267 | F26: =SUM(F23:F25) -> 2619267 | G26: =SUM(G23:G25) -> 2619267 | H26: =SUM(H23:H25) -> 2619267 | I26: =SUM(I23:I25) -> 2619267 | J26: =SUM(J23:J25) -> 2619267 | K26: =SUM(K23:K25) -> 2619267 | ... Q26: =SUM(Q23:Q25) -> 31431220
A27: 20 | B27: Informatikai szolgáltatások igénybevétele | C27: K321 | D27: =SUM(KIADÁSOK!G26) -> 0 | E27: 3810 | F27: =SUM($D$27/12) -> 0 | G27: =SUM($D$27/12) -> 0 | H27: =SUM($D$27/12) -> 0 | I27: =SUM($D$27/12) -> 0 | J27: =SUM($D$27/12) -> 0 | K27: =SUM($D$27/12) -> 0 | L27: =SUM($D$27/12) -> 0 | M27: =SUM($D$27/12) -> 0 | ... P27: =SUM($D$27/12) -> 0 | Q27: 3810
A28: 21 | B28: Egyéb kommunikációs szolgáltatások | C28: K322 | D28: 1011115 | E28: 71342 | F28: 71342 | G28: 71342 | H28: 71342 | I28: 71342 | J28: 71342 | K28: 71342 | L28: 71342 | M28: 71342 | N28: 71342 | O28: 71342 | P28: 71353 | Q28: 856115
A29: 22 | B29: Kommunikációs szolgáltatások (=25+26) | C29: K32 | D29: =SUM(D27:D28) -> 1011115 | E29: =SUM(E27:E28) -> 75152 | F29: =SUM(F27:F28) -> 71342 | G29: =SUM(G27:G28) -> 71342 | H29: =SUM(H27:H28) -> 71342 | I29: =SUM(I27:I28) -> 71342 | J29: =SUM(J27:J28) -> 71342 | K29: =SUM(K27:K28) -> 71342 | ... Q29: =SUM(Q27:Q28) -> 859925
A30: 23 | B30: Közüzemi díjak | C30: K331 | D30: =SUM(KIADÁSOK!G29) -> 13563731 | E30: 1087195 | F30: 1087195 | G30: 1087195 | H30: 1087195 | I30: 1087195 | J30: 1087195 | K30: 1087195 | L30: 1087195 | M30: 1087195 | N30: 1087195 | O30: 1087195 | P30: 1087204 | Q30: 13046349
A31: 24 | B31: Vásárolt élelmezés | C31: K332 | D31: =SUM(KIADÁSOK!G30) -> 0 | E31: =SUM(D31/12) -> 0 | F31: 0 | G31: 0 | H31: 0 | I31: 0 | J31: 0 | K31: 0 | L31: 0 | M31: 0 | N31: 0 | O31: 0 | P31: 0 | Q31: =SUM(E31:P31) -> 0
A32: 25 | B32: Bérleti és lízing díjak | C32: K333 | D32: =SUM(KIADÁSOK!G31) -> 0 | E32: =SUM(D32/12) -> 0 | F32: 0 | G32: 0 | H32: 0 | I32: 0 | J32: 0 | K32: 0 | L32: 0 | M32: 0 | N32: 0 | O32: 0 | P32: 0 | Q32: =SUM(E32:P32) -> 0
A33: 26 | B33: Karbantartási, kisjavítási szolgáltatások | C33: K334 | D33: =SUM(KIADÁSOK!G32) -> 7674000 | E33: 238327 | F33: 238327 | G33: 238327 | H33: 238327 | I33: 238327 | J33: 238327 | K33: 238327 | L33: 238327 | M33: 238327 | N33: 238327 | O33: 238327 | P33: 238335 | Q33: 2859932
A34: 27 | B34: Közvetített szolgáltatások | C34: K335 | D34: =SUM(KIADÁSOK!G33) -> 11000 | E34: 238462 | F34: 238462 | G34: 238462 | H34: 238462 | I34: 238462 | J34: 238462 | K34: 238462 | L34: 238462 | M34: 238462 | N34: 238462 | O34: 238462 | P34: 238469 | Q34: 2861551
A35: 28 | B35: Szakmai tevékenységet segítő szolgáltatások | C35: K336 | D35: =SUM(KIADÁSOK!G34) -> 3380094 | E35: 535802 | F35: 535802 | G35: 535802 | H35: 535802 | I35: 535802 | J35: 535802 | K35: 535802 | L35: 535802 | M35: 535802 | N35: 535802 | O35: 535802 | P35: 535803 | Q35: 6429625
A36: 29 | B36: Egyéb szolgáltatások | C36: K337 | D36: =SUM(KIADÁSOK!G35) -> 21382000 | E36: 1651926 | F36: 1651926 | G36: 1651926 | H36: 1651926 | I36: 1651926 | J36: 1651926 | K36: 1651926 | L36: 1651926 | M36: 1651926 | N36: 1651926 | O36: 1651926 | P36: 1651929 | Q36: 19823115
A37: 30 | B37: Szolgáltatási kiadások (=28+…+34) | C37: K33 | D37: =SUM(D30:D36) -> 46010825 | E37: =SUM(E30:E36) -> 3751712 | F37: =SUM(F30:F36) -> 3751712 | G37: =SUM(G30:G36) -> 3751712 | H37: =SUM(H30:H36) -> 3751712 | I37: =SUM(I30:I36) -> 3751712 | J37: =SUM(J30:J36) -> 3751712 | K37: =SUM(K30:K36) -> 3751712 | ... Q37: =SUM(Q30:Q36) -> 45020572
A38: 31 | B38: Kiküldetések kiadásai | C38: K341 | D38: =SUM(KIADÁSOK!G37) -> 3490 | E38: 290 | F38: 290 | G38: 290 | H38: 290 | I38: 290 | J38: 290 | K38: 290 | L38: 290 | M38: 290 | N38: 290 | O38: 290 | P38: 291 | Q38: =SUM(E38:P38) -> 3481
A39: 32 | B39: Reklám- és propagandakiadások | C39: K342 | D39: =SUM(KIADÁSOK!G38) -> 1500000 | E39: 22833 | F39: 22833 | G39: 22833 | H39: 22833 | I39: 22833 | J39: 22833 | K39: 22833 | L39: 22833 | M39: 22833 | N39: 22833 | O39: 22833 | P39: 22837 | Q39: 274000
A40: 33 | B40: Kiküldetések, reklám- és propagandakiadások (=36+37) | C40: K34 | D40: =SUM(D38:D39) -> 1503490 | E40: =SUM(E38:E39) -> 23123 | F40: =SUM(F38:F39) -> 23123 | G40: =SUM(G38:G39) -> 23123 | H40: =SUM(H38:H39) -> 23123 | I40: =SUM(I38:I39) -> 23123 | J40: =SUM(J38:J39) -> 23123 | K40: =SUM(K38:K39) -> 23123 | ... Q40: =SUM(Q38:Q39) -> 277481
A41: 34 | B41: Működési célú előzetesen felszámított általános forgalmi adó | C41: K351 | D41: =SUM(KIADÁSOK!G40) -> 17436630 | E41: 950666 | F41: 950666 | G41: 950666 | H41: 950666 | I41: 950666 | J41: 950666 | K41: 950666 | L41: 950666 | M41: 950666 | N41: 950666 | O41: 950666 | P41: 950674 | Q41: 11408000
A42: 35 | B42: Fizetendő általános forgalmi adó | C42: K352 | D42: =SUM(KIADÁSOK!G41) -> 7385000 | E42: 0 | F42: 0 | G42: 0 | H42: 2231000 | I42: 0 | J42: 0 | K42: 0 | L42: 4299000 | M42: 0 | N42: 0 | O42: 0 | P42: 11836024 | Q42: 18366024
A43: 36 | B43: Kamatkiadások | C43: K353 | D43: =SUM(KIADÁSOK!G42) -> 0 | E43: =SUM($D$43/12) -> 0 | F43: 21263 | G43: =SUM($D$43/12) -> 0 | H43: =SUM($D$43/12) -> 0 | I43: =SUM($D$43/12) -> 0 | J43: =SUM($D$43/12) -> 0 | K43: =SUM($D$43/12) -> 0 | L43: =SUM($D$43/12) -> 0 | M43: =SUM($D$43/12) -> 0 | N43: =SUM($D$43/12) -> 0 | ... P43: =SUM($D$43/12) -> 0 | Q43: 21263
A44: 37 | B44: Egyéb pénzügyi műveletek kiadásai | C44: K354 | D44: =SUM(KIADÁSOK!G43) -> 0 | E44: =SUM($D$44/12) -> 0 | F44: =SUM($D$44/12) -> 0 | G44: =SUM($D$44/12) -> 0 | H44: =SUM($D$44/12) -> 0 | I44: =SUM($D$44/12) -> 0 | J44: =SUM($D$44/12) -> 0 | K44: =SUM($D$44/12) -> 0 | L44: =SUM($D$44/12) -> 0 | ... P44: =SUM($D$44/12) -> 0 | Q44: =SUM(E44:P44) -> 0
A45: 38 | B45: Egyéb dologi kiadások | C45: K355 | D45: =SUM(KIADÁSOK!G44) -> 0 | E45: 3365 | F45: 3365 | G45: 3365 | H45: 3365 | I45: 3365 | J45: 3365 | K45: 3365 | L45: 3365 | M45: 3365 | N45: 3365 | O45: 3365 | P45: 3368 | Q45: 40383
A46: 39 | B46: Különféle befizetések és egyéb dologi kiadások (=39+…+43) | C46: K35 | D46: =SUM(D41:D45) -> 24821630 | E46: =SUM(E41:E45) -> 954031 | F46: =SUM(F41:F45) -> 975294 | G46: =SUM(G41:G45) -> 954031 | H46: =SUM(H41:H45) -> 3185031 | I46: =SUM(I41:I45) -> 954031 | J46: =SUM(J41:J45) -> 954031 | K46: =SUM(K41:K45) -> 954031 | ... Q46: =SUM(Q41:Q45) -> 29835670
A47: 40 | B47: Dologi kiadások (=24+27+35+38+44) | C47: K3 | D47: =SUM(D46,D40,D37,D29,D26) -> 99873883 | E47: =SUM(E46,E40,E37,E29,E26) -> 7423285 | F47: =SUM(F46,F40,F37,F29,F26) -> 7440738 | G47: =SUM(G46,G40,G37,G29,G26) -> 7419475 | H47: =SUM(H46,H40,H37,H29,H26) -> 9650475 | I47: =SUM(I46,I40,I37,I29,I26) -> 7419475 | J47: =SUM(J46,J40,J37,J29,J26) -> 7419475 | K47: =SUM(K46,K40,K37,K29,K26) -> 7419475 | ... Q47: =SUM(Q46,Q40,Q37,Q29,Q26) -> 107424868
A48: 41 | B48: Egyéb nem intézményi ellátások | C48: K48 | D48: =SUM(KIADÁSOK!G47) -> 6077904 | E48: 328874 | F48: 328874 | G48: 328874 | H48: 328874 | I48: 328874 | J48: 328874 | K48: 328874 | L48: 328874 | M48: 328874 | N48: 328874 | O48: 328874 | P48: 328885 | Q48: 3946499
A49: 42 | B49: Ellátottak pénzbeli juttatásai (=46+...+53) | C49: K4 | D49: =SUM(D48:D48) -> 6077904 | E49: =SUM(E48:E48) -> 328874 | F49: =SUM(F48:F48) -> 328874 | G49: =SUM(G48:G48) -> 328874 | H49: =SUM(H48:H48) -> 328874 | I49: =SUM(I48:I48) -> 328874 | J49: =SUM(J48:J48) -> 328874 | K49: =SUM(K48:K48) -> 328874 | ... Q49: =SUM(Q48:Q48) -> 3946499
A50: 43 | B50: A helyi önkormányzatok előző évi elszámolásából származó kiadások | C50: K5021 | D50: =SUM(KIADÁSOK!G49) -> 0 | E50: =SUM(D50/12) -> 0 | F50: 1549116 | G50: 0 | H50: 0 | I50: 0 | J50: 0 | K50: 0 | L50: 0 | M50: 0 | N50: 0 | O50: 0 | P50: 0 | Q50: 1549116
A51: 44 | B51: Egyéb működési célú támogatások államháztartáson belülre | C51: K506 | D51: =SUM(KIADÁSOK!G50) -> 71942003 | E51: 0 | F51: 0 | G51: 18814626 | H51: 0 | I51: 0 | J51: 18814626 | K51: 0 | L51: 0 | M51: 18814626 | N51: 0 | O51: 0 | P51: 18814626 | Q51: 75258506
A52: 45 | B52: Egyéb működési célú támogatások államháztartáson kívülre | C52: K512 | D52: =SUM(KIADÁSOK!G51) -> 4170054 | E52: 0 | F52: 0 | G52: 1197500 | H52: 0 | I52: 0 | J52: 1197500 | K52: 0 | L52: 0 | M52: 1197500 | N52: 0 | O52: 0 | P52: 1197501 | Q52: 4790001
A53: 46 | B53: Tartalékok | C53: K513 | D53: =SUM(KIADÁSOK!G52) -> 20946204 | E53: 20094 | F53: 0 | G53: 0 | H53: 0 | I53: 0 | J53: 0 | K53: 0 | L53: 0 | M53: 0 | N53: 0 | O53: 0 | P53: 0 | Q53: 20094
A54: 47 | B54: Egyéb működési célú kiadások (=55+59+…+70) | C54: K5 | D54: =SUM(D50:D53) -> 97058261 | E54: =SUM(E50:E53) -> 20094 | F54: =SUM(F50:F53) -> 1549116 | G54: =SUM(G50:G53) -> 20012126 | H54: =SUM(H50:H53) -> 0 | I54: =SUM(I50:I53) -> 0 | J54: =SUM(J50:J53) -> 20012126 | K54: =SUM(K50:K53) -> 0 | ... Q54: =SUM(Q50:Q53) -> 81617717
A55: 48 | B55: Immateriális javak beszerzése, létesítése | C55: K61 | D55: =SUM(KIADÁSOK!G54) -> 0 | E55: 0 | F55: 0 | G55: 0 | H55: 0 | I55: 0 | J55: 0 | K55: 0 | L55: 0 | M55: 0 | N55: 0 | O55: 0 | P55: 0 | Q55: =SUM(E55:P55) -> 0
A56: 49 | B56: Ingatlanok beszerzése, létesítése | C56: K62 | D56: =SUM(KIADÁSOK!G55) -> 0 | E56: =SUM(D56/12) -> 0 | F56: 0 | G56: 5293500 | H56: 0 | I56: 0 | J56: 0 | K56: 0 | L56: 0 | M56: 0 | N56: 0 | O56: 0 | P56: 0 | Q56: 5293500
A57: 50 | B57: Informatikai eszközök beszerzése, létesítése | C57: K63 | D57: =SUM(KIADÁSOK!G56) -> 0 | E57: 0 | F57: 0 | G57: 0 | H57: 0 | I57: 0 | J57: 0 | K57: 0 | L57: 0 | M57: 0 | N57: 0 | O57: 0 | P57: 0 | Q57: =SUM(E57:P57) -> 0
A58: 51 | B58: Egyéb tárgyi eszközök beszerzése, létesítése | C58: K64 | D58: =SUM(KIADÁSOK!G57) -> 0 | E58: 1893536 | F58: 1893536 | G58: 1893536 | H58: 1893536 | I58: 1893536 | J58: 1893536 | K58: 1893536 | L58: 1893536 | M58: 1893536 | N58: 1893540 | O58: 29999994 | P58: 0 | Q58: 48935358
A59: 52 | B59: Részesedések beszerzése | C59: K65 | D59: =SUM(KIADÁSOK!G58) -> 0 | E59: =SUM(D59/12) -> 0 | F59: 0 | G59: 0 | H59: 0 | I59: 0 | J59: 0 | K59: 0 | L59: 0 | M59: 0 | N59: 0 | O59: 0 | P59: 0 | Q59: =SUM(E59:P59) -> 0
A60: 53 | B60: Meglévő részesedések növeléséhez kapcsolódó kiadások | C60: K66 | D60: =SUM(KIADÁSOK!G59) -> 0 | E60: =SUM(D60/12) -> 0 | F60: 0 | G60: 0 | H60: 0 | I60: 0 | J60: 0 | K60: 0 | L60: 0 | M60: 0 | N60: 0 | O60: 0 | P60: 0 | Q60: =SUM(E60:P60) -> 0
A61: 54 | B61: Beruházási célú előzetesen felszámított általános forgalmi adó | C61: K67 | D61: =SUM(KIADÁSOK!G60) -> 0 | E61: 573387 | F61: 573387 | G61: 573387 | H61: 573387 | I61: 573387 | J61: 573387 | K61: 573387 | L61: 573387 | M61: 573387 | N61: 573389 | O61: 0 | P61: 0 | Q61: 5733872
A62: 55 | B62: Beruházások (=72+…+78) | C62: K6 | D62: =SUM(D55:D61) -> 0 | E62: =SUM(E55:E61) -> 2466923 | F62: =SUM(F55:F61) -> 2466923 | G62: =SUM(G55:G61) -> 7760423 | H62: =SUM(H55:H61) -> 2466923 | I62: =SUM(I55:I61) -> 2466923 | J62: =SUM(J55:J61) -> 2466923 | K62: =SUM(K55:K61) -> 2466923 | ... Q62: =SUM(Q55:Q61) -> 59962730
A63: 56 | B63: Ingatlanok felújítása | C63: K71 | D63: =SUM(KIADÁSOK!G62) -> 77578242 | E63: 0 | F63: 0 | G63: 4840993 | H63: 6000000 | I63: 28398401 | J63: 15737249 | K63: 15000000 | L63: 0 | M63: 0 | N63: 0 | O63: 0 | P63: 0 | Q63: 69976643
A64: 57 | B64: Informatikai eszközök felújítása | C64: K72 | D64: =SUM(KIADÁSOK!G63) -> 0 | E64: 0 | F64: 0 | G64: 0 | H64: 0 | I64: 0 | J64: 0 | K64: 0 | L64: 0 | M64: 0 | N64: 0 | O64: 0 | P64: 0 | Q64: =SUM(E64:P64) -> 0
A65: 58 | B65: Egyéb tárgyi eszközök felújítása | C65: K73 | D65: =SUM(KIADÁSOK!G64) -> 0 | E65: 1953707 | F65: 1953707 | G65: 1953707 | H65: 1953707 | I65: 1953707 | J65: 1953707 | K65: 1953707 | L65: 1953707 | M65: 1953707 | N65: 1953707 | O65: 1953707 | P65: 1953714 | Q65: 23444491
A66: 59 | B66: Felújítási célú előzetesen felszámított általános forgalmi adó | C66: K74 | D66: =SUM(KIADÁSOK!G65) -> 21533391 | E66: =PRODUCT(E63,0.27) -> 0 | F66: 1000000 | G66: 1000000 | H66: 1000000 | I66: 552814 | J66: 0 | K66: 0 | L66: =PRODUCT(L63,0.27) -> 0 | M66: =PRODUCT(M63,0.27) -> 0 | N66: =PRODUCT(N63,0.27) -> 0 | O66: =PRODUCT(O63,0.27) -> 0 | P66: =PRODUCT(P63,0.27) -> 0 | Q66: 3552814
A67: 60 | B67: Felújítások (=80+...+83) | C67: K7 | D67: =SUM(D63:D66) -> 99111633 | E67: =SUM(E63:E66) -> 1953707 | F67: =SUM(F63:F66) -> 2953707 | G67: =SUM(G63:G66) -> 7794700 | H67: =SUM(H63:H66) -> 8953707 | I67: =SUM(I63:I66) -> 30904922 | J67: =SUM(J63:J66) -> 17690956 | K67: =SUM(K63:K66) -> 16953707 | ... Q67: =SUM(Q63:Q66) -> 96973948
A68: 61 | B68: Egyéb felhalmozási célú kiadások (=85+…+93) | C68: K8 | D68: 0 | E68: 0 | F68: 0 | G68: 0 | H68: 0 | I68: 0 | J68: 0 | K68: 0 | L68: 0 | M68: 0 | N68: 0 | O68: 0 | P68: 0 | Q68: 0
A69: 62 | B69: Költségvetési kiadások (=19+20+45+54+71+79+84+94) | C69: K1-K8 | D69: =SUM(D68+D67+D62+D54+D49+D47+D22+D21) -> 400265002 | E69: =SUM(E68+E67+E62+E54+E49+E47+E22+E21) -> 27688120 | F69: =SUM(F68+F67+F62+F54+F49+F47+F22+F21) -> 24129251 | G69: =SUM(G68+G67+G62+G54+G49+G47+G22+G21) -> 52705491 | H69: =SUM(H68+H67+H62+H54+H49+H47+H22+H21) -> 31211072 | I69: =SUM(I68+I67+I62+I54+I49+I47+I22+I21) -> 50510087 | J69: =SUM(J68+J67+J62+J54+J49+J47+J22+J21) -> 57308247 | K69: =SUM(K68+K67+K62+K54+K49+K47+K22+K21) -> 36558872 | ... Q69: =SUM(Q68+Q67+Q62+Q54+Q49+Q47+Q22+Q21) -> 456631708
A70: 63 | B70: Államháztartáson belüli megelőlegezések visszafizetése | C70: K914 | D70: =SUM(KIADÁSOK!G68) -> 2629493 | E70: 254355 | F70: 254355 | G70: 254355 | H70: 254355 | I70: 254355 | J70: 254355 | K70: 254355 | L70: 254355 | M70: 254355 | N70: 254355 | O70: 254355 | P70: 254582 | Q70: 3052267
A71: 64 | B71: Központi, irányító szervi támogatások folyósítása | C71: K915 | D71: =SUM(KIADÁSOK!G69) -> 91964576 | E71: =SUM($D$71/12) -> 7663714.7 | F71: =SUM($D$71/12) -> 7663714.7 | G71: =SUM($D$71/12) -> 7663714.7 | H71: =SUM($D$71/12) -> 7663714.7 | I71: =SUM($D$71/12) -> 7663714.7 | J71: =SUM($D$71/12) -> 7663714.7 | K71: =SUM($D$71/12) -> 7663714.7 | L71: =SUM($D$71/12) -> 7663714.7 | ... P71: =SUM($D$71/12) -> 7663714.7 | Q71: 74719942
A72: 65 | B72: Központi költségvetés sajátos finanszírozási kiadásai | C72: K918 | D72: =SUM(KIADÁSOK!G70) -> 389583 | E72: 389583 | F72: 0 | G72: 0 | H72: 0 | I72: 0 | J72: 0 | K72: 0 | L72: 0 | M72: 0 | N72: 0 | O72: 0 | P72: 0 | Q72: 0
A73: 66 | B73: Belföldi finanszírozás kiadásai (=04+11+…+17+20) | C73: K91 | D73: =SUM(D70:D72) -> 94983652 | E73: =SUM(E70:E72) -> 8307652.7 | F73: =SUM(F70:F72) -> 7918069.7 | G73: =SUM(G70:G72) -> 7918069.7 | H73: =SUM(H70:H72) -> 7918069.7 | I73: =SUM(I70:I72) -> 7918069.7 | J73: =SUM(J70:J72) -> 7918069.7 | K73: =SUM(K70:K72) -> 7918069.7 | ... Q73: =SUM(Q70:Q72) -> 77772209
A74: 67 | B74: Finanszírozási kiadások (=21+27+28+29) | C74: K9 | D74: =SUM(D70+D72) -> 3019076 | E74: =SUM(E73) -> 8307652.7 | F74: =SUM(F73) -> 7918069.7 | G74: =SUM(G73) -> 7918069.7 | H74: =SUM(H73) -> 7918069.7 | I74: =SUM(I73) -> 7918069.7 | J74: =SUM(J73) -> 7918069.7 | K74: =SUM(K73) -> 7918069.7 | L74: =SUM(L73) -> 7918069.7 | ... Q74: =SUM(Q73) -> 77772209
A75: 68 | B75: KIADÁSOK MINDÖSSZESEN | D75: =SUM(D69+D74) -> 403284078 | E75: =SUM(E74+E69) -> 35995773 | F75: =SUM(F74+F69) -> 32047320 | G75: =SUM(G74+G69) -> 60623560 | H75: =SUM(H74+H69) -> 39129141 | I75: =SUM(I74+I69) -> 58428156 | J75: =SUM(J74+J69) -> 65226316 | K75: =SUM(K74+K69) -> 44476941 | L75: =SUM(L74+L69) -> 35075941 | ... Q75: =SUM(Q74+Q69) -> 534403917
A78: Sor- szám | B78: Rovat megnevezése | C78: Rovat száma | D78: EREDETI EI. | E78: JANUÁR | F78: FEBRUÁR | G78: MÁRCIUS | H78: ÁPRILIS | I78: MÁJUS | J78: JÚNIUS | K78: JÚLIUS | L78: AUGUSZTUS | M78: SZEPTEMBER | N78: OKTÓBER | O78: NOVEMBER | P78: DECEMBER | Q78: MINDÖSSZESEN
A79: 1 | B79: Helyi önkormányzatok működésének általános támogatása | C79: B111 | D79: =SUM(BEVÉTELEK!G6) -> 27806802 | E79: 2285391 | F79: 2285391 | G79: 2285391 | H79: 2285391 | I79: 2285391 | J79: 2285391 | K79: 2285391 | L79: 2285391 | M79: 2285391 | N79: 2285391 | O79: 2285391 | P79: 2285401 | Q79: 27424702
A80: 2 | B80: Települési önkormányzatok egyes köznevelési feladatainak támogatása | C80: B112 | D80: =SUM(BEVÉTELEK!G7) -> 29754540 | E80: 2596494 | F80: 2596494 | G80: 2596494 | H80: 2596494 | I80: 2596494 | J80: 2596494 | K80: 2596494 | L80: 2596494 | M80: 2596494 | N80: 2596494 | O80: 2596494 | P80: 3596496 | Q80: 32157930
A81: 3 | B81: Települési önkormányzatok szociális gyermekjóléti és gyermekétkeztetési feladatainak támogatása | C81: B113 | D81: =SUM(BEVÉTELEK!G8) -> 6376000 | E81: 1716607 | F81: 1716607 | G81: 1716607 | H81: 1716607 | I81: 1716607 | J81: 1716607 | K81: 1716607 | L81: 1716607 | M81: 1716607 | N81: 1716607 | O81: 1716607 | P81: 1716608 | Q81: 20599285
A82: 4 | B82: Települési önkormányzatok kulturális feladatainak támogatása | C82: B114 | D82: =SUM(BEVÉTELEK!G10) -> 1800000 | E82: 216122 | F82: 216122 | G82: 216122 | H82: 216122 | I82: 216122 | J82: 216122 | K82: 216122 | L82: 216122 | M82: 216122 | N82: 216122 | O82: 216122 | P82: 216124 | Q82: 2593466
A83: 5 | B83: Működési célú költségvetési támogatások és kiegészítő támogatások | C83: B115 | D83: 0 | E83: =SUM($D$83/12) -> 0 | F83: =SUM($D$83/12) -> 0 | G83: =SUM($D$83/12) -> 0 | H83: =SUM($D$83/12) -> 0 | I83: =SUM($D$83/12) -> 0 | J83: =SUM($D$83/12) -> 0 | K83: =SUM($D$83/12) -> 0 | L83: =SUM($D$83/12) -> 0 | ... N83: =SUM($D$83/12) -> 0 | O83: 1090950 | P83: =SUM($D$83/12) -> 0 | Q83: 1090950
A84: 6 | B84: Önkormányzatok működési támogatásai (=01+…+06) | C84: B11 | D84: =SUM(D79:D83) -> 65737342 | E84: =SUM(E79:E83) -> 6814614 | F84: =SUM(F79:F83) -> 6814614 | G84: =SUM(G79:G83) -> 6814614 | H84: =SUM(H79:H83) -> 6814614 | I84: =SUM(I79:I83) -> 6814614 | J84: =SUM(J79:J83) -> 6814614 | K84: =SUM(K79:K83) -> 6814614 | ... Q84: =SUM(Q79:Q83) -> 83866333
A85: 7 | B85: Egyéb működési célú támogatások bevételei államháztartáson belülről | C85: B16 | D85: =SUM(BEVÉTELEK!G13) -> 17781663 | E85: 7420506 | F85: 7420506 | G85: 7420506 | H85: 7420506 | I85: 7420506 | J85: 7420506 | K85: 7420506 | L85: 7420506 | M85: 7420506 | N85: 7420506 | O85: 7420506 | P85: 7420516 | Q85: 89046082
A86: 8 | B86: Működési célú támogatások államháztartáson belülről (=07+…+12) | C86: B1 | D86: =SUM(D84:D85) -> 83519005 | E86: =SUM(E84:E85) -> 14235120 | F86: =SUM(F84:F85) -> 14235120 | G86: =SUM(G84:G85) -> 14235120 | H86: =SUM(H84:H85) -> 14235120 | I86: =SUM(I84:I85) -> 14235120 | J86: =SUM(J84:J85) -> 14235120 | K86: =SUM(K84:K85) -> 14235120 | ... Q86: =SUM(Q84:Q85) -> 172912415
A87: 9 | B87: Felhalmozási célú önkormányzati támogatások | C87: B21 | D87: =SUM(BEVÉTELEK!G15) -> 32127349 | E87: 0 | F87: 0 | G87: 0 | H87: 0 | I87: 0 | J87: 0 | K87: 0 | L87: 0 | M87: 0 | N87: 0 | O87: 0 | P87: 0 | Q87: 0
A88: 10 | B88: Egyéb felhalmozási célú támogatások bevételei államháztartáson belülről | C88: B25 | D88: =SUM(BEVÉTELEK!G16) -> 0 | E88: 0 | F88: 25953050 | G88: 0 | H88: 0 | I88: 0 | J88: 0 | K88: 2434793 | L88: 0 | M88: 0 | N88: 29999994 | O88: 0 | P88: 3000000 | Q88: 64474985
A89: 11 | B89: Felhalmozási célú támogatások államháztartáson belülről (=14+…+18) | C89: B2 | D89: =SUM(D87:D88) -> 32127349 | E89: =SUM(E87:E88) -> 0 | F89: =SUM(F87:F88) -> 25953050 | G89: =SUM(G87:G88) -> 0 | H89: =SUM(H87:H88) -> 0 | I89: =SUM(I87:I88) -> 0 | J89: =SUM(J87:J88) -> 0 | K89: =SUM(K87:K88) -> 2434793 | ... Q89: =SUM(Q87:Q88) -> 64474985
A90: 12 | B90: Vagyoni tipusú adók | C90: B34 | D90: =SUM(BEVÉTELEK!G18) -> 22910491 | E90: 0 | F90: 0 | G90: =SUM($D$90/2) -> 11455246 | H90: 0 | I90: 0 | J90: 0 | K90: 0 | L90: 0 | M90: =SUM($D$90/2) -> 11455246 | N90: 0 | O90: 0 | P90: 0 | Q90: =SUM(E90:P90) -> 22910491
A91: 13 | B91: Értékesítési és forgalmi adók | C91: B351 | D91: =SUM(BEVÉTELEK!G19) -> 15385294 | E91: 0 | F91: 0 | G91: =SUM($D$91/2) -> 7692647 | H91: 0 | I91: 0 | J91: 0 | K91: 0 | L91: 0 | M91: =SUM($D$91/2) -> 7692647 | N91: 0 | O91: 0 | P91: 0 | Q91: =SUM(E91:P91) -> 15385294
A92: 14 | B92: Gépjárműadók | C92: B354 | D92: =SUM(BEVÉTELEK!G20) -> 3229810 | E92: 0 | F92: 0 | G92: 0 | H92: 0 | I92: 0 | J92: 0 | K92: 0 | L92: 0 | M92: 0 | N92: 0 | O92: 0 | P92: 0 | Q92: 0
A93: 15 | B93: Egyéb áruhasználati és szolgáltatási adók | C93: B355 | D93: =SUM(BEVÉTELEK!G21) -> 0 | E93: 11977 | F93: 11977 | G93: 11977 | H93: 11977 | I93: 11977 | J93: 11977 | K93: 11977 | L93: 11977 | M93: 11977 | N93: 11977 | O93: 11977 | P93: 11983 | Q93: 143730
A94: 16 | B94: Termékek és szolgáltatások adói (=26+…+30) | C94: B35 | D94: =SUM(D91:D93) -> 18615104 | E94: =SUM(E91:E93) -> 11977 | F94: =SUM(F91:F93) -> 11977 | G94: =SUM(G91:G93) -> 7704624 | H94: =SUM(H91:H93) -> 11977 | I94: =SUM(I91:I93) -> 11977 | J94: =SUM(J91:J93) -> 11977 | K94: =SUM(K91:K93) -> 11977 | ... Q94: =SUM(Q91:Q93) -> 15529024
A95: 17 | B95: Egyéb közhatalmi bevételek | C95: B36 | D95: =SUM(BEVÉTELEK!G23) -> 49870 | E95: =SUM($D$95/12) -> 4155.8333 | F95: =SUM($D$95/12) -> 4155.8333 | G95: =SUM($D$95/12) -> 4155.8333 | H95: =SUM($D$95/12) -> 4155.8333 | I95: =SUM($D$95/12) -> 4155.8333 | J95: =SUM($D$95/12) -> 4155.8333 | K95: =SUM($D$95/12) -> 4155.8333 | L95: =SUM($D$95/12) -> 4155.8333 | ... P95: =SUM($D$95/12) -> 4155.8333 | Q95: 184799
A96: 18 | B96: Közhatalmi bevételek (=22+...+25+31+32) | C96: B3 | D96: =SUM(D90+D94+D95) -> 41575465 | E96: =SUM(E90+E94+E95) -> 16132.833 | F96: =SUM(F90+F94+F95) -> 16132.833 | G96: =SUM(G90+G94+G95) -> 19164025 | H96: =SUM(H90+H94+H95) -> 16132.833 | I96: =SUM(I90+I94+I95) -> 16132.833 | J96: =SUM(J90+J94+J95) -> 16132.833 | K96: =SUM(K90+K94+K95) -> 16132.833 | ... P96: =SUM(P90+P94+P95) -> 16138.833 | Q96: =Q90+Q94+Q95 -> 38624314
A97: 19 | B97: Szolgáltatások ellenértéke | C97: B402 | D97: 35268151 | E97: 5745084 | F97: 5745084 | G97: 5745084 | H97: 5745084 | I97: 5745084 | J97: 5745084 | K97: 5745084 | L97: 5745084 | M97: 5745084 | N97: 5745084 | O97: 5745084 | P97: 5745093 | Q97: 68941017
A98: 20 | B98: Közvetített szolgáltatások ellenértéke | C98: B403 | D98: =SUM(BEVÉTELEK!G26) -> 0 | E98: 47209 | F98: 47209 | G98: 47209 | H98: 47209 | I98: 47209 | J98: 47209 | K98: 47209 | L98: 47209 | M98: 47209 | N98: 47209 | O98: 47209 | P98: 47209 | Q98: 566508
A99: 21 | B99: Tulajdonosi bevételek | C99: B404 | D99: =SUM(BEVÉTELEK!G27) -> 50000000 | E99: 1000000 | F99: 1000000 | G99: 1044650 | H99: 0 | I99: 0 | J99: 0 | K99: 0 | L99: 0 | M99: 0 | N99: 0 | O99: 0 | P99: 0 | Q99: 3044650
A100: 22 | B100: Ellátási díjak | C100: B405 | D100: =SUM(BEVÉTELEK!G28) -> 2460886 | E100: 205073 | F100: 205073 | G100: 205073 | H100: 205073 | I100: 205073 | J100: 205073 | K100: 205073 | L100: 205073 | M100: 205073 | N100: 205073 | O100: 205073 | P100: 205083 | Q100: 2460886
A101: 23 | B101: Kiszámlázott általános forgalmi adó | C101: B406 | D101: =SUM(BEVÉTELEK!G29) -> 9446345 | E101: 1366624 | F101: 1366624 | G101: 1366624 | H101: 1366624 | I101: 1366624 | J101: 1366624 | K101: 1366624 | L101: 1366624 | M101: 1366624 | N101: 1366624 | O101: 1366624 | P101: 1366633 | Q101: 16399497
A102: 24 | B102: Egyéb kapott (járó) kamatok és kamatjellegű bevételek | C102: B4082 | D102: 0 | E102: =SUM($D$102/12) -> 0 | F102: 2 | G102: 2 | H102: 2 | I102: 2 | J102: 2 | K102: 2 | L102: 2 | M102: 2 | N102: 2 | O102: 2 | P102: 1 | Q102: 21
A103: 25 | B103: Kamatbevételek és más nyereségjellegű bevételek (=41+42) | C103: B408 | D103: =SUM(D102:D102) -> 0 | E103: =SUM(E102:E102) -> 0 | F103: 2 | G103: 2 | H103: 2 | I103: 2 | J103: 2 | K103: 2 | L103: 2 | M103: 2 | N103: 2 | O103: 2 | P103: 1 | Q103: =SUM(Q102:Q102) -> 21
...

Sheet TÖBB ÉVES
A1: melléklet Balatonederics Község Önkormányzat 2020.évi költségvetésének módosításáról szóló 20/2020.(XII.10.) önkormányzati rendelethez.
A3: BALATONEDERICS KÖZSÉG ÖNKORMÁNYZAT 2020. ÉVI KÖLTSÉGVETÉS
A4: A többéves kihatással járó döntések számszerűsítése évenkénti bontásban és összesítve (Ft)
A5: Több éves kihatással járó feladatot az önkormányzat nem tervez!
A6: ÖNKORMÁNYZATI ELŐIRÁNYZATOK
A7: Kötelezettségek megnevezése | B7: Köt.vállalás éve | C7: Tárgyév előtti kifizetés | D7: Tárgyévi kifizetés (2020. évi ei.) | E7: 2021. évi kifizetés | F7: 2022. évi kifizetés | G7: 2023. évi kifizetés | H7: 2024. év utáni kifizetések | I7: Összesen
A12: Működési célú hiteltörlesztések összesen:
A17: Felhalmozási célú hiteltörlesztések
A22: Beruházások összesen:
A27: Felújítások összesen:
A32: MINDÖSSZESEN: | I32: 0

Sheet KÖZVETETT
A1: Előterjesztés része
A2: BALATONEDERICS KÖZSÉG ÖNKORMÁNYZAT 2020. ÉVI KÖLTSÉGVETÉS
A3: Közvetett támogatások (Ft)
A5: ÖNKORMÁNYZATI ELŐIRÁNYZATOK
A6: Rovat megnevezése | B6: Rovat-szám | C6: tervezett elvárt bevétel | D6: közvetett támogatás | E6: várható bevétel
A10: az ellátottak térítési díjának, kártérítésének méltányossági alapon történő elengedésének összege | B10: B405 | C10: 0 | D10: 0 | E10: 0
A14: a lakosság részére lakásépítéshez, lakásfelújításhoz nyújtott kölcsönök elengedésének összege | B14: B72 | C14: 0 | D14: 0 | E14: 0
A15: építményadó | B15: B34 | C15: 0 | D15: 0 | E15: =+C15-D15 -> 0
A16: épület után fizetett idegenforgalmi adó | B16: B34 | C16: 0 | D16: 0 | E16: 0
A17: magánszemélyek kommunális adója | B17: B34 | C17: 0 | D17: 0 | E17: 0
A18: telekadó | B18: B34 | C18: 0 | D18: 0 | E18: 0
A19: Gépjárműadók | B19: B354 | C19: 0 | D19: 0 | E19: 0
A20: Értékesítési és forgalmi adók | B20: B351 | C20: 0 | D20: 0 | E20: 0
C21: 0 | D21: 0 | E21: 0
A22: a helyi adónál, gépjárműadónál biztosított kedvezmény, mentesség összege adónemenként | B22: B3, B7 | C22: =SUM(C15:C21) -> 0 | D22: =SUM(D15:D21) -> 0 | E22: =SUM(E15:E21) -> 0
A26: a helyiségek, eszközök hasznosításából származó bevételből nyújtott kedvezmény, mentesség összege | B26: B4, B5 | C26: 0 | D26: 0 | E26: 0
A30: az egyéb nyújtott kedvezmény vagy kölcsön elengedésének összege | C30: 0 | D30: 0 | E30: 0

Sheet GÖRDÜLŐ
B1: 17. melléklet Balatonederics Község Önkormányzat 2020.évi költségvetésének módosításáról szóló 20/2020.(XII.10.) önkormányzati rendelethez.
A2: 22. melléklet Balatonederics Község Önkormányzat 2020.évi költségvetéséről szóló 4/2020.(III.12.) önkormányzati rendelethez.
A4: Bevételek és kiadások tárgyévre és az azt követő három évre (Ft)
A6: ÖNKORMÁNYZAT ÉS KÖLTSÉGVETÉSI SZERVEI ELŐIRÁNYZATA MINDÖSSZESEN
A7: Sor- szám | B7: Rovat megnevezése | C7: Rovat száma | D7: 2020. ÉV MÓDOSÍTOTT EI. | E7: 2021. ÉV | F7: 2022. ÉV | G7: 2023. ÉV
A8: 01 | B8: Törvény szerinti illetmények, munkabérek | C8: K1101 | D8: 71118012 | E8: =PRODUCT(D8,1.008) -> 71686956 | F8: =PRODUCT(E8,1.008) -> 72260452 | G8: =PRODUCT(F8,1.008) -> 72838535
A9: 02 | B9: Normatív jutalmak | C9: K1102 | D9: 1689975 | E9: =PRODUCT(D9,1.008) -> 1703494.8 | F9: =PRODUCT(E9,1.008) -> 1717122.8 | G9: =PRODUCT(F9,1.008) -> 1730859.7
A10: 03 | B10: Céljuttatás, projektprémium | C10: K1103 | D10: 1300000 | E10: =PRODUCT(D10,1.008) -> 1310400 | F10: =PRODUCT(E10,1.008) -> 1320883.2 | G10: =PRODUCT(F10,1.008) -> 1331450.3
A11: 04 | B11: Végkielégítés | C11: K1105 | D11: 421000 | E11: =PRODUCT(D11,1.008) -> 424368 | F11: =PRODUCT(E11,1.008) -> 427762.94 | G11: =PRODUCT(F11,1.008) -> 431185.05
A12: 05 | B12: Jubileumi jutalom | C12: K1106 | D12: 1300000 | E12: =PRODUCT(D12,1.008) -> 1310400 | F12: =PRODUCT(E12,1.008) -> 1320883.2 | G12: =PRODUCT(F12,1.008) -> 1331450.3
A13: 06 | B13: Béren kívüli juttatások | C13: K1107 | D13: 2318761 | E13: =PRODUCT(D13,1.008) -> 2337311.1 | F13: =PRODUCT(E13,1.008) -> 2356009.6 | G13: =PRODUCT(F13,1.008) -> 2374857.7
A14: 07 | B14: Közlekedési költségtérítés | C14: K1109 | D14: 578000 | E14: =PRODUCT(D14,1.008) -> 582624 | F14: =PRODUCT(E14,1.008) -> 587284.99 | G14: =PRODUCT(F14,1.008) -> 591983.27
A15: 08 | B15: Foglalkoztatottak egyéb személyi juttatásai | C15: K1113 | D15: =SUM(KIADÁSOK!G14) -> 319713 | E15: =PRODUCT(D15,1.008) -> 322270.7 | F15: =PRODUCT(E15,1.008) -> 324848.87 | G15: =PRODUCT(F15,1.008) -> 327447.66
A16: 09 | B16: Foglalkoztatottak személyi juttatásai (=01+…+13) | C16: K11 | D16: 80894892 | E16: =PRODUCT(D16,1.008) -> 81542051 | F16: =PRODUCT(E16,1.008) -> 82194388 | G16: =PRODUCT(F16,1.008) -> 82851943
A17: 10 | B17: Választott tisztségviselők juttatásai | C17: K121 | D17: 8305848 | E17: =PRODUCT(D17,1.008) -> 8372294.8 | F17: =PRODUCT(E17,1.008) -> 8439273.1 | G17: =PRODUCT(F17,1.008) -> 8506787.3
A18: 11 | B18: Munkavégzésre irányuló egyéb jogviszonyban nem saját foglalkoztatottnak fizetett juttatások | C18: K122 | D18: 920000 | E18: =PRODUCT(D18,1.008) -> 927360 | F18: =PRODUCT(E18,1.008) -> 934778.88 | G18: =PRODUCT(F18,1.008) -> 942257.11
A19: 12 | B19: Egyéb külső személyi juttatások | C19: K123 | D19: =SUM(KIADÁSOK!G18) -> 0 | E19: =PRODUCT(D19,1.008) -> 0 | F19: =PRODUCT(E19,1.008) -> 0 | G19: =PRODUCT(F19,1.008) -> 0
A20: 13 | B20: Külső személyi juttatások (=15+16+17) | C20: K12 | D20: =SUM(D17:D19) -> 9225848 | E20: =PRODUCT(D20,1.008) -> 9299654.8 | F20: =PRODUCT(E20,1.008) -> 9374052 | G20: =PRODUCT(F20,1.008) -> 9449044.4
A21: 14 | B21: Személyi juttatások (=14+18) | C21: K1 | D21: =D16+D20 -> 90120740 | E21: =SUM(E8:E20) -> 1.7981919e+08 | F21: =SUM(F8:F20) -> 1.8125774e+08 | G21: =SUM(G8:G20) -> 1.827078e+08
A22: 15 | B22: Munkaadókat terhelő járulékok és szociális hozzájárulási adó | C22: K2 | D22: 16585206 | E22: =PRODUCT(D22,1.008) -> 16717888 | F22: =PRODUCT(E22,1.008) -> 16851631 | G22: =PRODUCT(F22,1.008) -> 16986444
A23: 16 | B23: Szakmai anyagok beszerzése | C23: K311 | D23: 347347 | E23: =PRODUCT(D23,1.008) -> 350125.78 | F23: =PRODUCT(E23,1.008) -> 352926.78 | G23: =PRODUCT(F23,1.008) -> 355750.2
A24: 17 | B24: Üzemeltetési anyagok beszerzése | C24: K312 | D24: 31083873 | E24: =PRODUCT(D24,1.008) -> 31332544 | F24: =PRODUCT(E24,1.008) -> 31583204 | G24: =PRODUCT(F24,1.008) -> 31835870
A25: 18 | B25: Árubeszerzés | C25: K313 | D25: =SUM(KIADÁSOK!G24) -> 0 | E25: =PRODUCT(D25,1.008) -> 0 | F25: 0 | G25: 0
A26: 19 | B26: Készletbeszerzés (=21+22+23) | C26: K31 | D26: =SUM(D23:D25) -> 31431220 | E26: =SUM(E23:E25) -> 31682670 | F26: =SUM(F23:F25) -> 31936131 | G26: =SUM(G23:G25) -> 32191620
A27: 20 | B27: Informatikai szolgáltatások igénybevétele | C27: K321 | D27: 3810 | E27: =PRODUCT(D27,1.008) -> 3840.48 | F27: =PRODUCT(E27,1.008) -> 3871.2038 | G27: =PRODUCT(F27,1.008) -> 3902.1735
A28: 21 | B28: Egyéb kommunikációs szolgáltatások | C28: K322 | D28: 856115 | E28: =PRODUCT(D28,1.008) -> 862963.92 | F28: =PRODUCT(E28,1.008) -> 869867.63 | G28: =PRODUCT(F28,1.008) -> 876826.57
A29: 22 | B29: Kommunikációs szolgáltatások (=25+26) | C29: K32 | D29: =SUM(D27:D28) -> 859925 | E29: =SUM(E27:E28) -> 866804.4 | F29: =SUM(F27:F28) -> 873738.84 | G29: =SUM(G27:G28) -> 880728.75
A30: 23 | B30: Közüzemi díjak | C30: K331 | D30: 13046349 | E30: =PRODUCT(D30,1.008) -> 13150720 | F30: =PRODUCT(E30,1.008) -> 13255926 | G30: =PRODUCT(F30,1.008) -> 13361973
A31: 24 | B31: Vásárolt élelmezés | C31: K332 | D31: =SUM(KIADÁSOK!G30) -> 0 | E31: =PRODUCT(D31,1.008) -> 0 | F31: =PRODUCT(E31,1.008) -> 0 | G31: =PRODUCT(F31,1.008) -> 0
A32: 25 | B32: Bérleti és lízing díjak | C32: K333 | D32: =SUM(KIADÁSOK!G31) -> 0 | E32: =PRODUCT(D32,1.008) -> 0 | F32: =PRODUCT(E32,1.008) -> 0 | G32: =PRODUCT(F32,1.008) -> 0
A33: 26 | B33: Karbantartási, kisjavítási szolgáltatások | C33: K334 | D33: 2859932 | E33: =PRODUCT(D33,1.008) -> 2882811.5 | F33: =PRODUCT(E33,1.008) -> 2905873.9 | G33: =PRODUCT(F33,1.008) -> 2929120.9
A34: 27 | B34: Közvetített szolgáltatások | C34: K335 | D34: 2861551 | E34: =PRODUCT(D34,1.008) -> 2884443.4 | F34: =PRODUCT(E34,1.008) -> 2907519 | G34: =PRODUCT(F34,1.008) -> 2930779.1
A35: 28 | B35: Szakmai tevékenységet segítő szolgáltatások | C35: K336 | D35: 6429625 | E35: =PRODUCT(D35,1.008) -> 6481062 | F35: =PRODUCT(E35,1.008) -> 6532910.5 | G35: =PRODUCT(F35,1.008) -> 6585173.8
A36: 29 | B36: Egyéb szolgáltatások | C36: K337 | D36: 19823115 | E36: =PRODUCT(D36,1.008) -> 19981700 | F36: =PRODUCT(E36,1.008) -> 20141554 | G36: =PRODUCT(F36,1.008) -> 20302686
A37: 30 | B37: Szolgáltatási kiadások (=28+…+34) | C37: K33 | D37: =SUM(D30:D36) -> 45020572 | E37: =SUM(E30:E36) -> 45380737 | F37: =SUM(F30:F36) -> 45743782 | G37: =SUM(G30:G36) -> 46109733
A38: 31 | B38: Kiküldetések kiadásai | C38: K341 | D38: =SUM(KIADÁSOK!G37) -> 3490 | E38: =PRODUCT(D38,1.008) -> 3517.92 | F38: =PRODUCT(E38,1.008) -> 3546.0634 | G38: =PRODUCT(F38,1.008) -> 3574.4319
A39: 32 | B39: Reklám- és propagandakiadások | C39: K342 | D39: 274000 | E39: =PRODUCT(D39,1.008) -> 276192 | F39: =PRODUCT(E39,1.008) -> 278401.54 | G39: =PRODUCT(F39,1.008) -> 280628.75
A40: 33 | B40: Kiküldetések, reklám- és propagandakiadások (=36+37) | C40: K34 | D40: =SUM(D38:D39) -> 277490 | E40: =SUM(E38:E39) -> 279709.92 | F40: =SUM(F38:F39) -> 281947.6 | G40: =SUM(G38:G39) -> 284203.18
A41: 34 | B41: Működési célú előzetesen felszámított általános forgalmi adó | C41: K351 | D41: 11408000 | E41: =PRODUCT(D41,1.008) -> 11499264 | F41: =PRODUCT(E41,1.008) -> 11591258 | G41: =PRODUCT(F41,1.008) -> 11683988
A42: 35 | B42: Fizetendő általános forgalmi adó | C42: K352 | D42: 18366024 | E42: =PRODUCT(D42,1.008) -> 18512952 | F42: =PRODUCT(E42,1.008) -> 18661056 | G42: =PRODUCT(F42,1.008) -> 18810344
A43: 36 | B43: Kamatkiadások | C43: K353 | D43: 21263 | E43: =PRODUCT(D43,1.008) -> 21433.104 | F43: =PRODUCT(E43,1.008) -> 21604.569 | G43: =PRODUCT(F43,1.008) -> 21777.405
A44: 37 | B44: Egyéb pénzügyi műveletek kiadásai | C44: K354 | D44: =SUM(KIADÁSOK!G43) -> 0 | E44: =PRODUCT(D44,1.008) -> 0 | F44: =PRODUCT(E44,1.008) -> 0 | G44: =PRODUCT(F44,1.008) -> 0
A45: 38 | B45: Egyéb dologi kiadások | C45: K355 | D45: 40383 | E45: =PRODUCT(D45,1.008) -> 40706.064 | F45: =PRODUCT(E45,1.008) -> 41031.713 | G45: =PRODUCT(F45,1.008) -> 41359.966
A46: 39 | B46: Különféle befizetések és egyéb dologi kiadások (=39+…+43) | C46: K35 | D46: =SUM(D41:D45) -> 29835670 | E46: =SUM(E41:E45) -> 30074355 | F46: =SUM(F41:F45) -> 30314950 | G46: =SUM(G41:G45) -> 30557470
A47: 40 | B47: Dologi kiadások (=24+27+35+38+44) | C47: K3 | D47: =SUM(D46,D40,D37,D29,D26) -> 107424877 | E47: =SUM(E46,E40,E37,E29,E26) -> 1.0828428e+08 | F47: =SUM(F46,F40,F37,F29,F26) -> 1.0915055e+08 | G47: =SUM(G46,G40,G37,G29,G26) -> 1.1002375e+08
A48: 41 | B48: Egyéb nem intézményi ellátások | C48: K48 | D48: 3946499 | E48: =PRODUCT(D48,1.008) -> 3978071 | F48: =PRODUCT(E48,1.008) -> 4009895.6 | G48: =PRODUCT(F48,1.008) -> 4041974.7
A49: 42 | B49: Ellátottak pénzbeli juttatásai (=46+...+53) | C49: K4 | D49: =SUM(D48:D48) -> 3946499 | E49: =SUM(E48:E48) -> 3978071 | F49: =SUM(F48:F48) -> 4009895.6 | G49: =SUM(G48:G48) -> 4041974.7
A50: 43 | B50: A helyi önkormányzatok előző évi elszámolásából származó kiadások | C50: K5021 | D50: 1549116 | E50: =PRODUCT(D50,1.008) -> 1561508.9 | F50: =PRODUCT(E50,1.008) -> 1574001 | G50: =PRODUCT(F50,1.008) -> 1586593
A51: 44 | B51: Egyéb működési célú támogatások államháztartáson belülre | C51: K506 | D51: 75258506 | E51: =PRODUCT(D51,1.008) -> 75860574 | F51: =PRODUCT(E51,1.008) -> 76467459 | G51: =PRODUCT(F51,1.008) -> 77079198
A52: 45 | B52: Egyéb működési célú támogatások államháztartáson kívülre | C52: K512 | D52: 4790001 | E52: =PRODUCT(D52,1.008) -> 4828321 | F52: =PRODUCT(E52,1.008) -> 4866947.6 | G52: =PRODUCT(F52,1.008) -> 4905883.2
A53: 46 | B53: Tartalékok | C53: K513 | D53: 20094 | E53: =PRODUCT(D53,1.008) -> 20254.752 | F53: =PRODUCT(E53,1.008) -> 20416.79 | G53: =PRODUCT(F53,1.008) -> 20580.124
A54: 47 | B54: Egyéb működési célú kiadások (=55+59+…+70) | C54: K5 | D54: =SUM(D50:D53) -> 81617717 | E54: =SUM(E50:E53) -> 82270659 | F54: =SUM(F50:F53) -> 82928824 | G54: =SUM(G50:G53) -> 83592255
A55: 48 | B55: Immateriális javak beszerzése, létesítése | C55: K61 | D55: =SUM(KIADÁSOK!G54) -> 0 | E55: =PRODUCT(D55,1.008) -> 0 | F55: =PRODUCT(E55,1.008) -> 0 | G55: =PRODUCT(F55,1.008) -> 0
A56: 49 | B56: Ingatlanok beszerzése, létesítése | C56: K62 | D56: 5293500 | E56: 0 | F56: =PRODUCT(E56,1.008) -> 0 | G56: 0
A57: 50 | B57: Informatikai eszközök beszerzése, létesítése | C57: K63 | D57: =SUM(KIADÁSOK!G56) -> 0 | E57: =PRODUCT(D57,1.008) -> 0 | F57: =PRODUCT(E57,1.008) -> 0 | G57: =PRODUCT(F57,1.008) -> 0
A58: 51 | B58: Egyéb tárgyi eszközök beszerzése, létesítése | C58: K64 | D58: 48935358 | E58: 0 | F58: =PRODUCT(E58,1.008) -> 0 | G58: 0
A59: 52 | B59: Részesedések beszerzése | C59: K65 | D59: =SUM(KIADÁSOK!G58) -> 0 | E59: =PRODUCT(D59,1.008) -> 0 | F59: =PRODUCT(E59,1.008) -> 0 | G59: =PRODUCT(F59,1.008) -> 0
A60: 53 | B60: Meglévő részesedések növeléséhez kapcsolódó kiadások | C60: K66 | D60: =SUM(KIADÁSOK!G59) -> 0 | E60: =PRODUCT(D60,1.008) -> 0 | F60: =PRODUCT(E60,1.008) -> 0 | G60: =PRODUCT(F60,1.008) -> 0
A61: 54 | B61: Beruházási célú előzetesen felszámított általános forgalmi adó | C61: K67 | D61: 5733872 | E61: 0 | F61: =PRODUCT(E61,1.008) -> 0 | G61: 0
A62: 55 | B62: Beruházások (=72+…+78) | C62: K6 | D62: =SUM(D55:D61) -> 59962730 | E62: =SUM(E55:E61) -> 0 | F62: =SUM(F55:F61) -> 0 | G62: =SUM(G55:G61) -> 0
A63: 56 | B63: Ingatlanok felújítása | C63: K71 | D63: 69976643 | E63: 0 | F63: =PRODUCT(E63,1.008) -> 0 | G63: =PRODUCT(F63,1.008) -> 0
A64: 57 | B64: Informatikai eszközök felújítása | C64: K72 | D64: =SUM(KIADÁSOK!G63) -> 0 | E64: =PRODUCT(D64,1.008) -> 0 | F64: =PRODUCT(E64,1.008) -> 0 | G64: =PRODUCT(F64,1.008) -> 0
A65: 58 | B65: Egyéb tárgyi eszközök felújítása | C65: K73 | D65: 23444491 | E65: =PRODUCT(D65,1.008) -> 23632047 | F65: =PRODUCT(E65,1.008) -> 23821103 | G65: =PRODUCT(F65,1.008) -> 24011672
A66: 59 | B66: Felújítási célú előzetesen felszámított általános forgalmi adó | C66: K74 | D66: 3552814 | E66: 0 | F66: =PRODUCT(E66,1.008) -> 0 | G66: =PRODUCT(F66,1.008) -> 0
A67: 60 | B67: Felújítások (=80+...+83) | C67: K7 | D67: =SUM(D63:D66) -> 96973948 | E67: =SUM(E63:E66) -> 23632047 | F67: =SUM(F63:F66) -> 23821103 | G67: =SUM(G63:G66) -> 24011672
A68: 61 | B68: Egyéb felhalmozási célú kiadások (=85+…+93) | C68: K8 | D68: 0 | E68: 0 | F68: 0 | G68: 0
A69: 62 | B69: Költségvetési kiadások (=19+20+45+54+71+79+84+94) | C69: K1-K8 | D69: =SUM(D68+D67+D62+D54+D49+D47+D22+D21) -> 456631717 | E69: =SUM(E68+E67+E62+E54+E49+E47+E22+E21) -> 4.1470213e+08 | F69: =SUM(F68+F67+F62+F54+F49+F47+F22+F21) -> 4.1801974e+08 | G69: =SUM(G68+G67+G62+G54+G49+G47+G22+G21) -> 4.213639e+08
A70: 63 | B70: Államháztartáson belüli megelőlegezések visszafizetése | C70: K914 | D70: 3052267 | E70: =PRODUCT(D70,1.008) -> 3076685.1 | F70: =PRODUCT(E70,1.008) -> 3101298.6 | G70: =PRODUCT(F70,1.008) -> 3126109
A71: 64 | B71: Központi, irányító szervi támogatások folyósítása | C71: K915 | D71: 74719942 | E71: =PRODUCT(D71,1.008) -> 75317702 | F71: =PRODUCT(E71,1.008) -> 75920243 | G71: =PRODUCT(F71,1.008) -> 76527605
A72: 65 | B72: Központi költségvetés sajátos finanszírozási kiadásai | C72: K918 | D72: 0 | E72: =PRODUCT(D72,1.008) -> 0 | F72: =PRODUCT(E72,1.008) -> 0 | G72: =PRODUCT(F72,1.008) -> 0
A73: 66 | B73: Finanszírozási kiadások (=21+27+28+29) | C73: K9 | D73: =SUM(D70:D72) -> 77772209 | E73: =SUM(E70:E72) -> 78394387 | F73: =SUM(F70:F72) -> 79021542 | G73: =SUM(G70:G72) -> 79653714
A74: 67 | B74: KIADÁSOK MINDÖSSZESEN | D74: =SUM(D73+D69) -> 534403926 | E74: =SUM(+E69) -> 4.1470213e+08 | F74: =SUM(+F69) -> 4.1801974e+08 | G74: =SUM(+G69) -> 4.213639e+08
A76: Sor- szám | B76: Rovat megnevezése | C76: Rovat száma | D76: 2020. ÉV MÓDOSÍTOTT EI. | E76: 2021. ÉV | F76: 2022. ÉV | G76: 2023. ÉV
B77: Helyi önkormányzatok működésének általános támogatása | C77: B111 | D77: 27424702 | E77: =PRODUCT(D77,1.008) -> 27644100 | F77: =PRODUCT(E77,1.008) -> 27865252 | G77: =PRODUCT(F77,1.008) -> 28088174
A78: 02 | B78: Települési önkormányzatok egyes köznevelési feladatainak támogatása | C78: B112 | D78: 32157930 | E78: =PRODUCT(D78,1.008) -> 32415193 | F78: =PRODUCT(E78,1.008) -> 32674515 | G78: =PRODUCT(F78,1.008) -> 32935911
A79: 03 | B79: Települési önkormányzatok szociális gyermekjóléti és gyermekétkeztetési feladatainak támogatása | C79: B113 | D79: 20599285 | E79: =PRODUCT(D79,1.008) -> 20764079 | F79: =PRODUCT(E79,1.008) -> 20930192 | G79: =PRODUCT(F79,1.008) -> 21097633
A80: 04 | B80: Települési önkormányzatok kulturális feladatainak támogatása | C80: B114 | D80: 2593466 | E80: =PRODUCT(D80,1.008) -> 2614213.7 | F80: =PRODUCT(E80,1.008) -> 2635127.4 | G80: =PRODUCT(F80,1.008) -> 2656208.5
A81: 05 | B81: Működési célú költségvetési támogatások és kiegészítő támogatások | C81: B115 | D81: 1090950 | E81: =PRODUCT(D81,1.008) -> 1099677.6 | F81: =PRODUCT(E81,1.008) -> 1108475 | G81: =PRODUCT(F81,1.008) -> 1117342.8
A82: 06 | B82: Önkormányzatok működési támogatásai (=01+…+06) | C82: B11 | D82: =SUM(D77:D81) -> 83866333 | E82: =SUM(E77:E81) -> 84537264 | F82: =SUM(F77:F81) -> 85213562 | G82: =SUM(G77:G81) -> 85895270
A83: 07 | B83: Egyéb működési célú támogatások bevételei államháztartáson belülről | C83: B16 | D83: 89046082 | E83: =PRODUCT(D83,1.008) -> 89758451 | F83: =PRODUCT(E83,1.008) -> 90476518 | G83: =PRODUCT(F83,1.008) -> 91200330
A84: 08 | B84: Működési célú támogatások államháztartáson belülről (=07+…+12) | C84: B1 | D84: =SUM(D82:D83) -> 172912415 | E84: =SUM(E82+E83) -> 1.7429571e+08 | F84: =SUM(F82+F83) -> 1.7569008e+08 | G84: =SUM(G82+G83) -> 1.770956e+08
A85: 09 | B85: Felhalmozási célú önkormányzati támogatások | C85: B21 | D85: 0 | E85: =PRODUCT(D85,1.008) -> 0 | F85: =PRODUCT(E85,1.008) -> 0 | G85: =PRODUCT(F85,1.008) -> 0
A86: 10 | B86: Egyéb felhalmozási célú támogatások bevételei államháztartáson belülről | C86: B25 | D86: 64474985 | E86: 0 | F86: =PRODUCT(E86,1.008) -> 0 | G86: =PRODUCT(F86,1.008) -> 0
A87: 11 | B87: Felhalmozási célú támogatások államháztartáson belülről (=14+…+18) | C87: B2 | D87: =SUM(D85:D86) -> 64474985 | E87: 0 | F87: =PRODUCT(E87,1.008) -> 0 | G87: =PRODUCT(F87,1.008) -> 0
A88: 12 | B88: Vagyoni tipusú adók | C88: B34 | D88: =SUM(BEVÉTELEK!G18) -> 22910491 | E88: =PRODUCT(D88,1.008) -> 23093775 | F88: =PRODUCT(E88,1.008) -> 23278525 | G88: =PRODUCT(F88,1.008) -> 23464753
A89: 13 | B89: Értékesítési és forgalmi adók | C89: B351 | D89: =SUM(BEVÉTELEK!G19) -> 15385294 | E89: =PRODUCT(D89,1.008) -> 15508376 | F89: =PRODUCT(E89,1.008) -> 15632443 | G89: =PRODUCT(F89,1.008) -> 15757503
A90: 14 | B90: Gépjárműadók | C90: B354 | D90: 0 | E90: =PRODUCT(D90,1.008) -> 0 | F90: =PRODUCT(E90,1.008) -> 0 | G90: =PRODUCT(F90,1.008) -> 0
A91: 15 | B91: Egyéb áruhasználati és szolgáltatási adók | C91: B355 | D91: 143730 | E91: =PRODUCT(D91,1.008) -> 144879.84 | F91: =PRODUCT(E91,1.008) -> 146038.88 | G91: =PRODUCT(F91,1.008) -> 147207.19
A92: 16 | B92: Termékek és szolgáltatások adói (=26+…+30) | C92: B35 | D92: =SUM(D89:D91) -> 15529024 | E92: =SUM(E89:E91) -> 15653256 | F92: =SUM(F89:F91) -> 15778482 | G92: =SUM(G89:G91) -> 15904710
A93: 17 | B93: Egyéb közhatalmi bevételek | C93: B36 | D93: 184799 | E93: =PRODUCT(D93,1.008) -> 186277.39 | F93: =PRODUCT(E93,1.008) -> 187767.61 | G93: =PRODUCT(F93,1.008) -> 189269.75
A94: 18 | B94: Közhatalmi bevételek (=22+...+25+31+32) | C94: B3 | D94: =SUM(D88+D92+D93) -> 38624314 | E94: =E88+E92+E93 -> 38933309 | F94: =F88+F92+F93 -> 39244775 | G94: =G88+G92+G93 -> 39558733
A95: 19 | B95: Szolgáltatások ellenértéke | C95: B402 | D95: 68941017 | E95: =PRODUCT(D95,1.008) -> 69492545 | F95: =PRODUCT(E95,1.008) -> 70048485 | G95: =PRODUCT(F95,1.008) -> 70608873
A96: 20 | B96: Közvetített szolgáltatások ellenértéke | C96: B403 | D96: 566508 | E96: =PRODUCT(D96,1.008) -> 571040.06 | F96: =PRODUCT(E96,1.008) -> 575608.38 | G96: =PRODUCT(F96,1.008) -> 580213.25
A97: 21 | B97: Tulajdonosi bevételek | C97: B404 | D97: 3044650 | E97: =PRODUCT(D97,1.008) -> 3069007.2 | F97: =PRODUCT(E97,1.008) -> 3093559.3 | G97: =PRODUCT(F97,1.008) -> 3118307.7
A98: 22 | B98: Ellátási díjak | C98: B405 | D98: 2460886 | E98: =PRODUCT(D98,1.008) -> 2480573.1 | F98: =PRODUCT(E98,1.008) -> 2500417.7 | G98: =PRODUCT(F98,1.008) -> 2520421
A99: 23 | B99: Kiszámlázott általános forgalmi adó | C99: B406 | D99: 16399497 | E99: =PRODUCT(D99,1.008) -> 16530693 | F99: =PRODUCT(E99,1.008) -> 16662939 | G99: =PRODUCT(F99,1.008) -> 16796242
A100: 24 | B100: Egyéb kapott (járó) kamatok és kamatjellegű bevételek | C100: B4082 | D100: 21 | E100: =PRODUCT(D100,1.008) -> 21.168 | F100: =PRODUCT(E100,1.008) -> 21.337344 | G100: =PRODUCT(F100,1.008) -> 21.508043
A101: 25 | B101: Kamatbevételek és más nyereségjellegű bevételek (=41+42) | C101: B408 | D101: =SUM(D100:D100) -> 21 | E101: =SUM(E100:E100) -> 21.168 | F101: =SUM(F100:F100) -> 21.337344 | G101: =SUM(G100:G100) -> 21.508043
A102: 26 | B102: Egyéb működési bevételek | C102: B411 | D102: 1830413 | E102: =PRODUCT(D102,1.008) -> 1845056.3 | F102: =PRODUCT(E102,1.008) -> 1859816.8 | G102: =PRODUCT(F102,1.008) -> 1874695.3
A103: 27 | B103: Működési bevételek (=34+…+40+43+46+...+48) | C103: B4 | D103: =SUM(D95+D96+D97+D98+D99+D101+D102) -> 93242992 | E103: =SUM(E95+E96+E97+E98+E99+E101+E102) -> 93988936 | F103: =SUM(F95+F96+F97+F98+F99+F101+F102) -> 94740847 | G103: =SUM(G95+G96+G97+G98+G99+G101+G102) -> 95498774
...
