Workbook
Name onev: [1]kod!$BT$34:$BT$3186

Sheet 1.sz.tábla 
A3: MEGNEVEZÉS | B3: 2016. évi EREDETI | C3: I.MÓD. | D3: ELTÉRÉS
A4: I. Működési célú támogatások államháztartáson belülről | B4: ='[2]2.sz.tábla'!B5 -> 22626310 | C4: ='[2]2.sz.tábla'!C5 -> 23980451 | D4: =C4-B4 -> 1354141
A5: II. Felhalmozási célú támogatások államháztartáson belülről | B5: ='[2]2.sz.tábla'!B20 -> 0 | C5: ='[2]2.sz.tábla'!C20 -> 0 | D5: ='[2]2.sz.tábla'!D20 -> 0
A6: III. Közhatalmi bevételek | B6: ='[2]2.sz.tábla'!B26 -> 10333000 | C6: ='[2]2.sz.tábla'!C26 -> 10333000 | D6: ='[2]2.sz.tábla'!D26 -> 0
A7: IV. Működési bevételek | B7: ='[2]2.sz.tábla'!B39 -> 4084690 | C7: ='[2]2.sz.tábla'!C39 -> 4453690 | D7: ='[2]2.sz.tábla'!D39 -> 369000
A8: V. Felhalmozási bevételek | B8: ='[2]2.sz.tábla'!B50 -> 6000000 | C8: ='[2]2.sz.tábla'!C50 -> 6000000 | D8: ='[2]2.sz.tábla'!D50 -> 0
A9: VI. Működési célú átvett pénzeszközök | B9: ='[2]2.sz.tábla'!B55 -> 0 | C9: ='[2]2.sz.tábla'!C55 -> 0 | D9: ='[2]2.sz.tábla'!D59 -> 0
A10: VII. Felhalmozási célú átvett pénzeszközök | B10: ='[2]2.sz.tábla'!B59 -> 0 | C10: ='[2]2.sz.tábla'!C59 -> 0 | D10: ='[2]2.sz.tábla'!D59 -> 0
A11: Költségvetési bevételek összesen: | B11: =SUM(B4:B10) -> 43044000 | C11: =SUM(C4:C10) -> 44767141 | D11: =SUM(D4:D10) -> 1723141 | E11: =D4+D7 -> 1723141
A12: VIII. Finanszírozási bevételek
A13: 1. Költségvetési hiány belső finanszírozására szolgáló finanszírozási bevételek | B13: ='[2]2.sz.tábla'!B66 -> 11500000 | C13: ='[2]2.sz.tábla'!C66 -> 10574000 | D13: ='[2]2.sz.tábla'!D66 -> -926000
A14: 2. Költségvetési hiány külső finanszírozására szolgáló finanszírozási célú pénzügyi műveletek bevételei | B14: ='[2]2.sz.tábla'!B68 -> 228000 | C14: ='[2]2.sz.tábla'!C68 -> 754000 | D14: ='[2]2.sz.tábla'!D68 -> 526000
A15: Finanszírozási bevételek összesen: | B15: =B13+B14 -> 11728000 | C15: =C13+C14 -> 11328000 | D15: =D13+D14 -> -400000
A16: Bevételek összesen: | B16: =B11+B15 -> 54772000 | C16: =C11+C15 -> 56095141 | D16: =D11+D15 -> 1323141
A19: Működési kiadások | B19: =SUM(B20:B20) -> 37972000 | C19: =SUM(C20:C20) -> 40825000 | D19: =C19-B19 -> 2853000
A20: Önkormányzati feladatok | B20: ='[2]3.sz.tábla '!B40 -> 37972000 | C20: ='[2]3.sz.tábla '!C40 -> 40825000 | D20: =C20-B20 -> 2853000
A21: Felhalmozási kiadások | B21: =SUM(B22:B24) -> 4445000 | C21: =SUM(C22:C24) -> 4971000 | D21: =C21-B21 -> 526000
A22: Beruházások | B22: ='[2]5. sz. tábla'!B2 -> 3436000 | C22: ='[2]5. sz. tábla'!C2 -> 3941000 | D22: =C22-B22 -> 505000
A23: Felújítások | B23: ='[2]5. sz. tábla'!B10 -> 1009000 | C23: ='[2]5. sz. tábla'!C10 -> 1009000 | D23: =C23-B23 -> 0
A24: Egyéb felhalmozási kiadások | B24: ='[2]5. sz. tábla'!B14 -> 0 | C24: ='[2]5. sz. tábla'!C14 -> 21000 | D24: =C24-B24 -> 21000
A26: Tartalékok | B26: 11251000 | C26: =C27 -> 8669141 | D26: =C26-B26 -> -2581859
A27: Általános | B27: 11251000 | C27: 8669141
A28: Cél | D28: =C28-B28 -> 0
A29: Költségvetési kiadások összesen: | B29: =SUM(B26,B21,B19) -> 53668000 | C29: =SUM(C26,C21,C19) -> 54465141 | D29: =C29-B29 -> 797141
A30: Hiteltörlesztés | B30: ='[2]5. sz. tábla'!B18 -> 0 | C30: ='[2]5. sz. tábla'!C18 -> 0 | D30: =C30-B30 -> 0
A31: Forgatási célú értékpapír vásárlás | B31: ='[2]5. sz. tábla'!B19 -> 0 | C31: ='[2]5. sz. tábla'!C19 -> 0 | D31: =C31-B31 -> 0
A32: Állami támogatás megelőlegezés visszafizetés | B32: ='[2]5. sz. tábla'!B20 -> 1104000 | C32: ='[2]5. sz. tábla'!C20 -> 1630000 | D32: =C32-B32 -> 526000
A33: Finanszírozási kiadások összesen: | B33: =SUM(B30:B32) -> 1104000 | C33: =SUM(C30:C32) -> 1630000 | D33: =C33-B33 -> 526000
A34: Kiadások összesen: | B34: =SUM(B29,B33) -> 54772000 | C34: =SUM(C29,C33) -> 56095141 | D34: =C34-B34 -> 1323141

Sheet 2.sz.tábla
A3: MEGNEVEZÉS | B3: ÖNKORMÁNYZAT
B4: 2016. évi EREDETI | C4: I.MÓD. | D4: ELTÉRÉS
A5: I. Működési célú támogatások államháztartáson belülről | B5: =B6+B13+B14+B15+B16+B17 -> 22626310 | C5: =C6+C13+C14+C15+C16+C17 -> 23980451 | D5: =C5-B5 -> 1354141
A6: 1. Önkormányzat működési támogatásai | B6: =B7+B9+B10+B11 -> 22029310 | C6: =C7+C9+C10+C11 -> 22003451 | D6: =C6-B6 -> -25859
A7: 1.1. Helyi önk. működésének ált. támogatása | B7: 14483463 | C7: 14483463 | D7: =C7-B7 -> 0 | J7: =D9+D11+D17 -> 1354141
A8: 1.2. Települési önk. egyes köznev. feladatainak támogatása | D8: =C8-B8 -> 0
A9: 1.3. Települési önk. szoc. és gyermekjóléti feladatainak tám. | B9: 6234055 | C9: 6260344 | D9: =C9-B9 -> 26289
A10: 1.4. Települési önk. kult. feladatainak támogatása | B10: 1200000 | C10: 1200000 | D10: =C10-B10 -> 0
A11: 1.5. Helyi önk. Működési célú költségvetési támogatásai és kiegészítő támogatásai | B11: 111792 | C11: 59644 | D11: =C11-B11 -> -52148
A12: 1.6. Elszámolásból származó bevételek | D12: =C12-B12 -> 0
A13: 2. Elvonások, befizetések | D13: =C13-B13 -> 0
A14: 3. Működési célú garancia- és kezességvállalásból származó megtérülések áh-n belülről | D14: =C14-B14 -> 0
A15: 4. Működési célú visszatérítendő támogatások, kölcsönök visszatérülése áh-n belülről | D15: =C15-B15 -> 0
A16: 5. Működési célú visszatérítendő támogatások, kölcsönök igénybevétele áh-n belülről | D16: =C16-B16 -> 0
A17: 6. Egyéb működési célú támogatások bevételei államháztartáson belülről | B17: =B18+B19 -> 597000 | C17: =C18+C19 -> 1977000 | D17: =C17-B17 -> 1380000
A18: 6.1 Gyermekvédelmi tám. | B18: 58000 | C18: 0 | D18: =C18-B18 -> -58000 | J18: =D19+D18 -> 1380000
A19: 6.2 Közfoglalkoztatottak támogatás | B19: 539000 | C19: =1528000+449000 -> 1977000 | D19: =C19-B19 -> 1438000 | I19: 179682 előleg+89841*7+89841*8=1.527.297+89841*5=1977000
A20: II. Felhalmozási célú támogatások államháztartáson belülről | B20: =B21+B22+B23+B24+B25 -> 0 | C20: 0 | D20: =C20-B20 -> 0
A21: 1. Felhalmozási célú önkormányzati támogatások | D21: =C21-B21 -> 0
A22: 2. Felhalmozási célú garancia- és kezességvállalásból származó megtérülések áh-n belülről | D22: =C22-B22 -> 0
A23: 3. Felhalmozási célú visszatérítendő támogatások, kölcsönök visszatérülése áh-n belülről | D23: =C23-B23 -> 0
A24: 4. Felhalmozási célú visszatérítendő támogatások, kölcsönök igénybevétele áh-n belülről | D24: =C24-B24 -> 0
A25: 5. Egyéb felhalmozási célú támogatások államháztartáson belülről | D25: =C25-B25 -> 0
A26: III. Közhatalmi bevételek | B26: =B27+B30+B38 -> 10333000 | C26: =C27+C30+C38 -> 10333000 | D26: =C26-B26 -> 0
A27: 1. Vagyoni típusú adók | B27: =B28+B29 -> 5383000 | C27: =C28+C29 -> 5383000 | D27: =C27-B27 -> 0
A28: 1.1. Kommunális adó | B28: 5083000 | C28: 5083000 | D28: =C28-B28 -> 0
A29: 1.2. Telekadó | B29: 300000 | C29: 300000 | D29: =C29-B29 -> 0
A30: 2. Termékek és szolgáltatások adói | B30: =B31+B33+B34 -> 4850000 | C30: =C31+C33+C34 -> 4850000 | D30: =C30-B30 -> 0
A31: 2.1. Értékesítési és forgalmi adók | B31: =SUM(B32) -> 3000000 | C31: =SUM(C32) -> 3000000 | D31: =C31-B31 -> 0
A32: 2.1. 1. Iparűzési adó | B32: 3000000 | C32: 3000000 | D32: =C32-B32 -> 0
A33: 2.2. Gépjárműadók | B33: 1800000 | C33: 1800000 | D33: =C33-B33 -> 0
A34: 2.3. Egyéb áruhasználati és szolgáltatási adók | B34: =SUM(B35:B37) -> 50000 | C34: =SUM(C35:C37) -> 50000 | D34: =C34-B34 -> 0
A35: 2.3.1. Ifa személyek u. | B35: 50000 | C35: 50000 | D35: =C35-B35 -> 0
A36: 2.3.2. Talajterhelési díj | D36: =C36-B36 -> 0
A37: 2.3.3. Települési adó | D37: =C37-B37 -> 0
A38: 3. Egyéb közhatalmi bevételek (bírság, pótlék,) | B38: 100000 | C38: 100000 | D38: =C38-B38 -> 0
A39: IV. Működési bevételek | B39: =B40+B41+B43+B44+B45+B46+B47+B48+B49 -> 4084690 | C39: =C40+C41+C43+C44+C45+C46+C47+C48+C49 -> 4453690 | D39: =C39-B39 -> 369000
A40: 1. Áru- és készletértékesítés bevétele | D40: =C40-B40 -> 0
A41: 2. Nyújtott szolgáltatások ellenértéke | B41: 25000 | C41: 25000 | D41: =C41-B41 -> 0
A42: Ebből: bérleti díjak | B42: 25000 | C42: 25000 | D42: =C42-B42 -> 0
A43: 3. Közvetített szolgáltatások ellenértéke | B43: 5000 | C43: 15000 | D43: =C43-B43 -> 10000
A44: 4. Tulajdonosi bevételek | B44: 2500000 | C44: 2500000 | D44: =C44-B44 -> 0
A45: 5. Ellátási díjak | D45: =C45-B45 -> 0
A46: 6. Kiszámlázott Áfa | B46: 706000 | C46: 706000 | D46: =C46-B46 -> 0
A47: 7. Áfa visszatérítés | D47: =C47-B47 -> 0
A48: 8. Kamatbevétel | B48: 50140 | C48: 50140 | D48: =C48-B48 -> 0
A49: 9. Egyéb működési bevételek (kártérítés, kötbér, stb.) | B49: 798550 | C49: 1157550 | D49: =C49-B49 -> 359000
A50: V. Felhalmozási bevételek | B50: =SUM(B51:B54) -> 6000000 | C50: =SUM(C51:C54) -> 6000000 | D50: =C50-B50 -> 0
A51: 1. Immateriális javak értékesítése | D51: =C51-B51 -> 0
A52: 2. Ingatlanok értékesítése | B52: 6000000 | C52: 6000000 | D52: =C52-B52 -> 0
A53: 3. Egyéb tárgyi eszközök értékesítése | D53: =C53-B53 -> 0
A54: 4. Részesedések értékesítése | D54: =C54-B54 -> 0
A55: VI. Működési célú átvett pénzeszközök | B55: =SUM(B56:B58) -> 0 | C55: =SUM(C56:C58) -> 0 | D55: =C55-B55 -> 0
A56: 1. Működési célú garancia- és kezességvállalásból származó megtérülések áh-n kívülről | D56: =C56-B56 -> 0
A57: 2. Működési célú visszatérítendő támogatások, kölcsönök visszatérülése államháztartáson kívülről | D57: =C57-B57 -> 0
A58: 3. Egyéb működési célú átvett pénzeszközök | D58: =C58-B58 -> 0
A59: VII. Felhalmozási célú átvett pénzeszközök | B59: =SUM(B60:B62) -> 0 | C59: =SUM(C60:C62) -> 0 | D59: =C59-B59 -> 0
A60: 1. Felhalmozási célú garancia- és kezességvállalásból származó megtérülések áh-n kívülről | D60: =C60-B60 -> 0
A61: 2. Felhalmozási célú visszatérítendő támogatások, kölcsönök visszatérülése államháztartáson kívülről | D61: =C61-B61 -> 0
A62: 3. Egyéb felhalmozási célú átvett pénzeszközök | D62: =C62-B62 -> 0
A63: Költségvetési bevételek összesen: | B63: =B59+B55+B50+B39+B26+B20+B5 -> 43044000 | C63: =C59+C55+C50+C39+C26+C20+C5 -> 44767141 | D63: =C63-B63 -> 1723141
A64: VIII. Finanszírozási bevételek
A65: 1. Költségvetési hiány belső finanszírozására szolgáló bevételek | B65: =SUM(B66:B67) -> 11500000 | C65: =C66:D66 -> 10574000 | D65: =C65-B65 -> -926000
A66: 1.1. Előző év költségvetési maradványának igénybevétele működési célra | B66: 11500000 | C66: 10574000 | D66: =C66-B66 -> -926000
A67: 1.2. Előző év költségvetési maradványának igénybevétele felhalmozási célra | D67: =C67-B67 -> 0
A68: 2. Költségvetési hiány külső finanszírozására szolgáló finanszírozási bevételek | B68: =B70+B69 -> 228000 | C68: =C70+C69 -> 754000 | D68: =C68-B68 -> 526000
A69: 2.1. Forgatási célú értékpapír beváltása | D69: =C69-B69 -> 0
A70: 2.4. Államháztartáson belüli megelőlegezések | B70: 228000 | C70: 754000 | D70: =C70-B70 -> 526000
A71: Finanszírozási bevételek összesen: | B71: =B68+B65 -> 11728000 | C71: =C68+C65 -> 11328000 | D71: =C71-B71 -> -400000
A72: Összes bevétel: | B72: =B63+B71 -> 54772000 | C72: =C63+C71 -> 56095141 | D72: =C72-B72 -> 1323141 | I72: =D5+D20+D26+D39+D50+D55+D59+D65+D68 -> 1323141
A73: Intézményi létszámok: | B73: 6 | C73: 6 | D73: =C73-B73 -> 0
A74: ebből közfoglalkoztatott | B74: 3 | C74: 3 | D74: =C74-B74 -> 0

Sheet 2a. tábla
A3: MEGNEVEZÉS | B3: LÉTSZÁM | C3: MUTATÓ | D3: FAJLAGOS | E3: ELŐIRÁNYZAT | F3: Módosított előirányzat
A5: I. HELYI ÖNKORMÁNYZATOK MŰKÖDÉSÉNEK ÁLT.TÁMOGATÁSA | E5: =E6+E28 -> 14483463 | F5: =F6+F28 -> 14483463 | G5: =F5-E5 -> 0
A6: 1. Települési önkormányzatok működésének támogatása | E6: =E7+E10+E20+E21+E23+E24+E26+E27 -> 14470255 | F6: =F7+F10+F20+F21+F23+F24+F26+F27 -> 14470255
A7: Önkormányzati hivatal működtetésének támogatás (beszámítás után) | E7: =E8 -> 0 | F7: =F8 -> 0
A8: Önkormányzati hivatal működtetésének támogatás elismert hivatali létsz. | E8: =C8*D8 -> 0
A9: Beszámítás összege | E9: 0
A10: Település üzemeltetéséhez kapcsolódó feladatellát.támog.(beszámítás után) | E10: =E11+E12+E13+E14+E15+E16+E17+E18 -> 7493580 | F10: =F11+F12+F13+F14+F15+F16+F17+F18 -> 7493580
A11: Zöldterület-gazdálk-al kapcsolatos feladatok ellátásának támog. | D11: 22300 | E11: 985660 | F11: 985660
A12: Beszámítás összege
A13: Közvilágítás fenntartásának támogatás | E13: 4928000 | F13: 4928000
A14: Beszámítás összege
A15: Köztemető fenntartással kapcsolatos feladatok támog.
A16: Beszámítás összege
A17: Közutak fenntartásának támogatás | E17: 1579920 | F17: 1579920
A18: Beszámítás összege
A19: Egyéb önkormányzati feladatok támogatása (beszámítás után) | E19: =E20+E21 -> 6887425 | F19: =F20+F21 -> 6887425
A20: Egyéb önkormányzati feladatok támogatása | D20: 2700 | E20: 5000000 | F20: 5000000
A21: Beszámítás összege | E21: 1887425 | F21: 1887425
A22: Lakott külterületekkel kapcsolatos feladatok támogatása(beszámítás után) | E22: =E23+E24 -> 89250 | F22: =F23+F24 -> 89250
A23: Lakott külterületekkel kapcsolatos feladatok támogatása | D23: 2550 | E23: 89250 | F23: 89250
A24: Beszámítás összege
A25: Üdülőhelyi feladatok támogatása (beszámitás után)
A26: Üdülőhelyi feladatok támogatása
A27: Beszámítás összege
A28: 2015. évről áthúzódó bérkompenzáció támogatása | E28: 13208 | F28: 13208
A30: II. EGYES KÖZNEVELÉSI FELADATOK TÁMOGATÁSA
A32: III. SZOCIÁLIS, GYERMEKJÓLÉTI ÉS GYERMEKÉTKEZTETÉSI FELADATAI | E32: =E33+E36+E38 -> 6234055 | F32: =F33+F36+F38+F40 -> 6260344
A33: Pénzbeli szociális juttatások | E33: =SUM(E34:E35) -> 3734055 | F33: =SUM(F34:F35) -> 3734055
A34: Pénzbeli szociális ellátások kiegészítése
A35: Települési önkormányzatok szociális feladatainak egyéb támogatása | E35: 3734055 | F35: 3734055
A36: Egyes szoc.és gyermekjólétii felad.támog. | E36: =E37 -> 2500000 | F36: =F37 -> 2500000
A37: Falugondnoki vagy tanyagondnoki | E37: 2500000 | F37: 2500000
A38: Gyermekétkeztetés támogatása
A40: Szociális ágazati pótlék I.Név. | F40: 26289 | G40: =F40+F46 -> 85933
A42: Kulturális feladatok támogatása | E42: =E43 -> 1200000 | F42: =F43 -> 1200000
A43: Nyilvános könyvtári és közművelődési feladatok támogatása | E43: 1200000 | F43: 1200000
A45: Működési célú ktv-i támogatások és kiegészítő támogatások | F45: =F46 -> 59644
A46: 2015 évi bérkomp. | F46: 59644
A49: Összesen | E49: =E42+E32+E30+E5 -> 21917518 | F49: =F42+F32+F30+F5+F45 -> 22003451 | G49: =F49-E49 -> 85933

Sheet 3.sz.tábla 
A5: MEGNEVEZÉS | B5: 2016. évi EREDETI | C5: I.MÓD. | D5: ELTÉRÉS
A6: I. Önkormányzati Hivatal költségvetése
A7: 1. Személyi juttatás | B7: 7811000 | C7: 9197000 | D7: =C7-B7 -> 1386000
A8: 2. Munkaadót terhelő járulékok | B8: 2036000 | C8: 2384000 | D8: =C8-B8 -> 348000
A9: 3. Dologi kiadások | B9: =SUM(B10:B25) -> 16893000 | C9: =SUM(C10:C25) -> 17339000 | D9: =C9-B9 -> 446000 | E9: =D12+D13+D18+D19+D22+D25+D17 -> 446000
A10: Szakmai anyagok beszerzése | B10: 225000 | C10: 225000 | D10: =C10-B10 -> 0
A11: Üzemeltetési anyagok beszerzése | B11: 2716000 | C11: 2716000 | D11: =C11-B11 -> 0
A12: Informatikai szolg.igénybevétele | B12: 413000 | C12: =453000+100000 -> 553000 | D12: =C12-B12 -> 140000
A13: Egyéb kommunikációs szolg. | B13: 683000 | C13: 783000 | D13: =C13-B13 -> 100000
A14: Közüzemi díjak | B14: 2725000 | C14: 2725000 | D14: =C14-B14 -> 0
A15: Bérleti és lizingdíj | D15: =C15-B15 -> 0
A16: Karbantartási szolg. | B16: 1100000 | C16: 1100000 | D16: =C16-B16 -> 0
A17: Szakmai tevékenységet segítő szolg. | B17: 1355000 | C17: 1232000 | D17: =C17-B17 -> -123000
A18: Egyéb szolgáltatások | B18: 3641000 | C18: 4041000 | D18: =C18-B18 -> 400000
A19: Közvetített szolgáltatás | B19: 5000 | C19: 15000 | D19: =C19-B19 -> 10000
A20: Reklám és propaganda | B20: 60000 | C20: 60000 | D20: =C20-B20 -> 0
A21: Működési célú előzetesen felsz.áfa | B21: 2525000 | C21: 2525000 | D21: =C21-B21 -> 0
A22: Fizetendő áfa | B22: 270000 | C22: 389000 | D22: =C22-B22 -> 119000
A23: Kamatkiadások | D23: =C23-B23 -> 0
A24: Egyéb pénzügyi műv.kiadásai | D24: =C24-B24 -> 0
A25: Egyéb dologi kiadások | B25: 1175000 | C25: =1175000-200000 -> 975000 | D25: =C25-B25 -> -200000
A26: 4. Ellátottak pénzbeli juttatásai | B26: =B27 -> 1810000 | C26: =C27 -> 1810000 | D26: =C26-B26 -> 0
A27: Települési támogatás | B27: 1810000 | C27: 1810000 | D27: =C27-B27 -> 0
A28: 5. Egyéb működési célú kiadások | B28: =B29+B30+B33+B34+B35+B36+B37+B38 -> 9422000 | C28: =C29+C30+C33+C34+C35+C36+C37+C38 -> 10095000 | D28: =C28-B28 -> 673000
A29: 1. Működési célú garancia- és kezességvállalásból származó kifizetés áh-n belülre (4.tábla) | B29: 8467000 | C29: ='[2]4.sz.tábla'!C3 -> 8743000 | D29: =C29-B29 -> 276000 | E29: =D29+D30 -> 673000
A30: 2. Elvonások, befizetések | C30: =C31+C32 -> 397000 | D30: =C30-B30 -> 397000
A31: 2.1. Utak fejlesztése pályázat visszafizetési kötelezettség | C31: 136000
A32: 2.2. Járda beruházás pályázat visszafizetési kötelezettség | C32: 261000
A33: 3. Működési célú visszatérítendő támogatások, kölcsönök nyújtása áh-n belülre
A34: 4. Működési célú visszatérítendő támogatások, kölcsönök törlesztése áh-n belülre
A35: 5. Egyéb működési célú támogatások áh-n belülre
A36: 6. Működési célú garancia- és kezességvállalásból származó kifizetés államháztartáson kívülre
A37: 7. Működési célú visszatérítendő támogatások, kölcsönök nyújtása áh-n kívülre
A38: 8. Egyéb működési célú támogatások áh-n kívülre | B38: 955000 | C38: 955000 | D38: =C38-B38 -> 0
A40: Önkormányzati működési kiadások összesen: | B40: =B7+B8+B9+B26+B28 -> 37972000 | C40: =C7+C8+C9+C26+C28 -> 40825000 | D40: =C40-B40 -> 2853000 | E40: =D7+D8+D9+D26+D28 -> 2853000

Sheet 4.sz.tábla
A2: Megnevezés | B2: 2016. évi EREDETI | C2: I.MÓD. | D2: ELTÉRÉS
A3: 1. Működési célú támogatások államháztartáson belülre | B3: =SUM(B4:B10) -> 8467000 | C3: =SUM(C4:C10) -> 8743000 | D3: =C3-B3 -> 276000
A4: Közoktatási Intézményfenntartó Társulás Pécsely Óvoda fenntart támogatás | B4: 2291000 | C4: =2291000-21000 -> 2270000 | D4: =C4-B4 -> -21000 | E4: =D4+D8+D9+D5 -> 276000
A5: Balatonfüredi közös Önkorm Hivatal | B5: 4850000 | C5: =4850000+232000 -> 5082000 | D5: =C5-B5 -> 232000 | E5: =B6+B9+B10 -> 648000
A6: Védőnői szolgálat | B6: 290000 | C6: 290000 | D6: =C6-B6 -> 0 | E6: =C6+C9+C10 -> 590000
A7: Pe átadás fogorvosi szolgálatra | D7: =C7-B7 -> 0
A8: Bf. Többcélú Társulás | B8: 678000 | C8: 801000 | D8: =C8-B8 -> 123000
A9: Pe Átadás gyermekjóléti szolgra | B9: 58000 | C9: 0 | D9: =C9-B9 -> -58000
A10: BURSA Hungarica ösztöndíj (Wekerle Sándor Alapkezelő) | B10: 300000 | C10: 300000 | D10: =C10-B10 -> 0
A11: 2. Működési célú támogatások államháztartáson kívülre | B11: =SUM(B12:B17) -> 955000 | C11: =SUM(C12:C17) -> 955000 | D11: =C11-B11 -> 0
A12: Ref.egyház | B12: 30000 | C12: 30000 | D12: =C12-B12 -> 0
A13: Darts Sportegyesület | B13: 150000 | C13: 150000 | D13: =C13-B13 -> 0
A14: Pe átadás Bfüredi Önk Tűzoltóságnak | B14: 325000 | C14: 325000 | D14: =C14-B14 -> 0
A15: Tihany Iskoláért Alapítvány | B15: 50000 | C15: 50000 | D15: =C15-B15 -> 0
A16: Balatonszőlős Sport egyesület | B16: 400000 | C16: 400000 | D16: =C16-B16 -> 0
A18: 3. Működési célú visszatérítendő támogatások, kölcsönök nyújtása, törlesztése | B18: =SUM(B19:B19) -> 0 | C18: =SUM(C19:C19) -> 0 | D18: 0
A20: Egyéb működési célú kiadások összesen:
A22: Összesen: | B22: =B11+B3 -> 9422000 | C22: =C11+C3 -> 9698000 | D22: =D11+D3 -> 276000

Sheet 5. sz. tábla
A1: Megnevezés | B1: 2016. évi EREDETI | C1: I.MÓD. | D1: ELTÉRÉS
A2: I. BERUHÁZÁSOK | B2: =B3+B4+B5+B6 -> 3436000 | C2: =C3+C4+C5+C6+C8+C9+C7 -> 3941000 | D2: =C2-B2 -> 505000
A3: Járda végszámla | B3: 1000000 | C3: 1000000 | D3: =C3-B3 -> 0 | E3: =D7+D8+D9 -> 505000
A4: Közösségi Ház nyitott színtere | B4: 500000 | C4: 500000 | D4: =C4-B4 -> 0 | E4: =B4+B5+B6 -> 2436000
A5: Futó-kocogó kör tervei | B5: 300000 | C5: 300000 | D5: =C5-B5 -> 0 | E5: =E4+C7+C8+C9 -> 2941000
A6: Könyvtár bútora | B6: 1636000 | C6: 1636000 | D6: =C6-B6 -> 0
A7: Egyéb tárgyi eszköz beszerzése | C7: 350000 | D7: =C7-B7 -> 350000
A8: Informatikai eszköz beszerzése-TP Link | C8: 5000 | D8: =C8-B8 -> 5000
A9: Laptop 38/16.05.17 | C9: 150000 | D9: =C9-B9 -> 150000
A10: II. FELÚJÍTÁSOK | B10: =B11+B12 -> 1009000 | C10: =C11+C12 -> 1009000 | D10: =C10-B10 -> 0
A11: Vis Major műszaki ellenőrzés | B11: 120000 | C11: 120000 | D11: =C11-B11 -> 0
A12: Bakonykarszt szivattyú felújítás | B12: 889000 | C12: 889000 | D12: =C12-B12 -> 0
A14: III. EGYÉB FELHALMOZÁSI KIADÁSOK | B14: 0 | C14: =C15 -> 21000 | D14: =C14-B14 -> 21000
A15: Közoktatási Intézményfenntartó Társulás Pécsely Óvoda fenntart támogatás | C15: 21000 | D15: =C15-B15 -> 21000
A17: IV. Finanszírozási kiadások
A18: Hitel törlesztés
A19: Forgatási célú értékpapír vásárlás
A20: Állami támogatás megelőlegezés visszafizetés | B20: 1104000 | C20: =1104000+526000 -> 1630000 | D20: =C20-B20 -> 526000 | E20: 37203*8=297624+41565=339189
A21: IV. Finanszírozási kiadások összesen: | B21: =SUM(B18:B20) -> 1104000 | C21: =SUM(C18:C20) -> 1630000 | D21: =SUM(D18:D20) -> 526000
A22: Felhalmozási kiadások összesen: | B22: =B2+B10+B14+B21 -> 5549000 | C22: =C2+C10+C14+C21 -> 6601000 | D22: =D2+D10+D14+D21 -> 1052000 | E22: =D2+D10+D21+D14 -> 1052000

Sheet 6. sz. tábla 
A4: Az Önkormányzat működési bevételei és kiadásai 2016. év
A6: 1. Működési bevételek | B6: 2016. évi EREDETI | C6: I.MÓD. | D6: ELTÉRÉS | E6: 2. Működési kiadások | F6: 2016. évi EREDETI | G6: I.MÓD. | H6: ELTÉRÉS
A7: 1. Működési célú támogatások államháztartáson belülről | B7: ='[2]1.sz.tábla '!B4 -> 22626310 | C7: ='[2]1.sz.tábla '!C4 -> 23980451 | D7: =C7-B7 -> 1354141 | E7: 1. Személyi juttatások | F7: ='[2]3.sz.tábla '!B7 -> 7811000 | G7: ='[2]3.sz.tábla '!C7 -> 9197000 | H7: =G7-F7 -> 1386000
A8: 2. Közhatalmi bevételek | B8: ='[2]1.sz.tábla '!B6 -> 10333000 | C8: ='[2]1.sz.tábla '!C6 -> 10333000 | D8: =C8-B8 -> 0 | E8: 2. Munkaadót terhelő járulékok és szoc.hj. Adó | F8: ='[2]3.sz.tábla '!B8 -> 2036000 | G8: ='[2]3.sz.tábla '!C8 -> 2384000 | H8: =G8-F8 -> 348000
A9: 3. Működési bevételek | B9: ='[2]1.sz.tábla '!B7 -> 4084690 | C9: ='[2]1.sz.tábla '!C7 -> 4453690 | D9: =C9-B9 -> 369000 | E9: 3. Dologi kiadások | F9: ='[2]3.sz.tábla '!B9 -> 16893000 | G9: ='[2]3.sz.tábla '!C9 -> 17339000 | H9: =G9-F9 -> 446000
A10: 4. Működési célú átvett pénzeszközök államháztartáson kivülről | B10: ='[2]1.sz.tábla '!B9 -> 0 | C10: ='[2]1.sz.tábla '!C9 -> 0 | D10: =C10-B10 -> 0 | E10: 4. Ellátottak pénzbeli juttatásai | F10: ='[2]3.sz.tábla '!B26 -> 1810000 | G10: ='[2]3.sz.tábla '!C26 -> 1810000 | H10: =G10-F10 -> 0
D11: =C11-B11 -> 0 | E11: 5. Egyéb működési célú kiadások | F11: ='[2]3.sz.tábla '!B28 -> 9422000 | G11: ='[2]3.sz.tábla '!C28 -> 10095000 | H11: =G11-F11 -> 673000
D12: =C12-B12 -> 0 | E12: 5.1. Elvonások, befizetések | F12: ='[2]3.sz.tábla '!B30 -> 0 | G12: ='[2]3.sz.tábla '!C30 -> 397000 | H12: =G12-F12 -> 397000
D13: =C13-B13 -> 0 | E13: 5.2. Egyéb működési célú támogatások áh-n belülre | F13: ='[2]3.sz.tábla '!B29 -> 8467000 | G13: ='[2]3.sz.tábla '!C29 -> 8743000 | H13: =G13-F13 -> 276000
D14: =C14-B14 -> 0 | E14: 5.4. Egyéb működési célú támogatások áh-n kívülre | F14: ='[2]3.sz.tábla '!B38 -> 955000 | G14: ='[2]3.sz.tábla '!C38 -> 955000 | H14: =G14-F14 -> 0
D15: =C15-B15 -> 0 | E15: 5.5. Működési célú visszatérítendő támogatások, kölcsönök nyújtása áh-n kívülre | H15: =G15-F15 -> 0
D16: =C16-B16 -> 0 | E16: 6. Pénzforgalom nélküli kiadások (tartalék) | F16: ='[2]1.sz.tábla '!B26 -> 11251000 | G16: ='[2]1.sz.tábla '!C26 -> 8669141 | H16: =G16-F16 -> -2581859
A17: Összes költségvetési működési bevétel: | B17: =SUM(B7:B16) -> 37044000 | C17: =SUM(C7:C16) -> 38767141 | D17: =C17-B17 -> 1723141 | E17: Összes költségvetési működési kiadás: | F17: =F7+F8+F9+F10+F11+F16 -> 49223000 | G17: =G7+G8+G9+G10+G11+G16 -> 49494141 | H17: =G17-F17 -> 271141
A18: Működési többlet: | B18: 0 | C18: 0 | D18: =C18-B18 -> 0 | E18: Működési hiány: | F18: =F17-B17 -> 12179000 | G18: =G17-C17 -> 10727000 | H18: =G18-F18 -> -1452000
A19: Költségvetési hiány belső finanszírozása működési célú | B19: =SUM(B20) -> 11500000 | C19: =SUM(C20) -> 10574000 | D19: =C19-B19 -> -926000 | E19: Finanszírozási célú műveletek kiadásai működési célú | F19: =SUM(F20:F20) -> 1104000 | G19: =SUM(G20:G21) -> 1630000 | H19: =G19-F19 -> 526000
A20: 5. Költségvetési Maradvány | B20: ='[2]1.sz.tábla '!B13 -> 11500000 | C20: ='[2]1.sz.tábla '!C13 -> 10574000 | D20: =C20-B20 -> -926000 | E20: 7. Állami támogatás megelőlegezés visszafizetése | F20: ='[2]1.sz.tábla '!B32 -> 1104000 | G20: ='[2]1.sz.tábla '!C32 -> 1630000 | H20: =G20-F20 -> 526000
A21: Költségvetési hiány külső finanszírozása működési célú | B21: =SUM(B22:B24) -> 228000 | C21: =SUM(C22:C24) -> 754000 | D21: =C21-B21 -> 526000 | E21: 8. Hitelek törlesztése | H21: =G21-F21 -> 0
A22: 6. Értékpapír kibocsátás, értékesítés | D22: =C22-B22 -> 0 | E22: 9. Betét vásárlás | H22: =G22-F22 -> 0
A23: 7. Hitelfelvétel | D23: =C23-B23 -> 0 | E23: 10. Forgatási célú értékpapír vás. | H23: =G23-F23 -> 0
A24: 8. Állami támogatás megelőlegezés visszafizetése | B24: ='[2]2.sz.tábla'!B70 -> 228000 | C24: ='[2]2.sz.tábla'!C70 -> 754000 | D24: =C24-B24 -> 526000 | H24: =G24-F24 -> 0
A25: Összes működési bevétel: | B25: =B17+B19+B21 -> 48772000 | C25: =C17+C19+C21 -> 50095141 | D25: =C25-B25 -> 1323141 | E25: Összes működési kiadás | F25: =F17+F19 -> 50327000 | G25: =G19+G17 -> 51124141 | H25: =G25-F25 -> 797141
A27: Az Önkormányzat felhalmozási bevételei és kiadásai 2016. év
A29: 1. Felhalmozási bevételek | B29: 2016. évi EREDETI | C29: I.MÓD. | D29: ELTÉRÉS | E29: 2. Felhalmozási kiadások | F29: 2016. évi EREDETI | G29: I.MÓD. | H29: ELTÉRÉS
A30: 1. Felhalmozási célú támogatások államháztartáson belülről | B30: ='[2]2.sz.tábla'!B20 -> 0 | C30: ='[2]2.sz.tábla'!C20 -> 0 | D30: =C30-B30 -> 0 | E30: 1.1. Beruházások | F30: ='[2]5. sz. tábla'!B2 -> 3436000 | G30: ='[2]5. sz. tábla'!C2 -> 3941000 | H30: =G30-F30 -> 505000
A31: 2. Felhalmozási bev. | B31: ='[2]1.sz.tábla '!B8 -> 6000000 | C31: ='[2]1.sz.tábla '!C8 -> 6000000 | D31: =C31-B31 -> 0 | E31: 1.2. Int.saját hatáskörű fejlesztések | H31: =G31-F31 -> 0
A32: 3. Felhalmozási célú átvett pénzeszközök | B32: ='[2]1.sz.tábla '!B10 -> 0 | C32: ='[2]1.sz.tábla '!C10 -> 0 | D32: =C32-B32 -> 0 | E32: 2. Felújítások | F32: ='[2]5. sz. tábla'!B10 -> 1009000 | G32: ='[2]5. sz. tábla'!C10 -> 1009000 | H32: =G32-F32 -> 0
D33: =C33-B33 -> 0 | E33: 3. Egyéb felhalmozási kiadások | F33: ='[2]5. sz. tábla'!B14 -> 0 | G33: ='[2]5. sz. tábla'!C14 -> 21000 | H33: =G33-F33 -> 21000 | I33: =SUM(#REF!) -> #REF!
D34: =C34-B34 -> 0 | E34: 3.1. Egyéb felhalmozási célú támogatások áh-n kívülre | H34: =G34-F34 -> 0
D35: =C35-B35 -> 0 | E35: 3.2. Egyéb felhalmozási célú támogatások áh-n belülre | H35: =G35-F35 -> 0
D36: =C36-B36 -> 0 | E36: 3.3. Felhalmozási célú visszatérítendő támogatások, kölcsönök nyújtása áh-n belülre | H36: =G36-F36 -> 0
D37: =C37-B37 -> 0 | E37: 3.3. Felhalmozási célú visszatérítendő támogatások, kölcsönök nyújtása áh-n kívülre | H37: =G37-F37 -> 0
A38: Összes költségvetési felhalmozási bevétel: | B38: =SUM(B30:B36) -> 6000000 | C38: =SUM(C30:C36) -> 6000000 | D38: =C38-B38 -> 0 | E38: Összes költségvetési felhalmozási kiadás: | F38: =SUM(F30:F33) -> 4445000 | G38: =SUM(G30:G33) -> 4971000 | H38: =G38-F38 -> 526000
A39: Felhalmozási többlet: | D39: =C39-B39 -> 0 | E39: Felhalmozási hiány: | F39: =B38-F38 -> 1555000 | G39: =C38-G38 -> 1029000 | H39: =G39-F39 -> -526000
A40: Költségvetési hiány belső finanszírozása felhalmozási célú | B40: =SUM(B41) -> 0 | C40: =SUM(C41) -> 0 | D40: =C40-B40 -> 0 | E40: Finanszírozási célú műveletek kiadásai felhalmozási célú | F40: =SUM(F41:F43) -> 1104000 | G40: =SUM(G41:G43) -> 1630000 | H40: =G40-F40 -> 526000
A41: 4.Költségvetési maradvány | D41: =C41-B41 -> 0 | E41: 4. Értékpapírok visszavásárlása | H41: =G41-F41 -> 0
A42: Költségvetési hiány külső finanszírozása felhalmozási célú | B42: =SUM(B43:B44) -> 0 | C42: =SUM(C43:C44) -> 0 | D42: =C42-B42 -> 0 | E42: 5. Hitelek törlesztése | H42: =G42-F42 -> 0
A43: 5. Értékpapír kibocsátás, értékesítés | D43: =C43-B43 -> 0 | E43: 6. Állami támogatás megelőlegezés visszafizetése | F43: ='[2]1.sz.tábla '!B32 -> 1104000 | G43: ='[2]1.sz.tábla '!C32 -> 1630000 | H43: =G43-F43 -> 526000
A44: 6. Hitelfelvétel | D44: =C44-B44 -> 0 | H44: =G44-F44 -> 0
A45: Összes felhalmozási bevétel: | B45: =B38+B40+B42 -> 6000000 | C45: =C38+C40+C42 -> 6000000 | D45: =C45-B45 -> 0 | E45: Összes felhalmozási kiadás | F45: =F38+F40 -> 5549000 | G45: =G38+G40 -> 6601000 | H45: =G45-F45 -> 1052000
A47: Bevételek és kiadások mérlege 2016. év
A49: BEVÉTELEK | B49: 2016. évi EREDETI | C49: I.MÓD. | D49: ELTÉRÉS | E49: KIADÁSOK | F49: 2016. évi EREDETI | G49: I.MÓD. | H49: ELTÉRÉS
A50: Költségvetési működési bevételek | B50: =B17 -> 37044000 | C50: =C17 -> 38767141 | D50: =C50-B50 -> 1723141 | E50: Költségvetési működési kiadások | F50: =F17 -> 49223000 | G50: =G17 -> 49494141 | H50: =G50-F50 -> 271141
A51: Költségvetési felhalmozási bevételek | B51: =B38 -> 6000000 | C51: =C38 -> 6000000 | D51: =C51-B51 -> 0 | E51: Költségvetési felhalmozási kiadások | F51: =F38 -> 4445000 | G51: =G38 -> 4971000 | H51: =G51-F51 -> 526000
A52: Költségvetési bevételek összesen: | B52: =SUM(B50:B51) -> 43044000 | C52: =SUM(C50:C51) -> 44767141 | D52: =C52-B52 -> 1723141 | E52: Költségvetési kiadások összesen: | F52: =SUM(F50:F51) -> 53668000 | G52: =SUM(G50:G51) -> 54465141 | H52: =G52-F52 -> 797141
A53: Költségvetési többlet: | D53: =C53-B53 -> 0 | E53: Költségvetési hiány: | F53: =F52-B52 -> 10624000 | G53: =G52-C52 -> 9698000 | H53: =G53-F53 -> -926000
A54: Költségvetési hiány belső finanszírozása: | B54: =SUM(B55:B56) -> 11500000 | C54: =SUM(C55:C56) -> 10574000 | D54: =C54-B54 -> -926000 | E54: Finanszírozási célú műveletek kiadásai összesen: | F54: =SUM(F55:F56) -> 1104000 | G54: =SUM(G55:G56) -> 1630000 | H54: =G54-F54 -> 526000
A55: Költségvetési hiány belső finanszírozása működési célú | B55: =B19 -> 11500000 | C55: =C19 -> 10574000 | D55: =C55-B55 -> -926000 | E55: Finanszírozási célú műveletek működési kiadásai | F55: =F19 -> 1104000 | G55: =G19 -> 1630000 | H55: =G55-F55 -> 526000
A56: Költségvetési hiány belső finanszírozása felhalmozási célú | B56: =B40 -> 0 | C56: =C40 -> 0 | D56: =C56-B56 -> 0 | E56: Finanszírozási célú műveletek felhalmozási kiadásai
A57: Költségvetési hiány külső finanszírozása: | B57: =SUM(B58:B59) -> 228000 | C57: =SUM(C58:C59) -> 754000 | D57: =C57-B57 -> 526000
A58: Költségvetési hiány külső finanszírozása működési célú | B58: =B21 -> 228000 | C58: =C21 -> 754000 | D58: =C58-B58 -> 526000
A59: Költségvetési hiány külső finanszírozása felhalmozási célú | B59: =B42 -> 0 | C59: =C42 -> 0 | D59: =C59-B59 -> 0
A60: Összes bevétel: | B60: =B52+B54+B57 -> 54772000 | C60: =C52+C54+C57 -> 56095141 | D60: =C60-B60 -> 1323141 | E60: Összes kiadás: | F60: =F52+F54 -> 54772000 | G60: =G52+G54 -> 56095141 | H60: =H52+H54 -> 1323141
A61: TÖBBLET

Sheet 7. sz. tábla
A4: Az Önkormányzat kötelező feladatok bevételei és kiadásai 2016. év
A6: 1. Működési bevételek | B6: 2016. évi EREDETI | C6: I.MÓD. | D6: ELTÉRÉS | E6: 2. Működési kiadások | F6: 2016. évi EREDETI | G6: I.MÓD. | H6: ELTÉRÉS
A7: Működési bevételek | E7: Működési kiadások
A8: 1. Működési támogatások államháztartáson belülről | B8: ='[2]6. sz. tábla '!B7 -> 22626310 | C8: ='[2]6. sz. tábla '!C7 -> 23980451 | D8: =C8-B8 -> 1354141 | E8: 1. Személyi juttatások | F8: ='[2]6. sz. tábla '!F7 -> 7811000 | G8: ='[2]6. sz. tábla '!G7 -> 9197000 | H8: =G8-F8 -> 1386000
A9: 2. Közhatalmi bevételek | B9: ='[2]6. sz. tábla '!B8 -> 10333000 | C9: ='[2]6. sz. tábla '!C8 -> 10333000 | D9: =C9-B9 -> 0 | E9: 2. Munkaadót terhelő járulékok | F9: ='[2]6. sz. tábla '!F8 -> 2036000 | G9: ='[2]6. sz. tábla '!G8 -> 2384000 | H9: =G9-F9 -> 348000
A10: 3. Működési bevételek | B10: ='[2]6. sz. tábla '!B9 -> 4084690 | C10: ='[2]6. sz. tábla '!C9 -> 4453690 | D10: =C10-B10 -> 369000 | E10: 3. Dologi kiadások | F10: ='[2]6. sz. tábla '!F9 -> 16893000 | G10: ='[2]6. sz. tábla '!G9 -> 17339000 | H10: =G10-F10 -> 446000
A11: 4. Működési célú átvett pénzeszközök államháztartáson kivülről | B11: ='[2]6. sz. tábla '!B10 -> 0 | C11: ='[2]6. sz. tábla '!C10 -> 0 | D11: =C11-B11 -> 0 | E11: 4. Ellátottak pénzbeli juttatásai | F11: ='[2]6. sz. tábla '!F10 -> 1810000 | G11: ='[2]6. sz. tábla '!G10 -> 1810000 | H11: =G11-F11 -> 0
D12: =C12-B12 -> 0 | E12: 5. Egyéb működési célú kiadások | F12: =F14+F15+F16 -> 7819000 | G12: =G14+G15+G16+G13 -> 8550000 | H12: =G12-F12 -> 731000
D13: =C13-B13 -> 0 | E13: 5.1. Elvonások, befizetések | F13: ='[2]6. sz. tábla '!F12 -> 0 | G13: ='[2]6. sz. tábla '!G12 -> 397000 | H13: =G13-F13 -> 397000
D14: =C14-B14 -> 0 | E14: 5.2. Egyéb működési célú támogatások áh-n belülre | F14: ='[2]6. sz. tábla '!F13-648000 -> 7819000 | G14: ='[2]6. sz. tábla '!G13-590000 -> 8153000 | H14: =G14-F14 -> 334000
D15: =C15-B15 -> 0 | E15: 5.4. Egyéb működési célú támogatások áh-n kívülre | F15: ='[2]6. sz. tábla '!F14-955000 -> 0 | G15: ='[2]6. sz. tábla '!G14-955000 -> 0 | H15: =G15-F15 -> 0
D16: =C16-B16 -> 0 | E16: 5.5. Működési célú visszatérítendő támogatások, kölcsönök nyújtása áh-n kívülre | F16: ='[2]6. sz. tábla '!F15 -> 0 | G16: ='[2]6. sz. tábla '!G15 -> 0 | H16: =G16-F16 -> 0
D17: =C17-B17 -> 0 | E17: 6. Pénzforgalom nélküli kiadások (tartalék) | F17: ='[2]6. sz. tábla '!F16 -> 11251000 | G17: ='[2]6. sz. tábla '!G16 -> 8669141 | H17: =G17-F17 -> -2581859
A18: Költségvetési működési bevételek kötelező feladatok szerinti bontásban | B18: =SUM(B8:B17) -> 37044000 | C18: =SUM(C8:C17) -> 38767141 | D18: =C18-B18 -> 1723141 | E18: Költségvetési felhalmozási kiadások kötelező feladatok szerinti bontásban | F18: =F8+F9+F10+F11+F12+F17 -> 47620000 | G18: =G8+G9+G10+G11+G12+G17 -> 47949141 | H18: =G18-F18 -> 329141
A19: Finanszírozási bevételek | B19: ='[2]6. sz. tábla '!B19+'[2]6. sz. tábla '!B21 -> 11728000 | C19: ='[2]6. sz. tábla '!C19+'[2]6. sz. tábla '!C21 -> 11328000 | D19: =C19-B19 -> -400000 | E19: Finanszírozási kiadások | F19: ='[2]6. sz. tábla '!F19 -> 1104000 | G19: ='[2]6. sz. tábla '!G19 -> 1630000 | H19: =G19-F19 -> 526000
A20: Működési bevételek kiemelt előirányzatonként kötelező feladatok szerinti bontásban | B20: =B18+B19 -> 48772000 | C20: =C18+C19 -> 50095141 | D20: =C20-B20 -> 1323141 | E20: Működési kiadások kiemelt előirányzatonként kötelező feladatok szerinti bontásban | F20: =F18+F19 -> 48724000 | G20: =G18+G19 -> 49579141 | H20: =G20-F20 -> 855141
A21: Felhalmozási bevételek | D21: =C21-B21 -> 0 | E21: Felhalmozási kiadások
A22: 1. Felhalmozási célú támogatások államháztartáson belülről | B22: ='[2]6. sz. tábla '!B30 -> 0 | C22: ='[2]6. sz. tábla '!C30 -> 0 | D22: =C22-B22 -> 0 | E22: 1.1. Beruházások | F22: ='[2]6. sz. tábla '!F30-2436000 -> 1000000 | G22: ='[2]6. sz. tábla '!G30-2941000 -> 1000000 | H22: =G22-F22 -> 0
A23: 2. Felhalmozási bevételek | B23: ='[2]6. sz. tábla '!B31-6000000 -> 0 | C23: ='[2]6. sz. tábla '!C31-6000000 -> 0 | D23: =C23-B23 -> 0 | E23: 1.2. Int.saját hatáskörű fejlesztések
A24: 3. Felhalmozási célú átvett pénzeszközök áh-n kívülről | B24: ='[2]6. sz. tábla '!B32 -> 0 | C24: ='[2]6. sz. tábla '!C32 -> 0 | D24: =C24-B24 -> 0 | E24: 2. Felújítások | F24: ='[2]6. sz. tábla '!F32 -> 1009000 | G24: ='[2]6. sz. tábla '!G32 -> 1009000 | H24: =G24-F24 -> 0
D25: =C25-B25 -> 0 | E25: 3. Egyéb felhalmozási célú kiadások | F25: ='[2]6. sz. tábla '!F33 -> 0 | G25: ='[2]6. sz. tábla '!G33-21000 -> 0 | H25: =G25-F25 -> 0
D26: =C26-B26 -> 0 | E26: 3.1. Egyéb felhalmozási célú pénzeszköz átadás áh-n kívülre
D27: =C27-B27 -> 0 | E27: 3.2. Egyéb felhalmozási célú pénzeszköz átadás áh-n belülre
D28: =C28-B28 -> 0 | E28: 3.4. Felhalmozási célú visszatérítendő támogatások, kölcsönök nyújtása áh-n kívülre
A29: Költségvetési felhalmozási bevételek kötelező feladatok szerinti bontásban | B29: =SUM(B22:B28) -> 0 | C29: =SUM(C22:C28) -> 0 | D29: =C29-B29 -> 0 | E29: Költségvetési felhalmozási kiadások kötelező feladatok szerinti bontásban | F29: =SUM(F22:F28) -> 2009000 | G29: =SUM(G22:G28) -> 2009000 | H29: =G29-F29 -> 0
A30: Finanszírozási bevételek | D30: =C30-B30 -> 0 | E30: Finanszírozási kiadások | H30: =G30-F30 -> 0
A31: Felhalmozási bevételek kiemelt előirányzatonként kötelező feladatok szerinti bontásban | B31: =B29+B30 -> 0 | C31: =C29+C30 -> 0 | D31: =C31-B31 -> 0 | E31: Felhalmozási kiadások kiemelt előirányzatonként kötelező feladatok szerinti bontásban | F31: =F29+F30 -> 2009000 | G31: =G29+G30 -> 2009000 | H31: =G31-F31 -> 0
B32: =B31+B20 -> 48772000 | C32: =C31+C20 -> 50095141 | D32: =C32-B32 -> 1323141 | F32: =F31+F20 -> 50733000 | G32: =G31+G20 -> 51588141 | H32: =G32-F32 -> 855141
A35: Az Önkormányzat önként vállalt feladatok bevételei és kiadásai 2016. év
A37: 1. Működési bevételek | B37: 2016. évi EREDETI | C37: I.MÓD. | D37: ELTÉRÉS | E37: 2. Működési kiadások | F37: 2016. évi EREDETI | G37: I.MÓD. | H37: ELTÉRÉS
A38: Működési bevételek | E38: Működési kiadások | H38: =G38-F38 -> 0
A39: 1. Működési támogatások államháztartáson belülről | E39: 1. Személyi juttatások | H39: =G39-F39 -> 0
A40: 2. Közhatalmi bevételek | E40: 2. Munkaadót terhelő járulékok | H40: =G40-F40 -> 0
A41: 3. Működési bevételek | E41: 3. Dologi kiadások | H41: =G41-F41 -> 0
A42: 4. Működési célú átvett pénzeszközök államháztartáson kivülről | E42: 4. Ellátottak pénzbeli juttatásai | H42: =G42-F42 -> 0
E43: 5. Egyéb működési célú kiadások | H43: =G43-F43 -> 0
E44: 5.1. Elvonások, befizetések | H44: =G44-F44 -> 0
E45: 5.2. Egyéb működési célú támogatások áh-n belülre | F45: 648000 | G45: 590000 | H45: =G45-F45 -> -58000
E46: 5.4. Egyéb működési célú támogatások áh-n kívülre | F46: 955000 | G46: 955000 | H46: =G46-F46 -> 0
E47: 5.5. Működési célú visszatérítendő támogatások, kölcsönök nyújtása áh-n kívülre | H47: =G47-F47 -> 0
E48: 6. Pénzforgalom nélküli kiadások (tartalék) | H48: =G48-F48 -> 0
A49: Költségvetési működési bevételek önként vállalt feladatok szerinti bontásban | B49: =SUM(B39:B48) -> 0 | C49: =SUM(C39:C48) -> 0 | D49: =SUM(D39:D48) -> 0 | E49: Költségvetési működési kiadások önként vállalt feladatok szerinti bontásban | F49: =SUM(F39:F48) -> 1603000 | G49: =SUM(G39:G48) -> 1545000 | H49: =G49-F49 -> -58000
A50: Finanszírozási bevételek | E50: Finanszírozási kiadások | H50: =G50-F50 -> 0
A51: Működési bevételek kiemelt előirányzatonként önként vállalt feladatok szerinti bontásban | B51: =B49+B50 -> 0 | C51: =C49+C50 -> 0 | D51: =D49+D50 -> 0 | E51: Működési kiadások kiemelt előirányzatonként önként vállalt feladatok szerinti bontásban | F51: =F49+F50 -> 1603000 | G51: =G49+G50 -> 1545000 | H51: =G51-F51 -> -58000
A52: Felhalmozási bevételek | E52: Felhalmozási kiadások | H52: =G52-F52 -> 0
A53: 1. Felhalmozási célú támogatások államháztartáson belülről | E53: 1.1. Beruházások | F53: 2436000 | G53: 2941000 | H53: =G53-F53 -> 505000
A54: 2. Felhalmozási bevételek | B54: 6000000 | E54: 1.2. Int.saját hatáskörű fejlesztések | H54: =G54-F54 -> 0
A55: 3. Felhalmozási célú átvett pénzeszközök áh-n kívülről | E55: 2. Felújítások | H55: =G55-F55 -> 0
E56: 3. Egyéb felhalmozási célú kiadások | H56: =G56-F56 -> 0
E57: 3.1. Egyéb felhalmozási célú pénzeszköz átadás áh-n kívülre | H57: =G57-F57 -> 0
E58: 3.2. Egyéb felhalmozási célú pénzeszköz átadás áh-n belülre | G58: 21000 | H58: =G58-F58 -> 21000
E59: 3.3. Felhalmozási célú visszatérítendő támogatások, kölcsönök nyújtása áh-n belülre | H59: =G59-F59 -> 0
E60: 3.4. Felhalmozási célú visszatérítendő támogatások, kölcsönök nyújtása áh-n kívülre | H60: =G60-F60 -> 0
A61: Költségvetési felhalmozási bevételek önként vállalt feladatok szerinti bontásban | B61: =SUM(B53:B59) -> 6000000 | C61: =SUM(C53:C59) -> 0 | D61: =SUM(D53:D59) -> 0 | E61: Költségvetési felhalmozási kiadások önként vállalt feladatok szerinti bontásban | F61: =SUM(F53:F59) -> 2436000 | G61: =SUM(G53:G59) -> 2962000 | H61: =G61-F61 -> 526000
A62: Finanszírozási bevételek | E62: Finanszírozási kiadások | H62: =G62-F62 -> 0
H63: =G63-F63 -> 0
A64: Felhalmozási bevételek kiemelt előirányzatonként önként vállalt feladatok szerinti bontásban | B64: =B61+B62 -> 6000000 | C64: =C61+C62 -> 0 | D64: =D61+D62 -> 0 | E64: Felhalmozási kiadások kiemelt előirányzatonként önként vállalt feladatok szerinti bontásban | F64: =F61+F62 -> 2436000 | G64: =G61+G62 -> 2962000 | H64: =G64-F64 -> 526000
B65: =B64+B51 -> 6000000 | C65: =C64+C51 -> 0 | D65: =D64+D51 -> 0 | F65: =F64+F51 -> 4039000 | G65: =G64+G51 -> 4507000 | H65: =H64+H51 -> 468000
A66: Az Önkormányzat állami (államigazgatási) feladatok bevételei és kiadásai 2016. év
A68: 1. Működési bevételek | B68: 2016. évi EREDETI | C68: I.MÓD. | D68: ELTÉRÉS | E68: 2. Működési kiadások | F68: 2016. évi EREDETI | G68: I.MÓD. | H68: ELTÉRÉS
A69: Működési bevételek | E69: Működési kiadások
A70: 1. Működési támogatások államháztartáson belülről | E70: 1. Személyi juttatások
A71: 2. Közhatalmi bevételek | E71: 2. Munkaadót terhelő járulékok
A72: 3. Működési bevételek | E72: 3. Dologi kiadások
A73: 4. Működési célú átvett pénzeszközök államháztartáson kivülről | E73: 4. Ellátottak pénzbeli juttatásai
E74: 5. Egyéb működési célú kiadások
E75: 5.1. Elvonások, befizetések
E76: 5.2. Egyéb működési célú támogatások áh-n belülre
E77: 5.4. Egyéb működési célú támogatások áh-n kívülre
E78: 5.5. Működési célú visszatérítendő támogatások, kölcsönök nyújtása áh-n kívülre
E79: 6. Pénzforgalom nélküli kiadások (tartalék)
A80: Költségvetési működési bevételek állami (államigazgatási) feladatok szerinti bontásban | B80: =SUM(B70:B79) -> 0 | C80: =SUM(C70:C79) -> 0 | D80: =SUM(D70:D79) -> 0 | E80: Költségvetési működési kiadások állami (államigazgatási) feladatok szerinti bontásban | F80: =SUM(F70:F79) -> 0 | G80: =SUM(G70:G79) -> 0 | H80: =SUM(H70:H79) -> 0
A81: Finanszírozási bevételek | E81: Finanszírozási kiadások
A82: Működési bevételek kiemelt előirányzatonként állami (államigazgatási) feladatok szerinti bontásban | B82: =B80+B81 -> 0 | C82: =C80+C81 -> 0 | D82: =D80+D81 -> 0 | E82: Működési kiadások kiemelt előirányzatonként állami (államigazgatási) feladatok szerinti bontásban | F82: =F80+F81 -> 0 | G82: =G80+G81 -> 0 | H82: =H80+H81 -> 0
A83: Felhalmozási bevételek | E83: Felhalmozási kiadások
A84: 1. Felhalmozási célú támogatások államháztartáson belülről | E84: 1.1. Beruházások
A85: 2. Felhalmozási bevételek | E85: 1.2. Int.saját hatáskörű fejlesztések
A86: 3. Felhalmozási célú átvett pénzeszközök áh-n kívülről | E86: 2. Felújítások
E87: 3. Egyéb felhalmozási célú kiadások
A88: Költségvetési felhalmozási bevételek önként vállalt feladatok szerinti bontásban | B88: =SUM(B84:B86) -> 0 | C88: =SUM(C84:C86) -> 0 | D88: =SUM(D84:D86) -> 0 | E88: 3.1. Egyéb felhalmozási célú pénzeszköz átadás áh-n kívülre
A89: Finanszírozási bevételek | E89: 3.2. Egyéb felhalmozási célú pénzeszköz átadás áh-n belülre
E90: 3.3. Felhalmozási célú visszatérítendő támogatások, kölcsönök nyújtása áh-n kívülre
A91: Felhalmozási bevételek kiemelt előirányzatonként állami (államigazgatási) feladatok szerinti bontásban | B91: =SUM(B84:B90) -> 0 | C91: =SUM(C84:C90) -> 0 | D91: =SUM(D84:D90) -> 0 | E91: Felhalmozási kiadások kiemelt előirányzatonként állami (államigazgatási) feladatok szerinti bontásban | F91: =SUM(F84:F90) -> 0 | G91: =SUM(G84:G90) -> 0 | H91: =SUM(H84:H90) -> 0
B92: =B91+B82+B64+B51+B31+B20 -> 54772000 | C92: =C91+C82+C64+C51+C31+C20 -> 50095141 | D92: =D91+D82+D64+D51+D31+D20 -> 1323141 | F92: =F91+F82+F64+F51+F31+F20 -> 54772000 | G92: =G91+G82+G64+G51+G31+G20 -> 56095141 | H92: =H91+H82+H64+H51+H31+H20 -> 1323141

Sheet 8.sz.tábla
A3: BEVÉTELEK ÉS KIADÁSOK ELŐIRÁNYZATÁNAK HAVI ÜTEMEZÉSE 2016.
A5: Megnevezés | B5: Január | C5: Február | D5: Március | E5: Április | F5: Május | G5: Június | H5: Július | I5: Augusztus | J5: Szeptem-ber | K5: Október | L5: November | M5: December | N5: Összesen
A6: Nyitó pénzkészlet | B6: 13202539 | C6: =B37 -> 4446946 | D6: =C37 -> 3711479 | E6: =D37 -> 5995884 | F6: =E37 -> 4881173 | G6: =F37 -> 5838492 | H6: =G37 -> 4290003.4 | I6: =H37 -> 3023625.5 | J6: =I37 -> 1768981.6 | ... M6: =L37 -> 4005049.9
A7: Működési célú támogatások államháztartáson belülről | B7: 1791841 | C7: 1772364 | D7: 2911247 | E7: 1855393 | F7: 1944860 | G7: =13704746/7 -> 1957820.9 | H7: =13704746/7 -> 1957820.9 | I7: =13704746/7 -> 1957820.9 | J7: =13704746/7 -> 1957820.9 | K7: =13704746/7 -> 1957820.9 | L7: =13704746/7 -> 1957820.9 | M7: =13704746/7 -> 1957820.9 | N7: =SUM(B7:M7) -> 23980451 | O7: 23980451
A8: Működési bevételek | C8: 5965 | D8: 8589 | E8: =6169+43 -> 6212 | F8: 2561290 | G8: =1871634/7 -> 267376.29 | H8: =1871634/7-11734 -> 255642.29 | I8: =1871634/7 -> 267376.29 | J8: =1871634/7 -> 267376.29 | K8: =1871634/7 -> 267376.29 | L8: =1871634/7 -> 267376.29 | M8: =1871634/7 -> 267376.29 | N8: =SUM(B8:M8) -> 4441956 | O8: 4453690
A9: Közhatalmi bevételek | B9: 125800 | C9: 151614 | D9: =4607881+31251 -> 4639132 | E9: 286802 | F9: 1149499 | G9: =3980153/7 -> 568593.29 | H9: =3980153/7 -> 568593.29 | I9: =3980153/7 -> 568593.29 | J9: =3980153/7 -> 568593.29 | K9: =3980153/7 -> 568593.29 | L9: =3980153/7 -> 568593.29 | M9: =3980153/7 -> 568593.29 | N9: =SUM(B9:M9) -> 10333000 | O9: 10333000
A10: Működési célú átvett pénzeszk. Áh-n kívülről | D10: 11734 | N10: =SUM(B10:M10) -> 11734 | O10: 0
A11: Működési bevételek összesen: | B11: =SUM(B7:B10) -> 1917641 | C11: =SUM(C7:C10) -> 1929943 | D11: =SUM(D7:D10) -> 7570702 | E11: =SUM(E7:E10) -> 2148407 | F11: =SUM(F7:F10) -> 5655649 | G11: =SUM(G7:G10) -> 2793790.4 | H11: =SUM(H7:H10) -> 2782056.4 | I11: =SUM(I7:I10) -> 2793790.4 | ... M11: =SUM(M7:M10) -> 2793790.4 | N11: =SUM(B11:M11) -> 38767141 | O11: =SUM(O7:O10) -> 38767141
A12: Felhalmozási célú támogatások államháztartáson belülről | N12: =SUM(B12:M12) -> 0 | O12: 0
A13: Felhalmozási bevételek | J13: 6000000 | N13: =SUM(B13:M13) -> 6000000 | O13: 6000000
A14: Felhalm. célú átvett pénzeszk. Áh-n kívülről | N14: =SUM(B14:M14) -> 0 | O14: 0
A15: Felhalmozási bevételek összesen | B15: =SUM(B12:B14) -> 0 | C15: =SUM(C12:C14) -> 0 | D15: =SUM(D12:D14) -> 0 | E15: =SUM(E12:E14) -> 0 | F15: =SUM(F12:F14) -> 0 | G15: =SUM(G12:G14) -> 0 | H15: =SUM(H12:H14) -> 0 | I15: =SUM(I12:I14) -> 0 | ... M15: =SUM(M12:M14) -> 0 | N15: =SUM(B15:M15) -> 6000000 | O15: =SUM(O12:O14) -> 6000000
A16: Költségvetési bevételek összesen: | B16: =SUM(B11,B15) -> 1917641 | C16: =SUM(C11,C15) -> 1929943 | D16: =SUM(D11,D15) -> 7570702 | E16: =SUM(E11,E15) -> 2148407 | F16: =SUM(F11,F15) -> 5655649 | G16: =SUM(G11,G15) -> 2793790.4 | H16: =SUM(H11,H15) -> 2782056.4 | I16: =SUM(I11,I15) -> 2793790.4 | ... M16: =SUM(M11,M15) -> 2793790.4 | N16: =SUM(B16:M16) -> 44767141 | O16: =O11+O15 -> 44767141
A17: Finanszírozási bevételek (hitel, kötvény, értékpapír, állami tám.megelőlegezés) | B17: 41565 | C17: 37203 | D17: 37203 | E17: 37203 | F17: 79720 | G17: =521106/7 -> 74443.714 | H17: =521106/7 -> 74443.714 | I17: =521106/7 -> 74443.714 | J17: =521106/7 -> 74443.714 | K17: =521106/7 -> 74443.714 | L17: =521106/7 -> 74443.714 | M17: =521106/7 -> 74443.714 | N17: =SUM(B17:M17) -> 754000 | O17: 754000
A18: Költségvetési maradvány igénybevétele | B18: 10710000 | G18: -136000 | N18: =SUM(B18:M18) -> 10574000 | O18: 10574000
A19: Bevételek összesen: | B19: =SUM(B16:B18) -> 12669206 | C19: =SUM(C16:C18) -> 1967146 | D19: =SUM(D16:D18) -> 7607905 | E19: =SUM(E16:E18) -> 2185610 | F19: =SUM(F16:F18) -> 5735369 | G19: =SUM(G16:G18) -> 2732234.1 | H19: =SUM(H16:H18) -> 2856500.1 | I19: =SUM(I16:I18) -> 2868234.1 | ... N19: =SUM(N16:N18) -> 56095141 | O19: =O16+O17+O18 -> 56095141
A20: Személyi juttatások | B20: 778184 | C20: 661315 | D20: 661741 | E20: 713442 | F20: 869958 | G20: =5512360/7 -> 787480 | H20: =5512360/7 -> 787480 | I20: =5512360/7 -> 787480 | J20: =5512360/7 -> 787480 | K20: =5512360/7 -> 787480 | L20: =5512360/7 -> 787480 | M20: =5512360/7 -> 787480 | N20: =SUM(B20:M20) -> 9197000 | O20: 9197000
A21: Munkaadót terhelő járulékok és szoc. hj. adó | B21: 321851 | C21: 170169 | D21: 162621 | E21: 194896 | F21: 215106 | G21: =1319357/7 -> 188479.57 | H21: =1319357/7 -> 188479.57 | I21: =1319357/7 -> 188479.57 | J21: =1319357/7 -> 188479.57 | K21: =1319357/7 -> 188479.57 | L21: =1319357/7 -> 188479.57 | M21: =1319357/7 -> 188479.57 | N21: =SUM(B21:M21) -> 2384000 | O21: 2384000
A22: Dologi kiadások | B22: 680623 | C22: 805492 | D22: 895488 | E22: 1285421 | F22: 918338 | G22: =12753638/7 -> 1821948.3 | H22: =12753638/7 -> 1821948.3 | I22: =12753638/7 -> 1821948.3 | J22: =12753638/7 -> 1821948.3 | K22: =12753638/7 -> 1821948.3 | L22: =12753638/7 -> 1821948.3 | M22: =12753638/7 -> 1821948.3 | N22: =SUM(B22:M22) -> 17339000 | O22: 17339000
A23: Ellátottak pénzbeli juttatásai | C23: 80000 | D23: 80000 | E23: 60000 | F23: 50000 | G23: =1540000/7 -> 220000 | H23: =1540000/7 -> 220000 | I23: =1540000/7 -> 220000 | J23: =1540000/7 -> 220000 | K23: =1540000/7 -> 220000 | L23: =1540000/7 -> 220000 | M23: =1540000/7 -> 220000 | N23: =SUM(B23:M23) -> 1810000 | O23: 1810000
A24: Egyéb működési célú támogatások áh-n kívülre | E24: 200000 | G24: =755000/7 -> 107857.14 | H24: =755000/7 -> 107857.14 | I24: =755000/7 -> 107857.14 | J24: =755000/7 -> 107857.14 | K24: =755000/7 -> 107857.14 | L24: =755000/7 -> 107857.14 | M24: =755000/7 -> 107857.14 | N24: =SUM(B24:M24) -> 955000 | O24: 955000
A25: Egyéb működési célú támogatások áh-n belülre | B25: 150000 | D25: 1764010 | E25: 595110 | F25: 595110 | G25: =5638770/7 -> 805538.57 | H25: =5638770/7 -> 805538.57 | I25: =5638770/7 -> 805538.57 | J25: =5638770/7 -> 805538.57 | K25: =5638770/7 -> 805538.57 | L25: =5638770/7 -> 805538.57 | M25: =5638770/7 -> 805538.57 | N25: =SUM(B25:M25) -> 8743000 | O25: 8743000
A26: Elvonások, befizetések | F26: 136000 | G26: 261000 | N26: =SUM(B26:M26) -> 397000 | O26: 397000 | Q26: =P25-P26 -> 0
A27: Tartalékok | B27: 8669141 | N27: =SUM(B27:M27) -> 8669141 | O27: 8669141
A28: Működési kiadások összesen: | B28: =SUM(B20:B27) -> 10599799 | C28: =SUM(C20:C27) -> 1716976 | D28: =SUM(D20:D27) -> 3563860 | E28: =SUM(E20:E27) -> 3048869 | F28: =SUM(F20:F27) -> 2784512 | G28: =SUM(G20:G27) -> 4192303.6 | H28: =SUM(H20:H27) -> 3931303.6 | I28: =SUM(I20:I27) -> 3931303.6 | ... M28: =SUM(M20:M27) -> 3931303.6 | N28: =SUM(B28:M28) -> 49494141 | O28: =SUM(O20:O27) -> 49494141
A29: Beruházások | B29: 115000 | C29: 906869 | D29: 825265 | E29: 214249 | F29: 1026685 | G29: 150000 | H29: =702932/6 -> 117155.33 | I29: =702932/6 -> 117155.33 | J29: =702932/6 -> 117155.33 | K29: =702932/6 -> 117155.33 | L29: =702932/6 -> 117155.33 | M29: =702932/6 -> 117155.33 | N29: =SUM(B29:M29) -> 3941000 | O29: 3941000
A30: Felújítások | F30: 887133 | M30: 121867 | N30: =SUM(B30:M30) -> 1009000 | O30: 1009000
A31: Egyéb felhalmozási kiadások | D31: 21000 | N31: =SUM(B31:M31) -> 21000 | O31: 21000
A32: Felhalmozási célú kiadások összesen | B32: =SUM(B29:B31) -> 115000 | C32: =SUM(C29:C31) -> 906869 | D32: =SUM(D29:D31) -> 846265 | E32: =SUM(E29:E31) -> 214249 | F32: =SUM(F29:F31) -> 1913818 | G32: =SUM(G29:G31) -> 150000 | H32: =SUM(H29:H31) -> 117155.33 | I32: =SUM(I29:I31) -> 117155.33 | ... M32: =SUM(M29:M31) -> 239022.33 | N32: =SUM(B32:M32) -> 4971000 | O32: =SUM(O29:O31) -> 4971000
A33: Költségvetési kiadások összesen: | B33: =SUM(B32,B28) -> 10714799 | C33: =SUM(C32,C28) -> 2623845 | D33: =SUM(D32,D28) -> 4410125 | E33: =SUM(E32,E28) -> 3263118 | F33: =SUM(F32,F28) -> 4698330 | G33: =SUM(G32,G28) -> 4342303.6 | H33: =SUM(H32,H28) -> 4048458.9 | I33: =SUM(I32,I28) -> 4048458.9 | ... M33: =SUM(M32,M28) -> 4170325.9 | N33: =SUM(B33:M33) -> 54465141 | O33: =O28+O32 -> 54465141
A34: Finanszírozási kiadások (hitel törlesztés, értékpapír visszavásárlás) | C34: 78768 | D34: 913375 | E34: 37203 | F34: 79720 | G34: =520934/7 -> 74419.143 | H34: =520934/7 -> 74419.143 | I34: =520934/7 -> 74419.143 | J34: =520934/7 -> 74419.143 | K34: =520934/7 -> 74419.143 | L34: =520934/7 -> 74419.143 | M34: =520934/7 -> 74419.143 | N34: =SUM(B34:M34) -> 1630000 | O34: 1630000
A35: Kiadások összesen: | B35: =SUM(B33:B34) -> 10714799 | C35: =SUM(C33:C34) -> 2702613 | D35: =SUM(D33:D34) -> 5323500 | E35: =SUM(E33:E34) -> 3300321 | F35: =SUM(F33:F34) -> 4778050 | G35: =SUM(G33:G34) -> 4416722.7 | H35: =SUM(H33:H34) -> 4122878 | I35: =SUM(I33:I34) -> 4122878 | ... M35: =SUM(M33:M34) -> 4244745 | N35: =SUM(B35:M35) -> 56095141 | O35: =O33+O34 -> 56095141 | P35: =N19-N35 -> 0
A36: Korrekció (előző évi kifizetés miatt) | N36: =SUM(B36:M36) -> 0
A37: Záró pénzkészlet | B37: =B6+B16+B17-B35 -> 4446946 | C37: =C6+C16+C17-C35 -> 3711479 | D37: =D6+D16+D17-D35 -> 5995884 | E37: =E6+E16+E17-E35 -> 4881173 | F37: =F6+F16+F17-F35 -> 5838492 | G37: =G6+G16+G17-G35 -> 4290003.4 | H37: =H6+H16+H17-H35 -> 3023625.5 | I37: =I6+I16+I17-I35 -> 1768981.6 | ... M37: =M6+M16+M17-M35 -> 2628539

Sheet 9. sz. stabilitási tv 
A4: Az önkormányzat adósságot keletkeztető ügyletből származó tárgyévi összes fizetési kötelezettsége az adósságot keletkeztető ügylet futamidejének végéig egyik évben sem haladja meg az önkormányzat adott évi saját bevételeinek 50%-át.
A7: megnevezés | C7: 2016. | D7: 2017. | E7: 2018. | F7: 2019.
A8: 1. Helyi adó bevétel | C8: =10333-1800-100 -> 8433 | D8: 8433 | E8: 8433 | F8: 8433
A9: 2. Vagyon és vagyonértékű jog értékesítéséből származó bevétel | C9: 6000
A10: 3. Osztalék, koncessziós díj és hozambevétel,
A11: 4. tárgyi eszköz és immateriális jószág, részvény, részesedés, vállalalat értékesítésből vagy privatizációból származó bevétel
A12: 5. Bírság, pótlék- és díjbevétel | C12: 100 | D12: 100 | E12: 100 | F12: 100
A13: 6. Kezességvállalással kapcsolatos megtérülés
A14: Összesen: | C14: =SUM(C8:C13) -> 14533 | D14: =SUM(D8:D13) -> 8533 | E14: =SUM(E8:E13) -> 8533 | F14: =SUM(F8:F13) -> 8533 | G14: 10333-1800=8533
A15: az önkormányzat adott évi saját bevételeinek 50%-a | C15: =C14*0.5 -> 7266.5 | D15: =D14*0.5 -> 4266.5 | E15: =E14*0.5 -> 4266.5 | F15: =F14*0.5 -> 4266.5
A17: adósságot keletkeztető ügyletekből és kezességvállalásokból fennálló kötelezettségek | B17: futamidő kezdete | C17: 2016. | D17: 2017. | E17: 2018. | F17: 2019.
A18: Összesen: | C18: 0 | D18: 0 | E18: 0 | F18: 0

Sheet 10. sz. tábla
A4: Az önkormányzat által adott közvetett támogatások
A5: (kedvezmények) 2015. év
A7: Sorszám | B7: Bevételi jogcím | C7: Intézmények, | D7: Kedvezmény nélkül | E7: Kedvezmények
C8: adónemek | D8: elérhető | E8: összege
D9: bevétel e/Ft | E9: e/Ft
A10: 1. | B10: 2. | C10: 3. | D10: 4. | E10: 5.
A11: 2. | B11: Ellátottak térítési díjának ill. kártérítésének méltányossági alapon történő elengedésének összege
A12: 3. | B12: Lakosság részére nyújtott lakásépítéshez, lakásfelújításhoz nyújtott kölcsönök elengedésének összege | E12: 0
B13: Helyi adónál, gépjárműadónál biztosított kedvezmény, mentesség összege | D13: =SUM(D14:D20) -> 370093 | E13: =SUM(E14:E20) -> 1093 | F13: =SUM(F14:F20) -> 369000
C14: Kommunális adó | D14: =F14+E14 -> 823 | E14: 823 | F14: ='2.sz.tábla'!D29 -> 0
C15: Iparűzési adó | D15: =F15+E15 -> 25 | E15: 25 | F15: ='2.sz.tábla'!D33 -> 0
C16: IFA személyek után | D16: =F16+E16 -> 12 | E16: 12 | F16: ='2.sz.tábla'!D36 -> 0
C17: Telekadó | D17: =F17+E17 -> 0 | E17: 0 | F17: ='2.sz.tábla'!D30 -> 0
C18: Talajterhelési díj | D18: =F18+E18 -> 0 | E18: 0 | F18: 0
C19: Gépjárműadó | D19: =F19+E19 -> 233 | E19: 233 | F19: ='2.sz.tábla'!D34 -> 0
C20: Bírság | D20: =F20+E20 -> 369000 | E20: 0 | F20: ='2.sz.tábla'!D39 -> 369000
A21: 4. | B21: Helyiségek, eszközök hasznosításából származó bevételből nyújtott kedvezmény, mentesség összege
A22: 5. | B22: egyéb nyújtott kedvezmény vagy kölcsön elengedésének összege | E22: 0
B23: Összesen : | D23: =D22+D21+D12+D13+D11 -> 370093 | E23: =E22+E21+E12+E13+E11 -> 1093

Sheet 11.sz.tábla
A3: MEGNEVEZÉS | B3: 2016. évi javaslat | C3: 2017. évi várható előirányzatok | D3: 2018. évi várható előirányzatok | E3: 2019. évi várható előirányzatok
A4: I. Működési támogatások államháztartáson belülről | B4: 22626 | C4: 22000 | D4: 22000 | E4: 22000
A5: II. Felhalmozási támogatások államháztartáson belülről | B5: 0 | C5: 0
A6: III. Közhatalmi bevételek | B6: 10333 | C6: 10000 | D6: 10000 | E6: 10000
A7: IV. Működési bevételek | B7: 4085 | C7: 2000 | D7: 2000 | E7: 2000
A8: V. Felhalmozási bevételek | B8: 6000
A9: VI. Működési célú átvett pénzeszközök
A10: VII. Felhalmozási célú átvett pénzeszközök
A11: Költségvetési bevételek összesen: | B11: =SUM(B4:B10) -> 43044 | C11: =SUM(C4:C9) -> 34000 | D11: =SUM(D4:D9) -> 34000 | E11: =SUM(E4:E9) -> 34000
A12: VIII. Finanszírozási bevételek
A13: 1. Költségvetési hiány belső finanszírozására szolgáló finanszírozási bevételek | B13: 11500 | C13: 10000 | D13: 10000 | E13: 10000
A14: 2. Költségvetési hiány külső finanszírozására, vagy költségvetési többlet felhasználására szolgáló finanszírozási bevételek | B14: 228 | C14: 250 | D14: 250 | E14: 250
A15: Finanszírozási bevételek összesen: | B15: =SUM(B13:B14) -> 11728 | C15: =SUM(C13:C14) -> 10250 | D15: =SUM(D13:D14) -> 10250 | E15: =SUM(E13:E14) -> 10250
A16: Bevételek összesen: | B16: =B11+B15 -> 54772 | C16: =C11+C15 -> 44250 | D16: =D11+D15 -> 44250 | E16: =E11+E15 -> 44250
A18: I. Működési kiadások | B18: =SUM(B19:B23) -> 36971 | C18: =SUM(C19:C23) -> 36800 | D18: =SUM(D19:D23) -> 36800 | E18: =SUM(E19:E23) -> 36800
A19: 1. Személyi juttatások | B19: 7811 | C19: 8000 | D19: 8000 | E19: 8000
A20: 2. Munkaadót terhelő járulék és szociális hozzájárulási adó | B20: 2036 | C20: 2500 | D20: 2500 | E20: 2500
A21: 3. Dologi kiadások | B21: 16893 | C21: 17000 | D21: 17000 | E21: 17000
A22: 4. Ellátottak pénzbeli juttatásai | B22: 1810 | C22: 1800 | D22: 1800 | E22: 1800
A23: 5. Egyéb működési célú kiadások | B23: 8421 | C23: 7500 | D23: 7500 | E23: 7500
A24: II. Felhalmozási kiadások | B24: =SUM(B25:B27) -> 4445 | C24: =SUM(C25:C26) -> 2000 | D24: =SUM(D25:D26) -> 2000 | E24: =SUM(E25:E26) -> 2000
A25: 1. Beruházások | B25: 3436 | C25: 1000 | D25: 1000 | E25: 1000
A26: 3. Felújítás | B26: 1009 | C26: 1000 | D26: 1000 | E26: 1000
A27: 4. Egyéb felhalmozási célú kiadások | B27: 0 | C27: 0 | D27: 0 | E27: 0
A28: Tartalékok | B28: =SUM(B29:B30) -> 12252 | C28: =SUM(C29:C30) -> 5200 | D28: =SUM(D29:D30) -> 5200 | E28: =SUM(E29:E30) -> 5200
A29: Általános | B29: 12252 | C29: 5200 | D29: 5200 | E29: 5200
A30: Cél
A31: Költségvetési kiadások összesen: | B31: =SUM(B28,B24,B18) -> 53668 | C31: =SUM(C28,C24,C18) -> 44000 | D31: =SUM(D28,D24,D18) -> 44000 | E31: =SUM(E28,E24,E18) -> 44000
A32: Hiteltörlesztés
A33: Forgatási célú értékpapír vásárlás
A34: Állami támogatás megelőlegezés visszafiz. | B34: 1104 | C34: 250 | D34: 250 | E34: 250
A35: Finanszírozási kiadások összesen: | B35: =SUM(B32:B34) -> 1104 | C35: =SUM(C32:C34) -> 250 | D35: =SUM(D32:D34) -> 250 | E35: =SUM(E32:E34) -> 250
A36: Kiadások összesen: | B36: =SUM(B31,B35) -> 54772 | C36: =SUM(C31,C35) -> 44250 | D36: =SUM(D31,D35) -> 44250 | E36: =SUM(E31,E35) -> 44250

Sheet Munka1
