Workbook

Sheet BEVÉTELEK
A1: BALATONEDERICS KÖZSÉG ÖNKORMÁNYZAT 2020. ÉVI KÖLTSÉGVETÉS
A2: Önkormányzat és költségvetési szervei - Bevételek (Ft)
A4: Sor- szám | B4: Rovat megnevezése | C4: Rovat száma | D4: ÖNKORMÁNYZAT EREDETI EI. | E4: TÁRSULÁS EREDETI EI. | F4: ÓVODA EREDETI EI. | G4: MINDÖSSZESEN EREDETI EI.
A5: 01 | B5: Helyi önkormányzatok működésének általános támogatása | C5: B111 | D5: =SUM('BEVÉTELEK ÖNK'!D5) -> 27806802 | E5: =SUM('BEVÉTELEK TÁRSULÁS'!D5) -> 0 | F5: =SUM('BEVÉTEL ÓVODA'!D5) -> 0 | G5: =SUM(D5:F5) -> 27806802
A6: 02 | B6: Települési önkormányzatok egyes köznevelési feladatainak támogatása | C6: B112 | D6: =SUM('BEVÉTELEK ÖNK'!D6) -> 29754540 | E6: =SUM('BEVÉTELEK TÁRSULÁS'!D6) -> 0 | F6: =SUM('BEVÉTEL ÓVODA'!D6) -> 0 | G6: =SUM(D6:F6) -> 29754540
A7: 03 | B7: Települési önkormányzatok szociális gyermekjóléti és gyermekétkeztetési feladatainak támogatása | C7: B113 | D7: =SUM('BEVÉTELEK ÖNK'!D7) -> 6376000 | E7: =SUM('BEVÉTELEK TÁRSULÁS'!D7) -> 0 | F7: =SUM('BEVÉTEL ÓVODA'!D7) -> 0 | G7: =SUM(D7:F7) -> 6376000
A8: 04 | B8: Települési önkormányzatok kulturális feladatainak támogatása | C8: B114 | D8: =SUM('BEVÉTELEK ÖNK'!D8) -> 1800000 | E8: =SUM('BEVÉTELEK TÁRSULÁS'!D8) -> 0 | F8: =SUM('BEVÉTEL ÓVODA'!D8) -> 0 | G8: =SUM(D8:F8) -> 1800000
A9: 05 | B9: Működési célú költségvetési támogatások és kiegészítő támogatások | C9: B115 | D9: =SUM('BEVÉTELEK ÖNK'!D9) -> 0 | E9: =SUM('BEVÉTELEK TÁRSULÁS'!D9) -> 0 | F9: =SUM('BEVÉTEL ÓVODA'!D9) -> 0 | G9: =SUM(D9:F9) -> 0
A10: 06 | B10: Elszámolásból származó bevételek | C10: B116 | D10: =SUM('BEVÉTELEK ÖNK'!D10) -> 0 | E10: =SUM('BEVÉTELEK TÁRSULÁS'!D10) -> 0 | F10: =SUM('BEVÉTEL ÓVODA'!D10) -> 0 | G10: =SUM(D10:F10) -> 0
A11: 07 | B11: Önkormányzatok működési támogatásai (=01+…+06) | C11: B11 | D11: =SUM('BEVÉTELEK ÖNK'!D11) -> 65737342 | E11: =SUM('BEVÉTELEK TÁRSULÁS'!D11) -> 0 | F11: =SUM('BEVÉTEL ÓVODA'!D11) -> 0 | G11: =SUM(D11:F11) -> 65737342
A12: 08 | B12: Elvonások és befizetések bevételei | C12: B12 | D12: =SUM('BEVÉTELEK ÖNK'!D12) -> 0 | E12: =SUM('BEVÉTELEK TÁRSULÁS'!D12) -> 0 | F12: =SUM('BEVÉTEL ÓVODA'!D12) -> 0 | G12: =SUM(D12:F12) -> 0
A13: 09 | B13: Működési célú garancia- és kezességvállalásból származó megtérülések államháztartáson belülről | C13: B13 | D13: =SUM('BEVÉTELEK ÖNK'!D13) -> 0 | E13: =SUM('BEVÉTELEK TÁRSULÁS'!D13) -> 0 | F13: =SUM('BEVÉTEL ÓVODA'!D13) -> 0 | G13: =SUM(D13:F13) -> 0
A14: 10 | B14: Működési célú visszatérítendő támogatások, kölcsönök visszatérülése államháztartáson belülről | C14: B14 | D14: =SUM('BEVÉTELEK ÖNK'!D14) -> 0 | E14: =SUM('BEVÉTELEK TÁRSULÁS'!D14) -> 0 | F14: =SUM('BEVÉTEL ÓVODA'!D14) -> 0 | G14: =SUM(D14:F14) -> 0
A15: 11 | B15: Működési célú visszatérítendő támogatások, kölcsönök igénybevétele államháztartáson belülről | C15: B15 | D15: =SUM('BEVÉTELEK ÖNK'!D15) -> 0 | E15: =SUM('BEVÉTELEK TÁRSULÁS'!D15) -> 0 | F15: =SUM('BEVÉTEL ÓVODA'!D15) -> 0 | G15: =SUM(D15:F15) -> 0
A16: 12 | B16: Egyéb működési célú támogatások bevételei államháztartáson belülről | C16: B16 | D16: =SUM('BEVÉTELEK ÖNK'!D16) -> 17781663 | E16: =SUM('BEVÉTELEK TÁRSULÁS'!D16) -> 0 | F16: =SUM('BEVÉTEL ÓVODA'!D16) -> 0 | G16: =SUM(D16:F16) -> 17781663
A17: 13 | B17: Működési célú támogatások államháztartáson belülről (=07+…+12) | C17: B1 | D17: =SUM('BEVÉTELEK ÖNK'!D17) -> 83519005 | E17: =SUM('BEVÉTELEK TÁRSULÁS'!E17) -> 0 | F17: =SUM('BEVÉTEL ÓVODA'!D17) -> 0 | G17: =SUM(G11:G16) -> 83519005
A18: 14 | B18: Felhalmozási célú önkormányzati támogatások | C18: B21 | D18: =SUM('BEVÉTELEK ÖNK'!D18) -> 32127349 | E18: =SUM('BEVÉTELEK TÁRSULÁS'!D18) -> 0 | F18: =SUM('BEVÉTEL ÓVODA'!D18) -> 0 | G18: =SUM(D18:F18) -> 32127349
A19: 15 | B19: Felhalmozási célú garancia- és kezességvállalásból származó megtérülések államháztartáson belülről | C19: B22 | D19: =SUM('BEVÉTELEK ÖNK'!D19) -> 0 | E19: =SUM('BEVÉTELEK TÁRSULÁS'!D19) -> 0 | F19: =SUM('BEVÉTEL ÓVODA'!D19) -> 0 | G19: =SUM(D19:F19) -> 0
A20: 16 | B20: Felhalmozási célú visszatérítendő támogatások, kölcsönök visszatérülése államháztartáson belülről | C20: B23 | D20: =SUM('BEVÉTELEK ÖNK'!D20) -> 0 | E20: =SUM('BEVÉTELEK TÁRSULÁS'!D20) -> 0 | F20: =SUM('BEVÉTEL ÓVODA'!D20) -> 0 | G20: =SUM(D20:F20) -> 0
A21: 17 | B21: Felhalmozási célú visszatérítendő támogatások, kölcsönök igénybevétele államháztartáson belülről | C21: B24 | D21: =SUM('BEVÉTELEK ÖNK'!D21) -> 0 | E21: =SUM('BEVÉTELEK TÁRSULÁS'!D21) -> 0 | F21: =SUM('BEVÉTEL ÓVODA'!D21) -> 0 | G21: =SUM(D21:F21) -> 0
A22: 18 | B22: Egyéb felhalmozási célú támogatások bevételei államháztartáson belülről | C22: B25 | D22: =SUM('BEVÉTELEK ÖNK'!D22) -> 0 | E22: =SUM('BEVÉTELEK TÁRSULÁS'!D22) -> 0 | F22: =SUM('BEVÉTEL ÓVODA'!D22) -> 0 | G22: =SUM(D22:F22) -> 0
A23: 19 | B23: Felhalmozási célú támogatások államháztartáson belülről (=14+…+18) | C23: B2 | D23: =SUM('BEVÉTELEK ÖNK'!D23) -> 32127349 | E23: =SUM('BEVÉTELEK TÁRSULÁS'!E23) -> 0 | F23: =SUM('BEVÉTEL ÓVODA'!D23) -> 0 | G23: =SUM(D23:F23) -> 32127349
A24: 20 | B24: Magánszemélyek jövedelemadói | C24: B311 | D24: =SUM('BEVÉTELEK ÖNK'!D24) -> 0 | E24: =SUM('BEVÉTELEK TÁRSULÁS'!D24) -> 0 | F24: =SUM('BEVÉTEL ÓVODA'!D24) -> 0 | G24: =SUM(D24:F24) -> 0
A25: 21 | B25: Társaságok jövedelemadói | C25: B312 | D25: =SUM('BEVÉTELEK ÖNK'!D25) -> 0 | E25: =SUM('BEVÉTELEK TÁRSULÁS'!D25) -> 0 | F25: =SUM('BEVÉTEL ÓVODA'!D25) -> 0 | G25: =SUM(D25:F25) -> 0
A26: 22 | B26: Jövedelemadók (=20+21) | C26: B31 | D26: =SUM('BEVÉTELEK ÖNK'!D26) -> 0 | E26: =SUM('BEVÉTELEK TÁRSULÁS'!D26) -> 0 | F26: =SUM('BEVÉTEL ÓVODA'!D26) -> 0 | G26: =SUM(D26:F26) -> 0
A27: 23 | B27: Szociális hozzájárulási adó és járulékok | C27: B32 | D27: =SUM('BEVÉTELEK ÖNK'!D27) -> 0 | E27: =SUM('BEVÉTELEK TÁRSULÁS'!D27) -> 0 | F27: =SUM('BEVÉTEL ÓVODA'!D27) -> 0 | G27: =SUM(D27:F27) -> 0
A28: 24 | B28: Bérhez és foglalkoztatáshoz kapcsolódó adók | C28: B33 | D28: =SUM('BEVÉTELEK ÖNK'!D28) -> 0 | E28: =SUM('BEVÉTELEK TÁRSULÁS'!D28) -> 0 | F28: =SUM('BEVÉTEL ÓVODA'!D28) -> 0 | G28: =SUM(D28:F28) -> 0
A29: 25 | B29: Vagyoni tipusú adók | C29: B34 | D29: =SUM('BEVÉTELEK ÖNK'!D29) -> 22910491 | E29: =SUM('BEVÉTELEK TÁRSULÁS'!D29) -> 0 | F29: =SUM('BEVÉTEL ÓVODA'!D29) -> 0 | G29: =SUM(D29:F29) -> 22910491
A30: 26 | B30: Értékesítési és forgalmi adók | C30: B351 | D30: =SUM('BEVÉTELEK ÖNK'!D30) -> 15385294 | E30: =SUM('BEVÉTELEK TÁRSULÁS'!D30) -> 0 | F30: =SUM('BEVÉTEL ÓVODA'!D30) -> 0 | G30: =SUM(D30:F30) -> 15385294
A31: 27 | B31: Fogyasztási adók | C31: B352 | D31: =SUM('BEVÉTELEK ÖNK'!D31) -> 0 | E31: =SUM('BEVÉTELEK TÁRSULÁS'!D31) -> 0 | F31: =SUM('BEVÉTEL ÓVODA'!D31) -> 0 | G31: =SUM(D31:F31) -> 0
A32: 28 | B32: Pénzügyi monopóliumok nyereségét terhelő adók | C32: B353 | D32: =SUM('BEVÉTELEK ÖNK'!D32) -> 0 | E32: =SUM('BEVÉTELEK TÁRSULÁS'!D32) -> 0 | F32: =SUM('BEVÉTEL ÓVODA'!D32) -> 0 | G32: =SUM(D32:F32) -> 0
A33: 29 | B33: Gépjárműadók | C33: B354 | D33: =SUM('BEVÉTELEK ÖNK'!D33) -> 3229810 | E33: =SUM('BEVÉTELEK TÁRSULÁS'!D33) -> 0 | F33: =SUM('BEVÉTEL ÓVODA'!D33) -> 0 | G33: =SUM(D33:F33) -> 3229810
A34: 30 | B34: Egyéb áruhasználati és szolgáltatási adók | C34: B355 | D34: =SUM('BEVÉTELEK ÖNK'!D34) -> 0 | E34: =SUM('BEVÉTELEK TÁRSULÁS'!D34) -> 0 | F34: =SUM('BEVÉTEL ÓVODA'!D34) -> 0 | G34: =SUM(D34:F34) -> 0
A35: 31 | B35: Termékek és szolgáltatások adói (=26+…+30) | C35: B35 | D35: =SUM('BEVÉTELEK ÖNK'!D35) -> 18615104 | E35: =SUM('BEVÉTELEK TÁRSULÁS'!D35) -> 0 | F35: =SUM('BEVÉTEL ÓVODA'!D35) -> 0 | G35: =SUM(D35:F35) -> 18615104
A36: 32 | B36: Egyéb közhatalmi bevételek | C36: B36 | D36: =SUM('BEVÉTELEK ÖNK'!D36) -> 49870 | E36: =SUM('BEVÉTELEK TÁRSULÁS'!D36) -> 0 | F36: =SUM('BEVÉTEL ÓVODA'!D36) -> 0 | G36: =SUM(D36:F36) -> 49870
A37: 33 | B37: Közhatalmi bevételek (=22+...+25+31+32) | C37: B3 | D37: =SUM('BEVÉTELEK ÖNK'!D37) -> 41575465 | E37: =SUM('BEVÉTELEK TÁRSULÁS'!E37) -> 0 | F37: =SUM('BEVÉTEL ÓVODA'!D37) -> 0 | G37: =SUM(G26+G27+G28+G29+G35+G36) -> 41575465
A38: 34 | B38: Készletértékesítés ellenértéke | C38: B401 | D38: =SUM('BEVÉTELEK ÖNK'!D38) -> 0 | E38: =SUM('BEVÉTELEK TÁRSULÁS'!D38) -> 0 | F38: =SUM('BEVÉTEL ÓVODA'!D38) -> 0 | G38: =SUM(D38:F38) -> 0
A39: 35 | B39: Szolgáltatások ellenértéke | C39: B402 | D39: =SUM('BEVÉTELEK ÖNK'!D39) -> 18650000 | E39: =SUM('BEVÉTELEK TÁRSULÁS'!D39) -> 0 | F39: =SUM('BEVÉTEL ÓVODA'!D39) -> 16618151 | G39: =SUM(D39:F39) -> 35268151
A40: 36 | B40: Közvetített szolgáltatások ellenértéke | C40: B403 | D40: =SUM('BEVÉTELEK ÖNK'!D40) -> 0 | E40: =SUM('BEVÉTELEK TÁRSULÁS'!D40) -> 0 | F40: =SUM('BEVÉTEL ÓVODA'!D40) -> 0 | G40: =SUM(D40:F40) -> 0
A41: 37 | B41: Tulajdonosi bevételek | C41: B404 | D41: =SUM('BEVÉTELEK ÖNK'!D41) -> 50000000 | E41: =SUM('BEVÉTELEK TÁRSULÁS'!D41) -> 0 | F41: =SUM('BEVÉTEL ÓVODA'!D41) -> 0 | G41: =SUM(D41:F41) -> 50000000
...

Sheet BEVÉTELEK ÖNK
A1: BALATONEDERICS KÖZSÉG ÖNKORMÁNYZAT 2020. ÉVI KÖLTSÉGVETÉS
A2: Önkormányzati előirányzatok - Bevételek (Ft)
A4: Sor- szám | B4: Rovat megnevezése | C4: Rovat száma | D4: ÖNKORMÁNYZAT EREDETI EI. | E4: EBBŐL KÖTELEZŐ
A5: 01 | B5: Helyi önkormányzatok működésének általános támogatása | C5: B111 | D5: 27806802 | E5: =D5 -> 27806802
A6: 02 | B6: Települési önkormányzatok egyes köznevelési feladatainak támogatása | C6: B112 | D6: 29754540 | E6: =D6 -> 29754540
A7: 03 | B7: Települési önkormányzatok szociális gyermekjóléti és gyermekétkeztetési feladatainak támogatása | C7: B113 | D7: 6376000 | E7: =D7 -> 6376000
A8: 04 | B8: Települési önkormányzatok kulturális feladatainak támogatása | C8: B114 | D8: 1800000 | E8: =D8 -> 1800000
A9: 05 | B9: Működési célú költségvetési támogatások és kiegészítő támogatások | C9: B115 | D9: 0 | E9: =D9 -> 0
A10: 06 | B10: Elszámolásból származó bevételek | C10: B116 | D10: 0 | E10: =D10 -> 0
A11: 07 | B11: Önkormányzatok működési támogatásai (=01+…+06) | C11: B11 | D11: =SUM(D5:D10) -> 65737342 | E11: =SUM(E5:E10) -> 65737342
A12: 08 | B12: Elvonások és befizetések bevételei | C12: B12 | D12: 0 | E12: =D12 -> 0
A13: 09 | B13: Működési célú garancia- és kezességvállalásból származó megtérülések államháztartáson belülről | C13: B13 | D13: 0 | E13: =D13 -> 0
A14: 10 | B14: Működési célú visszatérítendő támogatások, kölcsönök visszatérülése államháztartáson belülről | C14: B14 | D14: 0 | E14: =D14 -> 0
A15: 11 | B15: Működési célú visszatérítendő támogatások, kölcsönök igénybevétele államháztartáson belülről | C15: B15 | D15: 0 | E15: =D15 -> 0
A16: 12 | B16: Egyéb működési célú támogatások bevételei államháztartáson belülről | C16: B16 | D16: 17781663 | E16: =D16 -> 17781663
A17: 13 | B17: Működési célú támogatások államháztartáson belülről (=07+…+12) | C17: B1 | D17: =SUM(D11+D12+D13+D14+D15+D16) -> 83519005 | E17: =SUM(E11+E12+E13+E14+E15+E16) -> 83519005
A18: 14 | B18: Felhalmozási célú önkormányzati támogatások | C18: B21 | D18: 32127349 | E18: =D18 -> 32127349
A19: 15 | B19: Felhalmozási célú garancia- és kezességvállalásból származó megtérülések államháztartáson belülről | C19: B22 | D19: 0 | E19: =D19 -> 0
A20: 16 | B20: Felhalmozási célú visszatérítendő támogatások, kölcsönök visszatérülése államháztartáson belülről | C20: B23 | D20: 0 | E20: =D20 -> 0
A21: 17 | B21: Felhalmozási célú visszatérítendő támogatások, kölcsönök igénybevétele államháztartáson belülről | C21: B24 | D21: 0 | E21: =D21 -> 0
A22: 18 | B22: Egyéb felhalmozási célú támogatások bevételei államháztartáson belülről | C22: B25 | D22: 0 | E22: =D22 -> 0
A23: 19 | B23: Felhalmozási célú támogatások államháztartáson belülről (=14+…+18) | C23: B2 | D23: =SUM(D18:D22) -> 32127349 | E23: =SUM(E18:E22) -> 32127349
A24: 20 | B24: Magánszemélyek jövedelemadói | C24: B311 | D24: 0 | E24: 0
A25: 21 | B25: Társaságok jövedelemadói | C25: B312 | D25: 0 | E25: 0
A26: 22 | B26: Jövedelemadók (=20+21) | C26: B31 | D26: =SUM(D24:D25) -> 0 | E26: =SUM(E24:E25) -> 0
A27: 23 | B27: Szociális hozzájárulási adó és járulékok | C27: B32 | D27: 0 | E27: 0
A28: 24 | B28: Bérhez és foglalkoztatáshoz kapcsolódó adók | C28: B33 | D28: 0 | E28: 0
A29: 25 | B29: Vagyoni tipusú adók | C29: B34 | D29: 22910491 | E29: =D29 -> 22910491
A30: 26 | B30: Értékesítési és forgalmi adók | C30: B351 | D30: 15385294 | E30: =D30 -> 15385294
A31: 27 | B31: Fogyasztási adók | C31: B352 | D31: 0 | E31: =D31 -> 0
A32: 28 | B32: Pénzügyi monopóliumok nyereségét terhelő adók | C32: B353 | D32: 0 | E32: =D32 -> 0
A33: 29 | B33: Gépjárműadók | C33: B354 | D33: 3229810 | E33: =D33 -> 3229810
A34: 30 | B34: Egyéb áruhasználati és szolgáltatási adók | C34: B355 | D34: 0 | E34: =D34 -> 0
A35: 31 | B35: Termékek és szolgáltatások adói (=26+…+30) | C35: B35 | D35: =SUM(D30:D34) -> 18615104 | E35: =SUM(E30:E34) -> 18615104
A36: 32 | B36: Egyéb közhatalmi bevételek | C36: B36 | D36: 49870 | E36: =D36 -> 49870
A37: 33 | B37: Közhatalmi bevételek (=22+...+25+31+32) | C37: B3 | D37: =SUM(D26+D27+D28+D29+D35+D36) -> 41575465 | E37: =SUM(E26+E27+E28+E29+E35+E36) -> 41575465
A38: 34 | B38: Készletértékesítés ellenértéke | C38: B401 | D38: 0 | E38: 0
A39: 35 | B39: Szolgáltatások ellenértéke | C39: B402 | D39: 18650000 | E39: =D39 -> 18650000
A40: 36 | B40: Közvetített szolgáltatások ellenértéke | C40: B403 | D40: 0 | E40: =D40 -> 0
A41: 37 | B41: Tulajdonosi bevételek | C41: B404 | D41: 50000000 | E41: =D41 -> 50000000
...

Sheet BEVÉTELEK TÁRSULÁS
A1: ÓVODAI ÉS VÉDŐNŐI TÁRSULÁS BALATONEDERICS 2020. ÉVI KÖLTSÉGVETÉS
A2: Társulási előirányzatok - Bevételek (Ft)
A4: Sor- szám | B4: Rovat megnevezése | C4: Rovat száma | D4: TÁRSULÁS EREDETI EI. | E4: EBBŐL KÖTELEZŐ
A5: 01 | B5: Helyi önkormányzatok működésének általános támogatása | C5: B111 | D5: 0 | E5: =D5 -> 0
A6: 02 | B6: Települési önkormányzatok egyes köznevelési feladatainak támogatása | C6: B112 | D6: 0 | E6: =D6 -> 0
A7: 03 | B7: Települési önkormányzatok szociális gyermekjóléti és gyermekétkeztetési feladatainak támogatása | C7: B113 | D7: 0 | E7: =D7 -> 0
A8: 04 | B8: Települési önkormányzatok kulturális feladatainak támogatása | C8: B114 | D8: 0 | E8: =D8 -> 0
A9: 05 | B9: Működési célú költségvetési támogatások és kiegészítő támogatások | C9: B115 | D9: 0 | E9: =D9 -> 0
A10: 06 | B10: Elszámolásból származó bevételek | C10: B116 | D10: 0 | E10: =D10 -> 0
A11: 07 | B11: Önkormányzatok működési támogatásai (=01+…+06) | C11: B11 | D11: =SUM(D5:D10) -> 0 | E11: =SUM(E5:E10) -> 0
A12: 08 | B12: Elvonások és befizetések bevételei | C12: B12 | D12: 0 | E12: 0
A13: 09 | B13: Működési célú garancia- és kezességvállalásból származó megtérülések államháztartáson belülről | C13: B13 | D13: 0 | E13: 0
A14: 10 | B14: Működési célú visszatérítendő támogatások, kölcsönök visszatérülése államháztartáson belülről | C14: B14 | D14: 0 | E14: 0
A15: 11 | B15: Működési célú visszatérítendő támogatások, kölcsönök igénybevétele államháztartáson belülről | C15: B15 | D15: 0 | E15: 0
A16: 12 | B16: Egyéb működési célú támogatások bevételei államháztartáson belülről | C16: B16 | D16: 0 | E16: =D16 -> 0
A17: 13 | B17: Működési célú támogatások államháztartáson belülről (=07+…+12) | C17: B1 | D17: =SUM(D11+D12+D13+D14+D15+D16) -> 0 | E17: =SUM(E11+E12+E13+E14+E15+E16) -> 0
A18: 14 | B18: Felhalmozási célú önkormányzati támogatások | C18: B21 | D18: 0 | E18: 0
A19: 15 | B19: Felhalmozási célú garancia- és kezességvállalásból származó megtérülések államháztartáson belülről | C19: B22 | D19: 0 | E19: 0
A20: 16 | B20: Felhalmozási célú visszatérítendő támogatások, kölcsönök visszatérülése államháztartáson belülről | C20: B23 | D20: 0 | E20: 0
A21: 17 | B21: Felhalmozási célú visszatérítendő támogatások, kölcsönök igénybevétele államháztartáson belülről | C21: B24 | D21: 0 | E21: 0
A22: 18 | B22: Egyéb felhalmozási célú támogatások bevételei államháztartáson belülről | C22: B25 | D22: 0 | E22: 0
A23: 19 | B23: Felhalmozási célú támogatások államháztartáson belülről (=14+…+18) | C23: B2 | D23: =SUM(D18:D22) -> 0 | E23: =SUM(E18:E22) -> 0
A24: 20 | B24: Magánszemélyek jövedelemadói | C24: B311 | D24: 0 | E24: 0
A25: 21 | B25: Társaságok jövedelemadói | C25: B312 | D25: 0 | E25: 0
A26: 22 | B26: Jövedelemadók (=20+21) | C26: B31 | D26: =SUM(D24:D25) -> 0 | E26: =SUM(E24:E25) -> 0
A27: 23 | B27: Szociális hozzájárulási adó és járulékok | C27: B32 | D27: 0 | E27: 0
A28: 24 | B28: Bérhez és foglalkoztatáshoz kapcsolódó adók | C28: B33 | D28: 0 | E28: 0
A29: 25 | B29: Vagyoni tipusú adók | C29: B34 | D29: 0 | E29: =D29 -> 0
A30: 26 | B30: Értékesítési és forgalmi adók | C30: B351 | D30: 0 | E30: =D30 -> 0
A31: 27 | B31: Fogyasztási adók | C31: B352 | D31: 0 | E31: =D31 -> 0
A32: 28 | B32: Pénzügyi monopóliumok nyereségét terhelő adók | C32: B353 | D32: 0 | E32: =D32 -> 0
A33: 29 | B33: Gépjárműadók | C33: B354 | D33: 0 | E33: =D33 -> 0
A34: 30 | B34: Egyéb áruhasználati és szolgáltatási adók | C34: B355 | D34: 0 | E34: =D34 -> 0
A35: 31 | B35: Termékek és szolgáltatások adói (=26+…+30) | C35: B35 | D35: =SUM(D30:D34) -> 0 | E35: =SUM(E30:E34) -> 0
A36: 32 | B36: Egyéb közhatalmi bevételek | C36: B36 | D36: 0 | E36: =D36 -> 0
A37: 33 | B37: Közhatalmi bevételek (=22+...+25+31+32) | C37: B3 | D37: =SUM(D26+D27+D28+D29+D35+D36) -> 0 | E37: =SUM(E26+E27+E28+E29+E35+E36) -> 0
A38: 34 | B38: Készletértékesítés ellenértéke | C38: B401 | D38: 0 | E38: 0
A39: 35 | B39: Szolgáltatások ellenértéke | C39: B402 | D39: 0 | E39: =D39 -> 0
A40: 36 | B40: Közvetített szolgáltatások ellenértéke | C40: B403 | D40: 0 | E40: =D40 -> 0
A41: 37 | B41: Tulajdonosi bevételek | C41: B404 | D41: 0 | E41: =D41 -> 0
...

Sheet BEVÉTEL ÓVODA
A1: ÓVODAI ÉS VÉDŐNŐI TÁRSULÁS BALATONEDERICS 2020. ÉVI KÖLTSÉGVETÉS
A2: Lesencetomaji Mesevár Óvoda - Bevételek (Ft)
A4: Sor- szám | B4: Rovat megnevezése | C4: Rovat száma | D4: Óvoda EREDETI EI. | E4: EBBŐL KÖTELEZŐ
A5: 01 | B5: Helyi önkormányzatok működésének általános támogatása | C5: B111 | D5: 0 | E5: =D5 -> 0
A6: 02 | B6: Települési önkormányzatok egyes köznevelési feladatainak támogatása | C6: B112 | D6: 0 | E6: =D6 -> 0
A7: 03 | B7: Települési önkormányzatok szociális gyermekjóléti és gyermekétkeztetési feladatainak támogatása | C7: B113 | D7: 0 | E7: =D7 -> 0
A8: 04 | B8: Települési önkormányzatok kulturális feladatainak támogatása | C8: B114 | D8: 0 | E8: =D8 -> 0
A9: 05 | B9: Működési célú költségvetési támogatások és kiegészítő támogatások | C9: B115 | D9: 0 | E9: =D9 -> 0
A10: 06 | B10: Elszámolásból származó bevételek | C10: B116 | D10: 0 | E10: =D10 -> 0
A11: 07 | B11: Önkormányzatok működési támogatásai (=01+…+06) | C11: B11 | D11: =SUM(D5:D10) -> 0 | E11: =SUM(E5:E10) -> 0
A12: 08 | B12: Elvonások és befizetések bevételei | C12: B12 | D12: 0 | E12: =D12 -> 0
A13: 09 | B13: Működési célú garancia- és kezességvállalásból származó megtérülések államháztartáson belülről | C13: B13 | D13: 0 | E13: =D13 -> 0
A14: 10 | B14: Működési célú visszatérítendő támogatások, kölcsönök visszatérülése államháztartáson belülről | C14: B14 | D14: 0 | E14: =D14 -> 0
A15: 11 | B15: Működési célú visszatérítendő támogatások, kölcsönök igénybevétele államháztartáson belülről | C15: B15 | D15: 0 | E15: =D15 -> 0
A16: 12 | B16: Egyéb működési célú támogatások bevételei államháztartáson belülről | C16: B16 | D16: 0 | E16: =D16 -> 0
A17: 13 | B17: Működési célú támogatások államháztartáson belülről (=07+…+12) | C17: B1 | D17: =SUM(D11+D12+D13+D14+D15+D16) -> 0 | E17: =SUM(E11+E12+E13+E14+E15+E16) -> 0
A18: 14 | B18: Felhalmozási célú önkormányzati támogatások | C18: B21 | D18: 0 | E18: =D18 -> 0
A19: 15 | B19: Felhalmozási célú garancia- és kezességvállalásból származó megtérülések államháztartáson belülről | C19: B22 | D19: 0 | E19: =D19 -> 0
A20: 16 | B20: Felhalmozási célú visszatérítendő támogatások, kölcsönök visszatérülése államháztartáson belülről | C20: B23 | D20: 0 | E20: =D20 -> 0
A21: 17 | B21: Felhalmozási célú visszatérítendő támogatások, kölcsönök igénybevétele államháztartáson belülről | C21: B24 | D21: 0 | E21: =D21 -> 0
A22: 18 | B22: Egyéb felhalmozási célú támogatások bevételei államháztartáson belülről | C22: B25 | D22: 0 | E22: =D22 -> 0
A23: 19 | B23: Felhalmozási célú támogatások államháztartáson belülről (=14+…+18) | C23: B2 | D23: =SUM(D18:D22) -> 0 | E23: =SUM(E18:E22) -> 0
A24: 20 | B24: Magánszemélyek jövedelemadói | C24: B311 | D24: 0 | E24: =D24 -> 0
A25: 21 | B25: Társaságok jövedelemadói | C25: B312 | D25: 0 | E25: =D25 -> 0
A26: 22 | B26: Jövedelemadók (=20+21) | C26: B31 | D26: =SUM(D24:D25) -> 0 | E26: =SUM(E24:E25) -> 0
A27: 23 | B27: Szociális hozzájárulási adó és járulékok | C27: B32 | D27: 0 | E27: =D27 -> 0
A28: 24 | B28: Bérhez és foglalkoztatáshoz kapcsolódó adók | C28: B33 | D28: 0 | E28: =D28 -> 0
A29: 25 | B29: Vagyoni tipusú adók | C29: B34 | D29: 0 | E29: =D29 -> 0
A30: 26 | B30: Értékesítési és forgalmi adók | C30: B351 | D30: 0 | E30: =D30 -> 0
A31: 27 | B31: Fogyasztási adók | C31: B352 | D31: 0 | E31: =D31 -> 0
A32: 28 | B32: Pénzügyi monopóliumok nyereségét terhelő adók | C32: B353 | D32: 0 | E32: =D32 -> 0
A33: 29 | B33: Gépjárműadók | C33: B354 | D33: 0 | E33: =D33 -> 0
A34: 30 | B34: Egyéb áruhasználati és szolgáltatási adók | C34: B355 | D34: 0 | E34: =D34 -> 0
A35: 31 | B35: Termékek és szolgáltatások adói (=26+…+30) | C35: B35 | D35: =SUM(D30:D34) -> 0 | E35: =SUM(E30:E34) -> 0
A36: 32 | B36: Egyéb közhatalmi bevételek | C36: B36 | D36: 0 | E36: =D36 -> 0
A37: 33 | B37: Közhatalmi bevételek (=22+...+25+31+32) | C37: B3 | D37: =SUM(D26+D27+D28+D29+D35+D36) -> 0 | E37: =SUM(E26+E27+E28+E29+E35+E36) -> 0
A38: 34 | B38: Készletértékesítés ellenértéke | C38: B401 | D38: 0 | E38: =D38 -> 0
A39: 35 | B39: Szolgáltatások ellenértéke | C39: B402 | D39: 16618151 | E39: =D39 -> 16618151
A40: 36 | B40: Közvetített szolgáltatások ellenértéke | C40: B403 | D40: 0 | E40: =D40 -> 0
A41: 37 | B41: Tulajdonosi bevételek | C41: B404 | D41: 0 | E41: =D41 -> 0
...

Sheet KIADÁSOK
A1: BALATONEDERICS KÖZSÉG ÖNKORMÁNYZAT 2020. ÉVI KÖLTSÉGVETÉS
A2: Önkormányzat és költségvetési szervei - Kiadások (Ft)
A4: Sor- szám | B4: Rovat megnevezése | C4: Rovat száma | D4: ÖNKORMÁNYZAT EREDETI EI. | E4: TÁRSULÁS EREDETI EI. | F4: ÓVODA EREDETI EI. | G4: MINDÖSSZESEN EREDETI EI.
A5: 01 | B5: Törvény szerinti illetmények, munkabérek | C5: K1101 | D5: =SUM('KIADÁSOK ÖNK'!D5) -> 20427000 | E5: =SUM('KIADÁSOK TÁRSULÁS'!D5) -> 0 | F5: =SUM('KIADÁSOK ÓVODA'!D5) -> 46116499 | G5: =SUM(D5:F5) -> 66543499
A6: 02 | B6: Normatív jutalmak | C6: K1102 | D6: =SUM('KIADÁSOK ÖNK'!D6) -> 0 | E6: =SUM('KIADÁSOK TÁRSULÁS'!D6) -> 0 | F6: =SUM('KIADÁSOK ÓVODA'!D6) -> 1689975 | G6: =SUM(D6:F6) -> 1689975
A7: 03 | B7: Céljuttatás, projektprémium | C7: K1103 | D7: =SUM('KIADÁSOK ÖNK'!D7) -> 1300000 | E7: =SUM('KIADÁSOK TÁRSULÁS'!D7) -> 0 | F7: =SUM('KIADÁSOK ÓVODA'!D7) -> 500000 | G7: =SUM(D7:F7) -> 1800000
A8: 04 | B8: Készenléti, ügyeleti, helyettesítési díj, túlóra, túlszolgálat | C8: K1104 | D8: =SUM('KIADÁSOK ÖNK'!D8) -> 0 | E8: =SUM('KIADÁSOK TÁRSULÁS'!D8) -> 0 | F8: =SUM('KIADÁSOK ÓVODA'!D8) -> 0 | G8: =SUM(D8:F8) -> 0
A9: 05 | B9: Végkielégítés | C9: K1105 | D9: =SUM('KIADÁSOK ÖNK'!D9) -> 0 | E9: =SUM('KIADÁSOK TÁRSULÁS'!D9) -> 0 | F9: =SUM('KIADÁSOK ÓVODA'!D9) -> 0 | G9: =SUM(D9:F9) -> 0
A10: 06 | B10: Jubileumi jutalom | C10: K1106 | D10: =SUM('KIADÁSOK ÖNK'!D10) -> 0 | E10: =SUM('KIADÁSOK TÁRSULÁS'!D10) -> 0 | F10: =SUM('KIADÁSOK ÓVODA'!D10) -> 0 | G10: =SUM(D10:F10) -> 0
A11: 07 | B11: Béren kívüli juttatások | C11: K1107 | D11: =SUM('KIADÁSOK ÖNK'!D11) -> 926944 | E11: =SUM('KIADÁSOK TÁRSULÁS'!D11) -> 0 | F11: =SUM('KIADÁSOK ÓVODA'!D11) -> 1456000 | G11: =SUM(D11:F11) -> 2382944
A12: 08 | B12: Ruházati költségtérítés | C12: K1108 | D12: =SUM('KIADÁSOK ÖNK'!D12) -> 0 | E12: =SUM('KIADÁSOK TÁRSULÁS'!D12) -> 0 | F12: =SUM('KIADÁSOK ÓVODA'!D12) -> 0 | G12: =SUM(D12:F12) -> 0
A13: 09 | B13: Közlekedési költségtérítés | C13: K1109 | D13: =SUM('KIADÁSOK ÖNK'!D13) -> 24000 | E13: =SUM('KIADÁSOK TÁRSULÁS'!D13) -> 0 | F13: =SUM('KIADÁSOK ÓVODA'!D13) -> 504000 | G13: =SUM(D13:F13) -> 528000
A14: 10 | B14: Egyéb költségtérítések | C14: K1110 | D14: =SUM('KIADÁSOK ÖNK'!D14) -> 0 | E14: =SUM('KIADÁSOK TÁRSULÁS'!D14) -> 0 | F14: =SUM('KIADÁSOK ÓVODA'!D14) -> 0 | G14: =SUM(D14:F14) -> 0
A15: 11 | B15: Lakhatási támogatások | C15: K1111 | D15: =SUM('KIADÁSOK ÖNK'!D15) -> 0 | E15: =SUM('KIADÁSOK TÁRSULÁS'!D15) -> 0 | F15: =SUM('KIADÁSOK ÓVODA'!D15) -> 0 | G15: =SUM(D15:F15) -> 0
A16: 12 | B16: Szociális támogatások | C16: K1112 | D16: =SUM('KIADÁSOK ÖNK'!D16) -> 0 | E16: =SUM('KIADÁSOK TÁRSULÁS'!D16) -> 0 | F16: =SUM('KIADÁSOK ÓVODA'!D16) -> 0 | G16: =SUM(D16:F16) -> 0
... A59: 55 | B59: Nemzetközi kötelezettségek | C59: K501 | D59: =SUM('KIADÁSOK ÖNK'!D59) -> 0 | E59: =SUM('KIADÁSOK TÁRSULÁS'!D59) -> 0 | F59: =SUM('KIADÁSOK ÓVODA'!D59) -> 0 | G59: =SUM(D59:F59) -> 0
A60: 56 | B60: A helyi önkormányzatok előző évi elszámolásából származó kiadások | C60: K5021 | D60: =SUM('KIADÁSOK ÖNK'!D60) -> 0 | E60: =SUM('KIADÁSOK TÁRSULÁS'!D60) -> 0 | F60: =SUM('KIADÁSOK ÓVODA'!D60) -> 0 | G60: =SUM(D60:F60) -> 0
A61: 57 | B61: A helyi önkormányzatok törvényi előíráson alapuló befizetései | C61: K5022 | D61: =SUM('KIADÁSOK ÖNK'!D61) -> 0 | E61: =SUM('KIADÁSOK TÁRSULÁS'!D61) -> 0 | F61: =SUM('KIADÁSOK ÓVODA'!D61) -> 0 | G61: =SUM(D61:F61) -> 0
A62: 58 | B62: Egyéb elvonások, befizetések | C62: K5023 | D62: =SUM('KIADÁSOK ÖNK'!D62) -> 0 | E62: =SUM('KIADÁSOK TÁRSULÁS'!D62) -> 0 | F62: =SUM('KIADÁSOK ÓVODA'!D62) -> 0 | G62: =SUM(D62:F62) -> 0
A63: 59 | B63: Elvonások és befizetések (=56+57+58) | C63: K502 | D63: =SUM('KIADÁSOK ÖNK'!D63) -> 0 | E63: =SUM('KIADÁSOK TÁRSULÁS'!D63) -> 0 | F63: =SUM('KIADÁSOK ÓVODA'!D63) -> 0 | G63: =SUM(D63:F63) -> 0
A64: 60 | B64: Működési célú garancia- és kezességvállalásból származó kifizetés államháztartáson belülre | C64: K503 | D64: =SUM('KIADÁSOK ÖNK'!D64) -> 0 | E64: =SUM('KIADÁSOK TÁRSULÁS'!D64) -> 0 | F64: =SUM('KIADÁSOK ÓVODA'!D64) -> 0 | G64: =SUM(D64:F64) -> 0
A65: 61 | B65: Működési célú visszatérítendő támogatások, kölcsönök nyújtása államháztartáson belülre | C65: K504 | D65: =SUM('KIADÁSOK ÖNK'!D65) -> 0 | E65: =SUM('KIADÁSOK TÁRSULÁS'!D65) -> 0 | F65: =SUM('KIADÁSOK ÓVODA'!D65) -> 0 | G65: =SUM(D65:F65) -> 0
A66: 62 | B66: Működési célú visszatérítendő támogatások, kölcsönök törlesztése államháztartáson belülre | C66: K505 | D66: =SUM('KIADÁSOK ÖNK'!D66) -> 0 | E66: =SUM('KIADÁSOK TÁRSULÁS'!D66) -> 0 | F66: =SUM('KIADÁSOK ÓVODA'!D66) -> 0 | G66: =SUM(D66:F66) -> 0
A67: 63 | B67: Egyéb működési célú támogatások államháztartáson belülre | C67: K506 | D67: =SUM('KIADÁSOK ÖNK'!D67) -> 71942003 | E67: =SUM('KIADÁSOK TÁRSULÁS'!D67) -> 0 | F67: =SUM('KIADÁSOK ÓVODA'!D67) -> 0 | G67: =SUM(D67:F67) -> 71942003
A68: 64 | B68: Működési célú garancia- és kezességvállalásból származó kifizetés államháztartáson kívülre | C68: K507 | D68: =SUM('KIADÁSOK ÖNK'!D68) -> 0 | E68: =SUM('KIADÁSOK TÁRSULÁS'!D68) -> 0 | F68: =SUM('KIADÁSOK ÓVODA'!D68) -> 0 | G68: =SUM(D68:F68) -> 0
A69: 65 | B69: Működési célú visszatérítendő támogatások, kölcsönök nyújtása államháztartáson kívülre | C69: K508 | D69: =SUM('KIADÁSOK ÖNK'!D69) -> 0 | E69: =SUM('KIADÁSOK TÁRSULÁS'!D69) -> 0 | F69: =SUM('KIADÁSOK ÓVODA'!D69) -> 0 | G69: =SUM(D69:F69) -> 0
A70: 66 | B70: Árkiegészítések, ártámogatások | C70: K509 | D70: =SUM('KIADÁSOK ÖNK'!D70) -> 0 | E70: =SUM('KIADÁSOK TÁRSULÁS'!D70) -> 0 | F70: =SUM('KIADÁSOK ÓVODA'!D70) -> 0 | G70: =SUM(D70:F70) -> 0
A71: 67 | B71: Kamattámogatások | C71: K510 | D71: =SUM('KIADÁSOK ÖNK'!D71) -> 0 | E71: =SUM('KIADÁSOK TÁRSULÁS'!D71) -> 0 | F71: =SUM('KIADÁSOK ÓVODA'!D71) -> 0 | G71: =SUM(D71:F71) -> 0
... A99: 95 | B99: Költségvetési kiadások (=19+20+45+54+71+79+84+94) | C99: K1-K8 | D99: =SUM('KIADÁSOK ÖNK'!D99) -> 307780256 | E99: =SUM('KIADÁSOK TÁRSULÁS'!D99) -> 104094 | F99: =SUM('KIADÁSOK ÓVODA'!D99) -> 92380652 | G99: =SUM(D99:F99) -> 400265002
A100: 01 | B100: Hosszú lejáratú hitelek, kölcsönök törlesztése pénzügyi vállalkozásnak | C100: K9111 | D100: =SUM('KIADÁSOK ÖNK'!D100) -> 0 | E100: =SUM('KIADÁSOK TÁRSULÁS'!D100) -> 0 | F100: =SUM('KIADÁSOK ÓVODA'!D100) -> 0 | G100: =SUM(D100:F100) -> 0
A101: 02 | B101: Likviditási célú hitelek, kölcsönök törlesztése pénzügyi vállalkozásnak | C101: K9112 | D101: =SUM('KIADÁSOK ÖNK'!D101) -> 0 | E101: =SUM('KIADÁSOK TÁRSULÁS'!D101) -> 0 | F101: =SUM('KIADÁSOK ÓVODA'!D101) -> 0 | G101: =SUM(D101:F101) -> 0
A102: 03 | B102: Rövid lejáratú hitelek, kölcsönök törlesztése pénzügyi vállalkozásnak | C102: K9113 | D102: =SUM('KIADÁSOK ÖNK'!D102) -> 0 | E102: =SUM('KIADÁSOK TÁRSULÁS'!D102) -> 0 | F102: =SUM('KIADÁSOK ÓVODA'!D102) -> 0 | G102: =SUM(D102:F102) -> 0
A103: 04 | B103: Hitel-, kölcsöntörlesztés államháztartáson kívülre (=01+02+03) | C103: K911 | D103: =SUM('KIADÁSOK ÖNK'!D103) -> 0 | E103: =SUM('KIADÁSOK TÁRSULÁS'!D103) -> 0 | F103: =SUM('KIADÁSOK ÓVODA'!D103) -> 0 | G103: =SUM(D103:F103) -> 0
A104: 05 | B104: Forgatási célú belföldi értékpapírok vásárlása | C104: K9121 | D104: =SUM('KIADÁSOK ÖNK'!D104) -> 0 | E104: =SUM('KIADÁSOK TÁRSULÁS'!D104) -> 0 | F104: =SUM('KIADÁSOK ÓVODA'!D104) -> 0 | G104: =SUM(D104:F104) -> 0
A105: 06 | B105: Befektetési célú belföldi értékpapírok vásárlása | C105: K9122 | D105: =SUM('KIADÁSOK ÖNK'!D105) -> 0 | E105: =SUM('KIADÁSOK TÁRSULÁS'!D105) -> 0 | F105: =SUM('KIADÁSOK ÓVODA'!D105) -> 0 | G105: =SUM(D105:F105) -> 0
A106: 07 | B106: Kincstárjegyek beváltása | C106: K9123 | D106: =SUM('KIADÁSOK ÖNK'!D106) -> 0 | E106: =SUM('KIADÁSOK TÁRSULÁS'!D106) -> 0 | F106: =SUM('KIADÁSOK ÓVODA'!D106) -> 0 | G106: =SUM(D106:F106) -> 0
A107: 08 | B107: Éven belüli lejáratú belföldi értékpapírok beváltása | C107: K9124 | D107: =SUM('KIADÁSOK ÖNK'!D107) -> 0 | E107: =SUM('KIADÁSOK TÁRSULÁS'!D107) -> 0 | F107: =SUM('KIADÁSOK ÓVODA'!D107) -> 0 | G107: =SUM(D107:F107) -> 0
A108: 09 | B108: Belföldi kötvények beváltása | C108: K9125 | D108: =SUM('KIADÁSOK ÖNK'!D108) -> 0 | E108: =SUM('KIADÁSOK TÁRSULÁS'!D108) -> 0 | F108: =SUM('KIADÁSOK ÓVODA'!D108) -> 0 | G108: =SUM(D108:F108) -> 0
A109: 10 | B109: Éven túli lejáratú belföldi értékpapírok beváltása | C109: K9126 | D109: =SUM('KIADÁSOK ÖNK'!D109) -> 0 | E109: =SUM('KIADÁSOK TÁRSULÁS'!D109) -> 0 | F109: =SUM('KIADÁSOK ÓVODA'!D109) -> 0 | G109: =SUM(D109:F109) -> 0
A110: 11 | B110: Belföldi értékpapírok kiadásai (=05+…+10) | C110: K912 | D110: =SUM('KIADÁSOK ÖNK'!D110) -> 0 | E110: =SUM('KIADÁSOK TÁRSULÁS'!D110) -> 0 | F110: =SUM('KIADÁSOK ÓVODA'!D110) -> 0 | G110: =SUM(D110:F110) -> 0
...

Sheet KIADÁSOK ÖNK
A1: BALATONEDERICS KÖZSÉG ÖNKORMÁNYZAT 2020. ÉVI KÖLTSÉGVETÉS | F1: MINDEN VASTAG BEKÉPLETEZVE
A2: Önkormányzati előirányzatok - Kiadások (Ft)
A4: Sor- szám | B4: Rovat megnevezése | C4: Rovat száma | D4: ÖNKORMÁNYZAT EREDETI EI. | E4: EBBŐL KÖTELEZŐ
A5: 01 | B5: Törvény szerinti illetmények, munkabérek | C5: K1101 | D5: 20427000 | E5: =D5 -> 20427000 | G5: =SUM(E5:E5) -> 20427000 | H5: =SUM(D5-G5) -> 0
A6: 02 | B6: Normatív jutalmak | C6: K1102 | D6: 0 | E6: =D6 -> 0
A7: 03 | B7: Céljuttatás, projektprémium | C7: K1103 | D7: 1300000 | E7: =D7 -> 1300000
A8: 04 | B8: Készenléti, ügyeleti, helyettesítési díj, túlóra, túlszolgálat | C8: K1104 | D8: 0 | E8: =D8 -> 0
A9: 05 | B9: Végkielégítés | C9: K1105 | D9: 0 | E9: =D9 -> 0
A10: 06 | B10: Jubileumi jutalom | C10: K1106 | D10: 0 | E10: =D10 -> 0
A11: 07 | B11: Béren kívüli juttatások | C11: K1107 | D11: 926944 | E11: =D11 -> 926944
A12: 08 | B12: Ruházati költségtérítés | C12: K1108 | D12: 0 | E12: =D12 -> 0
A13: 09 | B13: Közlekedési költségtérítés | C13: K1109 | D13: 24000 | E13: =D13 -> 24000
A14: 10 | B14: Egyéb költségtérítések | C14: K1110 | D14: 0 | E14: =D14 -> 0
A15: 11 | B15: Lakhatási támogatások | C15: K1111 | D15: 0 | E15: =D15 -> 0
A16: 12 | B16: Szociális támogatások | C16: K1112 | D16: 0 | E16: =D16 -> 0
A17: 13 | B17: Foglalkoztatottak egyéb személyi juttatásai | C17: K1113 | D17: 0 | E17: =D17 -> 0
... A22: 18 | B22: Külső személyi juttatások (=15+16+17) | C22: K12 | D22: 0 | E22: =D22 -> 0
A23: 19 | B23: Személyi juttatások (=14+18) | C23: K1 | D23: =SUM(D5:D22) -> 31223792 | E23: =SUM(E5:E22) -> 31223792
A24: 20 | B24: Munkaadókat terhelő járulékok és szociális hozzájárulási adó | C24: K2 | D24: 6155036 | E24: =D24 -> 6155036
A25: 21 | B25: Szakmai anyagok beszerzése | C25: K311 | D25: 177000 | E25: =D25 -> 177000
A26: 22 | B26: Üzemeltetési anyagok beszerzése | C26: K312 | D26: 6686000 | E26: =D26 -> 6686000
A27: 23 | B27: Árubeszerzés | C27: K313 | D27: 0 | E27: =D27 -> 0
A28: 24 | B28: Készletbeszerzés (=21+22+23) | C28: K31 | D28: =SUM(D25:D27) -> 6863000 | E28: =SUM(E25:E27) -> 6863000
A29: 25 | B29: Informatikai szolgáltatások igénybevétele | C29: K321 | D29: 0 | E29: =D29 -> 0
A30: 26 | B30: Egyéb kommunikációs szolgáltatások | C30: K322 | D30: 825000 | E30: =D30 -> 825000
A31: 27 | B31: Kommunikációs szolgáltatások (=25+26) | C31: K32 | D31: =SUM(D29:D30) -> 825000 | E31: =SUM(E29:E30) -> 825000
A32: 28 | B32: Közüzemi díjak | C32: K331 | D32: 10781000 | E32: =D32 -> 10781000
A33: 29 | B33: Vásárolt élelmezés | C33: K332 | D33: 0 | E33: =D33 -> 0
A34: 30 | B34: Bérleti és lízing díjak | C34: K333 | D34: 0 | E34: =D34 -> 0
A35: 31 | B35: Karbantartási, kisjavítási szolgáltatások | C35: K334 | D35: 7266000 | E35: =D35 -> 7266000
A36: 32 | B36: Közvetített szolgáltatások | C36: K335 | D36: 0 | E36: =D36 -> 0
A37: 33 | B37: Szakmai tevékenységet segítő szolgáltatások | C37: K336 | D37: 3258094 | E37: =D37 -> 3258094
A38: 34 | B38: Egyéb szolgáltatások | C38: K337 | D38: 19620000 | E38: =D38 -> 19620000
A39: 35 | B39: Szolgáltatási kiadások (=28+…+34) | C39: K33 | D39: =SUM(D32:D38) -> 40925094 | E39: =SUM(E32:E38) -> 40925094
A40: 36 | B40: Kiküldetések kiadásai | C40: K341 | D40: 0 | E40: =D40 -> 0
A41: 37 | B41: Reklám- és propagandakiadások | C41: K342 | D41: 1500000 | E41: =D41 -> 1500000
A42: 38 | B42: Kiküldetések, reklám- és propagandakiadások (=36+37) | C42: K34 | D42: =SUM(D40:D41) -> 1500000 | E42: =SUM(E40:E41) -> 1500000
A43: 39 | B43: Működési célú előzetesen felszámított általános forgalmi adó | C43: K351 | D43: 12560630 | E43: =D43 -> 12560630
A44: 40 | B44: Fizetendő általános forgalmi adó | C44: K352 | D44: 5500000 | E44: =D44 -> 5500000
A45: 41 | B45: Kamatkiadások | C45: K353 | D45: 0 | E45: =D45 -> 0
...

Sheet KIADÁSOK TÁRSULÁS
A1: ÓVODAI ÉS VÉDŐNŐI TÁRSULÁS BALATONEDERICS 2020. ÉVI KÖLTSÉGVETÉS | F1: MINDEN VASTAG BEKÉPLETEZVE
A2: Társulási előirányzatok - Kiadások (Ft)
A4: Sor- szám | B4: Rovat megnevezése | C4: Rovat száma | D4: TÁRSULÁS EREDETI EI. | E4: EBBŐL KÖTELEZŐ
A5: 01 | B5: Törvény szerinti illetmények, munkabérek | C5: K1101 | D5: 0 | E5: =D5 -> 0 | G5: =SUM(E5:E5) -> 0 | H5: =SUM(D5-G5) -> 0
A6: 02 | B6: Normatív jutalmak | C6: K1102 | D6: 0 | E6: =D6 -> 0
A7: 03 | B7: Céljuttatás, projektprémium | C7: K1103 | D7: 0 | E7: =D7 -> 0
A8: 04 | B8: Készenléti, ügyeleti, helyettesítési díj, túlóra, túlszolgálat | C8: K1104 | D8: 0 | E8: =D8 -> 0
A9: 05 | B9: Végkielégítés | C9: K1105 | D9: 0 | E9: =D9 -> 0
A10: 06 | B10: Jubileumi jutalom | C10: K1106 | D10: 0 | E10: =D10 -> 0
A11: 07 | B11: Béren kívüli juttatások | C11: K1107 | D11: 0 | E11: =D11 -> 0
A12: 08 | B12: Ruházati költségtérítés | C12: K1108 | D12: 0 | E12: =D12 -> 0
A13: 09 | B13: Közlekedési költségtérítés | C13: K1109 | D13: 0 | E13: =D13 -> 0
A14: 10 | B14: Egyéb költségtérítések | C14: K1110 | D14: 0 | E14: =D14 -> 0
A15: 11 | B15: Lakhatási támogatások | C15: K1111 | D15: 0 | E15: =D15 -> 0
A16: 12 | B16: Szociális támogatások | C16: K1112 | D16: 0 | E16: =D16 -> 0
A17: 13 | B17: Foglalkoztatottak egyéb személyi juttatásai | C17: K1113 | D17: 0 | E17: =D17 -> 0
... A22: 18 | B22: Külső személyi juttatások (=15+16+17) | C22: K12 | D22: 0 | E22: =D22 -> 0
A23: 19 | B23: Személyi juttatások (=14+18) | C23: K1 | D23: =SUM(D5:D22) -> 0 | E23: =SUM(E5:E22) -> 0
A24: 20 | B24: Munkaadókat terhelő járulékok és szociális hozzájárulási adó | C24: K2 | D24: 0 | E24: 0
A25: 21 | B25: Szakmai anyagok beszerzése | C25: K311 | D25: 0 | E25: =D25 -> 0
A26: 22 | B26: Üzemeltetési anyagok beszerzése | C26: K312 | D26: 0 | E26: =D26 -> 0
A27: 23 | B27: Árubeszerzés | C27: K313 | D27: 0 | E27: =D27 -> 0
A28: 24 | B28: Készletbeszerzés (=21+22+23) | C28: K31 | D28: =SUM(D25:D27) -> 0 | E28: =SUM(E25:E27) -> 0
A29: 25 | B29: Informatikai szolgáltatások igénybevétele | C29: K321 | D29: 0 | E29: =D29 -> 0
A30: 26 | B30: Egyéb kommunikációs szolgáltatások | C30: K322 | D30: 0 | E30: =D30 -> 0
A31: 27 | B31: Kommunikációs szolgáltatások (=25+26) | C31: K32 | D31: =SUM(D29:D30) -> 0 | E31: =SUM(E29:E30) -> 0
A32: 28 | B32: Közüzemi díjak | C32: K331 | D32: 0 | E32: =D32 -> 0
A33: 29 | B33: Vásárolt élelmezés | C33: K332 | D33: 0 | E33: =D33 -> 0
A34: 30 | B34: Bérleti és lízing díjak | C34: K333 | D34: 0 | E34: =D34 -> 0
A35: 31 | B35: Karbantartási, kisjavítási szolgáltatások | C35: K334 | D35: 0 | E35: =D35 -> 0
A36: 32 | B36: Közvetített szolgáltatások | C36: K335 | D36: 0 | E36: =D36 -> 0
A37: 33 | B37: Szakmai tevékenységet segítő szolgáltatások | C37: K336 | D37: 0 | E37: =D37 -> 0
A38: 34 | B38: Egyéb szolgáltatások | C38: K337 | D38: 84000 | E38: =D38 -> 84000
A39: 35 | B39: Szolgáltatási kiadások (=28+…+34) | C39: K33 | D39: =SUM(D32:D38) -> 84000 | E39: =SUM(E32:E38) -> 84000
A40: 36 | B40: Kiküldetések kiadásai | C40: K341 | D40: 0 | E40: =D40 -> 0
A41: 37 | B41: Reklám- és propagandakiadások | C41: K342 | D41: 0 | E41: =D41 -> 0
A42: 38 | B42: Kiküldetések, reklám- és propagandakiadások (=36+37) | C42: K34 | D42: =SUM(D40:D41) -> 0 | E42: =SUM(E40:E41) -> 0
A43: 39 | B43: Működési célú előzetesen felszámított általános forgalmi adó | C43: K351 | D43: 0 | E43: =D43 -> 0
A44: 40 | B44: Fizetendő általános forgalmi adó | C44: K352 | D44: 0 | E44: =D44 -> 0
A45: 41 | B45: Kamatkiadások | C45: K353 | D45: 0 | E45: =D45 -> 0
...

Sheet KIADÁSOK ÓVODA
A1: ÓVODAI ÉS VÉDŐNŐI TÁRSULÁS BALATONEDERICS 2020. ÉVI KÖLTSÉGVETÉS | F1: MINDEN VASTAG BEKÉPLETEZVE
A2: Lesencetomaji Mesevár Óvoda - Kiadások (Ft)
A4: Sor- szám | B4: Rovat megnevezése | C4: Rovat száma | D4: ÓVODA EREDETI EI. | E4: EBBŐL KÖTELEZŐ
A5: 01 | B5: Törvény szerinti illetmények, munkabérek | C5: K1101 | D5: 46116499 | E5: =D5 -> 46116499
A6: 02 | B6: Normatív jutalmak | C6: K1102 | D6: 1689975 | E6: =D6 -> 1689975
A7: 03 | B7: Céljuttatás, projektprémium | C7: K1103 | D7: 500000 | E7: =D7 -> 500000
A8: 04 | B8: Készenléti, ügyeleti, helyettesítési díj, túlóra, túlszolgálat | C8: K1104 | D8: 0 | E8: =D8 -> 0
A9: 05 | B9: Végkielégítés | C9: K1105 | D9: 0 | E9: =D9 -> 0
A10: 06 | B10: Jubileumi jutalom | C10: K1106 | D10: 0 | E10: =D10 -> 0
A11: 07 | B11: Béren kívüli juttatások | C11: K1107 | D11: 1456000 | E11: =D11 -> 1456000
A12: 08 | B12: Ruházati költségtérítés | C12: K1108 | D12: 0 | E12: =D12 -> 0
A13: 09 | B13: Közlekedési költségtérítés | C13: K1109 | D13: 504000 | E13: =D13 -> 504000
A14: 10 | B14: Egyéb költségtérítések | C14: K1110 | D14: 0 | E14: =D14 -> 0
A15: 11 | B15: Lakhatási támogatások | C15: K1111 | D15: 0 | E15: =D15 -> 0
A16: 12 | B16: Szociális támogatások | C16: K1112 | D16: 0 | E16: =D16 -> 0
... A22: 18 | B22: Külső személyi juttatások (=15+16+17) | C22: K12 | D22: 0 | E22: =D22 -> 0
A23: 19 | B23: Személyi juttatások (=14+18) | C23: K1 | D23: =SUM(D5:D22) -> 50666187 | E23: =SUM(E5:E22) -> 50666187
A24: 20 | B24: Munkaadókat terhelő járulékok és szociális hozzájárulási adó | C24: K2 | D24: 10098306 | E24: =D24 -> 10098306
A25: 21 | B25: Szakmai anyagok beszerzése | C25: K311 | D25: 115000 | E25: =D25 -> 115000
A26: 22 | B26: Üzemeltetési anyagok beszerzése | C26: K312 | D26: 19548823 | E26: =D26 -> 19548823
A27: 23 | B27: Árubeszerzés | C27: K313 | D27: 0 | E27: =D27 -> 0
A28: 24 | B28: Készletbeszerzés (=21+22+23) | C28: K31 | D28: =SUM(D25:D27) -> 19663823 | E28: =SUM(E25:E27) -> 19663823
A29: 25 | B29: Informatikai szolgáltatások igénybevétele | C29: K321 | D29: 0 | E29: =D29 -> 0
A30: 26 | B30: Egyéb kommunikációs szolgáltatások | C30: K322 | D30: 186115 | E30: =D30 -> 186115
A31: 27 | B31: Kommunikációs szolgáltatások (=25+26) | C31: K32 | D31: =SUM(D29:D30) -> 186115 | E31: =SUM(E29:E30) -> 186115
A32: 28 | B32: Közüzemi díjak | C32: K331 | D32: 2782731 | E32: =D32 -> 2782731
A33: 29 | B33: Vásárolt élelmezés | C33: K332 | D33: 0 | E33: =D33 -> 0
A34: 30 | B34: Bérleti és lízing díjak | C34: K333 | D34: 0 | E34: =D34 -> 0
A35: 31 | B35: Karbantartási, kisjavítási szolgáltatások | C35: K334 | D35: 408000 | E35: =D35 -> 408000
A36: 32 | B36: Közvetített szolgáltatások | C36: K335 | D36: 11000 | E36: =D36 -> 11000
A37: 33 | B37: Szakmai tevékenységet segítő szolgáltatások | C37: K336 | D37: 122000 | E37: =D37 -> 122000
A38: 34 | B38: Egyéb szolgáltatások | C38: K337 | D38: 1678000 | E38: =D38 -> 1678000
A39: 35 | B39: Szolgáltatási kiadások (=28+…+34) | C39: K33 | D39: =SUM(D32:D38) -> 5001731 | E39: =SUM(E32:E38) -> 5001731
A40: 36 | B40: Kiküldetések kiadásai | C40: K341 | D40: 3490 | E40: =D40 -> 3490
A41: 37 | B41: Reklám- és propagandakiadások | C41: K342 | D41: 0 | E41: =D41 -> 0
A42: 38 | B42: Kiküldetések, reklám- és propagandakiadások (=36+37) | C42: K34 | D42: =SUM(D40:D41) -> 3490 | E42: =SUM(E40:E41) -> 3490
A43: 39 | B43: Működési célú előzetesen felszámított általános forgalmi adó | C43: K351 | D43: 4876000 | E43: =D43 -> 4876000
A44: 40 | B44: Fizetendő általános forgalmi adó | C44: K352 | D44: 1885000 | E44: =D44 -> 1885000
A45: 41 | B45: Kamatkiadások | C45: K353 | D45: 0 | E45: =D45 -> 0
A46: 42 | B46: Egyéb pénzügyi műveletek kiadásai | C46: K354 | D46: 0 | E46: =D46 -> 0
...

Sheet 9_A Felhalmozási mérleg
A1: II. Felhalmozási célú bevételek és kiadások mérlege (Önkormányzati szinten)
A3: Sor- szám | B3: Bevételek | D3: Kiadások
B4: Megnevezés | C4: 2019. évi előirányzat | D4: Megnevezés | E4: 2019. évi előirányzat
A5: 1 | B5: 2 | C5: 3 | D5: 6 | E5: 7
A6: 1. | B6: Felhalmozási célú támogatások államháztartáson belülről (B2) | C6: 32127349 | D6: Beruházások (K6) | E6: 0
A7: 2. | B7: 1.-ből EU-s támogatás | C7: 0 | D7: 1.-ből EU-s forrásból megvalósuló beruházás | E7: 0
A8: 3. | B8: Felhalmozási bevételek (B5) | C8: 0 | D8: Felújítások (K7) | E8: 99111633
A9: 4. | B9: Felhalmozási célú átvett pénzeszközök (B6) | C9: 0 | D9: 3.-ból EU-s forrásból megvalósuló felújítás
A10: 5. | B10: 4.-ből EU-s támogatás (közvetlen) | D10: Egyéb felhalmozási kiadások
A11: 6. | B11: Felhalmozási célú bevételek (B7)
A12: 7.
A13: 8.
A14: 9.
A15: 10.
A16: 11. | D16: Tartalékok | E16: 1946204
A17: 12. | B17: Költségvetési bevételek összesen: (1.+3.+4.+6.+…+11.) | C17: =C6 -> 32127349 | D17: Költségvetési kiadások összesen: (1.+3.+5.+...+11.) | E17: =E8+E6 -> 99111633
A18: 13. | B18: Hiány belső finanszírozás bevételei ( 14+…+18) | D18: Értékpapír vásárlása, visszavásárlása
A19: 14. | B19: Költségvetési maradvány igénybevétele | D19: Hitelek törlesztése
A20: 15. | B20: Vállalkozási maradvány igénybevétele | D20: Rövid lejáratú hitelek törlesztése
A21: 16. | B21: Betét visszavonásából származó bevétel | D21: Hosszú lejáratú hitelek törlesztése
A22: 17. | B22: Értékpapír értékesítése | C22: 0 | D22: Kölcsön törlesztése
A23: 18. | B23: Egyéb belső finanszírozási bevételek | D23: Befektetési célú belföldi, külföldi értékpapírok vásárlása
A24: 19. | B24: Hiány külső finanszírozásának bevételei (20+…+24 ) | C24: =+C25+C26+C27+C28+C29 -> 0 | D24: Betét elhelyezése
A25: 20. | B25: Hosszú lejáratú hitelek, kölcsönök felvétele | D25: Pénzügyi lízing kiadásai
A26: 21. | B26: Likviditási célú hitelek, kölcsönök felvétele
A27: 22. | B27: Rövid lejáratú hitelek, kölcsönök felvétele
A28: 23. | B28: Értékpapírok kibocsátása
A29: 24. | B29: Egyéb külső finanszírozási bevételek
A30: 25. | B30: Felhalmozási célú finanszírozási bevételek összesen (13.+19.) | C30: =SUM(C18,C24) -> 0 | D30: Felhalmozási célú finanszírozási kiadások összesen (13.+...+24.) | E30: =SUM(E18:E29) -> 0
A31: 26. | B31: BEVÉTEL ÖSSZESEN (12+25) | C31: =+C17+C30 -> 32127349 | D31: KIADÁSOK ÖSSZESEN (12+25) | E31: =+E17+E30 -> 99111633
A32: 27. | B32: Költségvetési hiány: | C32: =C17-E17 -> -66984284 | D32: Költségvetési többlet: | E32: =IF(C17-E17>0,C17-E17,"-") -> -
A33: 28. | B33: Tárgyévi hiány: | D33: Tárgyévi többlet: | E33: 0

Sheet 25.Működési mérleg
A1: I. Működési célú bevételek és kiadások mérlege (Önkormányzati szinten)
A3: Sor- szám | B3: Bevételek | F3: Kiadások
B4: Megnevezés | C4: 2020.évi előirányzat | D4: 2020. évi 1.sz.módosított | E4: 2020. évi 2.sz.módosított 12.31-ig | F4: Megnevezés | G4: 2020. évi előirányzat | H4: 2019. évi 1.sz.módosított | I4: 2020. évi 2.sz.módosított 12.31-ig
A5: 1 | B5: 2 | C5: 3 | D5: 4 | F5: 5 | G5: 6 | H5: 7 | I5: 7
A6: 1. | B6: Önkormányzatok működési támogatásai | C6: 0 | F6: Személyi juttatások | G6: 81889979 | H6: 90120740 | I6: 89688787
A7: 2. | B7: Működési célú támogatások államháztartáson belülről (B1) | C7: 83519005 | D7: 172912415 | E7: 176695476 | F7: Munkaadókat terhelő járulékok és szociális hozzájárulási adó | G7: 16253342 | H7: 16585206 | I7: 15724204
A8: 3. | B8: 2.-ból EU-s támogatás | F8: Dologi kiadások | G8: 99873883 | H8: 107340849 | I8: 91607008
A9: 4. | B9: Közhatalmi bevételek (B3) | C9: 41575465 | D9: 38624314 | E9: 34705165 | F9: Ellátottak pénzbeli juttatásai | G9: 6077904 | H9: 3946499 | I9: 4037523
A10: 5. | F10: Egyéb működési célú kiadások | G10: 33742168 | H10: 81617717 | I10: 155810323
A11: 6. | B11: 4.-ből EU-s támogatás
A12: 7. | B12: Egyéb működési bevételek (B4) | C12: 78975382 | D12: 93242992 | E12: 91559273
A13: 8.
A14: 9.
A15: 10.
A16: 11.
A17: 12.
A18: 13. | B18: Költségvetési bevételek összesen (1.+2.+4.+5.+7.+…+12.) | C18: =SUM(C6:C17) -> 204069852 | D18: =SUM(D6:D17) -> 304779721 | E18: =SUM(E6:E17) -> 302959914 | F18: Költségvetési kiadások összesen (1.+...+12.) | G18: =SUM(G6:G17) -> 237837276 | H18: =SUM(H6:H10) -> 299611011 | I18: =SUM(I6:I10) -> 356867845
A19: 14. | B19: Hiány belső finanszírozásának bevételei (15.+…+18. ) | C19: 103770784
A20: 15. | B20: Költségvetési maradvány igénybevétele | C20: 0 | E20: 52957900
A21: 16. | B21: Vállalkozási maradvány igénybevétele | F21: Rövid lejáratú hitelek törlesztése
A22: 17. | B22: ÁH belüli megelőlegezések | D22: 3060985 | E22: 4027252 | F22: Hosszú lejáratú hitelek törlesztése
A23: 18. | B23: Egyéb belső finanszírozási bevételek | D23: 74719942 | E23: 68703260 | F23: Kölcsön törlesztése
A24: 19. | B24: Hiány külső finanszírozásának bevételei (20.+…+21.) | F24: Forgatási célú belföldi, külföldi értékpapírok vásárlása
A25: 20. | B25: Likviditási célú hitelek, kölcsönök felvétele | F25: Betét elhelyezése
A26: 21. | B26: Értékpapírok bevételei | C26: 0 | F26: Belföldi finanszírozási kiadások | G26: 3019076 | H26: 77772208 | I26: 71780481
A27: 22. | B27: Működési célú finanszírozási bevételek összesen (14.+19.) | C27: =C19 -> 103770784 | D27: =SUM(D19:D26) -> 77780927 | E27: =SUM(E19:E26) -> 125688412 | F27: Működési célú finanszírozási kiadások összesen (14.+...+21.) | G27: =SUM(G19:G26) -> 3019076 | H27: =SUM(H26) -> 77772208 | I27: =SUM(I26) -> 71780481
A28: 23. | B28: BEVÉTEL ÖSSZESEN (13.+22.) | C28: =SUM(C18+C27)+C26 -> 307840636 | D28: =SUM(D18+D27) -> 382560648 | E28: =E18+E27 -> 428648326 | F28: KIADÁSOK ÖSSZESEN (13.+22.) | G28: =+G18+G27 -> 240856352 | H28: =SUM(H18+H27) -> 377383219 | I28: =SUM(I18+I27) -> 428648326
A29: 24. | B29: Költségvetési hiány: | F29: Költségvetési többlet: | G29: =IF(C18-G18>0,C18-G18,"-") -> - | H29: 5177427 | I29: 5177428
A30: 25. | B30: Tárgyévi hiány: | F30: Tárgyévi többlet: | G30: =C28-G28 -> 66984284

Sheet LÉTSZÁM
A1: BALATONEDERICS KÖZSÉG ÖNKORMÁNYZAT 2020. ÉVI KÖLTSÉGVETÉS
A2: Létszám (Fő)
A4: MEGNEVEZÉS | B4: ÖNKORMÁNYZAT | C4: TÁRSULÁS | D4: ÓVODA | E4: Művelősési ház | F4: MINDÖSSZESEN EREDETI EI.
A5: főjegyző, jegyző, aljegyző, címzetes főjegyző, körjegyző | C5: 0 | F5: =SUM(B5:E5) -> 0
A6: I. besorolási osztály összesen | C6: 0 | F6: =SUM(B6:E6) -> 0
A7: II. besorolási osztály összesen | C7: 0 | F7: =SUM(B7:E7) -> 0
A8: III. besorolási osztály összesen | C8: 0 | F8: =SUM(B8:E8) -> 0
A9: KÖZTISZTVISELŐK, KORMÁNYTISZTVISELŐK ÖSSZESEN | C9: 0 | F9: =SUM(B9:E9) -> 0
A10: igazgató (főigazgató), igazgatóhelyettes (főigazgató-helyettes) | D10: 1 | E10: 1 | F10: =SUM(B10:E10) -> 2
A11: főosztályvezető, főosztályvezető-helyettes, osztályvezető, ügykezelő osztályvezető, további vezető | F11: =SUM(B11:E11) -> 0
A12: főtanácsos, főmunkatárs, tanácsos, munkatárs | F12: =SUM(B12:E12) -> 0
A13: "A", "B" fizetési osztály összesen | D13: 7 | F13: =SUM(B13:E13) -> 7
A14: "C", "D" fizetési osztály összesen | D14: 5 | F14: =SUM(B14:E14) -> 5
A15: "E"-"J" fizetési osztály összesen | B15: 1 | D15: 5 | E15: 1 | F15: =SUM(B15:E15) -> 7
A16: kutató, felsőoktatásban oktató | F16: =SUM(B16:E16) -> 0
A17: KÖZALKALMAZOTTAK ÖSSZESEN | B17: 1 | D17: 19 | E17: 2 | F17: =SUM(B17:E17) -> 22
A18: fizikai alkalmazott, a költségvetési szerveknél foglalkoztatott egyéb munkavállaló (fizikai alkalmazott) | B18: 0 | C18: 1 | D18: 0 | F18: =SUM(B18:E18) -> 1
A19: ösztöndíjas foglalkoztatott | B19: 0 | F19: =SUM(B19:E19) -> 0
A20: közfoglalkoztatott | B20: 9 | E20: 1 | F20: =SUM(B20:E20) -> 10
A21: EGYÉB BÉRRENDSZER ÖSSZESEN | B21: 12 | C21: 1 | E21: 1 | F21: =SUM(B21:E21) -> 14
A22: polgármester, főpolgármester | B22: 1 | F22: =SUM(B22:E22) -> 1
A23: helyi önkormányzati képviselő-testület tagja, megyei közgyűlés tagja | B23: 5 | F23: =SUM(B23:E23) -> 5
A24: alpolgármester, főpolgármester-helyettes, megyei közgyűlés elnöke, alelnöke | B24: 1 | F24: =SUM(B24:E24) -> 1
A25: VÁLASZTOTT TISZTSÉGVISELŐK ÖSSZESEN | B25: 7 | F25: =SUM(B25:E25) -> 7
A26: KÖLTSÉGVETÉSI ENGEDÉLYEZETT LÉTSZÁMKERETBE TARTOZÓ FOGLALKOZTATOTTAK LÉTSZÁMA MINDÖSSZESEN | B26: =SUM(B21+B25+B17) -> 20 | C26: 10 | D26: 19 | E26: 3 | F26: =SUM(B26:E26) -> 52
A27: prémiumévek programról és a különleges foglalkoztatási állományról szóló 2004. évi CXXII. törvény alapján foglalkoztatott prémiumévesek | F27: =SUM(B27:E27) -> 0
A28: prémiumévek programról és a különleges foglalkoztatási állományról szóló 2004. évi CXXII. törvény alapján foglalkoztatott különleges foglalkoztatási állományba helyezettek létszáma | F28: =SUM(B28:E28) -> 0
A29: ösztöndíjas foglalkoztatottak (Pftv, illetve Magyar Közigazgatási Ösztöndíjról szóló 228/2011. (X. 28.) Korm. rendelet) | F29: =SUM(B29:E29) -> 0
A30: munkaerőpiactól tartósan távol lévő személyek | F30: =SUM(B30:E30) -> 0
A31: KÖLTSÉGVETÉSI ENGEDÉLYEZETT LÉTSZÁMKERETBE NEM TARTOZÓ FOGLALKOZTATOTTAK LÉTSZÁMA AZ IDŐSZAK VÉGÉN ÖSSZESEN | B31: 0 | C31: 0 | D31: 0 | E31: 0 | F31: 0

Sheet 10. szociális kiadások
A1: BALATONEDERICS KÖZSÉG ÖNKORMÁNYZAT 2020. ÉVI KÖLTSÉGVETÉS
A2: Lakosságnak juttatott támogatások, szociális, rászorultsági jellegű ellátások (Ft)
A5: Megnevezés | B5: Rovat-szám | C5: ÖNKORMÁNYZAT EREDETI EI. | D5: P.HIVATAL EREDETI EI. | E5: ÓVODA EREDETI EI. | F5: MINDÖSSZESEN EREDETI EI.
A6: mozgáskorlátozottak közlekedési támogatása | B6: K44 | C6: 0 | D6: 0 | E6: 0 | F6: =SUM(C6:E6) -> 0
A7: mozgáskorlátozottak szerzési és átalakítási támogatása | B7: K44 | C7: 0 | D7: 0 | E7: 0 | F7: =SUM(C7:E7) -> 0
A8: megváltozott munkaképességűek illetve egészségkárosodottak keresetkiegészítése | B8: K44 | C8: 0 | D8: 0 | E8: 0 | F8: =SUM(C8:E8) -> 0
A9: cukorbetegek támogatása | B9: K44 | C9: 0 | D9: 0 | E9: 0 | F9: =SUM(C9:E9) -> 0
A10: helyi megállapítású ápolási díj [Szoctv. 43/B. §] | B10: K44 | C10: 377904 | D10: 0 | E10: 0 | F10: =SUM(C10:E10) -> 377904
A11: helyi megállapítású közgyógyellátás [Szoctv.50.§ (3) bek.] | B11: K44 | C11: 0 | D11: 0 | E11: 0 | F11: =SUM(C11:E11) -> 0
A12: Betegséggel kapcsolatos (nem társadalombiztosítási) ellátások | B12: K44 | C12: =SUM(C6:C11) -> 377904 | D12: =SUM(D6:D11) -> 0 | E12: =SUM(E6:E11) -> 0 | F12: =SUM(F6:F11) -> 377904
A13: foglalkoztatást helyettesítő támogatás [Szoctv. 35. § (1) bek.] | B13: K45 | C13: 0 | D13: 0 | E13: 0 | F13: =SUM(C13:E13) -> 0
A14: Foglalkoztatással, munkanélküliséggel kapcsolatos ellátások | B14: K45 | C14: =+C13 -> 0 | D14: =+D13 -> 0 | E14: =+E13 -> 0 | F14: =+F13 -> 0
A15: hozzájárulás a lakossági energiaköltségekhez | B15: K46 | C15: 0 | D15: 0 | E15: 0 | F15: =SUM(C15:E15) -> 0
A16: lakbértámogatás | B16: K46 | C16: 0 | D16: 0 | E16: 0 | F16: =SUM(C16:E16) -> 0
A17: lakásfenntartási támogatás [Szoctv. 38. § (1) bek. a) és b) pontok] | B17: K46 | C17: 0 | D17: 0 | E17: 0 | F17: =SUM(C17:E17) -> 0
A18: adósságcsökkentési támogatás [Szoctv. 55/A. § 1. bek. b) pont] | B18: K46 | C18: 0 | D18: 0 | E18: 0 | F18: =SUM(C18:E18) -> 0
A19: természetben nyújtott lakásfenntartási támogatás [Szoctv. 47.§ (1) bek. b) pont] | B19: K46 | C19: 0 | D19: 0 | E19: 0 | F19: =SUM(C19:E19) -> 0
A20: adósságkezelési szolgáltatás keretében gáz-vagy áram fogyasztást mérő készülék biztosítása [Szoctv. 55/A. § (3) bek.] | B20: K46 | C20: 0 | D20: 0 | E20: 0 | F20: =SUM(C20:E20) -> 0
A21: Lakhatással kapcsolatos ellátások | B21: K46 | C21: =SUM(C15:C20) -> 0 | D21: =SUM(D15:D20) -> 0 | E21: =SUM(E15:E20) -> 0 | F21: =SUM(F15:F20) -> 0
A22: állami gondozottak pénzbeli juttatásai | B22: K47 | C22: 0 | D22: 0 | E22: 0 | F22: =SUM(C22:E22) -> 0
A23: oktatásban résztvevők pénzbeli juttatásai (Bursa Hungarica) | B23: K47 | C23: 192000 | D23: 0 | E23: 0 | F23: =SUM(C23:E23) -> 192000
A24: Intézményi ellátottak pénzbeli juttatásai | B24: K47 | C24: =SUM(C22:C23) -> 192000 | D24: 0 | E24: 0 | F24: =SUM(C24:E24) -> 192000
A25: időskorúak járadéka [Szoctv. 32/B. § (1) bek.] | B25: K48 | C25: 0 | D25: 0 | E25: 0 | F25: =SUM(C25:E25) -> 0
A26: rendszeres szociális segély [Szoctv. 37. § (1) bek. a) - d) pontok] | B26: K48 | C26: 650000 | D26: 0 | E26: 0 | F26: =SUM(C26:E26) -> 650000
A27: átmeneti segély [Szoctv. 45.§] | B27: K48 | C27: 2000000 | D27: 0 | E27: 0 | F27: =SUM(C27:E27) -> 2000000
A28: önkormányzati segély, temetési segély [Szoctv. 46.§] | B28: K48 | C28: 0 | D28: 0 | E28: 0 | F28: =SUM(C28:E28) -> 0
A29: gyermekek támogatása | B29: K48 | C29: 1000000 | D29: 0 | E29: 0 | F29: =SUM(C29:E29) -> 1000000
A30: Idősek napi támogatás | B30: K48 | C30: 350000 | D30: 0 | E30: 0 | F30: =SUM(C30:E30) -> 350000
A31: természetben nyújtott rendszeres szociális segély [Szoctv. 47.§ (1) bek. a) pont] | B31: K48 | C31: 0 | D31: 0 | E31: 0 | F31: =SUM(C31:E31) -> 0
A32: átmeneti segély [Szoctv. 47.§ (1) bek. c) pont] | B32: K48 | C32: 950000 | D32: 0 | E32: 0 | F32: =SUM(C32:E32) -> 950000
A33: temetési segély [Szoctv. 47.§ (1) bek. d) pont} | B33: K48 | C33: 250000 | D33: 0 | E33: 0 | F33: =SUM(C33:E33) -> 250000
A34: köztemetés [Szoctv. 48.§] | B34: K48 | C34: 0 | D34: 0 | E34: 0 | F34: =SUM(C34:E34) -> 0
A35: egyéb szociális ellátások (állami normatíva) | B35: K48 | C35: 0 | D35: 0 | E35: 0 | F35: =SUM(C35:E35) -> 0
A36: rászorultságtól függõ normatív kedvezmények [Gyvt. 151. § (5) bek.] | B36: K48 | C36: 0 | D36: 0 | E36: 0 | F36: =SUM(C36:E36) -> 0
... A38: önkormányzat által saját hatáskörben (nem szociális és gyermekvédelmi előírások alapján) adott természetbeni ellátás | B38: K48 | C38: 620000 | D38: 0 | E38: 0 | F38: =SUM(C38:E38) -> 620000
A39: Egyéb nem intézményi ellátások | B39: K48 | C39: =SUM(C25:C38) -> 5820000 | D39: =SUM(D27:D38) -> 0 | E39: =SUM(E27:E38) -> 0 | F39: =SUM(F27:F38) -> 5170000
A40: Ellátottak pénzbeli juttatásai | B40: K4 | C40: =+C39+C24+C21+C14+C12 -> 6389904 | D40: =+D39+D24+D21+D14+D12 -> 0 | E40: =+E39+E24+E21+E14+E12 -> 0 | F40: =+F39+F24+F21+F14+F12 -> 5739904

Sheet ÁTADOTT ÁTVETT
A1: BALATONEDERICS KÖZSÉG ÖNKORMÁNYZAT 2020. ÉVI KÖLTSÉGVETÉS
A2: Támogatási kiadások és bevételek, átdott pénzeszközök, átvett pénzeszközök (Ft)
A4: Rovat megnevezése | B4: Rovat száma | C4: ÖNKORMÁNYZAT EREDETI EI. | D4: TÁRSULÁS EREDETI EI. | E4: ÓVODA EREDETI EI. | F4: MINDÖSSZESEN EREDETI EI.
A5: KEOP pályázat visszafizetés | B5: K506 | C5: 0 | D5: 0 | E5: 0 | F5: =SUM(C5:E5) -> 0
A6: központi költségvetési szervek részére Lesencetomaji Mesevár Óvoda | B6: K506 | C6: 68026305 | D6: 0 | E6: 0 | F6: =SUM(C6:E6) -> 68026305
A7: központi költségvetési szervek részére Lesencetomaji Közös Önkormányzati Hivatal | B7: K506 | C7: 3915698 | D7: 0 | E7: 0 | F7: =SUM(C7:E7) -> 3915698
A8: Egyéb működési célú támogatások államháztartáson belülre | B8: K506 | C8: =SUM(C5:C7) -> 71942003 | D8: =SUM(D5:D7) -> 0 | E8: =SUM(E5:E7) -> 0 | F8: =SUM(F5:F7) -> 71942003
A9: Működési célú visszatérítendő támogatások, kölcsönök nyújtása államháztartáson kívülre | B9: K508 | C9: 0 | D9: 0 | E9: 0 | F9: =SUM(C9:E9) -> 0
A10: Árkiegészítések, ártámogatások | B10: K509 | C10: 0 | D10: 0 | E10: 0 | F10: =SUM(C10:E10) -> 0
A11: Balaton- felvidéki Szociális és Gyermekjóléti Központ | B11: K512 | C11: 1602054 | D11: 0 | E11: 0 | F11: =SUM(C11:E11) -> 1602054
A12: Házi orvos támogatása | B12: K512 | C12: 756000 | D12: 0 | E12: 0 | F12: =SUM(C12:E12) -> 756000
A13: NABE támogatása | B13: K512 | C13: 100000 | D13: 0 | E13: 0 | F13: =SUM(C13:E13) -> 100000
A14: TÖOSZ, Balatoni Szövetség, Sportegyesület, horgászegyesület | B14: K512 | C14: 1520000 | D14: 0 | E14: 0 | F14: =SUM(C14:E14) -> 1520000
A15: Egyéb működési célú támogatások államháztartáson kívülre | B15: K512 | C15: =SUM(C11:C14) -> 3978054 | D15: =SUM(D11:D14) -> 0 | E15: =SUM(E11:E14) -> 0 | F15: =SUM(F11:F14) -> 3978054
A17: 11. melléklet Balatonederics Község Önkormányzata 2020. évi költségvetéséről szóló...../2020. (II........) sz. önkormányzati rendelethez
A19: Rovat megnevezése | B19: Rovat száma | C19: ÖNKORMÁNYZAT EREDETI EI. | D19: TÁRSULÁS EREDETI EI. | E19: ÓVODA EREDETI EI. | F19: MINDÖSSZESEN EREDETI EI.
A20: Közfoglalkoztatottak finanszírozása | B20: B16 | C20: 389583 | D20: 0 | E20: 0 | F20: 0
A21: Társadalombiztosítás pénzügyi alapjai | B21: B16 | C21: 0 | D21: 0 | E21: 0 | F21: 0
A22: Egyéb működési célú támogatások bevételei államháztartáson belülről | B22: B16 | C22: 17781663 | D22: 68026305 | E22: 68026305 | F22: =SUM(C22:E22) -> 153834273
A23: Felhalmozási célú önkormányzati támogatások | B23: B21 | C23: 0 | D23: 0 | E23: 0 | F23: =SUM(C23:E23) -> 0
A24: Egyéb felhalmozási célú támogatások bevételei államháztartáson belülről | B24: B25 | C24: 0 | D24: 0 | E24: 0 | F24: =SUM(C24:E24) -> 0
A25: Felhalmozási célú támogatások államháztartáson belülről | B25: B2 | C25: =SUM(C23:C24) -> 0 | D25: =SUM(D23:D24) -> 0 | E25: =SUM(E23:E24) -> 0 | F25: =SUM(C25:E25) -> 0
A26: Működési célú visszatérítendő támogatások, kölcsönök visszatérülése államháztartáson kívülről | B26: B64 | C26: 0 | D26: 0 | E26: 0 | F26: =SUM(C26:E26) -> 0
A27: Egyéb működési célú átvett pénzeszközök | B27: B65 | C27: 0 | D27: 0 | E27: 0 | F27: =SUM(C27:E27) -> 0
A28: Működési célú átvett pénzeszközök | B28: B6 | C28: =SUM(C26:C27) -> 0 | D28: =SUM(D26:D27) -> 0 | E28: =SUM(E26:E27) -> 0 | F28: =SUM(C28:E28) -> 0
A29: Felhalmozási célú visszatérítendő támogatások, kölcsönök visszatérülése államháztartáson kívülről | B29: B74 | C29: 0 | D29: 0 | E29: 0 | F29: =SUM(C29:E29) -> 0
A30: Egyéb felhalmozási célú átvett pénzeszközök | B30: B75 | C30: 0 | D30: 0 | E30: 0 | F30: =SUM(C30:E30) -> 0
A31: Felhalmozási célú átvett pénzeszközök | B31: B7 | C31: =SUM(C29:C30) -> 0 | D31: =SUM(D29:D30) -> 0 | E31: =SUM(E29:E30) -> 0 | F31: =SUM(C31:E31) -> 0

Sheet BERUH FELÚJ
A1: BALATONEDERICS KÖZSÉG ÖNKORMÁNYZAT 2020. ÉVI KÖLTSÉGVETÉS
A2: Beruházások és felújítások (Ft)
A4: Rovat megnevezése | B4: Rovat-szám | C4: ÖNKORMÁNYZAT EREDETI EI. | D4: TÁRSULÁS EREDETI EI. | E4: ÓVODA EREDETI EI. | F4: KÖZÖSSÉGI H. EREDETI EI. | G4: MINDÖSSZESEN EREDETI EI.
G7: =SUM(C7:F7) -> 0
G8: =SUM(C8:F8) -> 0
A9: Immateriális javak beszerzése, létesítése | B9: K61 | C9: =SUM(C5:C8) -> 0 | D9: =SUM(D5:D8) -> 0 | E9: =SUM(E5:E8) -> 0 | F9: =SUM(F5:F8) -> 0 | G9: =SUM(G5:G8) -> 0
G10: =SUM(C10:F10) -> 0
G11: =SUM(C11:F11) -> 0
G12: =SUM(C12:F12) -> 0
G13: =SUM(C13:F13) -> 0
A14: Ingatlanok beszerzése, létesítése | B14: K62 | C14: =SUM(C10:C13) -> 0 | D14: =SUM(D10:D13) -> 0 | E14: =SUM(E10:E13) -> 0 | F14: =SUM(F10:F13) -> 0 | G14: =SUM(C14:F14) -> 0
G15: =SUM(C15:F15) -> 0
G16: =SUM(C16:F16) -> 0
G17: =SUM(C17:F17) -> 0
G18: =SUM(C18:F18) -> 0
A19: Informatikai eszközök beszerzése, létesítése | B19: K63 | C19: 0 | D19: 0 | E19: =SUM(E15:E18) -> 0 | F19: =SUM(F15:F18) -> 0 | G19: =SUM(C19:F19) -> 0
