Workbook

Sheet BEVÉTELEK
A1: BALATONEDERICS KÖZSÉG ÖNKORMÁNYZAT 2020. ÉVI KÖLTSÉGVETÉS
A2: Önkormányzat és költségvetési szervei - Bevételek (Ft)
A4: Sor- szám | B4: Rovat megnevezése | C4: Rovat száma | D4: ÖNKORMÁNYZAT EREDETI EI. | E4: TÁRSULÁS EREDETI EI. | F4: ÓVODA EREDETI EI. | G4: MINDÖSSZESEN EREDETI EI.
A5: 01 | B5: Helyi önkormányzatok működésének általános támogatása | C5: B111 | D5: =SUM('BEVÉTELEK ÖNK'!D5) -> 27806802 | E5: =SUM('BEVÉTELEK TÁRSULÁS'!D5) -> 0 | F5: =SUM('BEVÉTEL ÓVODA'!D5) -> 0 | G5: =SUM(D5:F5) -> 27806802
A6: 02 | B6: Települési önkormányzatok egyes köznevelési feladatainak támogatása | C6: B112 | D6: =SUM('BEVÉTELEK ÖNK'!D6) -> 29754540 | E6: =SUM('BEVÉTELEK TÁRSULÁS'!D6) -> 0 | F6: =SUM('BEVÉTEL ÓVODA'!D6) -> 0 | G6: =SUM(D6:F6) -> 29754540
A7: 03 | B7: Települési önkormányzatok szociális gyermekjóléti és gyermekétkeztetési feladatainak támogatása | C7: B113 | D7: =SUM('BEVÉTELEK ÖNK'!D7) -> 6376000 | E7: =SUM('BEVÉTELEK TÁRSULÁS'!D7) -> 0 | F7: =SUM('BEVÉTEL ÓVODA'!D7) -> 0 | G7: =SUM(D7:F7) -> 6376000
A8: 04 | B8: Települési önkormányzatok kulturális feladatainak támogatása | C8: B114 | D8: =SUM('BEVÉTELEK ÖNK'!D8) -> 1800000 | E8: =SUM('BEVÉTELEK TÁRSULÁS'!D8) -> 0 | F8: =SUM('BEVÉTEL ÓVODA'!D8) -> 0 | G8: =SUM(D8:F8) -> 1800000
A9: 05 | B9: Működési célú költségvetési támogatások és kiegészítő támogatások | C9: B115 | D9: =SUM('BEVÉTELEK ÖNK'!D9) -> 0 | E9: =SUM('BEVÉTELEK TÁRSULÁS'!D9) -> 0 | F9: =SUM('BEVÉTEL ÓVODA'!D9) -> 0 | G9: =SUM(D9:F9) -> 0
A10: 06 | B10: Elszámolásból származó bevételek | C10: B116 | D10: =SUM('BEVÉTELEK ÖNK'!D10) -> 0 | E10: =SUM('BEVÉTELEK TÁRSULÁS'!D10) -> 0 | F10: =SUM('BEVÉTEL ÓVODA'!D10) -> 0 | G10: =SUM(D10:F10) -> 0
A11: 07 | B11: Önkormányzatok működési támogatásai (=01+…+06) | C11: B11 | D11: =SUM('BEVÉTELEK ÖNK'!D11) -> 65737342 | E11: =SUM('BEVÉTELEK TÁRSULÁS'!D11) -> 0 | F11: =SUM('BEVÉTEL ÓVODA'!D11) -> 0 | G11: =SUM(D11:F11) -> 65737342
A12: 08 | B12: Elvonások és befizetések bevételei | C12: B12 | D12: =SUM('BEVÉTELEK ÖNK'!D12) -> 0 | E12: =SUM('BEVÉTELEK TÁRSULÁS'!D12) -> 0 | F12: =SUM('BEVÉTEL ÓVODA'!D12) -> 0 | G12: =SUM(D12:F12) -> 0
A13: 09 | B13: Működési célú garancia- és kezességvállalásból származó megtérülések államháztartáson belülről | C13: B13 | D13: =SUM('BEVÉTELEK ÖNK'!D13) -> 0 | E13: =SUM('BEVÉTELEK TÁRSULÁS'!D13) -> 0 | F13: =SUM('BEVÉTEL ÓVODA'!D13) -> 0 | G13: =SUM(D13:F13) -> 0
A14: 10 | B14: Működési célú visszatérítendő támogatások, kölcsönök visszatérülése államháztartáson belülről | C14: B14 | D14: =SUM('BEVÉTELEK ÖNK'!D14) -> 0 | E14: =SUM('BEVÉTELEK TÁRSULÁS'!D14) -> 0 | F14: =SUM('BEVÉTEL ÓVODA'!D14) -> 0 | G14: =SUM(D14:F14) -> 0
A15: 11 | B15: Működési célú visszatérítendő támogatások, kölcsönök igénybevétele államháztartáson belülről | C15: B15 | D15: =SUM('BEVÉTELEK ÖNK'!D15) -> 0 | E15: =SUM('BEVÉTELEK TÁRSULÁS'!D15) -> 0 | F15: =SUM('BEVÉTEL ÓVODA'!D15) -> 0 | G15: =SUM(D15:F15) -> 0
A16: 12 | B16: Egyéb működési célú támogatások bevételei államháztartáson belülről | C16: B16 | D16: =SUM('BEVÉTELEK ÖNK'!D16) -> 17781663 | E16: =SUM('BEVÉTELEK TÁRSULÁS'!D16) -> 0 | F16: =SUM('BEVÉTEL ÓVODA'!D16) -> 0 | G16: =SUM(D16:F16) -> 17781663
A17: 13 | B17: Működési célú támogatások államháztartáson belülről (=07+…+12) | C17: B1 | D17: =SUM('BEVÉTELEK ÖNK'!D17) -> 83519005 | E17: =SUM('BEVÉTELEK TÁRSULÁS'!E17) -> 0 | F17: =SUM('BEVÉTEL ÓVODA'!D17) -> 0 | G17: =SUM(G11:G16) -> 83519005
A18: 14 | B18: Felhalmozási célú önkormányzati támogatások | C18: B21 | D18: =SUM('BEVÉTELEK ÖNK'!D18) -> 32127349 | E18: =SUM('BEVÉTELEK TÁRSULÁS'!D18) -> 0 | F18: =SUM('BEVÉTEL ÓVODA'!D18) -> 0 | G18: =SUM(D18:F18) -> 32127349
A19: 15 | B19: Felhalmozási célú garancia- és kezességvállalásból származó megtérülések államháztartáson belülről | C19: B22 | D19: =SUM('BEVÉTELEK ÖNK'!D19) -> 0 | E19: =SUM('BEVÉTELEK TÁRSULÁS'!D19) -> 0 | F19: =SUM('BEVÉTEL ÓVODA'!D19) -> 0 | G19: =SUM(D19:F19) -> 0
A20: 16 | B20: Felhalmozási célú visszatérítendő támogatások, kölcsönök visszatérülése államháztartáson belülről | C20: B23 | D20: =SUM('BEVÉTELEK ÖNK'!D20) -> 0 | E20: =SUM('BEVÉTELEK TÁRSULÁS'!D20) -> 0 | F20: =SUM('BEVÉTEL ÓVODA'!D20) -> 0 | G20: =SUM(D20:F20) -> 0
A21: 17 | B21: Felhalmozási célú visszatérítendő támogatások, kölcsönök igénybevétele államháztartáson belülről | C21: B24 | D21: =SUM('BEVÉTELEK ÖNK'!D21) -> 0 | E21: =SUM('BEVÉTELEK TÁRSULÁS'!D21) -> 0 | F21: =SUM('BEVÉTEL ÓVODA'!D21) -> 0 | G21: =SUM(D21:F21) -> 0
A22: 18 | B22: Egyéb felhalmozási célú támogatások bevételei államháztartáson belülről | C22: B25 | D22: =SUM('BEVÉTELEK ÖNK'!D22) -> 0 | E22: =SUM('BEVÉTELEK TÁRSULÁS'!D22) -> 0 | F22: =SUM('BEVÉTEL ÓVODA'!D22) -> 0 | G22: =SUM(D22:F22) -> 0
A23: 19 | B23: Felhalmozási célú támogatások államháztartáson belülről (=14+…+18) | C23: B2 | D23: =SUM('BEVÉTELEK ÖNK'!D23) -> 32127349 | E23: =SUM('BEVÉTELEK TÁRSULÁS'!E23) -> 0 | F23: =SUM('BEVÉTEL ÓVODA'!D23) -> 0 | G23: =SUM(D23:F23) -> 32127349
A24: 20 | B24: Magánszemélyek jövedelemadói | C24: B311 | D24: =SUM('BEVÉTELEK ÖNK'!D24) -> 0 | E24: =SUM('BEVÉTELEK TÁRSULÁS'!D24) -> 0 | F24: =SUM('BEVÉTEL ÓVODA'!D24) -> 0 | G24: =SUM(D24:F24) -> 0
A25: 21 | B25: Társaságok jövedelemadói | C25: B312 | D25: =SUM('BEVÉTELEK ÖNK'!D25) -> 0 | E25: =SUM('BEVÉTELEK TÁRSULÁS'!D25) -> 0 | F25: =SUM('BEVÉTEL ÓVODA'!D25) -> 0 | G25: =SUM(D25:F25) -> 0
A26: 22 | B26: Jövedelemadók (=20+21) | C26: B31 | D26: =SUM('BEVÉTELEK ÖNK'!D26) -> 0 | E26: =SUM('BEVÉTELEK TÁRSULÁS'!D26) -> 0 | F26: =SUM('BEVÉTEL ÓVODA'!D26) -> 0 | G26: =SUM(D26:F26) -> 0
A27: 23 | B27: Szociális hozzájárulási adó és járulékok | C27: B32 | D27: =SUM('BEVÉTELEK ÖNK'!D27) -> 0 | E27: =SUM('BEVÉTELEK TÁRSULÁS'!D27) -> 0 | F27: =SUM('BEVÉTEL ÓVODA'!D27) -> 0 | G27: =SUM(D27:F27) -> 0
A28: 24 | B28: Bérhez és foglalkoztatáshoz kapcsolódó adók | C28: B33 | D28: =SUM('BEVÉTELEK ÖNK'!D28) -> 0 | E28: =SUM('BEVÉTELEK TÁRSULÁS'!D28) -> 0 | F28: =SUM('BEVÉTEL ÓVODA'!D28) -> 0 | G28: =SUM(D28:F28) -> 0
A29: 25 | B29: Vagyoni tipusú adók | C29: B34 | D29: =SUM('BEVÉTELEK ÖNK'!D29) -> 22910491 | E29: =SUM('BEVÉTELEK TÁRSULÁS'!D29) -> 0 | F29: =SUM('BEVÉTEL ÓVODA'!D29) -> 0 | G29: =SUM(D29:F29) -> 22910491
A30: 26 | B30: Értékesítési és forgalmi adók | C30: B351 | D30: =SUM('BEVÉTELEK ÖNK'!D30) -> 15385294 | E30: =SUM('BEVÉTELEK TÁRSULÁS'!D30) -> 0 | F30: =SUM('BEVÉTEL ÓVODA'!D30) -> 0 | G30: =SUM(D30:F30) -> 15385294
A31: 27 | B31: Fogyasztási adók | C31: B352 | D31: =SUM('BEVÉTELEK ÖNK'!D31) -> 0 | E31: =SUM('BEVÉTELEK TÁRSULÁS'!D31) -> 0 | F31: =SUM('BEVÉTEL ÓVODA'!D31) -> 0 | G31: =SUM(D31:F31) -> 0
A32: 28 | B32: Pénzügyi monopóliumok nyereségét terhelő adók | C32: B353 | D32: =SUM('BEVÉTELEK ÖNK'!D32) -> 0 | E32: =SUM('BEVÉTELEK TÁRSULÁS'!D32) -> 0 | F32: =SUM('BEVÉTEL ÓVODA'!D32) -> 0 | G32: =SUM(D32:F32) -> 0
A33: 29 | B33: Gépjárműadók | C33: B354 | D33: =SUM('BEVÉTELEK ÖNK'!D33) -> 3229810 | E33: =SUM('BEVÉTELEK TÁRSULÁS'!D33) -> 0 | F33: =SUM('BEVÉTEL ÓVODA'!D33) -> 0 | G33: =SUM(D33:F33) -> 3229810
A34: 30 | B34: Egyéb áruhasználati és szolgáltatási adók | C34: B355 | D34: =SUM('BEVÉTELEK ÖNK'!D34) -> 0 | E34: =SUM('BEVÉTELEK TÁRSULÁS'!D34) -> 0 | F34: =SUM('BEVÉTEL ÓVODA'!D34) -> 0 | G34: =SUM(D34:F34) -> 0
A35: 31 | B35: Termékek és szolgáltatások adói (=26+…+30) | C35: B35 | D35: =SUM('BEVÉTELEK ÖNK'!D35) -> 18615104 | E35: =SUM('BEVÉTELEK TÁRSULÁS'!D35) -> 0 | F35: =SUM('BEVÉTEL ÓVODA'!D35) -> 0 | G35: =SUM(D35:F35) -> 18615104
A36: 32 | B36: Egyéb közhatalmi bevételek | C36: B36 | D36: =SUM('BEVÉTELEK ÖNK'!D36) -> 49870 | E36: =SUM('BEVÉTELEK TÁRSULÁS'!D36) -> 0 | F36: =SUM('BEVÉTEL ÓVODA'!D36) -> 0 | G36: =SUM(D36:F36) -> 49870
A37: 33 | B37: Közhatalmi bevételek (=22+...+25+31+32) | C37: B3 | D37: =SUM('BEVÉTELEK ÖNK'!D37) -> 41575465 | E37: =SUM('BEVÉTELEK TÁRSULÁS'!E37) -> 0 | F37: =SUM('BEVÉTEL ÓVODA'!D37) -> 0 | G37: =SUM(G26+G27+G28+G29+G35+G36) -> 41575465
A38: 34 | B38: Készletértékesítés ellenértéke | C38: B401 | D38: =SUM('BEVÉTELEK ÖNK'!D38) -> 0 | E38: =SUM('BEVÉTELEK TÁRSULÁS'!D38) -> 0 | F38: =SUM('BEVÉTEL ÓVODA'!D38) -> 0 | G38: =SUM(D38:F38) -> 0
A39: 35 | B39: Szolgáltatások ellenértéke | C39: B402 | D39: =SUM('BEVÉTELEK ÖNK'!D39) -> 18650000 | E39: =SUM('BEVÉTELEK TÁRSULÁS'!D39) -> 0 | F39: =SUM('BEVÉTEL ÓVODA'!D39) -> 16618151 | G39: =SUM(D39:F39) -> 35268151
A40: 36 | B40: Közvetített szolgáltatások ellenértéke | C40: B403 | D40: =SUM('BEVÉTELEK ÖNK'!D40) -> 0 | E40: =SUM('BEVÉTELEK TÁRSULÁS'!D40) -> 0 | F40: =SUM('BEVÉTEL ÓVODA'!D40) -> 0 | G40: =SUM(D40:F40) -> 0
A41: 37 | B41: Tulajdonosi bevételek | C41: B404 | D41: =SUM('BEVÉTELEK ÖNK'!D41) -> 50000000 | E41: =SUM('BEVÉTELEK TÁRSULÁS'!D41) -> 0 | F41: =SUM('BEVÉTEL ÓVODA'!D41) -> 0 | G41: =SUM(D41:F41) -> 50000000
A42: 38 | B42: Ellátási díjak | C42: B405 | D42: =SUM('BEVÉTELEK ÖNK'!D42) -> 0 | E42: =SUM('BEVÉTELEK TÁRSULÁS'!D42) -> 0 | F42: =SUM('BEVÉTEL ÓVODA'!D42) -> 2460886 | G42: =SUM(D42:F42) -> 2460886
A43: 39 | B43: Kiszámlázott általános forgalmi adó | C43: B406 | D43: =SUM('BEVÉTELEK ÖNK'!D43) -> 4295000 | E43: =SUM('BEVÉTELEK TÁRSULÁS'!D43) -> 0 | F43: =SUM('BEVÉTEL ÓVODA'!D43) -> 5151345 | G43: =SUM(D43:F43) -> 9446345
A44: 40 | B44: Általános forgalmi adó visszatérítése | C44: B407 | D44: =SUM('BEVÉTELEK ÖNK'!D44) -> 0 | E44: =SUM('BEVÉTELEK TÁRSULÁS'!D44) -> 0 | F44: =SUM('BEVÉTEL ÓVODA'!D44) -> 0 | G44: =SUM(D44:F44) -> 0
A45: 41 | B45: Befektetett pénzügyi eszközökből származó bevételek | C45: B4081 | D45: =SUM('BEVÉTELEK ÖNK'!D45) -> 0 | E45: =SUM('BEVÉTELEK TÁRSULÁS'!D45) -> 0 | F45: =SUM('BEVÉTEL ÓVODA'!D45) -> 0 | G45: =SUM(D45:F45) -> 0
A46: 42 | B46: Egyéb kapott (járó) kamatok és kamatjellegű bevételek | C46: B4082 | D46: =SUM('BEVÉTELEK ÖNK'!D46) -> 0 | E46: =SUM('BEVÉTELEK TÁRSULÁS'!D46) -> 0 | F46: =SUM('BEVÉTEL ÓVODA'!D46) -> 0 | G46: =SUM(D46:F46) -> 0
A47: 43 | B47: Kamatbevételek és más nyereségjellegű bevételek (=41+42) | C47: B408 | D47: =SUM('BEVÉTELEK ÖNK'!D47) -> 0 | E47: =SUM('BEVÉTELEK TÁRSULÁS'!D47) -> 0 | F47: =SUM('BEVÉTEL ÓVODA'!D47) -> 0 | G47: =SUM(D47:F47) -> 0
A48: 44 | B48: Részesedésekből származó pénzügyi műveletek bevételei | C48: B4091 | D48: =SUM('BEVÉTELEK ÖNK'!D48) -> 0 | E48: =SUM('BEVÉTELEK TÁRSULÁS'!D48) -> 0 | F48: =SUM('BEVÉTEL ÓVODA'!D48) -> 0 | G48: =SUM(D48:F48) -> 0
A49: 45 | B49: Más egyéb pénzügyi műveletek bevételei | C49: B4092 | D49: =SUM('BEVÉTELEK ÖNK'!D49) -> 0 | E49: =SUM('BEVÉTELEK TÁRSULÁS'!D49) -> 0 | F49: =SUM('BEVÉTEL ÓVODA'!D49) -> 0 | G49: =SUM(D49:F49) -> 0
A50: 46 | B50: Egyéb pénzügyi műveletek bevételei (=44+45) | C50: B409 | D50: =SUM('BEVÉTELEK ÖNK'!D50) -> 0 | E50: =SUM('BEVÉTELEK TÁRSULÁS'!D50) -> 0 | F50: =SUM('BEVÉTEL ÓVODA'!D50) -> 0 | G50: =SUM(D50:F50) -> 0
A51: 47 | B51: Biztosító által fizetett kártérítés | C51: B410 | D51: =SUM('BEVÉTELEK ÖNK'!D51) -> 0 | E51: =SUM('BEVÉTELEK TÁRSULÁS'!D51) -> 0 | F51: =SUM('BEVÉTEL ÓVODA'!D51) -> 0 | G51: =SUM(D51:F51) -> 0
A52: 48 | B52: Egyéb működési bevételek | C52: B411 | D52: =SUM('BEVÉTELEK ÖNK'!D52) -> 800000 | E52: =SUM('BEVÉTELEK TÁRSULÁS'!D52) -> 0 | F52: =SUM('BEVÉTEL ÓVODA'!D52) -> 0 | G52: =SUM(D52:F52) -> 800000
A53: 49 | B53: Működési bevételek (=34+…+40+43+46+...+48) | C53: B4 | D53: =SUM('BEVÉTELEK ÖNK'!D53) -> 73745000 | E53: =SUM('BEVÉTELEK TÁRSULÁS'!E53) -> 0 | F53: =SUM('BEVÉTEL ÓVODA'!D53) -> 24230382 | G53: =SUM(G38+G39+G40+G41+G42+G43+G44+G47+G50+G51+G52) -> 97975382
A54: 50 | B54: Immateriális javak értékesítése | C54: B51 | D54: =SUM('BEVÉTELEK ÖNK'!D54) -> 0 | E54: =SUM('BEVÉTELEK TÁRSULÁS'!D54) -> 0 | F54: =SUM('BEVÉTEL ÓVODA'!D54) -> 0 | G54: =SUM(D54:F54) -> 0
A55: 51 | B55: Ingatlanok értékesítése | C55: B52 | D55: =SUM('BEVÉTELEK ÖNK'!D55) -> 0 | E55: =SUM('BEVÉTELEK TÁRSULÁS'!D55) -> 0 | F55: =SUM('BEVÉTEL ÓVODA'!D55) -> 0 | G55: =SUM(D55:F55) -> 0
A56: 52 | B56: Egyéb tárgyi eszközök értékesítése | C56: B53 | D56: =SUM('BEVÉTELEK ÖNK'!D56) -> 0 | E56: =SUM('BEVÉTELEK TÁRSULÁS'!D56) -> 0 | F56: =SUM('BEVÉTEL ÓVODA'!D56) -> 0 | G56: =SUM(D56:F56) -> 0
A57: 53 | B57: Részesedések értékesítése | C57: B54 | D57: =SUM('BEVÉTELEK ÖNK'!D57) -> 0 | E57: =SUM('BEVÉTELEK TÁRSULÁS'!D57) -> 0 | F57: =SUM('BEVÉTEL ÓVODA'!D57) -> 0 | G57: =SUM(D57:F57) -> 0
A58: 54 | B58: Részesedések megszűnéséhez kapcsolódó bevételek | C58: B55 | D58: =SUM('BEVÉTELEK ÖNK'!D58) -> 0 | E58: =SUM('BEVÉTELEK TÁRSULÁS'!D58) -> 0 | F58: =SUM('BEVÉTEL ÓVODA'!D58) -> 0 | G58: =SUM(D58:F58) -> 0
A59: 55 | B59: Felhalmozási bevételek (=50+…+54) | C59: B5 | D59: =SUM('BEVÉTELEK ÖNK'!D59) -> 0 | E59: =SUM('BEVÉTELEK TÁRSULÁS'!E59) -> 0 | F59: =SUM('BEVÉTEL ÓVODA'!D59) -> 0 | G59: =SUM(G54:G58) -> 0
A60: 56 | B60: Működési célú garancia- és kezességvállalásból származó megtérülések államháztartáson kívülről | C60: B61 | D60: =SUM('BEVÉTELEK ÖNK'!D60) -> 0 | E60: =SUM('BEVÉTELEK TÁRSULÁS'!D60) -> 0 | F60: =SUM('BEVÉTEL ÓVODA'!D60) -> 0 | G60: =SUM(D60:F60) -> 0
A61: 57 | B61: Működési célú visszatérítendő támogatások, kölcsönök visszatérülése az Európai Uniótól | C61: B62 | D61: =SUM('BEVÉTELEK ÖNK'!D61) -> 0 | E61: =SUM('BEVÉTELEK TÁRSULÁS'!D61) -> 0 | F61: =SUM('BEVÉTEL ÓVODA'!D61) -> 0 | G61: =SUM(D61:F61) -> 0
A62: 58 | B62: Működési célú visszatérítendő támogatások, kölcsönök visszatérülése kormányoktól és más nemzetközi szervezetektől | C62: B63 | D62: =SUM('BEVÉTELEK ÖNK'!D62) -> 0 | E62: =SUM('BEVÉTELEK TÁRSULÁS'!D62) -> 0 | F62: =SUM('BEVÉTEL ÓVODA'!D62) -> 0 | G62: =SUM(D62:F62) -> 0
A63: 59 | B63: Működési célú visszatérítendő támogatások, kölcsönök visszatérülése államháztartáson kívülről | C63: B64 | D63: =SUM('BEVÉTELEK ÖNK'!D63) -> 0 | E63: =SUM('BEVÉTELEK TÁRSULÁS'!D63) -> 0 | F63: =SUM('BEVÉTEL ÓVODA'!D63) -> 0 | G63: =SUM(D63:F63) -> 0
A64: 60 | B64: Egyéb működési célú átvett pénzeszközök | C64: B65 | D64: =SUM('BEVÉTELEK ÖNK'!D64) -> 0 | E64: =SUM('BEVÉTELEK TÁRSULÁS'!D64) -> 0 | F64: =SUM('BEVÉTEL ÓVODA'!D64) -> 0 | G64: =SUM(D64:F64) -> 0
A65: 61 | B65: Működési célú átvett pénzeszközök (=56+…+60) | C65: B6 | D65: =SUM('BEVÉTELEK ÖNK'!D65) -> 0 | E65: =SUM('BEVÉTELEK TÁRSULÁS'!E65) -> 0 | F65: =SUM('BEVÉTEL ÓVODA'!D65) -> 0 | G65: =SUM(G60:G64) -> 0
A66: 62 | B66: Felhalmozási célú garancia- és kezességvállalásból származó megtérülések államháztartáson kívülről | C66: B71 | D66: =SUM('BEVÉTELEK ÖNK'!D66) -> 0 | E66: =SUM('BEVÉTELEK TÁRSULÁS'!D66) -> 0 | F66: =SUM('BEVÉTEL ÓVODA'!D66) -> 0 | G66: =SUM(D66:F66) -> 0
A67: 63 | B67: Felhalmozási célú visszatérítendő támogatások, kölcsönök visszatérülése az Európai Uniótól | C67: B72 | D67: =SUM('BEVÉTELEK ÖNK'!D67) -> 0 | E67: =SUM('BEVÉTELEK TÁRSULÁS'!D67) -> 0 | F67: =SUM('BEVÉTEL ÓVODA'!D67) -> 0 | G67: =SUM(D67:F67) -> 0
A68: 64 | B68: Felhalmozási célú visszatérítendő támogatások, kölcsönök visszatérülése kormányoktól és más nemzetközi szervezetektől | C68: B73 | D68: =SUM('BEVÉTELEK ÖNK'!D68) -> 0 | E68: =SUM('BEVÉTELEK TÁRSULÁS'!D68) -> 0 | F68: =SUM('BEVÉTEL ÓVODA'!D68) -> 0 | G68: =SUM(D68:F68) -> 0
A69: 65 | B69: Felhalmozási célú visszatérítendő támogatások, kölcsönök visszatérülése államháztartáson kívülről | C69: B74 | D69: =SUM('BEVÉTELEK ÖNK'!D69) -> 0 | E69: =SUM('BEVÉTELEK TÁRSULÁS'!D69) -> 0 | F69: =SUM('BEVÉTEL ÓVODA'!D69) -> 0 | G69: =SUM(D69:F69) -> 0
A70: 66 | B70: Egyéb felhalmozási célú átvett pénzeszközök | C70: B75 | D70: =SUM('BEVÉTELEK ÖNK'!D70) -> 0 | E70: =SUM('BEVÉTELEK TÁRSULÁS'!D70) -> 0 | F70: =SUM('BEVÉTEL ÓVODA'!D70) -> 0 | G70: =SUM(D70:F70) -> 0
A71: 67 | B71: Felhalmozási célú átvett pénzeszközök (=62+…+66) | C71: B7 | D71: =SUM('BEVÉTELEK ÖNK'!D71) -> 0 | E71: =SUM('BEVÉTELEK TÁRSULÁS'!D71) -> 0 | F71: =SUM('BEVÉTEL ÓVODA'!D71) -> 0 | G71: =SUM(G66:G70) -> 0
A72: 68 | B72: Költségvetési bevételek (=13+19+33+49+55+61+67) | C72: B1-B7 | D72: =SUM('BEVÉTELEK ÖNK'!D72) -> 230966819 | E72: =SUM('BEVÉTELEK TÁRSULÁS'!E72) -> 0 | F72: =SUM('BEVÉTEL ÓVODA'!D72) -> 24230382 | G72: =SUM(G17+G23+G37+G53+G59+G65+G71) -> 255197201
A73: 01 | B73: Hosszú lejáratú hitelek, kölcsönök felvétele pénzügyi vállalkozástól | C73: B8111 | D73: =SUM('BEVÉTELEK ÖNK'!D73) -> 0 | E73: =SUM('BEVÉTELEK TÁRSULÁS'!D73) -> 0 | F73: =SUM('BEVÉTEL ÓVODA'!D73) -> 0 | G73: =SUM(D73:F73) -> 0
A74: 02 | B74: Likviditási célú hitelek, kölcsönök felvétele pénzügyi vállalkozástól | C74: B8112 | D74: =SUM('BEVÉTELEK ÖNK'!D74) -> 0 | E74: =SUM('BEVÉTELEK TÁRSULÁS'!D74) -> 0 | F74: =SUM('BEVÉTEL ÓVODA'!D74) -> 0 | G74: =SUM(D74:F74) -> 0
A75: 03 | B75: Rövid lejáratú hitelek, kölcsönök felvétele pénzügyi vállalkozástól | C75: B8113 | D75: =SUM('BEVÉTELEK ÖNK'!D75) -> 0 | E75: =SUM('BEVÉTELEK TÁRSULÁS'!D75) -> 0 | F75: =SUM('BEVÉTEL ÓVODA'!D75) -> 0 | G75: =SUM(D75:F75) -> 0
A76: 04 | B76: Hitel-, kölcsönfelvétel pénzügyi vállalkozástól (=01+02+03) | C76: B811 | D76: =SUM('BEVÉTELEK ÖNK'!D76) -> 0 | E76: =SUM('BEVÉTELEK TÁRSULÁS'!D76) -> 0 | F76: =SUM('BEVÉTEL ÓVODA'!D76) -> 0 | G76: =SUM(D76:F76) -> 0
A77: 05 | B77: Forgatási célú belföldi értékpapírok beváltása, értékesítése | C77: B8121 | D77: =SUM('BEVÉTELEK ÖNK'!D77) -> 0 | E77: =SUM('BEVÉTELEK TÁRSULÁS'!D77) -> 0 | F77: =SUM('BEVÉTEL ÓVODA'!D77) -> 0 | G77: =SUM(D77:F77) -> 0
A78: 06 | B78: Éven belüli lejáratú belföldi értékpapírok kibocsátása | C78: B8122 | D78: =SUM('BEVÉTELEK ÖNK'!D78) -> 0 | E78: =SUM('BEVÉTELEK TÁRSULÁS'!D78) -> 0 | F78: =SUM('BEVÉTEL ÓVODA'!D78) -> 0 | G78: =SUM(D78:F78) -> 0
A79: 07 | B79: Befektetési célú belföldi értékpapírok beváltása, értékesítése | C79: B8123 | D79: =SUM('BEVÉTELEK ÖNK'!D79) -> 0 | E79: =SUM('BEVÉTELEK TÁRSULÁS'!D79) -> 0 | F79: =SUM('BEVÉTEL ÓVODA'!D79) -> 0 | G79: =SUM(D79:F79) -> 0
A80: 08 | B80: Éven túli lejáratú belföldi értékpapírok kibocsátása | C80: B8124 | D80: =SUM('BEVÉTELEK ÖNK'!D80) -> 0 | E80: =SUM('BEVÉTELEK TÁRSULÁS'!D80) -> 0 | F80: =SUM('BEVÉTEL ÓVODA'!D80) -> 0 | G80: =SUM(D80:F80) -> 0
A81: 09 | B81: Belföldi értékpapírok bevételei (=05+..+08) | C81: B812 | D81: =SUM('BEVÉTELEK ÖNK'!D81) -> 0 | E81: =SUM('BEVÉTELEK TÁRSULÁS'!D81) -> 0 | F81: =SUM('BEVÉTEL ÓVODA'!D81) -> 0 | G81: =SUM(D81:F81) -> 0
A82: 10 | B82: Előző év költségvetési maradványának igénybevétele | C82: B8131 | D82: =SUM('BEVÉTELEK ÖNK'!D82) -> 103770784 | E82: =SUM('BEVÉTELEK TÁRSULÁS'!D82) -> 104094 | F82: =SUM('BEVÉTEL ÓVODA'!D82) -> 123965 | G82: =SUM(D82:F82) -> 103998843
A83: 11 | B83: Előző év vállalkozási maradványának igénybevétele | C83: B8132 | D83: =SUM('BEVÉTELEK ÖNK'!D83) -> 0 | E83: =SUM('BEVÉTELEK TÁRSULÁS'!D83) -> 0 | F83: =SUM('BEVÉTEL ÓVODA'!D83) -> 0 | G83: =SUM(D83:F83) -> 0
A84: 12 | B84: Maradvány igénybevétele (=10+11) | C84: B813 | D84: =SUM('BEVÉTELEK ÖNK'!D84) -> 103770784 | E84: =SUM('BEVÉTELEK TÁRSULÁS'!D84) -> 104094 | F84: =SUM('BEVÉTEL ÓVODA'!D84) -> 123965 | G84: =SUM(D84:F84) -> 103998843
... A86: 14 | B86: Államháztartáson belüli megelőlegezések törlesztése | C86: B815 | D86: =SUM('BEVÉTELEK ÖNK'!D86) -> 0 | E86: =SUM('BEVÉTELEK TÁRSULÁS'!D86) -> 0 | F86: =SUM('BEVÉTEL ÓVODA'!D86) -> 0 | G86: =SUM(D86:F86) -> 0
A87: 15 | B87: Központi, irányító szervi támogatás | C87: B816 | D87: =SUM('BEVÉTELEK ÖNK'!D87) -> 0 | E87: =SUM('BEVÉTELEK TÁRSULÁS'!E87) -> 68026305 | F87: =SUM('BEVÉTEL ÓVODA'!D87) -> 68026305 | G87: =SUM(D87:F87) -> 136052610 | I87: =SUM(E87:F87) -> 136052610
A88: 16 | B88: Lekötött bankbetétek megszüntetése | C88: B817 | D88: =SUM('BEVÉTELEK ÖNK'!D88) -> 0 | E88: =SUM('BEVÉTELEK TÁRSULÁS'!E88) -> 0 | F88: =SUM('BEVÉTEL ÓVODA'!D88) -> 0 | G88: =SUM(D88:F88) -> 0 | I88: =SUM(KIADÁSOK!D113) -> 23938271
A89: 17 | B89: Központi költségvetés sajátos finanszírozási bevételei | C89: B818 | D89: =SUM('BEVÉTELEK ÖNK'!D89) -> 0 | E89: =SUM('BEVÉTELEK TÁRSULÁS'!E89) -> 0 | F89: =SUM('BEVÉTEL ÓVODA'!D89) -> 0 | G89: =SUM(D89:F89) -> 0 | I89: =SUM(I87-I88) -> 112114339
A90: 18 | B90: Hosszú lejáratú tulajdonosi kölcsönök bevételei | C90: B8191 | D90: =SUM('BEVÉTELEK ÖNK'!D90) -> 0 | E90: =SUM('BEVÉTELEK TÁRSULÁS'!E90) -> 0 | F90: =SUM('BEVÉTEL ÓVODA'!D90) -> 0 | G90: =SUM(D90:F90) -> 0
A91: 19 | B91: Rövid lejáratú tulajdonosi kölcsönök bevételei | C91: B8192 | D91: =SUM('BEVÉTELEK ÖNK'!D91) -> 0 | E91: =SUM('BEVÉTELEK TÁRSULÁS'!E91) -> 0 | F91: =SUM('BEVÉTEL ÓVODA'!D91) -> 0 | G91: =SUM(D91:F91) -> 0
A92: 20 | B92: Tulajdonosi kölcsönök bevételei (=18+19) | C92: B819 | D92: =SUM('BEVÉTELEK ÖNK'!D92) -> 0 | E92: =SUM('BEVÉTELEK TÁRSULÁS'!E92) -> 0 | F92: =SUM('BEVÉTEL ÓVODA'!D92) -> 0 | G92: =SUM(D92:F92) -> 0
A93: 21 | B93: Belföldi finanszírozás bevételei (=04+09+12+…+17+20) | C93: B81 | D93: =SUM('BEVÉTELEK ÖNK'!D93) -> 103770784 | E93: =SUM('BEVÉTELEK TÁRSULÁS'!E93) -> 68130399 | F93: =SUM('BEVÉTEL ÓVODA'!D93) -> 68150270 | G93: =SUM(G76+G81+G84+G85+G86+G88+G89+G92) -> 103998843
A94: 22 | B94: Forgatási célú külföldi értékpapírok beváltása, értékesítése | C94: B821 | D94: =SUM('BEVÉTELEK ÖNK'!D94) -> 0 | E94: =SUM('BEVÉTELEK TÁRSULÁS'!E94) -> 0 | F94: =SUM('BEVÉTEL ÓVODA'!D94) -> 0 | G94: =SUM(D94:F94) -> 0
A95: 23 | B95: Befektetési célú külföldi értékpapírok beváltása, értékesítése | C95: B822 | D95: =SUM('BEVÉTELEK ÖNK'!D95) -> 0 | E95: =SUM('BEVÉTELEK TÁRSULÁS'!E95) -> 0 | F95: =SUM('BEVÉTEL ÓVODA'!D95) -> 0 | G95: =SUM(D95:F95) -> 0
A96: 24 | B96: Külföldi értékpapírok kibocsátása | C96: B823 | D96: =SUM('BEVÉTELEK ÖNK'!D96) -> 0 | E96: =SUM('BEVÉTELEK TÁRSULÁS'!E96) -> 0 | F96: =SUM('BEVÉTEL ÓVODA'!D96) -> 0 | G96: =SUM(D96:F96) -> 0
A97: 25 | B97: Hitelek, kölcsönök felvétele külföldi kormányoktól és nemzetközi szervezetektől | C97: B824 | D97: =SUM('BEVÉTELEK ÖNK'!D97) -> 0 | E97: =SUM('BEVÉTELEK TÁRSULÁS'!E97) -> 0 | F97: =SUM('BEVÉTEL ÓVODA'!D97) -> 0 | G97: =SUM(D97:F97) -> 0
A98: 26 | B98: Hitelek, kölcsönök felvétele külföldi pénzintézetektől | C98: B825 | D98: =SUM('BEVÉTELEK ÖNK'!D98) -> 0 | E98: =SUM('BEVÉTELEK TÁRSULÁS'!E98) -> 0 | F98: =SUM('BEVÉTEL ÓVODA'!D98) -> 0 | G98: =SUM(D98:F98) -> 0
A99: 27 | B99: Külföldi finanszírozás bevételei (=22+…+26) | C99: B82 | D99: =SUM('BEVÉTELEK ÖNK'!D99) -> 0 | E99: =SUM('BEVÉTELEK TÁRSULÁS'!E99) -> 0 | F99: =SUM('BEVÉTEL ÓVODA'!D99) -> 0 | G99: =SUM(D99:F99) -> 0
A100: 28 | B100: Adóssághoz nem kapcsolódó származékos ügyletek bevételei | C100: B83 | D100: =SUM('BEVÉTELEK ÖNK'!D100) -> 0 | E100: =SUM('BEVÉTELEK TÁRSULÁS'!E100) -> 0 | F100: =SUM('BEVÉTEL ÓVODA'!D100) -> 0 | G100: =SUM(D100:F100) -> 0
A101: 29 | B101: Váltóbevételek | C101: B84 | D101: =SUM('BEVÉTELEK ÖNK'!D101) -> 0 | E101: =SUM('BEVÉTELEK TÁRSULÁS'!E101) -> 0 | F101: =SUM('BEVÉTEL ÓVODA'!D101) -> 0 | G101: =SUM(D101:F101) -> 0
A102: 30 | B102: Finanszírozási bevételek (=21+27+28+29) | C102: B8 | D102: =SUM('BEVÉTELEK ÖNK'!D102) -> 103770784 | E102: =SUM('BEVÉTELEK TÁRSULÁS'!E102) -> 68130399 | F102: =SUM('BEVÉTEL ÓVODA'!D102) -> 68150270 | G102: =SUM(G93+G99+G100+G101) -> 103998843
...

Sheet BEVÉTELEK ÖNK
A1: BALATONEDERICS KÖZSÉG ÖNKORMÁNYZAT 2020. ÉVI KÖLTSÉGVETÉS
A2: Önkormányzati előirányzatok - Bevételek (Ft)
A4: Sor- szám | B4: Rovat megnevezése | C4: Rovat száma | D4: ÖNKORMÁNYZAT EREDETI EI. | E4: EBBŐL KÖTELEZŐ
A5: 01 | B5: Helyi önkormányzatok működésének általános támogatása | C5: B111 | D5: 27806802 | E5: =D5 -> 27806802
A6: 02 | B6: Települési önkormányzatok egyes köznevelési feladatainak támogatása | C6: B112 | D6: 29754540 | E6: =D6 -> 29754540
A7: 03 | B7: Települési önkormányzatok szociális gyermekjóléti és gyermekétkeztetési feladatainak támogatása | C7: B113 | D7: 6376000 | E7: =D7 -> 6376000
A8: 04 | B8: Települési önkormányzatok kulturális feladatainak támogatása | C8: B114 | D8: 1800000 | E8: =D8 -> 1800000
A9: 05 | B9: Működési célú költségvetési támogatások és kiegészítő támogatások | C9: B115 | D9: 0 | E9: =D9 -> 0
A10: 06 | B10: Elszámolásból származó bevételek | C10: B116 | D10: 0 | E10: =D10 -> 0
A11: 07 | B11: Önkormányzatok működési támogatásai (=01+…+06) | C11: B11 | D11: =SUM(D5:D10) -> 65737342 | E11: =SUM(E5:E10) -> 65737342
A12: 08 | B12: Elvonások és befizetések bevételei | C12: B12 | D12: 0 | E12: =D12 -> 0
A13: 09 | B13: Működési célú garancia- és kezességvállalásból származó megtérülések államháztartáson belülről | C13: B13 | D13: 0 | E13: =D13 -> 0
A14: 10 | B14: Működési célú visszatérítendő támogatások, kölcsönök visszatérülése államháztartáson belülről | C14: B14 | D14: 0 | E14: =D14 -> 0
A15: 11 | B15: Működési célú visszatérítendő támogatások, kölcsönök igénybevétele államháztartáson belülről | C15: B15 | D15: 0 | E15: =D15 -> 0
A16: 12 | B16: Egyéb működési célú támogatások bevételei államháztartáson belülről | C16: B16 | D16: 17781663 | E16: =D16 -> 17781663
A17: 13 | B17: Működési célú támogatások államháztartáson belülről (=07+…+12) | C17: B1 | D17: =SUM(D11+D12+D13+D14+D15+D16) -> 83519005 | E17: =SUM(E11+E12+E13+E14+E15+E16) -> 83519005
A18: 14 | B18: Felhalmozási célú önkormányzati támogatások | C18: B21 | D18: 32127349 | E18: =D18 -> 32127349
A19: 15 | B19: Felhalmozási célú garancia- és kezességvállalásból származó megtérülések államháztartáson belülről | C19: B22 | D19: 0 | E19: =D19 -> 0
A20: 16 | B20: Felhalmozási célú visszatérítendő támogatások, kölcsönök visszatérülése államháztartáson belülről | C20: B23 | D20: 0 | E20: =D20 -> 0
A21: 17 | B21: Felhalmozási célú visszatérítendő támogatások, kölcsönök igénybevétele államháztartáson belülről | C21: B24 | D21: 0 | E21: =D21 -> 0
A22: 18 | B22: Egyéb felhalmozási célú támogatások bevételei államháztartáson belülről | C22: B25 | D22: 0 | E22: =D22 -> 0
A23: 19 | B23: Felhalmozási célú támogatások államháztartáson belülről (=14+…+18) | C23: B2 | D23: =SUM(D18:D22) -> 32127349 | E23: =SUM(E18:E22) -> 32127349
A24: 20 | B24: Magánszemélyek jövedelemadói | C24: B311 | D24: 0 | E24: 0
A25: 21 | B25: Társaságok jövedelemadói | C25: B312 | D25: 0 | E25: 0
A26: 22 | B26: Jövedelemadók (=20+21) | C26: B31 | D26: =SUM(D24:D25) -> 0 | E26: =SUM(E24:E25) -> 0
A27: 23 | B27: Szociális hozzájárulási adó és járulékok | C27: B32 | D27: 0 | E27: 0
A28: 24 | B28: Bérhez és foglalkoztatáshoz kapcsolódó adók | C28: B33 | D28: 0 | E28: 0
A29: 25 | B29: Vagyoni tipusú adók | C29: B34 | D29: 22910491 | E29: =D29 -> 22910491
A30: 26 | B30: Értékesítési és forgalmi adók | C30: B351 | D30: 15385294 | E30: =D30 -> 15385294
A31: 27 | B31: Fogyasztási adók | C31: B352 | D31: 0 | E31: =D31 -> 0
A32: 28 | B32: Pénzügyi monopóliumok nyereségét terhelő adók | C32: B353 | D32: 0 | E32: =D32 -> 0
A33: 29 | B33: Gépjárműadók | C33: B354 | D33: 3229810 | E33: =D33 -> 3229810
A34: 30 | B34: Egyéb áruhasználati és szolgáltatási adók | C34: B355 | D34: 0 | E34: =D34 -> 0
A35: 31 | B35: Termékek és szolgáltatások adói (=26+…+30) | C35: B35 | D35: =SUM(D30:D34) -> 18615104 | E35: =SUM(E30:E34) -> 18615104
A36: 32 | B36: Egyéb közhatalmi bevételek | C36: B36 | D36: 49870 | E36: =D36 -> 49870
A37: 33 | B37: Közhatalmi bevételek (=22+...+25+31+32) | C37: B3 | D37: =SUM(D26+D27+D28+D29+D35+D36) -> 41575465 | E37: =SUM(E26+E27+E28+E29+E35+E36) -> 41575465
A38: 34 | B38: Készletértékesítés ellenértéke | C38: B401 | D38: 0 | E38: 0
A39: 35 | B39: Szolgáltatások ellenértéke | C39: B402 | D39: 18650000 | E39: =D39 -> 18650000
A40: 36 | B40: Közvetített szolgáltatások ellenértéke | C40: B403 | D40: 0 | E40: =D40 -> 0
A41: 37 | B41: Tulajdonosi bevételek | C41: B404 | D41: 50000000 | E41: =D41 -> 50000000
A42: 38 | B42: Ellátási díjak | C42: B405 | D42: 0 | E42: =D42 -> 0
A43: 39 | B43: Kiszámlázott általános forgalmi adó | C43: B406 | D43: 4295000 | E43: =D43 -> 4295000
A44: 40 | B44: Általános forgalmi adó visszatérítése | C44: B407 | D44: 0 | E44: =D44 -> 0
A45: 41 | B45: Befektetett pénzügyi eszközökből származó bevételek | C45: B4081 | D45: 0 | E45: =D45 -> 0
A46: 42 | B46: Egyéb kapott (járó) kamatok és kamatjellegű bevételek | C46: B4082 | D46: 0 | E46: =D46 -> 0
A47: 43 | B47: Kamatbevételek és más nyereségjellegű bevételek (=41+42) | C47: B408 | D47: =SUM(D45:D46) -> 0 | E47: =SUM(E45:E46) -> 0
A48: 44 | B48: Részesedésekből származó pénzügyi műveletek bevételei | C48: B4091 | D48: 0 | E48: 0
A49: 45 | B49: Más egyéb pénzügyi műveletek bevételei | C49: B4092 | D49: 0 | E49: 0
A50: 46 | B50: Egyéb pénzügyi műveletek bevételei (=44+45) | C50: B409 | D50: =SUM(D48:D49) -> 0 | E50: =SUM(E48:E49) -> 0
A51: 47 | B51: Biztosító által fizetett kártérítés | C51: B410 | D51: 0 | E51: =D51 -> 0
A52: 48 | B52: Egyéb működési bevételek | C52: B411 | D52: 800000 | E52: =D52 -> 800000
A53: 49 | B53: Működési bevételek (=34+…+40+43+46+...+48) | C53: B4 | D53: =SUM(D38+D39+D40+D41+D42+D43+D44+D47+D50+D51+D52) -> 73745000 | E53: =SUM(E38+E39+E40+E41+E42+E43+E44+E47+E50+E51+E52) -> 73745000
A54: 50 | B54: Immateriális javak értékesítése | C54: B51 | D54: 0 | E54: 0
A55: 51 | B55: Ingatlanok értékesítése | C55: B52 | D55: 0 | E55: 0
A56: 52 | B56: Egyéb tárgyi eszközök értékesítése | C56: B53 | D56: 0 | E56: 0
A57: 53 | B57: Részesedések értékesítése | C57: B54 | D57: 0 | E57: 0
A58: 54 | B58: Részesedések megszűnéséhez kapcsolódó bevételek | C58: B55 | D58: 0 | E58: 0
A59: 55 | B59: Felhalmozási bevételek (=50+…+54) | C59: B5 | D59: =SUM(D54:D58) -> 0 | E59: =SUM(E54:E58) -> 0
A60: 56 | B60: Működési célú garancia- és kezességvállalásból származó megtérülések államháztartáson kívülről | C60: B61 | D60: 0 | E60: 0
A61: 57 | B61: Működési célú visszatérítendő támogatások, kölcsönök visszatérülése az Európai Uniótól | C61: B62 | D61: 0 | E61: 0
A62: 58 | B62: Működési célú visszatérítendő támogatások, kölcsönök visszatérülése kormányoktól és más nemzetközi szervezetektől | C62: B63 | D62: 0 | E62: =D62 -> 0
A63: 59 | B63: Működési célú visszatérítendő támogatások, kölcsönök visszatérülése államháztartáson kívülről | C63: B64 | D63: 0 | E63: 0
A64: 60 | B64: Egyéb működési célú átvett pénzeszközök | C64: B65 | D64: 0 | E64: 0
A65: 61 | B65: Működési célú átvett pénzeszközök (=56+…+60) | C65: B6 | D65: =SUM(D60:D64) -> 0 | E65: =SUM(E60:E64) -> 0
A66: 62 | B66: Felhalmozási célú garancia- és kezességvállalásból származó megtérülések államháztartáson kívülről | C66: B71 | D66: 0 | E66: 0
A67: 63 | B67: Felhalmozási célú visszatérítendő támogatások, kölcsönök visszatérülése az Európai Uniótól | C67: B72 | D67: 0 | E67: 0
A68: 64 | B68: Felhalmozási célú visszatérítendő támogatások, kölcsönök visszatérülése kormányoktól és más nemzetközi szervezetektől | C68: B73 | D68: 0 | E68: 0
A69: 65 | B69: Felhalmozási célú visszatérítendő támogatások, kölcsönök visszatérülése államháztartáson kívülről | C69: B74 | D69: 0 | E69: 0
A70: 66 | B70: Egyéb felhalmozási célú átvett pénzeszközök | C70: B75 | D70: 0 | E70: 0
A71: 67 | B71: Felhalmozási célú átvett pénzeszközök (=62+…+66) | C71: B7 | D71: =SUM(D66:D70) -> 0 | E71: =SUM(E66:E70) -> 0
A72: 68 | B72: Költségvetési bevételek (=13+19+33+49+55+61+67) | C72: B1-B7 | D72: =SUM(D17+D23+D37+D53+D59+D65+D71) -> 230966819 | E72: =SUM(E17+E23+E37+E53+E59+E65+E71) -> 230966819
A73: 01 | B73: Hosszú lejáratú hitelek, kölcsönök felvétele pénzügyi vállalkozástól | C73: B8111 | D73: 0 | E73: 0
A74: 02 | B74: Likviditási célú hitelek, kölcsönök felvétele pénzügyi vállalkozástól | C74: B8112 | D74: 0 | E74: 0
A75: 03 | B75: Rövid lejáratú hitelek, kölcsönök felvétele pénzügyi vállalkozástól | C75: B8113 | D75: 0 | E75: 0
A76: 04 | B76: Hitel-, kölcsönfelvétel pénzügyi vállalkozástól (=01+02+03) | C76: B811 | D76: =SUM(D73:D75) -> 0 | E76: =SUM(E73:E75) -> 0
A77: 05 | B77: Forgatási célú belföldi értékpapírok beváltása, értékesítése | C77: B8121 | D77: 0 | E77: 0
A78: 06 | B78: Éven belüli lejáratú belföldi értékpapírok kibocsátása | C78: B8122 | D78: 0 | E78: 0
A79: 07 | B79: Befektetési célú belföldi értékpapírok beváltása, értékesítése | C79: B8123 | D79: 0 | E79: 0
A80: 08 | B80: Éven túli lejáratú belföldi értékpapírok kibocsátása | C80: B8124 | D80: 0 | E80: 0
A81: 09 | B81: Belföldi értékpapírok bevételei (=05+..+08) | C81: B812 | D81: =SUM(D77:D80) -> 0 | E81: =SUM(E77:E80) -> 0
A82: 10 | B82: Előző év költségvetési maradványának igénybevétele | C82: B8131 | D82: 103770784 | E82: =D82 -> 103770784
A83: 11 | B83: Előző év vállalkozási maradványának igénybevétele | C83: B8132 | D83: 0 | E83: 0
A84: 12 | B84: Maradvány igénybevétele (=10+11) | C84: B813 | D84: =SUM(D82:D83) -> 103770784 | E84: =SUM(E82:E83) -> 103770784
A85: 13 | B85: Államháztartáson belüli megelőlegezések | C85: B814 | D85: 0 | E85: 0
A86: 14 | B86: Államháztartáson belüli megelőlegezések törlesztése | C86: B815 | D86: 0 | E86: 0
A87: 15 | B87: Központi, irányító szervi támogatás | C87: B816 | D87: 0 | E87: 0
A88: 16 | B88: Lekötött bankbetétek megszüntetése | C88: B817 | D88: 0 | E88: =D88 -> 0
A89: 17 | B89: Központi költségvetés sajátos finanszírozási bevételei | C89: B818 | D89: 0 | E89: 0
A90: 18 | B90: Hosszú lejáratú tulajdonosi kölcsönök bevételei | C90: B8191 | D90: 0 | E90: 0
A91: 19 | B91: Rövid lejáratú tulajdonosi kölcsönök bevételei | C91: B8192 | D91: 0 | E91: 0
A92: 20 | B92: Tulajdonosi kölcsönök bevételei (=18+19) | C92: B819 | D92: =SUM(D90:D91) -> 0 | E92: =SUM(E90:E91) -> 0
A93: 21 | B93: Belföldi finanszírozás bevételei (=04+09+12+…+17+20) | C93: B81 | D93: =SUM(D76+D81+D84+D85+D86+D87+D88+D89+D92) -> 103770784 | E93: =SUM(E76+E81+E84+E85+E86+E87+E88+E89+E92) -> 103770784
A94: 22 | B94: Forgatási célú külföldi értékpapírok beváltása, értékesítése | C94: B821 | D94: 0 | E94: 0
A95: 23 | B95: Befektetési célú külföldi értékpapírok beváltása, értékesítése | C95: B822 | D95: 0 | E95: 0
A96: 24 | B96: Külföldi értékpapírok kibocsátása | C96: B823 | D96: 0 | E96: 0
A97: 25 | B97: Hitelek, kölcsönök felvétele külföldi kormányoktól és nemzetközi szervezetektől | C97: B824 | D97: 0 | E97: 0
A98: 26 | B98: Hitelek, kölcsönök felvétele külföldi pénzintézetektől | C98: B825 | D98: 0 | E98: 0
A99: 27 | B99: Külföldi finanszírozás bevételei (=22+…+26) | C99: B82 | D99: =SUM(D94:D98) -> 0 | E99: =SUM(E94:E98) -> 0
A100: 28 | B100: Adóssághoz nem kapcsolódó származékos ügyletek bevételei | C100: B83 | D100: 0 | E100: 0
A101: 29 | B101: Váltóbevételek | C101: B84 | D101: 0 | E101: 0
...

Sheet BEVÉTELEK TÁRSULÁS
A1: ÓVODAI ÉS VÉDŐNŐI TÁRSULÁS BALATONEDERICS 2020. ÉVI KÖLTSÉGVETÉS
A2: Társulási előirányzatok - Bevételek (Ft)
A4: Sor- szám | B4: Rovat megnevezése | C4: Rovat száma | D4: TÁRSULÁS EREDETI EI. | E4: EBBŐL KÖTELEZŐ
A5: 01 | B5: Helyi önkormányzatok működésének általános támogatása | C5: B111 | D5: 0 | E5: =D5 -> 0
A6: 02 | B6: Települési önkormányzatok egyes köznevelési feladatainak támogatása | C6: B112 | D6: 0 | E6: =D6 -> 0
A7: 03 | B7: Települési önkormányzatok szociális gyermekjóléti és gyermekétkeztetési feladatainak támogatása | C7: B113 | D7: 0 | E7: =D7 -> 0
A8: 04 | B8: Települési önkormányzatok kulturális feladatainak támogatása | C8: B114 | D8: 0 | E8: =D8 -> 0
A9: 05 | B9: Működési célú költségvetési támogatások és kiegészítő támogatások | C9: B115 | D9: 0 | E9: =D9 -> 0
A10: 06 | B10: Elszámolásból származó bevételek | C10: B116 | D10: 0 | E10: =D10 -> 0
A11: 07 | B11: Önkormányzatok működési támogatásai (=01+…+06) | C11: B11 | D11: =SUM(D5:D10) -> 0 | E11: =SUM(E5:E10) -> 0
A12: 08 | B12: Elvonások és befizetések bevételei | C12: B12 | D12: 0 | E12: 0
A13: 09 | B13: Működési célú garancia- és kezességvállalásból származó megtérülések államháztartáson belülről | C13: B13 | D13: 0 | E13: 0
A14: 10 | B14: Működési célú visszatérítendő támogatások, kölcsönök visszatérülése államháztartáson belülről | C14: B14 | D14: 0 | E14: 0
A15: 11 | B15: Működési célú visszatérítendő támogatások, kölcsönök igénybevétele államháztartáson belülről | C15: B15 | D15: 0 | E15: 0
A16: 12 | B16: Egyéb működési célú támogatások bevételei államháztartáson belülről | C16: B16 | D16: 0 | E16: =D16 -> 0
A17: 13 | B17: Működési célú támogatások államháztartáson belülről (=07+…+12) | C17: B1 | D17: =SUM(D11+D12+D13+D14+D15+D16) -> 0 | E17: =SUM(E11+E12+E13+E14+E15+E16) -> 0
A18: 14 | B18: Felhalmozási célú önkormányzati támogatások | C18: B21 | D18: 0 | E18: 0
A19: 15 | B19: Felhalmozási célú garancia- és kezességvállalásból származó megtérülések államháztartáson belülről | C19: B22 | D19: 0 | E19: 0
A20: 16 | B20: Felhalmozási célú visszatérítendő támogatások, kölcsönök visszatérülése államháztartáson belülről | C20: B23 | D20: 0 | E20: 0
A21: 17 | B21: Felhalmozási célú visszatérítendő támogatások, kölcsönök igénybevétele államháztartáson belülről | C21: B24 | D21: 0 | E21: 0
A22: 18 | B22: Egyéb felhalmozási célú támogatások bevételei államháztartáson belülről | C22: B25 | D22: 0 | E22: 0
A23: 19 | B23: Felhalmozási célú támogatások államháztartáson belülről (=14+…+18) | C23: B2 | D23: =SUM(D18:D22) -> 0 | E23: =SUM(E18:E22) -> 0
A24: 20 | B24: Magánszemélyek jövedelemadói | C24: B311 | D24: 0 | E24: 0
A25: 21 | B25: Társaságok jövedelemadói | C25: B312 | D25: 0 | E25: 0
A26: 22 | B26: Jövedelemadók (=20+21) | C26: B31 | D26: =SUM(D24:D25) -> 0 | E26: =SUM(E24:E25) -> 0
A27: 23 | B27: Szociális hozzájárulási adó és járulékok | C27: B32 | D27: 0 | E27: 0
A28: 24 | B28: Bérhez és foglalkoztatáshoz kapcsolódó adók | C28: B33 | D28: 0 | E28: 0
A29: 25 | B29: Vagyoni tipusú adók | C29: B34 | D29: 0 | E29: =D29 -> 0
A30: 26 | B30: Értékesítési és forgalmi adók | C30: B351 | D30: 0 | E30: =D30 -> 0
A31: 27 | B31: Fogyasztási adók | C31: B352 | D31: 0 | E31: =D31 -> 0
A32: 28 | B32: Pénzügyi monopóliumok nyereségét terhelő adók | C32: B353 | D32: 0 | E32: =D32 -> 0
A33: 29 | B33: Gépjárműadók | C33: B354 | D33: 0 | E33: =D33 -> 0
A34: 30 | B34: Egyéb áruhasználati és szolgáltatási adók | C34: B355 | D34: 0 | E34: =D34 -> 0
A35: 31 | B35: Termékek és szolgáltatások adói (=26+…+30) | C35: B35 | D35: =SUM(D30:D34) -> 0 | E35: =SUM(E30:E34) -> 0
A36: 32 | B36: Egyéb közhatalmi bevételek | C36: B36 | D36: 0 | E36: =D36 -> 0
A37: 33 | B37: Közhatalmi bevételek (=22+...+25+31+32) | C37: B3 | D37: =SUM(D26+D27+D28+D29+D35+D36) -> 0 | E37: =SUM(E26+E27+E28+E29+E35+E36) -> 0
A38: 34 | B38: Készletértékesítés ellenértéke | C38: B401 | D38: 0 | E38: 0
A39: 35 | B39: Szolgáltatások ellenértéke | C39: B402 | D39: 0 | E39: =D39 -> 0
A40: 36 | B40: Közvetített szolgáltatások ellenértéke | C40: B403 | D40: 0 | E40: =D40 -> 0
A41: 37 | B41: Tulajdonosi bevételek | C41: B404 | D41: 0 | E41: =D41 -> 0
A42: 38 | B42: Ellátási díjak | C42: B405 | D42: 0 | E42: =D42 -> 0
A43: 39 | B43: Kiszámlázott általános forgalmi adó | C43: B406 | D43: 0 | E43: =D43 -> 0
A44: 40 | B44: Általános forgalmi adó visszatérítése | C44: B407 | D44: 0 | E44: =D44 -> 0
A45: 41 | B45: Befektetett pénzügyi eszközökből származó bevételek | C45: B4081 | D45: 0 | E45: =D45 -> 0
A46: 42 | B46: Egyéb kapott (járó) kamatok és kamatjellegű bevételek | C46: B4082 | D46: 0 | E46: =D46 -> 0
A47: 43 | B47: Kamatbevételek és más nyereségjellegű bevételek (=41+42) | C47: B408 | D47: =SUM(D45:D46) -> 0 | E47: =SUM(E45:E46) -> 0
A48: 44 | B48: Részesedésekből származó pénzügyi műveletek bevételei | C48: B4091 | D48: 0 | E48: 0
A49: 45 | B49: Más egyéb pénzügyi műveletek bevételei | C49: B4092 | D49: 0 | E49: 0
A50: 46 | B50: Egyéb pénzügyi műveletek bevételei (=44+45) | C50: B409 | D50: =SUM(D48:D49) -> 0 | E50: =SUM(E48:E49) -> 0
A51: 47 | B51: Biztosító által fizetett kártérítés | C51: B410 | D51: 0 | E51: =D51 -> 0
A52: 48 | B52: Egyéb működési bevételek | C52: B411 | D52: 0 | E52: =D52 -> 0
A53: 49 | B53: Működési bevételek (=34+…+40+43+46+...+48) | C53: B4 | D53: =SUM(D38+D39+D40+D41+D42+D43+D44+D47+D50+D51+D52) -> 0 | E53: =SUM(E38+E39+E40+E41+E42+E43+E44+E47+E50+E51+E52) -> 0
A54: 50 | B54: Immateriális javak értékesítése | C54: B51 | D54: 0 | E54: 0
A55: 51 | B55: Ingatlanok értékesítése | C55: B52 | D55: 0 | E55: 0
A56: 52 | B56: Egyéb tárgyi eszközök értékesítése | C56: B53 | D56: 0 | E56: 0
A57: 53 | B57: Részesedések értékesítése | C57: B54 | D57: 0 | E57: 0
A58: 54 | B58: Részesedések megszűnéséhez kapcsolódó bevételek | C58: B55 | D58: 0 | E58: 0
A59: 55 | B59: Felhalmozási bevételek (=50+…+54) | C59: B5 | D59: =SUM(D54:D58) -> 0 | E59: =SUM(E54:E58) -> 0
A60: 56 | B60: Működési célú garancia- és kezességvállalásból származó megtérülések államháztartáson kívülről | C60: B61 | D60: 0 | E60: 0
A61: 57 | B61: Működési célú visszatérítendő támogatások, kölcsönök visszatérülése az Európai Uniótól | C61: B62 | D61: 0 | E61: 0
A62: 58 | B62: Működési célú visszatérítendő támogatások, kölcsönök visszatérülése kormányoktól és más nemzetközi szervezetektől | C62: B63 | D62: 0 | E62: =D62 -> 0
A63: 59 | B63: Működési célú visszatérítendő támogatások, kölcsönök visszatérülése államháztartáson kívülről | C63: B64 | D63: 0 | E63: 0
A64: 60 | B64: Egyéb működési célú átvett pénzeszközök | C64: B65 | D64: 0 | E64: 0
A65: 61 | B65: Működési célú átvett pénzeszközök (=56+…+60) | C65: B6 | D65: =SUM(D60:D64) -> 0 | E65: =SUM(E60:E64) -> 0
A66: 62 | B66: Felhalmozási célú garancia- és kezességvállalásból származó megtérülések államháztartáson kívülről | C66: B71 | D66: 0 | E66: 0
A67: 63 | B67: Felhalmozási célú visszatérítendő támogatások, kölcsönök visszatérülése az Európai Uniótól | C67: B72 | D67: 0 | E67: 0
A68: 64 | B68: Felhalmozási célú visszatérítendő támogatások, kölcsönök visszatérülése kormányoktól és más nemzetközi szervezetektől | C68: B73 | D68: 0 | E68: 0
A69: 65 | B69: Felhalmozási célú visszatérítendő támogatások, kölcsönök visszatérülése államháztartáson kívülről | C69: B74 | D69: 0 | E69: 0
A70: 66 | B70: Egyéb felhalmozási célú átvett pénzeszközök | C70: B75 | D70: 0 | E70: 0
A71: 67 | B71: Felhalmozási célú átvett pénzeszközök (=62+…+66) | C71: B7 | D71: =SUM(D66:D70) -> 0 | E71: =SUM(E66:E70) -> 0
A72: 68 | B72: Költségvetési bevételek (=13+19+33+49+55+61+67) | C72: B1-B7 | D72: =SUM(D17+D23+D37+D53+D59+D65+D71) -> 0 | E72: =SUM(E17+E23+E37+E53+E59+E65+E71) -> 0
A73: 01 | B73: Hosszú lejáratú hitelek, kölcsönök felvétele pénzügyi vállalkozástól | C73: B8111 | D73: 0 | E73: 0
A74: 02 | B74: Likviditási célú hitelek, kölcsönök felvétele pénzügyi vállalkozástól | C74: B8112 | D74: 0 | E74: 0
A75: 03 | B75: Rövid lejáratú hitelek, kölcsönök felvétele pénzügyi vállalkozástól | C75: B8113 | D75: 0 | E75: 0
A76: 04 | B76: Hitel-, kölcsönfelvétel pénzügyi vállalkozástól (=01+02+03) | C76: B811 | D76: =SUM(D73:D75) -> 0 | E76: =SUM(E73:E75) -> 0
A77: 05 | B77: Forgatási célú belföldi értékpapírok beváltása, értékesítése | C77: B8121 | D77: 0 | E77: 0
A78: 06 | B78: Éven belüli lejáratú belföldi értékpapírok kibocsátása | C78: B8122 | D78: 0 | E78: 0
A79: 07 | B79: Befektetési célú belföldi értékpapírok beváltása, értékesítése | C79: B8123 | D79: 0 | E79: 0
A80: 08 | B80: Éven túli lejáratú belföldi értékpapírok kibocsátása | C80: B8124 | D80: 0 | E80: 0
A81: 09 | B81: Belföldi értékpapírok bevételei (=05+..+08) | C81: B812 | D81: =SUM(D77:D80) -> 0 | E81: =SUM(E77:E80) -> 0
A82: 10 | B82: Előző év költségvetési maradványának igénybevétele | C82: B8131 | D82: 104094 | E82: =D82 -> 104094
A83: 11 | B83: Előző év vállalkozási maradványának igénybevétele | C83: B8132 | D83: 0 | E83: 0
A84: 12 | B84: Maradvány igénybevétele (=10+11) | C84: B813 | D84: =SUM(D82:D83) -> 104094 | E84: =SUM(E82:E83) -> 104094
A85: 13 | B85: Államháztartáson belüli megelőlegezések | C85: B814 | D85: 0 | E85: 0
A86: 14 | B86: Államháztartáson belüli megelőlegezések törlesztése | C86: B815 | D86: 0 | E86: 0
A87: 15 | B87: Központi, irányító szervi támogatás | C87: B816 | D87: 68026305 | E87: =D87 -> 68026305
A88: 16 | B88: Lekötött bankbetétek megszüntetése | C88: B817 | D88: 0 | E88: =D88 -> 0
A89: 17 | B89: Központi költségvetés sajátos finanszírozási bevételei | C89: B818 | D89: 0 | E89: 0
A90: 18 | B90: Hosszú lejáratú tulajdonosi kölcsönök bevételei | C90: B8191 | D90: 0 | E90: 0
A91: 19 | B91: Rövid lejáratú tulajdonosi kölcsönök bevételei | C91: B8192 | D91: 0 | E91: 0
A92: 20 | B92: Tulajdonosi kölcsönök bevételei (=18+19) | C92: B819 | D92: =SUM(D90:D91) -> 0 | E92: =SUM(E90:E91) -> 0
A93: 21 | B93: Belföldi finanszírozás bevételei (=04+09+12+…+17+20) | C93: B81 | D93: =SUM(D76+D81+D84+D85+D86+D87+D88+D89+D92) -> 68130399 | E93: =SUM(E76+E81+E84+E85+E86+E87+E88+E89+E92) -> 68130399
A94: 22 | B94: Forgatási célú külföldi értékpapírok beváltása, értékesítése | C94: B821 | D94: 0 | E94: 0
A95: 23 | B95: Befektetési célú külföldi értékpapírok beváltása, értékesítése | C95: B822 | D95: 0 | E95: 0
A96: 24 | B96: Külföldi értékpapírok kibocsátása | C96: B823 | D96: 0 | E96: 0
A97: 25 | B97: Hitelek, kölcsönök felvétele külföldi kormányoktól és nemzetközi szervezetektől | C97: B824 | D97: 0 | E97: 0
A98: 26 | B98: Hitelek, kölcsönök felvétele külföldi pénzintézetektől | C98: B825 | D98: 0 | E98: 0
A99: 27 | B99: Külföldi finanszírozás bevételei (=22+…+26) | C99: B82 | D99: =SUM(D94:D98) -> 0 | E99: =SUM(E94:E98) -> 0
A100: 28 | B100: Adóssághoz nem kapcsolódó származékos ügyletek bevételei | C100: B83 | D100: 0 | E100: 0
A101: 29 | B101: Váltóbevételek | C101: B84 | D101: 0 | E101: 0
...

Sheet BEVÉTEL ÓVODA
A1: ÓVODAI ÉS VÉDŐNŐI TÁRSULÁS BALATONEDERICS 2020. ÉVI KÖLTSÉGVETÉS
A2: Lesencetomaji Mesevár Óvoda - Bevételek (Ft)
A4: Sor- szám | B4: Rovat megnevezése | C4: Rovat száma | D4: Óvoda EREDETI EI. | E4: EBBŐL KÖTELEZŐ
A5: 01 | B5: Helyi önkormányzatok működésének általános támogatása | C5: B111 | D5: 0 | E5: =D5 -> 0
A6: 02 | B6: Települési önkormányzatok egyes köznevelési feladatainak támogatása | C6: B112 | D6: 0 | E6: =D6 -> 0
A7: 03 | B7: Települési önkormányzatok szociális gyermekjóléti és gyermekétkeztetési feladatainak támogatása | C7: B113 | D7: 0 | E7: =D7 -> 0
A8: 04 | B8: Települési önkormányzatok kulturális feladatainak támogatása | C8: B114 | D8: 0 | E8: =D8 -> 0
A9: 05 | B9: Működési célú költségvetési támogatások és kiegészítő támogatások | C9: B115 | D9: 0 | E9: =D9 -> 0
A10: 06 | B10: Elszámolásból származó bevételek | C10: B116 | D10: 0 | E10: =D10 -> 0
A11: 07 | B11: Önkormányzatok működési támogatásai (=01+…+06) | C11: B11 | D11: =SUM(D5:D10) -> 0 | E11: =SUM(E5:E10) -> 0
A12: 08 | B12: Elvonások és befizetések bevételei | C12: B12 | D12: 0 | E12: =D12 -> 0
A13: 09 | B13: Működési célú garancia- és kezességvállalásból származó megtérülések államháztartáson belülről | C13: B13 | D13: 0 | E13: =D13 -> 0
A14: 10 | B14: Működési célú visszatérítendő támogatások, kölcsönök visszatérülése államháztartáson belülről | C14: B14 | D14: 0 | E14: =D14 -> 0
A15: 11 | B15: Működési célú visszatérítendő támogatások, kölcsönök igénybevétele államháztartáson belülről | C15: B15 | D15: 0 | E15: =D15 -> 0
A16: 12 | B16: Egyéb működési célú támogatások bevételei államháztartáson belülről | C16: B16 | D16: 0 | E16: =D16 -> 0
A17: 13 | B17: Működési célú támogatások államháztartáson belülről (=07+…+12) | C17: B1 | D17: =SUM(D11+D12+D13+D14+D15+D16) -> 0 | E17: =SUM(E11+E12+E13+E14+E15+E16) -> 0
A18: 14 | B18: Felhalmozási célú önkormányzati támogatások | C18: B21 | D18: 0 | E18: =D18 -> 0
A19: 15 | B19: Felhalmozási célú garancia- és kezességvállalásból származó megtérülések államháztartáson belülről | C19: B22 | D19: 0 | E19: =D19 -> 0
A20: 16 | B20: Felhalmozási célú visszatérítendő támogatások, kölcsönök visszatérülése államháztartáson belülről | C20: B23 | D20: 0 | E20: =D20 -> 0
A21: 17 | B21: Felhalmozási célú visszatérítendő támogatások, kölcsönök igénybevétele államháztartáson belülről | C21: B24 | D21: 0 | E21: =D21 -> 0
A22: 18 | B22: Egyéb felhalmozási célú támogatások bevételei államháztartáson belülről | C22: B25 | D22: 0 | E22: =D22 -> 0
A23: 19 | B23: Felhalmozási célú támogatások államháztartáson belülről (=14+…+18) | C23: B2 | D23: =SUM(D18:D22) -> 0 | E23: =SUM(E18:E22) -> 0
A24: 20 | B24: Magánszemélyek jövedelemadói | C24: B311 | D24: 0 | E24: =D24 -> 0
A25: 21 | B25: Társaságok jövedelemadói | C25: B312 | D25: 0 | E25: =D25 -> 0
A26: 22 | B26: Jövedelemadók (=20+21) | C26: B31 | D26: =SUM(D24:D25) -> 0 | E26: =SUM(E24:E25) -> 0
A27: 23 | B27: Szociális hozzájárulási adó és járulékok | C27: B32 | D27: 0 | E27: =D27 -> 0
A28: 24 | B28: Bérhez és foglalkoztatáshoz kapcsolódó adók | C28: B33 | D28: 0 | E28: =D28 -> 0
A29: 25 | B29: Vagyoni tipusú adók | C29: B34 | D29: 0 | E29: =D29 -> 0
A30: 26 | B30: Értékesítési és forgalmi adók | C30: B351 | D30: 0 | E30: =D30 -> 0
A31: 27 | B31: Fogyasztási adók | C31: B352 | D31: 0 | E31: =D31 -> 0
A32: 28 | B32: Pénzügyi monopóliumok nyereségét terhelő adók | C32: B353 | D32: 0 | E32: =D32 -> 0
A33: 29 | B33: Gépjárműadók | C33: B354 | D33: 0 | E33: =D33 -> 0
A34: 30 | B34: Egyéb áruhasználati és szolgáltatási adók | C34: B355 | D34: 0 | E34: =D34 -> 0
A35: 31 | B35: Termékek és szolgáltatások adói (=26+…+30) | C35: B35 | D35: =SUM(D30:D34) -> 0 | E35: =SUM(E30:E34) -> 0
A36: 32 | B36: Egyéb közhatalmi bevételek | C36: B36 | D36: 0 | E36: =D36 -> 0
A37: 33 | B37: Közhatalmi bevételek (=22+...+25+31+32) | C37: B3 | D37: =SUM(D26+D27+D28+D29+D35+D36) -> 0 | E37: =SUM(E26+E27+E28+E29+E35+E36) -> 0
A38: 34 | B38: Készletértékesítés ellenértéke | C38: B401 | D38: 0 | E38: =D38 -> 0
A39: 35 | B39: Szolgáltatások ellenértéke | C39: B402 | D39: 16618151 | E39: =D39 -> 16618151
A40: 36 | B40: Közvetített szolgáltatások ellenértéke | C40: B403 | D40: 0 | E40: =D40 -> 0
A41: 37 | B41: Tulajdonosi bevételek | C41: B404 | D41: 0 | E41: =D41 -> 0
A42: 38 | B42: Ellátási díjak | C42: B405 | D42: 2460886 | E42: =D42 -> 2460886
A43: 39 | B43: Kiszámlázott általános forgalmi adó | C43: B406 | D43: 5151345 | E43: =D43 -> 5151345
A44: 40 | B44: Általános forgalmi adó visszatérítése | C44: B407 | D44: 0 | E44: =D44 -> 0
A45: 41 | B45: Befektetett pénzügyi eszközökből származó bevételek | C45: B4081 | D45: 0 | E45: =D45 -> 0
A46: 42 | B46: Egyéb kapott (járó) kamatok és kamatjellegű bevételek | C46: B4082 | D46: 0 | E46: =D46 -> 0
A47: 43 | B47: Kamatbevételek és más nyereségjellegű bevételek (=41+42) | C47: B408 | D47: =SUM(D45:D46) -> 0 | E47: =SUM(E45:E46) -> 0
A48: 44 | B48: Részesedésekből származó pénzügyi műveletek bevételei | C48: B4091 | D48: 0 | E48: =D48 -> 0
A49: 45 | B49: Más egyéb pénzügyi műveletek bevételei | C49: B4092 | D49: 0 | E49: =D49 -> 0
A50: 46 | B50: Egyéb pénzügyi műveletek bevételei (=44+45) | C50: B409 | D50: =SUM(D48:D49) -> 0 | E50: =SUM(E48:E49) -> 0
A51: 47 | B51: Biztosító által fizetett kártérítés | C51: B410 | D51: 0 | E51: =D51 -> 0
A52: 48 | B52: Egyéb működési bevételek | C52: B411 | D52: 0 | E52: =D52 -> 0
A53: 49 | B53: Működési bevételek (=34+…+40+43+46+...+48) | C53: B4 | D53: =SUM(D38+D39+D40+D41+D42+D43+D44+D47+D50+D51+D52) -> 24230382 | E53: =SUM(E38+E39+E40+E41+E42+E43+E44+E47+E50+E51+E52) -> 24230382
A54: 50 | B54: Immateriális javak értékesítése | C54: B51 | D54: 0 | E54: =D54 -> 0
A55: 51 | B55: Ingatlanok értékesítése | C55: B52 | D55: 0 | E55: =D55 -> 0
A56: 52 | B56: Egyéb tárgyi eszközök értékesítése | C56: B53 | D56: 0 | E56: =D56 -> 0
A57: 53 | B57: Részesedések értékesítése | C57: B54 | D57: 0 | E57: =D57 -> 0
A58: 54 | B58: Részesedések megszűnéséhez kapcsolódó bevételek | C58: B55 | D58: 0 | E58: =D58 -> 0
A59: 55 | B59: Felhalmozási bevételek (=50+…+54) | C59: B5 | D59: =SUM(D54:D58) -> 0 | E59: =SUM(E54:E58) -> 0
A60: 56 | B60: Működési célú garancia- és kezességvállalásból származó megtérülések államháztartáson kívülről | C60: B61 | D60: 0 | E60: =D60 -> 0
A61: 57 | B61: Működési célú visszatérítendő támogatások, kölcsönök visszatérülése az Európai Uniótól | C61: B62 | D61: 0 | E61: =D61 -> 0
A62: 58 | B62: Működési célú visszatérítendő támogatások, kölcsönök visszatérülése kormányoktól és más nemzetközi szervezetektől | C62: B63 | D62: 0 | E62: =D62 -> 0
A63: 59 | B63: Működési célú visszatérítendő támogatások, kölcsönök visszatérülése államháztartáson kívülről | C63: B64 | D63: 0 | E63: =D63 -> 0
A64: 60 | B64: Egyéb működési célú átvett pénzeszközök | C64: B65 | D64: 0 | E64: =D64 -> 0
A65: 61 | B65: Működési célú átvett pénzeszközök (=56+…+60) | C65: B6 | D65: =SUM(D60:D64) -> 0 | E65: =SUM(E60:E64) -> 0
A66: 62 | B66: Felhalmozási célú garancia- és kezességvállalásból származó megtérülések államháztartáson kívülről | C66: B71 | D66: 0 | E66: =D66 -> 0
A67: 63 | B67: Felhalmozási célú visszatérítendő támogatások, kölcsönök visszatérülése az Európai Uniótól | C67: B72 | D67: 0 | E67: =D67 -> 0
A68: 64 | B68: Felhalmozási célú visszatérítendő támogatások, kölcsönök visszatérülése kormányoktól és más nemzetközi szervezetektől | C68: B73 | D68: 0 | E68: =D68 -> 0
A69: 65 | B69: Felhalmozási célú visszatérítendő támogatások, kölcsönök visszatérülése államháztartáson kívülről | C69: B74 | D69: 0 | E69: =D69 -> 0
A70: 66 | B70: Egyéb felhalmozási célú átvett pénzeszközök | C70: B75 | D70: 0 | E70: =D70 -> 0
A71: 67 | B71: Felhalmozási célú átvett pénzeszközök (=62+…+66) | C71: B7 | D71: =SUM(D66:D70) -> 0 | E71: =SUM(E66:E70) -> 0
A72: 68 | B72: Költségvetési bevételek (=13+19+33+49+55+61+67) | C72: B1-B7 | D72: =SUM(D17+D23+D37+D53+D59+D65+D71) -> 24230382 | E72: =SUM(E17+E23+E37+E53+E59+E65+E71) -> 24230382
A73: 01 | B73: Hosszú lejáratú hitelek, kölcsönök felvétele pénzügyi vállalkozástól | C73: B8111 | D73: 0 | E73: =D73 -> 0
A74: 02 | B74: Likviditási célú hitelek, kölcsönök felvétele pénzügyi vállalkozástól | C74: B8112 | D74: 0 | E74: =D74 -> 0
A75: 03 | B75: Rövid lejáratú hitelek, kölcsönök felvétele pénzügyi vállalkozástól | C75: B8113 | D75: 0 | E75: =D75 -> 0
A76: 04 | B76: Hitel-, kölcsönfelvétel pénzügyi vállalkozástól (=01+02+03) | C76: B811 | D76: =SUM(D73:D75) -> 0 | E76: =SUM(E73:E75) -> 0
A77: 05 | B77: Forgatási célú belföldi értékpapírok beváltása, értékesítése | C77: B8121 | D77: 0 | E77: =D77 -> 0
A78: 06 | B78: Éven belüli lejáratú belföldi értékpapírok kibocsátása | C78: B8122 | D78: 0 | E78: =D78 -> 0
A79: 07 | B79: Befektetési célú belföldi értékpapírok beváltása, értékesítése | C79: B8123 | D79: 0 | E79: =D79 -> 0
A80: 08 | B80: Éven túli lejáratú belföldi értékpapírok kibocsátása | C80: B8124 | D80: 0 | E80: =D80 -> 0
A81: 09 | B81: Belföldi értékpapírok bevételei (=05+..+08) | C81: B812 | D81: =SUM(D77:D80) -> 0 | E81: =SUM(E77:E80) -> 0
A82: 10 | B82: Előző év költségvetési maradványának igénybevétele | C82: B8131 | D82: 123965 | E82: 123965
A83: 11 | B83: Előző év vállalkozási maradványának igénybevétele | C83: B8132 | D83: 0 | E83: 0
A84: 12 | B84: Maradvány igénybevétele (=10+11) | C84: B813 | D84: =SUM(D82:D83) -> 123965 | E84: =SUM(E82:E83) -> 123965
A85: 13 | B85: Államháztartáson belüli megelőlegezések | C85: B814 | D85: 0 | E85: =D85 -> 0
A86: 14 | B86: Államháztartáson belüli megelőlegezések törlesztése | C86: B815 | D86: 0 | E86: =D86 -> 0 | G86: ebből felhalmozásra
A87: 15 | B87: Központi, irányító szervi támogatás | C87: B816 | D87: 68026305 | E87: =D87 -> 68026305
A88: 16 | B88: Lekötött bankbetétek megszüntetése | C88: B817 | D88: 0 | E88: =D88 -> 0
A89: 17 | B89: Központi költségvetés sajátos finanszírozási bevételei | C89: B818 | D89: 0 | E89: =D89 -> 0
A90: 18 | B90: Hosszú lejáratú tulajdonosi kölcsönök bevételei | C90: B8191 | D90: 0 | E90: =D90 -> 0
A91: 19 | B91: Rövid lejáratú tulajdonosi kölcsönök bevételei | C91: B8192 | D91: 0 | E91: =D91 -> 0
A92: 20 | B92: Tulajdonosi kölcsönök bevételei (=18+19) | C92: B819 | D92: =SUM(D90:D91) -> 0 | E92: =SUM(E90:E91) -> 0
A93: 21 | B93: Belföldi finanszírozás bevételei (=04+09+12+…+17+20) | C93: B81 | D93: =SUM(D76+D81+D84+D85+D86+D87+D88+D89+D92) -> 68150270 | E93: =SUM(E76+E81+E84+E85+E86+E87+E88+E89+E92) -> 68150270
A94: 22 | B94: Forgatási célú külföldi értékpapírok beváltása, értékesítése | C94: B821 | D94: 0 | E94: =D94 -> 0
A95: 23 | B95: Befektetési célú külföldi értékpapírok beváltása, értékesítése | C95: B822 | D95: 0 | E95: =D95 -> 0
A96: 24 | B96: Külföldi értékpapírok kibocsátása | C96: B823 | D96: 0 | E96: =D96 -> 0
A97: 25 | B97: Hitelek, kölcsönök felvétele külföldi kormányoktól és nemzetközi szervezetektől | C97: B824 | D97: 0 | E97: =D97 -> 0
A98: 26 | B98: Hitelek, kölcsönök felvétele külföldi pénzintézetektől | C98: B825 | D98: 0 | E98: =D98 -> 0
A99: 27 | B99: Külföldi finanszírozás bevételei (=22+…+26) | C99: B82 | D99: =SUM(D94:D98) -> 0 | E99: =SUM(E94:E98) -> 0
A100: 28 | B100: Adóssághoz nem kapcsolódó származékos ügyletek bevételei | C100: B83 | D100: 0 | E100: =D100 -> 0
A101: 29 | B101: Váltóbevételek | C101: B84 | D101: 0 | E101: =D101 -> 0
...

Sheet KIADÁSOK
A1: BALATONEDERICS KÖZSÉG ÖNKORMÁNYZAT 2020. ÉVI KÖLTSÉGVETÉS
A2: Önkormányzat és költségvetési szervei - Kiadások (Ft)
A4: Sor- szám | B4: Rovat megnevezése | C4: Rovat száma | D4: ÖNKORMÁNYZAT EREDETI EI. | E4: TÁRSULÁS EREDETI EI. | F4: ÓVODA EREDETI EI. | G4: MINDÖSSZESEN EREDETI EI.
A5: 01 | B5: Törvény szerinti illetmények, munkabérek | C5: K1101 | D5: =SUM('KIADÁSOK ÖNK'!D5) -> 20427000 | E5: =SUM('KIADÁSOK TÁRSULÁS'!D5) -> 0 | F5: =SUM('KIADÁSOK ÓVODA'!D5) -> 46116499 | G5: =SUM(D5:F5) -> 66543499
A6: 02 | B6: Normatív jutalmak | C6: K1102 | D6: =SUM('KIADÁSOK ÖNK'!D6) -> 0 | E6: =SUM('KIADÁSOK TÁRSULÁS'!D6) -> 0 | F6: =SUM('KIADÁSOK ÓVODA'!D6) -> 1689975 | G6: =SUM(D6:F6) -> 1689975
A7: 03 | B7: Céljuttatás, projektprémium | C7: K1103 | D7: =SUM('KIADÁSOK ÖNK'!D7) -> 1300000 | E7: =SUM('KIADÁSOK TÁRSULÁS'!D7) -> 0 | F7: =SUM('KIADÁSOK ÓVODA'!D7) -> 500000 | G7: =SUM(D7:F7) -> 1800000
A8: 04 | B8: Készenléti, ügyeleti, helyettesítési díj, túlóra, túlszolgálat | C8: K1104 | D8: =SUM('KIADÁSOK ÖNK'!D8) -> 0 | E8: =SUM('KIADÁSOK TÁRSULÁS'!D8) -> 0 | F8: =SUM('KIADÁSOK ÓVODA'!D8) -> 0 | G8: =SUM(D8:F8) -> 0
A9: 05 | B9: Végkielégítés | C9: K1105 | D9: =SUM('KIADÁSOK ÖNK'!D9) -> 0 | E9: =SUM('KIADÁSOK TÁRSULÁS'!D9) -> 0 | F9: =SUM('KIADÁSOK ÓVODA'!D9) -> 0 | G9: =SUM(D9:F9) -> 0
A10: 06 | B10: Jubileumi jutalom | C10: K1106 | D10: =SUM('KIADÁSOK ÖNK'!D10) -> 0 | E10: =SUM('KIADÁSOK TÁRSULÁS'!D10) -> 0 | F10: =SUM('KIADÁSOK ÓVODA'!D10) -> 0 | G10: =SUM(D10:F10) -> 0
A11: 07 | B11: Béren kívüli juttatások | C11: K1107 | D11: =SUM('KIADÁSOK ÖNK'!D11) -> 926944 | E11: =SUM('KIADÁSOK TÁRSULÁS'!D11) -> 0 | F11: =SUM('KIADÁSOK ÓVODA'!D11) -> 1456000 | G11: =SUM(D11:F11) -> 2382944
A12: 08 | B12: Ruházati költségtérítés | C12: K1108 | D12: =SUM('KIADÁSOK ÖNK'!D12) -> 0 | E12: =SUM('KIADÁSOK TÁRSULÁS'!D12) -> 0 | F12: =SUM('KIADÁSOK ÓVODA'!D12) -> 0 | G12: =SUM(D12:F12) -> 0
A13: 09 | B13: Közlekedési költségtérítés | C13: K1109 | D13: =SUM('KIADÁSOK ÖNK'!D13) -> 24000 | E13: =SUM('KIADÁSOK TÁRSULÁS'!D13) -> 0 | F13: =SUM('KIADÁSOK ÓVODA'!D13) -> 504000 | G13: =SUM(D13:F13) -> 528000
A14: 10 | B14: Egyéb költségtérítések | C14: K1110 | D14: =SUM('KIADÁSOK ÖNK'!D14) -> 0 | E14: =SUM('KIADÁSOK TÁRSULÁS'!D14) -> 0 | F14: =SUM('KIADÁSOK ÓVODA'!D14) -> 0 | G14: =SUM(D14:F14) -> 0
A15: 11 | B15: Lakhatási támogatások | C15: K1111 | D15: =SUM('KIADÁSOK ÖNK'!D15) -> 0 | E15: =SUM('KIADÁSOK TÁRSULÁS'!D15) -> 0 | F15: =SUM('KIADÁSOK ÓVODA'!D15) -> 0 | G15: =SUM(D15:F15) -> 0
A16: 12 | B16: Szociális támogatások | C16: K1112 | D16: =SUM('KIADÁSOK ÖNK'!D16) -> 0 | E16: =SUM('KIADÁSOK TÁRSULÁS'!D16) -> 0 | F16: =SUM('KIADÁSOK ÓVODA'!D16) -> 0 | G16: =SUM(D16:F16) -> 0
... A59: 55 | B59: Nemzetközi kötelezettségek | C59: K501 | D59: =SUM('KIADÁSOK ÖNK'!D59) -> 0 | E59: =SUM('KIADÁSOK TÁRSULÁS'!D59) -> 0 | F59: =SUM('KIADÁSOK ÓVODA'!D59) -> 0 | G59: =SUM(D59:F59) -> 0
A60: 56 | B60: A helyi önkormányzatok előző évi elszámolásából származó kiadások | C60: K5021 | D60: =SUM('KIADÁSOK ÖNK'!D60) -> 0 | E60: =SUM('KIADÁSOK TÁRSULÁS'!D60) -> 0 | F60: =SUM('KIADÁSOK ÓVODA'!D60) -> 0 | G60: =SUM(D60:F60) -> 0
A61: 57 | B61: A helyi önkormányzatok törvényi előíráson alapuló befizetései | C61: K5022 | D61: =SUM('KIADÁSOK ÖNK'!D61) -> 0 | E61: =SUM('KIADÁSOK TÁRSULÁS'!D61) -> 0 | F61: =SUM('KIADÁSOK ÓVODA'!D61) -> 0 | G61: =SUM(D61:F61) -> 0
A62: 58 | B62: Egyéb elvonások, befizetések | C62: K5023 | D62: =SUM('KIADÁSOK ÖNK'!D62) -> 0 | E62: =SUM('KIADÁSOK TÁRSULÁS'!D62) -> 0 | F62: =SUM('KIADÁSOK ÓVODA'!D62) -> 0 | G62: =SUM(D62:F62) -> 0
A63: 59 | B63: Elvonások és befizetések (=56+57+58) | C63: K502 | D63: =SUM('KIADÁSOK ÖNK'!D63) -> 0 | E63: =SUM('KIADÁSOK TÁRSULÁS'!D63) -> 0 | F63: =SUM('KIADÁSOK ÓVODA'!D63) -> 0 | G63: =SUM(D63:F63) -> 0
A64: 60 | B64: Működési célú garancia- és kezességvállalásból származó kifizetés államháztartáson belülre | C64: K503 | D64: =SUM('KIADÁSOK ÖNK'!D64) -> 0 | E64: =SUM('KIADÁSOK TÁRSULÁS'!D64) -> 0 | F64: =SUM('KIADÁSOK ÓVODA'!D64) -> 0 | G64: =SUM(D64:F64) -> 0
A65: 61 | B65: Működési célú visszatérítendő támogatások, kölcsönök nyújtása államháztartáson belülre | C65: K504 | D65: =SUM('KIADÁSOK ÖNK'!D65) -> 0 | E65: =SUM('KIADÁSOK TÁRSULÁS'!D65) -> 0 | F65: =SUM('KIADÁSOK ÓVODA'!D65) -> 0 | G65: =SUM(D65:F65) -> 0
A66: 62 | B66: Működési célú visszatérítendő támogatások, kölcsönök törlesztése államháztartáson belülre | C66: K505 | D66: =SUM('KIADÁSOK ÖNK'!D66) -> 0 | E66: =SUM('KIADÁSOK TÁRSULÁS'!D66) -> 0 | F66: =SUM('KIADÁSOK ÓVODA'!D66) -> 0 | G66: =SUM(D66:F66) -> 0
A67: 63 | B67: Egyéb működési célú támogatások államháztartáson belülre | C67: K506 | D67: =SUM('KIADÁSOK ÖNK'!D67) -> 71942003 | E67: =SUM('KIADÁSOK TÁRSULÁS'!D67) -> 0 | F67: =SUM('KIADÁSOK ÓVODA'!D67) -> 0 | G67: =SUM(D67:F67) -> 71942003
A68: 64 | B68: Működési célú garancia- és kezességvállalásból származó kifizetés államháztartáson kívülre | C68: K507 | D68: =SUM('KIADÁSOK ÖNK'!D68) -> 0 | E68: =SUM('KIADÁSOK TÁRSULÁS'!D68) -> 0 | F68: =SUM('KIADÁSOK ÓVODA'!D68) -> 0 | G68: =SUM(D68:F68) -> 0
A69: 65 | B69: Működési célú visszatérítendő támogatások, kölcsönök nyújtása államháztartáson kívülre | C69: K508 | D69: =SUM('KIADÁSOK ÖNK'!D69) -> 0 | E69: =SUM('KIADÁSOK TÁRSULÁS'!D69) -> 0 | F69: =SUM('KIADÁSOK ÓVODA'!D69) -> 0 | G69: =SUM(D69:F69) -> 0
A70: 66 | B70: Árkiegészítések, ártámogatások | C70: K509 | D70: =SUM('KIADÁSOK ÖNK'!D70) -> 0 | E70: =SUM('KIADÁSOK TÁRSULÁS'!D70) -> 0 | F70: =SUM('KIADÁSOK ÓVODA'!D70) -> 0 | G70: =SUM(D70:F70) -> 0
A71: 67 | B71: Kamattámogatások | C71: K510 | D71: =SUM('KIADÁSOK ÖNK'!D71) -> 0 | E71: =SUM('KIADÁSOK TÁRSULÁS'!D71) -> 0 | F71: =SUM('KIADÁSOK ÓVODA'!D71) -> 0 | G71: =SUM(D71:F71) -> 0
... A99: 95 | B99: Költségvetési kiadások (=19+20+45+54+71+79+84+94) | C99: K1-K8 | D99: =SUM('KIADÁSOK ÖNK'!D99) -> 307780256 | E99: =SUM('KIADÁSOK TÁRSULÁS'!D99) -> 104094 | F99: =SUM('KIADÁSOK ÓVODA'!D99) -> 92380652 | G99: =SUM(D99:F99) -> 400265002
A100: 01 | B100: Hosszú lejáratú hitelek, kölcsönök törlesztése pénzügyi vállalkozásnak | C100: K9111 | D100: =SUM('KIADÁSOK ÖNK'!D100) -> 0 | E100: =SUM('KIADÁSOK TÁRSULÁS'!D100) -> 0 | F100: =SUM('KIADÁSOK ÓVODA'!D100) -> 0 | G100: =SUM(D100:F100) -> 0
A101: 02 | B101: Likviditási célú hitelek, kölcsönök törlesztése pénzügyi vállalkozásnak | C101: K9112 | D101: =SUM('KIADÁSOK ÖNK'!D101) -> 0 | E101: =SUM('KIADÁSOK TÁRSULÁS'!D101) -> 0 | F101: =SUM('KIADÁSOK ÓVODA'!D101) -> 0 | G101: =SUM(D101:F101) -> 0
A102: 03 | B102: Rövid lejáratú hitelek, kölcsönök törlesztése pénzügyi vállalkozásnak | C102: K9113 | D102: =SUM('KIADÁSOK ÖNK'!D102) -> 0 | E102: =SUM('KIADÁSOK TÁRSULÁS'!D102) -> 0 | F102: =SUM('KIADÁSOK ÓVODA'!D102) -> 0 | G102: =SUM(D102:F102) -> 0
A103: 04 | B103: Hitel-, kölcsöntörlesztés államháztartáson kívülre (=01+02+03) | C103: K911 | D103: =SUM('KIADÁSOK ÖNK'!D103) -> 0 | E103: =SUM('KIADÁSOK TÁRSULÁS'!D103) -> 0 | F103: =SUM('KIADÁSOK ÓVODA'!D103) -> 0 | G103: =SUM(D103:F103) -> 0
A104: 05 | B104: Forgatási célú belföldi értékpapírok vásárlása | C104: K9121 | D104: =SUM('KIADÁSOK ÖNK'!D104) -> 0 | E104: =SUM('KIADÁSOK TÁRSULÁS'!D104) -> 0 | F104: =SUM('KIADÁSOK ÓVODA'!D104) -> 0 | G104: =SUM(D104:F104) -> 0
A105: 06 | B105: Befektetési célú belföldi értékpapírok vásárlása | C105: K9122 | D105: =SUM('KIADÁSOK ÖNK'!D105) -> 0 | E105: =SUM('KIADÁSOK TÁRSULÁS'!D105) -> 0 | F105: =SUM('KIADÁSOK ÓVODA'!D105) -> 0 | G105: =SUM(D105:F105) -> 0
A106: 07 | B106: Kincstárjegyek beváltása | C106: K9123 | D106: =SUM('KIADÁSOK ÖNK'!D106) -> 0 | E106: =SUM('KIADÁSOK TÁRSULÁS'!D106) -> 0 | F106: =SUM('KIADÁSOK ÓVODA'!D106) -> 0 | G106: =SUM(D106:F106) -> 0
A107: 08 | B107: Éven belüli lejáratú belföldi értékpapírok beváltása | C107: K9124 | D107: =SUM('KIADÁSOK ÖNK'!D107) -> 0 | E107: =SUM('KIADÁSOK TÁRSULÁS'!D107) -> 0 | F107: =SUM('KIADÁSOK ÓVODA'!D107) -> 0 | G107: =SUM(D107:F107) -> 0
A108: 09 | B108: Belföldi kötvények beváltása | C108: K9125 | D108: =SUM('KIADÁSOK ÖNK'!D108) -> 0 | E108: =SUM('KIADÁSOK TÁRSULÁS'!D108) -> 0 | F108: =SUM('KIADÁSOK ÓVODA'!D108) -> 0 | G108: =SUM(D108:F108) -> 0
A109: 10 | B109: Éven túli lejáratú belföldi értékpapírok beváltása | C109: K9126 | D109: =SUM('KIADÁSOK ÖNK'!D109) -> 0 | E109: =SUM('KIADÁSOK TÁRSULÁS'!D109) -> 0 | F109: =SUM('KIADÁSOK ÓVODA'!D109) -> 0 | G109: =SUM(D109:F109) -> 0
A110: 11 | B110: Belföldi értékpapírok kiadásai (=05+…+10) | C110: K912 | D110: =SUM('KIADÁSOK ÖNK'!D110) -> 0 | E110: =SUM('KIADÁSOK TÁRSULÁS'!D110) -> 0 | F110: =SUM('KIADÁSOK ÓVODA'!D110) -> 0 | G110: =SUM(D110:F110) -> 0
A111: 12 | B111: Államháztartáson belüli megelőlegezések folyósítása | C111: K913 | D111: =SUM('KIADÁSOK ÖNK'!D111) -> 0 | E111: =SUM('KIADÁSOK TÁRSULÁS'!D111) -> 0 | F111: =SUM('KIADÁSOK ÓVODA'!D111) -> 0 | G111: =SUM(D111:F111) -> 0
A112: 13 | B112: Államháztartáson belüli megelőlegezések visszafizetése | C112: K914 | D112: =SUM('KIADÁSOK ÖNK'!D112) -> 2629493 | E112: =SUM('KIADÁSOK TÁRSULÁS'!D112) -> 0 | F112: =SUM('KIADÁSOK ÓVODA'!D112) -> 0 | G112: =SUM(D112:F112) -> 2629493
A113: 14 | B113: Központi, irányító szervi támogatások folyósítása | C113: K915 | D113: =SUM('KIADÁSOK ÖNK'!D113) -> 23938271 | E113: =SUM('KIADÁSOK TÁRSULÁS'!D113) -> 68026305 | F113: =SUM('KIADÁSOK ÓVODA'!D113) -> 0 | G113: =SUM(D113:F113) -> 91964576
A114: 15 | B114: Pénzeszközök lekötött bankbetétként elhelyezése | C114: K916 | D114: =SUM('KIADÁSOK ÖNK'!D114) -> 0 | E114: =SUM('KIADÁSOK TÁRSULÁS'!D114) -> 0 | F114: =SUM('KIADÁSOK ÓVODA'!D114) -> 0 | G114: =SUM(D114:F114) -> 0
A115: 16 | B115: Pénzügyi lízing kiadásai | C115: K917 | D115: =SUM('KIADÁSOK ÖNK'!D115) -> 0 | E115: =SUM('KIADÁSOK TÁRSULÁS'!D115) -> 0 | F115: =SUM('KIADÁSOK ÓVODA'!D115) -> 0 | G115: =SUM(D115:F115) -> 0
A116: 17 | B116: Központi költségvetés sajátos finanszírozási kiadásai | C116: K918 | D116: =SUM('KIADÁSOK ÖNK'!D116) -> 389583 | E116: =SUM('KIADÁSOK TÁRSULÁS'!D116) -> 0 | F116: =SUM('KIADÁSOK ÓVODA'!D116) -> 0 | G116: =SUM(D116:F116) -> 389583
A117: 18 | B117: Hosszú lejáratú tulajdonosi kölcsönök kiadásai | C117: K9191 | D117: =SUM('KIADÁSOK ÖNK'!D117) -> 0 | E117: =SUM('KIADÁSOK TÁRSULÁS'!D117) -> 0 | F117: =SUM('KIADÁSOK ÓVODA'!D117) -> 0 | G117: =SUM(D117:F117) -> 0
A118: 19 | B118: Rövid lejáratú tulajdonosi kölcsönök kiadásai | C118: K9192 | D118: =SUM('KIADÁSOK ÖNK'!D118) -> 0 | E118: =SUM('KIADÁSOK TÁRSULÁS'!D118) -> 0 | F118: =SUM('KIADÁSOK ÓVODA'!D118) -> 0 | G118: =SUM(D118:F118) -> 0
A119: 20 | B119: Tulajdonosi kölcsönök kiadásai (=18+19) | C119: K919 | D119: =SUM('KIADÁSOK ÖNK'!D119) -> 0 | E119: =SUM('KIADÁSOK TÁRSULÁS'!D119) -> 0 | F119: =SUM('KIADÁSOK ÓVODA'!D119) -> 0 | G119: =SUM(D119:F119) -> 0
A120: 21 | B120: Belföldi finanszírozás kiadásai (=04+11+…+17+20) | C120: K91 | D120: =SUM('KIADÁSOK ÖNK'!D120) -> 26957347 | E120: =SUM(E103+E110+E111+E112+E114+E115+E116+E119) -> 0 | F120: =SUM(F103+F110+F111+F112+F114+F115+F116+F119) -> 0 | G120: =SUM(G103+G110+G111+G112+G114+G115+G116+G119) -> 3019076
A121: 22 | B121: Forgatási célú külföldi értékpapírok vásárlása | C121: K921 | D121: =SUM('KIADÁSOK ÖNK'!D121) -> 0 | E121: =SUM('KIADÁSOK TÁRSULÁS'!D121) -> 0 | F121: =SUM('KIADÁSOK ÓVODA'!D121) -> 0 | G121: =SUM(D121:F121) -> 0
A122: 23 | B122: Befektetési célú külföldi értékpapírok vásárlása | C122: K922 | D122: =SUM('KIADÁSOK ÖNK'!D122) -> 0 | E122: =SUM('KIADÁSOK TÁRSULÁS'!D122) -> 0 | F122: =SUM('KIADÁSOK ÓVODA'!D122) -> 0 | G122: =SUM(D122:F122) -> 0
A123: 24 | B123: Külföldi értékpapírok beváltása | C123: K923 | D123: =SUM('KIADÁSOK ÖNK'!D123) -> 0 | E123: =SUM('KIADÁSOK TÁRSULÁS'!D123) -> 0 | F123: =SUM('KIADÁSOK ÓVODA'!D123) -> 0 | G123: =SUM(D123:F123) -> 0
A124: 25 | B124: Hitelek, kölcsönök törlesztése külföldi kormányoknak és nemzetközi szervezeteknek | C124: K924 | D124: =SUM('KIADÁSOK ÖNK'!D124) -> 0 | E124: =SUM('KIADÁSOK TÁRSULÁS'!D124) -> 0 | F124: =SUM('KIADÁSOK ÓVODA'!D124) -> 0 | G124: =SUM(D124:F124) -> 0
A125: 26 | B125: Hitelek, kölcsönök törlesztése külföldi pénzintézeteknek | C125: K925 | D125: =SUM('KIADÁSOK ÖNK'!D125) -> 0 | E125: =SUM('KIADÁSOK TÁRSULÁS'!D125) -> 0 | F125: =SUM('KIADÁSOK ÓVODA'!D125) -> 0 | G125: =SUM(D125:F125) -> 0
A126: 27 | B126: Külföldi finanszírozás kiadásai (=22+…+26) | C126: K92 | D126: =SUM('KIADÁSOK ÖNK'!D126) -> 0 | E126: =SUM('KIADÁSOK TÁRSULÁS'!D126) -> 0 | F126: =SUM('KIADÁSOK ÓVODA'!D126) -> 0 | G126: =SUM(D126:F126) -> 0
A127: 28 | B127: Adóssághoz nem kapcsolódó származékos ügyletek kiadásai | C127: K93 | D127: =SUM('KIADÁSOK ÖNK'!D127) -> 0 | E127: =SUM('KIADÁSOK TÁRSULÁS'!D127) -> 0 | F127: =SUM('KIADÁSOK ÓVODA'!D127) -> 0 | G127: =SUM(D127:F127) -> 0
A128: 29 | B128: Váltókiadások | C128: K94 | D128: =SUM('KIADÁSOK ÖNK'!D128) -> 0 | E128: =SUM('KIADÁSOK TÁRSULÁS'!D128) -> 0 | F128: =SUM('KIADÁSOK ÓVODA'!D128) -> 0 | G128: =SUM(D128:F128) -> 0
A129: 30 | B129: Finanszírozási kiadások (=21+27+28+29) | C129: K9 | D129: =SUM('KIADÁSOK ÖNK'!D129) -> 26957347 | E129: =SUM('KIADÁSOK TÁRSULÁS'!D129) -> 68026305 | F129: =SUM('KIADÁSOK ÓVODA'!D129) -> 0 | G129: =SUM(G120+G126+G127+G128) -> 3019076
A130: 31 | B130: KIADÁSOK MINDÖSSZESEN | D130: =SUM('KIADÁSOK ÖNK'!D130) -> 334737603 | E130: =SUM('KIADÁSOK TÁRSULÁS'!D130) -> 68130399 | F130: =SUM('KIADÁSOK ÓVODA'!D130) -> 92380652 | G130: =SUM(G129+G99) -> 403284078
B131: EBBŐL MŰKÖDÉSI KIADÁSOK | D131: =SUM('KIADÁSOK ÖNK'!D131) -> 235625970 | E131: =SUM('KIADÁSOK TÁRSULÁS'!D131) -> 68130399 | F131: =SUM('KIADÁSOK ÓVODA'!D131) -> 92380652 | G131: =SUM(D131:F131) -> 396137021
B132: EBBŐL FELHALMOZÁSI KIADÁS | D132: =SUM('KIADÁSOK ÖNK'!D132) -> 99111633 | E132: =SUM('KIADÁSOK TÁRSULÁS'!D132) -> 0 | F132: =SUM('KIADÁSOK ÓVODA'!D132) -> 0 | G132: =SUM(D132:F132) -> 99111633
B133: Működési bevételek és működési kiadások egyenlege | D133: =SUM('KIADÁSOK ÖNK'!D133) -> 66984284 | E133: =SUM('KIADÁSOK TÁRSULÁS'!D133) -> 0 | F133: =SUM('KIADÁSOK ÓVODA'!D133) -> 0 | G133: =SUM(D133:F133) -> 66984284
B134: Felhalmozási bevételek és a felhalmozási kiadások egyenlege | D134: =SUM('KIADÁSOK ÖNK'!D134) -> -66984284 | E134: =SUM('KIADÁSOK TÁRSULÁS'!D134) -> 0 | F134: =SUM('KIADÁSOK ÓVODA'!D134) -> 0 | G134: =SUM(D134:F134) -> -66984284
D137: =SUM(BEVÉTELEK!D103) -> 334737603 | E137: =SUM(BEVÉTELEK!E103) -> 68130399 | F137: =SUM(BEVÉTELEK!F103) -> 92380652 | G137: =SUM(BEVÉTELEK!G103) -> 359196044
D138: =SUM(D130-D137) -> 0 | E138: =SUM(E130-E137) -> 0 | F138: =SUM(F130-F137) -> 0 | G138: =SUM(G130-G137) -> 44088034
G140: =SUM(D130:F130) -> 495248654
G141: =SUM(G113) -> 91964576
G142: =SUM(G140-G141) -> 403284078
G143: =SUM(G142-BEVÉTELEK!G113) -> 44088034
G145: 380917.48

Sheet KIADÁSOK ÖNK
A1: BALATONEDERICS KÖZSÉG ÖNKORMÁNYZAT 2020. ÉVI KÖLTSÉGVETÉS | F1: MINDEN VASTAG BEKÉPLETEZVE
A2: Önkormányzati előirányzatok - Kiadások (Ft)
A4: Sor- szám | B4: Rovat megnevezése | C4: Rovat száma | D4: ÖNKORMÁNYZAT EREDETI EI. | E4: EBBŐL KÖTELEZŐ
A5: 01 | B5: Törvény szerinti illetmények, munkabérek | C5: K1101 | D5: 20427000 | E5: =D5 -> 20427000 | G5: =SUM(E5:E5) -> 20427000 | H5: =SUM(D5-G5) -> 0
A6: 02 | B6: Normatív jutalmak | C6: K1102 | D6: 0 | E6: =D6 -> 0
A7: 03 | B7: Céljuttatás, projektprémium | C7: K1103 | D7: 1300000 | E7: =D7 -> 1300000
A8: 04 | B8: Készenléti, ügyeleti, helyettesítési díj, túlóra, túlszolgálat | C8: K1104 | D8: 0 | E8: =D8 -> 0
A9: 05 | B9: Végkielégítés | C9: K1105 | D9: 0 | E9: =D9 -> 0
A10: 06 | B10: Jubileumi jutalom | C10: K1106 | D10: 0 | E10: =D10 -> 0
A11: 07 | B11: Béren kívüli juttatások | C11: K1107 | D11: 926944 | E11: =D11 -> 926944
A12: 08 | B12: Ruházati költségtérítés | C12: K1108 | D12: 0 | E12: =D12 -> 0
A13: 09 | B13: Közlekedési költségtérítés | C13: K1109 | D13: 24000 | E13: =D13 -> 24000
A14: 10 | B14: Egyéb költségtérítések | C14: K1110 | D14: 0 | E14: =D14 -> 0
A15: 11 | B15: Lakhatási támogatások | C15: K1111 | D15: 0 | E15: =D15 -> 0
A16: 12 | B16: Szociális támogatások | C16: K1112 | D16: 0 | E16: =D16 -> 0
A17: 13 | B17: Foglalkoztatottak egyéb személyi juttatásai | C17: K1113 | D17: 0 | E17: =D17 -> 0
... A22: 18 | B22: Külső személyi juttatások (=15+16+17) | C22: K12 | D22: 0 | E22: =D22 -> 0
A23: 19 | B23: Személyi juttatások (=14+18) | C23: K1 | D23: =SUM(D5:D22) -> 31223792 | E23: =SUM(E5:E22) -> 31223792
A24: 20 | B24: Munkaadókat terhelő járulékok és szociális hozzájárulási adó | C24: K2 | D24: 6155036 | E24: =D24 -> 6155036
A25: 21 | B25: Szakmai anyagok beszerzése | C25: K311 | D25: 177000 | E25: =D25 -> 177000
A26: 22 | B26: Üzemeltetési anyagok beszerzése | C26: K312 | D26: 6686000 | E26: =D26 -> 6686000
A27: 23 | B27: Árubeszerzés | C27: K313 | D27: 0 | E27: =D27 -> 0
A28: 24 | B28: Készletbeszerzés (=21+22+23) | C28: K31 | D28: =SUM(D25:D27) -> 6863000 | E28: =SUM(E25:E27) -> 6863000
A29: 25 | B29: Informatikai szolgáltatások igénybevétele | C29: K321 | D29: 0 | E29: =D29 -> 0
A30: 26 | B30: Egyéb kommunikációs szolgáltatások | C30: K322 | D30: 825000 | E30: =D30 -> 825000
A31: 27 | B31: Kommunikációs szolgáltatások (=25+26) | C31: K32 | D31: =SUM(D29:D30) -> 825000 | E31: =SUM(E29:E30) -> 825000
A32: 28 | B32: Közüzemi díjak | C32: K331 | D32: 10781000 | E32: =D32 -> 10781000
A33: 29 | B33: Vásárolt élelmezés | C33: K332 | D33: 0 | E33: =D33 -> 0
A34: 30 | B34: Bérleti és lízing díjak | C34: K333 | D34: 0 | E34: =D34 -> 0
A35: 31 | B35: Karbantartási, kisjavítási szolgáltatások | C35: K334 | D35: 7266000 | E35: =D35 -> 7266000
A36: 32 | B36: Közvetített szolgáltatások | C36: K335 | D36: 0 | E36: =D36 -> 0
A37: 33 | B37: Szakmai tevékenységet segítő szolgáltatások | C37: K336 | D37: 3258094 | E37: =D37 -> 3258094
A38: 34 | B38: Egyéb szolgáltatások | C38: K337 | D38: 19620000 | E38: =D38 -> 19620000
A39: 35 | B39: Szolgáltatási kiadások (=28+…+34) | C39: K33 | D39: =SUM(D32:D38) -> 40925094 | E39: =SUM(E32:E38) -> 40925094
A40: 36 | B40: Kiküldetések kiadásai | C40: K341 | D40: 0 | E40: =D40 -> 0
A41: 37 | B41: Reklám- és propagandakiadások | C41: K342 | D41: 1500000 | E41: =D41 -> 1500000
A42: 38 | B42: Kiküldetések, reklám- és propagandakiadások (=36+37) | C42: K34 | D42: =SUM(D40:D41) -> 1500000 | E42: =SUM(E40:E41) -> 1500000
A43: 39 | B43: Működési célú előzetesen felszámított általános forgalmi adó | C43: K351 | D43: 12560630 | E43: =D43 -> 12560630
A44: 40 | B44: Fizetendő általános forgalmi adó | C44: K352 | D44: 5500000 | E44: =D44 -> 5500000
A45: 41 | B45: Kamatkiadások | C45: K353 | D45: 0 | E45: =D45 -> 0
A46: 42 | B46: Egyéb pénzügyi műveletek kiadásai | C46: K354 | D46: 0 | E46: =D46 -> 0
A47: 43 | B47: Egyéb dologi kiadások | C47: K355 | D47: 0 | E47: =D47 -> 0
A48: 44 | B48: Különféle befizetések és egyéb dologi kiadások (=39+…+43) | C48: K35 | D48: =SUM(D43:D47) -> 18060630 | E48: =SUM(E43:E47) -> 18060630
A49: 45 | B49: Dologi kiadások (=24+27+35+38+44) | C49: K3 | D49: =SUM(D48,D42,D39,D31,D28) -> 68173724 | E49: =SUM(E48,E42,E39,E31,E28) -> 68173724
A50: 46 | B50: Társadalombiztosítási ellátások | C50: K41 | D50: 0 | E50: =D50 -> 0
A51: 47 | B51: Családi támogatások | C51: K42 | D51: 0 | E51: =D51 -> 0
A52: 48 | B52: Pénzbeli kárpótlások, kártérítések | C52: K43 | D52: 0 | E52: =D52 -> 0
A53: 49 | B53: Betegséggel kapcsolatos (nem társadalombiztosítási) ellátások | C53: K44 | D53: 0 | E53: =D53 -> 0
A54: 50 | B54: Foglalkoztatással, munkanélküliséggel kapcsolatos ellátások | C54: K45 | D54: 0 | E54: =D54 -> 0
A55: 51 | B55: Lakhatással kapcsolatos ellátások | C55: K46 | D55: 0 | E55: =D55 -> 0
A56: 52 | B56: Intézményi ellátottak pénzbeli juttatásai | C56: K47 | D56: 0 | E56: =D56 -> 0
A57: 53 | B57: Egyéb nem intézményi ellátások | C57: K48 | D57: 6077904 | E57: =D57 -> 6077904
A58: 54 | B58: Ellátottak pénzbeli juttatásai (=46+...+53) | C58: K4 | D58: =SUM(D50:D57) -> 6077904 | E58: =SUM(E50:E57) -> 6077904
A59: 55 | B59: Nemzetközi kötelezettségek | C59: K501 | D59: 0 | E59: =D59 -> 0
A60: 56 | B60: A helyi önkormányzatok előző évi elszámolásából származó kiadások | C60: K5021 | D60: 0 | E60: =D60 -> 0
A61: 57 | B61: A helyi önkormányzatok törvényi előíráson alapuló befizetései | C61: K5022 | D61: 0 | E61: =D61 -> 0
A62: 58 | B62: Egyéb elvonások, befizetések | C62: K5023 | D62: 0 | E62: =D62 -> 0
A63: 59 | B63: Elvonások és befizetések (=56+57+58) | C63: K502 | D63: 0 | E63: =D63 -> 0
A64: 60 | B64: Működési célú garancia- és kezességvállalásból származó kifizetés államháztartáson belülre | C64: K503 | D64: 0 | E64: =D64 -> 0
A65: 61 | B65: Működési célú visszatérítendő támogatások, kölcsönök nyújtása államháztartáson belülre | C65: K504 | D65: 0 | E65: =D65 -> 0
A66: 62 | B66: Működési célú visszatérítendő támogatások, kölcsönök törlesztése államháztartáson belülre | C66: K505 | D66: 0 | E66: =D66 -> 0
A67: 63 | B67: Egyéb működési célú támogatások államháztartáson belülre | C67: K506 | D67: 71942003 | E67: =D67 -> 71942003
A68: 64 | B68: Működési célú garancia- és kezességvállalásból származó kifizetés államháztartáson kívülre | C68: K507 | D68: 0 | E68: =D68 -> 0
A69: 65 | B69: Működési célú visszatérítendő támogatások, kölcsönök nyújtása államháztartáson kívülre | C69: K508 | D69: 0 | E69: =D69 -> 0
A70: 66 | B70: Árkiegészítések, ártámogatások | C70: K509 | D70: 0 | E70: =D70 -> 0
A71: 67 | B71: Kamattámogatások | C71: K510 | D71: 0 | E71: =D71 -> 0
A72: 68 | B72: Működési célú támogatások az Európai Uniónak | C72: K511 | D72: 0 | E72: =D72 -> 0
A73: 69 | B73: Egyéb működési célú támogatások államháztartáson kívülre | C73: K512 | D73: 4170054 | E73: =D73 -> 4170054 | G73: ellenőrzés
A74: 70 | B74: Tartalékok | C74: K513 | D74: 20926110 | E74: =D74 -> 20926110 | G74: =SUM(TARTALÉKOK!C13) -> 0
A75: 71 | B75: Egyéb működési célú kiadások (=55+59+…+70) | C75: K5 | D75: =SUM(D59:D74) -> 97038167 | E75: =SUM(E59:E74) -> 97038167
A76: 72 | B76: Immateriális javak beszerzése, létesítése | C76: K61 | D76: 0 | E76: =D76 -> 0
A77: 73 | B77: Ingatlanok beszerzése, létesítése | C77: K62 | D77: 0 | E77: =D77 -> 0
A78: 74 | B78: Informatikai eszközök beszerzése, létesítése | C78: K63 | D78: 0 | E78: =D78 -> 0
A79: 75 | B79: Egyéb tárgyi eszközök beszerzése, létesítése | C79: K64 | D79: 0 | E79: =D79 -> 0
A80: 76 | B80: Részesedések beszerzése | C80: K65 | D80: 0 | E80: =D80 -> 0
A81: 77 | B81: Meglévő részesedések növeléséhez kapcsolódó kiadások | C81: K66 | D81: 0 | E81: =D81 -> 0
A82: 78 | B82: Beruházási célú előzetesen felszámított általános forgalmi adó | C82: K67 | D82: 0 | E82: =D82 -> 0
A83: 79 | B83: Beruházások (=72+…+78) | C83: K6 | D83: =SUM(D76:D82) -> 0 | E83: =SUM(E76:E82) -> 0
A84: 80 | B84: Ingatlanok felújítása | C84: K71 | D84: 77578242 | E84: =D84 -> 77578242
A85: 81 | B85: Informatikai eszközök felújítása | C85: K72 | D85: 0 | E85: =D85 -> 0
A86: 82 | B86: Egyéb tárgyi eszközök felújítása | C86: K73 | D86: 0 | E86: =D86 -> 0
A87: 83 | B87: Felújítási célú előzetesen felszámított általános forgalmi adó | C87: K74 | D87: 21533391 | E87: =D87 -> 21533391
A88: 84 | B88: Felújítások (=80+...+83) | C88: K7 | D88: =SUM(D84:D87) -> 99111633 | E88: =SUM(E84:E87) -> 99111633
A89: 85 | B89: Felhalmozási célú garancia- és kezességvállalásból származó kifizetés államháztartáson belülre | C89: K81 | D89: 0 | E89: 0
A90: 86 | B90: Felhalmozási célú visszatérítendő támogatások, kölcsönök nyújtása államháztartáson belülre | C90: K82 | D90: 0 | E90: 0
A91: 87 | B91: Felhalmozási célú visszatérítendő támogatások, kölcsönök törlesztése államháztartáson belülre | C91: K83 | D91: 0 | E91: 0
A92: 88 | B92: Egyéb felhalmozási célú támogatások államháztartáson belülre | C92: K84 | D92: 0 | E92: 0
A93: 89 | B93: Felhalmozási célú garancia- és kezességvállalásból származó kifizetés államháztartáson kívülre | C93: K85 | D93: 0 | E93: 0
A94: 90 | B94: Felhalmozási célú visszatérítendő támogatások, kölcsönök nyújtása államháztartáson kívülre | C94: K86 | D94: 0 | E94: 0
A95: 91 | B95: Lakástámogatás | C95: K87 | D95: 0 | E95: 0
A96: 92 | B96: Felhalmozási célú támogatások az Európai Uniónak | C96: K88 | D96: 0 | E96: 0
A97: 93 | B97: Egyéb felhalmozási célú támogatások államháztartáson kívülre | C97: K89 | D97: 0 | E97: 0
A98: 94 | B98: Egyéb felhalmozási célú kiadások (=85+…+93) | C98: K8 | D98: =SUM(D89:D97) -> 0 | E98: =SUM(E89:E97) -> 0
A99: 95 | B99: Költségvetési kiadások (=19+20+45+54+71+79+84+94) | C99: K1-K8 | D99: =SUM(D98+D88+D83+D75+D58+D49+D24+D23) -> 307780256 | E99: =SUM(E98+E88+E83+E75+E58+E49+E24+E23) -> 307780256
A100: 01 | B100: Hosszú lejáratú hitelek, kölcsönök törlesztése pénzügyi vállalkozásnak | C100: K9111 | D100: 0 | E100: 0
A101: 02 | B101: Likviditási célú hitelek, kölcsönök törlesztése pénzügyi vállalkozásnak | C101: K9112 | D101: 0 | E101: 0
A102: 03 | B102: Rövid lejáratú hitelek, kölcsönök törlesztése pénzügyi vállalkozásnak | C102: K9113 | D102: 0 | E102: 0
A103: 04 | B103: Hitel-, kölcsöntörlesztés államháztartáson kívülre (=01+02+03) | C103: K911 | D103: =SUM(D100:D102) -> 0 | E103: =SUM(E100:E102) -> 0
A104: 05 | B104: Forgatási célú belföldi értékpapírok vásárlása | C104: K9121 | D104: 0 | E104: 0
A105: 06 | B105: Befektetési célú belföldi értékpapírok vásárlása | C105: K9122 | D105: 0 | E105: 0
...

Sheet KIADÁSOK TÁRSULÁS
A1: ÓVODAI ÉS VÉDŐNŐI TÁRSULÁS BALATONEDERICS 2020. ÉVI KÖLTSÉGVETÉS | F1: MINDEN VASTAG BEKÉPLETEZVE
A2: Társulási előirányzatok - Kiadások (Ft)
A4: Sor- szám | B4: Rovat megnevezése | C4: Rovat száma | D4: TÁRSULÁS EREDETI EI. | E4: EBBŐL KÖTELEZŐ
A5: 01 | B5: Törvény szerinti illetmények, munkabérek | C5: K1101 | D5: 0 | E5: =D5 -> 0 | G5: =SUM(E5:E5) -> 0 | H5: =SUM(D5-G5) -> 0
A6: 02 | B6: Normatív jutalmak | C6: K1102 | D6: 0 | E6: =D6 -> 0
A7: 03 | B7: Céljuttatás, projektprémium | C7: K1103 | D7: 0 | E7: =D7 -> 0
A8: 04 | B8: Készenléti, ügyeleti, helyettesítési díj, túlóra, túlszolgálat | C8: K1104 | D8: 0 | E8: =D8 -> 0
A9: 05 | B9: Végkielégítés | C9: K1105 | D9: 0 | E9: =D9 -> 0
A10: 06 | B10: Jubileumi jutalom | C10: K1106 | D10: 0 | E10: =D10 -> 0
A11: 07 | B11: Béren kívüli juttatások | C11: K1107 | D11: 0 | E11: =D11 -> 0
A12: 08 | B12: Ruházati költségtérítés | C12: K1108 | D12: 0 | E12: =D12 -> 0
A13: 09 | B13: Közlekedési költségtérítés | C13: K1109 | D13: 0 | E13: =D13 -> 0
A14: 10 | B14: Egyéb költségtérítések | C14: K1110 | D14: 0 | E14: =D14 -> 0
A15: 11 | B15: Lakhatási támogatások | C15: K1111 | D15: 0 | E15: =D15 -> 0
A16: 12 | B16: Szociális támogatások | C16: K1112 | D16: 0 | E16: =D16 -> 0
A17: 13 | B17: Foglalkoztatottak egyéb személyi juttatásai | C17: K1113 | D17: 0 | E17: =D17 -> 0
... A22: 18 | B22: Külső személyi juttatások (=15+16+17) | C22: K12 | D22: 0 | E22: =D22 -> 0
A23: 19 | B23: Személyi juttatások (=14+18) | C23: K1 | D23: =SUM(D5:D22) -> 0 | E23: =SUM(E5:E22) -> 0
A24: 20 | B24: Munkaadókat terhelő járulékok és szociális hozzájárulási adó | C24: K2 | D24: 0 | E24: 0
A25: 21 | B25: Szakmai anyagok beszerzése | C25: K311 | D25: 0 | E25: =D25 -> 0
A26: 22 | B26: Üzemeltetési anyagok beszerzése | C26: K312 | D26: 0 | E26: =D26 -> 0
A27: 23 | B27: Árubeszerzés | C27: K313 | D27: 0 | E27: =D27 -> 0
A28: 24 | B28: Készletbeszerzés (=21+22+23) | C28: K31 | D28: =SUM(D25:D27) -> 0 | E28: =SUM(E25:E27) -> 0
A29: 25 | B29: Informatikai szolgáltatások igénybevétele | C29: K321 | D29: 0 | E29: =D29 -> 0
A30: 26 | B30: Egyéb kommunikációs szolgáltatások | C30: K322 | D30: 0 | E30: =D30 -> 0
A31: 27 | B31: Kommunikációs szolgáltatások (=25+26) | C31: K32 | D31: =SUM(D29:D30) -> 0 | E31: =SUM(E29:E30) -> 0
A32: 28 | B32: Közüzemi díjak | C32: K331 | D32: 0 | E32: =D32 -> 0
A33: 29 | B33: Vásárolt élelmezés | C33: K332 | D33: 0 | E33: =D33 -> 0
A34: 30 | B34: Bérleti és lízing díjak | C34: K333 | D34: 0 | E34: =D34 -> 0
A35: 31 | B35: Karbantartási, kisjavítási szolgáltatások | C35: K334 | D35: 0 | E35: =D35 -> 0
A36: 32 | B36: Közvetített szolgáltatások | C36: K335 | D36: 0 | E36: =D36 -> 0
A37: 33 | B37: Szakmai tevékenységet segítő szolgáltatások | C37: K336 | D37: 0 | E37: =D37 -> 0
A38: 34 | B38: Egyéb szolgáltatások | C38: K337 | D38: 84000 | E38: =D38 -> 84000
A39: 35 | B39: Szolgáltatási kiadások (=28+…+34) | C39: K33 | D39: =SUM(D32:D38) -> 84000 | E39: =SUM(E32:E38) -> 84000
A40: 36 | B40: Kiküldetések kiadásai | C40: K341 | D40: 0 | E40: =D40 -> 0
A41: 37 | B41: Reklám- és propagandakiadások | C41: K342 | D41: 0 | E41: =D41 -> 0
A42: 38 | B42: Kiküldetések, reklám- és propagandakiadások (=36+37) | C42: K34 | D42: =SUM(D40:D41) -> 0 | E42: =SUM(E40:E41) -> 0
A43: 39 | B43: Működési célú előzetesen felszámított általános forgalmi adó | C43: K351 | D43: 0 | E43: =D43 -> 0
A44: 40 | B44: Fizetendő általános forgalmi adó | C44: K352 | D44: 0 | E44: =D44 -> 0
A45: 41 | B45: Kamatkiadások | C45: K353 | D45: 0 | E45: =D45 -> 0
A46: 42 | B46: Egyéb pénzügyi műveletek kiadásai | C46: K354 | D46: 0 | E46: =D46 -> 0
A47: 43 | B47: Egyéb dologi kiadások | C47: K355 | D47: 0 | E47: =D47 -> 0
A48: 44 | B48: Különféle befizetések és egyéb dologi kiadások (=39+…+43) | C48: K35 | D48: =SUM(D43:D47) -> 0 | E48: =SUM(E43:E47) -> 0
A49: 45 | B49: Dologi kiadások (=24+27+35+38+44) | C49: K3 | D49: =SUM(D48,D42,D39,D31,D28) -> 84000 | E49: =SUM(E48,E42,E39,E31,E28) -> 84000
A50: 46 | B50: Társadalombiztosítási ellátások | C50: K41 | D50: 0 | E50: =D50 -> 0
A51: 47 | B51: Családi támogatások | C51: K42 | D51: 0 | E51: =D51 -> 0
A52: 48 | B52: Pénzbeli kárpótlások, kártérítések | C52: K43 | D52: 0 | E52: =D52 -> 0
A53: 49 | B53: Betegséggel kapcsolatos (nem társadalombiztosítási) ellátások | C53: K44 | D53: 0 | E53: =D53 -> 0
A54: 50 | B54: Foglalkoztatással, munkanélküliséggel kapcsolatos ellátások | C54: K45 | D54: 0 | E54: =D54 -> 0
A55: 51 | B55: Lakhatással kapcsolatos ellátások | C55: K46 | D55: 0 | E55: =D55 -> 0
A56: 52 | B56: Intézményi ellátottak pénzbeli juttatásai | C56: K47 | D56: 0 | E56: =D56 -> 0
A57: 53 | B57: Egyéb nem intézményi ellátások | C57: K48 | D57: 0 | E57: =D57 -> 0
A58: 54 | B58: Ellátottak pénzbeli juttatásai (=46+...+53) | C58: K4 | D58: =SUM(D50:D57) -> 0 | E58: =SUM(E50:E57) -> 0
A59: 55 | B59: Nemzetközi kötelezettségek | C59: K501 | D59: 0 | E59: =D59 -> 0
A60: 56 | B60: A helyi önkormányzatok előző évi elszámolásából származó kiadások | C60: K5021 | D60: 0 | E60: =D60 -> 0
A61: 57 | B61: A helyi önkormányzatok törvényi előíráson alapuló befizetései | C61: K5022 | D61: 0 | E61: =D61 -> 0
A62: 58 | B62: Egyéb elvonások, befizetések | C62: K5023 | D62: 0 | E62: =D62 -> 0
A63: 59 | B63: Elvonások és befizetések (=56+57+58) | C63: K502 | D63: 0 | E63: =D63 -> 0
A64: 60 | B64: Működési célú garancia- és kezességvállalásból származó kifizetés államháztartáson belülre | C64: K503 | D64: 0 | E64: =D64 -> 0
A65: 61 | B65: Működési célú visszatérítendő támogatások, kölcsönök nyújtása államháztartáson belülre | C65: K504 | D65: 0 | E65: =D65 -> 0
A66: 62 | B66: Működési célú visszatérítendő támogatások, kölcsönök törlesztése államháztartáson belülre | C66: K505 | D66: 0 | E66: =D66 -> 0
A67: 63 | B67: Egyéb működési célú támogatások államháztartáson belülre | C67: K506 | D67: 0 | E67: =D67 -> 0
A68: 64 | B68: Működési célú garancia- és kezességvállalásból származó kifizetés államháztartáson kívülre | C68: K507 | D68: 0 | E68: =D68 -> 0
A69: 65 | B69: Működési célú visszatérítendő támogatások, kölcsönök nyújtása államháztartáson kívülre | C69: K508 | D69: 0 | E69: =D69 -> 0
A70: 66 | B70: Árkiegészítések, ártámogatások | C70: K509 | D70: 0 | E70: =D70 -> 0
A71: 67 | B71: Kamattámogatások | C71: K510 | D71: 0 | E71: =D71 -> 0
A72: 68 | B72: Működési célú támogatások az Európai Uniónak | C72: K511 | D72: 0 | E72: =D72 -> 0
A73: 69 | B73: Egyéb működési célú támogatások államháztartáson kívülre | C73: K512 | D73: 0 | E73: =D73 -> 0 | G73: ellenőrzés
A74: 70 | B74: Tartalékok | C74: K513 | D74: 20094 | E74: 20094 | G74: =SUM([1]TARTALÉKOK!C22) -> 0
A75: 71 | B75: Egyéb működési célú kiadások (=55+59+…+70) | C75: K5 | D75: =SUM(D59:D74) -> 20094 | E75: =SUM(E59:E74) -> 20094
A76: 72 | B76: Immateriális javak beszerzése, létesítése | C76: K61 | D76: 0 | E76: =D76 -> 0
A77: 73 | B77: Ingatlanok beszerzése, létesítése | C77: K62 | D77: 0 | E77: =D77 -> 0
A78: 74 | B78: Informatikai eszközök beszerzése, létesítése | C78: K63 | D78: 0 | E78: =D78 -> 0
A79: 75 | B79: Egyéb tárgyi eszközök beszerzése, létesítése | C79: K64 | D79: 0 | E79: =D79 -> 0
A80: 76 | B80: Részesedések beszerzése | C80: K65 | D80: 0 | E80: =D80 -> 0
A81: 77 | B81: Meglévő részesedések növeléséhez kapcsolódó kiadások | C81: K66 | D81: 0 | E81: =D81 -> 0
A82: 78 | B82: Beruházási célú előzetesen felszámított általános forgalmi adó | C82: K67 | D82: 0 | E82: =D82 -> 0
A83: 79 | B83: Beruházások (=72+…+78) | C83: K6 | D83: =SUM(D76:D82) -> 0 | E83: =SUM(E76:E82) -> 0
A84: 80 | B84: Ingatlanok felújítása | C84: K71 | D84: 0 | E84: =D84 -> 0
A85: 81 | B85: Informatikai eszközök felújítása | C85: K72 | D85: 0 | E85: =D85 -> 0
A86: 82 | B86: Egyéb tárgyi eszközök felújítása | C86: K73 | D86: 0 | E86: =D86 -> 0
A87: 83 | B87: Felújítási célú előzetesen felszámított általános forgalmi adó | C87: K74 | D87: 0 | E87: =D87 -> 0
A88: 84 | B88: Felújítások (=80+...+83) | C88: K7 | D88: =SUM(D84:D87) -> 0 | E88: =SUM(E84:E87) -> 0
A89: 85 | B89: Felhalmozási célú garancia- és kezességvállalásból származó kifizetés államháztartáson belülre | C89: K81 | D89: 0 | E89: 0
A90: 86 | B90: Felhalmozási célú visszatérítendő támogatások, kölcsönök nyújtása államháztartáson belülre | C90: K82 | D90: 0 | E90: 0
A91: 87 | B91: Felhalmozási célú visszatérítendő támogatások, kölcsönök törlesztése államháztartáson belülre | C91: K83 | D91: 0 | E91: 0
A92: 88 | B92: Egyéb felhalmozási célú támogatások államháztartáson belülre | C92: K84 | D92: 0 | E92: 0
A93: 89 | B93: Felhalmozási célú garancia- és kezességvállalásból származó kifizetés államháztartáson kívülre | C93: K85 | D93: 0 | E93: 0
A94: 90 | B94: Felhalmozási célú visszatérítendő támogatások, kölcsönök nyújtása államháztartáson kívülre | C94: K86 | D94: 0 | E94: 0
A95: 91 | B95: Lakástámogatás | C95: K87 | D95: 0 | E95: 0
A96: 92 | B96: Felhalmozási célú támogatások az Európai Uniónak | C96: K88 | D96: 0 | E96: 0
A97: 93 | B97: Egyéb felhalmozási célú támogatások államháztartáson kívülre | C97: K89 | D97: 0 | E97: 0
A98: 94 | B98: Egyéb felhalmozási célú kiadások (=85+…+93) | C98: K8 | D98: =SUM(D89:D97) -> 0 | E98: =SUM(E89:E97) -> 0
A99: 95 | B99: Költségvetési kiadások (=19+20+45+54+71+79+84+94) | C99: K1-K8 | D99: =SUM(D98+D88+D83+D75+D58+D49+D24+D23) -> 104094 | E99: =SUM(E98+E88+E83+E75+E58+E49+E24+E23) -> 104094
A100: 01 | B100: Hosszú lejáratú hitelek, kölcsönök törlesztése pénzügyi vállalkozásnak | C100: K9111 | D100: 0 | E100: 0
A101: 02 | B101: Likviditási célú hitelek, kölcsönök törlesztése pénzügyi vállalkozásnak | C101: K9112 | D101: 0 | E101: 0
A102: 03 | B102: Rövid lejáratú hitelek, kölcsönök törlesztése pénzügyi vállalkozásnak | C102: K9113 | D102: 0 | E102: 0
A103: 04 | B103: Hitel-, kölcsöntörlesztés államháztartáson kívülre (=01+02+03) | C103: K911 | D103: =SUM(D100:D102) -> 0 | E103: =SUM(E100:E102) -> 0
A104: 05 | B104: Forgatási célú belföldi értékpapírok vásárlása | C104: K9121 | D104: 0 | E104: 0
A105: 06 | B105: Befektetési célú belföldi értékpapírok vásárlása | C105: K9122 | D105: 0 | E105: 0
...

Sheet KIADÁSOK ÓVODA
A1: ÓVODAI ÉS VÉDŐNŐI TÁRSULÁS BALATONEDERICS 2020. ÉVI KÖLTSÉGVETÉS | F1: MINDEN VASTAG BEKÉPLETEZVE
A2: Lesencetomaji Mesevár Óvoda - Kiadások (Ft)
A4: Sor- szám | B4: Rovat megnevezése | C4: Rovat száma | D4: ÓVODA EREDETI EI. | E4: EBBŐL KÖTELEZŐ
A5: 01 | B5: Törvény szerinti illetmények, munkabérek | C5: K1101 | D5: 46116499 | E5: =D5 -> 46116499
A6: 02 | B6: Normatív jutalmak | C6: K1102 | D6: 1689975 | E6: =D6 -> 1689975
A7: 03 | B7: Céljuttatás, projektprémium | C7: K1103 | D7: 500000 | E7: =D7 -> 500000
A8: 04 | B8: Készenléti, ügyeleti, helyettesítési díj, túlóra, túlszolgálat | C8: K1104 | D8: 0 | E8: =D8 -> 0
A9: 05 | B9: Végkielégítés | C9: K1105 | D9: 0 | E9: =D9 -> 0
A10: 06 | B10: Jubileumi jutalom | C10: K1106 | D10: 0 | E10: =D10 -> 0
A11: 07 | B11: Béren kívüli juttatások | C11: K1107 | D11: 1456000 | E11: =D11 -> 1456000
A12: 08 | B12: Ruházati költségtérítés | C12: K1108 | D12: 0 | E12: =D12 -> 0
A13: 09 | B13: Közlekedési költségtérítés | C13: K1109 | D13: 504000 | E13: =D13 -> 504000
A14: 10 | B14: Egyéb költségtérítések | C14: K1110 | D14: 0 | E14: =D14 -> 0
A15: 11 | B15: Lakhatási támogatások | C15: K1111 | D15: 0 | E15: =D15 -> 0
A16: 12 | B16: Szociális támogatások | C16: K1112 | D16: 0 | E16: =D16 -> 0
... A22: 18 | B22: Külső személyi juttatások (=15+16+17) | C22: K12 | D22: 0 | E22: =D22 -> 0
A23: 19 | B23: Személyi juttatások (=14+18) | C23: K1 | D23: =SUM(D5:D22) -> 50666187 | E23: =SUM(E5:E22) -> 50666187
A24: 20 | B24: Munkaadókat terhelő járulékok és szociális hozzájárulási adó | C24: K2 | D24: 10098306 | E24: =D24 -> 10098306
A25: 21 | B25: Szakmai anyagok beszerzése | C25: K311 | D25: 115000 | E25: =D25 -> 115000
A26: 22 | B26: Üzemeltetési anyagok beszerzése | C26: K312 | D26: 19548823 | E26: =D26 -> 19548823
A27: 23 | B27: Árubeszerzés | C27: K313 | D27: 0 | E27: =D27 -> 0
A28: 24 | B28: Készletbeszerzés (=21+22+23) | C28: K31 | D28: =SUM(D25:D27) -> 19663823 | E28: =SUM(E25:E27) -> 19663823
A29: 25 | B29: Informatikai szolgáltatások igénybevétele | C29: K321 | D29: 0 | E29: =D29 -> 0
A30: 26 | B30: Egyéb kommunikációs szolgáltatások | C30: K322 | D30: 186115 | E30: =D30 -> 186115
A31: 27 | B31: Kommunikációs szolgáltatások (=25+26) | C31: K32 | D31: =SUM(D29:D30) -> 186115 | E31: =SUM(E29:E30) -> 186115
A32: 28 | B32: Közüzemi díjak | C32: K331 | D32: 2782731 | E32: =D32 -> 2782731
A33: 29 | B33: Vásárolt élelmezés | C33: K332 | D33: 0 | E33: =D33 -> 0
A34: 30 | B34: Bérleti és lízing díjak | C34: K333 | D34: 0 | E34: =D34 -> 0
A35: 31 | B35: Karbantartási, kisjavítási szolgáltatások | C35: K334 | D35: 408000 | E35: =D35 -> 408000
A36: 32 | B36: Közvetített szolgáltatások | C36: K335 | D36: 11000 | E36: =D36 -> 11000
A37: 33 | B37: Szakmai tevékenységet segítő szolgáltatások | C37: K336 | D37: 122000 | E37: =D37 -> 122000
A38: 34 | B38: Egyéb szolgáltatások | C38: K337 | D38: 1678000 | E38: =D38 -> 1678000
A39: 35 | B39: Szolgáltatási kiadások (=28+…+34) | C39: K33 | D39: =SUM(D32:D38) -> 5001731 | E39: =SUM(E32:E38) -> 5001731
A40: 36 | B40: Kiküldetések kiadásai | C40: K341 | D40: 3490 | E40: =D40 -> 3490
A41: 37 | B41: Reklám- és propagandakiadások | C41: K342 | D41: 0 | E41: =D41 -> 0
A42: 38 | B42: Kiküldetések, reklám- és propagandakiadások (=36+37) | C42: K34 | D42: =SUM(D40:D41) -> 3490 | E42: =SUM(E40:E41) -> 3490
A43: 39 | B43: Működési célú előzetesen felszámított általános forgalmi adó | C43: K351 | D43: 4876000 | E43: =D43 -> 4876000
A44: 40 | B44: Fizetendő általános forgalmi adó | C44: K352 | D44: 1885000 | E44: =D44 -> 1885000
A45: 41 | B45: Kamatkiadások | C45: K353 | D45: 0 | E45: =D45 -> 0
A46: 42 | B46: Egyéb pénzügyi műveletek kiadásai | C46: K354 | D46: 0 | E46: =D46 -> 0
A47: 43 | B47: Egyéb dologi kiadások | C47: K355 | D47: 0 | E47: =D47 -> 0
A48: 44 | B48: Különféle befizetések és egyéb dologi kiadások (=39+…+43) | C48: K35 | D48: =SUM(D43:D47) -> 6761000 | E48: =SUM(E43:E47) -> 6761000
A49: 45 | B49: Dologi kiadások (=24+27+35+38+44) | C49: K3 | D49: =SUM(D48,D42,D39,D31,D28) -> 31616159 | E49: =SUM(E48,E42,E39,E31,E28) -> 31616159
A50: 46 | B50: Társadalombiztosítási ellátások | C50: K41 | D50: 0 | E50: =D50 -> 0
A51: 47 | B51: Családi támogatások | C51: K42 | D51: 0 | E51: =D51 -> 0
A52: 48 | B52: Pénzbeli kárpótlások, kártérítések | C52: K43 | D52: 0 | E52: =D52 -> 0
A53: 49 | B53: Betegséggel kapcsolatos (nem társadalombiztosítási) ellátások | C53: K44 | D53: 0 | E53: =D53 -> 0
A54: 50 | B54: Foglalkoztatással, munkanélküliséggel kapcsolatos ellátások | C54: K45 | D54: 0 | E54: =D54 -> 0
A55: 51 | B55: Lakhatással kapcsolatos ellátások | C55: K46 | D55: 0 | E55: =D55 -> 0
A56: 52 | B56: Intézményi ellátottak pénzbeli juttatásai | C56: K47 | D56: 0 | E56: =D56 -> 0
A57: 53 | B57: Egyéb nem intézményi ellátások | C57: K48 | D57: 0 | E57: =D57 -> 0
A58: 54 | B58: Ellátottak pénzbeli juttatásai (=46+...+53) | C58: K4 | D58: =SUM(D50:D57) -> 0 | E58: =SUM(E50:E57) -> 0
A59: 55 | B59: Nemzetközi kötelezettségek | C59: K501 | D59: 0 | E59: 0
A60: 56 | B60: A helyi önkormányzatok előző évi elszámolásából származó kiadások | C60: K5021 | D60: 0 | E60: 0
A61: 57 | B61: A helyi önkormányzatok törvényi előíráson alapuló befizetései | C61: K5022 | D61: 0 | E61: 0
A62: 58 | B62: Egyéb elvonások, befizetések | C62: K5023 | D62: 0 | E62: 0
A63: 59 | B63: Elvonások és befizetések (=56+57+58) | C63: K502 | D63: 0 | E63: 0
A64: 60 | B64: Működési célú garancia- és kezességvállalásból származó kifizetés államháztartáson belülre | C64: K503 | D64: 0 | E64: 0
A65: 61 | B65: Működési célú visszatérítendő támogatások, kölcsönök nyújtása államháztartáson belülre | C65: K504 | D65: 0 | E65: 0
A66: 62 | B66: Működési célú visszatérítendő támogatások, kölcsönök törlesztése államháztartáson belülre | C66: K505 | D66: 0 | E66: 0
A67: 63 | B67: Egyéb működési célú támogatások államháztartáson belülre | C67: K506 | D67: 0 | E67: 0
A68: 64 | B68: Működési célú garancia- és kezességvállalásból származó kifizetés államháztartáson kívülre | C68: K507 | D68: 0 | E68: 0
A69: 65 | B69: Működési célú visszatérítendő támogatások, kölcsönök nyújtása államháztartáson kívülre | C69: K508 | D69: 0 | E69: 0
A70: 66 | B70: Árkiegészítések, ártámogatások | C70: K509 | D70: 0 | E70: 0
A71: 67 | B71: Kamattámogatások | C71: K510 | D71: 0 | E71: 0
... A74: 70 | B74: Tartalékok | C74: K513 | D74: 0 | E74: 0
A75: 71 | B75: Egyéb működési célú kiadások (=55+59+…+70) | C75: K5 | D75: =SUM(D59:D74) -> 0 | E75: =SUM(E59:E74) -> 0
A76: 72 | B76: Immateriális javak beszerzése, létesítése | C76: K61 | D76: 0 | E76: =D76 -> 0
A77: 73 | B77: Ingatlanok beszerzése, létesítése | C77: K62 | D77: 0 | E77: =D77 -> 0
A78: 74 | B78: Informatikai eszközök beszerzése, létesítése | C78: K63 | D78: 0 | E78: =D78 -> 0
A79: 75 | B79: Egyéb tárgyi eszközök beszerzése, létesítése | C79: K64 | D79: 0 | E79: =D79 -> 0
A80: 76 | B80: Részesedések beszerzése | C80: K65 | D80: 0 | E80: =D80 -> 0
A81: 77 | B81: Meglévő részesedések növeléséhez kapcsolódó kiadások | C81: K66 | D81: 0 | E81: =D81 -> 0
A82: 78 | B82: Beruházási célú előzetesen felszámított általános forgalmi adó | C82: K67 | D82: 0 | E82: =D82 -> 0
A83: 79 | B83: Beruházások (=72+…+78) | C83: K6 | D83: =SUM(D76:D82) -> 0 | E83: =SUM(E76:E82) -> 0
A84: 80 | B84: Ingatlanok felújítása | C84: K71 | D84: 0 | E84: =D84 -> 0
A85: 81 | B85: Informatikai eszközök felújítása | C85: K72 | D85: 0 | E85: =D85 -> 0
A86: 82 | B86: Egyéb tárgyi eszközök felújítása | C86: K73 | D86: 0 | E86: =D86 -> 0
A87: 83 | B87: Felújítási célú előzetesen felszámított általános forgalmi adó | C87: K74 | D87: 0 | E87: =D87 -> 0
A88: 84 | B88: Felújítások (=80+...+83) | C88: K7 | D88: =SUM(D84:D87) -> 0 | E88: =SUM(E84:E87) -> 0
A89: 85 | B89: Felhalmozási célú garancia- és kezességvállalásból származó kifizetés államháztartáson belülre | C89: K81 | D89: 0 | E89: 0
A90: 86 | B90: Felhalmozási célú visszatérítendő támogatások, kölcsönök nyújtása államháztartáson belülre | C90: K82 | D90: 0 | E90: 0
A91: 87 | B91: Felhalmozási célú visszatérítendő támogatások, kölcsönök törlesztése államháztartáson belülre | C91: K83 | D91: 0 | E91: 0
A92: 88 | B92: Egyéb felhalmozási célú támogatások államháztartáson belülre | C92: K84 | D92: 0 | E92: 0
A93: 89 | B93: Felhalmozási célú garancia- és kezességvállalásból származó kifizetés államháztartáson kívülre | C93: K85 | D93: 0 | E93: 0
A94: 90 | B94: Felhalmozási célú visszatérítendő támogatások, kölcsönök nyújtása államháztartáson kívülre | C94: K86 | D94: 0 | E94: 0
A95: 91 | B95: Lakástámogatás | C95: K87 | D95: 0 | E95: 0
A96: 92 | B96: Felhalmozási célú támogatások az Európai Uniónak | C96: K88 | D96: 0 | E96: 0
A97: 93 | B97: Egyéb felhalmozási célú támogatások államháztartáson kívülre | C97: K89 | D97: 0 | E97: 0
A98: 94 | B98: Egyéb felhalmozási célú kiadások (=85+…+93) | C98: K8 | D98: =SUM(D89:D97) -> 0 | E98: =SUM(E89:E97) -> 0
A99: 95 | B99: Költségvetési kiadások (=19+20+45+54+71+79+84+94) | C99: K1-K8 | D99: =SUM(D98+D88+D83+D75+D58+D49+D24+D23) -> 92380652 | E99: =SUM(E98+E88+E83+E75+E58+E49+E24+E23) -> 92380652
A100: 01 | B100: Hosszú lejáratú hitelek, kölcsönök törlesztése pénzügyi vállalkozásnak | C100: K9111 | D100: 0 | E100: 0
A101: 02 | B101: Likviditási célú hitelek, kölcsönök törlesztése pénzügyi vállalkozásnak | C101: K9112 | D101: 0 | E101: 0
A102: 03 | B102: Rövid lejáratú hitelek, kölcsönök törlesztése pénzügyi vállalkozásnak | C102: K9113 | D102: 0 | E102: 0
A103: 04 | B103: Hitel-, kölcsöntörlesztés államháztartáson kívülre (=01+02+03) | C103: K911 | D103: =SUM(D100:D102) -> 0 | E103: =SUM(E100:E102) -> 0
A104: 05 | B104: Forgatási célú belföldi értékpapírok vásárlása | C104: K9121 | D104: 0 | E104: 0
A105: 06 | B105: Befektetési célú belföldi értékpapírok vásárlása | C105: K9122 | D105: 0 | E105: 0
A106: 07 | B106: Kincstárjegyek beváltása | C106: K9123 | D106: 0 | E106: 0
A107: 08 | B107: Éven belüli lejáratú belföldi értékpapírok beváltása | C107: K9124 | D107: 0 | E107: 0
A108: 09 | B108: Belföldi kötvények beváltása | C108: K9125 | D108: 0 | E108: 0
...

Sheet 9_A Felhalmozási mérleg
A1: II. Felhalmozási célú bevételek és kiadások mérlege (Önkormányzati szinten)
A3: Sor- szám | B3: Bevételek | D3: Kiadások
B4: Megnevezés | C4: 2019. évi előirányzat | D4: Megnevezés | E4: 2019. évi előirányzat
A5: 1 | B5: 2 | C5: 3 | D5: 6 | E5: 7
A6: 1. | B6: Felhalmozási célú támogatások államháztartáson belülről (B2) | C6: 32127349 | D6: Beruházások (K6) | E6: 0
A7: 2. | B7: 1.-ből EU-s támogatás | C7: 0 | D7: 1.-ből EU-s forrásból megvalósuló beruházás | E7: 0
A8: 3. | B8: Felhalmozási bevételek (B5) | C8: 0 | D8: Felújítások (K7) | E8: 99111633
A9: 4. | B9: Felhalmozási célú átvett pénzeszközök (B6) | C9: 0 | D9: 3.-ból EU-s forrásból megvalósuló felújítás
A10: 5. | B10: 4.-ből EU-s támogatás (közvetlen) | D10: Egyéb felhalmozási kiadások
A11: 6. | B11: Felhalmozási célú bevételek (B7)
A12: 7.
A13: 8.
A14: 9.
A15: 10.
A16: 11. | D16: Tartalékok | E16: 1946204
A17: 12. | B17: Költségvetési bevételek összesen: (1.+3.+4.+6.+…+11.) | C17: =C6 -> 32127349 | D17: Költségvetési kiadások összesen: (1.+3.+5.+...+11.) | E17: =E8+E6 -> 99111633
A18: 13. | B18: Hiány belső finanszírozás bevételei ( 14+…+18) | D18: Értékpapír vásárlása, visszavásárlása
A19: 14. | B19: Költségvetési maradvány igénybevétele | D19: Hitelek törlesztése
A20: 15. | B20: Vállalkozási maradvány igénybevétele | D20: Rövid lejáratú hitelek törlesztése
A21: 16. | B21: Betét visszavonásából származó bevétel | D21: Hosszú lejáratú hitelek törlesztése
A22: 17. | B22: Értékpapír értékesítése | C22: 0 | D22: Kölcsön törlesztése
A23: 18. | B23: Egyéb belső finanszírozási bevételek | D23: Befektetési célú belföldi, külföldi értékpapírok vásárlása
A24: 19. | B24: Hiány külső finanszírozásának bevételei (20+…+24 ) | C24: =+C25+C26+C27+C28+C29 -> 0 | D24: Betét elhelyezése
A25: 20. | B25: Hosszú lejáratú hitelek, kölcsönök felvétele | D25: Pénzügyi lízing kiadásai
A26: 21. | B26: Likviditási célú hitelek, kölcsönök felvétele
A27: 22. | B27: Rövid lejáratú hitelek, kölcsönök felvétele
A28: 23. | B28: Értékpapírok kibocsátása
A29: 24. | B29: Egyéb külső finanszírozási bevételek
A30: 25. | B30: Felhalmozási célú finanszírozási bevételek összesen (13.+19.) | C30: =SUM(C18,C24) -> 0 | D30: Felhalmozási célú finanszírozási kiadások összesen (13.+...+24.) | E30: =SUM(E18:E29) -> 0
A31: 26. | B31: BEVÉTEL ÖSSZESEN (12+25) | C31: =+C17+C30 -> 32127349 | D31: KIADÁSOK ÖSSZESEN (12+25) | E31: =+E17+E30 -> 99111633
A32: 27. | B32: Költségvetési hiány: | C32: =C17-E17 -> -66984284 | D32: Költségvetési többlet: | E32: =IF(C17-E17>0,C17-E17,"-") -> -
A33: 28. | B33: Tárgyévi hiány: | D33: Tárgyévi többlet: | E33: 0

Sheet 25.Működési mérleg
A1: I. Működési célú bevételek és kiadások mérlege (Önkormányzati szinten)
A3: Sor- szám | B3: Bevételek | F3: Kiadások
B4: Megnevezés | C4: 2020.évi előirányzat | D4: 2020. évi 1.sz.módosított | E4: 2020. évi 2.sz.módosított 12.31-ig | F4: Megnevezés | G4: 2020. évi előirányzat | H4: 2019. évi 1.sz.módosított | I4: 2020. évi 2.sz.módosított 12.31-ig
A5: 1 | B5: 2 | C5: 3 | D5: 4 | F5: 5 | G5: 6 | H5: 7 | I5: 7
A6: 1. | B6: Önkormányzatok működési támogatásai | C6: 0 | F6: Személyi juttatások | G6: 81889979 | H6: 90120740 | I6: 89688787
A7: 2. | B7: Működési célú támogatások államháztartáson belülről (B1) | C7: 83519005 | D7: 172912415 | E7: 176695476 | F7: Munkaadókat terhelő járulékok és szociális hozzájárulási adó | G7: 16253342 | H7: 16585206 | I7: 15724204
A8: 3. | B8: 2.-ból EU-s támogatás | F8: Dologi kiadások | G8: 99873883 | H8: 107340849 | I8: 91607008
A9: 4. | B9: Közhatalmi bevételek (B3) | C9: 41575465 | D9: 38624314 | E9: 34705165 | F9: Ellátottak pénzbeli juttatásai | G9: 6077904 | H9: 3946499 | I9: 4037523
A10: 5. | F10: Egyéb működési célú kiadások | G10: 33742168 | H10: 81617717 | I10: 155810323
A11: 6. | B11: 4.-ből EU-s támogatás
A12: 7. | B12: Egyéb működési bevételek (B4) | C12: 78975382 | D12: 93242992 | E12: 91559273
A13: 8.
A14: 9.
A15: 10.
A16: 11.
A17: 12.
A18: 13. | B18: Költségvetési bevételek összesen (1.+2.+4.+5.+7.+…+12.) | C18: =SUM(C6:C17) -> 204069852 | D18: =SUM(D6:D17) -> 304779721 | E18: =SUM(E6:E17) -> 302959914 | F18: Költségvetési kiadások összesen (1.+...+12.) | G18: =SUM(G6:G17) -> 237837276 | H18: =SUM(H6:H10) -> 299611011 | I18: =SUM(I6:I10) -> 356867845
A19: 14. | B19: Hiány belső finanszírozásának bevételei (15.+…+18. ) | C19: 103770784
A20: 15. | B20: Költségvetési maradvány igénybevétele | C20: 0 | E20: 52957900
A21: 16. | B21: Vállalkozási maradvány igénybevétele | F21: Rövid lejáratú hitelek törlesztése
A22: 17. | B22: ÁH belüli megelőlegezések | D22: 3060985 | E22: 4027252 | F22: Hosszú lejáratú hitelek törlesztése
A23: 18. | B23: Egyéb belső finanszírozási bevételek | D23: 74719942 | E23: 68703260 | F23: Kölcsön törlesztése
A24: 19. | B24: Hiány külső finanszírozásának bevételei (20.+…+21.) | F24: Forgatási célú belföldi, külföldi értékpapírok vásárlása
A25: 20. | B25: Likviditási célú hitelek, kölcsönök felvétele | F25: Betét elhelyezése
A26: 21. | B26: Értékpapírok bevételei | C26: 0 | F26: Belföldi finanszírozási kiadások | G26: 3019076 | H26: 77772208 | I26: 71780481
A27: 22. | B27: Működési célú finanszírozási bevételek összesen (14.+19.) | C27: =C19 -> 103770784 | D27: =SUM(D19:D26) -> 77780927 | E27: =SUM(E19:E26) -> 125688412 | F27: Működési célú finanszírozási kiadások összesen (14.+...+21.) | G27: =SUM(G19:G26) -> 3019076 | H27: =SUM(H26) -> 77772208 | I27: =SUM(I26) -> 71780481
A28: 23. | B28: BEVÉTEL ÖSSZESEN (13.+22.) | C28: =SUM(C18+C27)+C26 -> 307840636 | D28: =SUM(D18+D27) -> 382560648 | E28: =E18+E27 -> 428648326 | F28: KIADÁSOK ÖSSZESEN (13.+22.) | G28: =+G18+G27 -> 240856352 | H28: =SUM(H18+H27) -> 377383219 | I28: =SUM(I18+I27) -> 428648326
A29: 24. | B29: Költségvetési hiány: | F29: Költségvetési többlet: | G29: =IF(C18-G18>0,C18-G18,"-") -> - | H29: 5177427 | I29: 5177428
A30: 25. | B30: Tárgyévi hiány: | F30: Tárgyévi többlet: | G30: =C28-G28 -> 66984284

Sheet LÉTSZÁM
A1: BALATONEDERICS KÖZSÉG ÖNKORMÁNYZAT 2020. ÉVI KÖLTSÉGVETÉS
A2: Létszám (Fő)
A4: MEGNEVEZÉS | B4: ÖNKORMÁNYZAT | C4: TÁRSULÁS | D4: ÓVODA | E4: Művelősési ház | F4: MINDÖSSZESEN EREDETI EI.
A5: főjegyző, jegyző, aljegyző, címzetes főjegyző, körjegyző | C5: 0 | F5: =SUM(B5:E5) -> 0
A6: I. besorolási osztály összesen | C6: 0 | F6: =SUM(B6:E6) -> 0
A7: II. besorolási osztály összesen | C7: 0 | F7: =SUM(B7:E7) -> 0
A8: III. besorolási osztály összesen | C8: 0 | F8: =SUM(B8:E8) -> 0
A9: KÖZTISZTVISELŐK, KORMÁNYTISZTVISELŐK ÖSSZESEN | C9: 0 | F9: =SUM(B9:E9) -> 0
A10: igazgató (főigazgató), igazgatóhelyettes (főigazgató-helyettes) | D10: 1 | E10: 1 | F10: =SUM(B10:E10) -> 2
A11: főosztályvezető, főosztályvezető-helyettes, osztályvezető, ügykezelő osztályvezető, további vezető | F11: =SUM(B11:E11) -> 0
A12: főtanácsos, főmunkatárs, tanácsos, munkatárs | F12: =SUM(B12:E12) -> 0
A13: "A", "B" fizetési osztály összesen | D13: 7 | F13: =SUM(B13:E13) -> 7
A14: "C", "D" fizetési osztály összesen | D14: 5 | F14: =SUM(B14:E14) -> 5
A15: "E"-"J" fizetési osztály összesen | B15: 1 | D15: 5 | E15: 1 | F15: =SUM(B15:E15) -> 7
A16: kutató, felsőoktatásban oktató | F16: =SUM(B16:E16) -> 0
A17: KÖZALKALMAZOTTAK ÖSSZESEN | B17: 1 | D17: 19 | E17: 2 | F17: =SUM(B17:E17) -> 22
A18: fizikai alkalmazott, a költségvetési szerveknél foglalkoztatott egyéb munkavállaló (fizikai alkalmazott) | B18: 0 | C18: 1 | D18: 0 | F18: =SUM(B18:E18) -> 1
A19: ösztöndíjas foglalkoztatott | B19: 0 | F19: =SUM(B19:E19) -> 0
A20: közfoglalkoztatott | B20: 9 | E20: 1 | F20: =SUM(B20:E20) -> 10
A21: EGYÉB BÉRRENDSZER ÖSSZESEN | B21: 12 | C21: 1 | E21: 1 | F21: =SUM(B21:E21) -> 14
A22: polgármester, főpolgármester | B22: 1 | F22: =SUM(B22:E22) -> 1
A23: helyi önkormányzati képviselő-testület tagja, megyei közgyűlés tagja | B23: 5 | F23: =SUM(B23:E23) -> 5
A24: alpolgármester, főpolgármester-helyettes, megyei közgyűlés elnöke, alelnöke | B24: 1 | F24: =SUM(B24:E24) -> 1
A25: VÁLASZTOTT TISZTSÉGVISELŐK ÖSSZESEN | B25: 7 | F25: =SUM(B25:E25) -> 7
A26: KÖLTSÉGVETÉSI ENGEDÉLYEZETT LÉTSZÁMKERETBE TARTOZÓ FOGLALKOZTATOTTAK LÉTSZÁMA MINDÖSSZESEN | B26: =SUM(B21+B25+B17) -> 20 | C26: 10 | D26: 19 | E26: 3 | F26: =SUM(B26:E26) -> 52
A27: prémiumévek programról és a különleges foglalkoztatási állományról szóló 2004. évi CXXII. törvény alapján foglalkoztatott prémiumévesek | F27: =SUM(B27:E27) -> 0
A28: prémiumévek programról és a különleges foglalkoztatási állományról szóló 2004. évi CXXII. törvény alapján foglalkoztatott különleges foglalkoztatási állományba helyezettek létszáma | F28: =SUM(B28:E28) -> 0
A29: ösztöndíjas foglalkoztatottak (Pftv, illetve Magyar Közigazgatási Ösztöndíjról szóló 228/2011. (X. 28.) Korm. rendelet) | F29: =SUM(B29:E29) -> 0
A30: munkaerőpiactól tartósan távol lévő személyek | F30: =SUM(B30:E30) -> 0
A31: KÖLTSÉGVETÉSI ENGEDÉLYEZETT LÉTSZÁMKERETBE NEM TARTOZÓ FOGLALKOZTATOTTAK LÉTSZÁMA AZ IDŐSZAK VÉGÉN ÖSSZESEN | B31: 0 | C31: 0 | D31: 0 | E31: 0 | F31: 0

Sheet 10. szociális kiadások
A1: BALATONEDERICS KÖZSÉG ÖNKORMÁNYZAT 2020. ÉVI KÖLTSÉGVETÉS
A2: Lakosságnak juttatott támogatások, szociális, rászorultsági jellegű ellátások (Ft)
A5: Megnevezés | B5: Rovat-szám | C5: ÖNKORMÁNYZAT EREDETI EI. | D5: P.HIVATAL EREDETI EI. | E5: ÓVODA EREDETI EI. | F5: MINDÖSSZESEN EREDETI EI.
A6: mozgáskorlátozottak közlekedési támogatása | B6: K44 | C6: 0 | D6: 0 | E6: 0 | F6: =SUM(C6:E6) -> 0
A7: mozgáskorlátozottak szerzési és átalakítási támogatása | B7: K44 | C7: 0 | D7: 0 | E7: 0 | F7: =SUM(C7:E7) -> 0
A8: megváltozott munkaképességűek illetve egészségkárosodottak keresetkiegészítése | B8: K44 | C8: 0 | D8: 0 | E8: 0 | F8: =SUM(C8:E8) -> 0
A9: cukorbetegek támogatása | B9: K44 | C9: 0 | D9: 0 | E9: 0 | F9: =SUM(C9:E9) -> 0
A10: helyi megállapítású ápolási díj [Szoctv. 43/B. §] | B10: K44 | C10: 377904 | D10: 0 | E10: 0 | F10: =SUM(C10:E10) -> 377904
A11: helyi megállapítású közgyógyellátás [Szoctv.50.§ (3) bek.] | B11: K44 | C11: 0 | D11: 0 | E11: 0 | F11: =SUM(C11:E11) -> 0
A12: Betegséggel kapcsolatos (nem társadalombiztosítási) ellátások | B12: K44 | C12: =SUM(C6:C11) -> 377904 | D12: =SUM(D6:D11) -> 0 | E12: =SUM(E6:E11) -> 0 | F12: =SUM(F6:F11) -> 377904
A13: foglalkoztatást helyettesítő támogatás [Szoctv. 35. § (1) bek.] | B13: K45 | C13: 0 | D13: 0 | E13: 0 | F13: =SUM(C13:E13) -> 0
A14: Foglalkoztatással, munkanélküliséggel kapcsolatos ellátások | B14: K45 | C14: =+C13 -> 0 | D14: =+D13 -> 0 | E14: =+E13 -> 0 | F14: =+F13 -> 0
A15: hozzájárulás a lakossági energiaköltségekhez | B15: K46 | C15: 0 | D15: 0 | E15: 0 | F15: =SUM(C15:E15) -> 0
A16: lakbértámogatás | B16: K46 | C16: 0 | D16: 0 | E16: 0 | F16: =SUM(C16:E16) -> 0
A17: lakásfenntartási támogatás [Szoctv. 38. § (1) bek. a) és b) pontok] | B17: K46 | C17: 0 | D17: 0 | E17: 0 | F17: =SUM(C17:E17) -> 0
A18: adósságcsökkentési támogatás [Szoctv. 55/A. § 1. bek. b) pont] | B18: K46 | C18: 0 | D18: 0 | E18: 0 | F18: =SUM(C18:E18) -> 0
A19: természetben nyújtott lakásfenntartási támogatás [Szoctv. 47.§ (1) bek. b) pont] | B19: K46 | C19: 0 | D19: 0 | E19: 0 | F19: =SUM(C19:E19) -> 0
A20: adósságkezelési szolgáltatás keretében gáz-vagy áram fogyasztást mérő készülék biztosítása [Szoctv. 55/A. § (3) bek.] | B20: K46 | C20: 0 | D20: 0 | E20: 0 | F20: =SUM(C20:E20) -> 0
A21: Lakhatással kapcsolatos ellátások | B21: K46 | C21: =SUM(C15:C20) -> 0 | D21: =SUM(D15:D20) -> 0 | E21: =SUM(E15:E20) -> 0 | F21: =SUM(F15:F20) -> 0
A22: állami gondozottak pénzbeli juttatásai | B22: K47 | C22: 0 | D22: 0 | E22: 0 | F22: =SUM(C22:E22) -> 0
A23: oktatásban résztvevők pénzbeli juttatásai (Bursa Hungarica) | B23: K47 | C23: 192000 | D23: 0 | E23: 0 | F23: =SUM(C23:E23) -> 192000
A24: Intézményi ellátottak pénzbeli juttatásai | B24: K47 | C24: =SUM(C22:C23) -> 192000 | D24: 0 | E24: 0 | F24: =SUM(C24:E24) -> 192000
A25: időskorúak járadéka [Szoctv. 32/B. § (1) bek.] | B25: K48 | C25: 0 | D25: 0 | E25: 0 | F25: =SUM(C25:E25) -> 0
A26: rendszeres szociális segély [Szoctv. 37. § (1) bek. a) - d) pontok] | B26: K48 | C26: 650000 | D26: 0 | E26: 0 | F26: =SUM(C26:E26) -> 650000
A27: átmeneti segély [Szoctv. 45.§] | B27: K48 | C27: 2000000 | D27: 0 | E27: 0 | F27: =SUM(C27:E27) -> 2000000
A28: önkormányzati segély, temetési segély [Szoctv. 46.§] | B28: K48 | C28: 0 | D28: 0 | E28: 0 | F28: =SUM(C28:E28) -> 0
A29: gyermekek támogatása | B29: K48 | C29: 1000000 | D29: 0 | E29: 0 | F29: =SUM(C29:E29) -> 1000000
A30: Idősek napi támogatás | B30: K48 | C30: 350000 | D30: 0 | E30: 0 | F30: =SUM(C30:E30) -> 350000
A31: természetben nyújtott rendszeres szociális segély [Szoctv. 47.§ (1) bek. a) pont] | B31: K48 | C31: 0 | D31: 0 | E31: 0 | F31: =SUM(C31:E31) -> 0
A32: átmeneti segély [Szoctv. 47.§ (1) bek. c) pont] | B32: K48 | C32: 950000 | D32: 0 | E32: 0 | F32: =SUM(C32:E32) -> 950000
A33: temetési segély [Szoctv. 47.§ (1) bek. d) pont} | B33: K48 | C33: 250000 | D33: 0 | E33: 0 | F33: =SUM(C33:E33) -> 250000
A34: köztemetés [Szoctv. 48.§] | B34: K48 | C34: 0 | D34: 0 | E34: 0 | F34: =SUM(C34:E34) -> 0
A35: egyéb szociális ellátások (állami normatíva) | B35: K48 | C35: 0 | D35: 0 | E35: 0 | F35: =SUM(C35:E35) -> 0
A36: rászorultságtól függõ normatív kedvezmények [Gyvt. 151. § (5) bek.] | B36: K48 | C36: 0 | D36: 0 | E36: 0 | F36: =SUM(C36:E36) -> 0
... A38: önkormányzat által saját hatáskörben (nem szociális és gyermekvédelmi előírások alapján) adott természetbeni ellátás | B38: K48 | C38: 620000 | D38: 0 | E38: 0 | F38: =SUM(C38:E38) -> 620000
A39: Egyéb nem intézményi ellátások | B39: K48 | C39: =SUM(C25:C38) -> 5820000 | D39: =SUM(D27:D38) -> 0 | E39: =SUM(E27:E38) -> 0 | F39: =SUM(F27:F38) -> 5170000
A40: Ellátottak pénzbeli juttatásai | B40: K4 | C40: =+C39+C24+C21+C14+C12 -> 6389904 | D40: =+D39+D24+D21+D14+D12 -> 0 | E40: =+E39+E24+E21+E14+E12 -> 0 | F40: =+F39+F24+F21+F14+F12 -> 5739904

Sheet ÁTADOTT ÁTVETT
A1: BALATONEDERICS KÖZSÉG ÖNKORMÁNYZAT 2020. ÉVI KÖLTSÉGVETÉS
A2: Támogatási kiadások és bevételek, átdott pénzeszközök, átvett pénzeszközök (Ft)
A4: Rovat megnevezése | B4: Rovat száma | C4: ÖNKORMÁNYZAT EREDETI EI. | D4: TÁRSULÁS EREDETI EI. | E4: ÓVODA EREDETI EI. | F4: MINDÖSSZESEN EREDETI EI.
A5: KEOP pályázat visszafizetés | B5: K506 | C5: 0 | D5: 0 | E5: 0 | F5: =SUM(C5:E5) -> 0
A6: központi költségvetési szervek részére Lesencetomaji Mesevár Óvoda | B6: K506 | C6: 68026305 | D6: 0 | E6: 0 | F6: =SUM(C6:E6) -> 68026305
A7: központi költségvetési szervek részére Lesencetomaji Közös Önkormányzati Hivatal | B7: K506 | C7: 3915698 | D7: 0 | E7: 0 | F7: =SUM(C7:E7) -> 3915698
A8: Egyéb működési célú támogatások államháztartáson belülre | B8: K506 | C8: =SUM(C5:C7) -> 71942003 | D8: =SUM(D5:D7) -> 0 | E8: =SUM(E5:E7) -> 0 | F8: =SUM(F5:F7) -> 71942003
A9: Működési célú visszatérítendő támogatások, kölcsönök nyújtása államháztartáson kívülre | B9: K508 | C9: 0 | D9: 0 | E9: 0 | F9: =SUM(C9:E9) -> 0
A10: Árkiegészítések, ártámogatások | B10: K509 | C10: 0 | D10: 0 | E10: 0 | F10: =SUM(C10:E10) -> 0
A11: Balaton- felvidéki Szociális és Gyermekjóléti Központ | B11: K512 | C11: 1602054 | D11: 0 | E11: 0 | F11: =SUM(C11:E11) -> 1602054
A12: Házi orvos támogatása | B12: K512 | C12: 756000 | D12: 0 | E12: 0 | F12: =SUM(C12:E12) -> 756000
A13: NABE támogatása | B13: K512 | C13: 100000 | D13: 0 | E13: 0 | F13: =SUM(C13:E13) -> 100000
A14: TÖOSZ, Balatoni Szövetség, Sportegyesület, horgászegyesület | B14: K512 | C14: 1520000 | D14: 0 | E14: 0 | F14: =SUM(C14:E14) -> 1520000
A15: Egyéb működési célú támogatások államháztartáson kívülre | B15: K512 | C15: =SUM(C11:C14) -> 3978054 | D15: =SUM(D11:D14) -> 0 | E15: =SUM(E11:E14) -> 0 | F15: =SUM(F11:F14) -> 3978054
A17: 11. melléklet Balatonederics Község Önkormányzata 2020. évi költségvetéséről szóló...../2020. (II........) sz. önkormányzati rendelethez
A19: Rovat megnevezése | B19: Rovat száma | C19: ÖNKORMÁNYZAT EREDETI EI. | D19: TÁRSULÁS EREDETI EI. | E19: ÓVODA EREDETI EI. | F19: MINDÖSSZESEN EREDETI EI.
A20: Közfoglalkoztatottak finanszírozása | B20: B16 | C20: 389583 | D20: 0 | E20: 0 | F20: 0
A21: Társadalombiztosítás pénzügyi alapjai | B21: B16 | C21: 0 | D21: 0 | E21: 0 | F21: 0
A22: Egyéb működési célú támogatások bevételei államháztartáson belülről | B22: B16 | C22: 17781663 | D22: 68026305 | E22: 68026305 | F22: =SUM(C22:E22) -> 153834273
A23: Felhalmozási célú önkormányzati támogatások | B23: B21 | C23: 0 | D23: 0 | E23: 0 | F23: =SUM(C23:E23) -> 0
A24: Egyéb felhalmozási célú támogatások bevételei államháztartáson belülről | B24: B25 | C24: 0 | D24: 0 | E24: 0 | F24: =SUM(C24:E24) -> 0
A25: Felhalmozási célú támogatások államháztartáson belülről | B25: B2 | C25: =SUM(C23:C24) -> 0 | D25: =SUM(D23:D24) -> 0 | E25: =SUM(E23:E24) -> 0 | F25: =SUM(C25:E25) -> 0
A26: Működési célú visszatérítendő támogatások, kölcsönök visszatérülése államháztartáson kívülről | B26: B64 | C26: 0 | D26: 0 | E26: 0 | F26: =SUM(C26:E26) -> 0
A27: Egyéb működési célú átvett pénzeszközök | B27: B65 | C27: 0 | D27: 0 | E27: 0 | F27: =SUM(C27:E27) -> 0
A28: Működési célú átvett pénzeszközök | B28: B6 | C28: =SUM(C26:C27) -> 0 | D28: =SUM(D26:D27) -> 0 | E28: =SUM(E26:E27) -> 0 | F28: =SUM(C28:E28) -> 0
A29: Felhalmozási célú visszatérítendő támogatások, kölcsönök visszatérülése államháztartáson kívülről | B29: B74 | C29: 0 | D29: 0 | E29: 0 | F29: =SUM(C29:E29) -> 0
A30: Egyéb felhalmozási célú átvett pénzeszközök | B30: B75 | C30: 0 | D30: 0 | E30: 0 | F30: =SUM(C30:E30) -> 0
A31: Felhalmozási célú átvett pénzeszközök | B31: B7 | C31: =SUM(C29:C30) -> 0 | D31: =SUM(D29:D30) -> 0 | E31: =SUM(E29:E30) -> 0 | F31: =SUM(C31:E31) -> 0

Sheet BERUH FELÚJ
A1: BALATONEDERICS KÖZSÉG ÖNKORMÁNYZAT 2020. ÉVI KÖLTSÉGVETÉS
A2: Beruházások és felújítások (Ft)
A4: Rovat megnevezése | B4: Rovat-szám | C4: ÖNKORMÁNYZAT EREDETI EI. | D4: TÁRSULÁS EREDETI EI. | E4: ÓVODA EREDETI EI. | F4: KÖZÖSSÉGI H. EREDETI EI. | G4: MINDÖSSZESEN EREDETI EI.
G7: =SUM(C7:F7) -> 0
G8: =SUM(C8:F8) -> 0
A9: Immateriális javak beszerzése, létesítése | B9: K61 | C9: =SUM(C5:C8) -> 0 | D9: =SUM(D5:D8) -> 0 | E9: =SUM(E5:E8) -> 0 | F9: =SUM(F5:F8) -> 0 | G9: =SUM(G5:G8) -> 0
G10: =SUM(C10:F10) -> 0
G11: =SUM(C11:F11) -> 0
G12: =SUM(C12:F12) -> 0
G13: =SUM(C13:F13) -> 0
A14: Ingatlanok beszerzése, létesítése | B14: K62 | C14: =SUM(C10:C13) -> 0 | D14: =SUM(D10:D13) -> 0 | E14: =SUM(E10:E13) -> 0 | F14: =SUM(F10:F13) -> 0 | G14: =SUM(C14:F14) -> 0
G15: =SUM(C15:F15) -> 0
G16: =SUM(C16:F16) -> 0
G17: =SUM(C17:F17) -> 0
G18: =SUM(C18:F18) -> 0
A19: Informatikai eszközök beszerzése, létesítése | B19: K63 | C19: 0 | D19: 0 | E19: =SUM(E15:E18) -> 0 | F19: =SUM(F15:F18) -> 0 | G19: =SUM(C19:F19) -> 0
A20: kisértékű tárgyi eszközök beszerzése | C20: 0 | D20: 0 | E20: 0 | F20: 0 | G20: =SUM(C20:F20) -> 0
A21: Egyéb tárgyi eszközök beszerzése, létesítése | B21: K64 | C21: =SUM(C20:C20) -> 0 | D21: =SUM(D20:D20) -> 0 | E21: =SUM(E20:E20) -> 0 | F21: =SUM(F20:F20) -> 0 | G21: =SUM(G20) -> 0
G22: =SUM(C22:F22) -> 0
G23: =SUM(C23:F23) -> 0
A24: Részesedések beszerzése | B24: K65 | C24: =SUM(C22:C23) -> 0 | D24: =SUM(D22:D23) -> 0 | E24: =SUM(E22:E23) -> 0 | F24: =SUM(F22:F23) -> 0 | G24: =SUM(C24:F24) -> 0
G25: =SUM(C25:F25) -> 0
G26: =SUM(C26:F26) -> 0
A27: Meglévő részesedések növeléséhez kapcsolódó kiadások | B27: K66 | C27: =SUM(C25:C26) -> 0 | D27: =SUM(D25:D26) -> 0 | E27: =SUM(E25:E26) -> 0 | F27: =SUM(F25:F26) -> 0 | G27: =SUM(C27:F27) -> 0
A28: Beruházási célú előzetesen felszámított általános forgalmi adó | B28: K67 | C28: 0 | D28: 0 | E28: 0 | F28: 0 | G28: =SUM(C28:F28) -> 0
A29: Beruházások | B29: K6 | C29: =SUM(C27,C24,C21,C19,C14,C9,C28) -> 0 | D29: =SUM(D27,D24,D21,D19,D14,D9,D28) -> 0 | E29: =SUM(E27,E24,E21,E19,E14,E9,E28) -> 0 | F29: =SUM(F27,F24,F21,F19,F14,F9,F28) -> 0 | G29: =SUM(G9+G14+G19+G21+G24+G27+G28) -> 0
A30: Általános ingatlan felújítási keret | C30: 0 | G30: =SUM(C30:F30) -> 0
A31: Erdősor vis maior védekezés, helyreállítás ( támogatásból ) | C31: 0 | G31: =SUM(C31:F31) -> 0
G32: =SUM(C32:F32) -> 0
G33: =SUM(C33:F33) -> 0
A34: Ingatlanok felújítása | B34: K71 | C34: 77578242 | D34: =SUM(D30:D33) -> 0 | E34: =SUM(E30:E33) -> 0 | F34: =SUM(F30:F33) -> 0 | G34: =SUM(G30:G33) -> 0
G35: =SUM(C35:F35) -> 0
G36: =SUM(C36:F36) -> 0
G37: =SUM(C37:F37) -> 0
G38: =SUM(C38:F38) -> 0
A39: Informatikai eszközök felújítása | B39: K72 | C39: 0 | D39: 0 | E39: =SUM(E35:E38) -> 0 | F39: =SUM(F35:F38) -> 0 | G39: =SUM(C39:F39) -> 0
G40: =SUM(C40:F40) -> 0
G41: =SUM(C41:F41) -> 0
G42: =SUM(C42:F42) -> 0
G43: =SUM(C43:F43) -> 0
A44: Egyéb tárgyi eszközök felújítása | B44: K73 | C44: =SUM(C40:C43) -> 0 | D44: =SUM(D40:D43) -> 0 | E44: =SUM(E40:E43) -> 0 | F44: =SUM(F40:F43) -> 0 | G44: =SUM(C44:F44) -> 0
A45: Felújítási célú előzetesen felszámított általános forgalmi adó | B45: K74 | C45: 21533391 | G45: =SUM(C45:F45) -> 21533391
A46: Felújítások | B46: K7 | C46: =SUM(C44,C39,C34,C45) -> 99111633 | D46: =SUM(D44,D39,D34,D45) -> 0 | E46: =SUM(E44,E39,E34,E45) -> 0 | F46: =SUM(F44,F39,F34,F45) -> 0 | G46: =SUM(G44,G39,G34,G45) -> 21533391
A48: beruházás nettó | C48: =SUM(C9+C14+C19+C21+C24+C27) -> 0 | D48: =SUM(D9+D14+D19+D21+D24+D27) -> 0 | E48: =SUM(E9+E14+E19+E21+E24+E27) -> 0 | F48: =SUM(F9+F14+F19+F21+F24+F27) -> 0 | G48: =SUM(G9+G14+G19+G21+G24+G27) -> 0
A49: beruházás áfa | C49: =SUM(C28) -> 0 | D49: =SUM(D28) -> 0 | E49: =SUM(E28) -> 0 | F49: =SUM(F28) -> 0 | G49: =SUM(G28) -> 0
A50: beruházás | C50: =SUM(C48:C49) -> 0 | D50: =SUM(D48:D49) -> 0 | E50: =SUM(E48:E49) -> 0 | F50: =SUM(F48:F49) -> 0 | G50: =SUM(G48:G49) -> 0
A52: felújíás nettó | C52: =SUM(C34+C39+C44) -> 77578242 | D52: =SUM(D34+D39+D44) -> 0 | E52: =SUM(E34+E39+E44) -> 0 | F52: =SUM(F34+F39+F44) -> 0 | G52: =SUM(G34+G39+G44) -> 0
A53: felújítás áfa | C53: =SUM(C45) -> 21533391 | D53: =SUM(D45) -> 0 | E53: =SUM(E45) -> 0 | F53: =SUM(F45) -> 0 | G53: =SUM(G45) -> 21533391
A54: felújítás | C54: =SUM(C52:C53) -> 99111633 | D54: =SUM(D52:D53) -> 0 | E54: =SUM(E52:E53) -> 0 | F54: =SUM(F52:F53) -> 0 | G54: =SUM(G52:G53) -> 21533391
C56: =SUM(C50+C54) -> 99111633 | D56: =SUM(D50+D54) -> 0 | E56: =SUM(E50+E54) -> 0 | F56: =SUM(F50+F54) -> 0 | G56: =SUM(G50+G54) -> 21533391

Sheet TARTALÉKOK
A1: BALATONEDERICS KÖZSÉG ÖNKORMÁNYZAT 2020. ÉVI KÖLTSÉGVETÉS
A2: Tartalékok (Ft)
A4: Rovat megnevezése | B4: Rovat-szám | C4: ÖNKORMÁNYZAT EREDETI EI. | D4: TÁRSULÁS EREDETI EI. | E4: ÓVODA EREDETI EI. | F4: KÖZÖSSÉGI H. EREDETI EI. | G4: MINDÖSSZESEN EREDETI EI.
A5: általános tartalék | C5: 0 | D5: 0 | E5: 0 | F5: 0 | G5: =SUM(C5:F5) -> 0 | I5: 0 | J5: =SUM(C5-I5) -> 0
A9: Általános tartalékok összesen | B9: K512 | C9: =SUM(C5:C8) -> 0 | D9: =SUM(D5:D8) -> 0 | E9: =SUM(E5:E8) -> 0 | F9: =SUM(F5:F8) -> 0 | G9: =SUM(G5:G8) -> 0
A12: Céltartalékok összesen | B12: K512 | C12: =SUM(C10:C11) -> 0 | D12: =SUM(D10:D11) -> 0 | E12: =SUM(E10:E11) -> 0 | F12: =SUM(F10:F11) -> 0 | G12: =SUM(G10:G11) -> 0
A13: TARTALÉKOK ÖSSZESEN | C13: =SUM(C12,C9) -> 0 | D13: =SUM(D12,D9) -> 0 | E13: =SUM(E12,E9) -> 0 | F13: =SUM(F12,F9) -> 0 | G13: =SUM(G12,G9) -> 0

Sheet STABILTÁSI  1
A1: BALATONEDERICS KÖZSÉG ÖNKORMÁNYZAT 2020. ÉVI KÖLTSÉGVETÉS
A2: A költségvetési év azon fejlesztési céljai, amelyek megvalósításához a Gst. 3. § (1) bekezdése szerinti adósságot keletkeztető ügylet megkötése válik vagy válhat szükségessé (Ft)
A3: Balatonederics Község Önkormányzat 2020. évre adósságot keletkeztető ügyletet nem tervez
A4: ÖNKORMÁNYZATI ELŐIRÁNYZATOK
A5: Rovat megnevezése | B5: Rovat-szám | C5: kiadási eredeti előirányzat | D5: ebből kiadási előirányzat fedezete-saját forrás | E5: ebből kiadási előirányzat fedezete-adósságot keletkeztető ügylet | F5: adósságot keletkeztető ügylet fajtájahitel/lízing/kölcsön/értékpapír | G5: adósságot keletkeztető ügylet rovatszáma (B8) | H5: adósságot keletkeztető ügylet kezdő időpontja | I5: adósságot keletkeztető ügylet lejárati időpontja | J5: adósságot keletkeztető ügylet- várható visszatérítendő összege (kamattal) leáratig mindösszesen
A8: Immateriális javak beszerzése, létesítése | B8: K61 | C8: =SUM(C7:C7) -> 0 | D8: =SUM(D7:D7) -> 0 | E8: =SUM(E7:E7) -> 0
A11: Ingatlanok beszerzése, létesítése | B11: K62 | C11: =SUM(C9:C10) -> 0 | D11: =SUM(D9:D10) -> 0 | E11: =SUM(E9:E10) -> 0
A14: Informatikai eszközök beszerzése, létesítése | B14: K63 | C14: =SUM(C12:C13) -> 0 | D14: =SUM(D12:D13) -> 0 | E14: =SUM(E12:E13) -> 0
A17: Egyéb tárgyi eszközök beszerzése, létesítése | B17: K64 | C17: =SUM(C15:C16) -> 0 | D17: =SUM(D15:D16) -> 0 | E17: =SUM(E15:E16) -> 0
A20: Részesedések beszerzése | B20: K65 | C20: =SUM(C18:C19) -> 0 | D20: =SUM(D18:D19) -> 0 | E20: =SUM(E18:E19) -> 0
A23: Meglévő részesedések növeléséhez kapcsolódó kiadások | B23: K66 | C23: =SUM(C21:C22) -> 0 | D23: =SUM(D21:D22) -> 0 | E23: =SUM(E21:E22) -> 0
A24: Beruházási célú előzetesen felszámított általános forgalmi adó | B24: K67
A25: Beruházások | B25: K6 | C25: =SUM(C23,C20,C17,C14,C11,C8,C24) -> 0 | D25: =SUM(D23,D20,D17,D14,D11,D8,D24) -> 0 | E25: =SUM(E23,E20,E17,E14,E11,E8,E24) -> 0
A28: Ingatlanok felújítása | B28: K71 | C28: =SUM(C26:C27) -> 0 | D28: =SUM(D26:D27) -> 0 | E28: =SUM(E26:E27) -> 0
A31: Informatikai eszközök felújítása | B31: K72 | C31: =SUM(C29:C30) -> 0 | D31: =SUM(D29:D30) -> 0 | E31: =SUM(E29:E30) -> 0
A34: Egyéb tárgyi eszközök felújítása | B34: K73 | C34: =SUM(C32:C33) -> 0 | D34: =SUM(D32:D33) -> 0 | E34: =SUM(E32:E33) -> 0
A35: Felújítási célú előzetesen felszámított általános forgalmi adó | B35: K74
A36: Felújítások | B36: K7 | C36: =SUM(C34,C31,C28,C35) -> 0 | D36: =SUM(D34,D31,D28,D35) -> 0 | E36: =SUM(E34,E31,E28,E35) -> 0
A37: Az önkormányzati garanciákból és önkormányzati kezességekből fennálló kötelezettségek az adósságot keletkeztető ügyletek futamidejének végéig, illetve a garancia, kezesség érvényesíthetőségéig
A38: ebből:
A39: ebből:
A40: ebből:
A43: Adósságot keletkeztető ügylet és annak értéke:
A45: a) hitel, kölcsön felvétele, átvállalása a folyósítás, átvállalás napjától a végtörlesztés napjáig, és annak aktuális tőketartozása,
A46: b) a számvitelről szóló törvény (a továbbiakban: Szt.) szerinti hitelviszonyt megtestesítő értékpapír forgalomba hozatala a forgalomba hozatal napjától a beváltás napjáig, kamatozó értékpapír esetén annak névértéke, egyéb értékpapír esetén annak vételára,
A47: c) váltó kibocsátása a kibocsátás napjától a beváltás napjáig, és annak a váltóval kiváltott kötelezettséggel megegyező, kamatot nem tartalmazó értéke,
A48: d) az Szt. szerint pénzügyi lízing lízingbevevői félként történő megkötése a lízing futamideje alatt, és a lízingszerződésben kikötött tőkerész hátralévő összege,
A49: e) a visszavásárlási kötelezettség kikötésével megkötött adásvételi szerződés eladói félként történő megkötése - ideértve az Szt. szerinti valódi penziós és óvadéki repóügyleteket is - a visszavásárlásig, és a kikötött visszavásárlási ár,
A50: f) a szerződésben kapott, legalább háromszázhatvanöt nap időtartamú halasztott fizetés, részletfizetés, és a még ki nem fizetett ellenérték,
A51: g) hitelintézetek által, származékos műveletek különbözeteként az Államadósság Kezelő Központ Zrt.-nél (a továbbiakban: ÁKK Zrt.) elhelyezett fedezeti betétek, és azok összege.
A52: (2) Az (1) bekezdés szerinti adósságot keletkeztető ügyletként nem kell figyelembe venni a költségvetési év első hat hónapjában lejáró adósság előző költségvetési évben történő előfinanszírozását, amelynek összege nem haladja meg a költségvetési év első hat hónapja során várható törlesztések összegét.

Sheet STABILITÁSI 2
A1: BALATONEDERICS KÖZSÉG ÖNKORMÁNYZAT 2020. ÉVI KÖLTSÉGVETÉS
A2: A Gst. 3. § (1) bekezdése szerinti adósságot keletkeztető ügyletekből és kezességvállalásokból fennálló kötelezettségek az adósságot keletkeztető ügyletek futamidejének végéig, illetve a kezesség érvényesíthetőségéig, és a Gst. 45. § (1) bekezdés a) pontja felhatalmazása alapján kiadott jogszabályban meghatározottak szerinti saját bevételek (Ft)
A3: Balatonederics Község Önkormányzat 2020. évre adósságot keletkeztető ügyletet nem tervez
A4: ÖNKORMÁNYZATI ELŐIRÁNYZATOK
A5: Rovat megnevezése | B5: Rovat-szám | C5: adósságot keletkeztető ügylet kezdő időpontja | D5: adósságot keletkeztető ügylet lejárati időpontja | E5: adósságot keletkeztető ügyletekből és kezességvállalásokból fennálló kötelezettségek
A6: Hosszú lejáratú hitelek, kölcsönök felvétele | B6: B8111
A7: ebből: pénzügyi vállalkozás | B7: B8111
A8: Likviditási célú hitelek, kölcsönök felvétele pénzügyi vállalkozástól | B8: B8112
A9: Rövid lejáratú hitelek, kölcsönök felvétele | B9: B8113
A10: ebből: pénzügyi vállalkozás | B10: B8113
A11: Hitel-, kölcsönfelvétel államháztartáson kívülről | B11: B811
A12: Forgatási célú belföldi értékpapírok beváltása, értékesítése | B12: B8121
A13: ebből: befektetési jegyek | B13: B8121
A14: Forgatási célú belföldi értékpapírok kibocsátása | B14: B8122
A15: Befektetési célú belföldi értékpapírok beváltása, értékesítése | B15: B8123
A16: ebből: kárpótlási jegyek | B16: B8123
A17: Befektetési célú belföldi értékpapírok kibocsátása | B17: B8124
... A26: Külföldi finanszírozás bevételei | B26: B82
A28: Rovat megnevezése | B28: Rovat-szám | C28: saját bevételek 2020. | D28: saját bevételek 2021. | E28: saját bevételek 2022. | F28: saját bevételek 2023. | G28: saját bevételek 2024.
A29: 353/2011. (XII. 30.) Korm. Rendelet értelmében az önkormányzat saját bevételének minősül
A30: 1.a helyi adóból és a települési adóból származó bevétel,
A31: 2. az önkormányzati vagyon és az önkormányzatot megillető vagyoni értékű jog értékesítéséből és hasznosításából származó bevétel,
A32: 3. az osztalék, a koncessziós díj és a hozambevétel,
A33: 4. a tárgyi eszköz és az immateriális jószág, részvény, részesedés, vállalat értékesítéséből vagy privatizációból származó bevétel,
A34: 5. bírság-, pótlék- és díjbevétel,
A35: 6. a kezesség-, illetve garanciavállalással kapcsolatos megtérülés.
A36: ÖSSZESEN:
A39: Az önkormányzat adósságot keletkeztető ügyletből származó tárgyévi összes fizetési kötelezettsége az adósságot keletkeztető ügylet futamidejének végéig egyik évben sem haladhatja meg az önkormányzat adott évi saját bevételeinek 50%-át.

Sheet HITEL
A1: BALATONEDERICS KÖZSÉG ÖNKORMÁNYZAT 2020. ÉVI KÖLTSÉGVETÉS
A2: A költségvetési hiány külső finanszírozására vagy a költségvetési többlet felhasználására szolgáló finanszírozási bevételek és kiadások működési és felhalmozási cél szerinti tagolásban (Ft)
A3: Balatonederics Község Önkormányzat 2020. évben hitel felvételt nem tervez.
A4: ÖNKORMÁNYZATI ELŐIRÁNYZATOK
A5: Megnevezés | B5: Rovat-szám | C5: eredeti ei. Működési célú | D5: eredeti ei. Felhalmozási célú
A6: Hosszú lejáratú hitelek, kölcsönök törlesztése | B6: K9111
A7: ebből: pénzügyi vállalkozás | B7: K9111
A8: ebből: fedezeti ügyletek nettó kiadásai | B8: K9111
A9: Likviditási célú hitelek, kölcsönök törlesztése pénzügyi vállalkozásnak | B9: K9112
A10: Rövid lejáratú hitelek, kölcsönök törlesztése | B10: K9113
A11: ebből: pénzügyi vállalkozás | B11: K9113
A12: ebből: fedezeti ügyletek nettó kiadásai | B12: K9113
A13: Hitel-, kölcsöntörlesztés államháztartáson kívülre | B13: K911
A14: Forgatási célú belföldi értékpapírok vásárlása | B14: K9121
A15: ebből: befektetési jegyek | B15: K9121
A16: ebből: kárpótlási jegyek | B16: K9121
A17: Forgatási célú belföldi értékpapírok beváltása | B17: K9122
... A39: Külföldi finanszírozás kiadásai | B39: K92
A42: Megnevezés | B42: Rovat-szám | C42: eredeti ei. Működési célú | D42: eredeti ei. Felhalmozási célú
A43: Hosszú lejáratú hitelek, kölcsönök felvétele | B43: B8111
A44: ebből: pénzügyi vállalkozás | B44: B8111
A45: Likviditási célú hitelek, kölcsönök felvétele pénzügyi vállalkozástól | B45: B8112
A46: Rövid lejáratú hitelek, kölcsönök felvétele | B46: B8113
A47: ebből: pénzügyi vállalkozás | B47: B8113
A48: Hitel-, kölcsönfelvétel államháztartáson kívülről | B48: B811
A49: Forgatási célú belföldi értékpapírok beváltása, értékesítése | B49: B8121
A50: ebből: befektetési jegyek | B50: B8121
A51: Forgatási célú belföldi értékpapírok kibocsátása | B51: B8122
A52: Befektetési célú belföldi értékpapírok beváltása, értékesítése | B52: B8123
A53: ebből: kárpótlási jegyek | B53: B8123
A54: Befektetési célú belföldi értékpapírok kibocsátása | B54: B8124
... A69: Külföldi finanszírozás bevételei | B69: B82

Sheet EU PROJEKT
A1: BALATONEDERICS KÖZSÉG ÖNKORMÁNYZAT 2020. ÉVI KÖLTSÉGVETÉS
A2: Az európai uniós forrásból finanszírozott támogatással megvalósuló programok, projektek kiadásai, bevételei, valamint a helyi önkormányzat ilyen projektekhez történő hozzájárulásai (Ft)
A4: ÖNKORMÁNYZATI ELŐIRÁNYZATOK
A5: ASP | B5: Eredeti ei.
A6: K1. Személyi juttatások
A7: K2. Munkaadókat terhelő járulékok és szociális hozzájárulási adó
A8: K3. Dologi kiadások
A9: K4. Ellátottak pénzbeli juttatásai
A10: K5. Egyéb működési célú kiadások
A11: K6. Beruházási kiadások
A12: K7. Felújítások
A13: K8. Egyéb felhalmozási célú kiadások
A14: K1-K8. Költségvetési kiadások ÖSSZESEN | B14: =SUM(B6:B13) -> 0
A15: B16 Működési célú támogatások fejezeti kezelésű előirányzatok EU-s programokra és azok hazai társfinanszírozásától
A16: B25 Felhalmozási célú támogatásokfejezeti kezelésű előirányzatok EU-s programokra és azok hazai társfinanszírozásától
A17: B63 Működési célú átvett pénzeszközök Európai Uniótól
A18: B73 Felhalmozási célú átvett pénzeszközök Európai Uniótól
A19: B1-7 A helyi önkormányzat projekthez történő hozzájárulása
A20: B1-B7 Költségvetési bevételek | B20: =SUM(B15:B19) -> 0
A21: B8 Finanszírozási bevételek- önkormányzat projekthez történő hozzájárulása
A22: BEVÉTELEK ÖSSZESEN | B22: =SUM(B20:B21) -> 0
A25: Projekt megnevezése | B25: Eredeti ei.
A26: K1. Személyi juttatások
A27: K2. Munkaadókat terhelő járulékok és szociális hozzájárulási adó
A28: K3. Dologi kiadások
A29: K4. Ellátottak pénzbeli juttatásai
A30: K5. Egyéb működési célú kiadások
A31: K6. Beruházási kiadások
A32: K7. Felújítások
A33: K8. Egyéb felhalmozási célú kiadások
A34: K1-K8. Költségvetési kiadások ÖSSZESEN | B34: =SUM(B26:B33) -> 0
A35: B16 Működési célú támogatások fejezeti kezelésű előirányzatok EU-s programokra és azok hazai társfinanszírozásától
A36: B25 Felhalmozási célú támogatásokfejezeti kezelésű előirányzatok EU-s programokra és azok hazai társfinanszírozásától
A37: B63 Működési célú átvett pénzeszközök Európai Uniótól
A38: B73 Felhalmozási célú átvett pénzeszközök Európai Uniótól
A39: B1-7 A helyi önkormányzat projekthez történő hozzájárulása
A40: B1-B7 Költségvetési bevételek | B40: =SUM(B35:B39) -> 0
A41: B8 Finanszírozási bevételek- önkormányzat projekthez történő hozzájárulása
A42: BEVÉTELEK ÖSSZESEN | B42: =SUM(B40:B41) -> 0

Sheet INT FINANSZÍROZÁS
A1: BALATONEDERICS KÖZSÉG ÖNKORMÁNYZAT 2020. ÉVI KÖLTSÉGVETÉS
A2: Irányító szervi támogatások folyósítása (Ft)
A4: ÖNKORMÁNYZATI ELŐIRÁNYZATOK
A5: Megnevezés | B5: Rovat-szám | C5: ÖNKORMÁNYZAT EREDETI EI. | D5: TÁRSULÁS EREDETI EI. | E5: ÓVODA EREDETI EI. | F5: MINDÖSSZESEN EREDETI EI.
A6: Központi, irányító szervi támogatások folyósítása működési célra | B6: K915 | D6: 68026305 | E6: 0 | F6: =SUM(D6:E6) -> 68026305
A7: Központi, irányító szervi támogatások folyósítása felhalmozási célra | B7: K915 | D7: 0 | E7: 0 | F7: =SUM(D7:E7) -> 0
A8: ÖSSZESEN: | D8: =SUM(D6:D7) -> 68026305 | E8: =SUM(E6:E7) -> 0 | F8: =SUM(F6:F7) -> 68026305
D12: =SUM('BEVÉTELEK TÁRSULÁS'!C87) -> 0 | E12: =SUM(D87) -> 0 | F12: =SUM('KIADÁSOK ÖNK'!D113) -> 23938271

Sheet HELYI ADÓ
A1: BALATONEDERICS KÖZSÉG ÖNKORMÁNYZAT 2020. ÉVI KÖLTSÉGVETÉS
A2: Helyi adók (Ft)
A5: Rovat megnevezése | B5: Rovat száma | C5: ÖNKORMÁNYZAT EREDETI EI.
A6: Szociális hozzájárulási adó és járulékok | B6: B32
A7: Bérhez és foglalkoztatáshoz kapcsolódó adók | B7: B33
A8: építmény adó | B8: B34 | C8: 21565687
A9: telekadó | B9: B34 | C9: 1344804
A10: Vagyoni tipusú adók | B10: B34 | C10: =SUM(C8:C9) -> 22910491
A11: Értékesítési és forgalmi adók - Iparűzési adó | B11: B351 | C11: 13591064
A12: Fogyasztási adók | B12: B352
A13: Pénzügyi monopóliumok nyereségét terhelő adók | B13: B353
A14: Gépjárműadók | B14: B354 | C14: 3229810
A15: Egyéb áruhasználati és szolgáltatási adók | B15: B355 | C15: 1794230
A16: Termékek és szolgáltatások adói | B16: B35 | C16: =SUM(C11:C15) -> 18615104
A17: Egyéb közhatalmi bevételek - pótlék, bírság, talajterhelési díj egyéb bevétel | B17: B36 | C17: 49870
A18: Közhatalmi bevételek | B18: B3 | C18: =SUM(C10+C16+C17) -> 41575465

Sheet EI FELH ÜTEMTERV
B1: Előterjesztés része
A2: BALATONEDERICS KÖZSÉG ÖNKORMÁNYZAT 2020. ÉVI KÖLTSÉGVETÉS
A3: Előirányzat felhasználási ütemterv (Ft)
A5: ÖNKORMÁNYZAT ÉS KÖLTSÉGVETÉSI SZERVEI ELŐIRÁNYZATA MINDÖSSZESEN
A6: Sor- szám | B6: Rovat megnevezése | C6: Rovat száma | D6: EREDETI EI. | E6: JANUÁR | F6: FEBRUÁR | G6: MÁRCIUS | H6: ÁPRILIS | I6: MÁJUS | J6: JÚNIUS | K6: JÚLIUS | L6: AUGUSZTUS | M6: SZEPTEMBER | N6: OKTÓBER | O6: NOVEMBER | P6: DECEMBER | Q6: MINDÖSSZESEN
A7: 01 | B7: Törvény szerinti illetmények, munkabérek | C7: K1101 | D7: =SUM(KIADÁSOK!G5) -> 66543499 | E7: =SUM($D$7/12) -> 5545291.6 | F7: =SUM($D$7/12) -> 5545291.6 | G7: =SUM($D$7/12) -> 5545291.6 | H7: =SUM($D$7/12) -> 5545291.6 | I7: =SUM($D$7/12) -> 5545291.6 | J7: =SUM($D$7/12) -> 5545291.6 | K7: =SUM($D$7/12) -> 5545291.6 | L7: =SUM($D$7/12) -> 5545291.6 | ... P7: =SUM($D$7/12) -> 5545291.6 | Q7: =SUM(E7:P7) -> 66543499 | R7: =SUM(Q7-D7) -> 7.4505806e-09
A8: 02 | B8: Normatív jutalmak | C8: K1102 | D8: =SUM(KIADÁSOK!G6) -> 1689975 | E8: =SUM($D$8/12) -> 140831.25 | F8: =SUM($D$8/12) -> 140831.25 | G8: =SUM($D$8/12) -> 140831.25 | H8: =SUM($D$8/12) -> 140831.25 | I8: =SUM($D$8/12) -> 140831.25 | J8: =SUM($D$8/12) -> 140831.25 | K8: =SUM($D$8/12) -> 140831.25 | L8: =SUM($D$8/12) -> 140831.25 | ... P8: =SUM($D$8/12) -> 140831.25 | Q8: =SUM(E8:P8) -> 1689975 | R8: =SUM(Q8-D8) -> 0
A9: 03 | B9: Céljuttatás, projektprémium | C9: K1103 | D9: =SUM(KIADÁSOK!G7) -> 1800000 | E9: =SUM($D$9/12) -> 150000 | F9: =SUM($D$9/12) -> 150000 | G9: =SUM($D$9/12) -> 150000 | H9: =SUM($D$9/12) -> 150000 | I9: =SUM($D$9/12) -> 150000 | J9: =SUM($D$9/12) -> 150000 | K9: =SUM($D$9/12) -> 150000 | L9: =SUM($D$9/12) -> 150000 | ... P9: =SUM($D$9/12) -> 150000 | Q9: =SUM(E9:P9) -> 1800000 | R9: =SUM(Q9-D9) -> 0
A10: 04 | B10: Készenléti, ügyeleti, helyettesítési díj, túlóra, túlszolgálat | C10: K1104 | D10: =SUM(KIADÁSOK!G8) -> 0 | E10: =SUM($D$10/12) -> 0 | F10: 0 | G10: 0 | H10: 0 | I10: 0 | J10: 0 | K10: 0 | L10: 0 | M10: 0 | N10: 0 | O10: 0 | P10: 0 | Q10: =SUM(E10:P10) -> 0 | R10: =SUM(Q10-D10) -> 0
A11: 05 | B11: Végkielégítés | C11: K1105 | D11: =SUM(KIADÁSOK!G9) -> 0 | E11: =SUM($D$11/12) -> 0 | F11: 0 | G11: 0 | H11: 0 | I11: 0 | J11: 0 | K11: 0 | L11: 0 | M11: 0 | N11: 0 | O11: 0 | P11: 0 | Q11: =SUM(E11:P11) -> 0 | R11: =SUM(Q11-D11) -> 0
A12: 06 | B12: Jubileumi jutalom | C12: K1106 | D12: =SUM(KIADÁSOK!G10) -> 0 | E12: =SUM($D$12/12) -> 0 | F12: 0 | G12: 0 | H12: 0 | I12: 0 | J12: 0 | K12: 0 | L12: 0 | M12: 0 | N12: 0 | O12: 0 | P12: 0 | Q12: =SUM(E12:P12) -> 0 | R12: =SUM(Q12-D12) -> 0
A13: 07 | B13: Béren kívüli juttatások | C13: K1107 | D13: =SUM(KIADÁSOK!G11) -> 2382944 | E13: 0 | F13: 0 | G13: =SUM($D$13/4) -> 595736 | H13: 0 | I13: 0 | J13: =SUM($D$13/4) -> 595736 | K13: 0 | L13: 0 | M13: =SUM($D$13/4) -> 595736 | N13: 0 | O13: =SUM($D$13/4) -> 595736 | P13: 0 | Q13: =SUM(E13:P13) -> 2382944 | R13: =SUM(Q13-D13) -> 0
A14: 08 | B14: Ruházati költségtérítés | C14: K1108 | D14: =SUM(KIADÁSOK!G12) -> 0 | E14: =SUM($D$14/12) -> 0 | F14: =SUM($D$14/12) -> 0 | G14: =SUM($D$14/12) -> 0 | H14: =SUM($D$14/12) -> 0 | I14: =SUM($D$14/12) -> 0 | J14: =SUM($D$14/12) -> 0 | K14: =SUM($D$14/12) -> 0 | L14: =SUM($D$14/12) -> 0 | ... P14: =SUM($D$14/12) -> 0 | Q14: =SUM(E14:P14) -> 0 | R14: =SUM(Q14-D14) -> 0
A15: 09 | B15: Közlekedési költségtérítés | C15: K1109 | D15: =SUM(KIADÁSOK!G13) -> 528000 | E15: =SUM($D$15/12) -> 44000 | F15: =SUM($D$15/12) -> 44000 | G15: =SUM($D$15/12) -> 44000 | H15: =SUM($D$15/12) -> 44000 | I15: =SUM($D$15/12) -> 44000 | J15: =SUM($D$15/12) -> 44000 | K15: =SUM($D$15/12) -> 44000 | L15: =SUM($D$15/12) -> 44000 | ... P15: =SUM($D$15/12) -> 44000 | Q15: =SUM(E15:P15) -> 528000 | R15: =SUM(Q15-D15) -> 0
A16: 10 | B16: Egyéb költségtérítések | C16: K1110 | D16: =SUM(KIADÁSOK!G14) -> 0 | E16: =SUM($D$16/12) -> 0 | F16: =SUM($D$16/12) -> 0 | G16: =SUM($D$16/12) -> 0 | H16: =SUM($D$16/12) -> 0 | I16: =SUM($D$16/12) -> 0 | J16: =SUM($D$16/12) -> 0 | K16: =SUM($D$16/12) -> 0 | L16: =SUM($D$16/12) -> 0 | ... P16: =SUM($D$16/12) -> 0 | Q16: =SUM(E16:P16) -> 0 | R16: =SUM(Q16-D16) -> 0
A17: 11 | B17: Lakhatási támogatások | C17: K1111 | D17: =SUM(KIADÁSOK!G15) -> 0 | E17: =SUM($D$17/12) -> 0 | F17: =SUM($D$17/12) -> 0 | G17: =SUM($D$17/12) -> 0 | H17: =SUM($D$17/12) -> 0 | I17: =SUM($D$17/12) -> 0 | J17: =SUM($D$17/12) -> 0 | K17: =SUM($D$17/12) -> 0 | L17: =SUM($D$17/12) -> 0 | ... P17: =SUM($D$17/12) -> 0 | Q17: =SUM(E17:P17) -> 0 | R17: =SUM(Q17-D17) -> 0
A18: 12 | B18: Szociális támogatások | C18: K1112 | D18: =SUM(KIADÁSOK!G16) -> 0 | E18: =SUM($D$12/12) -> 0 | F18: =SUM($D$12/12) -> 0 | G18: =SUM($D$12/12) -> 0 | H18: =SUM($D$12/12) -> 0 | I18: =SUM($D$12/12) -> 0 | J18: =SUM($D$12/12) -> 0 | K18: =SUM($D$12/12) -> 0 | L18: =SUM($D$12/12) -> 0 | ... P18: =SUM($D$12/12) -> 0 | Q18: =SUM(E18:P18) -> 0 | R18: =SUM(Q18-D18) -> 0
A19: 13 | B19: Foglalkoztatottak egyéb személyi juttatásai | C19: K1113 | D19: =SUM(KIADÁSOK!G17) -> 319713 | E19: =SUM($D$19/12) -> 26642.75 | F19: =SUM($D$19/12) -> 26642.75 | G19: =SUM($D$19/12) -> 26642.75 | H19: =SUM($D$19/12) -> 26642.75 | I19: =SUM($D$19/12) -> 26642.75 | J19: =SUM($D$19/12) -> 26642.75 | K19: =SUM($D$19/12) -> 26642.75 | L19: =SUM($D$19/12) -> 26642.75 | ... P19: =SUM($D$19/12) -> 26642.75 | Q19: =SUM(E19:P19) -> 319713 | R19: =SUM(Q19-D19) -> 0
A20: 14 | B20: Foglalkoztatottak személyi juttatásai (=01+…+13) | C20: K11 | D20: =SUM(KIADÁSOK!G18) -> 0 | E20: =SUM($D$20/12) -> 0 | F20: 0 | G20: 0 | H20: 0 | I20: 0 | J20: 0 | K20: 0 | L20: 0 | M20: 0 | N20: 0 | O20: 0 | P20: 0 | Q20: =SUM(E20:P20) -> 0 | R20: =SUM(Q20-D20) -> 0
A21: 15 | B21: Választott tisztségviselők juttatásai | C21: K121 | D21: =SUM(KIADÁSOK!G19) -> 8305848 | E21: =SUM($D$21/12) -> 692154 | F21: =SUM($D$21/12) -> 692154 | G21: =SUM($D$21/12) -> 692154 | H21: =SUM($D$21/12) -> 692154 | I21: =SUM($D$21/12) -> 692154 | J21: =SUM($D$21/12) -> 692154 | K21: =SUM($D$21/12) -> 692154 | L21: =SUM($D$21/12) -> 692154 | ... P21: =SUM($D$21/12) -> 692154 | Q21: =SUM(E21:P21) -> 8305848 | R21: =SUM(Q21-D21) -> 0
A22: 16 | B22: Munkavégzésre irányuló egyéb jogviszonyban nem saját foglalkoztatottnak fizetett juttatások | C22: K122 | D22: =SUM(KIADÁSOK!G20) -> 320000 | E22: =SUM($D$22/12) -> 26666.667 | F22: =SUM($D$22/12) -> 26666.667 | G22: =SUM($D$22/12) -> 26666.667 | H22: =SUM($D$22/12) -> 26666.667 | I22: =SUM($D$22/12) -> 26666.667 | J22: =SUM($D$22/12) -> 26666.667 | K22: =SUM($D$22/12) -> 26666.667 | L22: =SUM($D$22/12) -> 26666.667 | ... P22: =SUM($D$22/12) -> 26666.667 | Q22: =SUM(E22:P22) -> 320000 | R22: =SUM(Q22-D22) -> 0
A23: 17 | B23: Egyéb külső személyi juttatások | C23: K123 | D23: =SUM(KIADÁSOK!G21) -> 0 | E23: =SUM($D$23/12) -> 0 | F23: =SUM($D$23/12) -> 0 | G23: =SUM($D$23/12) -> 0 | H23: =SUM($D$23/12) -> 0 | I23: =SUM($D$23/12) -> 0 | J23: =SUM($D$23/12) -> 0 | K23: =SUM($D$23/12) -> 0 | L23: =SUM($D$23/12) -> 0 | ... P23: =SUM($D$23/12) -> 0 | Q23: =SUM(E23:P23) -> 0 | R23: =SUM(Q23-D23) -> 0
A24: 18 | B24: Külső személyi juttatások (=15+16+17) | C24: K12 | D24: =SUM(KIADÁSOK!G22) -> 0 | E24: =SUM($D$24/12) -> 0 | F24: =SUM($D$24/12) -> 0 | G24: =SUM($D$24/12) -> 0 | H24: =SUM($D$24/12) -> 0 | I24: =SUM($D$24/12) -> 0 | J24: =SUM($D$24/12) -> 0 | K24: =SUM($D$24/12) -> 0 | L24: =SUM($D$24/12) -> 0 | ... P24: =SUM($D$24/12) -> 0 | Q24: =SUM(E24:P24) -> 0 | R24: =SUM(Q24-D24) -> 0
A25: 19 | B25: Személyi juttatások (=14+18) | C25: K1 | D25: =SUM(D7:D24) -> 81889979 | E25: =SUM(E7:E24) -> 6625586.2 | F25: =SUM(F7:F24) -> 6625586.2 | G25: =SUM(G7:G24) -> 7221322.2 | H25: =SUM(H7:H24) -> 6625586.2 | I25: =SUM(I7:I24) -> 6625586.2 | J25: =SUM(J7:J24) -> 7221322.2 | K25: =SUM(K7:K24) -> 6625586.2 | ... Q25: =SUM(Q7:Q24) -> 81889979 | R25: =SUM(Q25-D25) -> 0
A26: 20 | B26: Munkaadókat terhelő járulékok és szociális hozzájárulási adó | C26: K2 | D26: =SUM(KIADÁSOK!G24) -> 16253342 | E26: =SUM($D$26/12) -> 1354445.2 | F26: =SUM($D$26/12) -> 1354445.2 | G26: =SUM($D$26/12) -> 1354445.2 | H26: =SUM($D$26/12) -> 1354445.2 | I26: =SUM($D$26/12) -> 1354445.2 | J26: =SUM($D$26/12) -> 1354445.2 | K26: =SUM($D$26/12) -> 1354445.2 | L26: =SUM($D$26/12) -> 1354445.2 | ... P26: =SUM($D$26/12) -> 1354445.2 | Q26: =SUM(E26:P26) -> 16253342 | R26: =SUM(Q26-D26) -> -1.8626451e-09
A27: 21 | B27: Szakmai anyagok beszerzése | C27: K311 | D27: =SUM(KIADÁSOK!G25) -> 292000 | E27: =SUM($D$27/12) -> 24333.333 | F27: =SUM($D$27/12) -> 24333.333 | G27: =SUM($D$27/12) -> 24333.333 | H27: =SUM($D$27/12) -> 24333.333 | I27: =SUM($D$27/12) -> 24333.333 | J27: =SUM($D$27/12) -> 24333.333 | K27: =SUM($D$27/12) -> 24333.333 | L27: =SUM($D$27/12) -> 24333.333 | ... P27: =SUM($D$27/12) -> 24333.333 | Q27: =SUM(E27:P27) -> 292000 | R27: =SUM(Q27-D27) -> 0
A28: 22 | B28: Üzemeltetési anyagok beszerzése | C28: K312 | D28: =SUM(KIADÁSOK!G26) -> 26234823 | E28: =SUM($D$28/12) -> 2186235.2 | F28: =SUM($D$28/12) -> 2186235.2 | G28: =SUM($D$28/12) -> 2186235.2 | H28: =SUM($D$28/12) -> 2186235.2 | I28: =SUM($D$28/12) -> 2186235.2 | J28: =SUM($D$28/12) -> 2186235.2 | K28: =SUM($D$28/12) -> 2186235.2 | L28: =SUM($D$28/12) -> 2186235.2 | ... P28: =SUM($D$28/12) -> 2186235.2 | Q28: =SUM(E28:P28) -> 26234823 | R28: =SUM(Q28-D28) -> 0
A29: 23 | B29: Árubeszerzés | C29: K313 | D29: =SUM(KIADÁSOK!G27) -> 0 | E29: =SUM(D29/12) -> 0 | F29: 0 | G29: 0 | H29: 0 | I29: 0 | J29: 0 | K29: 0 | L29: 0 | M29: 0 | N29: 0 | O29: 0 | P29: 0 | Q29: =SUM(E29:P29) -> 0 | R29: =SUM(Q29-D29) -> 0
A30: 24 | B30: Készletbeszerzés (=21+22+23) | C30: K31 | D30: =SUM(D27:D29) -> 26526823 | E30: =SUM(E27:E29) -> 2210568.6 | F30: =SUM(F27:F29) -> 2210568.6 | G30: =SUM(G27:G29) -> 2210568.6 | H30: =SUM(H27:H29) -> 2210568.6 | I30: =SUM(I27:I29) -> 2210568.6 | J30: =SUM(J27:J29) -> 2210568.6 | K30: =SUM(K27:K29) -> 2210568.6 | ... Q30: =SUM(Q27:Q29) -> 26526823 | R30: =SUM(Q30-D30) -> 0
A31: 25 | B31: Informatikai szolgáltatások igénybevétele | C31: K321 | D31: =SUM(KIADÁSOK!G29) -> 0 | E31: =SUM($D$31/12) -> 0 | F31: =SUM($D$31/12) -> 0 | G31: =SUM($D$31/12) -> 0 | H31: =SUM($D$31/12) -> 0 | I31: =SUM($D$31/12) -> 0 | J31: =SUM($D$31/12) -> 0 | K31: =SUM($D$31/12) -> 0 | L31: =SUM($D$31/12) -> 0 | ... P31: =SUM($D$31/12) -> 0 | Q31: =SUM(E31:P31) -> 0 | R31: =SUM(Q31-D31) -> 0
A32: 26 | B32: Egyéb kommunikációs szolgáltatások | C32: K322 | D32: =SUM(KIADÁSOK!G30) -> 1011115 | E32: =SUM($D$32/12) -> 84259.583 | F32: =SUM($D$32/12) -> 84259.583 | G32: =SUM($D$32/12) -> 84259.583 | H32: =SUM($D$32/12) -> 84259.583 | I32: =SUM($D$32/12) -> 84259.583 | J32: =SUM($D$32/12) -> 84259.583 | K32: =SUM($D$32/12) -> 84259.583 | L32: =SUM($D$32/12) -> 84259.583 | ... P32: =SUM($D$32/12) -> 84259.583 | Q32: =SUM(E32:P32) -> 1011115 | R32: =SUM(Q32-D32) -> 1.1641532e-10
A33: 27 | B33: Kommunikációs szolgáltatások (=25+26) | C33: K32 | D33: =SUM(D31:D32) -> 1011115 | E33: =SUM(E31:E32) -> 84259.583 | F33: =SUM(F31:F32) -> 84259.583 | G33: =SUM(G31:G32) -> 84259.583 | H33: =SUM(H31:H32) -> 84259.583 | I33: =SUM(I31:I32) -> 84259.583 | J33: =SUM(J31:J32) -> 84259.583 | K33: =SUM(K31:K32) -> 84259.583 | ... Q33: =SUM(Q31:Q32) -> 1011115 | R33: =SUM(Q33-D33) -> 1.1641532e-10
A34: 28 | B34: Közüzemi díjak | C34: K331 | D34: =SUM(KIADÁSOK!G32) -> 13563731 | E34: =SUM($D$34/12) -> 1130310.9 | F34: =SUM($D$34/12) -> 1130310.9 | G34: =SUM($D$34/12) -> 1130310.9 | H34: =SUM($D$34/12) -> 1130310.9 | I34: =SUM($D$34/12) -> 1130310.9 | J34: =SUM($D$34/12) -> 1130310.9 | K34: =SUM($D$34/12) -> 1130310.9 | L34: =SUM($D$34/12) -> 1130310.9 | ... P34: =SUM($D$34/12) -> 1130310.9 | Q34: =SUM(E34:P34) -> 13563731 | R34: =SUM(Q34-D34) -> -1.8626451e-09
A35: 29 | B35: Vásárolt élelmezés | C35: K332 | D35: =SUM(KIADÁSOK!G33) -> 0 | E35: =SUM(D35/12) -> 0 | F35: 0 | G35: 0 | H35: 0 | I35: 0 | J35: 0 | K35: 0 | L35: 0 | M35: 0 | N35: 0 | O35: 0 | P35: 0 | Q35: =SUM(E35:P35) -> 0 | R35: =SUM(Q35-D35) -> 0
A36: 30 | B36: Bérleti és lízing díjak | C36: K333 | D36: =SUM(KIADÁSOK!G34) -> 0 | E36: =SUM(D36/12) -> 0 | F36: 0 | G36: 0 | H36: 0 | I36: 0 | J36: 0 | K36: 0 | L36: 0 | M36: 0 | N36: 0 | O36: 0 | P36: 0 | Q36: =SUM(E36:P36) -> 0 | R36: =SUM(Q36-D36) -> 0
A37: 31 | B37: Karbantartási, kisjavítási szolgáltatások | C37: K334 | D37: =SUM(KIADÁSOK!G35) -> 7674000 | E37: =SUM($D$37/12) -> 639500 | F37: =SUM($D$37/12) -> 639500 | G37: =SUM($D$37/12) -> 639500 | H37: =SUM($D$37/12) -> 639500 | I37: =SUM($D$37/12) -> 639500 | J37: =SUM($D$37/12) -> 639500 | K37: =SUM($D$37/12) -> 639500 | L37: =SUM($D$37/12) -> 639500 | ... P37: =SUM($D$37/12) -> 639500 | Q37: =SUM(E37:P37) -> 7674000 | R37: =SUM(Q37-D37) -> 0
A38: 32 | B38: Közvetített szolgáltatások | C38: K335 | D38: =SUM(KIADÁSOK!G36) -> 11000 | E38: =SUM($D$38/12) -> 916.66667 | F38: =SUM($D$38/12) -> 916.66667 | G38: =SUM($D$38/12) -> 916.66667 | H38: =SUM($D$38/12) -> 916.66667 | I38: =SUM($D$38/12) -> 916.66667 | J38: =SUM($D$38/12) -> 916.66667 | K38: =SUM($D$38/12) -> 916.66667 | L38: =SUM($D$38/12) -> 916.66667 | ... P38: =SUM($D$38/12) -> 916.66667 | Q38: =SUM(E38:P38) -> 11000 | R38: =SUM(Q38-D38) -> -1.8189894e-12
A39: 33 | B39: Szakmai tevékenységet segítő szolgáltatások | C39: K336 | D39: =SUM(KIADÁSOK!G37) -> 3380094 | E39: =SUM($D$39/12) -> 281674.5 | F39: =SUM($D$39/12) -> 281674.5 | G39: =SUM($D$39/12) -> 281674.5 | H39: =SUM($D$39/12) -> 281674.5 | I39: =SUM($D$39/12) -> 281674.5 | J39: =SUM($D$39/12) -> 281674.5 | K39: =SUM($D$39/12) -> 281674.5 | L39: =SUM($D$39/12) -> 281674.5 | ... P39: =SUM($D$39/12) -> 281674.5 | Q39: =SUM(E39:P39) -> 3380094 | R39: =SUM(Q39-D39) -> 0
A40: 34 | B40: Egyéb szolgáltatások | C40: K337 | D40: =SUM(KIADÁSOK!G38) -> 21382000 | E40: =SUM($D$40/12) -> 1781833.3 | F40: =SUM($D$40/12) -> 1781833.3 | G40: =SUM($D$40/12) -> 1781833.3 | H40: =SUM($D$40/12) -> 1781833.3 | I40: =SUM($D$40/12) -> 1781833.3 | J40: =SUM($D$40/12) -> 1781833.3 | K40: =SUM($D$40/12) -> 1781833.3 | L40: =SUM($D$40/12) -> 1781833.3 | ... P40: =SUM($D$40/12) -> 1781833.3 | Q40: =SUM(E40:P40) -> 21382000 | R40: =SUM(Q40-D40) -> 0
A41: 35 | B41: Szolgáltatási kiadások (=28+…+34) | C41: K33 | D41: =SUM(D34:D40) -> 46010825 | E41: =SUM(E34:E40) -> 3834235.4 | F41: =SUM(F34:F40) -> 3834235.4 | G41: =SUM(G34:G40) -> 3834235.4 | H41: =SUM(H34:H40) -> 3834235.4 | I41: =SUM(I34:I40) -> 3834235.4 | J41: =SUM(J34:J40) -> 3834235.4 | K41: =SUM(K34:K40) -> 3834235.4 | ... Q41: =SUM(Q34:Q40) -> 46010825 | R41: =SUM(Q41-D41) -> 0
A42: 36 | B42: Kiküldetések kiadásai | C42: K341 | D42: =SUM(KIADÁSOK!G40) -> 3490 | E42: =SUM($D$42/12) -> 290.83333 | F42: =SUM($D$42/12) -> 290.83333 | G42: =SUM($D$42/12) -> 290.83333 | H42: =SUM($D$42/12) -> 290.83333 | I42: =SUM($D$42/12) -> 290.83333 | J42: =SUM($D$42/12) -> 290.83333 | K42: =SUM($D$42/12) -> 290.83333 | L42: =SUM($D$42/12) -> 290.83333 | ... P42: =SUM($D$42/12) -> 290.83333 | Q42: =SUM(E42:P42) -> 3490 | R42: =SUM(Q42-D42) -> 4.5474735e-13
A43: 37 | B43: Reklám- és propagandakiadások | C43: K342 | D43: =SUM(KIADÁSOK!G41) -> 1500000 | E43: =SUM($D$43/12) -> 125000 | F43: =SUM($D$43/12) -> 125000 | G43: =SUM($D$43/12) -> 125000 | H43: =SUM($D$43/12) -> 125000 | I43: =SUM($D$43/12) -> 125000 | J43: =SUM($D$43/12) -> 125000 | K43: =SUM($D$43/12) -> 125000 | L43: =SUM($D$43/12) -> 125000 | ... P43: =SUM($D$43/12) -> 125000 | Q43: =SUM(E43:P43) -> 1500000 | R43: =SUM(Q43-D43) -> 0
A44: 38 | B44: Kiküldetések, reklám- és propagandakiadások (=36+37) | C44: K34 | D44: =SUM(D42:D43) -> 1503490 | E44: =SUM(E42:E43) -> 125290.83 | F44: =SUM(F42:F43) -> 125290.83 | G44: =SUM(G42:G43) -> 125290.83 | H44: =SUM(H42:H43) -> 125290.83 | I44: =SUM(I42:I43) -> 125290.83 | J44: =SUM(J42:J43) -> 125290.83 | K44: =SUM(K42:K43) -> 125290.83 | ... Q44: =SUM(Q42:Q43) -> 1503490 | R44: =SUM(Q44-D44) -> 0
A45: 39 | B45: Működési célú előzetesen felszámított általános forgalmi adó | C45: K351 | D45: =SUM(KIADÁSOK!G43) -> 17436630 | E45: =SUM($D$45/12) -> 1453052.5 | F45: =SUM($D$45/12) -> 1453052.5 | G45: =SUM($D$45/12) -> 1453052.5 | H45: =SUM($D$45/12) -> 1453052.5 | I45: =SUM($D$45/12) -> 1453052.5 | J45: =SUM($D$45/12) -> 1453052.5 | K45: =SUM($D$45/12) -> 1453052.5 | L45: =SUM($D$45/12) -> 1453052.5 | ... P45: =SUM($D$45/12) -> 1453052.5 | Q45: =SUM(E45:P45) -> 17436630 | R45: =SUM(Q45-D45) -> 0
A46: 40 | B46: Fizetendő általános forgalmi adó | C46: K352 | D46: =SUM(KIADÁSOK!G44) -> 7385000 | E46: =SUM($D$46/12) -> 615416.67 | F46: =SUM($D$46/12) -> 615416.67 | G46: =SUM($D$46/12) -> 615416.67 | H46: =SUM($D$46/12) -> 615416.67 | I46: =SUM($D$46/12) -> 615416.67 | J46: =SUM($D$46/12) -> 615416.67 | K46: =SUM($D$46/12) -> 615416.67 | L46: =SUM($D$46/12) -> 615416.67 | ... P46: =SUM($D$46/12) -> 615416.67 | Q46: =SUM(E46:P46) -> 7385000 | R46: =SUM(Q46-D46) -> 9.3132257e-10
A47: 41 | B47: Kamatkiadások | C47: K353 | D47: =SUM(KIADÁSOK!G45) -> 0 | E47: =SUM($D$47/12) -> 0 | F47: =SUM($D$47/12) -> 0 | G47: =SUM($D$47/12) -> 0 | H47: =SUM($D$47/12) -> 0 | I47: =SUM($D$47/12) -> 0 | J47: =SUM($D$47/12) -> 0 | K47: =SUM($D$47/12) -> 0 | L47: =SUM($D$47/12) -> 0 | ... P47: =SUM($D$47/12) -> 0 | Q47: =SUM(E47:P47) -> 0 | R47: =SUM(Q47-D47) -> 0
A48: 42 | B48: Egyéb pénzügyi műveletek kiadásai | C48: K354 | D48: =SUM(KIADÁSOK!G46) -> 0 | E48: =SUM($D$48/12) -> 0 | F48: =SUM($D$48/12) -> 0 | G48: =SUM($D$48/12) -> 0 | H48: =SUM($D$48/12) -> 0 | I48: =SUM($D$48/12) -> 0 | J48: =SUM($D$48/12) -> 0 | K48: =SUM($D$48/12) -> 0 | L48: =SUM($D$48/12) -> 0 | ... P48: =SUM($D$48/12) -> 0 | Q48: =SUM(E48:P48) -> 0 | R48: =SUM(Q48-D48) -> 0
A49: 43 | B49: Egyéb dologi kiadások | C49: K355 | D49: =SUM(KIADÁSOK!G47) -> 0 | E49: =SUM($D$49/12) -> 0 | F49: =SUM($D$49/12) -> 0 | G49: =SUM($D$49/12) -> 0 | H49: =SUM($D$49/12) -> 0 | I49: =SUM($D$49/12) -> 0 | J49: =SUM($D$49/12) -> 0 | K49: =SUM($D$49/12) -> 0 | L49: =SUM($D$49/12) -> 0 | ... P49: =SUM($D$49/12) -> 0 | Q49: =SUM(E49:P49) -> 0 | R49: =SUM(Q49-D49) -> 0
A50: 44 | B50: Különféle befizetések és egyéb dologi kiadások (=39+…+43) | C50: K35 | D50: =SUM(D45:D49) -> 24821630 | E50: =SUM(E45:E49) -> 2068469.2 | F50: =SUM(F45:F49) -> 2068469.2 | G50: =SUM(G45:G49) -> 2068469.2 | H50: =SUM(H45:H49) -> 2068469.2 | I50: =SUM(I45:I49) -> 2068469.2 | J50: =SUM(J45:J49) -> 2068469.2 | K50: =SUM(K45:K49) -> 2068469.2 | ... Q50: =SUM(Q45:Q49) -> 24821630 | R50: =SUM(Q50-D50) -> 0
A51: 45 | B51: Dologi kiadások (=24+27+35+38+44) | C51: K3 | D51: =SUM(D50,D44,D41,D33,D30) -> 99873883 | E51: =SUM(E50,E44,E41,E33,E30) -> 8322823.6 | F51: =SUM(F50,F44,F41,F33,F30) -> 8322823.6 | G51: =SUM(G50,G44,G41,G33,G30) -> 8322823.6 | H51: =SUM(H50,H44,H41,H33,H30) -> 8322823.6 | I51: =SUM(I50,I44,I41,I33,I30) -> 8322823.6 | J51: =SUM(J50,J44,J41,J33,J30) -> 8322823.6 | K51: =SUM(K50,K44,K41,K33,K30) -> 8322823.6 | ... Q51: =SUM(Q50,Q44,Q41,Q33,Q30) -> 99873883 | R51: =SUM(Q51-D51) -> 0
A52: 46 | B52: Társadalombiztosítási ellátások | C52: K41 | D52: =SUM(KIADÁSOK!G50) -> 0 | E52: =SUM(D52/12) -> 0 | F52: 0 | G52: 0 | H52: 0 | I52: 0 | J52: 0 | K52: 0 | L52: 0 | M52: 0 | N52: 0 | O52: 0 | P52: 0 | Q52: =SUM(E52:P52) -> 0 | R52: =SUM(Q52-D52) -> 0
A53: 47 | B53: Családi támogatások | C53: K42 | D53: =SUM(KIADÁSOK!G51) -> 0 | E53: =SUM(D53/12) -> 0 | F53: 0 | G53: 0 | H53: 0 | I53: 0 | J53: 0 | K53: 0 | L53: 0 | M53: 0 | N53: 0 | O53: 0 | P53: 0 | Q53: =SUM(E53:P53) -> 0 | R53: =SUM(Q53-D53) -> 0
A54: 48 | B54: Pénzbeli kárpótlások, kártérítések | C54: K43 | D54: =SUM(KIADÁSOK!G52) -> 0 | E54: =SUM(D54/12) -> 0 | F54: 0 | G54: 0 | H54: 0 | I54: 0 | J54: 0 | K54: 0 | L54: 0 | M54: 0 | N54: 0 | O54: 0 | P54: 0 | Q54: =SUM(E54:P54) -> 0 | R54: =SUM(Q54-D54) -> 0
A55: 49 | B55: Betegséggel kapcsolatos (nem társadalombiztosítási) ellátások | C55: K44 | D55: =SUM(KIADÁSOK!G53) -> 0 | E55: =SUM(D55/12) -> 0 | F55: 0 | G55: 0 | H55: 0 | I55: 0 | J55: 0 | K55: 0 | L55: 0 | M55: 0 | N55: 0 | O55: 0 | P55: 0 | Q55: =SUM(E55:P55) -> 0 | R55: =SUM(Q55-D55) -> 0
A56: 50 | B56: Foglalkoztatással, munkanélküliséggel kapcsolatos ellátások | C56: K45 | D56: =SUM(KIADÁSOK!G54) -> 0 | E56: =SUM(D56/12) -> 0 | F56: 0 | G56: 0 | H56: 0 | I56: 0 | J56: 0 | K56: 0 | L56: 0 | M56: 0 | N56: 0 | O56: 0 | P56: 0 | Q56: =SUM(E56:P56) -> 0 | R56: =SUM(Q56-D56) -> 0
A57: 51 | B57: Lakhatással kapcsolatos ellátások | C57: K46 | D57: =SUM(KIADÁSOK!G55) -> 0 | E57: =SUM(D57/12) -> 0 | F57: 0 | G57: 0 | H57: 0 | I57: 0 | J57: 0 | K57: 0 | L57: 0 | M57: 0 | N57: 0 | O57: 0 | P57: 0 | Q57: =SUM(E57:P57) -> 0 | R57: =SUM(Q57-D57) -> 0
A58: 52 | B58: Intézményi ellátottak pénzbeli juttatásai | C58: K47 | D58: =SUM(KIADÁSOK!G56) -> 0 | E58: =SUM(D58/12) -> 0 | F58: 0 | G58: 0 | H58: 0 | I58: 0 | J58: 0 | K58: 0 | L58: 0 | M58: 0 | N58: 0 | O58: 0 | P58: 0 | Q58: =SUM(E58:P58) -> 0 | R58: =SUM(Q58-D58) -> 0
A59: 53 | B59: Egyéb nem intézményi ellátások | C59: K48 | D59: =SUM(KIADÁSOK!G57) -> 6077904 | E59: =SUM($D$59/12) -> 506492 | F59: =SUM($D$59/12) -> 506492 | G59: =SUM($D$59/12) -> 506492 | H59: =SUM($D$59/12) -> 506492 | I59: =SUM($D$59/12) -> 506492 | J59: =SUM($D$59/12) -> 506492 | K59: =SUM($D$59/12) -> 506492 | L59: =SUM($D$59/12) -> 506492 | ... P59: =SUM($D$59/12) -> 506492 | Q59: =SUM(E59:P59) -> 6077904 | R59: =SUM(Q59-D59) -> 0
A60: 54 | B60: Ellátottak pénzbeli juttatásai (=46+...+53) | C60: K4 | D60: =SUM(D52:D59) -> 6077904 | E60: =SUM(E52:E59) -> 506492 | F60: =SUM(F52:F59) -> 506492 | G60: =SUM(G52:G59) -> 506492 | H60: =SUM(H52:H59) -> 506492 | I60: =SUM(I52:I59) -> 506492 | J60: =SUM(J52:J59) -> 506492 | K60: =SUM(K52:K59) -> 506492 | ... Q60: =SUM(Q52:Q59) -> 6077904 | R60: =SUM(Q60-D60) -> 0
A61: 55 | B61: Nemzetközi kötelezettségek | C61: K501 | D61: =SUM(KIADÁSOK!G59) -> 0 | E61: =SUM(D61/12) -> 0 | F61: 0 | G61: 0 | H61: 0 | I61: 0 | J61: 0 | K61: 0 | L61: 0 | M61: 0 | N61: 0 | O61: 0 | P61: 0 | Q61: =SUM(E61:P61) -> 0 | R61: =SUM(Q61-D61) -> 0
A62: 56 | B62: A helyi önkormányzatok előző évi elszámolásából származó kiadások | C62: K5021 | D62: =SUM(KIADÁSOK!G60) -> 0 | E62: =SUM(D62/12) -> 0 | F62: 0 | G62: 0 | H62: 0 | I62: 0 | J62: 0 | K62: 0 | L62: 0 | M62: 0 | N62: 0 | O62: 0 | P62: 0 | Q62: =SUM(E62:P62) -> 0 | R62: =SUM(Q62-D62) -> 0
A63: 57 | B63: A helyi önkormányzatok törvényi előíráson alapuló befizetései | C63: K5022 | D63: =SUM(KIADÁSOK!G61) -> 0 | E63: =SUM(D63/12) -> 0 | F63: 0 | G63: 0 | H63: 0 | I63: 0 | J63: 0 | K63: 0 | L63: 0 | M63: 0 | N63: 0 | O63: 0 | P63: 0 | Q63: =SUM(E63:P63) -> 0 | R63: =SUM(Q63-D63) -> 0
A64: 58 | B64: Egyéb elvonások, befizetések | C64: K5023 | D64: =SUM(KIADÁSOK!G62) -> 0 | E64: =SUM(D64/12) -> 0 | F64: 0 | G64: 0 | H64: 0 | I64: 0 | J64: 0 | K64: 0 | L64: 0 | M64: 0 | N64: 0 | O64: 0 | P64: 0 | Q64: =SUM(E64:P64) -> 0 | R64: =SUM(Q64-D64) -> 0
A65: 59 | B65: Elvonások és befizetések (=56+57+58) | C65: K502 | D65: =SUM(KIADÁSOK!G63) -> 0 | E65: =SUM(D65/12) -> 0 | F65: 0 | G65: 0 | H65: 0 | I65: 0 | J65: 0 | K65: 0 | L65: 0 | M65: 0 | N65: 0 | O65: 0 | P65: 0 | Q65: =SUM(E65:P65) -> 0 | R65: =SUM(Q65-D65) -> 0
A66: 60 | B66: Működési célú garancia- és kezességvállalásból származó kifizetés államháztartáson belülre | C66: K503 | D66: =SUM(KIADÁSOK!G64) -> 0 | E66: =SUM(D66/12) -> 0 | F66: 0 | G66: 0 | H66: 0 | I66: 0 | J66: 0 | K66: 0 | L66: 0 | M66: 0 | N66: 0 | O66: 0 | P66: 0 | Q66: =SUM(E66:P66) -> 0 | R66: =SUM(Q66-D66) -> 0
A67: 61 | B67: Működési célú visszatérítendő támogatások, kölcsönök nyújtása államháztartáson belülre | C67: K504 | D67: =SUM(KIADÁSOK!G65) -> 0 | E67: =SUM(D67/12) -> 0 | F67: 0 | G67: 0 | H67: 0 | I67: 0 | J67: 0 | K67: 0 | L67: 0 | M67: 0 | N67: 0 | O67: 0 | P67: 0 | Q67: =SUM(E67:P67) -> 0 | R67: =SUM(Q67-D67) -> 0
A68: 62 | B68: Működési célú visszatérítendő támogatások, kölcsönök törlesztése államháztartáson belülre | C68: K505 | D68: =SUM(KIADÁSOK!G66) -> 0 | E68: =SUM(D68/12) -> 0 | F68: 0 | G68: 0 | H68: 0 | I68: 0 | J68: 0 | K68: 0 | L68: 0 | M68: 0 | N68: 0 | O68: 0 | P68: 0 | Q68: =SUM(E68:P68) -> 0 | R68: =SUM(Q68-D68) -> 0
A69: 63 | B69: Egyéb működési célú támogatások államháztartáson belülre | C69: K506 | D69: =SUM(KIADÁSOK!G67) -> 71942003 | E69: 0 | F69: 0 | G69: =SUM($D$69/4) -> 17985501 | H69: 0 | I69: 0 | J69: =SUM($D$69/4) -> 17985501 | K69: 0 | L69: 0 | M69: =SUM($D$69/4) -> 17985501 | N69: 0 | O69: 0 | P69: =SUM($D$69/4) -> 17985501 | Q69: =SUM(E69:P69) -> 71942003 | R69: =SUM(Q69-D69) -> 0
A70: 64 | B70: Működési célú garancia- és kezességvállalásból származó kifizetés államháztartáson kívülre | C70: K507 | D70: =SUM(KIADÁSOK!G68) -> 0 | E70: =SUM(D70/12) -> 0 | F70: 0 | G70: 0 | H70: 0 | I70: 0 | J70: 0 | K70: 0 | L70: 0 | M70: 0 | N70: 0 | O70: 0 | P70: 0 | Q70: =SUM(E70:P70) -> 0 | R70: =SUM(Q70-D70) -> 0
A71: 65 | B71: Működési célú visszatérítendő támogatások, kölcsönök nyújtása államháztartáson kívülre | C71: K508 | D71: =SUM(KIADÁSOK!G69) -> 0 | E71: =SUM(D71/12) -> 0 | F71: 0 | G71: 0 | H71: 0 | I71: 0 | J71: 0 | K71: 0 | L71: 0 | M71: 0 | N71: 0 | O71: 0 | P71: 0 | Q71: =SUM(E71:P71) -> 0 | R71: =SUM(Q71-D71) -> 0
A72: 66 | B72: Árkiegészítések, ártámogatások | C72: K509 | D72: =SUM(KIADÁSOK!G70) -> 0 | E72: =SUM(D72/12) -> 0 | F72: 0 | G72: 0 | H72: 0 | I72: 0 | J72: 0 | K72: 0 | L72: 0 | M72: 0 | N72: 0 | O72: 0 | P72: 0 | Q72: =SUM(E72:P72) -> 0 | R72: =SUM(Q72-D72) -> 0
A73: 67 | B73: Kamattámogatások | C73: K510 | D73: =SUM(KIADÁSOK!G71) -> 0 | E73: =SUM(D73/12) -> 0 | F73: 0 | G73: 0 | H73: 0 | I73: 0 | J73: 0 | K73: 0 | L73: 0 | M73: 0 | N73: 0 | O73: 0 | P73: 0 | Q73: =SUM(E73:P73) -> 0 | R73: =SUM(Q73-D73) -> 0
A74: 68 | B74: Működési célú támogatások az Európai Uniónak | C74: K511 | D74: =SUM(KIADÁSOK!G72) -> 0 | E74: =SUM(D74/12) -> 0 | F74: 0 | G74: 0 | H74: 0 | I74: 0 | J74: 0 | K74: 0 | L74: 0 | M74: 0 | N74: 0 | O74: 0 | P74: 0 | Q74: =SUM(E74:P74) -> 0 | R74: =SUM(Q74-D74) -> 0
A75: 69 | B75: Egyéb működési célú támogatások államháztartáson kívülre | C75: K512 | D75: =SUM(KIADÁSOK!G73) -> 4170054 | E75: 0 | F75: 0 | G75: =SUM($D$75/4) -> 1042513.5 | H75: 0 | I75: 0 | J75: =SUM($D$75/4) -> 1042513.5 | K75: 0 | L75: 0 | M75: =SUM($D$75/4) -> 1042513.5 | N75: 0 | O75: 0 | P75: =SUM($D$75/4) -> 1042513.5 | Q75: =SUM(E75:P75) -> 4170054 | R75: =SUM(Q75-D75) -> 0
A76: 70 | B76: Tartalékok | C76: K513 | D76: =SUM(KIADÁSOK!G74) -> 20946204 | E76: 1946204 | F76: 0 | G76: 0 | H76: 0 | I76: 0 | J76: 0 | K76: 0 | L76: 0 | M76: 5000000 | N76: 5000000 | O76: 5000000 | P76: 4000000 | Q76: =SUM(E76:P76) -> 20946204 | R76: =SUM(Q76-D76) -> 0
A77: 71 | B77: Egyéb működési célú kiadások (=55+59+…+70) | C77: K5 | D77: =SUM(D61:D76) -> 97058261 | E77: =SUM(E61:E76) -> 1946204 | F77: =SUM(F61:F76) -> 0 | G77: =SUM(G61:G76) -> 19028014 | H77: =SUM(H61:H76) -> 0 | I77: =SUM(I61:I76) -> 0 | J77: =SUM(J61:J76) -> 19028014 | K77: =SUM(K61:K76) -> 0 | ... Q77: =SUM(Q61:Q76) -> 97058261 | R77: =SUM(Q77-D77) -> 0
A78: 72 | B78: Immateriális javak beszerzése, létesítése | C78: K61 | D78: =SUM(KIADÁSOK!G76) -> 0 | E78: 0 | F78: 0 | G78: 0 | H78: 0 | I78: 0 | J78: 0 | K78: 0 | L78: 0 | M78: 0 | N78: 0 | O78: 0 | P78: 0 | Q78: =SUM(E78:P78) -> 0 | R78: =SUM(Q78-D78) -> 0
A79: 73 | B79: Ingatlanok beszerzése, létesítése | C79: K62 | D79: =SUM(KIADÁSOK!G77) -> 0 | E79: =SUM(D79/12) -> 0 | F79: 0 | G79: 0 | H79: 0 | I79: 0 | J79: 0 | K79: 0 | L79: 0 | M79: 0 | N79: 0 | O79: 0 | P79: 0 | Q79: =SUM(E79:P79) -> 0 | R79: =SUM(Q79-D79) -> 0
A80: 74 | B80: Informatikai eszközök beszerzése, létesítése | C80: K63 | D80: =SUM(KIADÁSOK!G78) -> 0 | E80: 0 | F80: 0 | G80: 0 | H80: 0 | I80: 0 | J80: 0 | K80: 0 | L80: 0 | M80: 0 | N80: 0 | O80: 0 | P80: 0 | Q80: =SUM(E80:P80) -> 0 | R80: =SUM(Q80-D80) -> 0
A81: 75 | B81: Egyéb tárgyi eszközök beszerzése, létesítése | C81: K64 | D81: =SUM(KIADÁSOK!G79) -> 0 | E81: 0 | F81: 0 | G81: 0 | H81: 0 | I81: 0 | J81: 0 | K81: 0 | L81: 0 | M81: 0 | N81: 0 | O81: 0 | P81: 0 | Q81: =SUM(E81:P81) -> 0 | R81: =SUM(Q81-D81) -> 0
A82: 76 | B82: Részesedések beszerzése | C82: K65 | D82: =SUM(KIADÁSOK!G80) -> 0 | E82: =SUM(D82/12) -> 0 | F82: 0 | G82: 0 | H82: 0 | I82: 0 | J82: 0 | K82: 0 | L82: 0 | M82: 0 | N82: 0 | O82: 0 | P82: 0 | Q82: =SUM(E82:P82) -> 0 | R82: =SUM(Q82-D82) -> 0
A83: 77 | B83: Meglévő részesedések növeléséhez kapcsolódó kiadások | C83: K66 | D83: =SUM(KIADÁSOK!G81) -> 0 | E83: =SUM(D83/12) -> 0 | F83: 0 | G83: 0 | H83: 0 | I83: 0 | J83: 0 | K83: 0 | L83: 0 | M83: 0 | N83: 0 | O83: 0 | P83: 0 | Q83: =SUM(E83:P83) -> 0 | R83: =SUM(Q83-D83) -> 0
A84: 78 | B84: Beruházási célú előzetesen felszámított általános forgalmi adó | C84: K67 | D84: =SUM(KIADÁSOK!G82) -> 0 | E84: 0 | F84: 0 | G84: 0 | H84: 0 | I84: 0 | J84: 0 | K84: 0 | L84: 0 | M84: 0 | N84: 0 | O84: 0 | P84: 0 | Q84: =SUM(E84:P84) -> 0 | R84: =SUM(Q84-D84) -> 0
A85: 79 | B85: Beruházások (=72+…+78) | C85: K6 | D85: =SUM(D78:D84) -> 0 | E85: =SUM(E78:E84) -> 0 | F85: =SUM(F78:F84) -> 0 | G85: =SUM(G78:G84) -> 0 | H85: =SUM(H78:H84) -> 0 | I85: =SUM(I78:I84) -> 0 | J85: =SUM(J78:J84) -> 0 | K85: =SUM(K78:K84) -> 0 | ... Q85: =SUM(Q78:Q84) -> 0 | R85: =SUM(Q85-D85) -> 0
A86: 80 | B86: Ingatlanok felújítása | C86: K71 | D86: =SUM(KIADÁSOK!G84) -> 77578242 | E86: 0 | F86: 0 | G86: 4840993 | H86: 6000000 | I86: 36000000 | J86: 15737249 | K86: 15000000 | L86: 0 | M86: 0 | N86: 0 | O86: 0 | P86: 0 | Q86: =SUM(E86:P86) -> 77578242 | R86: =SUM(Q86-D86) -> 0
A87: 81 | B87: Informatikai eszközök felújítása | C87: K72 | D87: =SUM(KIADÁSOK!G85) -> 0 | E87: 0 | F87: 0 | G87: 0 | H87: 0 | I87: 0 | J87: 0 | K87: 0 | L87: 0 | M87: 0 | N87: 0 | O87: 0 | P87: 0 | Q87: =SUM(E87:P87) -> 0 | R87: =SUM(Q87-D87) -> 0
A88: 82 | B88: Egyéb tárgyi eszközök felújítása | C88: K73 | D88: =SUM(KIADÁSOK!G86) -> 0 | E88: 0 | F88: 0 | G88: 0 | H88: 0 | I88: 0 | J88: 0 | K88: 0 | L88: 0 | M88: 0 | N88: 0 | O88: 0 | P88: 0 | Q88: =SUM(E88:P88) -> 0 | R88: =SUM(Q88-D88) -> 0
A89: 83 | B89: Felújítási célú előzetesen felszámított általános forgalmi adó | C89: K74 | D89: =SUM(KIADÁSOK!G87) -> 21533391 | E89: =PRODUCT(E86,0.27) -> 0 | F89: 587266 | G89: =PRODUCT(G86,0.27) -> 1307068.1 | H89: =PRODUCT(H86,0.27) -> 1620000 | I89: =PRODUCT(I86,0.27) -> 9720000 | J89: =PRODUCT(J86,0.27) -> 4249057.2 | K89: =PRODUCT(K86,0.27) -> 4050000 | L89: =PRODUCT(L86,0.27) -> 0 | M89: =PRODUCT(M86,0.27) -> 0 | N89: =PRODUCT(N86,0.27) -> 0 | ... P89: =PRODUCT(P86,0.27) -> 0 | Q89: =SUM(E89:P89) -> 21533391 | R89: =SUM(Q89-D89) -> 0.34
A90: 84 | B90: Felújítások (=80+...+83) | C90: K7 | D90: =SUM(D86:D89) -> 99111633 | E90: =SUM(E86:E89) -> 0 | F90: =SUM(F86:F89) -> 587266 | G90: =SUM(G86:G89) -> 6148061.1 | H90: =SUM(H86:H89) -> 7620000 | I90: =SUM(I86:I89) -> 45720000 | J90: =SUM(J86:J89) -> 19986306 | K90: =SUM(K86:K89) -> 19050000 | ... Q90: =SUM(Q86:Q89) -> 99111633 | R90: =SUM(Q90-D90) -> 0.34
A91: 85 | B91: Felhalmozási célú garancia- és kezességvállalásból származó kifizetés államháztartáson belülre | C91: K81 | D91: =SUM(KIADÁSOK!G89) -> 0 | E91: =SUM(D91/12) -> 0 | F91: 0 | G91: 0 | H91: 0 | I91: 0 | J91: 0 | K91: 0 | L91: 0 | M91: 0 | N91: 0 | O91: 0 | P91: 0 | Q91: =SUM(E91:P91) -> 0 | R91: =SUM(Q91-D91) -> 0
A92: 86 | B92: Felhalmozási célú visszatérítendő támogatások, kölcsönök nyújtása államháztartáson belülre | C92: K82 | D92: =SUM(KIADÁSOK!G90) -> 0 | E92: =SUM(D92/12) -> 0 | F92: 0 | G92: 0 | H92: 0 | I92: 0 | J92: 0 | K92: 0 | L92: 0 | M92: 0 | N92: 0 | O92: 0 | P92: 0 | Q92: =SUM(E92:P92) -> 0 | R92: =SUM(Q92-D92) -> 0
A93: 87 | B93: Felhalmozási célú visszatérítendő támogatások, kölcsönök törlesztése államháztartáson belülre | C93: K83 | D93: =SUM(KIADÁSOK!G91) -> 0 | E93: =SUM(D93/12) -> 0 | F93: 0 | G93: 0 | H93: 0 | I93: 0 | J93: 0 | K93: 0 | L93: 0 | M93: 0 | N93: 0 | O93: 0 | P93: 0 | Q93: =SUM(E93:P93) -> 0 | R93: =SUM(Q93-D93) -> 0
A94: 88 | B94: Egyéb felhalmozási célú támogatások államháztartáson belülre | C94: K84 | D94: =SUM(KIADÁSOK!G92) -> 0 | E94: =SUM(D94/12) -> 0 | F94: 0 | G94: 0 | H94: 0 | I94: 0 | J94: 0 | K94: 0 | L94: 0 | M94: 0 | N94: 0 | O94: 0 | P94: 0 | Q94: =SUM(E94:P94) -> 0 | R94: =SUM(Q94-D94) -> 0
A95: 89 | B95: Felhalmozási célú garancia- és kezességvállalásból származó kifizetés államháztartáson kívülre | C95: K85 | D95: =SUM(KIADÁSOK!G93) -> 0 | E95: =SUM(D95/12) -> 0 | F95: 0 | G95: 0 | H95: 0 | I95: 0 | J95: 0 | K95: 0 | L95: 0 | M95: 0 | N95: 0 | O95: 0 | P95: 0 | Q95: =SUM(E95:P95) -> 0 | R95: =SUM(Q95-D95) -> 0
A96: 90 | B96: Felhalmozási célú visszatérítendő támogatások, kölcsönök nyújtása államháztartáson kívülre | C96: K86 | D96: =SUM(KIADÁSOK!G94) -> 0 | E96: =SUM(D96/12) -> 0 | F96: 0 | G96: 0 | H96: 0 | I96: 0 | J96: 0 | K96: 0 | L96: 0 | M96: 0 | N96: 0 | O96: 0 | P96: 0 | Q96: =SUM(E96:P96) -> 0 | R96: =SUM(Q96-D96) -> 0
A97: 91 | B97: Lakástámogatás | C97: K87 | D97: =SUM(KIADÁSOK!G95) -> 0 | E97: =SUM(D97/12) -> 0 | F97: 0 | G97: 0 | H97: 0 | I97: 0 | J97: 0 | K97: 0 | L97: 0 | M97: 0 | N97: 0 | O97: 0 | P97: 0 | Q97: =SUM(E97:P97) -> 0 | R97: =SUM(Q97-D97) -> 0
A98: 92 | B98: Felhalmozási célú támogatások az Európai Uniónak | C98: K88 | D98: =SUM(KIADÁSOK!G96) -> 0 | E98: =SUM(D98/12) -> 0 | F98: 0 | G98: 0 | H98: 0 | I98: 0 | J98: 0 | K98: 0 | L98: 0 | M98: 0 | N98: 0 | O98: 0 | P98: 0 | Q98: =SUM(E98:P98) -> 0 | R98: =SUM(Q98-D98) -> 0
A99: 93 | B99: Egyéb felhalmozási célú támogatások államháztartáson kívülre | C99: K89 | D99: =SUM(KIADÁSOK!G97) -> 0 | E99: =SUM(D99/12) -> 0 | F99: 0 | G99: 0 | H99: 0 | I99: 0 | J99: 0 | K99: 0 | L99: 0 | M99: 0 | N99: 0 | O99: 0 | P99: 0 | Q99: =SUM(E99:P99) -> 0 | R99: =SUM(Q99-D99) -> 0
A100: 94 | B100: Egyéb felhalmozási célú kiadások (=85+…+93) | C100: K8 | D100: =SUM(D91:D99) -> 0 | E100: =SUM(E91:E99) -> 0 | F100: =SUM(F91:F99) -> 0 | G100: =SUM(G91:G99) -> 0 | H100: =SUM(H91:H99) -> 0 | I100: =SUM(I91:I99) -> 0 | J100: =SUM(J91:J99) -> 0 | K100: =SUM(K91:K99) -> 0 | ... Q100: =SUM(Q91:Q99) -> 0 | R100: =SUM(Q100-D100) -> 0
A101: 95 | B101: Költségvetési kiadások (=19+20+45+54+71+79+84+94) | C101: K1-K8 | D101: =SUM(D100+D90+D85+D77+D60+D51+D26+D25) -> 400265002 | E101: =SUM(E100+E90+E85+E77+E60+E51+E26+E25) -> 18755551 | F101: =SUM(F100+F90+F85+F77+F60+F51+F26+F25) -> 17396613 | G101: =SUM(G100+G90+G85+G77+G60+G51+G26+G25) -> 42581158 | H101: =SUM(H100+H90+H85+H77+H60+H51+H26+H25) -> 24429347 | I101: =SUM(I100+I90+I85+I77+I60+I51+I26+I25) -> 62529347 | J101: =SUM(J100+J90+J85+J77+J60+J51+J26+J25) -> 56419403 | K101: =SUM(K100+K90+K85+K77+K60+K51+K26+K25) -> 35859347 | ... Q101: =SUM(Q100+Q90+Q85+Q77+Q60+Q51+Q26+Q25) -> 4.00265e+08 | R101: =SUM(Q101-D101) -> 0.34000003
...

Sheet TÖBB ÉVES
A1: Előterjesztés része
A2: BALATONEDERICS KÖZSÉG ÖNKORMÁNYZAT 2020. ÉVI KÖLTSÉGVETÉS
A3: A többéves kihatással járó döntések számszerűsítése évenkénti bontásban és összesítve (Ft)
A4: Több éves kihatással járó feladatot az önkormányzat nem tervez!
A5: ÖNKORMÁNYZATI ELŐIRÁNYZATOK
A6: Kötelezettségek megnevezése | B6: Köt.vállalás éve | C6: Tárgyév előtti kifizetés | D6: Tárgyévi kifizetés (2020. évi ei.) | E6: 2021. évi kifizetés | F6: 2022. évi kifizetés | G6: 2023. évi kifizetés | H6: 2024. év utáni kifizetések | I6: Összesen
A11: Működési célú hiteltörlesztések összesen:
A16: Felhalmozási célú hiteltörlesztések
A21: Beruházások összesen:
A26: Felújítások összesen:
A31: MINDÖSSZESEN: | I31: 0

Sheet KÖZVETETT
A1: Előterjesztés része
A2: BALATONEDERICS KÖZSÉG ÖNKORMÁNYZAT 2020. ÉVI KÖLTSÉGVETÉS
A3: Közvetett támogatások (Ft)
A5: ÖNKORMÁNYZATI ELŐIRÁNYZATOK
A6: Rovat megnevezése | B6: Rovat-szám | C6: tervezett elvárt bevétel | D6: közvetett támogatás | E6: várható bevétel
A10: az ellátottak térítési díjának, kártérítésének méltányossági alapon történő elengedésének összege | B10: B405 | C10: 0 | D10: 0 | E10: 0
A14: a lakosság részére lakásépítéshez, lakásfelújításhoz nyújtott kölcsönök elengedésének összege | B14: B72 | C14: 0 | D14: 0 | E14: 0
A15: építményadó | B15: B34 | C15: 0 | D15: 0 | E15: =+C15-D15 -> 0
A16: épület után fizetett idegenforgalmi adó | B16: B34 | C16: 0 | D16: 0 | E16: 0
A17: magánszemélyek kommunális adója | B17: B34 | C17: 0 | D17: 0 | E17: 0
A18: telekadó | B18: B34 | C18: 0 | D18: 0 | E18: 0
A19: Gépjárműadók | B19: B354 | C19: 0 | D19: 0 | E19: 0
A20: Értékesítési és forgalmi adók | B20: B351 | C20: 0 | D20: 0 | E20: 0
C21: 0 | D21: 0 | E21: 0
A22: a helyi adónál, gépjárműadónál biztosított kedvezmény, mentesség összege adónemenként | B22: B3, B7 | C22: =SUM(C15:C21) -> 0 | D22: =SUM(D15:D21) -> 0 | E22: =SUM(E15:E21) -> 0
A26: a helyiségek, eszközök hasznosításából származó bevételből nyújtott kedvezmény, mentesség összege | B26: B4, B5 | C26: 0 | D26: 0 | E26: 0
A30: az egyéb nyújtott kedvezmény vagy kölcsön elengedésének összege | C30: 0 | D30: 0 | E30: 0

Sheet GÖRDÜLŐ
B1: Előterjesztés része
A2: BALATONEDERICS KÖZSÉG ÖNKORMÁNYZAT 2020. ÉVI KÖLTSÉGVETÉS
A4: Bevételek és kiadások tárgyévre és az azt követő három évre (Ft)
A6: ÖNKORMÁNYZAT ÉS KÖLTSÉGVETÉSI SZERVEI ELŐIRÁNYZATA MINDÖSSZESEN
A7: Sor- szám | B7: Rovat megnevezése | C7: Rovat száma | D7: 2020. ÉV EREDETI EI. | E7: 2021. ÉV | F7: 2022. ÉV | G7: 2023. ÉV
A8: 01 | B8: Törvény szerinti illetmények, munkabérek | C8: K1101 | D8: =SUM(KIADÁSOK!G5) -> 66543499 | E8: =PRODUCT(D8,1.008) -> 67075847 | F8: =PRODUCT(E8,1.008) -> 67612454 | G8: =PRODUCT(F8,1.008) -> 68153353
A9: 02 | B9: Normatív jutalmak | C9: K1102 | D9: =SUM(KIADÁSOK!G6) -> 1689975 | E9: =PRODUCT(D9,1.008) -> 1703494.8 | F9: =PRODUCT(E9,1.008) -> 1717122.8 | G9: =PRODUCT(F9,1.008) -> 1730859.7
A10: 03 | B10: Céljuttatás, projektprémium | C10: K1103 | D10: =SUM(KIADÁSOK!G7) -> 1800000 | E10: =PRODUCT(D10,1.008) -> 1814400 | F10: =PRODUCT(E10,1.008) -> 1828915.2 | G10: =PRODUCT(F10,1.008) -> 1843546.5
A11: 04 | B11: Készenléti, ügyeleti, helyettesítési díj, túlóra, túlszolgálat | C11: K1104 | D11: =SUM(KIADÁSOK!G8) -> 0 | E11: =PRODUCT(D11,1.008) -> 0 | F11: =PRODUCT(E11,1.008) -> 0 | G11: =PRODUCT(F11,1.008) -> 0
A12: 05 | B12: Végkielégítés | C12: K1105 | D12: =SUM(KIADÁSOK!G9) -> 0 | E12: =PRODUCT(D12,1.008) -> 0 | F12: =PRODUCT(E12,1.008) -> 0 | G12: =PRODUCT(F12,1.008) -> 0
A13: 06 | B13: Jubileumi jutalom | C13: K1106 | D13: =SUM(KIADÁSOK!G10) -> 0 | E13: =PRODUCT(D13,1.008) -> 0 | F13: =PRODUCT(E13,1.008) -> 0 | G13: =PRODUCT(F13,1.008) -> 0
A14: 07 | B14: Béren kívüli juttatások | C14: K1107 | D14: =SUM(KIADÁSOK!G11) -> 2382944 | E14: =PRODUCT(D14,1.008) -> 2402007.6 | F14: =PRODUCT(E14,1.008) -> 2421223.6 | G14: =PRODUCT(F14,1.008) -> 2440593.4
A15: 08 | B15: Ruházati költségtérítés | C15: K1108 | D15: =SUM(KIADÁSOK!G12) -> 0 | E15: =PRODUCT(D15,1.008) -> 0 | F15: =PRODUCT(E15,1.008) -> 0 | G15: =PRODUCT(F15,1.008) -> 0
A16: 09 | B16: Közlekedési költségtérítés | C16: K1109 | D16: =SUM(KIADÁSOK!G13) -> 528000 | E16: =PRODUCT(D16,1.008) -> 532224 | F16: =PRODUCT(E16,1.008) -> 536481.79 | G16: =PRODUCT(F16,1.008) -> 540773.65
A17: 10 | B17: Egyéb költségtérítések | C17: K1110 | D17: =SUM(KIADÁSOK!G14) -> 0 | E17: =PRODUCT(D17,1.008) -> 0 | F17: =PRODUCT(E17,1.008) -> 0 | G17: =PRODUCT(F17,1.008) -> 0
A18: 11 | B18: Lakhatási támogatások | C18: K1111 | D18: =SUM(KIADÁSOK!G15) -> 0 | E18: =PRODUCT(D18,1.008) -> 0 | F18: =PRODUCT(E18,1.008) -> 0 | G18: =PRODUCT(F18,1.008) -> 0
A19: 12 | B19: Szociális támogatások | C19: K1112 | D19: =SUM(KIADÁSOK!G16) -> 0 | E19: =PRODUCT(D19,1.008) -> 0 | F19: =PRODUCT(E19,1.008) -> 0 | G19: =PRODUCT(F19,1.008) -> 0
... A25: 18 | B25: Külső személyi juttatások (=15+16+17) | C25: K12 | D25: =SUM(KIADÁSOK!G22) -> 0 | E25: =PRODUCT(D25,1.008) -> 0 | F25: =PRODUCT(E25,1.008) -> 0 | G25: =PRODUCT(F25,1.008) -> 0
A26: 19 | B26: Személyi juttatások (=14+18) | C26: K1 | D26: =SUM(D8:D25) -> 81889979 | E26: =SUM(E8:E25) -> 82545099 | F26: =SUM(F8:F25) -> 83205460 | G26: =SUM(G8:G25) -> 83871103
A27: 20 | B27: Munkaadókat terhelő járulékok és szociális hozzájárulási adó | C27: K2 | D27: =SUM(KIADÁSOK!G24) -> 16253342 | E27: =PRODUCT(D27,1.008) -> 16383369 | F27: =PRODUCT(E27,1.008) -> 16514436 | G27: =PRODUCT(F27,1.008) -> 16646551
A28: 21 | B28: Szakmai anyagok beszerzése | C28: K311 | D28: =SUM(KIADÁSOK!G25) -> 292000 | E28: =PRODUCT(D28,1.008) -> 294336 | F28: =PRODUCT(E28,1.008) -> 296690.69 | G28: =PRODUCT(F28,1.008) -> 299064.21
A29: 22 | B29: Üzemeltetési anyagok beszerzése | C29: K312 | D29: =SUM(KIADÁSOK!G26) -> 26234823 | E29: =PRODUCT(D29,1.008) -> 26444702 | F29: =PRODUCT(E29,1.008) -> 26656259 | G29: =PRODUCT(F29,1.008) -> 26869509
A30: 23 | B30: Árubeszerzés | C30: K313 | D30: =SUM(KIADÁSOK!G27) -> 0 | E30: =PRODUCT(D30,1.008) -> 0 | F30: 0 | G30: 0
A31: 24 | B31: Készletbeszerzés (=21+22+23) | C31: K31 | D31: =SUM(D28:D30) -> 26526823 | E31: =SUM(E28:E30) -> 26739038 | F31: =SUM(F28:F30) -> 26952950 | G31: =SUM(G28:G30) -> 27168573
A32: 25 | B32: Informatikai szolgáltatások igénybevétele | C32: K321 | D32: =SUM(KIADÁSOK!G29) -> 0 | E32: =PRODUCT(D32,1.008) -> 0 | F32: =PRODUCT(E32,1.008) -> 0 | G32: =PRODUCT(F32,1.008) -> 0
A33: 26 | B33: Egyéb kommunikációs szolgáltatások | C33: K322 | D33: =SUM(KIADÁSOK!G30) -> 1011115 | E33: =PRODUCT(D33,1.008) -> 1019203.9 | F33: =PRODUCT(E33,1.008) -> 1027357.6 | G33: =PRODUCT(F33,1.008) -> 1035576.4
A34: 27 | B34: Kommunikációs szolgáltatások (=25+26) | C34: K32 | D34: =SUM(D32:D33) -> 1011115 | E34: =SUM(E32:E33) -> 1019203.9 | F34: =SUM(F32:F33) -> 1027357.6 | G34: =SUM(G32:G33) -> 1035576.4
A35: 28 | B35: Közüzemi díjak | C35: K331 | D35: =SUM(KIADÁSOK!G32) -> 13563731 | E35: =PRODUCT(D35,1.008) -> 13672241 | F35: =PRODUCT(E35,1.008) -> 13781619 | G35: =PRODUCT(F35,1.008) -> 13891872
A36: 29 | B36: Vásárolt élelmezés | C36: K332 | D36: =SUM(KIADÁSOK!G33) -> 0 | E36: =PRODUCT(D36,1.008) -> 0 | F36: =PRODUCT(E36,1.008) -> 0 | G36: =PRODUCT(F36,1.008) -> 0
A37: 30 | B37: Bérleti és lízing díjak | C37: K333 | D37: =SUM(KIADÁSOK!G34) -> 0 | E37: =PRODUCT(D37,1.008) -> 0 | F37: =PRODUCT(E37,1.008) -> 0 | G37: =PRODUCT(F37,1.008) -> 0
A38: 31 | B38: Karbantartási, kisjavítási szolgáltatások | C38: K334 | D38: =SUM(KIADÁSOK!G35) -> 7674000 | E38: =PRODUCT(D38,1.008) -> 7735392 | F38: =PRODUCT(E38,1.008) -> 7797275.1 | G38: =PRODUCT(F38,1.008) -> 7859653.3
A39: 32 | B39: Közvetített szolgáltatások | C39: K335 | D39: =SUM(KIADÁSOK!G36) -> 11000 | E39: =PRODUCT(D39,1.008) -> 11088 | F39: =PRODUCT(E39,1.008) -> 11176.704 | G39: =PRODUCT(F39,1.008) -> 11266.118
A40: 33 | B40: Szakmai tevékenységet segítő szolgáltatások | C40: K336 | D40: =SUM(KIADÁSOK!G37) -> 3380094 | E40: =PRODUCT(D40,1.008) -> 3407134.8 | F40: =PRODUCT(E40,1.008) -> 3434391.8 | G40: =PRODUCT(F40,1.008) -> 3461867
A41: 34 | B41: Egyéb szolgáltatások | C41: K337 | D41: =SUM(KIADÁSOK!G38) -> 21382000 | E41: =PRODUCT(D41,1.008) -> 21553056 | F41: =PRODUCT(E41,1.008) -> 21725480 | G41: =PRODUCT(F41,1.008) -> 21899284
A42: 35 | B42: Szolgáltatási kiadások (=28+…+34) | C42: K33 | D42: =SUM(D35:D41) -> 46010825 | E42: =SUM(E35:E41) -> 46378912 | F42: =SUM(F35:F41) -> 46749943 | G42: =SUM(G35:G41) -> 47123942
A43: 36 | B43: Kiküldetések kiadásai | C43: K341 | D43: =SUM(KIADÁSOK!G40) -> 3490 | E43: =PRODUCT(D43,1.008) -> 3517.92 | F43: =PRODUCT(E43,1.008) -> 3546.0634 | G43: =PRODUCT(F43,1.008) -> 3574.4319
A44: 37 | B44: Reklám- és propagandakiadások | C44: K342 | D44: =SUM(KIADÁSOK!G41) -> 1500000 | E44: =PRODUCT(D44,1.008) -> 1512000 | F44: =PRODUCT(E44,1.008) -> 1524096 | G44: =PRODUCT(F44,1.008) -> 1536288.8
A45: 38 | B45: Kiküldetések, reklám- és propagandakiadások (=36+37) | C45: K34 | D45: =SUM(D43:D44) -> 1503490 | E45: =SUM(E43:E44) -> 1515517.9 | F45: =SUM(F43:F44) -> 1527642.1 | G45: =SUM(G43:G44) -> 1539863.2
A46: 39 | B46: Működési célú előzetesen felszámított általános forgalmi adó | C46: K351 | D46: =SUM(KIADÁSOK!G43) -> 17436630 | E46: =PRODUCT(D46,1.008) -> 17576123 | F46: =PRODUCT(E46,1.008) -> 17716732 | G46: =PRODUCT(F46,1.008) -> 17858466
A47: 40 | B47: Fizetendő általános forgalmi adó | C47: K352 | D47: =SUM(KIADÁSOK!G44) -> 7385000 | E47: =PRODUCT(D47,1.008) -> 7444080 | F47: =PRODUCT(E47,1.008) -> 7503632.6 | G47: =PRODUCT(F47,1.008) -> 7563661.7
A48: 41 | B48: Kamatkiadások | C48: K353 | D48: =SUM(KIADÁSOK!G45) -> 0 | E48: =PRODUCT(D48,1.008) -> 0 | F48: =PRODUCT(E48,1.008) -> 0 | G48: =PRODUCT(F48,1.008) -> 0
A49: 42 | B49: Egyéb pénzügyi műveletek kiadásai | C49: K354 | D49: =SUM(KIADÁSOK!G46) -> 0 | E49: =PRODUCT(D49,1.008) -> 0 | F49: =PRODUCT(E49,1.008) -> 0 | G49: =PRODUCT(F49,1.008) -> 0
A50: 43 | B50: Egyéb dologi kiadások | C50: K355 | D50: =SUM(KIADÁSOK!G47) -> 0 | E50: =PRODUCT(D50,1.008) -> 0 | F50: =PRODUCT(E50,1.008) -> 0 | G50: =PRODUCT(F50,1.008) -> 0
A51: 44 | B51: Különféle befizetések és egyéb dologi kiadások (=39+…+43) | C51: K35 | D51: =SUM(D46:D50) -> 24821630 | E51: =SUM(E46:E50) -> 25020203 | F51: =SUM(F46:F50) -> 25220365 | G51: =SUM(G46:G50) -> 25422128
A52: 45 | B52: Dologi kiadások (=24+27+35+38+44) | C52: K3 | D52: =SUM(D51,D45,D42,D34,D31) -> 99873883 | E52: =SUM(E51,E45,E42,E34,E31) -> 1.0067287e+08 | F52: =SUM(F51,F45,F42,F34,F31) -> 1.0147826e+08 | G52: =SUM(G51,G45,G42,G34,G31) -> 1.0229008e+08
A53: 46 | B53: Társadalombiztosítási ellátások | C53: K41 | D53: =SUM(KIADÁSOK!G50) -> 0 | E53: =PRODUCT(D53,1.008) -> 0 | F53: =PRODUCT(E53,1.008) -> 0 | G53: =PRODUCT(F53,1.008) -> 0
A54: 47 | B54: Családi támogatások | C54: K42 | D54: =SUM(KIADÁSOK!G51) -> 0 | E54: =PRODUCT(D54,1.008) -> 0 | F54: =PRODUCT(E54,1.008) -> 0 | G54: =PRODUCT(F54,1.008) -> 0
A55: 48 | B55: Pénzbeli kárpótlások, kártérítések | C55: K43 | D55: =SUM(KIADÁSOK!G52) -> 0 | E55: =PRODUCT(D55,1.008) -> 0 | F55: =PRODUCT(E55,1.008) -> 0 | G55: =PRODUCT(F55,1.008) -> 0
A56: 49 | B56: Betegséggel kapcsolatos (nem társadalombiztosítási) ellátások | C56: K44 | D56: =SUM(KIADÁSOK!G53) -> 0 | E56: =PRODUCT(D56,1.008) -> 0 | F56: =PRODUCT(E56,1.008) -> 0 | G56: =PRODUCT(F56,1.008) -> 0
A57: 50 | B57: Foglalkoztatással, munkanélküliséggel kapcsolatos ellátások | C57: K45 | D57: =SUM(KIADÁSOK!G54) -> 0 | E57: =PRODUCT(D57,1.008) -> 0 | F57: =PRODUCT(E57,1.008) -> 0 | G57: =PRODUCT(F57,1.008) -> 0
A58: 51 | B58: Lakhatással kapcsolatos ellátások | C58: K46 | D58: =SUM(KIADÁSOK!G55) -> 0 | E58: =PRODUCT(D58,1.008) -> 0 | F58: =PRODUCT(E58,1.008) -> 0 | G58: =PRODUCT(F58,1.008) -> 0
A59: 52 | B59: Intézményi ellátottak pénzbeli juttatásai | C59: K47 | D59: =SUM(KIADÁSOK!G56) -> 0 | E59: =PRODUCT(D59,1.008) -> 0 | F59: =PRODUCT(E59,1.008) -> 0 | G59: =PRODUCT(F59,1.008) -> 0
A60: 53 | B60: Egyéb nem intézményi ellátások | C60: K48 | D60: =SUM(KIADÁSOK!G57) -> 6077904 | E60: =PRODUCT(D60,1.008) -> 6126527.2 | F60: =PRODUCT(E60,1.008) -> 6175539.4 | G60: =PRODUCT(F60,1.008) -> 6224943.8
A61: 54 | B61: Ellátottak pénzbeli juttatásai (=46+...+53) | C61: K4 | D61: =SUM(D53:D60) -> 6077904 | E61: =SUM(E53:E60) -> 6126527.2 | F61: =SUM(F53:F60) -> 6175539.4 | G61: =SUM(G53:G60) -> 6224943.8
A62: 55 | B62: Nemzetközi kötelezettségek | C62: K501 | D62: =SUM(KIADÁSOK!G59) -> 0 | E62: =PRODUCT(D62,1.008) -> 0 | F62: =PRODUCT(E62,1.008) -> 0 | G62: =PRODUCT(F62,1.008) -> 0
A63: 56 | B63: A helyi önkormányzatok előző évi elszámolásából származó kiadások | C63: K5021 | D63: =SUM(KIADÁSOK!G60) -> 0 | E63: =PRODUCT(D63,1.008) -> 0 | F63: =PRODUCT(E63,1.008) -> 0 | G63: =PRODUCT(F63,1.008) -> 0
A64: 57 | B64: A helyi önkormányzatok törvényi előíráson alapuló befizetései | C64: K5022 | D64: =SUM(KIADÁSOK!G61) -> 0 | E64: =PRODUCT(D64,1.008) -> 0 | F64: =PRODUCT(E64,1.008) -> 0 | G64: =PRODUCT(F64,1.008) -> 0
A65: 58 | B65: Egyéb elvonások, befizetések | C65: K5023 | D65: =SUM(KIADÁSOK!G62) -> 0 | E65: =PRODUCT(D65,1.008) -> 0 | F65: =PRODUCT(E65,1.008) -> 0 | G65: =PRODUCT(F65,1.008) -> 0
A66: 59 | B66: Elvonások és befizetések (=56+57+58) | C66: K502 | D66: =SUM(KIADÁSOK!G63) -> 0 | E66: =PRODUCT(D66,1.008) -> 0 | F66: =PRODUCT(E66,1.008) -> 0 | G66: =PRODUCT(F66,1.008) -> 0
A67: 60 | B67: Működési célú garancia- és kezességvállalásból származó kifizetés államháztartáson belülre | C67: K503 | D67: =SUM(KIADÁSOK!G64) -> 0 | E67: =PRODUCT(D67,1.008) -> 0 | F67: =PRODUCT(E67,1.008) -> 0 | G67: =PRODUCT(F67,1.008) -> 0
A68: 61 | B68: Működési célú visszatérítendő támogatások, kölcsönök nyújtása államháztartáson belülre | C68: K504 | D68: =SUM(KIADÁSOK!G65) -> 0 | E68: =PRODUCT(D68,1.008) -> 0 | F68: =PRODUCT(E68,1.008) -> 0 | G68: =PRODUCT(F68,1.008) -> 0
A69: 62 | B69: Működési célú visszatérítendő támogatások, kölcsönök törlesztése államháztartáson belülre | C69: K505 | D69: =SUM(KIADÁSOK!G66) -> 0 | E69: =PRODUCT(D69,1.008) -> 0 | F69: =PRODUCT(E69,1.008) -> 0 | G69: =PRODUCT(F69,1.008) -> 0
A70: 63 | B70: Egyéb működési célú támogatások államháztartáson belülre | C70: K506 | D70: =SUM(KIADÁSOK!G67) -> 71942003 | E70: =PRODUCT(D70,1.008) -> 72517539 | F70: =PRODUCT(E70,1.008) -> 73097679 | G70: =PRODUCT(F70,1.008) -> 73682461
A71: 64 | B71: Működési célú garancia- és kezességvállalásból származó kifizetés államháztartáson kívülre | C71: K507 | D71: =SUM(KIADÁSOK!G68) -> 0 | E71: =PRODUCT(D71,1.008) -> 0 | F71: =PRODUCT(E71,1.008) -> 0 | G71: =PRODUCT(F71,1.008) -> 0
A72: 65 | B72: Működési célú visszatérítendő támogatások, kölcsönök nyújtása államháztartáson kívülre | C72: K508 | D72: =SUM(KIADÁSOK!G69) -> 0 | E72: =PRODUCT(D72,1.008) -> 0 | F72: =PRODUCT(E72,1.008) -> 0 | G72: =PRODUCT(F72,1.008) -> 0
A73: 66 | B73: Árkiegészítések, ártámogatások | C73: K509 | D73: =SUM(KIADÁSOK!G70) -> 0 | E73: =PRODUCT(D73,1.008) -> 0 | F73: =PRODUCT(E73,1.008) -> 0 | G73: =PRODUCT(F73,1.008) -> 0
A74: 67 | B74: Kamattámogatások | C74: K510 | D74: =SUM(KIADÁSOK!G71) -> 0 | E74: =PRODUCT(D74,1.008) -> 0 | F74: =PRODUCT(E74,1.008) -> 0 | G74: =PRODUCT(F74,1.008) -> 0
... A77: 70 | B77: Tartalékok | C77: K513 | D77: =SUM(KIADÁSOK!G74) -> 20946204 | E77: =PRODUCT(D77,1.008) -> 21113774 | F77: =PRODUCT(E77,1.008) -> 21282684 | G77: =PRODUCT(F77,1.008) -> 21452945
A78: 71 | B78: Egyéb működési célú kiadások (=55+59+…+70) | C78: K5 | D78: =SUM(D62:D77) -> 97058261 | E78: =SUM(E62:E77) -> 97834727 | F78: =SUM(F62:F77) -> 98617405 | G78: =SUM(G62:G77) -> 99406344
A79: 72 | B79: Immateriális javak beszerzése, létesítése | C79: K61 | D79: =SUM(KIADÁSOK!G76) -> 0 | E79: =PRODUCT(D79,1.008) -> 0 | F79: =PRODUCT(E79,1.008) -> 0 | G79: =PRODUCT(F79,1.008) -> 0
A80: 73 | B80: Ingatlanok beszerzése, létesítése | C80: K62 | D80: =SUM(KIADÁSOK!G77) -> 0 | E80: =PRODUCT(D80,1.008) -> 0 | F80: =PRODUCT(E80,1.008) -> 0 | G80: =PRODUCT(F80,1.008) -> 0
A81: 74 | B81: Informatikai eszközök beszerzése, létesítése | C81: K63 | D81: =SUM(KIADÁSOK!G78) -> 0 | E81: =PRODUCT(D81,1.008) -> 0 | F81: =PRODUCT(E81,1.008) -> 0 | G81: =PRODUCT(F81,1.008) -> 0
A82: 75 | B82: Egyéb tárgyi eszközök beszerzése, létesítése | C82: K64 | D82: =SUM(KIADÁSOK!G79) -> 0 | E82: =PRODUCT(D82,1.008) -> 0 | F82: =PRODUCT(E82,1.008) -> 0 | G82: =PRODUCT(F82,1.008) -> 0
A83: 76 | B83: Részesedések beszerzése | C83: K65 | D83: =SUM(KIADÁSOK!G80) -> 0 | E83: =PRODUCT(D83,1.008) -> 0 | F83: =PRODUCT(E83,1.008) -> 0 | G83: =PRODUCT(F83,1.008) -> 0
A84: 77 | B84: Meglévő részesedések növeléséhez kapcsolódó kiadások | C84: K66 | D84: =SUM(KIADÁSOK!G81) -> 0 | E84: =PRODUCT(D84,1.008) -> 0 | F84: =PRODUCT(E84,1.008) -> 0 | G84: =PRODUCT(F84,1.008) -> 0
A85: 78 | B85: Beruházási célú előzetesen felszámított általános forgalmi adó | C85: K67 | D85: =SUM(KIADÁSOK!G82) -> 0 | E85: =PRODUCT(D85,1.008) -> 0 | F85: =PRODUCT(E85,1.008) -> 0 | G85: =PRODUCT(F85,1.008) -> 0
A86: 79 | B86: Beruházások (=72+…+78) | C86: K6 | D86: =SUM(D79:D85) -> 0 | E86: =SUM(E79:E85) -> 0 | F86: =SUM(F79:F85) -> 0 | G86: =SUM(G79:G85) -> 0
A87: 80 | B87: Ingatlanok felújítása | C87: K71 | D87: =SUM(KIADÁSOK!G84) -> 77578242 | E87: =PRODUCT(D87,1.008) -> 78198868 | F87: =PRODUCT(E87,1.008) -> 78824459 | G87: =PRODUCT(F87,1.008) -> 79455055
A88: 81 | B88: Informatikai eszközök felújítása | C88: K72 | D88: =SUM(KIADÁSOK!G85) -> 0 | E88: =PRODUCT(D88,1.008) -> 0 | F88: =PRODUCT(E88,1.008) -> 0 | G88: =PRODUCT(F88,1.008) -> 0
A89: 82 | B89: Egyéb tárgyi eszközök felújítása | C89: K73 | D89: =SUM(KIADÁSOK!G86) -> 0 | E89: =PRODUCT(D89,1.008) -> 0 | F89: =PRODUCT(E89,1.008) -> 0 | G89: =PRODUCT(F89,1.008) -> 0
A90: 83 | B90: Felújítási célú előzetesen felszámított általános forgalmi adó | C90: K74 | D90: =SUM(KIADÁSOK!G87) -> 21533391 | E90: =PRODUCT(D90,1.008) -> 21705658 | F90: =PRODUCT(E90,1.008) -> 21879303 | G90: =PRODUCT(F90,1.008) -> 22054338
A91: 84 | B91: Felújítások (=80+...+83) | C91: K7 | D91: =SUM(D87:D90) -> 99111633 | E91: =SUM(E87:E90) -> 99904526 | F91: =SUM(F87:F90) -> 1.0070376e+08 | G91: =SUM(G87:G90) -> 1.0150939e+08
A92: 85 | B92: Felhalmozási célú garancia- és kezességvállalásból származó kifizetés államháztartáson belülre | C92: K81 | D92: =SUM(KIADÁSOK!G89) -> 0 | E92: 0 | F92: 0 | G92: 0
A93: 86 | B93: Felhalmozási célú visszatérítendő támogatások, kölcsönök nyújtása államháztartáson belülre | C93: K82 | D93: =SUM(KIADÁSOK!G90) -> 0 | E93: 0 | F93: 0 | G93: 0
A94: 87 | B94: Felhalmozási célú visszatérítendő támogatások, kölcsönök törlesztése államháztartáson belülre | C94: K83 | D94: =SUM(KIADÁSOK!G91) -> 0 | E94: 0 | F94: 0 | G94: 0
A95: 88 | B95: Egyéb felhalmozási célú támogatások államháztartáson belülre | C95: K84 | D95: =SUM(KIADÁSOK!G92) -> 0 | E95: 0 | F95: 0 | G95: 0
A96: 89 | B96: Felhalmozási célú garancia- és kezességvállalásból származó kifizetés államháztartáson kívülre | C96: K85 | D96: =SUM(KIADÁSOK!G93) -> 0 | E96: 0 | F96: 0 | G96: 0
A97: 90 | B97: Felhalmozási célú visszatérítendő támogatások, kölcsönök nyújtása államháztartáson kívülre | C97: K86 | D97: =SUM(KIADÁSOK!G94) -> 0 | E97: 0 | F97: 0 | G97: 0
A98: 91 | B98: Lakástámogatás | C98: K87 | D98: =SUM(KIADÁSOK!G95) -> 0 | E98: 0 | F98: 0 | G98: 0
A99: 92 | B99: Felhalmozási célú támogatások az Európai Uniónak | C99: K88 | D99: =SUM(KIADÁSOK!G96) -> 0 | E99: 0 | F99: 0 | G99: 0
A100: 93 | B100: Egyéb felhalmozási célú támogatások államháztartáson kívülre | C100: K89 | D100: =SUM(KIADÁSOK!G97) -> 0 | E100: 0 | F100: 0 | G100: 0
A101: 94 | B101: Egyéb felhalmozási célú kiadások (=85+…+93) | C101: K8 | D101: =SUM(D92:D100) -> 0 | E101: =SUM(E92:E100) -> 0 | F101: =SUM(F92:F100) -> 0 | G101: =SUM(G92:G100) -> 0
A102: 95 | B102: Költségvetési kiadások (=19+20+45+54+71+79+84+94) | C102: K1-K8 | D102: =SUM(D101+D91+D86+D78+D61+D52+D27+D26) -> 400265002 | E102: =SUM(E101+E91+E86+E78+E61+E52+E27+E26) -> 4.0346712e+08 | F102: =SUM(F101+F91+F86+F78+F61+F52+F27+F26) -> 4.0669486e+08 | G102: =SUM(G101+G91+G86+G78+G61+G52+G27+G26) -> 4.0994842e+08
A103: 01 | B103: Hosszú lejáratú hitelek, kölcsönök törlesztése pénzügyi vállalkozásnak | C103: K9111 | D103: =SUM(KIADÁSOK!G100) -> 0 | E103: =PRODUCT(D103,1.008) -> 0 | F103: =PRODUCT(E103,1.008) -> 0 | G103: =PRODUCT(F103,1.008) -> 0
A104: 02 | B104: Likviditási célú hitelek, kölcsönök törlesztése pénzügyi vállalkozásnak | C104: K9112 | D104: =SUM(KIADÁSOK!G101) -> 0 | E104: =PRODUCT(D104,1.008) -> 0 | F104: =PRODUCT(E104,1.008) -> 0 | G104: =PRODUCT(F104,1.008) -> 0
A105: 03 | B105: Rövid lejáratú hitelek, kölcsönök törlesztése pénzügyi vállalkozásnak | C105: K9113 | D105: =SUM(KIADÁSOK!G102) -> 0 | E105: =PRODUCT(D105,1.008) -> 0 | F105: =PRODUCT(E105,1.008) -> 0 | G105: =PRODUCT(F105,1.008) -> 0
A106: 04 | B106: Hitel-, kölcsöntörlesztés államháztartáson kívülre (=01+02+03) | C106: K911 | D106: =SUM(D103:D105) -> 0 | E106: =PRODUCT(D106,1.008) -> 0 | F106: =PRODUCT(E106,1.008) -> 0 | G106: =PRODUCT(F106,1.008) -> 0
A107: 05 | B107: Forgatási célú belföldi értékpapírok vásárlása | C107: K9121 | D107: =SUM(KIADÁSOK!G104) -> 0 | E107: =PRODUCT(D107,1.008) -> 0 | F107: =PRODUCT(E107,1.008) -> 0 | G107: =PRODUCT(F107,1.008) -> 0
A108: 06 | B108: Befektetési célú belföldi értékpapírok vásárlása | C108: K9122 | D108: =SUM(KIADÁSOK!G105) -> 0 | E108: =PRODUCT(D108,1.008) -> 0 | F108: =PRODUCT(E108,1.008) -> 0 | G108: =PRODUCT(F108,1.008) -> 0
A109: 07 | B109: Kincstárjegyek beváltása | C109: K9123 | D109: =SUM(KIADÁSOK!G106) -> 0 | E109: =PRODUCT(D109,1.008) -> 0 | F109: =PRODUCT(E109,1.008) -> 0 | G109: =PRODUCT(F109,1.008) -> 0
...
