Workbook
Name onev: [1]kod!$BT$34:$BT$3186

Sheet 1.sz.tábla
A4: AZ ÖNKORMÁNYZAT FŐÖSSZESÍTŐJE
A6: MEGNEVEZÉS | B6: 2020. évi eredeti előirányzat | C6: I. Módosítás | D6: II. Módosítás | E6: Eltérés
A7: I. Működési célú támogatások államháztartáson belülről | B7: ='2.sz.tábla'!B5 -> 38197043 | C7: ='2.sz.tábla'!C5 -> 37804762 | D7: ='2.sz.tábla'!D5 -> 39233732 | E7: ='2.sz.tábla'!E5 -> 1428970
A8: II. Felhalmozási célú támogatások államháztartáson belülről | B8: ='2.sz.tábla'!B23 -> 0 | C8: ='2.sz.tábla'!C23 -> 0 | D8: ='2.sz.tábla'!D23 -> 4952269 | E8: ='2.sz.tábla'!E23 -> 4952269
A9: III. Közhatalmi bevételek | B9: ='2.sz.tábla'!B34 -> 19900000 | C9: ='2.sz.tábla'!C34 -> 18100000 | D9: ='2.sz.tábla'!D34 -> 18100000 | E9: ='2.sz.tábla'!E34 -> 0
A10: IV. Működési bevételek | B10: ='2.sz.tábla'!B48 -> 4403000 | C10: ='2.sz.tábla'!C48 -> 8023000 | D10: ='2.sz.tábla'!D48 -> 8023000 | E10: ='2.sz.tábla'!E48 -> 0
A11: V. Felhalmozási bevételek | B11: ='2.sz.tábla'!B61 -> 0 | C11: ='2.sz.tábla'!C61 -> 0 | D11: ='2.sz.tábla'!D61 -> 0 | E11: ='2.sz.tábla'!E61 -> 0
A12: VI. Működési célú átvett pénzeszközök | B12: ='2.sz.tábla'!B67 -> 0 | C12: ='2.sz.tábla'!C67 -> 0 | D12: ='2.sz.tábla'!D67 -> 0 | E12: ='2.sz.tábla'!E67 -> 0
A13: VII. Felhalmozási célú átvett pénzeszközök | B13: ='2.sz.tábla'!B72 -> 0 | C13: 0 | D13: 0 | E13: ='2.sz.tábla'!E11 -> 0
A14: Költségvetési bevételek összesen: | B14: =SUM(B7:B13) -> 62500043 | C14: =SUM(C7:C13) -> 63927762 | D14: =SUM(D7:D13) -> 70309001 | E14: =SUM(E7:E13) -> 6381239
A15: VIII. Finanszírozási bevételek
A16: 1. Költségvetési hiány belső finanszírozására szolgáló finanszírozási bevételek | B16: ='2.sz.tábla'!B79 -> 127376651 | C16: ='2.sz.tábla'!C79 -> 128025513 | D16: ='2.sz.tábla'!D79 -> 128025513 | E16: ='2.sz.tábla'!E79 -> 0
A17: 2. Költségvetési hiány külső finanszírozására szolgáló finanszírozási célú pénzügyi műveletek bevételei | B17: ='2.sz.tábla'!B82 -> 1153465 | C17: ='2.sz.tábla'!C82 -> 1153465 | D17: ='2.sz.tábla'!D82 -> 1153465 | E17: ='2.sz.tábla'!E82 -> 0
A18: Finanszírozási bevételek összesen: | B18: =B16+B17 -> 128530116 | C18: =C16+C17 -> 129178978 | D18: =D16+D17 -> 129178978 | E18: =E16+E17 -> 0
A19: Bevételek összesen: | B19: =B14+B18 -> 191030159 | C19: =C14+C18 -> 193106740 | D19: =D14+D18 -> 199487979 | E19: =E14+E18 -> 6381239
A22: Működési kiadások | B22: =SUM(B23:B24) -> 80597035 | C22: =SUM(C23:C24) -> 80850250 | D22: =SUM(D23:D24) -> 78290518 | E22: =SUM(E23:E24) -> -2559732
A23: Önkormányzat | B23: ='3.tábla'!B50 -> 80597035 | C23: ='3.tábla'!C50 -> 80850250 | D23: ='3.tábla'!D50 -> 78290518 | E23: ='3.tábla'!E50 -> -2559732
A25: Felhalmozási kiadások | B25: =SUM(B26:B29) -> 104834716 | C25: =SUM(C26:C29) -> 103615516 | D25: =SUM(D26:D29) -> 108845255 | E25: =SUM(E26:E29) -> 5229739
A26: Fejlesztési kiadások | B26: 0 | C26: ='2.sz.tábla'!C92 -> 0 | D26: ='2.sz.tábla'!D92 -> 0 | E26: 0
A27: Beruházás | B27: ='5.sz.tábla '!B15 -> 11285651 | C27: ='5.sz.tábla '!C15 -> 10066451 | D27: ='5.sz.tábla '!D15 -> 15296190 | E27: ='5.sz.tábla '!E15 -> 5229739
A28: Felújítás | B28: ='5.sz.tábla '!B20 -> 93491000 | C28: ='5.sz.tábla '!C20 -> 93491000 | D28: ='5.sz.tábla '!D20 -> 93491000 | E28: ='5.sz.tábla '!E20 -> 0
A29: Egyéb felhalmozási kiadások | B29: ='5.sz.tábla '!B23 -> 58065 | C29: ='5.sz.tábla '!C23 -> 58065 | D29: ='5.sz.tábla '!D23 -> 58065 | E29: ='5.sz.tábla '!E23 -> 0
A31: Tartalékok | B31: =SUM(B32:B34) -> 3514050 | C31: =SUM(C32:C34) -> 6556616 | D31: =SUM(D32:D34) -> 10267848 | E31: =D31-C31 -> 3711232
A32: Általános | B32: 3514050 | C32: =3514050+648862+3620000+30742-1500000-300000-36000-10578-206636+131508+1219200-1-554531 -> 6556616 | D32: =6556616+252840-77470+2788732+947130-200000 -> 10267848 | E32: =D32-C32 -> 3711232
A33: Céltartalék | B33: 0 | C33: 0 | D33: 0 | E33: 0
A34: Céltartalék | B34: 0 | C34: 0 | D34: 0 | E34: 0
A35: Költségvetési kiadások összesen: | B35: =SUM(B31,B25,B22) -> 188945801 | C35: =SUM(C31,C25,C22) -> 191022382 | D35: =SUM(D31,D25,D22) -> 197403621 | E35: =SUM(E31,E25,E22) -> 6381239
A36: Hiteltörlesztés
A37: Állami támogatás megelőlegezés visszafizetés | B37: ='5.sz.tábla '!B30 -> 2084358 | C37: ='5.sz.tábla '!C30 -> 2084358 | D37: ='5.sz.tábla '!D30 -> 2084358 | E37: ='5.sz.tábla '!E30 -> 0
A38: Finanszírozási kiadások összesen: | B38: =SUM(B36:B37) -> 2084358 | C38: =SUM(C36:C37) -> 2084358 | D38: =SUM(D36:D37) -> 2084358 | E38: =SUM(E36:E37) -> 0
A39: Kiadások összesen: | B39: =SUM(B35,B38) -> 191030159 | C39: =SUM(C35,C38) -> 193106740 | D39: =SUM(D35,D38) -> 199487979 | E39: =SUM(E35,E38) -> 6381239
B41: =B19-B39 -> 0 | C41: =C19-C39 -> 0 | D41: =D19-D39 -> 0 | E41: =E19-E39 -> 0

Sheet 2.sz.tábla
A3: BEVÉTELEK ELŐIRÁNYZATA
A4: MEGNEVEZÉS | B4: ='1.sz.tábla'!B6 -> 2020. évi eredeti előirányzat | C4: ='1.sz.tábla'!C6 -> I. Módosítás | D4: ='1.sz.tábla'!D6 -> II. Módosítás | E4: ='1.sz.tábla'!E6 -> Eltérés
A5: I. Működési célú támogatások államháztartáson belülről | B5: =B6+B14+B15+B16+B17+B18 -> 38197043 | C5: =C6+C14+C15+C16+C17+C18 -> 37804762 | D5: =D6+D14+D15+D16+D17+D18 -> 39233732 | E5: =E6+E14+E15+E16+E17+E18 -> 1428970
A6: 1. Önkormányzat működési támogatásai | B6: =SUM(B7:B12) -> 23272325 | C6: =SUM(C7:C12) -> 22834552 | D6: =SUM(D7:D12) -> 23382146 | E6: =D6-C6 -> 547594
A7: 1.1. Helyi önk. működésének ált. támogatása | B7: ='2a. tábla'!E5 -> 15149325 | C7: ='2a. tábla'!F5 -> 14594794 | D7: ='2a. tábla'!G5 -> 14594794 | E7: =D7-C7 -> 0
A8: 1.2. Települési önk. egyes köznev. feladatainak támogatása | B8: 0 | C8: 0 | D8: 0 | E8: =D8-C8 -> 0
A9: 1.3. Települési önk. szoc. és gyermekjóléti feladatainak tám. | B9: ='2a. tábla'!E32 -> 6323000 | C9: ='2a. tábla'!F32 -> 6439758 | D9: ='2a. tábla'!G32 -> 6734512 | E9: =D9-C9 -> 294754
A10: 1.4. Települési önk. kult. feladatainak támogatása | B10: ='2a. tábla'!E42 -> 1800000 | C10: ='2a. tábla'!F42 -> 1800000 | D10: ='2a. tábla'!G42 -> 2052840 | E10: =D10-C10 -> 252840
A11: 1.5. Helyi önk. Működési célú költségvetési támogatásai és kiegészítő támogatásai BMÖGF/63-12/2018. | B11: 0 | C11: 0 | D11: 0 | E11: =C11-B11 -> 0
A12: 1.6. Elszámolásból származó bevételek | B12: 0 | C12: 0 | D12: 0 | E12: =C12-B12 -> 0
A13: 1.7. Gyermekétkeztetés
A14: 2. Elvonások, befizetések
A15: 3. Működési célú garancia- és kezességvállalásból származó megtérülések áh-n belülről
A16: 4. Működési célú visszatérítendő támogatások, kölcsönök visszatérülése áh-n belülről
A17: 5. Működési célú visszatérítendő támogatások, kölcsönök igénybevétele áh-n belülről
A18: 6. Egyéb működési célú támogatások bevételei államháztartáson belülről | B18: =B19+B20+B21+86016 -> 14924718 | C18: =C19+C20+C21+131508 -> 14970210 | D18: =D19+D20+D21+D22+131508-65754 -> 15851586 | E18: =D18-C18 -> 881376
A19: Közfoglalkoztatási támogatás | B19: 3048694 | C19: 3048694 | D19: 3048694 | E19: =D19-C19 -> 0
A20: EFOP Humán közszolgáltatások fejlesztése | B20: 8490008 | C20: 8490008 | D20: 8490008 | E20: =D20-C20 -> 0
A21: Nemzeti Egészségbiztosítási Alapkezelő | B21: 3300000 | C21: 3300000 | D21: 3300000 | E21: =D21-C21 -> 0
A22: KÖH elszámolás 2019. | B22: 0 | C22: 0 | D22: 947130 | E22: =D22-C22 -> 947130
A23: II. Felhalmozási célú támogatások államháztartáson belülről | B23: =B24+B29+B30+B31+B32 -> 0 | C23: =SUM(C24:C32) -> 0 | D23: =SUM(D24:D32) -> 4952269 | E23: =E24+E29+E30+E31+E32 -> 4952269
A24: 1. Felhalmozási célú önkormányzati támogatások | B24: 0 | C24: 0 | D24: 0 | E24: 0
A25: 1.1. Felhalmozási célú központosított támogatások | B25: 0 | C25: 0 | D25: 0 | E25: 0
A26: 1.2. Felhalmozási célú egyéb támogatások
A27: 1.3. Belterületi utak felújítása támogatás
A28: 1.4. Adósságkonszolidációs tám.
A29: 2. Felhalmozási célú garancia- és kezességvállalásból származó megtérülések áh-n belülről
A30: 3. Felhalmozási célú visszatérítendő támogatások, kölcsönök visszatérülése áh-n belülről
A31: 4. Felhalmozási célú visszatérítendő támogatások, kölcsönök igénybevétele áh-n belülről
A32: 5. Egyéb felhalmozási célú támogatások államháztartáson belülről MFP-OJF/2020 | B32: 0 | C32: 0 | D32: 4952269 | E32: =D32-C32 -> 4952269
A33: MEGNEVEZÉS | B33: =B4 -> 2020. évi eredeti előirányzat | C33: =C4 -> I. Módosítás | D33: =D4 -> II. Módosítás | E33: =E4 -> Eltérés
A34: III. Közhatalmi bevételek | B34: =B35+B39+B47 -> 19900000 | C34: =C35+C39+C47 -> 18100000 | D34: =D35+D39+D47 -> 18100000 | E34: =D34-C34 -> 0
A35: 1. Vagyoni típusú adók | B35: =SUM(B36:B38) -> 10000000 | C35: =SUM(C36:C38) -> 10000000 | D35: =SUM(D36:D38) -> 10000000 | E35: =D35-C35 -> 0
A36: 1.1. Építményadó | B36: 0 | C36: 0 | D36: 0 | E36: =D36-C36 -> 0
A37: 1.2. Telekadó | B37: 200000 | C37: 200000 | D37: 200000 | E37: =D37-C37 -> 0
A38: 1.3. Magánszemélyek kommunális adója | B38: 9800000 | C38: 9800000 | D38: 9800000 | E38: =D38-C38 -> 0
A39: 2. Termékek és szolgáltatások adói | B39: =B40+B42+B43 -> 9800000 | C39: =C40+C42+C43 -> 8000000 | D39: =D40+D42+D43 -> 8000000 | E39: =D39-C39 -> 0
A40: 2.1. Értékesítési és forgalmi adók | B40: =SUM(B41) -> 8000000 | C40: =SUM(C41) -> 8000000 | D40: =SUM(D41) -> 8000000 | E40: =D40-C40 -> 0
A41: 2.1. 1. Iparűzési adó | B41: 8000000 | C41: 8000000 | D41: 8000000 | E41: =D41-C41 -> 0
A42: 2.2. Gépjárműadók | B42: 1500000 | C42: 0 | D42: 0 | E42: =D42-C42 -> 0
...

Sheet 2a. tábla
A1: ÁLLAMI TÁMOGATÁSOK 2020. ÉV
A2: MEGNEVEZÉS | B2: Létszám | C2: Mutató | D2: Fajlagos | E2: Eredeti előirányzat | F2: I. Módosítás | G2: II. Módosítás | H2: Eltérés
A4: I. HELYI ÖNKORMÁNYZATOK MŰKÖDÉSÉNEK ÁLT.TÁMOGATÁSA | E4: =E5 -> 15149325 | F4: =F5 -> 14594794 | G4: =G5 -> 14594794 | H4: =G4-F4 -> 0
A5: 1. Települési önkormányzatok működésének támogatása | E5: =E6+E9+E19+E20+E22+E23+E25+E26+E28 -> 15149325 | F5: =F6+F9+F19+F20+F22+F23+F25+F26+F28 -> 14594794 | G5: =G6+G9+G19+G20+G22+G23+G25+G26+G28 -> 14594794 | H5: =G5-F5 -> 0
A6: Önkormányzati hivatal működtetésének támogatás (beszámítás után) | E6: =E7 -> 0 | F6: =F7 -> 0 | G6: =G7 -> 0 | H6: =G6-F6 -> 0
A7: Önkormányzati hivatal működtetésének támogatás elismert hivatali létsz. | C7: 39.39 | D7: 5450000 | E7: 0 | F7: 0 | G7: 0 | H7: =G7-F7 -> 0
A8: Beszámítás összege | E8: 0 | F8: 0 | G8: 0 | H8: 0
A9: Település üzemeltetéséhez kapcsolódó feladatellát.támog.(beszámítás után) | E9: =E10+E11+E12+E13+E14+E15+E16+E17 -> 12436353 | F9: =F10+F11+F12+F13+F14+F15+F16+F17 -> 12436353 | G9: =G10+G11+G12+G13+G14+G15+G16+G17 -> 12436353 | H9: =G9-F9 -> 0
A10: Zöldterület-gazdálk-al kapcsolatos feladatok ellátásának támog. | D10: 25200 | E10: 1809360 | F10: 1809360 | G10: 1809360 | H10: =G10-F10 -> 0
A11: Beszámítás összege | E11: 0 | F11: 0 | G11: 0 | H11: =G11-F11 -> 0
A12: Közvilágítás fenntartásának támogatás | E12: 9344000 | F12: 9344000 | G12: 9344000 | H12: =G12-F12 -> 0
A13: Beszámítás összege | E13: 0 | F13: 0 | G13: 0 | H13: =G13-F13 -> 0
A14: Köztemető fenntartással kapcsolatos feladatok támog. | E14: 188853 | F14: 188853 | G14: 188853 | H14: =G14-F14 -> 0
E15: 0 | F15: 0 | G15: 0 | H15: =G15-F15 -> 0
A16: Közutak fenntartásának támogatás | E16: 1094140 | F16: 1094140 | G16: 1094140 | H16: =G16-F16 -> 0
A17: Beszámítás összege | E17: 0 | F17: 0 | G17: 0 | H17: =G17-F17 -> 0
A18: Egyéb önkormányzati feladatok támogatása (beszámítás után) | E18: =E19+E20 -> 1466822 | F18: =F19+F20 -> 1466822 | G18: =G19+G20 -> 1466822 | H18: =G18-F18 -> 0
A19: Egyéb önkormányzati feladatok támogatása | D19: 2700 | E19: 5000000 | F19: 5000000 | G19: 5000000 | H19: =G19-F19 -> 0
A20: Beszámítás összege | D20: 2700 | E20: -3533178 | F20: -3533178 | G20: -3533178 | H20: =G20-F20 -> 0
A21: Lakott külterületekkel kapcsolatos feladatok támogatása(beszámítás után) | E21: =E22+E23 -> 137700 | F21: =F22+F23 -> 137700 | G21: =G22+G23 -> 137700 | H21: =G21-F21 -> 0
A22: Lakott külterületekkel kapcsolatos feladatok támogatása | B22: 2550 | E22: 137700 | F22: 137700 | G22: 137700 | H22: =G22-F22 -> 0
A23: Beszámítás összege | E23: 0 | F23: 0 | G23: 0 | H23: =G23-F23 -> 0
A24: Üdülőhelyi feladatok támogatása (beszámitás után) | E24: =SUM(E25:E26) -> 852250 | F24: =SUM(F25:F26) -> 297719 | G24: =SUM(G25:G26) -> 297719 | H24: =G24-F24 -> 0
A25: Üdülőhelyi feladatok támogatása | E25: 852250 | F25: 852250 | G25: 852250 | H25: =G25-F25 -> 0
A26: Beszámítás összege | E26: 0 | F26: -554531 | G26: -554531 | H26: =G26-F26 -> 0
A28: 6. Polgármesteri illetmény támogatása | E28: 256200 | F28: 256200 | G28: 256200 | H28: =G28-F28 -> 0
A30: II. EGYES KÖZNEVELÉSI FELADATOK TÁMOGATÁSA | E30: 0 | F30: 0 | G30: 0 | H30: 0
A32: III. SZOCIÁLIS, GYERMEKJÓLÉTI ÉS GYERMEKÉTKEZTETÉSI FELADATAI | E32: =E34+E35+E37 -> 6323000 | F32: =F34+F35+F37+F33 -> 6439758 | G32: =G34+G35+G37+G33 -> 6734512 | H32: =G32-F32 -> 294754
A33: 1. Szociális ágazati összevont pótlék | E33: 0 | F33: 116758 | G33: =116758+65754 -> 182512 | H33: =G33-F33 -> 65754
A34: 2. A települési önkormányzatok szociális feladatainak egyéb támogatása | E34: 2073000 | F34: 2073000 | G34: =2073000+229000 -> 2302000 | H34: =G34-F34 -> 229000
A35: 3. Egyéb szociális és gyermekjóléti feladatok támogatása | E35: =E36 -> 4250000 | F35: =F36 -> 4250000 | G35: =G36 -> 4250000 | H35: =G35-F35 -> 0
A36: e) Falugondnoki vagy tanyagondnoki szolgáltatás | E36: 4250000 | F36: 4250000 | G36: 4250000 | H36: =G36-F36 -> 0
A37: 5. Gyermekétkeztetés támogatása | D37: 1632000 | E37: =E38+E39 -> 0 | F37: =F38+F39 -> 0 | G37: 0 | H37: 0
A38: a) Finanszírozás szempontjábol elismert dolgozók bértámogatása | C38: 0.36 | D38: 1900000 | E38: 0 | F38: 0 | G38: 0 | H38: 0
A39: b) Gyermekétkeztetés üzemeltetési támogatása
A42: IV. A TELEPÜLÉSI ÖNKORMÁNYZATOK KULTURÁLIS FELADATAINAK TÁMOGATÁSA | E42: =E43 -> 1800000 | F42: =F43 -> 1800000 | G42: =G43 -> 2052840 | H42: =G42-F42 -> 252840
A43: 1. d) Települési önkormányzatok nyilvános könyvtári és közművelődési feladatok támogatása | D43: 1210 | E43: 1800000 | F43: 1800000 | G43: =1800000+252840 -> 2052840 | H43: =G43-F43 -> 252840
A45: Helyi önkormányzatok kiegészítő támogatásai | E45: 0 | F45: 0 | G45: 0 | H45: 0
A46: 9. A települési önkormányzatok szociális célú tüzelőanyag vásárlásához kapcsolódó támogatása | E46: 0 | F46: 0 | G46: 0 | H46: 0
A48: Önkormányzati elszámolások | E48: 0 | F48: 0 | G48: 0 | H48: 0
...

Sheet 3.tábla
A2: MŰKÖDÉSI KIADÁSOK 2020. ÉV
A5: MEGNEVEZÉS | B5: ='1.sz.tábla'!B6 -> 2020. évi eredeti előirányzat | C5: ='1.sz.tábla'!C6 -> I. Módosítás | D5: ='1.sz.tábla'!D6 -> II. Módosítás | E5: ='1.sz.tábla'!E6 -> Eltérés
A6: Önkormányzat költségvetése
A7: I. Személyi juttatások | B7: =SUM(B8:B9) -> 24740450 | C7: =SUM(C8:C9) -> 24916310 | D7: =SUM(D8:D9) -> 24916310 | E7: =D7-C7 -> 0
A8: Személyi juttatások | B8: 22655950 | C8: =22655950+175860 -> 22831810 | D8: 22831810 | E8: =D8-C8 -> 0
A9: EFOP személyi juttatások | B9: 2084500 | C9: 2084500 | D9: 2084500 | E9: =D9-C9 -> 0
A10: II. Munkaadót terhelő járulékok | B10: =SUM(B11:B12) -> 4103665 | C10: =SUM(C11:C12) -> 4134441 | D10: =SUM(D11:D12) -> 4134441 | E10: =D10-C10 -> 0
A11: Munkaadót terhelő járulékok | B11: 3774860 | C11: =3774860+30776 -> 3805636 | D11: 3805636 | E11: =D11-C11 -> 0
A12: EFOP személyi juttatások | B12: 328805 | C12: 328805 | D12: 328805 | E12: =D12-C12 -> 0
A13: III. Dologi kiadások | B13: =SUM(B14:B34) -> 34641570 | C13: =SUM(C14:C34) -> 34641570 | D13: =SUM(D14:D34) -> 34641570 | E13: =D13-C13 -> 0
A14: Szakmai anyagok beszerzése | B14: 90000 | C14: 90000 | D14: 90000 | E14: =D14-C14 -> 0
A15: Üzemeltetési anyagok beszerzése | B15: 2600000 | C15: 2600000 | D15: 2600000 | E15: =D15-C15 -> 0
A16: EFOP Üzemeltetési anyagok beszerzése | B16: 310685 | C16: 310685 | D16: 310685 | E16: =D16-C16 -> 0
A17: Árubeszerzés | B17: 0 | C17: 0 | D17: 0 | E17: =D17-C17 -> 0
A18: Informatikai szolgáltatások igénybevétele | B18: 900000 | C18: 900000 | D18: 900000 | E18: =D18-C18 -> 0
A19: Egyéb kommunikációs szolgáltatások | B19: 400000 | C19: 400000 | D19: 400000 | E19: =D19-C19 -> 0
A20: Közüzemi díjak | B20: 5500000 | C20: 5500000 | D20: 5500000 | E20: =D20-C20 -> 0
A21: Vásárolt élelmezés | B21: 0 | C21: 0 | D21: 0 | E21: =D21-C21 -> 0
A22: Bérleti és lízing díjak | B22: 0 | C22: 0 | D22: 0 | E22: =D22-C22 -> 0
A23: Karbantartási, kisjavítási szolgáltatások | B23: 1000000 | C23: 1000000 | D23: 1000000 | E23: =D23-C23 -> 0
A24: Közvetített szolgáltatások | B24: 1300000 | C24: 1300000 | D24: =1300000-200000 -> 1100000 | E24: =D24-C24 -> -200000
A25: Szakmai tevékenységet segítő szolgáltatások | B25: 3600000 | C25: 3600000 | D25: =3600000+200000 -> 3800000 | E25: =D25-C25 -> 200000
A26: Egyéb szolgáltatások | B26: 5500000 | C26: 5500000 | D26: 5500000 | E26: =D26-C26 -> 0
A27: EFOP Egyéb szolgáltatások | B27: 3751733 | C27: 3751733 | D27: 3751733 | E27: =D27-C27 -> 0
A28: Kiküldetések kiadásai | B28: 100000 | C28: 100000 | D28: 100000 | E28: =D28-C28 -> 0
A29: Reklám- és propagandakiadások | B29: 100000 | C29: 100000 | D29: 100000 | E29: =D29-C29 -> 0
A30: Működési célú előzetesen felszámított általános forgalmi adó | B30: 5000000 | C30: 5000000 | D30: 5000000 | E30: =D30-C30 -> 0
A31: EFOP Működési célú ÁFA | B31: 1256152 | C31: 1256152 | D31: 1256152 | E31: =D31-C31 -> 0
A32: Fizetendő általános forgalmi adó | B32: 2283000 | C32: 2283000 | D32: 2283000 | E32: =D32-C32 -> 0
A33: Egyéb pénzügyi műveletek kiadásai | B33: 0 | C33: 0 | D33: 0 | E33: =D33-C33 -> 0
A34: Egyéb dologi kiadások | B34: 950000 | C34: 950000 | D34: 950000 | E34: =D34-C34 -> 0
A36: IV. Egyéb működési célú kiadások
A37: 1. Működési célú támogatások államháztartáson belülre | B37: ='4. sz. tábla'!B5 -> 14738350 | C37: ='4. sz. tábla'!C5 -> 14748929 | D37: ='4. sz. tábla'!D5 -> 11960197 | E37: ='4. sz. tábla'!E5 -> -2788732
A38: 2. Működési célú támogatások államháztartáson kívülre | B38: ='4. sz. tábla'!B11 -> 300000 | C38: ='4. sz. tábla'!C11 -> 300000 | D38: ='4. sz. tábla'!D11 -> 300000 | E38: ='4. sz. tábla'!E11 -> 0
A39: 3. Állami támogatás visszafizetése elszámolás alapján | B39: 0 | C39: 36000 | D39: 36000 | E39: =D39-C39 -> 0
A40: IV. Összesen: | B40: =SUM(B37:B39) -> 15038350 | C40: =SUM(C37:C39) -> 15084929 | D40: =SUM(D37:D39) -> 12296197 | E40: =D40-C40 -> -2788732
A42: V. Ellátottak pénzbeli juttatásai
A43: Nyári szociális gyermekétkeztetés
A44: Egyéb önkormányzati támogatás, átmeneti segély | B44: 1731000 | C44: 1696000 | D44: =1696000+229000 -> 1925000 | E44: =D44-C44 -> 229000
A45: Születési segély
...

Sheet 4. sz. tábla
A1: MŰKÖDÉSI KIADÁSOK 2020. ÉV
A4: MEGNEVEZÉS | B4: ='1.sz.tábla'!B6 -> 2020. évi eredeti előirányzat | C4: ='1.sz.tábla'!C6 -> I. Módosítás | D4: ='1.sz.tábla'!D6 -> II. Módosítás | E4: ='1.sz.tábla'!E6 -> Eltérés
A5: Működési célú támogatás államháztartáson belülre | B5: =SUM(B6:B9) -> 14738350 | C5: =SUM(C6:C10) -> 14748929 | D5: =SUM(D6:D10) -> 11960197 | E5: =D5-C5 -> -2788732
A6: Közoktatási Intézményfenntartó Társulás (Óvoda) | B6: 5427999 | C6: 5428000 | D6: 2639268 | E6: =D6-C6 -> -2788732
A7: Balatonfüredi Közös Önkormányzati Hivatal (Hivatal) | B7: 8110351 | C7: 8110351 | D7: 8110351 | E7: =D7-C7 -> 0
A8: Balatonfüredi Többcélú Társulás | B8: 1000000 | C8: 1000000 | D8: 1000000 | E8: =D8-C8 -> 0
A9: BURSA ösztöndíj | B9: 200000 | C9: 200000 | D9: 200000 | E9: =D9-C9 -> 0
A10: Előző évi közfoglalkoztatási támogatás visszafizetése | B10: 0 | C10: 10578 | D10: 10578 | E10: =D10-C10 -> 0
A11: Működési célú támogatás államháztartáson kívülre | B11: =SUM(B12:B13) -> 300000 | C11: =SUM(C12:C16) -> 300000 | D11: =SUM(D12:D17) -> 300000 | E11: =D11-C11 -> 0
A12: Működési célú támogatás államháztartáson kívülre | B12: 300000 | C12: 250000 | D12: 150000 | E12: =D12-C12 -> -100000
A13: Pécselyi Református Egyházközség 65/2020. (VIII. 25.) | B13: 0 | C13: 0 | D13: 50000 | E13: =D13-C13 -> 50000
A14: Balatonfüredi Eötvös Loránd Általános Iskola Tanulóiért Alapítvány | B14: 0 | E14: =D14-C14 -> 0
A15: Pécselyi Ált.Isk. és Óvoda Gyermekeiért Alapítvány
A16: Tihany Iskoláért alapítvány támogatás 19/2020. (II. 13.) | B16: 0 | C16: 50000 | D16: 50000 | E16: =D16-C16 -> 0
A17: Új Színház Alapítvány 66/2020. (VIII. 25.) | B17: 0 | C17: 0 | D17: 50000 | E17: =D17-C17 -> 50000
A18: Balaton-felvidéki Turisztikai Közhasznú Egyesület
A19: Bakonykarszt pályázati támogatás (lakossági víz és szennyv.sz.)
A22: Összesen: | B22: =B11+B5 -> 15038350 | C22: =C11+C5 -> 15048929 | D22: =D11+D5 -> 12260197 | E22: =D22-C22 -> -2788732

Sheet 5.sz.tábla 
A1: FELHALMOZÁSI KIADÁSOK 2020. ÉV
A3: MEGNEVEZÉS | B3: ='1.sz.tábla'!B6 -> 2020. évi eredeti előirányzat | C3: ='1.sz.tábla'!C6 -> I. Módosítás | D3: ='1.sz.tábla'!D6 -> II. Módosítás | E3: ='1.sz.tábla'!E6 -> Eltérés
A4: I. Beruházások
A5: Immateriális javak beszerzése
A6: Település fejlesztési koncepció | B6: 6223000 | C6: 5003800 | D6: 5003800 | E6: =D6-C6 -> 0
A7: Egyéb tárgyi eszköz beszerzése
A8: Kultúrház korlát | B8: 200000 | C8: 200000 | D8: 200000 | E8: =D8-C8 -> 0
A9: Eszközszerzés EFOP pályázat | B9: 331211 | C9: 331211 | D9: 331211 | E9: =D9-C9 -> 0
A10: Számítógép beszerzése - hivatal | B10: 400000 | C10: 400000 | D10: 400000 | E10: =D10-C10 -> 0
A11: Pick up beszerzése | B11: 1000000 | C11: 1000000 | D11: 1000000 | E11: =D11-C11 -> 0
A12: Kisértékű eszközök beszerzése | B12: 500000 | C12: 500000 | D12: =500000+50800+26670+200000 -> 777470 | E12: =D12-C12 -> 277470
A13: Temető beruházások 108/2019. (XI. 26.) | B13: 2631440 | C13: 2631440 | D13: 2631440 | E13: =D13-C13 -> 0
A14: Óvodai játszóudvar és közterületi játszótér MFP-OJF/2020. | B14: 0 | C14: 0 | D14: 4952269 | E14: =D14-C14 -> 4952269
A15: I. Beruházások összesen: | B15: =SUM(B6:B13) -> 11285651 | C15: =SUM(C6:C13) -> 10066451 | D15: =SUM(D6:D14) -> 15296190 | E15: =D15-C15 -> 5229739
A17: II. Felújítások
A18: Mozgáskorlátozott feljáró (orvosi rendelő) | B18: 2000000 | C18: 2000000 | D18: 2000000 | E18: =D18-C18 -> 0
A19: Óvodafelújítás BMÖGF/661-1/2019. | B19: 91491000 | C19: 91491000 | D19: 91491000 | E19: =D19-C19 -> 0
A20: II. Felújítások összesen: | B20: =SUM(B18:B19) -> 93491000 | C20: =SUM(C18:C19) -> 93491000 | D20: =SUM(D18:D19) -> 93491000 | E20: =D20-C20 -> 0
A22: III. Egyéb felhalmozási kiadások: | B22: =B23 -> 58065 | C22: =C23 -> 58065 | D22: =D23 -> 58065 | E22: =E23 -> 0
A23: Egyéb felhalm.tám. ÁHB (óvoda fenntartás tám.) | B23: 58065 | C23: 58065 | D23: 58065 | E23: =D23-C23 -> 0
A25: III. Felhalmozási kiadások összesen: | B25: =B22+B20+B15 -> 104834716 | C25: =C22+C20+C15 -> 103615516 | D25: =D22+D20+D15 -> 108845255 | E25: =D25-C25 -> 5229739
A27: IV. Finanszírozási kiadások
A28: Hitel törlesztés
A29: Forgatási célú értékpapír vásárlás
A30: Állami támogatás megelőlegezés visszafizetés | B30: 2084358 | C30: 2084358 | D30: 2084358 | E30: =D30-C30 -> 0
A31: IV. Finanszírozási kiadások összesen: | B31: =SUM(B28:B30) -> 2084358 | C31: =SUM(C28:C30) -> 2084358 | D31: =SUM(D28:D30) -> 2084358 | E31: =D31-C31 -> 0

Sheet 6. sz. tábla 
A4: Az önkormányzat működési bevételei és kiadásai
A6: 1. Működési bevételek | B6: ='1.sz.tábla'!B6 -> 2020. évi eredeti előirányzat | C6: ='1.sz.tábla'!C6 -> I. Módosítás | D6: ='1.sz.tábla'!D6 -> II. Módosítás | E6: ='1.sz.tábla'!E6 -> Eltérés | F6: 2. Működési kiadások | G6: =B6 -> 2020. évi eredeti előirányzat | H6: =C6 -> I. Módosítás | I6: =D6 -> II. Módosítás | J6: =E6 -> Eltérés
A7: 1. Működési célú támogatások államháztartáson belülről | B7: ='1.sz.tábla'!B7 -> 38197043 | C7: ='1.sz.tábla'!C7 -> 37804762 | D7: ='1.sz.tábla'!D7 -> 39233732 | E7: ='1.sz.tábla'!E7 -> 1428970 | F7: 1. Személyi juttatások | G7: ='3.tábla'!B7 -> 24740450 | H7: ='3.tábla'!C7 -> 24916310 | I7: ='3.tábla'!D7 -> 24916310 | J7: ='3.tábla'!E7 -> 0
A8: 2. Közhatalmi bevételek | B8: ='1.sz.tábla'!B9 -> 19900000 | C8: ='1.sz.tábla'!C9 -> 18100000 | D8: ='1.sz.tábla'!D9 -> 18100000 | E8: ='1.sz.tábla'!E9 -> 0 | F8: 2. Munkaadót terhelő járulékok és szoc.hj. adó | G8: ='3.tábla'!B10 -> 4103665 | H8: ='3.tábla'!C10 -> 4134441 | I8: ='3.tábla'!D10 -> 4134441 | J8: ='3.tábla'!E10 -> 0
A9: 3. Működési bevételek | B9: ='1.sz.tábla'!B10 -> 4403000 | C9: ='1.sz.tábla'!C10 -> 8023000 | D9: ='1.sz.tábla'!D10 -> 8023000 | E9: ='1.sz.tábla'!E10 -> 0 | F9: 3. Dologi kiadások | G9: ='3.tábla'!B13 -> 34641570 | H9: ='3.tábla'!C13 -> 34641570 | I9: ='3.tábla'!D13 -> 34641570 | J9: ='3.tábla'!E13 -> 0
A10: 4. Működési célú átvett pénzeszközök államháztartáson kivülről | B10: ='1.sz.tábla'!B12 -> 0 | C10: ='1.sz.tábla'!C12 -> 0 | D10: ='1.sz.tábla'!D12 -> 0 | E10: ='1.sz.tábla'!E12 -> 0 | F10: 4. Ellátottak pénzbeli juttatásai | G10: ='3.tábla'!B48 -> 2073000 | H10: ='3.tábla'!C48 -> 2073000 | I10: ='3.tábla'!D48 -> 2302000 | J10: ='3.tábla'!E48 -> 229000
F11: 5. Egyéb működési célú kiadások | G11: ='3.tábla'!B40 -> 15038350 | H11: ='3.tábla'!C40 -> 15084929 | I11: ='3.tábla'!D40 -> 12296197 | J11: ='3.tábla'!E40 -> -2788732
F12: 5.1. Elvonások, befizetések | G12: ='3.tábla'!B39 -> 0 | H12: ='3.tábla'!C39 -> 36000 | I12: ='3.tábla'!D39 -> 36000 | J12: ='3.tábla'!E39 -> 0
F13: 5.2. Egyéb működési célú támogatások áh-n belülre | G13: ='4. sz. tábla'!B5 -> 14738350 | H13: ='4. sz. tábla'!C5 -> 14748929 | I13: ='4. sz. tábla'!D5 -> 11960197 | J13: ='4. sz. tábla'!E5 -> -2788732
F14: 5.4. Egyéb működési célú támogatások áh-n kívülre | G14: ='4. sz. tábla'!B11 -> 300000 | H14: ='4. sz. tábla'!C11 -> 300000 | I14: ='4. sz. tábla'!D11 -> 300000 | J14: ='4. sz. tábla'!E11 -> 0
F15: 5.5. Működési célú visszatérítendő támogatások, kölcsönök nyújtása áh-n kívülre | G15: 0 | H15: 0 | I15: 0 | J15: 0
F16: 6. Pénzforgalom nélküli kiadások (tartalék) | G16: ='1.sz.tábla'!B31 -> 3514050 | H16: ='1.sz.tábla'!C31 -> 6556616 | I16: ='1.sz.tábla'!D31 -> 10267848 | J16: ='1.sz.tábla'!E31 -> 3711232
A17: Összes költségvetési működési bevétel: | B17: =SUM(B7:B16) -> 62500043 | C17: =SUM(C7:C16) -> 63927762 | D17: =SUM(D7:D16) -> 65356732 | E17: =SUM(E7:E16) -> 1428970 | F17: Összes költségvetési működési kiadás: | G17: =G7+G8+G9+G10+G11+G16 -> 84111085 | H17: =H7+H8+H9+H10+H11+H16 -> 87406866 | I17: =I7+I8+I9+I10+I11+I16 -> 88558366 | J17: =J7+J8+J9+J10+J11+J16 -> 1151500
A18: Működési többlet: | B18: =B17-G17 -> -21611042 | C18: =C17-H17 -> -23479104 | D18: =D17-I17 -> -23201634 | E18: =E17-J17 -> 277470 | F18: Működési hiány:
A19: Költségvetési hiány belső finanszírozása működési célú | B19: =SUM(B20) -> 127376651 | C19: =SUM(C20) -> 128025513 | D19: =SUM(D20) -> 128025513 | E19: =SUM(E20) -> 0 | F19: Finanszírozási célú műveletek kiadásai működési célú | G19: =SUM(G20:G21) -> 2084358 | H19: =SUM(H20:H21) -> 2084358 | I19: =SUM(I20:I21) -> 2084358 | J19: =SUM(J20:J21) -> 0
A20: 5. Költségvetési Maradvány | B20: ='2.sz.tábla'!B79 -> 127376651 | C20: ='2.sz.tábla'!C79 -> 128025513 | D20: ='2.sz.tábla'!D79 -> 128025513 | E20: ='2.sz.tábla'!E79 -> 0 | F20: 7. Állami támogatás megelőlegezés visszafizetése | G20: ='1.sz.tábla'!B37 -> 2084358 | H20: ='1.sz.tábla'!C37 -> 2084358 | I20: ='1.sz.tábla'!D37 -> 2084358 | J20: ='1.sz.tábla'!E37 -> 0
A21: Költségvetési hiány külső finanszírozása működési célú | B21: =SUM(B22:B25) -> 1153465 | C21: =SUM(C22:C25) -> 1153465 | D21: =SUM(D22:D25) -> 1153465 | E21: =SUM(E22:E25) -> 0 | F21: 8. Hitelek törlesztése
A22: 6. Értékpapír kibocsátás, értékesítés | F22: 9. Betét vásárlás
A23: 7. Hitelfelvétel
A24: 8. Állami támogatás megelőlegezés | B24: ='2.sz.tábla'!B93 -> 1153465 | C24: ='2.sz.tábla'!C93 -> 1153465 | D24: ='2.sz.tábla'!D93 -> 1153465 | E24: ='2.sz.tábla'!E93 -> 0
A25: 9. Lekötött betét bevonása | B25: ='2.sz.tábla'!B92 -> 0 | C25: ='2.sz.tábla'!C92 -> 0 | D25: ='2.sz.tábla'!D92 -> 0 | E25: ='2.sz.tábla'!E92 -> 0
A26: Összes működési bevétel: | B26: =B17+B19+B21 -> 191030159 | C26: =C17+C19+C21 -> 193106740 | D26: =D17+D19+D21 -> 194535710 | E26: =E17+E19+E21 -> 1428970 | F26: Összes működési kiadás | G26: =G19+G17 -> 86195443 | H26: =H19+H17 -> 89491224 | I26: =I19+I17 -> 90642724 | J26: =J19+J17 -> 1151500
C27: =C18+C20+C22 -> 104546409
A28: Az Önkormányzat felhalmozási bevételei és kiadásai 2020. év
A30: 1. Felhalmozási bevételek | B30: =B6 -> 2020. évi eredeti előirányzat | C30: =C6 -> I. Módosítás | D30: =D6 -> II. Módosítás | E30: =E6 -> Eltérés | F30: 2. Felhalmozási kiadások | G30: =G6 -> 2020. évi eredeti előirányzat | H30: III. Módosítás | I30: III. Módosítás | J30: =J6 -> Eltérés
A31: 1. Felhalmozási célú támogatások államháztartáson belülről | B31: ='1.sz.tábla'!B8 -> 0 | C31: ='1.sz.tábla'!C8 -> 0 | D31: ='1.sz.tábla'!D8 -> 4952269 | E31: ='1.sz.tábla'!E8 -> 4952269 | F31: 1.1. Beruházások | G31: ='1.sz.tábla'!B27 -> 11285651 | H31: ='1.sz.tábla'!C27 -> 10066451 | I31: ='1.sz.tábla'!D27 -> 15296190 | J31: ='1.sz.tábla'!E27 -> 5229739
A32: 2. Felhalmozási bev. | B32: 0 | C32: ='1.sz.tábla'!C11:G11 -> 0 | D32: ='1.sz.tábla'!D11:H11 -> 0 | E32: ='1.sz.tábla'!E11:F11 -> 0 | F32: 1.2. Int.saját hatáskörű fejlesztések
A33: 3. Felhalmozási célú átvett pénzeszközök | B33: ='1.sz.tábla'!B13 -> 0 | C33: ='1.sz.tábla'!C13 -> 0 | D33: ='1.sz.tábla'!D13 -> 0 | E33: 0 | F33: 2. Felújítások | G33: ='1.sz.tábla'!B28 -> 93491000 | H33: ='1.sz.tábla'!C28 -> 93491000 | I33: ='1.sz.tábla'!D28 -> 93491000 | J33: ='1.sz.tábla'!E28 -> 0
F34: 3. Egyéb felhalmozási kiadások | G34: =SUM(G35:G38) -> 58065 | H34: =SUM(H35:H38) -> 58065 | I34: =SUM(I35:I38) -> 58065 | J34: =SUM(J35:J38) -> 0
F35: 3.1. Egyéb felhalmozási célú támogatások áh-n kívülre
F36: 3.2. Egyéb felhalmozási célú támogatások áh-n belülre | G36: ='5.sz.tábla '!B22 -> 58065 | H36: ='5.sz.tábla '!C22 -> 58065 | I36: ='5.sz.tábla '!D22 -> 58065 | J36: ='5.sz.tábla '!E22 -> 0
F37: 3.3. Felhalmozási célú visszatérítendő támogatások, kölcsönök nyújtása áh-n belülre
F38: 3.3. Felhalmozási célú visszatérítendő támogatások, kölcsönök nyújtása áh-n kívülre
A39: Összes költségvetési felhalmozási bevétel: | B39: =SUM(B31:B37) -> 0 | C39: =SUM(C31:C37) -> 0 | D39: =SUM(D31:D37) -> 4952269 | E39: =SUM(E31:E37) -> 4952269 | F39: Összes költségvetési felhalmozási kiadás: | G39: =SUM(G31:G34) -> 104834716 | H39: =SUM(H31:H34) -> 103615516 | I39: =SUM(I31:I34) -> 108845255 | J39: =SUM(J31:J34) -> 5229739
A40: Felhalmozási többlet: | F40: Felhalmozási hiány: | G40: =B39-G39 -> -104834716 | H40: =C39-H39 -> -103615516 | I40: =D39-I39 -> -103892986 | J40: =E39-J39 -> -277470
A41: Költségvetési hiány belső finanszírozása felhalmozási célú | F41: Finanszírozási célú műveletek kiadásai felhalmozási célú | G41: =SUM(G42:G43) -> 0
A42: 4.Költségvetési maradvány | B42: 0 | C42: 0 | D42: 0 | E42: 0 | F42: 4. Értékpapírok visszavásárlása
A43: Költségvetési hiány külső finanszírozása felhalmozási célú | B43: =SUM(B44:B45) -> 0 | C43: =SUM(C44:C45) -> 0 | D43: =SUM(D44:D45) -> 0 | E43: =SUM(E44:E45) -> 0 | F43: 5. Hitelek törlesztése
A44: 5. Értékpapír kibocsátás, értékesítés | F44: 6. Állami támogatás megelőlegezés visszafizetése
A45: 6. Hitelfelvétel
...

Sheet 7. sz. tábla
A4: Az Önkormányzat kötelező feladatok bevételei és kiadásai 2020. év
A6: 1. Működési bevételek | B6: ='1.sz.tábla'!B6 -> 2020. évi eredeti előirányzat | C6: ='1.sz.tábla'!C6 -> I. Módosítás | D6: ='1.sz.tábla'!D6 -> II. Módosítás | E6: ='1.sz.tábla'!E6 -> Eltérés | F6: 2. Működési kiadások | G6: ='1.sz.tábla'!B6 -> 2020. évi eredeti előirányzat | H6: ='1.sz.tábla'!C6 -> I. Módosítás | I6: ='1.sz.tábla'!D6 -> II. Módosítás | J6: ='1.sz.tábla'!E6 -> Eltérés
A7: Működési bevételek | F7: Működési kiadások
A8: 1. Működési támogatások államháztartáson belülről | B8: ='6. sz. tábla '!B7 -> 38197043 | C8: ='6. sz. tábla '!C7 -> 37804762 | D8: ='6. sz. tábla '!D7 -> 39233732 | E8: ='6. sz. tábla '!E7 -> 1428970 | F8: 1. Személyi juttatások | G8: ='6. sz. tábla '!G7 -> 24740450 | H8: ='6. sz. tábla '!H7 -> 24916310 | I8: ='6. sz. tábla '!I7 -> 24916310 | J8: ='6. sz. tábla '!J7 -> 0
A9: 2. Közhatalmi bevételek | B9: ='6. sz. tábla '!B8 -> 19900000 | C9: ='6. sz. tábla '!C8 -> 18100000 | D9: ='6. sz. tábla '!D8 -> 18100000 | E9: ='6. sz. tábla '!E8 -> 0 | F9: 2. Munkaadót terhelő járulékok | G9: ='6. sz. tábla '!G8 -> 4103665 | H9: ='6. sz. tábla '!H8 -> 4134441 | I9: ='6. sz. tábla '!I8 -> 4134441 | J9: ='6. sz. tábla '!J8 -> 0
A10: 3. Működési bevételek | B10: ='6. sz. tábla '!B9-720000 -> 3683000 | C10: ='6. sz. tábla '!C9-720000 -> 7303000 | D10: ='6. sz. tábla '!D9-720000 -> 7303000 | E10: ='6. sz. tábla '!E9 -> 0 | F10: 3. Dologi kiadások | G10: ='6. sz. tábla '!G9 -> 34641570 | H10: ='6. sz. tábla '!H9 -> 34641570 | I10: ='6. sz. tábla '!I9 -> 34641570 | J10: ='6. sz. tábla '!J9 -> 0
A11: 4. Működési célú átvett pénzeszközök államháztartáson kivülről | B11: ='6. sz. tábla '!B10 -> 0 | C11: ='6. sz. tábla '!C10 -> 0 | D11: ='6. sz. tábla '!D10 -> 0 | E11: ='6. sz. tábla '!E10 -> 0 | F11: 4. Ellátottak pénzbeli juttatásai | G11: ='6. sz. tábla '!G10 -> 2073000 | H11: ='6. sz. tábla '!H10 -> 2073000 | I11: ='6. sz. tábla '!I10 -> 2302000 | J11: ='6. sz. tábla '!J10 -> 229000
F12: 5. Egyéb működési célú kiadások
F13: 5.1. Elvonások, befizetések | G13: ='6. sz. tábla '!G12 -> 0 | H13: ='6. sz. tábla '!H12 -> 36000 | I13: ='6. sz. tábla '!I12 -> 36000 | J13: ='6. sz. tábla '!J12 -> 0
F14: 5.2. Egyéb működési célú támogatások áh-n belülre | G14: ='4. sz. tábla'!B5 -> 14738350 | H14: ='4. sz. tábla'!C5 -> 14748929 | I14: ='4. sz. tábla'!D5 -> 11960197 | J14: ='4. sz. tábla'!E5 -> -2788732
F15: 5.4. Egyéb működési célú támogatások áh-n kívülre | G15: 0 | H15: 0 | I15: 0 | J15: 0
F16: 5.5. Működési célú visszatérítendő támogatások, kölcsönök nyújtása áh-n kívülre | G16: ='6. sz. tábla '!G15 -> 0 | H16: ='6. sz. tábla '!H15 -> 0 | I16: ='6. sz. tábla '!I15 -> 0 | J16: ='6. sz. tábla '!J15 -> 0
F17: 6. Pénzforgalom nélküli kiadások (tartalék) | G17: ='6. sz. tábla '!G16 -> 3514050 | H17: ='6. sz. tábla '!H16 -> 6556616 | I17: ='6. sz. tábla '!I16 -> 10267848 | J17: ='6. sz. tábla '!J16 -> 3711232
A18: Költségvetési működési bevételek kötelező feladatok szerinti bontásban | B18: =SUM(B8:B17) -> 61780043 | C18: =SUM(C8:C17) -> 63207762 | D18: =SUM(D8:D17) -> 64636732 | E18: =SUM(E8:E17) -> 1428970 | F18: Költségvetési felhalmozási kiadások kötelező feladatok szerinti bontásban | G18: =SUM(G8:G17) -> 83811085 | H18: =SUM(H8:H17) -> 87106866 | I18: =SUM(I8:I17) -> 88258366 | J18: =SUM(J8:J17) -> 1151500
A19: Finanszírozási bevételek | B19: ='1.sz.tábla'!B18 -> 128530116 | C19: ='1.sz.tábla'!C18 -> 129178978 | D19: ='1.sz.tábla'!D18 -> 129178978 | E19: ='1.sz.tábla'!E18 -> 0 | F19: Finanszírozási kiadások | G19: ='1.sz.tábla'!B38 -> 2084358 | H19: ='1.sz.tábla'!C38 -> 2084358 | I19: ='1.sz.tábla'!D38 -> 2084358 | J19: ='1.sz.tábla'!E38 -> 0
A20: Működési bevételek kiemelt előirányzatonként kötelező feladatok szerinti bontásban | B20: =B18+B19 -> 190310159 | C20: =C18+C19 -> 192386740 | D20: =D18+D19 -> 193815710 | E20: =E18+E19 -> 1428970 | F20: Működési kiadások kiemelt előirányzatonként kötelező feladatok szerinti bontásban | G20: =G18+G19 -> 85895443 | H20: =H18+H19 -> 89191224 | I20: =I18+I19 -> 90342724 | J20: =J18+J19 -> 1151500
A21: Felhalmozási bevételek | F21: Felhalmozási kiadások
A22: 1. Felhalmozási célú támogatások államháztartáson belülről | B22: ='6. sz. tábla '!B31 -> 0 | C22: ='6. sz. tábla '!C31 -> 0 | D22: ='6. sz. tábla '!D31 -> 4952269 | E22: ='6. sz. tábla '!E31 -> 4952269 | F22: 1.1. Beruházások | G22: ='6. sz. tábla '!G31 -> 11285651 | H22: ='6. sz. tábla '!H31 -> 10066451 | I22: ='6. sz. tábla '!I31 -> 15296190 | J22: ='6. sz. tábla '!J31 -> 5229739
A23: 2. Felhalmozási bevételek | B23: ='6. sz. tábla '!B32 -> 0 | C23: ='6. sz. tábla '!C32 -> 0 | D23: ='6. sz. tábla '!D32 -> 0 | E23: ='6. sz. tábla '!E32 -> 0 | F23: 1.2. Int.saját hatáskörű fejlesztések
A24: 3. Felhalmozási célú átvett pénzeszközök áh-n kívülről | B24: ='6. sz. tábla '!B33 -> 0 | C24: ='6. sz. tábla '!C33 -> 0 | D24: ='6. sz. tábla '!D33 -> 0 | E24: ='6. sz. tábla '!E33 -> 0 | F24: 2. Felújítások | G24: ='6. sz. tábla '!G33 -> 93491000 | H24: ='6. sz. tábla '!H33 -> 93491000 | I24: ='6. sz. tábla '!I33 -> 93491000 | J24: ='6. sz. tábla '!J33 -> 0
F25: 3. Egyéb felhalmozási célú kiadások
F26: 3.1. Egyéb felhalmozási célú pénzeszköz átadás áh-n kívülre
F27: 3.2. Egyéb felhalmozási célú pénzeszköz átadás áh-n belülre
F28: 3.4. Felhalmozási célú visszatérítendő támogatások, kölcsönök nyújtása áh-n kívülre
A29: Költségvetési felhalmozási bevételek kötelező feladatok szerinti bontásban | B29: =SUM(B22:B28) -> 0 | C29: =SUM(C22:C28) -> 0 | D29: =SUM(D22:D28) -> 4952269 | E29: =SUM(E22:E28) -> 4952269 | F29: Költségvetési felhalmozási kiadások kötelező feladatok szerinti bontásban | G29: =SUM(G22:G28) -> 104776651 | H29: =SUM(H22:H28) -> 103557451 | I29: =SUM(I22:I28) -> 108787190 | J29: =SUM(J22:J28) -> 5229739
A30: Finanszírozási bevételek | F30: Finanszírozási kiadások
A31: Felhalmozási bevételek kiemelt előirányzatonként kötelező feladatok szerinti bontásban | B31: =B29+B30 -> 0 | C31: =C29+C30 -> 0 | D31: =D29+D30 -> 4952269 | E31: =E29+E30 -> 4952269 | F31: Felhalmozási kiadások kiemelt előirányzatonként kötelező feladatok szerinti bontásban | G31: =G29+G30 -> 104776651 | H31: =H29+H30 -> 103557451 | I31: =I29+I30 -> 108787190 | J31: =J29+J30 -> 5229739
B32: =B31+B20 -> 190310159 | C32: =C31+C20 -> 192386740 | D32: =D31+D20 -> 198767979 | E32: =E31+E20 -> 6381239 | G32: =G31+G20 -> 190672094 | H32: =H31+H20 -> 192748675 | I32: =I31+I20 -> 199129914 | J32: =J31+J20 -> 6381239
A33: Az Önkormányzat önként vállalt feladatok bevételei és kiadásai 2020. év
A35: 1. Működési bevételek | B35: =B6 -> 2020. évi eredeti előirányzat | C35: =C6 -> I. Módosítás | D35: =D6 -> II. Módosítás | E35: =E6 -> Eltérés | F35: 2. Működési kiadások | G35: =G6 -> 2020. évi eredeti előirányzat | H35: =H6 -> I. Módosítás | I35: =I6 -> II. Módosítás | J35: =J6 -> Eltérés
A36: Működési bevételek | F36: Működési kiadások
A37: 1. Működési támogatások államháztartáson belülről | F37: 1. Személyi juttatások
A38: 2. Közhatalmi bevételek | F38: 2. Munkaadót terhelő járulékok
A39: 3. Működési bevételek | B39: 720000 | C39: 720000 | D39: 720000 | E39: 0 | F39: 3. Dologi kiadások
A40: 4. Működési célú átvett pénzeszközök államháztartáson kivülről | F40: 4. Ellátottak pénzbeli juttatásai
F41: 5. Egyéb működési célú kiadások
F42: 5.1. Elvonások, befizetések
F43: 5.2. Egyéb működési célú támogatások áh-n belülre
F44: 5.4. Egyéb működési célú támogatások áh-n kívülre | G44: ='4. sz. tábla'!B11 -> 300000 | H44: ='4. sz. tábla'!C11 -> 300000 | I44: ='4. sz. tábla'!D11 -> 300000 | J44: ='4. sz. tábla'!E11 -> 0
F45: 5.5. Működési célú visszatérítendő támogatások, kölcsönök nyújtása áh-n kívülre
...

Sheet 8. sz. tábla 
A3: BEVÉTELEK ÉS KIADÁSOK ELŐIRÁNYZATÁNAK HAVI ÜTEMEZÉSE 2020.
A5: Megnevezés | B5: Január | C5: Február | D5: Március | E5: Április | F5: Május | G5: Június | H5: Július | I5: Augusztus | J5: Szeptember | K5: Október | L5: November | M5: December | N5: Összesen
A6: Nyitó pénzkészlet | B6: =109600+38550928+252003+91491000 -> 130403531 | C6: =SUM(B37) -> 123007180 | D6: =SUM(C37) -> 123448286 | E6: =SUM(D37) -> 134367783 | F6: =SUM(E37) -> 134298027 | G6: =SUM(F37) -> 134519620 | H6: =SUM(G37) -> 123043558 | I6: =SUM(H37) -> 98449542 | J6: =SUM(I37) -> 75344886 | ... M6: =SUM(L37) -> 48414151 | N6: =B6 -> 130403531
A7: Működési célú támogatások államháztartáson belülről | B7: 3329039 | C7: 2279635 | D7: 4578758 | E7: 2307530 | F7: 2379804 | G7: 1035900 | H7: =1135418+3697941 -> 4833359 | I7: 3697941 | J7: 3697941 | K7: 3697941 | L7: 3697941 | M7: 3697943 | N7: =SUM(B7:M7) -> 39233732 | O7: ='1.sz.tábla'!D7 -> 39233732
A8: Működési bevételek | B8: 585689 | C8: 1480914 | D8: 582338 | E8: 822352 | F8: 1100166 | G8: 41845 | H8: 187239 | I8: 187239 | J8: =60000+317500+2096000 -> 2473500 | K8: 187239 | L8: 187239 | M8: 187240 | N8: =SUM(B8:M8) -> 8023000 | O8: ='1.sz.tábla'!D10 -> 8023000
A9: Közhatalmi bevételek | B9: 224961 | C9: 167559 | D9: 9604522 | E9: 3057220 | F9: 1121204 | G9: -2082202 | H9: 100000 | I9: 100000 | J9: 4000000 | K9: 1000000 | L9: 403368 | M9: 403368 | N9: =SUM(B9:M9) -> 18100000 | O9: ='1.sz.tábla'!D9 -> 18100000
A10: Működési célú átvett pénzeszk. Áh-n kívülről | N10: =SUM(B10:M10) -> 0
A11: Működési bevételek összesen: | B11: =SUM(B7:B10) -> 4139689 | C11: =SUM(C7:C10) -> 3928108 | D11: =SUM(D7:D10) -> 14765618 | E11: =SUM(E7:E10) -> 6187102 | F11: =SUM(F7:F10) -> 4601174 | G11: =SUM(G7:G10) -> -1004457 | H11: =SUM(H7:H10) -> 5120598 | I11: =SUM(I7:I10) -> 3985180 | ... M11: =SUM(M7:M10) -> 4288551 | N11: =SUM(B11:M11) -> 65356732 | O11: =SUM(B11:M11) -> 65356732
A12: Felhalmozási célú támogatások államháztartáson belülről | N12: =SUM(B12:M12) -> 0 | O12: ='2.sz.tábla'!B23 -> 0
A13: Felhalmozási bevételek | N13: =SUM(B13:M13) -> 0 | O13: ='2.sz.tábla'!B61 -> 0
A14: Felhalm. célú átvett pénzeszk. Áh-n kívülről | N14: =SUM(B14:M14) -> 0 | O14: ='2.sz.tábla'!E67 -> 0
A15: Felhalmozási bevételek összesen | B15: =SUM(B12:B14) -> 0 | C15: =SUM(C12:C14) -> 0 | D15: =SUM(D12:D14) -> 0 | E15: =SUM(E12:E14) -> 0 | F15: =SUM(F12:F14) -> 0 | G15: =SUM(G12:G14) -> 0 | H15: 4952269 | I15: =SUM(I12:I14) -> 0 | J15: =SUM(J12:J14) -> 0 | K15: =SUM(K12:K14) -> 0 | L15: =SUM(L12:L14) -> 0 | M15: =SUM(M12:M14) -> 0 | N15: =SUM(B15:M15) -> 4952269 | O15: ='2.sz.tábla'!E61+'2.sz.tábla'!D23 -> 4952269
A16: Költségvetési bevételek összesen: | B16: =SUM(B11,B15) -> 4139689 | C16: =SUM(C11,C15) -> 3928108 | D16: =SUM(D11,D15) -> 14765618 | E16: =SUM(E11,E15) -> 6187102 | F16: =SUM(F11,F15) -> 4601174 | G16: =SUM(G11,G15) -> -1004457 | H16: =SUM(H11,H15) -> 10072867 | I16: =SUM(I11,I15) -> 3985180 | ... M16: =SUM(M11,M15) -> 4288551 | N16: =SUM(B16:M16) -> 70309001 | O16: ='1.sz.tábla'!D14 -> 70309001
A17: Finanszírozási bevételek (hitel, kötvény, értékpapír, állami tám.megelőlegezés) | B17: 77251 | C17: 79377 | D17: 68894 | E17: 53234 | F17: 68894 | G17: 68894 | H17: 122820 | I17: 122820 | J17: 122820 | K17: 122820 | L17: 122820 | M17: 122821 | N17: =SUM(B17:M17) -> 1153465 | O17: ='1.sz.tábla'!D17 -> 1153465
A18: Költségvetési maradvány igénybevétele | G18: 128025513 | N18: =SUM(B18:M18) -> 128025513 | O18: ='2.sz.tábla'!D79 -> 128025513
A19: Bevételek összesen: | B19: =SUM(B16:B18) -> 4216940 | C19: =SUM(C16:C18) -> 4007485 | D19: =SUM(D16:D18) -> 14834512 | E19: =SUM(E16:E18) -> 6240336 | F19: =SUM(F16:F18) -> 4670068 | G19: =SUM(G16:G18) -> 127089950 | H19: =SUM(H16:H18) -> 10195687 | I19: =SUM(I16:I18) -> 4108000 | ... N19: =SUM(N16:N18) -> 199487979 | O19: ='1.sz.tábla'!D19 -> 199487979
A20: Személyi juttatások | B20: 1808501 | C20: 1670769 | D20: 2305161 | E20: 1648371 | F20: 1588849 | G20: 1781536 | H20: 1936704 | I20: 1936704 | J20: 1936704 | K20: 1936704 | L20: 1936704 | M20: =1500000+1936706+175860 -> 3612566 | N20: =SUM(B20:M20) -> 24099273 | O20: ='3.tábla'!D7 -> 24916310
A21: Munkaadót terhelő járulékok és szoc. hj. adó | B21: 235904 | C21: 228607 | D21: 234813 | E21: 422540 | F21: 222706 | G21: 250035 | H21: 320097 | I21: 320097 | J21: 320097 | K21: 320097 | L21: 320097 | M21: =582598+30776 -> 613374 | N21: =SUM(B21:M21) -> 3808464 | O21: ='3.tábla'!D10 -> 4134441
A22: Dologi kiadások | B22: 2366752 | C22: 1399601 | D22: 1070469 | E22: 3860169 | F22: 2146091 | G22: 1301399 | H22: 4000000 | I22: 3500000 | J22: 2000000 | K22: 2900000 | L22: 2500000 | M22: 1741570 | N22: =SUM(B22:M22) -> 28786051 | O22: ='3.tábla'!D13 -> 34641570
A23: Ellátottak pénzbeli juttatásai | B23: 48500 | C23: 88025 | D23: 48500 | E23: 31906 | F23: 32000 | G23: 112000 | H23: 150000 | I23: 50000 | J23: 100000 | K23: 50000 | L23: 100000 | M23: 1223000 | N23: =SUM(B23:M23) -> 2033931 | O23: ='3.tábla'!D48 -> 2302000
A24: Egyéb működési célú támogatások áh-n kívülre | G24: 50000 | H24: 100000 | I24: 50000 | L24: 50000 | N24: =SUM(B24:M24) -> 250000 | O24: ='4. sz. tábla'!D11 -> 300000
A25: Egyéb működési célú támogatások áh-n belülre | B25: 0 | C25: 136000 | D25: -30000 | E25: 0 | F25: 10578 | G25: =4055173+2714002 -> 6769175 | H25: 1128196 | I25: 1228196 | J25: 1128196 | K25: 1128196 | L25: 1128196 | M25: 1128196 | N25: =SUM(B25:M25) -> 13754929 | O25: ='4. sz. tábla'!D5 -> 11960197
A26: Támogatás visszafizetés | N26: =SUM(B26:M26) -> 0 | O26: ='3.tábla'!D39 -> 36000
A27: Tartalékok | B27: 3514050 | C27: -36000 | E27: -1 | F27: -10578 | G27: -26670 | H27: 6827047 | N27: =SUM(B27:M27) -> 10267848 | O27: ='1.sz.tábla'!D31 -> 10267848
A28: Működési kiadások összesen: | B28: =SUM(B20:B27) -> 7973707 | C28: =SUM(C20:C27) -> 3487002 | D28: =SUM(D20:D27) -> 3628943 | E28: =SUM(E20:E27) -> 5962985 | F28: =SUM(F20:F27) -> 3989646 | G28: =SUM(G20:G27) -> 10237475 | H28: =SUM(H20:H27) -> 14462044 | I28: =SUM(I20:I27) -> 7084997 | ... M28: =SUM(M20:M27) -> 8318706 | N28: =SUM(B28:M28) -> 83000496 | O28: =SUM(O20:O27) -> 88558366
A29: Beruházások | B29: 2631440 | C29: 0 | D29: 217178 | E29: 293873 | F29: 389935 | G29: 205100 | H29: 200000 | K29: 3183395 | L29: 3223000 | M29: 4952269 | N29: =SUM(B29:M29) -> 15296190 | O29: ='1.sz.tábla'!D27 -> 15296190
A30: Felújítások | B30: 0 | C30: 0 | D30: 0 | E30: 0 | F30: 0 | G30: 0 | H30: 20000000 | I30: 20000000 | L30: 22000000 | M30: 31491000 | N30: =SUM(B30:M30) -> 93491000 | O30: ='1.sz.tábla'!D28 -> 93491000
A31: Egyéb felhalmozási kiadások | B31: 0 | C31: 0 | D31: 0 | E31: 0 | F31: 0 | G31: 29030 | H31: 4839 | I31: 4839 | J31: 4839 | K31: 4839 | L31: 4840 | M31: 4839 | N31: =SUM(B31:M31) -> 58065 | O31: ='1.sz.tábla'!D29 -> 58065
A32: Felhalmozási célú kiadások összesen | B32: =SUM(B29:B31) -> 2631440 | C32: =SUM(C29:C31) -> 0 | D32: =SUM(D29:D31) -> 217178 | E32: =SUM(E29:E31) -> 293873 | F32: =SUM(F29:F31) -> 389935 | G32: =SUM(G29:G31) -> 234130 | H32: =SUM(H29:H31) -> 20204839 | I32: =SUM(I29:I31) -> 20004839 | ... M32: =SUM(M29:M31) -> 36448108 | N32: =SUM(B32:M32) -> 108845255 | O32: ='1.sz.tábla'!D25 -> 108845255
A33: Költségvetési kiadások összesen: | B33: =SUM(B32,B28) -> 10605147 | C33: =SUM(C32,C28) -> 3487002 | D33: =SUM(D32,D28) -> 3846121 | E33: =SUM(E32,E28) -> 6256858 | F33: =SUM(F32,F28) -> 4379581 | G33: =SUM(G32,G28) -> 10471605 | H33: =SUM(H32,H28) -> 34666883 | I33: =SUM(I32,I28) -> 27089836 | ... M33: =SUM(M32,M28) -> 44766814 | N33: =SUM(B33:M33) -> 191845751 | O33: ='1.sz.tábla'!D35 -> 197403621
A34: Finanszírozási kiadások (hitel törlesztés, értékpapír visszavásárlás, állami tám.megelőlegezés visszafizetése) | B34: =77251+930893 -> 1008144 | C34: 79377 | D34: 68894 | E34: 53234 | F34: 68894 | G34: 68894 | H34: 122820 | I34: 122820 | J34: 122820 | K34: 122820 | L34: 122820 | M34: 122821 | N34: =SUM(B34:M34) -> 2084358 | O34: ='1.sz.tábla'!D37 -> 2084358
A35: Kiadások összesen: | B35: =SUM(B33:B34) -> 11613291 | C35: =SUM(C33:C34) -> 3566379 | D35: =SUM(D33:D34) -> 3915015 | E35: =SUM(E33:E34) -> 6310092 | F35: =SUM(F33:F34) -> 4448475 | G35: =SUM(G33:G34) -> 10540499 | H35: =SUM(H33:H34) -> 34789703 | I35: =SUM(I33:I34) -> 27212656 | ... M35: =SUM(M33:M34) -> 44889635 | N35: =SUM(B35:M35) -> 193930109 | O35: ='1.sz.tábla'!D39 -> 199487979
A36: Korrekció (előző évi kifizetés miatt) | N36: =SUM(B36:M36) -> 0
A37: Záró pénzkészlet | B37: =B6+B16+B17-B35-B36 -> 123007180 | C37: =C6+C16+C17-C35-C36 -> 123448286 | D37: =D6+D16+D17-D35-D36 -> 134367783 | E37: =E6+E16+E17-E35-E36 -> 134298027 | F37: =F6+F16+F17-F35-F36 -> 134519620 | G37: =G6+G16+G17-G35-G36 -> 123043558 | H37: =H6+H16+H17-H35-H36 -> 98449542 | I37: =I6+I16+I17-I35-I36 -> 75344886 | ... N37: =N6+N16+N17-N35-N36 -> 7935888
N39: =SUM(N20) -> 24099273
