Workbook
Name onev: [1]kod!$BT$34:$BT$3186
Name onev: [1]kod!$BT$34:$BT$3186

Sheet 1.sz.tábla   (2)
A3: MEGNEVEZÉS | B3: 2016. évi eredeti ei. | C3: 2016. évi módosított ei. III. | D3: 2016. évi módosított ei. IV. | E3: Eltérés
A4: I. Működési célú támogatások államháztartáson belülről | B4: 1191528 | C4: 1336756 | D4: ='2.sz.tábla (2)'!P5 -> 1365314 | E4: =D4-C4 -> 28558
A5: II. Felhalmozási célú támogatások államháztartáson belülről | B5: 287821 | C5: 1546019 | D5: ='2.sz.tábla (2)'!P20 -> 1547416 | E5: =D5-C5 -> 1397
A6: III. Közhatalmi bevételek | B6: 1516700 | C6: 1606700 | D6: ='2.sz.tábla (2)'!P28 -> 1606700 | E6: =D6-C6 -> 0
A7: IV. Működési bevételek | B7: 600704 | C7: 825892 | D7: ='2.sz.tábla (2)'!P41 -> 827823 | E7: =D7-C7 -> 1931
A8: V. Felhalmozási bevételek | B8: 2000 | C8: 788369 | D8: ='2.sz.tábla (2)'!P56 -> 788369 | E8: =D8-C8 -> 0
A9: VI. Működési célú átvett pénzeszközök | B9: =11855+4983 -> 16838 | C9: 18475 | D9: ='2.sz.tábla (2)'!P62 -> 6407 | E9: =D9-C9 -> -12068
A10: VII. Felhalmozási célú átvett pénzeszközök | B10: 100873 | C10: 100873 | D10: ='2.sz.tábla (2)'!P68 -> 100873 | E10: =D10-C10 -> 0
A11: Költségvetési bevételek összesen: | B11: =SUM(B4:B10) -> 3716464 | C11: =SUM(C4:C10) -> 6223084 | D11: =SUM(D4:D10) -> 6242902 | E11: =D11-C11 -> 19818
A12: VIII. Finanszírozási bevételek | E12: =D12-C12 -> 0
A13: 1. Költségvetési hiány belső finanszírozására szolgáló finanszírozási bevételek | B13: 682920 | C13: 902886 | D13: ='2.sz.tábla (2)'!P74 -> 902886 | E13: =D13-C13 -> 0
A14: 2. Költségvetési hiány külső finanszírozására szolgáló finanszírozási célú pénzügyi műveletek bevételei | B14: 8600 | C14: =742800-80000 -> 662800 | D14: ='2.sz.tábla (2)'!P77 -> 693348 | E14: =D14-C14 -> 30548
A15: Finanszírozási bevételek összesen: | B15: =B13+B14 -> 691520 | C15: =SUM(C13:C14) -> 1565686 | D15: =SUM(D13:D14) -> 1596234 | E15: =D15-C15 -> 30548
A16: Bevételek összesen: | B16: =B11+B15 -> 4407984 | C16: =C11+C15 -> 7788770 | D16: =D11+D15 -> 7839136 | E16: =D16-C16 -> 50366
E17: =D17-C17 -> 0
A18: Működési kiadások | B18: =SUM(B19:B21) -> 2358416 | C18: =SUM(C19:C21) -> 2880496 | D18: =SUM(D19:D21) -> 2871505 | E18: =D18-C18 -> -8991
A19: Önkormányzat | B19: =1526114+2000+7014+4983 -> 1540111 | C19: 2035034 | D19: ='5.tábla (2)'!D115 -> 2023282 | E19: =D19-C19 -> -11752
A20: Önkormányzati Hivatal | B20: 363855 | C20: 370331 | D20: ='5.tábla (2)'!D31-'5.tábla (2)'!D28 -> 370356 | E20: =D20-C20 -> 25
A21: Intézmények | B21: 454450 | C21: 475131 | D21: ='4.sz.tábla '!AX13-'4.sz.tábla '!AC13 -> 477867 | E21: =D21-C21 -> 2736
E22: =D22-C22 -> 0
A23: Felhalmozási kiadások | B23: =SUM(B24:B26) -> 1708268 | C23: =SUM(C24:C26) -> 2522993 | D23: =SUM(D24:D26) -> 2519289 | E23: =D23-C23 -> -3704
A24: Fejlesztési kiadások | B24: =1600324+5000 -> 1605324 | C24: 2420289 | D24: ='7. sz. tábla 1'!D177 -> 2417390 | E24: =D24-C24 -> -2899
A25: Intézm saját hatásk fejl | B25: 9719 | C25: 11688 | D25: ='4a. sz. tábla (3)'!E77 -> 10883 | E25: =D25-C25 -> -805
A26: Felújítás | B26: 93225 | C26: 91016 | D26: ='6.sz.tábla (3)'!D140 -> 91016 | E26: =D26-C26 -> 0
E27: =D27-C27 -> 0
A28: Tartalékok | B28: =SUM(B29:B30) -> 120755 | C28: =SUM(C29:C30) -> 29355 | D28: =SUM(D29:D30) -> 93159 | E28: =D28-C28 -> 63804
A29: Általános | B29: 80004 | C29: =1491+700 -> 2191 | D29: 1330 | E29: =D29-C29 -> -861
A30: Cél | B30: =B37 -> 40751 | C30: 27164 | D30: =D37 -> 91829 | E30: =D30-C30 -> 64665
A31: Költségvetési kiadások összesen: | B31: =SUM(B28,B23,B18) -> 4187439 | C31: =SUM(C28,C23,C18) -> 5432844 | D31: =SUM(D28,D23,D18) -> 5483953 | E31: =D31-C31 -> 51109
A32: Hiteltörlesztés | B32: 174242 | C32: 174243 | D32: ='7. sz. tábla 1'!D179 -> 174243 | E32: =D32-C32 -> 0
A33: Állami támogatás megelőlegezés visszafizetés | B33: 46303 | C33: 50503 | D33: ='7. sz. tábla 1'!D181 -> 49760 | E33: =D33-C33 -> -743
A34: Forgatási célú értékpapír vásárlása | C34: 2131180 | D34: ='7. sz. tábla 1'!D180 -> 2131180 | E34: =D34-C34 -> 0
A35: Finanszírozási kiadások összesen: | B35: =SUM(B32:B33) -> 220545 | C35: =SUM(C32:C34) -> 2355926 | D35: =SUM(D32:D34) -> 2355183 | E35: =D35-C35 -> -743
A36: Kiadások összesen: | B36: =SUM(B31,B35) -> 4407984 | C36: =SUM(C31,C35) -> 7788770 | D36: =SUM(D31,D35) -> 7839136 | E36: =D36-C36 -> 50366 | F36: =D16-D36 -> 0
A37: Céltartalék: | B37: =SUM(B38:B50) -> 40751 | C37: =SUM(C38:C50) -> 27164 | D37: =SUM(D38:D51) -> 91829 | E37: =D37-C37 -> 64665 | F37: =SUM(E38:E51) -> 64665
A38: MÁK forgótőke | B38: 800 | C38: 800 | D38: 800 | E38: =D38-C38 -> 0
A39: környezetvédelmi alap | B39: 7061 | C39: 7061 | D39: 7061 | E39: =D39-C39 -> 0
A40: Polgármester saját hatáskörű keret | B40: 5000 | C40: 134 | D40: 134 | E40: =D40-C40 -> 0
A41: Népház, posta pénzügyi alap | B41: 16483 | C41: 16483 | D41: 16483 | E41: =D41-C41 -> 0
A42: Helyi védelem | B42: 3000 | C42: 833 | D42: 833 | E42: =D42-C42 -> 0
...

Sheet 2.sz.tábla   (2)
A3: MEGNEVEZÉS | B3: ÖNKORMÁNYZAT | F3: KÖZÖS ÖNKORMÁNYZATI HIVATAL | J3: KÖLTSÉGVETÉSI SZERVEK | N3: ÖNKORMÁNYZAT ÖSSZESEN
B4: 2016. évi eredeti ei. | C4: 2016. évi módosított ei. III. | D4: 2016. évi IV. módosítás | E4: Eltérés | F4: 2016. évi eredeti ei. | G4: 2016. évi módosított ei. III. | H4: 2016. évi IV. módosítás | I4: Eltérés | J4: 2016. évi eredeti ei. | K4: 2016. évi módosított ei. III. | L4: 2016. évi IV. módosítás | M4: Eltérés | N4: 2016. évi eredeti ei. | O4: 2016. évi módosított ei. III. | P4: 2016. évi IV. módosítás | Q4: Eltérés
A5: I. Működési célú támogatások államháztartáson belülről | B5: =B6+B14+B15+B16+B17+B18 -> 1084203 | C5: =C6+C14+C15+C16+C17+C18 -> 1215948 | D5: =D6+D14+D15+D16+D17+D18 -> 1244481 | E5: =D5-C5 -> 28533 | F5: =F6+F14+F15+F16+F17+F18 -> 16525 | G5: =G6+G14+G15+G16+G17+G18 -> 22707 | H5: =H6+H14+H15+H16+H17+H18 -> 22732 | I5: =H5-G5 -> 25 | J5: =J6+J14+J15+J16+J17+J18 -> 90800 | K5: =K6+K14+K15+K16+K17+K18 -> 98101 | L5: =L6+L14+L15+L16+L17+L18 -> 98101 | M5: =L5-K5 -> 0 | N5: =N6+N14+N15+N16+N17+N18 -> 1191528 | O5: =O6+O14+O15+O16+O17+O18 -> 1336756 | P5: =P6+P14+P15+P16+P17+P18 -> 1365314 | Q5: =P5-O5 -> 28558
A6: 1. Önkormányzat működési támogatásai | B6: =SUM(B7:B12) -> 1041539 | C6: =SUM(C7:C13) -> 1132123 | D6: =SUM(D7:D13) -> 1160656 | E6: =D6-C6 -> 28533 | F6: =SUM(F7:F12) -> 0 | I6: =H6-G6 -> 0 | J6: =SUM(J7:J12) -> 0 | M6: =L6-K6 -> 0 | N6: =SUM(N7:N12) -> 1041539 | O6: =SUM(O7:O13) -> 1132123 | P6: =SUM(P7:P13) -> 1160656 | Q6: =P6-O6 -> 28533
A7: 1.1. Helyi önk. működésének ált. támogatása | B7: 577840 | C7: 577840 | D7: 577840 | E7: =D7-C7 -> 0 | I7: =H7-G7 -> 0 | M7: =L7-K7 -> 0 | N7: =SUM(B7+F7+J7) -> 577840 | O7: =SUM(C7+G7+K7) -> 577840 | P7: =SUM(D7+H7+L7) -> 577840 | Q7: =P7-O7 -> 0
A8: 1.2. Települési önk. egyes köznev. feladatainak támogatása | B8: 268431 | C8: 265790 | D8: 265790 | E8: =D8-C8 -> 0 | I8: =H8-G8 -> 0 | M8: =L8-K8 -> 0 | N8: =SUM(B8+F8+J8) -> 268431 | O8: =SUM(C8+G8+K8) -> 265790 | P8: =SUM(D8+H8+L8) -> 265790 | Q8: =P8-O8 -> 0
A9: 1.3. Települési önk. szoc. és gyermekjóléti feladatainak tám. | B9: 179419 | C9: 196604 | D9: 195083 | E9: =D9-C9 -> -1521 | I9: =H9-G9 -> 0 | M9: =L9-K9 -> 0 | N9: =SUM(B9+F9+J9) -> 179419 | O9: =SUM(C9+G9+K9) -> 196604 | P9: =SUM(D9+H9+L9) -> 195083 | Q9: =P9-O9 -> -1521
A10: 1.4. Települési önk. kult. feladatainak támogatása | B10: 15849 | C10: 16614 | D10: 16614 | E10: =D10-C10 -> 0 | I10: =H10-G10 -> 0 | M10: =L10-K10 -> 0 | N10: =SUM(B10+F10+J10) -> 15849 | O10: =SUM(C10+G10+K10) -> 16614 | P10: =SUM(D10+H10+L10) -> 16614 | Q10: =P10-O10 -> 0
A11: 1.5. Működési célú költségvetési támogatások és kiegészítő támogatások | C11: 69220 | D11: 104254 | E11: =D11-C11 -> 35034 | I11: =H11-G11 -> 0 | M11: =L11-K11 -> 0 | N11: =SUM(B11+F11+J11) -> 0 | O11: =SUM(C11+G11+K11) -> 69220 | P11: =SUM(D11+H11+L11) -> 104254 | Q11: =P11-O11 -> 35034
A12: 1.6. Elszámolásból származó bevételek | C12: 1075 | D12: 1075 | E12: =D12-C12 -> 0 | I12: =H12-G12 -> 0 | M12: =L12-K12 -> 0 | N12: =SUM(B12+F12+J12) -> 0 | O12: =SUM(C12+G12+K12) -> 1075 | P12: =SUM(D12+H12+L12) -> 1075 | Q12: =P12-O12 -> 0
A13: 1.7. Vis major | C13: 4980 | D13: 0 | E13: =D13-C13 -> -4980 | I13: =H13-G13 -> 0 | M13: =L13-K13 -> 0 | O13: =SUM(C13+G13+K13) -> 4980 | P13: =SUM(D13+H13+L13) -> 0 | Q13: =P13-O13 -> -4980
A14: 2. Elvonások, befizetések | E14: =D14-C14 -> 0 | I14: =H14-G14 -> 0 | M14: =L14-K14 -> 0 | Q14: =P14-O14 -> 0
A15: 3. Működési célú garancia- és kezességvállalásból származó megtérülések áh-n belülről | E15: =D15-C15 -> 0 | I15: =H15-G15 -> 0 | M15: =L15-K15 -> 0 | N15: =B15+F15+J15 -> 0 | O15: =C15+G15+K15 -> 0 | Q15: =P15-O15 -> 0
A16: 4. Működési célú visszatérítendő támogatások, kölcsönök visszatérülése áh-n belülről | E16: =D16-C16 -> 0 | I16: =H16-G16 -> 0 | M16: =L16-K16 -> 0 | N16: =B16+F16+J16 -> 0 | O16: =C16+G16+K16 -> 0 | Q16: =P16-O16 -> 0
A17: 5. Működési célú visszatérítendő támogatások, kölcsönök igénybevétele áh-n belülről | E17: =D17-C17 -> 0 | I17: =H17-G17 -> 0 | M17: =L17-K17 -> 0 | N17: =B17+F17+J17 -> 0 | O17: =C17+G17+K17 -> 0 | Q17: =P17-O17 -> 0
A18: 6. Egyéb működési célú támogatások bevételei államháztartáson belülről | B18: 42664 | C18: 83825 | D18: 83825 | E18: =D18-C18 -> 0 | F18: 16525 | G18: 22707 | H18: ='2.a tábla ÚJ '!AY13 -> 22732 | I18: =H18-G18 -> 25 | J18: 90800 | K18: 98101 | L18: ='2.a tábla ÚJ '!AT13 -> 98101 | M18: =L18-K18 -> 0 | N18: =B18+F18+J18 -> 149989 | O18: =C18+G18+K18 -> 204633 | P18: =D18+H18+L18 -> 204658 | Q18: =P18-O18 -> 25
A19: ebből működési célú támogatás társadalombiztosítási alapból | E19: =D19-C19 -> 0 | I19: =H19-G19 -> 0 | J19: 90000 | K19: 93801 | L19: ='2.a tábla ÚJ '!AT14 -> 93801 | M19: =L19-K19 -> 0 | N19: =B19+F19+J19 -> 90000 | O19: =C19+G19+K19 -> 93801 | P19: =D19+H19+L19 -> 93801 | Q19: =P19-O19 -> 0
A20: II. Felhalmozási célú támogatások államháztartáson belülről | B20: =B21+B22+B23+B24+B25 -> 287821 | C20: =C21+C22+C23+C24+C25 -> 1545773 | D20: =D21+D22+D23+D24+D25 -> 1547170 | E20: =D20-C20 -> 1397 | F20: =F21+F22+F23+F24+F25 -> 0 | G20: =G21+G22+G23+G24+G25 -> 0 | I20: =H20-G20 -> 0 | J20: =J21+J22+J23+J24+J25 -> 0 | K20: =K21+K22+K23+K24+K25 -> 246 | L20: =L25 -> 246 | M20: =L20-K20 -> 0 | N20: =N21+N22+N23+N24+N25 -> 287821 | O20: =O21+O22+O23+O24+O25 -> 1546019 | P20: =P21+P22+P23+P24+P25 -> 1547416 | Q20: =P20-O20 -> 1397
A21: 1. Felhalmozási célú önkormányzati támogatások | B21: 72000 | C21: 75508 | D21: 76905 | E21: =D21-C21 -> 1397 | I21: =H21-G21 -> 0 | M21: =L21-K21 -> 0 | N21: =B21+F21+J21 -> 72000 | O21: =C21+G21+K21 -> 75508 | P21: =D21+H21+L21 -> 76905 | Q21: =P21-O21 -> 1397
A22: 2. Felhalmozási célú garancia- és kezességvállalásból származó megtérülések áh-n belülről | E22: =D22-C22 -> 0 | I22: =H22-G22 -> 0 | M22: =L22-K22 -> 0 | N22: =B22+F22+J22 -> 0 | O22: =C22+G22+K22 -> 0 | P22: =D22+H22+L22 -> 0 | Q22: =P22-O22 -> 0
A23: 3. Felhalmozási célú visszatérítendő támogatások, kölcsönök visszatérülése áh-n belülről | B23: 200000 | C23: 200000 | D23: 200000 | E23: =D23-C23 -> 0 | I23: =H23-G23 -> 0 | M23: =L23-K23 -> 0 | N23: =B23+F23+J23 -> 200000 | O23: =C23+G23+K23 -> 200000 | P23: =D23+H23+L23 -> 200000 | Q23: =P23-O23 -> 0
A24: 4. Felhalmozási célú visszatérítendő támogatások, kölcsönök igénybevétele áh-n belülről | E24: =D24-C24 -> 0 | I24: =H24-G24 -> 0 | M24: =L24-K24 -> 0 | N24: =B24+F24+J24 -> 0 | O24: =C24+G24+K24 -> 0 | P24: =D24+H24+L24 -> 0 | Q24: =P24-O24 -> 0
A25: 5. Egyéb felhalmozási célú támogatások államháztartáson belülről | B25: 15821 | C25: 1270265 | D25: 1270265 | E25: =D25-C25 -> 0 | I25: =H25-G25 -> 0 | K25: 246 | L25: ='2.a tábla ÚJ '!AT16 -> 246 | M25: =L25-K25 -> 0 | N25: =B25+F25+J25 -> 15821 | O25: =C25+G25+K25 -> 1270511 | P25: =D25+H25+L25 -> 1270511 | Q25: =P25-O25 -> 0
A26: MEGNEVEZÉS | B26: ÖNKORMÁNYZAT | F26: KÖZÖS ÖNKORMÁNYZATI HIVATAL | J26: KÖLTSÉGVETÉSI SZERVEK | N26: ÖNKORMÁNYZAT ÖSSZESEN
B27: 2016. évi eredeti ei. | C27: 2016. évi módosított ei. III. | D27: 2016. évi IV. módosítás | E27: Eltérés | F27: 2016. évi eredeti ei. | G27: 2016. évi módosított ei. III. | H27: 2016. évi IV. módosítás | I27: Eltérés | J27: 2016. évi eredeti ei. | K27: 2016. évi módosított ei. III. | L27: 2016. évi IV. módosítás | M27: Eltérés | N27: 2016. évi eredeti ei. | O27: 2016. évi módosított ei. III. | P27: 2016. évi IV. módosítás | Q27: Eltérés
A28: III. Közhatalmi bevételek | B28: =B29+B32+B40 -> 1516200 | C28: =C29+C32+C40 -> 1606200 | D28: =D29+D32+D40 -> 1606200 | E28: =D28-C28 -> 0 | F28: =F29+F32+F40 -> 500 | G28: =G29+G32+G40 -> 500 | H28: =H29+H32+H40 -> 500 | I28: =H28-G28 -> 0 | N28: =SUM(B28+F28+J28) -> 1516700 | O28: =SUM(C28+G28+K28) -> 1606700 | P28: =SUM(D28+H28+L28) -> 1606700 | Q28: =P28-O28 -> 0
A29: 1. Vagyoni típusú adók | B29: =SUM(B30:B31) -> 403000 | C29: =SUM(C30:C31) -> 418000 | D29: =SUM(D30:D31) -> 418000 | E29: =D29-C29 -> 0 | I29: =H29-G29 -> 0 | N29: =SUM(B29+F29+J29) -> 403000 | O29: =SUM(C29+G29+K29) -> 418000 | P29: =SUM(D29+H29+L29) -> 418000 | Q29: =P29-O29 -> 0
A30: 1.1. Építményadó | B30: 376000 | C30: 386000 | D30: 386000 | E30: =D30-C30 -> 0 | I30: =H30-G30 -> 0 | N30: =SUM(B30+F30+J30) -> 376000 | O30: =SUM(C30+G30+K30) -> 386000 | P30: =SUM(D30+H30+L30) -> 386000 | Q30: =P30-O30 -> 0
A31: 1.2. Telekadó | B31: 27000 | C31: 32000 | D31: 32000 | E31: =D31-C31 -> 0 | I31: =H31-G31 -> 0 | N31: =SUM(B31+F31+J31) -> 27000 | O31: =SUM(C31+G31+K31) -> 32000 | P31: =SUM(D31+H31+L31) -> 32000 | Q31: =P31-O31 -> 0
A32: 2. Termékek és szolgáltatások adói | B32: =B33+B35+B36 -> 1108900 | C32: =C33+C35+C36 -> 1156900 | D32: =D33+D35+D36 -> 1156000 | E32: =D32-C32 -> -900 | I32: =H32-G32 -> 0 | N32: =SUM(B32+F32+J32) -> 1108900 | O32: =SUM(C32+G32+K32) -> 1156900 | P32: =SUM(D32+H32+L32) -> 1156000 | Q32: =P32-O32 -> -900
A33: 2.1. Értékesítési és forgalmi adók | B33: =SUM(B34) -> 740000 | C33: =SUM(C34) -> 780000 | D33: =SUM(D34) -> 780000 | E33: =D33-C33 -> 0 | I33: =H33-G33 -> 0 | N33: =SUM(B33+F33+J33) -> 740000 | O33: =SUM(C33+G33+K33) -> 780000 | P33: =SUM(D33+H33+L33) -> 780000 | Q33: =P33-O33 -> 0
A34: 2.1. 1. Iparűzési adó | B34: 740000 | C34: 780000 | D34: 780000 | E34: =D34-C34 -> 0 | I34: =H34-G34 -> 0 | N34: =SUM(B34+F34+J34) -> 740000 | O34: =SUM(C34+G34+K34) -> 780000 | P34: =SUM(D34+H34+L34) -> 780000 | Q34: =P34-O34 -> 0
A35: 2.2. Gépjárműadók | B35: 50000 | C35: 50000 | D35: 50000 | E35: =D35-C35 -> 0 | I35: =H35-G35 -> 0 | N35: =SUM(B35+F35+J35) -> 50000 | O35: =SUM(C35+G35+K35) -> 50000 | P35: =SUM(D35+H35+L35) -> 50000 | Q35: =P35-O35 -> 0
A36: 2.3. Egyéb áruhasználati és szolgáltatási adók | B36: =SUM(B37:B39) -> 318900 | C36: =SUM(C37:C39) -> 326900 | D36: =SUM(D37:D39) -> 326000 | E36: =D36-C36 -> -900 | I36: =H36-G36 -> 0 | N36: =SUM(B36+F36+J36) -> 318900 | O36: =SUM(C36+G36+K36) -> 326900 | P36: =SUM(D36+H36+L36) -> 326000 | Q36: =P36-O36 -> -900
A37: 2.3.1. Ifa személyek u. | B37: 315000 | C37: 326000 | D37: 326000 | E37: =D37-C37 -> 0 | I37: =H37-G37 -> 0 | N37: =SUM(B37+F37+J37) -> 315000 | O37: =SUM(C37+G37+K37) -> 326000 | P37: =SUM(D37+H37+L37) -> 326000 | Q37: =P37-O37 -> 0
A38: 2.3.2. Talajterhelési díj | B38: 900 | C38: 900 | D38: 0 | E38: =D38-C38 -> -900 | I38: =H38-G38 -> 0 | N38: =SUM(B38+F38+J38) -> 900 | O38: =SUM(C38+G38+K38) -> 900 | P38: =SUM(D38+H38+L38) -> 0 | Q38: =P38-O38 -> -900
A39: 2.3.3. Települési adó | B39: 3000 | C39: 0 | E39: =D39-C39 -> 0 | I39: =H39-G39 -> 0 | N39: =SUM(B39+F39+J39) -> 3000 | O39: =SUM(C39+G39+K39) -> 0 | P39: =SUM(D39+H39+L39) -> 0 | Q39: =P39-O39 -> 0
A40: 3. Egyéb közhatalmi bevételek (bírság, pótlék,) | B40: 4300 | C40: 31300 | D40: =31300+900 -> 32200 | E40: =D40-C40 -> 900 | F40: 500 | G40: 500 | H40: ='2.a tábla ÚJ '!AY20 -> 500 | I40: =H40-G40 -> 0 | N40: =SUM(B40+F40+J40) -> 4800 | O40: =SUM(C40+G40+K40) -> 31800 | P40: =SUM(D40+H40+L40) -> 32700 | Q40: =P40-O40 -> 900
A41: IV. Működési bevételek | B41: =B42+B43+B45+B46+B49+B50+B51+B52+B55 -> 481851 | C41: =C42+C43+C45+C46+C49+C50+C51+C52+C55+C53+C54 -> 705789 | D41: =D42+D43+D45+D46+D49+D50+D51+D52+D55+D53+D54 -> 705789 | E41: =D41-C41 -> 0 | F41: =F42+F43+F45+F46+F49+F50+F51+F52+F55 -> 19151 | G41: =G42+G43+G45+G46+G49+G50+G51+G52+G55 -> 19151 | H41: =H42+H43+H45+H46+H49+H50+H51+H52+H55 -> 19151 | I41: =H41-G41 -> 0 | J41: =SUM(J42+J43+J45+J46+J49+J50+J51+J52+J55) -> 99702 | K41: =SUM(K42+K43+K45+K46+K49+K50+K51+K52+K55) -> 100952 | L41: =SUM(L42+L43+L45+L46+L49+L50+L51+L52+L55) -> 102883 | M41: =L41-K41 -> 1931 | N41: =SUM(B41+F41+J41) -> 600704 | O41: =SUM(C41+G41+K41) -> 825892 | P41: =SUM(D41+H41+L41) -> 827823 | Q41: =P41-O41 -> 1931
A42: 1. Készletértékesítés bevétele | B42: 10000 | C42: 10000 | D42: 10000 | E42: =D42-C42 -> 0 | I42: =H42-G42 -> 0 | M42: =L42-K42 -> 0 | N42: =SUM(B42+F42+J42) -> 10000 | O42: =SUM(C42+G42+K42) -> 10000 | P42: =SUM(D42+H42+L42) -> 10000 | Q42: =P42-O42 -> 0
...

Sheet 2.a tábla ÚJ 
A6: INTÉZMÉNYI BEVÉTELEK
A10: MEGNEVEZÉS | B10: EÖTVÖS L. ÁLTALÁNOS ISKOLA | F10: RADNÓTI M. ÁLTALÁNOS ISKOLA | J10: FEKETE ISTVÁN ÁLTALÁNOS ISKOLA | N10: LÓCZY L. GIMNÁZIUM | R10: MEGNEVEZÉS | S10: FERENCSIK J. ZENEISKOLA | W10: INTÉZMÉNYELLÁTÓ SZ. KP | AA10: BALATONFÜREDI INTÉZMÉNYELLÁTÓ SZERVEZET ÖSSZESEN | AE10: VÁROSI KÖNYVTÁR | AI10: MEGNEVEZÉS | AJ10: VÁROSI RENDELŐINTÉZET | AN10: VÁROSI BÖLCSŐDE | AR10: KÖLTSÉGVETÉSI SZERVEK ÖSSZESEN | AW10: KÖZÖS ÖNKORMÁNYZATI HIVATAL
B11: 2016. évi eredeti ei. | C11: 2016. évi módosított ei. III. | D11: 2016. évi módosított ei. IV. | E11: Eltérés | F11: 2016. évi eredeti ei. | G11: 2016. évi módosított ei. III. | H11: 2016. évi módosított ei. IV. | I11: Eltérés | J11: 2016. évi eredeti ei. | K11: 2016. évi módosított ei. III. | L11: 2016. évi módosított ei. IV. | M11: Eltérés | N11: 2016. évi eredeti ei. | O11: 2016. évi módosított ei. III. | P11: 2016. évi módosított ei. IV. | Q11: Eltérés | S11: 2016. évi eredeti ei. | T11: 2016. évi módosított ei. III. | U11: 2016. évi módosított ei. IV. | V11: Eltérés | W11: 2016. évi eredeti ei. | X11: 2016. évi módosított ei. III. | Y11: 2016. évi módosított ei. IV. | Z11: Eltérés | AA11: 2016. évi eredeti ei. | AB11: 2016. évi módosított ei. III. | AC11: 2016. évi módosított ei. IV. | AD11: Eltérés | AE11: 2016. évi eredeti ei. | AF11: 2016. évi módosított ei. III. | AG11: 2016. évi módosított ei. IV. | AH11: Eltérés | AJ11: 2016. évi eredeti ei. | AK11: 2016. évi módosított ei. III. | AL11: 2016. évi módosított ei. IV. | AM11: Eltérés | AN11: 2016. évi eredeti ei. | AO11: 2016. évi módosított ei. III. | AP11: 2016. évi módosított ei. IV. | AQ11: Eltérés | AR11: 2016. évi eredeti ei. | AS11: 2016. évi módosított ei. III. | AT11: 2016. évi módosított ei. IV. | AU11: Eltérés | AW11: 2016. évi eredeti ei. | AX11: 2016. évi módosított ei. III. | AY11: 2016. évi módosított ei. IV. | AZ11: Eltérés
A12: I. Működési célú támogatások államházatartáson belülről | B12: =B13 -> 0 | C12: =C13 -> 101 | D12: =D13 -> 101 | E12: =D12-C12 -> 0 | F12: =F13 -> 0 | G12: =G13 -> 0 | H12: =H13 -> 0 | I12: =H12-G12 -> 0 | J12: =J13 -> 0 | K12: =K13 -> 0 | L12: =L13 -> 0 | M12: =L12-K12 -> 0 | N12: =N13 -> 0 | O12: =O13 -> 843 | P12: =P13 -> 843 | Q12: =P12-O12 -> 0 | R12: I. Működési célú támogatások államházatartáson belülről | S12: =S13 -> 0 | T12: =T13 -> 0 | U12: =U13 -> 0 | V12: =U12-T12 -> 0 | W12: =W13 -> 0 | X12: =X13 -> 0 | Y12: =Y13 -> 0 | Z12: =Y12-X12 -> 0 | AA12: =AA13 -> 0 | AB12: =AB13 -> 944 | AC12: =AC13 -> 944 | AD12: =AC12-AB12 -> 0 | AE12: =AE13 -> 800 | AF12: =AF13 -> 2313 | AG12: =AG13 -> 2313 | AH12: =AG12-AF12 -> 0 | AI12: I. Működési célú támogatások államházatartáson belülről | AJ12: =AJ13 -> 90000 | AK12: =AK13 -> 94693 | AL12: =AL13 -> 94693 | AM12: =AL12-AK12 -> 0 | AN12: =AN13 -> 0 | AO12: =AO13 -> 151 | AP12: =AP13 -> 151 | AQ12: =AP12-AO12 -> 0 | AR12: =AR13 -> 90800 | AS12: =AS13 -> 98101 | AT12: =AT13 -> 98101 | AU12: =AT12-AS12 -> 0 | AV12: =AV13+AV16 -> 0 | AW12: =AW13+AW16 -> 16525 | AX12: =AX13+AX16 -> 22707 | AY12: =AY13+AY16 -> 22732 | AZ12: =AY12-AX12 -> 25
A13: 6. Egyéb működési célú támogatások bevételei államháztartáson belülről | C13: 101 | D13: 101 | E13: =D13-C13 -> 0 | G13: 0 | H13: 0 | I13: =H13-G13 -> 0 | M13: =L13-K13 -> 0 | O13: 843 | P13: 843 | Q13: =P13-O13 -> 0 | R13: 6. Egyéb működési célú támogatások bevételei államháztartáson belülről | T13: 0 | U13: 0 | V13: =U13-T13 -> 0 | X13: 0 | Y13: 0 | Z13: =Y13-X13 -> 0 | AA13: =B13+F13+J13+N13+S13+W13 -> 0 | AB13: =C13+G13+K13+O13+T13+X13 -> 944 | AC13: =D13+H13+L13+P13+U13+Y13 -> 944 | AD13: =AC13-AB13 -> 0 | AE13: 800 | AF13: 2313 | AG13: 2313 | AH13: =AG13-AF13 -> 0 | AI13: 6. Egyéb működési célú támogatások bevételei államháztartáson belülről | AJ13: 90000 | AK13: 94693 | AL13: 94693 | AM13: =AL13-AK13 -> 0 | AO13: 151 | AP13: 151 | AQ13: =AP13-AO13 -> 0 | AR13: =+AA13+AE13+AJ13+AN13 -> 90800 | AS13: =+AB13+AF13+AK13+AO13 -> 98101 | AT13: =+AC13+AG13+AL13+AP13 -> 98101 | AU13: =AT13-AS13 -> 0 | AW13: 16525 | AX13: 22707 | AY13: 22732 | AZ13: =AY13-AX13 -> 25
A14: ebből működési célú támogatás társadalombiztosítási alapból | E14: =D14-C14 -> 0 | I14: =H14-G14 -> 0 | M14: =L14-K14 -> 0 | Q14: =P14-O14 -> 0 | R14: ebből működési célú támogatás társadalombiztosítási alapból | V14: =U14-T14 -> 0 | Z14: =Y14-X14 -> 0 | AA14: =B14+F14+J14+N14+S14+W14 -> 0 | AD14: =AC14-AB14 -> 0 | AH14: =AG14-AF14 -> 0 | AI14: ebből működési célú támogatás társadalombiztosítási alapból | AJ14: 90000 | AK14: 93801 | AL14: 93801 | AM14: =AL14-AK14 -> 0 | AQ14: =AP14-AO14 -> 0 | AR14: =+AA14+AE14+AJ14+AN14 -> 90000 | AS14: =+AB14+AF14+AK14+AO14 -> 93801 | AT14: =+AC14+AG14+AL14+AP14 -> 93801 | AU14: =AT14-AS14 -> 0 | AZ14: =AY14-AX14 -> 0
A15: II. Felhalmozási célú támogatások államháztartáson belülről | B15: =B16 -> 0 | C15: =C16 -> 0 | D15: =D16 -> 0 | E15: =D15-C15 -> 0 | F15: =F16 -> 0 | G15: =G16 -> 0 | H15: =H16 -> 0 | I15: =H15-G15 -> 0 | J15: =J16 -> 0 | K15: =K16 -> 0 | L15: =L16 -> 0 | M15: =L15-K15 -> 0 | N15: =N16 -> 0 | O15: =O16 -> 0 | P15: =P16 -> 0 | Q15: =P15-O15 -> 0 | R15: II. Felhalmozási célú támogatások államháztartáson belülről | S15: =S16 -> 0 | T15: =T16 -> 0 | U15: =U16 -> 0 | V15: =U15-T15 -> 0 | W15: =W16 -> 0 | X15: =X16 -> 0 | Z15: =Y15-X15 -> 0 | AA15: =AA16 -> 0 | AD15: =AC15-AB15 -> 0 | AE15: =AE16 -> 0 | AF15: =AF16 -> 0 | AH15: =AG15-AF15 -> 0 | AI15: II. Felhalmozási célú támogatások államháztartáson belülről | AJ15: =AJ16 -> 0 | AK15: =AK16 -> 246 | AL15: =AL16 -> 246 | AM15: =AL15-AK15 -> 0 | AN15: =AN16 -> 0 | AO15: =AO16 -> 0 | AQ15: =AP15-AO15 -> 0 | AR15: =+AA15+AE15+AJ15+AN15 -> 0 | AS15: =+AB15+AF15+AK15+AO15 -> 246 | AT15: =+AC15+AG15+AL15+AP15 -> 246 | AU15: =AT15-AS15 -> 0 | AV15: =AV16 -> 0 | AW15: =AW16 -> 0 | AX15: =AX16 -> 0 | AZ15: =AY15-AX15 -> 0
A16: 4. Egyéb felhalmozási célú támogatások államháztartáson belülről | E16: =D16-C16 -> 0 | I16: =H16-G16 -> 0 | M16: =L16-K16 -> 0 | Q16: =P16-O16 -> 0 | R16: 4. Egyéb felhalmozási célú támogatások államháztartáson belülről | V16: =U16-T16 -> 0 | Z16: =Y16-X16 -> 0 | AA16: =B16+F16+J16+N16+S16+W16 -> 0 | AD16: =AC16-AB16 -> 0 | AH16: =AG16-AF16 -> 0 | AI16: 4. Egyéb felhalmozási célú támogatások államháztartáson belülről | AK16: 246 | AL16: 246 | AM16: =AL16-AK16 -> 0 | AQ16: =AP16-AO16 -> 0 | AR16: =+AA16+AE16+AJ16+AN16 -> 0 | AS16: =+AB16+AF16+AK16+AO16 -> 246 | AT16: =+AC16+AG16+AL16+AP16 -> 246 | AU16: =AT16-AS16 -> 0 | AZ16: =AY16-AX16 -> 0
A17: II. Közhatalmi bevételek | E17: =D17-C17 -> 0 | I17: =H17-G17 -> 0 | M17: =L17-K17 -> 0 | Q17: =P17-O17 -> 0 | R17: II. Közhatalmi bevételek | V17: =U17-T17 -> 0 | Z17: =Y17-X17 -> 0 | AD17: =AC17-AB17 -> 0 | AH17: =AG17-AF17 -> 0 | AI17: II. Közhatalmi bevételek | AM17: =AL17-AK17 -> 0 | AQ17: =AP17-AO17 -> 0 | AR17: =+AA17+AE17+AJ17+AN17 -> 0 | AS17: =+AB17+AF17+AK17+AO17 -> 0 | AT17: =+AC17+AG17+AL17+AP17 -> 0 | AU17: =AT17-AS17 -> 0 | AV17: =AE17+AI17+AJ17+AN17+AR17 -> #VALUE! | AW17: =SUM(AW18:AW20) -> 500 | AX17: =SUM(AX18:AX20) -> 500 | AY17: =SUM(AY18:AY20) -> 500 | AZ17: =AY17-AX17 -> 0
A18: 1. Vagyoni típusú adók | E18: =D18-C18 -> 0 | I18: =H18-G18 -> 0 | M18: =L18-K18 -> 0 | Q18: =P18-O18 -> 0 | R18: 1. Vagyoni típusú adók | V18: =U18-T18 -> 0 | Z18: =Y18-X18 -> 0 | AD18: =AC18-AB18 -> 0 | AH18: =AG18-AF18 -> 0 | AI18: 1. Vagyoni típusú adók | AM18: =AL18-AK18 -> 0 | AQ18: =AP18-AO18 -> 0 | AR18: =+AA18+AE18+AJ18+AN18 -> 0 | AS18: =+AB18+AF18+AK18+AO18 -> 0 | AT18: =+AC18+AG18+AL18+AP18 -> 0 | AU18: =AT18-AS18 -> 0 | AV18: =#REF!+#REF!+#REF!+#REF!+#REF!+B18+F18+#REF!+S18+#REF!+AE18+#REF!+AJ18+AN18+AR18 -> #REF! | AZ18: =AY18-AX18 -> 0
A19: 2. Termékek és szolgáltatások adói | E19: =D19-C19 -> 0 | I19: =H19-G19 -> 0 | M19: =L19-K19 -> 0 | Q19: =P19-O19 -> 0 | R19: 2. Termékek és szolgáltatások adói | V19: =U19-T19 -> 0 | Z19: =Y19-X19 -> 0 | AD19: =AC19-AB19 -> 0 | AH19: =AG19-AF19 -> 0 | AI19: 2. Termékek és szolgáltatások adói | AM19: =AL19-AK19 -> 0 | AQ19: =AP19-AO19 -> 0 | AR19: =+AA19+AE19+AJ19+AN19 -> 0 | AS19: =+AB19+AF19+AK19+AO19 -> 0 | AT19: =+AC19+AG19+AL19+AP19 -> 0 | AU19: =AT19-AS19 -> 0 | AZ19: =AY19-AX19 -> 0
A20: 3. Egyéb közhatalmi bevételek (bírság, pótlék,) | E20: =D20-C20 -> 0 | I20: =H20-G20 -> 0 | M20: =L20-K20 -> 0 | Q20: =P20-O20 -> 0 | R20: 3. Egyéb közhatalmi bevételek (bírság, pótlék,) | V20: =U20-T20 -> 0 | Z20: =Y20-X20 -> 0 | AD20: =AC20-AB20 -> 0 | AH20: =AG20-AF20 -> 0 | AI20: 3. Egyéb közhatalmi bevételek (bírság, pótlék,) | AM20: =AL20-AK20 -> 0 | AQ20: =AP20-AO20 -> 0 | AR20: =+AA20+AE20+AJ20+AN20 -> 0 | AS20: =+AB20+AF20+AK20+AO20 -> 0 | AT20: =+AC20+AG20+AL20+AP20 -> 0 | AU20: =AT20-AS20 -> 0 | AW20: 500 | AX20: 500 | AY20: 500 | AZ20: =AY20-AX20 -> 0
A21: IV. Működési bevételek | B21: =B22+B23+B25+B26+B27+B28+B29+B30+B33 -> 24855 | C21: =C22+C23+C25+C26+C27+C28+C29+C30+C33 -> 25554 | D21: =D22+D23+D25+D26+D27+D28+D29+D30+D33 -> 25554 | E21: =D21-C21 -> 0 | F21: =F22+F23+F25+F26+F27+F28+F29+F30+F33 -> 23321 | G21: =G22+G23+G25+G26+G27+G28+G29+G30+G33 -> 23632 | H21: =H22+H23+H25+H26+H27+H28+H29+H30+H33 -> 24493 | I21: =H21-G21 -> 861 | J21: =J22+J23+J25+J26+J27+J28+J29+J30+J33 -> 1174 | K21: =K22+K23+K25+K26+K27+K28+K29+K30+K33 -> 1174 | L21: =L22+L23+L25+L26+L27+L28+L29+L30+L33 -> 1618 | M21: =L21-K21 -> 444 | N21: =N22+N23+N25+N26+N27+N28+N29+N30+N33 -> 12008 | O21: =O22+O23+O25+O26+O27+O28+O29+O30+O33 -> 12008 | P21: =P22+P23+P25+P26+P27+P28+P29+P30+P33 -> 12008 | Q21: =P21-O21 -> 0 | R21: 1V. Működési bevételek | S21: =S22+S23+S25+S26+S27+S28+S29+S30+S33 -> 1102 | T21: =T22+T23+T25+T26+T27+T28+T29+T30+T33 -> 1102 | U21: =U22+U23+U25+U26+U27+U28+U29+U30+U33 -> 1705 | V21: =U21-T21 -> 603 | W21: =W22+W23+W25+W26+W27+W28+W29+W30+W33 -> 0 | X21: =X22+X23+X25+X26+X27+X28+X29+X30+X33 -> 0 | Y21: =Y22+Y23+Y25+Y26+Y27+Y28+Y29+Y30+Y33 -> 23 | Z21: =Y21-X21 -> 23 | AA21: =AA22+AA23+AA25+AA26+AA27+AA28+AA29+AA30+AA33 -> 62460 | AB21: =AB22+AB23+AB25+AB26+AB27+AB28+AB29+AB30+AB33 -> 63470 | AC21: =AC22+AC23+AC25+AC26+AC27+AC28+AC29+AC30+AC33 -> 65401 | AD21: =AC21-AB21 -> 1931 | AE21: =AE22+AE23+AE25+AE26+AE27+AE28+AE29+AE30+AE33 -> 2790 | AF21: =AF22+AF23+AF25+AF26+AF27+AF28+AF29+AF30+AF33 -> 2790 | AG21: =AG22+AG23+AG25+AG26+AG27+AG28+AG29+AG30+AG33 -> 2790 | AH21: =AG21-AF21 -> 0 | AI21: IV. Működési bevételek | AJ21: =AJ22+AJ23+AJ25+AJ26+AJ27+AJ28+AJ29+AJ30+AJ33 -> 33260 | AK21: =AK22+AK23+AK25+AK26+AK27+AK28+AK29+AK30+AK33 -> 33260 | AL21: =AL22+AL23+AL25+AL26+AL27+AL28+AL29+AL30+AL33 -> 33260 | AM21: =AL21-AK21 -> 0 | AN21: =AN22+AN23+AN25+AN26+AN27+AN28+AN29+AN30+AN33 -> 1192 | AO21: =AO22+AO23+AO25+AO26+AO27+AO28+AO29+AO30+AO33 -> 1432 | AP21: =AP22+AP23+AP25+AP26+AP27+AP28+AP29+AP30+AP33 -> 1432 | AQ21: =AP21-AO21 -> 0 | AR21: =AR22+AR23+AR25+AR26+AR27+AR28+AR29+AR30+AR33 -> 99702 | AS21: =AS22+AS23+AS25+AS26+AS27+AS28+AS29+AS30+AS33 -> 100952 | AT21: =AT22+AT23+AT25+AT26+AT27+AT28+AT29+AT30+AT33 -> 102883 | AU21: =AT21-AS21 -> 1931 | AV21: =AV22+AV23+AV25+AV26+AV27+AV28+AV29+AV30+AV33 -> #VALUE! | AW21: =AW22+AW23+AW25+AW26+AW27+AW28+AW29+AW30+AW33 -> 19151 | AX21: =AX22+AX23+AX25+AX26+AX27+AX28+AX29+AX30+AX33 -> 19151 | AY21: =AY22+AY23+AY25+AY26+AY27+AY28+AY29+AY30+AY33 -> 19151 | AZ21: =AY21-AX21 -> 0 | BA21: =AR23+AR25+AR27+AR286+AR28+AR33+AR29 -> 99702 | BB21: =#REF!+#REF!+#REF!+#REF!+#REF!+#REF!+#REF! -> #REF!
A22: 1. Készletértékesítés bevétele | E22: =D22-C22 -> 0 | I22: =H22-G22 -> 0 | M22: =L22-K22 -> 0 | Q22: =P22-O22 -> 0 | R22: 1. Készletértékesítés bevétele | V22: =U22-T22 -> 0 | Z22: =Y22-X22 -> 0 | AA22: =B22+F22+J22+N22+S22+W22 -> 0 | AD22: =AC22-AB22 -> 0 | AH22: =AG22-AF22 -> 0 | AI22: 1. Áru- és készletértékesítés bevétele | AM22: =AL22-AK22 -> 0 | AQ22: =AP22-AO22 -> 0 | AR22: =+AA22+AE22+AJ22+AN22 -> 0 | AS22: =+AB22+AF22+AK22+AO22 -> 0 | AT22: =+AC22+AG22+AL22+AP22 -> 0 | AU22: =AT22-AS22 -> 0 | AV22: =AE22+AI22+AJ22+AN22+AR22 -> #VALUE! | AZ22: =AY22-AX22 -> 0
A23: 2. Szolgáltatások ellenértéke | B23: 701 | C23: 701 | D23: 701 | E23: =D23-C23 -> 0 | F23: 385 | G23: 385 | H23: 1063 | I23: =H23-G23 -> 678 | M23: =L23-K23 -> 0 | N23: 4390 | O23: 4390 | P23: 4390 | Q23: =P23-O23 -> 0 | R23: 2. Szolgáltatások ellenértéke | S23: 820 | T23: 820 | U23: 1258 | V23: =U23-T23 -> 438 | Z23: =Y23-X23 -> 0 | AA23: =B23+F23+J23+N23+S23+W23 -> 6296 | AB23: =C23+G23+K23+O23+T23+X23 -> 6296 | AC23: =D23+H23+L23+P23+U23+Y23 -> 7412 | AD23: =AC23-AB23 -> 1116 | AE23: 2319 | AF23: 2319 | AG23: 2319 | AH23: =AG23-AF23 -> 0 | AI23: 2. Nyújtott szolgáltatások ellenértéke | AJ23: 33260 | AK23: 33260 | AL23: 33260 | AM23: =AL23-AK23 -> 0 | AQ23: =AP23-AO23 -> 0 | AR23: =+AA23+AE23+AJ23+AN23 -> 41875 | AS23: =+AB23+AF23+AK23+AO23 -> 41875 | AT23: =+AC23+AG23+AL23+AP23 -> 42991 | AU23: =AT23-AS23 -> 1116 | AV23: =AE23+AI23+AJ23+AN23+AR23 -> #VALUE! | AW23: 13700 | AX23: 13700 | AY23: 13700 | AZ23: =AY23-AX23 -> 0
A24: Ebből: bérleti díj | B24: 701 | C24: 701 | D24: 701 | E24: =D24-C24 -> 0 | F24: 385 | G24: 385 | H24: 1246 | I24: =H24-G24 -> 861 | M24: =L24-K24 -> 0 | N24: 4390 | O24: 4390 | P24: 4390 | Q24: =P24-O24 -> 0 | R24: Ebből: bérleti díj | S24: 382 | T24: 382 | U24: 820 | V24: =U24-T24 -> 438 | Z24: =Y24-X24 -> 0 | AA24: =B24+F24+J24+N24+S24+W24 -> 5858 | AB24: =C24+G24+K24+O24+T24+X24 -> 5858 | AC24: =D24+H24+L24+P24+U24+Y24 -> 7157 | AD24: =AC24-AB24 -> 1299 | AE24: 50 | AF24: 50 | AG24: 50 | AH24: =AG24-AF24 -> 0 | AI24: Ebből: bérleti díj | AJ24: 6200 | AK24: 6200 | AL24: 6200 | AM24: =AL24-AK24 -> 0 | AQ24: =AP24-AO24 -> 0 | AR24: =+AA24+AE24+AJ24+AN24 -> 12108 | AS24: =+AB24+AF24+AK24+AO24 -> 12108 | AT24: =+AC24+AG24+AL24+AP24 -> 13407 | AU24: =AT24-AS24 -> 1299 | AV24: =AE24+AI24+AJ24+AN24+AR24 -> #VALUE! | AW24: 8500 | AX24: 8500 | AY24: 8500 | AZ24: =AY24-AX24 -> 0
A25: 3. Közvetített szolgáltatások ellenértéke | B25: 355 | C25: 355 | D25: 355 | E25: =D25-C25 -> 0 | F25: 765 | G25: 765 | H25: 765 | I25: =H25-G25 -> 0 | J25: 170 | K25: 170 | L25: 207 | M25: =L25-K25 -> 37 | N25: 427 | O25: 427 | P25: 427 | Q25: =P25-O25 -> 0 | R25: 3. Közvetített szolgáltatások ellenértéke | S25: 48 | T25: 48 | U25: 50 | V25: =U25-T25 -> 2 | Z25: =Y25-X25 -> 0 | AA25: =B25+F25+J25+N25+S25+W25 -> 1765 | AB25: =C25+G25+K25+O25+T25+X25 -> 1765 | AC25: =D25+H25+L25+P25+U25+Y25 -> 1804 | AD25: =AC25-AB25 -> 39 | AH25: =AG25-AF25 -> 0 | AI25: 3. Közvetített szolgáltatások ellenértéke | AM25: =AL25-AK25 -> 0 | AQ25: =AP25-AO25 -> 0 | AR25: =+AA25+AE25+AJ25+AN25 -> 1765 | AS25: =+AB25+AF25+AK25+AO25 -> 1765 | AT25: =+AC25+AG25+AL25+AP25 -> 1804 | AU25: =AT25-AS25 -> 39 | AV25: =AE25+AI25+AJ25+AN25+AR25 -> #VALUE! | AW25: 1372 | AX25: 1372 | AY25: 1372 | AZ25: =AY25-AX25 -> 0
A26: 4. Tulajdonosi bevételek | E26: =D26-C26 -> 0 | I26: =H26-G26 -> 0 | M26: =L26-K26 -> 0 | Q26: =P26-O26 -> 0 | R26: 4. Tulajdonosi bevételek | V26: =U26-T26 -> 0 | Z26: =Y26-X26 -> 0 | AA26: =B26+F26+J26+N26+S26+W26 -> 0 | AB26: =C26+G26+K26+O26+T26+X26 -> 0 | AC26: =D26+H26+L26+P26+U26+Y26 -> 0 | AD26: =AC26-AB26 -> 0 | AH26: =AG26-AF26 -> 0 | AI26: 4. Tulajdonosi bevételek | AM26: =AL26-AK26 -> 0 | AQ26: =AP26-AO26 -> 0 | AR26: =+AA26+AE26+AJ26+AN26 -> 0 | AS26: =+AB26+AF26+AK26+AO26 -> 0 | AT26: =+AC26+AG26+AL26+AP26 -> 0 | AU26: =AT26-AS26 -> 0 | AV26: =AE26+AI26+AJ26+AN26+AR26 -> #VALUE! | AZ26: =AY26-AX26 -> 0
A27: 5. Ellátási díjak | B27: 15089 | C27: 15788 | D27: 15788 | E27: =D27-C27 -> 0 | F27: 14524 | G27: 14835 | H27: 14835 | I27: =H27-G27 -> 0 | J27: 518 | K27: 518 | L27: 858 | M27: =L27-K27 -> 340 | N27: 4009 | O27: 4009 | P27: 4009 | Q27: =P27-O27 -> 0 | R27: 5. Ellátási díjak | U27: 34 | V27: =U27-T27 -> 34 | Z27: =Y27-X27 -> 0 | AA27: =B27+F27+J27+N27+S27+W27 -> 34140 | AB27: =C27+G27+K27+O27+T27+X27 -> 35150 | AC27: =D27+H27+L27+P27+U27+Y27 -> 35524 | AD27: =AC27-AB27 -> 374 | AH27: =AG27-AF27 -> 0 | AI27: 5. Ellátási díjak | AM27: =AL27-AK27 -> 0 | AN27: 1192 | AO27: 1432 | AP27: 1432 | AQ27: =AP27-AO27 -> 0 | AR27: =+AA27+AE27+AJ27+AN27 -> 35332 | AS27: =+AB27+AF27+AK27+AO27 -> 36582 | AT27: =+AC27+AG27+AL27+AP27 -> 36956 | AU27: =AT27-AS27 -> 374 | AV27: =AE27+AI27+AJ27+AN27+AR27 -> #VALUE! | AZ27: =AY27-AX27 -> 0
A28: 6. Kiszámlázott Áfa | B28: 4359 | C28: 4359 | D28: 4359 | E28: =D28-C28 -> 0 | F28: 4232 | G28: 4232 | H28: 4415 | I28: =H28-G28 -> 183 | J28: 186 | K28: 186 | L28: 289 | M28: =L28-K28 -> 103 | N28: 2383 | O28: 2383 | P28: 2383 | Q28: =P28-O28 -> 0 | R28: 6. Kiszámlázott Áfa | S28: 234 | T28: 234 | U28: 363 | V28: =U28-T28 -> 129 | Z28: =Y28-X28 -> 0 | AA28: =B28+F28+J28+N28+S28+W28 -> 11394 | AB28: =C28+G28+K28+O28+T28+X28 -> 11394 | AC28: =D28+H28+L28+P28+U28+Y28 -> 11809 | AD28: =AC28-AB28 -> 415 | AE28: 451 | AF28: 451 | AG28: 451 | AH28: =AG28-AF28 -> 0 | AI28: 6. Kiszámlázott Áfa | AM28: =AL28-AK28 -> 0 | AQ28: =AP28-AO28 -> 0 | AR28: =+AA28+AE28+AJ28+AN28 -> 11845 | AS28: =+AB28+AF28+AK28+AO28 -> 11845 | AT28: =+AC28+AG28+AL28+AP28 -> 12260 | AU28: =AT28-AS28 -> 415 | AV28: =AE28+AI28+AJ28+AN28+AR28 -> #VALUE! | AW28: 4069 | AX28: 4069 | AY28: 4069 | AZ28: =AY28-AX28 -> 0
A29: 7. Áfa visszatérítés | B29: 4351 | C29: 4351 | D29: 4351 | E29: =D29-C29 -> 0 | F29: 3415 | G29: 3415 | H29: 3415 | I29: =H29-G29 -> 0 | J29: 300 | K29: 300 | L29: 264 | M29: =L29-K29 -> -36 | N29: 799 | O29: 799 | P29: 799 | Q29: =P29-O29 -> 0 | R29: 7. Áfa visszatérítés | V29: =U29-T29 -> 0 | Z29: =Y29-X29 -> 0 | AA29: =B29+F29+J29+N29+S29+W29 -> 8865 | AB29: =C29+G29+K29+O29+T29+X29 -> 8865 | AC29: =D29+H29+L29+P29+U29+Y29 -> 8829 | AD29: =AC29-AB29 -> -36 | AH29: =AG29-AF29 -> 0 | AI29: 7. Áfa visszatérítés | AM29: =AL29-AK29 -> 0 | AQ29: =AP29-AO29 -> 0 | AR29: 8865 | AS29: =+AB29+AF29+AK29+AO29 -> 8865 | AT29: =+AC29+AG29+AL29+AP29 -> 8829 | AU29: =AT29-AS29 -> -36 | AV29: =AE29+AI29+AJ29+AN29+AR29 -> #VALUE! | AZ29: =AY29-AX29 -> 0
A30: 8. Kamatbevétel | E30: =D30-C30 -> 0 | I30: =H30-G30 -> 0 | M30: =L30-K30 -> 0 | Q30: =P30-O30 -> 0 | R30: 8. Kamatbevétel | V30: =U30-T30 -> 0 | Y30: 13 | Z30: =Y30-X30 -> 13 | AA30: =B30+F30+J30+N30+S30+W30 -> 0 | AB30: =C30+G30+K30+O30+T30+X30 -> 0 | AC30: =D30+H30+L30+P30+U30+Y30 -> 13 | AD30: =AC30-AB30 -> 13 | AH30: =AG30-AF30 -> 0 | AI30: 8. Kamatbevétel | AM30: =AL30-AK30 -> 0 | AQ30: =AP30-AO30 -> 0 | AR30: =+AA30+AE30+AJ30+AN30 -> 0 | AS30: =+AB30+AF30+AK30+AO30 -> 0 | AT30: =+AC30+AG30+AL30+AP30 -> 13 | AU30: =AT30-AS30 -> 13 | AV30: =AE30+AI30+AJ30+AN30+AR30 -> #VALUE! | AW30: 10 | AX30: 10 | AY30: 10 | AZ30: =AY30-AX30 -> 0
A31: 9. Egyéb pénzügyi műveletek bevételei | E31: =D31-C31 -> 0 | I31: =H31-G31 -> 0 | M31: =L31-K31 -> 0 | Q31: =P31-O31 -> 0 | R31: 9. Egyéb pénzügyi műveletek bevételei | V31: =U31-T31 -> 0 | Z31: =Y31-X31 -> 0 | AD31: =AC31-AB31 -> 0 | AH31: =AG31-AF31 -> 0 | AM31: =AL31-AK31 -> 0 | AQ31: =AP31-AO31 -> 0 | AU31: =AT31-AS31 -> 0 | AZ31: =AY31-AX31 -> 0
A32: 10. Biztosító által fizetett kártérítés | E32: =D32-C32 -> 0 | I32: =H32-G32 -> 0 | M32: =L32-K32 -> 0 | Q32: =P32-O32 -> 0 | R32: 10. Biztosító által fizetett kártérítés | V32: =U32-T32 -> 0 | Z32: =Y32-X32 -> 0 | AD32: =AC32-AB32 -> 0 | AH32: =AG32-AF32 -> 0 | AM32: =AL32-AK32 -> 0 | AQ32: =AP32-AO32 -> 0 | AU32: =AT32-AS32 -> 0 | AZ32: =AY32-AX32 -> 0
A33: 11. Egyéb működési bevételek | E33: =D33-C33 -> 0 | I33: =H33-G33 -> 0 | M33: =L33-K33 -> 0 | Q33: =P33-O33 -> 0 | R33: 11. Egyéb működési bevételek | V33: =U33-T33 -> 0 | Y33: 10 | Z33: =Y33-X33 -> 10 | AA33: =B33+F33+J33+N33+S33+W33 -> 0 | AB33: =C33+G33+K33+O33+T33+X33 -> 0 | AC33: =D33+H33+L33+P33+U33+Y33 -> 10 | AD33: =AC33-AB33 -> 10 | AE33: 20 | AF33: 20 | AG33: 20 | AH33: =AG33-AF33 -> 0 | AI33: 9. Egyéb működési bevételek (alkalmazottak térítése, kötbér, stb.) | AM33: =AL33-AK33 -> 0 | AQ33: =AP33-AO33 -> 0 | AR33: =+AA33+AE33+AJ33+AN33 -> 20 | AS33: =+AB33+AF33+AK33+AO33 -> 20 | AT33: =+AC33+AG33+AL33+AP33 -> 30 | AU33: =AT33-AS33 -> 10 | AV33: =AE33+AI33+AJ33+AN33+AR33 -> #VALUE! | AZ33: =AY33-AX33 -> 0
A34: V. Felhalmozási bevételek | B34: =SUM(B35:B39) -> 0 | C34: =SUM(C35:C39) -> 0 | D34: =SUM(D35:D39) -> 0 | E34: =D34-C34 -> 0 | F34: =SUM(F35:F39) -> 0 | G34: =SUM(G35:G39) -> 0 | H34: =SUM(H35:H39) -> 0 | I34: =H34-G34 -> 0 | J34: =SUM(J35:J39) -> 0 | K34: =SUM(K35:K39) -> 0 | L34: =SUM(L35:L39) -> 0 | M34: =L34-K34 -> 0 | N34: =SUM(N35:N39) -> 0 | O34: =SUM(O35:O39) -> 0 | P34: =SUM(P35:P39) -> 0 | Q34: =P34-O34 -> 0 | R34: V. Felhalmozási bevételek | S34: =SUM(S35:S39) -> 0 | T34: =SUM(T35:T39) -> 0 | U34: =SUM(U35:U39) -> 0 | V34: =U34-T34 -> 0 | W34: =SUM(W35:W39) -> 0 | X34: =SUM(X35:X39) -> 0 | Z34: =Y34-X34 -> 0 | AA34: =SUM(AA35:AA39) -> 0 | AB34: =SUM(AB35:AB39) -> 0 | AC34: =SUM(AC35:AC39) -> 0 | AD34: =AC34-AB34 -> 0 | AE34: =SUM(AE35:AE39) -> 0 | AF34: =SUM(AF35:AF39) -> 0 | AG34: =SUM(AG35:AG39) -> 0 | AH34: =AG34-AF34 -> 0 | AI34: V. Felhalmozási bevételek | AJ34: =SUM(AJ35:AJ39) -> 0 | AK34: =SUM(AK35:AK39) -> 0 | AL34: =SUM(AL35:AL39) -> 0 | AM34: =AL34-AK34 -> 0 | AN34: =SUM(AN35:AN39) -> 0 | AO34: =SUM(AO35:AO39) -> 0 | AP34: =SUM(AP35:AP39) -> 0 | AQ34: =AP34-AO34 -> 0 | AR34: =SUM(AR35:AR39) -> 0 | AS34: =SUM(AS35:AS39) -> 0 | AT34: =SUM(AT35:AT39) -> 0 | AU34: =AT34-AS34 -> 0 | AV34: =AE34+AI34+AJ34+AN34+AR34 -> #VALUE! | AW34: =SUM(AW35:AW39) -> 0 | AX34: =SUM(AX35:AX39) -> 0 | AZ34: =AY34-AX34 -> 0
A35: 1. Immateriális javak értékesítése | E35: =D35-C35 -> 0 | I35: =H35-G35 -> 0 | M35: =L35-K35 -> 0 | Q35: =P35-O35 -> 0 | R35: 1. Immateriális javak értékesítése | V35: =U35-T35 -> 0 | Z35: =Y35-X35 -> 0 | AA35: =B35+F35+J35+N35+S35+W35 -> 0 | AB35: =C35+G35+K35+O35+T35+X35 -> 0 | AC35: =D35+H35+L35+P35+U35+Y35 -> 0 | AD35: =AC35-AB35 -> 0 | AH35: =AG35-AF35 -> 0 | AI35: 1. Immateriális javak értékesítése | AM35: =AL35-AK35 -> 0 | AQ35: =AP35-AO35 -> 0 | AR35: =+AA35+AE35+AJ35+AN35 -> 0 | AS35: =+AB35+AF35+AK35+AO35 -> 0 | AT35: =+AC35+AG35+AL35+AP35 -> 0 | AU35: =AT35-AS35 -> 0 | AZ35: =AY35-AX35 -> 0
A36: 2. Ingatlanok értékesítése | E36: =D36-C36 -> 0 | I36: =H36-G36 -> 0 | M36: =L36-K36 -> 0 | Q36: =P36-O36 -> 0 | R36: 2. Ingatlanok értékesítése | V36: =U36-T36 -> 0 | Z36: =Y36-X36 -> 0 | AA36: =B36+F36+J36+N36+S36+W36 -> 0 | AB36: =C36+G36+K36+O36+T36+X36 -> 0 | AC36: =D36+H36+L36+P36+U36+Y36 -> 0 | AD36: =AC36-AB36 -> 0 | AH36: =AG36-AF36 -> 0 | AI36: 2. Ingatlanok értékesítése | AM36: =AL36-AK36 -> 0 | AQ36: =AP36-AO36 -> 0 | AR36: =+AA36+AE36+AJ36+AN36 -> 0 | AS36: =+AB36+AF36+AK36+AO36 -> 0 | AT36: =+AC36+AG36+AL36+AP36 -> 0 | AU36: =AT36-AS36 -> 0 | AZ36: =AY36-AX36 -> 0
A37: 3. Egyéb tárgyi eszközök értékesítése | E37: =D37-C37 -> 0 | I37: =H37-G37 -> 0 | M37: =L37-K37 -> 0 | Q37: =P37-O37 -> 0 | R37: 3. Egyéb tárgyi eszközök értékesítése | V37: =U37-T37 -> 0 | Z37: =Y37-X37 -> 0 | AA37: =B37+F37+J37+N37+S37+W37 -> 0 | AB37: =C37+G37+K37+O37+T37+X37 -> 0 | AC37: =D37+H37+L37+P37+U37+Y37 -> 0 | AD37: =AC37-AB37 -> 0 | AH37: =AG37-AF37 -> 0 | AI37: 3. Egyéb tárgyi eszközök értékesítése | AM37: =AL37-AK37 -> 0 | AQ37: =AP37-AO37 -> 0 | AR37: =+AA37+AE37+AJ37+AN37 -> 0 | AS37: =+AB37+AF37+AK37+AO37 -> 0 | AT37: =+AC37+AG37+AL37+AP37 -> 0 | AU37: =AT37-AS37 -> 0 | AZ37: =AY37-AX37 -> 0
A38: 4. Részesedések értékesítése | E38: =D38-C38 -> 0 | I38: =H38-G38 -> 0 | M38: =L38-K38 -> 0 | Q38: =P38-O38 -> 0 | R38: 4. Részesedések értékesítése | V38: =U38-T38 -> 0 | Z38: =Y38-X38 -> 0 | AA38: =B38+F38+J38+N38+S38+W38 -> 0 | AB38: =C38+G38+K38+O38+T38+X38 -> 0 | AC38: =D38+H38+L38+P38+U38+Y38 -> 0 | AD38: =AC38-AB38 -> 0 | AH38: =AG38-AF38 -> 0 | AI38: 4. Részesedések értékesítése | AM38: =AL38-AK38 -> 0 | AQ38: =AP38-AO38 -> 0 | AR38: =+AA38+AE38+AJ38+AN38 -> 0 | AS38: =+AB38+AF38+AK38+AO38 -> 0 | AT38: =+AC38+AG38+AL38+AP38 -> 0 | AU38: =AT38-AS38 -> 0 | AZ38: =AY38-AX38 -> 0
A39: 5. Részesedések megszűnéséhez kapcsolódó bevételek | E39: =D39-C39 -> 0 | I39: =H39-G39 -> 0 | M39: =L39-K39 -> 0 | Q39: =P39-O39 -> 0 | R39: 5. Részesedések megszűnéséhez kapcsolódó bevételek | V39: =U39-T39 -> 0 | Z39: =Y39-X39 -> 0 | AA39: =B39+F39+J39+N39+S39+W39 -> 0 | AB39: =C39+G39+K39+O39+T39+X39 -> 0 | AC39: =D39+H39+L39+P39+U39+Y39 -> 0 | AD39: =AC39-AB39 -> 0 | AH39: =AG39-AF39 -> 0 | AI39: 5. Részesedések megszűnéséhez kapcsolódó bevételek | AM39: =AL39-AK39 -> 0 | AQ39: =AP39-AO39 -> 0 | AR39: =+AA39+AE39+AJ39+AN39 -> 0 | AS39: =+AB39+AF39+AK39+AO39 -> 0 | AT39: =+AC39+AG39+AL39+AP39 -> 0 | AU39: =AT39-AS39 -> 0 | AZ39: =AY39-AX39 -> 0
A40: VI. Működési célú átvett pénzeszközök | B40: =SUM(B41) -> 0 | C40: =SUM(C41) -> 0 | D40: =SUM(D41) -> 0 | E40: =D40-C40 -> 0 | F40: =SUM(F41) -> 0 | G40: =SUM(G41) -> 0 | H40: =SUM(H41) -> 0 | I40: =H40-G40 -> 0 | J40: =SUM(J41) -> 0 | K40: =SUM(K41) -> 0 | L40: =SUM(L41) -> 0 | M40: =L40-K40 -> 0 | N40: =SUM(N41) -> 0 | O40: =SUM(O41) -> 0 | P40: =SUM(P41) -> 0 | Q40: =P40-O40 -> 0 | R40: VI. Működési célú átvett pénzeszközök | S40: =SUM(S41) -> 0 | T40: =SUM(T41) -> 0 | U40: =SUM(U41) -> 0 | V40: =U40-T40 -> 0 | W40: =SUM(W41) -> 0 | X40: =SUM(X41) -> 0 | Z40: =Y40-X40 -> 0 | AA40: =SUM(AA41) -> 0 | AB40: =SUM(AB41) -> 0 | AC40: =SUM(AC41) -> 0 | AD40: =AC40-AB40 -> 0 | AE40: =SUM(AE41) -> 0 | AF40: =SUM(AF41) -> 0 | AH40: =AG40-AF40 -> 0 | AI40: VI. Működési célú átvett pénzeszközök | AJ40: =SUM(AJ41) -> 0 | AK40: =SUM(AK41) -> 0 | AL40: =SUM(AL41) -> 0 | AM40: =AL40-AK40 -> 0 | AN40: =SUM(AN41) -> 0 | AO40: =SUM(AO41) -> 0 | AP40: =SUM(AP41) -> 0 | AQ40: =AP40-AO40 -> 0 | AR40: =SUM(AR41) -> 0 | AS40: =SUM(AS41) -> 0 | AT40: =SUM(AT41) -> 0 | AU40: =AT40-AS40 -> 0 | AV40: =AE40+AI40+AJ40+AN40+AR40 -> #VALUE! | AW40: =SUM(AW41) -> 0 | AX40: =SUM(AX41) -> 0 | AY40: =SUM(AY41) -> 0 | AZ40: =AY40-AX40 -> 0
A41: 3. Egyéb működési célú átvett pénzeszközök | E41: =D41-C41 -> 0 | I41: =H41-G41 -> 0 | M41: =L41-K41 -> 0 | Q41: =P41-O41 -> 0 | R41: 3. Egyéb működési célú átvett pénzeszközök | V41: =U41-T41 -> 0 | Z41: =Y41-X41 -> 0 | AA41: =B41+F41+J41+N41+S41+W41 -> 0 | AB41: =C41+G41+K41+O41+T41+X41 -> 0 | AC41: =D41+H41+L41+P41+U41+Y41 -> 0 | AD41: =AC41-AB41 -> 0 | AH41: =AG41-AF41 -> 0 | AI41: 3. Egyéb működési célú átvett pénzeszközök | AM41: =AL41-AK41 -> 0 | AQ41: =AP41-AO41 -> 0 | AR41: =+AA41+AE41+AJ41+AN41 -> 0 | AS41: =+AB41+AF41+AK41+AO41 -> 0 | AT41: =+AC41+AG41+AL41+AP41 -> 0 | AU41: =AT41-AS41 -> 0 | AZ41: =AY41-AX41 -> 0
A42: VII. Felhalmozási célú átvett pénzeszközök | B42: =SUM(B43) -> 0 | C42: =SUM(C43) -> 0 | D42: =SUM(D43) -> 0 | E42: =D42-C42 -> 0 | F42: =SUM(F43) -> 0 | G42: =SUM(G43) -> 0 | H42: =SUM(H43) -> 0 | I42: =H42-G42 -> 0 | J42: =SUM(J43) -> 0 | K42: =SUM(K43) -> 0 | L42: =SUM(L43) -> 0 | M42: =L42-K42 -> 0 | N42: =SUM(N43) -> 0 | O42: =SUM(O43) -> 0 | P42: =SUM(P43) -> 0 | Q42: =P42-O42 -> 0 | R42: VII. Felhalmozási célú átvett pénzeszközök | S42: =SUM(S43) -> 0 | T42: =SUM(T43) -> 0 | U42: =SUM(U43) -> 0 | V42: =U42-T42 -> 0 | W42: =SUM(W43) -> 0 | X42: =SUM(X43) -> 0 | Z42: =Y42-X42 -> 0 | AA42: =SUM(AA43) -> 0 | AB42: =SUM(AB43) -> 0 | AC42: =SUM(AC43) -> 0 | AD42: =AC42-AB42 -> 0 | AE42: =SUM(AE43) -> 0 | AF42: =SUM(AF43) -> 0 | AH42: =AG42-AF42 -> 0 | AI42: VII. Felhalmozási célú átvett pénzeszközök | AJ42: =SUM(AJ43) -> 0 | AK42: =SUM(AK43) -> 0 | AL42: =SUM(AL43) -> 0 | AM42: =SUM(AM43) -> 0 | AN42: =SUM(AN43) -> 0 | AO42: =SUM(AO43) -> 0 | AP42: =SUM(AP43) -> 0 | AQ42: =AP42-AO42 -> 0 | AR42: =+AA42+AE42+AJ42+AN42 -> 0 | AS42: =+AB42+AF42+AK42+AO42 -> 0 | AT42: =+AC42+AG42+AL42+AP42 -> 0 | AU42: =AT42-AS42 -> 0 | AV42: =AE42+AI42+AJ42+AN42+AR42 -> #VALUE! | AW42: =SUM(AW43) -> 0 | AX42: =SUM(AX43) -> 0 | AY42: =SUM(AY43) -> 0 | AZ42: =AY42-AX42 -> 0
A43: 3. Egyéb felhalmozási célú átvett pénzeszközök | E43: =D43-C43 -> 0 | I43: =H43-G43 -> 0 | M43: =L43-K43 -> 0 | Q43: =P43-O43 -> 0 | R43: 3. Egyéb felhalmozási célú átvett pénzeszközök | V43: =U43-T43 -> 0 | Z43: =Y43-X43 -> 0 | AA43: =B43+F43+J43+N43+S43+W43 -> 0 | AB43: =C43+G43+K43+O43+T43+X43 -> 0 | AC43: =D43+H43+L43+P43+U43+Y43 -> 0 | AD43: =AC43-AB43 -> 0 | AH43: =AG43-AF43 -> 0 | AI43: 3. Egyéb felhalmozási célú átvett pénzeszközök | AM43: =AL43-AK43 -> 0 | AQ43: =AP43-AO43 -> 0 | AR43: =+AA43+AE43+AJ43+AN43 -> 0 | AS43: =+AB43+AF43+AK43+AO43 -> 0 | AT43: =+AC43+AG43+AL43+AP43 -> 0 | AU43: =AT43-AS43 -> 0 | AZ43: =AY43-AX43 -> 0
A44: Költségvetési bevételek összesen: | B44: =B42+B40+B34+B21+B17+B15+B12 -> 24855 | C44: =C42+C40+C34+C21+C17+C15+C12 -> 25655 | D44: =D42+D40+D34+D21+D17+D15+D12 -> 25655 | E44: =D44-C44 -> 0 | F44: =F42+F40+F34+F21+F17+F15+F12 -> 23321 | G44: =G42+G40+G34+G21+G17+G15+G12 -> 23632 | H44: =H42+H40+H34+H21+H17+H15+H12 -> 24493 | I44: =H44-G44 -> 861 | J44: =J42+J40+J34+J21+J17+J15+J12 -> 1174 | K44: =K42+K40+K34+K21+K17+K15+K12 -> 1174 | L44: =L42+L40+L34+L21+L17+L15+L12 -> 1618 | M44: =L44-K44 -> 444 | N44: =N42+N40+N34+N21+N17+N15+N12 -> 12008 | O44: =O42+O40+O34+O21+O17+O15+O12 -> 12851 | P44: =P42+P40+P34+P21+P17+P15+P12 -> 12851 | Q44: =P44-O44 -> 0 | R44: Költségvetési bevételek összesen: | S44: =S42+S40+S34+S21+S17+S15+S12 -> 1102 | T44: =T42+T40+T34+T21+T17+T15+T12 -> 1102 | U44: =U42+U40+U34+U21+U17+U15+U12 -> 1705 | V44: =U44-T44 -> 603 | W44: =W42+W40+W34+W21+W17+W15+W12 -> 0 | X44: =X42+X40+X34+X21+X17+X15+X12 -> 0 | Y44: =Y42+Y40+Y34+Y21+Y17+Y15+Y12 -> 23 | Z44: =Y44-X44 -> 23 | AA44: =AA42+AA40+AA34+AA21+AA17+AA15+AA12 -> 62460 | AB44: =AB42+AB40+AB34+AB21+AB17+AB15+AB12 -> 64414 | AC44: =AC42+AC40+AC34+AC21+AC17+AC15+AC12 -> 66345 | AD44: =AC44-AB44 -> 1931 | AE44: =AE42+AE40+AE34+AE21+AE17+AE15+AE12 -> 3590 | AF44: =AF42+AF40+AF34+AF21+AF17+AF15+AF12 -> 5103 | AG44: =AG42+AG40+AG34+AG21+AG17+AG15+AG12 -> 5103 | AH44: =AG44-AF44 -> 0 | AI44: Költségvetési bevételek összesen: | AJ44: =AJ42+AJ40+AJ34+AJ21+AJ17+AJ15+AJ12 -> 123260 | AK44: =AK42+AK40+AK34+AK21+AK17+AK15+AK12 -> 128199 | AL44: =AL42+AL40+AL34+AL21+AL17+AL15+AL12 -> 128199 | AM44: =AL44-AK44 -> 0 | AN44: =AN42+AN40+AN34+AN21+AN17+AN15+AN12 -> 1192 | AO44: =AO42+AO40+AO34+AO21+AO17+AO15+AO12 -> 1583 | AP44: =AP42+AP40+AP34+AP21+AP17+AP15+AP12 -> 1583 | AQ44: =AP44-AO44 -> 0 | AR44: =AR42+AR40+AR34+AR21+AR17+AR15+AR12 -> 190502 | AS44: =AS42+AS40+AS34+AS21+AS17+AS15+AS12 -> 199299 | AT44: =AT42+AT40+AT34+AT21+AT17+AT15+AT12 -> 201230 | AU44: =AT44-AS44 -> 1931 | AV44: =AV42+AV40+AV34+AV21+AV17+AV15+AV12 -> #VALUE! | AW44: =AW42+AW40+AW34+AW21+AW17+AW15+AW12 -> 36176 | AX44: =AX42+AX40+AX34+AX21+AX17+AX15+AX12 -> 42358 | AY44: =AY42+AY40+AY34+AY21+AY17+AY15+AY12 -> 42383 | AZ44: =AY44-AX44 -> 25 | BA44: =AR42+AR40+AR21+AR17+AR15+AR12 -> 190502 | BB44: =#REF!+#REF!+#REF!+#REF!+#REF!+#REF! -> #REF!
A45: VIII. Finanszírozási bevételek | B45: =B46+B49+B50 -> 46974 | C45: =C46+C49+C50 -> 47429 | D45: =D46+D49+D50 -> 47429 | E45: =D45-C45 -> 0 | F45: =F46+F49+F50 -> 40143 | G45: =G46+G49+G50 -> 43355 | H45: =H46+H49+H50 -> 43355 | I45: =H45-G45 -> 0 | J45: =J46+J49+J50 -> 4813 | K45: =K46+K49+K50 -> 5139 | L45: =L46+L49+L50 -> 5139 | M45: =L45-K45 -> 0 | N45: =N46+N49+N50 -> 37706 | O45: =O46+O49+O50 -> 40928 | P45: =P46+P49+P50 -> 40928 | Q45: =P45-O45 -> 0 | R45: VIII. Finanszírozási bevételek | S45: =S46+S49+S50 -> 6565 | T45: =T46+T49+T50 -> 7125 | U45: =U46+U49+U50 -> 7125 | V45: =U45-T45 -> 0 | W45: =W46+W49+W50 -> 15482 | X45: =X46+X49+X50 -> 9476 | Y45: =Y46+Y49+Y50 -> 9476 | Z45: =Y45-X45 -> 0 | AA45: =AA46+AA49+AA50 -> 151683 | AB45: =AB46+AB49+AB50 -> 153452 | AC45: =AC46+AC49+AC50 -> 153452 | AD45: =AC45-AB45 -> 0 | AE45: =AE46+AE49+AE50 -> 42780 | AF45: =AF46+AF49+AF50 -> 46555 | AG45: =AG46+AG49+AG50 -> 46555 | AH45: =AG45-AF45 -> 0 | AI45: VIII. Finanszírozási bevételek | AJ45: =AJ46+AJ49+AJ50 -> 24860 | AK45: =AK46+AK49+AK50 -> 30278 | AL45: =AL46+AL49+AL50 -> 30278 | AM45: =AL45-AK45 -> 0 | AN45: =AN46+AN49+AN50 -> 51644 | AO45: =AO46+AO49+AO50 -> 54353 | AP45: =AP46+AP49+AP50 -> 54353 | AQ45: =AP45-AO45 -> 0 | AR45: =AR46+AR49+AR50 -> 270967 | AS45: =AS46+AS49+AS50 -> 284638 | AT45: =AT46+AT49+AT50 -> 284638 | AU45: =AT45-AS45 -> 0 | AV45: =AV46+AV49+AV50 -> 0 | AW45: =AW46+AW49+AW50 -> 330379 | AX45: =AX46+AX49+AX50 -> 330855 | AY45: =AY46+AY49+AY50 -> 330855 | AZ45: =AY45-AX45 -> 0
A46: 1. Költségvetési hiány belső finanszírozására szolgáló bevételek | B46: =SUM(B47:B48) -> 0 | C46: =SUM(C47:C48) -> 5051 | D46: =SUM(D47:D48) -> 5051 | E46: =D46-C46 -> 0 | F46: =SUM(F47:F48) -> 0 | G46: =SUM(G47:G48) -> 4378 | H46: =SUM(H47:H48) -> 4378 | I46: =H46-G46 -> 0 | J46: =SUM(J47:J48) -> 0 | K46: =SUM(K47:K48) -> 850 | L46: =SUM(L47:L48) -> 850 | M46: =L46-K46 -> 0 | N46: =SUM(N47:N48) -> 0 | O46: =SUM(O47:O48) -> 2407 | P46: =SUM(P47:P48) -> 2407 | Q46: =P46-O46 -> 0 | R46: 1. Költségvetési hiány belső finanszírozására szolgáló bevételek | S46: =SUM(S47:S48) -> 0 | T46: =SUM(T47:T48) -> 1233 | U46: =SUM(U47:U48) -> 1233 | V46: =U46-T46 -> 0 | W46: =SUM(W47:W48) -> 0 | X46: =SUM(X47:X48) -> 86 | Y46: =SUM(Y47:Y48) -> 86 | Z46: =Y46-X46 -> 0 | AA46: =SUM(AA47:AA48) -> 0 | AB46: =SUM(AB47:AB48) -> 14005 | AC46: =SUM(AC47:AC48) -> 14005 | AD46: =AC46-AB46 -> 0 | AE46: =SUM(AE47:AE48) -> 0 | AF46: =SUM(AF47:AF48) -> 4166 | AG46: =SUM(AG47:AG48) -> 4166 | AH46: =AG46-AF46 -> 0 | AI46: 1. Költségvetési hiány belső finanszírozására szolgáló bevételek | AJ46: =SUM(AJ47:AJ48) -> 0 | AK46: =SUM(AK47:AK48) -> 9380 | AL46: =SUM(AL47:AL48) -> 9380 | AM46: =AL46-AK46 -> 0 | AN46: =SUM(AN47:AN48) -> 0 | AO46: =SUM(AO47:AO48) -> 2725 | AP46: =SUM(AP47:AP48) -> 2725 | AQ46: =AP46-AO46 -> 0 | AR46: =SUM(AR47:AR48) -> 0 | AS46: =SUM(AS47:AS48) -> 30276 | AT46: =SUM(AT47:AT48) -> 30276 | AU46: =AT46-AS46 -> 0 | AW46: =SUM(AW47:AW48) -> 0 | AX46: =SUM(AX47:AX48) -> 20305 | AY46: =SUM(AY47:AY48) -> 20305 | AZ46: =AY46-AX46 -> 0
A47: 1.1. Előző év költségvetési maradványának igénybevétele működési célra | C47: 5051 | D47: 5051 | E47: =D47-C47 -> 0 | G47: 4378 | H47: 4378 | I47: =H47-G47 -> 0 | K47: 850 | L47: 850 | M47: =L47-K47 -> 0 | O47: 2407 | P47: 2407 | Q47: =P47-O47 -> 0 | R47: 1.1. Előző év költségvetési maradványának igénybevétele működési célra | T47: 1233 | U47: 1233 | V47: =U47-T47 -> 0 | X47: 86 | Y47: 86 | Z47: =Y47-X47 -> 0 | AA47: =B47+F47+J47+N47+S47+W47 -> 0 | AB47: =C47+G47+K47+O47+T47+X47 -> 14005 | AC47: =D47+H47+L47+P47+U47+Y47 -> 14005 | AD47: =AC47-AB47 -> 0 | AF47: 3635 | AG47: 3635 | AH47: =AG47-AF47 -> 0 | AI47: 1.1. Előző év költségvetési maradványának igénybevétele működési célra | AK47: 9106 | AL47: 9106 | AM47: =AL47-AK47 -> 0 | AO47: 2525 | AP47: 2525 | AQ47: =AP47-AO47 -> 0 | AR47: =+AA47+AE47+AJ47+AN47 -> 0 | AS47: =+AB47+AF47+AK47+AO47 -> 29271 | AT47: =+AC47+AG47+AL47+AP47 -> 29271 | AU47: =AT47-AS47 -> 0 | AX47: 20279 | AY47: 20279 | AZ47: =AY47-AX47 -> 0
A48: 1.2. Előző év költségvetési maradványának igénybevétele felhalmozási célra | E48: =D48-C48 -> 0 | I48: =H48-G48 -> 0 | M48: =L48-K48 -> 0 | Q48: =P48-O48 -> 0 | R48: 1.2. Előző év költségvetési maradványának igénybevétele felhalmozási célra | V48: =U48-T48 -> 0 | Z48: =Y48-X48 -> 0 | AA48: =B48+F48+J48+N48+S48+W48 -> 0 | AB48: =C48+G48+K48+O48+T48+X48 -> 0 | AC48: =D48+H48+L48+P48+U48+Y48 -> 0 | AD48: =AC48-AB48 -> 0 | AF48: 531 | AG48: 531 | AH48: =AG48-AF48 -> 0 | AI48: 1.2. Előző év költségvetési maradványának igénybevétele felhalmozási célra | AK48: 274 | AL48: 274 | AM48: =AL48-AK48 -> 0 | AO48: 200 | AP48: 200 | AQ48: =AP48-AO48 -> 0 | AR48: =+AA48+AE48+AJ48+AN48 -> 0 | AS48: =+AB48+AF48+AK48+AO48 -> 1005 | AT48: =+AC48+AG48+AL48+AP48 -> 1005 | AU48: =AT48-AS48 -> 0 | AX48: 26 | AY48: 26 | AZ48: =AY48-AX48 -> 0
...

Sheet 2b. tábla (2)
A3: MEGNEVEZÉS | B3: LÉTSZÁM | C3: MUTATÓ | D3: FAJLAGOS | E3: ELŐIRÁNYZAT | F3: I. MODOSÍTÁS | G3: MÓDOSÍTOTT EI. I. | H3: II. MODOSÍTÁS | I3: MÓDOSÍTOTT EI. II. | J3: III. MODOSÍTÁS | K3: MÓDOSÍTOTT EI. III. | L3: IV. MODOSÍTÁS | M3: MÓDOSÍTOTT EI. IV.
A5: I. HELYI ÖNKORMÁNYZATOK MŰKÖDÉSÉNEK ÁLT.TÁMOGATÁSA | E5: =E6+E28 -> 577840145 | G5: =G6+G28 -> 577840145 | H5: =H6+H28 -> 0 | I5: =I6+I28 -> 577840145 | K5: =I5+J5 -> 577840145 | M5: =K5+L5 -> 577840145
A6: 1. Települési önkormányzatok működésének támogatása | E6: =E7+E10+E20+E21+E23+E24+E26+E27 -> 576757851 | G6: =G7+G10+G20+G21+G23+G24+G26+G27 -> 576757851 | H6: =H7+H10+H20+H21+H23+H24+H26+H27 -> 0 | I6: =I7+I10+I20+I21+I23+I24+I26+I27 -> 576757851 | K6: =I6+J6 -> 576757851 | M6: =K6+L6 -> 576757851
A7: Önkormányzati hivatal működtetésének támogatás (beszámítás után) | E7: =E8 -> 180268800 | G7: =G8 -> 180268800 | H7: =H8 -> 0 | I7: =I8 -> 180268800 | K7: =I7+J7 -> 180268800 | M7: =K7+L7 -> 180268800
A8: Önkormányzati hivatal működtetésének támogatás elismert hivatali létsz. | C8: 39.36 | D8: 4580000 | E8: =C8*D8 -> 180268800 | G8: =E8+F8 -> 180268800 | I8: =G8+H8 -> 180268800 | K8: =I8+J8 -> 180268800 | M8: =K8+L8 -> 180268800
A9: Beszámítás összege | E9: 0 | G9: =E9+F9 -> 0 | I9: =G9+H9 -> 0 | K9: =I9+J9 -> 0 | M9: =K9+L9 -> 0
A10: Település üzemeltetéséhez kapcsolódó feladatellát.támog.(beszámítás után) | E10: =E11+E12+E13+E14+E15+E16+E17+E18 -> 0 | G10: =E10+F10 -> 0 | I10: =G10+H10 -> 0 | K10: =I10+J10 -> 0 | M10: =K10+L10 -> 0
A11: Zöldterület-gazdálk-al kapcsolatos feladatok ellátásának támog. | E11: 15627840 | G11: =E11+F11 -> 15627840 | I11: =G11+H11 -> 15627840 | K11: =I11+J11 -> 15627840 | M11: =K11+L11 -> 15627840
A12: Beszámítás összege | E12: -15627840 | G12: =E12+F12 -> -15627840 | I12: =G12+H12 -> -15627840 | K12: =I12+J12 -> -15627840 | M12: =K12+L12 -> -15627840
A13: Közvilágítás fenntartásának támogatás | E13: 57760000 | G13: =E13+F13 -> 57760000 | I13: =G13+H13 -> 57760000 | K13: =I13+J13 -> 57760000 | M13: =K13+L13 -> 57760000
A14: Beszámítás összege | E14: -57760000 | G14: =E14+F14 -> -57760000 | I14: =G14+H14 -> -57760000 | K14: =I14+J14 -> -57760000 | M14: =K14+L14 -> -57760000
A15: Köztemető fenntartással kapcsolatos feladatok támog. | E15: 2176616 | G15: =E15+F15 -> 2176616 | I15: =G15+H15 -> 2176616 | K15: =I15+J15 -> 2176616 | M15: =K15+L15 -> 2176616
A16: Beszámítás összege | E16: -2176616 | G16: =E16+F16 -> -2176616 | I16: =G16+H16 -> -2176616 | K16: =I16+J16 -> -2176616 | M16: =K16+L16 -> -2176616
A17: Közutak fenntartásának támogatás | E17: 22361000 | G17: =E17+F17 -> 22361000 | I17: =G17+H17 -> 22361000 | K17: =I17+J17 -> 22361000 | M17: =K17+L17 -> 22361000
A18: Beszámítás összege | E18: -22361000 | G18: =E18+F18 -> -22361000 | I18: =G18+H18 -> -22361000 | K18: =I18+J18 -> -22361000 | M18: =K18+L18 -> -22361000
A19: Egyéb önkormányzati feladatok támogatása (beszámítás után) | E19: =E20+E21 -> 0 | G19: =G20+G21 -> 0 | I19: =G19+H19 -> 0 | K19: =I19+J19 -> 0 | M19: =K19+L19 -> 0
A20: Egyéb önkormányzati feladatok támogatása | C20: 13903 | D20: 2700 | E20: =C20*D20 -> 37538100 | G20: =E20+F20 -> 37538100 | I20: =G20+H20 -> 37538100 | K20: =I20+J20 -> 37538100 | M20: =K20+L20 -> 37538100
A21: Beszámítás összege | E21: -37538100 | G21: -37538100 | I21: =G21+H21 -> -37538100 | K21: =I21+J21 -> -37538100 | M21: =K21+L21 -> -37538100
A22: Lakott külterületekkel kapcsolatos feladatok támogatása(beszámítás után) | E22: =E23+E24 -> 0 | G22: =G23+G24 -> 0 | I22: =G22+H22 -> 0 | K22: =I22+J22 -> 0 | M22: =K22+L22 -> 0
A23: Lakott külterületekkel kapcsolatos feladatok támogatása | C23: 123 | D23: 2550 | E23: 313650 | G23: 313650 | I23: =G23+H23 -> 313650 | K23: =I23+J23 -> 313650 | M23: =K23+L23 -> 313650
A24: Beszámítás összege | E24: -313650 | G24: -313650 | I24: =G24+H24 -> -313650 | K24: =I24+J24 -> -313650 | M24: =K24+L24 -> -313650
A25: Üdülőhelyi feladatok támogatása (beszámitás után) | E25: =SUM(E26:E27) -> 396489051 | F25: =SUM(F26:F27) -> 0 | G25: =SUM(G26:G27) -> 396489051 | H25: =SUM(H26:H27) -> 0 | I25: =SUM(I26:I27) -> 396489051 | K25: =I25+J25 -> 396489051 | M25: =K25+L25 -> 396489051
A26: Üdülőhelyi feladatok támogatása | E26: 415201600 | G26: =E26+F26 -> 415201600 | I26: =G26+H26 -> 415201600 | K26: =I26+J26 -> 415201600 | M26: =K26+L26 -> 415201600
A27: Beszámítás összege | E27: -18712549 | G27: =E27+F27 -> -18712549 | I27: =G27+H27 -> -18712549 | K27: =I27+J27 -> -18712549 | M27: =K27+L27 -> -18712549
A28: 2015. évről áthúzódó bérkompenzáció támogatása | E28: 1082294 | G28: =E28+F28 -> 1082294 | I28: =G28+H28 -> 1082294 | K28: =I28+J28 -> 1082294 | M28: =K28+L28 -> 1082294
K29: =I29+J29 -> 0 | M29: =K29+L29 -> 0
A30: II. EGYES KÖZNEVELÉSI FELADATOK TÁMOGATÁSA | E30: =SUM(E31:E42) -> 268431134 | F30: =SUM(F31:F42) -> 340532 | G30: =SUM(G31:G42) -> 268771666 | H30: =SUM(H31:H42) -> 0 | I30: =SUM(I31:I42) -> 268771666 | J30: =J33+J35+J39+J41 -> -2981967 | K30: =I30+J30 -> 265789699 | M30: =K30+L30 -> 265789699
A31: Óvodapedagógusok elismert létszáma (8 hó) | B31: 39.5 | C31: =E31/D31 -> 26.333333 | D31: 4308000 | E31: 113444000 | F31: 287200 | G31: =E31+F31 -> 113731200 | I31: =G31+H31 -> 113731200 | K31: =I31+J31 -> 113731200 | M31: =K31+L31 -> 113731200
A32: Óvodapedagógusok munkáját kvetlenül segítők (8 hó) | B32: 30 | C32: =E32/D32 -> 20 | D32: 1800000 | E32: 36000000 | G32: =E32+F32 -> 36000000 | I32: =G32+H32 -> 36000000 | K32: =I32+J32 -> 36000000 | M32: =K32+L32 -> 36000000
A33: Óvodapedagógusok elismert létszáma (4 hó) | B33: 38.2 | C33: =E33/D33 -> 12.733333 | D33: 4308000 | E33: 54855200 | G33: =E33+F33 -> 54855200 | I33: =G33+H33 -> 54855200 | J33: -2154000 | K33: =I33+J33 -> 52701200 | M33: =K33+L33 -> 52701200
A34: Óvodapedagógusok munkáját kvetlenül segítők (4 hó) | B34: 30 | C34: =E34/D34 -> 10 | D34: 1800000 | E34: 18000000 | G34: =E34+F34 -> 18000000 | I34: =G34+H34 -> 18000000 | K34: =I34+J34 -> 18000000 | M34: =K34+L34 -> 18000000
A35: Óvodapedagógusok elismert létszáma (4 hó) (pótlólagos összeg) | B35: 38.2 | C35: =E35/D35 -> 38.2 | D35: 35000 | E35: 1337000 | G35: =E35+F35 -> 1337000 | I35: =G35+H35 -> 1337000 | J35: -52500 | K35: =I35+J35 -> 1284500 | M35: =K35+L35 -> 1284500
A36: Óvodaműködtetési támogatás (8 hó) | B36: 2 | C36: =E36/D36 -> 1.3333375 | D36: 80000 | E36: 106667 | F36: -53334 | G36: =E36+F36 -> 53333 | I36: =G36+H36 -> 53333 | K36: =I36+J36 -> 53333 | M36: =K36+L36 -> 53333
A37: Óvodaműködtetési támogatás (8 hó) | B37: 437 | C37: =E37/D37 -> 291.33334 | D37: 80000 | E37: 23306667 | F37: 106666 | G37: =E37+F37 -> 23413333 | I37: =G37+H37 -> 23413333 | K37: =I37+J37 -> 23413333 | M37: =K37+L37 -> 23413333
A38: Óvodaműködtetési támogatás (4 hó) | B38: 2 | C38: =E38/D38 -> 0.6666625 | D38: 80000 | E38: 53333 | G38: =E38+F38 -> 53333 | I38: =G38+H38 -> 53333 | K38: =I38+J38 -> 53333 | M38: =K38+L38 -> 53333
A39: Óvodaműködtetési támogatás (4 hó) | B39: 424 | C39: =E39/D39 -> 141.33334 | D39: 80000 | E39: 11306667 | G39: =E39+F39 -> 11306667 | I39: =G39+H39 -> 11306667 | J39: -506667 | K39: =I39+J39 -> 10800000 | M39: =K39+L39 -> 10800000
A40: A köznevelési intézmények müködtetéséhez kapcsolódó támogatás | E40: 3141600 | G40: =E40+F40 -> 3141600 | I40: =G40+H40 -> 3141600 | K40: =I40+J40 -> 3141600 | M40: =K40+L40 -> 3141600
A41: Pedagógus II. kat. sorolt óvodapedag. kieg. támog.-minősítés 2014. dec.31-ig szerezték meg | B41: 17 | C41: 17 | D41: 384000 | E41: =D41*C41 -> 6528000 | G41: =E41+F41 -> 6528000 | I41: =G41+H41 -> 6528000 | J41: -268800 | K41: =I41+J41 -> 6259200 | M41: =K41+L41 -> 6259200
A42: Pedagógus II. kat. sorolt óvodapedag. kieg. támog.-minősítés 2015. évben szerezték meg | B42: 1 | C42: 1 | D42: 352000 | E42: 352000 | G42: =E42+F42 -> 352000 | I42: =G42+H42 -> 352000 | K42: =I42+J42 -> 352000 | M42: =K42+L42 -> 352000
