Workbook
Name onev: [1]kod!$BT$34:$BT$3186
Name onev: [1]kod!$BT$34:$BT$3186

Sheet 1.sz.tábla   (2)
A3: MEGNEVEZÉS | B3: 2016. évi eredeti ei. | C3: 2016. évi módosított ei. III. | D3: 2016. évi módosított ei. IV. | E3: Eltérés
A4: I. Működési célú támogatások államháztartáson belülről | B4: 1191528 | C4: 1336756 | D4: ='2.sz.tábla (2)'!P5 -> 1365314 | E4: =D4-C4 -> 28558
A5: II. Felhalmozási célú támogatások államháztartáson belülről | B5: 287821 | C5: 1546019 | D5: ='2.sz.tábla (2)'!P20 -> 1547416 | E5: =D5-C5 -> 1397
A6: III. Közhatalmi bevételek | B6: 1516700 | C6: 1606700 | D6: ='2.sz.tábla (2)'!P28 -> 1606700 | E6: =D6-C6 -> 0
A7: IV. Működési bevételek | B7: 600704 | C7: 825892 | D7: ='2.sz.tábla (2)'!P41 -> 827823 | E7: =D7-C7 -> 1931
A8: V. Felhalmozási bevételek | B8: 2000 | C8: 788369 | D8: ='2.sz.tábla (2)'!P56 -> 788369 | E8: =D8-C8 -> 0
A9: VI. Működési célú átvett pénzeszközök | B9: =11855+4983 -> 16838 | C9: 18475 | D9: ='2.sz.tábla (2)'!P62 -> 6407 | E9: =D9-C9 -> -12068
A10: VII. Felhalmozási célú átvett pénzeszközök | B10: 100873 | C10: 100873 | D10: ='2.sz.tábla (2)'!P68 -> 100873 | E10: =D10-C10 -> 0
A11: Költségvetési bevételek összesen: | B11: =SUM(B4:B10) -> 3716464 | C11: =SUM(C4:C10) -> 6223084 | D11: =SUM(D4:D10) -> 6242902 | E11: =D11-C11 -> 19818
A12: VIII. Finanszírozási bevételek | E12: =D12-C12 -> 0
A13: 1. Költségvetési hiány belső finanszírozására szolgáló finanszírozási bevételek | B13: 682920 | C13: 902886 | D13: ='2.sz.tábla (2)'!P74 -> 902886 | E13: =D13-C13 -> 0
A14: 2. Költségvetési hiány külső finanszírozására szolgáló finanszírozási célú pénzügyi műveletek bevételei | B14: 8600 | C14: =742800-80000 -> 662800 | D14: ='2.sz.tábla (2)'!P77 -> 693348 | E14: =D14-C14 -> 30548
A15: Finanszírozási bevételek összesen: | B15: =B13+B14 -> 691520 | C15: =SUM(C13:C14) -> 1565686 | D15: =SUM(D13:D14) -> 1596234 | E15: =D15-C15 -> 30548
A16: Bevételek összesen: | B16: =B11+B15 -> 4407984 | C16: =C11+C15 -> 7788770 | D16: =D11+D15 -> 7839136 | E16: =D16-C16 -> 50366
E17: =D17-C17 -> 0
A18: Működési kiadások | B18: =SUM(B19:B21) -> 2358416 | C18: =SUM(C19:C21) -> 2880496 | D18: =SUM(D19:D21) -> 2871505 | E18: =D18-C18 -> -8991
A19: Önkormányzat | B19: =1526114+2000+7014+4983 -> 1540111 | C19: 2035034 | D19: ='5.tábla (2)'!D115 -> 2023282 | E19: =D19-C19 -> -11752
A20: Önkormányzati Hivatal | B20: 363855 | C20: 370331 | D20: ='5.tábla (2)'!D31-'5.tábla (2)'!D28 -> 370356 | E20: =D20-C20 -> 25
A21: Intézmények | B21: 454450 | C21: 475131 | D21: ='4.sz.tábla '!AX13-'4.sz.tábla '!AC13 -> 477867 | E21: =D21-C21 -> 2736
E22: =D22-C22 -> 0
A23: Felhalmozási kiadások | B23: =SUM(B24:B26) -> 1708268 | C23: =SUM(C24:C26) -> 2522993 | D23: =SUM(D24:D26) -> 2519289 | E23: =D23-C23 -> -3704
A24: Fejlesztési kiadások | B24: =1600324+5000 -> 1605324 | C24: 2420289 | D24: ='7. sz. tábla 1'!D177 -> 2417390 | E24: =D24-C24 -> -2899
A25: Intézm saját hatásk fejl | B25: 9719 | C25: 11688 | D25: ='4a. sz. tábla (3)'!E77 -> 10883 | E25: =D25-C25 -> -805
A26: Felújítás | B26: 93225 | C26: 91016 | D26: ='6.sz.tábla (3)'!D140 -> 91016 | E26: =D26-C26 -> 0
E27: =D27-C27 -> 0
A28: Tartalékok | B28: =SUM(B29:B30) -> 120755 | C28: =SUM(C29:C30) -> 29355 | D28: =SUM(D29:D30) -> 93159 | E28: =D28-C28 -> 63804
A29: Általános | B29: 80004 | C29: =1491+700 -> 2191 | D29: 1330 | E29: =D29-C29 -> -861
A30: Cél | B30: =B37 -> 40751 | C30: 27164 | D30: =D37 -> 91829 | E30: =D30-C30 -> 64665
A31: Költségvetési kiadások összesen: | B31: =SUM(B28,B23,B18) -> 4187439 | C31: =SUM(C28,C23,C18) -> 5432844 | D31: =SUM(D28,D23,D18) -> 5483953 | E31: =D31-C31 -> 51109
A32: Hiteltörlesztés | B32: 174242 | C32: 174243 | D32: ='7. sz. tábla 1'!D179 -> 174243 | E32: =D32-C32 -> 0
A33: Állami támogatás megelőlegezés visszafizetés | B33: 46303 | C33: 50503 | D33: ='7. sz. tábla 1'!D181 -> 49760 | E33: =D33-C33 -> -743
A34: Forgatási célú értékpapír vásárlása | C34: 2131180 | D34: ='7. sz. tábla 1'!D180 -> 2131180 | E34: =D34-C34 -> 0
A35: Finanszírozási kiadások összesen: | B35: =SUM(B32:B33) -> 220545 | C35: =SUM(C32:C34) -> 2355926 | D35: =SUM(D32:D34) -> 2355183 | E35: =D35-C35 -> -743
A36: Kiadások összesen: | B36: =SUM(B31,B35) -> 4407984 | C36: =SUM(C31,C35) -> 7788770 | D36: =SUM(D31,D35) -> 7839136 | E36: =D36-C36 -> 50366 | F36: =D16-D36 -> 0
A37: Céltartalék: | B37: =SUM(B38:B50) -> 40751 | C37: =SUM(C38:C50) -> 27164 | D37: =SUM(D38:D51) -> 91829 | E37: =D37-C37 -> 64665 | F37: =SUM(E38:E51) -> 64665
A38: MÁK forgótőke | B38: 800 | C38: 800 | D38: 800 | E38: =D38-C38 -> 0
A39: környezetvédelmi alap | B39: 7061 | C39: 7061 | D39: 7061 | E39: =D39-C39 -> 0
A40: Polgármester saját hatáskörű keret | B40: 5000 | C40: 134 | D40: 134 | E40: =D40-C40 -> 0
A41: Népház, posta pénzügyi alap | B41: 16483 | C41: 16483 | D41: 16483 | E41: =D41-C41 -> 0
A42: Helyi védelem | B42: 3000 | C42: 833 | D42: 833 | E42: =D42-C42 -> 0
A43: Közhasznú foglalkoztatás | B43: 4000 | C43: 0 | E43: =D43-C43 -> 0
A44: Állami támogatás megelőlegezés visszafizetés | D44: 31291 | E44: =D44-C44 -> 31291
A45: Bérkompenzáció 2015. évről áthúzódó | B45: 1082 | E45: =D45-C45 -> 0
A46: Ágazati pótlék visszafizetendő | C46: 124 | D46: 1 | E46: =D46-C46 -> -123
A47: Intézményi elkülönített keret | C47: 1651 | D47: 114 | E47: =D47-C47 -> -1537
A48: Radnóti Iskola maradványból elkülönítve | B48: 892 | C48: 0 | E48: =D48-C48 -> 0
A49: Társulásoknak átadott intézmények kv-i maradványa | B49: 1096 | C49: 78 | D49: 78 | E49: =D49-C49 -> 0
A50: köznevelési feladatok támogatása pótlólagos összeg | B50: 1337 | E50: =D50-C50 -> 0
A51: Kamerarendszer támogatása | D51: 35034 | E51: =D51-C51 -> 35034

Sheet 2.sz.tábla   (2)
A3: MEGNEVEZÉS | B3: ÖNKORMÁNYZAT | F3: KÖZÖS ÖNKORMÁNYZATI HIVATAL | J3: KÖLTSÉGVETÉSI SZERVEK | N3: ÖNKORMÁNYZAT ÖSSZESEN
B4: 2016. évi eredeti ei. | C4: 2016. évi módosított ei. III. | D4: 2016. évi IV. módosítás | E4: Eltérés | F4: 2016. évi eredeti ei. | G4: 2016. évi módosított ei. III. | H4: 2016. évi IV. módosítás | I4: Eltérés | J4: 2016. évi eredeti ei. | K4: 2016. évi módosított ei. III. | L4: 2016. évi IV. módosítás | M4: Eltérés | N4: 2016. évi eredeti ei. | O4: 2016. évi módosított ei. III. | P4: 2016. évi IV. módosítás | Q4: Eltérés
A5: I. Működési célú támogatások államháztartáson belülről | B5: =B6+B14+B15+B16+B17+B18 -> 1084203 | C5: =C6+C14+C15+C16+C17+C18 -> 1215948 | D5: =D6+D14+D15+D16+D17+D18 -> 1244481 | E5: =D5-C5 -> 28533 | F5: =F6+F14+F15+F16+F17+F18 -> 16525 | G5: =G6+G14+G15+G16+G17+G18 -> 22707 | H5: =H6+H14+H15+H16+H17+H18 -> 22732 | I5: =H5-G5 -> 25 | J5: =J6+J14+J15+J16+J17+J18 -> 90800 | K5: =K6+K14+K15+K16+K17+K18 -> 98101 | L5: =L6+L14+L15+L16+L17+L18 -> 98101 | M5: =L5-K5 -> 0 | N5: =N6+N14+N15+N16+N17+N18 -> 1191528 | O5: =O6+O14+O15+O16+O17+O18 -> 1336756 | P5: =P6+P14+P15+P16+P17+P18 -> 1365314 | Q5: =P5-O5 -> 28558
A6: 1. Önkormányzat működési támogatásai | B6: =SUM(B7:B12) -> 1041539 | C6: =SUM(C7:C13) -> 1132123 | D6: =SUM(D7:D13) -> 1160656 | E6: =D6-C6 -> 28533 | F6: =SUM(F7:F12) -> 0 | I6: =H6-G6 -> 0 | J6: =SUM(J7:J12) -> 0 | M6: =L6-K6 -> 0 | N6: =SUM(N7:N12) -> 1041539 | O6: =SUM(O7:O13) -> 1132123 | P6: =SUM(P7:P13) -> 1160656 | Q6: =P6-O6 -> 28533
A7: 1.1. Helyi önk. működésének ált. támogatása | B7: 577840 | C7: 577840 | D7: 577840 | E7: =D7-C7 -> 0 | I7: =H7-G7 -> 0 | M7: =L7-K7 -> 0 | N7: =SUM(B7+F7+J7) -> 577840 | O7: =SUM(C7+G7+K7) -> 577840 | P7: =SUM(D7+H7+L7) -> 577840 | Q7: =P7-O7 -> 0
A8: 1.2. Települési önk. egyes köznev. feladatainak támogatása | B8: 268431 | C8: 265790 | D8: 265790 | E8: =D8-C8 -> 0 | I8: =H8-G8 -> 0 | M8: =L8-K8 -> 0 | N8: =SUM(B8+F8+J8) -> 268431 | O8: =SUM(C8+G8+K8) -> 265790 | P8: =SUM(D8+H8+L8) -> 265790 | Q8: =P8-O8 -> 0
A9: 1.3. Települési önk. szoc. és gyermekjóléti feladatainak tám. | B9: 179419 | C9: 196604 | D9: 195083 | E9: =D9-C9 -> -1521 | I9: =H9-G9 -> 0 | M9: =L9-K9 -> 0 | N9: =SUM(B9+F9+J9) -> 179419 | O9: =SUM(C9+G9+K9) -> 196604 | P9: =SUM(D9+H9+L9) -> 195083 | Q9: =P9-O9 -> -1521
A10: 1.4. Települési önk. kult. feladatainak támogatása | B10: 15849 | C10: 16614 | D10: 16614 | E10: =D10-C10 -> 0 | I10: =H10-G10 -> 0 | M10: =L10-K10 -> 0 | N10: =SUM(B10+F10+J10) -> 15849 | O10: =SUM(C10+G10+K10) -> 16614 | P10: =SUM(D10+H10+L10) -> 16614 | Q10: =P10-O10 -> 0
A11: 1.5. Működési célú költségvetési támogatások és kiegészítő támogatások | C11: 69220 | D11: 104254 | E11: =D11-C11 -> 35034 | I11: =H11-G11 -> 0 | M11: =L11-K11 -> 0 | N11: =SUM(B11+F11+J11) -> 0 | O11: =SUM(C11+G11+K11) -> 69220 | P11: =SUM(D11+H11+L11) -> 104254 | Q11: =P11-O11 -> 35034
A12: 1.6. Elszámolásból származó bevételek | C12: 1075 | D12: 1075 | E12: =D12-C12 -> 0 | I12: =H12-G12 -> 0 | M12: =L12-K12 -> 0 | N12: =SUM(B12+F12+J12) -> 0 | O12: =SUM(C12+G12+K12) -> 1075 | P12: =SUM(D12+H12+L12) -> 1075 | Q12: =P12-O12 -> 0
A13: 1.7. Vis major | C13: 4980 | D13: 0 | E13: =D13-C13 -> -4980 | I13: =H13-G13 -> 0 | M13: =L13-K13 -> 0 | O13: =SUM(C13+G13+K13) -> 4980 | P13: =SUM(D13+H13+L13) -> 0 | Q13: =P13-O13 -> -4980
A14: 2. Elvonások, befizetések | E14: =D14-C14 -> 0 | I14: =H14-G14 -> 0 | M14: =L14-K14 -> 0 | Q14: =P14-O14 -> 0
A15: 3. Működési célú garancia- és kezességvállalásból származó megtérülések áh-n belülről | E15: =D15-C15 -> 0 | I15: =H15-G15 -> 0 | M15: =L15-K15 -> 0 | N15: =B15+F15+J15 -> 0 | O15: =C15+G15+K15 -> 0 | Q15: =P15-O15 -> 0
A16: 4. Működési célú visszatérítendő támogatások, kölcsönök visszatérülése áh-n belülről | E16: =D16-C16 -> 0 | I16: =H16-G16 -> 0 | M16: =L16-K16 -> 0 | N16: =B16+F16+J16 -> 0 | O16: =C16+G16+K16 -> 0 | Q16: =P16-O16 -> 0
A17: 5. Működési célú visszatérítendő támogatások, kölcsönök igénybevétele áh-n belülről | E17: =D17-C17 -> 0 | I17: =H17-G17 -> 0 | M17: =L17-K17 -> 0 | N17: =B17+F17+J17 -> 0 | O17: =C17+G17+K17 -> 0 | Q17: =P17-O17 -> 0
A18: 6. Egyéb működési célú támogatások bevételei államháztartáson belülről | B18: 42664 | C18: 83825 | D18: 83825 | E18: =D18-C18 -> 0 | F18: 16525 | G18: 22707 | H18: ='2.a tábla ÚJ '!AY13 -> 22732 | I18: =H18-G18 -> 25 | J18: 90800 | K18: 98101 | L18: ='2.a tábla ÚJ '!AT13 -> 98101 | M18: =L18-K18 -> 0 | N18: =B18+F18+J18 -> 149989 | O18: =C18+G18+K18 -> 204633 | P18: =D18+H18+L18 -> 204658 | Q18: =P18-O18 -> 25
A19: ebből működési célú támogatás társadalombiztosítási alapból | E19: =D19-C19 -> 0 | I19: =H19-G19 -> 0 | J19: 90000 | K19: 93801 | L19: ='2.a tábla ÚJ '!AT14 -> 93801 | M19: =L19-K19 -> 0 | N19: =B19+F19+J19 -> 90000 | O19: =C19+G19+K19 -> 93801 | P19: =D19+H19+L19 -> 93801 | Q19: =P19-O19 -> 0
A20: II. Felhalmozási célú támogatások államháztartáson belülről | B20: =B21+B22+B23+B24+B25 -> 287821 | C20: =C21+C22+C23+C24+C25 -> 1545773 | D20: =D21+D22+D23+D24+D25 -> 1547170 | E20: =D20-C20 -> 1397 | F20: =F21+F22+F23+F24+F25 -> 0 | G20: =G21+G22+G23+G24+G25 -> 0 | I20: =H20-G20 -> 0 | J20: =J21+J22+J23+J24+J25 -> 0 | K20: =K21+K22+K23+K24+K25 -> 246 | L20: =L25 -> 246 | M20: =L20-K20 -> 0 | N20: =N21+N22+N23+N24+N25 -> 287821 | O20: =O21+O22+O23+O24+O25 -> 1546019 | P20: =P21+P22+P23+P24+P25 -> 1547416 | Q20: =P20-O20 -> 1397
A21: 1. Felhalmozási célú önkormányzati támogatások | B21: 72000 | C21: 75508 | D21: 76905 | E21: =D21-C21 -> 1397 | I21: =H21-G21 -> 0 | M21: =L21-K21 -> 0 | N21: =B21+F21+J21 -> 72000 | O21: =C21+G21+K21 -> 75508 | P21: =D21+H21+L21 -> 76905 | Q21: =P21-O21 -> 1397
A22: 2. Felhalmozási célú garancia- és kezességvállalásból származó megtérülések áh-n belülről | E22: =D22-C22 -> 0 | I22: =H22-G22 -> 0 | M22: =L22-K22 -> 0 | N22: =B22+F22+J22 -> 0 | O22: =C22+G22+K22 -> 0 | P22: =D22+H22+L22 -> 0 | Q22: =P22-O22 -> 0
A23: 3. Felhalmozási célú visszatérítendő támogatások, kölcsönök visszatérülése áh-n belülről | B23: 200000 | C23: 200000 | D23: 200000 | E23: =D23-C23 -> 0 | I23: =H23-G23 -> 0 | M23: =L23-K23 -> 0 | N23: =B23+F23+J23 -> 200000 | O23: =C23+G23+K23 -> 200000 | P23: =D23+H23+L23 -> 200000 | Q23: =P23-O23 -> 0
A24: 4. Felhalmozási célú visszatérítendő támogatások, kölcsönök igénybevétele áh-n belülről | E24: =D24-C24 -> 0 | I24: =H24-G24 -> 0 | M24: =L24-K24 -> 0 | N24: =B24+F24+J24 -> 0 | O24: =C24+G24+K24 -> 0 | P24: =D24+H24+L24 -> 0 | Q24: =P24-O24 -> 0
A25: 5. Egyéb felhalmozási célú támogatások államháztartáson belülről | B25: 15821 | C25: 1270265 | D25: 1270265 | E25: =D25-C25 -> 0 | I25: =H25-G25 -> 0 | K25: 246 | L25: ='2.a tábla ÚJ '!AT16 -> 246 | M25: =L25-K25 -> 0 | N25: =B25+F25+J25 -> 15821 | O25: =C25+G25+K25 -> 1270511 | P25: =D25+H25+L25 -> 1270511 | Q25: =P25-O25 -> 0
A26: MEGNEVEZÉS | B26: ÖNKORMÁNYZAT | F26: KÖZÖS ÖNKORMÁNYZATI HIVATAL | J26: KÖLTSÉGVETÉSI SZERVEK | N26: ÖNKORMÁNYZAT ÖSSZESEN
B27: 2016. évi eredeti ei. | C27: 2016. évi módosított ei. III. | D27: 2016. évi IV. módosítás | E27: Eltérés | F27: 2016. évi eredeti ei. | G27: 2016. évi módosított ei. III. | H27: 2016. évi IV. módosítás | I27: Eltérés | J27: 2016. évi eredeti ei. | K27: 2016. évi módosított ei. III. | L27: 2016. évi IV. módosítás | M27: Eltérés | N27: 2016. évi eredeti ei. | O27: 2016. évi módosított ei. III. | P27: 2016. évi IV. módosítás | Q27: Eltérés
A28: III. Közhatalmi bevételek | B28: =B29+B32+B40 -> 1516200 | C28: =C29+C32+C40 -> 1606200 | D28: =D29+D32+D40 -> 1606200 | E28: =D28-C28 -> 0 | F28: =F29+F32+F40 -> 500 | G28: =G29+G32+G40 -> 500 | H28: =H29+H32+H40 -> 500 | I28: =H28-G28 -> 0 | N28: =SUM(B28+F28+J28) -> 1516700 | O28: =SUM(C28+G28+K28) -> 1606700 | P28: =SUM(D28+H28+L28) -> 1606700 | Q28: =P28-O28 -> 0
A29: 1. Vagyoni típusú adók | B29: =SUM(B30:B31) -> 403000 | C29: =SUM(C30:C31) -> 418000 | D29: =SUM(D30:D31) -> 418000 | E29: =D29-C29 -> 0 | I29: =H29-G29 -> 0 | N29: =SUM(B29+F29+J29) -> 403000 | O29: =SUM(C29+G29+K29) -> 418000 | P29: =SUM(D29+H29+L29) -> 418000 | Q29: =P29-O29 -> 0
A30: 1.1. Építményadó | B30: 376000 | C30: 386000 | D30: 386000 | E30: =D30-C30 -> 0 | I30: =H30-G30 -> 0 | N30: =SUM(B30+F30+J30) -> 376000 | O30: =SUM(C30+G30+K30) -> 386000 | P30: =SUM(D30+H30+L30) -> 386000 | Q30: =P30-O30 -> 0
A31: 1.2. Telekadó | B31: 27000 | C31: 32000 | D31: 32000 | E31: =D31-C31 -> 0 | I31: =H31-G31 -> 0 | N31: =SUM(B31+F31+J31) -> 27000 | O31: =SUM(C31+G31+K31) -> 32000 | P31: =SUM(D31+H31+L31) -> 32000 | Q31: =P31-O31 -> 0
A32: 2. Termékek és szolgáltatások adói | B32: =B33+B35+B36 -> 1108900 | C32: =C33+C35+C36 -> 1156900 | D32: =D33+D35+D36 -> 1156000 | E32: =D32-C32 -> -900 | I32: =H32-G32 -> 0 | N32: =SUM(B32+F32+J32) -> 1108900 | O32: =SUM(C32+G32+K32) -> 1156900 | P32: =SUM(D32+H32+L32) -> 1156000 | Q32: =P32-O32 -> -900
A33: 2.1. Értékesítési és forgalmi adók | B33: =SUM(B34) -> 740000 | C33: =SUM(C34) -> 780000 | D33: =SUM(D34) -> 780000 | E33: =D33-C33 -> 0 | I33: =H33-G33 -> 0 | N33: =SUM(B33+F33+J33) -> 740000 | O33: =SUM(C33+G33+K33) -> 780000 | P33: =SUM(D33+H33+L33) -> 780000 | Q33: =P33-O33 -> 0
A34: 2.1. 1. Iparűzési adó | B34: 740000 | C34: 780000 | D34: 780000 | E34: =D34-C34 -> 0 | I34: =H34-G34 -> 0 | N34: =SUM(B34+F34+J34) -> 740000 | O34: =SUM(C34+G34+K34) -> 780000 | P34: =SUM(D34+H34+L34) -> 780000 | Q34: =P34-O34 -> 0
A35: 2.2. Gépjárműadók | B35: 50000 | C35: 50000 | D35: 50000 | E35: =D35-C35 -> 0 | I35: =H35-G35 -> 0 | N35: =SUM(B35+F35+J35) -> 50000 | O35: =SUM(C35+G35+K35) -> 50000 | P35: =SUM(D35+H35+L35) -> 50000 | Q35: =P35-O35 -> 0
A36: 2.3. Egyéb áruhasználati és szolgáltatási adók | B36: =SUM(B37:B39) -> 318900 | C36: =SUM(C37:C39) -> 326900 | D36: =SUM(D37:D39) -> 326000 | E36: =D36-C36 -> -900 | I36: =H36-G36 -> 0 | N36: =SUM(B36+F36+J36) -> 318900 | O36: =SUM(C36+G36+K36) -> 326900 | P36: =SUM(D36+H36+L36) -> 326000 | Q36: =P36-O36 -> -900
A37: 2.3.1. Ifa személyek u. | B37: 315000 | C37: 326000 | D37: 326000 | E37: =D37-C37 -> 0 | I37: =H37-G37 -> 0 | N37: =SUM(B37+F37+J37) -> 315000 | O37: =SUM(C37+G37+K37) -> 326000 | P37: =SUM(D37+H37+L37) -> 326000 | Q37: =P37-O37 -> 0
A38: 2.3.2. Talajterhelési díj | B38: 900 | C38: 900 | D38: 0 | E38: =D38-C38 -> -900 | I38: =H38-G38 -> 0 | N38: =SUM(B38+F38+J38) -> 900 | O38: =SUM(C38+G38+K38) -> 900 | P38: =SUM(D38+H38+L38) -> 0 | Q38: =P38-O38 -> -900
A39: 2.3.3. Települési adó | B39: 3000 | C39: 0 | E39: =D39-C39 -> 0 | I39: =H39-G39 -> 0 | N39: =SUM(B39+F39+J39) -> 3000 | O39: =SUM(C39+G39+K39) -> 0 | P39: =SUM(D39+H39+L39) -> 0 | Q39: =P39-O39 -> 0
A40: 3. Egyéb közhatalmi bevételek (bírság, pótlék,) | B40: 4300 | C40: 31300 | D40: =31300+900 -> 32200 | E40: =D40-C40 -> 900 | F40: 500 | G40: 500 | H40: ='2.a tábla ÚJ '!AY20 -> 500 | I40: =H40-G40 -> 0 | N40: =SUM(B40+F40+J40) -> 4800 | O40: =SUM(C40+G40+K40) -> 31800 | P40: =SUM(D40+H40+L40) -> 32700 | Q40: =P40-O40 -> 900
A41: IV. Működési bevételek | B41: =B42+B43+B45+B46+B49+B50+B51+B52+B55 -> 481851 | C41: =C42+C43+C45+C46+C49+C50+C51+C52+C55+C53+C54 -> 705789 | D41: =D42+D43+D45+D46+D49+D50+D51+D52+D55+D53+D54 -> 705789 | E41: =D41-C41 -> 0 | F41: =F42+F43+F45+F46+F49+F50+F51+F52+F55 -> 19151 | G41: =G42+G43+G45+G46+G49+G50+G51+G52+G55 -> 19151 | H41: =H42+H43+H45+H46+H49+H50+H51+H52+H55 -> 19151 | I41: =H41-G41 -> 0 | J41: =SUM(J42+J43+J45+J46+J49+J50+J51+J52+J55) -> 99702 | K41: =SUM(K42+K43+K45+K46+K49+K50+K51+K52+K55) -> 100952 | L41: =SUM(L42+L43+L45+L46+L49+L50+L51+L52+L55) -> 102883 | M41: =L41-K41 -> 1931 | N41: =SUM(B41+F41+J41) -> 600704 | O41: =SUM(C41+G41+K41) -> 825892 | P41: =SUM(D41+H41+L41) -> 827823 | Q41: =P41-O41 -> 1931
A42: 1. Készletértékesítés bevétele | B42: 10000 | C42: 10000 | D42: 10000 | E42: =D42-C42 -> 0 | I42: =H42-G42 -> 0 | M42: =L42-K42 -> 0 | N42: =SUM(B42+F42+J42) -> 10000 | O42: =SUM(C42+G42+K42) -> 10000 | P42: =SUM(D42+H42+L42) -> 10000 | Q42: =P42-O42 -> 0
A43: 2. Szolgáltatások ellenértéke | B43: 325571 | C43: 325571 | D43: 325571 | E43: =D43-C43 -> 0 | F43: 13700 | G43: 13700 | H43: ='2.a tábla ÚJ '!AY23 -> 13700 | I43: =H43-G43 -> 0 | J43: 41875 | K43: 41875 | L43: ='2.a tábla ÚJ '!AT23 -> 42991 | M43: =L43-K43 -> 1116 | N43: =SUM(B43+F43+J43) -> 381146 | O43: =SUM(C43+G43+K43) -> 381146 | P43: =SUM(D43+H43+L43) -> 382262 | Q43: =P43-O43 -> 1116
A44: Ebből: bérleti díjak | B44: 303642 | C44: 303642 | D44: 303642 | E44: =D44-C44 -> 0 | F44: 8500 | G44: 8500 | H44: ='2.a tábla ÚJ '!AY24 -> 8500 | I44: =H44-G44 -> 0 | J44: 12108 | K44: 12108 | L44: ='2.a tábla ÚJ '!AT24 -> 13407 | M44: =L44-K44 -> 1299 | N44: =SUM(B44+F44+J44) -> 324250 | O44: =SUM(C44+G44+K44) -> 324250 | P44: =SUM(D44+H44+L44) -> 325549 | Q44: =P44-O44 -> 1299
A45: 3. Közvetített szolgáltatások ellenértéke | B45: 21161 | C45: 22360 | D45: 22360 | E45: =D45-C45 -> 0 | F45: 1372 | G45: 1372 | H45: ='2.a tábla ÚJ '!AY25 -> 1372 | I45: =H45-G45 -> 0 | J45: 1765 | K45: 1765 | L45: ='2.a tábla ÚJ '!AT25 -> 1804 | M45: =L45-K45 -> 39 | N45: =SUM(B45+F45+J45) -> 24298 | O45: =SUM(C45+G45+K45) -> 25497 | P45: =SUM(D45+H45+L45) -> 25536 | Q45: =P45-O45 -> 39
A46: 4. Tulajdonosi bevételek | B46: =SUM(B47:B48) -> 17500 | C46: =SUM(C47:C48) -> 17500 | D46: =SUM(D47:D48) -> 17500 | E46: =D46-C46 -> 0 | I46: =H46-G46 -> 0 | M46: =L46-K46 -> 0 | N46: =SUM(B46+F46+J46) -> 17500 | O46: =SUM(C46+G46+K46) -> 17500 | P46: =SUM(D46+H46+L46) -> 17500 | Q46: =P46-O46 -> 0
A47: 4.1. Üzemeltetési díjak | B47: 2500 | C47: 2500 | D47: 2500 | E47: =D47-C47 -> 0 | I47: =H47-G47 -> 0 | M47: =L47-K47 -> 0 | N47: =SUM(B47+F47+J47) -> 2500 | O47: =SUM(C47+G47+K47) -> 2500 | P47: =SUM(D47+H47+L47) -> 2500 | Q47: =P47-O47 -> 0
A48: 4.2. Részesedés után kapott osztalék | B48: 15000 | C48: 15000 | D48: 15000 | E48: =D48-C48 -> 0 | I48: =H48-G48 -> 0 | M48: =L48-K48 -> 0 | N48: =SUM(B48+F48+J48) -> 15000 | O48: =SUM(C48+G48+K48) -> 15000 | P48: =SUM(D48+H48+L48) -> 15000 | Q48: =P48-O48 -> 0
A49: 5. Ellátási díjak | B49: 0 | C49: 0 | E49: =D49-C49 -> 0 | I49: =H49-G49 -> 0 | J49: 35332 | K49: 36582 | L49: ='2.a tábla ÚJ '!AT27 -> 36956 | M49: =L49-K49 -> 374 | N49: =SUM(B49+F49+J49) -> 35332 | O49: =SUM(C49+G49+K49) -> 36582 | P49: =SUM(D49+H49+L49) -> 36956 | Q49: =P49-O49 -> 374
A50: 6. Kiszámlázott Áfa | B50: 92619 | C50: 300293 | D50: 300293 | E50: =D50-C50 -> 0 | F50: 4069 | G50: 4069 | H50: ='2.a tábla ÚJ '!AY28 -> 4069 | I50: =H50-G50 -> 0 | J50: 11845 | K50: 11845 | L50: ='2.a tábla ÚJ '!AT28 -> 12260 | M50: =L50-K50 -> 415 | N50: =SUM(B50+F50+J50) -> 108533 | O50: =SUM(C50+G50+K50) -> 316207 | P50: =SUM(D50+H50+L50) -> 316622 | Q50: =P50-O50 -> 415
A51: 7. Áfa visszatérítés | C51: 0 | E51: =D51-C51 -> 0 | I51: =H51-G51 -> 0 | J51: 8865 | K51: 8865 | L51: ='2.a tábla ÚJ '!AT29 -> 8829 | M51: =L51-K51 -> -36 | N51: =SUM(B51+F51+J51) -> 8865 | O51: =SUM(C51+G51+K51) -> 8865 | P51: =SUM(D51+H51+L51) -> 8829 | Q51: =P51-O51 -> -36
A52: 8. Kamatbevétel | B52: 15000 | C52: 15000 | D52: 15000 | E52: =D52-C52 -> 0 | F52: 10 | G52: 10 | H52: ='2.a tábla ÚJ '!AY30 -> 10 | I52: =H52-G52 -> 0 | L52: ='2.a tábla ÚJ '!AT30 -> 13 | M52: =L52-K52 -> 13 | N52: =SUM(B52+F52+J52) -> 15010 | O52: =SUM(C52+G52+K52) -> 15010 | P52: =SUM(D52+H52+L52) -> 15023 | Q52: =P52-O52 -> 13
A53: 9. Egyéb pénzügyi műveletek bevételei | E53: =D53-C53 -> 0 | I53: =H53-G53 -> 0 | M53: =L53-K53 -> 0 | Q53: =P53-O53 -> 0
A54: 10. Biztosító által fizetett kártérítés | C54: 15065 | D54: 15065 | E54: =D54-C54 -> 0 | I54: =H54-G54 -> 0 | M54: =L54-K54 -> 0 | Q54: =P54-O54 -> 0
A55: 11. Egyéb működési bevételek | E55: =D55-C55 -> 0 | I55: =H55-G55 -> 0 | J55: 20 | K55: 20 | L55: ='2.a tábla ÚJ '!AT33 -> 30 | M55: =L55-K55 -> 10 | N55: =SUM(B55+F55+J55) -> 20 | O55: =SUM(C55+G55+K55) -> 20 | P55: =SUM(D55+H55+L55) -> 30 | Q55: =P55-O55 -> 10
A56: V. Felhalmozási bevételek | B56: =SUM(B57:B61) -> 2000 | C56: =SUM(C57:C61) -> 788369 | D56: =SUM(D57:D61) -> 788369 | E56: =D56-C56 -> 0 | F56: =SUM(F57:F61) -> 0 | G56: =SUM(G57:G61) -> 0 | H56: =SUM(H57:H61) -> 0 | I56: =H56-G56 -> 0 | J56: =SUM(J57:J61) -> 0 | K56: =SUM(K57:K61) -> 0 | L56: =SUM(L57:L61) -> 0 | M56: =L56-K56 -> 0 | N56: =SUM(N57:N61) -> 2000 | O56: =SUM(O57:O61) -> 788369 | P56: =SUM(P57:P61) -> 788369 | Q56: =P56-O56 -> 0
A57: 1. Immateriális javak értékesítése | E57: =D57-C57 -> 0 | I57: =H57-G57 -> 0 | M57: =L57-K57 -> 0 | Q57: =P57-O57 -> 0
A58: 2. Ingatlanok értékesítése | B58: 2000 | C58: 788369 | D58: 788369 | E58: =D58-C58 -> 0 | I58: =H58-G58 -> 0 | M58: =L58-K58 -> 0 | N58: =B58+J58+F58 -> 2000 | O58: =C58+K58+G58 -> 788369 | P58: =D58+L58+H58 -> 788369 | Q58: =P58-O58 -> 0
A59: 3. Egyéb tárgyi eszközök értékesítése | E59: =D59-C59 -> 0 | I59: =H59-G59 -> 0 | M59: =L59-K59 -> 0 | N59: =B59+J59+F59 -> 0 | O59: =C59+K59+G59 -> 0 | P59: =D59+L59+H59 -> 0 | Q59: =P59-O59 -> 0
A60: 4. Részesedések értékesítése | E60: =D60-C60 -> 0 | I60: =H60-G60 -> 0 | M60: =L60-K60 -> 0 | N60: =J60+F60+B60 -> 0 | O60: =K60+G60+C60 -> 0 | P60: =L60+H60+D60 -> 0 | Q60: =P60-O60 -> 0
A61: 5. Részesedések megszűnéséhez kapcsolódó bevételek | E61: =D61-C61 -> 0 | I61: =H61-G61 -> 0 | M61: =L61-K61 -> 0 | N61: =B61+J61 -> 0 | O61: =C61+K61 -> 0 | P61: =D61+L61 -> 0 | Q61: =P61-O61 -> 0
A62: VI. Működési célú átvett pénzeszközök | B62: =SUM(B63:B65) -> 16838 | C62: =SUM(C63:C65) -> 18475 | D62: =SUM(D63:D65) -> 6407 | E62: =D62-C62 -> -12068 | F62: =SUM(F63:F65) -> 0 | G62: =SUM(G63:G65) -> 0 | H62: =H63+H64+H65 -> 0 | I62: =H62-G62 -> 0 | J62: =SUM(J63:J65) -> 0 | K62: =SUM(K63:K65) -> 0 | L62: =SUM(L63:L65) -> 0 | M62: =SUM(M63:M65) -> 0 | N62: =SUM(N63:N65) -> 16838 | O62: =SUM(O63:O65) -> 18475 | P62: =SUM(P63:P65) -> 6407 | Q62: =P62-O62 -> -12068
A63: 1. Működési célú garancia- és kezességvállalásból származó megtérülések áh-n kívülről | E63: =D63-C63 -> 0 | I63: =H63-G63 -> 0 | M63: =L63-K63 -> 0 | N63: =B63+F63+J63 -> 0 | O63: =C63+G63+K63 -> 0 | P63: =D63+H63+L63 -> 0 | Q63: =P63-O63 -> 0
A64: 2. Működési célú visszatérítendő támogatások, kölcsönök visszatérülése államháztartáson kívülről | B64: 13338 | C64: 13338 | D64: 1270 | E64: =D64-C64 -> -12068 | I64: =H64-G64 -> 0 | M64: =L64-K64 -> 0 | N64: =B64+F64+J64 -> 13338 | O64: =C64+G64+K64 -> 13338 | P64: =D64+H64+L64 -> 1270 | Q64: =P64-O64 -> -12068
A65: 3. Egyéb működési célú átvett pénzeszközök | B65: 3500 | C65: 5137 | D65: 5137 | E65: =D65-C65 -> 0 | I65: =H65-G65 -> 0 | M65: =L65-K65 -> 0 | N65: =B65+F65+J65 -> 3500 | O65: =SUM(C65+G65+K65) -> 5137 | P65: =SUM(D65+H65+L65) -> 5137 | Q65: =P65-O65 -> 0
A66: MEGNEVEZÉS | B66: ÖNKORMÁNYZAT | F66: KÖZÖS ÖNKORMÁNYZATI HIVATAL | J66: KÖLTSÉGVETÉSI SZERVEK | N66: ÖNKORMÁNYZAT ÖSSZESEN
B67: 2016. évi eredeti ei. | C67: 2016. évi módosított ei. III. | D67: 2016. évi IV. módosítás | E67: Eltérés | F67: 2016. évi eredeti ei. | G67: 2016. évi módosított ei. III. | H67: 2016. évi IV. módosítás | I67: Eltérés | J67: 2016. évi eredeti ei. | K67: 2016. évi módosított ei. III. | L67: 2016. évi IV. módosítás | M67: Eltérés | N67: 2016. évi eredeti ei. | O67: 2016. évi módosított ei. III. | P67: 2016. évi IV. módosítás | Q67: Eltérés
A68: VII. Felhalmozási célú átvett pénzeszközök | B68: =SUM(B69:B71) -> 100873 | C68: =SUM(C69:C71) -> 100873 | D68: =SUM(D69:D71) -> 100873 | E68: =D68-C68 -> 0 | F68: =SUM(F69:F71) -> 0 | I68: =H68-G68 -> 0 | J68: =SUM(J69:J71) -> 0 | M68: =L68-K68 -> 0 | N68: =SUM(N69:N71) -> 100873 | O68: =SUM(O69:O71) -> 100873 | P68: =SUM(P69:P71) -> 100873 | Q68: =P68-O68 -> 0
A69: 1. Felhalmozási célú garancia- és kezességvállalásból származó megtérülések áh-n kívülről | D69: =-C69 -> 0 | E69: =D69-C69 -> 0 | I69: =H69-G69 -> 0 | M69: =L69-K69 -> 0 | N69: =B69+F69+J69 -> 0 | O69: =C69+G69+K69 -> 0 | P69: =D69+H69+L69 -> 0 | Q69: =P69-O69 -> 0
A70: 2. Felhalmozási célú visszatérítendő támogatások, kölcsönök visszatérülése államháztartáson kívülről | B70: 100873 | C70: 100873 | D70: 100873 | E70: =D70-C70 -> 0 | I70: =H70-G70 -> 0 | M70: =L70-K70 -> 0 | N70: =B70+F70+J70 -> 100873 | O70: =C70+G70+K70 -> 100873 | P70: =D70+H70+L70 -> 100873 | Q70: =P70-O70 -> 0
A71: 3. Egyéb felhalmozási célú átvett pénzeszközök | C71: 0 | E71: =D71-C71 -> 0 | I71: =H71-G71 -> 0 | M71: =L71-K71 -> 0 | N71: =B71+F71+J71 -> 0 | O71: =C71+G71+K71 -> 0 | P71: =D71+H71+L71 -> 0 | Q71: =P71-O71 -> 0
A72: Költségvetési bevételek összesen: | B72: =B68+B62+B56+B41+B28+B20+B5 -> 3489786 | C72: =C68+C62+C56+C41+C28+C20+C5 -> 5981427 | D72: =D68+D62+D56+D41+D28+D20+D5 -> 5999289 | E72: =D72-C72 -> 17862 | F72: =F68+F62+F56+F41+F28+F20+F5 -> 36176 | G72: =G68+G62+G56+G41+G28+G20+G5 -> 42358 | H72: =H68+H62+H56+H41+H28+H20+H5 -> 42383 | I72: =H72-G72 -> 25 | J72: =J68+J62+J56+J41+J28+J20+J5 -> 190502 | K72: =K68+K62+K56+K41+K28+K20+K5 -> 199299 | L72: =L68+L62+L56+L41+L28+L20+L5 -> 201230 | M72: =L72-K72 -> 1931 | N72: =N68+N62+N56+N41+N28+N20+N5 -> 3716464 | O72: =O68+O62+O56+O41+O28+O20+O5 -> 6223084 | P72: =P68+P62+P56+P41+P28+P20+P5 -> 6242902 | Q72: =P72-O72 -> 19818 | T72: =#REF!+#REF!+#REF! -> #REF!
A73: VIII. Finanszírozási bevételek | B73: =B74+B77 -> 691520 | C73: =C74+C77 -> 1515105 | D73: =D74+D77 -> 1545653 | E73: =D73-C73 -> 30548 | F73: =F74+F77 -> 0 | G73: =G74+G77 -> 20305 | H73: =H74+H77 -> 20305 | I73: =H73-G73 -> 0 | J73: =J74+J77 -> 0 | K73: =K74+K77 -> 30276 | L73: =L74+L77 -> 30276 | M73: =L73-K73 -> 0 | N73: =N74+N77 -> 691520 | O73: =O74+O77 -> 1565686 | P73: =P74+P77 -> 1596234 | Q73: =P73-O73 -> 30548
A74: 1. Költségvetési hiány belső finanszírozására szolgáló bevételek | B74: =SUM(B75:B76) -> 682920 | C74: =SUM(C75:C76) -> 852305 | D74: =SUM(D75:D76) -> 852305 | E74: =D74-C74 -> 0 | F74: =SUM(F75:F76) -> 0 | G74: =SUM(G75:G76) -> 20305 | H74: =SUM(H75:H76) -> 20305 | I74: =H74-G74 -> 0 | J74: =SUM(J75:J76) -> 0 | K74: =SUM(K75:K76) -> 30276 | L74: =SUM(L75:L76) -> 30276 | M74: =L74-K74 -> 0 | N74: =B74+J74+F74 -> 682920 | O74: =C74+K74+G74 -> 902886 | P74: =D74+L74+H74 -> 902886 | Q74: =P74-O74 -> 0
A75: 1.1. Előző év költségvetési maradványának igénybevétele működési célra | B75: 83488 | C75: 125363 | D75: 125363 | E75: =D75-C75 -> 0 | G75: 20279 | H75: ='2.a tábla ÚJ '!AY47 -> 20279 | I75: =H75-G75 -> 0 | K75: 29271 | L75: ='2.a tábla ÚJ '!AT47 -> 29271 | M75: =L75-K75 -> 0 | N75: =B75+F75+J75 -> 83488 | O75: =C75+G75+K75 -> 174913 | P75: =D75+H75+L75 -> 174913 | Q75: =P75-O75 -> 0
A76: 1.2. Előző év költségvetési maradványának igénybevétele felhalmozási célra | B76: 599432 | C76: 726942 | D76: 726942 | E76: =D76-C76 -> 0 | G76: 26 | H76: ='2.a tábla ÚJ '!AY48 -> 26 | I76: =H76-G76 -> 0 | K76: 1005 | L76: ='2.a tábla ÚJ '!AT48 -> 1005 | M76: =L76-K76 -> 0 | N76: =B76+F76+J76 -> 599432 | O76: =C76+G76+K76 -> 727973 | P76: =D76+H76+L76 -> 727973 | Q76: =P76-O76 -> 0
A77: 2. Költségvetési hiány külső finanszírozására szolgáló finanszírozási bevételek | B77: =B78+B82+B87+B88 -> 8600 | C77: =C78+C82+C87+C88 -> 662800 | D77: =D78+D82+D88+D87 -> 693348 | E77: =D77-C77 -> 30548 | F77: =F78+F82 -> 0 | G77: =G78+G82 -> 0 | I77: =H77-G77 -> 0 | J77: =J78+J82 -> 0 | K77: =K78+K82 -> 0 | M77: =L77-K77 -> 0 | N77: =N78+N82+N87+N88 -> 8600 | O77: =O78+O82+O87+O88 -> 662800 | P77: =P78+P82+P87+P88 -> 693348 | Q77: =P77-O77 -> 30548
A78: 1. Hitel, kölcsön felvétele áh-n kívülről | B78: =SUM(B79:B81) -> 0 | C78: =SUM(C79:C81) -> 0 | E78: =D78-C78 -> 0 | F78: =SUM(F79:F81) -> 0 | G78: =SUM(G79:G81) -> 0 | I78: =H78-G78 -> 0 | J78: =SUM(J79:J81) -> 0 | K78: =SUM(K79:K81) -> 0 | M78: =L78-K78 -> 0 | N78: =SUM(N79:N81) -> 0 | O78: =SUM(O79:O81) -> 0 | P78: =SUM(P79:P81) -> 0 | Q78: =P78-O78 -> 0
A79: 1.1. Hosszú lejáratú hitelek, kölcsönök felvétele | E79: =D79-C79 -> 0 | I79: =H79-G79 -> 0 | M79: =L79-K79 -> 0 | N79: =B79+J79 -> 0 | O79: =C79+K79 -> 0 | P79: =D79+L79 -> 0 | Q79: =P79-O79 -> 0
A80: 1.2. Likviditási célú hitelek, kölcsönök felvétele pénzügyi vállalkozástól | E80: =D80-C80 -> 0 | I80: =H80-G80 -> 0 | M80: =L80-K80 -> 0 | N80: =B80+J80 -> 0 | O80: =C80+K80 -> 0 | P80: =D80+L80 -> 0 | Q80: =P80-O80 -> 0
A81: 1.3. Rövid lejáratú hitelek, kölcsönök felvétele | E81: =D81-C81 -> 0 | I81: =H81-G81 -> 0 | M81: =L81-K81 -> 0 | N81: =B81+J81 -> 0 | O81: =C81+K81 -> 0 | P81: =D81+L81 -> 0 | Q81: =P81-O81 -> 0
A82: 2. Belföldi értékpapírok bevételei | B82: =SUM(B83:B86) -> 0 | C82: =SUM(C83:C86) -> 650000 | D82: =D83+D84+D85+D86 -> 650000 | E82: =D82-C82 -> 0 | F82: =SUM(F83:F86) -> 0 | G82: =SUM(G83:G86) -> 0 | I82: =H82-G82 -> 0 | J82: =SUM(J83:J86) -> 0 | K82: =SUM(K83:K86) -> 0 | M82: =L82-K82 -> 0 | N82: =SUM(N83:N86) -> 0 | O82: =SUM(O83:O86) -> 650000 | P82: =SUM(P83:P86) -> 650000 | Q82: =P82-O82 -> 0
A83: 2.1. Forgatási célú értékpapírok beváltása, értékesítéseű | C83: 650000 | D83: 650000 | E83: =D83-C83 -> 0 | I83: =H83-G83 -> 0 | M83: =L83-K83 -> 0 | N83: =B83+J83 -> 0 | O83: =C83+K83 -> 650000 | P83: =D83+L83 -> 650000 | Q83: =P83-O83 -> 0
A84: 2.2. Forgatási célú értékpapírok kibocsátása | E84: =D84-C84 -> 0 | I84: =H84-G84 -> 0 | M84: =L84-K84 -> 0 | N84: =B84+J84 -> 0 | O84: =C84+K84 -> 0 | P84: =D84+L84 -> 0 | Q84: =P84-O84 -> 0
A85: 2.3. Befektetési célú belföldi értékpapírok beváltása, értékesítése | E85: =D85-C85 -> 0 | I85: =H85-G85 -> 0 | M85: =L85-K85 -> 0 | N85: =B85+J85 -> 0 | O85: =C85+K85 -> 0 | P85: =D85+L85 -> 0 | Q85: =P85-O85 -> 0
A86: 2.4. Befektetési célú belföldi értékpapírok kibocsátása | E86: =D86-C86 -> 0 | I86: =H86-G86 -> 0 | M86: =L86-K86 -> 0 | N86: =B86+J86 -> 0 | O86: =C86+K86 -> 0 | P86: =D86+L86 -> 0 | Q86: =P86-O86 -> 0
A87: 3. Betét bevonás | E87: =D87-C87 -> 0 | I87: =H87-G87 -> 0 | M87: =L87-K87 -> 0 | N87: =B87+J87 -> 0 | O87: =C87+K87 -> 0 | P87: =D87+L87 -> 0 | Q87: =P87-O87 -> 0
A88: 4. Államháztartáson belüli megelőlegezések | B88: 8600 | C88: 12800 | D88: 43348 | E88: =D88-C88 -> 30548 | I88: =H88-G88 -> 0 | M88: =L88-K88 -> 0 | N88: =B88+J88 -> 8600 | O88: =C88+K88 -> 12800 | P88: =D88+L88 -> 43348 | Q88: =P88-O88 -> 30548
A89: Finanszírozási bevételek összesen: | B89: =B77+B74 -> 691520 | C89: =C77+C74 -> 1515105 | D89: =D77+D74 -> 1545653 | E89: =D89-C89 -> 30548 | F89: =F77+F74 -> 0 | G89: =G77+G74 -> 20305 | H89: =H74+H77 -> 20305 | I89: =H89-G89 -> 0 | J89: =J77+J74 -> 0 | K89: =K77+K74 -> 30276 | L89: =L77+L74 -> 30276 | M89: =L89-K89 -> 0 | N89: =N77+N74 -> 691520 | O89: =O77+O74 -> 1565686 | P89: =P77+P74 -> 1596234 | Q89: =P89-O89 -> 30548
A90: Összes bevétel: | B90: =B72+B89 -> 4181306 | C90: =C72+C89 -> 7496532 | D90: =D89+D72 -> 7544942 | E90: =D90-C90 -> 48410 | F90: =F72+F89 -> 36176 | G90: =G72+G89 -> 62663 | H90: =H89+H72 -> 62688 | I90: =H90-G90 -> 25 | J90: =J72+J89 -> 190502 | K90: =K72+K89 -> 229575 | L90: =L72+L89 -> 231506 | M90: =L90-K90 -> 1931 | N90: =N72+N89 -> 4407984 | O90: =O72+O89 -> 7788770 | P90: =P72+P89 -> 7839136 | Q90: =P90-O90 -> 50366
A91: Intézményi létszámok: | B91: 52 | C91: 52 | D91: ='2.a tábla ÚJ '!AY62+'2.a tábla ÚJ '!AY60 -> 52 | E91: =D91-C91 -> 0 | F91: 73.33 | G91: 73.33 | H91: ='2.a tábla ÚJ '!AY59 -> 73.33 | I91: =H91-G91 -> 0 | J91: 89 | K91: 88 | L91: ='2.a tábla ÚJ '!AT59 -> 88 | M91: =L91-K91 -> 0 | N91: =B91+J91+F91 -> 214.33 | O91: =C91+K91+G91 -> 213.33 | P91: =D91+L91+H91 -> 213.33 | Q91: =P91-O91 -> 0
A92: ebből közfoglalkoztatott | B92: 50 | C92: 50 | D92: ='2.a tábla ÚJ '!AY62 -> 50 | E92: =D92-C92 -> 0 | I92: =H92-G92 -> 0 | J92: 10 | K92: 10 | L92: ='2.a tábla ÚJ '!AT58 -> 10 | M92: =L92-K92 -> 0 | N92: =B92+J92+F92 -> 60 | O92: =C92+K92+G92 -> 60 | P92: =D92+L92+H92 -> 60 | Q92: =P92-O92 -> 0

Sheet 2.a tábla ÚJ 
A6: INTÉZMÉNYI BEVÉTELEK
A10: MEGNEVEZÉS | B10: EÖTVÖS L. ÁLTALÁNOS ISKOLA | F10: RADNÓTI M. ÁLTALÁNOS ISKOLA | J10: FEKETE ISTVÁN ÁLTALÁNOS ISKOLA | N10: LÓCZY L. GIMNÁZIUM | R10: MEGNEVEZÉS | S10: FERENCSIK J. ZENEISKOLA | W10: INTÉZMÉNYELLÁTÓ SZ. KP | AA10: BALATONFÜREDI INTÉZMÉNYELLÁTÓ SZERVEZET ÖSSZESEN | AE10: VÁROSI KÖNYVTÁR | AI10: MEGNEVEZÉS | AJ10: VÁROSI RENDELŐINTÉZET | AN10: VÁROSI BÖLCSŐDE | AR10: KÖLTSÉGVETÉSI SZERVEK ÖSSZESEN | AW10: KÖZÖS ÖNKORMÁNYZATI HIVATAL
B11: 2016. évi eredeti ei. | C11: 2016. évi módosított ei. III. | D11: 2016. évi módosított ei. IV. | E11: Eltérés | F11: 2016. évi eredeti ei. | G11: 2016. évi módosított ei. III. | H11: 2016. évi módosított ei. IV. | I11: Eltérés | J11: 2016. évi eredeti ei. | K11: 2016. évi módosított ei. III. | L11: 2016. évi módosított ei. IV. | M11: Eltérés | N11: 2016. évi eredeti ei. | O11: 2016. évi módosított ei. III. | P11: 2016. évi módosított ei. IV. | Q11: Eltérés | S11: 2016. évi eredeti ei. | T11: 2016. évi módosított ei. III. | U11: 2016. évi módosított ei. IV. | V11: Eltérés | W11: 2016. évi eredeti ei. | X11: 2016. évi módosított ei. III. | Y11: 2016. évi módosított ei. IV. | Z11: Eltérés | AA11: 2016. évi eredeti ei. | AB11: 2016. évi módosított ei. III. | AC11: 2016. évi módosított ei. IV. | AD11: Eltérés | AE11: 2016. évi eredeti ei. | AF11: 2016. évi módosított ei. III. | AG11: 2016. évi módosított ei. IV. | AH11: Eltérés | AJ11: 2016. évi eredeti ei. | AK11: 2016. évi módosított ei. III. | AL11: 2016. évi módosított ei. IV. | AM11: Eltérés | AN11: 2016. évi eredeti ei. | AO11: 2016. évi módosított ei. III. | AP11: 2016. évi módosított ei. IV. | AQ11: Eltérés | AR11: 2016. évi eredeti ei. | AS11: 2016. évi módosított ei. III. | AT11: 2016. évi módosított ei. IV. | AU11: Eltérés | AW11: 2016. évi eredeti ei. | AX11: 2016. évi módosított ei. III. | AY11: 2016. évi módosított ei. IV. | AZ11: Eltérés
A12: I. Működési célú támogatások államházatartáson belülről | B12: =B13 -> 0 | C12: =C13 -> 101 | D12: =D13 -> 101 | E12: =D12-C12 -> 0 | F12: =F13 -> 0 | G12: =G13 -> 0 | H12: =H13 -> 0 | I12: =H12-G12 -> 0 | J12: =J13 -> 0 | K12: =K13 -> 0 | L12: =L13 -> 0 | M12: =L12-K12 -> 0 | N12: =N13 -> 0 | O12: =O13 -> 843 | P12: =P13 -> 843 | Q12: =P12-O12 -> 0 | R12: I. Működési célú támogatások államházatartáson belülről | S12: =S13 -> 0 | T12: =T13 -> 0 | U12: =U13 -> 0 | V12: =U12-T12 -> 0 | W12: =W13 -> 0 | X12: =X13 -> 0 | Y12: =Y13 -> 0 | Z12: =Y12-X12 -> 0 | AA12: =AA13 -> 0 | AB12: =AB13 -> 944 | AC12: =AC13 -> 944 | AD12: =AC12-AB12 -> 0 | AE12: =AE13 -> 800 | AF12: =AF13 -> 2313 | AG12: =AG13 -> 2313 | AH12: =AG12-AF12 -> 0 | AI12: I. Működési célú támogatások államházatartáson belülről | AJ12: =AJ13 -> 90000 | AK12: =AK13 -> 94693 | AL12: =AL13 -> 94693 | AM12: =AL12-AK12 -> 0 | AN12: =AN13 -> 0 | AO12: =AO13 -> 151 | AP12: =AP13 -> 151 | AQ12: =AP12-AO12 -> 0 | AR12: =AR13 -> 90800 | AS12: =AS13 -> 98101 | AT12: =AT13 -> 98101 | AU12: =AT12-AS12 -> 0 | AV12: =AV13+AV16 -> 0 | AW12: =AW13+AW16 -> 16525 | AX12: =AX13+AX16 -> 22707 | AY12: =AY13+AY16 -> 22732 | AZ12: =AY12-AX12 -> 25
A13: 6. Egyéb működési célú támogatások bevételei államháztartáson belülről | C13: 101 | D13: 101 | E13: =D13-C13 -> 0 | G13: 0 | H13: 0 | I13: =H13-G13 -> 0 | M13: =L13-K13 -> 0 | O13: 843 | P13: 843 | Q13: =P13-O13 -> 0 | R13: 6. Egyéb működési célú támogatások bevételei államháztartáson belülről | T13: 0 | U13: 0 | V13: =U13-T13 -> 0 | X13: 0 | Y13: 0 | Z13: =Y13-X13 -> 0 | AA13: =B13+F13+J13+N13+S13+W13 -> 0 | AB13: =C13+G13+K13+O13+T13+X13 -> 944 | AC13: =D13+H13+L13+P13+U13+Y13 -> 944 | AD13: =AC13-AB13 -> 0 | AE13: 800 | AF13: 2313 | AG13: 2313 | AH13: =AG13-AF13 -> 0 | AI13: 6. Egyéb működési célú támogatások bevételei államháztartáson belülről | AJ13: 90000 | AK13: 94693 | AL13: 94693 | AM13: =AL13-AK13 -> 0 | AO13: 151 | AP13: 151 | AQ13: =AP13-AO13 -> 0 | AR13: =+AA13+AE13+AJ13+AN13 -> 90800 | AS13: =+AB13+AF13+AK13+AO13 -> 98101 | AT13: =+AC13+AG13+AL13+AP13 -> 98101 | AU13: =AT13-AS13 -> 0 | AW13: 16525 | AX13: 22707 | AY13: 22732 | AZ13: =AY13-AX13 -> 25
A14: ebből működési célú támogatás társadalombiztosítási alapból | E14: =D14-C14 -> 0 | I14: =H14-G14 -> 0 | M14: =L14-K14 -> 0 | Q14: =P14-O14 -> 0 | R14: ebből működési célú támogatás társadalombiztosítási alapból | V14: =U14-T14 -> 0 | Z14: =Y14-X14 -> 0 | AA14: =B14+F14+J14+N14+S14+W14 -> 0 | AD14: =AC14-AB14 -> 0 | AH14: =AG14-AF14 -> 0 | AI14: ebből működési célú támogatás társadalombiztosítási alapból | AJ14: 90000 | AK14: 93801 | AL14: 93801 | AM14: =AL14-AK14 -> 0 | AQ14: =AP14-AO14 -> 0 | AR14: =+AA14+AE14+AJ14+AN14 -> 90000 | AS14: =+AB14+AF14+AK14+AO14 -> 93801 | AT14: =+AC14+AG14+AL14+AP14 -> 93801 | AU14: =AT14-AS14 -> 0 | AZ14: =AY14-AX14 -> 0
A15: II. Felhalmozási célú támogatások államháztartáson belülről | B15: =B16 -> 0 | C15: =C16 -> 0 | D15: =D16 -> 0 | E15: =D15-C15 -> 0 | F15: =F16 -> 0 | G15: =G16 -> 0 | H15: =H16 -> 0 | I15: =H15-G15 -> 0 | J15: =J16 -> 0 | K15: =K16 -> 0 | L15: =L16 -> 0 | M15: =L15-K15 -> 0 | N15: =N16 -> 0 | O15: =O16 -> 0 | P15: =P16 -> 0 | Q15: =P15-O15 -> 0 | R15: II. Felhalmozási célú támogatások államháztartáson belülről | S15: =S16 -> 0 | T15: =T16 -> 0 | U15: =U16 -> 0 | V15: =U15-T15 -> 0 | W15: =W16 -> 0 | X15: =X16 -> 0 | Z15: =Y15-X15 -> 0 | AA15: =AA16 -> 0 | AD15: =AC15-AB15 -> 0 | AE15: =AE16 -> 0 | AF15: =AF16 -> 0 | AH15: =AG15-AF15 -> 0 | AI15: II. Felhalmozási célú támogatások államháztartáson belülről | AJ15: =AJ16 -> 0 | AK15: =AK16 -> 246 | AL15: =AL16 -> 246 | AM15: =AL15-AK15 -> 0 | AN15: =AN16 -> 0 | AO15: =AO16 -> 0 | AQ15: =AP15-AO15 -> 0 | AR15: =+AA15+AE15+AJ15+AN15 -> 0 | AS15: =+AB15+AF15+AK15+AO15 -> 246 | AT15: =+AC15+AG15+AL15+AP15 -> 246 | AU15: =AT15-AS15 -> 0 | AV15: =AV16 -> 0 | AW15: =AW16 -> 0 | AX15: =AX16 -> 0 | AZ15: =AY15-AX15 -> 0
A16: 4. Egyéb felhalmozási célú támogatások államháztartáson belülről | E16: =D16-C16 -> 0 | I16: =H16-G16 -> 0 | M16: =L16-K16 -> 0 | Q16: =P16-O16 -> 0 | R16: 4. Egyéb felhalmozási célú támogatások államháztartáson belülről | V16: =U16-T16 -> 0 | Z16: =Y16-X16 -> 0 | AA16: =B16+F16+J16+N16+S16+W16 -> 0 | AD16: =AC16-AB16 -> 0 | AH16: =AG16-AF16 -> 0 | AI16: 4. Egyéb felhalmozási célú támogatások államháztartáson belülről | AK16: 246 | AL16: 246 | AM16: =AL16-AK16 -> 0 | AQ16: =AP16-AO16 -> 0 | AR16: =+AA16+AE16+AJ16+AN16 -> 0 | AS16: =+AB16+AF16+AK16+AO16 -> 246 | AT16: =+AC16+AG16+AL16+AP16 -> 246 | AU16: =AT16-AS16 -> 0 | AZ16: =AY16-AX16 -> 0
A17: II. Közhatalmi bevételek | E17: =D17-C17 -> 0 | I17: =H17-G17 -> 0 | M17: =L17-K17 -> 0 | Q17: =P17-O17 -> 0 | R17: II. Közhatalmi bevételek | V17: =U17-T17 -> 0 | Z17: =Y17-X17 -> 0 | AD17: =AC17-AB17 -> 0 | AH17: =AG17-AF17 -> 0 | AI17: II. Közhatalmi bevételek | AM17: =AL17-AK17 -> 0 | AQ17: =AP17-AO17 -> 0 | AR17: =+AA17+AE17+AJ17+AN17 -> 0 | AS17: =+AB17+AF17+AK17+AO17 -> 0 | AT17: =+AC17+AG17+AL17+AP17 -> 0 | AU17: =AT17-AS17 -> 0 | AV17: =AE17+AI17+AJ17+AN17+AR17 -> #VALUE! | AW17: =SUM(AW18:AW20) -> 500 | AX17: =SUM(AX18:AX20) -> 500 | AY17: =SUM(AY18:AY20) -> 500 | AZ17: =AY17-AX17 -> 0
A18: 1. Vagyoni típusú adók | E18: =D18-C18 -> 0 | I18: =H18-G18 -> 0 | M18: =L18-K18 -> 0 | Q18: =P18-O18 -> 0 | R18: 1. Vagyoni típusú adók | V18: =U18-T18 -> 0 | Z18: =Y18-X18 -> 0 | AD18: =AC18-AB18 -> 0 | AH18: =AG18-AF18 -> 0 | AI18: 1. Vagyoni típusú adók | AM18: =AL18-AK18 -> 0 | AQ18: =AP18-AO18 -> 0 | AR18: =+AA18+AE18+AJ18+AN18 -> 0 | AS18: =+AB18+AF18+AK18+AO18 -> 0 | AT18: =+AC18+AG18+AL18+AP18 -> 0 | AU18: =AT18-AS18 -> 0 | AV18: =#REF!+#REF!+#REF!+#REF!+#REF!+B18+F18+#REF!+S18+#REF!+AE18+#REF!+AJ18+AN18+AR18 -> #REF! | AZ18: =AY18-AX18 -> 0
A19: 2. Termékek és szolgáltatások adói | E19: =D19-C19 -> 0 | I19: =H19-G19 -> 0 | M19: =L19-K19 -> 0 | Q19: =P19-O19 -> 0 | R19: 2. Termékek és szolgáltatások adói | V19: =U19-T19 -> 0 | Z19: =Y19-X19 -> 0 | AD19: =AC19-AB19 -> 0 | AH19: =AG19-AF19 -> 0 | AI19: 2. Termékek és szolgáltatások adói | AM19: =AL19-AK19 -> 0 | AQ19: =AP19-AO19 -> 0 | AR19: =+AA19+AE19+AJ19+AN19 -> 0 | AS19: =+AB19+AF19+AK19+AO19 -> 0 | AT19: =+AC19+AG19+AL19+AP19 -> 0 | AU19: =AT19-AS19 -> 0 | AZ19: =AY19-AX19 -> 0
A20: 3. Egyéb közhatalmi bevételek (bírság, pótlék,) | E20: =D20-C20 -> 0 | I20: =H20-G20 -> 0 | M20: =L20-K20 -> 0 | Q20: =P20-O20 -> 0 | R20: 3. Egyéb közhatalmi bevételek (bírság, pótlék,) | V20: =U20-T20 -> 0 | Z20: =Y20-X20 -> 0 | AD20: =AC20-AB20 -> 0 | AH20: =AG20-AF20 -> 0 | AI20: 3. Egyéb közhatalmi bevételek (bírság, pótlék,) | AM20: =AL20-AK20 -> 0 | AQ20: =AP20-AO20 -> 0 | AR20: =+AA20+AE20+AJ20+AN20 -> 0 | AS20: =+AB20+AF20+AK20+AO20 -> 0 | AT20: =+AC20+AG20+AL20+AP20 -> 0 | AU20: =AT20-AS20 -> 0 | AW20: 500 | AX20: 500 | AY20: 500 | AZ20: =AY20-AX20 -> 0
A21: IV. Működési bevételek | B21: =B22+B23+B25+B26+B27+B28+B29+B30+B33 -> 24855 | C21: =C22+C23+C25+C26+C27+C28+C29+C30+C33 -> 25554 | D21: =D22+D23+D25+D26+D27+D28+D29+D30+D33 -> 25554 | E21: =D21-C21 -> 0 | F21: =F22+F23+F25+F26+F27+F28+F29+F30+F33 -> 23321 | G21: =G22+G23+G25+G26+G27+G28+G29+G30+G33 -> 23632 | H21: =H22+H23+H25+H26+H27+H28+H29+H30+H33 -> 24493 | I21: =H21-G21 -> 861 | J21: =J22+J23+J25+J26+J27+J28+J29+J30+J33 -> 1174 | K21: =K22+K23+K25+K26+K27+K28+K29+K30+K33 -> 1174 | L21: =L22+L23+L25+L26+L27+L28+L29+L30+L33 -> 1618 | M21: =L21-K21 -> 444 | N21: =N22+N23+N25+N26+N27+N28+N29+N30+N33 -> 12008 | O21: =O22+O23+O25+O26+O27+O28+O29+O30+O33 -> 12008 | P21: =P22+P23+P25+P26+P27+P28+P29+P30+P33 -> 12008 | Q21: =P21-O21 -> 0 | R21: 1V. Működési bevételek | S21: =S22+S23+S25+S26+S27+S28+S29+S30+S33 -> 1102 | T21: =T22+T23+T25+T26+T27+T28+T29+T30+T33 -> 1102 | U21: =U22+U23+U25+U26+U27+U28+U29+U30+U33 -> 1705 | V21: =U21-T21 -> 603 | W21: =W22+W23+W25+W26+W27+W28+W29+W30+W33 -> 0 | X21: =X22+X23+X25+X26+X27+X28+X29+X30+X33 -> 0 | Y21: =Y22+Y23+Y25+Y26+Y27+Y28+Y29+Y30+Y33 -> 23 | Z21: =Y21-X21 -> 23 | AA21: =AA22+AA23+AA25+AA26+AA27+AA28+AA29+AA30+AA33 -> 62460 | AB21: =AB22+AB23+AB25+AB26+AB27+AB28+AB29+AB30+AB33 -> 63470 | AC21: =AC22+AC23+AC25+AC26+AC27+AC28+AC29+AC30+AC33 -> 65401 | AD21: =AC21-AB21 -> 1931 | AE21: =AE22+AE23+AE25+AE26+AE27+AE28+AE29+AE30+AE33 -> 2790 | AF21: =AF22+AF23+AF25+AF26+AF27+AF28+AF29+AF30+AF33 -> 2790 | AG21: =AG22+AG23+AG25+AG26+AG27+AG28+AG29+AG30+AG33 -> 2790 | AH21: =AG21-AF21 -> 0 | AI21: IV. Működési bevételek | AJ21: =AJ22+AJ23+AJ25+AJ26+AJ27+AJ28+AJ29+AJ30+AJ33 -> 33260 | AK21: =AK22+AK23+AK25+AK26+AK27+AK28+AK29+AK30+AK33 -> 33260 | AL21: =AL22+AL23+AL25+AL26+AL27+AL28+AL29+AL30+AL33 -> 33260 | AM21: =AL21-AK21 -> 0 | AN21: =AN22+AN23+AN25+AN26+AN27+AN28+AN29+AN30+AN33 -> 1192 | AO21: =AO22+AO23+AO25+AO26+AO27+AO28+AO29+AO30+AO33 -> 1432 | AP21: =AP22+AP23+AP25+AP26+AP27+AP28+AP29+AP30+AP33 -> 1432 | AQ21: =AP21-AO21 -> 0 | AR21: =AR22+AR23+AR25+AR26+AR27+AR28+AR29+AR30+AR33 -> 99702 | AS21: =AS22+AS23+AS25+AS26+AS27+AS28+AS29+AS30+AS33 -> 100952 | AT21: =AT22+AT23+AT25+AT26+AT27+AT28+AT29+AT30+AT33 -> 102883 | AU21: =AT21-AS21 -> 1931 | AV21: =AV22+AV23+AV25+AV26+AV27+AV28+AV29+AV30+AV33 -> #VALUE! | AW21: =AW22+AW23+AW25+AW26+AW27+AW28+AW29+AW30+AW33 -> 19151 | AX21: =AX22+AX23+AX25+AX26+AX27+AX28+AX29+AX30+AX33 -> 19151 | AY21: =AY22+AY23+AY25+AY26+AY27+AY28+AY29+AY30+AY33 -> 19151 | AZ21: =AY21-AX21 -> 0 | BA21: =AR23+AR25+AR27+AR286+AR28+AR33+AR29 -> 99702 | BB21: =#REF!+#REF!+#REF!+#REF!+#REF!+#REF!+#REF! -> #REF!
A22: 1. Készletértékesítés bevétele | E22: =D22-C22 -> 0 | I22: =H22-G22 -> 0 | M22: =L22-K22 -> 0 | Q22: =P22-O22 -> 0 | R22: 1. Készletértékesítés bevétele | V22: =U22-T22 -> 0 | Z22: =Y22-X22 -> 0 | AA22: =B22+F22+J22+N22+S22+W22 -> 0 | AD22: =AC22-AB22 -> 0 | AH22: =AG22-AF22 -> 0 | AI22: 1. Áru- és készletértékesítés bevétele | AM22: =AL22-AK22 -> 0 | AQ22: =AP22-AO22 -> 0 | AR22: =+AA22+AE22+AJ22+AN22 -> 0 | AS22: =+AB22+AF22+AK22+AO22 -> 0 | AT22: =+AC22+AG22+AL22+AP22 -> 0 | AU22: =AT22-AS22 -> 0 | AV22: =AE22+AI22+AJ22+AN22+AR22 -> #VALUE! | AZ22: =AY22-AX22 -> 0
A23: 2. Szolgáltatások ellenértéke | B23: 701 | C23: 701 | D23: 701 | E23: =D23-C23 -> 0 | F23: 385 | G23: 385 | H23: 1063 | I23: =H23-G23 -> 678 | M23: =L23-K23 -> 0 | N23: 4390 | O23: 4390 | P23: 4390 | Q23: =P23-O23 -> 0 | R23: 2. Szolgáltatások ellenértéke | S23: 820 | T23: 820 | U23: 1258 | V23: =U23-T23 -> 438 | Z23: =Y23-X23 -> 0 | AA23: =B23+F23+J23+N23+S23+W23 -> 6296 | AB23: =C23+G23+K23+O23+T23+X23 -> 6296 | AC23: =D23+H23+L23+P23+U23+Y23 -> 7412 | AD23: =AC23-AB23 -> 1116 | AE23: 2319 | AF23: 2319 | AG23: 2319 | AH23: =AG23-AF23 -> 0 | AI23: 2. Nyújtott szolgáltatások ellenértéke | AJ23: 33260 | AK23: 33260 | AL23: 33260 | AM23: =AL23-AK23 -> 0 | AQ23: =AP23-AO23 -> 0 | AR23: =+AA23+AE23+AJ23+AN23 -> 41875 | AS23: =+AB23+AF23+AK23+AO23 -> 41875 | AT23: =+AC23+AG23+AL23+AP23 -> 42991 | AU23: =AT23-AS23 -> 1116 | AV23: =AE23+AI23+AJ23+AN23+AR23 -> #VALUE! | AW23: 13700 | AX23: 13700 | AY23: 13700 | AZ23: =AY23-AX23 -> 0
A24: Ebből: bérleti díj | B24: 701 | C24: 701 | D24: 701 | E24: =D24-C24 -> 0 | F24: 385 | G24: 385 | H24: 1246 | I24: =H24-G24 -> 861 | M24: =L24-K24 -> 0 | N24: 4390 | O24: 4390 | P24: 4390 | Q24: =P24-O24 -> 0 | R24: Ebből: bérleti díj | S24: 382 | T24: 382 | U24: 820 | V24: =U24-T24 -> 438 | Z24: =Y24-X24 -> 0 | AA24: =B24+F24+J24+N24+S24+W24 -> 5858 | AB24: =C24+G24+K24+O24+T24+X24 -> 5858 | AC24: =D24+H24+L24+P24+U24+Y24 -> 7157 | AD24: =AC24-AB24 -> 1299 | AE24: 50 | AF24: 50 | AG24: 50 | AH24: =AG24-AF24 -> 0 | AI24: Ebből: bérleti díj | AJ24: 6200 | AK24: 6200 | AL24: 6200 | AM24: =AL24-AK24 -> 0 | AQ24: =AP24-AO24 -> 0 | AR24: =+AA24+AE24+AJ24+AN24 -> 12108 | AS24: =+AB24+AF24+AK24+AO24 -> 12108 | AT24: =+AC24+AG24+AL24+AP24 -> 13407 | AU24: =AT24-AS24 -> 1299 | AV24: =AE24+AI24+AJ24+AN24+AR24 -> #VALUE! | AW24: 8500 | AX24: 8500 | AY24: 8500 | AZ24: =AY24-AX24 -> 0
A25: 3. Közvetített szolgáltatások ellenértéke | B25: 355 | C25: 355 | D25: 355 | E25: =D25-C25 -> 0 | F25: 765 | G25: 765 | H25: 765 | I25: =H25-G25 -> 0 | J25: 170 | K25: 170 | L25: 207 | M25: =L25-K25 -> 37 | N25: 427 | O25: 427 | P25: 427 | Q25: =P25-O25 -> 0 | R25: 3. Közvetített szolgáltatások ellenértéke | S25: 48 | T25: 48 | U25: 50 | V25: =U25-T25 -> 2 | Z25: =Y25-X25 -> 0 | AA25: =B25+F25+J25+N25+S25+W25 -> 1765 | AB25: =C25+G25+K25+O25+T25+X25 -> 1765 | AC25: =D25+H25+L25+P25+U25+Y25 -> 1804 | AD25: =AC25-AB25 -> 39 | AH25: =AG25-AF25 -> 0 | AI25: 3. Közvetített szolgáltatások ellenértéke | AM25: =AL25-AK25 -> 0 | AQ25: =AP25-AO25 -> 0 | AR25: =+AA25+AE25+AJ25+AN25 -> 1765 | AS25: =+AB25+AF25+AK25+AO25 -> 1765 | AT25: =+AC25+AG25+AL25+AP25 -> 1804 | AU25: =AT25-AS25 -> 39 | AV25: =AE25+AI25+AJ25+AN25+AR25 -> #VALUE! | AW25: 1372 | AX25: 1372 | AY25: 1372 | AZ25: =AY25-AX25 -> 0
A26: 4. Tulajdonosi bevételek | E26: =D26-C26 -> 0 | I26: =H26-G26 -> 0 | M26: =L26-K26 -> 0 | Q26: =P26-O26 -> 0 | R26: 4. Tulajdonosi bevételek | V26: =U26-T26 -> 0 | Z26: =Y26-X26 -> 0 | AA26: =B26+F26+J26+N26+S26+W26 -> 0 | AB26: =C26+G26+K26+O26+T26+X26 -> 0 | AC26: =D26+H26+L26+P26+U26+Y26 -> 0 | AD26: =AC26-AB26 -> 0 | AH26: =AG26-AF26 -> 0 | AI26: 4. Tulajdonosi bevételek | AM26: =AL26-AK26 -> 0 | AQ26: =AP26-AO26 -> 0 | AR26: =+AA26+AE26+AJ26+AN26 -> 0 | AS26: =+AB26+AF26+AK26+AO26 -> 0 | AT26: =+AC26+AG26+AL26+AP26 -> 0 | AU26: =AT26-AS26 -> 0 | AV26: =AE26+AI26+AJ26+AN26+AR26 -> #VALUE! | AZ26: =AY26-AX26 -> 0
A27: 5. Ellátási díjak | B27: 15089 | C27: 15788 | D27: 15788 | E27: =D27-C27 -> 0 | F27: 14524 | G27: 14835 | H27: 14835 | I27: =H27-G27 -> 0 | J27: 518 | K27: 518 | L27: 858 | M27: =L27-K27 -> 340 | N27: 4009 | O27: 4009 | P27: 4009 | Q27: =P27-O27 -> 0 | R27: 5. Ellátási díjak | U27: 34 | V27: =U27-T27 -> 34 | Z27: =Y27-X27 -> 0 | AA27: =B27+F27+J27+N27+S27+W27 -> 34140 | AB27: =C27+G27+K27+O27+T27+X27 -> 35150 | AC27: =D27+H27+L27+P27+U27+Y27 -> 35524 | AD27: =AC27-AB27 -> 374 | AH27: =AG27-AF27 -> 0 | AI27: 5. Ellátási díjak | AM27: =AL27-AK27 -> 0 | AN27: 1192 | AO27: 1432 | AP27: 1432 | AQ27: =AP27-AO27 -> 0 | AR27: =+AA27+AE27+AJ27+AN27 -> 35332 | AS27: =+AB27+AF27+AK27+AO27 -> 36582 | AT27: =+AC27+AG27+AL27+AP27 -> 36956 | AU27: =AT27-AS27 -> 374 | AV27: =AE27+AI27+AJ27+AN27+AR27 -> #VALUE! | AZ27: =AY27-AX27 -> 0
A28: 6. Kiszámlázott Áfa | B28: 4359 | C28: 4359 | D28: 4359 | E28: =D28-C28 -> 0 | F28: 4232 | G28: 4232 | H28: 4415 | I28: =H28-G28 -> 183 | J28: 186 | K28: 186 | L28: 289 | M28: =L28-K28 -> 103 | N28: 2383 | O28: 2383 | P28: 2383 | Q28: =P28-O28 -> 0 | R28: 6. Kiszámlázott Áfa | S28: 234 | T28: 234 | U28: 363 | V28: =U28-T28 -> 129 | Z28: =Y28-X28 -> 0 | AA28: =B28+F28+J28+N28+S28+W28 -> 11394 | AB28: =C28+G28+K28+O28+T28+X28 -> 11394 | AC28: =D28+H28+L28+P28+U28+Y28 -> 11809 | AD28: =AC28-AB28 -> 415 | AE28: 451 | AF28: 451 | AG28: 451 | AH28: =AG28-AF28 -> 0 | AI28: 6. Kiszámlázott Áfa | AM28: =AL28-AK28 -> 0 | AQ28: =AP28-AO28 -> 0 | AR28: =+AA28+AE28+AJ28+AN28 -> 11845 | AS28: =+AB28+AF28+AK28+AO28 -> 11845 | AT28: =+AC28+AG28+AL28+AP28 -> 12260 | AU28: =AT28-AS28 -> 415 | AV28: =AE28+AI28+AJ28+AN28+AR28 -> #VALUE! | AW28: 4069 | AX28: 4069 | AY28: 4069 | AZ28: =AY28-AX28 -> 0
A29: 7. Áfa visszatérítés | B29: 4351 | C29: 4351 | D29: 4351 | E29: =D29-C29 -> 0 | F29: 3415 | G29: 3415 | H29: 3415 | I29: =H29-G29 -> 0 | J29: 300 | K29: 300 | L29: 264 | M29: =L29-K29 -> -36 | N29: 799 | O29: 799 | P29: 799 | Q29: =P29-O29 -> 0 | R29: 7. Áfa visszatérítés | V29: =U29-T29 -> 0 | Z29: =Y29-X29 -> 0 | AA29: =B29+F29+J29+N29+S29+W29 -> 8865 | AB29: =C29+G29+K29+O29+T29+X29 -> 8865 | AC29: =D29+H29+L29+P29+U29+Y29 -> 8829 | AD29: =AC29-AB29 -> -36 | AH29: =AG29-AF29 -> 0 | AI29: 7. Áfa visszatérítés | AM29: =AL29-AK29 -> 0 | AQ29: =AP29-AO29 -> 0 | AR29: 8865 | AS29: =+AB29+AF29+AK29+AO29 -> 8865 | AT29: =+AC29+AG29+AL29+AP29 -> 8829 | AU29: =AT29-AS29 -> -36 | AV29: =AE29+AI29+AJ29+AN29+AR29 -> #VALUE! | AZ29: =AY29-AX29 -> 0
A30: 8. Kamatbevétel | E30: =D30-C30 -> 0 | I30: =H30-G30 -> 0 | M30: =L30-K30 -> 0 | Q30: =P30-O30 -> 0 | R30: 8. Kamatbevétel | V30: =U30-T30 -> 0 | Y30: 13 | Z30: =Y30-X30 -> 13 | AA30: =B30+F30+J30+N30+S30+W30 -> 0 | AB30: =C30+G30+K30+O30+T30+X30 -> 0 | AC30: =D30+H30+L30+P30+U30+Y30 -> 13 | AD30: =AC30-AB30 -> 13 | AH30: =AG30-AF30 -> 0 | AI30: 8. Kamatbevétel | AM30: =AL30-AK30 -> 0 | AQ30: =AP30-AO30 -> 0 | AR30: =+AA30+AE30+AJ30+AN30 -> 0 | AS30: =+AB30+AF30+AK30+AO30 -> 0 | AT30: =+AC30+AG30+AL30+AP30 -> 13 | AU30: =AT30-AS30 -> 13 | AV30: =AE30+AI30+AJ30+AN30+AR30 -> #VALUE! | AW30: 10 | AX30: 10 | AY30: 10 | AZ30: =AY30-AX30 -> 0
A31: 9. Egyéb pénzügyi műveletek bevételei | E31: =D31-C31 -> 0 | I31: =H31-G31 -> 0 | M31: =L31-K31 -> 0 | Q31: =P31-O31 -> 0 | R31: 9. Egyéb pénzügyi műveletek bevételei | V31: =U31-T31 -> 0 | Z31: =Y31-X31 -> 0 | AD31: =AC31-AB31 -> 0 | AH31: =AG31-AF31 -> 0 | AM31: =AL31-AK31 -> 0 | AQ31: =AP31-AO31 -> 0 | AU31: =AT31-AS31 -> 0 | AZ31: =AY31-AX31 -> 0
A32: 10. Biztosító által fizetett kártérítés | E32: =D32-C32 -> 0 | I32: =H32-G32 -> 0 | M32: =L32-K32 -> 0 | Q32: =P32-O32 -> 0 | R32: 10. Biztosító által fizetett kártérítés | V32: =U32-T32 -> 0 | Z32: =Y32-X32 -> 0 | AD32: =AC32-AB32 -> 0 | AH32: =AG32-AF32 -> 0 | AM32: =AL32-AK32 -> 0 | AQ32: =AP32-AO32 -> 0 | AU32: =AT32-AS32 -> 0 | AZ32: =AY32-AX32 -> 0
A33: 11. Egyéb működési bevételek | E33: =D33-C33 -> 0 | I33: =H33-G33 -> 0 | M33: =L33-K33 -> 0 | Q33: =P33-O33 -> 0 | R33: 11. Egyéb működési bevételek | V33: =U33-T33 -> 0 | Y33: 10 | Z33: =Y33-X33 -> 10 | AA33: =B33+F33+J33+N33+S33+W33 -> 0 | AB33: =C33+G33+K33+O33+T33+X33 -> 0 | AC33: =D33+H33+L33+P33+U33+Y33 -> 10 | AD33: =AC33-AB33 -> 10 | AE33: 20 | AF33: 20 | AG33: 20 | AH33: =AG33-AF33 -> 0 | AI33: 9. Egyéb működési bevételek (alkalmazottak térítése, kötbér, stb.) | AM33: =AL33-AK33 -> 0 | AQ33: =AP33-AO33 -> 0 | AR33: =+AA33+AE33+AJ33+AN33 -> 20 | AS33: =+AB33+AF33+AK33+AO33 -> 20 | AT33: =+AC33+AG33+AL33+AP33 -> 30 | AU33: =AT33-AS33 -> 10 | AV33: =AE33+AI33+AJ33+AN33+AR33 -> #VALUE! | AZ33: =AY33-AX33 -> 0
A34: V. Felhalmozási bevételek | B34: =SUM(B35:B39) -> 0 | C34: =SUM(C35:C39) -> 0 | D34: =SUM(D35:D39) -> 0 | E34: =D34-C34 -> 0 | F34: =SUM(F35:F39) -> 0 | G34: =SUM(G35:G39) -> 0 | H34: =SUM(H35:H39) -> 0 | I34: =H34-G34 -> 0 | J34: =SUM(J35:J39) -> 0 | K34: =SUM(K35:K39) -> 0 | L34: =SUM(L35:L39) -> 0 | M34: =L34-K34 -> 0 | N34: =SUM(N35:N39) -> 0 | O34: =SUM(O35:O39) -> 0 | P34: =SUM(P35:P39) -> 0 | Q34: =P34-O34 -> 0 | R34: V. Felhalmozási bevételek | S34: =SUM(S35:S39) -> 0 | T34: =SUM(T35:T39) -> 0 | U34: =SUM(U35:U39) -> 0 | V34: =U34-T34 -> 0 | W34: =SUM(W35:W39) -> 0 | X34: =SUM(X35:X39) -> 0 | Z34: =Y34-X34 -> 0 | AA34: =SUM(AA35:AA39) -> 0 | AB34: =SUM(AB35:AB39) -> 0 | AC34: =SUM(AC35:AC39) -> 0 | AD34: =AC34-AB34 -> 0 | AE34: =SUM(AE35:AE39) -> 0 | AF34: =SUM(AF35:AF39) -> 0 | AG34: =SUM(AG35:AG39) -> 0 | AH34: =AG34-AF34 -> 0 | AI34: V. Felhalmozási bevételek | AJ34: =SUM(AJ35:AJ39) -> 0 | AK34: =SUM(AK35:AK39) -> 0 | AL34: =SUM(AL35:AL39) -> 0 | AM34: =AL34-AK34 -> 0 | AN34: =SUM(AN35:AN39) -> 0 | AO34: =SUM(AO35:AO39) -> 0 | AP34: =SUM(AP35:AP39) -> 0 | AQ34: =AP34-AO34 -> 0 | AR34: =SUM(AR35:AR39) -> 0 | AS34: =SUM(AS35:AS39) -> 0 | AT34: =SUM(AT35:AT39) -> 0 | AU34: =AT34-AS34 -> 0 | AV34: =AE34+AI34+AJ34+AN34+AR34 -> #VALUE! | AW34: =SUM(AW35:AW39) -> 0 | AX34: =SUM(AX35:AX39) -> 0 | AZ34: =AY34-AX34 -> 0
A35: 1. Immateriális javak értékesítése | E35: =D35-C35 -> 0 | I35: =H35-G35 -> 0 | M35: =L35-K35 -> 0 | Q35: =P35-O35 -> 0 | R35: 1. Immateriális javak értékesítése | V35: =U35-T35 -> 0 | Z35: =Y35-X35 -> 0 | AA35: =B35+F35+J35+N35+S35+W35 -> 0 | AB35: =C35+G35+K35+O35+T35+X35 -> 0 | AC35: =D35+H35+L35+P35+U35+Y35 -> 0 | AD35: =AC35-AB35 -> 0 | AH35: =AG35-AF35 -> 0 | AI35: 1. Immateriális javak értékesítése | AM35: =AL35-AK35 -> 0 | AQ35: =AP35-AO35 -> 0 | AR35: =+AA35+AE35+AJ35+AN35 -> 0 | AS35: =+AB35+AF35+AK35+AO35 -> 0 | AT35: =+AC35+AG35+AL35+AP35 -> 0 | AU35: =AT35-AS35 -> 0 | AZ35: =AY35-AX35 -> 0
A36: 2. Ingatlanok értékesítése | E36: =D36-C36 -> 0 | I36: =H36-G36 -> 0 | M36: =L36-K36 -> 0 | Q36: =P36-O36 -> 0 | R36: 2. Ingatlanok értékesítése | V36: =U36-T36 -> 0 | Z36: =Y36-X36 -> 0 | AA36: =B36+F36+J36+N36+S36+W36 -> 0 | AB36: =C36+G36+K36+O36+T36+X36 -> 0 | AC36: =D36+H36+L36+P36+U36+Y36 -> 0 | AD36: =AC36-AB36 -> 0 | AH36: =AG36-AF36 -> 0 | AI36: 2. Ingatlanok értékesítése | AM36: =AL36-AK36 -> 0 | AQ36: =AP36-AO36 -> 0 | AR36: =+AA36+AE36+AJ36+AN36 -> 0 | AS36: =+AB36+AF36+AK36+AO36 -> 0 | AT36: =+AC36+AG36+AL36+AP36 -> 0 | AU36: =AT36-AS36 -> 0 | AZ36: =AY36-AX36 -> 0
A37: 3. Egyéb tárgyi eszközök értékesítése | E37: =D37-C37 -> 0 | I37: =H37-G37 -> 0 | M37: =L37-K37 -> 0 | Q37: =P37-O37 -> 0 | R37: 3. Egyéb tárgyi eszközök értékesítése | V37: =U37-T37 -> 0 | Z37: =Y37-X37 -> 0 | AA37: =B37+F37+J37+N37+S37+W37 -> 0 | AB37: =C37+G37+K37+O37+T37+X37 -> 0 | AC37: =D37+H37+L37+P37+U37+Y37 -> 0 | AD37: =AC37-AB37 -> 0 | AH37: =AG37-AF37 -> 0 | AI37: 3. Egyéb tárgyi eszközök értékesítése | AM37: =AL37-AK37 -> 0 | AQ37: =AP37-AO37 -> 0 | AR37: =+AA37+AE37+AJ37+AN37 -> 0 | AS37: =+AB37+AF37+AK37+AO37 -> 0 | AT37: =+AC37+AG37+AL37+AP37 -> 0 | AU37: =AT37-AS37 -> 0 | AZ37: =AY37-AX37 -> 0
A38: 4. Részesedések értékesítése | E38: =D38-C38 -> 0 | I38: =H38-G38 -> 0 | M38: =L38-K38 -> 0 | Q38: =P38-O38 -> 0 | R38: 4. Részesedések értékesítése | V38: =U38-T38 -> 0 | Z38: =Y38-X38 -> 0 | AA38: =B38+F38+J38+N38+S38+W38 -> 0 | AB38: =C38+G38+K38+O38+T38+X38 -> 0 | AC38: =D38+H38+L38+P38+U38+Y38 -> 0 | AD38: =AC38-AB38 -> 0 | AH38: =AG38-AF38 -> 0 | AI38: 4. Részesedések értékesítése | AM38: =AL38-AK38 -> 0 | AQ38: =AP38-AO38 -> 0 | AR38: =+AA38+AE38+AJ38+AN38 -> 0 | AS38: =+AB38+AF38+AK38+AO38 -> 0 | AT38: =+AC38+AG38+AL38+AP38 -> 0 | AU38: =AT38-AS38 -> 0 | AZ38: =AY38-AX38 -> 0
A39: 5. Részesedések megszűnéséhez kapcsolódó bevételek | E39: =D39-C39 -> 0 | I39: =H39-G39 -> 0 | M39: =L39-K39 -> 0 | Q39: =P39-O39 -> 0 | R39: 5. Részesedések megszűnéséhez kapcsolódó bevételek | V39: =U39-T39 -> 0 | Z39: =Y39-X39 -> 0 | AA39: =B39+F39+J39+N39+S39+W39 -> 0 | AB39: =C39+G39+K39+O39+T39+X39 -> 0 | AC39: =D39+H39+L39+P39+U39+Y39 -> 0 | AD39: =AC39-AB39 -> 0 | AH39: =AG39-AF39 -> 0 | AI39: 5. Részesedések megszűnéséhez kapcsolódó bevételek | AM39: =AL39-AK39 -> 0 | AQ39: =AP39-AO39 -> 0 | AR39: =+AA39+AE39+AJ39+AN39 -> 0 | AS39: =+AB39+AF39+AK39+AO39 -> 0 | AT39: =+AC39+AG39+AL39+AP39 -> 0 | AU39: =AT39-AS39 -> 0 | AZ39: =AY39-AX39 -> 0
A40: VI. Működési célú átvett pénzeszközök | B40: =SUM(B41) -> 0 | C40: =SUM(C41) -> 0 | D40: =SUM(D41) -> 0 | E40: =D40-C40 -> 0 | F40: =SUM(F41) -> 0 | G40: =SUM(G41) -> 0 | H40: =SUM(H41) -> 0 | I40: =H40-G40 -> 0 | J40: =SUM(J41) -> 0 | K40: =SUM(K41) -> 0 | L40: =SUM(L41) -> 0 | M40: =L40-K40 -> 0 | N40: =SUM(N41) -> 0 | O40: =SUM(O41) -> 0 | P40: =SUM(P41) -> 0 | Q40: =P40-O40 -> 0 | R40: VI. Működési célú átvett pénzeszközök | S40: =SUM(S41) -> 0 | T40: =SUM(T41) -> 0 | U40: =SUM(U41) -> 0 | V40: =U40-T40 -> 0 | W40: =SUM(W41) -> 0 | X40: =SUM(X41) -> 0 | Z40: =Y40-X40 -> 0 | AA40: =SUM(AA41) -> 0 | AB40: =SUM(AB41) -> 0 | AC40: =SUM(AC41) -> 0 | AD40: =AC40-AB40 -> 0 | AE40: =SUM(AE41) -> 0 | AF40: =SUM(AF41) -> 0 | AH40: =AG40-AF40 -> 0 | AI40: VI. Működési célú átvett pénzeszközök | AJ40: =SUM(AJ41) -> 0 | AK40: =SUM(AK41) -> 0 | AL40: =SUM(AL41) -> 0 | AM40: =AL40-AK40 -> 0 | AN40: =SUM(AN41) -> 0 | AO40: =SUM(AO41) -> 0 | AP40: =SUM(AP41) -> 0 | AQ40: =AP40-AO40 -> 0 | AR40: =SUM(AR41) -> 0 | AS40: =SUM(AS41) -> 0 | AT40: =SUM(AT41) -> 0 | AU40: =AT40-AS40 -> 0 | AV40: =AE40+AI40+AJ40+AN40+AR40 -> #VALUE! | AW40: =SUM(AW41) -> 0 | AX40: =SUM(AX41) -> 0 | AY40: =SUM(AY41) -> 0 | AZ40: =AY40-AX40 -> 0
A41: 3. Egyéb működési célú átvett pénzeszközök | E41: =D41-C41 -> 0 | I41: =H41-G41 -> 0 | M41: =L41-K41 -> 0 | Q41: =P41-O41 -> 0 | R41: 3. Egyéb működési célú átvett pénzeszközök | V41: =U41-T41 -> 0 | Z41: =Y41-X41 -> 0 | AA41: =B41+F41+J41+N41+S41+W41 -> 0 | AB41: =C41+G41+K41+O41+T41+X41 -> 0 | AC41: =D41+H41+L41+P41+U41+Y41 -> 0 | AD41: =AC41-AB41 -> 0 | AH41: =AG41-AF41 -> 0 | AI41: 3. Egyéb működési célú átvett pénzeszközök | AM41: =AL41-AK41 -> 0 | AQ41: =AP41-AO41 -> 0 | AR41: =+AA41+AE41+AJ41+AN41 -> 0 | AS41: =+AB41+AF41+AK41+AO41 -> 0 | AT41: =+AC41+AG41+AL41+AP41 -> 0 | AU41: =AT41-AS41 -> 0 | AZ41: =AY41-AX41 -> 0
A42: VII. Felhalmozási célú átvett pénzeszközök | B42: =SUM(B43) -> 0 | C42: =SUM(C43) -> 0 | D42: =SUM(D43) -> 0 | E42: =D42-C42 -> 0 | F42: =SUM(F43) -> 0 | G42: =SUM(G43) -> 0 | H42: =SUM(H43) -> 0 | I42: =H42-G42 -> 0 | J42: =SUM(J43) -> 0 | K42: =SUM(K43) -> 0 | L42: =SUM(L43) -> 0 | M42: =L42-K42 -> 0 | N42: =SUM(N43) -> 0 | O42: =SUM(O43) -> 0 | P42: =SUM(P43) -> 0 | Q42: =P42-O42 -> 0 | R42: VII. Felhalmozási célú átvett pénzeszközök | S42: =SUM(S43) -> 0 | T42: =SUM(T43) -> 0 | U42: =SUM(U43) -> 0 | V42: =U42-T42 -> 0 | W42: =SUM(W43) -> 0 | X42: =SUM(X43) -> 0 | Z42: =Y42-X42 -> 0 | AA42: =SUM(AA43) -> 0 | AB42: =SUM(AB43) -> 0 | AC42: =SUM(AC43) -> 0 | AD42: =AC42-AB42 -> 0 | AE42: =SUM(AE43) -> 0 | AF42: =SUM(AF43) -> 0 | AH42: =AG42-AF42 -> 0 | AI42: VII. Felhalmozási célú átvett pénzeszközök | AJ42: =SUM(AJ43) -> 0 | AK42: =SUM(AK43) -> 0 | AL42: =SUM(AL43) -> 0 | AM42: =SUM(AM43) -> 0 | AN42: =SUM(AN43) -> 0 | AO42: =SUM(AO43) -> 0 | AP42: =SUM(AP43) -> 0 | AQ42: =AP42-AO42 -> 0 | AR42: =+AA42+AE42+AJ42+AN42 -> 0 | AS42: =+AB42+AF42+AK42+AO42 -> 0 | AT42: =+AC42+AG42+AL42+AP42 -> 0 | AU42: =AT42-AS42 -> 0 | AV42: =AE42+AI42+AJ42+AN42+AR42 -> #VALUE! | AW42: =SUM(AW43) -> 0 | AX42: =SUM(AX43) -> 0 | AY42: =SUM(AY43) -> 0 | AZ42: =AY42-AX42 -> 0
A43: 3. Egyéb felhalmozási célú átvett pénzeszközök | E43: =D43-C43 -> 0 | I43: =H43-G43 -> 0 | M43: =L43-K43 -> 0 | Q43: =P43-O43 -> 0 | R43: 3. Egyéb felhalmozási célú átvett pénzeszközök | V43: =U43-T43 -> 0 | Z43: =Y43-X43 -> 0 | AA43: =B43+F43+J43+N43+S43+W43 -> 0 | AB43: =C43+G43+K43+O43+T43+X43 -> 0 | AC43: =D43+H43+L43+P43+U43+Y43 -> 0 | AD43: =AC43-AB43 -> 0 | AH43: =AG43-AF43 -> 0 | AI43: 3. Egyéb felhalmozási célú átvett pénzeszközök | AM43: =AL43-AK43 -> 0 | AQ43: =AP43-AO43 -> 0 | AR43: =+AA43+AE43+AJ43+AN43 -> 0 | AS43: =+AB43+AF43+AK43+AO43 -> 0 | AT43: =+AC43+AG43+AL43+AP43 -> 0 | AU43: =AT43-AS43 -> 0 | AZ43: =AY43-AX43 -> 0
A44: Költségvetési bevételek összesen: | B44: =B42+B40+B34+B21+B17+B15+B12 -> 24855 | C44: =C42+C40+C34+C21+C17+C15+C12 -> 25655 | D44: =D42+D40+D34+D21+D17+D15+D12 -> 25655 | E44: =D44-C44 -> 0 | F44: =F42+F40+F34+F21+F17+F15+F12 -> 23321 | G44: =G42+G40+G34+G21+G17+G15+G12 -> 23632 | H44: =H42+H40+H34+H21+H17+H15+H12 -> 24493 | I44: =H44-G44 -> 861 | J44: =J42+J40+J34+J21+J17+J15+J12 -> 1174 | K44: =K42+K40+K34+K21+K17+K15+K12 -> 1174 | L44: =L42+L40+L34+L21+L17+L15+L12 -> 1618 | M44: =L44-K44 -> 444 | N44: =N42+N40+N34+N21+N17+N15+N12 -> 12008 | O44: =O42+O40+O34+O21+O17+O15+O12 -> 12851 | P44: =P42+P40+P34+P21+P17+P15+P12 -> 12851 | Q44: =P44-O44 -> 0 | R44: Költségvetési bevételek összesen: | S44: =S42+S40+S34+S21+S17+S15+S12 -> 1102 | T44: =T42+T40+T34+T21+T17+T15+T12 -> 1102 | U44: =U42+U40+U34+U21+U17+U15+U12 -> 1705 | V44: =U44-T44 -> 603 | W44: =W42+W40+W34+W21+W17+W15+W12 -> 0 | X44: =X42+X40+X34+X21+X17+X15+X12 -> 0 | Y44: =Y42+Y40+Y34+Y21+Y17+Y15+Y12 -> 23 | Z44: =Y44-X44 -> 23 | AA44: =AA42+AA40+AA34+AA21+AA17+AA15+AA12 -> 62460 | AB44: =AB42+AB40+AB34+AB21+AB17+AB15+AB12 -> 64414 | AC44: =AC42+AC40+AC34+AC21+AC17+AC15+AC12 -> 66345 | AD44: =AC44-AB44 -> 1931 | AE44: =AE42+AE40+AE34+AE21+AE17+AE15+AE12 -> 3590 | AF44: =AF42+AF40+AF34+AF21+AF17+AF15+AF12 -> 5103 | AG44: =AG42+AG40+AG34+AG21+AG17+AG15+AG12 -> 5103 | AH44: =AG44-AF44 -> 0 | AI44: Költségvetési bevételek összesen: | AJ44: =AJ42+AJ40+AJ34+AJ21+AJ17+AJ15+AJ12 -> 123260 | AK44: =AK42+AK40+AK34+AK21+AK17+AK15+AK12 -> 128199 | AL44: =AL42+AL40+AL34+AL21+AL17+AL15+AL12 -> 128199 | AM44: =AL44-AK44 -> 0 | AN44: =AN42+AN40+AN34+AN21+AN17+AN15+AN12 -> 1192 | AO44: =AO42+AO40+AO34+AO21+AO17+AO15+AO12 -> 1583 | AP44: =AP42+AP40+AP34+AP21+AP17+AP15+AP12 -> 1583 | AQ44: =AP44-AO44 -> 0 | AR44: =AR42+AR40+AR34+AR21+AR17+AR15+AR12 -> 190502 | AS44: =AS42+AS40+AS34+AS21+AS17+AS15+AS12 -> 199299 | AT44: =AT42+AT40+AT34+AT21+AT17+AT15+AT12 -> 201230 | AU44: =AT44-AS44 -> 1931 | AV44: =AV42+AV40+AV34+AV21+AV17+AV15+AV12 -> #VALUE! | AW44: =AW42+AW40+AW34+AW21+AW17+AW15+AW12 -> 36176 | AX44: =AX42+AX40+AX34+AX21+AX17+AX15+AX12 -> 42358 | AY44: =AY42+AY40+AY34+AY21+AY17+AY15+AY12 -> 42383 | AZ44: =AY44-AX44 -> 25 | BA44: =AR42+AR40+AR21+AR17+AR15+AR12 -> 190502 | BB44: =#REF!+#REF!+#REF!+#REF!+#REF!+#REF! -> #REF!
A45: VIII. Finanszírozási bevételek | B45: =B46+B49+B50 -> 46974 | C45: =C46+C49+C50 -> 47429 | D45: =D46+D49+D50 -> 47429 | E45: =D45-C45 -> 0 | F45: =F46+F49+F50 -> 40143 | G45: =G46+G49+G50 -> 43355 | H45: =H46+H49+H50 -> 43355 | I45: =H45-G45 -> 0 | J45: =J46+J49+J50 -> 4813 | K45: =K46+K49+K50 -> 5139 | L45: =L46+L49+L50 -> 5139 | M45: =L45-K45 -> 0 | N45: =N46+N49+N50 -> 37706 | O45: =O46+O49+O50 -> 40928 | P45: =P46+P49+P50 -> 40928 | Q45: =P45-O45 -> 0 | R45: VIII. Finanszírozási bevételek | S45: =S46+S49+S50 -> 6565 | T45: =T46+T49+T50 -> 7125 | U45: =U46+U49+U50 -> 7125 | V45: =U45-T45 -> 0 | W45: =W46+W49+W50 -> 15482 | X45: =X46+X49+X50 -> 9476 | Y45: =Y46+Y49+Y50 -> 9476 | Z45: =Y45-X45 -> 0 | AA45: =AA46+AA49+AA50 -> 151683 | AB45: =AB46+AB49+AB50 -> 153452 | AC45: =AC46+AC49+AC50 -> 153452 | AD45: =AC45-AB45 -> 0 | AE45: =AE46+AE49+AE50 -> 42780 | AF45: =AF46+AF49+AF50 -> 46555 | AG45: =AG46+AG49+AG50 -> 46555 | AH45: =AG45-AF45 -> 0 | AI45: VIII. Finanszírozási bevételek | AJ45: =AJ46+AJ49+AJ50 -> 24860 | AK45: =AK46+AK49+AK50 -> 30278 | AL45: =AL46+AL49+AL50 -> 30278 | AM45: =AL45-AK45 -> 0 | AN45: =AN46+AN49+AN50 -> 51644 | AO45: =AO46+AO49+AO50 -> 54353 | AP45: =AP46+AP49+AP50 -> 54353 | AQ45: =AP45-AO45 -> 0 | AR45: =AR46+AR49+AR50 -> 270967 | AS45: =AS46+AS49+AS50 -> 284638 | AT45: =AT46+AT49+AT50 -> 284638 | AU45: =AT45-AS45 -> 0 | AV45: =AV46+AV49+AV50 -> 0 | AW45: =AW46+AW49+AW50 -> 330379 | AX45: =AX46+AX49+AX50 -> 330855 | AY45: =AY46+AY49+AY50 -> 330855 | AZ45: =AY45-AX45 -> 0
A46: 1. Költségvetési hiány belső finanszírozására szolgáló bevételek | B46: =SUM(B47:B48) -> 0 | C46: =SUM(C47:C48) -> 5051 | D46: =SUM(D47:D48) -> 5051 | E46: =D46-C46 -> 0 | F46: =SUM(F47:F48) -> 0 | G46: =SUM(G47:G48) -> 4378 | H46: =SUM(H47:H48) -> 4378 | I46: =H46-G46 -> 0 | J46: =SUM(J47:J48) -> 0 | K46: =SUM(K47:K48) -> 850 | L46: =SUM(L47:L48) -> 850 | M46: =L46-K46 -> 0 | N46: =SUM(N47:N48) -> 0 | O46: =SUM(O47:O48) -> 2407 | P46: =SUM(P47:P48) -> 2407 | Q46: =P46-O46 -> 0 | R46: 1. Költségvetési hiány belső finanszírozására szolgáló bevételek | S46: =SUM(S47:S48) -> 0 | T46: =SUM(T47:T48) -> 1233 | U46: =SUM(U47:U48) -> 1233 | V46: =U46-T46 -> 0 | W46: =SUM(W47:W48) -> 0 | X46: =SUM(X47:X48) -> 86 | Y46: =SUM(Y47:Y48) -> 86 | Z46: =Y46-X46 -> 0 | AA46: =SUM(AA47:AA48) -> 0 | AB46: =SUM(AB47:AB48) -> 14005 | AC46: =SUM(AC47:AC48) -> 14005 | AD46: =AC46-AB46 -> 0 | AE46: =SUM(AE47:AE48) -> 0 | AF46: =SUM(AF47:AF48) -> 4166 | AG46: =SUM(AG47:AG48) -> 4166 | AH46: =AG46-AF46 -> 0 | AI46: 1. Költségvetési hiány belső finanszírozására szolgáló bevételek | AJ46: =SUM(AJ47:AJ48) -> 0 | AK46: =SUM(AK47:AK48) -> 9380 | AL46: =SUM(AL47:AL48) -> 9380 | AM46: =AL46-AK46 -> 0 | AN46: =SUM(AN47:AN48) -> 0 | AO46: =SUM(AO47:AO48) -> 2725 | AP46: =SUM(AP47:AP48) -> 2725 | AQ46: =AP46-AO46 -> 0 | AR46: =SUM(AR47:AR48) -> 0 | AS46: =SUM(AS47:AS48) -> 30276 | AT46: =SUM(AT47:AT48) -> 30276 | AU46: =AT46-AS46 -> 0 | AW46: =SUM(AW47:AW48) -> 0 | AX46: =SUM(AX47:AX48) -> 20305 | AY46: =SUM(AY47:AY48) -> 20305 | AZ46: =AY46-AX46 -> 0
A47: 1.1. Előző év költségvetési maradványának igénybevétele működési célra | C47: 5051 | D47: 5051 | E47: =D47-C47 -> 0 | G47: 4378 | H47: 4378 | I47: =H47-G47 -> 0 | K47: 850 | L47: 850 | M47: =L47-K47 -> 0 | O47: 2407 | P47: 2407 | Q47: =P47-O47 -> 0 | R47: 1.1. Előző év költségvetési maradványának igénybevétele működési célra | T47: 1233 | U47: 1233 | V47: =U47-T47 -> 0 | X47: 86 | Y47: 86 | Z47: =Y47-X47 -> 0 | AA47: =B47+F47+J47+N47+S47+W47 -> 0 | AB47: =C47+G47+K47+O47+T47+X47 -> 14005 | AC47: =D47+H47+L47+P47+U47+Y47 -> 14005 | AD47: =AC47-AB47 -> 0 | AF47: 3635 | AG47: 3635 | AH47: =AG47-AF47 -> 0 | AI47: 1.1. Előző év költségvetési maradványának igénybevétele működési célra | AK47: 9106 | AL47: 9106 | AM47: =AL47-AK47 -> 0 | AO47: 2525 | AP47: 2525 | AQ47: =AP47-AO47 -> 0 | AR47: =+AA47+AE47+AJ47+AN47 -> 0 | AS47: =+AB47+AF47+AK47+AO47 -> 29271 | AT47: =+AC47+AG47+AL47+AP47 -> 29271 | AU47: =AT47-AS47 -> 0 | AX47: 20279 | AY47: 20279 | AZ47: =AY47-AX47 -> 0
A48: 1.2. Előző év költségvetési maradványának igénybevétele felhalmozási célra | E48: =D48-C48 -> 0 | I48: =H48-G48 -> 0 | M48: =L48-K48 -> 0 | Q48: =P48-O48 -> 0 | R48: 1.2. Előző év költségvetési maradványának igénybevétele felhalmozási célra | V48: =U48-T48 -> 0 | Z48: =Y48-X48 -> 0 | AA48: =B48+F48+J48+N48+S48+W48 -> 0 | AB48: =C48+G48+K48+O48+T48+X48 -> 0 | AC48: =D48+H48+L48+P48+U48+Y48 -> 0 | AD48: =AC48-AB48 -> 0 | AF48: 531 | AG48: 531 | AH48: =AG48-AF48 -> 0 | AI48: 1.2. Előző év költségvetési maradványának igénybevétele felhalmozási célra | AK48: 274 | AL48: 274 | AM48: =AL48-AK48 -> 0 | AO48: 200 | AP48: 200 | AQ48: =AP48-AO48 -> 0 | AR48: =+AA48+AE48+AJ48+AN48 -> 0 | AS48: =+AB48+AF48+AK48+AO48 -> 1005 | AT48: =+AC48+AG48+AL48+AP48 -> 1005 | AU48: =AT48-AS48 -> 0 | AX48: 26 | AY48: 26 | AZ48: =AY48-AX48 -> 0
A49: 2. Költségvetési hiány külső finanszírozására szolgáló finanszírozási bevételek | E49: =D49-C49 -> 0 | I49: =H49-G49 -> 0 | M49: =L49-K49 -> 0 | Q49: =P49-O49 -> 0 | R49: 2. Költségvetési hiány külső finanszírozására szolgáló finanszírozási bevételek | V49: =U49-T49 -> 0 | Z49: =Y49-X49 -> 0 | AA49: =B49+F49+J49+N49+S49+W49 -> 0 | AB49: =C49+G49+K49+O49+T49+X49 -> 0 | AC49: =D49+H49+L49+P49+U49+Y49 -> 0 | AD49: =AC49-AB49 -> 0 | AH49: =AG49-AF49 -> 0 | AI49: 2. Költségvetési hiány külső finanszírozására szolgáló finanszírozási bevételek | AM49: =AL49-AK49 -> 0 | AQ49: =AP49-AO49 -> 0 | AR49: =+AA49+AE49+AJ49+AN49 -> 0 | AS49: =+AB49+AF49+AK49+AO49 -> 0 | AU49: =AT49-AS49 -> 0 | AZ49: =AY49-AX49 -> 0
A50: 3. Irányító szervi támogatások | B50: =SUM(B51:B52) -> 46974 | C50: =SUM(C51:C52) -> 42378 | D50: =SUM(D51:D52) -> 42378 | E50: =D50-C50 -> 0 | F50: =SUM(F51:F52) -> 40143 | G50: =SUM(G51:G52) -> 38977 | H50: =SUM(H51:H52) -> 38977 | I50: =H50-G50 -> 0 | J50: =SUM(J51:J52) -> 4813 | K50: =SUM(K51:K52) -> 4289 | L50: =SUM(L51:L52) -> 4289 | M50: =L50-K50 -> 0 | N50: =SUM(N51:N52) -> 37706 | O50: =SUM(O51:O52) -> 38521 | P50: =SUM(P51:P52) -> 38521 | Q50: =P50-O50 -> 0 | R50: 3. Irányító szervi támogatások | S50: =SUM(S51:S52) -> 6565 | T50: =SUM(T51:T52) -> 5892 | U50: =SUM(U51:U52) -> 5892 | V50: =U50-T50 -> 0 | W50: =SUM(W51:W52) -> 15482 | X50: =SUM(X51:X52) -> 9390 | Y50: =SUM(Y51:Y52) -> 9390 | Z50: =Y50-X50 -> 0 | AA50: =SUM(AA51:AA52) -> 151683 | AB50: =SUM(AB51:AB52) -> 139447 | AC50: =SUM(AC51:AC52) -> 139447 | AD50: =AC50-AB50 -> 0 | AE50: =SUM(AE51:AE52) -> 42780 | AF50: =SUM(AF51:AF52) -> 42389 | AG50: =SUM(AG51:AG52) -> 42389 | AH50: =AG50-AF50 -> 0 | AI50: 3. Irányító szervi támogatások | AJ50: =SUM(AJ51:AJ52) -> 24860 | AK50: =SUM(AK51:AK52) -> 20898 | AL50: =SUM(AL51:AL52) -> 20898 | AM50: =AL50-AK50 -> 0 | AN50: =SUM(AN51:AN52) -> 51644 | AO50: =SUM(AO51:AO52) -> 51628 | AP50: =SUM(AP51:AP52) -> 51628 | AQ50: =AP50-AO50 -> 0 | AR50: =SUM(AR51:AR52) -> 270967 | AS50: =SUM(AS51:AS52) -> 254362 | AT50: =SUM(AT51:AT52) -> 254362 | AU50: =AT50-AS50 -> 0 | AV50: =SUM(AV51:AV52) -> 0 | AW50: =SUM(AW51:AW52) -> 330379 | AX50: =SUM(AX51:AX52) -> 310550 | AY50: =SUM(AY51:AY52) -> 310550 | AZ50: =AY50-AX50 -> 0 | BA50: =#REF!+#REF! -> #REF!
A51: 1. Irányító szervtől kapott működési célú támogatás | B51: 45974 | C51: 41362 | D51: 41362 | E51: =D51-C51 -> 0 | F51: 39216 | G51: 38179 | H51: 38179 | I51: =H51-G51 -> 0 | J51: 4669 | K51: 4145 | L51: 4145 | M51: =L51-K51 -> 0 | N51: 36779 | O51: 37594 | P51: 37594 | Q51: =P51-O51 -> 0 | R51: 1. Irányító szervtől kapott működési célú támogatás | S51: 6265 | T51: 5592 | U51: 5592 | V51: =U51-T51 -> 0 | W51: 15332 | X51: 9256 | Y51: 9256 | Z51: =Y51-X51 -> 0 | AA51: =B51+F51+J51+N51+S51+W51 -> 148235 | AB51: =C51+G51+K51+O51+T51+X51 -> 136128 | AC51: =D51+H51+L51+P51+U51+Y51 -> 136128 | AD51: =AC51-AB51 -> 0 | AE51: 39809 | AF51: 38753 | AG51: 38753 | AH51: =AG51-AF51 -> 0 | AI51: 1. Irányító szervtől kapott működési célú támogatás | AJ51: 24460 | AK51: 20498 | AL51: 20498 | AM51: =AL51-AK51 -> 0 | AN51: 51444 | AO51: 51428 | AP51: 51428 | AQ51: =AP51-AO51 -> 0 | AR51: =+AA51+AE51+AJ51+AN51 -> 263948 | AS51: =+AB51+AF51+AK51+AO51 -> 246807 | AT51: =+AC51+AG51+AL51+AP51 -> 246807 | AU51: =AT51-AS51 -> 0 | AW51: 327679 | AX51: 307694 | AY51: 307694 | AZ51: =AY51-AX51 -> 0
A52: 2. Irányító szervtől kapott felhalmozási célú támogatás | B52: =800+200 -> 1000 | C52: 1016 | D52: 1016 | E52: =D52-C52 -> 0 | F52: =800+127 -> 927 | G52: 798 | H52: 798 | I52: =H52-G52 -> 0 | J52: =100+44 -> 144 | K52: 144 | L52: 144 | M52: =L52-K52 -> 0 | N52: =800+127 -> 927 | O52: 927 | P52: 927 | Q52: =P52-O52 -> 0 | R52: 2. Irányító szervtől kapott felhalmozási célú támogatás | S52: 300 | T52: 300 | U52: 300 | V52: =U52-T52 -> 0 | W52: 150 | X52: 134 | Y52: 134 | Z52: =Y52-X52 -> 0 | AA52: =B52+F52+J52+N52+S52+W52 -> 3448 | AB52: =C52+G52+K52+O52+T52+X52 -> 3319 | AC52: =D52+H52+L52+P52+U52+Y52 -> 3319 | AD52: =AC52-AB52 -> 0 | AE52: =300+2671 -> 2971 | AF52: 3636 | AG52: 3636 | AH52: =AG52-AF52 -> 0 | AI52: 2. Irányító szervtől kapott felhalmozási célú támogatás | AJ52: 400 | AK52: 400 | AL52: 400 | AM52: =AL52-AK52 -> 0 | AN52: 200 | AO52: 200 | AP52: 200 | AQ52: =AP52-AO52 -> 0 | AR52: =+AA52+AE52+AJ52+AN52 -> 7019 | AS52: =+AB52+AF52+AK52+AO52 -> 7555 | AT52: =+AC52+AG52+AL52+AP52 -> 7555 | AU52: =AT52-AS52 -> 0 | AW52: =2000+700 -> 2700 | AX52: 2856 | AY52: 2856 | AZ52: =AY52-AX52 -> 0
A53: Összes bevétel: | B53: =B45+B44 -> 71829 | C53: =C45+C44 -> 73084 | D53: =D45+D44 -> 73084 | E53: =D53-C53 -> 0 | F53: =F45+F44 -> 63464 | G53: =G45+G44 -> 66987 | H53: =H45+H44 -> 67848 | I53: =H53-G53 -> 861 | J53: =J45+J44 -> 5987 | K53: =K45+K44 -> 6313 | L53: =L45+L44 -> 6757 | M53: =L53-K53 -> 444 | N53: =N45+N44 -> 49714 | O53: =O45+O44 -> 53779 | P53: =P45+P44 -> 53779 | Q53: =P53-O53 -> 0 | R53: Összes bevétel: | S53: =S45+S44 -> 7667 | T53: =T45+T44 -> 8227 | U53: =U45+U44 -> 8830 | V53: =U53-T53 -> 603 | W53: =W45+W44 -> 15482 | X53: =X45+X44 -> 9476 | Y53: =Y45+Y44 -> 9499 | Z53: =Y53-X53 -> 23 | AA53: =AA45+AA44 -> 214143 | AB53: =AB45+AB44 -> 217866 | AC53: =AC45+AC44 -> 219797 | AD53: =AC53-AB53 -> 1931 | AE53: =AE45+AE44 -> 46370 | AF53: =AF45+AF44 -> 51658 | AG53: =AG45+AG44 -> 51658 | AH53: =AG53-AF53 -> 0 | AI53: Összes bevétel: | AJ53: =AJ45+AJ44 -> 148120 | AK53: =AK45+AK44 -> 158477 | AL53: =AL45+AL44 -> 158477 | AM53: =AL53-AK53 -> 0 | AN53: =AN45+AN44 -> 52836 | AO53: =AO45+AO44 -> 55936 | AP53: =AP45+AP44 -> 55936 | AQ53: =AP53-AO53 -> 0 | AR53: =AR45+AR44 -> 461469 | AS53: =AS45+AS44 -> 483937 | AT53: =AT45+AT44 -> 485868 | AU53: =AT53-AS53 -> 1931 | AV53: =AV45+AV44 -> #VALUE! | AW53: =AW45+AW44 -> 366555 | AX53: =AX45+AX44 -> 373213 | AY53: =AY45+AY44 -> 373238 | AZ53: =AY53-AX53 -> 25 | BA53: =AR50+AR46+AR42+AR40+AR34+AR21+AR15+AR12 -> 461469
A54: Létszámadatok intézményenként | E54: =D54-C54 -> 0 | I54: =H54-G54 -> 0 | M54: =L54-K54 -> 0 | Q54: =P54-O54 -> 0 | R54: Létszámadatok intézményenként | V54: =U54-T54 -> 0 | Z54: =Y54-X54 -> 0 | AD54: =AC54-AB54 -> 0 | AH54: =AG54-AF54 -> 0 | AI54: Létszámadatok intézményenként | AM54: =AL54-AK54 -> 0 | AQ54: =AP54-AO54 -> 0 | AR54: =+AA54+AE54+AJ54+AN54 -> 0 | AS54: =+AB54+AF54+AK54+AO54 -> 0 | AU54: =AT54-AS54 -> 0 | AZ54: =AY54-AX54 -> 0
A55: technikai állomány (fő) | B55: 7 | C55: 7 | D55: 7 | E55: =D55-C55 -> 0 | F55: 7 | G55: 8 | H55: 8 | I55: =H55-G55 -> 0 | J55: 0.5 | K55: 0.5 | L55: 0.5 | M55: =L55-K55 -> 0 | N55: 4.5 | O55: 4.5 | P55: 4.5 | Q55: =P55-O55 -> 0 | R55: technikai állomány (fő) | S55: 1 | T55: 1 | U55: 1 | V55: =U55-T55 -> 0 | W55: 1 | X55: 0 | Y55: 0 | Z55: =Y55-X55 -> 0 | AA55: =B55+F55+J55+N55+S55+W55 -> 21 | AB55: =C55+G55+K55+O55+T55+X55 -> 21 | AC55: =D55+H55+L55+P55+U55+Y55 -> 21 | AD55: =AC55-AB55 -> 0 | AE55: 1.5 | AF55: 1.5 | AG55: 1.5 | AH55: =AG55-AF55 -> 0 | AI55: technikai állomány (fő) | AJ55: 12 | AK55: 12 | AL55: 12 | AM55: =AL55-AK55 -> 0 | AN55: 5 | AO55: 5 | AP55: 5 | AQ55: =AP55-AO55 -> 0 | AR55: =+AA55+AE55+AJ55+AN55 -> 39.5 | AS55: =+AB55+AF55+AK55+AO55 -> 39.5 | AT55: =+AC55+AG55+AL55+AP55 -> 39.5 | AU55: =AT55-AS55 -> 0 | AV55: =#REF!+#REF!+#REF!+A55+#REF!+AE55+AI55+AJ55+AN55+AR55 -> #REF! | AW55: 5 | AX55: 5 | AY55: 5 | AZ55: =AY55-AX55 -> 0
A56: szakmai állomány (fő) | E56: =D56-C56 -> 0 | I56: =H56-G56 -> 0 | M56: =L56-K56 -> 0 | Q56: =P56-O56 -> 0 | R56: szakmai állomány (fő) | V56: =U56-T56 -> 0 | W56: 2 | X56: 1 | Y56: 1 | Z56: =Y56-X56 -> 0 | AA56: =B56+F56+J56+N56+S56+W56 -> 2 | AB56: =C56+G56+K56+O56+T56+X56 -> 1 | AC56: =D56+H56+L56+P56+U56+Y56 -> 1 | AD56: =AC56-AB56 -> 0 | AE56: 9.5 | AF56: 9.5 | AG56: 9.5 | AH56: =AG56-AF56 -> 0 | AI56: szakmai állomány (fő) | AJ56: 18 | AK56: 18 | AL56: 18 | AM56: =AL56-AK56 -> 0 | AN56: 9 | AO56: 9 | AP56: 9 | AQ56: =AP56-AO56 -> 0 | AR56: =+AA56+AE56+AJ56+AN56 -> 38.5 | AS56: =+AB56+AF56+AK56+AO56 -> 37.5 | AT56: =+AC56+AG56+AL56+AP56 -> 37.5 | AU56: =AT56-AS56 -> 0 | AV56: =#REF!+#REF!+#REF!+A56+#REF!+AE56+AI56+AJ56+AN56+AR56 -> #REF! | AW56: 66 | AX56: 66 | AY56: 66 | AZ56: =AY56-AX56 -> 0
A57: határozott idejű (fő | E57: =D57-C57 -> 0 | I57: =H57-G57 -> 0 | M57: =L57-K57 -> 0 | Q57: =P57-O57 -> 0 | R57: határozott idejű (fő | V57: =U57-T57 -> 0 | Z57: =Y57-X57 -> 0 | AA57: =B57+F57+J57+N57+S57+W57 -> 0 | AB57: =C57+G57+K57+O57+T57+X57 -> 0 | AC57: =D57+H57+L57+P57+U57+Y57 -> 0 | AD57: =AC57-AB57 -> 0 | AH57: =AG57-AF57 -> 0 | AI57: határozott idejű (fő | AJ57: 1 | AK57: 1 | AL57: 1 | AM57: =AL57-AK57 -> 0 | AQ57: =AP57-AO57 -> 0 | AR57: =+AA57+AE57+AJ57+AN57 -> 1 | AS57: =+AB57+AF57+AK57+AO57 -> 1 | AT57: =+AC57+AG57+AL57+AP57 -> 1 | AU57: =AT57-AS57 -> 0 | AV57: =#REF!+#REF!+#REF!+A57+#REF!+AE57+AI57+AJ57+AN57+AR57 -> #REF! | AW57: 2.33 | AX57: 2.33 | AY57: 2.33 | AZ57: =AY57-AX57 -> 0
A58: közfoglalkoztatott (fő) | B58: 2 | C58: 2 | D58: 2 | E58: =D58-C58 -> 0 | F58: 1 | G58: 1 | H58: 1 | I58: =H58-G58 -> 0 | M58: =L58-K58 -> 0 | N58: 2 | O58: 2 | P58: 2 | Q58: =P58-O58 -> 0 | R58: közfoglalkoztatott (fő) | S58: 1 | T58: 1 | U58: 1 | V58: =U58-T58 -> 0 | Z58: =Y58-X58 -> 0 | AA58: =B58+F58+J58+N58+S58+W58 -> 6 | AB58: =C58+G58+K58+O58+T58+X58 -> 6 | AC58: =D58+H58+L58+P58+U58+Y58 -> 6 | AD58: =AC58-AB58 -> 0 | AE58: 1 | AF58: 1 | AG58: 1 | AH58: =AG58-AF58 -> 0 | AI58: közfoglalkoztatott (fő) | AJ58: 2 | AK58: 2 | AL58: 2 | AM58: =AL58-AK58 -> 0 | AN58: 1 | AO58: 1 | AP58: 1 | AQ58: =AP58-AO58 -> 0 | AR58: =+AA58+AE58+AJ58+AN58 -> 10 | AS58: =+AB58+AF58+AK58+AO58 -> 10 | AT58: =+AC58+AG58+AL58+AP58 -> 10 | AU58: =AT58-AS58 -> 0 | AV58: =#REF!+#REF!+#REF!+A58+#REF!+AE58+AI58+AJ58+AN58+AR58 -> #REF! | AZ58: =AY58-AX58 -> 0
A59: Összesen (fő): | B59: =SUM(B55:B58) -> 9 | C59: =SUM(C55:C58) -> 9 | D59: =SUM(D55:D58) -> 9 | E59: =D59-C59 -> 0 | F59: =SUM(F55:F58) -> 8 | G59: =SUM(G55:G58) -> 9 | H59: =SUM(H55:H58) -> 9 | I59: =H59-G59 -> 0 | J59: =SUM(J55:J58) -> 0.5 | K59: =SUM(K55:K58) -> 0.5 | L59: 0.5 | M59: =L59-K59 -> 0 | N59: =SUM(N55:N58) -> 6.5 | O59: =SUM(O55:O58) -> 6.5 | P59: 6.5 | Q59: =P59-O59 -> 0 | R59: Összesen (fő): | S59: =SUM(S55:S58) -> 2 | T59: =SUM(T55:T58) -> 2 | U59: =SUM(U55:U58) -> 2 | V59: =U59-T59 -> 0 | W59: =SUM(W55:W58) -> 3 | X59: =SUM(X55:X58) -> 1 | Y59: =SUM(Y55:Y58) -> 1 | Z59: =Y59-X59 -> 0 | AA59: =SUM(AA55:AA58) -> 29 | AB59: =SUM(AB55:AB58) -> 28 | AC59: =SUM(AC55:AC58) -> 28 | AD59: =AC59-AB59 -> 0 | AE59: =SUM(AE55:AE58) -> 12 | AF59: =SUM(AF55:AF58) -> 12 | AG59: 12 | AH59: =AG59-AF59 -> 0 | AI59: Összesen (fő): | AJ59: =SUM(AJ55:AJ58) -> 33 | AK59: =SUM(AK55:AK58) -> 33 | AL59: =SUM(AL55:AL58) -> 33 | AM59: =AL59-AK59 -> 0 | AN59: =SUM(AN55:AN58) -> 15 | AO59: =SUM(AO55:AO58) -> 15 | AP59: =SUM(AP55:AP58) -> 15 | AQ59: =AP59-AO59 -> 0 | AR59: =+AA59+AE59+AJ59+AN59 -> 89 | AS59: =+AB59+AF59+AK59+AO59 -> 88 | AT59: =+AC59+AG59+AL59+AP59 -> 88 | AU59: =AT59-AS59 -> 0 | AV59: =#REF!+#REF!+#REF!+A59+#REF!+AE59+AI59+AJ59+AN59+AR59 -> #REF! | AW59: =SUM(AW55:AW58) -> 73.33 | AX59: =SUM(AX55:AX58) -> 73.33 | AY59: =SUM(AY55:AY58) -> 73.33 | AZ59: =AY59-AX59 -> 0
A60: Önkormányzat | E60: =D60-C60 -> 0 | I60: =H60-G60 -> 0 | M60: =L60-K60 -> 0 | Q60: =P60-O60 -> 0 | R60: Önkormányzat engedélyezett létszám | V60: =U60-T60 -> 0 | Z60: =Y60-X60 -> 0 | AD60: =AC60-AB60 -> 0 | AH60: =AG60-AF60 -> 0 | AI60: Önkormányzat engedélyezett létszám | AM60: =AL60-AK60 -> 0 | AQ60: =AP60-AO60 -> 0 | AR60: =+AA60+AE60+AJ60+AN60 -> 0 | AS60: =+AB60+AF60+AK60+AO60 -> 0 | AT60: =+AC60+AG60+AL60+AP60 -> 0 | AU60: =AT60-AS60 -> 0 | AV60: =#REF!+#REF!+#REF!+A60+#REF!+AE60+AI60+AJ60+AN60+AR60 -> #REF! | AW60: 2 | AX60: 2 | AY60: 2 | AZ60: =AY60-AX60 -> 0
A61: ebből: TÁMOP pályázatok | E61: =D61-C61 -> 0 | I61: =H61-G61 -> 0 | M61: =L61-K61 -> 0 | Q61: =P61-O61 -> 0 | R61: ebből: TÁMOP pályázatok | V61: =U61-T61 -> 0 | Z61: =Y61-X61 -> 0 | AD61: =AC61-AB61 -> 0 | AH61: =AG61-AF61 -> 0 | AI61: ebből: TÁMOP pályázatok | AM61: =AL61-AK61 -> 0 | AQ61: =AP61-AO61 -> 0 | AR61: =+AA61+AE61+AJ61+AN61 -> 0 | AS61: =+AB61+AF61+AK61+AO61 -> 0 | AU61: =AT61-AS61 -> 0 | AW61: 0 | AZ61: =AY61-AX61 -> 0
A62: Önkormányzat közfoglalkoztatott (fő) | E62: =D62-C62 -> 0 | I62: =H62-G62 -> 0 | M62: =L62-K62 -> 0 | Q62: =P62-O62 -> 0 | R62: Önkormányzat közfoglalkoztatott (fő) | V62: =U62-T62 -> 0 | Z62: =Y62-X62 -> 0 | AD62: =AC62-AB62 -> 0 | AH62: =AG62-AF62 -> 0 | AI62: Önkormányzat közfoglalkoztatott (fő) | AM62: =AL62-AK62 -> 0 | AQ62: =AP62-AO62 -> 0 | AR62: =+AA62+AE62+AJ62+AN62 -> 0 | AS62: =+AB62+AF62+AK62+AO62 -> 0 | AU62: =AT62-AS62 -> 0 | AV62: =#REF!+#REF!+#REF!+A62+#REF!+AE62+AI62+AJ62+AN62+AR62 -> #REF! | AW62: 50 | AX62: 50 | AY62: 50 | AZ62: =AY62-AX62 -> 0
AW63: =AR59+AW59+AW60+AW62 -> 214.33 | AX63: =AS59+AX59+AX60+AX62 -> 213.33 | AZ63: =AU59+AZ59+AZ60+AZ62 -> 0
AW64: =AR58+AW58+AW62 -> 60 | AX64: =AS58+AX58+AX62 -> 60 | AZ64: =AU58+AZ58+AZ62 -> 0
AW65: =AR55+AR56+AR57 -> 79 | AX65: =AS55+AS56+AS57 -> 78 | AZ65: =AU55+AU56+AU57 -> 0
AW66: =AW55+AW56 -> 71 | AX66: =AX55+AX56 -> 71 | AZ66: =AZ55+AZ56 -> 0
AW67: =AW56+AW57 -> 68.33 | AX67: =AX56+AX57 -> 68.33 | AZ67: =AZ56+AZ57 -> 0
AW68: =AW62+AW58+AR58 -> 60 | AX68: =AX62+AX58+AS58 -> 60 | AZ68: =AZ62+AZ58+AU58 -> 0
AW69: =SUM(AW67:AW68) -> 128.33 | AX69: =SUM(AX67:AX68) -> 128.33 | AZ69: =SUM(AZ67:AZ68) -> 0

Sheet 2b. tábla (2)
A3: MEGNEVEZÉS | B3: LÉTSZÁM | C3: MUTATÓ | D3: FAJLAGOS | E3: ELŐIRÁNYZAT | F3: I. MODOSÍTÁS | G3: MÓDOSÍTOTT EI. I. | H3: II. MODOSÍTÁS | I3: MÓDOSÍTOTT EI. II. | J3: III. MODOSÍTÁS | K3: MÓDOSÍTOTT EI. III. | L3: IV. MODOSÍTÁS | M3: MÓDOSÍTOTT EI. IV.
A5: I. HELYI ÖNKORMÁNYZATOK MŰKÖDÉSÉNEK ÁLT.TÁMOGATÁSA | E5: =E6+E28 -> 577840145 | G5: =G6+G28 -> 577840145 | H5: =H6+H28 -> 0 | I5: =I6+I28 -> 577840145 | K5: =I5+J5 -> 577840145 | M5: =K5+L5 -> 577840145
A6: 1. Települési önkormányzatok működésének támogatása | E6: =E7+E10+E20+E21+E23+E24+E26+E27 -> 576757851 | G6: =G7+G10+G20+G21+G23+G24+G26+G27 -> 576757851 | H6: =H7+H10+H20+H21+H23+H24+H26+H27 -> 0 | I6: =I7+I10+I20+I21+I23+I24+I26+I27 -> 576757851 | K6: =I6+J6 -> 576757851 | M6: =K6+L6 -> 576757851
A7: Önkormányzati hivatal működtetésének támogatás (beszámítás után) | E7: =E8 -> 180268800 | G7: =G8 -> 180268800 | H7: =H8 -> 0 | I7: =I8 -> 180268800 | K7: =I7+J7 -> 180268800 | M7: =K7+L7 -> 180268800
A8: Önkormányzati hivatal működtetésének támogatás elismert hivatali létsz. | C8: 39.36 | D8: 4580000 | E8: =C8*D8 -> 180268800 | G8: =E8+F8 -> 180268800 | I8: =G8+H8 -> 180268800 | K8: =I8+J8 -> 180268800 | M8: =K8+L8 -> 180268800
A9: Beszámítás összege | E9: 0 | G9: =E9+F9 -> 0 | I9: =G9+H9 -> 0 | K9: =I9+J9 -> 0 | M9: =K9+L9 -> 0
A10: Település üzemeltetéséhez kapcsolódó feladatellát.támog.(beszámítás után) | E10: =E11+E12+E13+E14+E15+E16+E17+E18 -> 0 | G10: =E10+F10 -> 0 | I10: =G10+H10 -> 0 | K10: =I10+J10 -> 0 | M10: =K10+L10 -> 0
A11: Zöldterület-gazdálk-al kapcsolatos feladatok ellátásának támog. | E11: 15627840 | G11: =E11+F11 -> 15627840 | I11: =G11+H11 -> 15627840 | K11: =I11+J11 -> 15627840 | M11: =K11+L11 -> 15627840
A12: Beszámítás összege | E12: -15627840 | G12: =E12+F12 -> -15627840 | I12: =G12+H12 -> -15627840 | K12: =I12+J12 -> -15627840 | M12: =K12+L12 -> -15627840
A13: Közvilágítás fenntartásának támogatás | E13: 57760000 | G13: =E13+F13 -> 57760000 | I13: =G13+H13 -> 57760000 | K13: =I13+J13 -> 57760000 | M13: =K13+L13 -> 57760000
A14: Beszámítás összege | E14: -57760000 | G14: =E14+F14 -> -57760000 | I14: =G14+H14 -> -57760000 | K14: =I14+J14 -> -57760000 | M14: =K14+L14 -> -57760000
A15: Köztemető fenntartással kapcsolatos feladatok támog. | E15: 2176616 | G15: =E15+F15 -> 2176616 | I15: =G15+H15 -> 2176616 | K15: =I15+J15 -> 2176616 | M15: =K15+L15 -> 2176616
A16: Beszámítás összege | E16: -2176616 | G16: =E16+F16 -> -2176616 | I16: =G16+H16 -> -2176616 | K16: =I16+J16 -> -2176616 | M16: =K16+L16 -> -2176616
A17: Közutak fenntartásának támogatás | E17: 22361000 | G17: =E17+F17 -> 22361000 | I17: =G17+H17 -> 22361000 | K17: =I17+J17 -> 22361000 | M17: =K17+L17 -> 22361000
A18: Beszámítás összege | E18: -22361000 | G18: =E18+F18 -> -22361000 | I18: =G18+H18 -> -22361000 | K18: =I18+J18 -> -22361000 | M18: =K18+L18 -> -22361000
A19: Egyéb önkormányzati feladatok támogatása (beszámítás után) | E19: =E20+E21 -> 0 | G19: =G20+G21 -> 0 | I19: =G19+H19 -> 0 | K19: =I19+J19 -> 0 | M19: =K19+L19 -> 0
A20: Egyéb önkormányzati feladatok támogatása | C20: 13903 | D20: 2700 | E20: =C20*D20 -> 37538100 | G20: =E20+F20 -> 37538100 | I20: =G20+H20 -> 37538100 | K20: =I20+J20 -> 37538100 | M20: =K20+L20 -> 37538100
A21: Beszámítás összege | E21: -37538100 | G21: -37538100 | I21: =G21+H21 -> -37538100 | K21: =I21+J21 -> -37538100 | M21: =K21+L21 -> -37538100
A22: Lakott külterületekkel kapcsolatos feladatok támogatása(beszámítás után) | E22: =E23+E24 -> 0 | G22: =G23+G24 -> 0 | I22: =G22+H22 -> 0 | K22: =I22+J22 -> 0 | M22: =K22+L22 -> 0
A23: Lakott külterületekkel kapcsolatos feladatok támogatása | C23: 123 | D23: 2550 | E23: 313650 | G23: 313650 | I23: =G23+H23 -> 313650 | K23: =I23+J23 -> 313650 | M23: =K23+L23 -> 313650
A24: Beszámítás összege | E24: -313650 | G24: -313650 | I24: =G24+H24 -> -313650 | K24: =I24+J24 -> -313650 | M24: =K24+L24 -> -313650
A25: Üdülőhelyi feladatok támogatása (beszámitás után) | E25: =SUM(E26:E27) -> 396489051 | F25: =SUM(F26:F27) -> 0 | G25: =SUM(G26:G27) -> 396489051 | H25: =SUM(H26:H27) -> 0 | I25: =SUM(I26:I27) -> 396489051 | K25: =I25+J25 -> 396489051 | M25: =K25+L25 -> 396489051
A26: Üdülőhelyi feladatok támogatása | E26: 415201600 | G26: =E26+F26 -> 415201600 | I26: =G26+H26 -> 415201600 | K26: =I26+J26 -> 415201600 | M26: =K26+L26 -> 415201600
A27: Beszámítás összege | E27: -18712549 | G27: =E27+F27 -> -18712549 | I27: =G27+H27 -> -18712549 | K27: =I27+J27 -> -18712549 | M27: =K27+L27 -> -18712549
A28: 2015. évről áthúzódó bérkompenzáció támogatása | E28: 1082294 | G28: =E28+F28 -> 1082294 | I28: =G28+H28 -> 1082294 | K28: =I28+J28 -> 1082294 | M28: =K28+L28 -> 1082294
K29: =I29+J29 -> 0 | M29: =K29+L29 -> 0
A30: II. EGYES KÖZNEVELÉSI FELADATOK TÁMOGATÁSA | E30: =SUM(E31:E42) -> 268431134 | F30: =SUM(F31:F42) -> 340532 | G30: =SUM(G31:G42) -> 268771666 | H30: =SUM(H31:H42) -> 0 | I30: =SUM(I31:I42) -> 268771666 | J30: =J33+J35+J39+J41 -> -2981967 | K30: =I30+J30 -> 265789699 | M30: =K30+L30 -> 265789699
A31: Óvodapedagógusok elismert létszáma (8 hó) | B31: 39.5 | C31: =E31/D31 -> 26.333333 | D31: 4308000 | E31: 113444000 | F31: 287200 | G31: =E31+F31 -> 113731200 | I31: =G31+H31 -> 113731200 | K31: =I31+J31 -> 113731200 | M31: =K31+L31 -> 113731200
A32: Óvodapedagógusok munkáját kvetlenül segítők (8 hó) | B32: 30 | C32: =E32/D32 -> 20 | D32: 1800000 | E32: 36000000 | G32: =E32+F32 -> 36000000 | I32: =G32+H32 -> 36000000 | K32: =I32+J32 -> 36000000 | M32: =K32+L32 -> 36000000
A33: Óvodapedagógusok elismert létszáma (4 hó) | B33: 38.2 | C33: =E33/D33 -> 12.733333 | D33: 4308000 | E33: 54855200 | G33: =E33+F33 -> 54855200 | I33: =G33+H33 -> 54855200 | J33: -2154000 | K33: =I33+J33 -> 52701200 | M33: =K33+L33 -> 52701200
A34: Óvodapedagógusok munkáját kvetlenül segítők (4 hó) | B34: 30 | C34: =E34/D34 -> 10 | D34: 1800000 | E34: 18000000 | G34: =E34+F34 -> 18000000 | I34: =G34+H34 -> 18000000 | K34: =I34+J34 -> 18000000 | M34: =K34+L34 -> 18000000
A35: Óvodapedagógusok elismert létszáma (4 hó) (pótlólagos összeg) | B35: 38.2 | C35: =E35/D35 -> 38.2 | D35: 35000 | E35: 1337000 | G35: =E35+F35 -> 1337000 | I35: =G35+H35 -> 1337000 | J35: -52500 | K35: =I35+J35 -> 1284500 | M35: =K35+L35 -> 1284500
A36: Óvodaműködtetési támogatás (8 hó) | B36: 2 | C36: =E36/D36 -> 1.3333375 | D36: 80000 | E36: 106667 | F36: -53334 | G36: =E36+F36 -> 53333 | I36: =G36+H36 -> 53333 | K36: =I36+J36 -> 53333 | M36: =K36+L36 -> 53333
A37: Óvodaműködtetési támogatás (8 hó) | B37: 437 | C37: =E37/D37 -> 291.33334 | D37: 80000 | E37: 23306667 | F37: 106666 | G37: =E37+F37 -> 23413333 | I37: =G37+H37 -> 23413333 | K37: =I37+J37 -> 23413333 | M37: =K37+L37 -> 23413333
A38: Óvodaműködtetési támogatás (4 hó) | B38: 2 | C38: =E38/D38 -> 0.6666625 | D38: 80000 | E38: 53333 | G38: =E38+F38 -> 53333 | I38: =G38+H38 -> 53333 | K38: =I38+J38 -> 53333 | M38: =K38+L38 -> 53333
A39: Óvodaműködtetési támogatás (4 hó) | B39: 424 | C39: =E39/D39 -> 141.33334 | D39: 80000 | E39: 11306667 | G39: =E39+F39 -> 11306667 | I39: =G39+H39 -> 11306667 | J39: -506667 | K39: =I39+J39 -> 10800000 | M39: =K39+L39 -> 10800000
A40: A köznevelési intézmények müködtetéséhez kapcsolódó támogatás | E40: 3141600 | G40: =E40+F40 -> 3141600 | I40: =G40+H40 -> 3141600 | K40: =I40+J40 -> 3141600 | M40: =K40+L40 -> 3141600
A41: Pedagógus II. kat. sorolt óvodapedag. kieg. támog.-minősítés 2014. dec.31-ig szerezték meg | B41: 17 | C41: 17 | D41: 384000 | E41: =D41*C41 -> 6528000 | G41: =E41+F41 -> 6528000 | I41: =G41+H41 -> 6528000 | J41: -268800 | K41: =I41+J41 -> 6259200 | M41: =K41+L41 -> 6259200
A42: Pedagógus II. kat. sorolt óvodapedag. kieg. támog.-minősítés 2015. évben szerezték meg | B42: 1 | C42: 1 | D42: 352000 | E42: 352000 | G42: =E42+F42 -> 352000 | I42: =G42+H42 -> 352000 | K42: =I42+J42 -> 352000 | M42: =K42+L42 -> 352000
G43: =E43+F43 -> 0 | I43: =G43+H43 -> 0 | K43: =I43+J43 -> 0 | M43: =K43+L43 -> 0
A44: III. SZOCIÁLIS, GYERMEKJÓLÉTI ÉS GYERMEKÉTKEZTETÉSI FELADATAI | E44: =E45+E48+E62 -> 179418554 | F44: =F45+F48+F62+F66+F67 -> 8043483 | G44: =G45+G48+G62+G66+G67 -> 187462037 | H44: =H45+H48+H62+H66+H67 -> 7366818 | I44: =I45+I48+I62+I66+I67 -> 194828855 | J44: =J45+J48+J62+J66+J67 -> 1774392 | K44: =I44+J44 -> 196603247 | M44: =K44+L44 -> 196603247
A45: Pénzbeli szociális juttatások | E45: =SUM(E46:E47) -> 0 | G45: =SUM(G46:G47) -> 0 | K45: =I45+J45 -> 0 | M45: =K45+L45 -> 0
A46: Pénzbeli szociális ellátások kiegészítése | K46: =I46+J46 -> 0 | M46: =K46+L46 -> 0
A47: Települési önkormányzatok szociális feladatainak egyéb támogatása | K47: =I47+J47 -> 0 | M47: =K47+L47 -> 0
A48: Egyes szoc.és gyermekjólétii felad.támog. | E48: =E49+E50+E51+E52+E53+E54+E58 -> 95448380 | F48: =F49+F50+F51+F52+F53+F54+F58 -> 0 | G48: =G49+G50+G51+G52+G53+G54+G58 -> 95448380 | H48: =H49+H50+H51+H52+H53+H54+H58 -> 0 | I48: =I49+I50+I51+I52+I53+I54+I58 -> 95448380 | J48: =J54 -> -1540000 | K48: =I48+J48 -> 93908380 | L48: =L62+L67 -> -1520371 | M48: =K48+L48 -> 92388009
A49: család- és gyermekjóléti szolgálat | C49: =E49/D49 -> 7.6 | D49: 3000000 | E49: 22800000 | G49: =E49+F49 -> 22800000 | I49: =G49+H49 -> 22800000 | K49: =I49+J49 -> 22800000 | M49: =K49+L49 -> 22800000
A50: család- és gyermekjóléti központ | C50: =E50/D50 -> 3.7 | D50: 3000000 | E50: 11100000 | G50: =E50+F50 -> 11100000 | I50: =G50+H50 -> 11100000 | K50: =I50+J50 -> 11100000 | M50: =K50+L50 -> 11100000
A51: szociális étkeztetés | B51: 100 | C51: 100 | D51: 55360 | E51: =C51*D51 -> 5536000 | G51: =E51+F51 -> 5536000 | I51: =G51+H51 -> 5536000 | K51: =I51+J51 -> 5536000 | M51: =K51+L51 -> 5536000
A52: házi segítségnyújtás - társulás által történő feladatellátás | B52: 35 | C52: 35 | D52: 188500 | E52: =C52*D52 -> 6597500 | G52: =E52+F52 -> 6597500 | I52: =G52+H52 -> 6597500 | K52: =I52+J52 -> 6597500 | M52: =K52+L52 -> 6597500
A53: időskorúak nappali intézényi ellátása - társulás által történő feladatellátás | B53: 43 | C53: 43 | D53: 163500 | E53: =C53*D53 -> 7030500 | G53: =E53+F53 -> 7030500 | I53: =G53+H53 -> 7030500 | K53: =I53+J53 -> 7030500 | M53: =K53+L53 -> 7030500
A54: Fogyatékos és demens személyek nappali intézményi ellátása | E54: =E55+E56+E57 -> 17600000 | G54: =E54+F54 -> 17600000 | I54: =G54+H54 -> 17600000 | J54: =J55+J56 -> -1540000 | K54: =I54+J54 -> 16060000 | M54: =K54+L54 -> 16060000
A55: fogyatékos személyek nappali intézményi ellátása társulás általi feladatellátás | B55: 15 | C55: 15 | D55: 550000 | E55: =C55*D55 -> 8250000 | G55: =E55+F55 -> 8250000 | I55: =G55+H55 -> 8250000 | J55: -1100000 | K55: =I55+J55 -> 7150000 | M55: =K55+L55 -> 7150000
A56: foglalkoztatási támog-ban részesülő fogyatékos nappali intézményben ellátottak | B56: 25 | C56: 25 | D56: 220000 | E56: =C56*D56 -> 5500000 | G56: =E56+F56 -> 5500000 | I56: =G56+H56 -> 5500000 | J56: -440000 | K56: =I56+J56 -> 5060000 | M56: =K56+L56 -> 5060000
A57: demens személyek nappali intézményi ellátása - társulás által történő feladatellátás | B57: 7 | C57: 7 | D57: 550000 | E57: =C57*D57 -> 3850000 | G57: =E57+F57 -> 3850000 | I57: =G57+H57 -> 3850000 | K57: =I57+J57 -> 3850000 | M57: =K57+L57 -> 3850000
A58: Gyermekek napközbeni ellátása | E58: =SUM(E59:E61) -> 24784380 | G58: =E58+F58 -> 24784380 | I58: =G58+H58 -> 24784380 | K58: =I58+J58 -> 24784380 | M58: =K58+L58 -> 24784380
A59: bölcsödei ellátás | B59: 41 | C59: 41 | D59: 494100 | E59: =C59*D59 -> 20258100 | G59: =E59+F59 -> 20258100 | I59: =G59+H59 -> 20258100 | K59: =I59+J59 -> 20258100 | M59: =K59+L59 -> 20258100
A60: bölcsödei ellátás hátrányos helyzetű gyermek | B60: 0 | C60: 0 | D60: 518805 | E60: 0 | G60: =E60+F60 -> 0 | I60: =G60+H60 -> 0 | K60: =I60+J60 -> 0 | M60: =K60+L60 -> 0
A61: kiegészítő támogatás a bölcsődében foglalkoztatott felsőfokú végzettségű kisgyermeknevelők béréhez | B61: 3 | C61: 3 | D61: 1508760 | E61: 4526280 | G61: =E61+F61 -> 4526280 | I61: =G61+H61 -> 4526280 | K61: =I61+J61 -> 4526280 | M61: =K61+L61 -> 4526280
A62: Gyermekétkeztetés támogatása | D62: 1632000 | E62: =E63+E64+E65 -> 83970174 | F62: =F63+F64+F65 -> -5985 | G62: =G63+G64+G65 -> 83964189 | H62: =H63+H64+H65 -> 3267595 | I62: =I63+I64+I65 -> 87231784 | J62: =J65+J64 -> -666956 | K62: =I62+J62 -> 86564828 | L62: =L63+L64+L65 -> -1536632 | M62: =K62+L62 -> 85028196
A63: Finanszírozás szempontjábol elismert dolgozók bértámogatása | C63: 25.52 | D63: 1632000 | E63: 43280640 | G63: =E63+F63 -> 43280640 | I63: =G63+H63 -> 43280640 | K63: =I63+J63 -> 43280640 | M63: =K63+L63 -> 43280640
A64: Gyermekétkeztetés üzemeltetési támogatása | B64: 1194 | E64: 39764652 | G64: =E64+F64 -> 39764652 | H64: 3267595 | I64: =G64+H64 -> 43032247 | J64: -64067 | K64: =I64+J64 -> 42968180 | L64: -1536632 | M64: =K64+L64 -> 41431548
A65: A rászoruló gyermekek intézményen kívüli szünidei étkeztetésének támogatása | B65: 37 | E65: 924882 | F65: -5985 | G65: =E65+F65 -> 918897 | I65: =G65+H65 -> 918897 | J65: -602889 | K65: =I65+J65 -> 316008 | M65: =K65+L65 -> 316008
A66: Ágazati pótlék | F66: 2826903 | G66: =E66+F66 -> 2826903 | H66: 1479932 | I66: =G66+H66 -> 4306835 | J66: 1402806 | K66: =I66+J66 -> 5709641 | M66: =K66+L66 -> 5709641
A67: Kiegészítő ágazati pótlék | F67: 5222565 | G67: =E67+F67 -> 5222565 | H67: 2619291 | I67: =G67+H67 -> 7841856 | J67: 2578542 | K67: =I67+J67 -> 10420398 | L67: 16261 | M67: =K67+L67 -> 10436659
K68: =I68+J68 -> 0 | M68: =K68+L68 -> 0
A69: Kulturális feladatok támogatása | E69: =E70 -> 15849420 | F69: =SUM(F70:F71) -> 765372 | G69: =SUM(G70:G71) -> 16614792 | H69: =SUM(H70:H71) -> 0 | I69: =SUM(I70:I71) -> 16614792 | K69: =I69+J69 -> 16614792 | M69: =K69+L69 -> 16614792
A70: Nyilvános könyvtári és közművelődési feladatok támogatása | B70: 13903 | C70: 13903 | D70: 1140 | E70: =C70*D70 -> 15849420 | G70: =E70+F70 -> 15849420 | I70: =G70+H70 -> 15849420 | K70: =I70+J70 -> 15849420 | M70: =K70+L70 -> 15849420
A71: Könyvtári érdekeltségnövelő támogatás | F71: 765372 | G71: =E71+F71 -> 765372 | I71: =G71+H71 -> 765372 | K71: =I71+J71 -> 765372 | M71: =K71+L71 -> 765372
K72: =I72+J72 -> 0 | M72: =K72+L72 -> 0
A73: Helyi Önkormányzatok kiegészítő támogatásai (működési) | F73: =SUM(F74:F76) -> 11501374 | G73: =SUM(G74:G76) -> 11501374 | H73: =SUM(H74:H76) -> 58110200 | I73: =SUM(I74:I76) -> 69611574 | J73: =SUM(J74:J76) -> -391795 | K73: =I73+J73 -> 69219779 | L73: =L77+L76+L75+L74 -> 35034070 | M73: =K73+L73 -> 104253849
A74: 2016. évi bérkompenzáció | F74: =5771999+5729375 -> 11501374 | G74: =E74+F74 -> 11501374 | I74: =G74+H74 -> 11501374 | J74: -391795 | K74: =I74+J74 -> 11109579 | M74: =K74+L74 -> 11109579
A75: 2016. évi lakosssági víz- és csatornatámogatás | H75: 56338200 | I75: =G75+H75 -> 56338200 | K75: =I75+J75 -> 56338200 | M75: =K75+L75 -> 56338200
A76: Közösségi közlekedés támogatása | H76: 1772000 | I76: =G76+H76 -> 1772000 | K76: =I76+J76 -> 1772000 | M76: =K76+L76 -> 1772000
A77: Rendkívüli önkormányzati támogatás | L77: 35034070 | M77: =K77+L77 -> 35034070
K78: =I78+J78 -> 0 | M78: =K78+L78 -> 0
A79: Elszámolásból származó bevételek | F79: 1075175 | G79: =E79+F79 -> 1075175 | I79: =G79+H79 -> 1075175 | K79: =I79+J79 -> 1075175 | M79: =K79+L79 -> 1075175
K80: =I80+J80 -> 0 | M80: =K80+L80 -> 0
A81: Vis maior támogatás | J81: 4980000 | K81: =J81 -> 4980000 | L81: -4980000 | M81: =K81+L81 -> 0
M82: =K82+L82 -> 0
A83: Felhalmozási célú önormányzati támogatások | E83: =SUM(E84:E85) -> 72000000 | F83: =SUM(F84:F85) -> 0 | G83: =SUM(G84:G85) -> 72000000 | H83: =SUM(H84:H85) -> 1600000 | I83: =G83+H83 -> 73600000 | J83: =J86 -> 1908000 | K83: =I83+J83 -> 75508000 | L83: =L84+L85+L86+L87 -> 1397000 | M83: =K83+L83 -> 76905000
A84: 2006/2015. Korm. határozat alapján támogatás (járdafelújítás, kollégium) | E84: 72000000 | G84: =E84+F84 -> 72000000 | I84: =G84+H84 -> 72000000 | K84: =I84+J84 -> 72000000 | M84: =K84+L84 -> 72000000
A85: Közművelődési támogatás Muzeális intézmények szakmai támogatása | H85: 1600000 | I85: =G85+H85 -> 1600000 | K85: =I85+J85 -> 1600000 | M85: =K85+L85 -> 1600000
A86: Közművelődési érdekeltségnövelő támogatás | J86: 1908000 | K86: =I86+J86 -> 1908000 | M86: =K86+L86 -> 1908000
A87: Vis maior támogatás | L87: 1397000 | M87: =K87+L87 -> 1397000
K88: =I88+J88 -> 0 | M88: =K88+L88 -> 0
A89: Összesen | E89: =E69+E44+E30+E5+E83 -> 1113539253 | F89: =F69+F44+F30+F5+F73+F79 -> 21725936 | G89: =G69+G44+G30+G5+G73+G79+G83 -> 1135265189 | H89: =H69+H44+H30+H5+H73+H79+H83 -> 67077018 | I89: =I69+I44+I30+I5+I73+I79+I83 -> 1202342207 | J89: =J69+J44+J30+J5+J73+J79+J83+J81 -> 5288630 | K89: =I89+J89 -> 1207630837 | L89: =L83+L81+L73+L48 -> 29930699 | M89: =K89+L89 -> 1237561536
G90: =E89+F89 -> 1135265189
H91: =H89+F89 -> 88802954

Sheet 2c. tábla (2)
A3: Mell. | B3: Sorszám | C3: Megnevezés | D3: Létszám | E3: MUTATÓ | F3: FAJLAGOS | G3: EREDETI EI. | H3: I. MÓDOSÍTÁS | I3: MÓDISÍTITT EI. I. | J3: II. MÓDOSÍTÁS | K3: MÓDISÍTITT EI. II. | L3: Létszám | M3: III. MÓDOSÍTÁS | N3: MÓDISÍTOTT EI. III. | O3: IV. MÓDOSÍTÁS | P3: MÓDISÍTOTT EI. IV.
A4: 2 | B4: II.1. | C4: Óvodapedagógusok elismert létszáma (8 hó) | D4: 18.7 | E4: 18.7 | F4: 4308000 | G4: 53706400 | H4: 861600 | I4: =G4+H4 -> 54568000 | K4: =I4+J4 -> 54568000 | L4: 18.7 | N4: =K4+M4 -> 54568000 | P4: =O4+N4 -> 54568000
A5: 2 | B5: II.1. | C5: Óvodapedagógusok munkáját kvetlenül segítők (8 hó) | D5: 14 | E5: =G5/F5 -> 9.3333333 | F5: 1800000 | G5: 16800000 | I5: =G5+H5 -> 16800000 | K5: =I5+J5 -> 16800000 | L5: 14 | N5: =K5+M5 -> 16800000 | P5: =O5+N5 -> 16800000
A6: 2 | B6: II.1. | C6: Óvodapedagógusok elismert létszáma (4 hó) | D6: 18.7 | E6: 18.7 | F6: 4308000 | G6: 26853200 | I6: =G6+H6 -> 26853200 | K6: =I6+J6 -> 26853200 | L6: 17.2 | M6: -2154000 | N6: =K6+M6 -> 24699200 | P6: =O6+N6 -> 24699200
A7: 2 | B7: II.1. | C7: Óvodapedagógusok munkáját kvetlenül segítők (4 hó) | D7: 14 | E7: =G7/F7 -> 4.6666667 | F7: 1800000 | G7: 8400000 | I7: =G7+H7 -> 8400000 | K7: =I7+J7 -> 8400000 | L7: 14 | N7: =K7+M7 -> 8400000 | P7: =O7+N7 -> 8400000
A8: 2 | B8: II.1. | C8: Óvodapedagógusok elismert létszáma (4 hó) (pótlólagos összeg) | D8: 18.7 | E8: 18.7 | F8: 35000 | J8: 655000 | K8: =I8+J8 -> 655000 | L8: 17.2 | M8: -52500 | N8: =K8+M8 -> 602500 | P8: =O8+N8 -> 602500
A9: 2 | B9: II.2. | C9: Óvodaműködtetési támogatás (8 hó) | D9: 211 | E9: =G9/F9 -> 140.66666 | F9: 80000 | G9: 11253333 | H9: 160000 | I9: =G9+H9 -> 11413333 | K9: =I9+J9 -> 11413333 | L9: 211 | N9: =K9+M9 -> 11413333 | P9: =O9+N9 -> 11413333
A10: 2 | B10: II.2. | C10: Óvodaműködtetési támogatás (8 hó) | D10: 1 | E10: =G10/F10 -> 0.6666625 | F10: 80000 | G10: 53333 | I10: =G10+H10 -> 53333 | K10: =I10+J10 -> 53333 | L10: 1 | N10: =K10+M10 -> 53333 | P10: =O10+N10 -> 53333
A11: 2 | B11: II.2. | C11: Óvodaműködtetési támogatás (4 hó) | D11: 211 | E11: =G11/F11 -> 70.333337 | F11: 80000 | G11: 5626667 | I11: =G11+H11 -> 5626667 | K11: =I11+J11 -> 5626667 | L11: 192 | M11: -506667 | N11: =K11+M11 -> 5120000 | P11: =O11+N11 -> 5120000
A12: 2 | B12: II.2. | C12: Óvodaműködtetési támogatás (4 hó) | D12: 1 | E12: =G12/F12 -> 0.3333375 | F12: 80000 | G12: 26667 | I12: =G12+H12 -> 26667 | K12: =I12+J12 -> 26667 | L12: 1 | N12: =K12+M12 -> 26667 | P12: =O12+N12 -> 26667
A13: 2 | B13: II.5.a | C13: Pedagógus II. kategóriába sorolt óvodapedagógusok kieg. támog. | D13: 7 | E13: =G13/F13 -> 7 | F13: 384000 | G13: 2688000 | I13: =G13+H13 -> 2688000 | K13: =I13+J13 -> 2688000 | L13: 6.3 | M13: -268800 | N13: =K13+M13 -> 2419200 | P13: =O13+N13 -> 2419200
B14: II.5.b | C14: Pedagógus II. kategóriába sorolt óvodapedagógusok kieg. támog. | D14: 1 | E14: 1 | F14: 352000 | G14: 352000 | I14: =G14+H14 -> 352000 | K14: =I14+J14 -> 352000 | L14: 1 | N14: =K14+M14 -> 352000 | P14: =O14+N14 -> 352000
A15: 2 | B15: III. 5.a | C15: Gyermekétkeztetés támogatása (bértámogatás) | E15: =G15/F15 -> 3.9757782 | F15: 1632000 | G15: 6488470 | I15: =G15+H15 -> 6488470 | K15: =I15+J15 -> 6488470 | N15: =K15+M15 -> 6488470 | P15: =O15+N15 -> 6488470
A16: 2 | B16: III. 5.b | C16: Gyermekétkeztetés üzemeltetési támogatása | D16: 179 | G16: 7860834 | H16: 1447192 | I16: =G16+H16 -> 9308026 | J16: 1578692 | K16: =I16+J16 -> 10886718 | L16: 179 | M16: -16209 | N16: =K16+M16 -> 10870509 | O16: -388753 | P16: =O16+N16 -> 10481756
C17: Bérkompenzáció | H17: =2*184785 -> 369570 | I17: =G17+H17 -> 369570 | K17: =I17+J17 -> 369570 | M17: -1905 | N17: =K17+M17 -> 367665 | P17: =O17+N17 -> 367665
C18: Kiserdei óvoda összesen: | G18: =SUM(G4:G16) -> 140108904 | H18: =SUM(H4:H17) -> 2838362 | I18: =SUM(I4:I17) -> 142947266 | J18: =SUM(J4:J17) -> 2233692 | K18: =I18+J18 -> 145180958 | M18: =SUM(M4:M17) -> -3000081 | N18: =K18+M18 -> 142180877 | O18: =SUM(O4:O17) -> -388753 | P18: =O18+N18 -> 141792124
P19: =O19+N19 -> 0
A20: 2 | B20: II.1. | C20: Óvodapedagógusok elismert létszáma (8 hó) | D20: 10.1 | E20: 10.1 | F20: 4308000 | G20: 29007200 | H20: 286800 | I20: =G20+H20 -> 29294000 | K20: =I20+J20 -> 29294000 | L20: 10.1 | N20: =K20+M20 -> 29294000 | P20: =O20+N20 -> 29294000
A21: 2 | B21: II.1. | C21: Óvodapedagógusok munkáját kvetlenül segítők (8 hó) | D21: 9 | E21: =G21/F21 -> 6 | F21: 1800000 | G21: 10800000 | I21: =G21+H21 -> 10800000 | K21: =I21+J21 -> 10800000 | L21: 9 | N21: =K21+M21 -> 10800000 | P21: =O21+N21 -> 10800000
A22: 2 | B22: II.1. | C22: Óvodapedagógusok elismert létszáma (4 hó) | D22: 10.1 | E22: 10.1 | F22: 4308000 | G22: 14503600 | I22: =G22+H22 -> 14503600 | K22: =I22+J22 -> 14503600 | L22: 9.9 | M22: =N22-K22 -> -287200 | N22: 14216400 | P22: =O22+N22 -> 14216400
A23: 2 | B23: II.1. | C23: Óvodapedagógusok munkáját kvetlenül segítők (4 hó) | D23: 9 | E23: =G23/F23 -> 3 | F23: 1800000 | G23: 5400000 | I23: =G23+H23 -> 5400000 | K23: =I23+J23 -> 5400000 | L23: 9 | N23: =K23-M23 -> 5400000 | P23: =O23+N23 -> 5400000
A24: 2 | B24: II.1. | C24: Óvodapedagógusok elismert létszáma (4 hó) (pótlólagos összeg) | D24: 10.1 | E24: 10.1 | F24: 35000 | J24: 353000 | K24: =I24+J24 -> 353000 | L24: 9.9 | M24: =N24-K24 -> -7000 | N24: 346000 | P24: =O24+N24 -> 346000
A25: 2 | B25: II.2. | C25: Óvodaműködtetési támogatás (8 hó) | D25: 109 | E25: =G25/F25 -> 72.666675 | F25: 80000 | G25: 5813334 | H25: 106666 | I25: =G25+H25 -> 5920000 | K25: =I25+J25 -> 5920000 | L25: 109 | N25: =K25+M25 -> 5920000 | P25: =O25+N25 -> 5920000
A26: 2 | B26: II.2. | C26: Óvodaműködtetési támogatás (8 hó) | D26: 1 | E26: =G26/F26 -> 0.666675 | F26: 80000 | G26: 53334 | H26: -53334 | I26: =G26+H26 -> 0 | K26: =I26+J26 -> 0 | L26: 1 | N26: =K26+M26 -> 0 | P26: =O26+N26 -> 0
A27: 2 | B27: II.2. | C27: Óvodaműködtetési támogatás (4 hó) | D27: 109 | E27: =G27/F27 -> 36.333337 | F27: 80000 | G27: 2906667 | I27: =G27+H27 -> 2906667 | K27: =I27+J27 -> 2906667 | L27: 109 | N27: =K27+M27 -> 2906667 | P27: =O27+N27 -> 2906667
A28: 2 | B28: II.2. | C28: Óvodaműködtetési támogatás (4 hó) | D28: 1 | E28: =G28/F28 -> 0.333325 | F28: 80000 | G28: 26666 | I28: =G28+H28 -> 26666 | K28: =I28+J28 -> 26666 | L28: 1 | N28: =K28+M28 -> 26666 | P28: =O28+N28 -> 26666
A29: 2 | B29: II.5.a | C29: Pedagógus II. kategóriába sorolt óvodapedagógusok kieg. támog. | D29: 5 | E29: 5 | F29: 384000 | G29: =F29*D29 -> 1920000 | I29: =G29+H29 -> 1920000 | K29: =I29+J29 -> 1920000 | L29: 5 | N29: =K29+M29 -> 1920000 | P29: =O29+N29 -> 1920000
A30: 2 | B30: III. 5.a | C30: Gyermekétkeztetés támogatása (bértámogatás) | E30: =G30/F30 -> 2.0878395 | F30: 1632000 | G30: 3407354 | I30: =G30+H30 -> 3407354 | K30: =I30+J30 -> 3407354 | N30: =K30+M30 -> 3407354 | P30: =O30+N30 -> 3407354
A31: 2 | B31: III. 5.b | C31: Gyermekétkeztetés üzemeltetési támogatása | D31: 94 | G31: 4845580 | H31: 1306671 | I31: =G31+H31 -> 6152251 | J31: 830919 | K31: =I31+J31 -> 6983170 | L31: 94 | M31: -10397 | N31: =K31+M31 -> 6972773 | O31: -249361 | P31: =O31+N31 -> 6723412
C32: Bérkompenzáció | H32: =2*469519 -> 939038 | I32: =G32+H32 -> 939038 | K32: =I32+J32 -> 939038 | M32: 23495 | N32: =K32+M32 -> 962533 | P32: =O32+N32 -> 962533
C33: Óvárosi óvoda összesen: | G33: =SUM(G20:G31) -> 78683735 | H33: =SUM(H20:H32) -> 2585841 | I33: =SUM(I20:I32) -> 81269576 | J33: =SUM(J20:J32) -> 1183919 | K33: =I33+J33 -> 82453495 | M33: =SUM(M20:M32) -> -281102 | N33: =K33+M33 -> 82172393 | O33: =SUM(O20:O32) -> -249361 | P33: =O33+N33 -> 81923032
P34: =O34+N34 -> 0
A35: 2 | B35: II.1. | C35: Óvodapedagógusok elismert létszáma (8 hó) | D35: 6.8 | E35: 6.8 | F35: 4308000 | G35: 20104000 | H35: -574000 | I35: =G35+H35 -> 19530000 | K35: =I35+J35 -> 19530000 | L35: 6.8 | N35: =K35+M35 -> 19530000 | P35: =O35+N35 -> 19530000
A36: 2 | B36: II.1. | C36: Óvodapedagógusok munkáját kvetlenül segítők (8 hó) | D36: 5 | E36: =G36/F36 -> 3.3333333 | F36: 1800000 | G36: 6000000 | I36: =G36+H36 -> 6000000 | K36: =I36+J36 -> 6000000 | L36: 5 | N36: =K36+M36 -> 6000000 | P36: =O36+N36 -> 6000000
A37: 2 | B37: II.1. | C37: Óvodapedagógusok elismert létszáma (4 hó) | D37: 6.2 | E37: 6.2 | F37: 4308000 | G37: 8903200 | I37: =G37+H37 -> 8903200 | K37: =I37+J37 -> 8903200 | L37: 6.2 | M37: 287200 | N37: =K37+M37 -> 9190400 | P37: =O37+N37 -> 9190400
A38: 2 | B38: II.1. | C38: Óvodapedagógusok munkáját kvetlenül segítők (4 hó) | D38: 5 | E38: =G38/F38 -> 1.6666667 | F38: 1800000 | G38: 3000000 | I38: =G38+H38 -> 3000000 | K38: =I38+J38 -> 3000000 | L38: 5 | N38: =K38+M38 -> 3000000 | P38: =O38+N38 -> 3000000
A39: 2 | B39: II.1. | C39: Óvodapedagógusok elismert létszáma (4 hó) (pótlólagos összeg) | D39: 6.2 | E39: 6.2 | F39: 35000 | J39: 217000 | K39: =I39+J39 -> 217000 | L39: 6.2 | M39: 7000 | N39: =K39+M39 -> 224000 | P39: =O39+N39 -> 224000
A40: 2 | B40: II.2. | C40: Óvodaműködtetési támogatás (8 hó) | D40: 75 | E40: =G40/F40 -> 50 | F40: 80000 | G40: 4000000 | H40: -106666 | I40: =G40+H40 -> 3893334 | K40: =I40+J40 -> 3893334 | L40: 75 | N40: =K40+M40 -> 3893334 | P40: =O40+N40 -> 3893334
A41: 2 | B41: II.2. | C41: Óvodaműködtetési támogatás (4 hó) | D41: 66 | E41: =G41/F41 -> 22 | F41: 80000 | G41: =D41*F41/3 -> 1760000 | I41: =G41+H41 -> 1760000 | K41: =I41+J41 -> 1760000 | L41: 66 | N41: =K41+M41 -> 1760000 | P41: =O41+N41 -> 1760000
A42: 2 | B42: II.5.a | C42: Pedagógus II. kategóriába sorolt óvodapedagógusok kieg. támog. | D42: 4 | E42: 4 | F42: 384000 | G42: =F42*D42 -> 1536000 | I42: =G42+H42 -> 1536000 | K42: =I42+J42 -> 1536000 | L42: 4 | N42: =K42+M42 -> 1536000 | P42: =O42+N42 -> 1536000
A43: 2 | B43: III. 5.a | C43: Gyermekétkeztetés támogatása (bértámogatás) | D43: 1 | E43: =G43/F43 -> 1.3326636 | F43: 1632000 | G43: 2174907 | I43: =G43+H43 -> 2174907 | K43: =I43+J43 -> 2174907 | L43: 1 | N43: =K43+M43 -> 2174907 | P43: =O43+N43 -> 2174907
A44: 2 | B44: III. 5.b | C44: Gyermekétkeztetés üzemeltetési támogatása | D44: 60 | G44: 2817783 | H44: 624417 | I44: =G44+H44 -> 3442200 | J44: 529651 | K44: =I44+J44 -> 3971851 | L44: 60 | M44: -5913 | N44: =K44+M44 -> 3965938 | O44: -141830 | P44: =O44+N44 -> 3824108
C45: Bérkompenzáció | H45: =2*371983 -> 743966 | I45: =G45+H45 -> 743966 | K45: =I45+J45 -> 743966 | M45: -46482 | N45: =K45+M45 -> 697484 | P45: =O45+N45 -> 697484
C46: Tündérkert óvoda összesen: | G46: =SUM(G35:G44) -> 50295890 | H46: =SUM(H35:H45) -> 687717 | I46: =SUM(I35:I45) -> 50983607 | J46: =SUM(J35:J45) -> 746651 | K46: =I46+J46 -> 51730258 | M46: =SUM(M35:M45) -> 241805 | N46: =K46+M46 -> 51972063 | O46: =SUM(O35:O45) -> -141830 | P46: =O46+N46 -> 51830233
P47: =O47+N47 -> 0
A48: 2 | B48: II.1. | C48: Óvodapedagógusok elismert létszáma (8 hó) | D48: 3.9 | E48: 3.9 | F48: 4308000 | G48: 10626400 | H48: -287200 | I48: =G48+H48 -> 10339200 | K48: =I48+J48 -> 10339200 | L48: 3.9 | N48: =K48+M48 -> 10339200 | P48: =O48+N48 -> 10339200
A49: 2 | B49: II.1. | C49: Óvodapedagógusok munkáját kvetlenül segítők (8 hó) | D49: 2 | E49: =G49/F49 -> 1.3333333 | F49: 1800000 | G49: 2400000 | I49: =G49+H49 -> 2400000 | K49: =I49+J49 -> 2400000 | L49: 2 | N49: =K49+M49 -> 2400000 | P49: =O49+N49 -> 2400000
A50: 2 | B50: II.1. | C50: Óvodapedagógusok elismert létszáma (4 hó) | D50: 3.2 | E50: 3.2 | F50: 4308000 | G50: 4595200 | I50: =G50+H50 -> 4595200 | K50: =I50+J50 -> 4595200 | L50: 3.2 | N50: =K50+M50 -> 4595200 | P50: =O50+N50 -> 4595200
A51: 2 | B51: II.1. | C51: Óvodapedagógusok munkáját kvetlenül segítők (4 hó) | D51: 2 | E51: =G51/F51 -> 0.66666667 | F51: 1800000 | G51: 1200000 | I51: =G51+H51 -> 1200000 | K51: =I51+J51 -> 1200000 | L51: 2 | N51: =K51+M51 -> 1200000 | P51: =O51+N51 -> 1200000
A52: 2 | B52: II.1. | C52: Óvodapedagógusok elismert létszáma (4 hó) (pótlólagos összeg) | D52: 3.2 | E52: 3.2 | F52: 35000 | J52: 112000 | K52: =I52+J52 -> 112000 | L52: 3.2 | N52: =K52+M52 -> 112000 | P52: =O52+N52 -> 112000
A53: 2 | B53: II.2. | C53: Óvodaműködtetési támogatás (8 hó) | D53: 42 | E53: =G53/F53 -> 28 | F53: 80000 | G53: 2240000 | H53: -53334 | I53: =G53+H53 -> 2186666 | K53: =I53+J53 -> 2186666 | L53: 42 | N53: =K53+M53 -> 2186666 | P53: =O53+N53 -> 2186666
A54: 2 | B54: II.2. | C54: Óvodaműködtetési támogatás (4 hó) | D54: 38 | E54: =G54/F54 -> 12.666667 | F54: 80000 | G54: =D54*F54/3 -> 1013333.3 | I54: =G54+H54 -> 1013333.3 | K54: =I54+J54 -> 1013333.3 | L54: 38 | N54: =K54+M54 -> 1013333.3 | P54: =O54+N54 -> 1013333.3
A55: 2 | B55: II.5.a | C55: Pedagógus II. kategóriába sorolt óvodapedagógusok kieg. támog. | D55: 1 | E55: 1 | F55: 384000 | G55: =F55*D55 -> 384000 | I55: =G55+H55 -> 384000 | K55: =I55+J55 -> 384000 | L55: 1 | N55: =K55+M55 -> 384000 | P55: =O55+N55 -> 384000
A56: 2 | B56: III. 5.a | C56: Gyermekétkeztetés támogatása (bértámogatás) | E56: =G56/F56 -> 0.75517647 | F56: 1632000 | G56: 1232448 | I56: =G56+H56 -> 1232448 | K56: =I56+J56 -> 1232448 | N56: =K56+M56 -> 1232448 | P56: =O56+N56 -> 1232448
A57: 2 | B57: III. 5.b | C57: Gyermekétkeztetés üzemeltetési támogatása | D57: 34 | G57: 1792065 | H57: 502650 | I57: =G57+H57 -> 2294715 | J57: 300649 | K57: =I57+J57 -> 2595364 | L57: 34 | M57: -3864 | N57: =K57+M57 -> 2591500 | O57: -92677 | P57: =O57+N57 -> 2498823
C58: Bérkompenzáció | H58: =2*88773 -> 177546 | I58: =G58+H58 -> 177546 | K58: =I58+J58 -> 177546 | M58: -1524 | N58: =K58+M58 -> 176022 | P58: =O58+N58 -> 176022
C59: Kökörcsin óvoda összesen: | G59: =SUM(G48:G57) -> 25483446 | H59: =SUM(H48:H58) -> 339662 | I59: =SUM(I48:I58) -> 25823108 | J59: =SUM(J48:J58) -> 412649 | K59: =I59+J59 -> 26235757 | M59: =SUM(M48:M58) -> -5388 | N59: =K59+M59 -> 26230369 | O59: =SUM(O48:O58) -> -92677 | P59: =O59+N59 -> 26137692
A60: Mell. | B60: Sorszám | C60: Megnevezés | E60: MUTATÓ | F60: FAJLAGOS | G60: EREDETI EI. | H60: I. MÓDOSÍTÁS | I60: MÓDISÍTITT EI. I. | J60: II. MÓDOSÍTÁS | K60: MÓDISÍTITT EI. II. | L60: Létszám | M60: III. MÓDOSÍTÁS | N60: MÓDISÍTOTT EI. III. | O60: IV. MÓDOSÍTÁS | P60: MÓDISÍTOTT EI. IV.
A61: 2 | B61: II.4. | C61: A köznevelési intézmények müködtetéséhez kapcsolódó támogatás | F61: 3141600 | G61: 3141600 | I61: =G61+H61 -> 3141600 | K61: =I61+J61 -> 3141600 | N61: =K61+M61 -> 3141600 | P61: =O61+N61 -> 3141600
A62: 2 | B62: III. 5.a | C62: Iskolai étkeztetés támogatása (bértámogatás) | D62: 794 | E62: =G62/F62 -> 17.635577 | F62: 1632000 | G62: 28781261 | I62: =G62+H62 -> 28781261 | K62: =I62+J62 -> 28781261 | L62: 794 | N62: =K62+M62 -> 28781261 | P62: =O62+N62 -> 28781261
A63: 2 | B63: III. 5.b | C63: Gyermekétkeztetés üzemeltetési támogatása | D63: 794 | G63: 20605971 | H63: -4447319 | I63: =G63+H63 -> 16158652 | J63: 24093 | K63: =I63+J63 -> 16182745 | L63: 794 | M63: -24093 | N63: =K63+M63 -> 16158652 | O63: -577867 | P63: =O63+N63 -> 15580785
C64: Bérkompenzáció | H64: =2*540893 -> 1081786 | I64: =G64+H64 -> 1081786 | K64: =I64+J64 -> 1081786 | M64: -77216 | N64: =K64+M64 -> 1004570 | P64: =O64+N64 -> 1004570
C65: Intézményellátó összesen: | G65: =G61+G62+G63 -> 52528832 | H65: =SUM(H61:H64) -> -3365533 | I65: =I61+I62+I63+I64 -> 49163299 | J65: =J61+J62+J63+J64 -> 24093 | K65: =I65+J65 -> 49187392 | M65: =SUM(M61:M64) -> -101309 | N65: =K65+M65 -> 49086083 | O65: =SUM(O61:O64) -> -577867 | P65: =O65+N65 -> 48508216
K66: =I66+J66 -> 0 | N66: =K66+M66 -> 0 | P66: =O66+N66 -> 0
K67: =I67+J67 -> 0 | N67: =K67+M67 -> 0 | P67: =O67+N67 -> 0
A68: 2 | B68: III.3. ja. | C68: Bölcsödei ellátás | D68: 41 | E68: 41 | F68: 494100 | G68: 20258100 | I68: =G68+H68 -> 20258100 | K68: =I68+J68 -> 20258100 | L68: 41 | N68: =K68+M68 -> 20258100 | P68: =O68+N68 -> 20258100
A69: 2 | B69: III. 5.a | C69: Bölcsödében elhelyezett gyermekek étkeztetése (bértámogatás) | D69: 33 | E69: =G69/F69 -> 0.73296569 | F69: 1632000 | G69: 1196200 | I69: =G69+H69 -> 1196200 | K69: =I69+J69 -> 1196200 | L69: 33 | N69: =K69+M69 -> 1196200 | P69: =O69+N69 -> 1196200
A70: 2 | B70: III. 5.b | C70: Gyermekétkeztetés üzemeltetési támogatása | D70: 33 | G70: 1842419 | H70: 566389 | I70: =G70+H70 -> 2408808 | J70: 3591 | K70: =I70+J70 -> 2412399 | L70: 33 | M70: -3591 | N70: =K70+M70 -> 2408808 | O70: -86144 | P70: =O70+N70 -> 2322664
A71: 2 | B71: III.7. | C71: kiegészítő támogatás a bölcsődében foglalkoztatott felsőfokú végzettségű kisgyermeknevelők béréhez | D71: 3 | E71: 3 | F71: 1508760 | G71: 4526280 | I71: =G71+H71 -> 4526280 | K71: =I71+J71 -> 4526280 | L71: 3 | N71: =K71+M71 -> 4526280 | P71: =O71+N71 -> 4526280
C72: Bérkompenzáció | H72: =2*497840 -> 995680 | I72: =G72+H72 -> 995680 | K72: =I72+J72 -> 995680 | M72: -9398 | N72: =K72+M72 -> 986282 | P72: =O72+N72 -> 986282 | R72: =P73-Q73 -> 10061
C73: Ágazati pótlék, kiegészítő ágazati pótlék | H73: 1945347 | I73: =G73+H73 -> 1945347 | J73: 956651 | K73: =I73+J73 -> 2901998 | M73: =530660+315922 -> 846582 | N73: =K73+M73 -> 3748580 | P73: =O73+N73 -> 3748580 | Q73: 3738519
C74: Bölcsöde összesen. | G74: =SUM(G68:G71) -> 27822999 | H74: =SUM(H68:H73) -> 3507416 | I74: =SUM(I68:I73) -> 31330415 | J74: =SUM(J68:J73) -> 960242 | K74: =I74+J74 -> 32290657 | M74: =SUM(M68:M73) -> 833593 | N74: =K74+M74 -> 33124250 | O74: =SUM(O68:O73) -> -86144 | P74: =O74+N74 -> 33038106 | R74: =Q73+Q88 -> 16145220
K75: =I75+J75 -> 0 | N75: =K75+M75 -> 0 | P75: =O75+N75 -> 0 | R75: =P73+P88 -> 16146300
K76: =I76+J76 -> 0 | N76: =K76+M76 -> 0 | P76: =O76+N76 -> 0 | R76: =R74-R75 -> -1080
A77: 2 | B77: III.3. | C77: Egyes szociális és gyermekjóléti feladatok támog. | K77: =I77+J77 -> 0 | N77: =K77+M77 -> 0 | P77: =O77+N77 -> 0
A78: 2 | B78: III.3. a. | C78: család- és gyermekjóléti szolgálat | E78: =G78/F78 -> 7.6 | F78: 3000000 | G78: 22800000 | I78: =G78+H78 -> 22800000 | K78: =I78+J78 -> 22800000 | N78: =K78+M78 -> 22800000 | P78: =O78+N78 -> 22800000 | R78: =Q73+10063 -> 3748582
A79: 2 | B79: III.3. b. | C79: család- és gyermekjóléti központ | E79: =G79/F79 -> 3.7 | F79: 3000000 | G79: 11100000 | I79: =G79+H79 -> 11100000 | K79: =I79+J79 -> 11100000 | N79: =K79+M79 -> 11100000 | P79: =O79+N79 -> 11100000 | R79: =Q88-8983 -> 12397718
A80: 2 | B80: III.3. c. | C80: szociális étkeztetés | D80: 100 | E80: 100 | F80: 55360 | G80: 5536000 | I80: =G80+H80 -> 5536000 | K80: =I80+J80 -> 5536000 | L80: 100 | N80: =K80+M80 -> 5536000 | P80: =O80+N80 -> 5536000 | R80: =SUM(R78:R79) -> 16146300
A81: 2 | B81: III.3. d. | C81: házi segítségnyújtás | D81: 35 | E81: 35 | F81: 188500 | G81: =F81*E81 -> 6597500 | I81: =G81+H81 -> 6597500 | K81: =I81+J81 -> 6597500 | L81: 35 | N81: =K81+M81 -> 6597500 | P81: =O81+N81 -> 6597500
A82: 2 | B82: III.3. f. | C82: időskorúak nappali intézényi ellátása | D82: 43 | E82: 43 | F82: 163500 | G82: =F82*E82 -> 7030500 | I82: =G82+H82 -> 7030500 | K82: =I82+J82 -> 7030500 | L82: 43 | N82: =K82+M82 -> 7030500 | P82: =O82+N82 -> 7030500
A83: 2 | B83: III.3. g. | C83: Fogyatékos és demens személyek nappali intézményi ellátása | G83: =G84+G85+G86 -> 17600000 | I83: =G83+H83 -> 17600000 | K83: =I83+J83 -> 17600000 | M83: =M84+M85 -> -1540000 | N83: =K83+M83 -> 16060000 | P83: =O83+N83 -> 16060000
A84: 2 | B84: III.3. g. | C84: fogyatékos személyek nappali intézményi ellátása | D84: 15 | E84: 15 | F84: 550000 | G84: =F84*E84 -> 8250000 | I84: =G84+H84 -> 8250000 | K84: =I84+J84 -> 8250000 | L84: 13 | M84: -1100000 | N84: =K84+M84 -> 7150000 | P84: =O84+N84 -> 7150000
A85: 2 | B85: III.3. g. | C85: foglalkoztatási támog-ban részesülő fogyatékos nappali intézményben ellátottak | D85: 25 | E85: 25 | F85: 220000 | G85: =F85*E85 -> 5500000 | I85: =G85+H85 -> 5500000 | K85: =I85+J85 -> 5500000 | L85: 23 | M85: -440000 | N85: =K85+M85 -> 5060000 | P85: =O85+N85 -> 5060000
A86: 2 | B86: III.3. g. | C86: demens személyek nappali int-i ellát - társulás által történő feladatellátás | D86: 7 | E86: 7 | F86: 550000 | G86: =F86*E86 -> 3850000 | I86: =G86+H86 -> 3850000 | K86: =I86+J86 -> 3850000 | L86: 7 | N86: =K86+M86 -> 3850000 | P86: =O86+N86 -> 3850000
C87: Bérkompenzáció | H87: =2*1498727 -> 2997454 | I87: =G87+H87 -> 2997454 | K87: =I87+J87 -> 2997454 | M87: -28829 | N87: =K87+M87 -> 2968625 | P87: =O87+N87 -> 2968625
C88: Ágazati pótlék, kiegészítő ágazati pótlék | H88: 6104121 | I88: =G88+H88 -> 6104121 | J88: 3142572 | K88: =I88+J88 -> 9246693 | M88: =2047879+1086887 -> 3134766 | N88: =K88+M88 -> 12381459 | O88: 16261 | P88: =O88+N88 -> 12397720 | Q88: 12406701 | R88: =P88-Q88 -> -8981
C89: BSZAK összesen: | G89: =G78+G79+G80+G81+G82+G83 -> 70664000 | H89: =SUM(H78:H88) -> 9101575 | I89: =I78+I79+I80+I81+I82+I83+I87+I88 -> 79765575 | J89: =J78+J79+J80+J81+J82+J83+J87+J88 -> 3142572 | K89: =I89+J89 -> 82908147 | M89: =M78+M79+M80+M81+M82+M83+M87+M88 -> 1565937 | N89: =K89+M89 -> 84474084 | O89: =O88 -> 16261 | P89: =O89+N89 -> 84490345
K90: =I90+J90 -> 0 | N90: =K90+M90 -> 0 | P90: =O90+N90 -> 0
A91: 2 | B91: I.a. | C91: Önkormányzati hivatal működtetésének támogatás | D91: 39.36 | E91: 39.36 | F91: 4580000 | G91: =F91*E91 -> 180268800 | I91: =G91+H91 -> 180268800 | K91: =I91+J91 -> 180268800 | L91: 39.36 | N91: =K91+M91 -> 180268800 | P91: =O91+N91 -> 180268800
C92: Bérkompenzáció | H92: =2*1367917 -> 2735834 | I92: =G92+H92 -> 2735834 | K92: =I92+J92 -> 2735834 | M92: -114427 | N92: =K92+M92 -> 2621407 | P92: =O92+N92 -> 2621407
C93: Önkormányzati Hivatal összesen: | G93: =G91 -> 180268800 | H93: =SUM(H91:H92) -> 2735834 | I93: =SUM(I91:I92) -> 183004634 | J93: =SUM(J91:J92) -> 0 | K93: =I93+J93 -> 183004634 | M93: =SUM(M91:M92) -> -114427 | N93: =K93+M93 -> 182890207 | P93: =O93+N93 -> 182890207
K94: =I94+J94 -> 0 | N94: =K94+M94 -> 0 | P94: =O94+N94 -> 0
A95: 2 | B95: IV. 1.d. | C95: Nyilvános könyvtári feladatok támogatása | D95: 13903 | E95: 13903 | F95: 1140 | G95: =D95*F95 -> 15849420 | I95: =G95+H95 -> 15849420 | K95: =I95+J95 -> 15849420 | L95: 13903 | N95: =K95+M95 -> 15849420 | P95: =O95+N95 -> 15849420
A96: 2. | B96: IV.1.i. | C96: Könyvtári érdekeltségnövelő | H96: 765372 | I96: =G96+H96 -> 765372 | K96: =I96+J96 -> 765372 | N96: =K96+M96 -> 765372 | P96: =O96+N96 -> 765372
A97: 3. | C97: Bérkompenzáció | H97: =2*468757 -> 937514 | I97: =G97+H97 -> 937514 | K97: =I97+J97 -> 937514 | M97: -87249 | N97: =K97+M97 -> 850265 | P97: =O97+N97 -> 850265
C98: Könyvtár összesen: | G98: =G95 -> 15849420 | H98: =SUM(H95:H97) -> 1702886 | I98: =SUM(I95:I97) -> 17552306 | J98: =SUM(J95:J97) -> 0 | K98: =I98+J98 -> 17552306 | M98: =SUM(M97) -> -87249 | N98: =K98+M98 -> 17465057 | P98: =O98+N98 -> 17465057
K99: =I99+J99 -> 0 | N99: =K99+M99 -> 0 | P99: =O99+N99 -> 0
C100: Bérkompenzáció | H100: =2*802640 -> 1605280 | I100: =G100+H100 -> 1605280 | K100: =I100+J100 -> 1605280 | M100: -48260 | N100: =K100+M100 -> 1557020 | P100: =O100+N100 -> 1557020
C101: Rendelőintézet | H101: =SUM(H100) -> 1605280 | I101: =G101+H101 -> 1605280 | K101: =I101+J101 -> 1605280 | M101: =SUM(M100) -> -48260 | N101: =K101+M101 -> 1557020 | P101: =O101+N101 -> 1557020
P102: =O102+N102 -> 0
...

Sheet 3.sz. tábla  (2)
A6: MEGNEVEZÉS | B6: ÁLLAMI TÁMOGATÁS | F6: ÖNKORMÁNYZATI TÁMOGATÁS | J6: IRÁNYÍTÓ SZERVTŐL KAPOTT TÁMOGATÁS | N6: Megnevezés | O6: SAJÁT BEVÉTEL | S6: MARADVÁNY IGÉNYBEVÉTEL | W6: FINANSZÍROZÁSI CÉLÚ BEVÉTELEK | AA6: BEVÉTELEK ÖSSZESEN
B7: 2016. évi eredeti ei. | C7: 2016. évi módosított ei. III. | D7: 2016. évi módosított ei. IV. | E7: Eltérés | F7: 2016. évi eredeti ei. | G7: 2016. évi módosított ei. III. | H7: 2016. évi módosított ei. IV. | I7: Eltérés | J7: 2016. évi eredeti ei. | K7: 2016. évi módosított ei. III. | L7: 2016. évi módosított ei. IV. | M7: Eltérés | O7: 2016. évi eredeti ei. | P7: 2016. évi módosított ei. III. | Q7: 2016. évi módosított ei. IV. | R7: Eltérés | S7: 2016. évi eredeti ei. | T7: 2016. évi módosított ei. III. | U7: 2016. évi módosított ei. IV. | V7: Eltérés | W7: 2016. évi eredeti ei. | X7: 2016. évi módosított ei. III. | Y7: 2016. évi módosított ei. IV. | Z7: Eltérés | AA7: 2016. évi eredeti ei. | AB7: 2016. évi módosított ei. III. | AC7: 2016. évi módosított ei. IV. | AD7: Eltérés
A8: Eötvös L.Ált.Isk. | B8: 23890 | C8: 22771 | D8: 22451 | E8: =D8-C8 -> -320 | F8: =22284+800 -> 23084 | G8: 19607 | H8: ='2.a tábla ÚJ '!D50-'3.sz. tábla (2)'!D8 -> 19927 | I8: =H8-G8 -> 320 | J8: =SUM(B8+F8) -> 46974 | K8: =SUM(C8+G8) -> 42378 | L8: =SUM(D8+H8) -> 42378 | M8: =L8-K8 -> 0 | N8: Eötvös L.Ált.Isk. | O8: 24855 | P8: 25655 | Q8: ='2.a tábla ÚJ '!D44 -> 25655 | R8: =Q8-P8 -> 0 | T8: 5051 | U8: ='2.a tábla ÚJ '!D46 -> 5051 | V8: =U8-T8 -> 0 | Z8: =Y8-X8 -> 0 | AA8: =J8+O8+S8+W8 -> 71829 | AB8: =K8+P8+T8+X8 -> 73084 | AC8: =L8+Q8+U8+Y8 -> 73084 | AD8: =AC8-AB8 -> 0
A9: Radnóti M.Ált.Isk. | B9: 20843 | C9: 19551 | D9: 19328 | E9: =D9-C9 -> -223 | F9: =18500+800 -> 19300 | G9: 19426 | H9: ='2.a tábla ÚJ '!H50-'3.sz. tábla (2)'!D9 -> 19649 | I9: =H9-G9 -> 223 | J9: =SUM(B9+F9) -> 40143 | K9: =SUM(C9+G9) -> 38977 | L9: =SUM(D9+H9) -> 38977 | M9: =L9-K9 -> 0 | N9: Radnóti M.Ált.Isk. | O9: 23321 | P9: 23632 | Q9: ='2.a tábla ÚJ '!H44 -> 24493 | R9: =Q9-P9 -> 861 | T9: 4378 | U9: ='2.a tábla ÚJ '!H46 -> 4378 | V9: =U9-T9 -> 0 | Z9: =Y9-X9 -> 0 | AA9: =J9+O9+S9+W9 -> 63464 | AB9: =K9+P9+T9+X9 -> 66987 | AC9: =L9+Q9+U9+Y9 -> 67848 | AD9: =AC9-AB9 -> 861
A10: Fekete István Ált.Isk. | B10: 2231 | C10: 2426 | D10: 2386 | E10: =D10-C10 -> -40 | F10: =2482+100 -> 2582 | G10: 1863 | H10: ='2.a tábla ÚJ '!L50-'3.sz. tábla (2)'!D10 -> 1903 | I10: =H10-G10 -> 40 | J10: =SUM(B10+F10) -> 4813 | K10: =SUM(C10+G10) -> 4289 | L10: =SUM(D10+H10) -> 4289 | M10: =L10-K10 -> 0 | N10: Fekete István Ált.Isk. | O10: 1174 | P10: 1174 | Q10: ='2.a tábla ÚJ '!L44 -> 1618 | R10: =Q10-P10 -> 444 | T10: 850 | U10: ='2.a tábla ÚJ '!L46 -> 850 | V10: =U10-T10 -> 0 | Z10: =Y10-X10 -> 0 | AA10: =J10+O10+S10+W10 -> 5987 | AB10: =K10+P10+T10+X10 -> 6313 | AC10: =L10+Q10+U10+Y10 -> 6757 | AD10: =AC10-AB10 -> 444
A11: Lóczy Lajos Gimnázium | B11: 5521 | C11: 4295 | D11: 4299 | E11: =D11-C11 -> 4 | F11: =31385+800 -> 32185 | G11: 34226 | H11: ='2.a tábla ÚJ '!P50-'3.sz. tábla (2)'!D11 -> 34222 | I11: =H11-G11 -> -4 | J11: =SUM(B11+F11) -> 37706 | K11: =SUM(C11+G11) -> 38521 | L11: =SUM(D11+H11) -> 38521 | M11: =L11-K11 -> 0 | N11: Lóczy Lajos Gimnázium | O11: 12008 | P11: 12851 | Q11: ='2.a tábla ÚJ '!P44 -> 12851 | R11: =Q11-P11 -> 0 | T11: 2407 | U11: ='2.a tábla ÚJ '!P46 -> 2407 | V11: =U11-T11 -> 0 | Z11: =Y11-X11 -> 0 | AA11: =J11+O11+S11+W11 -> 49714 | AB11: =K11+P11+T11+X11 -> 53779 | AC11: =L11+Q11+U11+Y11 -> 53779 | AD11: =AC11-AB11 -> 0
A12: Ferencsik J.Zeneisk. | B12: 44 | C12: 44 | D12: 44 | E12: =D12-C12 -> 0 | F12: =6221+300 -> 6521 | G12: 5848 | H12: ='2.a tábla ÚJ '!U50-'3.sz. tábla (2)'!D12 -> 5848 | I12: =H12-G12 -> 0 | J12: =SUM(B12+F12) -> 6565 | K12: =SUM(C12+G12) -> 5892 | L12: =SUM(D12+H12) -> 5892 | M12: =L12-K12 -> 0 | N12: Ferencsik J.Zeneisk. | O12: 1102 | P12: 1102 | Q12: ='2.a tábla ÚJ '!U44 -> 1705 | R12: =Q12-P12 -> 603 | T12: 1233 | U12: ='2.a tábla ÚJ '!U46 -> 1233 | V12: =U12-T12 -> 0 | Z12: =Y12-X12 -> 0 | AA12: =J12+O12+S12+W12 -> 7667 | AB12: =K12+P12+T12+X12 -> 8227 | AC12: =L12+Q12+U12+Y12 -> 8830 | AD12: =AC12-AB12 -> 603
A13: Intézményellátó Sz. kp. | B13: 0 | C13: 0 | D13: 0 | E13: =D13-C13 -> 0 | F13: =15332+150 -> 15482 | G13: 9390 | H13: ='2.a tábla ÚJ '!Y50 -> 9390 | I13: =H13-G13 -> 0 | J13: =SUM(B13+F13) -> 15482 | K13: =SUM(C13+G13) -> 9390 | L13: =SUM(D13+H13) -> 9390 | M13: =L13-K13 -> 0 | N13: Intézményellátó Sz. kp. | O13: 0 | P13: 0 | Q13: ='2.a tábla ÚJ '!Y44 -> 23 | R13: =Q13-P13 -> 23 | T13: 86 | U13: ='2.a tábla ÚJ '!Y46 -> 86 | V13: =U13-T13 -> 0 | Z13: =Y13-X13 -> 0 | AA13: =J13+O13+S13+W13 -> 15482 | AB13: =K13+P13+T13+X13 -> 9476 | AC13: =L13+Q13+U13+Y13 -> 9499 | AD13: =AC13-AB13 -> 23
A14: Balatonfüredi Intézményellátó Szervezet | B14: =SUM(B8:B13) -> 52529 | C14: =SUM(C8:C13) -> 49087 | D14: =SUM(D8:D13) -> 48508 | E14: =D14-C14 -> -579 | F14: =SUM(F8:F13) -> 99154 | G14: =SUM(G8:G13) -> 90360 | H14: =SUM(H8:H13) -> 90939 | I14: =H14-G14 -> 579 | J14: =SUM(B14+F14) -> 151683 | K14: =SUM(C14+G14) -> 139447 | L14: =SUM(D14+H14) -> 139447 | M14: =L14-K14 -> 0 | N14: Balatonfüredi Intézményellátó Szervezet | O14: =SUM(O8:O13) -> 62460 | P14: =SUM(P8:P13) -> 64414 | Q14: =SUM(Q8:Q13) -> 66345 | R14: =Q14-P14 -> 1931 | S14: =SUM(S8:S13) -> 0 | T14: =SUM(T8:T13) -> 14005 | U14: =SUM(U8:U13) -> 14005 | V14: =U14-T14 -> 0 | W14: =SUM(W8:W13) -> 0 | X14: =SUM(X8:X13) -> 0 | Z14: =Y14-X14 -> 0 | AA14: =SUM(AA8:AA13) -> 214143 | AB14: =SUM(AB8:AB13) -> 217866 | AC14: =SUM(AC8:AC13) -> 219797 | AD14: =AC14-AB14 -> 1931
A15: Városi Könyvtár | B15: 15849 | C15: 17465 | D15: 17465 | E15: =D15-C15 -> 0 | F15: =26631+300 -> 26931 | G15: 24924 | H15: ='2.a tábla ÚJ '!AG50-'3.sz. tábla (2)'!D15 -> 24924 | I15: =H15-G15 -> 0 | J15: =SUM(B15+F15) -> 42780 | K15: =SUM(C15+G15) -> 42389 | L15: =SUM(D15+H15) -> 42389 | M15: =L15-K15 -> 0 | N15: Városi Könyvtár | O15: 3590 | P15: 5103 | Q15: ='2.a tábla ÚJ '!AG44 -> 5103 | R15: =Q15-P15 -> 0 | T15: 4166 | U15: ='2.a tábla ÚJ '!AG46 -> 4166 | V15: =U15-T15 -> 0 | Z15: =Y15-X15 -> 0 | AA15: =J15+O15+S15+W15 -> 46370 | AB15: =K15+P15+T15+X15 -> 51658 | AC15: =L15+Q15+U15+Y15 -> 51658 | AD15: =AC15-AB15 -> 0
A16: Városi Rendelőint. | B16: 0 | C16: 1557 | D16: 1557 | E16: =D16-C16 -> 0 | F16: =24460+400 -> 24860 | G16: 19341 | H16: ='2.a tábla ÚJ '!AL50-'3.sz. tábla (2)'!D16 -> 19341 | I16: =H16-G16 -> 0 | J16: =SUM(B16+F16) -> 24860 | K16: =SUM(C16+G16) -> 20898 | L16: =SUM(D16+H16) -> 20898 | M16: =L16-K16 -> 0 | N16: Városi Rendelőint. | O16: 123260 | P16: 128199 | Q16: ='2.a tábla ÚJ '!AL44 -> 128199 | R16: =Q16-P16 -> 0 | T16: 9380 | U16: ='2.a tábla ÚJ '!AL46 -> 9380 | V16: =U16-T16 -> 0 | Z16: =Y16-X16 -> 0 | AA16: =J16+O16+S16+W16 -> 148120 | AB16: =K16+P16+T16+X16 -> 158477 | AC16: =L16+Q16+U16+Y16 -> 158477 | AD16: =AC16-AB16 -> 0
A17: Városi Bölcsőde | B17: 27823 | C17: 33124 | D17: 33038 | E17: =D17-C17 -> -86 | F17: =23621+200 -> 23821 | G17: 18504 | H17: ='2.a tábla ÚJ '!AP50-'3.sz. tábla (2)'!D17 -> 18590 | I17: =H17-G17 -> 86 | J17: =SUM(B17+F17) -> 51644 | K17: =SUM(C17+G17) -> 51628 | L17: =SUM(D17+H17) -> 51628 | M17: =L17-K17 -> 0 | N17: Városi Bölcsőde | O17: 1192 | P17: 1583 | Q17: ='2.a tábla ÚJ '!AP44 -> 1583 | R17: =Q17-P17 -> 0 | T17: 2725 | U17: ='2.a tábla ÚJ '!AP46 -> 2725 | V17: =U17-T17 -> 0 | Z17: =Y17-X17 -> 0 | AA17: =J17+O17+S17+W17 -> 52836 | AB17: =K17+P17+T17+X17 -> 55936 | AC17: =L17+Q17+U17+Y17 -> 55936 | AD17: =AC17-AB17 -> 0
A18: Költségvetési szervek összesen: | B18: =+B14+B15+B16+B17 -> 96201 | C18: =+C14+C15+C16+C17 -> 101233 | D18: =+D14+D15+D16+D17 -> 100568 | E18: =D18-C18 -> -665 | F18: =+F14+F15+F16+F17 -> 174766 | G18: =+G14+G15+G16+G17 -> 153129 | H18: =+H14+H15+H16+H17 -> 153794 | I18: =H18-G18 -> 665 | J18: =+J14+J15+J16+J17 -> 270967 | K18: =+K14+K15+K16+K17 -> 254362 | L18: =+L14+L15+L16+L17 -> 254362 | M18: =L18-K18 -> 0 | N18: Költségvetési szervek összesen: | O18: =O14+O15+O16+O17 -> 190502 | P18: =P14+P15+P16+P17 -> 199299 | Q18: =Q14+Q15+Q16+Q17 -> 201230 | R18: =Q18-P18 -> 1931 | S18: =S14+S15+S16+S17 -> 0 | T18: =T14+T15+T16+T17 -> 30276 | U18: =U14+U15+U16+U17 -> 30276 | V18: =U18-T18 -> 0 | W18: =W14+W15+W16+W17 -> 0 | X18: =X14+X15+X16+X17 -> 0 | Z18: =Y18-X18 -> 0 | AA18: =AA14+AA15+AA16+AA17 -> 461469 | AB18: =AB14+AB15+AB16+AB17 -> 483937 | AC18: =AC14+AC15+AC16+AC17 -> 485868 | AD18: =AC18-AB18 -> 1931
A19: Önkormányzati Hivatal | B19: 180269 | C19: 182890 | D19: 182890 | E19: =D19-C19 -> 0 | F19: =148110+2000 -> 150110 | G19: 127660 | H19: ='2.a tábla ÚJ '!AY50-'3.sz. tábla (2)'!D19 -> 127660 | I19: =H19-G19 -> 0 | J19: =SUM(B19+F19) -> 330379 | K19: =C19+G19 -> 310550 | L19: =SUM(D19+H19) -> 310550 | M19: =L19-K19 -> 0 | N19: Önkormányzati Hivatal | O19: 36176 | P19: 42358 | Q19: ='2.a tábla ÚJ '!AY44 -> 42383 | R19: =Q19-P19 -> 25 | T19: 20305 | U19: ='2.a tábla ÚJ '!AY46 -> 20305 | V19: =U19-T19 -> 0 | Z19: =Y19-X19 -> 0 | AA19: =J19+O19+S19+W19 -> 366555 | AB19: =K19+P19+T19+X19 -> 373213 | AC19: =L19+Q19+U19+Y19 -> 373238 | AD19: =AC19-AB19 -> 25
A20: Intézmények összesen: | B20: =SUM(B18:B19) -> 276470 | C20: =SUM(C18:C19) -> 284123 | D20: =SUM(D18:D19) -> 283458 | E20: =D20-C20 -> -665 | F20: =SUM(F18:F19) -> 324876 | G20: =SUM(G18:G19) -> 280789 | H20: =SUM(H18:H19) -> 281454 | I20: =H20-G20 -> 665 | J20: =SUM(J18:J19) -> 601346 | K20: =SUM(K18:K19) -> 564912 | L20: =SUM(L18:L19) -> 564912 | M20: =L20-K20 -> 0 | N20: Intézmények összesen: | O20: =SUM(O18:O19) -> 226678 | P20: =SUM(P18:P19) -> 241657 | Q20: =SUM(Q18:Q19) -> 243613 | R20: =Q20-P20 -> 1956 | S20: =SUM(S18:S19) -> 0 | T20: =SUM(T18:T19) -> 50581 | U20: =SUM(U18:U19) -> 50581 | V20: =U20-T20 -> 0 | W20: =SUM(W18:W19) -> 0 | X20: =SUM(X18:X19) -> 0 | Z20: =Y20-X20 -> 0 | AA20: =SUM(AA18:AA19) -> 828024 | AB20: =SUM(AB18:AB19) -> 857150 | AC20: =SUM(AC18:AC19) -> 859106 | AD20: =AC20-AB20 -> 1956
A21: Önkormányzat | B21: =B24-B20 -> 765069 | C21: =C24-C20 -> 923508 | D21: =D24-D20 -> 954103 | E21: =D21-C21 -> 30595 | F21: -324876 | G21: -280789 | H21: =-H20 -> -281454 | I21: =H21-G21 -> -665 | M21: =L21-K21 -> 0 | N21: Önkormányzat | O21: =2443264+4983 -> 2448247 | P21: 4773796 | Q21: ='2.sz.tábla (2)'!D72-'2.sz.tábla (2)'!D6-'2.sz.tábla (2)'!D21 -> 4761728 | R21: =Q21-P21 -> -12068 | S21: 682920 | T21: 852305 | U21: ='2.sz.tábla (2)'!D74 -> 852305 | V21: =U21-T21 -> 0 | W21: 8600 | X21: 662800 | Y21: ='2.sz.tábla (2)'!D77 -> 693348 | Z21: =Y21-X21 -> 30548 | AA21: =J21+O21+S21+W21+F21+B21 -> 3579960 | AB21: =K21+P21+T21+X21+G21+C21 -> 6931620 | AC21: =L21+Q21+U21+Y21+H21+D21 -> 6980030 | AD21: =AC21-AB21 -> 48410
A22: Mindösszesen: | B22: =SUM(B20:B21) -> 1041539 | C22: =SUM(C20:C21) -> 1207631 | D22: =SUM(D20:D21) -> 1237561 | E22: =D22-C22 -> 29930 | F22: =SUM(F20:F21) -> 0 | G22: =SUM(G20:G21) -> 0 | I22: =H22-G22 -> 0 | J22: =SUM(J20:J21) -> 601346 | K22: =SUM(K20:K21) -> 564912 | L22: =SUM(L20:L21) -> 564912 | M22: =L22-K22 -> 0 | N22: Mindösszesen: | O22: =SUM(O20:O21) -> 2674925 | P22: =SUM(P20:P21) -> 5015453 | Q22: =SUM(Q20:Q21) -> 5005341 | R22: =Q22-P22 -> -10112 | S22: =SUM(S20:S21) -> 682920 | T22: =SUM(T20:T21) -> 902886 | U22: =SUM(U20:U21) -> 902886 | V22: =U22-T22 -> 0 | W22: =SUM(W20:W21) -> 8600 | X22: =SUM(X20:X21) -> 662800 | Y22: =SUM(Y20:Y21) -> 693348 | Z22: =Y22-X22 -> 30548 | AA22: =SUM(AA20:AA21) -> 4407984 | AB22: =SUM(AB20:AB21) -> 7788770 | AC22: =SUM(AC20:AC21) -> 7839136 | AD22: =AC22-AB22 -> 50366
B24: 1041539 | C24: 1207631 | D24: ='2.sz.tábla (2)'!D6+'2.sz.tábla (2)'!D21 -> 1237561 | E24: 1041539

Sheet 4.sz.tábla 
A1: MEGNEVEZÉS | B1: SZEMÉLYI JUTTATÁS | F1: MUNKAADÓKAT TERH. JÁRULÉKOK ÉS SZOCIÁLIS HOZZÁJÁRULÁSI ADÓ | J1: DOLOGI KIADÁSOK | N1: ELLÁTOTTAK PÉNZBELI JUTTATÁSAI | V1: MEGNEVEZÉS | W1: EGYÉB MŰKÖDÉSI CÉLÚ KIADÁSOK | AA1: BERUHÁZÁSOK | AE1: FELÚJÍTÁSOK | AI1: EGYÉB FELHALMOZÁSI KIADÁSOK | AM1: MEGNEVEZÉS | AN1: FINANSZÍROZÁSI KIADÁSOK | AR1: TARTALÉKOK | AV1: ÖSSZESEN
B2: 2016. évi eredeti ei. | C2: 2016. évi módosított ei. III. | D2: 2016. évi módosított ei. IV. | E2: Eltérés | F2: 2016. évi eredeti ei. | G2: 2016. évi módosított ei. III. | H2: 2016. évi módosított ei. IV. | I2: Eltérés | J2: 2016. évi eredeti ei. | K2: 2016. évi módosított ei. III. | L2: 2016. évi módosított ei. IV. | M2: Eltérés | N2: 2016. évi eredeti ei. | O2: 2016. évi módosított ei. III. | P2: 2016. évi módosított ei. IV. | Q2: Eltérés | W2: 2016. évi eredeti ei. | X2: 2016. évi módosított ei. III. | Y2: 2016. évi módosított ei. IV. | Z2: Eltérés | AA2: 2016. évi eredeti ei. | AB2: 2016. évi módosított ei. III. | AC2: 2016. évi módosított ei. IV. | AD2: Eltérés | AE2: 2016. évi eredeti ei. | AF2: 2016. évi módosított ei. III. | AG2: 2016. évi módosított ei. IV. | AH2: Eltérés | AI2: 2016. évi eredeti ei. | AJ2: 2016. évi módosított ei. III. | AK2: 2016. évi módosított ei. IV. | AL2: Eltérés | AN2: 2016. évi eredeti ei. | AO2: 2016. évi módosított ei. III. | AP2: 2016. évi módosított ei. IV. | AQ2: Eltérés | AR2: 2016. évi eredeti ei. | AS2: 2016. évi módosított ei. III. | AT2: 2016. évi módosított ei. IV. | AU2: Eltérés | AV2: 2016. évi eredeti ei. | AW2: 2016. évi módosított ei. III. | AX2: 2016. évi módosított ei. IV. | AY2: Eltérés
A3: Eötvös L. Ált.Isk. | B3: 11401 | C3: 12260 | D3: 12196 | E3: =D3-C3 -> -64 | F3: 3141 | G3: 3373 | H3: 3255 | I3: =H3-G3 -> -118 | J3: 56287 | K3: 56435 | L3: 52173 | M3: =L3-K3 -> -4262 | Q3: =P3-O3 -> 0 | V3: Eötvös L.Ált.Isk. | Y3: 4444 | Z3: =Y3-X3 -> 4444 | AA3: =200+800 -> 1000 | AB3: 1016 | AC3: ='4a. sz. tábla (3)'!E5 -> 1016 | AD3: =AC3-AB3 -> 0 | AH3: =AG3-AF3 -> 0 | AL3: =AK3-AJ3 -> 0 | AM3: Eötvös L. Ált.Isk. | AQ3: =AP3-AO3 -> 0 | AU3: =AT3-AS3 -> 0 | AV3: =SUM(AE3,AI3,AN3,AA3,W3,N3,J3,F3,B3) -> 71829 | AW3: =SUM(AF3,AJ3,AO3,AB3,X3,O3,K3,G3,C3) -> 73084 | AX3: =SUM(AG3,AK3,AP3,AC3,Y3,P3,L3,H3,D3) -> 73084 | AY3: =AX3-AW3 -> 0
A4: Radnóti M.Ált.Isk. | B4: 10730 | C4: 13722 | D4: 13600 | E4: =D4-C4 -> -122 | F4: 2950 | G4: 3760 | H4: 3693 | I4: =H4-G4 -> -67 | J4: 48857 | K4: 48707 | L4: 47568 | M4: =L4-K4 -> -1139 | Q4: =P4-O4 -> 0 | V4: Radnóti M.Ált.Isk. | Y4: 2384 | Z4: =Y4-X4 -> 2384 | AA4: =127+800 -> 927 | AB4: 798 | AC4: ='4a. sz. tábla (3)'!E15 -> 603 | AD4: =AC4-AB4 -> -195 | AH4: =AG4-AF4 -> 0 | AL4: =AK4-AJ4 -> 0 | AM4: Radnóti M.Ált.Isk. | AQ4: =AP4-AO4 -> 0 | AU4: =AT4-AS4 -> 0 | AV4: =SUM(AE4,AI4,AN4,AA4,W4,N4,J4,F4,B4) -> 63464 | AW4: =SUM(AF4,AJ4,AO4,AB4,X4,O4,K4,G4,C4) -> 66987 | AX4: =SUM(AG4,AK4,AP4,AC4,Y4,P4,L4,H4,D4) -> 67848 | AY4: =AX4-AW4 -> 861
A5: Fekete István Ált.Isk. | B5: 832 | C5: 881 | D5: 892 | E5: =D5-C5 -> 11 | F5: 228 | G5: 241 | H5: 244 | I5: =H5-G5 -> 3 | J5: 4783 | K5: 5047 | L5: 4497 | M5: =L5-K5 -> -550 | Q5: =P5-O5 -> 0 | V5: Fekete István Ált.Isk. | Y5: 981 | Z5: =Y5-X5 -> 981 | AA5: =44+100 -> 144 | AB5: 144 | AC5: ='4a. sz. tábla (3)'!E24 -> 143 | AD5: =AC5-AB5 -> -1 | AH5: =AG5-AF5 -> 0 | AL5: =AK5-AJ5 -> 0 | AM5: Fekete István Ált.Isk. | AQ5: =AP5-AO5 -> 0 | AU5: =AT5-AS5 -> 0 | AV5: =SUM(AE5,AI5,AN5,AA5,W5,N5,J5,F5,B5) -> 5987 | AW5: =SUM(AF5,AJ5,AO5,AB5,X5,O5,K5,G5,C5) -> 6313 | AX5: =SUM(AG5,AK5,AP5,AC5,Y5,P5,L5,H5,D5) -> 6757 | AY5: =AX5-AW5 -> 444
A6: Lóczy Lajos Gimnázium | B6: 7370 | C6: 8652 | D6: 8874 | E6: =D6-C6 -> 222 | F6: 1999 | G6: 2345 | H6: 2370 | I6: =H6-G6 -> 25 | J6: 39418 | K6: 41855 | L6: 39133 | M6: =L6-K6 -> -2722 | Q6: =P6-O6 -> 0 | R6: =#REF!-#REF! -> #REF! | S6: =R6-#REF! -> #REF! | T6: =S6-R6 -> #REF! | U6: =T6-S6 -> #REF! | V6: Lóczy Lajos Gimnázium | Y6: 2941 | Z6: =Y6-X6 -> 2941 | AA6: =127+800 -> 927 | AB6: 927 | AC6: ='4a. sz. tábla (3)'!E31 -> 461 | AD6: =AC6-AB6 -> -466 | AH6: =AG6-AF6 -> 0 | AL6: =AK6-AJ6 -> 0 | AM6: Lóczy Lajos Gimnázium | AQ6: =AP6-AO6 -> 0 | AU6: =AT6-AS6 -> 0 | AV6: =SUM(AE6,AI6,AN6,AA6,W6,N6,J6,F6,B6) -> 49714 | AW6: =SUM(AF6,AJ6,AO6,AB6,X6,O6,K6,G6,C6) -> 53779 | AX6: =SUM(AG6,AK6,AP6,AC6,Y6,P6,L6,H6,D6) -> 53779 | AY6: =AX6-AW6 -> 0
A7: Ferencsik J.Zeneisk. | B7: 1464 | C7: 1561 | D7: 1548 | E7: =D7-C7 -> -13 | F7: 418 | G7: 444 | H7: 423 | I7: =H7-G7 -> -21 | J7: 5485 | K7: 5922 | L7: 6525 | M7: =L7-K7 -> 603 | Q7: =P7-O7 -> 0 | V7: Ferencsik J.Zeneisk. | Y7: 43 | Z7: =Y7-X7 -> 43 | AA7: 300 | AB7: 300 | AC7: ='4a. sz. tábla (3)'!E45 -> 291 | AD7: =AC7-AB7 -> -9 | AH7: =AG7-AF7 -> 0 | AL7: =AK7-AJ7 -> 0 | AM7: Ferencsik J.Zeneisk. | AQ7: =AP7-AO7 -> 0 | AU7: =AT7-AS7 -> 0 | AV7: =SUM(AE7,AI7,AN7,AA7,W7,N7,J7,F7,B7) -> 7667 | AW7: =SUM(AF7,AJ7,AO7,AB7,X7,O7,K7,G7,C7) -> 8227 | AX7: =SUM(AG7,AK7,AP7,AC7,Y7,P7,L7,H7,D7) -> 8830 | AY7: =AX7-AW7 -> 603
A8: Intézményellátó kp. | B8: 8038 | C8: 5859 | D8: 5562 | E8: =D8-C8 -> -297 | F8: 2194 | G8: 1597 | H8: 1539 | I8: =H8-G8 -> -58 | J8: 5100 | K8: 1886 | L8: 2398 | M8: =L8-K8 -> 512 | Q8: =P8-O8 -> 0 | V8: Intézményellátó kp. | Y8: 0 | Z8: =Y8-X8 -> 0 | AA8: 150 | AB8: 134 | AC8: 0 | AD8: =AC8-AB8 -> -134 | AH8: =AG8-AF8 -> 0 | AL8: =AK8-AJ8 -> 0 | AM8: Intézményellátó kp. | AQ8: =AP8-AO8 -> 0 | AU8: =AT8-AS8 -> 0 | AV8: =SUM(AE8,AI8,AN8,AA8,W8,N8,J8,F8,B8) -> 15482 | AW8: =SUM(AF8,AJ8,AO8,AB8,X8,O8,K8,G8,C8) -> 9476 | AX8: =SUM(AG8,AK8,AP8,AC8,Y8,P8,L8,H8,D8) -> 9499 | AY8: =AX8-AW8 -> 23
A9: Balatonfüredi Intézményellátó Szervezet | B9: =SUM(B3:B8) -> 39835 | C9: =SUM(C3:C8) -> 42935 | D9: =SUM(D3:D8) -> 42672 | E9: =D9-C9 -> -263 | F9: =SUM(F3:F8) -> 10930 | G9: =SUM(G3:G8) -> 11760 | H9: =SUM(H3:H8) -> 11524 | I9: =H9-G9 -> -236 | J9: =SUM(J3:J8) -> 159930 | K9: =SUM(K3:K8) -> 159852 | L9: =SUM(L3:L8) -> 152294 | M9: =L9-K9 -> -7558 | N9: =SUM(N3:N8) -> 0 | O9: =SUM(O3:O8) -> 0 | Q9: =P9-O9 -> 0 | R9: =SUM(R3:R8) -> #REF! | S9: =SUM(S3:S8) -> #REF! | T9: =SUM(T3:T8) -> #REF! | U9: =SUM(U3:U8) -> #REF! | V9: Balatonfüredi Intézményellátó Szervezet | W9: =SUM(W3:W8) -> 0 | X9: =SUM(X3:X8) -> 0 | Y9: =SUM(Y3:Y8) -> 10793 | Z9: =Y9-X9 -> 10793 | AA9: =SUM(AA3:AA8) -> 3448 | AB9: =SUM(AB3:AB8) -> 3319 | AC9: =SUM(AC3:AC8) -> 2514 | AD9: =AC9-AB9 -> -805 | AE9: =SUM(AE3:AE8) -> 0 | AF9: =SUM(AF3:AF8) -> 0 | AH9: =AG9-AF9 -> 0 | AI9: =SUM(AI3:AI8) -> 0 | AJ9: =SUM(AJ3:AJ8) -> 0 | AL9: =AK9-AJ9 -> 0 | AM9: Balatonfüredi Intézményellátó Szervezet | AN9: =SUM(AN3:AN8) -> 0 | AO9: =SUM(AO3:AO8) -> 0 | AQ9: =AP9-AO9 -> 0 | AR9: =SUM(AR3:AR8) -> 0 | AS9: =SUM(AS3:AS8) -> 0 | AU9: =AT9-AS9 -> 0 | AV9: =SUM(AV3:AV8) -> 214143 | AW9: =SUM(AW3:AW8) -> 217866 | AX9: =SUM(AX3:AX8) -> 219797 | AY9: =AX9-AW9 -> 1931
A10: Városi Könyvtár | B10: 25437 | C10: 28069 | D10: 28069 | E10: =D10-C10 -> 0 | F10: 6824 | G10: 7393 | H10: 7393 | I10: =H10-G10 -> 0 | J10: 11138 | K10: 12029 | L10: 12029 | M10: =L10-K10 -> 0 | Q10: =P10-O10 -> 0 | V10: Városi Könyvtár | Z10: =Y10-X10 -> 0 | AA10: =2671+300 -> 2971 | AB10: 4167 | AC10: ='4a. sz. tábla (3)'!E54 -> 4167 | AD10: =AC10-AB10 -> 0 | AH10: =AG10-AF10 -> 0 | AL10: =AK10-AJ10 -> 0 | AM10: Városi Könyvtár | AQ10: =AP10-AO10 -> 0 | AU10: =AT10-AS10 -> 0 | AV10: =SUM(AE10,AI10,AN10,AA10,W10,N10,J10,F10,B10) -> 46370 | AW10: =SUM(AF10,AJ10,AO10,AB10,X10,O10,K10,G10,C10) -> 51658 | AX10: =SUM(AG10,AK10,AP10,AC10,Y10,P10,L10,H10,D10) -> 51658 | AY10: =AX10-AW10 -> 0
A11: Városi Rendelőint. | B11: 68852 | C11: 76834 | D11: 76834 | E11: =D11-C11 -> 0 | F11: 18090 | G11: 20815 | H11: 20815 | I11: =H11-G11 -> 0 | J11: 60778 | K11: 59908 | L11: 59908 | M11: =L11-K11 -> 0 | Q11: =P11-O11 -> 0 | V11: Városi Rendelőint. | Z11: =Y11-X11 -> 0 | AA11: 400 | AB11: 920 | AC11: ='4a. sz. tábla (3)'!E70 -> 920 | AD11: =AC11-AB11 -> 0 | AH11: =AG11-AF11 -> 0 | AL11: =AK11-AJ11 -> 0 | AM11: Városi Rendelőint. | AQ11: =AP11-AO11 -> 0 | AU11: =AT11-AS11 -> 0 | AV11: =SUM(AE11,AI11,AN11,AA11,W11,N11,J11,F11,B11) -> 148120 | AW11: =SUM(AF11,AJ11,AO11,AB11,X11,O11,K11,G11,C11) -> 158477 | AX11: =SUM(AG11,AK11,AP11,AC11,Y11,P11,L11,H11,D11) -> 158477 | AY11: =AX11-AW11 -> 0
A12: Bölcsöde | B12: 32439 | C12: 33538 | D12: 33538 | E12: =D12-C12 -> 0 | F12: 8170 | G12: 9038 | H12: 9038 | I12: =H12-G12 -> 0 | J12: 12027 | K12: 12960 | L12: 12960 | M12: =L12-K12 -> 0 | Q12: =P12-O12 -> 0 | V12: Városi Bölcsőde | Z12: =Y12-X12 -> 0 | AA12: 200 | AB12: 400 | AC12: ='4a. sz. tábla (3)'!E63 -> 400 | AD12: =AC12-AB12 -> 0 | AH12: =AG12-AF12 -> 0 | AL12: =AK12-AJ12 -> 0 | AM12: Bölcsöde | AQ12: =AP12-AO12 -> 0 | AU12: =AT12-AS12 -> 0 | AV12: =SUM(AE12,AI12,AN12,AA12,W12,N12,J12,F12,B12) -> 52836 | AW12: =SUM(AF12,AJ12,AO12,AB12,X12,O12,K12,G12,C12) -> 55936 | AX12: =SUM(AG12,AK12,AP12,AC12,Y12,P12,L12,H12,D12) -> 55936 | AY12: =AX12-AW12 -> 0
A13: Költségvetési szervek összesen: | B13: =B9+B10+B11+B12 -> 166563 | C13: =C9+C10+C11+C12 -> 181376 | D13: =D9+D10+D11+D12 -> 181113 | E13: =D13-C13 -> -263 | F13: =F9+F10+F11+F12 -> 44014 | G13: =G9+G10+G11+G12 -> 49006 | H13: =H9+H10+H11+H12 -> 48770 | I13: =H13-G13 -> -236 | J13: =J9+J10+J11+J12 -> 243873 | K13: =K9+K10+K11+K12 -> 244749 | L13: =L9+L10+L11+L12 -> 237191 | M13: =L13-K13 -> -7558 | N13: =N9+N10+N11+N12 -> 0 | O13: =O9+O10+O11+O12 -> 0 | Q13: =P13-O13 -> 0 | R13: =R9+R10+R11+R12 -> #REF! | S13: =S9+S10+S11+S12 -> #REF! | T13: =T9+T10+T11+T12 -> #REF! | U13: =U9+U10+U11+U12 -> #REF! | V13: Költségvetési szervek összesen: | W13: =W9+W10+W11+W12 -> 0 | X13: =X9+X10+X11+X12 -> 0 | Y13: =Y9+Y10+Y11+Y12 -> 10793 | Z13: =Y13-X13 -> 10793 | AA13: =AA9+AA10+AA11+AA12 -> 7019 | AB13: =AB9+AB10+AB11+AB12 -> 8806 | AC13: =AC9+AC10+AC11+AC12 -> 8001 | AD13: =AC13-AB13 -> -805 | AE13: =AE9+AE10+AE11+AE12 -> 0 | AF13: =AF9+AF10+AF11+AF12 -> 0 | AH13: =AG13-AF13 -> 0 | AI13: =AI9+AI10+AI11+AI12 -> 0 | AJ13: =AJ9+AJ10+AJ11+AJ12 -> 0 | AL13: =AK13-AJ13 -> 0 | AM13: Költségvetési szervek összesen: | AN13: =AN9+AN10+AN11+AN12 -> 0 | AO13: =AO9+AO10+AO11+AO12 -> 0 | AQ13: =AP13-AO13 -> 0 | AR13: =AR9+AR10+AR11+AR12 -> 0 | AS13: =AS9+AS10+AS11+AS12 -> 0 | AU13: =AT13-AS13 -> 0 | AV13: =AV9+AV10+AV11+AV12 -> 461469 | AW13: =AW9+AW10+AW11+AW12 -> 483937 | AX13: =AX9+AX10+AX11+AX12 -> 485868 | AY13: =AX13-AW13 -> 1931
A14: Önkormányzati Hivatal | B14: 218950 | C14: 222753 | D14: ='5.tábla (2)'!D7 -> 222753 | E14: =D14-C14 -> 0 | F14: 63277 | G14: 64917 | H14: ='5.tábla (2)'!D8 -> 64917 | I14: =H14-G14 -> 0 | J14: 79212 | K14: 79211 | L14: ='5.tábla (2)'!D9 -> 79211 | M14: =L14-K14 -> 0 | N14: 2416 | O14: 2439 | P14: ='5.tábla (2)'!D15+'5.tábla (2)'!D21 -> 2439 | Q14: =P14-O14 -> 0 | V14: Önkormányzati Hivatal | X14: 1011 | Y14: ='5.tábla (2)'!D26 -> 1036 | Z14: =Y14-X14 -> 25 | AA14: =700+2000 -> 2700 | AB14: 2882 | AC14: ='4a. sz. tábla (3)'!E74 -> 2882 | AD14: =AC14-AB14 -> 0 | AH14: =AG14-AF14 -> 0 | AL14: =AK14-AJ14 -> 0 | AM14: Önkormányzati Hivatal | AQ14: =AP14-AO14 -> 0 | AU14: =AT14-AS14 -> 0 | AV14: =SUM(AE14,AI14,AN14,AA14,W14,N14,J14,F14,B14) -> 366555 | AW14: =SUM(AF14,AJ14,AO14,AB14,X14,O14,K14,G14,C14) -> 373213 | AX14: =SUM(AG14,AK14,AP14,AC14,Y14,P14,L14,H14,D14) -> 373238 | AY14: =AX14-AW14 -> 25
A15: Intézmények összesen: | B15: =SUM(B13:B14) -> 385513 | C15: =SUM(C13:C14) -> 404129 | D15: =SUM(D13:D14) -> 403866 | E15: =D15-C15 -> -263 | F15: =SUM(F13:F14) -> 107291 | G15: =SUM(G13:G14) -> 113923 | H15: =SUM(H13:H14) -> 113687 | I15: =H15-G15 -> -236 | J15: =SUM(J13:J14) -> 323085 | K15: =SUM(K13:K14) -> 323960 | L15: =SUM(L13:L14) -> 316402 | M15: =L15-K15 -> -7558 | N15: =SUM(N13:N14) -> 2416 | O15: =SUM(O13:O14) -> 2439 | P15: =SUM(P13:P14) -> 2439 | Q15: =P15-O15 -> 0 | R15: =SUM(R13:R14) -> #REF! | S15: =SUM(S13:S14) -> #REF! | T15: =SUM(T13:T14) -> #REF! | U15: =SUM(U13:U14) -> #REF! | V15: Intézmények összesen: | W15: =SUM(W13:W14) -> 0 | X15: =SUM(X13:X14) -> 1011 | Y15: =SUM(Y13:Y14) -> 11829 | Z15: =Y15-X15 -> 10818 | AA15: =SUM(AA13:AA14) -> 9719 | AB15: =SUM(AB13:AB14) -> 11688 | AC15: =SUM(AC13:AC14) -> 10883 | AD15: =AC15-AB15 -> -805 | AE15: =SUM(AE13:AE14) -> 0 | AF15: =SUM(AF13:AF14) -> 0 | AH15: =AG15-AF15 -> 0 | AI15: =SUM(AI13:AI14) -> 0 | AJ15: =SUM(AJ13:AJ14) -> 0 | AL15: =AK15-AJ15 -> 0 | AM15: Intézmények összesen: | AN15: =SUM(AN13:AN14) -> 0 | AO15: =SUM(AO13:AO14) -> 0 | AQ15: =AP15-AO15 -> 0 | AR15: =SUM(AR13:AR14) -> 0 | AS15: =SUM(AS13:AS14) -> 0 | AU15: =AT15-AS15 -> 0 | AV15: =SUM(AV13:AV14) -> 828024 | AW15: =SUM(AW13:AW14) -> 857150 | AX15: =SUM(AX13:AX14) -> 859106 | AY15: =AX15-AW15 -> 1956
A16: Önkormányzat | B16: 47295 | C16: 82596 | D16: ='5.tábla (2)'!D34 -> 81379 | E16: =D16-C16 -> -1217 | F16: 11035 | G16: 26104 | H16: ='5.tábla (2)'!D44 -> 23804 | I16: =H16-G16 -> -2300 | J16: 552790 | K16: 918089 | L16: ='5.tábla (2)'!D53 -> 920922 | M16: =L16-K16 -> 2833 | N16: 29250 | O16: 30254 | P16: ='5.tábla (2)'!D90 -> 30254 | Q16: =P16-O16 -> 0 | V16: Önkormányzat | W16: 899741 | X16: 977991 | Y16: ='5.tábla (2)'!D100 -> 966923 | Z16: =Y16-X16 -> -11068 | AA16: 1146034 | AB16: 1812767 | AC16: ='7. sz. tábla 1'!D109 -> 1809868 | AD16: =AC16-AB16 -> -2899 | AE16: 93225 | AF16: 91016 | AG16: ='6.sz.tábla (3)'!D140 -> 91016 | AH16: =AG16-AF16 -> 0 | AI16: 459290 | AJ16: 607522 | AK16: ='7. sz. tábla 1'!D176 -> 607522 | AL16: =AK16-AJ16 -> 0 | AM16: Önkormányzat | AN16: 220545 | AO16: 2355926 | AP16: ='7. sz. tábla 1'!D182 -> 2355183 | AQ16: =AP16-AO16 -> -743 | AR16: 120755 | AS16: 29355 | AT16: ='1.sz.tábla (2)'!D28 -> 93159 | AU16: =AT16-AS16 -> 63804 | AV16: =SUM(AE16,AI16,AN16,AA16,W16,N16,J16,F16,B16,AR16) -> 3579960 | AW16: =SUM(AF16,AJ16,AO16,AB16,X16,O16,K16,G16,C16,AS16) -> 6931620 | AX16: =SUM(AG16,AK16,AP16,AC16,Y16,P16,L16,H16,D16,AT16) -> 6980030 | AY16: =AX16-AW16 -> 48410
A17: Mindösszesen: | B17: =SUM(B15:B16) -> 432808 | C17: =SUM(C15:C16) -> 486725 | D17: =SUM(D15:D16) -> 485245 | E17: =D17-C17 -> -1480 | F17: =SUM(F15:F16) -> 118326 | G17: =SUM(G15:G16) -> 140027 | H17: =SUM(H15:H16) -> 137491 | I17: =H17-G17 -> -2536 | J17: =SUM(J15:J16) -> 875875 | K17: =SUM(K15:K16) -> 1242049 | L17: =SUM(L15:L16) -> 1237324 | M17: =L17-K17 -> -4725 | N17: =SUM(N15:N16) -> 31666 | O17: =SUM(O15:O16) -> 32693 | P17: =SUM(P15:P16) -> 32693 | Q17: =P17-O17 -> 0 | R17: =SUM(R15:R16) -> #REF! | S17: =SUM(S15:S16) -> #REF! | T17: =SUM(T15:T16) -> #REF! | U17: =SUM(U15:U16) -> #REF! | V17: Mindösszesen: | W17: =SUM(W15:W16) -> 899741 | X17: =SUM(X15:X16) -> 979002 | Y17: =SUM(Y15:Y16) -> 978752 | Z17: =Y17-X17 -> -250 | AA17: =SUM(AA15:AA16) -> 1155753 | AB17: =SUM(AB15:AB16) -> 1824455 | AC17: =SUM(AC15:AC16) -> 1820751 | AD17: =AC17-AB17 -> -3704 | AE17: =SUM(AE15:AE16) -> 93225 | AF17: =SUM(AF15:AF16) -> 91016 | AG17: =SUM(AG15:AG16) -> 91016 | AH17: =AG17-AF17 -> 0 | AI17: =SUM(AI15:AI16) -> 459290 | AJ17: =SUM(AJ15:AJ16) -> 607522 | AK17: =SUM(AK15:AK16) -> 607522 | AL17: =AK17-AJ17 -> 0 | AM17: Mindösszesen: | AN17: =SUM(AN15:AN16) -> 220545 | AO17: =SUM(AO15:AO16) -> 2355926 | AP17: =SUM(AP15:AP16) -> 2355183 | AQ17: =AP17-AO17 -> -743 | AR17: =SUM(AR15:AR16) -> 120755 | AS17: =SUM(AS15:AS16) -> 29355 | AT17: =SUM(AT15:AT16) -> 93159 | AU17: =AT17-AS17 -> 63804 | AV17: =SUM(AV15:AV16) -> 4407984 | AW17: =SUM(AW15:AW16) -> 7788770 | AX17: =SUM(AX15:AX16) -> 7839136 | AY17: =AX17-AW17 -> 50366

Sheet 4a. sz. tábla  (3)
A2: INTÉZMÉNYI SAJÁT HATÁSKÖRŰ FEJLESZTÉSEK
A4: Intézmény | B4: Megnevezés | C4: 2016. évi eredeti ei. | D4: 2016. évi módosított ei. III. | E4: 2016. évi módosított ei. IV. | F4: Eltérés
A5: EÖTVÖS ISKOLA | C5: =SUM(C6:C13) -> 1000 | D5: =SUM(D6:D13) -> 1016 | E5: =SUM(E6:E13) -> 1016 | F5: =E5-D5 -> 0
B6: Fénymásoló | C6: 184 | D6: 143 | E6: 143 | F6: =E6-D6 -> 0
B7: Szárítógép | C7: 160 | D7: 120 | E7: 120 | F7: =E7-D7 -> 0
B8: Takarító eszközök | C8: 57 | D8: 37 | E8: 37 | F8: =E8-D8 -> 0
B9: Szerszám | F9: =E9-D9 -> 0
B10: Tornatermi eszközök | F10: =E10-D10 -> 0
B11: Tantermi bútor | C11: 312 | D11: 704 | E11: 704 | F11: =E11-D11 -> 0
B12: CD lejátszó | F12: =E12-D12 -> 0
B13: Egyéb kisértékű eszközök | C13: 287 | D13: 12 | E13: 12 | F13: =E13-D13 -> 0
A15: RADNÓTI ISKOLA | C15: =SUM(C16:C22) -> 927 | D15: =SUM(D16:D22) -> 798 | E15: =SUM(E16:E22) -> 603 | F15: =E15-D15 -> -195
B16: Mosógép | C16: 100 | D16: 95 | E16: 95 | F16: =E16-D16 -> 0
B17: Hűtőszekrény | C17: 80 | D17: 60 | E17: 60 | F17: =E17-D17 -> 0
B18: Bútor | C18: 620 | D18: 491 | E18: 448 | F18: =E18-D18 -> -43
B19: Sportszer | F19: =E19-D19 -> 0
B20: Magnók | F20: =E20-D20 -> 0
B21: Nyomtató, vetítővászon | F21: =E21-D21 -> 0
B22: Egyéb kisértékű eszközök | C22: 127 | D22: 152 | E22: 0 | F22: =E22-D22 -> -152
A24: FEKETE I. ISKOLA | C24: =SUM(C25:C29) -> 144 | D24: =SUM(D25:D29) -> 144 | E24: =SUM(E25:E29) -> 143 | F24: =E24-D24 -> -1
B25: Nyomtató | D25: 110 | E25: 110 | F25: =E25-D25 -> 0
B26: Mikró,kenyérpirító | F26: =E26-D26 -> 0
B27: Fényképezőgép | C27: 60 | D27: 0 | E27: 0 | F27: =E27-D27 -> 0
B28: bútor | F28: =E28-D28 -> 0
B29: Egyéb kisértékű eszközök | C29: 84 | D29: 34 | E29: 33 | F29: =E29-D29 -> -1
A31: GIMNÁZIUM | C31: =SUM(C32:C39) -> 927 | D31: =SUM(D32:D39) -> 927 | E31: =SUM(E32:E39) -> 461 | F31: =E31-D31 -> -466
B32: Projektor izzók | C32: 240 | D32: 0 | E32: 0 | F32: =E32-D32 -> 0
B33: Mosógép | C33: 104 | D33: 70 | E33: 70 | F33: =E33-D33 -> 0
B34: Bútor | C34: 75 | D34: 26 | E34: 26 | F34: =E34-D34 -> 0
B35: Függöny | C35: 215 | D35: 284 | E35: 284 | F35: =E35-D35 -> 0
B36: Elektromos lombszívó | D36: 40 | E36: 40 | F36: =E36-D36 -> 0
B37: Zászlók | F37: =E37-D37 -> 0
B38: Számítógépek | F38: =E38-D38 -> 0
B39: Egyéb kisértékű eszközök | C39: 293 | D39: 507 | E39: 41 | F39: =E39-D39 -> -466
A41: Intézményellátó kp. | C41: =SUM(C42:C43) -> 150 | D41: =SUM(D42:D43) -> 134 | E41: =SUM(E42:E43) -> 0 | F41: =E41-D41 -> -134
B42: Egyéb kisértékű eszközök | C42: 150 | D42: 134 | E42: 0 | F42: =E42-D42 -> -134
B43: Telefon | F43: =E43-D43 -> 0
A45: ZENEISKOLA | C45: =SUM(C46:C50) -> 300 | D45: =SUM(D46:D50) -> 300 | E45: =SUM(E46:E50) -> 291 | F45: =E45-D45 -> -9
B46: Mosógép | C46: 95 | D46: 78 | E46: 78 | F46: =E46-D46 -> 0
B47: Porszívó | C47: 25 | D47: 19 | E47: 19 | F47: =E47-D47 -> 0
B48: Szőnyeg | C48: 168 | D48: 187 | E48: 187 | F48: =E48-D48 -> 0
B49: Szekrény | F49: =E49-D49 -> 0
B50: Egyéb kisértékű eszközök | C50: 12 | D50: 16 | E50: 7 | F50: =E50-D50 -> -9
F51: =E51-D51 -> 0
A52: INTÉZMÉNYELLÁTÓ ÖSSZESEN: | C52: =C45+C41+C31+C24+C15+C5 -> 3448 | D52: =D45+D41+D31+D24+D15+D5 -> 3319 | E52: =E45+E41+E31+E24+E15+E5 -> 2514 | F52: =E52-D52 -> -805
A54: KÖNYVTÁR | C54: =SUM(C55:C61) -> 2971 | D54: =SUM(D55:D61) -> 4167 | E54: =E55+E56+E57+E58+E59+E60+E61 -> 4167 | F54: =E54-D54 -> 0
B55: Dokumentumbeszerzés | C55: 2544 | D55: 3209 | E55: 3209 | F55: =E55-D55 -> 0
B56: Informatikai eszközök | C56: 162 | D56: 510 | E56: 510 | F56: =E56-D56 -> 0
B57: Kamera, kameraállvány | C57: 98 | D57: 98 | E57: 98 | F57: =E57-D57 -> 0
B58: Könyvtári felirat | C58: 0 | D58: 0 | F58: =E58-D58 -> 0
B59: Bútor | F59: =E59-D59 -> 0
B60: Függöny | F60: =E60-D60 -> 0
B61: egyéb kisértékű eszközök | C61: 167 | D61: 350 | E61: 350 | F61: =E61-D61 -> 0
A63: BÖLCSÖDE | C63: =SUM(C64:C68) -> 200 | D63: =SUM(D64:D68) -> 400 | E63: =E64+E65+E66+E67+E68 -> 400 | F63: =E63-D63 -> 0
B64: tányér, pohár | F64: =E64-D64 -> 0
B65: szekrény | F65: =E65-D65 -> 0
B66: játékok | C66: 100 | D66: 100 | E66: 100 | F66: =E66-D66 -> 0
B67: egyéb kisértékű eszközök | C67: 100 | D67: 300 | E67: 300 | F67: =E67-D67 -> 0
B68: mosogatógép | D68: 0 | F68: =E68-D68 -> 0
A70: RENDELŐINTÉZET | C70: =SUM(C71:C73) -> 400 | D70: =SUM(D71:D73) -> 920 | E70: =E71+E72+E73 -> 920 | F70: =E70-D70 -> 0
B71: informatikai eszközök | D71: 135 | E71: 135 | F71: =E71-D71 -> 0
B72: Orvosi műszerek | F72: =E72-D72 -> 0
B73: egyéb kisértékű eszközök | C73: 400 | D73: 785 | E73: 785 | F73: =E73-D73 -> 0
A74: KÖZÖS ÖNKORMÁNYZATI HIVATAL | C74: =SUM(C75:C76) -> 2700 | D74: =SUM(D75:D76) -> 2882 | E74: =E75+E76 -> 2882 | F74: =E74-D74 -> 0
B75: Számítástechnikai eszközök | C75: 2000 | D75: 2006 | E75: 2210 | F75: =E75-D75 -> 204
B76: egyéb kisértékű eszközök | C76: 700 | D76: 876 | E76: 672 | F76: =E76-D76 -> -204
A77: ÖSSZESEN: | C77: =SUM(C5+C15+C24+C31+C41+C45+C54+C63+C70+C74) -> 9719 | D77: =SUM(D5+D15+D24+D31+D41+D45+D54+D63+D70+D74) -> 11688 | E77: =E74+E70+E63+E54+E52 -> 10883 | F77: =E77-D77 -> -805

Sheet 5.tábla (2)
A5: MEGNEVEZÉS | B5: 2016. évi eredeti ei. | C5: 2016. évi módosított ei. III. | D5: 2016. évi módosított ei. IV. | E5: Eltérés
A6: I. Közös Önkormányzati Hivatal költségvetése | E6: =D6-C6 -> 0
A7: 1. Személyi juttatás | B7: 218950 | C7: 222753 | D7: 222753 | E7: =D7-C7 -> 0
A8: 2. Munkaadót terhelő járulékok | B8: 63277 | C8: 64917 | D8: 64917 | E8: =D8-C8 -> 0
A9: 3. Dologi kiadások | B9: =SUM(B10:B14) -> 79212 | C9: =SUM(C10:C14) -> 79211 | D9: =SUM(D10:D14) -> 79211 | E9: =D9-C9 -> 0
A10: Igazgatás dologi Balatonfüred | B10: 63100 | C10: 62867 | D10: 62867 | E10: =D10-C10 -> 0
A11: Telephelyek dologi | B11: 1950 | C11: 1927 | D11: 1927 | E11: =D11-C11 -> 0
A12: Családi iroda | B12: 150 | C12: 405 | D12: 405 | E12: =D12-C12 -> 0
A13: Közösségi Ház | B13: 10000 | C13: 10000 | D13: 10000 | E13: =D13-C13 -> 0
A14: Befizetendő áfa | B14: 4012 | C14: 4012 | D14: 4012 | E14: =D14-C14 -> 0
A15: 4.1. Ellátottak pénzbeli juttatásai Balatonfüred | B15: =B16+B17+B19+B18+B20 -> 2050 | C15: =C16+C17+C19+C18+C20 -> 2050 | D15: =D16+D17+D19+D18+D20 -> 2050 | E15: =D15-C15 -> 0
A16: Rendszeres gyermekvédelmi támogatás | B16: 2050 | C16: 2050 | D16: 2050 | E16: =D16-C16 -> 0
A17: Bérpótló juttatás, fogl.helyetteítő tám. | E17: =D17-C17 -> 0
A18: Rendszeres szociális segély | E18: =D18-C18 -> 0
A19: Lakásfenntartási támogatás | E19: =D19-C19 -> 0
A20: Óvodáztatási támogatás | E20: =D20-C20 -> 0
A21: 4.2. Ellátottak pénzbeli juttatásai telephelyek | B21: =SUM(B22:B25) -> 366 | C21: =SUM(C22:C25) -> 389 | D21: =SUM(D22:D25) -> 389 | E21: =D21-C21 -> 0
A22: Rendszeres gyermekvédelmi támogatás | B22: 366 | C22: 389 | D22: 389 | E22: =D22-C22 -> 0
A23: Fogl.helyetteítő tám. | E23: =D23-C23 -> 0
A24: Rendszeres szociális segély | E24: =D24-C24 -> 0
A25: Lakásfenntartási támogatás | E25: =D25-C25 -> 0
A26: 5. Egyéb működési célú kiadások | C26: 1011 | D26: 1036 | E26: =D26-C26 -> 25
A27: Hivatal működési kiadások összesen: | B27: =B26+B21+B15+B9+B8+B7 -> 363855 | C27: =C26+C21+C15+C9+C8+C7 -> 370331 | D27: =D26+D21+D15+D9+D8+D7 -> 370356 | E27: =D27-C27 -> 25
A28: 6. Saját hatáskörű fejlesztések | B28: =SUM(B29:B30) -> 2700 | C28: =SUM(C29:C30) -> 2882 | D28: =SUM(D29:D30) -> 2882 | E28: =D28-C28 -> 0
A29: Informatikai fejlesztések (kisértékű, nagyértékű) | B29: 2000 | C29: 2006 | D29: ='4a. sz. tábla (3)'!E75 -> 2210 | E29: =D29-C29 -> 204
A30: Kisértékű tárgyi eszközök | B30: 700 | C30: 876 | D30: ='4a. sz. tábla (3)'!E76 -> 672 | E30: =D30-C30 -> -204
A31: I. Közös Önkormányzati Hivatal összesen: | B31: =B28+B27 -> 366555 | C31: =C28+C27 -> 373213 | D31: =D28+D27 -> 373238 | E31: =D31-C31 -> 25
A32: MEGNEVEZÉS | B32: 2016. évi eredeti ei. | C32: 2016. évi módosított ei. III. | D32: 2016. évi módosított ei. IV. | E32: Eltérés
A33: II. Önkormányzat költségvetése
A34: 1. Személyi juttatások | B34: =SUM(B35:B42) -> 47295 | C34: =SUM(C35:C43) -> 82596 | D34: =SUM(D35:D43) -> 81379 | E34: =D34-C34 -> -1217
A35: Képviselő-testület személyi juttatásai | B35: 23057 | C35: 23163 | D35: 23163 | E35: =D35-C35 -> 0
A36: Közfoglalkoztatás | B36: 4433 | C36: 19686 | D36: 19659 | E36: =D36-C36 -> -27
A37: Nyári diákmunka | B37: 0 | C37: 623 | D37: 650 | E37: =D37-C37 -> 27
A38: Megbízási díjak | B38: 9098 | C38: 9299 | D38: 9299 | E38: =D38-C38 -> 0
A39: Jubileumi jutalom szakiskola | B39: 1557 | C39: 3307 | D39: 3307 | E39: =D39-C39 -> 0
A40: Városi Kitüntetések | B40: 1150 | C40: 990 | D40: 990 | E40: =D40-C40 -> 0
A41: Ösztöndíjak | B41: 5600 | C41: 5600 | D41: 5600 | E41: =D41-C41 -> 0
A42: Rendezvényekhez kapcsolódó személyi | B42: 2400 | C42: 19428 | D42: 18211 | E42: =D42-C42 -> -1217
A43: Idősek napja ajándék | C43: 500 | D43: 500 | E43: =D43-C43 -> 0
A44: 2. Munkaadót terhelő járulékok és szociális hozzájárulási adó | B44: =SUM(B45:B51) -> 11035 | C44: =SUM(C45:C52) -> 26104 | D44: =SUM(D45:D52) -> 23804 | E44: =D44-C44 -> -2300
A45: Képviselő-testület személyi juttatásai | B45: 6248 | C45: 6277 | D45: 6302 | E45: =D45-C45 -> 25
A46: Közfoglalkoztatás | B46: 598 | C46: 2701 | D46: 2681 | E46: =D46-C46 -> -20
A47: Diákmunka | B47: 0 | C47: 168 | D47: 188 | E47: =D47-C47 -> 20
A48: Megbízási díjak | B48: 2258 | C48: 2310 | D48: 2285 | E48: =D48-C48 -> -25
A49: Jubileumi jutalom szakiskola | B49: 420 | C49: 893 | D49: 893 | E49: =D49-C49 -> 0
A50: Városi Kitüntetések | B50: 311 | C50: 311 | D50: 311 | E50: =D50-C50 -> 0
A51: Rendezvényekhez kapcsolódó járulék és kifizetői adó | B51: 1200 | C51: 13194 | D51: 10894 | E51: =D51-C51 -> -2300
A52: Idősek napja ajándék | C52: 250 | D52: 250 | E52: =D52-C52 -> 0
A53: 3. Dologi kiadások | B53: =SUM(B54:B88) -> 552790 | C53: =SUM(C54:C88) -> 918089 | D53: =SUM(D54:D88) -> 920922 | E53: =D53-C53 -> 2833
A54: Építés és településfejlesztés | B54: 4000 | C54: 4279 | D54: 4279 | E54: =D54-C54 -> 0
A55: Városüzemeltetés | B55: 310046 | C55: 353186 | D55: 352502 | E55: =D55-C55 -> -684
A56: Idegenforgalmi feladatok | B56: =76900-3500 -> 73400 | C56: 66971 | D56: 70488 | E56: =D56-C56 -> 3517
A57: Oktatás, nevelés | B57: 1750 | C57: 1384 | D57: 1384 | E57: =D57-C57 -> 0
A58: Közművelődés | B58: =11610-1500 -> 10110 | C58: 7361 | D58: 7361 | E58: =D58-C58 -> 0
A59: Sport | B59: 3940 | C59: 3190 | D59: 3190 | E59: =D59-C59 -> 0
A60: TV és újság | B60: 800 | C60: 800 | D60: 800 | E60: =D60-C60 -> 0
A61: Lakásgazdálkodás | B61: 11000 | C61: 10356 | D61: 10356 | E61: =D61-C61 -> 0
A62: Vagyonhasznosítás | B62: =30353+2000 -> 32353 | C62: 47619 | D62: 47619 | E62: =D62-C62 -> 0
A63: ÁFA befizetés | B63: 45598 | C63: 231265 | D63: 231265 | E63: =D63-C63 -> 0
A64: Munkaegészségügyi ellát | B64: 1200 | C64: 1517 | D64: 1517 | E64: =D64-C64 -> 0
A65: Házi segítségnyújtás | B65: 780 | C65: 1096 | D65: 1096 | E65: =D65-C65 -> 0
A66: Egyéb ktg. (bankktg, postai befiz. ktg., tagdíjak, késedelmi kamat, stb.) | B66: 17000 | C66: 22634 | D66: 24304 | E66: =D66-C66 -> 1670
A67: Fejlesztési célú hitel kamata | B67: 20603 | C67: 20603 | D67: 18933 | E67: =D67-C67 -> -1670
A68: Autóbusz pályaudvar pályázat dologi kiadás | B68: 6524 | C68: 6524 | D68: 6525 | E68: =D68-C68 -> 1
A69: TOP-4.1.1.-15 VE Egészségügyi alapellátás infrastruktúrális fejlesztése pályázat előkészítés | C69: 1397 | D69: 1397 | E69: =D69-C69 -> 0
A70: TOP-4.2.1.-15 Szoc. Alapszolg. Fejlesztése pályázat előkészítés | C70: 635 | D70: 635 | E70: =D70-C70 -> 0
A71: GINOP-7.1.3-2015 Gyógyhely fejlesztés előkészítés | C71: 7239 | D71: 7239 | E71: =D71-C71 -> 0
A72: TOP-1.1.1.-15 Ipari parkok, iparterületek fejlesztése pályázat előkészítés | C72: 4572 | D72: 4572 | E72: =D72-C72 -> 0
A73: TOP-2.1.1.-15 Barnamezős területek rehabilitációja pályázat előkészítés | C73: 2032 | D73: 2032 | E73: =D73-C73 -> 0
A74: TOP-2.1.3.-15 Csapadékcsatorna hálózat fejlesztése pályázat előkészítés | C74: 635 | D74: 635 | E74: =D74-C74 -> 0
A75: TOP-1.2.1-15 Széchenyi strand fejlesztése pályázat előkészítés | C75: 1270 | D75: 1270 | E75: =D75-C75 -> 0
A76: TOP-3.2.2-15 -VE1-2016-00002 helyi adottságokhoz illeszkedő megújuló energiaforrások kiaknázására irányuló energiaellátás biztosítása pályázat előkészítés | C76: 2286 | D76: 2286 | E76: =D76-C76 -> 0
A77: TOP-2.1.2-15 Zöld város kialakítása pályázat előkészítés | C77: 3175 | D77: 3175 | E77: =D77-C77 -> 0
A78: MEGNEVEZÉS | B78: 2016. évi eredeti ei. | C78: 2016. évi módosított ei. III. | D78: 2016. évi módosított ei. IV. | E78: Eltérés
A79: HU07-0037-A1-2013 Zsinagóga pályázat dologi kiadások (nyilvánosság, könyvvizsgálat, projektmenedzsment) | C79: 19495 | D79: 19495 | E79: =D79-C79 -> 0
A80: IKOP-3.2.0-15 elektromos buszok beszerzése pályázat szakmai előkészítő munka | C80: 20000 | D80: 20000 | E80: =D80-C80 -> 0
A81: TOP CLLD pályázat közösségi fejlesztések megvalósítására irányuló helyi akciócsoportok megalakítására és azok regisztrációjára vonatkozó felhívás | C81: 1270 | D81: 1270 | E81: =D81-C81 -> 0
A82: Felhagyott temetők (Papsoka) előkészítés | D82: 850 | E82: =D82-C82 -> 850
A83: TOP-5.1.2-15- VE1 Helyi foglalkoztatás előkészítés | D83: 3493 | E83: =D83-C83 -> 3493
A84: Vizes VB parkolófejlesztés | C84: 3810 | D84: 3810 | E84: =D84-C84 -> 0
A85: Vizes VB létesítményfejlesztés | C85: 35675 | D85: 35675 | E85: =D85-C85 -> 0
A86: Uszoda eszköz beszerzés | B86: 7620 | C86: 7620 | D86: 7620 | E86: =D86-C86 -> 0
A87: Közvetített szolgáltatások (beruházások továbbszámlázása) | C87: 20105 | D87: 20105 | E87: =D87-C87 -> 0
A88: Beruházásokhoz kapcsolódó dologi kiadások | B88: 6066 | C88: 8088 | D88: 3744 | E88: =D88-C88 -> -4344
A90: 4. Ellátottak pénzbeli juttatásai | B90: =SUM(B91:B99) -> 29250 | C90: =SUM(C91:C99) -> 30254 | D90: =SUM(D91:D99) -> 30254 | E90: =D90-C90 -> 0
A91: Nyári szociális gyermekétkeztetés | C91: 431 | D91: 431 | E91: =D91-C91 -> 0
A92: Rendkívüli gyermekvédelmi támogatás | B92: 18000 | C92: =17073-140 -> 16933 | D92: 16933 | E92: =D92-C92 -> 0
A93: Átm szociális segély (kölcsön) | B93: 3000 | C93: 3500 | D93: 3500 | E93: =D93-C93 -> 0
A94: Települési ápolási támogatás | B94: 2500 | C94: 2000 | D94: 2000 | E94: =D94-C94 -> 0
A95: Temetési segély | B95: 700 | C95: 490 | D95: 490 | E95: =D95-C95 -> 0
A96: Köztemetés | B96: 150 | C96: 742 | D96: 742 | E96: =D96-C96 -> 0
A97: Rendkívüli települési támogatás | B97: 1000 | C97: 1998 | D97: 1998 | E97: =D97-C97 -> 0
A98: Települési gyógyszertámogatás | B98: 1500 | C98: 1960 | D98: 1960 | E98: =D98-C98 -> 0
A99: Települési lakhatási támogatás | B99: 2400 | C99: 2200 | D99: 2200 | E99: =D99-C99 -> 0
A100: 5. Egyéb működési célú kiadások | B100: =B101+B102+B103+B104+B105+B106+B107+B113+B114 -> 899741 | C100: =C101+C102+C103+C104+C105+C106+C107+C113+C114 -> 977991 | D100: =D101+D102+D103+D104+D105+D106+D107+D113+D114 -> 966923 | E100: =D100-C100 -> -11068
A101: 1. Elvonások, befizetések | B101: 5 | C101: 35 | D101: 35 | E101: =D101-C101 -> 0
A102: 2. Működési célú garancia- és kezességvállalásból származó kifizetés államháztartáson belülre | E102: =D102-C102 -> 0
A103: 3. Működési célú visszatérítendő támogatások, kölcsönök nyújtása áh-n belülre | E103: =D103-C103 -> 0
A104: 4. Működési célú visszatérítendő támogatások, kölcsönök törlesztése áh-n belülre | E104: =D104-C104 -> 0
A105: 5. Egyéb működési célú támogatások áh-n belülre | B105: 479336 | C105: 473748 | D105: ='5b. sz. tábla (2)'!D4 -> 473748 | E105: =D105-C105 -> 0
...

Sheet 5b. sz. tábla  (2)
A3: MEGNEVEZÉS | B3: 2016. évi eredeti ei. | C3: 2016. évi módosított ei. III. | D3: 2016. évi módosított ei. IV. | E3: Eltérés
A4: Működési célú támogatások áh-n belülre: | B4: =SUM(B5:B11) -> 479336 | C4: =SUM(C5:C11) -> 473748 | D4: =SUM(D5:D11) -> 473748 | E4: =D4-C4 -> 0
A5: Országos Mentőszolgálat támogatás | B5: 1763 | C5: 1763 | D5: 1763 | E5: =D5-C5 -> 0
A6: Veszprém Megyei Rendőr-főkapitányság | B6: 145 | C6: 1525 | D6: 1525 | E6: =D6-C6 -> 0
A7: BURSA Hungarica ösztöndíj | B7: 1350 | C7: 1350 | D7: 1350 | E7: =D7-C7 -> 0
A8: Balatonfüredi Többcélú Társulás BSZAK | B8: 112220 | C8: 105371 | D8: 105371 | E8: =D8-C8 -> 0
A9: Közoktatási Intézményfenntartó Társulás Óvodák | B9: 363858 | C9: 363321 | D9: 363321 | E9: =D9-C9 -> 0
A10: Erzsébet utalvány fel nem használt összeg visszafizetés | C10: 12 | D10: 12 | E10: =D10-C10 -> 0
A11: Uniós pályázat szabálytalanság miatti visszafizetés | C11: 406 | D11: 406 | E11: =D11-C11 -> 0
A12: Működési célú támogatások áh-n kívülre: | B12: =SUM(B13:B89) -> 408332 | C12: =SUM(C13:C95) -> 486540 | D12: =SUM(D13:D95) -> 486540 | E12: =D12-C12 -> 0
A13: Önkéntes Tűzoltóság | B13: 9000 | C13: 9000 | D13: 9000 | E13: =D13-C13 -> 0
A14: Vagyonvédelmi Alapítvány | B14: =1500+400 -> 1900 | C14: 1900 | D14: 1900 | E14: =D14-C14 -> 0
A15: Váll. Fejl. Közalapítvány | B15: 1000 | C15: 1000 | D15: 1000 | E15: =D15-C15 -> 0
A16: ÉNYKK (Balaton Volán jogutódja) | B16: =27838+7500 -> 35338 | C16: 37110 | D16: 37110 | E16: =D16-C16 -> 0
A17: Városért Közalapítvány | B17: =500+274 -> 774 | C17: 1528 | D17: 1528 | E17: =D17-C17 -> 0
A18: Balatonfüred Város Közalapítvány Tempevölgy | B18: 2500 | C18: 2500 | D18: 2500 | E18: =D18-C18 -> 0
A19: Kovászna Testvérvárosi Egyesület | B19: 200 | C19: 200 | D19: 200 | E19: =D19-C19 -> 0
A20: Opatija Testvérvárosi Egyesület | B20: 200 | C20: 200 | D20: 200 | E20: =D20-C20 -> 0
A21: Kouvala Testvérvárosi Egyesület | B21: 200 | C21: 200 | D21: 200 | E21: =D21-C21 -> 0
A22: Germering Testvérvárosi Egyesület | B22: 200 | C22: 0 | D22: 0 | E22: =D22-C22 -> 0
A23: QUASIMODO Alapítvány | B23: 2000 | C23: 2000 | D23: 2000 | E23: =D23-C23 -> 0
A24: Fordítóház Alapítvány | B24: 2100 | C24: 2100 | D24: 2100 | E24: =D24-C24 -> 0
A25: Sportegyesületek | B25: =49600+530+6000 -> 56130 | C25: 56130 | D25: 56130 | E25: =D25-C25 -> 0
A26: SOS Alapítvány Vállalkozásfejlesztő Aliroda | B26: 600 | C26: 600 | D26: 600 | E26: =D26-C26 -> 0
A27: Balatonfüred Református Egyházközség | B27: 484 | C27: 484 | D27: 484 | E27: =D27-C27 -> 0
A28: Balatonfüred-Arács Református Egyházközség | B28: 326 | C28: 326 | D28: 326 | E28: =D28-C28 -> 0
A29: Balatonfüred-Dörgicse Evangélikus Egyházközség | B29: =246+100 -> 346 | C29: 246 | D29: 246 | E29: =D29-C29 -> 0
A30: Római Katolikus Plébánia | B30: =844+844 -> 1688 | C30: 1688 | D30: 1688 | E30: =D30-C30 -> 0
A31: Civil pályázati alap | B31: =4000+450 -> 4450 | C31: 4450 | D31: 4450 | E31: =D31-C31 -> 0
A32: Polgármesteri keret | B32: 400 | C32: 400 | D32: 400 | E32: =D32-C32 -> 0
A33: Alpolgármesteri keret | B33: 200 | C33: 195 | D33: 195 | E33: =D33-C33 -> 0
A34: Képviselői keret | B34: 1000 | C34: 875 | D34: 875 | E34: =D34-C34 -> 0
A35: Érzékeny Gyermekeinkét Alapít. (liszt és szűróvizsgálat is) | B35: =800+58 -> 858 | C35: 858 | D35: 858 | E35: =D35-C35 -> 0
A36: Idegenforgalmi támogatás | B36: 1000 | C36: 0 | D36: 0 | E36: =D36-C36 -> 0
A37: Anna-Grand Hotel támogatása | C37: 900 | D37: 900 | E37: =D37-C37 -> 0
A38: BAHART idegenforgalmi támogatása | B38: 597 | C38: 1194 | D38: 1194 | E38: =D38-C38 -> 0
A39: MEDNA | B39: 5200 | C39: 5200 | D39: 5200 | E39: =D39-C39 -> 0
A40: Gitár fesztivál-Balatonfüredi Nemzetközi Gitárfesztivál Alapítvány | B40: 3500 | C40: 3500 | D40: 3500 | E40: =D40-C40 -> 0
A41: Renaissance 2009. Idegenforgalmi és Turisztikai Kft. (Gyermekművészeti fesztivál) | B41: 500 | C41: 0 | D41: 0 | E41: =D41-C41 -> 0
A42: Renaissance Festiváls Kft. Balaton-Ifjúság-Művészet Nemzetiközi Fesztivál | C42: 500 | D42: 500 | E42: =D42-C42 -> 0
A43: Balatonfüredi Turisztikai Egyesület (TDM) | B43: =19500+808 -> 20308 | C43: 20928 | D43: 20928 | E43: =D43-C43 -> 0
A44: Balatonfüredi Turisztikai Egyesület (TDM pályázat önrész 2016. évi) | B44: =6000+5000 -> 11000 | C44: 0 | D44: 0 | E44: =D44-C44 -> 0
A45: Művészeti együttesek nemzetközi kapcsolattartás | B45: 800 | C45: 800 | D45: 800 | E45: =D45-C45 -> 0
A46: Reformkori Hagyományőrzők Egyesülete | B46: 300 | C46: 300 | D46: 300 | E46: =D46-C46 -> 0
A47: Konferencia Központ Kft. Advent fényei | B47: 350 | C47: 350 | D47: 350 | E47: =D47-C47 -> 0
A48: Művészeti együttesek formaruha pályázat | B48: 400 | C48: 400 | D48: 400 | E48: =D48-C48 -> 0
A49: "S.O.S. és Könyvelő" Szociálisan Rászorultakat Segítő Kft | B49: =7269+1361+905 -> 9535 | C49: 17019 | D49: 17019 | E49: =D49-C49 -> 0
A50: Balaton Mozi | B50: 1200 | C50: 1200 | D50: 1200 | E50: =D50-C50 -> 0
A51: Probió Zrt. Virágos Füred | B51: 0 | C51: 3413 | D51: 3413 | E51: =D51-C51 -> 0
A54: MEGNEVEZÉS | B54: 2016. évi eredeti ei. | C54: 2016. évi módosított ei. III. | D54: 2016. évi módosított ei. IV. | E54: Eltérés
A55: Sportesemények támogatása: Magyar Vitorlás Szövetség Kékszalag Fesztivál | B55: 1600 | C55: 0 | D55: 0 | E55: =D55-C55 -> 0
A56: Sportesemények támogatása: Nemzetközi ultramaraton | B56: 250 | C56: 0 | D56: 0 | E56: =D56-C56 -> 0
A57: Sportesemények támogatása: Úszó Világkupa | B57: 6450 | C57: 7900 | D57: 7900 | E57: =D57-C57 -> 0
A58: Balatonfüred Kulturális Nonprofit Kft. | B58: =107192+7014 -> 114206 | C58: 136006 | D58: 136006 | E58: =D58-C58 -> 0
A59: Múzsák Egyesülete Sirály táncfesztivál | B59: 700 | C59: 700 | D59: 700 | E59: =D59-C59 -> 0
A60: Balatonfüredi Református Iskola nyári napközi | C60: 200 | D60: 200 | E60: =D60-C60 -> 0
A61: Balatonfüredi Néptánc Egyesület | B61: =800+583 -> 1383 | C61: 1383 | D61: 1383 | E61: =D61-C61 -> 0
A62: Rákóczy Szövetség | B62: =100+100 -> 200 | C62: 200 | D62: 200 | E62: =D62-C62 -> 0
A63: Arácsért Közhasznú Alapítvány | B63: 60 | C63: 60 | D63: 60 | E63: =D63-C63 -> 0
A64: Mentődolgozók Önálló Szakszervezete | C64: 0 | D64: 0 | E64: =D64-C64 -> 0
A65: MVM Sportegyesület Riói olimpia felkészülés | C65: 800 | D65: 800 | E65: =D65-C65 -> 0
A66: BYC Riói olimpia felkészülés | C66: 800 | D66: 800 | E66: =D66-C66 -> 0
A67: Gondviselés Alapítvány (idősek átmeneti elhelyezése) | B67: 500 | C67: 500 | D67: 500 | E67: =D67-C67 -> 0
A68: Füred Studió Kft. | B68: =21614 -> 21614 | C68: 21614 | D68: 21614 | E68: =D68-C68 -> 0
A69: Balatonfüredi Református Egyház (Református Iskola) | B69: 13511 | C69: 13511 | D69: 13511 | E69: =D69-C69 -> 0
A70: Siloam Református Otthon támogatása | B70: 800 | C70: 800 | D70: 800 | E70: =D70-C70 -> 0
A71: Konferencia Központ Kft. | B71: 28500 | C71: 30100 | D71: 30100 | E71: =D71-C71 -> 0
A72: Balatonfüredi Katolikus Egyház | B72: =300+300 -> 600 | C72: 600 | D72: 600 | E72: =D72-C72 -> 0
A73: DRV Zrt. 2016. évi víz- és csatornaszolgáltatás támogatása | B73: 0 | C73: 56338 | D73: 56338 | E73: =D73-C73 -> 0
A74: Balaton Best Nonprofit Kft. | B74: 3835 | C74: 3215 | D74: 3215 | E74: =D74-C74 -> 0
A75: Balaton Best Nonprofit Kft. (TDM pályázati önrész 2016. évi) | B75: 1500 | C75: 0 | D75: 0 | E75: =D75-C75 -> 0
A76: Magyar Úszószövetség "Jövő Bajnokai" program | B76: =1450+2350 -> 3800 | C76: 2350 | D76: 2350 | E76: =D76-C76 -> 0
A77: Uszoda működtetőjének működési támogatás | B77: 25000 | C77: 14550 | D77: 14550 | E77: =D77-C77 -> 0
A78: DÓR Sporegyesület | C78: 100 | D78: 100 | E78: =D78-C78 -> 0
A79: Egyéb sporttámogatás | B79: =3500+150 -> 3650 | C79: 3250 | D79: 3250 | E79: =D79-C79 -> 0
A80: Balatoni Kajak- Kenu Evezős és Vitorlás SE | C80: 100 | D80: 100 | E80: =D80-C80 -> 0
A81: SZL-Bau Balaton Vívóklub | C81: 200 | D81: 200 | E81: =D81-C81 -> 0
A82: Acro Dance Sporttánc Egyesület | B82: 150 | C82: 150 | D82: 150 | E82: =D82-C82 -> 0
A83: Magyar Judó Szövetség Veterán Judo Európa Bajnokság | B83: 500 | C83: 500 | D83: 500 | E83: =D83-C83 -> 0
A84: Hotel Agro támogatása | B84: 2000 | C84: 2600 | D84: 2600 | E84: =D84-C84 -> 0
A85: Védett szőlők támogatása | B85: 510 | C85: 510 | D85: 510 | E85: =D85-C85 -> 0
A86: Hajmáskér-Sólyi Református Társegyházközség Pannonikum Szeretetszolgálat | B86: 100 | C86: 100 | D86: 100 | E86: =D86-C86 -> 0
A87: Lóczy Lajos Alapítvány | B87: 150 | C87: 150 | D87: 150 | E87: =D87-C87 -> 0
A88: Széchényi Ferenc Oktatási Alapítványa a diákokért | B88: 32 | C88: 32 | D88: 32 | E88: =D88-C88 -> 0
A89: Kerekerdő Óvoda Gyerekeiért Alapítvány támogatása | B89: 147 | C89: 147 | D89: 147 | E89: =D89-C89 -> 0
A90: Balatoni Kajak Kenu Evezős és Vitorlás SE "Klub Senior 10-es hajó Mix" kitüntetés | C90: 80 | D90: 80 | E90: =D90-C90 -> 0
A91: Dunántúli Református Egyházkerület (REND rendezvény) | C91: 1200 | D91: 1200 | E91: =D91-C91 -> 0
A92: Betűtészta Mesekönyv- bolt és Kiadó Kft. | C92: 300 | D92: 300 | E92: =D92-C92 -> 0
A93: Almási László Borok háza | C93: 300 | D93: 300 | E93: =D93-C93 -> 0
A94: Balatonfüred - Szőlősi Hegyközség viharkár támogatása 2016. évi | C94: 4000 | D94: 4000 | E94: =D94-C94 -> 0
A95: Cimbora Alapítvány az Egészséges és Kulturált Gyermekekért | C95: 1500 | D95: 1500 | E95: =D95-C95 -> 0
A96: Összesen: | B96: =B12+B4 -> 887668 | C96: =C12+C4 -> 960288 | D96: =D12+D4 -> 960288 | E96: =D96-C96 -> 0

Sheet 6.sz.tábla  (3)
A3: Intézmény / munkanemek | B3: 2016. évi eredeti ei. | C3: 2016. évi módosított ei. III. | D3: 2016. évi módosított ei. IV. | E3: Eltérés
A5: 1. Park u-i óvoda I/a.
A6: Hátsó nagy kapu javítása(2015. évi kötváll.) | B6: 150 | C6: 150 | D6: 150 | E6: =D6-C6 -> 0
A7: Összesen: | B7: =SUM(B6) -> 150 | C7: =SUM(C6) -> 150 | D7: =SUM(D6) -> 150 | E7: =D7-C7 -> 0
E8: =D8-C8 -> 0
A9: 2. Arácsi óvoda - Iskolalépcső u. I/c. | E9: =D9-C9 -> 0
A10: Ragalja javítás folytatása (2015. évi kötváll.) | B10: 800 | C10: 800 | D10: 800 | E10: =D10-C10 -> 0
A11: Posta épület bontása (2015. évi kötváll.) | B11: 3000 | C11: 3000 | D11: 3000 | E11: =D11-C11 -> 0
A12: Bejárati ajtó feújítása, beázott fal javítása, szigetelő vakolat Gipszkartonozás, festés, villany (2015. évi kötváll.) | B12: 700 | C12: 700 | D12: 700 | E12: =D12-C12 -> 0
A13: Posta épület helyének tereprendezése, öntözési lehetőséggel | B13: 4500 | C13: 4500 | D13: 4500 | E13: =D13-C13 -> 0
A14: Udvari fajátékok felújítása, festése | B14: 500 | C14: 500 | D14: 500 | E14: =D14-C14 -> 0
A15: Összesen: | B15: =SUM(B10:B14) -> 9500 | C15: =SUM(C10:C14) -> 9500 | D15: =SUM(D10:D14) -> 9500 | E15: =D15-C15 -> 0
E16: =D16-C16 -> 0
A17: 3. Hunyadi u. óvoda I/b. | E17: =D17-C17 -> 0
A18: Játszótéri homokcsere (2015. évi kötváll.) | B18: 200 | C18: 200 | D18: 200 | E18: =D18-C18 -> 0
A19: Konyhai mosogatók cseréje (nagyüzemi) | B19: 500 | C19: 500 | D19: 500 | E19: =D19-C19 -> 0
A20: Udvar rendezése, füvesítés | B20: 1000 | C20: 1000 | D20: 1000 | E20: =D20-C20 -> 0
A21: Összesen: | B21: =SUM(B18:B20) -> 1700 | C21: =SUM(C18:C20) -> 1700 | D21: =SUM(D18:D20) -> 1700 | E21: =D21-C21 -> 0
E22: =D22-C22 -> 0
A23: 4. Noszlopy G. u. óvoda III. | E23: =D23-C23 -> 0
A24: Kerítés festés, zárak (2015. évi kötváll.) | B24: 1000 | C24: 1000 | D24: 1000 | E24: =D24-C24 -> 0
A25: Terasz lapozás, járda; terasz kerítés (2015. évi kötváll.) + 2016. évi | B25: =3500+3700 -> 7200 | C25: 7200 | D25: 7200 | E25: =D25-C25 -> 0
A26: WC kialakítás (2015. évi kötváll.) | B26: 800 | C26: 800 | D26: 800 | E26: =D26-C26 -> 0
A27: 4. vizesblokk felújítása | B27: 2700 | C27: 2700 | D27: 2700 | E27: =D27-C27 -> 0
A28: Terász árnyékoló berendezés csere | B28: 12000 | C28: 12000 | D28: 12000 | E28: =D28-C28 -> 0
A29: Összesen: | B29: =SUM(B24:B28) -> 23700 | C29: =SUM(C24:C28) -> 23700 | D29: =SUM(D24:D28) -> 23700 | E29: =D29-C29 -> 0
E30: =D30-C30 -> 0
A31: 5. Bölcsőde | E31: =D31-C31 -> 0
A32: Kerítés festés, zárak (2015. évi kötváll.) | B32: 1000 | C32: 1000 | D32: 1000 | E32: =D32-C32 -> 0
A33: Terasz lapozás, járda; terasz kerítés (2015. évi kötváll.) +2016. évi | B33: =3500+3700 -> 7200 | C33: 7200 | D33: 7200 | E33: =D33-C33 -> 0
A34: udvar füvesítés | B34: 1000 | C34: 1000 | D34: 1000 | E34: =D34-C34 -> 0
A35: Összesen: | B35: =SUM(B32:B34) -> 9200 | C35: =SUM(C32:C34) -> 9200 | D35: =SUM(D32:D34) -> 9200 | E35: =D35-C35 -> 0
E36: =D36-C36 -> 0
A37: 6. Kossuth u. Óvoda | E37: =D37-C37 -> 0
A38: Pince villamos vezetékcsere (2015. évi kötváll.) | B38: 500 | C38: 500 | D38: 500 | E38: =D38-C38 -> 0
A39: Hátsó járda, lépcső felújítása (2015. évi kötváll.) | B39: 800 | C39: 800 | D39: 800 | E39: =D39-C39 -> 0
A40: Árnyéktűrő füvesítés(2015. évi kötváll.) | B40: 200 | C40: 200 | D40: 200 | E40: =D40-C40 -> 0
A41: udvar fakerítés eleminek cseréje a Könyvtár felöl | B41: 1000 | C41: 1000 | D41: 1000 | E41: =D41-C41 -> 0
A42: udvar fedett terasz felülvizsgálata | B42: 500 | C42: 500 | D42: 500 | E42: =D42-C42 -> 0
A43: A csúszdák védőburkolatának szélesítése | C43: 350 | D43: 350 | E43: =D43-C43 -> 0
A44: öntözési mellékmérő | B44: 100 | C44: 100 | D44: 100 | E44: =D44-C44 -> 0
A45: Összesen: | B45: =SUM(B38:B44) -> 3100 | C45: =SUM(C38:C44) -> 3450 | D45: =SUM(D38:D44) -> 3450 | E45: =D45-C45 -> 0
E46: =D46-C46 -> 0
A47: 7. Mogyoró u. Óvoda | E47: =D47-C47 -> 0
A48: gyermekmosdóban szekrény beépítése | B48: 300 | C48: 300 | D48: 300 | E48: =D48-C48 -> 0
A49: Összesen: | B49: =SUM(B48:B48) -> 300 | C49: =SUM(C48:C48) -> 300 | D49: =SUM(D48:D48) -> 300 | E49: =D49-C49 -> 0
A50: Intézmény / munkanemek | B50: 2016. évi eredeti ei. | C50: 2016. évi módosított ei. III. | D50: 2016. évi módosított ei. IV. | E50: Eltérés
A51: 8. Általános Iskola Eötvös Lóránd
A52: Salakos futópálya felújítása (2015. évi kötváll.) | B52: 2000 | C52: 2000 | D52: 2000 | E52: =D52-C52 -> 0
A53: Tanári WC-k felújítása (2015. évi kötváll.) | B53: 2500 | C53: 2500 | D53: 2500 | E53: =D53-C53 -> 0
A54: Tantermek festése, gipszkartonok foly. Cseréje (2015. évi kötváll.) | B54: 5000 | C54: 5000 | D54: 5000 | E54: =D54-C54 -> 0
A55: éttermi mosdók felújítás (2015. évi kötváll.) | B55: 213 | C55: 213 | D55: 213 | E55: =D55-C55 -> 0
A56: tornaterem világítás felújítás (2015. évi kötváll.) | B56: 1000 | C56: 1000 | D56: 1000 | E56: =D56-C56 -> 0
A57: Alsós lépcsőház festése | B57: 450 | C57: 450 | D57: 450 | E57: =D57-C57 -> 0
A58: emeleti tanári WC-k felújítása | B58: 1700 | C58: 1700 | D58: 1700 | E58: =D58-C58 -> 0
A59: Tantermek világítás korszerűsítése | B59: 2500 | C59: 2500 | D59: 2500 | E59: =D59-C59 -> 0
A60: Tantermek és folyosók festése | B60: 2850 | C60: 2850 | D60: 2850 | E60: =D60-C60 -> 0
A61: Konyha falfelújítás és festés | C61: 120 | D61: 120 | E61: =D61-C61 -> 0
A62: Sportpálya lejáró és kerítés | C62: 400 | D62: 400 | E62: =D62-C62 -> 0
A63: Folyosói burkolatcsere folytatása | B63: 500 | C63: 500 | D63: 500 | E63: =D63-C63 -> 0
A64: Összesen: | B64: =SUM(B52:B63) -> 18713 | C64: =SUM(C52:C63) -> 19233 | D64: =SUM(D52:D63) -> 19233 | E64: =D64-C64 -> 0
A66: 9. Református Általános Iskola | E66: =D66-C66 -> 0
A67: 1 db alsós tt. parketta+festés (2015. évi kötváll.) + 2016. évi | B67: =2000+2000 -> 4000 | C67: 4000 | D67: 4000 | E67: =D67-C67 -> 0
A68: 2 db alsós terem világítása (2015. évi kötváll.) | B68: 1000 | C68: 1000 | D68: 2000 | E68: =D68-C68 -> 1000
A69: 1 db felsős tt. bútor csere | B69: 1000 | C69: 0 | D69: 0 | E69: =D69-C69 -> 0
A70: műfüves pálya levezető út burkolás , vízelvezetés | B70: 2000 | C70: 2000 | D70: 2000 | E70: =D70-C70 -> 0
A71: Összesen: | B71: =SUM(B67:B70) -> 8000 | C71: =SUM(C67:C70) -> 7000 | D71: =SUM(D67:D70) -> 8000 | E71: =D71-C71 -> 1000
E72: =D72-C72 -> 0
A73: 10. Általános Iskola Radnóti M. | E73: =D73-C73 -> 0
A74: Törött mosdók, WC-k cseréje (2015. évi kötváll.) | B74: 300 | C74: 300 | D74: 300 | E74: =D74-C74 -> 0
A75: Vihar rongált előtetők javítása | C75: 500 | D75: 500 | E75: =D75-C75 -> 0
A76: Sportpálya vonal festése (aszf) (2015. évi kötváll.) | B76: 200 | C76: 200 | D76: 200 | E76: =D76-C76 -> 0
A77: Összesen: | B77: =SUM(B74:B76) -> 500 | C77: =SUM(C74:C76) -> 1000 | D77: =SUM(D74:D76) -> 1000 | E77: =D77-C77 -> 0
E78: =D78-C78 -> 0
A79: 11. Általános Iskola Fekete I. | E79: =D79-C79 -> 0
A80: Alsó két teremben táblák áthelyezése | B80: 150 | C80: 150 | D80: 150 | E80: =D80-C80 -> 0
A81: Összesen: | B81: =SUM(B80:B80) -> 150 | C81: =SUM(C80:C80) -> 150 | D81: =SUM(D80:D80) -> 150 | E81: =D81-C81 -> 0
E82: =D82-C82 -> 0
A83: 12. Ferencsik János Zeneiskola | E83: =D83-C83 -> 0
A84: Falvédő burkolat elhelyezése | B84: 400 | C84: 400 | D84: 400 | E84: =D84-C84 -> 0
A85: Tisztasági meszelés (2014. évi kötváll.) | B85: 1791 | C85: 1791 | D85: 1791 | E85: =D85-C85 -> 0
A86: Ereszcsatorna tisztítás (2015. évi kötváll.) | B86: 400 | C86: 400 | D86: 400 | E86: =D86-C86 -> 0
A87: Épület lábazat javítása | C87: 400 | D87: 400 | E87: =D87-C87 -> 0
A88: Beázott falfelület javítása (2015. évi kötváll.) | B88: 300 | C88: 300 | D88: 300 | E88: =D88-C88 -> 0
A89: Összesen: | B89: =SUM(B84:B88) -> 2891 | C89: =SUM(C84:C88) -> 3291 | D89: =SUM(D84:D88) -> 3291 | E89: =D89-C89 -> 0
E90: =D90-C90 -> 0
A91: 13. Széchenyi F. Szakképző Iskola | E91: =D91-C91 -> 0
A92: Összesen | C92: 0 | E92: =D92-C92 -> 0
A93: Intézmény / munkanemek | B93: 2016. évi eredeti ei. | C93: 2016. évi módosított ei. III. | D93: 2016. évi módosított ei. IV. | E93: Eltérés
A94: 14. Lóczy L. Gimnázium
A95: Koll. csengő felszerelése (2015. évi kötváll.) | B95: 100 | C95: 100 | D95: 100 | E95: =D95-C95 -> 0
A96: Folyosói mennyezeti világítás (2015. évi kötváll.) | B96: 100 | C96: 100 | D96: 100 | E96: =D96-C96 -> 0
A97: Távolugró pálya építése (2015. évi kötváll.) | B97: 2000 | C97: 2000 | D97: 2000 | E97: =D97-C97 -> 0
A98: Kosárpalánk udvari elh. (2015. évi kötváll.) | B98: 500 | C98: 500 | D98: 500 | E98: =D98-C98 -> 0
A99: Kollégiumi külön tanterem felújítása (2015. évi kötváll.) | B99: 200 | C99: 200 | D99: 200 | E99: =D99-C99 -> 0
A100: Belső udvar eresz javítás | C100: 400 | D100: 400 | E100: =D100-C100 -> 0
A101: Linóleum padló felújítás | B101: 200 | C101: 200 | D101: 200 | E101: =D101-C101 -> 0
A102: Összesen | B102: =SUM(B95:B101) -> 3100 | C102: =SUM(C95:C101) -> 3500 | D102: =SUM(D95:D101) -> 3500 | E102: =D102-C102 -> 0
E103: =D103-C103 -> 0
A104: 15. Közösségi Ház | E104: =D104-C104 -> 0
...

Sheet 7. sz. tábla 1
A1: Megnevezés | B1: 2016. évi eredeti ei. | C1: 2016. évi módosított ei. III. | D1: 2016. évi módosított ei. IV. | E1: Eltérés
A2: I. Kötelezettséggel terhelt fejlesztések
A3: Savanyúvizes kutak védterület kijelőlése (340/2007 sz. hat.) hidrogeológiai geodéziai anyag készítése | B3: 636 | C3: 636 | D3: 636 | E3: =D3-C3 -> 0
A4: Autóbusz pályaudvar önrész + projektmen.+pályázatírás | B4: 1676 | C4: 1676 | D4: 1676 | E4: =D4-C4 -> 0
A5: KDOP kerékpárút tervezés, előkészítés, önrész | B5: 330 | C5: 330 | D5: 330 | E5: =D5-C5 -> 0
A6: Tervek, megvalósítási tanulmányok, pályázatok | B6: 2921 | C6: 2921 | D6: 2921 | E6: =D6-C6 -> 0
A7: Útépítések 2012. év : Szabadság u. - Tagore sétány közötti muvás út burkolása, Gyöngyvirág u. szennyvízcsatorna építése, és aszfaltozása, Vázsonyi u. építése buszfordulótól újtelepig, Köztársaság u. 1-5. épületek előtti parkoló felújítása, Vázsonyi u. me | B7: 505 | C7: 505 | D7: 505 | E7: =D7-C7 -> 0
A8: Útépítések 2013. | B8: 756 | C8: 756 | D8: 756 | E8: =D8-C8 -> 0
A9: KDOP-2.1.1/D-12 Turisztikai attrakciók és szolgáltatások fejlesztése | B9: 445 | C9: 445 | D9: 445 | E9: =D9-C9 -> 0
A10: Közvilágítás bővítése 2015. évi Cséplő Ernő u. | C10: 1836 | D10: 1836 | E10: =D10-C10 -> 0
A11: Útépítések 2014. | B11: 8223 | C11: 8223 | D11: 8223 | E11: =D11-C11 -> 0
A12: Településrendezési eszközök | B12: 254 | C12: 254 | D12: 1397 | E12: =D12-C12 -> 1143
A13: Balatonarács focipálya + infrastruktúra + parkosítás | B13: 381 | C13: 381 | D13: 381 | E13: =D13-C13 -> 0
A14: Zsinagóga tervezési ktg., előkészítési költségek + ingatlan vásárlás | B14: 18175 | C14: 209522 | D14: 209522 | E14: =D14-C14 -> 0
A15: Balatonfüredi sétányrendszer felújítása | B15: 127 | C15: 127 | D15: 127 | E15: =D15-C15 -> 0
A16: Horváth M u. előkészítési költségek | B16: 2032 | C16: 2032 | D16: 2032 | E16: =D16-C16 -> 0
A17: P.Horváth Á. U. járda tervezési ktg. | B17: 864 | C17: 864 | D17: 864 | E17: =D17-C17 -> 0
A18: Farkasdy szárny csapadék elvezetés 243/2015.(X.13.) | B18: 18504 | C18: 1599 | D18: 1599 | E18: =D18-C18 -> 0
A19: 5477. hrsz-ú ingatlan vásárlás 306/2015. (XII.17.) | B19: 6466 | C19: 6466 | D19: 6466 | E19: =D19-C19 -> 0
A20: 218/3 és 210 hrsz-ú ingatlanokat érintő ingatlan csere 307/2015.(XII.17.) | B20: 2000 | E20: =D20-C20 -> 0
A21: Ingatlan csere és telekalakítás 1249 hrsz-ú és 1248/26 hrsz-ú ingatlanok | C21: 977 | D21: 977 | E21: =D21-C21 -> 0
A22: Szent Benedek Szakiskola kollégium belső építészeti felújítás I-II. ütem 268/2015.(XII.17.) | B22: 245340 | C22: 248340 | D22: 248340 | E22: =D22-C22 -> 0
A23: 139 hrsz-ú ingatlan (szálloda) megvásárlása 210/2015. (VIII.26.) | B23: 83000 | C23: 140724 | D23: 140724 | E23: =D23-C23 -> 0
A24: 2015. évi útépítések: Árokszőlő u., Petőfi S. u. 49-69., Kelén köz, Kelén u., Pásztor J. u. járda (I. ütem), Arácsi út 1-3., Németh L. u. és járda, Ady E. u. járda (nyugati oldal), Szivárvány köz (zsák u. rész), Nagy Áron köz, Vasút u, Batsányi u., Erkel Ferenc u., Arácsi labdarúgó pályához vezető út, Temető köz (II. ütem), Horváth M. u. járda, Külterületi út, Petőfi S. u. 66-74., Hárs Köz parkoló, Castricum tér (lebontott épület helyén), Völgy u. középső szakasz, Száka dülő, BMX pálya, Arácsi út támfal, | B24: =63747+86705 -> 150452 | C24: 150452 | D24: 150452 | E24: =D24-C24 -> 0
A25: Utcai bútorok beszerzése (padok, szemetesek, városi információs rendszer) | B25: 2853 | C25: 2853 | D25: 2853 | E25: =D25-C25 -> 0
A26: Szelektív mintagyűjtő szigetek (2 db) | B26: 3000 | C26: 3000 | D26: 3000 | E26: =D26-C26 -> 0
A27: Önkormányzati Hivatal belső építészeti megújítása (házasságkötő teremmel) | B27: 664 | C27: 664 | D27: 664 | E27: =D27-C27 -> 0
A28: Határ u., Egressy köz szennyvízcsatorna építés | B28: 2400 | C28: 2400 | D28: 2400 | E28: =D28-C28 -> 0
A29: Park u. Óvoda homokozó telepítéssel | B29: 370 | C29: 370 | D29: 370 | E29: =D29-C29 -> 0
A30: Kisértékű eszközök (városüzemeltetés, egyéb) | B30: 709 | C30: 1909 | D30: 1909 | E30: =D30-C30 -> 0
A31: Gyógyüdülőhely fejlesztési stratégia | B31: 5080 | C31: 5080 | D31: 5080 | E31: =D31-C31 -> 0
A32: Szeméttelepen napelempark tervezése | B32: 9525 | C32: 9525 | D32: 9525 | E32: =D32-C32 -> 0
A33: Betlehemi szoborcsoport bővítése járulék | B33: 73 | C33: 162 | D33: 162 | E33: =D33-C33 -> 0
A34: Csopak-Balatonfüred településeket összekötő 7221. j. út tervezés Bfüredre eső 1/3 rész | B34: 4902 | C34: 4902 | D34: 4902 | E34: =D34-C34 -> 0
A35: 1424/4 hrsz-ú ingatlanon lévő épület bontása | B35: 381 | C35: 381 | D35: 381 | E35: =D35-C35 -> 0
A36: I. összesen: | B36: =SUM(B3:B35) -> 573044 | C36: =SUM(C3:C35) -> 810312 | D36: =SUM(D3:D35) -> 811455 | E36: =D36-C36 -> 1143 | F36: =544469-E36 -> 543326
A37: Megnevezés | B37: 2016. évi eredeti ei. | C37: 2016. évi módosított ei. III. | D37: 2016. évi módosított ei. IV. | E37: Eltérés
A38: II. Javasolt fejlesztések
A39: Beruházás előkészítő kiadások (tervezés, önrészek) | B39: 25000 | C39: 110 | D39: 0 | E39: =D39-C39 -> -110
A40: Útépítések 2016. évi I. ütem | B40: =120000+5000 -> 125000 | C40: 125983 | D40: 125983 | E40: =D40-C40 -> 0
A41: Horváth Mihály u. közmű kiváltás | B41: 60000 | C41: 49500 | D41: 49500 | E41: =D41-C41 -> 0
A42: Vázsonyi úti buszfordulónál lejáró | B42: 500 | C42: 500 | D42: 500 | E42: =D42-C42 -> 0
A43: Térfigyelő kamera | B43: 1000 | C43: 1000 | D43: 1000 | E43: =D43-C43 -> 0
A44: Utcai bútorok beszerzése (padok, szemetesek) | B44: 2000 | C44: 2000 | D44: 3600 | E44: =D44-C44 -> 1600
A45: Felnőtt aktív pihenőeszözök telepítése | B45: 3000 | C45: 3000 | D45: 3000 | E45: =D45-C45 -> 0
A46: virágládák telepítése | B46: 3000 | C46: 3000 | D46: 1400 | E46: =D46-C46 -> -1600
A47: Szelektív hulladékgyűjtő sziget II. ütem | B47: 2000 | C47: 2000 | D47: 2000 | E47: =D47-C47 -> 0
A48: BMX pálya eszközök | B48: 15000 | C48: 0 | D48: 0 | E48: =D48-C48 -> 0
A49: Balatoni Sellők szoborcsoport áthelyezés | B49: 4000 | C49: 0 | D49: 0 | E49: =D49-C49 -> 0
A50: Vízkivételi mű (Kovászna Park) | B50: 1000 | E50: =D50-C50 -> 0
A51: közterület fásítása | B51: 11000 | E51: =D51-C51 -> 0
A52: Játszóterek bővítése | B52: 3000 | C52: 3000 | D52: 3000 | E52: =D52-C52 -> 0
A53: Információs táblarendszer bővítése | B53: 3000 | C53: 3000 | D53: 3000 | E53: =D53-C53 -> 0
A54: autóbusz várók telepítése | B54: 6000 | C54: 6000 | D54: 6000 | E54: =D54-C54 -> 0
A55: közvilágítási hálózat bővítése | B55: 15000 | C55: 15000 | D55: 15000 | E55: =D55-C55 -> 0
A56: temető felújítás (Katolikus Egyháztól átvett) | B56: 4000 | C56: 4000 | D56: 4000 | E56: =D56-C56 -> 0
A57: Uszoda közműbekötés, közműkiváltás | B57: 8000 | C57: 8000 | D57: 8000 | E57: =D57-C57 -> 0 | F57: =SUM(#REF!,#REF!,#REF!,#REF!,#REF!,#REF!,#REF!,) -> #REF!
A58: Petőfi- Táncsics u., Öreghegyi u., Balaton u. kisajátítások | B58: 15000 | C58: 0 | D58: 0 | E58: =D58-C58 -> 0
A59: Felhagyott temetők (Papsoka, Katolikus, Zsidó) felújítása | B59: 15000 | C59: 0 | D59: 0 | E59: =D59-C59 -> 0
A60: Kemping fejlesztés "Bejárható Magyarország" | B60: 30000 | C60: 0 | D60: 0 | E60: =D60-C60 -> 0 | F60: =E60+E59+E58+E56+E49 -> 0
A61: Kemping vizesblokk tervezés + gépészeti felújítás | B61: 400 | C61: 5895 | D61: 5895 | E61: =D61-C61 -> 0
A62: Kisfaludy üzletház WC bővítés | B62: 8890 | C62: 9230 | D62: 9230 | E62: =D62-C62 -> 0
A63: telek, épület vásárlás pályázatokhoz | B63: =150000-5000 -> 145000 | C63: 5542 | D63: 2643 | E63: =D63-C63 -> -2899
A64: pályázati önrész | B64: 40000 | C64: 1093 | D64: 60 | E64: =D64-C64 -> -1033
A65: Család és gyermekjóléti központ fejlesztési tám. 1838/2015.(XI.24.) Korm.határozat | B65: 2000 | C65: 2002 | D65: 2002 | E65: =D65-C65 -> 0
A66: Lóczy barlang fogadóépület tervezési ktg. 16/2016.(II.04.) | B66: 3200 | E66: =D66-C66 -> 0
A67: Vizes VB parkolók terverzése | E67: =D67-C67 -> 0
A68: 072 hrsz-ú ingatlan megvásárlása 2016. évi ütem | C68: 26350 | D68: 26350 | E68: =D68-C68 -> 0
A69: Református Iskola bútor beszerzés | C69: 1000 | D69: 1000 | E69: =D69-C69 -> 0
A70: Önkormányzati lakásokba kazán beszerzés | C70: 1209 | D70: 1209 | E70: =D70-C70 -> 0
A71: ingatlan vásárlás 071/110 hrsz. | C71: 1235 | D71: 1235 | E71: =D71-C71 -> 0
A72: ingatlan vásárlás 071/069 hrsz. | C72: 1200 | D72: 1200 | E72: =D72-C72 -> 0
A73: 1543/1/A/2 hrsz-ú ingatlan vásárlás Somogyi u. 1. | C73: 8000 | D73: 8000 | E73: =D73-C73 -> 0
A74: 1524 hrsz-ú ingatlan vásárlás Kossuth. L. u. 22. | C74: 27500 | D74: 27500 | E74: =D74-C74 -> 0
A75: Arácsi úti ingatlanok vétel, csere 101-103 hrsz. | C75: 15192 | D75: 15192 | E75: =D75-C75 -> 0
A76: TOP-4.1.1.-15 VE Egészségügyi alapellátás infrastruktúrális fejlesztése pályázat | C76: 0 | D76: 0 | E76: =D76-C76 -> 0
A77: TOP CLLD pályázat közösségi fejlesztések megvalósítására irányuló helyi akciócsoportok megalakítására és azok regisztrációjára vonatkozó felhívás | C77: 0 | D77: 0 | E77: =D77-C77 -> 0
A78: Arácsi út szalagkorlát pótmegrendelés | C78: 210 | D78: 210 | E78: =D78-C78 -> 0
A79: Vizes VB 1116/2016 Kormány határozat alapján 2016. évi fejl.kiadások | C79: 321076 | D79: 321076 | E79: =D79-C79 -> 0
... A99: Vizes VB parkolófejlesztés Zákonyi mélygarázs | C99: 85020 | D99: 85020 | E99: =D99-C99 -> 0
A100: Meglévő részesedések növeléséhez kapcsolódó kiadások: törzstőke emelés | B100: =SUM(B101:B104) -> 6000 | C100: =SUM(C101:C104) -> 6720 | D100: =SUM(D101:D104) -> 6720 | E100: =D100-C100 -> 0
A101: Konferencia Központ | E101: =D101-C101 -> 0
A102: Füredkult Kft. | E102: =D102-C102 -> 0
A103: Gótika Kft. | B103: 6000 | C103: 6000 | D103: 6000 | E103: =D103-C103 -> 0
A104: BVSZK Balatonfüredi Vizisport és Szabadidő Központ Nonprofit Kft. | C104: 720 | D104: 720 | E104: =D104-C104 -> 0
A105: Részesedések beszerzése: | B105: =SUM(B106:B107) -> 16000 | C105: =SUM(C106:C107) -> 16000 | D105: =SUM(D106:D107) -> 16000 | E105: =D105-C105 -> 0
A106: Aranyhíd Patika Bt. Részesedés | E106: =D106-C106 -> 0
A107: Üzletrész vásálás részletek | B107: 16000 | C107: 16000 | D107: 16000 | E107: =D107-C107 -> 0
A108: II. összesen: | B108: =SUM(B39:B100,B105) -> 572990 | C108: =SUM(C39:C100,C105) -> 1002455 | D108: =SUM(D39:D100,D105) -> 998413 | E108: =D108-C108 -> -4042
A109: I+II. összesen: | B109: =B108+B36 -> 1146034 | C109: =C108+C36 -> 1812767 | D109: =D108+D36 -> 1809868 | E109: =D109-C109 -> -2899
A110: Megnevezés | B110: 2016. évi eredeti ei. | C110: 2016. évi módosított ei. III. | D110: 2016. évi módosított ei. IV. | E110: Eltérés
A111: III. Egyéb felhalmozási kiadások
A112: Felhalmozási célú visszatérítendő támogatások, kölcsönök nyújtása áh-n kívülre | B112: =SUM(B113:B121) -> 198002 | C112: =SUM(C113:C121) -> 223562 | D112: =SUM(D113:D121) -> 223562 | E112: =D112-C112 -> 0
A113: - tagi hitel Probio Zrt. | B113: 13270 | C113: 27830 | D113: 27830 | E113: =D113-C113 -> 0
A114: - tagi hitel Gótika Kft. | B114: 100000 | C114: 100000 | D114: 100000 | E114: =D114-C114 -> 0
A115: - Lakásépítés, -vásárlás kölcsön (dolgozói + lakáshoz jutás tám.) | B115: 10647 | C115: 10647 | D115: 10647 | E115: =D115-C115 -> 0
A116: - Társasház, Balatonfüred, Noszlopy Gáspár u. 14. | B116: 36898 | C116: 36898 | D116: 36898 | E116: =D116-C116 -> 0
A117: - Társasház, Balatonfüred, Noszlopy Gáspár u. 12. | B117: 37187 | C117: 37187 | D117: 37187 | E117: =D117-C117 -> 0
A118: - Füred Stúdió Kft. Pályázat megelőlegezés | C118: 1000 | D118: 1000 | E118: =D118-C118 -> 0
A119: - Balatonfüredi Vízisport és Szabadidő Központ NKft. Tagi kölcsön 288/2016. (X.20.) | C119: 10000 | D119: 10000 | E119: =D119-C119 -> 0
...

Sheet 8. sz. tábla  (3)
A4: Az Önkormányzat működési bevételei és kiadásai 2016. év
A6: 1. Működési bevételek | B6: 2016. évi eredeti ei. | C6: 2016. évi módosított ei. III. | D6: 2016. évi módosított ei. IV. | E6: Eltérés | F6: 2. Működési kiadások | G6: 2016. évi eredeti ei. | H6: 2016. évi módosított ei. III. | I6: 2016. évi módosított ei. IV. | J6: Eltérés
A7: 1. Működési célú támogatások államháztartáson belülről | B7: 1191528 | C7: 1336756 | D7: ='2.sz.tábla (2)'!P5 -> 1365314 | E7: =D7-C7 -> 28558 | F7: 1. Személyi juttatások | G7: 432808 | H7: 486725 | I7: ='4.sz.tábla '!D17 -> 485245 | J7: =I7-H7 -> -1480
A8: 2. Közhatalmi bevételek | B8: 1516700 | C8: 1606700 | D8: ='2.sz.tábla (2)'!P28 -> 1606700 | E8: =D8-C8 -> 0 | F8: 2. Munkaadót terhelő járulékok és szoc.hj. Adó | G8: 118326 | H8: 140027 | I8: ='4.sz.tábla '!H17 -> 137491 | J8: =I8-H8 -> -2536
A9: 3. Működési bevételek | B9: 600704 | C9: 825892 | D9: ='2.sz.tábla (2)'!P41 -> 827823 | E9: =D9-C9 -> 1931 | F9: 3. Dologi kiadások | G9: =878875-3000 -> 875875 | H9: 1242049 | I9: ='4.sz.tábla '!L17 -> 1237324 | J9: =I9-H9 -> -4725
A10: 4. Működési célú átvett pénzeszközök államháztartáson kivülről | B10: =11855+4983 -> 16838 | C10: 18475 | D10: ='2.sz.tábla (2)'!P62 -> 6407 | E10: =D10-C10 -> -12068 | F10: 4. Ellátottak pénzbeli juttatásai | G10: 31666 | H10: 32693 | I10: ='4.sz.tábla '!P17 -> 32693 | J10: =I10-H10 -> 0
E11: =D11-C11 -> 0 | F11: 5. Egyéb működési célú kiadások | G11: =SUM(G12:G15) -> 899741 | H11: =SUM(H12:H15) -> 979002 | I11: =SUM(I12:I15) -> 978752 | J11: =I11-H11 -> -250
E12: =D12-C12 -> 0 | F12: 5.1. Elvonások, befizetések | G12: 5 | H12: 35 | I12: ='5.tábla (2)'!D101 -> 35 | J12: =I12-H12 -> 0
E13: =D13-C13 -> 0 | F13: 5.2. Egyéb működési célú támogatások áh-n belülre | G13: 479336 | H13: 474759 | I13: ='5.tábla (2)'!D105+'5.tábla (2)'!D26+'4.sz.tábla '!Y13 -> 485577 | J13: =I13-H13 -> 10818
E14: =D14-C14 -> 0 | F14: 5.4. Egyéb működési célú támogatások áh-n kívülre | G14: =396318+7014+5000 -> 408332 | H14: 486540 | I14: ='5.tábla (2)'!D113 -> 486540 | J14: =I14-H14 -> 0
E15: =D15-C15 -> 0 | F15: 5.5. Működési célú visszatérítendő támogatások, kölcsönök nyújtása áh-n kívülre | G15: =7085+4983 -> 12068 | H15: 17668 | I15: ='5.tábla (2)'!D107 -> 6600 | J15: =I15-H15 -> -11068
E16: =D16-C16 -> 0 | F16: 6. Pénzforgalom nélküli kiadások (tartalék) | G16: =134769-14014 -> 120755 | H16: 29355 | I16: ='4.sz.tábla '!AT17 -> 93159 | J16: =I16-H16 -> 63804
A17: Összes költségvetési működési bevétel: | B17: =SUM(B7:B16) -> 3325770 | C17: =SUM(C7:C16) -> 3787823 | D17: =SUM(D7:D16) -> 3806244 | E17: =D17-C17 -> 18421 | F17: Összes költségvetési működési kiadás: | G17: =G7+G8+G9+G10+G11+G16 -> 2479171 | H17: =H7+H8+H9+H10+H11+H16 -> 2909851 | I17: =I7+I8+I9+I10+I11+I16 -> 2964664 | J17: =I17-H17 -> 54813
A18: Működési többlet: | B18: =B17-G17 -> 846599 | C18: =C17-H17 -> 877972 | D18: =D17-I17 -> 841580 | E18: =D18-C18 -> -36392 | F18: Működési hiány: | J18: =I18-H18 -> 0
A19: Költségvetési hiány belső finanszírozása működési célú | B19: =SUM(B20) -> 83488 | C19: =SUM(C20) -> 174913 | D19: =SUM(D20) -> 174913 | E19: =D19-C19 -> 0 | F19: Finanszírozási célú műveletek kiadásai működési célú | G19: =SUM(G20:G21) -> 46303 | H19: =SUM(H20:H23) -> 2181683 | I19: =SUM(I20:I23) -> 2180940 | J19: =I19-H19 -> -743
A20: 5. Költségvetési Maradvány | B20: 83488 | C20: 174913 | D20: ='2.sz.tábla (2)'!P75 -> 174913 | E20: =D20-C20 -> 0 | F20: 7. Állami támogatás megelőlegezés visszafizetése | G20: 46303 | H20: 50503 | I20: ='7. sz. tábla 1'!D181 -> 49760 | J20: =I20-H20 -> -743
A21: Költségvetési hiány külső finanszírozása működési célú | B21: =SUM(B22:B24) -> 8600 | C21: =SUM(C22:C24) -> 662800 | D21: =SUM(D22:D24) -> 693348 | E21: =D21-C21 -> 30548 | F21: 8. Hitelek törlesztése | J21: =I21-H21 -> 0
A22: 6. Értékpapír kibocsátás, értékesítés | C22: 650000 | D22: ='2.sz.tábla (2)'!P83 -> 650000 | E22: =D22-C22 -> 0 | F22: 9. Betét vásárlás | J22: =I22-H22 -> 0
A23: 7. Hitelfelvétel | E23: =D23-C23 -> 0 | F23: 10. Forgatási célú értékpapír vásárlás | H23: 2131180 | I23: ='7. sz. tábla 1'!D180 -> 2131180 | J23: =I23-H23 -> 0
A24: 8. Állami támogatás megelőlegezés visszafizetése | B24: 8600 | C24: 12800 | D24: ='2.sz.tábla (2)'!P88 -> 43348 | E24: =D24-C24 -> 30548 | J24: =I24-H24 -> 0
A25: Összes működési bevétel: | B25: =B17+B19+B21 -> 3417858 | C25: =C17+C19+C21 -> 4625536 | D25: =D17+D19+D21 -> 4674505 | E25: =D25-C25 -> 48969 | F25: Összes működési kiadás | G25: =G19+G17 -> 2525474 | H25: =H19+H17 -> 5091534 | I25: =I19+I17 -> 5145604 | J25: =I25-H25 -> 54070
A27: Az Önkormányzat felhalmozási bevételei és kiadásai 2016. év
A29: 1. Felhalmozási bevételek | B29: 2016. évi eredeti ei. | C29: 2016. évi módosított ei. III. | D29: 2016. évi módosított ei. IV. | E29: Eltérés | F29: 2. Felhalmozási kiadások | G29: 2016. évi eredeti ei. | H29: 2016. évi módosított ei. III. | I29: 2016. évi módosított ei. IV. | J29: Eltérés
A30: 1. Felhalmozási célú támogatások államháztartáson belülről | B30: 287821 | C30: 1546019 | D30: ='2.sz.tábla (2)'!P20 -> 1547416 | E30: =D30-C30 -> 1397 | F30: 1.1. Beruházások | G30: 1146034 | H30: 1812767 | I30: ='7. sz. tábla 1'!D109 -> 1809868 | J30: =I30-H30 -> -2899
A31: 2. Felhalmozási bev. | B31: 2000 | C31: 788369 | D31: ='2.sz.tábla (2)'!P56 -> 788369 | E31: =D31-C31 -> 0 | F31: 1.2. Int.saját hatáskörű fejlesztések | G31: 9719 | H31: 11688 | I31: ='4a. sz. tábla (3)'!E77 -> 10883 | J31: =I31-H31 -> -805
A32: 3. Felhalmozási célú átvett pénzeszközök | B32: 100873 | C32: 100873 | D32: ='2.sz.tábla (2)'!P68 -> 100873 | E32: =D32-C32 -> 0 | F32: 2. Felújítások | G32: 93225 | H32: 91016 | I32: ='6.sz.tábla (3)'!D140 -> 91016 | J32: =I32-H32 -> 0
E33: =D33-C33 -> 0 | F33: 3. Egyéb felhalmozási kiadások | G33: =SUM(G34:G37) -> 459290 | H33: =SUM(H34:H37) -> 607522 | I33: =SUM(I34:I37) -> 607522 | J33: =I33-H33 -> 0
E34: =D34-C34 -> 0 | F34: 3.1. Egyéb felhalmozási célú támogatások áh-n kívülre | G34: =254138+5000 -> 259138 | H34: 380634 | I34: ='7. sz. tábla 1'!D129 -> 380634 | J34: =I34-H34 -> 0
E35: =D35-C35 -> 0 | F35: 3.2. Egyéb felhalmozási célú támogatások áh-n belülre | G35: 2150 | H35: 3326 | I35: ='7. sz. tábla 1'!D124 -> 3326 | J35: =I35-H35 -> 0
E36: =D36-C36 -> 0 | F36: 3.3. Felhalmozási célú visszatérítendő támogatások, kölcsönök nyújtása áh-n belülre | J36: =I36-H36 -> 0
E37: =D37-C37 -> 0 | F37: 3.3. Felhalmozási célú visszatérítendő támogatások, kölcsönök nyújtása áh-n kívülre | G37: 198002 | H37: 223562 | I37: ='7. sz. tábla 1'!D112 -> 223562 | J37: =I37-H37 -> 0
A38: Összes költségvetési felhalmozási bevétel: | B38: =SUM(B30:B36) -> 390694 | C38: =SUM(C30:C36) -> 2435261 | D38: =SUM(D30:D36) -> 2436658 | E38: =D38-C38 -> 1397 | F38: Összes költségvetési felhalmozási kiadás: | G38: =SUM(G30:G33) -> 1708268 | H38: =H30+H31+H32+H33 -> 2522993 | I38: =I30+I31+I32+I33 -> 2519289 | J38: =I38-H38 -> -3704
