Workbook

Sheet 1
A1: Berhida Város Önkormányzata | E1: 1. melléklet a 11/2019.(IX.27.) rendelethez
A2: állami támogatások részletezése | E2: 1/a. melléklet a 2/2019.(III.1.) rendelethez
D3: 2018 | H3: 2019
B4: IPA alap | E4: 9437151820 | G4: IPA alap | J4: 9578698183
B5: elvonás | C5: 0,55 %-nak | E5: =E4*0.0055 -> 51904335 | G5: elvonás | H5: 0,55 %-nak | J5: =J4*0.0055 -> 52682840
A6: 2019. évi költségvetés | C6: =E6/E5 -> 0.75 | E6: 38928251 | H6: =J6/J5 -> 0.52116317 | J6: 27456356
B7: 1 lakosra jutó adóerőképesség | E7: =E4*0.014/C8 -> 22156.654 | G7: 1 lakosra jutó adóerőképesség | J7: =J4*0.014/H8 -> 22455.086
C8: 5963 | D8: fő | E8: beszámítás | F8: 2018 tényl | H8: 5972 | I8: fő | J8: beszámítás | K8: 2019 tényl
D9: Forint | H9: Forint | K9: Módosított összesen
A10: Önkormányzatok működési támogatásai | D10: =D11+D22+D32+D50+D55 -> 4.1503305e+08 | E10: =E11+E22+E32+E50+E55 -> -59421251 | F10: =F11+F22+F32+F50+F55 -> 3.556118e+08 | I10: =I11+I22+I32+I50+I55+I58 -> 439237009 | J10: =J11+J22+J32+J50+J55+J58 -> -27456356 | K10: =K11+K22+K32+K50+K55+K58 -> 411780653
A11: 1.)Helyi önkormányzatok működésének általános támogatása | D11: =SUM(D12:D21) -> 147447989 | E11: =SUM(E12:E21) -> -38928251 | F11: =SUM(F12:F21) -> 108519738 | I11: =SUM(I12:I21) -> 152316157 | J11: =SUM(J12:J21) -> -27456356 | K11: =SUM(K12:K21) -> 1.248598e+08
A12: Önkormányzati hivatal működésének támogatása | B12: 4580000 | C12: 22.14 | D12: =B12*C12 -> 101401200 | F12: =D12+E12 -> 101401200 | G12: 4580000 | H12: 22.17 | I12: =G12*H12 -> 1.015386e+08 | K12: =I12+J12 -> 1.015386e+08
A13: Település üzemeltetés: zöldterület-gazdálkodás | B13: 22300 | C13: 402 | D13: 8984670 | E13: =-D13 -> -8984670 | F13: =D13+E13 -> 0 | G13: 22300 | H13: 402 | I13: 8984670 | J13: =-I13 -> -8984670 | K13: =I13+J13 -> 0
A14: közvilágítás fenntartása | B14: 320000 | C14: 46.5 | D14: 9888000 | E14: =-D14 -> -9888000 | F14: =D14+E14 -> 0 | G14: 320000 | H14: 46.5 | I14: 9888000 | J14: -2140736 | K14: =I14+J14 -> 7747264
A15: köztemető fenntartással kapcs fel | B15: 69 | C15: 53051 | D15: =B15*C15 -> 3660519 | E15: =-D15 -> -3660519 | F15: =D15+E15 -> 0 | G15: 69 | H15: 53051 | I15: =G15*H15 -> 3660519 | K15: =I15+J15 -> 3660519
A16: közutak fenntartásának támog | B16: 227000 | C16: 24 | D16: =B16*C16 -> 5448000 | E16: -85862 | F16: =D16+E16 -> 5362138 | G16: 227000 | H16: 31.62 | I16: =G16*H16 -> 7177740 | K16: =I16+J16 -> 7177740
A17: Egyéb kötelező önkormányzati feladatok | B17: 2700 | C17: 5963 | D17: =B17*C17 -> 16100100 | E17: =-D17 -> -16100100 | F17: =D17+E17 -> 0 | G17: 2700 | H17: 5972 | I17: =G17*H17 -> 16124400 | J17: =-I17 -> -16124400 | K17: =I17+J17 -> 0
A18: Lakott külterülettel kapcs feladatok | B18: 2550 | C18: 82 | D18: =B18*C18 -> 209100 | E18: =-D18 -> -209100 | F18: =D18+E18 -> 0 | G18: 2550 | H18: 81 | I18: =G18*H18 -> 206550 | J18: =-I18 -> -206550 | K18: =I18+J18 -> 0
A19: bérkompenzáció | F19: =D19+E19 -> 0 | I19: 172078 | K19: =I19+J19 -> 172078
A20: minimál bér támogatás ált. műk. Feladat | G20: 130000 | H20: 22.17 | I20: 2882000 | K20: =I20+J20 -> 2882000
A21: Polgármesterek illetményének támogatása | D21: 1756400 | F21: =D21+E21 -> 1756400 | I21: 1681600 | K21: =I21+J21 -> 1681600
A22: 2.)Települési önkorm. Egyes köznevelési feladatainak támoga | D22: =SUM(D23:D31) -> 1.4211607e+08 | E22: =SUM(E23:E31) -> 0 | F22: =SUM(F23:F31) -> 1.4211607e+08 | I22: =SUM(I23:I31) -> 149070733 | J22: =SUM(J23:J31) -> 0 | K22: =SUM(K23:K31) -> 149070733
A23: óvodapedagógusok bértámogatása 8 hó | B23: 4419000 | C23: 20.4 | D23: =B23*C23*8/12 -> 60098400 | F23: =D23+E23 -> 60098400 | G23: 4371500 | H23: 20.6 | I23: =G23*H23*8/12 -> 60035267 | K23: =I23+J23 -> 60035267
A24: óvodaped munkáját közvetlenül segítők bértámogatása 8 hó | B24: 2205000 | C24: 13 | D24: =B24*C24/12*8 -> 19110000 | F24: =D24+E24 -> 19110000 | G24: 2205000 | H24: 14 | I24: =G24*H24/12*8 -> 20580000 | K24: =I24+J24 -> 20580000
A25: óvodapedagógusok bértámogatása 4 hó | B25: 4419000 | C25: 20.2 | D25: =B25*C25*4/12 -> 29754600 | F25: =D25+E25 -> 29754600 | G25: 4371500 | H25: 20.6 | I25: =G25*H25*4/12 -> 30017633 | K25: =I25+J25 -> 30017633
A26: óvodaped munkáját közvetlenül segítők bértámogatása 4 hó | B26: 2205000 | C26: 13 | D26: =B26*C26/12*4 -> 9555000 | F26: =D26+E26 -> 9555000 | G26: 2205000 | H26: 14 | I26: =G26*H26/12*4 -> 10290000 | K26: =I26+J26 -> 10290000
A27: Óvoda működtetési támogatás 8 hó | B27: 81700 | C27: 219 | D27: =B27*C27*8/12 -> 11928200 | F27: =D27+E27 -> 11928200 | G27: 97400 | H27: 222 | I27: =G27*H27*8/12 -> 14415200 | K27: =I27+J27 -> 14415200
A28: Óvoda működtetési támogatás 4 hó | B28: 81700 | C28: 218 | D28: =B28*C28*4/12 -> 5936866.7 | F28: =D28+E28 -> 5936866.7 | G28: 97400 | H28: 221 | I28: 7175133 | K28: =I28+J28 -> 7175133
A29: Kieg tám. Óv pedag minősítéséhez II. kategóriába sorolt | B29: 401000 | C29: 7 | D29: =B29*C29 -> 2807000 | F29: =D29+E29 -> 2807000 | G29: 396700 | H29: 6 | I29: =G29*H29 -> 2380200 | K29: =I29+J29 -> 2380200
A30: Mesterped kategóriába sorolt | B30: 1463000 | C30: 2 | D30: =B30*C30 -> 2926000 | F30: =D30+E30 -> 2926000 | G30: 1447300 | H30: 1 | I30: =G30*H30 -> 1447300 | K30: =I30+J30 -> 1447300
A31: Minimálbér támogatás köznevelés | D31: =B31*C31 -> 0 | F31: =D31+E31 -> 0 | G31: 12300 | H31: 222 | I31: 2730000 | K31: =I31+J31 -> 2730000
A32: 3.) Tel önk szociális, gyermekjóléti és gyermekétk fel tám | D32: =SUM(D34:D49) -> 118253769 | E32: =SUM(E34:E49) -> -20493000 | F32: =SUM(F34:F49) -> 97760769 | I32: =SUM(I34:I49) -> 116860163 | J32: =SUM(J34:J49) -> 0 | K32: =SUM(K34:K49) -> 116860163
A34: gyermekétkeztetés szempontjából elismert dolgozók bértámog | B34: 1900000 | C34: 11.1 | D34: =B34*C34 -> 21090000 | F34: =D34+E34 -> 21090000 | G34: 1900000 | H34: 11.18 | I34: =G34*H34 -> 21242000 | K34: =I34+J34 -> 21242000
A35: gyermekétkeztetés üzemeltetési támogatása | D35: 34323860 | F35: =D35+E35 -> 34323860 | I35: 37497698 | K35: =I35+J35 -> 37497698
A36: szünidei gyermekétkeztetés | B36: 513 | C36: 5637 | D36: =B36*C36 -> 2891781 | F36: =D36+E36 -> 2891781 | G36: 513 | H36: 6384 | I36: =G36*H36 -> 3274992 | K36: =I36+J36 -> 3274992
A37: Hozzájárulás pénzbeli szociális ellátásokhoz | D37: =F37*2 -> 40986000 | E37: -20493000 | F37: 20493000 | I37: 28785793 | K37: =I37+J37 -> 28785793
A38: Bölcsődei ellátás bértámogatás | B38: 2993000 | C38: 3 | D38: =B38*C38 -> 8979000 | F38: =D38+E38 -> 8979000 | G38: 2993000 | H38: 3 | I38: =G38*H38 -> 8979000 | K38: =I38+J38 -> 8979000
A39: Bölcsődei működtetési tám | D39: 1770000 | F39: =D39+E39 -> 1770000 | I39: 1611000 | K39: =I39+J39 -> 1611000
A40: Családsegítés és gyermekjóléti szolgáltatás B: 5972 Vi: 683 = 6655 fő | B40: 3400000 | D40: 4420000 | F40: =D40+E40 -> 4420000 | G40: 3400000 | I40: 4420000 | K40: =I40+J40 -> 4420000
A41: szociális étkeztetés | B41: 60896 | C41: 18 | D41: =B41*C41 -> 1096128 | F41: =D41+E41 -> 1096128 | G41: 60896 | H41: 20 | I41: =G41*H41 -> 1217920 | K41: =I41+J41 -> 1217920
A42: házi segítségnyújtás szem élyi gondozás | B42: 429000 | C42: 4 | D42: =B42*C42 -> 1716000 | F42: =D42+E42 -> 1716000 | G42: 429000 | H42: 5 | I42: =G42*H42 -> 2145000 | K42: =I42+J42 -> 2145000
A43: házi segítségnyújtás - szociális segítés | B43: 25000 | D43: =B43*C43 -> 0 | F43: =D43+E43 -> 0 | G43: 25000 | H43: 1 | I43: =G43*H43 -> 25000 | K43: =I43+J43 -> 25000
A44: időskorúak nappali ellátása | B44: 163500 | C44: 6 | D44: =B44*C44 -> 981000 | F44: =D44+E44 -> 981000 | G44: 163500 | H44: 6 | I44: =G44*H44 -> 981000 | K44: =I44+J44 -> 981000
A45: ágazati pótlék | F45: =D45+E45 -> 0 | I45: 3001760 | K45: =I45+J45 -> 3001760
A46: Minimálbér támogatás gyermekétkeztetési feladathoz | G46: 200000 | H46: 11.18 | I46: =G46*H46 -> 2236000 | K46: =I46+J46 -> 2236000
A47: Minimálbér támogaás családs, gyermekjólét-hez | G47: 380000 | H47: 1.3 | I47: =G47*H47 -> 494000 | K47: =I47+J47 -> 494000
A48: Minimálbér tám. Szoc. Étkeztetéshez | G48: 11000 | H48: 20 | I48: =G48*H48 -> 220000 | K48: =I48+J48 -> 220000
A49: Minimálbér támogatás idősek nappali ell.-hoz | F49: =D49+E49 -> 0 | G49: 121500 | H49: 6 | I49: =G49*H49 -> 729000 | K49: =I49+J49 -> 729000
A50: 4.) Tel önk kulturális feladatainak támogatása | D50: =SUM(D51:D54) -> 7215230 | E50: =SUM(E51:E54) -> 0 | F50: =SUM(F51:F54) -> 7215230 | I50: =SUM(I51:I54) -> 8353056 | J50: =SUM(J51:J54) -> 0 | K50: =SUM(K51:K54) -> 8353056
A51: könyvtári és közművelődési feladat tám Berhida: | B51: 1210 | C51: 5963 | D51: =B51*C51 -> 7215230 | F51: =D51+E51 -> 7215230 | G51: 1210 | H51: 5972 | I51: =G51*H51 -> 7226120 | K51: =I51+J51 -> 7226120
A52: könyvtári érdekeltségnövelő tám | I52: 111000 | K52: =I52+J52 -> 111000
A53: Minimálbér támogatás közművelődési feladathoz | G53: 41 | H53: 5972 | I53: 245000 | K53: =I53+J53 -> 245000
A54: Kulturális pótlék | F54: =D54+E54 -> 0 | I54: 770936 | K54: =I54+J54 -> 770936
A55: 5.)Helyi önkorm. Kiegészítő támogatásai | D55: =SUM(D56:D58) -> 0 | E55: =SUM(E56:E58) -> 0 | F55: =SUM(F56:F58) -> 0 | I55: =SUM(I56:I57) -> 12636900 | J55: =SUM(J56:J57) -> 0 | K55: =SUM(K56:K57) -> 12636900
A56: Köztisztviselői bérrendezési alap pályázat | F56: =D56+E56 -> 0 | I56: 12636900 | K56: =I56+J56 -> 12636900
K57: =I57+J57 -> 0
A58: 2018. évi állami tám. elszámolásból adódó bevétel | K58: =I58+J58 -> 0
A59: Természetbeni ellátások, Erzsébet utalvány

Sheet 2
B1: Berhida Város Önkormányzata | F1: 2. melléklet a 11/2019.(IX.27.) rendelethez
B2: 2019. évi eredeti költségvetés | F2: 1/c. melléklet a 2/2019.(III.1.) rendelethez
F3: Ft-ban
C4: BEVÉTELEK
A5: Sor- szám | B5: Rovat megnevezése | C5: Mód előirányzat összesen | D5: Önkormányzat | E5: Közös Hivatal | F5: TESZ | G5: Kultúrház | H5: Süni
A6: 1 | B6: Helyi önkormányzatok működésének általános támogatása (B1111) | C6: =SUM(D6:H6) -> 124859801 | D6: 124859801
A7: 2 | B7: Települési önkormányzatok egyes köznevelési feladatainak támogatása (B112) | C7: =SUM(D7:H7) -> 149070733 | D7: 149070733
A8: 3 | B8: Települési önkormányzatok szociális, gyermekjóléti és gyermekétkeztetési feladatainak támogatása (B113) | C8: =SUM(D8:H8) -> 116860163 | D8: 116860163
A9: 4 | B9: Települési önkormányzatok kulturális feladatainak támogatása (B114) | C9: =SUM(D9:H9) -> 8353056 | D9: 8353056
A10: 5 | B10: Működési célú költségvetési támogatások és kiegészítő támogatások (B115) | C10: =SUM(D10:H10) -> 12636900 | D10: 12636900
A11: 6 | B11: Elszámolásból származó bevételek (B116) | C11: =SUM(D11:H11) -> 0
A12: 7 | B12: Önkormányzatok működési támogatásai (B11) | C12: =SUM(D12:H12) -> 411780653 | D12: =SUM(D6:D11) -> 411780653 | E12: =SUM(E6:E11) -> 0 | F12: =SUM(F6:F11) -> 0 | G12: =SUM(G6:G11) -> 0 | H12: =SUM(H6:H11) -> 0
A13: 8 | B13: Elvonások és befizetések bevételei B12 | C13: =SUM(D13:H13) -> 0
A14: 9 | B14: Egyéb működési célú támogatások bevételei államháztartáson belülről (B16) | C14: =SUM(D14:H14) -> 296667348 | D14: =SUM(D15:D19) -> 250441491 | E14: =SUM(E15:E19) -> 1967691 | F14: =SUM(F15:F19) -> 43932388 | G14: =SUM(G15:G19) -> 325778 | H14: =SUM(H15:H19) -> 0
A15: 10 | B15: ebből: egyéb központi kezelésű előirányzatok (B1612 | C15: =SUM(D15:H15) -> 8235113 | D15: 6267422 | E15: 1967691
A16: 11 | B16: ebből: fejezeti kezelésű EU B16 | C16: =SUM(D16:H16) -> 215309993 | D16: 214984215 | G16: 325778
A17: 12 | B17: ebből: társadalombiztosítás pénzügyi alapjai (B1614 | C17: =SUM(D17:H17) -> 29024800 | D17: 29024800
A18: 13 | B18: ebből: elkülönített állami pénzal (B1615 | C18: =SUM(D18:H18) -> 43932388 | F18: 43932388
A19: 14 | B19: ebből: önkormányzat és kv-i szerveik (B 1616 | C19: =SUM(D19:H19) -> 165054 | D19: 165054
A20: 15 | B20: Működési célú támogatások államháztartáson belülről (B1) | C20: =SUM(D20:H20) -> 708448001 | D20: =D12+D14 -> 662222144 | E20: =E12+E14 -> 1967691 | F20: =F12+F14 -> 43932388 | G20: =G12+G14 -> 325778 | H20: =H12+H14 -> 0
A21: 16 | B21: Felhalmozási célú önkormányzati támogatások (B21) | C21: =SUM(D21:H21) -> 42100000 | D21: =D22 -> 42100000 | E21: =E22 -> 0 | F21: =F22 -> 0 | G21: =G22 -> 0 | H21: =H22 -> 0
A22: 17 | B22: ebből: egyéb központi felhalmozási c tám B 2119 | C22: =SUM(D22:H22) -> 42100000 | D22: 42100000
A23: 18 | B23: Egyéb felhalmozási célú tám áht belülről B 25 | C23: =SUM(D23:H23) -> 445980415 | D23: =SUM(D24:D27) -> 445980415 | E23: =SUM(E24:E27) -> 0 | F23: =SUM(F24:F27) -> 0 | G23: =SUM(G24:G27) -> 0 | H23: =SUM(H24:H27) -> 0
A24: 19 | B24: ebből egyéb központi fc tám (B2512 | C24: =SUM(D24:H24) -> 0
A25: 20 | B25: ebből: egyéb fejezeti kez EU fc (B25 | C25: =SUM(D25:H25) -> 445980415 | D25: 445980415
A26: 21 | B26: ebből: elkülönített állami pénzal fc (B2515 | C26: =SUM(D26:H26) -> 0
A27: 22 | B27: ebből: önkorm és kv-i szervek fc tám (B2516 | C27: =SUM(D27:H27) -> 0
A28: 23 | B28: Felhalmozási célú támogatások államháztartáson belülről (B2) | C28: =SUM(D28:H28) -> 488080415 | D28: =D21+D23 -> 488080415 | E28: =E21+E23 -> 0 | F28: =F21+F23 -> 0 | G28: =G21+G23 -> 0 | H28: =H21+H23 -> 0
A29: 24 | B29: Vagyoni tipusú adók (B34) | C29: =SUM(D29:H29) -> 108243000 | D29: =SUM(D30:D31) -> 108243000 | E29: =SUM(E30:E31) -> 0 | F29: =SUM(F30:F31) -> 0 | G29: =SUM(G30:G31) -> 0 | H29: =SUM(H30:H31) -> 0
A30: 25 | B30: ebből: építményadó (B34111) | C30: =SUM(D30:H30) -> 108243000 | D30: 108243000
A31: 26 | B31: ebből: magánszemélyek kommunális adója (B34114) | C31: =SUM(D31:H31) -> 0
A32: 27 | B32: Értékesítési és forgalmi adók iparűzési adó (B351121) | C32: =SUM(D32:H32) -> 225000000 | D32: 225000000
A33: 28 | B33: Gépjárműadó (B3541) | C33: =SUM(D33:H33) -> 11900000 | D33: 11900000
A34: 29 | B34: Egyéb áruhasználati és szolgáltatási adók, környezetterh díj, talajterhelési díj (B355) | C34: =SUM(D34:H34) -> 0
A35: 30 | B35: Termékek és szolgáltatások adói (B35) | C35: =SUM(D35:H35) -> 236900000 | D35: =SUM(D32:D34) -> 236900000 | E35: =SUM(E32:E34) -> 0 | F35: =SUM(F32:F34) -> 0 | G35: =SUM(G32:G34) -> 0 | H35: =SUM(H32:H34) -> 0
A36: 31 | B36: Egyéb közhatalmi bevételek (B36) | C36: =SUM(D36:H36) -> 400000 | D36: 400000 | E36: =SUM(E37:E38) -> 0 | F36: =SUM(F37:F38) -> 0 | G36: =SUM(G37:G38) -> 0 | H36: =SUM(H37:H38) -> 0
A37: 32 | B37: ebből: szabálysértési pénz- és helyszíni bírság és a közlekedési szabályszegések után kiszabott közigazgatási bírság helyi önkormányzatot megillető része (B361225 köv) | C37: =SUM(D37:H37) -> 50000 | D37: 50000
A38: 33 | B38: ebből: egyéb bírság (B361229 köv) | C38: =SUM(D38:H38) -> 350000 | D38: 350000
A39: 34 | B39: Közhatalmi bevételek (B3) | C39: =SUM(D39:H39) -> 345543000 | D39: =D29+D35+D36 -> 345543000 | E39: =E29+E35+E36 -> 0 | F39: =F29+F35+F36 -> 0 | G39: =G29+G35+G36 -> 0 | H39: =H29+H35+H36 -> 0
A40: 35 | B40: Készlet értékesítés előirányzata B 40111 | C40: =SUM(D40:H40) -> 0
A41: 36 | B41: Szolgáltatások (B4021) | C41: =SUM(D41:H41) -> 11048980 | D41: =SUM(D42:D45) -> 0 | E41: =SUM(E42:E45) -> 370000 | F41: =SUM(F42:F45) -> 700000 | G41: =SUM(G42:G45) -> 1486000 | H41: =SUM(H42:H45) -> 8492980
A42: 37 | B42: ebből étkeztetés - kivéve ell, hallgatók térítési díj B40211 | C42: =SUM(D42:H42) -> 1146420 | H42: 1146420
A43: 38 | B43: ebből: bérleti díj bev (B40212) | C43: =SUM(D43:H43) -> 2196000 | E43: 70000 | F43: 700000 | G43: 1426000
A44: 39 | B44: ebből: alkalmazottak térítési díj (B40213) | C44: =SUM(D44:H44) -> 7346560 | H44: 7346560
A45: 40 | B45: ebből: egyéb szolgáltatás (40215) | C45: =SUM(D45:H45) -> 360000 | E45: 300000 | G45: 60000
A46: 41 | B46: Közvetített szolgáltatások ellenértéke (B403) | C46: =SUM(D46:H46) -> 4915000 | D46: =SUM(D47:D48) -> 1470000 | E46: =SUM(E47:E48) -> 1300000 | F46: =SUM(F47:F48) -> 2145000 | G46: =SUM(G47:G48) -> 0 | H46: =SUM(H47:H48) -> 0
A47: 42 | B47: ebből: államháztartáson belül (B40311) | C47: =SUM(D47:H47) -> 3195000 | D47: 1470000 | E47: 1300000 | F47: 425000
A48: 43 | B48: ebből: államháztartáson kívül (B40312) | C48: =SUM(D48:H48) -> 1720000 | F48: 1720000
A49: 44 | B49: Tulajdonosi bevételek (B4041) | C49: =SUM(D49:H49) -> 10618853 | D49: =SUM(D50:D53) -> 10618853 | E49: =SUM(E50:E53) -> 0 | F49: =SUM(F50:F53) -> 0 | G49: =SUM(G50:G53) -> 0 | H49: =SUM(H50:H53) -> 0
A50: 45 | B50: ebből: önkormányzati vagyon üzemeltetéséből származó bevétel (B404131) | C50: =SUM(D50:H50) -> 0
A51: 46 | B51: ebből: önkormányzati vagyon vagyonkezelésbe adásából származó bevétel (B404133) | C51: =SUM(D51:H51) -> 1008853 | D51: 1008853
A52: 47 | B52: ebből: egy önk-i bérleti- és lízing díj bevételek (404134) | C52: =SUM(D52:H52) -> 9100000 | D52: 9100000
A53: 49 | B53: ebből: egy önk tulajdonosi bevétel (B404139) | C53: =SUM(D53:H53) -> 510000 | D53: 510000
A54: 50 | B54: Ellátási díjak (B4051) | C54: =SUM(D54:H54) -> 1365455 | H54: 1365455
A55: 51 | B55: Kiszámlázott általános forgalmi adó (B4061) | C55: =SUM(D55:H55) -> 10203949 | D55: 6323122 | E55: 450900 | F55: 768150 | H55: 2661777
A56: 52 | B56: Általános forgalmi adó visszatérítése (B4071) | C56: =SUM(D56:H56) -> 0
A57: 53 | B57: Egyéb kapott (járó) kamatok és kamatjellegű bevételek ÁHK(B40811) | C57: =SUM(D57:H57) -> 0
A58: 54 | B58: Egyéb pénzügyi műveletek bevételei (B4091) | C58: =SUM(D58:H58) -> 1000 | F58: 1000
A59: 55 | B59: Biztosító által fizetett kártérítés (B4101) | C59: =SUM(D59:H59) -> 0
A60: 56 | B60: Egyéb működési bevételek (B4111) | C60: =SUM(D60:H60) -> 1470500 | D60: 1460500 | F60: 10000
A61: 57 | B61: Működési bevételek (B4) | C61: =SUM(D61:H61) -> 39623737 | D61: =D40+D41+D46+D49+D54+D55+D56+D57+D58+D59+D60 -> 19872475 | E61: =E40+E41+E46+E49+E54+E55+E56+E57+E58+E59+E60 -> 2120900 | F61: =F40+F41+F46+F49+F54+F55+F56+F57+F58+F59+F60 -> 3624150 | G61: =G40+G41+G46+G49+G54+G55+G56+G57+G58+G59+G60 -> 1486000 | H61: =H40+H41+H46+H49+H54+H55+H56+H57+H58+H59+H60 -> 12520212
A62: 58 | B62: Ingatlanok értékesítése (B521) | C62: =SUM(D62:H62) -> 20900614 | D62: 20900614
A63: 59 | B63: Egyéb tárgyi eszközök értékesítése B531 | C63: =SUM(D63:H63) -> 0
A64: 60 | B64: Felhalmozási bevételek (B5) | C64: =SUM(D64:H64) -> 20900614 | D64: =SUM(D62:D63) -> 20900614 | E64: =SUM(E62:E63) -> 0 | F64: =SUM(F62:F63) -> 0 | G64: =SUM(G62:G63) -> 0 | H64: =SUM(H62:H63) -> 0
A65: 61 | B65: Egyéb működési célú átvett pénzeszközök (65) | C65: =SUM(D65:H65) -> 435000 | G65: 435000
A66: 62 | B66: Működési célú átvett pénzeszközök (B6) | C66: =SUM(D66:H66) -> 435000 | D66: =D65 -> 0 | E66: =E65 -> 0 | F66: =F65 -> 0 | G66: =G65 -> 435000 | H66: =H65 -> 0
A67: 63 | B67: Felhalmozási célú visszatérítendő támogatások, kölcsönök visszatérülése államháztartáson kívülről (B74) | C67: =SUM(D67:H67) -> 0
A68: 64 | B68: ebből: háztartások (B74) | C68: =SUM(D68:H68) -> 608000 | D68: 608000
A69: 65 | B69: Egyéb felhalmozási célú átvett pénzeszközök (B75) | C69: =SUM(D69:H69) -> 120000 | D69: 120000
A70: 66 | B70: Felhalmozási célú átvett pénzeszközök (B7) | C70: =SUM(D70:H70) -> 728000 | D70: =SUM(D67:D69) -> 728000 | E70: =SUM(E67:E69) -> 0 | F70: =SUM(F67:F69) -> 0 | G70: =SUM(G67:G69) -> 0 | H70: =SUM(H67:H69) -> 0
A71: 67 | B71: Költségvetési bevételek (B1-B7) | C71: =SUM(D71:H71) -> 1603758767 | D71: =D20+D28+D39+D61+D64+D66+D70 -> 1537346648 | E71: =E20+E28+E39+E61+E64+E66+E70 -> 4088591 | F71: =F20+F28+F39+F61+F64+F66+F70 -> 47556538 | G71: =G20+G28+G39+G61+G64+G66+G70 -> 2246778 | H71: =H20+H28+H39+H61+H64+H66+H70 -> 12520212
A72: 68 | B72: Befektetési célú belföldi egyéb hitelviszonyt megtestesítő értékpapír beváltása, értékesítése (B 81231 | C72: =SUM(D72:H72) -> 60000000 | D72: 60000000
A73: 69 | B73: Előző év költségvetési maradványának igénybevétele (B813) | C73: =SUM(D73:H73) -> 1100474741 | D73: 1045989369 | E73: 13846714 | F73: 22277262 | G73: 11553464 | H73: 6807932
A74: 70 | B74: Államháztartáson belüli megelőlegezések (B814) | C74: =SUM(D74:H74) -> 9901101 | D74: 9901101
A75: 71 | B75: Irányító szervi támogatás (B816 | C75: =SUM(D75:H75) -> 552671506 | E75: 210360554 | F75: 126735424 | G75: 71027271 | H75: 144548257
A76: 72 | B76: Belföldi finanszírozás bevételei (B81) | C76: =SUM(D76:H76) -> 1723047348 | D76: =SUM(D72:D75) -> 1115890470 | E76: =SUM(E72:E75) -> 224207268 | F76: =SUM(F72:F75) -> 149012686 | G76: =SUM(G72:G75) -> 82580735 | H76: =SUM(H72:H75) -> 151356189
A77: 73 | B77: Finanszírozási bevételek (B8) | C77: =SUM(D77:H77) -> 1723047348 | D77: =D76 -> 1115890470 | E77: =E76 -> 224207268 | F77: =F76 -> 149012686 | G77: =G76 -> 82580735 | H77: =H76 -> 151356189
A78: 74 | B78: MINDÖSSZESEN: | C78: =SUM(D78:H78) -> 3326806115 | D78: =D71+D77 -> 2653237118 | E78: =E71+E77 -> 228295859 | F78: =F71+F77 -> 196569224 | G78: =G71+G77 -> 84827513 | H78: =H71+H77 -> 163876401

Sheet 3
B1: Berhida Város Önkormányzata | F1: 3. melléklet a 11/2019.(IX.27.) rendelethez
B2: 2019. évi eredeti költségvetés | F2: 1/d. melléklet a 2/2019.(III.1.) rendelethez
C4: BEVÉTELEK | F4: Ft-ban
A5: Sor- szám | B5: Rovat megnevezése | C5: Teljesítés 07.31 összesen | D5: Önkormányzat | E5: Közös Hivatal | F5: TESZ | G5: Kultúrház | H5: Süni
A6: 1 | B6: Helyi önkormányzatok működésének általános támogatása (B1111) | C6: =SUM(D6:H6) -> 76162010 | D6: 76162010
A7: 2 | B7: Települési önkormányzatok egyes köznevelési feladatainak támogatása (B112) | C7: =SUM(D7:H7) -> 88700261 | D7: 88700261
A8: 3 | B8: Települési önkormányzatok szociális, gyermekjóléti és gyermekétkeztetési feladatainak támogatása (B113) | C8: =SUM(D8:H8) -> 73076752 | D8: 73076752
A9: 4 | B9: Települési önkormányzatok kulturális feladatainak támogatása (B114) | C9: =SUM(D9:H9) -> 5592866 | D9: 5592866
A10: 5 | B10: Működési célú költségvetési támogatások és kiegészítő támogatások (B115) | C10: =SUM(D10:H10) -> 12636900 | D10: 12636900
A11: 6 | B11: Elszámolásból származó bevételek (B116) | C11: =SUM(D11:H11) -> 360567 | D11: 360567
A12: 7 | B12: Önkormányzatok működési támogatásai (B11) | C12: =SUM(D12:H12) -> 256529356 | D12: =SUM(D6:D11) -> 256529356 | E12: =SUM(E6:E11) -> 0 | F12: =SUM(F6:F11) -> 0 | G12: =SUM(G6:G11) -> 0 | H12: =SUM(H6:H11) -> 0
A13: 8 | B13: Elvonások és befizetések bevételei B12 | C13: =SUM(D13:H13) -> 0
A14: 9 | B14: Egyéb működési célú támogatások bevételei államháztartáson belülről (B16) | C14: =SUM(D14:H14) -> 45041106 | D14: =SUM(D15:D19) -> 19322500 | E14: =SUM(E15:E19) -> 1967691 | F14: =SUM(F15:F19) -> 23425137 | G14: =SUM(G15:G19) -> 325778 | H14: =SUM(H15:H19) -> 0
A15: 10 | B15: ebből: egyéb központi kezelésű előirányzatok (B1612 | C15: =SUM(D15:H15) -> 384000 | D15: 384000
A16: 11 | B16: ebből: fejezeti kezelésű EU B16 | C16: =SUM(D16:H16) -> 5293469 | D16: 3000000 | E16: 1967691 | G16: 325778
A17: 12 | B17: ebből: társadalombiztosítás pénzügyi alapjai (B1614 | C17: =SUM(D17:H17) -> 15938500 | D17: 15938500
A18: 13 | B18: ebből: elkülönített állami pénzal (B1615 | C18: =SUM(D18:H18) -> 23425137 | F18: 23425137
A19: 14 | B19: ebből: önkormányzat és kv-i szerveik (B 1616 | C19: =SUM(D19:H19) -> 0
A20: 15 | B20: Működési célú támogatások államháztartáson belülről (B1) | C20: =SUM(D20:H20) -> 301570462 | D20: =D12+D14 -> 275851856 | E20: =E12+E14 -> 1967691 | F20: =F12+F14 -> 23425137 | G20: =G12+G14 -> 325778 | H20: =H12+H14 -> 0
A21: 16 | B21: Felhalmozási célú önkormányzati támogatások (B21) | C21: =SUM(D21:H21) -> 42100000 | D21: =D22 -> 42100000 | E21: =E22 -> 0 | F21: =F22 -> 0 | G21: =G22 -> 0 | H21: =H22 -> 0
A22: 17 | B22: ebből: egyéb központi felhalmozási c tám B 2119 | C22: =SUM(D22:H22) -> 42100000 | D22: 42100000
A23: 18 | B23: Egyéb felhalmozási célú tám áht belülről B 25 | C23: =SUM(D23:H23) -> 2206600 | D23: =SUM(D24:D27) -> 2206600 | E23: =SUM(E24:E27) -> 0 | F23: =SUM(F24:F27) -> 0 | G23: =SUM(G24:G27) -> 0 | H23: =SUM(H24:H27) -> 0
A24: 19 | B24: ebből egyéb központi fc tám (B2512 | C24: =SUM(D24:H24) -> 0
A25: 20 | B25: ebből: egyéb fejezeti kez EU fc (B25 | C25: =SUM(D25:H25) -> 2206600 | D25: 2206600
A26: 21 | B26: ebből: elkülönített állami pénzal fc (B2515 | C26: =SUM(D26:H26) -> 0
A27: 22 | B27: ebből: önkorm és kv-i szervek fc tám (B2516 | C27: =SUM(D27:H27) -> 0
A28: 23 | B28: Felhalmozási célú támogatások államháztartáson belülről (B2) | C28: =SUM(D28:H28) -> 44306600 | D28: =D21+D23 -> 44306600 | E28: =E21+E23 -> 0 | F28: =F21+F23 -> 0 | G28: =G21+G23 -> 0 | H28: =H21+H23 -> 0
A29: 24 | B29: Vagyoni tipusú adók (B34) | C29: =SUM(D29:H29) -> 59187393 | D29: =SUM(D30:D31) -> 59187393 | E29: =SUM(E30:E31) -> 0 | F29: =SUM(F30:F31) -> 0 | G29: =SUM(G30:G31) -> 0 | H29: =SUM(H30:H31) -> 0
A30: 25 | B30: ebből: építményadó (B34111) | C30: =SUM(D30:H30) -> 58967484 | D30: 58967484
A31: 26 | B31: ebből: magánszemélyek kommunális adója (B34114) | C31: =SUM(D31:H31) -> 219909 | D31: 219909
A32: 27 | B32: Értékesítési és forgalmi adók iparűzési adó (B351121) | C32: =SUM(D32:H32) -> 90187672 | D32: 90187672
A33: 28 | B33: Gépjárműadó (B3541) | C33: =SUM(D33:H33) -> 8773300 | D33: 8773300
A34: 29 | B34: Egyéb áruhasználati és szolgáltatási adók, környezetterh díj, talajterhelési díj (B355) | C34: =SUM(D34:H34) -> 0
A35: 30 | B35: Termékek és szolgáltatások adói (B35) | C35: =SUM(D35:H35) -> 98960972 | D35: =SUM(D32:D34) -> 98960972 | F35: =SUM(F32:F34) -> 0 | G35: =SUM(G32:G34) -> 0 | H35: =SUM(H32:H34) -> 0
A36: 31 | B36: Egyéb közhatalmi bevételek (B36) | C36: =SUM(D36:H36) -> 97114 | D36: 82114 | E36: 15000 | F36: =SUM(F37:F38) -> 0 | G36: =SUM(G37:G38) -> 0 | H36: =SUM(H37:H38) -> 0
A37: 32 | B37: ebből: szabálysértési pénz- és helyszíni bírság és a közlekedési szabályszegések után kiszabott közigazgatási bírság helyi önkormányzatot megillető része (B361225 köv) | C37: =SUM(D37:H37) -> 0
A38: 33 | B38: ebből: egyéb bírság (B361229 köv) | C38: =SUM(D38:H38) -> 28877 | D38: 28877
A39: 34 | B39: Közhatalmi bevételek (B3) | C39: =SUM(D39:H39) -> 158245479 | D39: =D29+D35+D36 -> 158230479 | E39: =E29+E35+E36 -> 15000 | F39: =F29+F35+F36 -> 0 | G39: =G29+G35+G36 -> 0 | H39: =H29+H35+H36 -> 0
A40: 35 | B40: Készlet értékesítés előirányzata B 40111 | C40: =SUM(D40:H40) -> 6000 | G40: 6000
A41: 36 | B41: Szolgáltatások (B4021) | C41: =SUM(D41:H41) -> 6830207 | D41: =SUM(D42:D45) -> 0 | E41: =SUM(E42:E45) -> 151732 | F41: =SUM(F42:F45) -> 566968 | G41: =SUM(G42:G45) -> 1077130 | H41: 5034377
A42: 37 | B42: ebből étkeztetés - kivéve ell, hallgatók térítési díj B40211 | C42: =SUM(D42:H42) -> 0
A43: 38 | B43: ebből: bérleti díj bev (B40212) | C43: =SUM(D43:H43) -> 141732 | E43: 141732
A44: 39 | B44: ebből: alkalmazottak térítési díj (B40213) | C44: =SUM(D44:H44) -> 0
A45: 40 | B45: ebből: egyéb szolgáltatás (40215) | C45: =SUM(D45:H45) -> 1654098 | E45: 10000 | F45: 566968 | G45: 1077130
A46: 41 | B46: Közvetített szolgáltatások ellenértéke (B403) | C46: =SUM(D46:H46) -> 2481983 | D46: =SUM(D47:D48) -> 407978 | E46: =SUM(E47:E48) -> 716425 | F46: =SUM(F47:F48) -> 1357560 | G46: =SUM(G47:G48) -> 20 | H46: =SUM(H47:H48) -> 0
A47: 42 | B47: ebből: államháztartáson belül (B40311) | C47: =SUM(D47:H47) -> 1341308 | D47: 385199 | E47: 712880 | F47: 243229
A48: 43 | B48: ebből: államháztartáson kívül (B40312) | C48: =SUM(D48:H48) -> 1140675 | D48: 22779 | E48: 3545 | F48: 1114331 | G48: 20
A49: 44 | B49: Tulajdonosi bevételek (B4041) | C49: =SUM(D49:H49) -> 6692318 | D49: 6669318 | E49: =SUM(E50:E53) -> 0 | F49: =SUM(F50:F53) -> 0 | G49: 23000 | H49: =SUM(H50:H53) -> 0
A50: 45 | B50: ebből: önkormányzati vagyon üzemeltetéséből származó bevétel (B404131) | C50: =SUM(D50:H50) -> 33805 | D50: 33805
A51: 46 | B51: ebből: önkormányzati vagyon vagyonkezelésbe adásából származó bevétel (B404133) | C51: =SUM(D51:H51) -> 653231 | D51: 653231
A52: 47 | B52: ebből: egy önk-i bérleti- és lízing díj bevételek (404134) | C52: =SUM(D52:H52) -> 0
A53: 49 | B53: ebből: egy önk tulajdonosi bevétel (B404139) | C53: =SUM(D53:H53) -> 0
A54: 50 | B54: Ellátási díjak (B4051) | C54: =SUM(D54:H54) -> 723385 | D54: 30000 | H54: 693385
A55: 51 | B55: Kiszámlázott általános forgalmi adó (B4061) | C55: =SUM(D55:H55) -> 6581469 | D55: 4313500 | E55: 233053 | F55: 488418 | H55: 1546498
A56: 52 | B56: Általános forgalmi adó visszatérítése (B4071) | C56: =SUM(D56:H56) -> 1358966 | H56: 1358966
A57: 53 | B57: Egyéb kapott (járó) kamatok és kamatjellegű bevételek ÁHK(B40811) | C57: =SUM(D57:H57) -> 2490236 | D57: 2490224 | E57: 2 | F57: 6 | G57: 2 | H57: 2
A58: 54 | B58: Egyéb pénzügyi műveletek bevételei (B4091) | C58: =SUM(D58:H58) -> 0
A59: 55 | B59: Biztosító által fizetett kártérítés (B4101) | C59: =SUM(D59:H59) -> 0
A60: 56 | B60: Egyéb működési bevételek (B4111) | C60: =SUM(D60:H60) -> 100344 | D60: 56996 | E60: 2459 | F60: 35860 | G60: 2653 | H60: 2376
A61: 57 | B61: Működési bevételek (B4) | C61: =SUM(D61:H61) -> 27264908 | D61: =D40+D41+D46+D49+D54+D55+D56+D57+D58+D59+D60 -> 13968016 | E61: =E40+E41+E46+E49+E54+E55+E56+E57+E58+E59+E60 -> 1103671 | F61: =F40+F41+F46+F49+F54+F55+F56+F57+F58+F59+F60 -> 2448812 | G61: =G40+G41+G46+G49+G54+G55+G56+G57+G58+G59+G60 -> 1108805 | H61: =H40+H41+H46+H49+H54+H55+H56+H57+H58+H59+H60 -> 8635604
A62: 58 | B62: Ingatlanok értékesítése (B521) | C62: =SUM(D62:H62) -> 20191953 | D62: 20191953
A63: 59 | B63: Egyéb tárgyi eszközök értékesítése B531 | C63: =SUM(D63:H63) -> 0
A64: 60 | B64: Felhalmozási bevételek (B5) | C64: =SUM(D64:H64) -> 20191953 | D64: =SUM(D62:D63) -> 20191953 | E64: =SUM(E62:E63) -> 0 | F64: =SUM(F62:F63) -> 0 | G64: =SUM(G62:G63) -> 0 | H64: =SUM(H62:H63) -> 0
A65: 61 | B65: Egyéb működési célú átvett pénzeszközök (65) | C65: =SUM(D65:H65) -> 524000 | D65: 254000 | G65: 270000
A66: 62 | B66: Működési célú átvett pénzeszközök (B6) | C66: =SUM(D66:H66) -> 524000 | D66: =D65 -> 254000 | E66: =E65 -> 0 | F66: =F65 -> 0 | G66: =G65 -> 270000 | H66: =H65 -> 0
A67: 63 | B67: Felhalmozási célú visszatérítendő támogatások, kölcsönök visszatérülése államháztartáson kívülről (B74) | C67: =SUM(D67:H67) -> 176091 | D67: 176091
A68: 64 | B68: ebből: háztartások (B74) | C68: =SUM(D68:H68) -> 133242 | D68: 133242
A69: 65 | B69: Egyéb felhalmozási célú átvett pénzeszközök (B75) | C69: =SUM(D69:H69) -> 0
A70: 66 | B70: Felhalmozási célú átvett pénzeszközök (B7) | C70: =SUM(D70:H70) -> 176091 | D70: =D67+D69 -> 176091 | E70: =E67+E69 -> 0 | F70: =F67+F69 -> 0 | G70: =G67+G69 -> 0 | H70: =H67+H69 -> 0
A71: 67 | B71: Költségvetési bevételek (B1-B7) | C71: =SUM(D71:H71) -> 552279493 | D71: =D20+D28+D39+D61+D64+D66+D70 -> 512978995 | E71: =E20+E28+E39+E61+E64+E66+E70 -> 3086362 | F71: =F20+F28+F39+F61+F64+F66+F70 -> 25873949 | G71: =G20+G28+G39+G61+G64+G66+G70 -> 1704583 | H71: =H20+H28+H39+H61+H64+H66+H70 -> 8635604
A72: 68 | B72: Befektetési célú belföldi egyéb hitelviszonyt megtestesítő értékpapír beváltása, értékesítése (B 81231 | C72: =SUM(D72:H72) -> 0
A73: 69 | B73: Előző év költségvetési maradványának igénybevétele (B813) | C73: =SUM(D73:H73) -> 1100474741 | D73: 1045989369 | E73: 13846714 | F73: 22277262 | G73: 11553464 | H73: 6807932
A74: 70 | B74: Államháztartáson belüli megelőlegezések (B814) | C74: =SUM(D74:H74) -> 9901101 | D74: 9901101
A75: 71 | B75: Irányító szervi támogatás (B816 | C75: =SUM(D75:H75) -> 241302882 | E75: 91914068 | F75: 54261542 | G75: 27917002 | H75: 67210270
A76: 72 | B76: Belföldi finanszírozás bevételei (B81) | C76: =SUM(D76:H76) -> 1351678724 | D76: =SUM(D72:D75) -> 1055890470 | E76: =SUM(E72:E75) -> 105760782 | F76: =SUM(F72:F75) -> 76538804 | G76: =SUM(G72:G75) -> 39470466 | H76: =SUM(H72:H75) -> 74018202
A77: 73 | B77: Finanszírozási bevételek (B8) | C77: =SUM(D77:H77) -> 1351678724 | D77: =D76 -> 1055890470 | E77: =E76 -> 105760782 | F77: =F76 -> 76538804 | G77: =G76 -> 39470466 | H77: =H76 -> 74018202
A78: 74 | B78: MINDÖSSZESEN: | C78: =SUM(D78:H78) -> 1903958217 | D78: =D71+D77 -> 1568869465 | E78: =E71+E77 -> 108847144 | F78: =F71+F77 -> 102412753 | G78: =G71+G77 -> 41175049 | H78: =H71+H77 -> 82653806

Sheet 4
B1: Berhida Város Önkormányzata | C1: 4. melléklet a 11/2019.(IX.27.) rendelethez
B2: 2019. évi költségvetés | C2: 2/a. melléklet a 2/2019.(III.1.) rendelethez
B3: Kiadások | C3: adatok Ft-ban
A5: Felújítások | C5: Eredeti előir | D5: Mód. Előirányzat | E5: változás | F5: Mód. Előirányzat | G5: Teljesítés 07.31
A6: 1 | B6: TESZ egyéb gép, berendezés, jármű felújítás | C6: 1620600 | D6: =C6 -> 1620600 | F6: =D6+E6 -> 1620600 | G6: 0
A7: 2 | B7: ÖH informatikai eszköz felújítás | C7: 254000 | D7: =C7 -> 254000 | F7: =D7+E7 -> 254000 | G7: 0
A8: 3 | B8: ÖNK külterületi utak pályázat | C8: 45985797 | D8: =C8 -> 45985797 | F8: =D8+E8 -> 45985797
A9: 4 | B9: ÖNK tervek | C9: 4000000 | D9: 5000000 | F9: =D9+E9 -> 5000000 | G9: 508000
A10: 5 | B10: ÖNK Gyermekorvosi és védőnői szolg. Épület felúj pályázat 64 m | C10: 67640000 | D10: 67650000 | F10: =D10+E10 -> 67650000 | G10: 3076200
A11: 6 | B11: ÖNK Petőfi Műv Ház mellékbejárat ajtócsere | C11: 339380 | D11: =C11 -> 339380 | F11: =D11+E11 -> 339380 | G11: 339380
A12: 7 | B12: ÖNK Üzletsor virág-zöldség-vegyesker. ablakcsere | C12: 1028959 | D12: =C12 -> 1028959 | F12: =D12+E12 -> 1028959 | G12: 1028959
A13: 8 | B13: ÖNK Süni konyha felújítás pályázat | C13: 33671602 | D13: =C13 -> 33671602 | F13: =D13+E13 -> 33671602
A14: 9 | B14: ÖNK ivóvíz bekötés felújítások Viziközmű szl-.ról | C14: 1116976 | D14: =C14 -> 1116976 | F14: =D14+E14 -> 1116976
A15: 10 | B15: ÖNK viziközmű alapból tervek | C15: 2349500 | D15: =C15 -> 2349500 | F15: =D15+E15 -> 2349500 | G15: 508000
A16: 11 | B16: ÖNK viziközmű alapból keretszerződés | C16: 3000000 | D16: =C16 -> 3000000 | F16: =D16+E16 -> 3000000
A17: 12 | B17: ÖNK MTZ traktor felújítás | C17: 1218768 | D17: 1327338 | F17: =D17+E17 -> 1327338 | G17: 1327338
A18: 13 | B18: ÖNK Petőfi Műv ház tetőszigetelés javítása | D18: 806155 | F18: =D18+E18 -> 806155
A19: 15 | B19: ÖNK Péti úti ravatalozó kültéri rav.hely és lábazat felújítás | D19: 900000 | F19: =D19+E19 -> 900000
A20: 16 | B20: ÖNK Művelődési ház érintésvédelem vill szekrény | D20: 1991430 | F20: =D20+E20 -> 1991430
A21: 17 | B21: ÖNK kamera rendszer felújítás | E21: 304202 | F21: =D21+E21 -> 304202
A22: 18 | B22: ÖNK Víziközmű Alap szennyvíz tisztító aknák felúj | E22: 1587963 | F22: =D22+E22 -> 1587963 | G22: 1587963
B23: ÖNK rendőrség épület felújítás BM pályázat | E23: 42100000 | F23: =D23+E23 -> 42100000
A24: 19 | F24: =D24+E24 -> 0
A25: 20 | B25: Összesen | C25: =SUM(C6:C24) -> 162225582 | D25: =SUM(D6:D24) -> 167041737 | E25: =SUM(E6:E24) -> 43992165 | F25: =SUM(F6:F24) -> 211033902 | G25: =SUM(G6:G24) -> 8375840

Sheet 5
B1: Berhida Város Önkormányzata | C1: 5. melléklet a 11/2019.(IX.27.) rendelethez
B2: 2019. évi költségvetés | C2: 2/b. melléklet a 2/2019.(III.1.) rendelethez
B3: Kiadások | C3: adatok Ft-ban
A5: Beruházások | C5: Eredeti előir | D5: Mód előir. | E5: változás | F5: Mód előir. | G5: Teljesítés 07.31
A6: 1 | B6: TESZ informatikai eszközök+áfa | C6: 25400 | D6: =C6 -> 25400 | E6: 40000 | F6: =D6+E6 -> 65400 | G6: 32830
A7: 2 | B7: TESZ egyéb gép- berendezés+áfa | C7: 2895600 | D7: 4531600 | E7: -40000 | F7: =D7+E7 -> 4491600 | G7: 1495029
A8: 3 | B8: Kultúrház egyéb tárgyi eszköz beszerzés (világító testek,kuka) | C8: 508000 | D8: 660400 | E8: 299410 | F8: =D8+E8 -> 959810 | G8: 218150
A9: 4 | B9: Kultúrház éven túli könyvbeszerzés | C9: 660450 | D9: 771450 | E9: 126000 | F9: =D9+E9 -> 897450 | G9: 225148
A10: 5 | B10: Kultúrház immateriális javak beszerzése | C10: 7874 | D10: =C10 -> 7874 | F10: =D10+E10 -> 7874
A11: 6 | B11: Kultúrház 2019. évi érdekeltség növ, egyéb gép, berend | C11: 508000 | D11: =C11 -> 508000 | E11: 560000 | F11: =D11+E11 -> 1068000
A12: 7 | B12: Kultúrház 2018. érdekeltségnöv pályázat egyéb gép, berend (színpad felsőgépészet) | C12: 7759700 | D12: =C12 -> 7759700 | F12: =D12+E12 -> 7759700 | G12: 7759700
A13: 8 | B13: Kultúr kisértékű te. Csóri pályázat | C13: 927000 | D13: =C13 -> 927000 | F13: =D13+E13 -> 927000 | G13: 795500
A14: 9 | B14: Süni egyéb tárgyi eszköz + áfa | C14: 903097 | D14: 1004097 | E14: -2000 | F14: =D14+E14 -> 1002097 | G14: 444989
A15: 10 | B15: ÖH informatikai eszközök + áfa | C15: 1270000 | D15: =C15 -> 1270000 | F15: =D15+E15 -> 1270000 | G15: 154930
A16: 11 | B16: ÖH egyéb gép, berend + áfa | C16: 3810000 | D16: =C16 -> 3810000 | F16: =D16+E16 -> 3810000 | G16: 884139
A17: 12 | B17: ÖNK védőnői szolg. Egyéb eszközbeszerzés | C17: 508000 | D17: =C17 -> 508000 | F17: =D17+E17 -> 508000 | G17: 119797
A18: 13 | B18: ÖNK kerékpárút kialakítás TOP 3.1.1-16 pályázat | C18: 245954948 | D18: =C18 -> 245954948 | E18: 39716294 | F18: =D18+E18 -> 285671242 | G18: 2350000
A19: 14 | B19: ÖNK szennyvíz tisztítótelep, csatornahál fejl. KEHOP pályázat | C19: 776790555 | D19: =C19 -> 776790555 | F19: =D19+E19 -> 776790555
A20: 15 | B20: ÖNK tervek | C20: 2000000 | D20: 3000000 | F20: =D20+E20 -> 3000000
A21: 16 | B21: ÖNK 181/2 hrsz-ú közút közvilágítási hálózatra csatlakozás | C21: 762000 | D21: 1742000 | F21: =D21+E21 -> 1742000 | G21: 381000
A22: 17 | B22: ÖNK Kiskovácsi temető ravatalozó bővítés Korm. Hiv hatós. Előir | C22: 9635788 | D22: =C22 -> 9635788 | E22: -75911 | F22: =D22+E22 -> 9559877 | G22: 4782767
A23: 18 | B23: ÖNK közvilágítás korszer | C23: 700000 | D23: 2500000 | E23: -265000 | F23: =D23+E23 -> 2235000
A24: 19 | B24: ÖNK urnahely temetkezési hely kialakítás | C24: 1500000 | D24: =C24 -> 1500000 | F24: =D24+E24 -> 1500000 | G24: 1361440
A25: 20 | B25: ÖNK sportparkok kialakítása térburkolat | C25: 1955800 | D25: =C25 -> 1955800 | F25: =D25+E25 -> 1955800 | G25: 15780
A26: 21 | B26: ÖNK sportpark napelemes lámpa | C26: 210000 | D26: =C26 -> 210000 | F26: =D26+E26 -> 210000 | G26: 210000
A27: 22 | B27: ÖNK VP6-7.2.1.4.1.3-17 közétkeztetés fejl. Süni eszközfejl.pály. | C27: 18925488 | D27: =C27 -> 18925488 | F27: =D27+E27 -> 18925488 | G27: 1887220
A28: 23 | B28: ÖNK Magyar Ifjúság-Liszt F. u. közötti járdához területvásárlás | D28: 400000 | F28: =D28+E28 -> 400000
A29: 24 | B29: ÖNK Bem u. sarka terület átvétel kapcsán kerítés építés | D29: 2000000 | E29: -2000000 | F29: =D29+E29 -> 0
A30: 25 | B30: ÖNK védőnői szolg. informatikai eszközbeszerzés | D30: 60000 | F30: =D30+E30 -> 60000 | G30: 28770
A31: 26 | B31: ÖNK kamerák elhelyezése, cseréje | D31: 3000000 | F31: =D31+E31 -> 3000000 | G31: 838334
A32: 27 | B32: ÖNK buszmegálló beszerzés | D32: 900000 | E32: 235000 | F32: =D32+E32 -> 1135000
A33: 28 | B33: ÖNK térburkolat Péti úti temetőben (urnafalnál) | D33: 800000 | F33: =D33+E33 -> 800000
A34: 29 | B34: ÖNK Süni ovifoci pálya pályázat kerítés | D34: 1200000 | F34: =D34+E34 -> 1200000
A35: 30 | B35: ÖNK rendezési terv, települési rendezési eszköz terv módosítás | D35: 1143000 | E35: 508000 | F35: =D35+E35 -> 1651000
A36: 31 | B36: Kultúr szakkörök kisértékű egyéb eszköz beszerz.+áfa (függöny,blúz Pere-Rúzs; Berhida TE ruha,) | D36: 353210 | E36: -126000 | F36: =D36+E36 -> 227210 | G36: =12075+23960+170090+6990 -> 213115
A37: 32 | B37: ÖNK rendezetlen ingatlanvásárlás | D37: 2200000 | F37: =D37+E37 -> 2200000
A38: 33 | B38: ÖNK Víziközmű Alap szennyvíz tisztító aknák felúj | D38: 1587963 | E38: -1587963 | F38: =D38+E38 -> 0
A39: 34 | B39: Süni informatikai tárgyi eszköz + áfa | E39: 2000 | F39: =D39+E39 -> 2000
A40: 35 | B40: ÖNK Kiskovácsi temető egyéb építményi munkák (kerítés, térkő) | E40: 905911 | F40: =D40+E40 -> 905911
A41: 36 | B41: ÖNK VP6-19.2.1.-7-2-17 közösségi együttműködést segítő fejl. Tám. Fittnesparkok | E41: 10224000 | F41: =D41+E41 -> 10224000
A42: 37 | F42: =D42+E42 -> 0
A43: 38 | B43: Összesen | C43: =SUM(C6:C42) -> 1078217700 | D43: =SUM(D6:D42) -> 1097642273 | E43: =SUM(E6:E42) -> 48519741 | F43: =SUM(F6:F42) -> 1146162014 | G43: =SUM(G6:G42) -> 24198638

Sheet 6
B1: Berhida Város Önkormányzata | E1: 6. melléklet a 11/2019.(IX.27.) rendelethez
B2: 2019. évi eredeti költségvetés | E2: 2/d. melléklet a 2/2019.(III.1.) rendelethez
C3: KIADÁSOK | E3: Ft-ban
A5: Sor- szám | B5: Rovat megnevezése | C5: Mód előirányzat összesen | D5: Önkormányzat | E5: Közös Hivatal | F5: TESZ | G5: Kultúrház | H5: Süni
A6: 27 | B6: Személyi juttatások (K1) | C6: =SUM(D6:H6) -> 427865603 | D6: 42051716 | E6: 154222509 | F6: 102150459 | G6: 29726443 | H6: 99714476
A7: 28 | B7: Munkaadókat terhelő járulékok és szociális hozzájárulási adó (K2) | C7: =SUM(D7:H7) -> 82225392 | D7: 8965951 | E7: 30909497 | F7: 15165785 | G7: 5893050 | H7: 21291109
A8: 87 | B8: Dologi kiadások (K3) | C8: =SUM(D8:H8) -> 497906697 | D8: 307773769 | E8: 37829853 | F8: 73075380 | G8: 37360976 | H8: 41866719
A9: 88 | B9: Családi támogatások (K42) | C9: =SUM(D9:H9) -> 1886500 | D9: =D10 -> 1886500 | E9: =E10 -> 0 | F9: =F10 -> 0 | G9: =G10 -> 0 | H9: =H10 -> 0
A10: 89 | B10: ebből: az egyéb pénzbeli és természetbeni gyermekvédelmi támogatások (K42132) | C10: =SUM(D10:H10) -> 1886500 | D10: 1886500
A11: 90 | B11: Intézményi ellátottak pénzbeli juttatásai (K47) | C11: =SUM(D11:H11) -> 800000 | D11: =D12 -> 800000 | E11: =E12 -> 0 | F11: =F12 -> 0 | G11: =G12 -> 0 | H11: =H12 -> 0
A12: 91 | B12: ebből: oktatásban résztvevők pénzbeli juttatásai (K471) | C12: =SUM(D12:H12) -> 800000 | D12: 800000
A13: 92 | B13: Egyéb nem intézményi ellátások (K48) | C13: =SUM(D13:H13) -> 10071998 | D13: =SUM(D14:D15) -> 10071998 | E13: =SUM(E14:E15) -> 0 | F13: =SUM(F14:F15) -> 0 | G13: =SUM(G14:G15) -> 0 | H13: =SUM(H14:H15) -> 0
A14: 93 | B14: ebből: köztemetés [Szoctv. 48.§] (K48123) | C14: =SUM(D14:H14) -> 1000000 | D14: 1000000
A15: 94 | B15: ebből: települési támogatás [Szoctv. 45. §], (K48122) | C15: =SUM(D15:H15) -> 9071998 | D15: 9071998
A16: 96 | B16: Ellátottak pénzbeli juttatásai (K4) | C16: =SUM(D16:H16) -> 12758498 | D16: =D9+D11+D13 -> 12758498 | E16: =E9+E11+E13 -> 0 | F16: =F9+F11+F13 -> 0 | G16: =G9+G11+G13 -> 0 | H16: =H9+H11+H13 -> 0
A17: 97 | B17: Elvonások és befizetések (K5023) | C17: =SUM(D17:H17) -> 0
A18: 98 | B18: Egyéb működési célú támogatások államháztartáson belülre (K506) | C18: =SUM(D18:H18) -> 196539754 | D18: =SUM(D19:D22) -> 196539754 | E18: =SUM(E19:E22) -> 0 | F18: =SUM(F19:F22) -> 0 | G18: =SUM(G19:G22) -> 0 | H18: =SUM(H19:H22) -> 0
A19: 99 | B19: ebből: egyéb központi kezelésű előir (K50612) | C19: =SUM(D19:H19) -> 4500000 | D19: 4500000
A20: 100 | B20: ebből: elkülönített állami pénzalap (K50615) | C20: =SUM(D20:H20) -> 0
A21: 101 | B21: ebből: önkormányzatok és költségv-i szerveik K50616) | C21: =SUM(D21:H21) -> 0
A22: 102 | B22: ebből: társulások és költségvetési szerveik (K50617) | C22: =SUM(D22:H22) -> 192039754 | D22: 192039754
A23: 103 | B23: Egyéb működési célú támogatások államháztartáson kívülre (K512) | C23: =SUM(D23:H23) -> 21777630 | D23: 21777630
B24: Egyházi jogi személy egyé műk célú tám( K51216 | C24: =SUM(D24:H24) -> 0
A25: 104 | B25: Tartalékok (K51311) | C25: =SUM(D25:H25) -> 130545808 | D25: 130545808
A26: 105 | B26: Egyéb működési célú kiadások (K5) | C26: =SUM(D26:H26) -> 348863192 | D26: =D17+D18+D23+D24+D25 -> 348863192 | E26: =E17+E18+E23+E24+E25 -> 0 | F26: =F17+F18+F23+F24+F25 -> 0 | G26: =G17+G18+G23+G24+G25 -> 0 | H26: =H17+H18+H23+H24+H25 -> 0
A27: 106 | B27: Immateriális javak beszerzése, lét (K611) | C27: =SUM(D27:H27) -> 1306200 | D27: 1300000 | G27: 6200
A28: 107 | B28: Ingatlanok beszerzése, létesítése (K621) | C28: =SUM(D28:H28) -> 1023237158 | D28: 1023237158
A29: 108 | B29: Informatikai eszközök beszerzése, létesítése (K631) | C29: =SUM(D29:H29) -> 1119244 | D29: 47244 | E29: 1000000 | F29: 60000 | H29: 12000
A30: 109 | B30: Egyéb tárgyi eszközök beszerzése, létesítése (K641) | C30: =SUM(D30:H30) -> 42080584 | D30: 25342625 | E30: 3000000 | F30: 3528189 | G30: 9431142 | H30: 778628
A31: 110 | B31: Beruházási célú előzetesen felszámított általános forgalmi adó (K671) | C31: =SUM(D31:H31) -> 78418828 | D31: 73746846 | E31: 1080000 | F31: 968811 | G31: 2409702 | H31: 213469
A32: 111 | B32: Beruházások (K6) | C32: =SUM(D32:H32) -> 1146162014 | D32: =SUM(D27:D31) -> 1123673873 | E32: =SUM(E27:E31) -> 5080000 | F32: =SUM(F27:F31) -> 4557000 | G32: =SUM(G27:G31) -> 11847044 | H32: =SUM(H27:H31) -> 1004097
A33: 112 | B33: Ingatlanok felújítása (K711) | C33: =SUM(D33:H33) -> 163493176 | D33: 163493176
B34: Informatikai eszközök felújítása (K723) | C34: =SUM(D34:H34) -> 200000 | E34: 200000
A35: 113 | B35: Egyéb tárgyi eszközök felújítása (K731) | C35: =SUM(D35:H35) -> 2475252 | D35: 1199189 | F35: 1276063
A36: 114 | B36: Felújítási célú előzetesen felszámított általános forgalmi adó (K741) | C36: =SUM(D36:H36) -> 44865474 | D36: 44466937 | E36: 54000 | F36: 344537
A37: 115 | B37: Felújítások (K7) | C37: =SUM(D37:H37) -> 211033902 | D37: =SUM(D33:D36) -> 209159302 | E37: =SUM(E33:E36) -> 254000 | F37: =SUM(F33:F36) -> 1620600 | G37: =SUM(G33:G36) -> 0 | H37: =SUM(H33:H36) -> 0
A38: 116 | B38: Egyéb felhalmozási célú támogatások államháztartáson belülre (K84) | C38: =SUM(D38:H38) -> 7516495 | D38: 7516495 | E38: =SUM(E39:E41) -> 0 | F38: =SUM(F39:F41) -> 0 | G38: =SUM(G39:G41) -> 0 | H38: =SUM(H39:H41) -> 0
A39: 119 | B39: Egyéb felhalmozási célú támogatás Áht-n kívülre (K89) | C39: =SUM(D39:H39) -> 16500000 | D39: =SUM(D40:D41) -> 16500000
A40: 118 | B40: ebből:önkormányzati többségi tulajdonú nem pénzügyi vállalkozások (K89122) | C40: =SUM(D40:H40) -> 7500000 | D40: 7500000
A41: 117 | B41: ebből: egyéb civil szervezeteknek | C41: =SUM(D41:H41) -> 9000000 | D41: 9000000
A42: 120 | B42: Egyéb felhalmozási célú kiadások (K8) | C42: =SUM(D42:H42) -> 24016495 | D42: =D38+D39 -> 24016495 | E42: =E38+E39 -> 0 | F42: =F38+F39 -> 0 | G42: =G38+G39 -> 0 | H42: =H38+H39 -> 0
A43: 121 | B43: Költségvetési kiadások (K1-K8) | C43: =C6+C7+C8+C16+C26+C32+C37+C42 -> 2750831793 | D43: =D6+D7+D8+D16+D26+D32+D37+D42 -> 2077262796 | E43: =E6+E7+E8+E16+E26+E32+E37+E42 -> 228295859 | F43: =F6+F7+F8+F16+F26+F32+F37+F42 -> 196569224 | G43: =G6+G7+G8+G16+G26+G32+G37+G42 -> 84827513 | H43: =H6+H7+H8+H16+H26+H32+H37+H42 -> 163876401
A44: 122 | B44: Államháztartáson belüli megelőlegezések visszafizetése (K914) | C44: =SUM(D44:H44) -> 23302816 | D44: 23302816
A45: 123 | B45: Központi, irányító szervi támogatások folyósítása (K915) | C45: =SUM(D45:H45) -> 552671506 | D45: 552671506
A46: 124 | B46: Belföldi finanszírozás kiadásai (K91) | C46: =SUM(D46:H46) -> 575974322 | D46: =SUM(D44:D45) -> 575974322 | E46: =SUM(E44:E45) -> 0 | F46: =SUM(F44:F45) -> 0 | G46: =SUM(G44:G45) -> 0 | H46: =SUM(H44:H45) -> 0
A47: 125 | B47: Finanszírozási kiadások (K9) | C47: =SUM(D47:H47) -> 575974322 | D47: =D46 -> 575974322 | E47: =E46 -> 0 | F47: =F46 -> 0 | G47: =G46 -> 0 | H47: =H46 -> 0
A48: 126 | B48: MINDÖSSZESEN: | C48: =SUM(D48:H48) -> 3326806115 | D48: =D43+D47 -> 2653237118 | E48: =E43+E47 -> 228295859 | F48: =F43+F47 -> 196569224 | G48: =G43+G47 -> 84827513 | H48: =H43+H47 -> 163876401
C49: ='2'!C78-'6'!C48 -> 0

Sheet 7
B1: Berhida Város Önkormányzata | E1: 7. melléklet a 11/2019.(IX.27.) rendelethez
B2: 2019. évi eredeti költségvetés | E2: 2/e. melléklet a 2/2019.(III.1.) rendelethez
C3: KIADÁSOK | E3: Ft-ban
A5: Sor- szám | B5: Rovat megnevezése | C5: Teljesítés 07.31 összesen | D5: Önkormányzat | E5: Közös Hivatal | F5: TESZ | G5: Kultúrház | H5: Süni
A6: 27 | B6: Személyi juttatások (K1) | C6: =SUM(D6:H6) -> 206670546 | D6: 18187773 | E6: 76718485 | F6: 49535835 | G6: 13964249 | H6: 48264204
A7: 28 | B7: Munkaadókat terhelő járulékok és szociális hozzájárulási adó (K2) | C7: =SUM(D7:H7) -> 40300345 | D7: 3379181 | E7: 17021577 | F7: 7709915 | G7: 2702628 | H7: 9487044
A8: 87 | B8: Dologi kiadások (K3) | C8: =SUM(D8:H8) -> 124307244 | D8: 44435212 | E8: 13296325 | F8: 29007400 | G8: 14214035 | H8: 23354272
A9: 88 | B9: Családi támogatások (K42) | C9: =SUM(D9:H9) -> 0 | D9: =D10 -> 0 | E9: =E10 -> 0 | F9: =F10 -> 0 | G9: =G10 -> 0 | H9: =H10 -> 0
A10: 89 | B10: ebből: az egyéb pénzbeli és természetbeni gyermekvédelmi támogatások (K42132) | C10: =SUM(D10:H10) -> 0
A11: 90 | B11: Intézményi ellátottak pénzbeli juttatásai (K47) | C11: =SUM(D11:H11) -> 0 | D11: =D12 -> 0 | E11: =E12 -> 0 | F11: =F12 -> 0 | G11: =G12 -> 0 | H11: =H12 -> 0
A12: 91 | B12: ebből: oktatásban résztvevők pénzbeli juttatásai (K471) | C12: =SUM(D12:H12) -> 0
A13: 92 | B13: Egyéb nem intézményi ellátások (K48) | C13: =SUM(D13:H13) -> 2307400 | D13: 2307400 | E13: =SUM(E14:E15) -> 0 | F13: =SUM(F14:F15) -> 0 | G13: =SUM(G14:G15) -> 0 | H13: =SUM(H14:H15) -> 0
A14: 93 | B14: ebből: köztemetés [Szoctv. 48.§] (K48123) | C14: =SUM(D14:H14) -> 236400 | D14: 236400
A15: 94 | B15: ebből: települési támogatás [Szoctv. 45. §], (K48122) | C15: =SUM(D15:H15) -> 1971000 | D15: 1971000
A16: 96 | B16: Ellátottak pénzbeli juttatásai (K4) | C16: =SUM(D16:H16) -> 2307400 | D16: =D9+D11+D13 -> 2307400 | E16: =E9+E11+E13 -> 0 | F16: =F9+F11+F13 -> 0 | G16: =G9+G11+G13 -> 0 | H16: =H9+H11+H13 -> 0
A17: 97 | B17: Elvonások és befizetések (K5023) | C17: =SUM(D17:H17) -> 0
A18: 98 | B18: Egyéb működési célú támogatások államháztartáson belülre (K506) | C18: =SUM(D18:H18) -> 90420804 | D18: =SUM(D19:D22) -> 90270804 | E18: =SUM(E19:E22) -> 0 | F18: =SUM(F19:F22) -> 0 | G18: =SUM(G19:G22) -> 150000 | H18: =SUM(H19:H22) -> 0
A19: 99 | B19: ebből: egyéb központi kezelésű előir (K50612) | C19: =SUM(D19:H19) -> 2115000 | D19: 1965000 | G19: 150000
A20: 100 | B20: ebből: elkülönített állami pénzalap (K50615) | C20: =SUM(D20:H20) -> 0
A21: 101 | B21: ebből: önkormányzatok és költségv-i szerveik K50616) | C21: =SUM(D21:H21) -> 0
A22: 102 | B22: ebből: társulások és költségvetési szerveik (K50617) | C22: =SUM(D22:H22) -> 88305804 | D22: 88305804
A23: 103 | B23: Egyéb működési célú támogatások államháztartáson kívülre (K512) | C23: =SUM(D23:H23) -> 13363565 | D23: 13363565
B24: Egyházi jogi személy egyé műk célú tám( K51216 | C24: =SUM(D24:H24) -> 0
A25: 104 | B25: Tartalékok (K51311) | C25: =SUM(D25:H25) -> 0
A26: 105 | B26: Egyéb működési célú kiadások (K5) | C26: =SUM(D26:H26) -> 103784369 | D26: =D17+D18+D23+D24+D25 -> 103634369 | E26: =E17+E18+E23+E24+E25 -> 0 | F26: =F17+F18+F23+F24+F25 -> 0 | G26: =G17+G18+G23+G24+G25 -> 150000 | H26: =H17+H18+H23+H24+H25 -> 0
A27: 106 | B27: Immateriális javak beszerzése, lét (K611) | C27: =SUM(D27:H27) -> 0
A28: 107 | B28: Ingatlanok beszerzése, létesítése (K621) | C28: =SUM(D28:H28) -> 7500383 | D28: 7500383
A29: 108 | B29: Informatikai eszközök beszerzése, létesítése (K631) | C29: =SUM(D29:H29) -> 172071 | D29: 22654 | E29: 121992 | F29: 25850 | H29: 1575
A30: 109 | B30: Egyéb tárgyi eszközök beszerzése, létesítése (K641) | C30: =SUM(D30:H30) -> 12154747 | D30: 2405788 | E30: 715604 | F30: 1179272 | G30: 7505273 | H30: 348810
A31: 110 | B31: Beruházási célú előzetesen felszámított általános forgalmi adó (K671) | C31: =SUM(D31:H31) -> 4371437 | D31: 2046283 | E31: 201473 | F31: 322737 | G31: 1706340 | H31: 94604
A32: 111 | B32: Beruházások (K6) | C32: =SUM(D32:H32) -> 24198638 | D32: =SUM(D27:D31) -> 11975108 | E32: =SUM(E27:E31) -> 1039069 | F32: =SUM(F27:F31) -> 1527859 | G32: =SUM(G27:G31) -> 9211613 | H32: =SUM(H27:H31) -> 444989
A33: 112 | B33: Ingatlanok felújítása (K711) | C33: =SUM(D33:H33) -> 5550002 | D33: 5550002
B34: Informatikai eszközök felújítása (K723) | C34: =SUM(D34:H34) -> 0
A35: 113 | B35: Egyéb tárgyi eszközök felújítása (K731) | C35: =SUM(D35:H35) -> 1045148 | D35: 1045148
A36: 114 | B36: Felújítási célú előzetesen felszámított általános forgalmi adó (K741) | C36: =SUM(D36:H36) -> 1780690 | D36: 1780690
A37: 115 | B37: Felújítások (K7) | C37: =SUM(D37:H37) -> 8375840 | D37: =SUM(D33:D36) -> 8375840 | E37: =SUM(E33:E36) -> 0 | F37: =SUM(F33:F36) -> 0 | G37: =SUM(G33:G36) -> 0 | H37: =SUM(H33:H36) -> 0
A38: 116 | B38: Egyéb felhalmozási célú támogatások államháztartáson belülre (K84) | C38: =SUM(D38:H38) -> 0 | E38: =SUM(E39:E41) -> 0 | F38: =SUM(F39:F41) -> 0 | G38: =SUM(G39:G41) -> 0 | H38: =SUM(H39:H41) -> 0
A39: 119 | B39: Egyéb felhalmozási célú támogatás Áht-n kívülre (K89) | C39: =SUM(D39:H39) -> 9868900 | D39: 9868900
A40: 118 | B40: ebből:önkormányzati többségi tulajdonú nem pénzügyi vállalkozások (K89122) | C40: =SUM(D40:H40) -> 5000000 | D40: 5000000
A41: 117 | B41: ebből: egyéb civil szervezeteknek | C41: =SUM(D41:H41) -> 4868900 | D41: 4868900
A42: 120 | B42: Egyéb felhalmozási célú kiadások (K8) | C42: =SUM(D42:H42) -> 9868900 | D42: =D38+D39 -> 9868900 | E42: =E38+E39 -> 0 | F42: =F38+F39 -> 0 | G42: =G38+G39 -> 0 | H42: =H38+H39 -> 0
A43: 121 | B43: Költségvetési kiadások (K1-K8) | C43: =C6+C7+C8+C16+C26+C32+C37+C42 -> 519813282 | D43: =D6+D7+D8+D16+D26+D32+D37+D42 -> 202163783 | E43: =E6+E7+E8+E16+E26+E32+E37+E42 -> 108075456 | F43: =F6+F7+F8+F16+F26+F32+F37+F42 -> 87781009 | G43: =G6+G7+G8+G16+G26+G32+G37+G42 -> 40242525 | H43: =H6+H7+H8+H16+H26+H32+H37+H42 -> 81550509
A44: 122 | B44: Államháztartáson belüli megelőlegezések visszafizetése (K914) | C44: =SUM(D44:H44) -> 23302816 | D44: 23302816
A45: 123 | B45: Központi, irányító szervi támogatások folyósítása (K915) | C45: =SUM(D45:H45) -> 241302882 | D45: 241302882
A46: 124 | B46: Belföldi finanszírozás kiadásai (K91) | C46: =SUM(D46:H46) -> 264605698 | D46: =SUM(D44:D45) -> 264605698 | E46: =SUM(E44:E45) -> 0 | F46: =SUM(F44:F45) -> 0 | G46: =SUM(G44:G45) -> 0 | H46: =SUM(H44:H45) -> 0
A47: 125 | B47: Finanszírozási kiadások (K9) | C47: =SUM(D47:H47) -> 264605698 | D47: =D46 -> 264605698 | E47: =E46 -> 0 | F47: =F46 -> 0 | G47: =G46 -> 0 | H47: =H46 -> 0
A48: 126 | B48: MINDÖSSZESEN: | C48: =SUM(D48:H48) -> 784418980 | D48: =D43+D47 -> 466769481 | E48: =E43+E47 -> 108075456 | F48: =F43+F47 -> 87781009 | G48: =G43+G47 -> 40242525 | H48: =H43+H47 -> 81550509

Sheet 8
C1: BERHIDA VÁROS ÖNKORMÁNYZATA | G1: 8. melléklet a 11/2019.(IX.27.) rendelethez
D2: 2019.évi MÉRLEGTERV | G2: 4. melléklet a 2/2019.(III.1.) rendelethez
C3: a működési és felhalmozási célú bevételi és kiadási előirányzatokról | G3: adatok Ft-ban
B5: A | C5: B | D5: C | E5: D | F5: E | G5: F
A6: 1 | B6: BEVÉTELI TERV | E6: KIADÁSI TERV
A7: 2 | B7: I. | C7: Működési célú bevételi terv | E7: I. | F7: Működési célú kiadási terv
A8: 3 | B8: a.) | C8: Műk c támogatások áht belülről | D8: ='2'!C20 -> 708448001 | E8: a.) | F8: Személyi juttatások | G8: ='6'!C6 -> 427865603
A9: 4 | B9: b.) | C9: Közhatalmi bevételek | D9: ='2'!C39 -> 345543000 | E9: b.) | F9: Munkaadókat t járulékok | G9: ='6'!C7 -> 82225392
A10: 5 | B10: c.) | C10: Működési bevételek | D10: ='2'!C61 -> 39623737 | E10: c.) | F10: Dologi kiadások | G10: ='6'!C8 -> 497906697
A11: 6 | B11: d.) | C11: Működési átvett pénzeszközök | D11: ='2'!C66 -> 435000 | E11: d.) | F11: Ellátottak pénzbeli jutt | G11: ='6'!C16 -> 12758498
A12: 7 | B12: e.) | E12: e.) | F12: Egyéb műk c kiadások | G12: ='6'!C26 -> 348863192
A13: 8 | B13: f.) | E13: f.)
A14: 9 | E14: g.)
A15: 10
A16: 11 | C16: I. Bevételek: | D16: =SUM(D8:D15) -> 1094049738 | F16: I. Kiadások együtt: | G16: =SUM(G8:G14) -> 1369619382 | H16: =D16-G16 -> -275569644
A17: 12 | F17: Működési célú bevételek: | G17: =D16 -> 1094049738
A18: 13 | F18: Működési egyenleg: | G18: =G16-G17 -> 275569644
A19: 14
A20: 15 | B20: II. | C20: Felhalmozási célú bevételi terv | E20: II. | F20: Felhalmozási célú kiadások:
A21: 16 | B21: 1.) | C21: Felhalmozási c támog. Áht-n bel | D21: ='2'!C28 -> 488080415 | E21: 1.) | F21: Beruházások | G21: ='6'!C32 -> 1146162014
A22: 17 | B22: 2.) | C22: Felhalmozási bevételek | D22: ='2'!C64 -> 20900614 | E22: 2.) | F22: Felújítások | G22: ='6'!C37 -> 211033902
A23: 18 | B23: 3.) | C23: Egyéb felhalmozási c átvett pe | D23: ='2'!C70 -> 728000 | E23: 3.) | F23: Egyéb felhalm c kiadások | G23: ='6'!C42 -> 24016495
A24: 19 | B24: 4.) | E24: 4.)
A25: 20 | B25: 5.) | E25: 5.)
A26: 21 | B26: 6.)
A27: 22 | B27: 7.)
A28: 23 | B28: 8.)
A29: 24 | C29: II. Bevételek: | D29: =SUM(D21:D28) -> 509709029 | F29: II. Kiadások: | G29: =SUM(G21:G26) -> 1381212411 | H29: =D29-G29 -> -871503382
A30: 25 | F30: Felhalm.célú bevételek: | G30: =D29 -> 509709029
A31: 26 | F31: Felhalm. egyenleg: | G31: =G29-G30 -> 871503382
A32: 27
A33: 28 | C33: Bevételek összesen (I+II): | D33: =D16+D29 -> 1603758767 | F33: Kiadások összesen (I+II): | G33: =SUM(G16+G29) -> 2750831793 | H33: =D33-G33 -> -1147073026
C34: iránytószervi támogatás | D34: ='2'!C75 -> 552671506 | F34: iránítószervi támogatás | G34: ='6'!C45 -> 552671506 | H34: =D34+D37-G34-G37 -> 1077171925
C35: kötvény visszaváltás | D35: ='2'!C72 -> 60000000
C36: Áht megelőlegezés | D36: ='2'!C74 -> 9901101
C37: kv-i mararvány | D37: ='2'!C73 -> 1100474741 | F37: Áht megelőleg visszafiz | G37: ='6'!C44 -> 23302816
C38: Össz bevétel | D38: =SUM(D33:D37) -> 3326806115 | F38: Össz Kiadás | G38: =SUM(G33:G37) -> 3326806115

Sheet 9
B1: 2019 évi költségvetés
B2: Berhida Város Önkormányzata | C2: 9. melléklet a 11/2019.(IX.27.) rendelethez
B3: Közösségi szolgáltatások támogatása | C3: 5. melléklet a 2/2019.(III.1.) rendelethez
B5: A | C5: B | D5: adatok Ft-ban
A6: 1 | B6: I.) Sporttámogatás működési célú | C6: 2019. Év
A7: 2
A8: 3
A9: 4 | B9: Sporttámogatás összesen működési célú: | C9: 2400000
A10: 5 | B10: II.) Egyéb támogatás összesen működési célú | C10: 4772730 | D10: 3800000 | E10: 642910 | F10: 329820
A11: 6
A12: 7 | B12: III.) Polgárőrség Berhida | C12: 900000
A13: 8 | B13: Támogatások összesen működési célú: | C13: =SUM(C9+C10+C12) -> 8072730
B15: A támogatások összege a megállapodásokban foglaltak szerint használhatók fel.

Sheet 10
C1: Berhida Város Önkormányzata
C2: ellátottak pénzbeli juttatásai | F2: 10. melléklet a 11/2019.(IX.27.) rendelethez
C3: 2019 évi költségvetés | F3: 6. melléklet a 2/2019.(III.1.) rendelethez
F4: adatok Ft-ban
B5: A | C5: B | D5: C | E5: D | F5: E | G5: F
B6: Szociális jogcímek | C6: átruházott hatáskört gyakorló | E6: Képvis.test.jogk. | F6: Jegyzői jogk. | G6: Összes
C7: polgármester | D7: Humán Biz. | G7: előirányzat
A8: 1 | B8: Pénzbeli ellátások összesen | C8: =SUM(C9:C19) -> 3100000 | D8: =SUM(D9:D19) -> 7900000 | E8: =SUM(E9:E19) -> 800000 | F8: =SUM(F9:F20) -> 1886500 | G8: =SUM(G9:G20) -> 12758498
A9: 2 | B9: Települési támogatás
A10: 3 | B10: Nem intézményi ell. Ebből célonként
A11: 4 | B11: Gyermekvéd.támog. | D11: 600000 | G11: =SUM(C11:F11) -> 600000
A12: 5 | B12: Lakhatási támog | D12: 6300000 | G12: 5371998
A13: 6 | B13: Temetési segély | C13: 1500000 | G13: =SUM(C13:F13) -> 1500000
A14: 7 | B14: közgyógy ellátás helyi megáll | C14: 700000 | G14: =SUM(C14:F14) -> 700000
A15: 8 | B15: Átmeneti segély | D15: 1000000 | G15: =SUM(C15:F15) -> 1000000
A16: 9 | B16: Köztemetés | C16: 900000 | G16: =SUM(C16:F16) -> 900000
A17: 10 | B17: Intézményi ell., oktatásban részt vevők | G17: =SUM(C17:F17) -> 0
A18: 11 | B18: Arany János ösztöndíj | E18: 250000 | G18: =SUM(C18:F18) -> 250000
A19: 12 | B19: érettségire jelentkezők regisztrációs díja | E19: 550000 | G19: =SUM(C19:F19) -> 550000
B20: Gyermekvédelmi kedvezmény | F20: 1886500 | G20: =SUM(C20:F20) -> 1886500
B21: Dologi kiadás | G21: =SUM(G22:G23) -> 4996002
B22: Téli rezsicsökkentés pályázat | G22: 2544000
B23: szociális tüzifa juttatás | G23: 2452002
B24: Egyéb központi kezelésű tám
B25: Bursa hungarica felsőoktatási pály tám | G25: 3000000
B27: MMINDÖSSZESEN | G27: =G8+G21+G25 -> 20754500

Sheet 11
C2: 2019 évi költségvetés | I2: 11. melléklet a 11/2019.(IX.27.) rendelethez
C3: Berhida Város Önkormányzata | I3: 8. melléklet a 2/2019.(III.1.) rendelethez
I4: adatok Ft-ban
A5: Több éves kihatással járó döntésekből származó kötelezettségek célok szerint, évenkénti bontásban
A6: Lejárat és eszközök szerinti bontásban (e/Ft-ban)
A8: A | B8: B | C8: C | D8: D | F8: E | G8: F | H8: G | I8: H | K8: I | L8: J
A9: Sorszám | C9: Kötelezett- | D9: Lejárat | F9: 2019
B10: Hitel jellege | C10: ségváll. | D10: éve | E10: összeg | F10: előtti | G10: 2019. | H10: 2020. | I10: 2021. | J10: 2022. | K10: 2022. után | L10: Összesen
C11: éve | F11: kifizetés
A12: 1 | B12: 2 | C12: 3 | D12: 4 | E12: 5 | F12: 6 | G12: 7 | H12: 8 | I12: 9 | K12: 10 | L12: 11
A13: 2 | B13: Működési célú
A14: 3
A15: 4
A16: 5
A17: 6
A18: 7 | B18: Felhalmozási célú
A19: 8 | B19: TOP 3.1.1-16 közlekedésfejlesztés (kerékpárút)pály | C19: 2018 | D19: 2020 | E19: 259822948 | F19: 3377108 | G19: =(E19-F19)/2 -> 128222920 | H19: 128222920 | L19: =SUM(F19:K19) -> 259822948
A20: 9 | B20: KEHOP 2.2.1-15-00005 szennyvíztisztítótelep pály | C20: 2018 | D20: 2020 | E20: 993974770 | F20: 2200000 | G20: =(E20-F20)/2 -> 495887385 | H20: 495887350 | L20: =SUM(F20:K20) -> 993974735
A21: 10 | B21: ÖNK VP6-7.2.1.4.1.3-17 közétkeztetés fejl. Süni eszközfejl.pály. | C21: 2018 | D21: 2019 | E21: 18925488 | G21: =E21 -> 18925488 | L21: =SUM(F21:K21) -> 18925488
A22: 11 | B22: ÖNK konyha épület felújítás Süni | C22: 2018 | D22: 2019 | E22: 33671602 | G22: =E22 -> 33671602 | L22: =SUM(F22:K22) -> 33671602
A23: 12 | B23: ÖNK orvosi rendelő felúj pályázat | C23: 2018 | D23: 2019 | E23: 69466000 | F23: 1826000 | G23: =E23-F23 -> 67640000 | L23: =SUM(F23:K23) -> 69466000
A24: 13 | B24: VP Külterületi utas pályázat | C24: 2018 | D24: 2020 | E24: 45985797 | G24: =(E24-F24)/2 -> 22992898 | H24: 22992898 | L24: =SUM(F24:K24) -> 45985796
A25: 14 | B25: BM rendőrségépület felújítása pályázat | C25: 2019 | D25: 2020 | E25: 42100000 | H25: 42100000 | L25: =SUM(F25:K25) -> 42100000
A26: 15 | B26: ÖNK VP6-19.2.1.-7-2-17 közösségi együttműködést segítő fejl. Tám. Fittnesparkok | C26: 2019 | D26: 2019 | G26: 10224000 | L26: =SUM(F26:K26) -> 10224000
A27: 16 | L27: =SUM(F27:K27) -> 0
A28: 17 | B28: Összesen: (1+6) | E28: =SUM(E19:E27) -> 1463946605 | F28: =SUM(F19:F27) -> 7403108 | G28: =SUM(G19:G27) -> 7.7756429e+08 | H28: =SUM(H19:H27) -> 689203168 | I28: =SUM(I19:I27) -> 0 | J28: =SUM(J19:J27) -> 0 | K28: =SUM(K19:K27) -> 0 | L28: =SUM(L19:L27) -> 1.4741706e+09

Sheet 12
B1: Berhida Város Önkormányzata | F1: 12. melléklet a 11/2019.(IX.27.) rendelethez
B2: 2019 évi költségvetés | F2: 9/a. melléklet a 2/2019.(III.1.) rendelethez
F3: Ft-ban
B4: KÖTELEZŐ FELADATOK | C4: BEVÉTELEK
A5: Sor- szám | B5: Rovat megnevezése | C5: Eredeti előirányzat összesen | D5: Önkormányzat | E5: Közös Hivatal | F5: TESZ | G5: Kultúrház | H5: Süni
A6: 1 | B6: Helyi önkormányzatok működésének általános támogatása (B1111) | C6: ='2'!C6-'13'!C6-'14'!C6 -> 124859801 | D6: ='2'!D6-'13'!D6-'14'!D6 -> 124859801 | E6: ='2'!E6-'13'!E6-'14'!E6 -> 0 | F6: ='2'!F6-'13'!F6-'14'!F6 -> 0 | G6: ='2'!G6-'13'!G6-'14'!G6 -> 0 | H6: ='2'!H6-'13'!H6-'14'!H6 -> 0
A7: 2 | B7: Települési önkormányzatok egyes köznevelési feladatainak támogatása (B112) | C7: ='2'!C7-'13'!C7-'14'!C7 -> 149070733 | D7: ='2'!D7-'13'!D7-'14'!D7 -> 149070733 | E7: ='2'!E7-'13'!E7-'14'!E7 -> 0 | F7: ='2'!F7-'13'!F7-'14'!F7 -> 0 | G7: ='2'!G7-'13'!G7-'14'!G7 -> 0 | H7: ='2'!H7-'13'!H7-'14'!H7 -> 0
A8: 3 | B8: Települési önkormányzatok szociális, gyermekjóléti és gyermekétkeztetési feladatainak támogatása (B113) | C8: ='2'!C8-'13'!C8-'14'!C8 -> 116860163 | D8: ='2'!D8-'13'!D8-'14'!D8 -> 116860163 | E8: ='2'!E8-'13'!E8-'14'!E8 -> 0 | F8: ='2'!F8-'13'!F8-'14'!F8 -> 0 | G8: ='2'!G8-'13'!G8-'14'!G8 -> 0 | H8: ='2'!H8-'13'!H8-'14'!H8 -> 0
A9: 4 | B9: Települési önkormányzatok kulturális feladatainak támogatása (B114) | C9: ='2'!C9-'13'!C9-'14'!C9 -> 8353056 | D9: ='2'!D9-'13'!D9-'14'!D9 -> 8353056 | E9: ='2'!E9-'13'!E9-'14'!E9 -> 0 | F9: ='2'!F9-'13'!F9-'14'!F9 -> 0 | G9: ='2'!G9-'13'!G9-'14'!G9 -> 0 | H9: ='2'!H9-'13'!H9-'14'!H9 -> 0
A10: 5 | B10: Működési célú költségvetési támogatások és kiegészítő támogatások (B115) | C10: ='2'!C10-'13'!C10-'14'!C10 -> 12636900 | D10: ='2'!D10-'13'!D10-'14'!D10 -> 12636900 | E10: ='2'!E10-'13'!E10-'14'!E10 -> 0 | F10: ='2'!F10-'13'!F10-'14'!F10 -> 0 | G10: ='2'!G10-'13'!G10-'14'!G10 -> 0 | H10: ='2'!H10-'13'!H10-'14'!H10 -> 0
A11: 6 | B11: Elszámolásból származó bevételek (B116) | C11: ='2'!C11-'13'!C11-'14'!C11 -> 0 | D11: ='2'!D11-'13'!D11-'14'!D11 -> 0 | E11: ='2'!E11-'13'!E11-'14'!E11 -> 0 | F11: ='2'!F11-'13'!F11-'14'!F11 -> 0 | G11: ='2'!G11-'13'!G11-'14'!G11 -> 0 | H11: ='2'!H11-'13'!H11-'14'!H11 -> 0
A12: 7 | B12: Önkormányzatok működési támogatásai (B11) | C12: ='2'!C12-'13'!C12-'14'!C12 -> 411780653 | D12: ='2'!D12-'13'!D12-'14'!D12 -> 411780653 | E12: ='2'!E12-'13'!E12-'14'!E12 -> 0 | F12: ='2'!F12-'13'!F12-'14'!F12 -> 0 | G12: ='2'!G12-'13'!G12-'14'!G12 -> 0 | H12: ='2'!H12-'13'!H12-'14'!H12 -> 0
A13: 8 | B13: Elvonások és befizetések bevételei B12 | C13: ='2'!C13-'13'!C13-'14'!C13 -> 0 | D13: ='2'!D13-'13'!D13-'14'!D13 -> 0 | E13: ='2'!E13-'13'!E13-'14'!E13 -> 0 | F13: ='2'!F13-'13'!F13-'14'!F13 -> 0 | G13: ='2'!G13-'13'!G13-'14'!G13 -> 0 | H13: ='2'!H13-'13'!H13-'14'!H13 -> 0
A14: 9 | B14: Egyéb működési célú támogatások bevételei államháztartáson belülről (B16) | C14: ='2'!C14-'13'!C14-'14'!C14 -> 296667348 | D14: ='2'!D14-'13'!D14-'14'!D14 -> 250441491 | E14: ='2'!E14-'13'!E14-'14'!E14 -> 1967691 | F14: ='2'!F14-'13'!F14-'14'!F14 -> 43932388 | G14: ='2'!G14-'13'!G14-'14'!G14 -> 325778 | H14: ='2'!H14-'13'!H14-'14'!H14 -> 0
A15: 10 | B15: ebből: egyéb központi kezelésű előirányzatok (B1612 | C15: ='2'!C15-'13'!C15-'14'!C15 -> 8235113 | D15: ='2'!D15-'13'!D15-'14'!D15 -> 6267422 | E15: ='2'!E15-'13'!E15-'14'!E15 -> 1967691 | F15: ='2'!F15-'13'!F15-'14'!F15 -> 0 | G15: ='2'!G15-'13'!G15-'14'!G15 -> 0 | H15: ='2'!H15-'13'!H15-'14'!H15 -> 0
A16: 11 | B16: ebből: fejezeti kezelésű EU B16 | C16: ='2'!C16-'13'!C16-'14'!C16 -> 215309993 | D16: ='2'!D16-'13'!D16-'14'!D16 -> 214984215 | E16: ='2'!E16-'13'!E16-'14'!E16 -> 0 | F16: ='2'!F16-'13'!F16-'14'!F16 -> 0 | G16: ='2'!G16-'13'!G16-'14'!G16 -> 325778 | H16: ='2'!H16-'13'!H16-'14'!H16 -> 0
A17: 12 | B17: ebből: társadalombiztosítás pénzügyi alapjai (B1614 | C17: ='2'!C17-'13'!C17-'14'!C17 -> 29024800 | D17: ='2'!D17-'13'!D17-'14'!D17 -> 29024800 | E17: ='2'!E17-'13'!E17-'14'!E17 -> 0 | F17: ='2'!F17-'13'!F17-'14'!F17 -> 0 | G17: ='2'!G17-'13'!G17-'14'!G17 -> 0 | H17: ='2'!H17-'13'!H17-'14'!H17 -> 0
... A78: 73 | B78: MINDÖSSZESEN: | C78: ='2'!C78-'13'!C78-'14'!C78 -> 3270391987 | D78: ='2'!D78-'13'!D78-'14'!D78 -> 2613548704 | E78: ='2'!E78-'13'!E78-'14'!E78 -> 220123820 | F78: ='2'!F78-'13'!F78-'14'!F78 -> 192066124 | G78: ='2'!G78-'13'!G78-'14'!G78 -> 80776938 | H78: ='2'!H78-'13'!H78-'14'!H78 -> 163876401
A79: 74 | B79: Személyi juttatások (K1) | C79: ='6'!C6-'13'!C79-'14'!C79 -> 418151307 | D79: ='6'!D6-'13'!D79-'14'!D79 -> 42051716 | E79: ='6'!E6-'13'!E79-'14'!E79 -> 147421313 | F79: ='6'!F6-'13'!F79-'14'!F79 -> 102150459 | G79: ='6'!G6-'13'!G79-'14'!G79 -> 26813343 | H79: ='6'!H6-'13'!H79-'14'!H79 -> 99714476
A80: 75 | B80: Munkaadókat terhelő járulékok és szociális hozzájárulási adó (K2) | C80: ='6'!C7-'13'!C80-'14'!C80 -> 80283494 | D80: ='6'!D7-'13'!D80-'14'!D80 -> 8965951 | E80: ='6'!E7-'13'!E80-'14'!E80 -> 29538654 | F80: ='6'!F7-'13'!F80-'14'!F80 -> 15165785 | G80: ='6'!G7-'13'!G80-'14'!G80 -> 5321995 | H80: ='6'!H7-'13'!H80-'14'!H80 -> 21291109
A81: 76 | B81: Dologi kiadások (K3) | C81: ='6'!C8-'13'!C81-'14'!C81 -> 478205977 | D81: ='6'!D8-'13'!D81-'14'!D81 -> 293142569 | E81: ='6'!E8-'13'!E81-'14'!E81 -> 37829853 | F81: ='6'!F8-'13'!F81-'14'!F81 -> 68572280 | G81: ='6'!G8-'13'!G81-'14'!G81 -> 36794556 | H81: ='6'!H8-'13'!H81-'14'!H81 -> 41866719
A82: 77 | B82: Családi támogatások (K42) | C82: ='6'!C9-'13'!C82-'14'!C82 -> 1886500 | D82: ='6'!D9-'13'!D82-'14'!D82 -> 1886500 | E82: ='6'!E9-'13'!E82-'14'!E82 -> 0 | F82: ='6'!F9-'13'!F82-'14'!F82 -> 0 | G82: ='6'!G9-'13'!G82-'14'!G82 -> 0 | H82: ='6'!H9-'13'!H82-'14'!H82 -> 0
A83: 78 | B83: ebből: az egyéb pénzbeli és természetbeni gyermekvédelmi támogatások (K42132) | C83: ='6'!C10-'13'!C83-'14'!C83 -> 1886500 | D83: ='6'!D10-'13'!D83-'14'!D83 -> 1886500 | E83: ='6'!E10-'13'!E83-'14'!E83 -> 0 | F83: ='6'!F10-'13'!F83-'14'!F83 -> 0 | G83: ='6'!G10-'13'!G83-'14'!G83 -> 0 | H83: ='6'!H10-'13'!H83-'14'!H83 -> 0
A84: 79 | B84: Intézményi ellátottak pénzbeli juttatásai (K47) | C84: ='6'!C11-'13'!C84-'14'!C84 -> 800000 | D84: ='6'!D11-'13'!D84-'14'!D84 -> 800000 | E84: ='6'!E11-'13'!E84-'14'!E84 -> 0 | F84: ='6'!F11-'13'!F84-'14'!F84 -> 0 | G84: ='6'!G11-'13'!G84-'14'!G84 -> 0 | H84: ='6'!H11-'13'!H84-'14'!H84 -> 0
A85: 80 | B85: ebből: oktatásban résztvevők pénzbeli juttatásai (K471) | C85: ='6'!C12-'13'!C85-'14'!C85 -> 800000 | D85: ='6'!D12-'13'!D85-'14'!D85 -> 800000 | E85: ='6'!E12-'13'!E85-'14'!E85 -> 0 | F85: ='6'!F12-'13'!F85-'14'!F85 -> 0 | G85: ='6'!G12-'13'!G85-'14'!G85 -> 0 | H85: ='6'!H12-'13'!H85-'14'!H85 -> 0
A86: 81 | B86: Egyéb nem intézményi ellátások (K48) | C86: ='6'!C13-'13'!C86-'14'!C86 -> 10071998 | D86: ='6'!D13-'13'!D86-'14'!D86 -> 10071998 | E86: ='6'!E13-'13'!E86-'14'!E86 -> 0 | F86: ='6'!F13-'13'!F86-'14'!F86 -> 0 | G86: ='6'!G13-'13'!G86-'14'!G86 -> 0 | H86: ='6'!H13-'13'!H86-'14'!H86 -> 0
A87: 82 | B87: ebből: köztemetés [Szoctv. 48.§] (K48123) | C87: ='6'!C14-'13'!C87-'14'!C87 -> 1000000 | D87: ='6'!D14-'13'!D87-'14'!D87 -> 1000000 | E87: ='6'!E14-'13'!E87-'14'!E87 -> 0 | F87: ='6'!F14-'13'!F87-'14'!F87 -> 0 | G87: ='6'!G14-'13'!G87-'14'!G87 -> 0 | H87: ='6'!H14-'13'!H87-'14'!H87 -> 0
A88: 83 | B88: ebből: települési támogatás [Szoctv. 45. §], (K48122) | C88: ='6'!C15-'13'!C88-'14'!C88 -> 9071998 | D88: ='6'!D15-'13'!D88-'14'!D88 -> 9071998 | E88: ='6'!E15-'13'!E88-'14'!E88 -> 0 | F88: ='6'!F15-'13'!F88-'14'!F88 -> 0 | G88: ='6'!G15-'13'!G88-'14'!G88 -> 0 | H88: ='6'!H15-'13'!H88-'14'!H88 -> 0
A89: 84 | B89: Ellátottak pénzbeli juttatásai (K4) | C89: ='6'!C16-'13'!C89-'14'!C89 -> 12758498 | D89: ='6'!D16-'13'!D89-'14'!D89 -> 12758498 | E89: ='6'!E16-'13'!E89-'14'!E89 -> 0 | F89: ='6'!F16-'13'!F89-'14'!F89 -> 0 | G89: ='6'!G16-'13'!G89-'14'!G89 -> 0 | H89: ='6'!H16-'13'!H89-'14'!H89 -> 0
A90: 85 | B90: Elvonások és befizetések (K5023) | C90: ='6'!C17-'13'!C90-'14'!C90 -> 0 | D90: ='6'!D17-'13'!D90-'14'!D90 -> 0 | E90: ='6'!E17-'13'!E90-'14'!E90 -> 0 | F90: ='6'!F17-'13'!F90-'14'!F90 -> 0 | G90: ='6'!G17-'13'!G90-'14'!G90 -> 0 | H90: ='6'!H17-'13'!H90-'14'!H90 -> 0
... A121: 116 | B121: MINDÖSSZESEN: | C121: ='6'!C48-'13'!C121-'14'!C121 -> 3270391987 | D121: ='6'!D48-'13'!D121-'14'!D121 -> 2613548704 | E121: ='6'!E48-'13'!E121-'14'!E121 -> 220123820 | F121: ='6'!F48-'13'!F121-'14'!F121 -> 192066124 | G121: ='6'!G48-'13'!G121-'14'!G121 -> 80776938 | H121: ='6'!H48-'13'!H121-'14'!H121 -> 163876401

Sheet 13
B1: Berhida Város Önkormányzata | F1: 13. melléklet a 11/2019.(IX.27.) rendelethez
B2: 2019 évi költségvetés | F2: 9/b. melléklet a 2/2019.(III.1.) rendelethez
F3: Ft-ban
B4: ÖNKÉNT VÁLLALT FELADATOK | C4: BEVÉTELEK
A5: Sor- szám | B5: Rovat megnevezése | C5: Eredeti előirányzat összesen | D5: Önkormányzat | E5: Közös Hivatal | F5: TESZ | G5: Kultúrház | H5: Süni
A6: 1 | B6: Helyi önkormányzatok működésének általános támogatása (B1111) | C6: =SUM(D6:H6) -> 0
A7: 2 | B7: Települési önkormányzatok egyes köznevelési feladatainak támogatása (B112) | C7: =SUM(D7:H7) -> 0
A8: 3 | B8: Települési önkormányzatok szociális, gyermekjóléti és gyermekétkeztetési feladatainak támogatása (B113) | C8: =SUM(D8:H8) -> 0
A9: 4 | B9: Települési önkormányzatok kulturális feladatainak támogatása (B114) | C9: =SUM(D9:H9) -> 0
A10: 5 | B10: Működési célú költségvetési támogatások és kiegészítő támogatások (B115) | C10: =SUM(D10:H10) -> 0
A11: 6 | B11: Elszámolásból származó bevételek (B116) | C11: =SUM(D11:H11) -> 0
A12: 7 | B12: Önkormányzatok működési támogatásai (B11) | C12: =SUM(D12:H12) -> 0 | D12: =SUM(D6:D11) -> 0 | E12: =SUM(E6:E11) -> 0 | F12: =SUM(F6:F11) -> 0 | G12: =SUM(G6:G11) -> 0 | H12: =SUM(H6:H11) -> 0
A13: 8 | B13: Elvonások és befizetések bevételei B12 | C13: =SUM(D13:H13) -> 0
A14: 9 | B14: Egyéb működési célú támogatások bevételei államháztartáson belülről (B16) | C14: =SUM(D14:H14) -> 0 | D14: =SUM(D15:D19) -> 0 | E14: =SUM(E15:E19) -> 0 | F14: =SUM(F15:F19) -> 0 | G14: =SUM(G15:G19) -> 0 | H14: =SUM(H15:H19) -> 0
A15: 10 | B15: ebből: egyéb központi kezelésű előirányzatok (B1612 | C15: =SUM(D15:H15) -> 0
A16: 11 | B16: ebből: fejezeti kezelésű EU B16 | C16: =SUM(D16:H16) -> 0
A17: 12 | B17: ebből: társadalombiztosítás pénzügyi alapjai (B1614 | C17: =SUM(D17:H17) -> 0
A18: 13 | B18: ebből: elkülönített állami pénzal (B1615 | C18: =SUM(D18:H18) -> 0
A19: 14 | B19: ebből: önkormányzat és kv-i szerveik (B 1616 | C19: =SUM(D19:H19) -> 0
A20: 15 | B20: Működési célú támogatások államháztartáson belülről (B1) | C20: =SUM(D20:H20) -> 0 | D20: =D12+D14 -> 0 | E20: =E12+E14 -> 0 | F20: =F12+F14 -> 0 | G20: =G12+G14 -> 0 | H20: =H12+H14 -> 0
A21: 16 | B21: Felhalmozási célú önkormányzati támogatások (B21) | C21: =SUM(D21:H21) -> 0 | D21: =D22 -> 0 | E21: =E22 -> 0 | F21: =F22 -> 0 | G21: =G22 -> 0 | H21: =H22 -> 0
A22: 17 | B22: ebből: egyéb központi felhalmozási c tám B 2119 | C22: =SUM(D22:H22) -> 0
A23: 18 | B23: Egyéb felhalmozási célú tám áht belülről B 25 | C23: =SUM(D23:H23) -> 0 | D23: =SUM(D24:D27) -> 0 | E23: =SUM(E24:E27) -> 0 | F23: =SUM(F24:F27) -> 0 | G23: =SUM(G24:G27) -> 0 | H23: =SUM(H24:H27) -> 0
A24: 19 | B24: ebből egyéb központi fc tám (B2512 | C24: =SUM(D24:H24) -> 0
A25: 20 | B25: ebből: egyéb fejezeti kez EU fc (B25 | C25: =SUM(D25:H25) -> 0
A26: 21 | B26: ebből: elkülönített állami pénzal fc (B2515 | C26: =SUM(D26:H26) -> 0
A27: 22 | B27: ebből: önkorm és kv-i szervek fc tám (B2516 | C27: =SUM(D27:H27) -> 0
A28: 23 | B28: Felhalmozási célú támogatások államháztartáson belülről (B2) | C28: =SUM(D28:H28) -> 0 | D28: =D21+D23 -> 0 | E28: =E21+E23 -> 0 | F28: =F21+F23 -> 0 | G28: =G21+G23 -> 0 | H28: =H21+H23 -> 0
A29: 24 | B29: Vagyoni tipusú adók (B34) | C29: =SUM(D29:H29) -> 2960686 | D29: =SUM(D30:D31) -> 2960686 | E29: =SUM(E30:E31) -> 0 | F29: =SUM(F30:F31) -> 0 | G29: =SUM(G30:G31) -> 0 | H29: =SUM(H30:H31) -> 0
A30: 25 | B30: ebből: építményadó (B34111) | C30: =SUM(D30:H30) -> 2960686 | D30: =2960686 -> 2960686
A31: 26 | B31: ebből: magánszemélyek kommunális adója (B34114) | C31: =SUM(D31:H31) -> 0
A32: 27 | B32: Értékesítési és forgalmi adók iparűzési adó (B351121) | C32: =SUM(D32:H32) -> 0
A33: 28 | B33: Gépjárműadó (B3541) | C33: =SUM(D33:H33) -> 0
A34: 29 | B34: Egyéb áruhasználati és szolgáltatási adók, környezetterh díj, talajterhelési díj (B355) | C34: =SUM(D34:H34) -> 0
A35: 30 | B35: Termékek és szolgáltatások adói (B35) | C35: =SUM(D35:H35) -> 0 | D35: =SUM(D32:D34) -> 0 | E35: =SUM(E32:E34) -> 0 | F35: =SUM(F32:F34) -> 0 | G35: =SUM(G32:G34) -> 0 | H35: =SUM(H32:H34) -> 0
A36: 31 | B36: Egyéb közhatalmi bevételek (B36) | C36: =SUM(D36:H36) -> 0 | D36: =SUM(D37:D38) -> 0 | E36: =SUM(E37:E38) -> 0 | F36: =SUM(F37:F38) -> 0 | G36: =SUM(G37:G38) -> 0 | H36: =SUM(H37:H38) -> 0
A37: 32 | B37: ebből: szabálysértési pénz- és helyszíni bírság és a közlekedési szabályszegések után kiszabott közigazgatási bírság helyi önkormányzatot megillető része (B361225 köv) | C37: =SUM(D37:H37) -> 0
A38: 33 | B38: ebből: egyéb bírság (B361229 köv) | C38: =SUM(D38:H38) -> 0
A39: 34 | B39: Közhatalmi bevételek (B3) | C39: =SUM(D39:H39) -> 2960686 | D39: =D29+D35+D36 -> 2960686 | E39: =E29+E35+E36 -> 0 | F39: =F29+F35+F36 -> 0 | G39: =G29+G35+G36 -> 0 | H39: =H29+H35+H36 -> 0
A40: 35 | B40: Készlet értékesítés előirányzata B 40111 | C40: =SUM(D40:H40) -> 0
A41: 36 | B41: Szolgáltatások (B4021) | C41: =SUM(D41:H41) -> 0 | D41: =SUM(D42:D45) -> 0 | E41: =SUM(E42:E45) -> 0 | F41: =SUM(F42:F45) -> 0 | G41: =SUM(G42:G45) -> 0 | H41: =SUM(H42:H45) -> 0
A42: 37 | B42: ebből étkeztetés - kivéve ell, hallgatók térítési díj B40211 | C42: =SUM(D42:H42) -> 0
A43: 38 | B43: ebből: bérleti díj bev (B40212) | C43: =SUM(D43:H43) -> 0
A44: 39 | B44: ebből: alkalmazottak térítési díj (B40213) | C44: =SUM(D44:H44) -> 0
A45: 40 | B45: ebből: egyéb szolgáltatás (40215) | C45: =SUM(D45:H45) -> 0
A46: 41 | B46: Közvetített szolgáltatások ellenértéke (B403) | C46: =SUM(D46:H46) -> 1550000 | D46: =SUM(D47:D48) -> 0 | E46: =SUM(E47:E48) -> 0 | F46: =SUM(F47:F48) -> 1550000 | G46: =SUM(G47:G48) -> 0 | H46: =SUM(H47:H48) -> 0
A47: 42 | B47: ebből: államháztartáson belül (B40311) | C47: =SUM(D47:H47) -> 50000 | F47: 50000
A48: 43 | B48: ebből: államháztartáson kívül (B40312) | C48: =SUM(D48:H48) -> 1500000 | F48: 1500000
A49: 44 | B49: Tulajdonosi bevételek (B4041) | C49: =SUM(D49:H49) -> 9610000 | D49: =SUM(D50:D53) -> 9610000 | E49: =SUM(E50:E53) -> 0 | F49: =SUM(F50:F53) -> 0 | G49: =SUM(G50:G53) -> 0 | H49: =SUM(H50:H53) -> 0
A50: 45 | B50: ebből: önkormányzati vagyon üzemeltetéséből származó bevétel (B404131) | C50: =SUM(D50:H50) -> 0
A51: 46 | B51: ebből: önkormányzati vagyon vagyonkezelésbe adásából származó bevétel (B404133) | C51: =SUM(D51:H51) -> 0
A52: 47 | B52: ebből: egy önk-i bérleti- és lízing díj bevételek (404134) | C52: =SUM(D52:H52) -> 9100000 | D52: 9100000
A53: 48 | B53: ebből: egy önk tulajdonosi bevétel (B404139) | C53: =SUM(D53:H53) -> 510000 | D53: 510000
A54: 49 | B54: Ellátási díjak (B4051) | C54: =SUM(D54:H54) -> 0
A55: 50 | B55: Kiszámlázott általános forgalmi adó (B4061) | C55: =SUM(D55:H55) -> 6153383 | D55: 5734883 | F55: 418500
A56: 51 | B56: Általános forgalmi adó visszatérítése (B4071) | C56: =SUM(D56:H56) -> 0
A57: 52 | B57: Egyéb kapott (járó) kamatok és kamatjellegű bevételek ÁHK(B40811) | C57: =SUM(D57:H57) -> 0
A58: 53 | B58: Egyéb pénzügyi műveletek bevételei (B4091) | C58: =SUM(D58:H58) -> 0
A59: 54 | B59: Biztosító által fizetett kártérítés (B4101) | C59: =SUM(D59:H59) -> 0
A60: 55 | B60: Egyéb működési bevételek (B4111) | C60: =SUM(D60:H60) -> 1460500 | D60: 1460500
A61: 56 | B61: Működési bevételek (B4) | C61: =SUM(D61:H61) -> 18773883 | D61: =D40+D41+D46+D49+D54+D55+D56+D57+D58+D59+D60 -> 16805383 | E61: =E40+E41+E46+E49+E54+E55+E56+E57+E58+E59+E60 -> 0 | F61: =F40+F41+F46+F49+F54+F55+F56+F57+F58+F59+F60 -> 1968500 | G61: =G40+G41+G46+G49+G54+G55+G56+G57+G58+G59+G60 -> 0 | H61: =H40+H41+H46+H49+H54+H55+H56+H57+H58+H59+H60 -> 0
A62: 57 | B62: Ingatlanok értékesítése (B521) | C62: =SUM(D62:H62) -> 11630306 | D62: 11630306
A63: 58 | B63: Egyéb tárgyi eszközök értékesítése B531 | C63: =SUM(D63:H63) -> 0
A64: 59 | B64: Felhalmozási bevételek (B5) | C64: =SUM(D64:H64) -> 11630306 | D64: =SUM(D62:D63) -> 11630306 | E64: =SUM(E62:E63) -> 0 | F64: =SUM(F62:F63) -> 0 | G64: =SUM(G62:G63) -> 0 | H64: =SUM(H62:H63) -> 0
A65: 60 | B65: Egyéb működési célú átvett pénzeszközök (65) | C65: =SUM(D65:H65) -> 0
A66: 61 | B66: Működési célú átvett pénzeszközök (B6) | C66: =SUM(D66:H66) -> 0 | D66: =D65 -> 0 | E66: =E65 -> 0 | F66: =F65 -> 0 | G66: =G65 -> 0 | H66: =H65 -> 0
A67: 62 | B67: Felhalmozási célú visszatérítendő támogatások, kölcsönök visszatérülése államháztartáson kívülről (B74) | C67: =SUM(D67:H67) -> 0
A68: 63 | B68: ebből: háztartások (B74) | C68: =SUM(D68:H68) -> 120000 | D68: 120000
A69: 64 | B69: Egyéb felhalmozási célú átvett pénzeszközök (B75) | C69: =SUM(D69:H69) -> 0
A70: 65 | B70: Felhalmozási célú átvett pénzeszközök (B7) | C70: =SUM(D70:H70) -> 120000 | D70: =SUM(D67:D69) -> 120000 | E70: =SUM(E67:E69) -> 0 | F70: =SUM(F67:F69) -> 0 | G70: =SUM(G67:G69) -> 0 | H70: =SUM(H67:H69) -> 0
A71: 66 | B71: Költségvetési bevételek (B1-B7) | C71: =SUM(D71:H71) -> 33484875 | D71: =D20+D28+D39+D61+D64+D66+D70 -> 31516375 | E71: =E20+E28+E39+E61+E64+E66+E70 -> 0 | F71: =F20+F28+F39+F61+F64+F66+F70 -> 1968500 | G71: =G20+G28+G39+G61+G64+G66+G70 -> 0 | H71: =H20+H28+H39+H61+H64+H66+H70 -> 0
A72: 67 | B72: Befektetési célú belföldi egyéb hitelviszonyt megtestesítő értékpapír beváltása, értékesítése (B 81231 | C72: =SUM(D72:H72) -> 0
A73: 68 | B73: Előző év költségvetési maradványának igénybevétele (B813) | C73: =SUM(D73:H73) -> 0
A74: 69 | B74: Államháztartáson belüli megelőlegezések (B814) | C74: =SUM(D74:H74) -> 0
A75: 70 | B75: Irányító szervi támogatás (B816 | C75: =SUM(D75:H75) -> 6585175 | F75: 2534600 | G75: =G121 -> 4050575
A76: 71 | B76: Belföldi finanszírozás bevételei (B81) | C76: =SUM(D76:H76) -> 6585175 | D76: =SUM(D72:D75) -> 0 | E76: =SUM(E72:E75) -> 0 | F76: =SUM(F72:F75) -> 2534600 | G76: =SUM(G72:G75) -> 4050575 | H76: =SUM(H72:H75) -> 0
A77: 72 | B77: Finanszírozási bevételek (B8) | C77: =SUM(D77:H77) -> 6585175 | D77: =D76 -> 0 | E77: =E76 -> 0 | F77: =F76 -> 2534600 | G77: =G76 -> 4050575 | H77: =H76 -> 0
A78: 73 | B78: MINDÖSSZESEN: | C78: =SUM(D78:H78) -> 40070050 | D78: =D71+D77 -> 31516375 | E78: =E71+E77 -> 0 | F78: =F71+F77 -> 4503100 | G78: =G71+G77 -> 4050575 | H78: =H71+H77 -> 0
A79: 74 | B79: Személyi juttatások (K1) | C79: =SUM(D79:H79) -> 2913100 | G79: 2913100
A80: 75 | B80: Munkaadókat terhelő járulékok és szociális hozzájárulási adó (K2) | C80: =SUM(D80:H80) -> 571055 | G80: 571055
A81: 76 | B81: Dologi kiadások (K3) | C81: =SUM(D81:H81) -> 19700720 | D81: 14631200 | F81: 4503100 | G81: 566420
A82: 77 | B82: Családi támogatások (K42) | C82: =SUM(D82:H82) -> 0 | D82: =D83 -> 0 | E82: =E83 -> 0 | F82: =F83 -> 0 | G82: =G83 -> 0 | H82: =H83 -> 0
A83: 78 | B83: ebből: az egyéb pénzbeli és természetbeni gyermekvédelmi támogatások (K42132) | C83: =SUM(D83:H83) -> 0
A84: 79 | B84: Intézményi ellátottak pénzbeli juttatásai (K47) | C84: =SUM(D84:H84) -> 0 | D84: =D85 -> 0 | E84: =E85 -> 0 | F84: =F85 -> 0 | G84: =G85 -> 0 | H84: =H85 -> 0
A85: 80 | B85: ebből: oktatásban résztvevők pénzbeli juttatásai (K471) | C85: =SUM(D85:H85) -> 0
A86: 81 | B86: Egyéb nem intézményi ellátások (K48) | C86: =SUM(D86:H86) -> 0 | D86: =SUM(D87:D88) -> 0 | E86: =SUM(E87:E88) -> 0 | F86: =SUM(F87:F88) -> 0 | G86: =SUM(G87:G88) -> 0 | H86: =SUM(H87:H88) -> 0
A87: 82 | B87: ebből: köztemetés [Szoctv. 48.§] (K48123) | C87: =SUM(D87:H87) -> 0
A88: 83 | B88: ebből: települési támogatás [Szoctv. 45. §], (K48122) | C88: =SUM(D88:H88) -> 0
A89: 84 | B89: Ellátottak pénzbeli juttatásai (K4) | C89: =SUM(D89:H89) -> 0 | D89: =D82+D84+D86 -> 0 | E89: =E82+E84+E86 -> 0 | F89: =F82+F84+F86 -> 0 | G89: =G82+G84+G86 -> 0 | H89: =H82+H84+H86 -> 0
A90: 85 | B90: Elvonások és befizetések (K5023) | C90: =SUM(D90:H90) -> 0
A91: 86 | B91: Egyéb működési célú támogatások államháztartáson belülre (K506) | C91: =SUM(D91:H91) -> 0 | D91: =SUM(D92:D95) -> 0 | E91: =SUM(E92:E95) -> 0 | F91: =SUM(F92:F95) -> 0 | G91: =SUM(G92:G95) -> 0 | H91: =SUM(H92:H95) -> 0
A92: 87 | B92: ebből: egyéb központi kezelésű előir (K50612) | C92: =SUM(D92:H92) -> 0
A93: 88 | B93: ebből: elkülönített állami pénzalap (K50615) | C93: =SUM(D93:H93) -> 0
A94: 89 | B94: ebből: önkormányzatok és költségv-i szerveik K50616) | C94: =SUM(D94:H94) -> 0
A95: 90 | B95: ebből: társulások és költségvetési szerveik (K50617) | C95: =SUM(D95:H95) -> 0
A96: 91 | B96: Egyéb működési célú támogatások államháztartáson kívülre non-profit szervezet (K51215) | C96: =SUM(D96:H96) -> 6300000 | D96: 6300000
A97: 92 | B97: Egyházi jogi személy egyé műk célú tám( K51216 | C97: =SUM(D97:H97) -> 0
A98: 93 | B98: Tartalékok (K51311) | C98: =SUM(D98:H98) -> 4000000 | D98: 4000000
A99: 94 | B99: Egyéb működési célú kiadások (K5) | C99: =SUM(D99:H99) -> 10300000 | D99: =D90+D91+D96+D97+D98 -> 10300000 | E99: =E90+E91+E96+E97+E98 -> 0 | F99: =F90+F91+F96+F97+F98 -> 0 | G99: =G90+G91+G96+G97+G98 -> 0 | H99: =H90+H91+H96+H97+H98 -> 0
A100: 95 | B100: Immateriális javak beszerzése, lét (K611) | C100: =SUM(D100:H100) -> 0
...

Sheet 14
B1: Berhida Város Önkormányzata | F1: 14. melléklet a 11/2019.(IX.27.) rendelethez
B2: 2019 évi költségvetés | F2: 9/c. melléklet a 2/2019.(III.1.) rendelethez
F3: Ft-ban
B4: ÁLLAMIGAZGATÁSI FELADATOK | C4: BEVÉTELEK
A5: Sor- szám | B5: Rovat megnevezése | C5: Eredeti előirányzat összesen | D5: Önkormányzat | E5: Közös Hivatal | F5: TESZ | G5: Kultúrház | H5: Süni
A6: 1 | B6: Helyi önkormányzatok működésének általános támogatása (B1111) | C6: =SUM(D6:H6) -> 0
A7: 2 | B7: Települési önkormányzatok egyes köznevelési feladatainak támogatása (B112) | C7: =SUM(D7:H7) -> 0
A8: 3 | B8: Települési önkormányzatok szociális, gyermekjóléti és gyermekétkeztetési feladatainak támogatása (B113) | C8: =SUM(D8:H8) -> 0
A9: 4 | B9: Települési önkormányzatok kulturális feladatainak támogatása (B114) | C9: =SUM(D9:H9) -> 0
A10: 5 | B10: Működési célú költségvetési támogatások és kiegészítő támogatások (B115) | C10: =SUM(D10:H10) -> 0
A11: 6 | B11: Elszámolásból származó bevételek (B116) | C11: =SUM(D11:H11) -> 0
A12: 7 | B12: Önkormányzatok működési támogatásai (B11) | C12: =SUM(D12:H12) -> 0 | D12: =SUM(D6:D11) -> 0 | E12: =SUM(E6:E11) -> 0 | F12: =SUM(F6:F11) -> 0 | G12: =SUM(G6:G11) -> 0 | H12: =SUM(H6:H11) -> 0
A13: 8 | B13: Elvonások és befizetések bevételei B12 | C13: =SUM(D13:H13) -> 0
A14: 9 | B14: Egyéb működési célú támogatások bevételei államháztartáson belülről (B16) | C14: =SUM(D14:H14) -> 0 | D14: =SUM(D15:D19) -> 0 | E14: =SUM(E15:E19) -> 0 | F14: =SUM(F15:F19) -> 0 | G14: =SUM(G15:G19) -> 0 | H14: =SUM(H15:H19) -> 0
A15: 10 | B15: ebből: egyéb központi kezelésű előirányzatok (B1612 | C15: =SUM(D15:H15) -> 0
A16: 11 | B16: ebből: fejezeti kezelésű EU B16 | C16: =SUM(D16:H16) -> 0
A17: 12 | B17: ebből: társadalombiztosítás pénzügyi alapjai (B1614 | C17: =SUM(D17:H17) -> 0
A18: 13 | B18: ebből: elkülönített állami pénzal (B1615 | C18: =SUM(D18:H18) -> 0
A19: 14 | B19: ebből: önkormányzat és kv-i szerveik (B 1616 | C19: =SUM(D19:H19) -> 0
A20: 15 | B20: Működési célú támogatások államháztartáson belülről (B1) | C20: =SUM(D20:H20) -> 0 | D20: =D12+D14 -> 0 | E20: =E12+E14 -> 0 | F20: =F12+F14 -> 0 | G20: =G12+G14 -> 0 | H20: =H12+H14 -> 0
A21: 16 | B21: Felhalmozási célú önkormányzati támogatások (B21) | C21: =SUM(D21:H21) -> 0 | D21: =D22 -> 0 | E21: =E22 -> 0 | F21: =F22 -> 0 | G21: =G22 -> 0 | H21: =H22 -> 0
A22: 17 | B22: ebből: egyéb központi felhalmozási c tám B 2119 | C22: =SUM(D22:H22) -> 0
A23: 18 | B23: Egyéb felhalmozási célú tám áht belülről B 25 | C23: =SUM(D23:H23) -> 0 | D23: =SUM(D24:D27) -> 0 | E23: =SUM(E24:E27) -> 0 | F23: =SUM(F24:F27) -> 0 | G23: =SUM(G24:G27) -> 0 | H23: =SUM(H24:H27) -> 0
A24: 19 | B24: ebből egyéb központi fc tám (B2512 | C24: =SUM(D24:H24) -> 0
A25: 20 | B25: ebből: egyéb fejezeti kez EU fc (B25 | C25: =SUM(D25:H25) -> 0
A26: 21 | B26: ebből: elkülönített állami pénzal fc (B2515 | C26: =SUM(D26:H26) -> 0
A27: 22 | B27: ebből: önkorm és kv-i szervek fc tám (B2516 | C27: =SUM(D27:H27) -> 0
A28: 23 | B28: Felhalmozási célú támogatások államháztartáson belülről (B2) | C28: =SUM(D28:H28) -> 0 | D28: =D21+D23 -> 0 | E28: =E21+E23 -> 0 | F28: =F21+F23 -> 0 | G28: =G21+G23 -> 0 | H28: =H21+H23 -> 0
A29: 24 | B29: Vagyoni tipusú adók (B34) | C29: =SUM(D29:H29) -> 8172039 | D29: =SUM(D30:D31) -> 8172039 | E29: =SUM(E30:E31) -> 0 | F29: =SUM(F30:F31) -> 0 | G29: =SUM(G30:G31) -> 0 | H29: =SUM(H30:H31) -> 0
A30: 25 | B30: ebből: építményadó (B34111) | C30: =SUM(D30:H30) -> 8172039 | D30: =D118 -> 8172039
A31: 26 | B31: ebből: magánszemélyek kommunális adója (B34114) | C31: =SUM(D31:H31) -> 0
A32: 27 | B32: Értékesítési és forgalmi adók iparűzési adó (B351121) | C32: =SUM(D32:H32) -> 0
A33: 28 | B33: Gépjárműadó (B3541) | C33: =SUM(D33:H33) -> 0
A34: 29 | B34: Egyéb áruhasználati és szolgáltatási adók, környezetterh díj, talajterhelési díj (B355) | C34: =SUM(D34:H34) -> 0
A35: 30 | B35: Termékek és szolgáltatások adói (B35) | C35: =SUM(D35:H35) -> 0 | D35: =SUM(D32:D34) -> 0 | E35: =SUM(E32:E34) -> 0 | F35: =SUM(F32:F34) -> 0 | G35: =SUM(G32:G34) -> 0 | H35: =SUM(H32:H34) -> 0
A36: 31 | B36: Egyéb közhatalmi bevételek (B36) | C36: =SUM(D36:H36) -> 0 | D36: =SUM(D37:D38) -> 0 | E36: =SUM(E37:E38) -> 0 | F36: =SUM(F37:F38) -> 0 | G36: =SUM(G37:G38) -> 0 | H36: =SUM(H37:H38) -> 0
A37: 32 | B37: ebből: szabálysértési pénz- és helyszíni bírság és a közlekedési szabályszegések után kiszabott közigazgatási bírság helyi önkormányzatot megillető része (B361225 köv) | C37: =SUM(D37:H37) -> 0
A38: 33 | B38: ebből: egyéb bírság (B361229 köv) | C38: =SUM(D38:H38) -> 0
A39: 34 | B39: Közhatalmi bevételek (B3) | C39: =SUM(D39:H39) -> 8172039 | D39: =D29+D35+D36 -> 8172039 | E39: =E29+E35+E36 -> 0 | F39: =F29+F35+F36 -> 0 | G39: =G29+G35+G36 -> 0 | H39: =H29+H35+H36 -> 0
A40: 35 | B40: Készlet értékesítés előirányzata B 40111 | C40: =SUM(D40:H40) -> 0
A41: 36 | B41: Szolgáltatások (B4021) | C41: =SUM(D41:H41) -> 0 | D41: =SUM(D42:D45) -> 0 | E41: =SUM(E42:E45) -> 0 | F41: =SUM(F42:F45) -> 0 | G41: =SUM(G42:G45) -> 0 | H41: =SUM(H42:H45) -> 0
A42: 37 | B42: ebből étkeztetés - kivéve ell, hallgatók térítési díj B40211 | C42: =SUM(D42:H42) -> 0
A43: 38 | B43: ebből: bérleti díj bev (B40212) | C43: =SUM(D43:H43) -> 0
A44: 39 | B44: ebből: alkalmazottak térítési díj (B40213) | C44: =SUM(D44:H44) -> 0
A45: 40 | B45: ebből: egyéb szolgáltatás (40215) | C45: =SUM(D45:H45) -> 0
A46: 41 | B46: Közvetített szolgáltatások ellenértéke (B403) | C46: =SUM(D46:H46) -> 0 | D46: =SUM(D47:D48) -> 0 | E46: =SUM(E47:E48) -> 0 | F46: =SUM(F47:F48) -> 0 | G46: =SUM(G47:G48) -> 0 | H46: =SUM(H47:H48) -> 0
A47: 42 | B47: ebből: államháztartáson belül (B40311) | C47: =SUM(D47:H47) -> 0
A48: 43 | B48: ebből: államháztartáson kívül (B40312) | C48: =SUM(D48:H48) -> 0
A49: 44 | B49: Tulajdonosi bevételek (B4041) | C49: =SUM(D49:H49) -> 0 | D49: =SUM(D50:D53) -> 0 | E49: =SUM(E50:E53) -> 0 | F49: =SUM(F50:F53) -> 0 | G49: =SUM(G50:G53) -> 0 | H49: =SUM(H50:H53) -> 0
A50: 45 | B50: ebből: önkormányzati vagyon üzemeltetéséből származó bevétel (B404131) | C50: =SUM(D50:H50) -> 0
A51: 46 | B51: ebből: önkormányzati vagyon vagyonkezelésbe adásából származó bevétel (B404133) | C51: =SUM(D51:H51) -> 0
A52: 47 | B52: ebből: egy önk-i bérleti- és lízing díj bevételek (404134) | C52: =SUM(D52:H52) -> 0
A53: 48 | B53: ebből: egy önk tulajdonosi bevétel (B404139) | C53: =SUM(D53:H53) -> 0
A54: 49 | B54: Ellátási díjak (B4051) | C54: =SUM(D54:H54) -> 0
A55: 50 | B55: Kiszámlázott általános forgalmi adó (B4061) | C55: =SUM(D55:H55) -> 0
A56: 51 | B56: Általános forgalmi adó visszatérítése (B4071) | C56: =SUM(D56:H56) -> 0
A57: 52 | B57: Egyéb kapott (járó) kamatok és kamatjellegű bevételek ÁHK(B40811) | C57: =SUM(D57:H57) -> 0
A58: 53 | B58: Egyéb pénzügyi műveletek bevételei (B4091) | C58: =SUM(D58:H58) -> 0
A59: 54 | B59: Biztosító által fizetett kártérítés (B4101) | C59: =SUM(D59:H59) -> 0
A60: 55 | B60: Egyéb működési bevételek (B4111) | C60: =SUM(D60:H60) -> 0
A61: 56 | B61: Működési bevételek (B4) | C61: =SUM(D61:H61) -> 0 | D61: =D40+D41+D46+D49+D54+D55+D56+D57+D58+D59+D60 -> 0 | E61: =E40+E41+E46+E49+E54+E55+E56+E57+E58+E59+E60 -> 0 | F61: =F40+F41+F46+F49+F54+F55+F56+F57+F58+F59+F60 -> 0 | G61: =G40+G41+G46+G49+G54+G55+G56+G57+G58+G59+G60 -> 0 | H61: =H40+H41+H46+H49+H54+H55+H56+H57+H58+H59+H60 -> 0
A62: 57 | B62: Ingatlanok értékesítése (B521) | C62: =SUM(D62:H62) -> 0
A63: 58 | B63: Egyéb tárgyi eszközök értékesítése B531 | C63: =SUM(D63:H63) -> 0
A64: 59 | B64: Felhalmozási bevételek (B5) | C64: =SUM(D64:H64) -> 0 | D64: =SUM(D62:D63) -> 0 | E64: =SUM(E62:E63) -> 0 | F64: =SUM(F62:F63) -> 0 | G64: =SUM(G62:G63) -> 0 | H64: =SUM(H62:H63) -> 0
A65: 60 | B65: Egyéb működési célú átvett pénzeszközök (65) | C65: =SUM(D65:H65) -> 0
A66: 61 | B66: Működési célú átvett pénzeszközök (B6) | C66: =SUM(D66:H66) -> 0 | D66: =D65 -> 0 | E66: =E65 -> 0 | F66: =F65 -> 0 | G66: =G65 -> 0 | H66: =H65 -> 0
A67: 62 | B67: Felhalmozási célú visszatérítendő támogatások, kölcsönök visszatérülése államháztartáson kívülről (B74) | C67: =SUM(D67:H67) -> 0
A68: 63 | B68: ebből: háztartások (B74) | C68: =SUM(D68:H68) -> 0
A69: 64 | B69: Egyéb felhalmozási célú átvett pénzeszközök (B75) | C69: =SUM(D69:H69) -> 0
A70: 65 | B70: Felhalmozási célú átvett pénzeszközök (B7) | C70: =SUM(D70:H70) -> 0 | D70: =SUM(D67:D69) -> 0 | E70: =SUM(E67:E69) -> 0 | F70: =SUM(F67:F69) -> 0 | G70: =SUM(G67:G69) -> 0 | H70: =SUM(H67:H69) -> 0
A71: 66 | B71: Költségvetési bevételek (B1-B7) | C71: =SUM(D71:H71) -> 8172039 | D71: =D20+D28+D39+D61+D64+D66+D70 -> 8172039 | E71: =E20+E28+E39+E61+E64+E66+E70 -> 0 | F71: =F20+F28+F39+F61+F64+F66+F70 -> 0 | G71: =G20+G28+G39+G61+G64+G66+G70 -> 0 | H71: =H20+H28+H39+H61+H64+H66+H70 -> 0
A72: 67 | B72: Befektetési célú belföldi egyéb hitelviszonyt megtestesítő értékpapír beváltása, értékesítése (B 81231 | C72: =SUM(D72:H72) -> 0
A73: 68 | B73: Előző év költségvetési maradványának igénybevétele (B813) | C73: =SUM(D73:H73) -> 0
A74: 69 | B74: Államháztartáson belüli megelőlegezések (B814) | C74: =SUM(D74:H74) -> 0
A75: 70 | B75: Irányító szervi támogatás (B816 | C75: =SUM(D75:H75) -> 8172039 | E75: =E121 -> 8172039
A76: 71 | B76: Belföldi finanszírozás bevételei (B81) | C76: =SUM(D76:H76) -> 8172039 | D76: =SUM(D72:D75) -> 0 | E76: =SUM(E72:E75) -> 8172039 | F76: =SUM(F72:F75) -> 0 | G76: =SUM(G72:G75) -> 0 | H76: =SUM(H72:H75) -> 0
A77: 72 | B77: Finanszírozási bevételek (B8) | C77: =SUM(D77:H77) -> 8172039 | D77: =D76 -> 0 | E77: =E76 -> 8172039 | F77: =F76 -> 0 | G77: =G76 -> 0 | H77: =H76 -> 0
A78: 73 | B78: MINDÖSSZESEN: | C78: =SUM(D78:H78) -> 16344078 | D78: =D71+D77 -> 8172039 | E78: =E71+E77 -> 8172039 | F78: =F71+F77 -> 0 | G78: =G71+G77 -> 0 | H78: =H71+H77 -> 0
A79: 74 | B79: Személyi juttatások (K1) | C79: =SUM(D79:H79) -> 6801196 | E79: 6801196
A80: 75 | B80: Munkaadókat terhelő járulékok és szociális hozzájárulási adó (K2) | C80: =SUM(D80:H80) -> 1370843 | E80: 1370843
A81: 76 | B81: Dologi kiadások (K3) | C81: =SUM(D81:H81) -> 0
A82: 77 | B82: Családi támogatások (K42) | C82: =SUM(D82:H82) -> 0 | D82: =D83 -> 0 | E82: =E83 -> 0 | F82: =F83 -> 0 | G82: =G83 -> 0 | H82: =H83 -> 0
A83: 78 | B83: ebből: az egyéb pénzbeli és természetbeni gyermekvédelmi támogatások (K42132) | C83: =SUM(D83:H83) -> 0
A84: 79 | B84: Intézményi ellátottak pénzbeli juttatásai (K47) | C84: =SUM(D84:H84) -> 0 | D84: =D85 -> 0 | E84: =E85 -> 0 | F84: =F85 -> 0 | G84: =G85 -> 0 | H84: =H85 -> 0
A85: 80 | B85: ebből: oktatásban résztvevők pénzbeli juttatásai (K471) | C85: =SUM(D85:H85) -> 0
A86: 81 | B86: Egyéb nem intézményi ellátások (K48) | C86: =SUM(D86:H86) -> 0 | D86: =SUM(D87:D88) -> 0 | E86: =SUM(E87:E88) -> 0 | F86: =SUM(F87:F88) -> 0 | G86: =SUM(G87:G88) -> 0 | H86: =SUM(H87:H88) -> 0
A87: 82 | B87: ebből: köztemetés [Szoctv. 48.§] (K48123) | C87: =SUM(D87:H87) -> 0
A88: 83 | B88: ebből: települési támogatás [Szoctv. 45. §], (K48122) | C88: =SUM(D88:H88) -> 0
A89: 84 | B89: Ellátottak pénzbeli juttatásai (K4) | C89: =SUM(D89:H89) -> 0 | D89: =D82+D84+D86 -> 0 | E89: =E82+E84+E86 -> 0 | F89: =F82+F84+F86 -> 0 | G89: =G82+G84+G86 -> 0 | H89: =H82+H84+H86 -> 0
A90: 85 | B90: Elvonások és befizetések (K5023) | C90: =SUM(D90:H90) -> 0
A91: 86 | B91: Egyéb működési célú támogatások államháztartáson belülre (K506) | C91: =SUM(D91:H91) -> 0 | D91: =SUM(D92:D95) -> 0 | E91: =SUM(E92:E95) -> 0 | F91: =SUM(F92:F95) -> 0 | G91: =SUM(G92:G95) -> 0 | H91: =SUM(H92:H95) -> 0
A92: 87 | B92: ebből: egyéb központi kezelésű előir (K50612) | C92: =SUM(D92:H92) -> 0
A93: 88 | B93: ebből: elkülönített állami pénzalap (K50615) | C93: =SUM(D93:H93) -> 0
A94: 89 | B94: ebből: önkormányzatok és költségv-i szerveik K50616) | C94: =SUM(D94:H94) -> 0
A95: 90 | B95: ebből: társulások és költségvetési szerveik (K50617) | C95: =SUM(D95:H95) -> 0
A96: 91 | B96: Egyéb működési célú támogatások államháztartáson kívülre non-profit szervezet (K51215) | C96: =SUM(D96:H96) -> 0
A97: 92 | B97: Egyházi jogi személy egyé műk célú tám( K51216 | C97: =SUM(D97:H97) -> 0
A98: 93 | B98: Tartalékok (K51311) | C98: =SUM(D98:H98) -> 0
A99: 94 | B99: Egyéb működési célú kiadások (K5) | C99: =SUM(D99:H99) -> 0 | D99: =D90+D91+D96+D97+D98 -> 0 | E99: =E90+E91+E96+E97+E98 -> 0 | F99: =F90+F91+F96+F97+F98 -> 0 | G99: =G90+G91+G96+G97+G98 -> 0 | H99: =H90+H91+H96+H97+H98 -> 0
A100: 95 | B100: Immateriális javak beszerzése, lét (K611) | C100: =SUM(D100:H100) -> 0
...

Sheet 15
C1: Berhida Város Önkormányzatának
C2: 2019. Évi költségvetéséhez | G2: 15. melléklet a 11/2019.(IX.27.) rendelethez
C3: ELŐIRÁNYZAT FELHASZNÁLÁSI ÜTEMTERV | G3: 13. melléklet a 2/2019.(III.1.) rendelethez
G4: adatok Ft-ban
A6: 1 | B6: MEGNEVEZÉS | C6: Összesen | D6: január | E6: február | F6: március | G6: április | H6: május | I6: június | J6: július | K6: augusztus | L6: szeptember | M6: október | N6: november | O6: december | P6: Ellenőrző sor
A7: 2 | B7: Személyi juttatások | C7: ='6'!C6 -> 427865603 | D7: =C7/12 -> 35655467 | E7: =C7/12 -> 35655467 | F7: =C7/12 -> 35655467 | G7: =C7/12 -> 35655467 | H7: =C7/12 -> 35655467 | I7: =C7/12 -> 35655467 | J7: =C7/12 -> 35655467 | K7: =C7/12 -> 35655467 | L7: =C7/12 -> 35655467 | M7: =C7/12 -> 35655467 | N7: =C7/12 -> 35655467 | O7: =C7/12 -> 35655467 | P7: =SUM(D7:O7) -> 4.278656e+08
A8: 3 | B8: Munkaadókat terhelő járulékok és szociális hozzájárulási adó, | C8: ='6'!C7 -> 82225392 | D8: =C8/12 -> 6852116 | E8: =C8/12 -> 6852116 | F8: =C8/12 -> 6852116 | G8: =C8/12 -> 6852116 | H8: =C8/12 -> 6852116 | I8: =C8/12 -> 6852116 | J8: =C8/12 -> 6852116 | K8: =C8/12 -> 6852116 | L8: =C8/12 -> 6852116 | M8: =C8/12 -> 6852116 | N8: =C8/12 -> 6852116 | O8: =C8/12 -> 6852116 | P8: =SUM(D8:O8) -> 82225392
A9: 4 | B9: Dologi kiadások | C9: ='6'!C8 -> 497906697 | D9: =C9/12 -> 41492225 | E9: =C9/12 -> 41492225 | F9: =C9/12 -> 41492225 | G9: =C9/12 -> 41492225 | H9: =C9/12 -> 41492225 | I9: =C9/12 -> 41492225 | J9: =C9/12 -> 41492225 | K9: =C9/12 -> 41492225 | L9: =C9/12 -> 41492225 | M9: =C9/12 -> 41492225 | N9: =C9/12 -> 41492225 | O9: =C9/12 -> 41492225 | P9: =SUM(D9:O9) -> 497906697
A10: 5 | B10: Ellátottak pénzbeli juttatásai | C10: ='6'!C16 -> 12758498 | D10: =C10/12 -> 1063208.2 | E10: =C10/12 -> 1063208.2 | F10: =C10/12 -> 1063208.2 | G10: =C10/12 -> 1063208.2 | H10: =C10/12 -> 1063208.2 | I10: =C10/12 -> 1063208.2 | J10: =C10/12 -> 1063208.2 | K10: =C10/12 -> 1063208.2 | L10: =C10/12 -> 1063208.2 | M10: =C10/12 -> 1063208.2 | N10: =C10/12 -> 1063208.2 | O10: =C10/12 -> 1063208.2 | P10: =SUM(D10:O10) -> 12758498
A11: 7 | B11: Egyéb működési célú kiadások | C11: ='6'!C26 -> 348863192 | D11: =C11/12 -> 29071933 | E11: =C11/12 -> 29071933 | F11: =C11/12 -> 29071933 | G11: =C11/12 -> 29071933 | H11: =C11/12 -> 29071933 | I11: =C11/12 -> 29071933 | J11: =C11/12 -> 29071933 | K11: =C11/12 -> 29071933 | L11: =C11/12 -> 29071933 | M11: =C11/12 -> 29071933 | N11: =C11/12 -> 29071933 | O11: =C11/12 -> 29071933 | P11: =SUM(D11:O11) -> 348863192
A12: 16 | B12: Beruházások | C12: ='6'!C32 -> 1146162014 | D12: =C12/12 -> 95513501 | E12: =C12/12 -> 95513501 | F12: =C12/12 -> 95513501 | G12: =C12/12 -> 95513501 | H12: =C12/12 -> 95513501 | I12: =C12/12 -> 95513501 | J12: =C12/12 -> 95513501 | K12: =C12/12 -> 95513501 | L12: =C12/12 -> 95513501 | M12: =C12/12 -> 95513501 | N12: =C12/12 -> 95513501 | O12: =C12/12 -> 95513501 | P12: =SUM(D12:O12) -> 1.146162e+09
A13: 17 | B13: Felújítások | C13: ='6'!C37 -> 211033902 | D13: =C13/12 -> 17586158 | E13: =C13/12 -> 17586158 | F13: =C13/12 -> 17586158 | G13: =C13/12 -> 17586158 | H13: =C13/12 -> 17586158 | I13: =C13/12 -> 17586158 | J13: =C13/12 -> 17586158 | K13: =C13/12 -> 17586158 | L13: =C13/12 -> 17586158 | M13: =C13/12 -> 17586158 | N13: =C13/12 -> 17586158 | O13: =C13/12 -> 17586158 | P13: =SUM(D13:O13) -> 211033902
A14: 19 | B14: Egyéb felhalmozási célú támogatások | C14: ='6'!C42 -> 24016495 | E14: 2500000 | H14: 2500000 | I14: 9000000 | J14: 7516495 | K14: 2500000 | P14: =SUM(D14:O14) -> 24016495
A15: 20 | B15: Költségvetési kiadások | C15: =SUM(C7:C14) -> 2750831793 | D15: =SUM(D7:D14) -> 2.2723461e+08 | E15: =SUM(E7:E14) -> 2.2973461e+08 | F15: =SUM(F7:F14) -> 2.2723461e+08 | G15: =SUM(G7:G14) -> 2.2723461e+08 | H15: =SUM(H7:H14) -> 2.2973461e+08 | I15: =SUM(I7:I14) -> 2.3623461e+08 | J15: =SUM(J7:J14) -> 2.347511e+08 | ... O15: =SUM(O7:O14) -> 2.2723461e+08 | P15: =SUM(D15:O15) -> 2750831793
A16: 27 | B16: Finanszírozási kiadások | C16: =C17+C18 -> 575974322 | D16: =D17+D18 -> 59457674 | E16: =E17+E18 -> 47458665 | F16: =F17+F18 -> 47458665 | G16: =G17+G18 -> 47458665 | H16: =H17+H18 -> 47458664 | I16: =I17+I18 -> 47458665 | J16: =J17+J18 -> 48943531 | ... O16: =O17+O18 -> 46055959 | P16: =SUM(D16:O16) -> 5.7597432e+08
B17: ÁHT belüli megelőlegezések visszafiz | C17: ='6'!C44 -> 23302816 | D17: ='[1]2'!D44 -> 13401715 | E17: =E31 -> 1402706 | F17: =F31 -> 1402706 | G17: =G31 -> 1402706 | H17: =H31 -> 1402705 | I17: 1402706 | J17: 2887572 | K17: =K31 -> 0 | L17: =L31 -> 0 | M17: =M31 -> 0 | P17: =SUM(D17:O17) -> 23302816
A18: 29 | B18: Irányító szervtől finansz támogatás | C18: ='6'!C45 -> 552671506 | D18: =C18/12 -> 46055959 | E18: =C18/12 -> 46055959 | F18: =C18/12 -> 46055959 | G18: =C18/12 -> 46055959 | H18: =C18/12 -> 46055959 | I18: =C18/12 -> 46055959 | J18: =C18/12 -> 46055959 | K18: =C18/12 -> 46055959 | L18: =C18/12 -> 46055959 | M18: =C18/12 -> 46055959 | N18: =C18/12 -> 46055959 | O18: =C18/12 -> 46055959 | P18: =SUM(D18:O18) -> 5.5267151e+08
A19: 30 | B19: KIADÁSOK ÖSSZESEN: | C19: =C15+C16 -> 3326806115 | D19: =D15+D16 -> 286692282 | E19: =E15+E16 -> 277193273 | F19: =F15+F16 -> 274693273 | G19: =G15+G16 -> 274693273 | H19: =H15+H16 -> 277193272 | I19: =I15+I16 -> 283693273 | J19: =J15+J16 -> 283694634 | ... O19: =O15+O16 -> 273290567 | P19: =SUM(D19:O19) -> 3326806115
A20: 33 | B20: Működési célú támogatások államháztartáson belül | C20: ='2'!C20 -> 708448001 | D20: =C20/12 -> 59037333 | E20: =C20/12 -> 59037333 | F20: =C20/12 -> 59037333 | G20: =C20/12 -> 59037333 | H20: =C20/12 -> 59037333 | I20: =C20/12 -> 59037333 | J20: =C20/12 -> 59037333 | K20: =C20/12 -> 59037333 | L20: =C20/12 -> 59037333 | M20: =C20/12 -> 59037333 | N20: =C20/12 -> 59037333 | O20: =C20/12 -> 59037333 | P20: =SUM(D20:O20) -> 708448001
A21: 34 | B21: Felhalmozási célú támogatások államháztartáson belülről | C21: ='2'!C28 -> 488080415 | D21: =C21/12 -> 40673368 | E21: =C21/12 -> 40673368 | F21: =C21/12 -> 40673368 | G21: =C21/12 -> 40673368 | H21: =C21/12 -> 40673368 | I21: =C21/12 -> 40673368 | J21: =C21/12 -> 40673368 | K21: =C21/12 -> 40673368 | L21: =C21/12 -> 40673368 | M21: =C21/12 -> 40673368 | N21: =C21/12 -> 40673368 | O21: =C21/12 -> 40673368 | P21: =SUM(D21:O21) -> 4.8808042e+08
A22: 35 | B22: Közhatalmi bevételek | C22: ='2'!C39 -> 345543000 | D22: =C22/12 -> 28795250 | E22: =C22/12 -> 28795250 | F22: =C22/12 -> 28795250 | G22: =C22/12 -> 28795250 | H22: =C22/12 -> 28795250 | I22: =C22/12 -> 28795250 | J22: =C22/12 -> 28795250 | K22: =C22/12 -> 28795250 | L22: =C22/12 -> 28795250 | M22: =C22/12 -> 28795250 | N22: =C22/12 -> 28795250 | O22: =C22/12 -> 28795250 | P22: =SUM(D22:O22) -> 345543000
A23: 36 | B23: Működési bevételek | C23: ='2'!C61 -> 39623737 | D23: =C23/12 -> 3301978.1 | E23: =C23/12 -> 3301978.1 | F23: =C23/12 -> 3301978.1 | G23: =C23/12 -> 3301978.1 | H23: =C23/12 -> 3301978.1 | I23: =C23/12 -> 3301978.1 | J23: =C23/12 -> 3301978.1 | K23: =C23/12 -> 3301978.1 | L23: =C23/12 -> 3301978.1 | M23: =C23/12 -> 3301978.1 | N23: =C23/12 -> 3301978.1 | O23: =C23/12 -> 3301978.1 | P23: =SUM(D23:O23) -> 39623737
A24: 37 | B24: Felhalmozási bevételek | C24: ='2'!C64 -> 20900614 | D24: =C24/12 -> 1741717.8 | E24: =C24/12 -> 1741717.8 | F24: =C24/12 -> 1741717.8 | G24: =C24/12 -> 1741717.8 | H24: =C24/12 -> 1741717.8 | I24: =C24/12 -> 1741717.8 | J24: =C24/12 -> 1741717.8 | K24: =C24/12 -> 1741717.8 | L24: =C24/12 -> 1741717.8 | M24: =C24/12 -> 1741717.8 | N24: =C24/12 -> 1741717.8 | O24: =C24/12 -> 1741717.8 | P24: =SUM(D24:O24) -> 20900614
B25: Működési célú átvett pénzeszközök | C25: ='2'!C66 -> 435000 | L25: 435000 | P25: =SUM(D25:O25) -> 435000
A26: 38 | B26: Felhalmozási célú átvett pénzeszközök | C26: ='2'!C70 -> 728000 | D26: =C26/12 -> 60666.667 | E26: =C26/12 -> 60666.667 | F26: =C26/12 -> 60666.667 | G26: =C26/12 -> 60666.667 | H26: =C26/12 -> 60666.667 | I26: =C26/12 -> 60666.667 | J26: =C26/12 -> 60666.667 | K26: =C26/12 -> 60666.667 | L26: =C26/12 -> 60666.667 | M26: =C26/12 -> 60666.667 | N26: =C26/12 -> 60666.667 | O26: =C26/12 -> 60666.667 | P26: =SUM(D26:O26) -> 728000
A27: 39 | B27: Költségvetési bevételek | C27: =SUM(C20:C26) -> 1603758767 | D27: =SUM(D20:D26) -> 1.3361031e+08 | E27: =SUM(E20:E26) -> 1.3361031e+08 | F27: =SUM(F20:F26) -> 1.3361031e+08 | G27: =SUM(G20:G26) -> 1.3361031e+08 | H27: =SUM(H20:H26) -> 1.3361031e+08 | I27: =SUM(I20:I26) -> 1.3361031e+08 | J27: =SUM(J20:J26) -> 1.3361031e+08 | ... O27: =SUM(O20:O26) -> 1.3361031e+08 | P27: =SUM(D27:O27) -> 1603758767
A28: 55 | B28: Finanszírozási bevételek | C28: =SUM(C29:C32) -> 1723047348 | D28: =SUM(D29:D32) -> 1.1465307e+09 | E28: =SUM(E29:E32) -> 47458665 | F28: =SUM(F29:F32) -> 47458665 | G28: =SUM(G29:G32) -> 47458665 | H28: =SUM(H29:H32) -> 47458664 | I28: =SUM(I29:I32) -> 47458665 | J28: =SUM(J29:J32) -> 48943531 | ... O28: =SUM(O29:O32) -> 46055959 | P28: =SUM(D28:O28) -> 1.7230473e+09
B29: Költségvetési maradvány igénybevétele | C29: ='2'!C73 -> 1100474741 | D29: =C29 -> 1100474741 | P29: =SUM(D29:O29) -> 1100474741
B30: Befektetési célú belföldi egyéb hitelviszonyt megtestesítő értékpapír beváltása, értékesítése (B 81231 | C30: ='2'!C72 -> 60000000 | N30: 60000000 | P30: =SUM(D30:O30) -> 60000000
B31: Áht megelőlegezés | C31: ='2'!C74 -> 9901101 | E31: 1402706 | F31: 1402706 | G31: 1402706 | H31: 1402705 | I31: 1402706 | J31: 2887572 | P31: =SUM(D31:O31) -> 9901101
A32: 56 | B32: Irányító szervtől finansz támogatás | C32: ='6'!C45 -> 552671506 | D32: =C32/12 -> 46055959 | E32: =C32/12 -> 46055959 | F32: =C32/12 -> 46055959 | G32: =C32/12 -> 46055959 | H32: =C32/12 -> 46055959 | I32: =C32/12 -> 46055959 | J32: =C32/12 -> 46055959 | K32: =C32/12 -> 46055959 | L32: =C32/12 -> 46055959 | M32: =C32/12 -> 46055959 | N32: =C32/12 -> 46055959 | O32: =C32/12 -> 46055959 | P32: =SUM(D32:O32) -> 5.5267151e+08
A33: 58 | B33: BEVÉTELEK ÖSSZESEN: | C33: =C27+C28 -> 3326806115 | D33: =D27+D28 -> 1.280141e+09 | E33: =E27+E28 -> 1.8106898e+08 | F33: =F27+F28 -> 1.8106898e+08 | G33: =G27+G28 -> 1.8106898e+08 | H33: =H27+H28 -> 1.8106898e+08 | I33: =I27+I28 -> 1.8106898e+08 | J33: =J27+J28 -> 1.8255384e+08 | ... O33: =O27+O28 -> 1.7966627e+08 | P33: =SUM(D33:O33) -> 3326806115

Sheet 16
B1: Berhida Város Önkormányzatának | F1: 16. melléklet a 11/2019.(IX.27.) rendelethez
B2: 2019. Évi költségvetéséhez | F2: 14. melléklet a 2/2019.(III.1.) rendelethez
F3: adatok Ft-ban
A4: Az Önkormányzat és az önkormányzati költségvetési szervek európai uniós forrásból megvalósítás alatt lévő projektjei
A6: A | B6: B | C6: C | D6: D | E6: E | F6: F
A7: Sorsz | B7: Uniós projekt megnevezése | C7: Uniós támogatás | D7: Önkormányzati forrás | E7: Összes bevétel | F7: Kiadás összesen | G7: személyi jutt | H7: járulék | I7: dologi | J7: Beruházás
A8: 1 | B8: TOP 3.1.1-16 közlekedésfejlesztés (kerékpárút)pály | C8: 259822948 | D8: 0 | E8: =C8+D8 -> 259822948 | F8: =SUM(G8:J8) -> 259822948 | G8: 2450209 | H8: 477791 | I8: 8590000 | J8: 248304948
A9: 2 | B9: KEHOP 2.2.1-15-00005 szennyvíztisztítótelep pály | C9: 993974770 | E9: =C9+D9 -> 993974770 | F9: =SUM(G9:J9) -> 993974770 | I9: 214984215 | J9: 778990555
A10: 3 | B10: KÖFOP-1.2.1-VEKOP-16 ASP rendszer bevezetése | C10: 7000000 | D10: 3066750 | E10: =C10+D10 -> 10066750 | F10: =SUM(G10:J10) -> 10066570 | G10: 1246500 | H10: 243068 | I10: 3485721 | J10: 5091281
B11: VP Külterületi utas pályázat | C11: 30157211 | D11: =F11-C11 -> 15828586 | E11: =C11+D11 -> 45985797 | F11: =SUM(G11:J11) -> 45985797 | J11: 45985797
A12: 4 | B12: ÖNK VP6-7.2.1.4.1.3-17 közétkeztetés fejl. Süni eszközfejl.pály. | C12: 14249204 | D12: =F12-C12 -> 4676284 | E12: =C12+D12 -> 18925488 | F12: =SUM(G12:J12) -> 18925488 | J12: 18925488
B13: ÖNK VP6-19.2.1.-7-2-17 közösségi együttműködést segítő fejl. Tám. Fittnesparkok | C13: 10224000 | E13: =C13+D13 -> 10224000 | F13: =SUM(G13:J13) -> 10224000 | J13: 10224000
A14: 4 | D14: =F14-C14 -> 0 | F14: =SUM(G14:J14) -> 0
A15: 5 | B15: Összesen: | C15: =SUM(C8:C14) -> 1315428133 | D15: =SUM(D8:D14) -> 23571620 | E15: =SUM(E8:E14) -> 1338999753 | F15: =SUM(G15:J15) -> 1338999573 | G15: =SUM(G8:G14) -> 3696709 | H15: =SUM(H8:H14) -> 720859 | I15: =SUM(I8:I14) -> 227059936 | J15: =SUM(J8:J14) -> 1107522069
