Workbook
Name onev: [1]kod!$BT$34:$BT$3186

Sheet 1.sz.tábla 
A3: AZ ÖNKORMÁNYZAT FŐÖSSZESÍTŐJE
A4: MEGNEVEZÉS | B4: 2019. évi eredeti előirányzat | C4: I. Módosítás | D4: Eltérés
A5: I. Működési célú támogatások államháztartáson belülről | B5: ='2.sz.tábla'!B5 -> 30598342 | C5: ='2.sz.tábla'!C5 -> 32920253 | D5: ='2.sz.tábla'!D5 -> 2321911
A6: II. Felhalmozási célú támogatások államháztartáson belülről | B6: ='2.sz.tábla'!B20 -> 4000000 | C6: ='2.sz.tábla'!C20 -> 4000000 | D6: ='2.sz.tábla'!D20 -> 0
A7: III. Közhatalmi bevételek | B7: ='2.sz.tábla'!B27 -> 10700000 | C7: ='2.sz.tábla'!C27 -> 10700000 | D7: ='2.sz.tábla'!D27 -> 0
A8: IV. Működési bevételek | B8: ='2.sz.tábla'!B40 -> 1050000 | C8: ='2.sz.tábla'!C40 -> 1050000 | D8: ='2.sz.tábla'!D40 -> 0
A9: V. Felhalmozási bevételek | B9: ='2.sz.tábla'!B52 -> 0 | C9: ='2.sz.tábla'!C52 -> 3588000 | D9: ='2.sz.tábla'!D52 -> 3588000
A10: VI. Működési célú átvett pénzeszközök | B10: ='2.sz.tábla'!B57 -> 0 | C10: ='2.sz.tábla'!C57 -> 0 | D10: ='2.sz.tábla'!D57 -> 0
A11: VII. Felhalmozási célú átvett pénzeszközök | B11: ='2.sz.tábla'!B61 -> 0 | C11: ='2.sz.tábla'!C61 -> 0 | D11: ='2.sz.tábla'!D61 -> 0
A12: Költségvetési bevételek összesen: | B12: =SUM(B5:B11) -> 46348342 | C12: =SUM(C5:C11) -> 52258253 | D12: =SUM(D5:D11) -> 5909911
A13: 1. Költségvetési hiány belső finanszírozására szolgáló finanszírozási bevételek | B13: ='2.sz.tábla'!B66 -> 126000000 | C13: ='2.sz.tábla'!C66 -> 128550203 | D13: ='2.sz.tábla'!D66 -> 2550203
A14: 2. Költségvetési hiány külső finanszírozására szolgáló finanszírozási célú pénzügyi műveletek bevételei | B14: ='2.sz.tábla'!B69 -> 119237 | C14: ='2.sz.tábla'!C69 -> 554237 | D14: ='2.sz.tábla'!D69 -> 435000
A15: VIII. Finanszírozási bevételek | B15: =B13+B14 -> 126119237 | C15: =C13+C14 -> 129104440 | D15: =D13+D14 -> 2985203
A16: Bevételek összesen: | B16: =B12+B15 -> 172467579 | C16: =C12+C15 -> 181362693 | D16: =D12+D15 -> 8895114
A18: Működési kiadások | B18: =B19 -> 71741284 | C18: =C19 -> 72494883 | D18: =D19 -> 753599
A19: Önkormányzati feladatok | B19: ='3.sz.tábla '!B37 -> 71741284 | C19: ='3.sz.tábla '!C37 -> 72494883 | D19: ='3.sz.tábla '!D37 -> 753599
A20: Felhalmozási kiadások | B20: =SUM(B21:B23) -> 96519951 | C20: =SUM(C21:C23) -> 103432857 | D20: =SUM(D21:D23) -> 6912906
A21: Beruházások | B21: ='5. sz. tábla'!B4 -> 8532598 | C21: ='5. sz. tábla'!C4 -> 16780611 | D21: ='5. sz. tábla'!D4 -> 8248013
A22: Felújítások | B22: ='5. sz. tábla'!B20 -> 87960563 | C22: ='5. sz. tábla'!C20 -> 85644858 | D22: ='5. sz. tábla'!D20 -> -2315705
A23: Egyéb felhalmozási kiadások | B23: ='5. sz. tábla'!B27 -> 26790 | C23: ='5. sz. tábla'!C27 -> 1007388 | D23: ='5. sz. tábla'!D27 -> 980598
A25: Tartalékok | B25: =B26+B27 -> 3238265 | C25: =C26+C27 -> 4031874 | D25: =C25-B25 -> 793609
A26: Általános | B26: 3238265 | C26: =3238265+5247-1800000+3588000-150000+1333847-4962906-150000+1779441-20 -> 2881874 | D26: =C26-B26 -> -356391
A27: Cél | B27: 0 | C27: 1150000 | D27: =C27-B27 -> 1150000
A28: Költségvetési kiadások összesen: | B28: =SUM(B25,B20,B18) -> 171499500 | C28: =SUM(C25,C20,C18) -> 179959614 | D28: =C28-B28 -> 8460114
A29: Hiteltörlesztés | B29: ='5. sz. tábla'!B31 -> 0 | C29: ='5. sz. tábla'!C31 -> 0 | D29: ='5. sz. tábla'!D31 -> 0
A30: Forgatási célú értékpapír vásárlás | B30: ='5. sz. tábla'!B32 -> 0 | C30: ='5. sz. tábla'!C32 -> 0 | D30: ='5. sz. tábla'!D32 -> 0
A31: Állami támogatás megelőlegezés visszafizetés | B31: ='5. sz. tábla'!B33 -> 968079 | C31: ='5. sz. tábla'!C33 -> 1403079 | D31: =C31-B31 -> 435000
A32: Finanszírozási kiadások összesen: | B32: =SUM(B29:B31) -> 968079 | C32: =SUM(C29:C31) -> 1403079 | D32: =C32-B32 -> 435000
A33: Kiadások összesen: | B33: =B28+B32 -> 172467579 | C33: =C28+C32 -> 181362693 | D33: =D28+D32 -> 8895114
B34: =B16-B33 -> 0 | C34: =C16-C33 -> 0 | D34: =D16-D33 -> 0

Sheet 2.sz.tábla
A3: BEVÉTELEK ELŐIRÁNYZATA
A4: MEGNEVEZÉS | B4: 2019. évi eredeti előirányzat | C4: I. Módosítás | D4: Eltérés
A5: I. Működési célú támogatások államháztartáson belülről | B5: =B6+B12+B13+B14+B15+B16 -> 30598342 | C5: =C6+C16 -> 32920253 | D5: =D6+D16 -> 2321911
A6: 1. Önkormányzat működési támogatásai | B6: =SUM(B7:B9) -> 21221060 | C6: =SUM(C7:C10) -> 22417185 | D6: =SUM(D7:D10) -> 1196125
A7: 1.1. Helyi önk. működésének ált. támogatása | B7: ='2a. tábla'!E5 -> 14087060 | C7: ='2a. tábla'!F5 -> 14087060 | D7: ='2a. tábla'!G5 -> 0
A8: 1.3. Települési önk. szoc. és gyermekjóléti feladatainak tám. | B8: ='2a. tábla'!E34 -> 5334000 | C8: ='2a. tábla'!F34 -> 5380125 | D8: ='2a. tábla'!G34 -> 46125
A9: 1.4. Települési önk. kult. feladatainak támogatása | B9: ='2a. tábla'!E42 -> 1800000 | C9: ='2a. tábla'!F42 -> 1800000 | D9: ='2a. tábla'!G42 -> 0
A10: 1.5. Helyi önk. Működési célú költségvetési támogatásai és kiegészítő támogatásai | B10: 0 | C10: ='2a. tábla'!F44 -> 1150000 | D10: ='2a. tábla'!G44 -> 1150000
A11: 1.6. Elszámolásból származó bevételek | B11: 0 | C11: 0 | D11: 0
A12: 2. Elvonások, befizetések
A13: 3. Működési célú garancia- és kezességvállalásból származó megtérülések áh-n belülről
A14: 4. Működési célú visszatérítendő támogatások, kölcsönök visszatérülése áh-n belülről
A15: 5. Működési célú visszatérítendő támogatások, kölcsönök igénybevétele áh-n belülről
A16: 6. Egyéb működési célú támogatások bevételei államháztartáson belülről | B16: =SUM(B17:B19)+87480 -> 9377282 | C16: =SUM(C17:C19)+87480-46125+5247 -> 10503068 | D16: =C16-B16 -> 1125786
A17: Közfoglalkoztatottak támogatás | B17: 859802 | C17: =859802-394337+1032115 -> 1497580 | D17: =C17-B17 -> 637778
A18: Diákmunka támogatás | B18: 0 | C18: 528886 | D18: =C18-B18 -> 528886
A19: EFOP Humán közszolgáltatások fejlesztése | B19: 8430000 | C19: 8430000 | D19: =C19-B19 -> 0
A20: II. Felhalmozási célú támogatások államháztartáson belülről | B20: =B21+B23+B24+B25+B26 -> 4000000 | C20: =C21+C23+C24+C25+C26 -> 4000000 | D20: =D21+D23+D24+D25+D26 -> 0
A21: 1. Felhalmozási célú önkormányzati támogatások | B21: =B22:G22 -> 4000000 | C21: =C22:H22 -> 4000000 | D21: =C21-B21 -> 0
A22: 1.1. Felhalmozási célú központosított támogatások | B22: 4000000 | C22: 4000000 | D22: =C22-B22 -> 0
A23: 2. Felhalmozási célú garancia- és kezességvállalásból származó megtérülések áh-n belülről
A24: 3. Felhalmozási célú visszatérítendő támogatások, kölcsönök visszatérülése áh-n belülről
A25: 4. Felhalmozási célú visszatérítendő támogatások, kölcsönök igénybevétele áh-n belülről
A26: 5. Egyéb felhalmozási célú támogatások államháztartáson belülről
A27: III. Közhatalmi bevételek | B27: =B28+B31+B39 -> 10700000 | C27: =C28+C31+C39 -> 10700000 | D27: =C27-B27 -> 0
A28: 1. Vagyoni típusú adók | B28: 6600000 | C28: 6600000 | D28: =C28-B28 -> 0
A29: 1.1. Építményadó | B29: 5400000 | C29: 5400000 | D29: =C29-B29 -> 0
A30: 1.2. Magánszemélyek kommunális adója | B30: 1200000 | C30: 1200000 | D30: =C30-B30 -> 0
A31: 2. Termékek és szolgáltatások adói | B31: =B32+B34+B35 -> 4000000 | C31: 4000000 | D31: =C31-B31 -> 0
A32: 2.1. Értékesítési és forgalmi adók | B32: 2500000 | C32: 2500000 | D32: =C32-B32 -> 0
A33: 2.1. 1. Iparűzési adó | B33: 2500000 | C33: 2500000 | D33: =C33-B33 -> 0
A34: 2.2. Gépjárműadók | B34: 1000000 | C34: 1000000 | D34: =C34-B34 -> 0
A35: 2.3. Egyéb áruhasználati és szolgáltatási adók | B35: 500000 | C35: =C36 -> 500000 | D35: =C35-B35 -> 0
A36: 2.3.1. Ifa személyek u. | B36: 500000 | C36: 500000 | D36: =C36-B36 -> 0
A37: 2.3.2. Talajterhelési díj
A38: 2.3.3. Települési adó
A39: 3. Egyéb közhatalmi bevételek (bírság, pótlék,) | B39: 100000 | C39: 100000 | D39: =C39-B39 -> 0
A40: IV. Működési bevételek | B40: =B41+B42+B44+B45+B47+B48+B49+B50+B51 -> 1050000 | C40: =C41+C42+C44+C45+C47+C48+C49+C50+C51 -> 1050000 | D40: =D41+D42+D44+D45+D47+D48+D49+D50+D51 -> 0
A41: 1. Áru- és készletértékesítés bevétele
A42: 2. Nyújtott szolgáltatások ellenértéke | B42: 600000 | C42: 600000 | D42: =C42-B42 -> 0
A43: Ebből: bérleti díjak | B43: 600000 | C43: 600000 | D43: =C43-B43 -> 0
A44: 3. Közvetített szolgáltatások ellenértéke
A45: 4. Tulajdonosi bevételek | B45: 100000 | C45: 100000 | D45: =C45-B45 -> 0
A46: 4.1. Üzemeltetési díjak
A47: 5. Ellátási díjak
A48: 6. Kiszámlázott Áfa | B48: 350000 | C48: 350000 | D48: =C48-B48 -> 0
A49: 7. Áfa visszatérítés
A50: 8. Kamatbevétel | B50: 0 | C50: 0 | D50: 0
A51: 9. Egyéb működési bevételek (kártérítés, kötbér, stb.)
A52: V. Felhalmozási bevételek | B52: =SUM(B53:B56) -> 0 | C52: =SUM(C53:C56) -> 3588000 | D52: =C52-B52 -> 3588000
A53: 1. Immateriális javak értékesítése
A54: 2. Ingatlanok értékesítése | B54: 0 | C54: 3588000 | D54: =C54-B54 -> 3588000
A55: 3. Egyéb tárgyi eszközök értékesítése
A56: 4. Részesedések értékesítése
A57: VI. Működési célú átvett pénzeszközök | B57: =SUM(B58:B60) -> 0 | C57: =SUM(C58:C60) -> 0 | D57: 0
A58: 1. Működési célú garancia- és kezességvállalásból származó megtérülések áh-n kívülről
A59: 2. Működési célú visszatérítendő támogatások, kölcsönök visszatérülése államháztartáson kívülről
A60: 3. Egyéb működési célú átvett pénzeszközök
A61: VII. Felhalmozási célú átvett pénzeszközök | B61: =B62+B63+B64 -> 0 | C61: =C62+C63+C64 -> 0 | D61: 0
A62: 1. Felhalmozási célú garancia- és kezességvállalásból származó megtérülések áh-n kívülről
A63: 2. Felhalmozási célú visszatérítendő támogatások, kölcsönök visszatérülése államháztartáson kívülről
A64: 3. Egyéb felhalmozási célú átvett pénzeszközök
A65: Költségvetési bevételek összesen: | B65: =B61+B57+B52+B40+B27+B20+B5 -> 46348342 | C65: =C61+C57+C52+C40+C27+C20+C5 -> 52258253 | D65: =C65-B65 -> 5909911
A66: 1. Költségvetési hiány belső finanszírozására szolgáló bevételek | B66: =SUM(B67:B68) -> 126000000 | C66: =SUM(C67:C68) -> 128550203 | D66: =C66-B66 -> 2550203
A67: 1.1. Előző év költségvetési maradványának igénybevétele működési célra | B67: 52480871 | C67: =52480871+770762+1779441 -> 55031074 | D67: =C67-B67 -> 2550203
A68: 1.2. Előző év költségvetési maradványának igénybevétele felhalmozási célra | B68: 73519129 | C68: 73519129 | D68: =C68-B68 -> 0
A69: 2. Költségvetési hiány külső finanszírozására szolgáló finanszírozási bevételek | B69: =B70+B71 -> 119237 | C69: =C70+C71 -> 554237 | D69: =D70+D71 -> 435000
A70: 2.1. Forgatási célú értékpapír beváltása
A71: 2.4. Államháztartáson belüli megelőlegezések | B71: 119237 | C71: =119237+435000 -> 554237 | D71: =C71-B71 -> 435000
A72: VIII. Finanszírozási bevételek | B72: =B69+B66 -> 126119237 | C72: =C69+C66 -> 129104440 | D72: =D69+D66 -> 2985203
A73: Összes bevétel: | B73: =B65+B72 -> 172467579 | C73: =C65+C72 -> 181362693 | D73: =D65+D72 -> 8895114
A74: Intézményi létszámok: | B74: 5 | C74: 5
A75: ebből közfoglalkoztatott | B75: 2 | C75: 2

Sheet 2a. tábla
A1: ÁLLAMI TÁMOGATÁSOK 2019. ÉV
A3: MEGNEVEZÉS | B3: Létszám | C3: Mutató | D3: Fajlagos | E3: 2019. évi eredeti előirányzat | F3: I. Módosítás | G3: Eltérés
A5: I. HELYI ÖNKORMÁNYZATOK MŰKÖDÉSÉNEK ÁLTALÁNOS TÁMOGATÁSA | E5: =E6 -> 14087060 | F5: =F6 -> 14087060 | G5: =F5-E5 -> 0
A6: 1. Települési önkormányzatok működésének támogatása | E6: =E7 -> 14087060 | F6: =F7 -> 14087060 | G6: =F6-E6 -> 0
A7: Önkormányzati hivatal működtetésének támogatás (beszámítás után) | E7: =E8 -> 14087060 | F7: =F8 -> 14087060 | G7: =F7-E7 -> 0
A8: Önkormányzati hivatal működtetésének támogatás elismert hivatali létsz. | C8: 39.39 | D8: 4580000 | E8: =E10+E19+E22+E25+E30 -> 14087060 | F8: =F10+F19+F22+F25+F30 -> 14087060 | G8: =F8-E8 -> 0
A9: Beszámítás összege | E9: 0 | F9: 0 | G9: =F9-E9 -> 0
A10: Település üzemeltetéséhez kapcsolódó feladatellát.támog.(beszámítás után) | E10: =E11+E12+E13+E14+E15+E16+E17+E18 -> 7495610 | F10: =F11+F12+F13+F14+F15+F16+F17+F18 -> 7495610 | G10: =F10-E10 -> 0
A11: Zöldterület-gazdálk-al kapcsolatos feladatok ellátásának támog. | E11: 787190 | F11: 787190 | G11: =F11-E11 -> 0
A12: Beszámítás összege | E12: 0 | F12: 0 | G12: =F12-E12 -> 0
A13: Közvilágítás fenntartásának támogatás | E13: 5696000 | F13: 5696000 | G13: =F13-E13 -> 0
A14: Beszámítás összege | E14: 0 | F14: 0 | G14: =F14-E14 -> 0
A15: Köztemető fenntartással kapcsolatos feladatok támog. | E15: 0 | F15: 0 | G15: =F15-E15 -> 0
A16: Beszámítás összege | E16: 0 | F16: 0 | G16: =F16-E16 -> 0
A17: Közutak fenntartásának támogatás | E17: 1012420 | F17: 1012420 | G17: =F17-E17 -> 0
A18: Beszámítás összege | E18: 0 | F18: 0 | G18: =F18-E18 -> 0
A19: Egyéb önkormányzati feladatok támogatása (beszámítás után) | E19: =E20+E21 -> 5000000 | F19: =F20+F21 -> 5000000 | G19: =F19-E19 -> 0
A20: Egyéb önkormányzati feladatok támogatása | D20: 2700 | E20: 5000000 | F20: 5000000 | G20: =F20-E20 -> 0
A21: Beszámítás összege | E21: 0 | F21: 0 | G21: =F21-E21 -> 0
A22: Lakott külterületekkel kapcsolatos feladatok támogatása(beszámítás után) | E22: =E23+E24 -> 48450 | F22: =F23+F24 -> 48450 | G22: =F22-E22 -> 0
A23: Lakott külterületekkel kapcsolatos feladatok támogatása | B23: 2550 | E23: 48450 | F23: 48450 | G23: =F23-E23 -> 0
A24: Beszámítás összege | E24: 0 | F24: 0 | G24: =F24-E24 -> 0
A25: Üdülőhelyi feladatok támogatása (beszámitás után) | E25: =E26 -> 552600 | F25: =F26 -> 552600 | G25: =F25-E25 -> 0
A26: Üdülőhelyi feladatok támogatása | E26: 552600 | F26: 552600 | G26: =F26-E26 -> 0
A27: Beszámítás összege | E27: 0 | F27: 0
A28: 5. 2018. évről áthúzódó bérkompenzáció támogatása | E28: 0 | F28: 0
A30: 6. Polgármesteri illetmény támogatása | E30: 990400 | F30: 990400 | G30: =F30-E30 -> 0
A32: II. EGYES KÖZNEVELÉSI FELADATOK TÁMOGATÁSA | E32: 0 | F32: 0 | G32: =F32-E32 -> 0
A34: III. SZOCIÁLIS, GYERMEKJÓLÉTI ÉS GYERMEKÉTKEZTETÉSI FELADATOK | E34: =E36+E37+E35 -> 5334000 | F34: =F36+F37+F35 -> 5380125 | G34: =F34-E34 -> 46125
A35: 1. Szociális ágazati összevont pótlék | E35: 0 | F35: 46125 | G35: =F35-E35 -> 46125
A36: 2. A települési önkormányzatok szociális feladatainak egyéb támogatása | E36: 2234000 | F36: 2234000 | G36: =F36-E36 -> 0
A37: 3. Egyéb szociális és gyermekjóléti feladatok támogatása | E37: =E38 -> 3100000 | F37: =F38 -> 3100000 | G37: =F37-E37 -> 0
A38: e) Falugondnoki vagy tanyagondnoki szolgáltatás | E38: 3100000 | F38: 3100000 | G38: =F38-E38 -> 0
A41: IV. A TELEPÜLÉSI ÖNKORMÁNYZATOK KULTURÁLIS FELADATAINAK TÁMOGATÁSA | E41: =E42 -> 1800000 | F41: =F42 -> 1800000 | G41: =F41-E41 -> 0
A42: 1. Települési önkormányzatok nyilvános könyvtári és közművelődési feladatainak támogatása | E42: 1800000 | F42: 1800000 | G42: =F42-E42 -> 0
A44: Helyi önkormányzatok kiegészítő támogatásai (működési) | E44: 0 | F44: =F45 -> 1150000 | G44: =F44-E44 -> 1150000
A45: A falu- és tanyagondnoki szolgálatok 2019. évi többlettámogatása | E45: 0 | F45: 1150000 | G45: =F45-E45 -> 1150000
A47: Összesen | E47: =E41+E34+E32+E5 -> 21221060 | F47: =F41+F34+F32+F5+F44 -> 22417185 | G47: =F47-E47 -> 1196125

Sheet 3.sz.tábla 
A2: MŰKÖDÉSI KIADÁSOK 2019. ÉV
A4: MEGNEVEZÉS | B4: ='1.sz.tábla '!B4 -> 2019. évi eredeti előirányzat | C4: ='1.sz.tábla '!C4 -> I. Módosítás | D4: ='1.sz.tábla '!D4 -> Eltérés
A5: I. Önkormányzati Hivatal költségvetése
A6: 1. Személyi juttatás | B6: =SUM(B7:B8) -> 11331764 | C6: =SUM(C7:C8) -> 12714792 | D6: =C6-B6 -> 1383028
A7: Személyi juttatások | B7: 8231764 | C7: =8231764+442583+940425+20 -> 9614792 | D7: =C7-B7 -> 1383028
A8: EFOP Személyi juttatások | B8: 3100000 | C8: 3100000 | D8: =C8-B8 -> 0
A9: 2. Munkaadót terhelő járulékok | B9: =SUM(B10:B11) -> 3271315 | C9: =SUM(C10:C11) -> 2115461 | D9: =SUM(D10:D11) -> -1155854
A10: Munkaadót terhelő járulékok | B10: 2831315 | C10: =2831315-1333847+86303+91690 -> 1675461 | D10: =C10-B10 -> -1155854
A11: EFOP Munkaadót terhelő járulékok | B11: 440000 | C11: 440000 | D11: =C11-B11 -> 0
A12: 3. Dologi kiadások | B12: =SUM(B13:B28) -> 44728404 | C12: =SUM(C13:C28) -> 44878404 | D12: =C12-B12 -> 150000
A13: Szakmai anyagok beszerzése | B13: 70000 | C13: 70000 | D13: =C13-B13 -> 0
A14: Üzemeltetési anyagok beszerzése | B14: 2300000 | C14: 2300000 | D14: =C14-B14 -> 0
A15: EFOP Üzemeltetési anyagok beszerzése | B15: 421260 | C15: 421260 | D15: =C15-B15 -> 0
A16: Informatikai szolgáltatások igénybevétele | B16: 500000 | C16: 500000 | D16: =C16-B16 -> 0
A17: Egyéb kommunikációs szolgáltatások | B17: 400000 | C17: 400000 | D17: =C17-B17 -> 0
A18: Közüzemi díjak | B18: 2000000 | C18: 2000000 | D18: =C18-B18 -> 0
A19: Vásárolt élelmezés | B19: 0 | C19: 0 | D19: =C19-B19 -> 0
A20: Karbantartási, kisjavítási szolgáltatások | B20: 2000000 | C20: 2000000 | D20: =C20-B20 -> 0
A21: Szakmai tevékenységet segítő szolgáltatások 40/2019. (IV. 26.) | B21: 1500000 | C21: =1500000+118110 -> 1618110 | D21: =C21-B21 -> 118110
A22: Egyéb szolgáltatások | B22: 3000000 | C22: 3000000 | D22: =C22-B22 -> 0
A23: EFOP Egyéb szolgáltatások | B23: 5385827 | C23: 5385827 | D23: =C23-B23 -> 0
A24: Reklám és propaganda | B24: 100000 | C24: 100000 | D24: =C24-B24 -> 0
A25: Működési célú előzetesen felszámított áfa 40/2019. (IV: 26.) | B25: 2500000 | C25: =2500000+31890 -> 2531890 | D25: =C25-B25 -> 31890
A26: EFOP Működési célú előzetesen felszámított áfa | B26: 1567913 | C26: 1567913 | D26: =C26-B26 -> 0
A27: Fizetendő áfa | B27: 22283404 | C27: 22283404 | D27: =C27-B27 -> 0
A28: Egyéb dologi kiadások | B28: 700000 | C28: 700000 | D28: =C28-B28 -> 0
A29: 4. Ellátottak pénzbeli juttatásai | B29: =B30+B31+B32 -> 2234000 | C29: =C30+C31+C32 -> 2234000 | D29: =C29-B29 -> 0
A30: Önkormányzati támogatás, átmeneti segély | B30: 2234000 | C30: 2234000 | D30: =C30-B30 -> 0
A31: Születési segély | B31: 0 | C31: 0 | D31: 0
A32: Temetési segély | B32: 0 | C32: 0 | D32: 0
A33: 5. Egyéb működési célú kiadások | B33: =B34+B35+B36 -> 10175801 | C33: =C34+C35+C36 -> 10552226 | D33: =C33-B33 -> 376425
A34: 1. Egyéb működési célú támogatások áh-n belülre | B34: ='4.sz.tábla'!B4 -> 10075801 | C34: ='4.sz.tábla'!C4 -> 10452226 | D34: =C34-B34 -> 376425
A35: 2. Egyéb működési célú támogatások áh-n kívülre | B35: ='4.sz.tábla'!B9 -> 100000 | C35: ='4.sz.tábla'!C9 -> 100000 | D35: =C35-B35 -> 0
A36: 3. Állami támogatás visszafizetése elszámolás alapján | B36: 0 | C36: 0 | D36: 0
A37: Önkormányzati működési kiadások összesen: | B37: =B6+B9+B12+B29+B33 -> 71741284 | C37: =C6+C9+C12+C29+C33 -> 72494883 | D37: =C37-B37 -> 753599

Sheet 4.sz.tábla
A1: MŰKÖDÉSI KIADÁSOK 2019. ÉV
A3: MEGNEVEZÉS | B3: ='1.sz.tábla '!B4 -> 2019. évi eredeti előirányzat | C3: ='1.sz.tábla '!C4 -> I. Módosítás | D3: ='1.sz.tábla '!D4 -> Eltérés
A4: 1. Működési célú támogatások államháztartáson belülre | B4: =SUM(B5:B8) -> 10075801 | C4: =SUM(C5:C8) -> 10452226 | D4: =SUM(D5:D8) -> 0
A5: Közoktatási Intézményfenntartó Társulás Pécsely Óvoda fenntart támogatás | B5: 3442936 | C5: 3442936 | D5: =C5-B5 -> 0
A6: Balatonfüredi Közös Önkormányzati Hivatal | B6: 6182865 | C6: 6182865 | D6: =C6-B6 -> 0
A7: Bf. Többcélú Társulás | B7: 450000 | C7: 450000 | D7: =C7-B7 -> 0
A8: Előző évi közfoglalkoztatási támogatás visszafizetésik kötelezettség | B8: 0 | C8: 376425 | D8: 0
A9: 2. Működési célú támogatások államháztartáson kívülre | B9: 100000 | C9: 100000 | D9: =C9-B9 -> 0
A10: Tihany Iskola Alapítvány támogatása | B10: 0 | C10: 0 | D10: 0
A13: 3. Működési célú visszatérítendő támogatások, kölcsönök nyújtása, törlesztése | B13: 0 | C13: 0 | D13: 0
A15: Egyéb működési célú kiadások összesen:
A21: Összesen: | B21: =B9+B4 -> 10175801 | C21: =C9+C4 -> 10552226 | D21: =C21-B21 -> 376425

Sheet 5. sz. tábla
A1: FELHALMOZÁSI KIADÁSOK 2019. ÉV
A3: MEGNEVEZÉS | B3: ='1.sz.tábla '!B4 -> 2019. évi eredeti előirányzat | C3: ='1.sz.tábla '!C4 -> I. Módosítás | D3: ='1.sz.tábla '!D4 -> Eltérés
A4: I. Berházások | B4: =SUM(B6:B19) -> 8532598 | C4: =SUM(C6:C19) -> 16780611 | D4: =SUM(D6:D19) -> 8248013
A5: Immateriális javak beszerzése
A6: Rendezési terv felülvizsgálat | B6: 3302000 | C6: 3302000 | D6: =C6-B6 -> 0
A7: Ingatlanok beszerzése
A8: Új telkek áramellátása és közvilágítás kiépítése (András utca) | B8: 3000000 | C8: 3000000 | D8: =C8-B8 -> 0
A9: Vászoly 204/1-7 hrsz. telkek útburkolat kialakítása 34/2019. (III. 13.) | B9: 0 | C9: 4962906 | D9: =C9-B9 -> 4962906
A10: Zártkerti program pályázat - Vadkerítés építés | B10: 0 | C10: 2465705 | D10: =C10-B10 -> 2465705
A11: Ingatlan vásárlás - Vászoly, 020/6 hrsz. 36/2019. (III.13.) | B11: 0 | C11: 900000 | D11: =C11-B11 -> 900000
A12: Ingatlan vásárlás - Vászoly, 020/5 hrsz. 37/2019. (III.13.) | B12: 0 | C12: 900000 | D12: =C12-B12 -> 900000
A13: Egyéb tárgyi eszköz beszerzése
A14: Kisértékű eszközök beszerzése | B14: 100000 | C14: 100000 | D14: =C14-B14 -> 0
A15: Könyvbeszerzés könyvtárba | B15: 180000 | C15: 180000 | D15: =C15-B15 -> 0
A16: Eszközbeszerzés könyvtárba | B16: 270000 | C16: =100000+70000+100000 -> 270000 | D16: =C16-B16 -> 0
A17: EFOP Humán közszolgáltatások fejlesztése | B17: 500000 | C17: 500000 | D17: =C17-B17 -> 0
A18: Sátor beszerzés | B18: 200000 | C18: 200000 | D18: =C18-B18 -> 0
A19: Traktor beszerzés - Konzorciumi megállapodás alapján | B19: 980598 | C19: 0 | D19: =C19-B19 -> -980598
A20: II. Felújítások | B20: =SUM(B21:B26) -> 87960563 | C20: =SUM(C21:C26) -> 85644858 | D20: =SUM(D21:D26) -> -2315705
A21: Víziszínpad felújítása | B21: 500000 | C21: 500000 | D21: =C21-B21 -> 0
A22: Zártkerti program pályázat (Műszaki ellenőr - 27/2019. (III. 13.)) | B22: 10000000 | C22: =10000000-2465705+150000 -> 7684295 | D22: =C22-B22 -> -2315705
A23: Kultúrház felújítása | B23: 76356665 | C23: 76356665 | D23: =C23-B23 -> 0
A24: Szennyvízszivattyú felújítás | B24: 403744 | C24: 403744 | D24: =C24-B24 -> 0
A25: Kukolla felújítása - Humánszolgáltatások EFOP-1.5.2-16-2017-00016 | B25: 154 | C25: 154 | D25: =C25-B25 -> 0
A26: Kukolla közművesítés | B26: 700000 | C26: 700000 | D26: =C26-B26 -> 0
A27: III. Egyéb felhalmozási kiadások | B27: =SUM(B28:B28) -> 26790 | C27: =SUM(C28:C29) -> 1007388 | D27: =C27-B27 -> 980598
A28: Közoktatási Intézményfenntartó Társulás Pécsely Óvoda felhalmozási támogatás | B28: 26790 | C28: 26790 | D28: =C28-B28 -> 0
A29: Traktor beszerzés támogatás - Konzorciumi megállapodás alapján | B29: 0 | C29: 980598 | D29: =C29-B29 -> 980598
A30: IV. Finanszírozási kiadások | B30: =B31+B32+B33 -> 968079 | C30: =C31+C32+C33 -> 1403079 | D30: =C30-B30 -> 435000
A31: Hitel törlesztés | B31: 0 | C31: 0 | D31: 0
A32: Forgatási célú értékpapír vásárlás | B32: 0 | C32: 0 | D32: 0
A33: Állami támogatás megelőlegezés visszafizetés | B33: 968079 | C33: =968079+435000 -> 1403079 | D33: =C33-B33 -> 435000
A34: Felhalmozási kiadások összesen: | B34: =B4+B20+B27+B30 -> 97488030 | C34: =C4+C20+C27+C30 -> 104835936 | D34: =C34-B34 -> 7347906

Sheet 6. sz. tábla
A3: Az Önkormányzat működési bevételei és kiadásai 2019. év
A5: 1. Működési bevételek | B5: ='1.sz.tábla '!B4 -> 2019. évi eredeti előirányzat | C5: ='1.sz.tábla '!C4 -> I. Módosítás | D5: ='1.sz.tábla '!D4 -> Eltérés | E5: 2. Működési kiadások | F5: =B5 -> 2019. évi eredeti előirányzat | G5: =C5 -> I. Módosítás | H5: =D5 -> Eltérés
A6: 1. Működési célú támogatások államháztartáson belülről | B6: ='2.sz.tábla'!B5 -> 30598342 | C6: ='2.sz.tábla'!C5 -> 32920253 | D6: ='2.sz.tábla'!D5 -> 2321911 | E6: 1. Személyi juttatások | F6: ='3.sz.tábla '!B6 -> 11331764 | G6: ='3.sz.tábla '!C6 -> 12714792 | H6: ='3.sz.tábla '!D6 -> 1383028
A7: 2. Közhatalmi bevételek | B7: ='2.sz.tábla'!B27:D27 -> 10700000 | C7: ='2.sz.tábla'!C27:G27 -> 10700000 | D7: ='2.sz.tábla'!C27:F27 -> 0 | E7: 2. Munkaadót terhelő járulékok | F7: ='3.sz.tábla '!B9 -> 3271315 | G7: ='3.sz.tábla '!C9 -> 2115461 | H7: ='3.sz.tábla '!D9 -> -1155854
A8: 3. Működési bevételek | B8: ='2.sz.tábla'!B40 -> 1050000 | C8: ='2.sz.tábla'!C40 -> 1050000 | D8: ='2.sz.tábla'!D40 -> 0 | E8: 3. Dologi kiadások | F8: ='3.sz.tábla '!B12 -> 44728404 | G8: ='3.sz.tábla '!C12 -> 44878404 | H8: ='3.sz.tábla '!D12 -> 150000
A9: 4. Működési célú átvett pénzeszközök államháztartáson kivülről | E9: 4. Ellátottak pénzbeli juttatásai | F9: ='3.sz.tábla '!B30 -> 2234000 | G9: ='3.sz.tábla '!C30 -> 2234000 | H9: ='3.sz.tábla '!D30 -> 0
E10: 5. Egyéb működési célú kiadások | F10: =F12+F13+F14 -> 10175801 | G10: =G12+G13+G14 -> 10552226 | H10: =H12+H13+H14 -> 376425
E11: 5.1. Elvonások, befizetések | F11: ='3.sz.tábla '!B36 -> 0 | G11: ='3.sz.tábla '!C36 -> 0 | H11: ='3.sz.tábla '!D36 -> 0
E12: 5.2. Egyéb működési célú támogatások áh-n belülre | F12: ='3.sz.tábla '!B34 -> 10075801 | G12: ='3.sz.tábla '!C34 -> 10452226 | H12: ='3.sz.tábla '!D34 -> 376425
E13: 5.4. Egyéb működési célú támogatások áh-n kívülre | F13: ='3.sz.tábla '!B35 -> 100000 | G13: ='3.sz.tábla '!C35 -> 100000 | H13: ='3.sz.tábla '!D35 -> 0
E14: 5.5. Működési célú visszatérítendő támogatások, kölcsönök nyújtása áh-n kívülre
E15: 6. Pénzforgalom nélküli kiadások (tartalék) | F15: ='1.sz.tábla '!B25 -> 3238265 | G15: ='1.sz.tábla '!C25 -> 4031874 | H15: ='1.sz.tábla '!D25 -> 793609
A16: Összes költségvetési működési bevétel: | B16: =SUM(B6:B15) -> 42348342 | C16: =SUM(C6:C15) -> 44670253 | D16: =SUM(D6:D15) -> 2321911 | E16: Összes költségvetési működési kiadás: | F16: =F6+F7+F8+F9+F10+F15 -> 74979549 | G16: =G6+G7+G8+G9+G10+G15+G11 -> 76526757 | H16: =H6+H7+H8+H9+H10+H15+H11 -> 1547208
A17: Működési többlet: | E17: Működési hiány: | F17: =F16-B16 -> 32631207 | G17: =G16-C16 -> 31856504 | H17: =H16-D16 -> -774703
A18: Költségvetési hiány belső finanszírozása működési célú | B18: =SUM(B19) -> 126000000 | C18: =SUM(C19) -> 128550203 | D18: =SUM(D19) -> 2550203 | E18: Finanszírozási célú műveletek kiadásai működési célú | F18: =F19+F20+F21+F22 -> 968079 | G18: =G19+G20+G21+G22 -> 1403079 | H18: =H19+H20+H21+H22 -> 435000
A19: 5. Költségvetési Maradvány | B19: ='2.sz.tábla'!B66 -> 126000000 | C19: ='2.sz.tábla'!C66 -> 128550203 | D19: ='2.sz.tábla'!D66 -> 2550203 | E19: 7. Állami támogatás megelőlegezés visszafizetése | F19: ='5. sz. tábla'!B33 -> 968079 | G19: ='5. sz. tábla'!C33 -> 1403079 | H19: ='5. sz. tábla'!D33 -> 435000
A20: Költségvetési hiány külső finanszírozása működési célú | B20: =SUM(B21:B23) -> 119237 | C20: =SUM(C21:C23) -> 554237 | D20: =SUM(D21:D23) -> 435000 | E20: 8. Hitelek törlesztése | F20: 0 | G20: 0 | H20: 0
A21: 6. Értékpapír beváltása | B21: ='[2]2.sz.tábla'!B70 -> 0 | C21: 0 | D21: 0 | E21: 9. Betét vásárlás | F21: 0 | G21: 0 | H21: 0
A22: 7. Hitelfelvétel | B22: 0 | C22: 0 | D22: 0 | E22: 10. Forgatási célú értékpapír vás. | F22: ='[2]5. sz. tábla'!B27 -> 0 | G22: 0 | H22: 0
A23: 8. Állami támogatás megelőlegezés visszafizetése | B23: ='2.sz.tábla'!B71 -> 119237 | C23: ='2.sz.tábla'!C71 -> 554237 | D23: ='2.sz.tábla'!D71 -> 435000
A24: Összes működési bevétel: | B24: =B16+B18+B20 -> 168467579 | C24: =C16+C18+C20 -> 173774693 | D24: =D16+D18+D20 -> 5307114 | E24: Összes működési kiadás | F24: =F16+F18 -> 75947628 | G24: =G18+G16 -> 77929836 | H24: =H18+H16 -> 1982208
A26: Az Önkormányzat felhalmozási bevételei és kiadásai 2019. év
A28: 1. Felhalmozási bevételek | B28: =B5 -> 2019. évi eredeti előirányzat | C28: =C5 -> I. Módosítás | D28: =D5 -> Eltérés | E28: 2. Felhalmozási kiadások | F28: =B28 -> 2019. évi eredeti előirányzat | G28: =G5 -> I. Módosítás | H28: =D28 -> Eltérés
A29: 1. Felhalmozási célú támogatások államháztartáson belülről | B29: ='2.sz.tábla'!B20 -> 4000000 | C29: ='2.sz.tábla'!C20 -> 4000000 | D29: ='2.sz.tábla'!D20 -> 0 | E29: 1.1. Beruházások | F29: ='5. sz. tábla'!B4 -> 8532598 | G29: ='5. sz. tábla'!C4 -> 16780611 | H29: ='5. sz. tábla'!D4 -> 8248013
A30: 2. Felhalmozási bev. | B30: ='2.sz.tábla'!B52 -> 0 | C30: ='2.sz.tábla'!C52 -> 3588000 | D30: ='2.sz.tábla'!D52 -> 3588000 | E30: 1.2. Int.saját hatáskörű fejlesztések
A31: 3. Felhalmozási célú átvett pénzeszközök | B31: ='[2]1.sz.tábla '!B11 -> 0 | C31: 0 | D31: 0 | E31: 2. Felújítások | F31: ='5. sz. tábla'!B20 -> 87960563 | G31: ='5. sz. tábla'!C20 -> 85644858 | H31: ='5. sz. tábla'!D20 -> -2315705
E32: 3. Egyéb felhalmozási kiadások | F32: ='5. sz. tábla'!B28 -> 26790 | G32: ='5. sz. tábla'!C28 -> 26790 | H32: ='5. sz. tábla'!D28 -> 0
E33: 3.1. Egyéb felhalmozási célú támogatások áh-n kívülre | F33: 0 | G33: 0 | H33: 0
E34: 3.2. Egyéb felhalmozási célú támogatások áh-n belülre | F34: ='5. sz. tábla'!B29 -> 0 | G34: ='5. sz. tábla'!C29 -> 980598 | H34: ='5. sz. tábla'!D29 -> 980598
E35: 3.3. Felhalmozási célú visszatérítendő támogatások, kölcsönök nyújtása áh-n belülre
E36: 3.3. Felhalmozási célú visszatérítendő támogatások, kölcsönök nyújtása áh-n kívülre
A37: Összes költségvetési felhalmozási bevétel: | B37: =SUM(B29:B35) -> 4000000 | C37: =SUM(C29:C35) -> 7588000 | D37: =SUM(D29:D35) -> 3588000 | E37: Összes költségvetési felhalmozási kiadás: | F37: =SUM(F29:F32) -> 96519951 | G37: =SUM(G29:G34) -> 103432857 | H37: =SUM(H29:H34) -> 6912906
A38: Felhalmozási többlet: | E38: Felhalmozási hiány: | F38: =F37-B37 -> 92519951 | G38: =G37-C37 -> 95844857 | H38: =H37-D37 -> 3324906
A39: Költségvetési hiány belső finanszírozása felhalmozási célú | B39: =SUM(B40) -> 126000000 | C39: =SUM(C40) -> 128550203 | D39: =SUM(D40) -> 2550203 | E39: Finanszírozási célú műveletek kiadásai felhalmozási célú | F39: =SUM(F40:F42) -> 0 | G39: 0 | H39: 0
A40: 4.Költségvetési maradvány | B40: ='1.sz.tábla '!B13 -> 126000000 | C40: ='1.sz.tábla '!C13 -> 128550203 | D40: ='1.sz.tábla '!D13 -> 2550203 | E40: 4. Értékpapírok visszavásárlása
A41: Költségvetési hiány külső finanszírozása felhalmozási célú | B41: =SUM(B42:B43) -> 0 | C41: =SUM(C42:C43) -> 0 | D41: =SUM(D42:D43) -> 0 | E41: 5. Hitelek törlesztése
A42: 5. Értékpapír kibocsátás, értékesítés | E42: 6. Állami támogatás megelőlegezés visszafizetése
A43: 6. Hitelfelvétel
A44: Összes felhalmozási bevétel: | B44: =B37+B39+B41 -> 130000000 | C44: =C37+C39+C41 -> 136138203 | D44: =D37+D39+D41 -> 6138203 | E44: Összes felhalmozási kiadás | F44: =F37+F39 -> 96519951 | G44: =G37+G39 -> 103432857 | H44: =H37+H39 -> 6912906
A47: Bevétele és kiadások mérlege 2019. év
A49: BEVÉTELEK | B49: =B5 -> 2019. évi eredeti előirányzat | C49: =C5 -> I. Módosítás | D49: =D5 -> Eltérés | E49: KIADÁSOK | F49: =B49 -> 2019. évi eredeti előirányzat | G49: =G5 -> I. Módosítás | H49: =D49 -> Eltérés
A50: Költségvetési működési bevételek | B50: =B16 -> 42348342 | C50: =C16 -> 44670253 | D50: =D16 -> 2321911 | E50: Költségvetési működési kiadások | F50: =F16 -> 74979549 | G50: =G16 -> 76526757 | H50: =H16 -> 1547208
A51: Költségvetési felhalmozási bevételek | B51: =B37 -> 4000000 | C51: =C37 -> 7588000 | D51: =D37 -> 3588000 | E51: Költségvetési felhalmozási kiadások | F51: =F37 -> 96519951 | G51: =G37 -> 103432857 | H51: =H37 -> 6912906
A52: Költségvetési bevételek összesen: | B52: =SUM(B50:B51) -> 46348342 | C52: =SUM(C50:C51) -> 52258253 | D52: =SUM(D50:D51) -> 5909911 | E52: Költségvetési kiadások összesen: | F52: =SUM(F50:F51) -> 171499500 | G52: =SUM(G50:G51) -> 179959614 | H52: =SUM(H50:H51) -> 8460114
A53: Költségvetési többlet: | E53: Költségvetési hiány: | F53: =F52-B52 -> 125151158 | G53: =G52-C52 -> 127701361 | H53: =H52-D52 -> 2550203
A54: Költségvetési hiány belső finanszírozása: | B54: =SUM(B55:B56) -> 126000000 | C54: =SUM(C55:C56) -> 128550203 | D54: =SUM(D55:D56) -> 2550203 | E54: Finanszírozási célú műveletek kiadásai összesen: | F54: =SUM(F55:F56) -> 968079 | G54: =SUM(G55:G56) -> 1403079 | H54: =SUM(H55:H56) -> 435000
A55: Költségvetési hiány belső finanszírozása működési célú | B55: ='2.sz.tábla'!B67 -> 52480871 | C55: ='2.sz.tábla'!C67 -> 55031074 | D55: ='2.sz.tábla'!D67 -> 2550203 | E55: Finanszírozási célú műveletek működési kiadásai | F55: =F18 -> 968079 | G55: =G18 -> 1403079 | H55: =H18 -> 435000
A56: Költségvetési hiány belső finanszírozása felhalmozási célú | B56: ='2.sz.tábla'!B68 -> 73519129 | C56: ='2.sz.tábla'!C68 -> 73519129 | D56: ='2.sz.tábla'!D68 -> 0 | E56: Finanszírozási célú műveletek felhalmozási kiadásai | F56: =F39 -> 0 | G56: =G39 -> 0 | H56: =H39 -> 0
A57: Költségvetési hiány külső finanszírozása: | B57: =SUM(B58:B59) -> 119237 | C57: =SUM(C58:C59) -> 554237 | D57: =SUM(D58:D59) -> 435000
A58: Költségvetési hiány külső finanszírozása működési célú | B58: =B20 -> 119237 | C58: =C20 -> 554237 | D58: =D20 -> 435000
A59: Költségvetési hiány külső finanszírozása felhalmozási célú | B59: =B41 -> 0 | C59: =C41 -> 0 | D59: =D41 -> 0
A60: Összes bevétel: | B60: =B52+B54+B57 -> 172467579 | C60: =C52+C54+C57 -> 181362693 | D60: =D52+D54+D57 -> 8895114 | E60: Összes kiadás: | F60: =F52+F54 -> 172467579 | G60: =G52+G54 -> 181362693 | H60: =H52+H54 -> 8895114
A61: TÖBBLET | F61: =B60-F60 -> 0 | G61: =C60-G60 -> 0 | H61: =D60-H60 -> 0

Sheet 7. sz. tábla
A3: Az Önkormányzat kötelező feladatok bevételei és kiadásai 2019. év
A5: 1. Működési bevételek | B5: ='1.sz.tábla '!B4 -> 2019. évi eredeti előirányzat | C5: ='1.sz.tábla '!C4 -> I. Módosítás | D5: ='1.sz.tábla '!D4 -> Eltérés | E5: 2. Működési kiadások | F5: =B5 -> 2019. évi eredeti előirányzat | G5: =C5 -> I. Módosítás | H5: =D5 -> Eltérés
A6: Működési bevételek | E6: Működési kiadások
A7: 1. Működési támogatások államháztartáson belülről | B7: ='6. sz. tábla'!B6 -> 30598342 | C7: ='6. sz. tábla'!C6 -> 32920253 | D7: ='6. sz. tábla'!D6 -> 2321911 | E7: 1. Személyi juttatások | F7: ='6. sz. tábla'!F6 -> 11331764 | G7: ='6. sz. tábla'!G6 -> 12714792 | H7: ='6. sz. tábla'!H6 -> 1383028
A8: 2. Közhatalmi bevételek | B8: ='6. sz. tábla'!B7 -> 10700000 | C8: ='6. sz. tábla'!C7 -> 10700000 | D8: ='6. sz. tábla'!D7 -> 0 | E8: 2. Munkaadót terhelő járulékok | F8: ='6. sz. tábla'!F7 -> 3271315 | G8: ='6. sz. tábla'!G7 -> 2115461 | H8: ='6. sz. tábla'!H7 -> -1155854
A9: 3. Működési bevételek | B9: ='6. sz. tábla'!B8-600000 -> 450000 | C9: ='6. sz. tábla'!C8-600000 -> 450000 | D9: ='6. sz. tábla'!D8 -> 0 | E9: 3. Dologi kiadások | F9: ='6. sz. tábla'!F8 -> 44728404 | G9: ='6. sz. tábla'!G8 -> 44878404 | H9: ='6. sz. tábla'!H8 -> 150000
A10: 4. Működési célú átvett pénzeszközök államháztartáson kivülről | B10: ='[2]6. sz. tábla '!B9 -> 0 | C10: 0 | D10: 0 | E10: 4. Ellátottak pénzbeli juttatásai | F10: ='6. sz. tábla'!F9 -> 2234000 | G10: ='6. sz. tábla'!G9 -> 2234000 | H10: ='6. sz. tábla'!H9 -> 0
E11: 5. Egyéb működési célú kiadások | F11: ='6. sz. tábla'!F10 -> 10175801 | G11: ='6. sz. tábla'!G10+G12 -> 10552226 | H11: ='6. sz. tábla'!H10 -> 376425
E12: 5.1. Elvonások, befizetések | F12: ='6. sz. tábla'!F11 -> 0 | G12: ='6. sz. tábla'!G11 -> 0 | H12: ='6. sz. tábla'!H11 -> 0
E13: 5.2. Egyéb működési célú támogatások áh-n belülre | F13: ='6. sz. tábla'!F12 -> 10075801 | G13: ='6. sz. tábla'!G12 -> 10452226 | H13: ='6. sz. tábla'!H12 -> 376425
E14: 5.4. Egyéb működési célú támogatások áh-n kívülre | F14: ='6. sz. tábla'!F13 -> 100000 | G14: ='6. sz. tábla'!G13 -> 100000 | H14: ='6. sz. tábla'!H13 -> 0
E15: 5.5. Működési célú visszatérítendő támogatások, kölcsönök nyújtása áh-n kívülre | F15: ='6. sz. tábla'!F14 -> 0 | G15: ='6. sz. tábla'!G14 -> 0 | H15: ='6. sz. tábla'!H14 -> 0
E16: 6. Pénzforgalom nélküli kiadások (tartalék) | F16: ='6. sz. tábla'!F15 -> 3238265 | G16: ='6. sz. tábla'!G15 -> 4031874 | H16: ='6. sz. tábla'!H15 -> 793609
A17: Költségvetési működési bevételek kötelező feladatok szerinti bontásban | B17: =SUM(B7:B16) -> 41748342 | C17: =SUM(C7:C16) -> 44070253 | D17: =SUM(D7:D16) -> 2321911 | E17: Költségvetési felhalmozási kiadások kötelező feladatok szerinti bontásban | F17: =F7+F8+F9+F10+F11+F16 -> 74979549 | G17: =G7+G8+G9+G10+G11+G16 -> 76526757 | H17: =H7+H8+H9+H10+H11+H12+H16 -> 1547208
A18: Finanszírozási bevételek | B18: ='6. sz. tábla'!B19 -> 126000000 | C18: ='6. sz. tábla'!C19 -> 128550203 | D18: ='6. sz. tábla'!D19 -> 2550203 | E18: Finanszírozási kiadások | F18: ='5. sz. tábla'!B33 -> 968079 | G18: ='5. sz. tábla'!C33 -> 1403079 | H18: ='5. sz. tábla'!D33 -> 435000
A19: Működési bevételek kiemelt előirányzatonként kötelező feladatok szerinti bontásban | B19: =B17+B18 -> 167748342 | C19: =C17+C18 -> 172620456 | D19: =D17+D18 -> 4872114 | E19: Működési kiadások kiemelt előirányzatonként kötelező feladatok szerinti bontásban | F19: =F17+F18 -> 75947628 | G19: =G17+G18 -> 77929836 | H19: =H17+H18 -> 1982208
A20: Felhalmozási bevételek | E20: Felhalmozási kiadások
A21: 1. Felhalmozási célú támogatások államháztartáson belülről | B21: ='6. sz. tábla'!B29 -> 4000000 | C21: ='6. sz. tábla'!C29 -> 4000000 | D21: ='6. sz. tábla'!D29 -> 0 | E21: 1.1. Beruházások | F21: ='6. sz. tábla'!F29 -> 8532598 | G21: ='6. sz. tábla'!G29 -> 16780611 | H21: ='6. sz. tábla'!H29 -> 8248013
A22: 2. Felhalmozási bevételek | B22: ='6. sz. tábla'!B30 -> 0 | C22: ='6. sz. tábla'!C30 -> 3588000 | D22: ='6. sz. tábla'!D30 -> 3588000 | E22: 1.2. Int.saját hatáskörű fejlesztések
A23: 3. Felhalmozási célú átvett pénzeszközök áh-n kívülről | B23: ='6. sz. tábla'!B31 -> 0 | C23: ='6. sz. tábla'!C31 -> 0 | D23: ='6. sz. tábla'!D31 -> 0 | E23: 2. Felújítások | F23: ='6. sz. tábla'!F31 -> 87960563 | G23: ='6. sz. tábla'!G31 -> 85644858 | H23: ='6. sz. tábla'!H31 -> -2315705
E24: 3. Egyéb felhalmozási célú kiadások
E25: 3.1. Egyéb felhalmozási célú pénzeszköz átadás áh-n kívülre
E26: 3.2. Egyéb felhalmozási célú pénzeszköz átadás áh-n belülre
E27: 3.4. Felhalmozási célú visszatérítendő támogatások, kölcsönök nyújtása áh-n kívülre
A28: Költségvetési felhalmozási bevételek kötelező feladatok szerinti bontásban | B28: =SUM(B21:B27) -> 4000000 | C28: =SUM(C21:C27) -> 7588000 | D28: =SUM(D21:D27) -> 3588000 | E28: Költségvetési felhalmozási kiadások kötelező feladatok szerinti bontásban | F28: =SUM(F21:F27) -> 96493161 | G28: =SUM(G21:G27) -> 102425469 | H28: =SUM(H21:H27) -> 5932308
A29: Finanszírozási bevételek | B29: ='2.sz.tábla'!B69 -> 119237 | C29: ='2.sz.tábla'!C69 -> 554237 | D29: ='2.sz.tábla'!D69 -> 435000 | E29: Finanszírozási kiadások
A30: Felhalmozási bevételek kiemelt előirányzatonként kötelező feladatok szerinti bontásban | B30: =B28+B29 -> 4119237 | C30: =C28+C29 -> 8142237 | D30: =D28+D29 -> 4023000 | E30: Felhalmozási kiadások kiemelt előirányzatonként kötelező feladatok szerinti bontásban | F30: =F28+F29 -> 96493161 | G30: =G28+G29 -> 102425469 | H30: =H28+H29 -> 5932308
B31: =B30+B19 -> 171867579 | C31: =C30+C19 -> 180762693 | D31: =D30+D19 -> 8895114 | F31: =F30+F19 -> 172440789 | G31: =G30+G19 -> 180355305 | H31: =H30+H19 -> 7914516
A32: Az Önkormányzat önként vállalt feladatok bevételei és kiadásai 2019. év
A34: 1. Működési bevételek | B34: =B5 -> 2019. évi eredeti előirányzat | C34: =C5 -> I. Módosítás | D34: =D5 -> Eltérés | E34: 2. Működési kiadások | F34: =B34 -> 2019. évi eredeti előirányzat | G34: =C34 -> I. Módosítás | H34: =D34 -> Eltérés
A35: Működési bevételek | E35: Működési kiadások
A36: 1. Működési támogatások államháztartáson belülről | E36: 1. Személyi juttatások
A37: 2. Közhatalmi bevételek | E37: 2. Munkaadót terhelő járulékok
A38: 3. Működési bevételek | B38: ='2.sz.tábla'!B42 -> 600000 | C38: ='2.sz.tábla'!C42 -> 600000 | D38: ='2.sz.tábla'!D42 -> 0 | E38: 3. Dologi kiadások
A39: 4. Működési célú átvett pénzeszközök államháztartáson kivülről | E39: 4. Ellátottak pénzbeli juttatásai
E40: 5. Egyéb működési célú kiadások
E41: 5.1. Elvonások, befizetések
E42: 5.2. Egyéb működési célú támogatások áh-n belülre
E43: 5.4. Egyéb működési célú támogatások áh-n kívülre
E44: 5.5. Működési célú visszatérítendő támogatások, kölcsönök nyújtása áh-n kívülre
E45: 6. Pénzforgalom nélküli kiadások (tartalék)
A46: Költségvetési működési bevételek önként vállalt feladatok szerinti bontásban | E46: Költségvetési működési kiadások önként vállalt feladatok szerinti bontásban | F46: =SUM(F36:F45) -> 0 | G46: =SUM(G36:G45) -> 0 | H46: =SUM(H36:H45) -> 0
A47: Finanszírozási bevételek | E47: Finanszírozási kiadások
A48: Működési bevételek kiemelt előirányzatonként önként vállalt feladatok szerinti bontásban | B48: =B38 -> 600000 | C48: =C38 -> 600000 | D48: =D38 -> 0 | E48: Működési kiadások kiemelt előirányzatonként önként vállalt feladatok szerinti bontásban | F48: =F46+F47 -> 0 | G48: =G46+G47 -> 0 | H48: =H46+H47 -> 0
A49: Felhalmozási bevételek | E49: Felhalmozási kiadások
A50: 1. Felhalmozási célú támogatások államháztartáson belülről | D50: 0 | E50: 1.1. Beruházások
A51: 2. Felhalmozási bevételek | B51: =B22 -> 0 | C51: 0 | D51: 0 | E51: 1.2. Int.saját hatáskörű fejlesztések
A52: 3. Felhalmozási célú átvett pénzeszközök áh-n kívülről | B52: =B23 -> 0 | C52: =C23 -> 0 | D52: =D23 -> 0 | E52: 2. Felújítások
E53: 3. Egyéb felhalmozási célú kiadások
E54: 3.1. Egyéb felhalmozási célú pénzeszköz átadás áh-n kívülre | F54: ='5. sz. tábla'!B28 -> 26790 | G54: ='5. sz. tábla'!C28 -> 26790 | H54: ='5. sz. tábla'!D28 -> 0
E55: 3.2. Egyéb felhalmozási célú pénzeszköz átadás áh-n belülre | F55: ='5. sz. tábla'!B29 -> 0 | G55: ='5. sz. tábla'!C29 -> 980598 | H55: ='5. sz. tábla'!D29 -> 980598
E56: 3.3. Felhalmozási célú visszatérítendő támogatások, kölcsönök nyújtása áh-n belülre
E57: 3.4. Felhalmozási célú visszatérítendő támogatások, kölcsönök nyújtása áh-n kívülre
A58: Költségvetési felhalmozási bevételek önként vállalt feladatok szerinti bontásban | B58: =SUM(B50:B56) -> 0 | C58: =SUM(C50:C56) -> 0 | D58: =SUM(D50:D56) -> 0 | E58: Költségvetési felhalmozási kiadások önként vállalt feladatok szerinti bontásban | F58: =SUM(F50:F56) -> 26790 | G58: =SUM(G50:G56) -> 1007388 | H58: =SUM(H50:H56) -> 980598
A59: Finanszírozási bevételek | B59: ='[2]2.sz.tábla'!B70 -> 0 | C59: 0 | D59: 0 | E59: Finanszírozási kiadások | F59: ='[2]5. sz. tábla'!B27 -> 0 | G59: 0 | H59: 0
A61: Felhalmozási bevételek kiemelt előirányzatonként önként vállalt feladatok szerinti bontásban | B61: =B58+B59 -> 0 | C61: =C58+C59 -> 0 | D61: =D58+D59 -> 0 | E61: Felhalmozási kiadások kiemelt előirányzatonként önként vállalt feladatok szerinti bontásban | F61: =F58+F59 -> 26790 | G61: =G58+G59 -> 1007388 | H61: =H58+H59 -> 980598
A62: Az Önkormányzat állami (államigazgatási) feladatok bevételei és kiadásai 2019. év
A64: 1. Működési bevételek | B64: =B5 -> 2019. évi eredeti előirányzat | C64: =C5 -> I. Módosítás | D64: =D5 -> Eltérés | E64: 2. Működési kiadások | F64: =B64 -> 2019. évi eredeti előirányzat | G64: =C64 -> I. Módosítás | H64: =D64 -> Eltérés
A65: Működési bevételek | E65: Működési kiadások
A66: 1. Működési támogatások államháztartáson belülről | B66: 0 | C66: 0 | D66: 0 | E66: 1. Személyi juttatások | F66: 0 | G66: 0 | H66: 0
A67: 2. Közhatalmi bevételek | B67: 0 | C67: 0 | D67: =D8 -> 0 | E67: 2. Munkaadót terhelő járulékok | F67: 0 | G67: 0 | H67: 0
A68: 3. Működési bevételek | B68: 0 | C68: 0 | D68: =D9+D38 -> 0 | E68: 3. Dologi kiadások | F68: 0 | G68: 0 | H68: 0
A69: 4. Működési célú átvett pénzeszközök államháztartáson kivülről | B69: =B10 -> 0 | C69: =C10 -> 0 | D69: =D10 -> 0 | E69: 4. Ellátottak pénzbeli juttatásai | F69: 0 | G69: 0 | H69: =H10 -> 0
E70: 5. Egyéb működési célú kiadások | F70: 0 | G70: 0 | H70: 0
E71: 5.1. Elvonások, befizetések | F71: =F12 -> 0 | G71: =G12 -> 0 | H71: =H12 -> 0
E72: 5.2. Egyéb működési célú támogatások áh-n belülre
E73: 5.4. Egyéb működési célú támogatások áh-n kívülre
E74: 5.5. Működési célú visszatérítendő támogatások, kölcsönök nyújtása áh-n kívülre
E75: 6. Pénzforgalom nélküli kiadások (tartalék) | F75: 0 | G75: 0 | H75: 0
A76: Költségvetési működési bevételek állami (államigazgatási) feladatok szerinti bontásban | B76: =SUM(B66:B75) -> 0 | C76: =SUM(C66:C75) -> 0 | D76: =SUM(D66:D75) -> 0 | E76: Költségvetési működési kiadások állami (államigazgatási) feladatok szerinti bontásban | F76: =SUM(F66:F75) -> 0 | G76: =SUM(G66:G75) -> 0 | H76: =SUM(H66:H75) -> 0
A77: Finanszírozási bevételek | B77: 0 | C77: 0 | D77: 0 | E77: Finanszírozási kiadások | F77: 0 | G77: 0 | H77: 0
A78: Működési bevételek kiemelt előirányzatonként állami (államigazgatási) feladatok szerinti bontásban | B78: =B76+B77 -> 0 | C78: =C76+C77 -> 0 | D78: =D76+D77 -> 0 | E78: Működési kiadások kiemelt előirányzatonként állami (államigazgatási) feladatok szerinti bontásban | F78: =F76+F77 -> 0 | G78: =G76+G77 -> 0 | H78: =H76+H77 -> 0
A79: Felhalmozási bevételek | E79: Felhalmozási kiadások
A80: 1. Felhalmozási célú támogatások államháztartáson belülről | B80: 0 | C80: 0 | D80: =D21 -> 0 | E80: 1.1. Beruházások | F80: 0 | G80: 0 | H80: 0
A81: 2. Felhalmozási bevételek | B81: =B22 -> 0 | C81: 0 | D81: 0 | E81: 1.2. Int.saját hatáskörű fejlesztések
A82: 3. Felhalmozási célú átvett pénzeszközök áh-n kívülről | B82: =B23 -> 0 | C82: =C23 -> 0 | D82: =D23 -> 0 | E82: 2. Felújítások | F82: 0 | G82: 0 | H82: 0
E83: 3. Egyéb felhalmozási célú kiadások | F83: 0 | G83: 0 | H83: =H54 -> 0
A84: Költségvetési felhalmozási bevételek önként vállalt feladatok szerinti bontásban | B84: =SUM(B80:B82) -> 0 | C84: =SUM(C80:C82) -> 0 | D84: =SUM(D80:D82) -> 0 | E84: 3.1. Egyéb felhalmozási célú pénzeszköz átadás áh-n kívülre
A85: Finanszírozási bevételek | B85: 0 | C85: 0 | D85: 0 | E85: 3.2. Egyéb felhalmozási célú pénzeszköz átadás áh-n belülre
E86: 3.3. Felhalmozási célú visszatérítendő támogatások, kölcsönök nyújtása áh-n kívülre
A87: Felhalmozási bevételek kiemelt előirányzatonként állami (államigazgatási) feladatok szerinti bontásban | B87: =SUM(B80:B86) -> 0 | C87: =C80+C85 -> 0 | D87: =D80+D85 -> 0 | E87: Felhalmozási kiadások kiemelt előirányzatonként állami (államigazgatási) feladatok szerinti bontásban | F87: =SUM(F80:F86) -> 0 | G87: =SUM(G80:G86) -> 0 | H87: =SUM(H80:H86) -> 0
B88: =B31+B48 -> 172467579 | C88: =C31+C48 -> 181362693 | D88: =D31+D48 -> 8895114 | F88: =F31+F61 -> 172467579 | G88: =G31+G61 -> 181362693 | H88: =H31+H61 -> 8895114
A89: Önkormányzati támogatás

Sheet 8. sz. tábla
A3: BEVÉTELEK ÉS KIADÁSOK ELŐIRÁNYZATÁNAK HAVI ÜTEMEZÉSE 2019.
A5: Megnevezés | B5: Január | C5: Február | D5: Március | E5: Április | F5: Május | G5: Június | H5: Július | I5: Augusztus | J5: Szeptem-ber | K5: Október | L5: November | M5: December | N5: Összesen
A6: Nyitó pénzkészlet | B6: 130217497 | C6: =B36 -> 123187961 | D6: =C36 -> 127641039 | E6: =D36 -> 131337659 | F6: =E36 -> 132399091 | G6: =F36 -> 82223324 | H6: =G36 -> 54540481 | I6: =H36 -> 56437057 | J6: =I36 -> 29593275 | ... M6: =L36 -> 22549542 | N6: 130217497
A7: Működési célú támogatások államháztartáson belülről | B7: 2794896 | C7: 2135330 | D7: 1884410 | E7: 1835727 | F7: 1806936 | G7: 1840072 | H7: =8430000+1150000+1313638 -> 10893638 | I7: =1840072+528886 -> 2368958 | J7: 1840072 | K7: 1840072 | L7: 1840072 | M7: 1840070 | N7: =SUM(B7:M7) -> 32920253 | O7: ='1.sz.tábla '!C5 -> 32920253
A8: Működési bevételek | B8: 57091 | C8: 50002 | D8: 464033 | E8: 51821 | F8: 357677 | G8: 10000 | H8: 10000 | I8: 10000 | J8: =20000-624 -> 19376 | K8: 20000 | L8: 0 | M8: 0 | N8: =SUM(B8:M8) -> 1050000 | O8: ='1.sz.tábla '!C8 -> 1050000
A9: Közhatalmi bevételek | B9: 55403 | C9: 37126 | D9: 5221481 | E9: 1025997 | F9: 528869 | G9: 50000 | H9: 55000 | I9: 300000 | J9: 2000000 | K9: 500000 | L9: 500000 | M9: 426124 | N9: =SUM(B9:M9) -> 10700000 | O9: ='1.sz.tábla '!C7 -> 10700000
A10: Működési célú átvett pénzeszk. Áh-n kívülről | B10: 0 | N10: =SUM(B10:M10) -> 0
A11: Működési bevételek összesen: | B11: =SUM(B7:B10) -> 2907390 | C11: =SUM(C7:C10) -> 2222458 | D11: =SUM(D7:D10) -> 7569924 | E11: =SUM(E7:E10) -> 2913545 | F11: =SUM(F7:F10) -> 2693482 | G11: =SUM(G7:G10) -> 1900072 | H11: =SUM(H7:H10) -> 10958638 | I11: =SUM(I7:I10) -> 2678958 | ... M11: =SUM(M7:M10) -> 2266194 | N11: =SUM(B11:M11) -> 44670253 | O11: =SUM(O7:O10) -> 44670253
A12: Felhalmozási célú támogatások államháztartáson belülről | J12: 4000000 | N12: =SUM(B12:M12) -> 4000000 | O12: ='1.sz.tábla '!C6 -> 4000000
A13: Felhalmozási bevételek | B13: 0 | C13: 3588000 | N13: =SUM(B13:M13) -> 3588000 | O13: ='1.sz.tábla '!C9 -> 3588000
A14: Felhalm. célú átvett pénzeszk. Áh-n kívülről | B14: 0 | N14: =SUM(B14:M14) -> 0 | O14: ='[2]1.sz.tábla '!C11 -> 0
A15: Felhalmozási bevételek összesen | B15: =SUM(B12:B14) -> 0 | C15: =SUM(C12:C14) -> 3588000 | D15: =SUM(D12:D14) -> 0 | E15: =SUM(E12:E14) -> 0 | F15: =SUM(F12:F14) -> 0 | G15: =SUM(G12:G14) -> 0 | H15: =SUM(H12:H14) -> 0 | I15: =SUM(I12:I14) -> 0 | ... M15: =SUM(M12:M14) -> 0 | N15: =SUM(B15:M15) -> 7588000 | O15: =O12 -> 4000000
A16: Költségvetési bevételek összesen: | B16: =SUM(B11,B15) -> 2907390 | C16: =SUM(C11,C15) -> 5810458 | D16: =SUM(D11,D15) -> 7569924 | E16: =SUM(E11,E15) -> 2913545 | F16: =SUM(F11,F15) -> 2693482 | G16: =SUM(G11,G15) -> 1900072 | H16: =SUM(H11,H15) -> 10958638 | I16: =SUM(I11,I15) -> 2678958 | ... M16: =SUM(M11,M15) -> 2266194 | N16: =SUM(B16:M16) -> 52258253 | O16: =O11+O15 -> 48670253
A17: Finanszírozási bevételek (hitel, kötvény, értékpapír, állami tám.megelőlegezés) | B17: 23237 | C17: 12788 | D17: 11987 | E17: 43890 | F17: 9263 | G17: 16000 | H17: 2072 | I17: 87000 | J17: 87000 | K17: 87000 | L17: 87000 | M17: 87000 | N17: =SUM(B17:M17) -> 554237 | O17: ='1.sz.tábla '!C14 -> 554237
A18: Költségvetési maradvány igénybevétele | B18: 126000000 | D18: 2550203 | N18: =SUM(B18:M18) -> 128550203
A19: Bevételek összesen: | B19: =SUM(B16:B18) -> 128930627 | C19: =SUM(C16:C18) -> 5823246 | D19: =SUM(D16:D18) -> 10132114 | E19: =SUM(E16:E18) -> 2957435 | F19: =SUM(F16:F18) -> 2702745 | G19: =SUM(G16:G18) -> 1916072 | H19: =SUM(H16:H18) -> 10960710 | I19: =SUM(I16:I18) -> 2765958 | ... N19: =SUM(N16:N18) -> 181362693 | O19: =O16+O17+O18 -> 49224490
A20: Személyi juttatások | B20: 586784 | C20: 608545 | D20: 754694 | E20: 811219 | F20: 510690 | G20: =629095+200000 -> 829095 | H20: 1407229 | I20: 1407229 | J20: 1407229 | K20: 1407229 | L20: 1407229 | M20: 1577620 | N20: =SUM(B20:M20) -> 12714792 | O20: ='3.sz.tábla '!C6 -> 12714792
A21: Munkaadót terhelő járulékok és szoc. hj. adó | B21: 97223 | C21: 113971 | D21: 76210 | E21: 113269 | F21: 132170 | G21: 204660 | H21: 204660 | I21: 204660 | J21: 204660 | K21: 204660 | L21: 204660 | M21: =204660+149998 -> 354658 | N21: =SUM(B21:M21) -> 2115461 | O21: ='3.sz.tábla '!C9 -> 2115461
A22: Dologi kiadások | B22: 5189049 | C22: 465673 | D22: 1004929 | E22: 879613 | F22: 6274783 | G22: 5000000 | H22: 5000000 | I22: 5000000 | J22: 600000 | K22: 5000000 | L22: 5464357 | M22: 5000000 | N22: =SUM(B22:M22) -> 44878404 | O22: ='3.sz.tábla '!C12 -> 44878404
A23: Ellátottak pénzbeli juttatásai | B23: 0 | C23: 140000 | D23: 100000 | E23: 0 | F23: 50000 | G23: 70000 | H23: 50000 | I23: 50000 | J23: 50000 | K23: 60000 | L23: 100000 | M23: 1564000 | N23: =SUM(B23:M23) -> 2234000 | O23: ='3.sz.tábla '!C29 -> 2234000
A24: Egyéb működési célú támogatások áh-n kívülre | J24: 50000 | K24: 50000 | N24: =SUM(B24:M24) -> 100000 | O24: ='3.sz.tábla '!C35 -> 100000
A25: Egyéb működési célú támogatások áh-n belülre | B25: 0 | C25: 0 | D25: 1922139 | E25: 0 | F25: 1949794 | G25: 802150 | H25: =802150+376425 -> 1178575 | I25: =802150+450000+138818 -> 1390968 | J25: 802150 | K25: 802150 | L25: 802150 | M25: 802150 | N25: =SUM(B25:M25) -> 10452226 | O25: ='4.sz.tábla'!C4 -> 10452226
A26: Tartalékok | B26: 3238265 | D26: -376425 | E26: -1800000 | G26: 2970034 | N26: =SUM(B26:M26) -> 4031874 | O26: ='[2]1.sz.tábla '!C26 -> 3097542
A27: Működési kiadások összesen: | B27: =SUM(B20:B26) -> 9111321 | C27: =SUM(C20:C26) -> 1328189 | D27: =SUM(D20:D26) -> 3481547 | E27: =SUM(E20:E26) -> 4101 | F27: =SUM(F20:F26) -> 8917437 | G27: =SUM(G20:G26) -> 9875939 | H27: =SUM(H20:H26) -> 7840464 | I27: =SUM(I20:I26) -> 8052857 | ... M27: =SUM(M20:M26) -> 9298428 | N27: =SUM(B27:M27) -> 76526757 | O27: =SUM(O20:O26) -> 75592425
A28: Beruházások | B28: 0 | C28: 41979 | D28: 0 | E28: 1800000 | F28: 2474360 | G28: 3200000 | H28: 719366 | I28: 4962906 | K28: 110000 | L28: 170000 | M28: 3302000 | N28: =SUM(B28:M28) -> 16780611 | O28: ='5. sz. tábla'!C4 -> 16780611
A29: Felújítások | B29: 0 | C29: 0 | D29: 403744 | E29: 0 | F29: 40485691 | G29: 16504744 | H29: 500000 | I29: 16504744 | J29: 0 | K29: 700154 | L29: 0 | M29: 10545781 | N29: =SUM(B29:M29) -> 85644858 | O29: ='5. sz. tábla'!C20 -> 85644858
A30: Egyéb felhalmozási kiadások | B30: 0 | C30: 0 | D30: 0 | E30: 0 | F30: =991761 -> 991761 | G30: 2232 | H30: 2232 | I30: 2233 | J30: 2232 | K30: 2233 | L30: 2232 | M30: 2233 | N30: =SUM(B30:M30) -> 1007388 | O30: ='1.sz.tábla '!C23 -> 1007388
A31: Felhalmozási célú kiadások összesen | B31: =B28+B29+B30 -> 0 | C31: =SUM(C28:C30) -> 41979 | D31: =SUM(D28:D30) -> 403744 | E31: =SUM(E28:E30) -> 1800000 | F31: =SUM(F28:F30) -> 43951812 | G31: =SUM(G28:G30) -> 19706976 | H31: =SUM(H28:H30) -> 1221598 | I31: =SUM(I28:I30) -> 21469883 | J31: =SUM(J28:J30) -> 2232 | ... M31: =SUM(M28:M30) -> 13850014 | N31: =SUM(B31:M31) -> 103432857 | O31: =SUM(O28:O30) -> 103432857
A32: Költségvetési kiadások összesen: | B32: =SUM(B31,B27) -> 9111321 | C32: =SUM(C31,C27) -> 1370168 | D32: =SUM(D31,D27) -> 3885291 | E32: =SUM(E31,E27) -> 1804101 | F32: =SUM(F31,F27) -> 52869249 | G32: =SUM(G31,G27) -> 29582915 | H32: =SUM(H31,H27) -> 9062062 | I32: =SUM(I31,I27) -> 29522740 | ... M32: =SUM(M31,M27) -> 23148442 | N32: =SUM(B32:M32) -> 179959614 | O32: =O27+O31 -> 179025282
A33: Finanszírozási kiadások (hitel törlesztés, értékpapír visszavásárlás) | B33: 848842 | C33: 0 | D33: 0 | E33: 91902 | F33: 9263 | G33: 16000 | H33: 2072 | I33: 87000 | J33: 87000 | K33: 87000 | L33: 87000 | M33: 87000 | N33: =SUM(B33:M33) -> 1403079 | O33: ='5. sz. tábla'!C33 -> 1403079
A34: Kiadások összesen: | B34: =SUM(B32:B33) -> 9960163 | C34: =SUM(C32:C33) -> 1370168 | D34: =SUM(D32:D33) -> 3885291 | E34: =SUM(E32:E33) -> 1896003 | F34: =SUM(F32:F33) -> 52878512 | G34: =SUM(G32:G33) -> 29598915 | H34: =SUM(H32:H33) -> 9064134 | I34: =SUM(I32:I33) -> 29609740 | ... M34: =SUM(M32:M33) -> 23235442 | N34: =SUM(B34:M34) -> 181362693 | O34: =O32+O33 -> 180428361
A35: Korrekció (előző évi kifizetés miatt) | N35: =SUM(B35:M35) -> 0
A36: Záró pénzkészlet | B36: =B6+B16+B17-B34 -> 123187961 | C36: =C6+C16+C17-C34 -> 127641039 | D36: =D6+D16+D17-D34 -> 131337659 | E36: =E6+E16+E17-E34 -> 132399091 | F36: =F6+F16+F17-F34 -> 82223324 | G36: =G6+G16+G17-G34 -> 54540481 | H36: =H6+H16+H17-H34 -> 56437057 | I36: =I6+I16+I17-I34 -> 29593275 | ... M36: =M6+M16+M17-M34 -> 1667294 | N36: =+N6+N16+N17-N34 -> 1667294 | O36: =O19-O34 -> -131203871
