Workbook
Name onev: [1]kod!$BT$34:$BT$3186
Name onev: [1]kod!$BT$34:$BT$3186
Name onev: [2]kod!$BT$34:$BT$3186

Sheet 1.sz.tábla   (2)
A1: AZ ÖNKORMÁNYZAT 2020. ÉVI KÖLTSÉGVETÉSÉNEK FŐÖSSZESÍTŐJE
A5: MEGNEVEZÉS | B5: 2020. évi eredeti ei. | C5: 2020. évi módosított ei. III. | D5: 2020. évi módosított ei. IV. | E5: Eltérés
A6: I. Működési célú támogatások államháztartáson belülről | B6: ='2.sz.tábla (2)'!N7 -> 1518232816 | C6: ='2.sz.tábla (2)'!O7 -> 1644002138 | D6: ='2.sz.tábla (2)'!P7 -> 1644002138 | E6: =D6-C6 -> 0
A7: II. Felhalmozási célú támogatások államháztartáson belülről | B7: ='2.sz.tábla (2)'!N22 -> 4751248431 | C7: ='2.sz.tábla (2)'!O22 -> 6286599318 | D7: ='2.sz.tábla (2)'!P22 -> 6286599318 | E7: =D7-C7 -> 0
A8: III. Közhatalmi bevételek | B8: ='2.sz.tábla (2)'!N30 -> 2058240000 | C8: ='2.sz.tábla (2)'!O30 -> 1627117610 | D8: ='2.sz.tábla (2)'!P30 -> 1627117610 | E8: =D8-C8 -> 0
A9: IV. Működési bevételek | B9: ='2.sz.tábla (2)'!N43 -> 849595329 | C9: ='2.sz.tábla (2)'!O43 -> 897670682 | D9: ='2.sz.tábla (2)'!P43 -> 897598135 | E9: =D9-C9 -> -72547
A10: V. Felhalmozási bevételek | B10: ='2.sz.tábla (2)'!N58 -> 270196741 | C10: ='2.sz.tábla (2)'!O58 -> 270523434 | D10: ='2.sz.tábla (2)'!P58 -> 270523434 | E10: =D10-C10 -> 0
A11: VI. Működési célú átvett pénzeszközök | B11: ='2.sz.tábla (2)'!N66 -> 3000000 | C11: ='2.sz.tábla (2)'!O66 -> 19720754 | D11: ='2.sz.tábla (2)'!P66 -> 19720754 | E11: =D11-C11 -> 0
A12: VII. Felhalmozási célú átvett pénzeszközök | B12: ='2.sz.tábla (2)'!N70 -> 227000542 | C12: ='2.sz.tábla (2)'!O70 -> 223000542 | D12: ='2.sz.tábla (2)'!P70 -> 223000542 | E12: =D12-C12 -> 0
A13: Költségvetési bevételek összesen: | B13: =SUM(B6:B12) -> 9677513859 | C13: =SUM(C6:C12) -> 10968634478 | D13: =SUM(D6:D12) -> 10968561931 | E13: =D13-C13 -> -72547
A14: VIII. Finanszírozási bevételek | E14: =D14-C14 -> 0
A15: 1. Költségvetési hiány belső finanszírozására szolgáló finanszírozási bevételek | B15: ='2.sz.tábla (2)'!N76 -> 2874497034 | C15: ='2.sz.tábla (2)'!O76 -> 3119095564 | D15: ='2.sz.tábla (2)'!P76 -> 3112368559 | E15: =D15-C15 -> -6727005
A16: 2. Költségvetési hiány külső finanszírozására szolgáló finanszírozási célú pénzügyi műveletek bevételei | B16: ='2.sz.tábla (2)'!N79 -> 438387185 | C16: ='2.sz.tábla (2)'!O79 -> 2302112000 | D16: ='2.sz.tábla (2)'!P79 -> 2337532853 | E16: =D16-C16 -> 35420853
A17: Finanszírozási bevételek összesen: | B17: =SUM(B15:B16) -> 3312884219 | C17: =SUM(C15:C16) -> 5421207564 | D17: =SUM(D15:D16) -> 5449901412 | E17: =D17-C17 -> 28693848
A18: Bevételek összesen: | B18: =B13+B17 -> 12990398078 | C18: =C13+C17 -> 16389842042 | D18: =D13+D17 -> 16418463343 | E18: =D18-C18 -> 28621301
A20: Működési kiadások | B20: =SUM(B21:B23) -> 3507700980 | C20: =SUM(C21:C23) -> 3402347445 | D20: =SUM(D21:D23) -> 3395988262 | E20: =D20-C20 -> -6359183
A21: Önkormányzat | B21: ='5.tábla (2)'!B148 -> 2646223479 | C21: ='5.tábla (2)'!C148 -> 2517832654 | D21: ='5.tábla (2)'!D148 -> 2511393206 | E21: =D21-C21 -> -6439448
A22: Önkormányzati Hivatal | B22: ='5.tábla (2)'!B38 -> 470004034 | C22: ='5.tábla (2)'!C38 -> 470439171 | D22: ='5.tábla (2)'!D38 -> 470707342 | E22: =D22-C22 -> 268171
A23: Intézmények | B23: ='4.sz.tábla '!AS9-'4.sz.tábla '!W9 -> 391473467 | C23: ='4.sz.tábla '!AT9-'4.sz.tábla '!X9 -> 414075620 | D23: ='4.sz.tábla '!AU9-'4.sz.tábla '!Y9 -> 413887714 | E23: =D23-C23 -> -187906
E24: =D24-C24 -> 0
A25: Felhalmozási kiadások | B25: =SUM(B26:B28) -> 9114060198 | C25: =SUM(C26:C28) -> 11724754523 | D25: =SUM(D26:D28) -> 11735891948 | E25: =D25-C25 -> 11137425
A26: Fejlesztési kiadások | B26: ='7. sz. tábla 1'!B238 -> 8975675571 | C26: ='7. sz. tábla 1'!C238 -> 11570288004 | D26: ='7. sz. tábla 1'!D238 -> 11586425429 | E26: =D26-C26 -> 16137425
A27: Intézm saját hatásk fejl | B27: ='4.sz.tábla '!W11 -> 30976000 | C27: ='4.sz.tábla '!X11 -> 42465272 | D27: ='4.sz.tábla '!Y11 -> 42465272 | E27: =D27-C27 -> 0
A28: Felújítás | B28: ='7. sz. tábla 1'!B250 -> 107408627 | C28: ='7. sz. tábla 1'!C250 -> 112001247 | D28: ='7. sz. tábla 1'!D250 -> 107001247 | E28: =D28-C28 -> -5000000
E29: =D29-C29 -> 0
A30: Tartalékok | B30: =SUM(B31:B32) -> 241005271 | C30: =SUM(C31:C32) -> 335108445 | D30: =SUM(D31:D32) -> 358951504 | E30: =D30-C30 -> 23843059
A31: Általános | B31: 33014814 | C31: 124613417 | D31: =124613417-6538579 -> 118074838 | E31: =D31-C31 -> -6538579
A32: Cél | B32: =B40 -> 207990457 | C32: =C40 -> 210495028 | D32: =D40 -> 240876666 | E32: =D32-C32 -> 30381638
A33: Költségvetési kiadások összesen: | B33: =SUM(B30,B25,B20) -> 12862766449 | C33: =SUM(C30,C25,C20) -> 15462210413 | D33: =SUM(D30,D25,D20) -> 15490831714 | E33: =D33-C33 -> 28621301
A34: Hiteltörlesztés | B34: ='7. sz. tábla 1'!B241 -> 74242424 | C34: ='7. sz. tábla 1'!C241 -> 74242424 | D34: ='7. sz. tábla 1'!D241 -> 74242424 | E34: =D34-C34 -> 0
A35: Rövid lejáratú hitel visszafizetés | C35: ='7. sz. tábla 1'!C242 -> 800000000 | D35: ='7. sz. tábla 1'!D242 -> 800000000 | E35: =D35-C35 -> 0
A36: Államháztartáson belüli megelőlegezés visszafizetés | B36: ='7. sz. tábla 1'!B244 -> 53389205 | C36: ='7. sz. tábla 1'!C244 -> 53389205 | D36: ='7. sz. tábla 1'!D244 -> 53389205 | E36: =D36-C36 -> 0
A37: Forgatási célú értékpapír vásárlása | B37: ='7. sz. tábla 1'!B243 -> 0 | C37: ='7. sz. tábla 1'!C243 -> 0 | D37: ='7. sz. tábla 1'!D243 -> 0 | E37: =D37-C37 -> 0
A38: Finanszírozási kiadások összesen: | B38: =SUM(B34:B37) -> 127631629 | C38: =SUM(C34:C37) -> 927631629 | D38: =SUM(D34:D37) -> 927631629 | E38: =D38-C38 -> 0
A39: Kiadások összesen: | B39: =SUM(B33,B38) -> 12990398078 | C39: =SUM(C33,C38) -> 16389842042 | D39: =SUM(D33,D38) -> 16418463343 | E39: =D39-C39 -> 28621301
A40: Céltartalék: | B40: =SUM(B41:B54) -> 207990457 | C40: =SUM(C41:C54) -> 210495028 | D40: =SUM(D41:D55) -> 240876666 | E40: =D40-C40 -> 30381638 | G40: =E39-E18 -> 0
A41: MÁK forgótőke | B41: 560000 | C41: 560000 | D41: 560000 | E41: =D41-C41 -> 0
A42: környezetvédelmi alap | B42: 0 | C42: 0 | D42: 0 | E42: =D42-C42 -> 0
A43: Polgármester saját hatáskörű keret | B43: 5000000 | C43: 2632514 | D43: 2632514 | E43: =D43-C43 -> 0
A44: Népház, posta pénzügyi alap | B44: =25597170-8600000 -> 16997170 | C44: =25597170-8600000 -> 16997170 | D44: =25597170-8600000 -> 16997170 | E44: =D44-C44 -> 0
...

Sheet 2.sz.tábla   (2)
A3: BEVÉTELEK ELŐIRÁNYZATA 2020. ÉV
A5: MEGNEVEZÉS | B5: ÖNKORMÁNYZAT | F5: BALATONFÜREDI KÖZÖS ÖNKORMÁNYZATI HIVATAL | J5: KÖLTSÉGVETÉSI SZERVEK | N5: ÖNKORMÁNYZAT ÖSSZESEN
B6: 2020. évi eredeti ei. | C6: 2020. évi módosított ei. III. | D6: 2020. évi módosított ei. IV. | E6: Eltérés | F6: 2020. évi eredeti ei. | G6: 2020. évi módosított ei. III. | H6: 2020. évi módosított ei. IV. | I6: Eltérés | J6: 2020. évi eredeti ei. | K6: 2020. évi módosított ei. III. | L6: 2020. évi módosított ei. IV. | M6: Eltérés | N6: 2020. évi eredeti ei. | O6: 2020. évi módosított ei. III. | P6: 2020. évi módosított ei. IV. | Q6: Eltérés
A7: I. Működési célú támogatások államháztartáson belülről | B7: =B8+B16+B17+B18+B19+B20 -> 1348157274 | C7: =C8+C16+C17+C18+C19+C20 -> 1450338821 | D7: =D8+D16+D17+D18+D19+D20 -> 1450338821 | E7: =E8+E16+E17+E18+E19+E20 -> 0 | F7: =F8+F16+F17+F18+F19+F20 -> 30078809 | G7: =G8+G16+G17+G18+G19+G20 -> 23886635 | H7: =H8+H16+H17+H18+H19+H20 -> 23886635 | I7: =I8+I16+I17+I18+I19+I20 -> 0 | ... Q7: =Q8+Q16+Q17+Q18+Q19+Q20 -> 0
A8: 1. Önkormányzat működési támogatásai | B8: =SUM(B9:B15) -> 1014730134 | C8: =SUM(C9:C15) -> 1141487230 | D8: =SUM(D9:D15) -> 1141487230 | E8: =SUM(E9:E15) -> 0 | G8: =SUM(G9:G15) -> 0 | H8: =SUM(H9:H15) -> 0 | I8: =SUM(I9:I15) -> 0 | J8: =SUM(J9:J15) -> 0 | K8: =SUM(K9:K15) -> 0 | L8: =SUM(L9:L15) -> 0 | M8: =SUM(M9:M15) -> 0 | N8: =SUM(N9:N15) -> 1014730134 | ... Q8: =SUM(Q9:Q15) -> 0
A9: 1.1. Helyi önk. működésének ált. támogatása | B9: ='2b. tábla 2020. (2)'!E5 -> 508615472 | C9: ='2b. tábla 2020. (2)'!K5 -> 330712990 | D9: ='2b. tábla 2020. (2)'!M5 -> 332960611 | E9: =D9-C9 -> 2247621 | N9: =SUM(B9+F9+J9) -> 508615472 | O9: =SUM(C9+G9+K9) -> 330712990 | P9: =SUM(D9+H9+L9) -> 332960611 | Q9: =SUM(E9+I9+M9) -> 2247621
A10: 1.2. Települési önk. egyes köznev. feladatainak támogatása | B10: ='2b. tábla 2020. (2)'!E32 -> 258054470 | C10: ='2b. tábla 2020. (2)'!K32 -> 268389980 | D10: ='2b. tábla 2020. (2)'!M32 -> 268389980 | E10: =D10-C10 -> 0 | N10: =SUM(B10+F10+J10) -> 258054470 | O10: =SUM(C10+G10+K10) -> 268389980 | P10: =SUM(D10+H10+L10) -> 268389980 | Q10: =SUM(E10+I10+M10) -> 0
A11: 1.3. Települési önk. szoc. és gyermekjóléti feladatainak tám. | B11: ='2b. tábla 2020. (2)'!E40 -> 231000305 | C11: ='2b. tábla 2020. (2)'!K40 -> 212951179 | D11: ='2b. tábla 2020. (2)'!M40 -> 245832002 | E11: =D11-C11 -> 32880823 | N11: =SUM(B11+F11+J11) -> 231000305 | O11: =SUM(C11+G11+K11) -> 212951179 | P11: =SUM(D11+H11+L11) -> 245832002 | Q11: =SUM(E11+I11+M11) -> 32880823
A12: 1.4. Települési önk. kult. feladatainak támogatása | B12: ='2b. tábla 2020. (2)'!E70 -> 17059887 | C12: ='2b. tábla 2020. (2)'!K70 -> 22923797 | D12: ='2b. tábla 2020. (2)'!M70 -> 27709067 | E12: =D12-C12 -> 4785270 | N12: =SUM(B12+F12+J12) -> 17059887 | O12: =SUM(C12+G12+K12) -> 22923797 | P12: =SUM(D12+H12+L12) -> 27709067 | Q12: =SUM(E12+I12+M12) -> 4785270
A13: 1.5. Működési célú költségvetési támogatások és kiegészítő támogatások | B13: 0 | C13: ='2b. tábla 2020. (2)'!K76 -> 306509284 | D13: ='2b. tábla 2020. (2)'!M76 -> 266595570 | E13: =D13-C13 -> -39913714 | N13: =SUM(B13+F13+J13) -> 0 | O13: =SUM(C13+G13+K13) -> 306509284 | P13: =SUM(D13+H13+L13) -> 266595570 | Q13: =SUM(E13+I13+M13) -> -39913714
A14: 1.6. Elszámolásból származó bevételek | N14: =SUM(B14+F14+J14) -> 0
A15: 1.7. Vis major
A16: 2. Elvonások, befizetések
A17: 3. Működési célú garancia- és kezességvállalásból származó megtérülések áh-n belülről
A18: 4. Működési célú visszatérítendő támogatások, kölcsönök visszatérülése áh-n belülről
A19: 5. Működési célú visszatérítendő támogatások, kölcsönök igénybevétele áh-n belülről
A20: 6. Egyéb működési célú támogatások bevételei államháztartáson belülről | B20: 333427140 | C20: 308851591 | D20: 308851591 | E20: =D20-C20 -> 0 | F20: ='2.a tábla ÚJ '!S13 -> 30078809 | G20: ='2.a tábla ÚJ '!T13 -> 23886635 | H20: ='2.a tábla ÚJ '!U13 -> 23886635 | I20: =H20-G20 -> 0 | J20: ='2.a tábla ÚJ '!N13 -> 139996733 | K20: ='2.a tábla ÚJ '!O13 -> 169776682 | L20: ='2.a tábla ÚJ '!P13 -> 169776682 | M20: ='2.a tábla ÚJ '!Q13 -> 0 | N20: =SUM(B20+F20+J20) -> 503502682 | O20: =C20+G20+K20 -> 502514908 | P20: =D20+H20+L20 -> 502514908 | Q20: =E20+I20+M20 -> 0
A21: ebből működési célú támogatás társadalombiztosítási alapból | J21: ='2.a tábla ÚJ '!N14 -> 135000000 | K21: ='2.a tábla ÚJ '!O14 -> 154779949 | L21: ='2.a tábla ÚJ '!P14 -> 154779949 | M21: ='2.a tábla ÚJ '!Q14 -> 0 | N21: =SUM(B21+F21+J21) -> 135000000 | O21: =C21+G21+K21 -> 154779949 | P21: =D21+H21+L21 -> 154779949 | Q21: =E21+I21+M21 -> 0
A22: II. Felhalmozási célú támogatások államháztartáson belülről | B22: =B23+B24+B25+B26+B27 -> 4747780431 | C22: =C23+C24+C25+C26+C27 -> 6283131318 | D22: =D23+D24+D25+D26+D27 -> 6283131318 | E22: =E23+E24+E25+E26+E27 -> 0 | F22: =F23+F24+F25+F26+F27 -> 0 | G22: =G23+G24+G25+G26+G27 -> 0 | H22: =H23+H24+H25+H26+H27 -> 0 | I22: =I23+I24+I25+I26+I27 -> 0 | ... M22: =M23+M24+M25+M26+M27 -> 0 | N22: =SUM(B22+F22+J22) -> 4751248431 | O22: =O23+O24+O25+O26+O27 -> 6286599318 | P22: =P23+P24+P25+P26+P27 -> 6286599318 | Q22: =Q23+Q24+Q25+Q26+Q27 -> 0
A23: 1. Felhalmozási célú önkormányzati támogatások | C23: ='2b. tábla 2020. (2)'!K88 -> 43215050 | D23: ='2b. tábla 2020. (2)'!M88 -> 43215050 | E23: =D23-C23 -> 0 | N23: =SUM(B23+F23+J23) -> 0 | O23: =SUM(C23+G23+K23) -> 43215050 | P23: =SUM(D23+H23+L23) -> 43215050 | Q23: =SUM(E23+I23+M23) -> 0
A24: 2. Felhalmozási célú garancia- és kezességvállalásból származó megtérülések áh-n belülről | N24: =SUM(B24+F24+J24) -> 0
A25: 3. Felhalmozási célú visszatérítendő támogatások, kölcsönök visszatérülése áh-n belülről | N25: =SUM(B25+F25+J25) -> 0
A26: 4. Felhalmozási célú visszatérítendő támogatások, kölcsönök igénybevétele áh-n belülről | N26: =SUM(B26+F26+J26) -> 0
A27: 5. Egyéb felhalmozási célú támogatások államháztartáson belülről | B27: 4747780431 | C27: 6239916268 | D27: 6239916268 | E27: =D27-C27 -> 0 | J27: ='2.a tábla ÚJ '!N16 -> 3468000 | K27: ='2.a tábla ÚJ '!O16 -> 3468000 | L27: ='2.a tábla ÚJ '!P16 -> 3468000 | M27: ='2.a tábla ÚJ '!Q16 -> 0 | N27: =SUM(B27+F27+J27) -> 4751248431 | O27: =C27+G27+K27 -> 6243384268 | P27: =D27+H27+L27 -> 6243384268 | Q27: =E27+I27+M27 -> 0
A28: MEGNEVEZÉS | B28: ÖNKORMÁNYZAT | F28: BALATONFÜREDI KÖZÖS ÖNKORMÁNYZATI HIVATAL | J28: KÖLTSÉGVETÉSI SZERVEK | N28: ÖNKORMÁNYZAT ÖSSZESEN
B29: 2020. évi eredeti ei. | C29: 2020. évi módosított ei. III. | D29: 2020. évi módosított ei. IV. | E29: Eltérés | F29: 2020. évi eredeti ei. | G29: 2020. évi módosított ei. III. | H29: 2020. évi módosított ei. IV. | I29: Eltérés | J29: 2020. évi eredeti ei. | K29: 2020. évi módosított ei. III. | L29: 2020. évi módosított ei. IV. | M29: Eltérés | N29: 2020. évi eredeti ei. | O29: 2020. évi módosított ei. III. | P29: 2020. évi módosított ei. IV. | Q29: Eltérés
A30: III. Közhatalmi bevételek | B30: =B31+B34+B42 -> 2058240000 | C30: =C31+C34+C42 -> 1627117610 | D30: =D31+D34+D42 -> 1627117610 | E30: =E31+E34+E42 -> 0 | F30: =F31+F34+F42 -> 0 | G30: =G31+G34+G42 -> 0 | H30: =H31+H34+H42 -> 0 | I30: =I31+I34+I42 -> 0 | K30: =K31+K34+K42 -> 0 | L30: =L31+L34+L42 -> 0 | M30: =M31+M34+M42 -> 0 | N30: =SUM(B30+F30+J30) -> 2058240000 | O30: =SUM(C30+G30+K30) -> 1627117610 | P30: =SUM(D30+H30+L30) -> 1627117610 | Q30: =SUM(E30+I30+M30) -> 0 | R30: =E30-E37-E42 -> 0
A31: 1. Vagyoni típusú adók | B31: =SUM(B32:B33) -> 475000000 | C31: =SUM(C32:C33) -> 495000000 | D31: =SUM(D32:D33) -> 495000000 | E31: =SUM(E32:E33) -> 0 | F31: =SUM(F32:F33) -> 0 | N31: =SUM(B31+F31+J31) -> 475000000 | O31: =SUM(C31+G31+K31) -> 495000000 | P31: =SUM(D31+H31+L31) -> 495000000 | Q31: =SUM(E31+I31+M31) -> 0
A32: 1.1. Építményadó | B32: 450000000 | C32: 479000000 | D32: 479000000 | E32: =D32-C32 -> 0 | N32: =SUM(B32+F32+J32) -> 450000000 | O32: =SUM(C32+G32+K32) -> 479000000 | P32: =SUM(D32+H32+L32) -> 479000000 | Q32: =SUM(E32+I32+M32) -> 0
A33: 1.2. Telekadó | B33: 25000000 | C33: 16000000 | D33: 16000000 | E33: =D33-C33 -> 0 | N33: =SUM(B33+F33+J33) -> 25000000 | O33: =SUM(C33+G33+K33) -> 16000000 | P33: =SUM(D33+H33+L33) -> 16000000 | Q33: =SUM(E33+I33+M33) -> 0
A34: 2. Termékek és szolgáltatások adói | B34: =B35+B37+B38 -> 1573840000 | C34: =C35+C37+C38 -> 1112717610 | D34: =D35+D37+D38 -> 1112717610 | E34: =E35+E37+E38 -> 0 | N34: =SUM(B34+F34+J34) -> 1573840000 | O34: =SUM(C34+G34+K34) -> 1112717610 | P34: =SUM(D34+H34+L34) -> 1112717610 | Q34: =SUM(E34+I34+M34) -> 0
A35: 2.1. Értékesítési és forgalmi adók | B35: =SUM(B36) -> 1100000000 | C35: =SUM(C36) -> 1064000000 | D35: =SUM(D36) -> 1064000000 | E35: =SUM(E36) -> 0 | N35: =SUM(B35+F35+J35) -> 1100000000 | O35: =SUM(C35+G35+K35) -> 1064000000 | P35: =SUM(D35+H35+L35) -> 1064000000 | Q35: =SUM(E35+I35+M35) -> 0
A36: 2.1. 1. Iparűzési adó | B36: 1100000000 | C36: 1064000000 | D36: 1064000000 | E36: =D36-C36 -> 0 | N36: =SUM(B36+F36+J36) -> 1100000000 | O36: =SUM(C36+G36+K36) -> 1064000000 | P36: =SUM(D36+H36+L36) -> 1064000000 | Q36: =SUM(E36+I36+M36) -> 0
A37: 2.2. Gépjárműadók | B37: 58840000 | E37: =D37-C37 -> 0 | N37: =SUM(B37+F37+J37) -> 58840000 | O37: =SUM(C37+G37+K37) -> 0 | P37: =SUM(D37+H37+L37) -> 0 | Q37: =SUM(E37+I37+M37) -> 0
A38: 2.3. Egyéb áruhasználati és szolgáltatási adók | B38: =SUM(B39:B41) -> 415000000 | C38: =SUM(C39:C41) -> 48717610 | D38: =SUM(D39:D41) -> 48717610 | E38: =SUM(E39:E41) -> 0 | N38: =SUM(B38+F38+J38) -> 415000000 | O38: =SUM(C38+G38+K38) -> 48717610 | P38: =SUM(D38+H38+L38) -> 48717610 | Q38: =SUM(E38+I38+M38) -> 0
A39: 2.3.1. Ifa személyek u. | B39: 415000000 | C39: 45717610 | D39: 45717610 | E39: =D39-C39 -> 0 | N39: =SUM(B39+F39+J39) -> 415000000 | O39: =SUM(C39+G39+K39) -> 45717610 | P39: =SUM(D39+H39+L39) -> 45717610 | Q39: =SUM(E39+I39+M39) -> 0
A40: 2.3.2. Korábbi évek megszűnt adóiból befolyt bevétel | C40: 3000000 | D40: 3000000 | E40: =D40-C40 -> 0 | N40: =SUM(B40+F40+J40) -> 0 | O40: =SUM(C40+G40+K40) -> 3000000 | P40: =SUM(D40+H40+L40) -> 3000000 | Q40: =SUM(E40+I40+M40) -> 0
A41: 2.3.3. Települési adó | E41: =D41-C41 -> 0 | N41: =SUM(B41+F41+J41) -> 0 | O41: =SUM(C41+G41+K41) -> 0 | P41: =SUM(D41+H41+L41) -> 0 | Q41: =SUM(E41+I41+M41) -> 0
A42: 3. Egyéb közhatalmi bevételek (bírság, pótlék, településrendezési szerz.) | B42: 9400000 | C42: 19400000 | D42: 19400000 | E42: =D42-C42 -> 0 | F42: ='2.a tábla ÚJ '!S20 -> 0 | G42: ='2.a tábla ÚJ '!T20 -> 0 | H42: ='2.a tábla ÚJ '!U20 -> 0 | I42: ='2.a tábla ÚJ '!V20 -> 0 | N42: =SUM(B42+F42+J42) -> 9400000 | O42: =SUM(C42+G42+K42) -> 19400000 | P42: =SUM(D42+H42+L42) -> 19400000 | Q42: =SUM(E42+I42+M42) -> 0
A43: IV. Működési bevételek | B43: =B44+B45+B47+B48+B51+B52+B53+B54+B57+B55+B56 -> 765981293 | C43: =C44+C45+C47+C48+C51+C52+C53+C54+C57+C55+C56 -> 815067339 | D43: =D44+D45+D47+D48+D51+D52+D53+D54+D57+D55+D56 -> 814994792 | E43: =E44+E45+E47+E48+E51+E52+E53+E54+E57+E55+E56 -> -72547 | F43: =F44+F45+F47+F48+F51+F52+F53+F54+F57+F55+F56 -> 33410443 | G43: =G44+G45+G47+G48+G51+G52+G53+G54+G57+G55+G56 -> 33209750 | H43: =H44+H45+H47+H48+H51+H52+H53+H54+H57+H55+H56 -> 33209750 | I43: =I44+I45+I47+I48+I51+I52+I53+I54+I57+I55+I56 -> 0 | ... M43: =M44+M45+M47+M48+M51+M52+M53+M54+M57+M55+M56 -> 0 | N43: =SUM(B43+F43+J43) -> 849595329 | O43: =SUM(C43+G43+K43) -> 897670682 | P43: =SUM(D43+H43+L43) -> 897598135 | Q43: =SUM(E43+I43+M43) -> -72547
...

Sheet 2.a tábla ÚJ 
A6: BEVÉTELEK ELŐIRÁNYZATA KÖLTSÉGVETÉSI SZERVEK SZERINTI BONTÁSBAN 2020. ÉV
A10: MEGNEVEZÉS | B10: LIPTÁK GÁBOR VÁROSI KÖNYVTÁR | F10: BALATONFÜREDI VÁROSI SZAKORVOSI RENDELŐINTÉZET | J10: BALATONFÜREDI VÁROSI BÖLCSŐDE | N10: KÖLTSÉGVETÉSI SZERVEK ÖSSZESEN | S10: BALATONFÜREDI KÖZÖS ÖNKORMÁNYZATI HIVATAL
B11: 2020. évi eredeti ei. | C11: 2020. évi módosított ei. III. | D11: 2020. évi módosított ei. IV. | E11: Eltérés | F11: 2020. évi eredeti ei. | G11: 2020. évi módosított ei. III. | H11: 2020. évi módosított ei. IV. | I11: Eltérés | J11: 2020. évi eredeti ei. | K11: 2020. évi módosított ei. III. | L11: 2020. évi módosított ei. IV. | M11: Eltérés | N11: 2020. évi eredeti ei. | O11: 2020. évi módosított ei. III. | P11: 2020. évi módosított ei. IV. | Q11: Eltérés | S11: 2020. évi eredeti ei. | T11: 2020. évi módosított ei. III. | U11: 2020. évi módosított ei. IV. | V11: Eltérés
A12: I. Működési célú támogatások államházatartáson belülről | B12: =B13 -> 1274488 | C12: =C13 -> 11274488 | D12: =D13 -> 11274488 | E12: =E13 -> 0 | F12: =F13 -> 136773270 | G12: =G13 -> 156553219 | H12: =H13 -> 156553219 | I12: =I13 -> 0 | ... Q12: =Q13 -> 0 | R12: =R13+R16 -> 0 | S12: =S13+S16 -> 30078809 | T12: =T13+T16 -> 23886635 | U12: =U13+U16 -> 23886635 | V12: =V13+V16 -> 0
A13: 6. Egyéb működési célú támogatások bevételei államháztartáson belülről | B13: =300000+974488 -> 1274488 | C13: 11274488 | D13: 11274488 | E13: =D13-C13 -> 0 | F13: =135000000+1773270 -> 136773270 | G13: 156553219 | H13: 156553219 | I13: =H13-G13 -> 0 | J13: 1948975 | K13: 1948975 | L13: 1948975 | M13: =L13-K13 -> 0 | N13: =B13+F13+J13 -> 139996733 | O13: =C13+G13+K13 -> 169776682 | P13: =D13+H13+L13 -> 169776682 | Q13: =E13+I13+M13 -> 0 | S13: 30078809 | T13: 23886635 | U13: 23886635 | V13: =U13-T13 -> 0
A14: ebből működési célú támogatás társadalombiztosítási alapból | F14: 135000000 | G14: 154779949 | H14: 154779949 | I14: =H14-G14 -> 0 | N14: =B14+F14+J14 -> 135000000 | O14: =C14+G14+K14 -> 154779949 | P14: =D14+H14+L14 -> 154779949 | Q14: =E14+I14+M14 -> 0
A15: II. Felhalmozási célú támogatások államháztartáson belülről | B15: =SUM(B16) -> 3468000 | C15: =SUM(C16) -> 3468000 | D15: =SUM(D16) -> 3468000 | E15: =SUM(E16) -> 0 | F15: =F16 -> 0 | G15: =SUM(G16) -> 0 | H15: =SUM(H16) -> 0 | I15: =SUM(I16) -> 0 | K15: =K16 -> 0 | L15: =L16 -> 0 | M15: =M16 -> 0 | N15: =B15+F15+J15 -> 3468000 | O15: =C15+G15+K15 -> 3468000 | P15: =D15+H15+L15 -> 3468000 | Q15: =E15+I15+M15 -> 0 | R15: =R16 -> 0
A16: 4. Egyéb felhalmozási célú támogatások államháztartáson belülről | B16: 3468000 | C16: 3468000 | D16: 3468000 | E16: =D16-C16 -> 0 | I16: =H16-G16 -> 0 | N16: =B16+F16+J16 -> 3468000 | O16: =C16+G16+K16 -> 3468000 | P16: =D16+H16+L16 -> 3468000 | Q16: =E16+I16+M16 -> 0
A17: II. Közhatalmi bevételek | N17: =B17+F17+J17 -> 0 | R17: =#REF!+#REF!+#REF!+#REF!+#REF! -> #REF! | S17: =SUM(S18:S20) -> 0 | T17: =SUM(T18:T20) -> 0 | U17: =SUM(U18:U20) -> 0 | V17: =SUM(V18:V20) -> 0
A18: 1. Vagyoni típusú adók | N18: =B18+F18+J18 -> 0 | R18: =#REF!+#REF!+#REF!+#REF!+#REF!+#REF!+#REF!+#REF!+#REF!+#REF!+#REF!+#REF!+#REF!+#REF!+#REF! -> #REF!
A19: 2. Termékek és szolgáltatások adói | N19: =B19+F19+J19 -> 0
A20: 3. Egyéb közhatalmi bevételek (bírság, pótlék,) | N20: =B20+F20+J20 -> 0 | V20: =U20-T20 -> 0
A21: 1V. Működési bevételek | B21: =B22+B23+B25+B26+B27+B28+B29+B30+B33 -> 2559000 | C21: =C22+C23+C25+C26+C27+C28+C29+C30+C33 -> 2019000 | D21: =D22+D23+D25+D26+D27+D28+D29+D30+D33 -> 2019000 | E21: =E22+E23+E25+E26+E27+E28+E29+E30+E33 -> 0 | F21: =F22+F23+F25+F26+F27+F28+F29+F30+F33 -> 45160000 | G21: =G22+G23+G25+G26+G27+G28+G29+G30+G33 -> 45160000 | H21: =H22+H23+H25+H26+H27+H28+H29+H30+H33 -> 45160000 | I21: =I22+I23+I25+I26+I27+I28+I29+I30+I33 -> 0 | ... V21: =V22+V23+V25+V26+V27+V28+V29+V30+V33 -> 0
A22: 1. Készletértékesítés bevétele | N22: =B22+F22+J22 -> 0 | R22: =#REF!+#REF!+#REF!+#REF!+#REF! -> #REF!
A23: 2. Szolgáltatások ellenértéke | B23: 1999213 | C23: 1574016 | D23: 1574016 | E23: =D23-C23 -> 0 | F23: =40560000+550000+4050000 -> 45160000 | G23: 45160000 | H23: 45160000 | I23: =H23-G23 -> 0 | N23: =B23+F23+J23 -> 47159213 | O23: =C23+G23+K23 -> 46734016 | P23: =D23+H23+L23 -> 46734016 | Q23: =E23+I23+M23 -> 0 | R23: =#REF!+#REF!+#REF!+#REF!+#REF! -> #REF! | S23: 23800000 | T23: 23800000 | U23: 23800000 | V23: =U23-T23 -> 0
A24: Ebből: bérleti díj | N24: =B24+F24+J24 -> 0 | O24: =C24+G24+K24 -> 0 | P24: =D24+H24+L24 -> 0 | Q24: =E24+I24+M24 -> 0 | R24: =#REF!+#REF!+#REF!+#REF!+#REF! -> #REF! | S24: 8200000 | T24: 8200000 | U24: 8200000 | V24: =U24-T24 -> 0
A25: 3. Közvetített szolgáltatások ellenértéke | J25: 228346 | K25: 228346 | L25: 228346 | M25: =L25-K25 -> 0 | N25: =B25+F25+J25 -> 228346 | O25: =C25+G25+K25 -> 228346 | P25: =D25+H25+L25 -> 228346 | Q25: =E25+I25+M25 -> 0 | R25: =#REF!+#REF!+#REF!+#REF!+#REF! -> #REF! | S25: =2250000+1375000 -> 3625000 | T25: 3625000 | U25: 3625000 | V25: =U25-T25 -> 0
A26: 4. Tulajdonosi bevételek | M26: =L26-K26 -> 0 | N26: =B26+F26+J26 -> 0 | O26: =C26+G26+K26 -> 0 | P26: =D26+H26+L26 -> 0 | Q26: =E26+I26+M26 -> 0 | R26: =#REF!+#REF!+#REF!+#REF!+#REF! -> #REF! | V26: =U26-T26 -> 0
A27: 5. Ellátási díjak | J27: 1216215 | K27: 1216215 | L27: 1216215 | M27: =L27-K27 -> 0 | N27: =B27+F27+J27 -> 1216215 | O27: =C27+G27+K27 -> 1216215 | P27: =D27+H27+L27 -> 1216215 | Q27: =E27+I27+M27 -> 0 | R27: =#REF!+#REF!+#REF!+#REF!+#REF! -> #REF! | V27: =U27-T27 -> 0
A28: 6. Kiszámlázott Áfa | B28: 539787 | C28: 424984 | D28: 424984 | E28: =D28-C28 -> 0 | J28: =328378+61654 -> 390032 | K28: 390032 | L28: 390032 | M28: =L28-K28 -> 0 | N28: =B28+F28+J28 -> 929819 | O28: =C28+G28+K28 -> 815016 | P28: =D28+H28+L28 -> 815016 | Q28: =E28+I28+M28 -> 0 | R28: =#REF!+#REF!+#REF!+#REF!+#REF! -> #REF! | S28: =5413500+371250+200693 -> 5985443 | T28: 5784750 | U28: 5784750 | V28: =U28-T28 -> 0
A29: 7. Áfa visszatérítés | E29: =D29-C29 -> 0 | J29: 650000 | K29: 380000 | L29: 380000 | M29: =L29-K29 -> 0 | N29: =B29+F29+J29 -> 650000 | O29: =C29+G29+K29 -> 380000 | P29: =D29+H29+L29 -> 380000 | Q29: =E29+I29+M29 -> 0 | R29: =#REF!+#REF!+#REF!+#REF!+#REF! -> #REF! | V29: =U29-T29 -> 0
A30: 8. Kamatbevétel | E30: =D30-C30 -> 0 | N30: =B30+F30+J30 -> 0 | O30: =C30+G30+K30 -> 0 | P30: =D30+H30+L30 -> 0 | Q30: =E30+I30+M30 -> 0 | R30: =#REF!+#REF!+#REF!+#REF!+#REF! -> #REF! | V30: =U30-T30 -> 0
A31: 9. Egyéb pénzügyi műveletek bevételei | E31: =D31-C31 -> 0 | N31: =B31+F31+J31 -> 0 | O31: =C31+G31+K31 -> 0 | P31: =D31+H31+L31 -> 0 | Q31: =E31+I31+M31 -> 0 | V31: =U31-T31 -> 0
A32: 10. Biztosító által fizetett kártérítés | E32: =D32-C32 -> 0 | N32: =B32+F32+J32 -> 0 | O32: =C32+G32+K32 -> 0 | P32: =D32+H32+L32 -> 0 | Q32: =E32+I32+M32 -> 0 | V32: =U32-T32 -> 0
A33: 11. Egyéb működési bevételek | B33: 20000 | C33: 20000 | D33: 20000 | E33: =D33-C33 -> 0 | N33: =B33+F33+J33 -> 20000 | O33: =C33+G33+K33 -> 20000 | P33: =D33+H33+L33 -> 20000 | Q33: =E33+I33+M33 -> 0 | R33: =#REF!+#REF!+#REF!+#REF!+#REF! -> #REF! | V33: =U33-T33 -> 0
A34: V. Felhalmozási bevételek | C34: =SUM(C35:C39) -> 0 | D34: =SUM(D35:D39) -> 0 | E34: =SUM(E35:E39) -> 0 | F34: =SUM(F35:F39) -> 0 | G34: =SUM(G35:G39) -> 0 | H34: =SUM(H35:H39) -> 0 | I34: =SUM(I35:I39) -> 0 | J34: =SUM(J35:J39) -> 0 | ... Q34: =SUM(Q35:Q39) -> 0 | R34: =#REF!+#REF!+#REF!+#REF!+#REF! -> #REF! | S34: =SUM(S35:S39) -> 743307 | T34: =SUM(T35:T39) -> 1070000 | U34: =SUM(U35:U39) -> 1070000 | V34: =U34-T34 -> 0
A35: 1. Immateriális javak értékesítése | N35: =B35+F35+J35 -> 0 | V35: =U35-T35 -> 0
A36: 2. Ingatlanok értékesítése | N36: =B36+F36+J36 -> 0 | V36: =U36-T36 -> 0
A37: 3. Egyéb tárgyi eszközök értékesítése | N37: =B37+F37+J37 -> 0 | O37: =C37+G37+K37 -> 0 | P37: =D37+H37+L37 -> 0 | Q37: =E37+I37+M37 -> 0 | S37: 743307 | T37: 1070000 | U37: 1070000 | V37: =U37-T37 -> 0
A38: 4. Részesedések értékesítése | N38: =B38+F38+J38 -> 0
A39: 5. Részesedések megszűnéséhez kapcsolódó bevételek | N39: =B39+F39+J39 -> 0
A40: VI. Működési célú átvett pénzeszközök | F40: =F41 -> 0 | G40: =G41 -> 0 | H40: =H41 -> 0 | I40: =I41 -> 0 | K40: =K41 -> 0 | L40: =L41 -> 0 | M40: =M41 -> 0 | N40: =SUM(N41) -> 0 | O40: =SUM(O41) -> 0 | P40: =SUM(P41) -> 0 | Q40: =SUM(Q41) -> 0 | R40: =#REF!+#REF!+#REF!+#REF!+#REF! -> #REF!
A41: 3. Egyéb működési célú átvett pénzeszközök | F41: 0 | G41: 0 | H41: 0 | I41: =H41-G41 -> 0 | N41: =B41+F41+J41 -> 0 | O41: =C41+G41+K41 -> 0 | P41: =D41+H41+L41 -> 0 | Q41: =E41+I41+M41 -> 0
A42: VII. Felhalmozási célú átvett pénzeszközök | N42: =B42+F42+J42 -> 0 | O42: =C42+G42+K42 -> 0 | P42: =D42+H42+L42 -> 0 | Q42: =E42+I42+M42 -> 0 | R42: =#REF!+#REF!+#REF!+#REF!+#REF! -> #REF!
A43: 3. Egyéb felhalmozási célú átvett pénzeszközök | N43: =B43+F43+J43 -> 0 | O43: =C43+G43+K43 -> 0 | P43: =D43+H43+L43 -> 0 | Q43: =E43+I43+M43 -> 0
A44: Költségvetési bevételek összesen: | B44: =B42+B40+B34+B21+B17+B15+B12 -> 7301488 | C44: =C42+C40+C34+C21+C17+C15+C12 -> 16761488 | D44: =D42+D40+D34+D21+D17+D15+D12 -> 16761488 | E44: =E42+E40+E34+E21+E17+E15+E12 -> 0 | F44: =F42+F40+F34+F21+F17+F15+F12 -> 181933270 | G44: =G42+G40+G34+G21+G17+G15+G12 -> 201713219 | H44: =H42+H40+H34+H21+H17+H15+H12 -> 201713219 | I44: =I42+I40+I34+I21+I17+I15+I12 -> 0 | ... M44: =M42+M40+M34+M21+M17+M15+M12 -> 0 | N44: =B44+F44+J44 -> 193668326 | O44: =C44+G44+K44 -> 222638275 | P44: =D44+H44+L44 -> 222638275 | Q44: =E44+I44+M44 -> 0 | R44: =R42+R40+R34+R21+R17+R15+R12 -> #REF! | S44: =S42+S40+S34+S21+S17+S15+S12 -> 64232559 | T44: =T42+T40+T34+T21+T17+T15+T12 -> 58166385 | U44: =U42+U40+U34+U21+U17+U15+U12 -> 58166385 | V44: =V42+V40+V34+V21+V17+V15+V12 -> 0
A45: VIII. Finanszírozási bevételek | B45: =B46+B49+B50 -> 67666747 | C45: =C46+C49+C50 -> 60626400 | D45: =D46+D49+D50 -> 60437189 | E45: =E46+E49+E50 -> -189211 | F45: =F46+F49+F50 -> 79366730 | G45: =G46+G49+G50 -> 82575422 | H45: =H46+H49+H50 -> 82575728 | I45: =I46+I49+I50 -> 306 | ... M45: =M46+M49+M50 -> 999 | N45: =B45+F45+J45 -> 216181141 | O45: =C45+G45+K45 -> 212874726 | P45: =D45+H45+L45 -> 212686820 | Q45: =E45+I45+M45 -> -187906 | R45: =R46+R49+R50 -> #REF! | S45: =S46+S49+S50 -> 418371475 | T45: =T46+T49+T50 -> 433300677 | U45: =U46+U49+U50 -> 433568848 | V45: =V46+V49+V50 -> 268171
A46: 1. Költségvetési hiány belső finanszírozására szolgáló bevételek | B46: =SUM(B47:B48) -> 10526479 | C46: =SUM(C47:C48) -> 12932260 | D46: =SUM(D47:D48) -> 12743049 | E46: =SUM(E47:E48) -> -189211 | F46: =SUM(F47:F48) -> 0 | G46: =SUM(G47:G48) -> 11085110 | H46: =SUM(H47:H48) -> 11085416 | I46: =SUM(I47:I48) -> 306 | ... Q46: =SUM(Q47:Q48) -> -187906 | S46: =SUM(S47:S48) -> 0 | T46: =SUM(T47:T48) -> 35572714 | U46: =SUM(U47:U48) -> 35572194 | V46: =SUM(V47:V48) -> -520
A47: 1.1. Előző év költségvetési maradványának igénybevétele működési célra | B47: 89479 | C47: 89479 | D47: 89479 | E47: =D47-C47 -> 0 | G47: 9634640 | H47: 9634640 | I47: =H47-G47 -> 0 | J47: 178958 | K47: 4864290 | L47: =4864290+999 -> 4865289 | M47: =L47-K47 -> 999 | N47: =B47+F47+J47 -> 268437 | O47: =C47+G47+K47 -> 14588409 | P47: =D47+H47+L47 -> 14589408 | Q47: =E47+I47+M47 -> 999 | T47: 27144823 | U47: =27144823-520 -> 27144303 | V47: =U47-T47 -> -520
A48: 1.2. Előző év költségvetési maradványának igénybevétele felhalmozási célra | B48: 10437000 | C48: 12842781 | D48: =12842781-189211 -> 12653570 | E48: =D48-C48 -> -189211 | G48: 1450470 | H48: =1450470+306 -> 1450776 | I48: =H48-G48 -> 306 | M48: =L48-K48 -> 0 | N48: =B48+F48+J48 -> 10437000 | O48: =C48+G48+K48 -> 14293251 | P48: =D48+H48+L48 -> 14104346 | Q48: =E48+I48+M48 -> -188905 | T48: 8427891 | U48: 8427891 | V48: =U48-T48 -> 0
...

Sheet 2b. tábla 2020. (2)
A1: ÁLLAMI TÁMOGATÁSOK 2020. ÉV
A3: MEGNEVEZÉS | B3: LÉTSZÁM | C3: MUTATÓ | D3: FAJLAGOS | E3: ELŐIRÁNYZAT | F3: I. módosítás | G3: Módosított ei. I. | H3: II. módosítás | I3: Módosított ei. II. | J3: III. módosítás | K3: Módosított ei. III. | L3: IV. módosítás | M3: Módosított ei. IV.
A5: I. HELYI ÖNKORMÁNYZATOK MŰKÖDÉSÉNEK ÁLT.TÁMOGATÁSA | E5: =E6+E29 -> 508615472 | F5: =F6+F29 -> -178887517 | G5: =E5+F5 -> 329727955 | H5: =H6+H29 -> 985035 | I5: =G5+H5 -> 330712990 | J5: =J6+J29 -> 0 | K5: =I5+J5 -> 330712990 | L5: 2247621 | M5: =L5+K5 -> 332960611
A6: 1. Települési önkormányzatok működésének támogatása | E6: =E7+E11+E21+E22+E24+E25+E27+E28 -> 508615472 | F6: =F7+F11+F21+F22+F24+F25+F27+F28 -> -178887517 | G6: =E6+F6 -> 329727955 | H6: =H7+H11+H21+H22+H24+H25+H27+H28 -> 985035 | I6: =G6+H6 -> 330712990 | J6: =J7+J11+J21+J22+J24+J25+J27+J28 -> 0 | K6: =I6+J6 -> 330712990 | L6: =L29 -> 2247621 | M6: =L6+K6 -> 332960611
A7: Önkormányzati hivatal működtetésének támogatás (beszámítás után) | E7: =E8 -> 179444400 | F7: =F8 -> 35293127 | G7: =E7+F7 -> 214737527 | H7: =H8+H10 -> 985035 | I7: =G7+H7 -> 215722562 | J7: =J8 -> 0 | K7: =I7+J7 -> 215722562 | M7: =L7+K7 -> 215722562
A8: Önkormányzati hivatal működtetésének támogatás elismert hivatali létsz. | C8: 39.18 | D8: 4580000 | E8: =C8*D8 -> 179444400 | F8: 35293127 | G8: =E8+F8 -> 214737527 | I8: =G8+H8 -> 214737527 | K8: =I8+J8 -> 214737527 | M8: =L8+K8 -> 214737527
A9: Beszámítás összege | E9: 0 | I9: =G9+H9 -> 0 | K9: =I9+J9 -> 0 | M9: =L9+K9 -> 0
A10: Kiegészítő támogatás | H10: 985035 | I10: =G10+H10 -> 985035 | K10: =I10+J10 -> 985035 | M10: =L10+K10 -> 985035
A11: Település üzemeltetéséhez kapcsolódó feladatellát.támog.(beszámítás után) | E11: =E12+E13+E14+E15+E16+E17+E18+E19 -> 0 | I11: 0 | K11: 0 | M11: =L11+K11 -> 0
A12: Zöldterület-gazdálk-al kapcsolatos feladatok ellátásának támog. (HA) | C12: 705.7 | D12: 25200 | E12: =C12*D12 -> 17783640 | G12: =E12*F12 -> 0 | I12: =G12*H12 -> 0 | K12: =I12*J12 -> 0 | M12: =L12+K12 -> 0
A13: Beszámítás összege | E13: =-E12 -> -17783640 | G13: =-G12 -> 0 | I13: =-I12 -> 0 | K13: =-K12 -> 0 | M13: =L13+K13 -> 0
A14: Közvilágítás fenntartásának támogatás | E14: 58760000 | G14: 58760000 | I14: 58760000 | K14: 58760000 | M14: =L14+K14 -> 58760000
A15: Beszámítás összege | E15: =-E14 -> -58760000 | G15: =-G14 -> -58760000 | I15: =-I14 -> -58760000 | K15: =-K14 -> -58760000 | M15: =L15+K15 -> -58760000
A16: Köztemető fenntartással kapcsolatos feladatok támog. | E16: 2176616 | G16: 2176616 | I16: 2176616 | K16: 2176616 | M16: =L16+K16 -> 2176616
A17: Beszámítás összege | E17: =-E16 -> -2176616 | G17: =-G16 -> -2176616 | I17: =-I16 -> -2176616 | K17: =-K16 -> -2176616 | M17: =L17+K17 -> -2176616
A18: Közutak fenntartásának támogatás | E18: 22310850 | G18: 22310850 | I18: 22310850 | K18: 22310850 | M18: =L18+K18 -> 22310850
A19: Beszámítás összege | E19: =-E18 -> -22310850 | G19: =-G18 -> -22310850 | I19: =-I18 -> -22310850 | K19: =-K18 -> -22310850 | M19: =L19+K19 -> -22310850
A20: Egyéb önkormányzati feladatok támogatása (beszámítás után) | E20: =E21+E22 -> 0 | G20: =G21+G22 -> 0 | I20: =I21+I22 -> 0 | K20: =K21+K22 -> 0 | M20: =L20+K20 -> 0
A21: Egyéb önkormányzati feladatok támogatása | C21: 13637 | D21: 2700 | E21: 36819900 | G21: 36819900 | I21: 36819900 | K21: 36819900 | M21: =L21+K21 -> 36819900
A22: Beszámítás összege | E22: =-E21 -> -36819900 | G22: =-G21 -> -36819900 | I22: =-I21 -> -36819900 | K22: =-K21 -> -36819900 | M22: =L22+K22 -> -36819900
A23: Lakott külterületekkel kapcsolatos feladatok támogatása(beszámítás után) | E23: =E24+E25 -> 0 | G23: =G24+G25 -> 0 | I23: =I24+I25 -> 0 | K23: =K24+K25 -> 0 | M23: =L23+K23 -> 0
A24: Lakott külterületekkel kapcsolatos feladatok támogatása | C24: 114 | D24: 2550 | E24: 290700 | G24: 290700 | I24: 290700 | K24: 290700 | M24: =L24+K24 -> 290700
A25: Beszámítás összege | E25: =-E24 -> -290700 | G25: =-G24 -> -290700 | I25: =-I24 -> -290700 | K25: =-K24 -> -290700 | M25: =L25+K25 -> -290700
A26: Üdülőhelyi feladatok támogatása (beszámitás után) | E26: =SUM(E27:E28) -> 329171072 | F26: =SUM(F27:F28) -> -214180644 | G26: =E26+F26 -> 114990428 | I26: =G26+H26 -> 114990428 | K26: =I26+J26 -> 114990428 | M26: =L26+K26 -> 114990428
A27: Üdülőhelyi feladatok támogatása | E27: 398121613 | F27: -214180644 | G27: =E27+F27 -> 183940969 | I27: =G27+H27 -> 183940969 | K27: =I27+J27 -> 183940969 | M27: =L27+K27 -> 183940969
A28: Beszámítás összege | E28: -68950541 | G28: =E28+F28 -> -68950541 | I28: =G28+H28 -> -68950541 | K28: =I28+J28 -> -68950541 | M28: =L28+K28 -> -68950541
A29: Bérkompenzáció támogatása | E29: 0 | L29: 2247621 | M29: =L29+K29 -> 2247621
A31: II. EGYES KÖZNEVELÉSI FELADATOK TÁMOGATÁSA
A32: Óvodapedagógusok elismert létszáma | E32: =SUM(E33:E37) -> 258054470 | F32: =SUM(F33:F37) -> -14344836 | G32: =SUM(G33:G37) -> 243709634 | H32: =SUM(H33:H39) -> 18286516 | I32: =SUM(I33:I39) -> 261996150 | J32: =SUM(J33:J38) -> 6393830 | K32: =SUM(K33:K39) -> 268389980 | M32: =L32+K32 -> 268389980
A33: Óvodapedagógusok munkáját kvetlenül segítők | B33: 34.9 | C33: 34.9 | D33: 4371500 | E33: =B33*D33 -> 152565350 | F33: -4371500 | G33: =E33+F33 -> 148193850 | I33: =G33+H33 -> 148193850 | J33: 437150 | K33: =I33+J33 -> 148631000 | M33: =L33+K33 -> 148631000
A34: Óvodaműködtetési támogatás | B34: 26 | C34: 26 | D34: 2400000 | E34: =B34*D34 -> 62400000 | F34: -9600000 | G34: =E34+F34 -> 52800000 | I34: =G34+H34 -> 52800000 | J34: 6480000 | K34: =I34+J34 -> 59280000 | M34: =L34+K34 -> 59280000
A35: Pedagógus II. kat. sorolt óvodapedag. kieg. támog.-minősítés 2019. jan. 1-ig szerezték meg | B35: 381.3 | C35: 391.3 | D35: 97400 | E35: =B35*D35 -> 37138620 | F35: -1100620 | G35: =E35+F35 -> 36038000 | I35: =G35+H35 -> 36038000 | J35: -126620 | K35: =I35+J35 -> 35911380 | M35: =L35+K35 -> 35911380
A36: Pedagógus II. kat. sorolt óvodapedag. kieg. támog.-minősítés 2020. jan. 1-ig szerezték meg | B36: 15 | C36: 15 | D36: 396700 | E36: =C36*D36 -> 5950500 | G36: =E36+F36 -> 5950500 | I36: =G36+H36 -> 5950500 | J36: -396700 | K36: =I36+J36 -> 5553800 | M36: =L36+K36 -> 5553800
A37: Kiegészítő támogatás | B37: 0 | C37: 0 | D37: 363642 | E37: =C37*D37 -> 0 | F37: 727284 | G37: =E37+F37 -> 727284 | I37: =G37+H37 -> 727284 | K37: =I37+J37 -> 727284 | M37: =L37+K37 -> 727284
H38: 18286516 | I38: =G38+H38 -> 18286516 | K38: =I38+J38 -> 18286516 | M38: =L38+K38 -> 18286516
A39: III. SZOCIÁLIS, GYERMEKJÓLÉTI ÉS GYERMEKÉTKEZTETÉSI FELADATAI | M39: =L39+K39 -> 0
A40: Pénzbeli szociális juttatások | E40: =E41+E43+E57+E62 -> 231000305 | F40: =F41+F43+F57+F62 -> -32404376 | G40: =G41+G43+G57+G62 -> 198595929 | H40: =H41+H43+H57+H62 -> 14895420 | I40: =I41+I43+I57+I62 -> 213491349 | J40: =J41+J43+J57+J62 -> -540170 | K40: =K41+K43+K57+K62 -> 212951179 | L40: =L41+L43+L57+L62 -> 32880823 | M40: =L40+K40 -> 245832002
A41: Pénzbeli szociális ellátások kiegészítése | M41: =L41+K41 -> 0
A42: Települési önkormányzatok szociális feladatainak egyéb támogatása | M42: =L42+K42 -> 0
A43: Egyes szoc.és gyermekjólétii felad.támog. | E43: =E44+E45+E47+E48+E50+E51+E49+E56 -> 109193010 | F43: =F44+F45+F47+F48+F50+F51+F49+F56 -> -8679780 | G43: =G44+G45+G47+G48+G50+G51+G49+G56 -> 100513230 | H43: =H44+H45+H47+H48+H50+H51+H49+H56+H46+H55 -> 7759300 | I43: =I44+I45+I47+I48+I50+I51+I49+I56+I46+I55 -> 108272530 | J43: =J44+J45+J47+J48+J50+J51+J49+J56+J46+J55 -> -457520 | K43: =K44+K45+K47+K48+K50+K51+K49+K56+K46+K55 -> 107815010 | L43: =L44+L45+L47+L48+L50+L51+L49+L56+L46+L55+L66 -> 32880823 | M43: =L43+K43 -> 140695833
...

Sheet 2c. tábla 2020. (2)
C1: ÁLLAMI TÁMOGATÁSOK KÖLTSÉGVETÉSI SZERVENKÉNT 2020 ÉV
A3: Mell. | B3: Sorszám | C3: Megnevezés | D3: Létszám | E3: MUTATÓ | F3: FAJLAGOS | G3: EREDETI EI. | H3: Mutató | I3: I. módosítás | J3: Módosított ei. I. | K3: II. módosítás | L3: Módosított ei. II. | M3: III. módosítás | N3: Módosított ei. III. | O3: IV. módosítás | P3: Módosított ei. IV.
A4: 2 | B4: II.1. | C4: Óvodapedagógusok elismert létszáma | D4: 14.2 | E4: 14.2 | F4: 4371500 | G4: =E4*F4 -> 62075300 | H4: 14.1 | I4: -437150 | J4: =I4+G4 -> 61638150 | L4: =J4+K4 -> 61638150 | N4: =L4+M4 -> 61638150 | P4: =N4+O4 -> 61638150
A5: 2 | B5: II.1. | C5: Óvodapedagógusok munkáját kvetlenül segítők | D5: 10 | E5: 10 | F5: 2400000 | G5: =E5*F5 -> 24000000 | H5: 10 | J5: =I5+G5 -> 24000000 | L5: =J5+K5 -> 24000000 | N5: =L5+M5 -> 24000000 | P5: =N5+O5 -> 24000000
A6: 2 | B6: II.2. | C6: Óvodaműködtetési támogatás | D6: =((163*8)+(154*4))/12 -> 160 | E6: 160 | F6: 97400 | G6: =E6*F6 -> 15584000 | H6: 158 | I6: -194800 | J6: =I6+G6 -> 15389200 | L6: =J6+K6 -> 15389200 | M6: -97400 | N6: =L6+M6 -> 15291800 | P6: =N6+O6 -> 15291800
A7: 2 | B7: II.4.a | C7: Pedagógus II. kategóriába sorolt óvodapedagógusok kieg. támog. | E7: 6 | F7: 396700 | G7: =E7*F7 -> 2380200 | H7: 6 | J7: =I7+G7 -> 2380200 | L7: =J7+K7 -> 2380200 | M7: -396700 | N7: =L7+M7 -> 1983500 | P7: =N7+O7 -> 1983500
A8: 2 | B8: II.4.b | C8: Pedagógus II. kategóriába sorolt óvodapedagógusok kieg. támog. | E8: 0 | F8: 363642 | G8: =E8*F8 -> 0 | H8: 2 | I8: 727284 | J8: =I8+G8 -> 727284 | L8: =J8+K8 -> 727284 | N8: =L8+M8 -> 727284 | P8: =N8+O8 -> 727284
A9: 2 | B9: III. 5.aa | C9: Gyermekétkeztetés támogatása (bértámogatás) | E9: =139/1043*23.9 -> 3.185139 | F9: 2200000 | G9: =E9*F9 -> 7007305.8 | H9: 2.56 | I9: -1367478 | J9: =I9+G9 -> 5639827.8 | L9: =J9+K9 -> 5639827.8 | N9: =L9+M9 -> 5639827.8 | P9: =N9+O9 -> 5639827.8
A10: 2 | B10: III. 5.ab | C10: Gyermekétkeztetés üzemeltetési támogatása | G10: 6518216 | I10: =J10-G10 -> -1554289 | J10: 4963927 | L10: =J10+K10 -> 4963927 | N10: =L10+M10 -> 4963927 | P10: =N10+O10 -> 4963927
A11: 2 | B11: I.5. | C11: 2019. évről áthúzódó és 2020. évi bérkompenzáció támogatása | J11: =I11+G11 -> 0 | L11: =J11+K11 -> 0 | N11: =L11+M11 -> 0 | P11: =N11+O11 -> 0
A12: 2 | B12: II.1. | C12: Kiegészítő támogatás | K12: 8034353 | L12: =J12+K12 -> 8034353 | N12: =L12+M12 -> 8034353 | P12: =N12+O12 -> 8034353
A13: 2 | B13: III. 5.aa | C13: Kiegészítő támogatás intézményi gyermekétkeztetés | K13: =H9*176000 -> 450560 | L13: =J13+K13 -> 450560 | N13: =L13+M13 -> 450560 | P13: =N13+O13 -> 450560
C14: Balatonfüredi Kiserdei óvoda összesen: | G14: =SUM(G4:G11) -> 1.1756502e+08 | I14: =SUM(I4:I11) -> -2826433 | J14: =I14+G14 -> 1.1473859e+08 | K14: =SUM(K4:K13) -> 8484913 | L14: =J14+K14 -> 1.232235e+08 | M14: =SUM(M4:M13) -> -494100 | N14: =L14+M14 -> 1.227294e+08 | O14: =SUM(O4:O13) -> 0 | P14: =N14+O14 -> 1.227294e+08
A16: 2 | B16: II.1. | C16: Óvodapedagógusok elismert létszáma | D16: 11 | E16: 11 | F16: 4371500 | G16: =E16*F16 -> 48086500 | H16: 10 | I16: -4371500 | J16: =G16+I16 -> 43715000 | L16: =J16+K16 -> 43715000 | M16: 437150 | N16: =L16+M16 -> 44152150 | P16: =N16+O16 -> 44152150
A17: 2 | B17: II.1. | C17: Óvodapedagógusok munkáját kvetlenül segítők | D17: 9 | E17: 9 | F17: 2400000 | G17: =E17*F17 -> 21600000 | H17: 5 | I17: -9600000 | J17: =G17+I17 -> 12000000 | L17: =J17+K17 -> 12000000 | M17: 6480000 | N17: =L17+M17 -> 18480000 | P17: =N17+O17 -> 18480000
A18: 2 | B18: II.2. | C18: Óvodaműködtetési támogatás | D18: 118.65 | E18: 118.65 | F18: 97400 | G18: =E18*F18 -> 11556510 | H18: 108.7 | I18: -969130 | J18: =G18+I18 -> 10587380 | L18: =J18+K18 -> 10587380 | M18: 33116 | N18: =L18+M18 -> 10620496 | P18: =N18+O18 -> 10620496
A19: 2 | B19: II.4.a | C19: Pedagógus II. kategóriába sorolt óvodapedagógusok kieg. támog. | E19: 5 | F19: 396700 | G19: =E19*F19 -> 1983500 | H19: 5 | J19: =G19+I19 -> 1983500 | L19: =J19+K19 -> 1983500 | N19: =L19+M19 -> 1983500 | P19: =N19+O19 -> 1983500
A20: 2 | B20: III. 5.aa | C20: Gyermekétkeztetés támogatása (bértámogatás) | E20: =100/1043*23.9 -> 2.2914669 | F20: 2200000 | G20: =E20*F20 -> 5041227.2 | H20: 2.03 | I20: -560076 | J20: =G20+I20 -> 4481151.2 | L20: =J20+K20 -> 4481151.2 | N20: =L20+M20 -> 4481151.2 | P20: =N20+O20 -> 4481151.2
A21: 2 | B21: III. 5.ab | C21: Gyermekétkeztetés üzemeltetési támogatása | G21: 5509565 | I21: =J21-G21 -> -893197 | J21: 4616368 | L21: =J21+K21 -> 4616368 | N21: =L21+M21 -> 4616368 | P21: =N21+O21 -> 4616368
A22: 2 | B22: I.5. | C22: 2019. évről áthúzódó és 2020. évi bérkompenzáció támogatása | I22: 34075 | J22: =G22+I22 -> 34075 | K22: =15334 -> 15334 | L22: =J22+K22 -> 49409 | M22: 15246 | N22: =L22+M22 -> 64655 | P22: =N22+O22 -> 64655
A23: 2 | B23: II.1. | C23: Kiegészítő támogatás | K23: 4659706 | L23: =J23+K23 -> 4659706 | N23: =L23+M23 -> 4659706 | P23: =N23+O23 -> 4659706
A24: 2 | B24: III. 5.aa | C24: Kiegészítő támogatás | K24: =H20*176000 -> 357280 | L24: =J24+K24 -> 357280 | N24: =L24+M24 -> 357280 | P24: =N24+O24 -> 357280
C25: Balatonfüredi Óvárosi óvoda összesen: | G25: =SUM(G16:G22) -> 93777302 | I25: =SUM(I16:I22) -> -16359828 | J25: =G25+I25 -> 77417474 | K25: =SUM(K16:K24) -> 5032320 | L25: =J25+K25 -> 82449794 | M25: =SUM(M16:M24) -> 6965512 | N25: =L25+M25 -> 89415306 | O25: =SUM(O16:O24) -> 0 | P25: =N25+O25 -> 89415306
L26: =J26+K26 -> 0 | N26: =L26+M26 -> 0 | P26: =N26+O26 -> 0
A27: 2 | B27: II.1. | C27: Óvodapedagógusok elismert létszáma | D27: 6.5 | E27: 6.5 | F27: 4371500 | G27: =(E27*F27) -> 28414750 | H27: 6.5 | J27: =I27+G27 -> 28414750 | L27: =J27+K27 -> 28414750 | N27: =L27+M27 -> 28414750 | P27: =N27+O27 -> 28414750
A28: 2 | B28: II.1. | C28: Óvodapedagógusok munkáját kvetlenül segítők | D28: 5 | E28: 5 | F28: 2400000 | G28: =E28*F28 -> 12000000 | H28: 5 | J28: =I28+G28 -> 12000000 | L28: =J28+K28 -> 12000000 | N28: =L28+M28 -> 12000000 | P28: =N28+O28 -> 12000000
A29: 2 | B29: II.2. | C29: Óvodaműködtetési támogatás | D29: 68.65 | E29: 68.65 | F29: 97400 | G29: =E29*F29 -> 6686510 | H29: 68.7 | J29: =I29+G29 -> 6686510 | L29: =J29+K29 -> 6686510 | M29: -63310 | N29: =L29+M29 -> 6623200 | P29: =N29+O29 -> 6623200
A30: 2 | B30: II.4.a | C30: Pedagógus II. kategóriába sorolt óvodapedagógusok kieg. támog. | E30: 3 | F30: 396700 | G30: =E30*F30 -> 1190100 | H30: 3 | J30: =I30+G30 -> 1190100 | L30: =J30+K30 -> 1190100 | N30: =L30+M30 -> 1190100 | P30: =N30+O30 -> 1190100
A31: 2 | B31: III. 5.aa | C31: Gyermekétkeztetés támogatása (bértámogatás) | E31: =58/1043*23.9 -> 1.3290508 | F31: 2200000 | G31: =E31*F31 -> 2923911.8 | H31: 1.34 | I31: 7682 | J31: =I31+G31 -> 2931593.8 | L31: =J31+K31 -> 2931593.8 | N31: =L31+M31 -> 2931593.8 | P31: =N31+O31 -> 2931593.8
A32: 2 | B32: III. 5.ab | C32: Gyermekétkeztetés üzemeltetési támogatása | G32: 2753521 | I32: =J32-G32 -> 45796 | J32: 2799317 | L32: =J32+K32 -> 2799317 | N32: =L32+M32 -> 2799317 | P32: =N32+O32 -> 2799317
A33: 2 | B33: I.5. | C33: 2019. évről áthúzódó és 2020. évi bérkompenzáció támogatása | J33: =I33+G33 -> 0 | L33: =J33+K33 -> 0 | N33: =L33+M33 -> 0 | P33: =N33+O33 -> 0
A34: 2 | B34: II.1. | C34: Kiegészítő támogatás | K34: 3892975 | L34: =J34+K34 -> 3892975 | N34: =L34+M34 -> 3892975 | P34: =N34+O34 -> 3892975
A35: 2 | B35: III. 5.aa | K35: =H31*176000 -> 235840 | L35: =J35+K35 -> 235840 | N35: =L35+M35 -> 235840 | P35: =N35+O35 -> 235840
C36: Balatonfüredi Tündérkert óvoda összesen: | G36: =SUM(G27:G33) -> 53968793 | I36: =SUM(I27:I33) -> 53478 | J36: =I36+G36 -> 54022271 | K36: =SUM(K27:K35) -> 4128815 | L36: =J36+K36 -> 58151086 | M36: =SUM(M27:M35) -> -63310 | N36: =L36+M36 -> 58087776 | O36: =SUM(O27:O35) -> 0 | P36: =N36+O36 -> 58087776
L37: =J37+K37 -> 0 | N37: =L37+M37 -> 0 | P37: =N37+O37 -> 0
A38: 2 | B38: II.1. | C38: Óvodapedagógusok elismert létszáma (8 hó) | D38: 3.2 | E38: 3.2 | F38: 4371500 | G38: =E38*F38 -> 13988800 | H38: 3.3 | I38: 437150 | J38: =G38+I38 -> 14425950 | L38: =J38+K38 -> 14425950 | N38: =L38+M38 -> 14425950 | P38: =N38+O38 -> 14425950
A39: 2 | B39: II.1. | C39: Óvodapedagógusok munkáját kvetlenül segítők (8 hó) | D39: 2 | E39: 2 | F39: 2400000 | G39: =E39*F39 -> 4800000 | H39: 2 | J39: =G39+I39 -> 4800000 | L39: =J39+K39 -> 4800000 | N39: =L39+M39 -> 4800000 | P39: =N39+O39 -> 4800000
A40: 2 | B40: II.2. | C40: Óvodaműködtetési támogatás | D40: 34 | E40: 34 | F40: 97400 | G40: =E40*F40 -> 3311600 | H40: 34.7 | I40: 63310 | J40: =G40+I40 -> 3374910 | L40: =J40+K40 -> 3374910 | M40: 974 | N40: =L40+M40 -> 3375884 | P40: =N40+O40 -> 3375884
A41: 2 | B41: II.4.a | C41: Pedagógus II. kategóriába sorolt óvodapedagógusok kieg. támog. | E41: 1 | F41: 396700 | G41: =E41*F41 -> 396700 | H41: 1 | J41: =G41+I41 -> 396700 | L41: =J41+K41 -> 396700 | N41: =L41+M41 -> 396700 | P41: =N41+O41 -> 396700
A42: 2 | B42: II.4.b | C42: Pedagógus II. kategóriába sorolt óvodapedagógusok kieg. támog. | E42: 0 | F42: 363642 | G42: =E42*F42 -> 0 | J42: =G42+I42 -> 0 | L42: =J42+K42 -> 0 | N42: =L42+M42 -> 0 | P42: =N42+O42 -> 0
...

Sheet 3.sz. tábla  (2)
A3: BALATONFÜRED VÁROS ÖNKORMÁNYZAT BEVÉTELI ELŐIRÁNYZATAI KÖLTSÉGVETÉSI SZERVEK SZERINTI BONTÁSBAN 2020. ÉV | R3: BALATONFÜRED VÁROS ÖNKORMÁNYZAT BEVÉTELI ELŐIRÁNYZATAI KÖLTSÉGVETÉSI SZERVEK SZERINTI BONTÁSBAN 2020. ÉV
A6: MEGNEVEZÉS | B6: ÁLLAMI TÁMOGATÁS | F6: ÖNKORMÁNYZATI TÁMOGATÁS | J6: IRÁNYÍTÓ SZERVTŐL KAPOTT TÁMOGATÁS | N6: SAJÁT BEVÉTEL | R6: MEGNEVEZÉS | S6: MARADVÁNY IGÉNYBEVÉTEL | W6: FINANSZÍROZÁSI CÉLÚ BEVÉTELEK | AA6: BEVÉTELEK ÖSSZESEN | AE6: 2020. ÉV
AE7: Kötelező feladatok | AF7: Önként vállalt feladatok | AH7: Államigazgatási feladatok
B8: 2020. évi eredeti ei. | C8: 2020. évi módosított ei. III. | D8: 2020. évi módosított ei. IV. | E8: Eltérés | F8: 2020. évi eredeti ei. | G8: 2020. évi módosított ei. III. | H8: 2020. évi módosított ei. IV. | I8: Eltérés | J8: 2020. évi eredeti ei. | K8: 2020. évi módosított ei. III. | L8: 2020. évi módosított ei. IV. | M8: Eltérés | N8: 2020. évi eredeti ei. | O8: 2020. évi módosított ei. III. | P8: 2020. évi módosított ei. IV. | Q8: Eltérés | S8: 2020. évi eredeti ei. | T8: 2020. évi módosított ei. III. | U8: 2020. évi módosított ei. IV. | V8: Eltérés | W8: 2020. évi eredeti ei. | X8: 2020. évi módosított ei. III. | Y8: 2020. évi módosított ei. IV. | Z8: Eltérés | AA8: 2020. évi eredeti ei. | AB8: 2020. évi módosított ei. III. | AC8: 2020. évi módosított ei. IV. | AD8: Eltérés | AF8: Állami támogatás, saját bevétel és költségvetési maradvány | AG8: Önkormányzati támogatás | AH8: Állami támogatás, saját bevétel és költségvetési maradvány | AI8: Önkormányzati támogatás
A9: Lipták Gábor Városi Könyvtár | B9: 17059887 | C9: ='2c. tábla 2020. (2)'!N90 -> 27760954 | D9: ='2c. tábla 2020. (2)'!P90 -> 25760954 | E9: =D9-C9 -> -2000000 | F9: ='2.a tábla ÚJ '!B50-'3.sz. tábla (2)'!B9 -> 40080381 | G9: ='2.a tábla ÚJ '!C50-'3.sz. tábla (2)'!C9 -> 19933186 | H9: ='2.a tábla ÚJ '!D50-'3.sz. tábla (2)'!D9 -> 21933186 | I9: =H9-G9 -> 2000000 | J9: =B9+F9 -> 57140268 | K9: =C9+G9 -> 47694140 | L9: =D9+H9 -> 47694140 | M9: =L9-K9 -> 0 | N9: ='2.a tábla ÚJ '!B44 -> 7301488 | O9: ='2.a tábla ÚJ '!C44 -> 16761488 | P9: ='2.a tábla ÚJ '!D44 -> 16761488 | Q9: =P9-O9 -> 0 | R9: Lipták Gábor Városi Könyvtár | S9: ='2.a tábla ÚJ '!B46 -> 10526479 | T9: ='2.a tábla ÚJ '!C46 -> 12932260 | U9: ='2.a tábla ÚJ '!D46 -> 12743049 | V9: =U9-T9 -> -189211 | AA9: =J9+N9+S9+W9 -> 74968235 | AB9: =K9+O9+T9+X9 -> 77387888 | AC9: =L9+P9+U9+Y9 -> 77198677 | AD9: =AC9-AB9 -> -189211 | AE9: =AC9 -> 77198677 | AJ9: =SUM(AE9:AI9) -> 77198677
A10: Balatonfüredi Városi Szakorvosi Rendelőintézet | B10: 0 | C10: ='2c. tábla 2020. (2)'!N93 -> 689388 | D10: ='2c. tábla 2020. (2)'!P93 -> 689388 | E10: =D10-C10 -> 0 | F10: ='2.a tábla ÚJ '!F50-'3.sz. tábla (2)'!B10 -> 79366730 | G10: ='2.a tábla ÚJ '!G50-'3.sz. tábla (2)'!C10 -> 70800924 | H10: ='2.a tábla ÚJ '!H50-'3.sz. tábla (2)'!D10 -> 70800924 | I10: =H10-G10 -> 0 | J10: =B10+F10 -> 79366730 | K10: =C10+G10 -> 71490312 | L10: =D10+H10 -> 71490312 | M10: =L10-K10 -> 0 | N10: ='2.a tábla ÚJ '!F44 -> 181933270 | O10: ='2.a tábla ÚJ '!G44 -> 201713219 | P10: ='2.a tábla ÚJ '!H44 -> 201713219 | Q10: =P10-O10 -> 0 | R10: Balatonfüredi Városi Szakorvosi Rendelőintézet | S10: ='2.a tábla ÚJ '!F46 -> 0 | T10: ='2.a tábla ÚJ '!G46 -> 11085110 | U10: ='2.a tábla ÚJ '!H46 -> 11085416 | V10: =U10-T10 -> 306 | AA10: =J10+N10+S10+W10 -> 261300000 | AB10: =K10+O10+T10+X10 -> 284288641 | AC10: =L10+P10+U10+Y10 -> 284288947 | AD10: =AC10-AB10 -> 306 | AE10: =155111872+62161+17500000+39753+3062500+1566084+330200-83990+1100000-354012 -> 178334568 | AF10: =86619000-2882551+86128+84015+1000000+83990 -> 84990582 | AG10: =19569128-86128-84015+1564506 -> 20963491 | AJ10: =SUM(AE10:AI10) -> 284288641
A11: Balatonfüredi Városi Bölcsőde | B11: 45165455 | C11: ='2c. tábla 2020. (2)'!N61 -> 47423825 | D11: ='2c. tábla 2020. (2)'!P61 -> 47423825 | E11: =D11-C11 -> 0 | F11: ='2.a tábla ÚJ '!J50-'3.sz. tábla (2)'!B11 -> 23803251 | G11: ='2.a tábla ÚJ '!K50-'3.sz. tábla (2)'!C11 -> 17384789 | H11: ='2.a tábla ÚJ '!L50-'3.sz. tábla (2)'!D11 -> 17384789 | I11: =H11-G11 -> 0 | J11: =B11+F11 -> 68968706 | K11: =C11+G11 -> 64808614 | L11: =D11+H11 -> 64808614 | M11: =L11-K11 -> 0 | N11: ='2.a tábla ÚJ '!J44 -> 4433568 | O11: ='2.a tábla ÚJ '!K44 -> 4163568 | P11: ='2.a tábla ÚJ '!L44 -> 4163568 | Q11: =P11-O11 -> 0 | R11: Balatonfüredi Városi Bölcsőde | S11: ='2.a tábla ÚJ '!J46 -> 178958 | T11: ='2.a tábla ÚJ '!K46 -> 4864290 | U11: ='2.a tábla ÚJ '!L46 -> 4865289 | V11: =U11-T11 -> 999 | AA11: =J11+N11+S11+W11 -> 73581232 | AB11: =K11+O11+T11+X11 -> 73836472 | AC11: =L11+P11+U11+Y11 -> 73837471 | AD11: =AC11-AB11 -> 999 | AE11: =AC11-AG11 -> 69633557 | AF11: 0 | AG11: ='4.sz.tábla '!AX8 -> 4203914 | AJ11: =SUM(AE11:AI11) -> 73837471
A12: Intézmények összesen: | B12: =B9+B10+B11 -> 62225342 | C12: =C9+C10+C11 -> 75874167 | D12: =D9+D10+D11 -> 73874167 | E12: =D12-C12 -> -2000000 | F12: =F9+F10+F11 -> 143250362 | G12: =G9+G10+G11 -> 1.081189e+08 | H12: =H9+H10+H11 -> 1.101189e+08 | I12: =H12-G12 -> 2000000 | J12: =B12+F12 -> 205475704 | K12: =C12+G12 -> 183993066 | L12: =D12+H12 -> 183993066 | M12: =L12-K12 -> 0 | N12: =N9+N10+N11 -> 193668326 | O12: =O9+O10+O11 -> 222638275 | P12: =P9+P10+P11 -> 222638275 | Q12: =P12-O12 -> 0 | R12: Intézmények összesen: | S12: =S9+S10+S11 -> 10705437 | T12: =T9+T10+T11 -> 28881660 | U12: =U9+U10+U11 -> 28693754 | V12: =U12-T12 -> -187906 | AA12: =AA9+AA10+AA11 -> 409849467 | AB12: =AB9+AB10+AB11 -> 435513001 | AC12: =AC9+AC10+AC11 -> 435325095 | AD12: =AC12-AB12 -> -187906 | AE12: =SUM(AE9:AE11) -> 325166802 | AF12: =SUM(AF9:AF11) -> 84990582 | AG12: =SUM(AG9:AG11) -> 25167405 | AI12: =SUM(AI9:AI11) -> 0 | AJ12: =SUM(AE12:AI12) -> 435324789
A13: Balatonfüredi Közös Önkormányzati Hivatal | B13: 179444400 | C13: ='2c. tábla 2020. (2)'!L83 -> 215763923 | D13: ='2c. tábla 2020. (2)'!P83 -> 215763923 | E13: =D13-C13 -> 0 | F13: ='2.a tábla ÚJ '!S50-'3.sz. tábla (2)'!B13 -> 238927075 | G13: ='2.a tábla ÚJ '!T50-'3.sz. tábla (2)'!C13 -> 181964040 | H13: ='2.a tábla ÚJ '!U50-'3.sz. tábla (2)'!D13 -> 182232731 | I13: =H13-G13 -> 268691 | J13: =B13+F13 -> 418371475 | K13: =C13+G13 -> 397727963 | L13: =D13+H13 -> 397996654 | M13: =L13-K13 -> 268691 | N13: ='2.a tábla ÚJ '!S44 -> 64232559 | O13: ='2.a tábla ÚJ '!T44 -> 58166385 | P13: ='2.a tábla ÚJ '!U44 -> 58166385 | Q13: =P13-O13 -> 0 | R13: Balatonfüredi Közös Önkormányzati Hivatal | S13: ='2.a tábla ÚJ '!S46 -> 0 | T13: ='2.a tábla ÚJ '!T46 -> 35572714 | U13: ='2.a tábla ÚJ '!U46 -> 35572194 | V13: =U13-T13 -> -520 | AA13: =J13+N13+S13+W13 -> 482604034 | AB13: =K13+O13+T13+X13 -> 491467062 | AC13: =L13+P13+U13+Y13 -> 491735233 | AD13: =AC13-AB13 -> 268171 | AE13: ='4.sz.tábla '!AW10 -> 388760223 | AF13: 0 | AG13: ='4.sz.tábla '!AX10 -> 11931615 | AH13: ='9. sz. tábla (2)'!C84+'9. sz. tábla (2)'!C93 -> 58878147 | AI13: ='4.sz.tábla '!AY10-'3.sz. tábla (2)'!AH14 -> 32165248 | AJ13: =SUM(AE13:AI13) -> 491735233
A14: Költségvetési szervek összesen: | B14: =SUM(B12:B13) -> 241669742 | C14: =SUM(C12:C13) -> 2.9163809e+08 | D14: =SUM(D12:D13) -> 2.8963809e+08 | E14: =D14-C14 -> -2000000 | F14: =SUM(F12:F13) -> 382177437 | G14: =SUM(G12:G13) -> 2.9008294e+08 | H14: =SUM(H12:H13) -> 2.9235163e+08 | I14: =H14-G14 -> 2268691 | J14: =SUM(J12:J13) -> 623847179 | K14: =SUM(K12:K13) -> 581721029 | L14: =SUM(L12:L13) -> 581989720 | M14: =L14-K14 -> 268691 | N14: =SUM(N12:N13) -> 257900885 | O14: =SUM(O12:O13) -> 280804660 | P14: =SUM(P12:P13) -> 280804660 | Q14: =P14-O14 -> 0 | R14: Költségvetési szervek összesen: | S14: =SUM(S12:S13) -> 10705437 | T14: =SUM(T12:T13) -> 64454374 | U14: =SUM(U12:U13) -> 64265948 | V14: =U14-T14 -> -188426 | AA14: =SUM(AA12:AA13) -> 892453501 | AB14: =SUM(AB12:AB13) -> 926980063 | AC14: =SUM(AC12:AC13) -> 927060328 | AD14: =AC14-AB14 -> 80265 | AE14: =SUM(AE12:AE13) -> 713927025 | AF14: =SUM(AF12:AF13) -> 84990582 | AG14: =SUM(AG12:AG13) -> 37099020 | AH14: =SUM(AH12:AH13) -> 58878147 | AI14: =SUM(AI12:AI13) -> 32165248 | AJ14: =SUM(AE14:AI14) -> 927060022
A15: Önkormányzat | B15: 773060392 | C15: =C18-C14 -> 8.9306419e+08 | D15: =D18-D14 -> 8.9506419e+08 | E15: =D15-C15 -> 2000000 | F15: =-F14 -> -382177437 | G15: =-G14 -> -2.9008294e+08 | H15: =-H14 -> -2.9235163e+08 | I15: =H15-G15 -> -2268691 | M15: =L15-K15 -> 0 | N15: ='2.sz.tábla (2)'!B92-'2.sz.tábla (2)'!B75-'2.sz.tábla (2)'!B8 -> 8404882840 | O15: ='2.sz.tábla (2)'!C92-'2.sz.tábla (2)'!C75-'2.sz.tábla (2)'!C8-'2.sz.tábla (2)'!C23 -> 9503127538 | P15: ='2.sz.tábla (2)'!D92-'2.sz.tábla (2)'!D75-'2.sz.tábla (2)'!D8-'2.sz.tábla (2)'!D23 -> 9503054991 | Q15: =P15-O15 -> -72547 | R15: Önkormányzat | S15: ='2.sz.tábla (2)'!B76 -> 2863791597 | T15: ='2.sz.tábla (2)'!C76 -> 3054641190 | U15: ='2.sz.tábla (2)'!D76 -> 3048102611 | V15: =U15-T15 -> -6538579 | W15: ='2.sz.tábla (2)'!B79 -> 438387185 | X15: ='2.sz.tábla (2)'!C79 -> 2302112000 | Y15: ='2.sz.tábla (2)'!D79 -> 2337532853 | Z15: =Y15-X15 -> 35420853 | AA15: =J15+N15+S15+W15+F15+B15 -> 12097944577 | AB15: =K15+O15+T15+X15+G15+C15 -> 15462861979 | AC15: =L15+P15+U15+Y15+H15+D15 -> 15491403015 | AD15: =AC15-AB15 -> 28541036
A16: Mindösszesen: | B16: =SUM(B14:B15) -> 1014730134 | C16: =SUM(C14:C15) -> 1184702280 | D16: =SUM(D14:D15) -> 1184702280 | E16: =D16-C16 -> 0 | F16: =SUM(F14:F15) -> 0 | J16: =SUM(J14:J15) -> 623847179 | K16: =SUM(K14:K15) -> 581721029 | L16: =SUM(L14:L15) -> 581989720 | M16: =L16-K16 -> 268691 | N16: =SUM(N14:N15) -> 8662783725 | O16: =SUM(O14:O15) -> 9783932198 | P16: =SUM(P14:P15) -> 9783859651 | Q16: =P16-O16 -> -72547 | R16: Mindösszesen: | S16: =SUM(S14:S15) -> 2874497034 | T16: =SUM(T14:T15) -> 3119095564 | U16: =SUM(U14:U15) -> 3112368559 | V16: =U16-T16 -> -6727005 | W16: =SUM(W14:W15) -> 438387185 | X16: =SUM(X14:X15) -> 2302112000 | Y16: =SUM(Y14:Y15) -> 2337532853 | Z16: =SUM(Z14:Z15) -> 35420853 | AA16: =SUM(AA14:AA15) -> 12990398078 | AB16: =SUM(AB14:AB15) -> 16389842042 | AC16: =SUM(AC14:AC15) -> 16418463343 | AD16: =AC16-AB16 -> 28621301
AD17: ='2.sz.tábla (2)'!Q92 -> 28621301
B18: 1008634125 | C18: 1184702280 | D18: 1184702280 | AD18: =AD16-AD17 -> 0

Sheet 4.sz.tábla 
A2: AZ ÖNKORMÁNYZAT KIADÁSI ELŐIRÁNYZATAI KÖLTSÉGVETÉSI SZERVEK SZERINTI BONTÁSBAN KIEMELT ELŐIRÁNYZATONKÉNT 2020. ÉV | N2: AZ ÖNKORMÁNYZAT KIADÁSI ELŐIRÁNYZATAI KÖLTSÉGVETÉSI SZERVEK SZERINTI BONTÁSBAN KIEMELT ELŐIRÁNYZATONKÉNT 2020. ÉV | AA2: AZ ÖNKORMÁNYZAT KIADÁSI ELŐIRÁNYZATAI KÖLTSÉGVETÉSI SZERVEK SZERINTI BONTÁSBAN KIEMELT ELŐIRÁNYZATONKÉNT 2020. ÉV | AN2: AZ ÖNKORMÁNYZAT KIADÁSI ELŐIRÁNYZATAI KÖLTSÉGVETÉSI SZERVEK SZERINTI BONTÁSBAN KIEMELT ELŐIRÁNYZATONKÉNT 2020. ÉV
A4: MEGNEVEZÉS | B4: SZEMÉLYI JUTTATÁS | F4: MUNKAADÓKAT TERH. JÁRULÉKOK ÉS SZOCIÁLIS HOZZÁJÁRULÁSI ADÓ | J4: DOLOGI KIADÁSOK | N4: MEGNEVEZÉS | O4: ELLÁTOTTAK PÉNZBELI JUTTATÁSAI | S4: EGYÉB MŰKÖDÉSI CÉLÚ KIADÁSOK | W4: BERUHÁZÁSOK | AA4: MEGNEVEZÉS | AB4: FELÚJÍTÁSOK | AF4: EGYÉB FELHALMOZÁSI KIADÁSOK | AJ4: FINANSZÍROZÁSI KIADÁSOK | AN4: MEGNEVEZÉS | AO4: TARTALÉKOK | AS4: ÖSSZESEN | AW4: 2020. ÉV
B5: 2020. évi eredeti ei. | C5: 2020. évi módosított ei. III. | D5: 2020. évi módosított ei. IV. | E5: Eltérés | F5: 2020. évi eredeti ei. | G5: 2020. évi módosított ei. III. | H5: 2020. évi módosított ei. IV. | I5: Eltérés | J5: 2020. évi eredeti ei. | K5: 2020. évi módosított ei. III. | L5: 2020. évi módosított ei. IV. | M5: Eltérés | O5: 2020. évi eredeti ei. | P5: 2020. évi módosított ei. III. | Q5: 2020. évi módosított ei. IV. | R5: Eltérés | S5: 2020. évi eredeti ei. | T5: 2020. évi módosított ei. III. | U5: 2020. évi módosított ei. IV. | V5: Eltérés | W5: 2020. évi eredeti ei. | X5: 2020. évi módosított ei. III. | Y5: 2020. évi módosított ei. IV. | Z5: Eltérés | AB5: 2020. évi eredeti ei. | AC5: 2020. évi módosított ei. III. | AD5: 2020. évi módosított ei. IV. | AE5: Eltérés | AF5: 2020. évi eredeti ei. | AG5: 2020. évi módosított ei. III. | AH5: 2020. évi módosított ei. IV. | AI5: Eltérés | AJ5: 2020. évi eredeti ei. | AK5: 2020. évi módosított ei. III. | AL5: 2020. évi módosított ei. IV. | AM5: Eltérés | AO5: 2020. évi eredeti ei. | AP5: 2020. évi módosított ei. III. | AQ5: 2020. évi módosított ei. IV. | AR5: Eltérés | AS5: 2020. évi eredeti ei. | AT5: 2020. évi módosított ei. III. | AU5: 2020. évi módosított ei. IV. | AV5: Eltérés | AW5: Kötelező feladatok | AX5: Önként vállalt feladatok | AY5: Államigazgatási feladatok
A6: Lipták Gábor Városi Könyvtár | B6: 38052298 | C6: 39877985 | D6: 39877985 | E6: =D6-C6 -> 0 | F6: 6701937 | G6: 6761529 | H6: 6761529 | I6: =H6-G6 -> 0 | J6: 12638000 | K6: 12537265 | L6: =12537265-189211 -> 12348054 | M6: =L6-K6 -> -189211 | N6: Lipták Gábor Városi Könyvtár | T6: 89479 | U6: 89479 | V6: =U6-T6 -> 0 | W6: =16576000+1000000 -> 17576000 | X6: ='4a. sz. tábla (3)'!D5 -> 18121630 | Y6: 18121630 | Z6: =Y6-X6 -> 0 | AA6: Lipták Gábor Városi Könyvtár | AN6: Lipták Gábor Városi Könyvtár | AS6: =SUM(AB6,AF6,AJ6,W6,S6,O6,J6,F6,B6) -> 74968235 | AT6: =SUM(AC6,AG6,AK6,X6,T6,P6,K6,G6,C6) -> 77387888 | AU6: =SUM(AD6,AH6,AL6,Y6,U6,Q6,L6,H6,D6) -> 77198677 | AV6: =AU6-AT6 -> -189211 | AW6: =AU6 -> 77198677 | AZ6: =SUM(AW6:AY6) -> 77198677
A7: Balatonfüredi Városi Szakorvosi Rendelőintézet | B7: 135386000 | C7: 151163145 | D7: 151163145 | E7: =D7-C7 -> 0 | F7: 24038000 | G7: 25208782 | H7: 25208782 | I7: =H7-G7 -> 0 | J7: 101376000 | K7: 105266244 | L7: =105266244+306 -> 105266550 | M7: =L7-K7 -> 306 | N7: Balatonfüredi Városi Szakorvosi Rendelőintézet | V7: =U7-T7 -> 0 | W7: 500000 | X7: ='4a. sz. tábla (3)'!D14 -> 2650470 | Y7: 2650470 | Z7: =Y7-X7 -> 0 | AA7: Balatonfüredi Városi Szakorvosi Rendelőintézet | AN7: Balatonfüredi Városi Szakorvosi Rendelőintézet | AS7: =SUM(AB7,AF7,AJ7,W7,S7,O7,J7,F7,B7) -> 261300000 | AT7: =SUM(AC7,AG7,AK7,X7,T7,P7,K7,G7,C7) -> 284288641 | AU7: =SUM(AD7,AH7,AL7,Y7,U7,Q7,L7,H7,D7) -> 284288947 | AV7: =AU7-AT7 -> 306 | AW7: =155111872+62161+17500000+39753+3062500+1566084+330200+1100000-297300-56712 -> 178418558 | AX7: =106188128-2503878+74906-378673+39130+1450470+1000000 -> 105870083 | AZ7: =SUM(AW7:AY7) -> 284288641
