Workbook
Name _ftn1: '7.3. tájékoztató tábla'!$A$27
Name _ftnref1: '7.3. tájékoztató tábla'!$A$18

Sheet 1.1.sz.mell.
A1: B E V É T E L E K
A2: 1. sz. táblázat | E2: Forintban!
A3: Sor- szám | B3: Bevételi jogcím | C3: =+CONCATENATE(LEFT(#REF!,4),". évi") -> #REF!
C4: Eredeti előirányzat | D4: Módosított előirányzat | E4: Teljesítés
A5: A | B5: B | C5: C | D5: D | E5: E
A6: 1. | B6: Önkormányzat működési támogatásai (1.1.+…+.1.6.) | C6: =SUM(C7:C12) -> 17217000 | D6: =SUM(D7:D12) -> 17217000 | E6: =SUM(E7:E12) -> 18953218
A7: 1.1. | B7: Helyi önkormányzatok működésének általános támogatása | C7: 10295001 | D7: 10295001 | E7: 10706303
A8: 1.2. | B8: Önkormányzatok egyes köznevelési feladatainak támogatása
A9: 1.3. | B9: Önkormányzatok szociális és gyermekjóléti feladatainak támogatása | C9: 3829260 | D9: 3829260 | E9: 4216324
A10: 1.4. | B10: Önkormányzatok kulturális feladatainak támogatása | C10: 1200000 | D10: 1200000 | E10: 1200000
A11: 1.5. | B11: Működési célú központosított előirányzatok | C11: 1892739 | D11: 1892739 | E11: 1873321
A12: 1.6. | B12: Helyi önkormányzatok kiegészítő támogatásai | E12: 957270
A13: 2. | B13: Működési célú támogatások államháztartáson belülről (2.1.+…+.2.5.) | C13: =SUM(C14:C18) -> 0 | D13: =SUM(D14:D18) -> 0 | E13: =SUM(E14:E18) -> 0
A14: 2.1. | B14: Elvonások és befizetések bevételei
A15: 2.2. | B15: Működési célú garancia- és kezességvállalásból megtérülések
A16: 2.3. | B16: Működési célú visszatérítendő támogatások, kölcsönök visszatérülése
A17: 2.4. | B17: Működési célú visszatérítendő támogatások, kölcsönök igénybevétele
A18: 2.5. | B18: Egyéb működési célú támogatások bevételei
A19: 2.6. | B19: 2.5.-ből EU-s támogatás
A20: 3. | B20: Felhalmozási célú támogatások államháztartáson belülről (3.1.+…+3.5.) | C20: =SUM(C21:C25) -> 0 | D20: =SUM(D21:D25) -> 0 | E20: =SUM(E21:E25) -> 338000
A21: 3.1. | B21: Felhalmozási célú önkormányzati támogatások | E21: 338000
A22: 3.2. | B22: Felhalmozási célú garancia- és kezességvállalásból megtérülések
A23: 3.3. | B23: Felhalmozási célú visszatérítendő támogatások, kölcsönök visszatérülése
A24: 3.4. | B24: Felhalmozási célú visszatérítendő támogatások, kölcsönök igénybevétele
A25: 3.5. | B25: Egyéb felhalmozási célú támogatások bevételei
A26: 3.6. | B26: 3.5.-ből EU-s támogatás
A27: 4. | B27: Közhatalmi bevételek (4.1.+...+4.7.) | C27: =SUM(C28:C33) -> 2500000 | D27: =SUM(D28:D33) -> 2500000 | E27: =SUM(E28:E33) -> 3387768
A28: 4.1. | B28: Építményadó
A29: 4.2. | B29: Idegenforgalmi adó
A30: 4.3. | B30: Iparűzési adó | C30: 1200000 | D30: 1200000 | E30: 1815550
A31: 4.5. | B31: Talajterhelési díj
A32: 4.6. | B32: Egyéb áruhasználati és szolgáltatási adók | E32: 471218
A33: 4.7. | B33: Egyéb közhatalmi bevételek | C33: 1300000 | D33: 1300000 | E33: 1101000
A34: 5. | B34: Működési bevételek (5.1.+…+ 5.10.) | C34: =SUM(C35:C44) -> 470000 | D34: =SUM(D35:D44) -> 470000 | E34: =SUM(E35:E44) -> 1592700
A35: 5.1. | B35: Készletértékesítés ellenértéke
A36: 5.2. | B36: Szolgáltatások ellenértéke | C36: 10000 | D36: 10000 | E36: 745000
A37: 5.3. | B37: Közvetített szolgáltatások értéke
A38: 5.4. | B38: Tulajdonosi bevételek | C38: 450000 | D38: 450000 | E38: 183783
A39: 5.5. | B39: Ellátási díjak
A40: 5.6. | B40: Kiszámlázott általános forgalmi adó
...

Sheet 1.2.sz.mell.
A1: B E V É T E L E K
A2: 1. sz. táblázat | E2: ='1.1.sz.mell.'!E2 -> Forintban!
A3: Sor- szám | B3: Bevételi jogcím | C3: =+'1.1.sz.mell.'!C3:E3 -> #REF!
C4: Eredeti előirányzat | D4: Módosított előirányzat | E4: Teljesítés
A5: A | B5: B | C5: C | D5: D | E5: E
A6: 1. | B6: Önkormányzat működési támogatásai (1.1.+…+.1.6.) | C6: =SUM(C7:C12) -> 17217000 | D6: =SUM(D7:D12) -> 17217000 | E6: =SUM(E7:E12) -> 18953218
A7: 1.1. | B7: Helyi önkormányzatok működésének általános támogatása | C7: 10295001 | D7: 10295001 | E7: 10706303
A8: 1.2. | B8: Önkormányzatok egyes köznevelési feladatainak támogatása
A9: 1.3. | B9: Önkormányzatok szociális és gyermekjóléti feladatainak támogatása | C9: 3829260 | D9: 3829260 | E9: 4216324
A10: 1.4. | B10: Önkormányzatok kulturális feladatainak támogatása | C10: 1200000 | D10: 1200000 | E10: 1200000
A11: 1.5. | B11: Működési célú központosított előirányzatok | C11: 1892739 | D11: 1892739 | E11: 1873321
A12: 1.6. | B12: Helyi önkormányzatok kiegészítő támogatásai | E12: 957270
A13: 2. | B13: Működési célú támogatások államháztartáson belülről (2.1.+…+.2.5.) | C13: =SUM(C14:C18) -> 0 | D13: =SUM(D14:D18) -> 0 | E13: =SUM(E14:E18) -> 0
A14: 2.1. | B14: Elvonások és befizetések bevételei
A15: 2.2. | B15: Működési célú garancia- és kezességvállalásból megtérülések
A16: 2.3. | B16: Működési célú visszatérítendő támogatások, kölcsönök visszatérülése
A17: 2.4. | B17: Működési célú visszatérítendő támogatások, kölcsönök igénybevétele
A18: 2.5. | B18: Egyéb működési célú támogatások bevételei
A19: 2.6. | B19: 2.5.-ből EU-s támogatás
A20: 3. | B20: Felhalmozási célú támogatások államháztartáson belülről (3.1.+…+3.5.) | C20: =SUM(C21:C25) -> 0 | D20: =SUM(D21:D25) -> 0 | E20: =SUM(E21:E25) -> 338000
A21: 3.1. | B21: Felhalmozási célú önkormányzati támogatások | E21: 338000
A22: 3.2. | B22: Felhalmozási célú garancia- és kezességvállalásból megtérülések
A23: 3.3. | B23: Felhalmozási célú visszatérítendő támogatások, kölcsönök visszatérülése
A24: 3.4. | B24: Felhalmozási célú visszatérítendő támogatások, kölcsönök igénybevétele
A25: 3.5. | B25: Egyéb felhalmozási célú támogatások bevételei
A26: 3.6. | B26: 3.5.-ből EU-s támogatás
A27: 4. | B27: Közhatalmi bevételek (4.1.+...+4.7.) | C27: =SUM(C28:C33) -> 2500000 | D27: =SUM(D28:D33) -> 2500000 | E27: =SUM(E28:E33) -> 3387768
A28: 4.1. | B28: Építményadó
A29: 4.2. | B29: Idegenforgalmi adó
A30: 4.3. | B30: Iparűzési adó | C30: 1200000 | D30: 1200000 | E30: 1815550
A31: 4.5. | B31: Talajterhelési díj
A32: 4.6. | B32: Egyéb áruhasználati és szolgáltatási adók | E32: 471218
A33: 4.7. | B33: Egyéb közhatalmi bevételek | C33: 1300000 | D33: 1300000 | E33: 1101000
A34: 5. | B34: Működési bevételek (5.1.+…+ 5.10.) | C34: =SUM(C35:C44) -> 470000 | D34: =SUM(D35:D44) -> 470000 | E34: =SUM(E35:E44) -> 1592700
A35: 5.1. | B35: Készletértékesítés ellenértéke
A36: 5.2. | B36: Szolgáltatások ellenértéke | C36: 10000 | D36: 10000 | E36: 745000
A37: 5.3. | B37: Közvetített szolgáltatások értéke
A38: 5.4. | B38: Tulajdonosi bevételek | C38: 450000 | D38: 450000 | E38: 183783
A39: 5.5. | B39: Ellátási díjak
A40: 5.6. | B40: Kiszámlázott általános forgalmi adó
...

Sheet 2.1.sz.mell  
B1: I. Működési célú bevételek és kiadások mérlege (Önkormányzati szinten) | J1: =+CONCATENATE("2.1. melléklet a 8/2017.",LEFT('1.1.sz.mell.'!C3,4)+1,". (V.31.) önkormányzati rendelethez") -> #REF!
I2: =#REF! -> #REF!
A3: Sor- szám | B3: Bevételek | F3: Kiadások
B4: Megnevezés | C4: =+CONCATENATE(LEFT('1.1.sz.mell.'!C3,4),". évi eredeti előirányzat") -> #REF! | D4: =+CONCATENATE(LEFT('1.1.sz.mell.'!C3,4),". évi módosított előirányzat") -> #REF! | E4: =+CONCATENATE(LEFT('1.1.sz.mell.'!C3,4),". évi teljesítés") -> #REF! | F4: Megnevezés | G4: =+C4 -> #REF! | H4: =+D4 -> #REF! | I4: =+E4 -> #REF!
A5: A | B5: B | C5: C | D5: D | E5: E | F5: F | G5: G | H5: H | I5: I
A6: 1. | B6: Önkormányzatok működési támogatásai | C6: 17217000 | D6: 17217000 | E6: 18953218 | F6: Személyi juttatások | G6: 6032000 | H6: 6351138 | I6: 5655194
A7: 2. | B7: Működési célú támogatások államháztartáson belülről | F7: Munkaadókat terhelő járulékok és szociális hozzájárulási adó | G7: 1420000 | H7: 1710000 | I7: 1389249
A8: 3. | B8: 2.-ból EU-s támogatás | F8: Dologi kiadások | G8: 7751000 | H8: 8408100 | I8: 6235198
A9: 4. | B9: Közhatalmi bevételek | C9: 2500000 | D9: 2500000 | E9: 3387768 | F9: Ellátottak pénzbeli juttatásai | G9: 1200000 | H9: 520358 | I9: 427400
A10: 5. | B10: Működési célú átvett pénzeszközök | E10: 10000 | F10: Egyéb működési célú kiadások | G10: 8272000 | H10: 8663949 | I10: 3932736
A11: 6. | B11: 5.-ből EU-s támogatás | F11: Tartalékok
A12: 7. | B12: Egyéb működési bevételek | C12: 470000 | D12: 470000 | E12: 1592700
A13: 8.
A14: 9.
A15: 10.
A16: 11.
A17: 12.
A18: 13. | B18: Költségvetési bevételek összesen (1.+2.+4.+5.+7.+…+12.) | C18: =+C6+C7+C9+C10+C12+C13+C14+C15+C16+C17 -> 20187000 | D18: =+D6+D7+D9+D10+D12+D13+D14+D15+D16+D17 -> 20187000 | E18: =+E6+E7+E9+E10+E12+E13+E14+E15+E16+E17 -> 23943686 | F18: Költségvetési kiadások összesen (1.+...+12.) | G18: =SUM(G6:G17) -> 24675000 | H18: =SUM(H6:H17) -> 25653545 | I18: =SUM(I6:I17) -> 17639777
A19: 14. | B19: Hiány belső finanszírozásának bevételei (15.+…+18. ) | C19: =+C20+C21+C22+C23 -> 8000000 | D19: =+D20+D21+D22+D23 -> 9594000 | E19: =+E20+E21+E22+E23 -> 9594000 | F19: Értékpapír vásárlása, visszavásárlása
A20: 15. | B20: Költségvetési maradvány igénybevétele | C20: 8000000 | D20: 9594000 | E20: 9594000 | F20: Likviditási célú hitelek törlesztése
A21: 16. | B21: Vállalkozási maradvány igénybevétele | F21: Rövid lejáratú hitelek törlesztése
A22: 17. | B22: Betét visszavonásából származó bevétel | F22: Hosszú lejáratú hitelek törlesztése
A23: 18. | B23: Egyéb belső finanszírozási bevételek | F23: Kölcsön törlesztése
A24: 19. | B24: Hiány külső finanszírozásának bevételei (20.+…+21.) | C24: =+C25+C26 -> 0 | D24: =+D25+D26 -> 0 | E24: =+E25+E26 -> 0 | F24: Forgatási célú belföldi, külföldi értékpapírok vásárlása
A25: 20. | B25: Likviditási célú hitelek, kölcsönök felvétele | F25: Betét elhelyezése
A26: 21. | B26: Értékpapírok bevételei
A27: 22. | B27: Működési célú finanszírozási bevételek összesen (14.+19.) | C27: =+C19+C24 -> 8000000 | D27: =+D19+D24 -> 9594000 | E27: =+E19+E24 -> 9594000 | F27: Működési célú finanszírozási kiadások összesen (14.+...+21.) | G27: =SUM(G19:G26) -> 0 | H27: =SUM(H19:H26) -> 0 | I27: =SUM(I19:I26) -> 0
A28: 23. | B28: BEVÉTEL ÖSSZESEN (13.+22.) | C28: =+C18+C27 -> 28187000 | D28: =+D18+D27 -> 29781000 | E28: =+E18+E27 -> 33537686 | F28: KIADÁSOK ÖSSZESEN (13.+22.) | G28: =+G18+G27 -> 24675000 | H28: =+H18+H27 -> 25653545 | I28: =+I18+I27 -> 17639777
A29: 24. | B29: Költségvetési hiány: | C29: =IF(C18-G18<0,G18-C18,"-") -> 4488000 | D29: =IF(D18-H18<0,H18-D18,"-") -> 5466545 | E29: =IF(E18-I18<0,I18-E18,"-") -> - | F29: Költségvetési többlet: | G29: =IF(C18-G18>0,C18-G18,"-") -> - | H29: =IF(D18-H18>0,D18-H18,"-") -> - | I29: =IF(E18-I18>0,E18-I18,"-") -> 6303909
A30: 25. | B30: Bruttó hiány: | C30: =IF(C28-G28<0,G28-C28,"-") -> - | D30: =IF(D28-H28<0,H28-D28,"-") -> - | E30: =IF(E28-I28<0,I28-E28,"-") -> - | F30: Bruttó többlet: | G30: =IF(C28-G28>0,C28-G28,"-") -> 3512000 | H30: =IF(D28-H28>0,D28-H28,"-") -> 4127455 | I30: =IF(E28-I28>0,E28-I28,"-") -> 15897909

Sheet 2.2.sz.mell  
B1: II. Felhalmozási célú bevételek és kiadások mérlege (Önkormányzati szinten) | J1: =+CONCATENATE("2.2. melléklet a ……/",LEFT('1.1.sz.mell.'!C3,4)+1,". (……) önkormányzati rendelethez") -> #REF!
I2: ='2.1.sz.mell '!I2 -> #REF!
A3: Sor- szám | B3: Bevételek | F3: Kiadások
B4: Megnevezés | C4: =+'2.1.sz.mell '!C4 -> #REF! | D4: =+'2.1.sz.mell '!D4 -> #REF! | E4: =+'2.1.sz.mell '!E4 -> #REF! | F4: Megnevezés | G4: =+'2.1.sz.mell '!C4 -> #REF! | H4: =+'2.1.sz.mell '!D4 -> #REF! | I4: =+'2.1.sz.mell '!E4 -> #REF!
A5: A | B5: B | C5: C | D5: D | E5: E | F5: F | G5: G | H5: H | I5: I
A6: 1. | B6: Felhalmozási célú támogatások államháztartáson belülről | E6: 338000 | F6: Beruházások | G6: 2900000 | H6: 2816000 | I6: 2813874
A7: 2. | B7: 1.-ből EU-s támogatás | F7: 1.-ből EU-s forrásból megvalósuló beruházás
A8: 3. | B8: Felhalmozási bevételek | F8: Felújítások | H8: 235000 | I8: 234556
A9: 4. | B9: Felhalmozási célú átvett pénzeszközök átvétele | F9: 3.-ból EU-s forrásból megvalósuló felújítás
A10: 5. | B10: 4.-ből EU-s támogatás (közvetlen) | F10: Egyéb felhalmozási kiadások
A11: 6. | B11: Egyéb felhalmozási célú bevételek
A12: 7.
A13: 8.
A14: 9.
A15: 10.
A16: 11. | F16: Tartalékok
A17: 12. | B17: Költségvetési bevételek összesen: (1.+3.+4.+6.+…+11.) | C17: =+C6+C8+C9+C11+C12+C13+C14+C15+C16 -> 0 | D17: =+D6+D8+D9+D11+D12+D13+D14+D15+D16 -> 0 | E17: =+E6+E8+E9+E11+E12+E13+E14+E15+E16 -> 338000 | F17: Költségvetési kiadások összesen: (1.+3.+5.+...+11.) | G17: =+G6+G8+G10+G11+G12+G13+G14+G15+G16 -> 2900000 | H17: =+H6+H8+H10+H11+H12+H13+H14+H15+H16 -> 3051000 | I17: =+I6+I8+I10+I11+I12+I13+I14+I15+I16 -> 3048430
A18: 13. | B18: Hiány belső finanszírozás bevételei ( 14+…+18) | C18: =+C19+C20+C21+C22+C23 -> 0 | D18: =+D19+D20+D21+D22+D23 -> 0 | E18: =+E19+E20+E21+E22+E23 -> 1109040 | F18: Értékpapír vásárlása, visszavásárlása
A19: 14. | B19: Költségvetési maradvány igénybevétele | F19: Hitelek törlesztése
A20: 15. | B20: Vállalkozási maradvány igénybevétele | F20: Rövid lejáratú hitelek törlesztése
A21: 16. | B21: Betét visszavonásából származó bevétel | F21: Hosszú lejáratú hitelek törlesztése
A22: 17. | B22: Értékpapír értékesítése | F22: Kölcsön törlesztése
A23: 18. | B23: Egyéb belső finanszírozási bevételek | E23: 1109040 | F23: Befektetési célú belföldi, külföldi értékpapírok vásárlása
A24: 19. | B24: Hiány külső finanszírozásának bevételei (20+…+24 ) | C24: =+C25+C26+C27+C28+C29 -> 0 | D24: =+D25+D26+D27+D28+D29 -> 0 | E24: =+E25+E26+E27+E28+E29 -> 0 | F24: Betét elhelyezése
A25: 20. | B25: Hosszú lejáratú hitelek, kölcsönök felvétele | F25: Pénzügyi lízing kiadásai
A26: 21. | B26: Likviditási célú hitelek, kölcsönök felvétele | F26: Államháztartáson belüli megelőlegezések visszafizetése | G26: 612000 | H26: 1076455 | I26: 1076455
A27: 22. | B27: Rövid lejáratú hitelek, kölcsönök felvétele
A28: 23. | B28: Értékpapírok kibocsátása
A29: 24. | B29: Egyéb külső finanszírozási bevételek
A30: 25. | B30: Felhalmozási célú finanszírozási bevételek összesen (13.+19.) | C30: =+C18+C24 -> 0 | D30: =+D18+D24 -> 0 | E30: =+E18+E24 -> 1109040 | F30: Felhalmozási célú finanszírozási kiadások összesen (13.+...+24.) | G30: =SUM(G18:G29) -> 612000 | H30: =SUM(H18:H29) -> 1076455 | I30: =SUM(I18:I29) -> 1076455
A31: 26. | B31: BEVÉTEL ÖSSZESEN (12+25) | C31: =+C17+C30 -> 0 | D31: =+D17+D30 -> 0 | E31: =+E17+E30 -> 1447040 | F31: KIADÁSOK ÖSSZESEN (12+25) | G31: =+G17+G30 -> 3512000 | H31: =+H17+H30 -> 4127455 | I31: =+I17+I30 -> 4124885
A32: 27. | B32: Költségvetési hiány: | C32: =IF(C17-G17<0,G17-C17,"-") -> 2900000 | D32: =IF(D17-H17<0,H17-D17,"-") -> 3051000 | E32: =IF(E17-I17<0,I17-E17,"-") -> 2710430 | F32: Költségvetési többlet: | G32: =IF(C17-G17>0,C17-G17,"-") -> - | H32: =IF(D17-H17>0,D17-H17,"-") -> - | I32: =IF(E17-I17>0,E17-I17,"-") -> -
A33: 28. | B33: Bruttó hiány: | C33: =IF(C31-G31<0,G31-C31,"-") -> 3512000 | D33: =IF(D31-H31<0,H31-D31,"-") -> 4127455 | E33: =IF(E31-I31<0,I31-E31,"-") -> 2677845 | F33: Bruttó többlet: | G33: =IF(C31-G31>0,C31-G31,"-") -> - | H33: =IF(D31-H31>0,D31-H31,"-") -> - | I33: =IF(E31-I31>0,E31-I31,"-") -> -

Sheet 3.sz.mell.
A1: Beruházási (felhalmozási) kiadások előirányzata beruházásonként | H1: =+CONCATENATE("3. melléklet a ……/",LEFT(#REF!,4)+1,". (……) önkormányzati rendelethez") -> #REF!
G2: ='2.2.sz.mell '!I2 -> #REF!
A3: Beruházás megnevezése | B3: Teljes költség | C3: Kivitelezés kezdési és befejezési éve | D3: =+CONCATENATE("Felhasználás ",LEFT(#REF!,4)-1,". XII.31-ig") -> #REF! | E3: =+CONCATENATE(LEFT(#REF!,4),". évi módosított előirányzat") -> #REF! | F3: =+CONCATENATE(LEFT(#REF!,4),". évi teljesítés") -> #REF! | G3: =+CONCATENATE("Összes teljesítés ",LEFT(#REF!,4),". dec. 31-ig") -> #REF!
A4: A | B4: B | C4: C | D4: D | E4: E | F4: F | G4: G=(D+F)
A5: Eü. Ház tulajdon rész | B5: 350000 | C5: 2016 | E5: 350000 | F5: 350000 | G5: =+D5+F5 -> 350000
A6: Ütvefúró , motor fürész | B6: 269392 | C6: 2016 | E6: 269392 | F6: 243580 | G6: =+D6+F6 -> 243580
A7: Traktor | B7: 927100 | C7: 2016 | E7: 927100 | F7: 927100 | G7: =+D7+F7 -> 927100
A8: Könyvtár | B8: 1209204 | C8: 2016 | E8: 1209204 | F8: 1209204 | G8: =+D8+F8 -> 1209204
A9: Hangfal | B9: 83990 | C9: 2016 | E9: 83990 | F9: 83990 | G9: =+D9+F9 -> 83990
G10: =+D10+F10 -> 0
G11: =+D11+F11 -> 0
G12: =+D12+F12 -> 0
G13: =+D13+F13 -> 0
G14: =+D14+F14 -> 0
G15: =+D15+F15 -> 0
G16: =+D16+F16 -> 0
G17: =+D17+F17 -> 0
G18: =+D18+F18 -> 0
G19: =+D19+F19 -> 0
G20: =+D20+F20 -> 0
G21: =+D21+F21 -> 0
... G23: =+D23+F23 -> 0
A24: ÖSSZESEN: | B24: =SUM(B5:B23) -> 2839686 | D24: =SUM(D5:D23) -> 0 | E24: =SUM(E5:E23) -> 2839686 | F24: =SUM(F5:F23) -> 2813874 | G24: =SUM(G5:G23) -> 2813874

Sheet 4.sz.mell.
A1: Felújítási kiadások előirányzata felújításonként | H1: =+CONCATENATE("4. melléklet a ……/",LEFT(#REF!,4)+1,". (……) önkormányzati rendelethez") -> #REF!
G2: ='3.sz.mell.'!G2 -> #REF!
A3: Felújítás megnevezése | B3: Teljes költség | C3: Kivitelezés kezdési és befejezési éve | D3: =+'3.sz.mell.'!D3 -> #REF! | E3: =+'3.sz.mell.'!E3 -> #REF! | F3: =+'3.sz.mell.'!F3 -> #REF! | G3: =+'3.sz.mell.'!G3 -> #REF!
A4: A | B4: B | C4: C | D4: D | E4: E | F4: F | G4: G=(D+F)
A5: Tűzoltószertár riasztó | B5: 234556 | C5: 2016 | E5: 234556 | F5: 234556 | G5: =+D5+F5 -> 234556
G6: =+D6+F6 -> 0
G7: =+D7+F7 -> 0
G8: =+D8+F8 -> 0
G9: =+D9+F9 -> 0
G10: =+D10+F10 -> 0
G11: =+D11+F11 -> 0
G12: =+D12+F12 -> 0
G13: =+D13+F13 -> 0
G14: =+D14+F14 -> 0
G15: =+D15+F15 -> 0
G16: =+D16+F16 -> 0
G17: =+D17+F17 -> 0
... G23: =+D23+F23 -> 0
A24: ÖSSZESEN: | B24: =SUM(B5:B23) -> 234556 | D24: =SUM(D5:D23) -> 0 | E24: =SUM(E5:E23) -> 234556 | F24: =SUM(F5:F23) -> 234556 | G24: =SUM(G5:G23) -> 234556

Sheet 5. sz. mell. 
A1: EU-s projekt neve, azonosítója:* | N1: =+CONCATENATE("5. melléklet a ……/",LEFT(#REF!,4)+1,". (……) önkormányzati rendelethez ") -> #REF!
M2: ='4.sz.mell.'!G2 -> #REF!
A3: Források | B3: Támogatási szerződés szerinti bevételek, kiadások | J3: Teljesítés
B4: Eredeti | C4: Módosított | D4: Évenkénti üteme
D5: Eredeti | E5: Módosított | F5: Eredeti | G5: Módosított | H5: Eredeti | I5: Módosított
B6: Összes bevétel, kiadás | D6: =+CONCATENATE(LEFT(#REF!,4),". előtt") -> #REF! | F6: =+CONCATENATE(LEFT(#REF!,4),". évi") -> #REF! | H6: =+CONCATENATE(LEFT(#REF!,4),". után") -> #REF! | J6: =+D6 -> #REF! | K6: =+F6 -> #REF! | L6: Összesen | M6: =+CONCATENATE("Teljesítés %-a ",LEFT(#REF!,4),". XII. 31-ig") -> #REF!
A7: A | B7: B | C7: C | D7: D | E7: E | F7: F | G7: G | H7: H | I7: I | J7: J | K7: K | L7: L=(J+K) | M7: M=(L/C)
A8: Saját erő | L8: =+J8+K8 -> 0 | M8: =IF((C8<>0),ROUND((L8/C8)*100,1),"")
A9: - saját erőből központi támogatás | L9: =+J9+K9 -> 0 | M9: =IF((C9<>0),ROUND((L9/C9)*100,1),"")
A10: EU-s forrás | L10: =+J10+K10 -> 0 | M10: =IF((C10<>0),ROUND((L10/C10)*100,1),"")
A11: Társfinanszírozás | L11: =+J11+K11 -> 0 | M11: =IF((C11<>0),ROUND((L11/C11)*100,1),"")
A12: Hitel | L12: =+J12+K12 -> 0 | M12: =IF((C12<>0),ROUND((L12/C12)*100,1),"")
A13: Egyéb forrás | L13: =+J13+K13 -> 0 | M13: =IF((C13<>0),ROUND((L13/C13)*100,1),"")
L14: =+J14+K14 -> 0 | M14: =IF((C14<>0),ROUND((L14/C14)*100,1),"")
A15: Források összesen: | B15: =B8+SUM(B10:B14) -> 0 | C15: =C8+SUM(C10:C14) -> 0 | D15: =D8+SUM(D10:D14) -> 0 | E15: =E8+SUM(E10:E14) -> 0 | F15: =F8+SUM(F10:F14) -> 0 | G15: =G8+SUM(G10:G14) -> 0 | H15: =H8+SUM(H10:H14) -> 0 | I15: =I8+SUM(I10:I14) -> 0 | ... L15: =L8+SUM(L10:L14) -> 0 | M15: =IF((C15<>0),ROUND((L15/C15)*100,1),"")
A17: Kiadások, költségek
A18: Személyi jellegű | L18: =+J18+K18 -> 0 | M18: =IF((C18<>0),ROUND((L18/C18)*100,1),"")
A19: Beruházások, beszerzések | L19: =+J19+K19 -> 0 | M19: =IF((C19<>0),ROUND((L19/C19)*100,1),"")
A20: Szolgáltatások igénybe vétele | L20: =+J20+K20 -> 0 | M20: =IF((C20<>0),ROUND((L20/C20)*100,1),"")
A21: Adminisztratív költségek | L21: =+J21+K21 -> 0 | M21: =IF((C21<>0),ROUND((L21/C21)*100,1),"")
L22: =+J22+K22 -> 0 | M22: =IF((C22<>0),ROUND((L22/C22)*100,1),"")
L23: =+J23+K23 -> 0 | M23: =IF((C23<>0),ROUND((L23/C23)*100,1),"")
A24: Kiadások összesen: | B24: =SUM(B18:B23) -> 0 | C24: =SUM(C18:C23) -> 0 | D24: =SUM(D18:D23) -> 0 | E24: =SUM(E18:E23) -> 0 | F24: =SUM(F18:F23) -> 0 | G24: =SUM(G18:G23) -> 0 | H24: =SUM(H18:H23) -> 0 | I24: =SUM(I18:I23) -> 0 | ... L24: =SUM(L18:L23) -> 0 | M24: =IF((C24<>0),ROUND((L24/C24)*100,1),"")
A25: * Amennyiben több projekt megvalósítása történi egy időben akkor azokat külön-külön, projektenként be kell mutatni!
A27: =+CONCATENATE("Önkormányzaton kívüli EU-s projekthez történő hozzájárulás ",LEFT(#REF!,4),". évi előirányzata és teljesítése") -> #REF!
L28: =M2 -> #REF!
A29: Támogatott neve | K29: Eredeti ei. | L29: Módosított ei. | M29: Teljesítés
A32: Összesen: | K32: =SUM(K30:K31) -> 0 | L32: =SUM(L30:L31) -> 0 | M32: =SUM(M30:M31) -> 0

Sheet 6.1. sz. mell
E1: =+CONCATENATE("6.1. melléklet a ……/",LEFT(#REF!,4)+1,". (……) önkormányzati rendelethez") -> #REF!
A2: Megnevezés | B2: Önkormányzat | E2: 01
A3: Feladat megnevezése | B3: Összes bevétel, kiadás | E3: 01
E4: ='5. sz. mell. '!M2 -> #REF!
A5: Száma | B5: Kiemelt előirányzat, előirányzat megnevezése | C5: Eredeti előirányzat | D5: Módosított előirányzat | E5: Teljesítés
A6: A | B6: B | C6: C | D6: D | E6: E
A7: Bevételek
A8: 1. | B8: Önkormányzat működési támogatásai (1.1.+…+.1.6.) | C8: =SUM(C9:C14) -> 17217000 | D8: =SUM(D9:D14) -> 17217000 | E8: =SUM(E9:E14) -> 18953218
A9: 1.1. | B9: Helyi önkormányzatok működésének általános támogatása | C9: 10295001 | D9: 10295001 | E9: 10706303
A10: 1.2. | B10: Önkormányzatok egyes köznevelési feladatainak támogatása
A11: 1.3. | B11: Önkormányzatok szociális és gyermekjóléti feladatainak támogatása | C11: 3829260 | D11: 3829260 | E11: 4216324
A12: 1.4. | B12: Önkormányzatok kulturális feladatainak támogatása | C12: 1200000 | D12: 1200000 | E12: 1200000
A13: 1.5. | B13: Működési célú központosított előirányzatok | C13: 1892739 | D13: 1892739 | E13: 1873321
A14: 1.6. | B14: Helyi önkormányzatok kiegészítő támogatásai | E14: 957270
A15: 2. | B15: Működési célú támogatások államháztartáson belülről (2.1.+…+.2.5.) | C15: =SUM(C16:C20) -> 0 | D15: =SUM(D16:D20) -> 0 | E15: =SUM(E16:E20) -> 0
A16: 2.1. | B16: Elvonások és befizetések bevételei
A17: 2.2. | B17: Működési célú garancia- és kezességvállalásból megtérülések
A18: 2.3. | B18: Működési célú visszatérítendő támogatások, kölcsönök visszatérülése
A19: 2.4. | B19: Működési célú visszatérítendő támogatások, kölcsönök igénybevétele
A20: 2.5. | B20: Egyéb működési célú támogatások bevételei
A21: 2.6. | B21: 2.5.-ből EU-s támogatás
A22: 3. | B22: Felhalmozási célú támogatások államháztartáson belülről (3.1.+…+3.5.) | C22: =SUM(C23:C27) -> 0 | D22: =SUM(D23:D27) -> 0 | E22: =SUM(E23:E27) -> 338000
A23: 3.1. | B23: Felhalmozási célú önkormányzati támogatások | E23: 338000
A24: 3.2. | B24: Felhalmozási célú garancia- és kezességvállalásból megtérülések
A25: 3.3. | B25: Felhalmozási célú visszatérítendő támogatások, kölcsönök visszatérülése
A26: 3.4. | B26: Felhalmozási célú visszatérítendő támogatások, kölcsönök igénybevétele
A27: 3.5. | B27: Egyéb felhalmozási célú támogatások bevételei
A28: 3.6. | B28: 3.5.-ből EU-s támogatás
A29: 4. | B29: Közhatalmi bevételek (4.1.+...+4.7.) | C29: =SUM(C30:C35) -> 2500000 | D29: =SUM(D30:D35) -> 2500000 | E29: =SUM(E30:E35) -> 3387768
A30: 4.1. | B30: Építményadó
A31: 4.2. | B31: Idegenforgalmi adó
A32: 4.3. | B32: Iparűzési adó | C32: 1200000 | D32: 1200000 | E32: 1815550
A33: 4.5. | B33: Talajterhelési díj
A34: 4.6. | B34: Egyéb áruhasználati és szolgáltatási adók | E34: 471218
A35: 4.7. | B35: Egyéb közhatalmi bevételek | C35: 1300000 | D35: 1300000 | E35: 1101000
A36: 5. | B36: Működési bevételek (5.1.+…+ 5.10.) | C36: =SUM(C37:C46) -> 470000 | D36: =SUM(D37:D46) -> 470000 | E36: =SUM(E37:E46) -> 1592700
A37: 5.1. | B37: Készletértékesítés ellenértéke
A38: 5.2. | B38: Szolgáltatások ellenértéke | C38: 10000 | D38: 10000 | E38: 745000
A39: 5.3. | B39: Közvetített szolgáltatások értéke
A40: 5.4. | B40: Tulajdonosi bevételek | C40: 450000 | D40: 450000 | E40: 183783
...

Sheet 6.2. sz. mell
E1: =+CONCATENATE("6.2. melléklet a ……/",LEFT(#REF!,4)+1,". (……) önkormányzati rendelethez") -> #REF!
A2: Megnevezés | B2: Önkormányzat | E2: 01
A3: Feladat megnevezése | B3: Kötelező feladatok | E3: 02
E4: ='6.1. sz. mell'!E4 -> #REF!
A5: Száma | B5: Kiemelt előirányzat, előirányzat megnevezése | C5: Eredeti előirányzat | D5: Módosított előirányzat | E5: Teljesítés
A6: A | B6: B | C6: C | D6: D | E6: E
A7: Bevételek
A8: 1. | B8: Önkormányzat működési támogatásai (1.1.+…+.1.6.) | C8: =SUM(C9:C14) -> 17217000 | D8: =SUM(D9:D14) -> 17217000 | E8: =SUM(E9:E14) -> 18953218
A9: 1.1. | B9: Helyi önkormányzatok működésének általános támogatása | C9: 10295001 | D9: 10295001 | E9: 10706303
A10: 1.2. | B10: Önkormányzatok egyes köznevelési feladatainak támogatása
A11: 1.3. | B11: Önkormányzatok szociális és gyermekjóléti feladatainak támogatása | C11: 3829260 | D11: 3829260 | E11: 4216324
A12: 1.4. | B12: Önkormányzatok kulturális feladatainak támogatása | C12: 1200000 | D12: 1200000 | E12: 1200000
A13: 1.5. | B13: Működési célú központosított előirányzatok | C13: 1892739 | D13: 1892739 | E13: 1873321
A14: 1.6. | B14: Helyi önkormányzatok kiegészítő támogatásai | E14: 957270
A15: 2. | B15: Működési célú támogatások államháztartáson belülről (2.1.+…+.2.5.) | C15: =SUM(C16:C20) -> 0 | D15: =SUM(D16:D20) -> 0 | E15: =SUM(E16:E20) -> 0
A16: 2.1. | B16: Elvonások és befizetések bevételei
A17: 2.2. | B17: Működési célú garancia- és kezességvállalásból megtérülések
A18: 2.3. | B18: Működési célú visszatérítendő támogatások, kölcsönök visszatérülése
A19: 2.4. | B19: Működési célú visszatérítendő támogatások, kölcsönök igénybevétele
A20: 2.5. | B20: Egyéb működési célú támogatások bevételei
A21: 2.6. | B21: 2.5.-ből EU-s támogatás
A22: 3. | B22: Felhalmozási célú támogatások államháztartáson belülről (3.1.+…+3.5.) | C22: =SUM(C23:C27) -> 0 | D22: =SUM(D23:D27) -> 0 | E22: =SUM(E23:E27) -> 338000
A23: 3.1. | B23: Felhalmozási célú önkormányzati támogatások | E23: 338000
A24: 3.2. | B24: Felhalmozási célú garancia- és kezességvállalásból megtérülések
A25: 3.3. | B25: Felhalmozási célú visszatérítendő támogatások, kölcsönök visszatérülése
A26: 3.4. | B26: Felhalmozási célú visszatérítendő támogatások, kölcsönök igénybevétele
A27: 3.5. | B27: Egyéb felhalmozási célú támogatások bevételei
A28: 3.6. | B28: 3.5.-ből EU-s támogatás
A29: 4. | B29: Közhatalmi bevételek (4.1.+...+4.7.) | C29: =SUM(C30:C35) -> 2500000 | D29: =SUM(D30:D35) -> 2500000 | E29: =SUM(E30:E35) -> 3387768
A30: 4.1. | B30: Építményadó
A31: 4.2. | B31: Idegenforgalmi adó
A32: 4.3. | B32: Iparűzési adó | C32: 1200000 | D32: 1200000 | E32: 1815550
A33: 4.5. | B33: Talajterhelési díj
A34: 4.6. | B34: Egyéb áruhasználati és szolgáltatási adók | E34: 471218
A35: 4.7. | B35: Egyéb közhatalmi bevételek | C35: 1300000 | D35: 1300000 | E35: 1101000
A36: 5. | B36: Működési bevételek (5.1.+…+ 5.10.) | C36: =SUM(C37:C46) -> 470000 | D36: =SUM(D37:D46) -> 470000 | E36: =SUM(E37:E46) -> 1592700
A37: 5.1. | B37: Készletértékesítés ellenértéke
A38: 5.2. | B38: Szolgáltatások ellenértéke | C38: 10000 | D38: 10000 | E38: 745000
A39: 5.3. | B39: Közvetített szolgáltatások értéke
A40: 5.4. | B40: Tulajdonosi bevételek | C40: 450000 | D40: 450000 | E40: 183783
...

Sheet 1.tájékoztató
A1: B E V É T E L E K
A2: 1. sz. táblázat | E2: =#REF! -> #REF!
A3: Sor- szám | B3: Bevételi jogcím | C3: =+CONCATENATE(LEFT(#REF!,4)-1,". évi tény") -> #REF! | D3: =+CONCATENATE(LEFT(#REF!,4),". évi") -> #REF!
D4: Módosított előirányzat | E4: Teljesítés
A5: A | B5: B | C5: C | D5: E | E5: F
A6: 1. | B6: Önkormányzat működési támogatásai (1.1.+…+.1.6.) | C6: =+C7+C8+C9+C10+C11+C12 -> 14522000 | D6: =+D7+D8+D9+D10+D11+D12 -> 17217000 | E6: =+E7+E8+E9+E10+E11+E12 -> 18953218
A7: 1.1. | B7: Helyi önkormányzatok működésének általános támogatása | C7: 12578000 | D7: 10295001 | E7: 10706303
A8: 1.2. | B8: Önkormányzatok egyes köznevelési feladatainak támogatása
A9: 1.3. | B9: Önkormányzatok szociális és gyermekjóléti feladatainak támogatása | D9: 3829260 | E9: 4216324
A10: 1.4. | B10: Önkormányzatok kulturális feladatainak támogatása | C10: 1200000 | D10: 1200000 | E10: 1200000
A11: 1.5. | B11: Működési célú központosított előirányzatok | C11: 371000 | D11: 1892739 | E11: 1873321
A12: 1.6. | B12: Helyi önkormányzatok kiegészítő támogatásai | C12: 373000 | E12: 957270
A13: 2. | B13: Működési célú támogatások államháztartáson belülről (2.1.+…+.2.5.) | C13: =+C14+C15+C16+C17+C18 -> 888000 | D13: =+D14+D15+D16+D17+D18 -> 0 | E13: =+E14+E15+E16+E17+E18 -> 0
A14: 2.1. | B14: Elvonások és befizetések bevételei
A15: 2.2. | B15: Működési célú garancia- és kezességvállalásból megtérülések
A16: 2.3. | B16: Működési célú visszatérítendő támogatások, kölcsönök visszatérülése
A17: 2.4. | B17: Működési célú visszatérítendő támogatások, kölcsönök igénybevétele
A18: 2.5. | B18: Egyéb működési célú támogatások bevételei | C18: 888000
A19: 2.6. | B19: 2.5.-ből EU-s támogatás
A20: 3. | B20: Felhalmozási célú támogatások államháztartáson belülről (3.1.+…+3.5.) | C20: =+C21+C22+C23+C24+C25 -> 0 | D20: =+D21+D22+D23+D24+D25 -> 0 | E20: =+E21+E22+E23+E24+E25 -> 338000
A21: 3.1. | B21: Felhalmozási célú önkormányzati támogatások | E21: 338000
A22: 3.2. | B22: Felhalmozási célú garancia- és kezességvállalásból megtérülések
A23: 3.3. | B23: Felhalmozási célú visszatérítendő támogatások, kölcsönök visszatérülése
A24: 3.4. | B24: Felhalmozási célú visszatérítendő támogatások, kölcsönök igénybevétele
A25: 3.5. | B25: Egyéb felhalmozási célú támogatások bevételei
A26: 3.6. | B26: 3.5.-ből EU-s támogatás
A27: 4. | B27: Közhatalmi bevételek (4.1.+...+4.7.) | C27: =SUM(C28:C33) -> 2743000 | D27: =SUM(D28:D33) -> 2500000 | E27: =SUM(E28:E33) -> 3387768
A28: 4.1. | B28: Építményadó
A29: 4.2. | B29: Idegenforgalmi adó
A30: 4.3. | B30: Iparűzési adó | C30: 1084000 | D30: 1200000 | E30: 1815550
A31: 4.5. | B31: Talajterhelési díj
A32: 4.6. | B32: Egyéb áruhasználati és szolgáltatási adók | C32: 420000 | E32: 471218
A33: 4.7. | B33: Egyéb közhatalmi bevételek | C33: 1239000 | D33: 1300000 | E33: 1101000
A34: 5. | B34: Működési bevételek (5.1.+…+ 5.10.) | C34: =SUM(C35:C44) -> 445000 | D34: =SUM(D35:D44) -> 470000 | E34: =SUM(E35:E44) -> 1592700
A35: 5.1. | B35: Készletértékesítés ellenértéke
A36: 5.2. | B36: Szolgáltatások ellenértéke | C36: 8000 | D36: 10000 | E36: 745000
A37: 5.3. | B37: Közvetített szolgáltatások értéke | C37: 10000
A38: 5.4. | B38: Tulajdonosi bevételek | C38: 420000 | D38: 450000 | E38: 183783
A39: 5.5. | B39: Ellátási díjak
A40: 5.6. | B40: Kiszámlázott általános forgalmi adó
...

Sheet 2. tájékoztató tábla
J1: ='1.tájékoztató'!E2 -> #REF! | K1: =+CONCATENATE("2. tájékoztató tábla a ......../",LEFT(#REF!,4)+1,". (........) önkormányzati rendelethez") -> #REF!
A2: Sor- szám | B2: Kötelezettség jogcíme | C2: Kötelezettség- vállalás éve | D2: Összes vállalt kötelezettség | E2: =+CONCATENATE(LEFT(#REF!,4),". évi teljesítés") -> #REF! | F2: Kötelezettségek a következő években | J2: Még fennálló kötelezettség
F3: =+CONCATENATE(LEFT(#REF!,4)+1,".") -> #REF! | G3: =+CONCATENATE(LEFT(#REF!,4)+2,".") -> #REF! | H3: =+CONCATENATE(LEFT(#REF!,4)+3,".") -> #REF! | I3: =+CONCATENATE(LEFT(#REF!,4)+3,". után") -> #REF!
A4: A | B4: B | C4: C | D4: D | E4: E | F4: F | G4: G | H4: H | I4: I | J4: J=(F+…+I)
A5: 1. | B5: Működési célú hiteltörlesztés (tőke+kamat) | D5: =SUM(D6:D7) -> 0 | E5: =SUM(E6:E7) -> 0 | F5: =SUM(F6:F7) -> 0 | G5: =SUM(G6:G7) -> 0 | H5: =SUM(H6:H7) -> 0 | I5: =SUM(I6:I7) -> 0 | J5: =SUM(F5:I5) -> 0
A6: 2. | B6: ............................ | J6: =SUM(F6:I6) -> 0
A7: 3. | B7: ............................ | J7: =SUM(F7:I7) -> 0
A8: 4. | B8: Felhalmozási célú hiteltörlesztés (tőke+kamat) | D8: =SUM(D9:D10) -> 0 | E8: =SUM(E9:E10) -> 0 | F8: =SUM(F9:F10) -> 0 | G8: =SUM(G9:G10) -> 0 | H8: =SUM(H9:H10) -> 0 | I8: =SUM(I9:I10) -> 0 | J8: =SUM(F8:I8) -> 0
A9: 5. | B9: ............................ | J9: =SUM(F9:I9) -> 0
A10: 6. | B10: ............................ | J10: =SUM(F10:I10) -> 0
A11: 7. | B11: Beruházás feladatonként | D11: =SUM(D12:D12) -> 0 | E11: =SUM(E12:E12) -> 0 | F11: =SUM(F12:F12) -> 0 | G11: =SUM(G12:G12) -> 0 | H11: =SUM(H12:H12) -> 0 | I11: =SUM(I12:I12) -> 0 | J11: =SUM(F11:I11) -> 0
A12: 8. | B12: ............................ | J12: =SUM(F12:I12) -> 0
A13: 9. | B13: Felújítás célonként | D13: =SUM(D14:D14) -> 0 | E13: =SUM(E14:E14) -> 0 | F13: =SUM(F14:F14) -> 0 | G13: =SUM(G14:G14) -> 0 | H13: =SUM(H14:H14) -> 0 | I13: =SUM(I14:I14) -> 0 | J13: =SUM(F13:I13) -> 0
A14: 10. | B14: ............................ | J14: =SUM(F14:I14) -> 0
A15: 11. | B15: Egyéb | D15: =SUM(D16:D17) -> 0 | E15: =SUM(E16:E17) -> 0 | F15: =SUM(F16:F17) -> 0 | G15: =SUM(G16:G17) -> 0 | H15: =SUM(H16:H17) -> 0 | I15: =SUM(I16:I17) -> 0 | J15: =SUM(F15:I15) -> 0
A16: 12. | B16: ............................ | J16: =SUM(F16:I16) -> 0
A17: 13. | B17: ............................ | J17: =SUM(F17:I17) -> 0
A18: 14. | B18: Összesen (1+4+7+9+11) | D18: =D5+D8+D11+D13+D15 -> 0 | E18: =E5+E8+E11+E13+E15 -> 0 | F18: =F5+F8+F11+F13+F15 -> 0 | G18: =G5+G8+G11+G13+G15 -> 0 | H18: =H5+H8+H11+H13+H15 -> 0 | I18: =I5+I8+I11+I13+I15 -> 0 | J18: =J5+J8+J11+J13+J15 -> 0

Sheet 3. tájékoztató tábla
H1: ='2. tájékoztató tábla'!J1 -> #REF! | I1: =+CONCATENATE("3. tájékoztató tábla a ......../",LEFT(#REF!,4)+1,". (........) önkormányzati rendelethez") -> #REF!
A2: Sor- szám | B2: Hitel, kölcsön | C2: Kölcsön- nyújtás éve | D2: Lejárat éve | E2: =+CONCATENATE("Hitel, kölcsön állomány ",LEFT(#REF!,4),". dec. 31-én") -> #REF! | F2: Hitel, kölcsön állomány december 31-én | H2: =+CONCATENATE(LEFT(#REF!,4)+2,". után") -> #REF!
F3: =+CONCATENATE(LEFT(#REF!,4)+1,".") -> #REF! | G3: =+CONCATENATE(LEFT(#REF!,4)+2,".") -> #REF!
A4: A | B4: B | C4: C | D4: D | E4: E | F4: F | G4: G | H4: H
A5: 1. | B5: Rövid lejáratú | E5: =SUM(E6:E11) -> 0 | F5: =SUM(F6:F11) -> 0 | G5: =SUM(G6:G11) -> 0 | H5: =SUM(H6:H11) -> 0
A6: 2. | B6: ............................
A7: 3. | B7: ............................
A8: 4. | B8: ............................
A9: 5. | B9: ............................
A10: 6. | B10: ............................
A11: 7. | B11: ............................
A12: 8. | B12: Hosszú lejáratú | E12: =SUM(E13:E18) -> 0 | F12: =SUM(F13:F18) -> 0 | G12: =SUM(G13:G18) -> 0 | H12: =SUM(H13:H18) -> 0
A13: 9. | B13: ............................
A14: 10. | B14: ............................
A15: 11. | B15: ............................
A16: 12. | B16: ............................
A17: 13. | B17: ............................
A18: 14. | B18: ............................
A19: 15. | B19: Összesen (1+8) | E19: =E5+E12 -> 0 | F19: =F5+F12 -> 0 | G19: =G5+G12 -> 0 | H19: =H5+H12 -> 0

Sheet 4. tájékoztató tábla
A1: =+CONCATENATE("Adósság állomány alakulása lejárat, eszközök, bel- és külföldi hitelezők szerinti bontásban ",CHAR(10),LEFT(#REF!,4),". december 31-én") -> #REF! | J1: =+CONCATENATE("4. tájékoztató tábla a ......../",LEFT(#REF!,4)+1,". (........) önkormányzati rendelethez") -> #REF!
H2: ='3. tájékoztató tábla'!H1 -> #REF!
A3: Sor-szám | B3: Adósságállomány eszközök szerint | C3: Nem lejárt | D3: Lejárt | I3: Nem lejárt, lejárt összes tartozás
D4: 1-90 nap közötti | E4: 91-180 nap közötti | F4: 181-360 nap közötti | G4: 360 napon túli | H4: Összes lejárt tartozás
A5: A | B5: B | C5: C | D5: D | E5: E | F5: F | G5: G | H5: H=(D+…+G) | I5: I=(C+H)
A6: I. Belföldi hitelezők
A7: 1. | B7: Adóhatósággal szembeni tartozások | H7: =SUM(D7:G7) -> 0 | I7: =C7+H7 -> 0
A8: 2. | B8: Központi költségvetéssel szemben fennálló tartozás | H8: =SUM(D8:G8) -> 0 | I8: =C8+H8 -> 0
A9: 3. | B9: Elkülönített állami pénzalapokkal szembeni tartozás | H9: =SUM(D9:G9) -> 0 | I9: =C9+H9 -> 0
A10: 4. | B10: TB alapokkal szembeni tartozás | H10: =SUM(D10:G10) -> 0 | I10: =C10+H10 -> 0
A11: 5. | B11: Tartozásállomány önkormányzatok és intézmények felé | H11: =SUM(D11:G11) -> 0 | I11: =C11+H11 -> 0
A12: 6. | B12: Szállítói tartozás | H12: =SUM(D12:G12) -> 0 | I12: =C12+H12 -> 0
A13: 7. | B13: Egyéb adósság | H13: =SUM(D13:G13) -> 0 | I13: =C13+H13 -> 0
A14: Belföldi összesen: | C14: =SUM(C7:C13) -> 0 | D14: =SUM(D7:D13) -> 0 | E14: =SUM(E7:E13) -> 0 | F14: =SUM(F7:F13) -> 0 | G14: =SUM(G7:G13) -> 0 | H14: =SUM(H7:H13) -> 0 | I14: =SUM(I7:I13) -> 0
A15: II. Külföldi hitelezők
A16: 1. | B16: Külföldi szállítók | H16: =SUM(D16:G16) -> 0 | I16: =C16+H16 -> 0
A17: 2. | B17: Egyéb adósság | H17: =SUM(D17:G17) -> 0 | I17: =C17+H17 -> 0
A18: Külföldi összesen: | C18: =SUM(C16:C17) -> 0 | D18: =SUM(D16:D17) -> 0 | E18: =SUM(E16:E17) -> 0 | F18: =SUM(F16:F17) -> 0 | G18: =SUM(G16:G17) -> 0 | H18: =SUM(H16:H17) -> 0 | I18: =SUM(I16:I17) -> 0
A19: Adósságállomány mindösszesen: | C19: =C14+C18 -> 0 | D19: =D14+D18 -> 0 | E19: =E14+E18 -> 0 | F19: =F14+F18 -> 0 | G19: =G14+G18 -> 0 | H19: =H14+H18 -> 0 | I19: =I14+I18 -> 0

Sheet 5. tájékoztató tábla
D1: ='3. tájékoztató tábla'!H1 -> #REF!
A2: Sor-szám | B2: Bevételi jogcím | C2: Tervezett | D2: Tényleges
A3: A | B3: B | C3: C | D3: D
A4: 1. | B4: Ellátottak térítési díjának méltányosságból történő elengedése
A5: 2. | B5: Ellátottak kártérítésének méltányosságból történő elengedése
A6: 3. | B6: Lakosság részére lakásépítéshez nyújtott kölcsön elengedése
A7: 4. | B7: Lakosság részére lakásfelújításhoz nyújtott kölcsön elengedése
A8: 5. | B8: Helyi adóból biztosított kedvezmény, mentesség összesen
A9: 6. | B9: -ebből: Építményadó
A10: 7. | B10: Telekadó
A11: 8. | B11: Magánszemélyek kommunális adója
A12: 9. | B12: Idegenforgalmi adó tartózkodás után
A13: 10. | B13: Idegenforgalmi adó épület után
A14: 11. | B14: Iparűzési adó állandó jelleggel végzett iparűzési tevékenység után
A15: 12. | B15: Gépjárműadóból biztosított kedvezmény, mentesség
... A19: 16. | B19: Egyéb kölcsön elengedése
A20: 17.
A21: 18.
A22: 19.
A23: 20.
A24: 21.
A25: 22.
A26: 23.
A27: 24.
A28: 25.
A29: 26. | B29: Összesen: | C29: =+C4+C5+C6+C7+C8+C15+C16+C17+C18+C19+C20+C21+C22+C23+C24+C25+C26+C27+C28 -> 0 | D29: =+D4+D5+D6+D7+D8+D15+D16+D17+D18+D19+D20+D21+D22+D23+D24+D25+D26+D27+D28 -> 0
B30: A helyi adókból biztosított kedvezményeket, mentességeket, adónemenként kell feltüntetni.

Sheet 6. tájékoztató tábla
E1: ='5. tájékoztató tábla'!D1 -> #REF!
A2: Sor- szám | B2: Támogatott szervezet neve | C2: Támogatás célja | D2: Tervezett (E Ft) | E2: Tényleges (E Ft)
A3: 1. | B3: Cordial Bt | D3: Egészségügyi szolgáltatás, fejlesztése | E3: 360
A4: 2. | B4: Országos Mentőszolgálat Alapítvány | D4: "Lucas" mellkasi kompressziós rendszer újraélesztéshez szükséges eszköz vásárlás | E4: 30
A5: 3. | B5: Polgárőr Egyesület Kapolcs | D5: működési kiadások | E5: 30
A6: 4. | B6: Nagyvázsonyi Polgárőrség | D6: működési kiadások | E6: 30
A7: 5.
A8: 6.
A9: 7.
A10: 8.
A11: 9.
A12: 10.
A13: 11.
A14: 12.
A15: 13.
A16: 14.
A17: 15.
A18: 16.
... A35: 33.
A36: Összesen: | D36: =SUM(D3:D35) -> 0 | E36: =SUM(E3:E35) -> 450

Sheet 7.1. tájékoztató tábla
A1: =+CONCATENATE("VAGYONKIMUTATÁS",CHAR(10),"a könyvviteli mérlegben értékkel szereplő eszközökről",CHAR(10),LEFT(#REF!,4),".") -> #REF!
C2: ='6. tájékoztató tábla'!E1 -> #REF!
A3: ESZKÖZÖK | B3: Sorszám | C3: Bruttó | D3: Könyv szerinti | E3: Becsült
C5: állományi érték
A6: A | B6: B | C6: C | D6: D | E6: E
A7: I. Immateriális javak | B7: 01.
A8: II. Tárgyi eszközök (03+08+13+18+23) | B8: 02. | C8: =+C9+C14+C19+C24+C29 -> 0 | D8: =+D9+D14+D19+D24+D29 -> 140206703 | E8: =+E9+E14+E19+E24+E29 -> 0
A9: 1. Ingatlanok és kapcsolódó vagyoni értékű jogok (04+05+06+07) | B9: 03. | C9: =+C10+C11+C12+C13 -> 0 | D9: =+D10+D11+D12+D13 -> 137594292 | E9: =+E10+E11+E12+E13 -> 0
A10: 1.1. Forgalomképtelen ingatlanok és kapcsolódó vagyoni értékű jogok | B10: 04.
A11: 1.2. Nemzetgazdasági szempontból kiemelt jelentőségű ingatlanok és kapcsolódó vagyoni értékű jogok | B11: 05.
A12: 1.3. Korlátozottan forgalomképes ingatlanok és kapcsolódó vagyoni értékű jogok | B12: 06. | D12: 137594292
A13: 1.4. Üzleti ingatlanok és kapcsolódó vagyoni értékű jogok | B13: 07.
A14: 2. Gépek, berendezések, felszerelések, járművek (09+10+11+12) | B14: 08. | C14: =+C15+C16+C17+C18 -> 0 | D14: =+D15+D16+D17+D18 -> 118675 | E14: =+E15+E16+E17+E18 -> 0
A15: 2.1. Forgalomképtelen gépek, berendezések, felszerelések, járművek | B15: 09.
A16: 2.2. Nemzetgazdasági szempontból kiemelt jelentőségű gépek, berendezések, felszerelések, járművek | B16: 10.
A17: 2.3. Korlátozottan forgalomképes gépek, berendezések, felszerelések, járművek | B17: 11.
A18: 2.4. Üzleti gépek, berendezések, felszerelések, járművek | B18: 12. | D18: 118675
A19: 3. Tenyészállatok (14+15+16+17) | B19: 13. | C19: =+C20+C21+C22+C23 -> 0 | D19: =+D20+D21+D22+D23 -> 0 | E19: =+E20+E21+E22+E23 -> 0
A20: 3.1. Forgalomképtelen tenyészállatok | B20: 14.
A21: 3.2. Nemzetgazdasági szempontból kiemelt jelentőségű tenyészállatok | B21: 15.
A22: 3.3. Korlátozottan forgalomképes tenyészállatok | B22: 16.
A23: 3.4. Üzleti tenyészállatok | B23: 17.
A24: 4. Beruházások, felújítások (19+20+21+22) | B24: 18. | C24: =+C25+C26+C27+C28 -> 0 | D24: =+D25+D26+D27+D28 -> 2493736 | E24: =+E25+E26+E27+E28 -> 0
A25: 4.1. Forgalomképtelen beruházások, felújítások | B25: 19.
A26: 4.2. Nemzetgazdasági szempontból kiemelt jelentőségű beruházások, felújítások | B26: 20.
A27: 4.3. Korlátozottan forgalomképes beruházások, felújítások | B27: 21.
A28: 4.4. Üzleti beruházások, felújítások | B28: 22. | D28: 2493736
A29: 5. Tárgyi eszközök értékhelyesbítése (24+25+26+27) | B29: 23. | C29: =+C30+C31+C32+C33 -> 0 | D29: =+D30+D31+D32+D33 -> 0 | E29: =+E30+E31+E32+E33 -> 0
A30: 5.1. Forgalomképtelen tárgyi eszközök értékhelyesbítése | B30: 24.
A31: 5.2. Nemzetgazdasági szempontból kiemelt jelentőségű tárgyi eszközök értékhelyesbítése | B31: 25.
A32: 5.3. Korlátozottan forgalomképes tárgyi eszközök értékhelyesbítése | B32: 26.
A33: 5.4. Üzleti tárgyi eszközök értékhelyesbítése | B33: 27.
A34: III. Befektetett pénzügyi eszközök (29+34+39) | B34: 28. | C34: =+C35+C40+C45 -> 0 | D34: =+D35+D40+D45 -> 495000 | E34: =+E35+E40+E45 -> 0
A35: 1. Tartós részesedések (30+31+32+33) | B35: 29. | C35: =+C36+C37+C38+C39 -> 0 | D35: =+D36+D37+D38+D39 -> 495000 | E35: =+E36+E37+E38+E39 -> 0
A36: 1.1. Forgalomképtelen tartós részesedések | B36: 30.
A37: 1.2. Nemzetgazdasági szempontból kiemelt jelentőségű tartós részesedések | B37: 31.
A38: 1.3. Korlátozottan forgalomképes tartós részesedések | B38: 32.
A39: 1.4. Üzleti tartós részesedések | B39: 33. | D39: 495000
A40: 2. Tartós hitelviszonyt megtestesítő értékpapírok (35+36+37+38) | B40: 34. | C40: =+C41+C42+C43+C44 -> 0 | D40: =+D41+D42+D43+D44 -> 0 | E40: =+E41+E42+E43+E44 -> 0
A41: 2.1. Forgalomképtelen tartós hitelviszonyt megtestesítő értékpapírok | B41: 35.
...

Sheet 7.2. tájékoztató tábla
A1: VAGYONKIMUTATÁS a könyvviteli mérlegben értékkel szereplő forrásokról
A2: 2016. év
B4: ='6. tájékoztató tábla'!E1 -> #REF!
A5: FORRÁSOK | B5: Sorszám | C5: állományi érték
A7: A | B7: B | C7: C
A8: I. Nemzeti vagyon induláskori értéke | B8: 01. | C8: 223050192
A9: II. Nemzeti vagyon változásai | B9: 02. | C9: 9385329
A10: III. Egyéb eszközök induláskori értéke és változásai | B10: 03.
A11: IV. Felhalmozott eredmény | B11: 04. | C11: -59719009
A12: V. Eszközök értékhelyesbítésének forrása | B12: 05.
A13: VI. Mérleg szerinti eredmény | B13: 06. | C13: -6537337
A14: G) SAJÁT TŐKE (01+….+06) | B14: 07. | C14: =+C8+C9+C10+C11+C12+C13 -> 166179175
A15: I. Költségvetési évben esedékes kötelezettségek | B15: 08. | C15: 1944894
A16: II. Költségvetési évet követően esedékes kötelezettségek | B16: 09. | C16: 645057
A17: III. Kötelezettség jellegű sajátos elszámolások | B17: 10. | C17: 41869
A18: H) KÖTELEZETTSÉGEK (08+09+10) | B18: 11. | C18: =+C15+C16+C17 -> 2631820
A19: I) KINCSTÁRI SZÁMLAVEZETÉSSEL KAPCSOLATOS ELSZÁMOLÁSOK | B19: 12.
A20: J) PASSZÍV IDŐBELI ELHATÁROLÁSOK | B20: 13.
A21: FORRÁSOK ÖSSZESEN (07+11+12+13) | B21: 14. | C21: =+C14+C18+C19+C20 -> 168810995

Sheet 7.3. tájékoztató tábla
A1: VAGYONKIMUTATÁS az érték nélkül nyilvántartott eszközökről 2016.
A3: Megnevezés | B3: Sorszám | C3: Mennyiség (db) | D3: Értéke (Ft)
A4: A | B4: B | C4: C | D4: D
A5: „0”-ra leírt eszközök | B5: 1.
A6: Használatban lévő kisértékű immateriális javak | B6: 2.
A7: Használatban lévő kisértékű tárgyi eszközök | B7: 3.
A8: Készletek | B8: 4.
A9: 01 számlacsoportban nyilvántartott befektetett eszközök (6+…+9) | B9: 5. | D9: =+D10+D11+D12+D13 -> 0
A10: Államháztartáson belüli vagyonkezelésbe adott eszközök | B10: 6.
A11: Bérbe vett befektetett eszközök | B11: 7.
A12: Letétbe, bizományba, üzemeltetésre átvett befektetett eszközök | B12: 8.
A13: PPP konstrukcióban használt befektetett eszközök | B13: 9.
A14: 02 számlacsoportban nyilvántartott készletek (11+…+13) | B14: 10. | D14: =+D15+D16+D17 -> 0
A15: Bérbe vett készletek | B15: 11.
A16: Letétbe bizományba átvett készletek | B16: 12.
A17: Intervenciós készletek | B17: 13.
A18: Gyűjtemény, régészeti lelet* (15+…+17) | B18: 14. | D18: =+D19+D20+D21 -> 0
A19: Közgyűjtemény | B19: 15.
A20: Saját gyűjteményben nyilvántartott kulturális javak | B20: 16.
A21: Régészeti lelet | B21: 17.
A22: Egyéb érték nélkül nyilvántartott eszközök | B22: 18.
B23: 19.
B24: 20.
B25: 21.
B26: 22.
B27: 23.
B28: 24.
B29: 25.
B30: 26.
B31: 27.
B32: 28.
B33: 29.
B34: 30.
... B37: 33.
A38: Összesen (1+…+4)+5+10+14+(18+…+31): | D38: =+D5+D6+D7+D8+D9+D14+D18+D22+D23+D24+D25+D26+D27+D28+D29+D30+D31+D32+D33+D34+D35+D36+D37 -> 0
A39: * Nvt. 1. § (2) bekezdés g) és h) pontja szerinti kulturális javak és régészeti eszközök

Sheet 7.4. tájékoztató tábla
A1: =+CONCATENATE("VAGYONKIMUTATÁS",CHAR(10),"a függő követelésekről éa kötelezettségekről, a biztos (jövőbeni) követelésekről",CHAR(10),LEFT(#REF!,4),".") -> #REF!
A3: Megnevezés | B3: Sorszám | C3: Nyilvántartott függő követelések, kötelezettségek (db) | D3: Értéke (Ft)
A4: A | B4: B | C4: C | D4: D
A5: Támogatási célú előlegekkel kapcsolatos elszámolási követelések | B5: 1.
A6: Egyéb függő követelések | B6: 2.
A7: Biztos (jövőbeni) követelések | B7: 3.
A8: Függő és biztos (jövőbeni) követelések (1+…+3) | B8: 4. | D8: =+D5+D6+D7 -> 0
A9: Kezességgel-, garanciavállalással kapcsolatos függő kötelezettségek | B9: 5.
A10: Peres ügyekkel kapcsolatos függő kötelezettségek | B10: 6.
A11: El nem ismert tartozások | B11: 7.
A12: Támogatási célú előlegekkel kapcsolatos elszámolási kötelezettségek | B12: 8.
A13: Egyéb függő kötelezettségek | B13: 9.
A14: Függő kötelezettségek (5+…+9) | B14: 10. | D14: =+D9+D10+D11+D12+D13 -> 0
B15: 11.
B16: 12.
B17: 13.
B18: 14.
B19: 15.
B20: 16.
B21: 17.
B22: 18.
B23: 19.
B24: 20.
B25: 21.
B26: 22.
... B37: 33.
A38: Összesen (4+10)+(11+…+33): | D38: =+D8+D14+SUM(D15:D37) -> 0

Sheet 8. tájékoztató tábla
F1: =+CONCATENATE("8. tájékoztató tábla a ......../",LEFT(#REF!,4)+1,". (........) önkormányzati rendelethez") -> #REF!
A2: =+CONCATENATE("A ………Önkormányzat tulajdonában álló gazdálkodó szervezetek működéséből származó",CHAR(10),"kötelezettségek és részesedések alakulása a ",LEFT(#REF!,4),". évben") -> #REF!
A4: Sorszám | B4: Gazdálkodó szervezet megnevezése | C4: Részesedés mértéke (%-ban) | D4: Részesedés összege (Ft-ban) | E4: Működésből származó kötelezettségek összege XII. 31-én (Ft-ban)
A5: 1.
A6: 2.
A7: 3.
A8: 4.
A9: 5.
A10: 6.
A11: 7.
A12: 8.
A13: 9.
A14: 10.
A15: 11.
A16: 12.
... A21: 17.
A22: ÖSSZESEN: | D22: =IF(SUM(D5:D21)=0,"",SUM(D5:D21)) | E22: =IF(SUM(E5:E21)=0,"",SUM(E5:E21))

Sheet 9. tájékoztató tábla
C1: =+CONCATENATE("9. sz. tájékoztató tábla a ……./",LEFT(#REF!,4)+1,".(………) önkormányzati rendelethez") -> #REF!
A3: PÉNZESZKÖZÖK VÁLTOZÁSÁNAK LEVEZETÉSE
A5: Sor-szám | B5: Megnevezés | C5: Összeg (Ft )
A6: 1. | B6: =+CONCATENATE("Pénzkészlet ",LEFT(#REF!,4),". január 1-jén",CHAR(10),"ebből:") -> #REF! | C6: =C7+C8 -> 12700634
A7: 2. | B7:  Bankszámlák egyenlege | C7: 12700634
A8: 3. | B8:  Pénztárak és betétkönyvek egyenlege
A9: 4. | B9: Bevételek ( + ) | C9: 25535584
A10: 5. | B10: Kiadások ( - ) | C10: 21764670
A11: 6. | B11: Egyéb korrekciós tételek (+,-)
A12: 7. | B12: =+CONCATENATE("Záró pénzkészlet ",LEFT(#REF!,4),". december 31-én",CHAR(10),"ebből:") -> #REF! | C12: =C6+C9-C10+C11 -> 16471548
A13: 8. | B13:  Bankszámlák egyenlege | C13: 16471548
A14: 9. | B14:  Pénztárak és betétkönyvek egyenlege

Sheet Munka1
