Workbook

Sheet 1
A1: 1. melléklet Csabrendek Nagyközség Önkormányzata Képviselő-testületének 12/2018 (XI.15.) rendeletéhez
A2: "1. melléklet Csabrendek Nagyközség Önkormányzata Képviselő-testületének 1/2018. (I. 30.) rendeletéhez"
A4: Költségvetési kiadások
C5: Eredeti előirányzat | H5: Módosított előirányzat
C6: Önkormányzat összesen | D6: Csabrendek Nagyközség Önkormányzata | E6: Csabrendeki Közös Önkormányzati Hivatal | F6: Mese-domb Óvoda és Bölcsőde | G6: KÖZSZER | H6: Önkormányzat összesen | I6: Csabrendek Nagyközség Önkormányzata | J6: Csabrendeki Közös Önkormányzati Hivatal | K6: Mese-domb Óvoda és Bölcsőde | L6: KÖZSZER
A7: 1 | B7: 2 | C7: 3 | D7: 4 | E7: 5 | F7: 6 | G7: 7 | H7: 3 | I7: 4 | J7: 5 | K7: 6 | L7: 7
A8: 01 | B8: Törvény szerinti illetmények, munkabérek (K1101) | C8: =SUM(D8:G8) -> 181691000 | D8: 51340000 | E8: 47420000 | F8: 41512000 | G8: 41419000 | H8: =SUM(I8:L8) -> 181921000 | I8: 51197000 | J8: 47420000 | K8: 41512000 | L8: 41792000
A9: 02 | B9: Normatív jutalmak (K1102) | C9: =SUM(D9:G9) -> 1075000 | D9: 1075000 | H9: =SUM(I9:L9) -> 11725000 | I9: 1075000 | J9: 3900000 | K9: 3400000 | L9: 3350000
A10: 03 | B10: Céljuttatás, projektprémium (K1103) | C10: =SUM(D10:G10) -> 1122000 | E10: 1122000 | H10: =SUM(I10:L10) -> 686000 | J10: 686000
A11: 04 | B11: Készenléti, ügyeleti, helyettesítési díj, túlóra, túlszolgálat (K1104) | C11: =SUM(D11:G11) -> 0 | D11: 0 | H11: =SUM(I11:L11) -> 0 | I11: 0
A12: 05 | B12: Végkielégítés (K1105) | C12: =SUM(D12:G12) -> 0 | D12: 0 | H12: =SUM(I12:L12) -> 0 | I12: 0
A13: 06 | B13: Jubileumi jutalom (K1106) | C13: =SUM(D13:G13) -> 2334000 | E13: 1525000 | G13: 809000 | H13: =SUM(I13:L13) -> 3369000 | J13: 2560000 | L13: 809000
A14: 07 | B14: Béren kívüli juttatások (K1107) | C14: =SUM(D14:G14) -> 1919000 | E14: 1919000 | H14: =SUM(I14:L14) -> 1919000 | J14: 1919000
A15: 08 | B15: Ruházati költségtérítés (K1108) | C15: =SUM(D15:G15) -> 0 | D15: 0 | H15: =SUM(I15:L15) -> 0 | I15: 0
A16: 09 | B16: Közlekedési költségtérítés (K1109) | C16: =SUM(D16:G16) -> 1185000 | D16: 550000 | E16: 282000 | F16: 270000 | G16: 83000 | H16: =SUM(I16:L16) -> 1185000 | I16: 550000 | J16: 282000 | K16: 270000 | L16: 83000
A17: 10 | B17: Egyéb költségtérítések (K1110) | C17: =SUM(D17:G17) -> 0 | D17: 0 | H17: =SUM(I17:L17) -> 0 | I17: 0
A18: 11 | B18: Lakhatási támogatások (K1111) | C18: =SUM(D18:G18) -> 0 | D18: 0 | H18: =SUM(I18:L18) -> 0 | I18: 0
A19: 12 | B19: Szociális támogatások (K1112) | C19: =SUM(D19:G19) -> 0 | D19: 0 | H19: =SUM(I19:L19) -> 0 | I19: 0
A20: 13 | B20: Foglalkoztatottak egyéb személyi juttatásai (>=14) (K1113) | C20: =SUM(D20:G20) -> 3794000 | D20: 1600000 | E20: 753000 | F20: 420000 | G20: 1021000 | H20: =SUM(I20:L20) -> 3794000 | I20: 1600000 | J20: 753000 | K20: 420000 | L20: 1021000
A21: 14 | B21: ebből:biztosítási díjak (K1113) | C21: =SUM(D21:G21) -> 0 | D21: 0 | H21: =SUM(I21:L21) -> 0 | I21: 0
A22: 15 | B22: Foglalkoztatottak személyi juttatásai (=01+…+13) (K11) | C22: =SUM(D22:G22) -> 193120000 | D22: =SUM(D8,D9,D10,D11,D12,D13,D14,D15,D16,D17,D18,D19,D20) -> 54565000 | E22: =SUM(E8:E20) -> 53021000 | F22: =SUM(F8:F20) -> 42202000 | G22: =SUM(G8:G20) -> 43332000 | H22: =SUM(I22:L22) -> 204599000 | I22: =SUM(I8,I9,I10,I11,I12,I13,I14,I15,I16,I17,I18,I19,I20) -> 54422000 | J22: =SUM(J8:J20) -> 57520000 | K22: =SUM(K8:K20) -> 45602000 | L22: =SUM(L8:L20) -> 47055000
A23: 16 | B23: Választott tisztségviselők juttatásai (K121) | C23: =SUM(D23:G23) -> 16800000 | D23: 16800000 | H23: =SUM(I23:L23) -> 16800000 | I23: 16800000
A24: 17 | B24: Munkavégzésre irányuló egyéb jogviszonyban nem saját foglalkoztatottnak fizetett juttatások (K122) | C24: =SUM(D24:G24) -> 5330000 | D24: 2950000 | E24: 2380000 | H24: =SUM(I24:L24) -> 5139000 | I24: 3093000 | J24: 2046000
A25: 18 | B25: Egyéb külső személyi juttatások (K123) | C25: =SUM(D25:G25) -> 9569000 | D25: 9247000 | E25: 242000 | F25: 40000 | G25: 40000 | H25: =SUM(I25:L25) -> 9569000 | I25: 9247000 | J25: 242000 | K25: 40000 | L25: 40000
A26: 19 | B26: Külső személyi juttatások (=16+17+18) (K12) | C26: =SUM(D26:G26) -> 31699000 | D26: =SUM(D23,D24,D25) -> 28997000 | E26: =SUM(E23:E25) -> 2622000 | F26: =SUM(F23:F25) -> 40000 | G26: =SUM(G23:G25) -> 40000 | H26: =SUM(I26:L26) -> 31508000 | I26: =SUM(I23,I24,I25) -> 29140000 | J26: =SUM(J23:J25) -> 2288000 | K26: =SUM(K23:K25) -> 40000 | L26: =SUM(L23:L25) -> 40000
A27: 20 | B27: Személyi juttatások (=15+19) (K1) | C27: =SUM(D27:G27) -> 224819000 | D27: =SUM(D22,D26) -> 83562000 | E27: =SUM(E22,E26) -> 55643000 | F27: =F22+F26 -> 42242000 | G27: =G22+G26 -> 43372000 | H27: =SUM(I27:L27) -> 236107000 | I27: =SUM(I22,I26) -> 83562000 | J27: =SUM(J22,J26) -> 59808000 | K27: =K22+K26 -> 45642000 | L27: =L22+L26 -> 47095000
A28: 21 | B28: Munkaadókat terhelő járulékok és szociális hozzájárulási adó (=22+…+27) (K2) | C28: =SUM(D28:G28) -> 42045629 | D28: 13600000 | E28: 11421294 | F28: 8381964 | G28: 8642371 | H28: =SUM(I28:L28) -> 44255629 | I28: 13600000 | J28: 12278294 | K28: =8381964+663000 -> 9044964 | L28: 9332371
A29: 22 | B29: ebből: szociális hozzájárulási adó (K2) | C29: =SUM(D29:G29) -> 0 | D29: 0 | H29: =SUM(I29:L29) -> 0 | I29: 0
A30: 23 | B30: ebből: rehabilitációs hozzájárulás (K2) | C30: =SUM(D30:G30) -> 0 | D30: 0 | H30: =SUM(I30:L30) -> 0 | I30: 0
A31: 24 | B31: ebből: korkedvezmény-biztosítási járulék (K2) | C31: =SUM(D31:G31) -> 0 | D31: 0 | I31: 0
A32: 25 | B32: ebből: egészségügyi hozzájárulás (K2) | C32: =SUM(D32:G32) -> 0 | D32: 0 | H32: =SUM(I32:L32) -> 0 | I32: 0
A33: 26 | B33: ebből: táppénz hozzájárulás (K2) | C33: =SUM(D33:G33) -> 0 | D33: 0 | H33: =SUM(I33:L33) -> 0 | I33: 0
A34: 27 | B34: ebből: munkaadót a foglalkoztatottak részére történő kifizetésekkel kapcsolatban terhelő más járulék jellegű kötelezettségek (K2) | C34: =SUM(D34:G34) -> 0 | D34: 0 | H34: =SUM(I34:L34) -> 0 | I34: 0
A35: 28 | B35: ebből: munkáltatót terhelő személyi jövedelemadó (K2) | C35: =SUM(D35:G35) -> 0 | D35: 0 | H35: =SUM(I35:L35) -> 0 | I35: 0
A36: 29 | B36: Szakmai anyagok beszerzése (K311) | C36: =SUM(D36:G36) -> 1984000 | D36: 1600000 | E36: 30000 | F36: 346000 | G36: 8000 | H36: =SUM(I36:L36) -> 1984000 | I36: 1600000 | J36: 30000 | K36: 346000 | L36: 8000
A37: 30 | B37: Üzemeltetési anyagok beszerzése (K312) | C37: =SUM(D37:G37) -> 59463000 | D37: 34625000 | E37: 1010000 | F37: 600000 | G37: 23228000 | H37: =SUM(I37:L37) -> 59967540 | I37: 35389540 | J37: 1010000 | K37: 600000 | L37: 22968000
A38: 31 | B38: Árubeszerzés (K313) | C38: =SUM(D38:G38) -> 0 | D38: 0 | H38: =SUM(I38:L38) -> 0 | I38: 0
A39: 32 | B39: Készletbeszerzés (=29+30+31) (K31) | C39: =SUM(D39:G39) -> 61447000 | D39: =SUM(D36,D37,D38) -> 36225000 | E39: =SUM(E36:E38) -> 1040000 | F39: =SUM(F36:F38) -> 946000 | G39: =SUM(G36:G38) -> 23236000 | H39: =SUM(I39:L39) -> 61951540 | I39: =SUM(I36,I37,I38) -> 36989540 | J39: =SUM(J36:J38) -> 1040000 | K39: =SUM(K36:K38) -> 946000 | L39: =SUM(L36:L38) -> 22976000
A40: 33 | B40: Informatikai szolgáltatások igénybevétele (K321) | C40: =SUM(D40:G40) -> 1854000 | D40: 460000 | E40: 1005000 | F40: 112000 | G40: 277000 | H40: =SUM(I40:L40) -> 2370000 | I40: 560000 | J40: 1371000 | K40: 112000 | L40: 327000
A41: 34 | B41: Egyéb kommunikációs szolgáltatások (K322) | C41: =SUM(D41:G41) -> 1205000 | D41: 600000 | E41: 255000 | F41: 80000 | G41: 270000 | H41: =SUM(I41:L41) -> 1245000 | I41: 660000 | J41: =255000-20000 -> 235000 | K41: 80000 | L41: 270000
A42: 35 | B42: Kommunikációs szolgáltatások (=33+34) (K32) | C42: =SUM(D42:G42) -> 3059000 | D42: =SUM(D40,D41) -> 1060000 | E42: =SUM(E40:E41) -> 1260000 | F42: =SUM(F40:F41) -> 192000 | G42: =SUM(G40:G41) -> 547000 | H42: =SUM(I42:L42) -> 3615000 | I42: =SUM(I40,I41) -> 1220000 | J42: =SUM(J40:J41) -> 1606000 | K42: =SUM(K40:K41) -> 192000 | L42: =SUM(L40:L41) -> 597000
A43: 36 | B43: Közüzemi díjak (K331) | C43: =SUM(D43:G43) -> 9200000 | D43: 5000000 | E43: 1150000 | F43: 1500000 | G43: 1550000 | H43: =SUM(I43:L43) -> 9410000 | I43: 5000000 | J43: 1150000 | K43: 1500000 | L43: 1760000
A44: 37 | B44: Vásárolt élelmezés (K332) | C44: =SUM(D44:G44) -> 724000 | G44: 724000 | H44: =SUM(I44:L44) -> 724000 | L44: 724000
A45: 38 | B45: Bérleti és lízing díjak (>=39) (K333) | C45: =SUM(D45:G45) -> 2500000 | D45: 2500000 | H45: =SUM(I45:L45) -> 2500000 | I45: 2500000
A46: 39 | B46: ebből: a közszféra és a magánszféra együttműködésén (PPP) alapuló szerződéses konstrukció (K333) | C46: =SUM(D46:G46) -> 0 | D46: 0 | H46: =SUM(I46:L46) -> 0 | I46: 0
A47: 40 | B47: Karbantartási, kisjavítási szolgáltatások (K334) | C47: =SUM(D47:G47) -> 2970000 | D47: 1400000 | E47: 30000 | F47: 180000 | G47: 1360000 | H47: =SUM(I47:L47) -> 5345000 | I47: 3775000 | J47: 30000 | K47: 180000 | L47: 1360000
A48: 41 | B48: Közvetített szolgáltatások (>=42) (K335) | C48: =SUM(D48:G48) -> 7005000 | D48: 6000000 | E48: 40000 | F48: 65000 | G48: 900000 | H48: =SUM(I48:L48) -> 9019000 | I48: 7700000 | J48: 50000 | K48: 369000 | L48: 900000
A49: 42 | B49: ebből: államháztartáson belül (K335) | C49: =SUM(D49:G49) -> 0 | D49: 0 | H49: =SUM(I49:L49) -> 0 | I49: 0
A50: 43 | B50: Szakmai tevékenységet segítő szolgáltatások (K336) | C50: =SUM(D50:G50) -> 2281000 | D50: 1900000 | E50: 100000 | F50: 196000 | G50: 85000 | H50: =SUM(I50:L50) -> 2308000 | I50: 1900000 | J50: =107000+20000 -> 127000 | K50: 196000 | L50: 85000
A51: 44 | B51: Egyéb szolgáltatások (K337) | C51: =SUM(D51:G51) -> 42219000 | D51: 39044000 | E51: 1400000 | F51: 600000 | G51: 1175000 | H51: =SUM(I51:L51) -> 48519000 | I51: 45044000 | J51: 1700000 | K51: 600000 | L51: 1175000
A52: 45 | B52: ebből: biztosítási díjak (K337) | C52: =SUM(D52:G52) -> 0 | D52: 0 | H52: =SUM(I52:L52) -> 0 | I52: 0
A53: 46 | B53: Szolgáltatási kiadások (=36+37+38+40+41+43+44) (K33) | C53: =SUM(D53:G53) -> 66899000 | D53: =SUM(D43,D44,D45,D47,D48,D50,D51) -> 55844000 | E53: =SUM((E43:E45),(E47:E48),(E50:E51)) -> 2720000 | F53: =SUM((F43:F45),(F47:F48),(F50:F51)) -> 2541000 | G53: =SUM((G43:G45),(G47:G48),(G50:G51)) -> 5794000 | H53: =SUM(I53:L53) -> 77825000 | I53: =SUM(I43,I44,I45,I47,I48,I50,I51) -> 65919000 | J53: =SUM((J43:J45),(J47:J48),(J50:J51)) -> 3057000 | K53: =SUM((K43:K45),(K47:K48),(K50:K51)) -> 2845000 | L53: =SUM((L43:L45),(L47:L48),(L50:L51)) -> 6004000
A54: 47 | B54: Kiküldetések kiadásai (K341) | C54: =SUM(D54:G54) -> 820000 | D54: 350000 | E54: 405000 | F54: 60000 | G54: 5000 | H54: =SUM(I54:L54) -> 820000 | I54: 350000 | J54: 405000 | K54: 60000 | L54: 5000
A55: 48 | B55: Reklám- és propagandakiadások (K342) | C55: =SUM(D55:G55) -> 0 | D55: 0 | H55: =SUM(I55:L55) -> 0 | I55: 0
A56: 49 | B56: Kiküldetések, reklám- és propagandakiadások (=47+48) (K34) | C56: =SUM(D56:G56) -> 820000 | D56: =SUM(D54,D55) -> 350000 | E56: =SUM(E54:E55) -> 405000 | F56: =SUM(F54:F55) -> 60000 | G56: =SUM(G54:G55) -> 5000 | H56: =SUM(I56:L56) -> 820000 | I56: =SUM(I54,I55) -> 350000 | J56: =SUM(J54:J55) -> 405000 | K56: =SUM(K54:K55) -> 60000 | L56: =SUM(L54:L55) -> 5000
A57: 50 | B57: Működési célú előzetesen felszámított általános forgalmi adó (K351) | C57: =SUM(D57:G57) -> 28722000 | D57: 20000000 | E57: 1033000 | F57: 885000 | G57: 6804000 | H57: =SUM(I57:L57) -> 28882000 | I57: 20000000 | J57: 1193000 | K57: 885000 | L57: 6804000
A58: 51 | B58: Fizetendő általános forgalmi adó (K352) | C58: =SUM(D58:G58) -> 22621000 | D58: 18500000 | G58: 4121000 | H58: =SUM(I58:L58) -> 40220000 | I58: 36099000 | L58: 4121000
A59: 52 | B59: Kamatkiadások (>=53+54) (K353) | C59: =SUM(D59:G59) -> 0 | D59: 0 | H59: =SUM(I59:L59) -> 1000 | I59: 1000
A60: 53 | B60: ebből: államháztartáson belül (K353) | C60: =SUM(D60:G60) -> 0 | D60: 0 | I60: 0
A61: 54 | B61: ebből: fedezeti ügyletek kamatkiadásai (K353) | C61: =SUM(D61:G61) -> 0 | D61: 0 | I61: 0
A62: 55 | B62: Egyéb pénzügyi műveletek kiadásai (>=56+…+58) (K354) | C62: =SUM(D62:G62) -> 4000 | D62: =SUM(D63,D64,D65) -> 4000 | H62: =SUM(I62:L62) -> 4000 | I62: =SUM(I63,I64,I65) -> 4000
A63: 56 | B63: ebből: valuta, deviza eszközök realizált árfolyamvesztesége (K354) | C63: =SUM(D63:G63) -> 4000 | D63: 4000 | H63: =SUM(I63:L63) -> 4000 | I63: 4000
A64: 57 | B64: ebből: hitelviszonyt megtestesítő értékpapírok árfolyamkülönbözete (K354) | C64: =SUM(D64:G64) -> 0 | D64: 0 | H64: =SUM(I64:L64) -> 0 | I64: 0
A65: 58 | B65: ebből: deviza kötelezettségek realizált árfolyamvesztesége (K354) | C65: =SUM(D65:G65) -> 0 | D65: 0 | H65: =SUM(I65:L65) -> 0 | I65: 0
A66: 59 | B66: Egyéb dologi kiadások (K355) | C66: =SUM(D66:G66) -> 2888000 | D66: 2800000 | E66: 10000 | F66: 8000 | G66: 70000 | H66: =SUM(I66:L66) -> 3027734 | I66: 2800000 | J66: 149734 | K66: 8000 | L66: 70000
A67: 60 | B67: Különféle befizetések és egyéb dologi kiadások (=50+51+52+55+59) (K35) | C67: =SUM(D67:G67) -> 54235000 | D67: =SUM(D57,D58,D59,D62,D66) -> 41304000 | E67: =SUM((E57:E59),(E62,E66)) -> 1043000 | F67: =SUM((F57:F59),(F62,F66)) -> 893000 | G67: =SUM((G57:G59),(G62,G66)) -> 10995000 | H67: =SUM(I67:L67) -> 72134734 | I67: =SUM(I57,I58,I59,I62,I66) -> 58904000 | J67: =SUM((J57:J59),(J62,J66)) -> 1342734 | K67: =SUM((K57:K59),(K62,K66)) -> 893000 | L67: =SUM((L57:L59),(L62,L66)) -> 10995000
A68: 61 | B68: Dologi kiadások (=32+35+46+49+60) (K3) | C68: =SUM(C39,C42,C53,C56,C67) -> 186460000 | D68: =SUM(D39,D42,D53,D56,D67) -> 134783000 | E68: =SUM(E39,E42,E53,E56,E67) -> 6468000 | F68: =SUM(F39,F42,F53,F56,F67) -> 4632000 | G68: =SUM(G39,G42,G53,G56,G67) -> 40577000 | H68: =SUM(H39,H42,H53,H56,H67) -> 216346274 | I68: =SUM(I39,I42,I53,I56,I67) -> 163382540 | J68: =SUM(J39,J42,J53,J56,J67) -> 7450734 | ... L68: =SUM(L39,L42,L53,L56,L67) -> 40577000
A69: 62 | B69: Társadalombiztosítási ellátások (K41) | C69: =SUM(D69:G69) -> 0 | D69: 0 | H69: =SUM(I69:L69) -> 0 | I69: 0
A70: 63 | B70: Családi támogatások (=64+…+73) (K42) | C70: =SUM(D70:G70) -> 905000 | D70: 905000 | H70: =SUM(I70:L70) -> 905000 | I70: 905000
A71: 64 | B71: ebből: családi pótlék (K42) | C71: =SUM(D71:G71) -> 0 | D71: 0 | H71: =SUM(I71:L71) -> 0 | I71: 0
A72: 65 | B72: ebből: anyasági támogatás (K42) | C72: =SUM(D72:G72) -> 0 | D72: 0 | H72: =SUM(I72:L72) -> 0 | I72: 0
A73: 66 | B73: ebből: gyermekgondozást segítő ellátás (K42) | C73: =SUM(D73:G73) -> 0 | D73: 0 | H73: =SUM(I73:L73) -> 0 | I73: 0
A74: 67 | B74: ebből: gyermeknevelési támogatás (K42) | C74: =SUM(D74:G74) -> 0 | D74: 0 | H74: =SUM(I74:L74) -> 0 | I74: 0
A75: 68 | B75: ebből: gyermekek születésével kapcsolatos szabadság megtérítése (K42) | C75: =SUM(D75:G75) -> 0 | D75: 0 | H75: =SUM(I75:L75) -> 0 | I75: 0
A76: 69 | B76: ebből: életkezdési támogatás (K42) | C76: =SUM(D76:G76) -> 0 | D76: 0 | H76: =SUM(I76:L76) -> 0 | I76: 0
A77: 70 | B77: ebből: otthonteremtési támogatás (K42) | C77: =SUM(D77:G77) -> 0 | D77: 0 | H77: =SUM(I77:L77) -> 0 | I77: 0
A78: 71 | B78: ebből: gyermektartásdíj megelőlegezése (K42) | C78: =SUM(D78:G78) -> 0 | D78: 0 | H78: =SUM(I78:L78) -> 0 | I78: 0
A79: 72 | B79: ebből: GYES-en és GYED-en lévők hallgatói hitelének célzott támogatása a Gyvt. 161/T. § (1) bekezdése szerinti támogatás kivételével (K42) | C79: =SUM(D79:G79) -> 0 | D79: 0 | H79: =SUM(I79:L79) -> 0 | I79: 0
A80: 73 | B80: ebből: az egyéb pénzbeli és természetbeni gyermekvédelmi támogatások (K42) | C80: =SUM(D80:G80) -> 0 | D80: 0 | H80: =SUM(I80:L80) -> 0 | I80: 0
A81: 74 | B81: Pénzbeli kárpótlások, kártérítések (K43) | C81: =SUM(D81:G81) -> 0 | D81: 0 | H81: =SUM(I81:L81) -> 0 | I81: 0
A82: 75 | B82: Betegséggel kapcsolatos (nem társadalombiztosítási) ellátások (=76+…+82) (K44) | C82: =SUM(D82:G82) -> 0 | D82: =SUM(D83,D84,D85,D86,D87,D88,D89) -> 0 | H82: =SUM(I82:L82) -> 0 | I82: =SUM(I83,I84,I85,I86,I87,I88,I89) -> 0
A83: 76 | B83: ebből: ápolási díj (K44) | C83: =SUM(D83:G83) -> 0 | D83: 0 | H83: =SUM(I83:L83) -> 0 | I83: 0
A84: 77 | B84: ebből: fogyatékossági támogatás és vakok személyi járadéka (K44) | C84: =SUM(D84:G84) -> 0 | D84: 0 | H84: =SUM(I84:L84) -> 0 | I84: 0
A85: 78 | B85: ebből: mozgáskorlátozottak szerzési és átalakítási támogatása (K44) | C85: =SUM(D85:G85) -> 0 | D85: 0 | H85: =SUM(I85:L85) -> 0 | I85: 0
A86: 79 | B86: ebből: megváltozott munkaképességűek illetve egészségkárosodottak kereset-kiegészítése (K44) | C86: =SUM(D86:G86) -> 0 | D86: 0 | H86: =SUM(I86:L86) -> 0 | I86: 0
A87: 80 | B87: ebből: közgyógyellátás [Szoctv.50.§ (1)-(2) bekezdése] (K44) | C87: =SUM(D87:G87) -> 0 | D87: 0 | E87: 0 | F87: 0 | G87: 0 | H87: =SUM(I87:L87) -> 0 | I87: 0 | J87: 0 | K87: 0 | L87: 0
A88: 81 | B88: ebből: cukorbetegek támogatása (K44) | C88: =SUM(D88:G88) -> 0 | D88: 0 | E88: 0 | F88: 0 | G88: 0 | H88: =SUM(I88:L88) -> 0 | I88: 0 | J88: 0 | K88: 0 | L88: 0
A89: 82 | B89: ebből: egészségügyi szolgáltatási jogosultságra való jogosultság szociális rászorultság alapján [Szoctv. 54. §-a] (K44) | C89: =SUM(D89:G89) -> 0 | D89: 0 | E89: 0 | F89: 0 | G89: 0 | H89: =SUM(I89:L89) -> 0 | I89: 0 | J89: 0 | K89: 0 | L89: 0
A90: 83 | B90: Foglalkoztatással, munkanélküliséggel kapcsolatos ellátások (=84+…+92) (K45) | C90: =SUM(D90:G90) -> 0 | D90: =SUM(D91,D92,D93,D94,D95,D96,D97,D98,D99) -> 0 | E90: 0 | F90: 0 | G90: 0 | H90: =SUM(I90:L90) -> 0 | I90: =SUM(I91,I92,I93,I94,I95,I96,I97,I98,I99) -> 0 | J90: 0 | K90: 0 | L90: 0
A91: 84 | B91: ebből: a Nemzeti Foglalkoztatási Alalpból folyósított passzív, ellátási típusú támogatások, így különösen az álláskeresési járadék, a nyugdíj előtti álláskeresési segély, valamint az ellátások megállapításával kapcsolatos utiköltség-térítés (K45) | C91: =SUM(D91:G91) -> 0 | D91: 0 | E91: 0 | F91: 0 | G91: 0 | H91: =SUM(I91:L91) -> 0 | I91: 0 | J91: 0 | K91: 0 | L91: 0
A92: 85 | B92: ebből: korhatár előtti ellátás és a fegyveres testületek volt tagjai szolgálati járandósága (K45) | C92: =SUM(D92:G92) -> 0 | D92: 0 | E92: 0 | F92: 0 | G92: 0 | H92: =SUM(I92:L92) -> 0 | I92: 0 | J92: 0 | K92: 0 | L92: 0
A93: 86 | B93: ebből: munkáltatói befizetésből finanszírozott korengedményes nyugdíj (K45) | C93: =SUM(D93:G93) -> 0 | D93: 0 | E93: 0 | F93: 0 | G93: 0 | H93: =SUM(I93:L93) -> 0 | I93: 0 | J93: 0 | K93: 0 | L93: 0
A94: 87 | B94: ebből: átmeneti bányászjáradék (K45) | C94: =SUM(D94:G94) -> 0 | D94: 0 | E94: 0 | F94: 0 | G94: 0 | H94: =SUM(I94:L94) -> 0 | I94: 0 | J94: 0 | K94: 0 | L94: 0
A95: 88 | B95: ebből: szénjárandóság pénzbeli megváltása (K45) | C95: =SUM(D95:G95) -> 0 | D95: 0 | E95: 0 | F95: 0 | G95: 0 | H95: =SUM(I95:L95) -> 0 | I95: 0 | J95: 0 | K95: 0 | L95: 0
A96: 89 | B96: ebből: mecseki bányászatban munkát végzők bányászati kereset-kiegészítése (K45) | C96: =SUM(D96:G96) -> 0 | D96: 0 | E96: 0 | F96: 0 | G96: 0 | H96: =SUM(I96:L96) -> 0 | I96: 0 | J96: 0 | K96: 0 | L96: 0
A97: 90 | B97: ebből: mezőgazdasági járadék (K45) | C97: =SUM(D97:G97) -> 0 | D97: 0 | E97: 0 | F97: 0 | G97: 0 | H97: =SUM(I97:L97) -> 0 | I97: 0 | J97: 0 | K97: 0 | L97: 0
A98: 91 | B98: ebből: foglalkoztatást helyettesítő támogatás [Szoctv. 35. § (1) bek.] (K45) | C98: =SUM(D98:G98) -> 0 | D98: 0 | E98: 0 | F98: 0 | G98: 0 | H98: =SUM(I98:L98) -> 0 | I98: 0 | J98: 0 | K98: 0 | L98: 0
A99: 92 | B99: ebből: polgármesterek korhatár előtti ellátása (K45) | C99: =SUM(D99:G99) -> 0 | D99: 0 | E99: 0 | F99: 0 | G99: 0 | H99: =SUM(I99:L99) -> 0 | I99: 0 | J99: 0 | K99: 0 | L99: 0
A100: 93 | B100: Lakhatással kapcsolatos ellátások (=94+…+97) (K46) | C100: =SUM(D100:G100) -> 0 | D100: =SUM(D101,D102,D103,D104) -> 0 | E100: 0 | F100: 0 | G100: 0 | H100: =SUM(I100:L100) -> 0 | I100: =SUM(I101,I102,I103,I104) -> 0 | J100: 0 | K100: 0 | L100: 0
A101: 94 | B101: ebből: hozzájárulás a lakossági energiaköltségekhez (K46) | C101: =SUM(D101:G101) -> 0 | D101: 0 | E101: 0 | F101: 0 | G101: 0 | H101: =SUM(I101:L101) -> 0 | I101: 0 | J101: 0 | K101: 0 | L101: 0
...

Sheet 2
A1: 2. melléklet Csabrendek Nagyközség Önkormányzata Képviselő-testületének 12/2018 (XI.15.) rendeletéhez
A2: "2. melléklet Csabrendek Nagyközség Önkormányzata Képviselő-testületének 1/2018. (I. 30.) rendeletéhez"
A4: Költségvetési bevételek
C5: Eredeti előirányzat | H5: Módosított előirányzat
C6: Önkormányzat összesen | D6: Csabrendek Nagyközség Önkormányzata | E6: Csabrendeki Közös Önkormányzati Hivatal | F6: Mese-domb Óvoda és Bölcsőde | G6: KÖZSZER | H6: Önkormányzat összesen | I6: Csabrendek Nagyközség Önkormányzata | J6: Csabrendeki Közös Önkormányzati Hivatal MÓDOSÍTOTT | K6: Mese-domb Óvoda és Bölcsőde | L6: KÖZSZER
A7: 1 | B7: 2 | C7: 3 | D7: 4 | E7: 5 | F7: 6 | G7: 7 | H7: 3 | I7: 4 | J7: 5 | K7: 6 | L7: 7
A8: 01 | B8: Helyi önkormányzatok működésének általános támogatása (B111) | C8: =SUM(D8,E8,F8,G8) -> 119252218 | D8: 119252218 | H8: =SUM(I8,J8,K8,L8) -> 119252218 | I8: 119252218
A9: 02 | B9: Települési önkormányzatok egyes köznevelési feladatainak támogatása (B112) | C9: =SUM(D9,E9,F9,G9) -> 55661000 | D9: 55661000 | H9: =SUM(I9,J9,K9,L9) -> 56909967 | I9: 56909967
A10: 03 | B10: Települési önkormányzatok szociális, gyermekjóléti és gyermekétkeztetési feladatainak támogatása (B113) | C10: =SUM(D10,E10,F10,G10) -> 88650354 | D10: 88650354 | H10: =SUM(I10,J10,K10,L10) -> 92317298 | I10: 92317298
A11: 04 | B11: Települési önkormányzatok kulturális feladatainak támogatása (B114) | C11: =SUM(D11,E11,F11,G11) -> 3684450 | D11: 3684450 | H11: =SUM(I11,J11,K11,L11) -> 4066217 | I11: 4066217
A12: 05 | B12: Működési célú költségvetési támogatások és kiegészítő támogatások (B115) | C12: =SUM(D12,E12,F12,G12) -> 0 | D12: 0 | H12: =SUM(I12,J12,K12,L12) -> 25143726 | I12: 25143726
A13: 06 | B13: Elszámolásból származó bevételek (B116) | C13: =SUM(D13,E13,F13,G13) -> 0 | D13: 0 | H13: =SUM(I13,J13,K13,L13) -> 0 | I13: 0
A14: 07 | B14: Önkormányzatok működési támogatásai (=01+…+06) (B11) | C14: =SUM(D14,E14,F14,G14) -> 267248022 | D14: =SUM(D8,D9,D10,D11,D12,D13) -> 267248022 | E14: =SUM(E8:E13) -> 0 | F14: =SUM(F8:F13) -> 0 | G14: =SUM(G8:G13) -> 0 | H14: =SUM(I14,J14,K14,L14) -> 297689426 | I14: =SUM(I8,I9,I10,I11,I12,I13) -> 297689426 | J14: =SUM(J8:J13) -> 0 | K14: =SUM(K8:K13) -> 0 | L14: =SUM(L8:L13) -> 0
A15: 08 | B15: Elvonások és befizetések bevételei (B12) | C15: =SUM(D15,E15,F15,G15) -> 0 | D15: 0 | H15: =SUM(I15,J15,K15,L15) -> 0 | I15: 0
A16: 09 | B16: Működési célú garancia- és kezességvállalásból származó megtérülések államháztartáson belülről (B13) | C16: =SUM(D16,E16,F16,G16) -> 0 | D16: 0 | H16: =SUM(I16,J16,K16,L16) -> 0 | I16: 0
A17: 10 | B17: Működési célú visszatérítendő támogatások, kölcsönök visszatérülése államháztartáson belülről (=11+…+20) (B14) | C17: =SUM(D17,E17,F17,G17) -> 0 | D17: =SUM(D18,D19) -> 0 | E17: =SUM(E18:E27) -> 0 | F17: =SUM(F18:F27) -> 0 | G17: =SUM(G18:G27) -> 0 | H17: =SUM(I17,J17,K17,L17) -> 0 | I17: =SUM(I18,I19) -> 0 | J17: =SUM(J18:J27) -> 0 | K17: =SUM(K18:K27) -> 0 | L17: =SUM(L18:L27) -> 0
A18: 11 | B18: ebből: központi költségvetési szervek (B14) | C18: =SUM(D18,E18,F18,G18) -> 0 | D18: 0 | H18: =SUM(I18,J18,K18,L18) -> 0 | I18: 0
A19: 12 | B19: ebből: központi kezelésű előirányzatok (B14) | C19: =SUM(D19,E19,F19,G19) -> 0 | D19: 0 | H19: =SUM(I19,J19,K19,L19) -> 0 | I19: 0
A20: 13 | B20: ebből: fejezeti kezelésű előirányzatok EU-s programokra és azok hazai társfinanszírozása (B14) | C20: =SUM(D20,E20,F20,G20) -> 0 | D20: 0 | H20: =SUM(I20,J20,K20,L20) -> 0 | I20: 0
A21: 14 | B21: ebből: egyéb fejezeti kezelésű előirányzatok (B14) | C21: =SUM(D21,E21,F21,G21) -> 0 | D21: 0 | H21: =SUM(I21,J21,K21,L21) -> 0 | I21: 0
A22: 15 | B22: ebből: társadalombiztosítás pénzügyi alapjai (B14) | C22: =SUM(D22,E22,F22,G22) -> 0 | D22: 0 | H22: =SUM(I22,J22,K22,L22) -> 0 | I22: 0
A23: 16 | B23: ebből: elkülönített állami pénzalapok (B14) | C23: =SUM(D23,E23,F23,G23) -> 0 | D23: 0 | H23: =SUM(I23,J23,K23,L23) -> 0 | I23: 0
A24: 17 | B24: ebből: helyi önkormányzatok és költségvetési szerveik (B14) | C24: =SUM(D24,E24,F24,G24) -> 0 | D24: 0 | H24: =SUM(I24,J24,K24,L24) -> 0 | I24: 0
A25: 18 | B25: ebből: társulások és költségvetési szerveik (B14) | C25: =SUM(D25,E25,F25,G25) -> 0 | D25: 0 | H25: =SUM(I25,J25,K25,L25) -> 0 | I25: 0
A26: 19 | B26: ebből: nemzetiségi önkormányzatok és költségvetési szerveik (B14) | C26: =SUM(D26,E26,F26,G26) -> 0 | D26: 0 | H26: =SUM(I26,J26,K26,L26) -> 0 | I26: 0
A27: 20 | B27: ebből: térségi fejlesztési tanácsok és költségvetési szerveik (B14) | C27: =SUM(D27,E27,F27,G27) -> 0 | D27: 0 | H27: =SUM(I27,J27,K27,L27) -> 0 | I27: 0
A28: 21 | B28: Működési célú visszatérítendő támogatások, kölcsönök igénybevétele államháztartáson belülről (=22+…+31) (B15) | C28: =SUM(D28,E28,F28,G28) -> 0 | D28: =SUM(D29,D30,D31,D32,D33,D34,D35,D36,D37,D38) -> 0 | E28: =SUM(E29:E38) -> 0 | F28: =SUM(F29:F38) -> 0 | G28: =SUM(G29:G38) -> 0 | H28: =SUM(I28,J28,K28,L28) -> 0 | I28: =SUM(I29,I30,I31,I32,I33,I34,I35,I36,I37,I38) -> 0 | J28: =SUM(J29:J38) -> 0 | K28: =SUM(K29:K38) -> 0 | L28: =SUM(L29:L38) -> 0
A29: 22 | B29: ebből: központi költségvetési szervek (B15) | C29: =SUM(D29,E29,F29,G29) -> 0 | D29: 0 | H29: =SUM(I29,J29,K29,L29) -> 0 | I29: 0
A30: 23 | B30: ebből: központi kezelésű előirányzatok (B15) | C30: =SUM(D30,E30,F30,G30) -> 0 | D30: 0 | H30: =SUM(I30,J30,K30,L30) -> 0 | I30: 0
A31: 24 | B31: ebből: fejezeti kezelésű előirányzatok EU-s programokra és azok hazai társfinanszírozása (B15) | C31: =SUM(D31,E31,F31,G31) -> 0 | D31: 0 | H31: =SUM(I31,J31,K31,L31) -> 0 | I31: 0
A32: 25 | B32: ebből: egyéb fejezeti kezelésű előirányzatok (B15) | C32: =SUM(D32,E32,F32,G32) -> 0 | D32: 0 | H32: =SUM(I32,J32,K32,L32) -> 0 | I32: 0
A33: 26 | B33: ebből: társadalombiztosítás pénzügyi alapjai (B15) | C33: =SUM(D33,E33,F33,G33) -> 0 | D33: 0 | H33: =SUM(I33,J33,K33,L33) -> 0 | I33: 0
A34: 27 | B34: ebből: elkülönített állami pénzalapok (B15) | C34: =SUM(D34,E34,F34,G34) -> 0 | D34: 0 | H34: =SUM(I34,J34,K34,L34) -> 0 | I34: 0
A35: 28 | B35: ebből: helyi önkormányzatok és költségvetési szerveik (B15) | C35: =SUM(D35,E35,F35,G35) -> 0 | D35: 0 | H35: =SUM(I35,J35,K35,L35) -> 0 | I35: 0
A36: 29 | B36: ebből: társulások és költségvetési szerveik (B15) | C36: =SUM(D36,E36,F36,G36) -> 0 | D36: 0 | H36: =SUM(I36,J36,K36,L36) -> 0 | I36: 0
A37: 30 | B37: ebből: nemzetiségi önkormányzatok és költségvetési szerveik (B15) | C37: =SUM(D37,E37,F37,G37) -> 0 | D37: 0 | H37: =SUM(I37,J37,K37,L37) -> 0 | I37: 0
A38: 31 | B38: ebből: térségi fejlesztési tanácsok és költségvetési szerveik (B15) | C38: =SUM(D38,E38,F38,G38) -> 0 | D38: 0 | H38: =SUM(I38,J38,K38,L38) -> 0 | I38: 0
A39: 32 | B39: Egyéb működési célú támogatások bevételei államháztartáson belülről (=33+…+42) (B16) | C39: =SUM(D39,E39,F39,G39) -> 138571000 | D39: 133999000 | E39: 4187000 | F39: =SUM(F40:F49) -> 0 | G39: 385000 | H39: =SUM(I39,J39,K39,L39) -> 112094537 | I39: 106973803 | J39: 4326734 | K39: =SUM(K40:K49) -> 0 | L39: 794000
A40: 33 | B40: ebből: központi költségvetési szervek (B16) | C40: =SUM(D40,E40,F40,G40) -> 0 | D40: 0 | H40: =SUM(I40,J40,K40,L40) -> 0 | I40: 0
A41: 34 | B41: ebből: központi kezelésű előirányzatok (B16) | C41: =SUM(D41,E41,F41,G41) -> 0 | D41: 0 | H41: =SUM(I41,J41,K41,L41) -> 0 | I41: 0
A42: 35 | B42: ebből: fejezeti kezelésű előirányzatok EU-s programokra és azok hazai társfinanszírozása (B16) | C42: =SUM(D42,E42,F42,G42) -> 0 | D42: 0 | H42: =SUM(I42,J42,K42,L42) -> 0 | I42: 0
A43: 36 | B43: ebből: egyéb fejezeti kezelésű előirányzatok (B16) | C43: =SUM(D43,E43,F43,G43) -> 0 | D43: 0 | H43: =SUM(I43,J43,K43,L43) -> 0 | I43: 0
A44: 37 | B44: ebből: társadalombiztosítás pénzügyi alapjai (B16) | C44: =SUM(D44,E44,F44,G44) -> 0 | D44: 0 | H44: =SUM(I44,J44,K44,L44) -> 0 | I44: 0
A45: 38 | B45: ebből: elkülönített állami pénzalapok (B16) | C45: =SUM(D45,E45,F45,G45) -> 0 | D45: 0 | H45: =SUM(I45,J45,K45,L45) -> 0 | I45: 0
A46: 39 | B46: ebből: helyi önkormányzatok és költségvetési szerveik (B16) | C46: =SUM(D46,E46,F46,G46) -> 0 | H46: =SUM(I46,J46,K46,L46) -> 0
A47: 40 | B47: ebből: társulások és költségvetési szerveik (B16) | C47: =SUM(D47,E47,F47,G47) -> 0 | D47: 0 | H47: =SUM(I47,J47,K47,L47) -> 0 | I47: 0
A48: 41 | B48: ebből: nemzetiségi önkormányzatok és költségvetési szerveik (B16) | C48: =SUM(D48,E48,F48,G48) -> 0 | D48: 0 | H48: =SUM(I48,J48,K48,L48) -> 0 | I48: 0
A49: 42 | B49: ebből: térségi fejlesztési tanácsok és költségvetési szerveik (B16) | C49: =SUM(D49,E49,F49,G49) -> 0 | D49: 0 | H49: =SUM(I49,J49,K49,L49) -> 0 | I49: 0
A50: 43 | B50: Működési célú támogatások államháztartáson belülről (=07+...+10+21+32) (B1) | C50: =SUM(D50,E50,F50,G50) -> 405819022 | D50: =SUM(D14,D15,D16,D17,D28,D39) -> 401247022 | E50: =SUM(E14,E15,E16,E17,E28,E39) -> 4187000 | F50: =SUM(F14,F15,F16,F17,F28,F39) -> 0 | G50: =SUM(G14,G15,G16,G17,G28,G39) -> 385000 | H50: =SUM(I50,J50,K50,L50) -> 409783963 | I50: =SUM(I14,I15,I16,I17,I28,I39) -> 404663229 | J50: =SUM(J14,J15,J16,J17,J28,J39) -> 4326734 | K50: =SUM(K14,K15,K16,K17,K28,K39) -> 0 | L50: =SUM(L14,L15,L16,L17,L28,L39) -> 794000
A51: 44 | B51: Felhalmozási célú önkormányzati támogatások (B21) | C51: =SUM(D51,E51,F51,G51) -> 0 | D51: 0 | E51: 0 | F51: 0 | G51: 0 | H51: =SUM(I51,J51,K51,L51) -> 15375000 | I51: 15375000 | J51: 0 | K51: 0 | L51: 0
A52: 45 | B52: Felhalmozási célú garancia- és kezességvállalásból származó megtérülések államháztartáson belülről (B22) | C52: =SUM(D52,E52,F52,G52) -> 0 | D52: 0 | E52: 0 | F52: 0 | G52: 0 | H52: =SUM(I52,J52,K52,L52) -> 0 | I52: 0 | J52: 0 | K52: 0 | L52: 0
A53: 46 | B53: Felhalmozási célú visszatérítendő támogatások, kölcsönök visszatérülése államháztartáson belülről (=47+…+56) (B23) | C53: =SUM(D53,E53,F53,G53) -> 0 | D53: =SUM(D54,D55,D56,D57,D58,D59,D60,D61,D62,D63) -> 0 | E53: =SUM(E54:E63) -> 0 | F53: =SUM(F54:F63) -> 0 | G53: =SUM(G54:G63) -> 0 | H53: =SUM(I53,J53,K53,L53) -> 0 | I53: =SUM(I54,I55,I56,I57,I58,I59,I60,I61,I62,I63) -> 0 | J53: =SUM(J54:J63) -> 0 | K53: =SUM(K54:K63) -> 0 | L53: =SUM(L54:L63) -> 0
A54: 47 | B54: ebből: központi költségvetési szervek (B23) | C54: =SUM(D54,E54,F54,G54) -> 0 | D54: 0 | H54: =SUM(I54,J54,K54,L54) -> 0 | I54: 0
A55: 48 | B55: ebből: központi kezelésű előirányzatok (B23) | C55: =SUM(D55,E55,F55,G55) -> 0 | D55: 0 | H55: =SUM(I55,J55,K55,L55) -> 0 | I55: 0
A56: 49 | B56: ebből: fejezeti kezelésű előirányzatok EU-s programokra és azok hazai társfinanszírozása (B23) | C56: =SUM(D56,E56,F56,G56) -> 0 | D56: 0 | H56: =SUM(I56,J56,K56,L56) -> 0 | I56: 0
A57: 50 | B57: ebből: egyéb fejezeti kezelésű előirányzatok (B23) | C57: =SUM(D57,E57,F57,G57) -> 0 | D57: 0 | H57: =SUM(I57,J57,K57,L57) -> 0 | I57: 0
A58: 51 | B58: ebből: társadalombiztosítás pénzügyi alapjai (B23) | C58: =SUM(D58,E58,F58,G58) -> 0 | D58: 0 | H58: =SUM(I58,J58,K58,L58) -> 0 | I58: 0
A59: 52 | B59: ebből: elkülönített állami pénzalapok (B23) | C59: =SUM(D59,E59,F59,G59) -> 0 | D59: 0 | H59: =SUM(I59,J59,K59,L59) -> 0 | I59: 0
A60: 53 | B60: ebből: helyi önkormányzatok és költségvetési szerveik (B23) | C60: =SUM(D60,E60,F60,G60) -> 0 | D60: 0 | H60: =SUM(I60,J60,K60,L60) -> 0 | I60: 0
A61: 54 | B61: ebből: társulások és költségvetési szerveik (B23) | C61: =SUM(D61,E61,F61,G61) -> 0 | D61: 0 | H61: =SUM(I61,J61,K61,L61) -> 0 | I61: 0
A62: 55 | B62: ebből: nemzetiségi önkormányzatok és költségvetési szerveik (B23) | C62: =SUM(D62,E62,F62,G62) -> 0 | D62: 0 | H62: =SUM(I62,J62,K62,L62) -> 0 | I62: 0
A63: 56 | B63: ebből: térségi fejlesztési tanácsok és költségvetési szerveik (B23) | C63: =SUM(D63,E63,F63,G63) -> 0 | D63: 0 | H63: =SUM(I63,J63,K63,L63) -> 0 | I63: 0
A64: 57 | B64: Felhalmozási célú visszatérítendő támogatások, kölcsönök igénybevétele államháztartáson belülről (=58+…+67) (B24) | C64: =SUM(D64,E64,F64,G64) -> 0 | D64: =SUM(D65,D66,D67,D68,D69,D71,D72,D73,D74) -> 0 | E64: =SUM(E65:E74) -> 0 | F64: =SUM(F65:F74) -> 0 | G64: =SUM(G65:G74) -> 0 | H64: =SUM(I64,J64,K64,L64) -> 0 | I64: =SUM(I65,I66,I67,I68,I69,I71,I72,I73,I74) -> 0 | J64: =SUM(J65:J74) -> 0 | K64: =SUM(K65:K74) -> 0 | L64: =SUM(L65:L74) -> 0
A65: 58 | B65: ebből: központi költségvetési szervek (B24) | C65: =SUM(D65,E65,F65,G65) -> 0 | D65: 0 | H65: =SUM(I65,J65,K65,L65) -> 0 | I65: 0
A66: 59 | B66: ebből: központi kezelésű előirányzatok (B24) | C66: =SUM(D66,E66,F66,G66) -> 0 | D66: 0 | H66: =SUM(I66,J66,K66,L66) -> 0 | I66: 0
A67: 60 | B67: ebből: fejezeti kezelésű előirányzatok EU-s programokra és azok hazai társfinanszírozása (B24) | C67: =SUM(D67,E67,F67,G67) -> 0 | D67: 0 | H67: =SUM(I67,J67,K67,L67) -> 0 | I67: 0
A68: 61 | B68: ebből: egyéb fejezeti kezelésű előirányzatok (B24) | C68: =SUM(D68,E68,F68,G68) -> 0 | D68: 0 | H68: =SUM(I68,J68,K68,L68) -> 0 | I68: 0
A69: 62 | B69: ebből: társadalombiztosítás pénzügyi alapjai (B24) | C69: =SUM(D69,E69,F69,G69) -> 0 | D69: 0 | H69: =SUM(I69,J69,K69,L69) -> 0 | I69: 0
A70: 63 | B70: ebből: elkülönített állami pénzalapok (B24) | C70: =SUM(D70,E70,F70,G70) -> 0 | D70: 0 | H70: =SUM(I70,J70,K70,L70) -> 0 | I70: 0
A71: 64 | B71: ebből: helyi önkormányzatok és költségvetési szerveik (B24) | C71: =SUM(D71,E71,F71,G71) -> 0 | D71: 0 | H71: =SUM(I71,J71,K71,L71) -> 0 | I71: 0
A72: 65 | B72: ebből: társulások és költségvetési szerveik (B24) | C72: =SUM(D72,E72,F72,G72) -> 0 | D72: 0 | H72: =SUM(I72,J72,K72,L72) -> 0 | I72: 0
A73: 66 | B73: ebből: nemzetiségi önkormányzatok és költségvetési szerveik (B24) | C73: =SUM(D73,E73,F73,G73) -> 0 | D73: 0 | H73: =SUM(I73,J73,K73,L73) -> 0 | I73: 0
A74: 67 | B74: ebből: térségi fejlesztési tanácsok és költségvetési szerveik (B24) | C74: =SUM(D74,E74,F74,G74) -> 0 | D74: 0 | H74: =SUM(I74,J74,K74,L74) -> 0 | I74: 0
A75: 68 | B75: Egyéb felhalmozási célú támogatások bevételei államháztartáson belülről (=69+…+78) (B25) | C75: =SUM(D75,E75,F75,G75) -> 115065000 | D75: 115065000 | E75: =SUM(E76:E85) -> 0 | F75: =SUM(F76:F85) -> 0 | G75: =SUM(G76:G85) -> 0 | H75: =SUM(I75,J75,K75,L75) -> 100065000 | I75: 100065000 | J75: =SUM(J76:J85) -> 0 | K75: =SUM(K76:K85) -> 0 | L75: =SUM(L76:L85) -> 0
A76: 69 | B76: ebből: központi költségvetési szervek (B25) | C76: =SUM(D76,E76,F76,G76) -> 0 | D76: 0 | H76: =SUM(I76,J76,K76,L76) -> 0 | I76: 0
A77: 70 | B77: ebből: központi kezelésű előirányzatok (B25) | C77: =SUM(D77,E77,F77,G77) -> 0 | D77: 0 | H77: =SUM(I77,J77,K77,L77) -> 0 | I77: 0
A78: 71 | B78: ebből: fejezeti kezelésű előirányzatok EU-s programokra és azok hazai társfinanszírozása (B25) | C78: =SUM(D78,E78,F78,G78) -> 0 | D78: 0 | H78: =SUM(I78,J78,K78,L78) -> 0 | I78: 0
A79: 72 | B79: ebből: egyéb fejezeti kezelésű előirányzatok (B25) | C79: =SUM(D79,E79,F79,G79) -> 0 | D79: 0 | H79: =SUM(I79,J79,K79,L79) -> 0 | I79: 0
A80: 73 | B80: ebből: társadalombiztosítás pénzügyi alapjai (B25) | C80: =SUM(D80,E80,F80,G80) -> 0 | D80: 0 | H80: =SUM(I80,J80,K80,L80) -> 0 | I80: 0
A81: 74 | B81: ebből: elkülönített állami pénzalapok (B25) | C81: =SUM(D81,E81,F81,G81) -> 0 | D81: 0 | H81: =SUM(I81,J81,K81,L81) -> 0 | I81: 0
A82: 75 | B82: ebből: helyi önkormányzatok és költségvetési szerveik (B25) | C82: =SUM(D82,E82,F82,G82) -> 0 | D82: 0 | H82: =SUM(I82,J82,K82,L82) -> 0 | I82: 0
A83: 76 | B83: ebből: társulások és költségvetési szerveik (B25) | C83: =SUM(D83,E83,F83,G83) -> 0 | D83: 0 | H83: =SUM(I83,J83,K83,L83) -> 0 | I83: 0
A84: 77 | B84: ebből: nemzetiségi önkormányzatok és költségvetési szerveik (B25) | C84: =SUM(D84,E84,F84,G84) -> 0 | D84: 0 | H84: =SUM(I84,J84,K84,L84) -> 0 | I84: 0
A85: 78 | B85: ebből: térségi fejlesztési tanácsok és költségvetési szerveik (B25) | C85: =SUM(D85,E85,F85,G85) -> 0 | D85: 0 | H85: =SUM(I85,J85,K85,L85) -> 0 | I85: 0
A86: 79 | B86: Felhalmozási célú támogatások államháztartáson belülről (=44+45+46+57+68) (B2) | C86: =SUM(D86,E86,F86,G86) -> 115065000 | D86: =SUM(D51,D52,D53,D64,D75) -> 115065000 | E86: =SUM(E51,E52,E53,E64,E75) -> 0 | F86: =SUM(F51,F52,F53,F64,F75) -> 0 | G86: =SUM(G51,G52,G53,G64,G75) -> 0 | H86: =SUM(I86,J86,K86,L86) -> 115440000 | I86: =SUM(I51,I52,I53,I64,I75) -> 115440000 | J86: =SUM(J51,J52,J53,J64,J75) -> 0 | K86: =SUM(K51,K52,K53,K64,K75) -> 0 | L86: =SUM(L51,L52,L53,L64,L75) -> 0
A87: 80 | B87: Magánszemélyek jövedelemadói (=81+82+83) (B311) | C87: =SUM(D87,E87,F87,G87) -> 0 | D87: 0 | E87: =SUM(E88:E90) -> 0 | F87: =SUM(F88:F90) -> 0 | G87: =SUM(G88:G90) -> 0 | H87: =SUM(I87,J87,K87,L87) -> 0 | I87: 0 | J87: =SUM(J88:J90) -> 0 | K87: =SUM(K88:K90) -> 0 | L87: =SUM(L88:L90) -> 0
A88: 81 | B88: ebből: személyi jövedelemadó (B311) | C88: =SUM(D88,E88,F88,G88) -> 0 | D88: 0 | H88: =SUM(I88,J88,K88,L88) -> 0 | I88: 0
A89: 82 | B89: ebből: magánszemély jogviszonyának megszűnéséhez kapcsolódó egyes jövedelmek különadója (B311) | C89: =SUM(D89,E89,F89,G89) -> 0 | D89: 0 | H89: =SUM(I89,J89,K89,L89) -> 0 | I89: 0
A90: 83 | B90: ebből: termőföld bérbeadásából származó jövedelem utáni személyi jövedelemadó (B311) | C90: =SUM(D90,E90,F90,G90) -> 0 | D90: 0 | H90: =SUM(I90,J90,K90,L90) -> 0 | I90: 0
A91: 84 | B91: Társaságok jövedelemadói (=85+…+92) (B312) | C91: =SUM(D91,E91,F91,G91) -> 0 | D91: =SUM(D92,D93,D94,D95,D96,D97,D98,D99) -> 0 | E91: =SUM(E92:E99) -> 0 | F91: =SUM(F92:F99) -> 0 | G91: =SUM(G92:G99) -> 0 | H91: =SUM(I91,J91,K91,L91) -> 0 | I91: =SUM(I92,I93,I94,I95,I96,I97,I98,I99) -> 0 | J91: =SUM(J92:J99) -> 0 | K91: =SUM(K92:K99) -> 0 | L91: =SUM(L92:L99) -> 0
A92: 85 | B92: ebből: társasági adó (B312) | C92: =SUM(D92,E92,F92,G92) -> 0 | D92: 0 | H92: =SUM(I92,J92,K92,L92) -> 0 | I92: 0
A93: 86 | B93: ebből: társas vállalkozások különadója (B312) | C93: =SUM(D93,E93,F93,G93) -> 0 | D93: 0 | H93: =SUM(I93,J93,K93,L93) -> 0 | I93: 0
A94: 87 | B94: ebből: hitelintézetek és pénzügyi vállalkozások különadója (B312) | C94: =SUM(D94,E94,F94,G94) -> 0 | D94: 0 | H94: =SUM(I94,J94,K94,L94) -> 0 | I94: 0
A95: 88 | B95: ebből: hiteintézeti járadék (B312) | C95: =SUM(D95,E95,F95,G95) -> 0 | D95: 0 | H95: =SUM(I95,J95,K95,L95) -> 0 | I95: 0
A96: 89 | B96: ebből: pénzügyi szervezetek különadója (B312) | C96: =SUM(D96,E96,F96,G96) -> 0 | D96: 0 | H96: =SUM(I96,J96,K96,L96) -> 0 | I96: 0
A97: 90 | B97: ebből: energiaellátók jövedelemadója (B312) | C97: =SUM(D97,E97,F97,G97) -> 0 | D97: 0 | H97: =SUM(I97,J97,K97,L97) -> 0 | I97: 0
A98: 91 | B98: ebből: kisvállalati adó (B312) | C98: =SUM(D98,E98,F98,G98) -> 0 | D98: 0 | H98: =SUM(I98,J98,K98,L98) -> 0 | I98: 0
A99: 92 | B99: ebből: kisadózó vállalkozások tételes adója (B312) | C99: =SUM(D99,E99,F99,G99) -> 0 | D99: 0 | H99: =SUM(I99,J99,K99,L99) -> 0 | I99: 0
A100: 93 | B100: Jövedelemadók (=80+84) (B31) | C100: =SUM(D100,E100,F100,G100) -> 0 | D100: 0 | E100: 0 | F100: 0 | G100: 0 | H100: =SUM(I100,J100,K100,L100) -> 0 | I100: 0 | J100: 0 | K100: 0 | L100: 0
A101: 94 | B101: Szociális hozzájárulási adó és járulékok (=95+…+103) (B32) | C101: =SUM(D101,E101,F101,G101) -> 0 | D101: =SUM(D102,D103,D104,D105,D106,D107,D108,D109,D110) -> 0 | E101: =SUM(E102:E110) -> 0 | F101: =SUM(F102:F110) -> 0 | G101: =SUM(G102:G110) -> 0 | H101: =SUM(I101,J101,K101,L101) -> 0 | I101: =SUM(I102,I103,I104,I105,I106,I107,I108,I109,I110) -> 0 | J101: =SUM(J102:J110) -> 0 | K101: =SUM(K102:K110) -> 0 | L101: =SUM(L102:L110) -> 0
...

Sheet 3
A1: 3. melléklet Csabrendek Nagyközség Önkormányzata Képviselő-testületének 12/2018 (XI.15.) rendeletéhez
A2: "3. melléklet Csabrendek Nagyközség Önkormányzata Képviselő-testületének 1/2018. (I. 30.) rendeletéhez"
A4: Finanszírozási kiadások
C5: Eredeti előirányzat | H5: Módosított előirányzat
C6: Önkormányzat összesen | D6: Csabrendek Nagyközség Önkormányzata | E6: Csabrendeki Közös Önkormányzati Hivatal | F6: Mese-domb Óvoda és Bölcsőde | G6: KÖZSZER | H6: Önkormányzat összesen | I6: Csabrendek Nagyközség Önkormányzata | J6: Csabrendeki Közös Önkormányzati Hivatal | K6: Mese-domb Óvoda és Bölcsőde | L6: KÖZSZER
A7: 1 | B7: 2 | C7: 3 | D7: 4 | E7: 5 | F7: 6 | G7: 7 | H7: 3 | I7: 4 | J7: 5 | K7: 6 | L7: 7
A8: 01 | B8: Hosszú lejáratú hitelek, kölcsönök törlesztése pénzügyi vállalkozásnak (>=02) (K9111) | C8: =SUM(D8:G8) -> 0 | D8: 0 | H8: =SUM(I8:L8) -> 0 | I8: 0
A9: 02 | B9: ebből: fedezeti ügyletek nettó kiadásai (K9111) | C9: =SUM(D9:G9) -> 0 | D9: 0 | H9: =SUM(I9:L9) -> 0 | I9: 0
A10: 03 | B10: Likviditási célú hitelek, kölcsönök törlesztése pénzügyi vállalkozásnak (K9112) | C10: =SUM(D10:G10) -> 0 | D10: 0 | H10: =SUM(I10:L10) -> 0 | I10: 0
A11: 04 | B11: Rövid lejáratú hitelek, kölcsönök törlesztése pénzügyi vállalkozásnak (>=05) (K9113) | C11: =SUM(D11:G11) -> 0 | D11: 0 | H11: =SUM(I11:L11) -> 0 | I11: 0
A12: 05 | B12: ebből: fedezeti ügyletek nettó kiadásai (K9113) | C12: =SUM(D12:G12) -> 0 | D12: 0 | H12: =SUM(I12:L12) -> 0 | I12: 0
A13: 06 | B13: Hitel-, kölcsöntörlesztés államháztartáson kívülre (=01+03+04) (K911) | C13: =SUM(D13:G13) -> 0 | D13: =SUM(D8,D10,D11) -> 0 | E13: =SUM(E8,E10,E11) -> 0 | F13: =SUM(F8,F10,F11) -> 0 | G13: =SUM(G8,G10,G11) -> 0 | H13: =SUM(I13:L13) -> 0 | I13: =SUM(I8,I10,I11) -> 0 | J13: =SUM(J8,J10,J11) -> 0 | K13: =SUM(K8,K10,K11) -> 0 | L13: =SUM(L8,L10,L11) -> 0
A14: 07 | B14: Forgatási célú belföldi értékpapírok vásárlása (>=08+09) (K9121) | C14: =SUM(D14:G14) -> 0 | D14: 0 | H14: =SUM(I14:L14) -> 150000000 | I14: 150000000
A15: 08 | B15: ebből: befektetési jegyek (K9121) | C15: =SUM(D15:G15) -> 0 | D15: 0 | H15: =SUM(I15:L15) -> 0 | I15: 0
A16: 09 | B16: ebből: kárpótlási jegyek (K9121) | C16: =SUM(D16:G16) -> 0 | D16: 0 | H16: =SUM(I16:L16) -> 0 | I16: 0
A17: 10 | B17: Befektetési célú belföldi értékpapírok vásárlása (K9122) | C17: =SUM(D17:G17) -> 0 | D17: 0 | H17: =SUM(I17:L17) -> 0 | I17: 0
A18: 11 | B18: Kincstárjegyek beváltása (K9123) | C18: =SUM(D18:G18) -> 0 | D18: 0 | H18: =SUM(I18:L18) -> 0 | I18: 0
A19: 12 | B19: Éven belüli lejáratú belföldi értékpapírok beváltása (>=13+14+15) (K9124) | C19: =SUM(D19:G19) -> 0 | D19: 0 | H19: =SUM(I19:L19) -> 0 | I19: 0
A20: 13 | B20: ebből: fedezeti ügyletek nettó kiadásai (K9124) | C20: =SUM(D20:G20) -> 0 | D20: 0 | H20: =SUM(I20:L20) -> 0 | I20: 0
A21: 14 | B21: ebből: befektetési jegyek (K9124) | C21: =SUM(D21:G21) -> 0 | D21: 0 | H21: =SUM(I21:L21) -> 0 | I21: 0
A22: 15 | B22: ebből: kárpótlási jegyek (K9124) | C22: =SUM(D22:G22) -> 0 | D22: 0 | H22: =SUM(I22:L22) -> 0 | I22: 0
A23: 16 | B23: Belföldi kötvények beváltása (K9125) | C23: =SUM(D23:G23) -> 0 | D23: 0 | H23: =SUM(I23:L23) -> 0 | I23: 0
A24: 17 | B24: Éven túli lejáratú belföldi értékpapírok beváltása (>=18) (K9126) | C24: =SUM(D24:G24) -> 0 | D24: 0 | H24: =SUM(I24:L24) -> 0 | I24: 0
A25: 18 | B25: ebből: fedezeti ügyletek nettó kiadásai (K9126) | C25: =SUM(D25:G25) -> 0 | D25: 0 | H25: =SUM(I25:L25) -> 0 | I25: 0
A26: 19 | B26: Belföldi értékpapírok kiadásai (=07+10+11+12+16+17) (K912) | C26: =SUM(D26:G26) -> 0 | D26: 0 | H26: =SUM(I26:L26) -> 150000000 | I26: =SUM(I14,I17,I18,I19,I23,I24) -> 150000000
A27: 20 | B27: Államháztartáson belüli megelőlegezések folyósítása (K913) | C27: =SUM(D27:G27) -> 0 | D27: 0 | H27: =SUM(I27:L27) -> 0 | I27: 0
A28: 21 | B28: Államháztartáson belüli megelőlegezések visszafizetése (K914) | C28: =SUM(D28:G28) -> 30000000 | D28: 30000000 | H28: =SUM(I28:L28) -> 30000000 | I28: 30000000
A29: 22 | B29: Központi, irányító szervi támogatások folyósítása (K915) | C29: =SUM(D29:G29) -> 194690000 | D29: 194690000 | H29: =SUM(I29:L29) -> 208611000 | I29: 208611000
A30: 23 | B30: Pénzeszközök lekötött bankbetétként elhelyezése (K916) | C30: =SUM(D30:G30) -> 0 | D30: 0 | H30: =SUM(I30:L30) -> 50000000 | I30: 50000000
A31: 24 | B31: Pénzügyi lízing kiadásai (K917) | C31: =SUM(D31:G31) -> 0 | D31: 0 | H31: =SUM(I31:L31) -> 0 | I31: 0
A32: 25 | B32: Központi költségvetés sajátos finanszírozási kiadásai (K918) | C32: =SUM(D32:G32) -> 0 | D32: 0 | H32: =SUM(I32:L32) -> 0 | I32: 0
A33: 26 | B33: Hosszú lejáratú tulajdonosi kölcsönök kiadásai (K9191) | C33: =SUM(D33:G33) -> 0 | D33: 0 | H33: =SUM(I33:L33) -> 0 | I33: 0
A34: 27 | B34: Rövid lejáratú tulajdonosi kölcsönök kiadásai (K9192) | C34: =SUM(D34:G34) -> 0 | D34: 0 | H34: =SUM(I34:L34) -> 0 | I34: 0
A35: 28 | B35: Tulajdonosi kölcsönök kiadásai (=26+27) (K919) | C35: =SUM(D35:G35) -> 0 | D35: =SUM(D33,D34) -> 0 | H35: =SUM(I35:L35) -> 0 | I35: =SUM(I33,I34) -> 0
A36: 29 | B36: Belföldi finanszírozás kiadásai (=06+19+…+25+28) (K91) | C36: =SUM(D36:G36) -> 224690000 | D36: =SUM(D13,D26,D27,D28,D29,D30,D31,D32,D35) -> 224690000 | E36: =SUM(E13,E26,E27,E28,E29,E30,E31,E32,E35) -> 0 | F36: =SUM(F13,F26,F27,F28,F29,F30,F31,F32,F35) -> 0 | G36: =SUM(G13,G26,G27,G28,G29,G30,G31,G32,G35) -> 0 | H36: =SUM(I36:L36) -> 438611000 | I36: =SUM(I13,I26,I27,I28,I29,I30,I31,I32,I35) -> 438611000 | J36: =SUM(J13,J26,J27,J28,J29,J30,J31,J32,J35) -> 0 | K36: =SUM(K13,K26,K27,K28,K29,K30,K31,K32,K35) -> 0 | L36: =SUM(L13,L26,L27,L28,L29,L30,L31,L32,L35) -> 0
A37: 30 | B37: Forgatási célú külföldi értékpapírok vásárlása (K921) | C37: =SUM(D37:G37) -> 0 | D37: 0 | H37: =SUM(I37:L37) -> 0 | I37: 0
A38: 31 | B38: Befektetési célú külföldi értékpapírok vásárlása (K922) | C38: =SUM(D38:G38) -> 0 | D38: 0 | H38: =SUM(I38:L38) -> 0 | I38: 0
A39: 32 | B39: Külföldi értékpapírok beváltása (>=33) (K923) | C39: =SUM(D39:G39) -> 0 | D39: 0 | H39: =SUM(I39:L39) -> 0 | I39: 0
A40: 33 | B40: ebből: fedezeti ügyletek nettó kiadásai (K923) | C40: =SUM(D40:G40) -> 0 | D40: 0 | H40: =SUM(I40:L40) -> 0 | I40: 0
A41: 34 | B41: Hitelek, kölcsönök törlesztése külföldi kormányoknak és nemzetközi szervezeteknek (K924) | C41: =SUM(D41:G41) -> 0 | D41: 0 | H41: =SUM(I41:L41) -> 0 | I41: 0
A42: 35 | B42: Hitelek, kölcsönök törlesztése külföldi pénzintézeteknek (>=36) (K925) | C42: =SUM(D42:G42) -> 0 | D42: 0 | H42: =SUM(I42:L42) -> 0 | I42: 0
A43: 36 | B43: ebből: fedezeti ügyletek nettó kiadásai (K925) | C43: =SUM(D43:G43) -> 0 | D43: 0 | H43: =SUM(I43:L43) -> 0 | I43: 0
A44: 37 | B44: Külföldi finanszírozás kiadásai (=30+31+32+34+35) (K92) | C44: =SUM(D44:G44) -> 0 | D44: 0 | H44: =SUM(I44:L44) -> 0 | I44: 0
A45: 38 | B45: Adóssághoz nem kapcsolódó származékos ügyletek kiadásai (K93) | C45: =SUM(D45:G45) -> 0 | D45: 0 | H45: =SUM(I45:L45) -> 0 | I45: 0
A46: 39 | B46: Váltókiadások (K94) | C46: =SUM(D46:G46) -> 0 | D46: 0 | H46: =SUM(I46:L46) -> 0 | I46: 0
A47: 40 | B47: Finanszírozási kiadások (=29+37+38+39) (K9) | C47: =SUM(D47:G47) -> 224690000 | D47: =SUM(D36,D44,D45,D46) -> 224690000 | E47: =SUM(E36,E44,E45,E46) -> 0 | F47: =SUM(F36,F44,F45,F46) -> 0 | G47: =SUM(G36,G44,G45,G46) -> 0 | H47: =SUM(I47:L47) -> 438611000 | I47: =SUM(I36,I44,I45,I46) -> 438611000 | J47: =SUM(J36,J44,J45,J46) -> 0 | K47: =SUM(K36,K44,K45,K46) -> 0 | L47: =SUM(L36,L44,L45,L46) -> 0

Sheet 4
A1: 4. melléklet Csabrendek Nagyközség Önkormányzata Képviselő-testületének 12/2018 (XI.15.) rendeletéhez
A2: "4. melléklet Csabrendek Nagyközség Önkormányzata Képviselő-testületének 1/2018. (I. 30.) rendeletéhez"
A4: Finanszírozási bevételek
C5: Eredeti előirányzat | H5: Módosított előirányzat
C6: Önkormányzat összesen | D6: Csabrendek Nagyközség Önkormányzata | E6: Csabrendeki Közös Önkormányzati Hivatal | F6: Mese-domb Óvoda és Bölcsőde | G6: KÖZSZER | H6: Önkormányzat összesen | I6: Csabrendek Nagyközség Önkormányzata | J6: Csabrendeki Közös Önkormányzati Hivatal | K6: Mese-domb Óvoda és Bölcsőde | L6: KÖZSZER
A7: 1 | B7: 2 | C7: 3 | D7: 4 | E7: 5 | F7: 6 | G7: 7 | H7: 3 | I7: 4 | J7: 5 | K7: 6 | L7: 7
A8: 01 | B8: Hosszú lejáratú hitelek, kölcsönök felvétele pénzügyi vállalkozástól (B8111) | C8: =SUM(D8:G8) -> 0 | D8: 0 | E8: 0 | F8: 0 | G8: 0 | H8: =SUM(I8:L8) -> 21745000 | I8: 21745000 | J8: 0 | K8: 0 | L8: 0
A9: 02 | B9: Likviditási célú hitelek, kölcsönök felvétele pénzügyi vállalkozástól (B8112) | C9: =SUM(D9:G9) -> 0 | D9: 0 | E9: 0 | F9: 0 | G9: 0 | H9: =SUM(I9:L9) -> 0 | I9: 0 | J9: 0 | K9: 0 | L9: 0
A10: 03 | B10: Rövid lejáratú hitelek, kölcsönök felvétele pénzügyi vállalkozástól (B8113) | C10: =SUM(D10:G10) -> 0 | D10: 0 | E10: 0 | F10: 0 | G10: 0 | H10: =SUM(I10:L10) -> 0 | I10: 0 | J10: 0 | K10: 0 | L10: 0
A11: 04 | B11: Hitel-, kölcsönfelvétel pénzügyi vállalkozástól (=01+02+03) (B811) | C11: =SUM(D11:G11) -> 0 | D11: 0 | E11: 0 | F11: 0 | G11: 0 | H11: =SUM(I11:L11) -> 21745000 | I11: =SUM(I8:I10) -> 21745000 | J11: =J10+J9+J8 -> 0 | K11: =K10+K9+K8 -> 0 | L11: 0
A12: 05 | B12: Forgatási célú belföldi értékpapírok beváltása, értékesítése (>=06+07) (B8121) | C12: =SUM(D12:G12) -> 0 | D12: =SUM(D13,D14) -> 0 | E12: 0 | F12: 0 | G12: 0 | H12: =SUM(I12:L12) -> 150000000 | I12: 150000000 | J12: 0 | K12: 0 | L12: 0
A13: 06 | B13: ebből: befektetési jegyek (B8121) | C13: =SUM(D13:G13) -> 0 | D13: 0 | E13: 0 | F13: 0 | G13: 0 | H13: =SUM(I13:L13) -> 0 | I13: 0 | J13: 0 | K13: 0 | L13: 0
A14: 07 | B14: ebből: kárpótlási jegyek (B8121) | C14: =SUM(D14:G14) -> 0 | D14: 0 | E14: 0 | F14: 0 | G14: 0 | H14: =SUM(I14:L14) -> 0 | I14: 0 | J14: 0 | K14: 0 | L14: 0
A15: 08 | B15: Éven belüli lejáratú belföldi értékpapírok kibocsátása (B8122) | C15: =SUM(D15:G15) -> 0 | D15: 0 | E15: 0 | F15: 0 | G15: 0 | H15: =SUM(I15:L15) -> 0 | I15: 0 | J15: 0 | K15: 0 | L15: 0
A16: 09 | B16: Befektetési célú belföldi értékpapírok beváltása, értékesítése (B8123) | C16: =SUM(D16:G16) -> 0 | D16: 0 | E16: 0 | F16: 0 | G16: 0 | H16: =SUM(I16:L16) -> 0 | I16: 0 | J16: 0 | K16: 0 | L16: 0
A17: 10 | B17: Éven túli lejáratú belföldi értékpapírok kibocsátása (B8124) | C17: =SUM(D17:G17) -> 0 | D17: 0 | E17: 0 | F17: 0 | G17: 0 | H17: =SUM(I17:L17) -> 0 | I17: 0 | J17: 0 | K17: 0 | L17: 0
A18: 11 | B18: Belföldi értékpapírok bevételei (=05+08+09+10) (B812) | C18: =SUM(D18:G18) -> 0 | D18: =SUM(D12,D15,D16,D17) -> 0 | E18: 0 | F18: 0 | G18: 0 | H18: =SUM(I18:L18) -> 150000000 | I18: =SUM(I12,I15,I16,I17) -> 150000000 | J18: 0 | K18: 0 | L18: 0
A19: 12 | B19: Előző év költségvetési maradványának igénybevétele (B8131) | C19: =SUM(D19:G19) -> 41949527 | D19: 40350898 | E19: 349294 | F19: 394964 | G19: 854371 | H19: =SUM(I19:L19) -> 41949527 | I19: 40350898 | J19: 349294 | K19: 394964 | L19: 854371
A20: 13 | B20: Előző év vállalkozási maradványának igénybevétele (B8132) | C20: =SUM(D20:G20) -> 0 | D20: 0 | H20: =SUM(I20:L20) -> 0 | I20: 0
A21: 14 | B21: Maradvány igénybevétele (=12+13) (B813) | C21: =SUM(D21:G21) -> 41949527 | D21: =SUM(D19,D20) -> 40350898 | E21: =SUM(E19:E20) -> 349294 | F21: =SUM(F19:F20) -> 394964 | G21: =SUM(G19:G20) -> 854371 | H21: =SUM(I21:L21) -> 41949527 | I21: =SUM(I19,I20) -> 40350898 | J21: =SUM(J19:J20) -> 349294 | K21: =SUM(K19:K20) -> 394964 | L21: =SUM(L19:L20) -> 854371
A22: 15 | B22: Államháztartáson belüli megelőlegezések (B814) | C22: =SUM(D22:G22) -> 30000000 | D22: 30000000 | H22: =SUM(I22:L22) -> 30000000 | I22: 30000000
A23: 16 | B23: Államháztartáson belüli megelőlegezések törlesztése (B815) | C23: =SUM(D23:G23) -> 0 | D23: 0 | E23: 0 | F23: 0 | G23: 0 | H23: =SUM(I23:L23) -> 0 | I23: 0 | J23: 0 | K23: 0 | L23: 0
A24: 17 | B24: Központi, irányító szervi támogatás (B816) | C24: =SUM(D24:G24) -> 194690000 | D24: 0 | E24: 69345000 | F24: 54977000 | G24: 70368000 | H24: =SUM(I24:L24) -> 208611000 | I24: 0 | J24: 75028000 | K24: 59040000 | L24: 74543000
A25: 18 | B25: Lekötött bankbetétek megszüntetése (B817) | C25: =SUM(D25:G25) -> 200000000 | D25: 200000000 | E25: 0 | F25: 0 | G25: 0 | H25: =SUM(I25:L25) -> 250000000 | I25: 250000000 | J25: 0 | K25: 0 | L25: 0
A26: 19 | B26: Központi költségvetés sajátos finanszírozási bevételei (B818) | C26: =SUM(D26:G26) -> 0 | D26: 0 | E26: 0 | F26: 0 | G26: 0 | H26: =SUM(I26:L26) -> 0 | I26: 0 | J26: 0 | K26: 0 | L26: 0
A27: 20 | B27: Hosszú lejáratú tulajdonosi kölcsönök bevételei (B8191) | C27: =SUM(D27:G27) -> 0 | D27: 0 | E27: 0 | F27: 0 | G27: 0 | H27: =SUM(I27:L27) -> 0 | I27: 0 | J27: 0 | K27: 0 | L27: 0
A28: 21 | B28: Rövid lejáratú tulajdonosi kölcsönök bevételei (B8192) | C28: =SUM(D28:G28) -> 0 | D28: 0 | E28: 0 | F28: 0 | G28: 0 | H28: =SUM(I28:L28) -> 0 | I28: 0 | J28: 0 | K28: 0 | L28: 0
A29: 22 | B29: Tulajdonosi kölcsönök bevételei (=20+21) (B819) | C29: =SUM(D29:G29) -> 0 | D29: =SUM(D27,D28) -> 0 | E29: 0 | F29: 0 | G29: 0 | H29: =SUM(I29:L29) -> 0 | I29: =SUM(I27,I28) -> 0 | J29: 0 | K29: 0 | L29: 0
A30: 23 | B30: Belföldi finanszírozás bevételei (=04+11+14+…+19+22) (B81) | C30: =SUM(D30:G30) -> 466639527 | D30: =SUM(D11,D18,D21,D22,D23,D24,D25,D26,D29) -> 270350898 | E30: =SUM(E11,E18,E21,E22,E23,E24,E25,E26,E29) -> 69694294 | F30: =SUM(F11,F18,F21,F22,F23,F24,F25,F26,F29) -> 55371964 | G30: =SUM(G11,G18,G21,G22,G23,G24,G25,G26,G29) -> 71222371 | H30: =SUM(I30:L30) -> 702305527 | I30: =SUM(I11,I18,I21,I22,I23,I24,I25,I26,I29) -> 492095898 | J30: =SUM(J11,J18,J21,J22,J23,J24,J25,J26,J29) -> 75377294 | K30: =SUM(K11,K18,K21,K22,K23,K24,K25,K26,K29) -> 59434964 | L30: =SUM(L11,L18,L21,L22,L23,L24,L25,L26,L29) -> 75397371
A31: 24 | B31: Forgatási célú külföldi értékpapírok beváltása, értékesítése (B821) | C31: =SUM(D31:G31) -> 0 | D31: 0 | E31: 0 | F31: 0 | G31: 0 | H31: =SUM(I31:L31) -> 0 | I31: 0 | J31: 0 | K31: 0 | L31: 0
A32: 25 | B32: Befektetési célú külföldi értékpapírok beváltása, értékesítése (B822) | C32: =SUM(D32:G32) -> 0 | D32: 0 | E32: 0 | F32: 0 | G32: 0 | H32: =SUM(I32:L32) -> 0 | I32: 0 | J32: 0 | K32: 0 | L32: 0
A33: 26 | B33: Külföldi értékpapírok kibocsátása (B823) | C33: =SUM(D33:G33) -> 0 | D33: 0 | E33: 0 | F33: 0 | G33: 0 | H33: =SUM(I33:L33) -> 0 | I33: 0 | J33: 0 | K33: 0 | L33: 0
A34: 27 | B34: Hitelek, kölcsönök felvétele külföldi kormányoktól és nemzetközi szervezetektől (B824) | C34: =SUM(D34:G34) -> 0 | D34: 0 | E34: 0 | F34: 0 | G34: 0 | H34: =SUM(I34:L34) -> 0 | I34: 0 | J34: 0 | K34: 0 | L34: 0
A35: 28 | B35: Hitelek, kölcsönök felvétele külföldi pénzintézetektől (B825) | C35: =SUM(D35:G35) -> 0 | D35: 0 | E35: 0 | F35: 0 | G35: 0 | H35: =SUM(I35:L35) -> 0 | I35: 0 | J35: 0 | K35: 0 | L35: 0
A36: 29 | B36: Külföldi finanszírozás bevételei (=24+…+28) (B82) | C36: =SUM(D36:G36) -> 0 | D36: 0 | E36: 0 | F36: 0 | G36: 0 | H36: =SUM(I36:L36) -> 0 | I36: 0 | J36: 0 | K36: 0 | L36: 0
A37: 30 | B37: Adóssághoz nem kapcsolódó származékos ügyletek bevételei (B83) | C37: =SUM(D37:G37) -> 0 | D37: 0 | E37: 0 | F37: 0 | G37: 0 | H37: =SUM(I37:L37) -> 0 | I37: 0 | J37: 0 | K37: 0 | L37: 0
A38: 31 | B38: Váltóbevételek (B84) | C38: =SUM(D38:G38) -> 0 | D38: 0 | E38: 0 | F38: 0 | G38: 0 | H38: =SUM(I38:L38) -> 0 | I38: 0 | J38: 0 | K38: 0 | L38: 0
A39: 32 | B39: Finanszírozási bevételek (=23+29+30+31) (B8) | C39: =SUM(D39:G39) -> 466639527 | D39: =SUM(D30,D36,D37,D38) -> 270350898 | E39: =SUM(E30,E36,E37,E38) -> 69694294 | F39: =SUM(F30,F36,F37,F38) -> 55371964 | G39: =SUM(G30,G36,G37,G38) -> 71222371 | H39: =SUM(I39:L39) -> 702305527 | I39: =SUM(I30,I36,I37,I38) -> 492095898 | J39: =SUM(J30,J36,J37,J38) -> 75377294 | K39: =SUM(K30,K36,K37,K38) -> 59434964 | L39: =SUM(L30,L36,L37,L38) -> 75397371

Sheet 5
A1: 5. melléklet
A2: Csabrendek Nagyközség Önkormányzata Képviselő-testületének 12/2018 (XI.15.) rendeletéhez
A3: "5 melléklet
A4: Csabrendek Nagyközség Önkormányzata Képviselő-testületének 1/2018. (I. 30.) rendeletéhez"
A5: 2018. évi költségvetési mérlege
A6: E: | B6: Eredeti előirányzat | O6: adatok forintban
A7: M: | B7: Módosított előirányzat
A8: T | B8: Teljesítés
B10: A | C10: B | E10: C | F10: D | G10: E | H10: F | I10: G | J10: H | L10: I | M10: J | N10: K | O10: L
B11: Előir. csop név és szám | C11: Kiemelt előírányzatok név és szám | F11: Kötelező feladatok | G11: Önként vállalt feladatok | I11: Előir. csop név és szám | J11: Kiemelt előírányzatok név és szám | M11: Kötelező feladatok | N11: Önként vállalt feladatok
A12: 1 | B12: 1. Működési bevételek | E12: E | F12: =SUM(F24,F21,F15,F18,F27) -> 526789022 | G12: =SUM(G24,G21,G15,G18,G27) -> 0 | H12: =SUM(H24,H21,H15,H18,H27) -> 526789022 | I12: 6. Működési kiadások | L12: E | M12: =SUM(M15,M18,M21,M24,M27) -> 542229629 | N12: =SUM(N15,N18,N21,N24,N27) -> 0 | O12: =SUM(O15,O18,O21,O24,O27) -> 542229629
E13: M | F13: =SUM(F25,F22,F16,F19,F28) -> 547628463 | G13: =SUM(G25,G22,G16,G19,G28) -> 0 | H13: =SUM(H25,H22,H16,H19,H28) -> 547628463 | L13: M | M13: =SUM(M16,M19,M22,M25,M28) -> 593275504 | N13: =SUM(N16,N19,N22,N25,N28) -> 0 | O13: =SUM(O16,O19,O22,O25,O28) -> 593275504
E14: T | L14: T
A15: 2 | C15: B11 | D15: Önkormányzatok működési támogatásai | E15: E | F15: =H15-G15 -> 267248022 | H15: ='2'!C14 -> 267248022 | J15: K1 | K15: Személyi juttatások | L15: E | M15: =O15-N15 -> 224819000 | O15: ='1'!C27 -> 224819000
E16: M | F16: =H16-G16 -> 297689426 | H16: ='2'!H14 -> 297689426 | L16: M | M16: =O16-N16 -> 236107000 | O16: ='1'!H27 -> 236107000
E17: T | L17: T
A18: 3 | C18: B16 | D18: Egyéb működési célú támogatások bevételei államháztartáson belülről | E18: E | F18: =H18-G18 -> 138571000 | H18: ='2'!C39 -> 138571000 | J18: K2 | K18: Munkaadókat terhelő járulékok és szociális hozzájárulási adó | L18: E | M18: =O18-N18 -> 42045629 | O18: ='1'!C28 -> 42045629
E19: M | F19: =H19-G19 -> 112094537 | H19: ='2'!H39 -> 112094537 | L19: M | M19: =O19-N19 -> 44255629 | O19: ='1'!H28 -> 44255629
E20: T | L20: T
A21: 4 | C21: B3-B34 | D21: Közhatalmi bevételek | E21: E | F21: =H21-G21 -> 41878000 | H21: ='2'!C192-'2'!C116 -> 41878000 | J21: K3 | K21: Dologi kiadások | L21: E | M21: =O21-N21 -> 186460000 | O21: ='1'!C68 -> 186460000
E22: M | F22: =H22-G22 -> 41878000 | H22: ='2'!H192-'2'!H116 -> 41878000 | L22: M | M22: =O22-N22 -> 216346274 | O22: ='1'!H68 -> 216346274
E23: T | L23: T
A24: 5 | C24: B4 | D24: Működési bevételek | E24: E | F24: =H24-G24 -> 79008000 | H24: ='2'!C228 -> 79008000 | J24: K4 | K24: Ellátottak pénzbeni juttatásai | L24: E | M24: =O24-N24 -> 10405000 | O24: ='1'!C128 -> 10405000
E25: M | F25: =H25-G25 -> 86234000 | H25: ='2'!H228 -> 86234000 | L25: M | M25: =O25-N25 -> 10405000 | O25: ='1'!H128 -> 10405000
E26: T | F26: =H26-G26 -> #REF! | H26: =SUM(#REF!) -> #REF! | L26: T
A27: 6 | C27: B6 | D27: Működési célú átvett pénzeszközök | E27: E | F27: =H27-G27 -> 84000 | H27: ='2'!C263 -> 84000 | J27: K5-K513 | K27: Egyébb működési célú kiadások | L27: E | M27: =O27-N27 -> 78500000 | O27: ='1'!C198-'1'!C197 -> 78500000
E28: M | F28: =H28-G28 -> 9732500 | H28: ='2'!H263 -> 9732500 | L28: M | M28: =O28-N28 -> 86161601 | O28: ='1'!H198-'1'!H197 -> 86161601
E29: T | L29: T
A30: 7 | B30: 2. Felhalmozási bevételek | E30: E | F30: =SUM(F36,F33,F39,F42,F45) -> 152943000 | G30: =SUM(G36,G33,G39,G42,G45) -> 0 | H30: =SUM(H36,H33,H39,H42,H45) -> 152943000 | I30: 7. Felhalmozási célú kiadások | L30: E | M30: =SUM(,M33,M36,M39) -> 364207000 | N30: =SUM(,N33,N36,N39) -> 0 | O30: =SUM(,O33,O36,O39) -> 364207000
E31: M | F31: =SUM(F37,F34,F40,F43,F46) -> 207017000 | G31: =SUM(G37,G34,G40,G43,G46) -> 0 | H31: =SUM(H37,H34,H40,H43,H46) -> 207017000 | L31: M | M31: =SUM(,M34,M37,M40) -> 403161000 | N31: =SUM(,N34,N37,N40) -> 0 | O31: =SUM(,O34,O37,O40) -> 403161000
E32: T | L32: T
A33: 8 | C33: B21 | D33: Önkormányzatok felhalmozási támogatásai | E33: E | F33: =H33-G33 -> 0 | H33: ='2'!C51 -> 0 | J33: K6 | K33: Felhalmozási költségvetés beruházások | L33: E | M33: =O33-N33 -> 22719000 | O33: ='1'!C207 -> 22719000
E34: M | F34: =H34-G34 -> 15375000 | H34: ='2'!H51 -> 15375000 | L34: M | M34: =O34-N34 -> 26465000 | O34: ='1'!H207 -> 26465000
E35: T | L35: T
A36: 9 | C36: B2-B21 | D36: Egyéb felhalmozási célú támogatások bevételei államháztartáson belülről | E36: E | F36: =H36-G36 -> 115065000 | H36: ='2'!C75 -> 115065000 | J36: K7 | K36: Felújítások | L36: E | M36: =O36-N36 -> 341488000 | O36: ='1'!C212 -> 341488000
E37: M | F37: =H37-G37 -> 100065000 | H37: ='2'!H75 -> 100065000 | L37: M | M37: =O37-N37 -> 376202000 | O37: ='1'!H212 -> 376202000
E38: T | L38: T
A39: 10 | C39: B34 | D39: Közhatalmi bevételek | E39: E | F39: =H39-G39 -> 22153000 | H39: ='2'!C116 -> 22153000 | J39: K8 | K39: Egyéb felhalmozási kiadások | L39: E | M39: =O39-N39 -> 0 | O39: ='1'!C274 -> 0
E40: M | F40: =H40-G40 -> 22153000 | H40: ='2'!H116 -> 22153000 | L40: M | M40: =O40-N40 -> 494000 | O40: ='1'!H274 -> 494000
E41: T | L41: T
A42: 11 | C42: B5 | D42: Felhalmozási bevétel | E42: E | F42: =H42-G42 -> 14766000 | H42: ='2'!C237 -> 14766000
E43: M | F43: =H43-G43 -> 68355000 | H43: ='2'!H237 -> 68355000
E44: T
A45: 12 | C45: B7 | D45: Felhalmozási célú átvett pénzeszköz | E45: E | F45: =H45-G45 -> 959000 | H45: ='2'!C289 -> 959000
E46: M | F46: =H46-G46 -> 1069000 | H46: ='2'!H289 -> 1069000
E47: T
A48: 13 | B48: Pénzforgalmi bevételek | E48: E | F48: =SUM(F12,F30,) -> 679732022 | G48: =SUM(G12,G30,) -> 0 | H48: =SUM(H12,H30,) -> 679732022 | I48: Pénzforgalmi kiadások | L48: E | M48: =SUM(M12,M30,) -> 906436629 | N48: =SUM(N12,N30,) -> 0 | O48: =SUM(O12,O30,) -> 906436629
E49: M | F49: =SUM(F13,F31,) -> 754645463 | G49: =SUM(G13,G31,) -> 0 | H49: =SUM(H13,H31,) -> 754645463 | L49: M | M49: =SUM(M13,M31,) -> 996436504 | N49: =SUM(N13,N31,) -> 0 | O49: =SUM(O13,O31,) -> 996436504
E50: T | L50: T | M50: =SUM(M14,M32,) -> 0 | N50: =SUM(N14,N32,) -> 0 | O50: =SUM(O14,O32,) -> 0
A51: 14 | B51: Maradvány igénybevétele | E51: E | F51: =H51-G51 -> 41949527 | H51: 41949527 | I51: Tartalék | L51: E | M51: =O51-N51 -> 15244920 | O51: ='1'!C197 -> 15244920
E52: M | F52: =H52-G52 -> 41949527 | H52: ='4'!H21 -> 41949527 | L52: M | M52: =O52-N52 -> 21903486 | O52: ='1'!H197 -> 21903486
E53: T | L53: T
A54: 15 | B54: Államháztartáson belüli megelőlegezések | E54: E | F54: =H54-G54 -> 30000000 | H54: ='4'!C22 -> 30000000 | I54: Államháztartáson belüli megelőlegezések visszafizetése | L54: E | M54: =O54-N54 -> 30000000 | O54: ='3'!C28 -> 30000000
E55: M | F55: =H55-G55 -> 30000000 | H55: ='4'!H22 -> 30000000 | L55: M | M55: =O55-N55 -> 30000000 | O55: ='3'!H28 -> 30000000
E56: T | L56: T
A57: 16 | B57: Lekötött bankbetétek megszüntetése | E57: E | F57: =H57-G57 -> 200000000 | H57: ='4'!C25 -> 200000000 | I57: Bankbetétek lekötése | L57: E | M57: =O57-N57 -> 0 | O57: ='3'!C30 -> 0
E58: M | F58: =H58-G58 -> 250000000 | H58: ='4'!H25 -> 250000000 | L58: M | M58: =O58-N58 -> 50000000 | O58: ='3'!H30 -> 50000000
E59: T | L59: T
A60: 17 | B60: Belföldi értékpapírok bevételei | E60: E | F60: =H60-G60 -> 0 | H60: ='4'!C18 -> 0 | I60: Belföldi értékpapírok kiadásai | L60: E | M60: =O60-N60 -> 0 | O60: =SUM('3'!C26) -> 0
E61: M | F61: =H61-G61 -> 150000000 | H61: ='4'!H18 -> 150000000 | L61: M | M61: =O61-N61 -> 150000000 | O61: =SUM('3'!H26) -> 150000000
E62: T | L62: T
A63: 18 | B63: Hitel-, kölcsönfelvétel pénzügyi vállalkozástól | E63: E | F63: =H63-G63 -> 0 | H63: ='4'!C11 -> 0
E64: M | F64: =H64-G64 -> 21745000 | H64: ='4'!H11 -> 21745000
E65: T
A66: 19 | B66: BEVÉTELEK ÖSSZESEN | E66: E | F66: =SUM(F48,F51,F54,F57,F60,F63) -> 951681549 | G66: =SUM(G48,G51,G54,G57,G60,G63) -> 0 | H66: =SUM(H48,H51,H54,H57,H60,H63) -> 951681549 | I66: KIADÁSOK ÖSSZESEN | L66: E | M66: =SUM(M48,M51,M54,M57,M60,M63) -> 951681549 | N66: =SUM(N48,N51,N54,N57,N60,N63) -> 0 | O66: =SUM(O48,O51,O54,O57,O60,O63) -> 951681549
E67: M | F67: =SUM(F49,F52,F55,F58,F61,F64) -> 1248339990 | G67: =SUM(G49,G52,G55,G58,G61,G64) -> 0 | H67: =SUM(H49,H52,H55,H58,H61,H64) -> 1248339990 | L67: M | M67: =SUM(M49,M52,M55,M58,M61,M64) -> 1248339990 | N67: =SUM(N49,N52,N55,N58,N61,N64) -> 0 | O67: =SUM(O49,O52,O55,O58,O61,O64) -> 1248339990
E68: T | F68: =SUM(F50,F53,F56,F59) -> 0 | G68: =SUM(G50,G53,G56,G59) -> 0 | H68: =SUM(H50,H53,H56,H59) -> 0 | L68: T | M68: =SUM(M50,M53,M56,M59) -> 0 | N68: =SUM(N50,N53,N56,N59) -> 0 | O68: =SUM(O50,O53,O56,O59) -> 0

Sheet 6
A1: 6. melléklet
A2: Csabrendek Nagyközség Önkormányzata Képviselő-testületének 12/2018 (XI.15.) rendeletéhez
A3: "6. melléklet
A4: Csabrendek Nagyközség Önkormányzata Képviselő-testületének 1/2018. (1./30.) rendeletéhez"
A5: Önkormányzatok működési támogatásai kiemelt előirányzat részletezése
A6: E: | B6: Eredeti előirányzat | L6: adatok forintban
A7: M: | B7: Módosított előírányzat
A8: T: | B8: Teljesítés
B10: A | C10: B | D10: C | L10: D | M10: E | N10: F
B11: Cím név és szám | C11: Kiemelt előirányzat név és szám | D11: Jogcím csoport, jogcím név és szám | L11: 2018. évi előirányzat | M11: 2018. évi módosított előirányzat | N11: 2018. évi teljesítés
A14: 1 | B14: 1 ÖNKORMÁNYZAT ÖSSZESEN | L14: =L15 -> 267126022 | M14: =M15 -> 2.9768943e+08 | N14: =N15 -> 0
A15: 2 | C15: Önkormányzatok működési támogatásai | L15: =SUM(L16,L39,L48,L76,L82,L84,L93) -> 267126022 | M15: =SUM(M16,M39,M48,M76,M82,M84,M93) -> 2.9768943e+08 | N15: =SUM(N16,N39,N48,N76,N82,N84,N93) -> 0
A16: 3 | D16: 1 | E16: A helyi önkormányzatok működésének általános támogatása | L16: =SUM(L35,L17,L37) -> 82481840 | M16: =SUM(M35,M17,M37) -> 82603840 | N16: =SUM(N35,N17,N37) -> 0
A17: 4 | E17: 1 | F17: A települési önkormányzatok működésének támogatása | L17: =SUM(L18,L20,L29,,L31,L33) -> 81440840 | M17: =SUM(M18,M20,M29,,M31,M33) -> 81440840 | N17: =SUM(N18,N20,N29,,N31,N33) -> 0
A18: 5 | F18: 1 | G18: Önkormányzati hivatal működésének támogatása | L18: =J19 -> 52578400 | M18: =K19 -> 52578400
G19: 11,48 fő x 4 580 000 Ft | J19: =11.48*4580000 -> 52578400 | K19: 52578400
A20: 6 | F20: 2 | G20: Település-üzemeltetéshez kapcsolódó feladatellátás támogatása | L20: =SUM(L21,L23,L27,L25) -> 19108140 | M20: =SUM(M21,M23,M27,M25) -> 19108140 | N20: =SUM(N21,N23,N27,N25) -> 0
A21: 7 | G21: 1 | H21: A zöldterület-gazdálkodással kapcsolatos feladatok ellátásának támogatása | L21: =J22 -> 5724410 | M21: =K22 -> 5724410
H22: 256,7 ha x 22 300 Ft/ha | J22: =256.7*22300 -> 5724410 | K22: 5724410
A23: 8 | G23: 2 | H23: Közvilágítás fenntartásának támogatása | L23: =J24 -> 7168000 | M23: =K24 -> 7168000
H24: 22,4 km x 320 000 Ft/km | J24: =22.4*320000 -> 7168000 | K24: 7168000
A25: 9 | G25: 3 | H25: Köztemető fenntartással kapcsolatos feladatok támogatása | L25: =J26 -> 488520 | M25: =K26 -> 488520
H26: 7 080 m2 x 69 ft/m2 | J26: =7080*69 -> 488520 | K26: 488520
A27: 10 | G27: 4 | H27: Közutak fenntartásának támogatása | L27: =J28 -> 5727210 | M27: =K28 -> 5727210
H28: 25,23 km x 227 000 Ft/km | J28: =25.23*227000 -> 5727210 | K28: =25.23*227000 -> 5727210
A29: 11 | F29: 3 | G29: Egyéb önkormányzati feladatok támogatása | L29: =J30 -> 8221500 | M29: =K30 -> 8221500
G30: 3 045 fő x 2 700 Ft/fő = | J30: =3045*2700 -> 8221500 | K30: =3045*2700 -> 8221500
A31: 12 | F31: 4 | G31: Lakott külterülettel kapcsolatos támogatás | L31: =J32 -> 1397400 | M31: =K32 -> 1397400
G32: 548 fő x 2 550 Ft/fő = | J32: =548*2550 -> 1397400 | K32: =548*2550 -> 1397400
A33: 13 | F33: 5 | G33: Üdülőhelyi feladatok támogatása | L33: =J34 -> 135400 | M33: =K34 -> 135400
G34: 135400 Ft x 1 Ft | J34: =135400*1 -> 135400 | K34: =135400*1 -> 135400
A35: 14 | E35: 2 | F35: A 2017. évről áthúzódó bérkompenzáció támogatása | L35: =J36 -> 0 | M35: =K36 -> 122000
J36: 0 | K36: 122000
A37: 15 | E37: 3 | F37: Polgármesteri illetmény támogatása | L37: =J38 -> 1041000 | M37: =K38 -> 1041000
J38: 1041000 | K38: 1041000
A39: 16 | D39: 2 | E39: A települési önkormányzatok egyes köznevelési feladatainak támogatása | L39: =SUM(L40,L44,L46) -> 55661000 | M39: =SUM(M40,M44,M46) -> 56909967 | N39: =SUM(N40,N44,) -> 0
A40: 17 | E40: 1 | F40: Óvodapedagógusok, és az óvodapedagógusok nevelő munkáját közvetlenül segítők bértámogatása | L40: =SUM(J42:J43) -> 48144600 | M40: =SUM(K42:K43) -> 49175700
F42: (8,4 fő x 8/12 + 8,4 fő 4/12 ) x 4 419 000 Ft/fő | J42: =8.4*4419000*8/12+8.4*4419000*4/12 -> 37119600 | K42: =8.7*4419000*8/12+8.5*4419000*4/12 -> 38150700
F43: (5 fő x 8/12+5 fő 4/12) x 2 205 000 Ft | J43: =+(5*0.666666666666667+5*0.333333333333333)*2205000 -> 11025000 | K43: =+(5*0.666666666666667+5*0.333333333333333)*2205000 -> 11025000
A44: 18 | E44: 2 | F44: Óvodaműködtetési alaptámogatás | L44: =J45 -> 7516400 | M44: =K45 -> 7734266.7
F45: 92 fő x 8/12 + 92 fő 4/12) x 81 700 Ft/fő | J45: =(92+92+92)/3*81700 -> 7516400 | K45: =(96+96+92)/3*81700 -> 7734266.7
A46: 18 | E46: 3 | F46: Óvoda bér kiegézítő támogatás
A48: 19 | D48: 3 | E48: A települési önkormányzatok szociális, gyermekjóléti és gyermekétkeztetési feladatainak támogatása | L48: =SUM(L65,L50,L52,L74,L72) -> 88650354 | M48: =SUM(M65,M50,M52,M74,M72) -> 92317298 | N48: =SUM(N65,N50,N52,N74,N72) -> 0
A50: 20 | E50: 1 | F50: A települési önkormányzatok szociális feladatainak egyéb támogatása | L50: =J51 -> 21181000 | M50: =K51 -> 21181000
J51: 21181000 | K51: 21181000
A52: 21 | E52: 2 | F52: Egyes szociális és gyermekjóléti feladatok támogatása | L52: =SUM(L55,L57,L59,L61,L53) -> 39078240 | M52: =SUM(M55,M57,M59,M61,M53) -> 39078240 | N52: =SUM(N55,N57,N59,N61,N53) -> 0
A53: 22 | F53: 1 | G53: Szociális és gyermekjóléti alapszolgáltatások általános feladatai | L53: =J54 -> 5100000 | M53: =K54 -> 5100000
G54: 1,5 fő x 3 400 000 Ft/fő | J54: =1.5*3400000 -> 5100000 | K54: =1.5*3400000 -> 5100000
A55: 23 | F55: 2 | G55: Szociális étkeztetés | L55: =J56 -> 3958240 | M55: =K56 -> 3958240
G56: 65 fő x 55 360 Ft/fő x 110%= | J56: =65*55360*1.1 -> 3958240 | K56: =65*55360*1.1 -> 3958240
A57: 24 | F57: 3 | G57: Házi segítségnyújtás | L57: =J58 -> 23820000 | M57: =K58 -> 23820000
G58: 55 fő x 330 000 Ft/fő x 130% +9 fő x 25 000 Ft = | J58: =55*330000*1.3+9*25000 -> 23820000 | K58: =55*330000*1.3+9*25000 -> 23820000
A59: 25 | F59: 4 | G59: Falugondnoki vagy tanyagondnoki szolgáltatás | L59: =J60 -> 6200000 | M59: =K60 -> 6200000
G60: 2 szolgálat x 3 100 000 Ft/szolgálat | J60: =2*3100000 -> 6200000 | K60: =2*3100000 -> 6200000
F61: 5 | G61: Gyermekek napközbeni ellátása | L61: =SUM(L63,) -> 0 | M61: =SUM(M63,) -> 0 | N61: =SUM(N63,) -> 0
G63: 1 | H63: Bölcsődei ellátás | L63: 0 | M63: 0
H64: 5 fő x 494 100 Ft/fő | J64: =0*494100 -> 0
A65: 26 | E65: 3 | F65: Gyermekétkeztetés támogatása | L65: =SUM(L68,L66,L70) -> 28391114 | M65: =SUM(M68,M66,M70) -> 28253744 | N65: =SUM(N68,N66,N70) -> 0
A66: 27 | F66: 1 | G66: A finanszírozás szempontjából elismert dolgozók bértámogatása | L66: =J67 -> 9956000 | M66: =K67 -> 9956000
G67: 5,24 fő x 1 900 000 Ft/fő | J67: =5.24*1900000 -> 9956000 | K67: =5.24*1900000 -> 9956000
A68: 28 | F68: 2 | G68: Gyermekétkeztetés üzemeltetési támogatása | L68: =J69 -> 17133804 | M68: =K69 -> 17133804
J69: 17133804 | K69: 17133804
A70: 29 | F70: 2 | G70: Gyermekétkeztetés üzemeltetési támogatása | L70: =J71 -> 1301310 | M70: =K71 -> 1163940
G71: 2283 adag x 570 Ft/fő | J71: =2283*570 -> 1301310 | K71: =2042*570 -> 1163940
A72: 30 | E72: 4 | F72: Szociális ágazati összevont pótlék | L72: =J73 -> 0 | M72: =K73 -> 3804314
J73: 0 | K73: 3804314
E74: 5 | F74: Bölcsődei kiegészítő ágazati pótlék | L74: =J75 -> 0 | M74: =K75 -> 0
J75: 0 | K75: 0
A76: 31 | D76: 4 | E76: A települési önkormányzatok kulturális feladatainak támogatása | L76: =L77+L80 -> 3684450 | M76: =M77+M80 -> 4066217 | N76: =N77 -> 0
A77: 32 | E77: 1 | F77: Települési önkormányzatok nyilvános könyvtári és közművelődési feladatainak támogatása | L77: =J79 -> 3684450 | M77: =K79 -> 3684450
F79: 3045 fő x 1210 Ft/fő = | J79: =3045*1210 -> 3684450 | K79: =3045*1210 -> 3684450
A80: 33 | E80: 2 | F80: Kúltúrális illetménypótlék | L80: =J81 -> 0 | M80: =K81 -> 381767
J81: 0 | K81: 381767
A82: 34 | D82: 5 | E82: Beszámítás kiegészítés | L82: =J83 -> 36648378 | M82: =K83 -> 36648378
J83: =0.45*SUM(J19,J22,J24,J26,J28,J30,J32,J34) -> 36648378 | K83: 36648378
A84: 35 | D84: 6 | E84: Működési célú költségvetési támogatások és kiegészítő támogatások | L84: =SUM(L85:L92) -> 0 | M84: =SUM(M85:M92) -> 25143726 | N84: =SUM(N85:N92) -> 0
A85: 36 | E85: 1 | F85: 2018. évi bérkompenzáció | J85: 0 | K85: 916226 | L85: =J85 -> 0 | M85: =K85 -> 916226
A86: 37 | E86: 2 | F86: ASP rendszer működtetésének támogatása | J86: 0 | K86: 464000 | L86: =J86 -> 0 | M86: =K86 -> 464000
A87: 38 | E87: 3 | F87: Lakossági víz- és csatornaszolgáltatás támogatása | J87: 0 | K87: 19400800 | L87: =J87 -> 0 | M87: =K87 -> 19400800
A88: 39 | E88: 4 | F88: Önkormányzati adatszolgáltatás minőségének javítása | J88: 0 | K88: 540000 | L88: =J88 -> 0 | M88: =K88 -> 540000
A89: 40 | E89: 5 | F89: Szociális célú tüzelőanyag vásárláshoz kapcsolódó kiegészítő támogatás | J89: 0 | K89: 3822700 | L89: =J89 -> 0 | M89: =K89 -> 3822700
A90: 40 | E90: 6 | F90: Rendkívüli önkormányzati támogatás
A91: 41 | E91: 7 | F91: Rendkívüli szociális támogatás
A92: 42 | E92: 8 | F92: Garantált bérminimum emelés támogatása
A93: 43 | D93: 7 | E93: Elszámolásból származó bevételek
A94: 40

Sheet 7
A1: 7. melléklet
A2: Csabrendek Nagyközség Önkormányzata Képviselő-testületének 12/2018 (XI.15.) rendeletéhez
A3: "7. melléklet
A4: Csabrendek Nagyközség Önkormányzata Képviselő-testületének 1/2018. (I. 30.) rendeletéhez"
A5: 2018. évi költségvetés fejlesztési kiadások
F6: adatok forintban
A8: 1 | B8: 2 | C8: 3 | D8: 4 | E8: 5 | F8: 6
B9: megnevezés | C9: Immateriális javak | D9: Tárgyi eszköz beszerzés | E9: Felújítás | F9: összes kiadás
A10: 1 | B10: Óvoda bővítés | E10: 165762000 | F10: =SUM(C10:E10) -> 165762000
A11: 2 | B11: Egészségház felújítás | E11: 31645000 | F11: =SUM(C11:E11) -> 31645000
A12: 3 | B12: Bel-és csapadékvíz elvezetés | E12: =84730000-17599000 -> 67131000 | F12: =SUM(C12:E12) -> 67131000
A13: 4 | B13: Belterületi utak | E13: 59435000 | F13: =SUM(C13:E13) -> 59435000
A14: 5 | B14: Belterületi utak | E14: 21076000 | F14: =SUM(C14:E14) -> 21076000
A15: 6 | B15: Kossuth 13.ingatlan felújítás | E15: 0 | F15: =SUM(C15:E15) -> 0
A16: 6 | B16: Nyírespuszta orvosi rendelő nyílászáró csere | E16: 372000 | F16: =SUM(C16:E16) -> 372000
A17: 7 | B17: Óvoda- konyha eszközbeszerzés | D17: 10522000 | F17: =SUM(C17:E17) -> 10522000
A18: 8 | B18: Óvoda- konyha riasztó kiépítés | E18: 150000 | F18: =SUM(C18:E18) -> 150000
A19: 9 | B19: Óvoda- konyha csapadékvíz elv. | E19: 1139000 | F19: =SUM(C19:E19) -> 1139000
A20: 10 | B20: Iskola napelem | E20: 12731000 | F20: =SUM(C20:E20) -> 12731000
A21: 11 | B21: Zártkerti utak | E21: 9000000 | F21: =SUM(C21:E21) -> 9000000
A22: 13 | B22: Hatzky-kúria felújítás | E22: 0 | F22: =SUM(C22:E22) -> 0
A23: 12 | B23: Művelődési Ház.tárgyi eszközök | D23: 4369000 | F23: =SUM(C23:E23) -> 4369000
A24: 13 | B24: Művelődési Ház informatikai eszköz | D24: 100000 | F24: =SUM(C24:E24) -> 100000
A25: 16 | B25: Művelődési Ház nagyterem felújítás | E25: 0 | F25: =SUM(C25:E25) -> 0
A26: 17 | B26: Temető | E26: 0 | F26: =SUM(C26:E26) -> 0
A27: 18 | B27: Rendezési terv | C27: 0 | F27: =SUM(C27:E27) -> 0
A28: 14 | B28: Állattenyésztés, növénytermesztés eszközbeszerzés | D28: 500000 | F28: =SUM(C28:E28) -> 500000
A29: 15 | B29: Közfoglalkoztatás-eszközbeszerzés | D29: 241000 | F29: =SUM(C29:E29) -> 241000
A30: 16 | B30: Szenyvíztelepi eszközök | D30: 770000 | E30: 5900000 | F30: =SUM(C30:E30) -> 6670000
A31: 17 | B31: Igazgatás-eszközök | D31: 300000 | F31: =SUM(C31:E31) -> 300000
A32: 18 | B32: Könyvtár-eszközbeszerzés | D32: 250000 | F32: =SUM(C32:E32) -> 250000
A33: 19 | B33: Sportpálya lelátó és kijelző beszerzés | D33: 1675000 | F33: =SUM(C33:E33) -> 1675000
A34: 20 | B34: Tanyagondnoki szolg-informatikai eszköz | D34: 47000 | F34: =SUM(C34:E34) -> 47000
A35: 21 | B35: Önkormányzati vagyon-tehergépkocsi | D35: 5588000 | F35: =SUM(C35:E35) -> 5588000
A36: 22 | B36: Hosszútávú-közfoglalkoztatás eszközbeszerzés | D36: 456000 | F36: =SUM(C36:E36) -> 456000
A37: 23 | B37: Csr-Nagytárkányp.orvosi r.épületének felújítása | E37: 1861000
A38: 24 | B38: Összesen | C38: =SUM(C10:C33) -> 0 | D38: =SUM(D10:D36) -> 24818000 | E38: =SUM(E10:E37) -> 376202000 | F38: =SUM(F10:F36) -> 399159000

Sheet Munka1
