Workbook

Sheet 1
A1: 1. melléklet Csabrendek Nagyközség Önkormányzata Képviselő-testületének 12/2018 (XI.15.) rendeletéhez
A2: "1. melléklet Csabrendek Nagyközség Önkormányzata Képviselő-testületének 1/2018. (I. 30.) rendeletéhez"
A4: Költségvetési kiadások
C5: Eredeti előirányzat | H5: Módosított előirányzat
C6: Önkormányzat összesen | D6: Csabrendek Nagyközség Önkormányzata | E6: Csabrendeki Közös Önkormányzati Hivatal | F6: Mese-domb Óvoda és Bölcsőde | G6: KÖZSZER | H6: Önkormányzat összesen | I6: Csabrendek Nagyközség Önkormányzata | J6: Csabrendeki Közös Önkormányzati Hivatal | K6: Mese-domb Óvoda és Bölcsőde | L6: KÖZSZER
A7: 1 | B7: 2 | C7: 3 | D7: 4 | E7: 5 | F7: 6 | G7: 7 | H7: 3 | I7: 4 | J7: 5 | K7: 6 | L7: 7
A8: 01 | B8: Törvény szerinti illetmények, munkabérek (K1101) | C8: =SUM(D8:G8) -> 181691000 | D8: 51340000 | E8: 47420000 | F8: 41512000 | G8: 41419000 | H8: =SUM(I8:L8) -> 181921000 | I8: 51197000 | J8: 47420000 | K8: 41512000 | L8: 41792000
A9: 02 | B9: Normatív jutalmak (K1102) | C9: =SUM(D9:G9) -> 1075000 | D9: 1075000 | H9: =SUM(I9:L9) -> 11725000 | I9: 1075000 | J9: 3900000 | K9: 3400000 | L9: 3350000
A10: 03 | B10: Céljuttatás, projektprémium (K1103) | C10: =SUM(D10:G10) -> 1122000 | E10: 1122000 | H10: =SUM(I10:L10) -> 686000 | J10: 686000
A11: 04 | B11: Készenléti, ügyeleti, helyettesítési díj, túlóra, túlszolgálat (K1104) | C11: =SUM(D11:G11) -> 0 | D11: 0 | H11: =SUM(I11:L11) -> 0 | I11: 0
A12: 05 | B12: Végkielégítés (K1105) | C12: =SUM(D12:G12) -> 0 | D12: 0 | H12: =SUM(I12:L12) -> 0 | I12: 0
A13: 06 | B13: Jubileumi jutalom (K1106) | C13: =SUM(D13:G13) -> 2334000 | E13: 1525000 | G13: 809000 | H13: =SUM(I13:L13) -> 3369000 | J13: 2560000 | L13: 809000
A14: 07 | B14: Béren kívüli juttatások (K1107) | C14: =SUM(D14:G14) -> 1919000 | E14: 1919000 | H14: =SUM(I14:L14) -> 1919000 | J14: 1919000
A15: 08 | B15: Ruházati költségtérítés (K1108) | C15: =SUM(D15:G15) -> 0 | D15: 0 | H15: =SUM(I15:L15) -> 0 | I15: 0
A16: 09 | B16: Közlekedési költségtérítés (K1109) | C16: =SUM(D16:G16) -> 1185000 | D16: 550000 | E16: 282000 | F16: 270000 | G16: 83000 | H16: =SUM(I16:L16) -> 1185000 | I16: 550000 | J16: 282000 | K16: 270000 | L16: 83000
A17: 10 | B17: Egyéb költségtérítések (K1110) | C17: =SUM(D17:G17) -> 0 | D17: 0 | H17: =SUM(I17:L17) -> 0 | I17: 0
A18: 11 | B18: Lakhatási támogatások (K1111) | C18: =SUM(D18:G18) -> 0 | D18: 0 | H18: =SUM(I18:L18) -> 0 | I18: 0
A19: 12 | B19: Szociális támogatások (K1112) | C19: =SUM(D19:G19) -> 0 | D19: 0 | H19: =SUM(I19:L19) -> 0 | I19: 0
A20: 13 | B20: Foglalkoztatottak egyéb személyi juttatásai (>=14) (K1113) | C20: =SUM(D20:G20) -> 3794000 | D20: 1600000 | E20: 753000 | F20: 420000 | G20: 1021000 | H20: =SUM(I20:L20) -> 3794000 | I20: 1600000 | J20: 753000 | K20: 420000 | L20: 1021000
A21: 14 | B21: ebből:biztosítási díjak (K1113) | C21: =SUM(D21:G21) -> 0 | D21: 0 | H21: =SUM(I21:L21) -> 0 | I21: 0
A22: 15 | B22: Foglalkoztatottak személyi juttatásai (=01+…+13) (K11) | C22: =SUM(D22:G22) -> 193120000 | D22: =SUM(D8,D9,D10,D11,D12,D13,D14,D15,D16,D17,D18,D19,D20) -> 54565000 | E22: =SUM(E8:E20) -> 53021000 | F22: =SUM(F8:F20) -> 42202000 | G22: =SUM(G8:G20) -> 43332000 | H22: =SUM(I22:L22) -> 204599000 | I22: =SUM(I8,I9,I10,I11,I12,I13,I14,I15,I16,I17,I18,I19,I20) -> 54422000 | J22: =SUM(J8:J20) -> 57520000 | K22: =SUM(K8:K20) -> 45602000 | L22: =SUM(L8:L20) -> 47055000
A23: 16 | B23: Választott tisztségviselők juttatásai (K121) | C23: =SUM(D23:G23) -> 16800000 | D23: 16800000 | H23: =SUM(I23:L23) -> 16800000 | I23: 16800000
A24: 17 | B24: Munkavégzésre irányuló egyéb jogviszonyban nem saját foglalkoztatottnak fizetett juttatások (K122) | C24: =SUM(D24:G24) -> 5330000 | D24: 2950000 | E24: 2380000 | H24: =SUM(I24:L24) -> 5139000 | I24: 3093000 | J24: 2046000
A25: 18 | B25: Egyéb külső személyi juttatások (K123) | C25: =SUM(D25:G25) -> 9569000 | D25: 9247000 | E25: 242000 | F25: 40000 | G25: 40000 | H25: =SUM(I25:L25) -> 9569000 | I25: 9247000 | J25: 242000 | K25: 40000 | L25: 40000
A26: 19 | B26: Külső személyi juttatások (=16+17+18) (K12) | C26: =SUM(D26:G26) -> 31699000 | D26: =SUM(D23,D24,D25) -> 28997000 | E26: =SUM(E23:E25) -> 2622000 | F26: =SUM(F23:F25) -> 40000 | G26: =SUM(G23:G25) -> 40000 | H26: =SUM(I26:L26) -> 31508000 | I26: =SUM(I23,I24,I25) -> 29140000 | J26: =SUM(J23:J25) -> 2288000 | K26: =SUM(K23:K25) -> 40000 | L26: =SUM(L23:L25) -> 40000
A27: 20 | B27: Személyi juttatások (=15+19) (K1) | C27: =SUM(D27:G27) -> 224819000 | D27: =SUM(D22,D26) -> 83562000 | E27: =SUM(E22,E26) -> 55643000 | F27: =F22+F26 -> 42242000 | G27: =G22+G26 -> 43372000 | H27: =SUM(I27:L27) -> 236107000 | I27: =SUM(I22,I26) -> 83562000 | J27: =SUM(J22,J26) -> 59808000 | K27: =K22+K26 -> 45642000 | L27: =L22+L26 -> 47095000
A28: 21 | B28: Munkaadókat terhelő járulékok és szociális hozzájárulási adó (=22+…+27) (K2) | C28: =SUM(D28:G28) -> 42045629 | D28: 13600000 | E28: 11421294 | F28: 8381964 | G28: 8642371 | H28: =SUM(I28:L28) -> 44255629 | I28: 13600000 | J28: 12278294 | K28: =8381964+663000 -> 9044964 | L28: 9332371
A29: 22 | B29: ebből: szociális hozzájárulási adó (K2) | C29: =SUM(D29:G29) -> 0 | D29: 0 | H29: =SUM(I29:L29) -> 0 | I29: 0
A30: 23 | B30: ebből: rehabilitációs hozzájárulás (K2) | C30: =SUM(D30:G30) -> 0 | D30: 0 | H30: =SUM(I30:L30) -> 0 | I30: 0
A31: 24 | B31: ebből: korkedvezmény-biztosítási járulék (K2) | C31: =SUM(D31:G31) -> 0 | D31: 0 | I31: 0
A32: 25 | B32: ebből: egészségügyi hozzájárulás (K2) | C32: =SUM(D32:G32) -> 0 | D32: 0 | H32: =SUM(I32:L32) -> 0 | I32: 0
A33: 26 | B33: ebből: táppénz hozzájárulás (K2) | C33: =SUM(D33:G33) -> 0 | D33: 0 | H33: =SUM(I33:L33) -> 0 | I33: 0
A34: 27 | B34: ebből: munkaadót a foglalkoztatottak részére történő kifizetésekkel kapcsolatban terhelő más járulék jellegű kötelezettségek (K2) | C34: =SUM(D34:G34) -> 0 | D34: 0 | H34: =SUM(I34:L34) -> 0 | I34: 0
A35: 28 | B35: ebből: munkáltatót terhelő személyi jövedelemadó (K2) | C35: =SUM(D35:G35) -> 0 | D35: 0 | H35: =SUM(I35:L35) -> 0 | I35: 0
A36: 29 | B36: Szakmai anyagok beszerzése (K311) | C36: =SUM(D36:G36) -> 1984000 | D36: 1600000 | E36: 30000 | F36: 346000 | G36: 8000 | H36: =SUM(I36:L36) -> 1984000 | I36: 1600000 | J36: 30000 | K36: 346000 | L36: 8000
A37: 30 | B37: Üzemeltetési anyagok beszerzése (K312) | C37: =SUM(D37:G37) -> 59463000 | D37: 34625000 | E37: 1010000 | F37: 600000 | G37: 23228000 | H37: =SUM(I37:L37) -> 59967540 | I37: 35389540 | J37: 1010000 | K37: 600000 | L37: 22968000
A38: 31 | B38: Árubeszerzés (K313) | C38: =SUM(D38:G38) -> 0 | D38: 0 | H38: =SUM(I38:L38) -> 0 | I38: 0
A39: 32 | B39: Készletbeszerzés (=29+30+31) (K31) | C39: =SUM(D39:G39) -> 61447000 | D39: =SUM(D36,D37,D38) -> 36225000 | E39: =SUM(E36:E38) -> 1040000 | F39: =SUM(F36:F38) -> 946000 | G39: =SUM(G36:G38) -> 23236000 | H39: =SUM(I39:L39) -> 61951540 | I39: =SUM(I36,I37,I38) -> 36989540 | J39: =SUM(J36:J38) -> 1040000 | K39: =SUM(K36:K38) -> 946000 | L39: =SUM(L36:L38) -> 22976000
A40: 33 | B40: Informatikai szolgáltatások igénybevétele (K321) | C40: =SUM(D40:G40) -> 1854000 | D40: 460000 | E40: 1005000 | F40: 112000 | G40: 277000 | H40: =SUM(I40:L40) -> 2370000 | I40: 560000 | J40: 1371000 | K40: 112000 | L40: 327000
A41: 34 | B41: Egyéb kommunikációs szolgáltatások (K322) | C41: =SUM(D41:G41) -> 1205000 | D41: 600000 | E41: 255000 | F41: 80000 | G41: 270000 | H41: =SUM(I41:L41) -> 1245000 | I41: 660000 | J41: =255000-20000 -> 235000 | K41: 80000 | L41: 270000
...

Sheet 2
A1: 2. melléklet Csabrendek Nagyközség Önkormányzata Képviselő-testületének 12/2018 (XI.15.) rendeletéhez
A2: "2. melléklet Csabrendek Nagyközség Önkormányzata Képviselő-testületének 1/2018. (I. 30.) rendeletéhez"
A4: Költségvetési bevételek
C5: Eredeti előirányzat | H5: Módosított előirányzat
C6: Önkormányzat összesen | D6: Csabrendek Nagyközség Önkormányzata | E6: Csabrendeki Közös Önkormányzati Hivatal | F6: Mese-domb Óvoda és Bölcsőde | G6: KÖZSZER | H6: Önkormányzat összesen | I6: Csabrendek Nagyközség Önkormányzata | J6: Csabrendeki Közös Önkormányzati Hivatal MÓDOSÍTOTT | K6: Mese-domb Óvoda és Bölcsőde | L6: KÖZSZER
A7: 1 | B7: 2 | C7: 3 | D7: 4 | E7: 5 | F7: 6 | G7: 7 | H7: 3 | I7: 4 | J7: 5 | K7: 6 | L7: 7
A8: 01 | B8: Helyi önkormányzatok működésének általános támogatása (B111) | C8: =SUM(D8,E8,F8,G8) -> 119252218 | D8: 119252218 | H8: =SUM(I8,J8,K8,L8) -> 119252218 | I8: 119252218
A9: 02 | B9: Települési önkormányzatok egyes köznevelési feladatainak támogatása (B112) | C9: =SUM(D9,E9,F9,G9) -> 55661000 | D9: 55661000 | H9: =SUM(I9,J9,K9,L9) -> 56909967 | I9: 56909967
A10: 03 | B10: Települési önkormányzatok szociális, gyermekjóléti és gyermekétkeztetési feladatainak támogatása (B113) | C10: =SUM(D10,E10,F10,G10) -> 88650354 | D10: 88650354 | H10: =SUM(I10,J10,K10,L10) -> 92317298 | I10: 92317298
A11: 04 | B11: Települési önkormányzatok kulturális feladatainak támogatása (B114) | C11: =SUM(D11,E11,F11,G11) -> 3684450 | D11: 3684450 | H11: =SUM(I11,J11,K11,L11) -> 4066217 | I11: 4066217
A12: 05 | B12: Működési célú költségvetési támogatások és kiegészítő támogatások (B115) | C12: =SUM(D12,E12,F12,G12) -> 0 | D12: 0 | H12: =SUM(I12,J12,K12,L12) -> 25143726 | I12: 25143726
A13: 06 | B13: Elszámolásból származó bevételek (B116) | C13: =SUM(D13,E13,F13,G13) -> 0 | D13: 0 | H13: =SUM(I13,J13,K13,L13) -> 0 | I13: 0
A14: 07 | B14: Önkormányzatok működési támogatásai (=01+…+06) (B11) | C14: =SUM(D14,E14,F14,G14) -> 267248022 | D14: =SUM(D8,D9,D10,D11,D12,D13) -> 267248022 | E14: =SUM(E8:E13) -> 0 | F14: =SUM(F8:F13) -> 0 | G14: =SUM(G8:G13) -> 0 | H14: =SUM(I14,J14,K14,L14) -> 297689426 | I14: =SUM(I8,I9,I10,I11,I12,I13) -> 297689426 | J14: =SUM(J8:J13) -> 0 | K14: =SUM(K8:K13) -> 0 | L14: =SUM(L8:L13) -> 0
A15: 08 | B15: Elvonások és befizetések bevételei (B12) | C15: =SUM(D15,E15,F15,G15) -> 0 | D15: 0 | H15: =SUM(I15,J15,K15,L15) -> 0 | I15: 0
A16: 09 | B16: Működési célú garancia- és kezességvállalásból származó megtérülések államháztartáson belülről (B13) | C16: =SUM(D16,E16,F16,G16) -> 0 | D16: 0 | H16: =SUM(I16,J16,K16,L16) -> 0 | I16: 0
A17: 10 | B17: Működési célú visszatérítendő támogatások, kölcsönök visszatérülése államháztartáson belülről (=11+…+20) (B14) | C17: =SUM(D17,E17,F17,G17) -> 0 | D17: =SUM(D18,D19) -> 0 | E17: =SUM(E18:E27) -> 0 | F17: =SUM(F18:F27) -> 0 | G17: =SUM(G18:G27) -> 0 | H17: =SUM(I17,J17,K17,L17) -> 0 | I17: =SUM(I18,I19) -> 0 | J17: =SUM(J18:J27) -> 0 | K17: =SUM(K18:K27) -> 0 | L17: =SUM(L18:L27) -> 0
A18: 11 | B18: ebből: központi költségvetési szervek (B14) | C18: =SUM(D18,E18,F18,G18) -> 0 | D18: 0 | H18: =SUM(I18,J18,K18,L18) -> 0 | I18: 0
A19: 12 | B19: ebből: központi kezelésű előirányzatok (B14) | C19: =SUM(D19,E19,F19,G19) -> 0 | D19: 0 | H19: =SUM(I19,J19,K19,L19) -> 0 | I19: 0
A20: 13 | B20: ebből: fejezeti kezelésű előirányzatok EU-s programokra és azok hazai társfinanszírozása (B14) | C20: =SUM(D20,E20,F20,G20) -> 0 | D20: 0 | H20: =SUM(I20,J20,K20,L20) -> 0 | I20: 0
A21: 14 | B21: ebből: egyéb fejezeti kezelésű előirányzatok (B14) | C21: =SUM(D21,E21,F21,G21) -> 0 | D21: 0 | H21: =SUM(I21,J21,K21,L21) -> 0 | I21: 0
A22: 15 | B22: ebből: társadalombiztosítás pénzügyi alapjai (B14) | C22: =SUM(D22,E22,F22,G22) -> 0 | D22: 0 | H22: =SUM(I22,J22,K22,L22) -> 0 | I22: 0
A23: 16 | B23: ebből: elkülönített állami pénzalapok (B14) | C23: =SUM(D23,E23,F23,G23) -> 0 | D23: 0 | H23: =SUM(I23,J23,K23,L23) -> 0 | I23: 0
A24: 17 | B24: ebből: helyi önkormányzatok és költségvetési szerveik (B14) | C24: =SUM(D24,E24,F24,G24) -> 0 | D24: 0 | H24: =SUM(I24,J24,K24,L24) -> 0 | I24: 0
A25: 18 | B25: ebből: társulások és költségvetési szerveik (B14) | C25: =SUM(D25,E25,F25,G25) -> 0 | D25: 0 | H25: =SUM(I25,J25,K25,L25) -> 0 | I25: 0
A26: 19 | B26: ebből: nemzetiségi önkormányzatok és költségvetési szerveik (B14) | C26: =SUM(D26,E26,F26,G26) -> 0 | D26: 0 | H26: =SUM(I26,J26,K26,L26) -> 0 | I26: 0
A27: 20 | B27: ebből: térségi fejlesztési tanácsok és költségvetési szerveik (B14) | C27: =SUM(D27,E27,F27,G27) -> 0 | D27: 0 | H27: =SUM(I27,J27,K27,L27) -> 0 | I27: 0
A28: 21 | B28: Működési célú visszatérítendő támogatások, kölcsönök igénybevétele államháztartáson belülről (=22+…+31) (B15) | C28: =SUM(D28,E28,F28,G28) -> 0 | D28: =SUM(D29,D30,D31,D32,D33,D34,D35,D36,D37,D38) -> 0 | E28: =SUM(E29:E38) -> 0 | F28: =SUM(F29:F38) -> 0 | G28: =SUM(G29:G38) -> 0 | H28: =SUM(I28,J28,K28,L28) -> 0 | I28: =SUM(I29,I30,I31,I32,I33,I34,I35,I36,I37,I38) -> 0 | J28: =SUM(J29:J38) -> 0 | K28: =SUM(K29:K38) -> 0 | L28: =SUM(L29:L38) -> 0
A29: 22 | B29: ebből: központi költségvetési szervek (B15) | C29: =SUM(D29,E29,F29,G29) -> 0 | D29: 0 | H29: =SUM(I29,J29,K29,L29) -> 0 | I29: 0
A30: 23 | B30: ebből: központi kezelésű előirányzatok (B15) | C30: =SUM(D30,E30,F30,G30) -> 0 | D30: 0 | H30: =SUM(I30,J30,K30,L30) -> 0 | I30: 0
A31: 24 | B31: ebből: fejezeti kezelésű előirányzatok EU-s programokra és azok hazai társfinanszírozása (B15) | C31: =SUM(D31,E31,F31,G31) -> 0 | D31: 0 | H31: =SUM(I31,J31,K31,L31) -> 0 | I31: 0
A32: 25 | B32: ebből: egyéb fejezeti kezelésű előirányzatok (B15) | C32: =SUM(D32,E32,F32,G32) -> 0 | D32: 0 | H32: =SUM(I32,J32,K32,L32) -> 0 | I32: 0
A33: 26 | B33: ebből: társadalombiztosítás pénzügyi alapjai (B15) | C33: =SUM(D33,E33,F33,G33) -> 0 | D33: 0 | H33: =SUM(I33,J33,K33,L33) -> 0 | I33: 0
A34: 27 | B34: ebből: elkülönített állami pénzalapok (B15) | C34: =SUM(D34,E34,F34,G34) -> 0 | D34: 0 | H34: =SUM(I34,J34,K34,L34) -> 0 | I34: 0
A35: 28 | B35: ebből: helyi önkormányzatok és költségvetési szerveik (B15) | C35: =SUM(D35,E35,F35,G35) -> 0 | D35: 0 | H35: =SUM(I35,J35,K35,L35) -> 0 | I35: 0
A36: 29 | B36: ebből: társulások és költségvetési szerveik (B15) | C36: =SUM(D36,E36,F36,G36) -> 0 | D36: 0 | H36: =SUM(I36,J36,K36,L36) -> 0 | I36: 0
A37: 30 | B37: ebből: nemzetiségi önkormányzatok és költségvetési szerveik (B15) | C37: =SUM(D37,E37,F37,G37) -> 0 | D37: 0 | H37: =SUM(I37,J37,K37,L37) -> 0 | I37: 0
A38: 31 | B38: ebből: térségi fejlesztési tanácsok és költségvetési szerveik (B15) | C38: =SUM(D38,E38,F38,G38) -> 0 | D38: 0 | H38: =SUM(I38,J38,K38,L38) -> 0 | I38: 0
A39: 32 | B39: Egyéb működési célú támogatások bevételei államháztartáson belülről (=33+…+42) (B16) | C39: =SUM(D39,E39,F39,G39) -> 138571000 | D39: 133999000 | E39: 4187000 | F39: =SUM(F40:F49) -> 0 | G39: 385000 | H39: =SUM(I39,J39,K39,L39) -> 112094537 | I39: 106973803 | J39: 4326734 | K39: =SUM(K40:K49) -> 0 | L39: 794000
A40: 33 | B40: ebből: központi költségvetési szervek (B16) | C40: =SUM(D40,E40,F40,G40) -> 0 | D40: 0 | H40: =SUM(I40,J40,K40,L40) -> 0 | I40: 0
A41: 34 | B41: ebből: központi kezelésű előirányzatok (B16) | C41: =SUM(D41,E41,F41,G41) -> 0 | D41: 0 | H41: =SUM(I41,J41,K41,L41) -> 0 | I41: 0
...

Sheet 3
A1: 3. melléklet Csabrendek Nagyközség Önkormányzata Képviselő-testületének 12/2018 (XI.15.) rendeletéhez
A2: "3. melléklet Csabrendek Nagyközség Önkormányzata Képviselő-testületének 1/2018. (I. 30.) rendeletéhez"
A4: Finanszírozási kiadások
C5: Eredeti előirányzat | H5: Módosított előirányzat
C6: Önkormányzat összesen | D6: Csabrendek Nagyközség Önkormányzata | E6: Csabrendeki Közös Önkormányzati Hivatal | F6: Mese-domb Óvoda és Bölcsőde | G6: KÖZSZER | H6: Önkormányzat összesen | I6: Csabrendek Nagyközség Önkormányzata | J6: Csabrendeki Közös Önkormányzati Hivatal | K6: Mese-domb Óvoda és Bölcsőde | L6: KÖZSZER
A7: 1 | B7: 2 | C7: 3 | D7: 4 | E7: 5 | F7: 6 | G7: 7 | H7: 3 | I7: 4 | J7: 5 | K7: 6 | L7: 7
A8: 01 | B8: Hosszú lejáratú hitelek, kölcsönök törlesztése pénzügyi vállalkozásnak (>=02) (K9111) | C8: =SUM(D8:G8) -> 0 | D8: 0 | H8: =SUM(I8:L8) -> 0 | I8: 0
A9: 02 | B9: ebből: fedezeti ügyletek nettó kiadásai (K9111) | C9: =SUM(D9:G9) -> 0 | D9: 0 | H9: =SUM(I9:L9) -> 0 | I9: 0
A10: 03 | B10: Likviditási célú hitelek, kölcsönök törlesztése pénzügyi vállalkozásnak (K9112) | C10: =SUM(D10:G10) -> 0 | D10: 0 | H10: =SUM(I10:L10) -> 0 | I10: 0
A11: 04 | B11: Rövid lejáratú hitelek, kölcsönök törlesztése pénzügyi vállalkozásnak (>=05) (K9113) | C11: =SUM(D11:G11) -> 0 | D11: 0 | H11: =SUM(I11:L11) -> 0 | I11: 0
A12: 05 | B12: ebből: fedezeti ügyletek nettó kiadásai (K9113) | C12: =SUM(D12:G12) -> 0 | D12: 0 | H12: =SUM(I12:L12) -> 0 | I12: 0
A13: 06 | B13: Hitel-, kölcsöntörlesztés államháztartáson kívülre (=01+03+04) (K911) | C13: =SUM(D13:G13) -> 0 | D13: =SUM(D8,D10,D11) -> 0 | E13: =SUM(E8,E10,E11) -> 0 | F13: =SUM(F8,F10,F11) -> 0 | G13: =SUM(G8,G10,G11) -> 0 | H13: =SUM(I13:L13) -> 0 | I13: =SUM(I8,I10,I11) -> 0 | J13: =SUM(J8,J10,J11) -> 0 | K13: =SUM(K8,K10,K11) -> 0 | L13: =SUM(L8,L10,L11) -> 0
A14: 07 | B14: Forgatási célú belföldi értékpapírok vásárlása (>=08+09) (K9121) | C14: =SUM(D14:G14) -> 0 | D14: 0 | H14: =SUM(I14:L14) -> 150000000 | I14: 150000000
A15: 08 | B15: ebből: befektetési jegyek (K9121) | C15: =SUM(D15:G15) -> 0 | D15: 0 | H15: =SUM(I15:L15) -> 0 | I15: 0
A16: 09 | B16: ebből: kárpótlási jegyek (K9121) | C16: =SUM(D16:G16) -> 0 | D16: 0 | H16: =SUM(I16:L16) -> 0 | I16: 0
A17: 10 | B17: Befektetési célú belföldi értékpapírok vásárlása (K9122) | C17: =SUM(D17:G17) -> 0 | D17: 0 | H17: =SUM(I17:L17) -> 0 | I17: 0
A18: 11 | B18: Kincstárjegyek beváltása (K9123) | C18: =SUM(D18:G18) -> 0 | D18: 0 | H18: =SUM(I18:L18) -> 0 | I18: 0
A19: 12 | B19: Éven belüli lejáratú belföldi értékpapírok beváltása (>=13+14+15) (K9124) | C19: =SUM(D19:G19) -> 0 | D19: 0 | H19: =SUM(I19:L19) -> 0 | I19: 0
A20: 13 | B20: ebből: fedezeti ügyletek nettó kiadásai (K9124) | C20: =SUM(D20:G20) -> 0 | D20: 0 | H20: =SUM(I20:L20) -> 0 | I20: 0
A21: 14 | B21: ebből: befektetési jegyek (K9124) | C21: =SUM(D21:G21) -> 0 | D21: 0 | H21: =SUM(I21:L21) -> 0 | I21: 0
A22: 15 | B22: ebből: kárpótlási jegyek (K9124) | C22: =SUM(D22:G22) -> 0 | D22: 0 | H22: =SUM(I22:L22) -> 0 | I22: 0
A23: 16 | B23: Belföldi kötvények beváltása (K9125) | C23: =SUM(D23:G23) -> 0 | D23: 0 | H23: =SUM(I23:L23) -> 0 | I23: 0
A24: 17 | B24: Éven túli lejáratú belföldi értékpapírok beváltása (>=18) (K9126) | C24: =SUM(D24:G24) -> 0 | D24: 0 | H24: =SUM(I24:L24) -> 0 | I24: 0
A25: 18 | B25: ebből: fedezeti ügyletek nettó kiadásai (K9126) | C25: =SUM(D25:G25) -> 0 | D25: 0 | H25: =SUM(I25:L25) -> 0 | I25: 0
A26: 19 | B26: Belföldi értékpapírok kiadásai (=07+10+11+12+16+17) (K912) | C26: =SUM(D26:G26) -> 0 | D26: 0 | H26: =SUM(I26:L26) -> 150000000 | I26: =SUM(I14,I17,I18,I19,I23,I24) -> 150000000
A27: 20 | B27: Államháztartáson belüli megelőlegezések folyósítása (K913) | C27: =SUM(D27:G27) -> 0 | D27: 0 | H27: =SUM(I27:L27) -> 0 | I27: 0
A28: 21 | B28: Államháztartáson belüli megelőlegezések visszafizetése (K914) | C28: =SUM(D28:G28) -> 30000000 | D28: 30000000 | H28: =SUM(I28:L28) -> 30000000 | I28: 30000000
A29: 22 | B29: Központi, irányító szervi támogatások folyósítása (K915) | C29: =SUM(D29:G29) -> 194690000 | D29: 194690000 | H29: =SUM(I29:L29) -> 208611000 | I29: 208611000
A30: 23 | B30: Pénzeszközök lekötött bankbetétként elhelyezése (K916) | C30: =SUM(D30:G30) -> 0 | D30: 0 | H30: =SUM(I30:L30) -> 50000000 | I30: 50000000
A31: 24 | B31: Pénzügyi lízing kiadásai (K917) | C31: =SUM(D31:G31) -> 0 | D31: 0 | H31: =SUM(I31:L31) -> 0 | I31: 0
A32: 25 | B32: Központi költségvetés sajátos finanszírozási kiadásai (K918) | C32: =SUM(D32:G32) -> 0 | D32: 0 | H32: =SUM(I32:L32) -> 0 | I32: 0
A33: 26 | B33: Hosszú lejáratú tulajdonosi kölcsönök kiadásai (K9191) | C33: =SUM(D33:G33) -> 0 | D33: 0 | H33: =SUM(I33:L33) -> 0 | I33: 0
A34: 27 | B34: Rövid lejáratú tulajdonosi kölcsönök kiadásai (K9192) | C34: =SUM(D34:G34) -> 0 | D34: 0 | H34: =SUM(I34:L34) -> 0 | I34: 0
A35: 28 | B35: Tulajdonosi kölcsönök kiadásai (=26+27) (K919) | C35: =SUM(D35:G35) -> 0 | D35: =SUM(D33,D34) -> 0 | H35: =SUM(I35:L35) -> 0 | I35: =SUM(I33,I34) -> 0
A36: 29 | B36: Belföldi finanszírozás kiadásai (=06+19+…+25+28) (K91) | C36: =SUM(D36:G36) -> 224690000 | D36: =SUM(D13,D26,D27,D28,D29,D30,D31,D32,D35) -> 224690000 | E36: =SUM(E13,E26,E27,E28,E29,E30,E31,E32,E35) -> 0 | F36: =SUM(F13,F26,F27,F28,F29,F30,F31,F32,F35) -> 0 | G36: =SUM(G13,G26,G27,G28,G29,G30,G31,G32,G35) -> 0 | H36: =SUM(I36:L36) -> 438611000 | I36: =SUM(I13,I26,I27,I28,I29,I30,I31,I32,I35) -> 438611000 | J36: =SUM(J13,J26,J27,J28,J29,J30,J31,J32,J35) -> 0 | K36: =SUM(K13,K26,K27,K28,K29,K30,K31,K32,K35) -> 0 | L36: =SUM(L13,L26,L27,L28,L29,L30,L31,L32,L35) -> 0
A37: 30 | B37: Forgatási célú külföldi értékpapírok vásárlása (K921) | C37: =SUM(D37:G37) -> 0 | D37: 0 | H37: =SUM(I37:L37) -> 0 | I37: 0
A38: 31 | B38: Befektetési célú külföldi értékpapírok vásárlása (K922) | C38: =SUM(D38:G38) -> 0 | D38: 0 | H38: =SUM(I38:L38) -> 0 | I38: 0
A39: 32 | B39: Külföldi értékpapírok beváltása (>=33) (K923) | C39: =SUM(D39:G39) -> 0 | D39: 0 | H39: =SUM(I39:L39) -> 0 | I39: 0
A40: 33 | B40: ebből: fedezeti ügyletek nettó kiadásai (K923) | C40: =SUM(D40:G40) -> 0 | D40: 0 | H40: =SUM(I40:L40) -> 0 | I40: 0
A41: 34 | B41: Hitelek, kölcsönök törlesztése külföldi kormányoknak és nemzetközi szervezeteknek (K924) | C41: =SUM(D41:G41) -> 0 | D41: 0 | H41: =SUM(I41:L41) -> 0 | I41: 0
...

Sheet 4
A1: 4. melléklet Csabrendek Nagyközség Önkormányzata Képviselő-testületének 12/2018 (XI.15.) rendeletéhez
A2: "4. melléklet Csabrendek Nagyközség Önkormányzata Képviselő-testületének 1/2018. (I. 30.) rendeletéhez"
A4: Finanszírozási bevételek
C5: Eredeti előirányzat | H5: Módosított előirányzat
C6: Önkormányzat összesen | D6: Csabrendek Nagyközség Önkormányzata | E6: Csabrendeki Közös Önkormányzati Hivatal | F6: Mese-domb Óvoda és Bölcsőde | G6: KÖZSZER | H6: Önkormányzat összesen | I6: Csabrendek Nagyközség Önkormányzata | J6: Csabrendeki Közös Önkormányzati Hivatal | K6: Mese-domb Óvoda és Bölcsőde | L6: KÖZSZER
A7: 1 | B7: 2 | C7: 3 | D7: 4 | E7: 5 | F7: 6 | G7: 7 | H7: 3 | I7: 4 | J7: 5 | K7: 6 | L7: 7
A8: 01 | B8: Hosszú lejáratú hitelek, kölcsönök felvétele pénzügyi vállalkozástól (B8111) | C8: =SUM(D8:G8) -> 0 | D8: 0 | E8: 0 | F8: 0 | G8: 0 | H8: =SUM(I8:L8) -> 21745000 | I8: 21745000 | J8: 0 | K8: 0 | L8: 0
A9: 02 | B9: Likviditási célú hitelek, kölcsönök felvétele pénzügyi vállalkozástól (B8112) | C9: =SUM(D9:G9) -> 0 | D9: 0 | E9: 0 | F9: 0 | G9: 0 | H9: =SUM(I9:L9) -> 0 | I9: 0 | J9: 0 | K9: 0 | L9: 0
A10: 03 | B10: Rövid lejáratú hitelek, kölcsönök felvétele pénzügyi vállalkozástól (B8113) | C10: =SUM(D10:G10) -> 0 | D10: 0 | E10: 0 | F10: 0 | G10: 0 | H10: =SUM(I10:L10) -> 0 | I10: 0 | J10: 0 | K10: 0 | L10: 0
A11: 04 | B11: Hitel-, kölcsönfelvétel pénzügyi vállalkozástól (=01+02+03) (B811) | C11: =SUM(D11:G11) -> 0 | D11: 0 | E11: 0 | F11: 0 | G11: 0 | H11: =SUM(I11:L11) -> 21745000 | I11: =SUM(I8:I10) -> 21745000 | J11: =J10+J9+J8 -> 0 | K11: =K10+K9+K8 -> 0 | L11: 0
A12: 05 | B12: Forgatási célú belföldi értékpapírok beváltása, értékesítése (>=06+07) (B8121) | C12: =SUM(D12:G12) -> 0 | D12: =SUM(D13,D14) -> 0 | E12: 0 | F12: 0 | G12: 0 | H12: =SUM(I12:L12) -> 150000000 | I12: 150000000 | J12: 0 | K12: 0 | L12: 0
A13: 06 | B13: ebből: befektetési jegyek (B8121) | C13: =SUM(D13:G13) -> 0 | D13: 0 | E13: 0 | F13: 0 | G13: 0 | H13: =SUM(I13:L13) -> 0 | I13: 0 | J13: 0 | K13: 0 | L13: 0
A14: 07 | B14: ebből: kárpótlási jegyek (B8121) | C14: =SUM(D14:G14) -> 0 | D14: 0 | E14: 0 | F14: 0 | G14: 0 | H14: =SUM(I14:L14) -> 0 | I14: 0 | J14: 0 | K14: 0 | L14: 0
A15: 08 | B15: Éven belüli lejáratú belföldi értékpapírok kibocsátása (B8122) | C15: =SUM(D15:G15) -> 0 | D15: 0 | E15: 0 | F15: 0 | G15: 0 | H15: =SUM(I15:L15) -> 0 | I15: 0 | J15: 0 | K15: 0 | L15: 0
A16: 09 | B16: Befektetési célú belföldi értékpapírok beváltása, értékesítése (B8123) | C16: =SUM(D16:G16) -> 0 | D16: 0 | E16: 0 | F16: 0 | G16: 0 | H16: =SUM(I16:L16) -> 0 | I16: 0 | J16: 0 | K16: 0 | L16: 0
A17: 10 | B17: Éven túli lejáratú belföldi értékpapírok kibocsátása (B8124) | C17: =SUM(D17:G17) -> 0 | D17: 0 | E17: 0 | F17: 0 | G17: 0 | H17: =SUM(I17:L17) -> 0 | I17: 0 | J17: 0 | K17: 0 | L17: 0
A18: 11 | B18: Belföldi értékpapírok bevételei (=05+08+09+10) (B812) | C18: =SUM(D18:G18) -> 0 | D18: =SUM(D12,D15,D16,D17) -> 0 | E18: 0 | F18: 0 | G18: 0 | H18: =SUM(I18:L18) -> 150000000 | I18: =SUM(I12,I15,I16,I17) -> 150000000 | J18: 0 | K18: 0 | L18: 0
A19: 12 | B19: Előző év költségvetési maradványának igénybevétele (B8131) | C19: =SUM(D19:G19) -> 41949527 | D19: 40350898 | E19: 349294 | F19: 394964 | G19: 854371 | H19: =SUM(I19:L19) -> 41949527 | I19: 40350898 | J19: 349294 | K19: 394964 | L19: 854371
A20: 13 | B20: Előző év vállalkozási maradványának igénybevétele (B8132) | C20: =SUM(D20:G20) -> 0 | D20: 0 | H20: =SUM(I20:L20) -> 0 | I20: 0
A21: 14 | B21: Maradvány igénybevétele (=12+13) (B813) | C21: =SUM(D21:G21) -> 41949527 | D21: =SUM(D19,D20) -> 40350898 | E21: =SUM(E19:E20) -> 349294 | F21: =SUM(F19:F20) -> 394964 | G21: =SUM(G19:G20) -> 854371 | H21: =SUM(I21:L21) -> 41949527 | I21: =SUM(I19,I20) -> 40350898 | J21: =SUM(J19:J20) -> 349294 | K21: =SUM(K19:K20) -> 394964 | L21: =SUM(L19:L20) -> 854371
A22: 15 | B22: Államháztartáson belüli megelőlegezések (B814) | C22: =SUM(D22:G22) -> 30000000 | D22: 30000000 | H22: =SUM(I22:L22) -> 30000000 | I22: 30000000
A23: 16 | B23: Államháztartáson belüli megelőlegezések törlesztése (B815) | C23: =SUM(D23:G23) -> 0 | D23: 0 | E23: 0 | F23: 0 | G23: 0 | H23: =SUM(I23:L23) -> 0 | I23: 0 | J23: 0 | K23: 0 | L23: 0
A24: 17 | B24: Központi, irányító szervi támogatás (B816) | C24: =SUM(D24:G24) -> 194690000 | D24: 0 | E24: 69345000 | F24: 54977000 | G24: 70368000 | H24: =SUM(I24:L24) -> 208611000 | I24: 0 | J24: 75028000 | K24: 59040000 | L24: 74543000
A25: 18 | B25: Lekötött bankbetétek megszüntetése (B817) | C25: =SUM(D25:G25) -> 200000000 | D25: 200000000 | E25: 0 | F25: 0 | G25: 0 | H25: =SUM(I25:L25) -> 250000000 | I25: 250000000 | J25: 0 | K25: 0 | L25: 0
A26: 19 | B26: Központi költségvetés sajátos finanszírozási bevételei (B818) | C26: =SUM(D26:G26) -> 0 | D26: 0 | E26: 0 | F26: 0 | G26: 0 | H26: =SUM(I26:L26) -> 0 | I26: 0 | J26: 0 | K26: 0 | L26: 0
A27: 20 | B27: Hosszú lejáratú tulajdonosi kölcsönök bevételei (B8191) | C27: =SUM(D27:G27) -> 0 | D27: 0 | E27: 0 | F27: 0 | G27: 0 | H27: =SUM(I27:L27) -> 0 | I27: 0 | J27: 0 | K27: 0 | L27: 0
A28: 21 | B28: Rövid lejáratú tulajdonosi kölcsönök bevételei (B8192) | C28: =SUM(D28:G28) -> 0 | D28: 0 | E28: 0 | F28: 0 | G28: 0 | H28: =SUM(I28:L28) -> 0 | I28: 0 | J28: 0 | K28: 0 | L28: 0
A29: 22 | B29: Tulajdonosi kölcsönök bevételei (=20+21) (B819) | C29: =SUM(D29:G29) -> 0 | D29: =SUM(D27,D28) -> 0 | E29: 0 | F29: 0 | G29: 0 | H29: =SUM(I29:L29) -> 0 | I29: =SUM(I27,I28) -> 0 | J29: 0 | K29: 0 | L29: 0
A30: 23 | B30: Belföldi finanszírozás bevételei (=04+11+14+…+19+22) (B81) | C30: =SUM(D30:G30) -> 466639527 | D30: =SUM(D11,D18,D21,D22,D23,D24,D25,D26,D29) -> 270350898 | E30: =SUM(E11,E18,E21,E22,E23,E24,E25,E26,E29) -> 69694294 | F30: =SUM(F11,F18,F21,F22,F23,F24,F25,F26,F29) -> 55371964 | G30: =SUM(G11,G18,G21,G22,G23,G24,G25,G26,G29) -> 71222371 | H30: =SUM(I30:L30) -> 702305527 | I30: =SUM(I11,I18,I21,I22,I23,I24,I25,I26,I29) -> 492095898 | J30: =SUM(J11,J18,J21,J22,J23,J24,J25,J26,J29) -> 75377294 | K30: =SUM(K11,K18,K21,K22,K23,K24,K25,K26,K29) -> 59434964 | L30: =SUM(L11,L18,L21,L22,L23,L24,L25,L26,L29) -> 75397371
A31: 24 | B31: Forgatási célú külföldi értékpapírok beváltása, értékesítése (B821) | C31: =SUM(D31:G31) -> 0 | D31: 0 | E31: 0 | F31: 0 | G31: 0 | H31: =SUM(I31:L31) -> 0 | I31: 0 | J31: 0 | K31: 0 | L31: 0
A32: 25 | B32: Befektetési célú külföldi értékpapírok beváltása, értékesítése (B822) | C32: =SUM(D32:G32) -> 0 | D32: 0 | E32: 0 | F32: 0 | G32: 0 | H32: =SUM(I32:L32) -> 0 | I32: 0 | J32: 0 | K32: 0 | L32: 0
A33: 26 | B33: Külföldi értékpapírok kibocsátása (B823) | C33: =SUM(D33:G33) -> 0 | D33: 0 | E33: 0 | F33: 0 | G33: 0 | H33: =SUM(I33:L33) -> 0 | I33: 0 | J33: 0 | K33: 0 | L33: 0
A34: 27 | B34: Hitelek, kölcsönök felvétele külföldi kormányoktól és nemzetközi szervezetektől (B824) | C34: =SUM(D34:G34) -> 0 | D34: 0 | E34: 0 | F34: 0 | G34: 0 | H34: =SUM(I34:L34) -> 0 | I34: 0 | J34: 0 | K34: 0 | L34: 0
A35: 28 | B35: Hitelek, kölcsönök felvétele külföldi pénzintézetektől (B825) | C35: =SUM(D35:G35) -> 0 | D35: 0 | E35: 0 | F35: 0 | G35: 0 | H35: =SUM(I35:L35) -> 0 | I35: 0 | J35: 0 | K35: 0 | L35: 0
A36: 29 | B36: Külföldi finanszírozás bevételei (=24+…+28) (B82) | C36: =SUM(D36:G36) -> 0 | D36: 0 | E36: 0 | F36: 0 | G36: 0 | H36: =SUM(I36:L36) -> 0 | I36: 0 | J36: 0 | K36: 0 | L36: 0
A37: 30 | B37: Adóssághoz nem kapcsolódó származékos ügyletek bevételei (B83) | C37: =SUM(D37:G37) -> 0 | D37: 0 | E37: 0 | F37: 0 | G37: 0 | H37: =SUM(I37:L37) -> 0 | I37: 0 | J37: 0 | K37: 0 | L37: 0
A38: 31 | B38: Váltóbevételek (B84) | C38: =SUM(D38:G38) -> 0 | D38: 0 | E38: 0 | F38: 0 | G38: 0 | H38: =SUM(I38:L38) -> 0 | I38: 0 | J38: 0 | K38: 0 | L38: 0
A39: 32 | B39: Finanszírozási bevételek (=23+29+30+31) (B8) | C39: =SUM(D39:G39) -> 466639527 | D39: =SUM(D30,D36,D37,D38) -> 270350898 | E39: =SUM(E30,E36,E37,E38) -> 69694294 | F39: =SUM(F30,F36,F37,F38) -> 55371964 | G39: =SUM(G30,G36,G37,G38) -> 71222371 | H39: =SUM(I39:L39) -> 702305527 | I39: =SUM(I30,I36,I37,I38) -> 492095898 | J39: =SUM(J30,J36,J37,J38) -> 75377294 | K39: =SUM(K30,K36,K37,K38) -> 59434964 | L39: =SUM(L30,L36,L37,L38) -> 75397371

Sheet 5
A1: 5. melléklet
A2: Csabrendek Nagyközség Önkormányzata Képviselő-testületének 12/2018 (XI.15.) rendeletéhez
A3: "5 melléklet
A4: Csabrendek Nagyközség Önkormányzata Képviselő-testületének 1/2018. (I. 30.) rendeletéhez"
A5: 2018. évi költségvetési mérlege
A6: E: | B6: Eredeti előirányzat | O6: adatok forintban
A7: M: | B7: Módosított előirányzat
A8: T | B8: Teljesítés
B10: A | C10: B | E10: C | F10: D | G10: E | H10: F | I10: G | J10: H | L10: I | M10: J | N10: K | O10: L
B11: Előir. csop név és szám | C11: Kiemelt előírányzatok név és szám | F11: Kötelező feladatok | G11: Önként vállalt feladatok | I11: Előir. csop név és szám | J11: Kiemelt előírányzatok név és szám | M11: Kötelező feladatok | N11: Önként vállalt feladatok
A12: 1 | B12: 1. Működési bevételek | E12: E | F12: =SUM(F24,F21,F15,F18,F27) -> 526789022 | G12: =SUM(G24,G21,G15,G18,G27) -> 0 | H12: =SUM(H24,H21,H15,H18,H27) -> 526789022 | I12: 6. Működési kiadások | L12: E | M12: =SUM(M15,M18,M21,M24,M27) -> 542229629 | N12: =SUM(N15,N18,N21,N24,N27) -> 0 | O12: =SUM(O15,O18,O21,O24,O27) -> 542229629
E13: M | F13: =SUM(F25,F22,F16,F19,F28) -> 547628463 | G13: =SUM(G25,G22,G16,G19,G28) -> 0 | H13: =SUM(H25,H22,H16,H19,H28) -> 547628463 | L13: M | M13: =SUM(M16,M19,M22,M25,M28) -> 593275504 | N13: =SUM(N16,N19,N22,N25,N28) -> 0 | O13: =SUM(O16,O19,O22,O25,O28) -> 593275504
E14: T | L14: T
A15: 2 | C15: B11 | D15: Önkormányzatok működési támogatásai | E15: E | F15: =H15-G15 -> 267248022 | H15: ='2'!C14 -> 267248022 | J15: K1 | K15: Személyi juttatások | L15: E | M15: =O15-N15 -> 224819000 | O15: ='1'!C27 -> 224819000
E16: M | F16: =H16-G16 -> 297689426 | H16: ='2'!H14 -> 297689426 | L16: M | M16: =O16-N16 -> 236107000 | O16: ='1'!H27 -> 236107000
E17: T | L17: T
A18: 3 | C18: B16 | D18: Egyéb működési célú támogatások bevételei államháztartáson belülről | E18: E | F18: =H18-G18 -> 138571000 | H18: ='2'!C39 -> 138571000 | J18: K2 | K18: Munkaadókat terhelő járulékok és szociális hozzájárulási adó | L18: E | M18: =O18-N18 -> 42045629 | O18: ='1'!C28 -> 42045629
E19: M | F19: =H19-G19 -> 112094537 | H19: ='2'!H39 -> 112094537 | L19: M | M19: =O19-N19 -> 44255629 | O19: ='1'!H28 -> 44255629
E20: T | L20: T
A21: 4 | C21: B3-B34 | D21: Közhatalmi bevételek | E21: E | F21: =H21-G21 -> 41878000 | H21: ='2'!C192-'2'!C116 -> 41878000 | J21: K3 | K21: Dologi kiadások | L21: E | M21: =O21-N21 -> 186460000 | O21: ='1'!C68 -> 186460000
E22: M | F22: =H22-G22 -> 41878000 | H22: ='2'!H192-'2'!H116 -> 41878000 | L22: M | M22: =O22-N22 -> 216346274 | O22: ='1'!H68 -> 216346274
E23: T | L23: T
A24: 5 | C24: B4 | D24: Működési bevételek | E24: E | F24: =H24-G24 -> 79008000 | H24: ='2'!C228 -> 79008000 | J24: K4 | K24: Ellátottak pénzbeni juttatásai | L24: E | M24: =O24-N24 -> 10405000 | O24: ='1'!C128 -> 10405000
E25: M | F25: =H25-G25 -> 86234000 | H25: ='2'!H228 -> 86234000 | L25: M | M25: =O25-N25 -> 10405000 | O25: ='1'!H128 -> 10405000
E26: T | F26: =H26-G26 -> #REF! | H26: =SUM(#REF!) -> #REF! | L26: T
A27: 6 | C27: B6 | D27: Működési célú átvett pénzeszközök | E27: E | F27: =H27-G27 -> 84000 | H27: ='2'!C263 -> 84000 | J27: K5-K513 | K27: Egyébb működési célú kiadások | L27: E | M27: =O27-N27 -> 78500000 | O27: ='1'!C198-'1'!C197 -> 78500000
E28: M | F28: =H28-G28 -> 9732500 | H28: ='2'!H263 -> 9732500 | L28: M | M28: =O28-N28 -> 86161601 | O28: ='1'!H198-'1'!H197 -> 86161601
E29: T | L29: T
A30: 7 | B30: 2. Felhalmozási bevételek | E30: E | F30: =SUM(F36,F33,F39,F42,F45) -> 152943000 | G30: =SUM(G36,G33,G39,G42,G45) -> 0 | H30: =SUM(H36,H33,H39,H42,H45) -> 152943000 | I30: 7. Felhalmozási célú kiadások | L30: E | M30: =SUM(,M33,M36,M39) -> 364207000 | N30: =SUM(,N33,N36,N39) -> 0 | O30: =SUM(,O33,O36,O39) -> 364207000
E31: M | F31: =SUM(F37,F34,F40,F43,F46) -> 207017000 | G31: =SUM(G37,G34,G40,G43,G46) -> 0 | H31: =SUM(H37,H34,H40,H43,H46) -> 207017000 | L31: M | M31: =SUM(,M34,M37,M40) -> 403161000 | N31: =SUM(,N34,N37,N40) -> 0 | O31: =SUM(,O34,O37,O40) -> 403161000
E32: T | L32: T
A33: 8 | C33: B21 | D33: Önkormányzatok felhalmozási támogatásai | E33: E | F33: =H33-G33 -> 0 | H33: ='2'!C51 -> 0 | J33: K6 | K33: Felhalmozási költségvetés beruházások | L33: E | M33: =O33-N33 -> 22719000 | O33: ='1'!C207 -> 22719000
E34: M | F34: =H34-G34 -> 15375000 | H34: ='2'!H51 -> 15375000 | L34: M | M34: =O34-N34 -> 26465000 | O34: ='1'!H207 -> 26465000
E35: T | L35: T
A36: 9 | C36: B2-B21 | D36: Egyéb felhalmozási célú támogatások bevételei államháztartáson belülről | E36: E | F36: =H36-G36 -> 115065000 | H36: ='2'!C75 -> 115065000 | J36: K7 | K36: Felújítások | L36: E | M36: =O36-N36 -> 341488000 | O36: ='1'!C212 -> 341488000
E37: M | F37: =H37-G37 -> 100065000 | H37: ='2'!H75 -> 100065000 | L37: M | M37: =O37-N37 -> 376202000 | O37: ='1'!H212 -> 376202000
E38: T | L38: T
A39: 10 | C39: B34 | D39: Közhatalmi bevételek | E39: E | F39: =H39-G39 -> 22153000 | H39: ='2'!C116 -> 22153000 | J39: K8 | K39: Egyéb felhalmozási kiadások | L39: E | M39: =O39-N39 -> 0 | O39: ='1'!C274 -> 0
E40: M | F40: =H40-G40 -> 22153000 | H40: ='2'!H116 -> 22153000 | L40: M | M40: =O40-N40 -> 494000 | O40: ='1'!H274 -> 494000
E41: T | L41: T
...

Sheet 6
A1: 6. melléklet
A2: Csabrendek Nagyközség Önkormányzata Képviselő-testületének 12/2018 (XI.15.) rendeletéhez
A3: "6. melléklet
A4: Csabrendek Nagyközség Önkormányzata Képviselő-testületének 1/2018. (1./30.) rendeletéhez"
A5: Önkormányzatok működési támogatásai kiemelt előirányzat részletezése
A6: E: | B6: Eredeti előirányzat | L6: adatok forintban
A7: M: | B7: Módosított előírányzat
A8: T: | B8: Teljesítés
B10: A | C10: B | D10: C | L10: D | M10: E | N10: F
B11: Cím név és szám | C11: Kiemelt előirányzat név és szám | D11: Jogcím csoport, jogcím név és szám | L11: 2018. évi előirányzat | M11: 2018. évi módosított előirányzat | N11: 2018. évi teljesítés
A14: 1 | B14: 1 ÖNKORMÁNYZAT ÖSSZESEN | L14: =L15 -> 267126022 | M14: =M15 -> 2.9768943e+08 | N14: =N15 -> 0
A15: 2 | C15: Önkormányzatok működési támogatásai | L15: =SUM(L16,L39,L48,L76,L82,L84,L93) -> 267126022 | M15: =SUM(M16,M39,M48,M76,M82,M84,M93) -> 2.9768943e+08 | N15: =SUM(N16,N39,N48,N76,N82,N84,N93) -> 0
A16: 3 | D16: 1 | E16: A helyi önkormányzatok működésének általános támogatása | L16: =SUM(L35,L17,L37) -> 82481840 | M16: =SUM(M35,M17,M37) -> 82603840 | N16: =SUM(N35,N17,N37) -> 0
A17: 4 | E17: 1 | F17: A települési önkormányzatok működésének támogatása | L17: =SUM(L18,L20,L29,,L31,L33) -> 81440840 | M17: =SUM(M18,M20,M29,,M31,M33) -> 81440840 | N17: =SUM(N18,N20,N29,,N31,N33) -> 0
A18: 5 | F18: 1 | G18: Önkormányzati hivatal működésének támogatása | L18: =J19 -> 52578400 | M18: =K19 -> 52578400
G19: 11,48 fő x 4 580 000 Ft | J19: =11.48*4580000 -> 52578400 | K19: 52578400
A20: 6 | F20: 2 | G20: Település-üzemeltetéshez kapcsolódó feladatellátás támogatása | L20: =SUM(L21,L23,L27,L25) -> 19108140 | M20: =SUM(M21,M23,M27,M25) -> 19108140 | N20: =SUM(N21,N23,N27,N25) -> 0
A21: 7 | G21: 1 | H21: A zöldterület-gazdálkodással kapcsolatos feladatok ellátásának támogatása | L21: =J22 -> 5724410 | M21: =K22 -> 5724410
H22: 256,7 ha x 22 300 Ft/ha | J22: =256.7*22300 -> 5724410 | K22: 5724410
A23: 8 | G23: 2 | H23: Közvilágítás fenntartásának támogatása | L23: =J24 -> 7168000 | M23: =K24 -> 7168000
H24: 22,4 km x 320 000 Ft/km | J24: =22.4*320000 -> 7168000 | K24: 7168000
A25: 9 | G25: 3 | H25: Köztemető fenntartással kapcsolatos feladatok támogatása | L25: =J26 -> 488520 | M25: =K26 -> 488520
H26: 7 080 m2 x 69 ft/m2 | J26: =7080*69 -> 488520 | K26: 488520
A27: 10 | G27: 4 | H27: Közutak fenntartásának támogatása | L27: =J28 -> 5727210 | M27: =K28 -> 5727210
H28: 25,23 km x 227 000 Ft/km | J28: =25.23*227000 -> 5727210 | K28: =25.23*227000 -> 5727210
A29: 11 | F29: 3 | G29: Egyéb önkormányzati feladatok támogatása | L29: =J30 -> 8221500 | M29: =K30 -> 8221500
G30: 3 045 fő x 2 700 Ft/fő = | J30: =3045*2700 -> 8221500 | K30: =3045*2700 -> 8221500
A31: 12 | F31: 4 | G31: Lakott külterülettel kapcsolatos támogatás | L31: =J32 -> 1397400 | M31: =K32 -> 1397400
G32: 548 fő x 2 550 Ft/fő = | J32: =548*2550 -> 1397400 | K32: =548*2550 -> 1397400
A33: 13 | F33: 5 | G33: Üdülőhelyi feladatok támogatása | L33: =J34 -> 135400 | M33: =K34 -> 135400
G34: 135400 Ft x 1 Ft | J34: =135400*1 -> 135400 | K34: =135400*1 -> 135400
A35: 14 | E35: 2 | F35: A 2017. évről áthúzódó bérkompenzáció támogatása | L35: =J36 -> 0 | M35: =K36 -> 122000
J36: 0 | K36: 122000
A37: 15 | E37: 3 | F37: Polgármesteri illetmény támogatása | L37: =J38 -> 1041000 | M37: =K38 -> 1041000
J38: 1041000 | K38: 1041000
A39: 16 | D39: 2 | E39: A települési önkormányzatok egyes köznevelési feladatainak támogatása | L39: =SUM(L40,L44,L46) -> 55661000 | M39: =SUM(M40,M44,M46) -> 56909967 | N39: =SUM(N40,N44,) -> 0
A40: 17 | E40: 1 | F40: Óvodapedagógusok, és az óvodapedagógusok nevelő munkáját közvetlenül segítők bértámogatása | L40: =SUM(J42:J43) -> 48144600 | M40: =SUM(K42:K43) -> 49175700
F42: (8,4 fő x 8/12 + 8,4 fő 4/12 ) x 4 419 000 Ft/fő | J42: =8.4*4419000*8/12+8.4*4419000*4/12 -> 37119600 | K42: =8.7*4419000*8/12+8.5*4419000*4/12 -> 38150700
F43: (5 fő x 8/12+5 fő 4/12) x 2 205 000 Ft | J43: =+(5*0.666666666666667+5*0.333333333333333)*2205000 -> 11025000 | K43: =+(5*0.666666666666667+5*0.333333333333333)*2205000 -> 11025000
A44: 18 | E44: 2 | F44: Óvodaműködtetési alaptámogatás | L44: =J45 -> 7516400 | M44: =K45 -> 7734266.7
...

Sheet 7
A1: 7. melléklet
A2: Csabrendek Nagyközség Önkormányzata Képviselő-testületének 12/2018 (XI.15.) rendeletéhez
A3: "7. melléklet
A4: Csabrendek Nagyközség Önkormányzata Képviselő-testületének 1/2018. (I. 30.) rendeletéhez"
A5: 2018. évi költségvetés fejlesztési kiadások
F6: adatok forintban
A8: 1 | B8: 2 | C8: 3 | D8: 4 | E8: 5 | F8: 6
B9: megnevezés | C9: Immateriális javak | D9: Tárgyi eszköz beszerzés | E9: Felújítás | F9: összes kiadás
A10: 1 | B10: Óvoda bővítés | E10: 165762000 | F10: =SUM(C10:E10) -> 165762000
A11: 2 | B11: Egészségház felújítás | E11: 31645000 | F11: =SUM(C11:E11) -> 31645000
A12: 3 | B12: Bel-és csapadékvíz elvezetés | E12: =84730000-17599000 -> 67131000 | F12: =SUM(C12:E12) -> 67131000
A13: 4 | B13: Belterületi utak | E13: 59435000 | F13: =SUM(C13:E13) -> 59435000
A14: 5 | B14: Belterületi utak | E14: 21076000 | F14: =SUM(C14:E14) -> 21076000
A15: 6 | B15: Kossuth 13.ingatlan felújítás | E15: 0 | F15: =SUM(C15:E15) -> 0
A16: 6 | B16: Nyírespuszta orvosi rendelő nyílászáró csere | E16: 372000 | F16: =SUM(C16:E16) -> 372000
A17: 7 | B17: Óvoda- konyha eszközbeszerzés | D17: 10522000 | F17: =SUM(C17:E17) -> 10522000
A18: 8 | B18: Óvoda- konyha riasztó kiépítés | E18: 150000 | F18: =SUM(C18:E18) -> 150000
A19: 9 | B19: Óvoda- konyha csapadékvíz elv. | E19: 1139000 | F19: =SUM(C19:E19) -> 1139000
A20: 10 | B20: Iskola napelem | E20: 12731000 | F20: =SUM(C20:E20) -> 12731000
A21: 11 | B21: Zártkerti utak | E21: 9000000 | F21: =SUM(C21:E21) -> 9000000
A22: 13 | B22: Hatzky-kúria felújítás | E22: 0 | F22: =SUM(C22:E22) -> 0
A23: 12 | B23: Művelődési Ház.tárgyi eszközök | D23: 4369000 | F23: =SUM(C23:E23) -> 4369000
A24: 13 | B24: Művelődési Ház informatikai eszköz | D24: 100000 | F24: =SUM(C24:E24) -> 100000
A25: 16 | B25: Művelődési Ház nagyterem felújítás | E25: 0 | F25: =SUM(C25:E25) -> 0
A26: 17 | B26: Temető | E26: 0 | F26: =SUM(C26:E26) -> 0
A27: 18 | B27: Rendezési terv | C27: 0 | F27: =SUM(C27:E27) -> 0
A28: 14 | B28: Állattenyésztés, növénytermesztés eszközbeszerzés | D28: 500000 | F28: =SUM(C28:E28) -> 500000
A29: 15 | B29: Közfoglalkoztatás-eszközbeszerzés | D29: 241000 | F29: =SUM(C29:E29) -> 241000
A30: 16 | B30: Szenyvíztelepi eszközök | D30: 770000 | E30: 5900000 | F30: =SUM(C30:E30) -> 6670000
A31: 17 | B31: Igazgatás-eszközök | D31: 300000 | F31: =SUM(C31:E31) -> 300000
A32: 18 | B32: Könyvtár-eszközbeszerzés | D32: 250000 | F32: =SUM(C32:E32) -> 250000
A33: 19 | B33: Sportpálya lelátó és kijelző beszerzés | D33: 1675000 | F33: =SUM(C33:E33) -> 1675000
A34: 20 | B34: Tanyagondnoki szolg-informatikai eszköz | D34: 47000 | F34: =SUM(C34:E34) -> 47000
A35: 21 | B35: Önkormányzati vagyon-tehergépkocsi | D35: 5588000 | F35: =SUM(C35:E35) -> 5588000
A36: 22 | B36: Hosszútávú-közfoglalkoztatás eszközbeszerzés | D36: 456000 | F36: =SUM(C36:E36) -> 456000
A37: 23 | B37: Csr-Nagytárkányp.orvosi r.épületének felújítása | E37: 1861000
A38: 24 | B38: Összesen | C38: =SUM(C10:C33) -> 0 | D38: =SUM(D10:D36) -> 24818000 | E38: =SUM(E10:E37) -> 376202000 | F38: =SUM(F10:F36) -> 399159000

Sheet Munka1
