Workbook

Sheet 1
A1: 1. melléklet Csabrendek Nagyközség Önkormányzata Képviselő-testületének 13/2019. (X.3.) rendeletéhez
A2: "1. melléklet Csabrendek Nagyközség Önkormányzata Képviselő-testületének 1/2019. (I. 28.) rendeletéhez"
A4: 2019. évi Költségvetési kiadások
A5: 1 | B5: 2 | C5: 3 | D5: 4 | E5: 5 | F5: 6 | G5: 7 | H5: 3 | I5: 4 | J5: 5 | K5: 6 | L5: 7
C6: Eredeti előirányzat | H6: Módosított előirányzat
C7: Önkormányzat összesen | D7: Csabrendek Nagyközség Önkormányzata | E7: Csabrendeki Közös Önkormányzati Hivatal | F7: Mese-domb Óvoda és Bölcsőde | G7: KÖZSZER | H7: Önkormányzat összesen | I7: Csabrendek Nagyközség Önkormányzata | J7: Csabrendeki Közös Önkormányzati Hivatal | K7: Mese-domb Óvoda és Bölcsőde | L7: KÖZSZER
A8: 1 | B8: Törvény szerinti illetmények, munkabérek (K1101) | C8: =SUM(D8:G8) -> 181163000 | D8: 38504000 | E8: 53236000 | F8: 46337000 | G8: 43086000 | H8: =SUM(I8:L8) -> 180993000 | I8: 38444000 | J8: 51526000 | K8: 46337000 | L8: 44686000
A9: 2 | B9: Normatív jutalmak (K1102) | C9: =SUM(D9:G9) -> 12906000 | D9: 1117000 | E9: 4223000 | F9: 4000000 | G9: 3566000 | H9: =SUM(I9:L9) -> 13106000 | I9: 1117000 | J9: 4223000 | K9: 4000000 | L9: 3766000
A10: 3 | B10: Céljuttatás, projektprémium (K1103) | C10: =SUM(D10:G10) -> 0 | E10: 0 | F10: 0 | H10: =SUM(I10:L10) -> 300000 | J10: 300000 | K10: 0
A11: 4 | B11: Készenléti, ügyeleti, helyettesítési díj, túlóra, túlszolgálat (K1104) | C11: =SUM(D11:G11) -> 0 | E11: 0 | F11: 0 | H11: =SUM(I11:L11) -> 1680000 | J11: 1680000 | K11: 0
A12: 5 | B12: Végkielégítés (K1105) | C12: =SUM(D12:G12) -> 0 | E12: 0 | F12: 0 | H12: =SUM(I12:L12) -> 0 | J12: 0 | K12: 0
A13: 6 | B13: Jubileumi jutalom (K1106) | C13: =SUM(D13:G13) -> 3911000 | D13: 0 | E13: 750000 | F13: 3161000 | H13: =SUM(I13:L13) -> 3911000 | I13: 0 | J13: 750000 | K13: 3161000
A14: 7 | B14: Béren kívüli juttatások (K1107) | C14: =SUM(D14:G14) -> 1950000 | D14: 0 | E14: 1950000 | F14: 0 | H14: =SUM(I14:L14) -> 1950000 | I14: 0 | J14: 1950000 | K14: 0
A15: 8 | B15: Ruházati költségtérítés (K1108) | C15: =SUM(D15:G15) -> 0 | E15: 0 | F15: 0 | H15: =SUM(I15:L15) -> 0 | J15: 0 | K15: 0
A16: 9 | B16: Közlekedési költségtérítés (K1109) | C16: =SUM(D16:G16) -> 812000 | D16: 160000 | E16: 282000 | F16: 270000 | G16: 100000 | H16: =SUM(I16:L16) -> 892000 | I16: 160000 | J16: 282000 | K16: 350000 | L16: 100000
A17: 10 | B17: Egyéb költségtérítések (K1110) | C17: =SUM(D17:G17) -> 0 | E17: 0 | F17: 0 | H17: =SUM(I17:L17) -> 0 | J17: 0 | K17: 0
A18: 11 | B18: Lakhatási támogatások (K1111) | C18: =SUM(D18:G18) -> 0 | E18: 0 | F18: 0 | H18: =SUM(I18:L18) -> 0 | J18: 0 | K18: 0
A19: 12 | B19: Szociális támogatások (K1112) | C19: =SUM(D19:G19) -> 0 | E19: 0 | F19: 0 | H19: =SUM(I19:L19) -> 0 | J19: 0 | K19: 0
A20: 13 | B20: Foglalkoztatottak egyéb személyi juttatásai (>=14) (K1113) | C20: =SUM(D20:G20) -> 2348000 | D20: 610000 | E20: 558000 | F20: 450000 | G20: 730000 | H20: =SUM(I20:L20) -> 3008000 | I20: 670000 | J20: 588000 | K20: 1020000 | L20: 730000
A21: 14 | B21: ebből:biztosítási díjak (K1113) | C21: =SUM(D21:G21) -> 0 | E21: 0 | F21: 0 | H21: =SUM(I21:L21) -> 0 | J21: 0 | K21: 0
A22: 15 | B22: Foglalkoztatottak személyi juttatásai (=01+...+13) (K11) | C22: =SUM(D22:G22) -> 203090000 | D22: =SUM(D8:D21) -> 40391000 | E22: =SUM(E8:E21) -> 60999000 | F22: =SUM(F8:F21) -> 54218000 | G22: =SUM(G8:G21) -> 47482000 | H22: =SUM(I22:L22) -> 205840000 | I22: =SUM(I8:I21) -> 40391000 | J22: =SUM(J8:J21) -> 61299000 | K22: =SUM(K8:K21) -> 54868000 | L22: =SUM(L8:L21) -> 49282000
A23: 16 | B23: Választott tisztségviselők juttatásai (K121) | C23: =SUM(D23:G23) -> 16800000 | D23: 16800000 | E23: 0 | H23: =SUM(I23:L23) -> 16800000 | I23: 16800000 | J23: 0
A24: 17 | B24: Munkavégzésre irányuló egyéb jogviszonyban nem saját foglalkoztatottnak fizetett juttatások (K122) | C24: =SUM(D24:G24) -> 8713000 | D24: 3980000 | E24: 4440000 | F24: 293000 | H24: =SUM(I24:L24) -> 9853000 | I24: 3980000 | J24: 5580000 | K24: 293000
A25: 18 | B25: Egyéb külső személyi juttatások (K123) | C25: =SUM(D25:G25) -> 7180000 | D25: 6820000 | E25: 250000 | F25: 70000 | G25: 40000 | H25: =SUM(I25:L25) -> 7208000 | I25: 6820000 | J25: 278000 | K25: 70000 | L25: 40000
A26: 19 | B26: Külső személyi juttatások (=16+17+18) (K12) | C26: =SUM(D26:G26) -> 32693000 | D26: =SUM(D23:D25) -> 27600000 | E26: =SUM(E23:E25) -> 4690000 | F26: =SUM(F23:F25) -> 363000 | G26: =SUM(G23:G25) -> 40000 | H26: =SUM(I26:L26) -> 33861000 | I26: =SUM(I23:I25) -> 27600000 | J26: =SUM(J23:J25) -> 5858000 | K26: =SUM(K23:K25) -> 363000 | L26: =SUM(L23:L25) -> 40000
A27: 20 | B27: Személyi juttatások összesen (=15+19) (K1) | C27: =SUM(D27:G27) -> 235783000 | D27: =SUM(D26,D22) -> 67991000 | E27: =SUM(E26,E22) -> 65689000 | F27: =F22+F26 -> 54581000 | G27: =SUM(G26,G22) -> 47522000 | H27: =SUM(I27:L27) -> 239701000 | I27: =SUM(I26,I22) -> 67991000 | J27: =SUM(J26,J22) -> 67157000 | K27: =K22+K26 -> 55231000 | L27: =SUM(L26,L22) -> 49322000
A28: 21 | B28: Munkaadókat terhelő járulékok és szociális hozzájárulási adó (=22+...+27) (K2) | C28: =SUM(D28:G28) -> 41871700 | D28: =SUM(D29:D34) -> 10372700 | E28: =SUM(E29:E34) -> 12500000 | F28: =SUM(F29:F34) -> 10097000 | G28: =SUM(G29:G34) -> 8902000 | H28: =SUM(I28:L28) -> 42332700 | I28: =SUM(I29:I34) -> 10372700 | J28: =SUM(J29:J34) -> 12582000 | K28: =SUM(K29:K34) -> 10136000 | L28: =SUM(L29:L34) -> 9242000
A29: 22 | B29: ebből: szociális hozzájárulási adó (K2) | C29: =SUM(D29:G29) -> 39506300 | D29: 9006300 | E29: 11586000 | F29: 10012000 | G29: 8902000 | H29: =SUM(I29:L29) -> 39851300 | I29: 9006300 | J29: 11668000 | K29: 9935000 | L29: 9242000
A30: 23 | B30: ebből: rehabilitációs hozzájárulás (K2) | C30: =SUM(D30:G30) -> 0 | D30: 0 | E30: 0 | F30: 0 | H30: =SUM(I30:L30) -> 0 | I30: 0 | J30: 0 | K30: 0
A31: 24 | B31: ebből: egészségügyi hozzájárulás (K2) | C31: =SUM(D31:G31) -> 1133200 | D31: 605200 | E31: 513000 | F31: 15000 | H31: =SUM(I31:L31) -> 1119200 | I31: 605200 | J31: 513000 | K31: 1000
A32: 25 | B32: ebből: táppénz hozzájárulás (K2) | C32: =SUM(D32:G32) -> 455000 | D32: 345000 | E32: 50000 | F32: 60000 | H32: =SUM(I32:L32) -> 545000 | I32: 345000 | J32: 50000 | K32: 150000
A33: 26 | B33: ebből: munkaadót a foglalkoztatottak részére történő kifizetésekkel kapcsolatban terhelő más járulék jellegű kötelezettségek (K2) | C33: =SUM(D33:G33) -> 0 | D33: 0 | E33: 0 | F33: 0 | H33: =SUM(I33:L33) -> 0 | I33: 0 | J33: 0 | K33: 0
A34: 27 | B34: ebből: munkáltatót terhelő személyi jövedelemadó (K2) | C34: =SUM(D34:G34) -> 777200 | D34: 416200 | E34: 351000 | F34: 10000 | H34: =SUM(I34:L34) -> 817200 | I34: 416200 | J34: 351000 | K34: 50000
A35: 28 | B35: Szakmai anyagok beszerzése (K311) | C35: =SUM(D35:G35) -> 1082000 | D35: 490000 | E35: 30000 | F35: 550000 | G35: 12000 | H35: =SUM(I35:L35) -> 1082000 | I35: 490000 | J35: 30000 | K35: 550000 | L35: 12000
A36: 29 | B36: Üzemeltetési anyagok beszerzése (K312) | C36: =SUM(D36:G36) -> 45358000 | D36: 20586000 | E36: 1147000 | F36: 500000 | G36: 23125000 | H36: =SUM(I36:L36) -> 45902150 | I36: 20586000 | J36: 1797000 | K36: 525000 | L36: 22994150
A37: 30 | B37: Árubeszerzés (K313) | C37: =SUM(D37:G37) -> 0 | D37: 0 | E37: 0 | F37: 0 | G37: 0 | H37: =SUM(I37:L37) -> 0 | I37: 0 | J37: 0 | K37: 0 | L37: 0
A38: 31 | B38: Készletbeszerzés (=28+29+30) (K31) | C38: =SUM(D38:G38) -> 46440000 | D38: =SUM(D35:D37) -> 21076000 | E38: =SUM(E35:E37) -> 1177000 | F38: =SUM(F35:F37) -> 1050000 | G38: =SUM(G35:G37) -> 23137000 | H38: =SUM(I38:L38) -> 46984150 | I38: =SUM(I35:I37) -> 21076000 | J38: =SUM(J35:J37) -> 1827000 | K38: =SUM(K35:K37) -> 1075000 | L38: =SUM(L35:L37) -> 23006150
A39: 32 | B39: Informatikai szolgáltatások igénybevétele (K321) | C39: =SUM(D39:G39) -> 2275000 | D39: 345000 | E39: 1592000 | F39: 70000 | G39: 268000 | H39: =SUM(I39:L39) -> 2780000 | I39: 495000 | J39: 1897000 | K39: 100000 | L39: 288000
A40: 33 | B40: Egyéb kommunikációs szolgáltatások (K322) | C40: =SUM(D40:G40) -> 1075000 | D40: 468000 | E40: 255000 | F40: 80000 | G40: 272000 | H40: =SUM(I40:L40) -> 1045000 | I40: 468000 | J40: 255000 | K40: 70000 | L40: 252000
A41: 34 | B41: Kommunikációs szolgáltatások (=32+33) (K32) | C41: =SUM(D41:G41) -> 3350000 | D41: =SUM(D39:D40) -> 813000 | E41: =SUM(E39:E40) -> 1847000 | F41: =SUM(F39:F40) -> 150000 | G41: =SUM(G39:G40) -> 540000 | H41: =SUM(I41:L41) -> 3825000 | I41: =SUM(I39:I40) -> 963000 | J41: =SUM(J39:J40) -> 2152000 | K41: =SUM(K39:K40) -> 170000 | L41: =SUM(L39:L40) -> 540000
A42: 35 | B42: Közüzemi díjak (K331) | C42: =SUM(D42:G42) -> 9000000 | D42: 5000000 | E42: 1050000 | F42: 1100000 | G42: 1850000 | H42: =SUM(I42:L42) -> 9550000 | I42: 5000000 | J42: 1050000 | K42: 1500000 | L42: 2000000
A43: 36 | B43: Vásárolt élelmezés (K332) | C43: =SUM(D43:G43) -> 100000 | D43: 0 | E43: 0 | F43: 0 | G43: 100000 | H43: =SUM(I43:L43) -> 100000 | I43: 0 | J43: 0 | K43: 0 | L43: 100000
A44: 37 | B44: Bérleti és lízing díjak (>=38) (K333) | C44: =SUM(D44:G44) -> 2330000 | D44: 2330000 | E44: 0 | F44: 0 | G44: 0 | H44: =SUM(I44:L44) -> 2330000 | I44: 2330000 | J44: 0 | K44: 0 | L44: 0
A45: 38 | B45: ebből: a közszféra és a magánszféra együttműködésén (PPP) alapuló szerződéses konstrukció (K333) | C45: =SUM(D45:G45) -> 0 | D45: 0 | E45: 0 | F45: 0 | G45: 0 | H45: =SUM(I45:L45) -> 0 | I45: 0 | J45: 0 | K45: 0 | L45: 0
A46: 39 | B46: Karbantartási, kisjavítási szolgáltatások (K334) | C46: =SUM(D46:G46) -> 3532000 | D46: 2051000 | E46: 30000 | F46: 210000 | G46: 1241000 | H46: =SUM(I46:L46) -> 3432000 | I46: 2051000 | J46: 30000 | K46: 110000 | L46: 1241000
A47: 40 | B47: Közvetített szolgáltatások (>=41) (K335) | C47: =SUM(D47:G47) -> 8115000 | D47: 7250000 | E47: 50000 | F47: 315000 | G47: 500000 | H47: =SUM(I47:L47) -> 8345000 | I47: 7250000 | J47: 50000 | K47: 545000 | L47: 500000
A48: 41 | B48: ebből: államháztartáson belül (K335) | C48: =SUM(D48:G48) -> 0 | D48: 0 | E48: 0 | F48: 0 | G48: 0 | H48: =SUM(I48:L48) -> 0 | I48: 0 | K48: 0 | L48: 0
A49: 42 | B49: Szakmai tevékenységet segítő szolgáltatások (K336) | C49: =SUM(D49:G49) -> 1816000 | D49: 1245000 | E49: 130000 | F49: 350000 | G49: 91000 | H49: =SUM(I49:L49) -> 1816000 | I49: 1245000 | J49: 130000 | K49: 350000 | L49: 91000
A50: 43 | B50: Egyéb szolgáltatások (K337) | C50: =SUM(D50:G50) -> 31825000 | D50: 27884000 | E50: 2232000 | F50: 500000 | G50: 1209000 | H50: =SUM(I50:L50) -> 31870000 | I50: 27884000 | J50: 2227000 | K50: 550000 | L50: 1209000
A51: 44 | B51: ebből: biztosítási díjak (K337) | C51: =SUM(D51:G51) -> 0 | D51: 0 | E51: 0 | F51: 0 | H51: =SUM(I51:L51) -> 0 | I51: 0 | J51: 0 | K51: 0
A52: 45 | B52: Szolgáltatási kiadások (=35+36+37+39+40+42+43) (K33) | C52: =SUM(D52:G52) -> 56718000 | D52: =SUM(D42:D47,D49:D50) -> 45760000 | E52: =SUM(E42:E47,E49:E50) -> 3492000 | F52: =SUM((F42:F44),(F46:F47),(F49:F50)) -> 2475000 | G52: =SUM(G42:G51) -> 4991000 | H52: =SUM(I52:L52) -> 57443000 | I52: =SUM(I42:I47,I49:I50) -> 45760000 | J52: =SUM(J42:J47,J49:J50) -> 3487000 | K52: =SUM((K42:K44),(K46:K47),(K49:K50)) -> 3055000 | L52: =SUM(L42:L51) -> 5141000
A53: 46 | B53: Kiküldetések kiadásai (K341) | C53: =SUM(D53:G53) -> 865000 | D53: 300000 | E53: 510000 | F53: 50000 | G53: 5000 | H53: =SUM(I53:L53) -> 865000 | I53: 300000 | J53: 510000 | K53: 50000 | L53: 5000
A54: 47 | B54: Reklám- és propagandakiadások (K342) | C54: =SUM(D54:G54) -> 0 | D54: 0 | E54: 0 | F54: 0 | H54: =SUM(I54:L54) -> 0 | I54: 0 | J54: 0 | K54: 0
A55: 48 | B55: Kiküldetések, reklám- és propagandakiadások (=46+47) (K34) | C55: =SUM(D55:G55) -> 865000 | D55: =SUM(D53:D54) -> 300000 | E55: =SUM(E53:E54) -> 510000 | F55: =SUM(F53:F54) -> 50000 | G55: =SUM(G53:G54) -> 5000 | H55: =SUM(I55:L55) -> 895000 | I55: =SUM(I53:I54) -> 300000 | J55: =SUM(J53:J54) -> 510000 | K55: 80000 | L55: =SUM(L53:L54) -> 5000
A56: 49 | B56: Működési célú előzetesen felszámított általános forgalmi adó (K351) | C56: =SUM(D56:G56) -> 28169000 | D56: 19700000 | E56: 1214000 | F56: 750000 | G56: 6505000 | H56: =SUM(I56:L56) -> 28494000 | I56: 19700000 | J56: 1389000 | K56: 900000 | L56: 6505000
A57: 50 | B57: Fizetendő általános forgalmi adó (K352) | C57: =SUM(D57:G57) -> 39477000 | D57: 35110000 | E57: 0 | F57: 0 | G57: 4367000 | H57: =SUM(I57:L57) -> 57618791 | I57: 53251791 | J57: 0 | K57: 0 | L57: 4367000
A58: 51 | B58: Kamatkiadások (>=52+53) (K353) | C58: =SUM(D58:G58) -> 1000000 | D58: 1000000 | E58: =SUM(E59:E60) -> 0 | F58: =SUM(F59:F60) -> 0 | G58: 0 | H58: =SUM(I58:L58) -> 1000000 | I58: 1000000 | J58: =SUM(J59:J60) -> 0 | K58: =SUM(K59:K60) -> 0 | L58: 0
A59: 52 | B59: ebből: államháztartáson belül (K353) | C59: =SUM(D59:G59) -> 0 | D59: 0 | E59: 0 | F59: 0 | G59: 0 | H59: =SUM(I59:L59) -> 0 | I59: 0 | J59: 0 | K59: 0 | L59: 0
A60: 53 | B60: ebből: fedezeti ügyletek kamatkiadásai (K353) | C60: =SUM(D60:G60) -> 0 | D60: 0 | E60: 0 | F60: 0 | G60: 0 | H60: =SUM(I60:L60) -> 0 | I60: 0 | J60: 0 | K60: 0 | L60: 0
A61: 54 | B61: Egyéb pénzügyi műveletek kiadásai (>=55+...+57) (K354) | C61: =SUM(D61:G61) -> 4000 | D61: 4000 | E61: =SUM(E62:E64) -> 0 | F61: =SUM(F62:F64) -> 0 | G61: 0 | H61: =SUM(I61:L61) -> 4000 | I61: 4000 | J61: =SUM(J62:J64) -> 0 | K61: =SUM(K62:K64) -> 0 | L61: 0
A62: 55 | B62: ebből: valuta, deviza eszközök realizált árfolyamvesztesége (K354) | C62: =SUM(D62:G62) -> 0 | D62: 0 | E62: 0 | F62: 0 | G62: 0 | H62: =SUM(I62:L62) -> 0 | I62: 0 | J62: 0 | K62: 0 | L62: 0
A63: 56 | B63: ebből: hitelviszonyt megtestesítő értékpapírok árfolyamkülönbözete (K354) | C63: =SUM(D63:G63) -> 0 | D63: 0 | E63: 0 | F63: 0 | G63: 0 | H63: =SUM(I63:L63) -> 0 | I63: 0 | J63: 0 | K63: 0 | L63: 0
A64: 57 | B64: ebből: deviza kötelezettségek realizált árfolyamvesztesége (K354) | C64: =SUM(D64:G64) -> 0 | D64: 0 | E64: 0 | F64: 0 | G64: 0 | H64: =SUM(I64:L64) -> 0 | I64: 0 | J64: 0 | K64: 0 | L64: 0
A65: 58 | B65: Egyéb dologi kiadások (K355) | C65: =SUM(D65:G65) -> 1204000 | D65: 893000 | E65: 290000 | F65: 8000 | G65: 13000 | H65: =SUM(I65:L65) -> 1204000 | I65: 893000 | J65: 290000 | K65: 8000 | L65: 13000
A66: 59 | B66: Különféle befizetések és egyéb dologi kiadások (=49+50+51+54+58) (K35) | C66: =SUM(D66:G66) -> 69854000 | D66: =SUM(D56,D57,D58,D61,D65) -> 56707000 | E66: =SUM(E56,E57,E58,E61,E65) -> 1504000 | F66: =SUM((F56:F58),(F61,F65)) -> 758000 | G66: =SUM(G56,G57,G58,G61,G65) -> 10885000 | H66: =SUM(I66:L66) -> 88320791 | I66: =SUM(I56,I57,I58,I61,I65) -> 74848791 | J66: =SUM(J56,J57,J58,J61,J65) -> 1679000 | K66: =SUM((K56:K58),(K61,K65)) -> 908000 | L66: =SUM(L56,L57,L58,L61,L65) -> 10885000
A67: 60 | B67: Dologi kiadások (=31+34+45+48+59) (K3) | C67: =SUM(C38,C41,C52,C55,C66) -> 177227000 | D67: =SUM(D38,D41,D52,D55,D66) -> 124656000 | E67: =SUM(E38,E41,E52,E55,E66) -> 8530000 | F67: =SUM(F38,F41,F52,F55,F66) -> 4483000 | G67: =SUM(G38,G41,G52,G55,G66) -> 39558000 | H67: =SUM(H38,H41,H52,H55,H66) -> 197467941 | I67: =SUM(I38,I41,I52,I55,I66) -> 142947791 | J67: =SUM(J38,J41,J52,J55,J66) -> 9655000 | ... L67: =SUM(L38,L41,L52,L55,L66) -> 39577150
A68: 61 | B68: Társadalombiztosítási ellátások (K41) | C68: =SUM(D68:G68) -> 0 | D68: 0 | E68: 0 | F68: 0 | G68: 0 | H68: =SUM(I68:L68) -> 0 | I68: 0 | J68: 0 | K68: 0 | L68: 0
A69: 62 | B69: Családi támogatások (=63+...+72) (K42) | C69: =SUM(D69:G69) -> 843000 | D69: =SUM(D70:D79) -> 843000 | E69: =SUM(E70:E79) -> 0 | F69: =SUM(F70:F79) -> 0 | G69: =SUM(G70:G79) -> 0 | H69: =SUM(I69:L69) -> 843000 | I69: =SUM(I70:I79) -> 843000 | J69: =SUM(J70:J79) -> 0 | K69: =SUM(K70:K79) -> 0 | L69: =SUM(L70:L79) -> 0
A70: 63 | B70: ebből: családi pótlék (K42) | C70: =SUM(D70:G70) -> 0 | D70: 0 | E70: 0 | F70: 0 | G70: 0 | H70: =SUM(I70:L70) -> 0 | I70: 0 | J70: 0 | K70: 0 | L70: 0
A71: 64 | B71: ebből: anyasági támogatás (K42) | C71: =SUM(D71:G71) -> 0 | D71: 0 | E71: 0 | F71: 0 | G71: 0 | H71: =SUM(I71:L71) -> 0 | I71: 0 | J71: 0 | K71: 0 | L71: 0
A72: 65 | B72: ebből: gyermekgondozást segítő ellátás (K42) | C72: =SUM(D72:G72) -> 0 | D72: 0 | E72: 0 | F72: 0 | G72: 0 | H72: =SUM(I72:L72) -> 0 | I72: 0 | J72: 0 | K72: 0 | L72: 0
A73: 66 | B73: ebből: gyermeknevelési támogatás (K42) | C73: =SUM(D73:G73) -> 0 | D73: 0 | E73: 0 | F73: 0 | G73: 0 | H73: =SUM(I73:L73) -> 0 | I73: 0 | J73: 0 | K73: 0 | L73: 0
A74: 67 | B74: ebből: gyermekek születésével kapcsolatos szabadság megtérítése (K42) | C74: =SUM(D74:G74) -> 0 | D74: 0 | E74: 0 | F74: 0 | G74: 0 | H74: =SUM(I74:L74) -> 0 | I74: 0 | J74: 0 | K74: 0 | L74: 0
A75: 68 | B75: ebből: életkezdési támogatás (K42) | C75: =SUM(D75:G75) -> 0 | D75: 0 | E75: 0 | F75: 0 | G75: 0 | H75: =SUM(I75:L75) -> 0 | I75: 0 | J75: 0 | K75: 0 | L75: 0
A76: 69 | B76: ebből: otthonteremtési támogatás (K42) | C76: =SUM(D76:G76) -> 0 | D76: 0 | E76: 0 | F76: 0 | G76: 0 | H76: =SUM(I76:L76) -> 0 | I76: 0 | J76: 0 | K76: 0 | L76: 0
A77: 70 | B77: ebből: gyermektartásdíj megelőlegezése (K42) | C77: =SUM(D77:G77) -> 0 | D77: 0 | E77: 0 | F77: 0 | G77: 0 | H77: =SUM(I77:L77) -> 0 | I77: 0 | J77: 0 | K77: 0 | L77: 0
A78: 71 | B78: ebből: GYES-en és GYED-en lévők hallgatói hitelének célzott támogatása (K42) | C78: =SUM(D78:G78) -> 0 | D78: 0 | E78: 0 | F78: 0 | G78: 0 | H78: =SUM(I78:L78) -> 0 | I78: 0 | J78: 0 | K78: 0 | L78: 0
A79: 72 | B79: ebből: az egyéb pénzbeli és természetbeni gyermekvédelmi támogatások (K42) | C79: =SUM(D79:G79) -> 843000 | D79: 843000 | E79: 0 | F79: 0 | G79: 0 | H79: =SUM(I79:L79) -> 843000 | I79: 843000 | J79: 0 | K79: 0 | L79: 0
A80: 73 | B80: Pénzbeli kárpótlások, kártérítések (K43) | C80: =SUM(D80:G80) -> 0 | D80: 0 | E80: 0 | F80: 0 | G80: 0 | H80: =SUM(I80:L80) -> 0 | I80: 0 | J80: 0 | K80: 0 | L80: 0
A81: 74 | B81: Betegséggel kapcsolatos (nem társadalombiztosítási) ellátások (=75+...+83) (K44) | C81: =SUM(D81:G81) -> 0 | D81: 0 | E81: =SUM(E82:E90) -> 0 | F81: =SUM(F82:F90) -> 0 | G81: =SUM(G82:G90) -> 0 | H81: =SUM(I81:L81) -> 0 | I81: 0 | J81: =SUM(J82:J90) -> 0 | K81: =SUM(K82:K90) -> 0 | L81: =SUM(L82:L90) -> 0
A82: 75 | B82: ebből: ápolási díj (K44) | C82: =SUM(D82:G82) -> 0 | D82: 0 | E82: 0 | F82: 0 | G82: 0 | H82: =SUM(I82:L82) -> 0 | I82: 0 | J82: 0 | K82: 0 | L82: 0
A83: 76 | B83: ebből: fogyatékossági támogatás és vakok személyi járadéka (K44) | C83: =SUM(D83:G83) -> 0 | D83: 0 | E83: 0 | F83: 0 | G83: 0 | H83: =SUM(I83:L83) -> 0 | I83: 0 | J83: 0 | K83: 0 | L83: 0
A84: 77 | B84: ebből: kivételes rokkantsági ellátás (K44) | D84: 0 | E84: 0 | F84: 0 | G84: 0 | I84: 0 | J84: 0 | K84: 0 | L84: 0
A85: 78 | B85: ebből: mozgáskorlátozottak szerzési és átalakítási támogatása (K44) | C85: =SUM(D85:G85) -> 0 | D85: 0 | E85: 0 | F85: 0 | G85: 0 | H85: =SUM(I85:L85) -> 0 | I85: 0 | J85: 0 | K85: 0 | L85: 0
A86: 79 | B86: ebből: megváltozott munkaképességűek illetve egészségkárosodottak kereset-kiegészítése (K44) | C86: =SUM(D86:G86) -> 0 | D86: 0 | E86: 0 | F86: 0 | G86: 0 | H86: =SUM(I86:L86) -> 0 | I86: 0 | J86: 0 | K86: 0 | L86: 0
A87: 80 | B87: ebből: közgyógyellátás [Szoctv.50.§ (1)-(2) bekezdése] (K44) | C87: =SUM(D87:G87) -> 0 | D87: 0 | E87: 0 | F87: 0 | G87: 0 | H87: =SUM(I87:L87) -> 0 | I87: 0 | J87: 0 | K87: 0 | L87: 0
A88: 81 | B88: ebből: cukorbetegek támogatása (K44) | C88: =SUM(D88:G88) -> 0 | D88: 0 | E88: 0 | F88: 0 | G88: 0 | H88: =SUM(I88:L88) -> 0 | I88: 0 | J88: 0 | K88: 0 | L88: 0
A89: 82 | B89: ebből: tartós ápolást végzők időskori támogatása [Szoctv. 44/A. §] (K44) | J89: 0
A90: 83 | B90: ebből: egészségügyi szolgáltatásra való jogosultság szociális rászorultság alapján [Szoctv.54.§-a] (K44) | C90: =SUM(D90:G90) -> 0 | D90: 0 | E90: 0 | F90: 0 | G90: 0 | H90: =SUM(I90:L90) -> 0 | I90: 0 | J90: 0 | K90: 0 | L90: 0
A91: 84 | B91: Foglalkoztatással, munkanélküliséggel kapcsolatos ellátások (=85+...+92) (K45) | C91: =SUM(D91:G91) -> 0 | D91: 0 | E91: =SUM(E92:E99) -> 0 | F91: =SUM(F92:F99) -> 0 | G91: =SUM(G92:G99) -> 0 | H91: =SUM(I91:L91) -> 0 | I91: 0 | J91: =SUM(J92:J99) -> 0 | K91: =SUM(K92:K99) -> 0 | L91: =SUM(L92:L99) -> 0
A92: 85 | B92: ebből: a Nemzeti Foglalkoztatási Alapból folyósított passzív, ellátási típusú támogatások, így különösen az álláskeresési járadék, a nyugdíj előtti álláskeresési segély, valamint az ellátások megállapításával kapcsolatos utiköltség-térítés (K45) | C92: =SUM(D92:G92) -> 0 | D92: 0 | E92: 0 | F92: 0 | G92: 0 | H92: =SUM(I92:L92) -> 0 | I92: 0 | J92: 0 | K92: 0 | L92: 0
A93: 86 | B93: ebből: korhatár előtti ellátás és a fegyveres testületek volt tagjai szolgálati járandósága (K45) | C93: =SUM(D93:G93) -> 0 | D93: 0 | E93: 0 | F93: 0 | G93: 0 | H93: =SUM(I93:L93) -> 0 | I93: 0 | J93: 0 | K93: 0 | L93: 0
A94: 87 | B94: ebből: átmeneti bányászjáradék (K45) | C94: =SUM(D94:G94) -> 0 | D94: 0 | E94: 0 | F94: 0 | G94: 0 | H94: =SUM(I94:L94) -> 0 | I94: 0 | J94: 0 | K94: 0 | L94: 0
A95: 88 | B95: ebből: szénjárandóság pénzbeli megváltása (K45) | C95: =SUM(D95:G95) -> 0 | D95: 0 | E95: 0 | F95: 0 | G95: 0 | H95: =SUM(I95:L95) -> 0 | I95: 0 | J95: 0 | K95: 0 | L95: 0
A96: 89 | B96: ebből: mecseki bányászatban munkát végzők bányászati kereset-kiegészítése (K45) | C96: =SUM(D96:G96) -> 0 | D96: 0 | E96: 0 | F96: 0 | G96: 0 | H96: =SUM(I96:L96) -> 0 | I96: 0 | J96: 0 | K96: 0 | L96: 0
A97: 90 | B97: ebből: mezőgazdasági járadék (K45) | C97: =SUM(D97:G97) -> 0 | D97: 0 | E97: 0 | F97: 0 | G97: 0 | H97: =SUM(I97:L97) -> 0 | I97: 0 | J97: 0 | K97: 0 | L97: 0
A98: 91 | B98: ebből: foglalkoztatást helyettesítő támogatás [Szoctv. 35. § (1) bek.] (K45) | C98: =SUM(D98:G98) -> 0 | D98: 0 | E98: 0 | F98: 0 | G98: 0 | H98: =SUM(I98:L98) -> 0 | I98: 0 | J98: 0 | K98: 0 | L98: 0
A99: 92 | B99: ebből: polgármesterek korhatár előtti ellátása (K45) | C99: =SUM(D99:G99) -> 0 | D99: 0 | E99: 0 | F99: 0 | G99: 0 | H99: =SUM(I99:L99) -> 0 | I99: 0 | J99: 0 | K99: 0 | L99: 0
A100: 93 | B100: Lakhatással kapcsolatos ellátások (=94+95) (K46) | C100: =SUM(D100:G100) -> 0 | D100: 0 | E100: =SUM(E101:E102) -> 0 | F100: =SUM(F101:F102) -> 0 | G100: =SUM(G101:G102) -> 0 | H100: =SUM(I100:L100) -> 0 | I100: 0 | J100: =SUM(J101:J102) -> 0 | K100: =SUM(K101:K102) -> 0 | L100: =SUM(L101:L102) -> 0
A101: 94 | B101: ebből: hozzájárulás a lakossági energiaköltségekhez (K46) | C101: =SUM(D101:G101) -> 0 | D101: 0 | E101: 0 | F101: 0 | G101: 0 | H101: =SUM(I101:L101) -> 0 | I101: 0 | J101: 0 | K101: 0 | L101: 0
...

Sheet 2
A1: 2. melléklet Csabrendek Nagyközség Önkormányzata Képviselő-testületének 13/2019. (X.3.) rendeletéhez
A2: "2. melléklet Csabrendek Nagyközség Önkormányzata Képviselő-testületének 1/2019. (I. 28.) rendeletéhez"
A4: 2019. évi Költségvetési bevételek
A5: 1 | B5: 2 | C5: 3 | D5: 4 | E5: 5 | F5: 6 | G5: 7 | H5: 3 | I5: 4 | J5: 5 | K5: 6 | L5: 7
C6: Eredeti előirányzat | H6: Módosított előirányzat
C7: Önkormányzat összesen | D7: Csabrendek Nagyközség Önkormányzata | E7: Csabrendeki Közös Önkormányzati Hivatal | F7: Mese-domb Óvoda és Bölcsőde | G7: KÖZSZER | H7: Önkormányzat összesen | I7: Csabrendek Nagyközség Önkormányzata | J7: Csabrendeki Közös Önkormányzati Hivatal | K7: Mese-domb Óvoda és Bölcsőde | L7: KÖZSZER
A8: 1 | B8: Helyi önkormányzatok működésének általános támogatása (B111) | C8: =SUM(D8,E8,F8,G8) -> 119908558 | D8: 119908558 | E8: 0 | F8: 0 | G8: 0 | H8: =SUM(I8,J8,K8,L8) -> 122392551 | I8: 122392551 | J8: 0 | K8: 0 | L8: 0
A9: 2 | B9: Települési önkormányzatok egyes köznevelési feladatainak támogatása (B112) | C9: =SUM(D9,E9,F9,G9) -> 57386666 | D9: 57386666 | E9: 0 | F9: 0 | G9: 0 | H9: =SUM(I9,J9,K9,L9) -> 58361666 | I9: 58361666 | J9: 0 | K9: 0 | L9: 0
A10: 3 | B10: Települési önkormányzatok szociális, gyermekjóléti és gyermekétkeztetési feladatainak támogatása (B113) | C10: =SUM(D10,E10,F10,G10) -> 81562984 | D10: 81562984 | E10: 0 | F10: 0 | G10: 0 | H10: =SUM(I10,J10,K10,L10) -> 91647405 | I10: 91647405 | J10: 0 | K10: 0 | L10: 0
A11: 4 | B11: Települési önkormányzatok kulturális feladatainak támogatása (B114) | C11: =SUM(D11,E11,F11,G11) -> 3701390 | D11: 3701390 | E11: 0 | F11: 0 | G11: 0 | H11: =SUM(I11,J11,K11,L11) -> 4200555 | I11: 4200555 | J11: 0 | K11: 0 | L11: 0
A12: 5 | B12: Működési célú költségvetési támogatások és kiegészítő támogatások (B115) | C12: =SUM(D12,E12,F12,G12) -> 0 | D12: 0 | E12: 0 | F12: 0 | G12: 0 | H12: =SUM(I12,J12,K12,L12) -> 12313520 | I12: 12313520 | J12: 0 | K12: 0 | L12: 0
A13: 6 | B13: Elszámolásból származó bevételek (B116) | C13: =SUM(D13,E13,F13,G13) -> 0 | D13: 0 | E13: 0 | F13: 0 | G13: 0 | H13: =SUM(I13,J13,K13,L13) -> 0 | I13: 0 | J13: 0 | K13: 0 | L13: 0
A14: 7 | B14: Önkormányzatok működési támogatásai (=01+...+06) (B11) | C14: =SUM(D14,E14,F14,G14) -> 262559598 | D14: =SUM(D8:D13) -> 262559598 | E14: =SUM(E8:E13) -> 0 | F14: =SUM(F8:F13) -> 0 | G14: =SUM(G8:G13) -> 0 | H14: =SUM(I14,J14,K14,L14) -> 288915697 | I14: =SUM(I8:I13) -> 288915697 | J14: =SUM(J8:J13) -> 0 | K14: =SUM(K8:K13) -> 0 | L14: =SUM(L8:L13) -> 0
A15: 8 | B15: Elvonások és befizetések bevételei (B12) | C15: =SUM(D15,E15,F15,G15) -> 0 | D15: 0 | E15: 0 | F15: 0 | G15: 0 | H15: =SUM(I15,J15,K15,L15) -> 0 | I15: 0 | J15: 0 | K15: 0 | L15: 0
A16: 9 | B16: Működési célú garancia- és kezességvállalásból származó megtérülések államháztartáson belülről (B13) | C16: =SUM(D16,E16,F16,G16) -> 0 | D16: 0 | E16: 0 | F16: 0 | G16: 0 | H16: =SUM(I16,J16,K16,L16) -> 0 | I16: 0 | J16: 0 | K16: 0 | L16: 0
A17: 10 | B17: Működési célú visszatérítendő támogatások, kölcsönök visszatérülése államháztartáson belülről (=11+...+20) (B14) | C17: =SUM(D17,E17,F17,G17) -> 0 | D17: =SUM(D18:D27) -> 0 | E17: =SUM(E18:E27) -> 0 | F17: =SUM(F18:F27) -> 0 | G17: =SUM(G18:G27) -> 0 | H17: =SUM(I17,J17,K17,L17) -> 0 | I17: =SUM(I18:I27) -> 0 | J17: =SUM(J18:J27) -> 0 | K17: =SUM(K18:K27) -> 0 | L17: =SUM(L18:L27) -> 0
A18: 11 | B18: ebből: központi költségvetési szervek (B14) | C18: =SUM(D18,E18,F18,G18) -> 0 | D18: 0 | E18: 0 | F18: 0 | G18: 0 | H18: =SUM(I18,J18,K18,L18) -> 0 | I18: 0 | J18: 0 | K18: 0 | L18: 0
A19: 12 | B19: ebből: központi kezelésű előirányzatok (B14) | C19: =SUM(D19,E19,F19,G19) -> 0 | D19: 0 | E19: 0 | F19: 0 | G19: 0 | H19: =SUM(I19,J19,K19,L19) -> 0 | I19: 0 | J19: 0 | K19: 0 | L19: 0
A20: 13 | B20: ebből: fejezeti kezelésű előirányzatok EU-s programokra és azok hazai társfinanszírozása (B14) | C20: =SUM(D20,E20,F20,G20) -> 0 | D20: 0 | E20: 0 | F20: 0 | G20: 0 | H20: =SUM(I20,J20,K20,L20) -> 0 | I20: 0 | J20: 0 | K20: 0 | L20: 0
A21: 14 | B21: ebből: egyéb fejezeti kezelésű előirányzatok (B14) | C21: =SUM(D21,E21,F21,G21) -> 0 | D21: 0 | E21: 0 | F21: 0 | G21: 0 | H21: =SUM(I21,J21,K21,L21) -> 0 | I21: 0 | J21: 0 | K21: 0 | L21: 0
A22: 15 | B22: ebből: társadalombiztosítás pénzügyi alapjai (B14) | C22: =SUM(D22,E22,F22,G22) -> 0 | D22: 0 | E22: 0 | F22: 0 | G22: 0 | H22: =SUM(I22,J22,K22,L22) -> 0 | I22: 0 | J22: 0 | K22: 0 | L22: 0
A23: 16 | B23: ebből: elkülönített állami pénzalapok (B14) | C23: =SUM(D23,E23,F23,G23) -> 0 | D23: 0 | E23: 0 | F23: 0 | G23: 0 | H23: =SUM(I23,J23,K23,L23) -> 0 | I23: 0 | J23: 0 | K23: 0 | L23: 0
A24: 17 | B24: ebből: helyi önkormányzatok és költségvetési szerveik (B14) | C24: =SUM(D24,E24,F24,G24) -> 0 | D24: 0 | E24: 0 | F24: 0 | G24: 0 | H24: =SUM(I24,J24,K24,L24) -> 0 | I24: 0 | J24: 0 | K24: 0 | L24: 0
A25: 18 | B25: ebből: társulások és költségvetési szerveik (B14) | C25: =SUM(D25,E25,F25,G25) -> 0 | D25: 0 | E25: 0 | F25: 0 | G25: 0 | H25: =SUM(I25,J25,K25,L25) -> 0 | I25: 0 | J25: 0 | K25: 0 | L25: 0
A26: 19 | B26: ebből: nemzetiségi önkormányzatok és költségvetési szerveik (B14) | C26: =SUM(D26,E26,F26,G26) -> 0 | D26: 0 | E26: 0 | F26: 0 | G26: 0 | H26: =SUM(I26,J26,K26,L26) -> 0 | I26: 0 | J26: 0 | K26: 0 | L26: 0
A27: 20 | B27: ebből: térségi fejlesztési tanácsok és költségvetési szerveik (B14) | C27: =SUM(D27,E27,F27,G27) -> 0 | D27: 0 | E27: 0 | F27: 0 | G27: 0 | H27: =SUM(I27,J27,K27,L27) -> 0 | I27: 0 | J27: 0 | K27: 0 | L27: 0
A28: 21 | B28: Működési célú visszatérítendő támogatások, kölcsönök igénybevétele államháztartáson belülről (=22+...+31) (B15) | C28: =SUM(D28,E28,F28,G28) -> 0 | D28: =SUM(D29:D38) -> 0 | E28: =SUM(E29:E38) -> 0 | F28: =SUM(F29:F38) -> 0 | G28: =SUM(G29:G38) -> 0 | H28: =SUM(I28,J28,K28,L28) -> 0 | I28: =SUM(I29:I38) -> 0 | J28: =SUM(J29:J38) -> 0 | K28: =SUM(K29:K38) -> 0 | L28: =SUM(L29:L38) -> 0
A29: 22 | B29: ebből: központi költségvetési szervek (B15) | C29: =SUM(D29,E29,F29,G29) -> 0 | D29: 0 | E29: 0 | F29: 0 | G29: 0 | H29: =SUM(I29,J29,K29,L29) -> 0 | I29: 0 | J29: 0 | K29: 0 | L29: 0
A30: 23 | B30: ebből: központi kezelésű előirányzatok (B15) | C30: =SUM(D30,E30,F30,G30) -> 0 | D30: 0 | E30: 0 | F30: 0 | G30: 0 | H30: =SUM(I30,J30,K30,L30) -> 0 | I30: 0 | J30: 0 | K30: 0 | L30: 0
A31: 24 | B31: ebből: fejezeti kezelésű előirányzatok EU-s programokra és azok hazai társfinanszírozása (B15) | C31: =SUM(D31,E31,F31,G31) -> 0 | D31: 0 | E31: 0 | F31: 0 | G31: 0 | H31: =SUM(I31,J31,K31,L31) -> 0 | I31: 0 | J31: 0 | K31: 0 | L31: 0
A32: 25 | B32: ebből: egyéb fejezeti kezelésű előirányzatok (B15) | C32: =SUM(D32,E32,F32,G32) -> 0 | D32: 0 | E32: 0 | F32: 0 | G32: 0 | H32: =SUM(I32,J32,K32,L32) -> 0 | I32: 0 | J32: 0 | K32: 0 | L32: 0
A33: 26 | B33: ebből: társadalombiztosítás pénzügyi alapjai (B15) | C33: =SUM(D33,E33,F33,G33) -> 0 | D33: 0 | E33: 0 | F33: 0 | G33: 0 | H33: =SUM(I33,J33,K33,L33) -> 0 | I33: 0 | J33: 0 | K33: 0 | L33: 0
A34: 27 | B34: ebből: elkülönített állami pénzalapok (B15) | C34: =SUM(D34,E34,F34,G34) -> 0 | D34: 0 | E34: 0 | F34: 0 | G34: 0 | H34: =SUM(I34,J34,K34,L34) -> 0 | I34: 0 | J34: 0 | K34: 0 | L34: 0
A35: 28 | B35: ebből: helyi önkormányzatok és költségvetési szerveik (B15) | C35: =SUM(D35,E35,F35,G35) -> 0 | D35: 0 | E35: 0 | F35: 0 | G35: 0 | H35: =SUM(I35,J35,K35,L35) -> 0 | I35: 0 | J35: 0 | K35: 0 | L35: 0
A36: 29 | B36: ebből: társulások és költségvetési szerveik (B15) | C36: =SUM(D36,E36,F36,G36) -> 0 | D36: 0 | E36: 0 | F36: 0 | G36: 0 | H36: =SUM(I36,J36,K36,L36) -> 0 | I36: 0 | J36: 0 | K36: 0 | L36: 0
A37: 30 | B37: ebből: nemzetiségi önkormányzatok és költségvetési szerveik (B15) | C37: =SUM(D37,E37,F37,G37) -> 0 | D37: 0 | E37: 0 | F37: 0 | G37: 0 | H37: =SUM(I37,J37,K37,L37) -> 0 | I37: 0 | J37: 0 | K37: 0 | L37: 0
A38: 31 | B38: ebből: térségi fejlesztési tanácsok és költségvetési szerveik (B15) | C38: =SUM(D38,E38,F38,G38) -> 0 | D38: 0 | E38: 0 | F38: 0 | G38: 0 | H38: =SUM(I38,J38,K38,L38) -> 0 | I38: 0 | J38: 0 | K38: 0 | L38: 0
A39: 32 | B39: Egyéb működési célú támogatások bevételei államháztartáson belülről (=33+...+42) (B16) | C39: =SUM(D39,E39,F39,G39) -> 137086800 | D39: =SUM(D40:D49) -> 129152800 | E39: =SUM(E40:E49) -> 7582000 | F39: =SUM(F40:F49) -> 0 | G39: =SUM(G40,G41,G42,G43,G44,G45,G46,G47,G48,G49) -> 352000 | H39: =SUM(I39,J39,K39,L39) -> 122388801 | I39: =SUM(I40:I49) -> 112984801 | J39: =SUM(J40:J49) -> 9052000 | K39: =SUM(K40:K49) -> 0 | L39: =SUM(L40,L41,L42,L43,L44,L45,L46,L47,L48,L49) -> 352000
A40: 33 | B40: ebből: központi költségvetési szervek (B16) | C40: =SUM(D40,E40,F40,G40) -> 0 | D40: 0 | E40: 0 | F40: 0 | G40: 0 | H40: =SUM(I40,J40,K40,L40) -> 0 | I40: 0 | J40: 0 | K40: 0 | L40: 0
A41: 34 | B41: ebből: központi kezelésű előirányzatok (B16) | C41: =SUM(D41,E41,F41,G41) -> 843000 | D41: 843000 | E41: 0 | F41: 0 | G41: 0 | H41: =SUM(I41,J41,K41,L41) -> 843000 | I41: 843000 | J41: 0 | K41: 0 | L41: 0
A42: 35 | B42: ebből: fejezeti kezelésű előirányzatok EU-s programokra és azok hazai társfinanszírozása (B16) | C42: =SUM(D42,E42,F42,G42) -> 42400000 | D42: 42400000 | E42: 0 | F42: 0 | G42: 0 | H42: =SUM(I42,J42,K42,L42) -> 42400000 | I42: 42400000 | J42: 0 | K42: 0 | L42: 0
A43: 36 | B43: ebből: egyéb fejezeti kezelésű előirányzatok (B16) | C43: =SUM(D43,E43,F43,G43) -> 51912800 | D43: 45560800 | E43: 6000000 | F43: 0 | G43: 352000 | H43: =SUM(I43,J43,K43,L43) -> 36944801 | I43: 29392801 | J43: 7200000 | K43: 0 | L43: 352000
A44: 37 | B44: ebből: társadalombiztosítás pénzügyi alapjai (B16) | C44: =SUM(D44,E44,F44,G44) -> 5035200 | D44: 5035200 | E44: 0 | F44: 0 | G44: 0 | H44: =SUM(I44,J44,K44,L44) -> 5035200 | I44: 5035200 | J44: 0 | K44: 0 | L44: 0
A45: 38 | B45: ebből: elkülönített állami pénzalapok (B16) | C45: =SUM(D45,E45,F45,G45) -> 32063800 | D45: 30481800 | E45: 1582000 | F45: 0 | G45: 0 | H45: =SUM(I45,J45,K45,L45) -> 32333800 | I45: 30481800 | J45: 1852000 | K45: 0 | L45: 0
A46: 39 | B46: ebből: helyi önkormányzatok és költségvetési szerveik (B16) | C46: =SUM(D46,E46,F46,G46) -> 4832000 | D46: 4832000 | E46: 0 | F46: 0 | G46: 0 | H46: =SUM(I46,J46,K46,L46) -> 4832000 | I46: 4832000 | J46: 0 | K46: 0 | L46: 0
A47: 40 | B47: ebből: társulások és költségvetési szerveik (B16) | C47: =SUM(D47,E47,F47,G47) -> 0 | D47: 0 | E47: 0 | F47: 0 | G47: 0 | H47: =SUM(I47,J47,K47,L47) -> 0 | I47: 0 | J47: 0 | K47: 0 | L47: 0
A48: 41 | B48: ebből: nemzetiségi önkormányzatok és költségvetési szerveik (B16) | C48: =SUM(D48,E48,F48,G48) -> 0 | D48: 0 | E48: 0 | F48: 0 | G48: 0 | H48: =SUM(I48,J48,K48,L48) -> 0 | I48: 0 | J48: 0 | K48: 0 | L48: 0
A49: 42 | B49: ebből: térségi fejlesztési tanácsok és költségvetési szerveik (B16) | C49: =SUM(D49,E49,F49,G49) -> 0 | D49: 0 | E49: 0 | F49: 0 | G49: 0 | H49: =SUM(I49,J49,K49,L49) -> 0 | I49: 0 | J49: 0 | K49: 0 | L49: 0
A50: 43 | B50: Működési célú támogatások államháztartáson belülről (=07+...+10+21+32) (B1) | C50: =SUM(D50,E50,F50,G50) -> 399646398 | D50: =SUM(D14,D15,D16,D17,D28,D39) -> 391712398 | E50: =SUM(E14,E15,E16,E17,E28,E39) -> 7582000 | F50: =SUM(F14,F15,F16,F17,F28,F39) -> 0 | G50: =SUM(G14,G15,G16,G17,G28,G39) -> 352000 | H50: =SUM(I50,J50,K50,L50) -> 411304498 | I50: =SUM(I14,I15,I16,I17,I28,I39) -> 401900498 | J50: =SUM(J14,J15,J16,J17,J28,J39) -> 9052000 | K50: =SUM(K14,K15,K16,K17,K28,K39) -> 0 | L50: =SUM(L14,L15,L16,L17,L28,L39) -> 352000
A51: 44 | B51: Felhalmozási célú önkormányzati támogatások (B21) | C51: =SUM(D51,E51,F51,G51) -> 0 | D51: 0 | E51: 0 | F51: 0 | G51: 0 | H51: =SUM(I51,J51,K51,L51) -> 0 | I51: 0 | J51: 0 | K51: 0 | L51: 0
A52: 45 | B52: Felhalmozási célú garancia- és kezességvállalásból származó megtérülések államháztartáson belülről (B22) | C52: =SUM(D52,E52,F52,G52) -> 0 | D52: 0 | E52: 0 | F52: 0 | G52: 0 | H52: =SUM(I52,J52,K52,L52) -> 0 | I52: 0 | J52: 0 | K52: 0 | L52: 0
A53: 46 | B53: Felhalmozási célú visszatérítendő támogatások, kölcsönök visszatérülése államháztartáson belülről (=47+...+56) (B23) | C53: =SUM(D53,E53,F53,G53) -> 0 | D53: =SUM(D54:D63) -> 0 | E53: =SUM(E54:E63) -> 0 | F53: =SUM(F54:F63) -> 0 | G53: =SUM(G54:G63) -> 0 | H53: =SUM(I53,J53,K53,L53) -> 0 | I53: =SUM(I54:I63) -> 0 | J53: =SUM(J54:J63) -> 0 | K53: =SUM(K54:K63) -> 0 | L53: =SUM(L54:L63) -> 0
A54: 47 | B54: ebből: központi költségvetési szervek (B23) | C54: =SUM(D54,E54,F54,G54) -> 0 | D54: 0 | E54: 0 | F54: 0 | G54: 0 | H54: =SUM(I54,J54,K54,L54) -> 0 | I54: 0 | J54: 0 | K54: 0 | L54: 0
A55: 48 | B55: ebből: központi kezelésű előirányzatok (B23) | C55: =SUM(D55,E55,F55,G55) -> 0 | D55: 0 | E55: 0 | F55: 0 | G55: 0 | H55: =SUM(I55,J55,K55,L55) -> 0 | I55: 0 | J55: 0 | K55: 0 | L55: 0
A56: 49 | B56: ebből: fejezeti kezelésű előirányzatok EU-s programokra és azok hazai társfinanszírozása (B23) | C56: =SUM(D56,E56,F56,G56) -> 0 | D56: 0 | E56: 0 | F56: 0 | G56: 0 | H56: =SUM(I56,J56,K56,L56) -> 0 | I56: 0 | J56: 0 | K56: 0 | L56: 0
A57: 50 | B57: ebből: egyéb fejezeti kezelésű előirányzatok (B23) | C57: =SUM(D57,E57,F57,G57) -> 0 | D57: 0 | E57: 0 | F57: 0 | G57: 0 | H57: =SUM(I57,J57,K57,L57) -> 0 | I57: 0 | J57: 0 | K57: 0 | L57: 0
A58: 51 | B58: ebből: társadalombiztosítás pénzügyi alapjai (B23) | C58: =SUM(D58,E58,F58,G58) -> 0 | D58: 0 | E58: 0 | F58: 0 | G58: 0 | H58: =SUM(I58,J58,K58,L58) -> 0 | I58: 0 | J58: 0 | K58: 0 | L58: 0
A59: 52 | B59: ebből: elkülönített állami pénzalapok (B23) | C59: =SUM(D59,E59,F59,G59) -> 0 | D59: 0 | E59: 0 | F59: 0 | G59: 0 | H59: =SUM(I59,J59,K59,L59) -> 0 | I59: 0 | J59: 0 | K59: 0 | L59: 0
A60: 53 | B60: ebből: helyi önkormányzatok és költségvetési szerveik (B23) | C60: =SUM(D60,E60,F60,G60) -> 0 | D60: 0 | E60: 0 | F60: 0 | G60: 0 | H60: =SUM(I60,J60,K60,L60) -> 0 | I60: 0 | J60: 0 | K60: 0 | L60: 0
A61: 54 | B61: ebből: társulások és költségvetési szerveik (B23) | C61: =SUM(D61,E61,F61,G61) -> 0 | D61: 0 | E61: 0 | F61: 0 | G61: 0 | H61: =SUM(I61,J61,K61,L61) -> 0 | I61: 0 | J61: 0 | K61: 0 | L61: 0
A62: 55 | B62: ebből: nemzetiségi önkormányzatok és költségvetési szerveik (B23) | C62: =SUM(D62,E62,F62,G62) -> 0 | D62: 0 | E62: 0 | F62: 0 | G62: 0 | H62: =SUM(I62,J62,K62,L62) -> 0 | I62: 0 | J62: 0 | K62: 0 | L62: 0
A63: 56 | B63: ebből: térségi fejlesztési tanácsok és költségvetési szerveik (B23) | C63: =SUM(D63,E63,F63,G63) -> 0 | D63: 0 | E63: 0 | F63: 0 | G63: 0 | H63: =SUM(I63,J63,K63,L63) -> 0 | I63: 0 | J63: 0 | K63: 0 | L63: 0
A64: 57 | B64: Felhalmozási célú visszatérítendő támogatások, kölcsönök igénybevétele államháztartáson belülről (=58+...+67) (B24) | C64: =SUM(D64,E64,F64,G64) -> 0 | D64: =SUM(D65:D74) -> 0 | E64: =SUM(E65:E74) -> 0 | F64: =SUM(F65:F74) -> 0 | G64: =SUM(G65:G74) -> 0 | H64: =SUM(I64,J64,K64,L64) -> 0 | I64: =SUM(I65:I74) -> 0 | J64: =SUM(J65:J74) -> 0 | K64: =SUM(K65:K74) -> 0 | L64: =SUM(L65:L74) -> 0
A65: 58 | B65: ebből: központi költségvetési szervek (B24) | C65: =SUM(D65,E65,F65,G65) -> 0 | D65: 0 | E65: 0 | F65: 0 | G65: 0 | H65: =SUM(I65,J65,K65,L65) -> 0 | I65: 0 | J65: 0 | K65: 0 | L65: 0
A66: 59 | B66: ebből: központi kezelésű előirányzatok (B24) | C66: =SUM(D66,E66,F66,G66) -> 0 | D66: 0 | E66: 0 | F66: 0 | G66: 0 | H66: =SUM(I66,J66,K66,L66) -> 0 | I66: 0 | J66: 0 | K66: 0 | L66: 0
A67: 60 | B67: ebből: fejezeti kezelésű előirányzatok EU-s programokra és azok hazai társfinanszírozása (B24) | C67: =SUM(D67,E67,F67,G67) -> 0 | D67: 0 | E67: 0 | F67: 0 | G67: 0 | H67: =SUM(I67,J67,K67,L67) -> 0 | I67: 0 | J67: 0 | K67: 0 | L67: 0
A68: 61 | B68: ebből: egyéb fejezeti kezelésű előirányzatok (B24) | C68: =SUM(D68,E68,F68,G68) -> 0 | D68: 0 | E68: 0 | F68: 0 | G68: 0 | H68: =SUM(I68,J68,K68,L68) -> 0 | I68: 0 | J68: 0 | K68: 0 | L68: 0
A69: 62 | B69: ebből: társadalombiztosítás pénzügyi alapjai (B24) | C69: =SUM(D69,E69,F69,G69) -> 0 | D69: 0 | E69: 0 | F69: 0 | G69: 0 | H69: =SUM(I69,J69,K69,L69) -> 0 | I69: 0 | J69: 0 | K69: 0 | L69: 0
A70: 63 | B70: ebből: elkülönített állami pénzalapok (B24) | C70: =SUM(D70,E70,F70,G70) -> 0 | D70: 0 | E70: 0 | F70: 0 | G70: 0 | H70: =SUM(I70,J70,K70,L70) -> 0 | I70: 0 | J70: 0 | K70: 0 | L70: 0
A71: 64 | B71: ebből: helyi önkormányzatok és költségvetési szerveik (B24) | C71: =SUM(D71,E71,F71,G71) -> 0 | D71: 0 | E71: 0 | F71: 0 | G71: 0 | H71: =SUM(I71,J71,K71,L71) -> 0 | I71: 0 | J71: 0 | K71: 0 | L71: 0
A72: 65 | B72: ebből: társulások és költségvetési szerveik (B24) | C72: =SUM(D72,E72,F72,G72) -> 0 | D72: 0 | E72: 0 | F72: 0 | G72: 0 | H72: =SUM(I72,J72,K72,L72) -> 0 | I72: 0 | J72: 0 | K72: 0 | L72: 0
A73: 66 | B73: ebből: nemzetiségi önkormányzatok és költségvetési szerveik (B24) | C73: =SUM(D73,E73,F73,G73) -> 0 | D73: 0 | E73: 0 | F73: 0 | G73: 0 | H73: =SUM(I73,J73,K73,L73) -> 0 | I73: 0 | J73: 0 | K73: 0 | L73: 0
A74: 67 | B74: ebből: térségi fejlesztési tanácsok és költségvetési szerveik (B24) | C74: =SUM(D74,E74,F74,G74) -> 0 | D74: 0 | E74: 0 | F74: 0 | G74: 0 | H74: =SUM(I74,J74,K74,L74) -> 0 | I74: 0 | J74: 0 | K74: 0 | L74: 0
A75: 68 | B75: Egyéb felhalmozási célú támogatások bevételei államháztartáson belülről (=69+...+78) (B25) | C75: =SUM(D75,E75,F75,G75) -> 73090000 | D75: =SUM(D76:D85) -> 73090000 | E75: =SUM(E76:E85) -> 0 | F75: =SUM(F76:F85) -> 0 | G75: =SUM(G76:G85) -> 0 | H75: =SUM(I75,J75,K75,L75) -> 417614184 | I75: =SUM(I76:I85) -> 417614184 | J75: =SUM(J76:J85) -> 0 | K75: =SUM(K76:K85) -> 0 | L75: =SUM(L76:L85) -> 0
A76: 69 | B76: ebből: központi költségvetési szervek (B25) | C76: =SUM(D76,E76,F76,G76) -> 0 | D76: 0 | E76: 0 | F76: 0 | G76: 0 | H76: =SUM(I76,J76,K76,L76) -> 0 | I76: 0 | J76: 0 | K76: 0 | L76: 0
A77: 70 | B77: ebből: központi kezelésű előirányzatok (B25) | C77: =SUM(D77,E77,F77,G77) -> 0 | D77: 0 | E77: 0 | F77: 0 | G77: 0 | H77: =SUM(I77,J77,K77,L77) -> 0 | I77: 0 | J77: 0 | K77: 0 | L77: 0
A78: 71 | B78: ebből: fejezeti kezelésű előirányzatok EU-s programokra és azok hazai társfinanszírozása (B25) | C78: =SUM(D78,E78,F78,G78) -> 72905000 | D78: 72905000 | E78: 0 | F78: 0 | G78: 0 | H78: =SUM(I78,J78,K78,L78) -> 414496184 | I78: 414496184 | J78: 0 | K78: 0 | L78: 0
A79: 72 | B79: ebből: egyéb fejezeti kezelésű előirányzatok (B25) | C79: =SUM(D79,E79,F79,G79) -> 0 | D79: 0 | E79: 0 | F79: 0 | G79: 0 | H79: =SUM(I79,J79,K79,L79) -> 2933000 | I79: 2933000 | J79: 0 | K79: 0 | L79: 0
A80: 73 | B80: ebből: társadalombiztosítás pénzügyi alapjai (B25) | C80: =SUM(D80,E80,F80,G80) -> 0 | D80: 0 | E80: 0 | F80: 0 | G80: 0 | H80: =SUM(I80,J80,K80,L80) -> 0 | I80: 0 | J80: 0 | K80: 0 | L80: 0
A81: 74 | B81: ebből: elkülönített állami pénzalapok (B25) | C81: =SUM(D81,E81,F81,G81) -> 185000 | D81: 185000 | E81: 0 | F81: 0 | G81: 0 | H81: =SUM(I81,J81,K81,L81) -> 185000 | I81: 185000 | J81: 0 | K81: 0 | L81: 0
A82: 75 | B82: ebből: helyi önkormányzatok és költségvetési szerveik (B25) | C82: =SUM(D82,E82,F82,G82) -> 0 | D82: 0 | E82: 0 | F82: 0 | G82: 0 | H82: =SUM(I82,J82,K82,L82) -> 0 | I82: 0 | J82: 0 | K82: 0 | L82: 0
A83: 76 | B83: ebből: társulások és költségvetési szerveik (B25) | C83: =SUM(D83,E83,F83,G83) -> 0 | D83: 0 | E83: 0 | F83: 0 | G83: 0 | H83: =SUM(I83,J83,K83,L83) -> 0 | I83: 0 | J83: 0 | K83: 0 | L83: 0
A84: 77 | B84: ebből: nemzetiségi önkormányzatok és költségvetési szerveik (B25) | C84: =SUM(D84,E84,F84,G84) -> 0 | D84: 0 | E84: 0 | F84: 0 | G84: 0 | H84: =SUM(I84,J84,K84,L84) -> 0 | I84: 0 | J84: 0 | K84: 0 | L84: 0
A85: 78 | B85: ebből: térségi fejlesztési tanácsok és költségvetési szerveik (B25) | C85: =SUM(D85,E85,F85,G85) -> 0 | D85: 0 | E85: 0 | F85: 0 | G85: 0 | H85: =SUM(I85,J85,K85,L85) -> 0 | I85: 0 | J85: 0 | K85: 0 | L85: 0
A86: 79 | B86: Felhalmozási célú támogatások államháztartáson belülről (=44+45+46+57+68) (B2) | C86: =SUM(D86,E86,F86,G86) -> 73090000 | D86: =SUM(D51,D52,D53,D64,D75) -> 73090000 | E86: =SUM(E51,E52,E53,E64,E75) -> 0 | F86: =SUM(F51,F52,F53,F64,F75) -> 0 | G86: =SUM(G51,G52,G53,G64,G75) -> 0 | H86: =SUM(I86,J86,K86,L86) -> 417614184 | I86: =SUM(I51,I52,I53,I64,I75) -> 417614184 | J86: =SUM(J51,J52,J53,J64,J75) -> 0 | K86: =SUM(K51,K52,K53,K64,K75) -> 0 | L86: =SUM(L51,L52,L53,L64,L75) -> 0
A87: 80 | B87: Magánszemélyek jövedelemadói (=81+82+83) (B311) | C87: =SUM(D87,E87,F87,G87) -> 0 | D87: =SUM(D88:D89) -> 0 | E87: =SUM(E88:E89) -> 0 | F87: =SUM(F88:F89) -> 0 | G87: =SUM(G88:G89) -> 0 | H87: =SUM(I87,J87,K87,L87) -> 0 | I87: =SUM(I88:I89) -> 0 | J87: =SUM(J88:J89) -> 0 | K87: =SUM(K88:K89) -> 0 | L87: =SUM(L88:L89) -> 0
A88: 81 | B88: ebből: személyi jövedelemadó (B311) | C88: =SUM(D88,E88,F88,G88) -> 0 | D88: 0 | E88: 0 | F88: 0 | G88: 0 | H88: =SUM(I88,J88,K88,L88) -> 0 | I88: 0 | J88: 0 | K88: 0 | L88: 0
A89: 82 | B89: ebből: termőföld bérbeadásából származó jövedelem utáni személyi jövedelemadó (B311) | C89: =SUM(D89,E89,F89,G89) -> 0 | D89: 0 | E89: 0 | F89: 0 | G89: 0 | H89: =SUM(I89,J89,K89,L89) -> 0 | I89: 0 | J89: 0 | K89: 0 | L89: 0
A90: 83 | B90: Társaságok jövedelemadói (=84+...+91) (B312) | C90: =SUM(D90,E90,F90,G90) -> 0 | D90: =SUM(D91:D98) -> 0 | E90: =SUM(E91:E98) -> 0 | F90: =SUM(F91:F98) -> 0 | G90: =SUM(G91:G98) -> 0 | H90: =SUM(I90,J90,K90,L90) -> 0 | I90: =SUM(I91:I98) -> 0 | J90: =SUM(J91:J98) -> 0 | K90: =SUM(K91:K98) -> 0 | L90: =SUM(L91:L98) -> 0
A91: 84 | B91: ebből: társasági adó (B312) | C91: =SUM(D91,E91,F91,G91) -> 0 | D91: 0 | E91: 0 | F91: 0 | G91: 0 | H91: =SUM(I91,J91,K91,L91) -> 0 | I91: 0 | J91: 0 | K91: 0 | L91: 0
A92: 85 | B92: ebből: társas vállalkozások különadója (B312) | C92: =SUM(D92,E92,F92,G92) -> 0 | D92: 0 | E92: 0 | F92: 0 | G92: 0 | H92: =SUM(I92,J92,K92,L92) -> 0 | I92: 0 | J92: 0 | K92: 0 | L92: 0
A93: 86 | B93: ebből: hitelintézetek és pénzügyi vállalkozások különadója (B312) | C93: =SUM(D93,E93,F93,G93) -> 0 | D93: 0 | E93: 0 | F93: 0 | G93: 0 | H93: =SUM(I93,J93,K93,L93) -> 0 | I93: 0 | J93: 0 | K93: 0 | L93: 0
A94: 87 | B94: ebből: hiteintézeti járadék (B312) | C94: =SUM(D94,E94,F94,G94) -> 0 | D94: 0 | E94: 0 | F94: 0 | G94: 0 | H94: =SUM(I94,J94,K94,L94) -> 0 | I94: 0 | J94: 0 | K94: 0 | L94: 0
A95: 88 | B95: ebből: pénzügyi szervezetek különadója (B312) | C95: =SUM(D95,E95,F95,G95) -> 0 | D95: 0 | E95: 0 | F95: 0 | G95: 0 | H95: =SUM(I95,J95,K95,L95) -> 0 | I95: 0 | J95: 0 | K95: 0 | L95: 0
A96: 89 | B96: ebből: energiaellátók jövedelemadója (B312) | C96: =SUM(D96,E96,F96,G96) -> 0 | D96: 0 | E96: 0 | F96: 0 | G96: 0 | H96: =SUM(I96,J96,K96,L96) -> 0 | I96: 0 | J96: 0 | K96: 0 | L96: 0
A97: 90 | B97: ebből: kisvállalati adó (B312) | C97: =SUM(D97,E97,F97,G97) -> 0 | D97: 0 | E97: 0 | F97: 0 | G97: 0 | H97: =SUM(I97,J97,K97,L97) -> 0 | I97: 0 | J97: 0 | K97: 0 | L97: 0
A98: 91 | B98: ebből: kisadózó vállalkozások tételes adója (B312) | C98: =SUM(D98,E98,F98,G98) -> 0 | D98: 0 | E98: 0 | F98: 0 | G98: 0 | H98: =SUM(I98,J98,K98,L98) -> 0 | I98: 0 | J98: 0 | K98: 0 | L98: 0
A99: 92 | B99: Jövedelemadók (=80+83) (B31) | C99: =SUM(D99,E99,F99,G99) -> 0 | D99: =SUM(D87,D90) -> 0 | E99: =SUM(E87,E90) -> 0 | F99: =SUM(F87,F90) -> 0 | G99: =SUM(G87,G90) -> 0 | H99: =SUM(I99,J99,K99,L99) -> 0 | I99: =SUM(I87,I90) -> 0 | J99: =SUM(J87,J90) -> 0 | K99: =SUM(K87,K90) -> 0 | L99: =SUM(L87,L90) -> 0
A100: 93 | B100: Szociális hozzájárulási adó és járulékok (=94+...+102) (B32) | C100: =SUM(D100,E100,F100,G100) -> 0 | D100: =SUM(D101:D109) -> 0 | E100: =SUM(E101:E109) -> 0 | F100: =SUM(F101:F109) -> 0 | G100: =SUM(G101:G109) -> 0 | H100: =SUM(I100,J100,K100,L100) -> 0 | I100: =SUM(I101:I109) -> 0 | J100: =SUM(J101:J109) -> 0 | K100: =SUM(K101:K109) -> 0 | L100: =SUM(L101:L109) -> 0
A101: 94 | B101: ebből: szociális hozzájárulási adó (B32) | C101: =SUM(D101,E101,F101,G101) -> 0 | D101: 0 | E101: 0 | F101: 0 | G101: 0 | H101: =SUM(I101,J101,K101,L101) -> 0 | I101: 0 | J101: 0 | K101: 0 | L101: 0
...

Sheet 3
A1: 3. melléklet Csabrendek Nagyközség Önkormányzata Képviselő-testületének 13/2019. (X.3.) rendeletéhez
A2: "3. melléklet Csabrendek Nagyközség Önkormányzata Képviselő-testületének 1/2019. (I. 28.) rendeletéhez"
A4: 2019. évi Finanszírozási kiadások
A5: 1 | B5: 2 | C5: 3 | D5: 4 | E5: 5 | F5: 6 | G5: 7 | H5: 3 | I5: 4 | J5: 5 | K5: 6 | L5: 7
C6: Eredeti előirányzat | H6: Módosított előirányzat
C7: Önkormányzat összesen | D7: Csabrendek Nagyközség Önkormányzata | E7: Csabrendeki Közös Önkormányzati Hivatal | F7: Mese-domb Óvoda és Bölcsőde | G7: KÖZSZER | H7: Önkormányzat összesen | I7: Csabrendek Nagyközség Önkormányzata | J7: Csabrendeki Közös Önkormányzati Hivatal | K7: Mese-domb Óvoda és Bölcsőde | L7: KÖZSZER
A8: 1 | B8: Hosszú lejáratú hitelek, kölcsönök törlesztése pénzügyi vállalkozásnak (>=02) (K9111) | C8: =SUM(D8:G8) -> 8000000 | D8: 8000000 | E8: 0 | F8: 0 | G8: 0 | H8: =SUM(I8:L8) -> 8000000 | I8: 8000000 | J8: 0 | K8: 0 | L8: 0
A9: 2 | B9: ebből: fedezeti ügyletek nettó kiadásai (K9111) | C9: =SUM(D9:G9) -> 0 | D9: ---- | H9: =SUM(I9:L9) -> 0 | I9: ----
A10: 3 | B10: Likviditási célú hitelek, kölcsönök törlesztése pénzügyi vállalkozásnak (K9112) | C10: =SUM(D10:G10) -> 0 | D10: 0 | H10: =SUM(I10:L10) -> 0 | I10: 0
A11: 4 | B11: Rövid lejáratú hitelek, kölcsönök törlesztése pénzügyi vállalkozásnak (>=05) (K9113) | C11: =SUM(D11:G11) -> 0 | D11: 0 | H11: =SUM(I11:L11) -> 0 | I11: 0
A12: 5 | B12: ebből: fedezeti ügyletek nettó kiadásai (K9113) | C12: =SUM(D12:G12) -> 0 | D12: ---- | H12: =SUM(I12:L12) -> 0 | I12: ----
A13: 6 | B13: Hitel-, kölcsöntörlesztés államháztartáson kívülre (=01+03+04) (K911) | C13: =SUM(D13:G13) -> 8000000 | D13: =D8+D10+D11 -> 8000000 | E13: =SUM(E8,E10,E11) -> 0 | F13: =SUM(F8,F10,F11) -> 0 | G13: =SUM(G8,G10,G11) -> 0 | H13: =SUM(I13:L13) -> 8000000 | I13: =I8+I10+I11 -> 8000000 | J13: =SUM(J8,J10,J11) -> 0 | K13: =SUM(K8,K10,K11) -> 0 | L13: =SUM(L8,L10,L11) -> 0
A14: 7 | B14: Forgatási célú belföldi értékpapírok vásárlása (>=08+09) (K9121) | C14: =SUM(D14:G14) -> 0 | D14: 0 | H14: =SUM(I14:L14) -> 0 | I14: 0
A15: 8 | B15: ebből: befektetési jegyek (K9121) | C15: =SUM(D15:G15) -> 0 | D15: ---- | H15: =SUM(I15:L15) -> 0 | I15: ----
A16: 9 | B16: ebből: kárpótlási jegyek (K9121) | C16: =SUM(D16:G16) -> 0 | D16: ---- | H16: =SUM(I16:L16) -> 0 | I16: ----
A17: 10 | B17: Befektetési célú belföldi értékpapírok vásárlása (K9122) | C17: =SUM(D17:G17) -> 0 | D17: 0 | H17: =SUM(I17:L17) -> 0 | I17: 0
A18: 11 | B18: Kincstárjegyek beváltása (K9123) | C18: =SUM(D18:G18) -> 0 | D18: 0 | H18: =SUM(I18:L18) -> 0 | I18: 0
A19: 12 | B19: Éven belüli lejáratú belföldi értékpapírok beváltása (>=13+14+15) (K9124) | C19: =SUM(D19:G19) -> 0 | D19: 0 | H19: =SUM(I19:L19) -> 0 | I19: 0
A20: 13 | B20: ebből: fedezeti ügyletek nettó kiadásai (K9124) | C20: =SUM(D20:G20) -> 0 | D20: ---- | H20: =SUM(I20:L20) -> 0 | I20: ----
A21: 14 | B21: ebből: befektetési jegyek (K9124) | C21: =SUM(D21:G21) -> 0 | D21: ---- | H21: =SUM(I21:L21) -> 0 | I21: ----
A22: 15 | B22: ebből: kárpótlási jegyek (K9124) | C22: =SUM(D22:G22) -> 0 | D22: ---- | H22: =SUM(I22:L22) -> 0 | I22: ----
A23: 16 | B23: Belföldi kötvények beváltása (K9125) | C23: =SUM(D23:G23) -> 0 | D23: 0 | H23: =SUM(I23:L23) -> 0 | I23: 0
A24: 17 | B24: Éven túli lejáratú belföldi értékpapírok beváltása (>=18) (K9126) | C24: =SUM(D24:G24) -> 0 | D24: 0 | H24: =SUM(I24:L24) -> 0 | I24: 0
A25: 18 | B25: ebből: fedezeti ügyletek nettó kiadásai (K9126) | C25: =SUM(D25:G25) -> 0 | D25: ---- | H25: =SUM(I25:L25) -> 0 | I25: ----
A26: 19 | B26: Belföldi értékpapírok kiadásai (=07+10+11+12+16+17) (K912) | C26: =SUM(D26:G26) -> 0 | D26: =D14+D17+D18+D19+D23+D24 -> 0 | H26: =SUM(I26:L26) -> 0 | I26: =I14+I17+I18+I19+I23+I24 -> 0
A27: 20 | B27: Államháztartáson belüli megelőlegezések folyósítása (K913) | C27: =SUM(D27:G27) -> 0 | D27: 0 | H27: =SUM(I27:L27) -> 0 | I27: 0
A28: 21 | B28: Államháztartáson belüli megelőlegezések visszafizetése (K914) | C28: =SUM(D28:G28) -> 20000000 | D28: 20000000 | E28: 0 | F28: 0 | G28: 0 | H28: =SUM(I28:L28) -> 20000000 | I28: 20000000 | J28: 0 | K28: 0 | L28: 0
A29: 22 | B29: Központi, irányító szervi támogatások folyósítása (K915) | C29: =SUM(D29:G29) -> 218602898 | D29: 218602898 | E29: 0 | F29: 0 | G29: 0 | H29: =SUM(I29:L29) -> 223280898 | I29: 223280898 | J29: 0 | K29: 0 | L29: 0
A30: 23 | B30: Pénzeszközök lekötött bankbetétként elhelyezése (K916) | C30: =SUM(D30:G30) -> 0 | D30: 0 | H30: =SUM(I30:L30) -> 0 | I30: 0
A31: 24 | B31: Pénzügyi lízing kiadásai (K917) | C31: =SUM(D31:G31) -> 0 | D31: 0 | H31: =SUM(I31:L31) -> 0 | I31: 0
A32: 25 | B32: Központi költségvetés sajátos finanszírozási kiadásai (K918) | C32: =SUM(D32:G32) -> 0 | D32: 0 | H32: =SUM(I32:L32) -> 0 | I32: 0
A33: 26 | B33: Hosszú lejáratú tulajdonosi kölcsönök kiadásai (K9191) | C33: =SUM(D33:G33) -> 0 | D33: 0 | H33: =SUM(I33:L33) -> 0 | I33: 0
A34: 27 | B34: Rövid lejáratú tulajdonosi kölcsönök kiadásai (K9192) | C34: =SUM(D34:G34) -> 0 | D34: 0 | H34: =SUM(I34:L34) -> 0 | I34: 0
A35: 28 | B35: Tulajdonosi kölcsönök kiadásai (=26+27) (K919) | C35: =SUM(D35:G35) -> 0 | D35: =SUM(D33:D34) -> 0 | H35: =SUM(I35:L35) -> 0 | I35: =SUM(I33:I34) -> 0
A36: 29 | B36: Belföldi finanszírozás kiadásai (=06+19+...+25+28) (K91) | C36: =SUM(D36:G36) -> 246602898 | D36: =D13+D26+D27+D28+D29+D30+D31+D32+D35 -> 246602898 | E36: =E13+E26+E27+E28+E29+E30+E31+E32+E35 -> 0 | F36: =F13+F26+F27+F28+F29+F30+F31+F32+F35 -> 0 | G36: =G13+G26+G27+G28+G29+G30+G31+G32+G35 -> 0 | H36: =SUM(I36:L36) -> 251280898 | I36: =I13+I26+I27+I28+I29+I30+I31+I32+I35 -> 251280898 | J36: =J13+J26+J27+J28+J29+J30+J31+J32+J35 -> 0 | K36: =K13+K26+K27+K28+K29+K30+K31+K32+K35 -> 0 | L36: =L13+L26+L27+L28+L29+L30+L31+L32+L35 -> 0
A37: 30 | B37: Forgatási célú külföldi értékpapírok vásárlása (K921) | C37: =SUM(D37:G37) -> 0 | D37: 0 | E37: 0 | F37: 0 | G37: 0 | H37: =SUM(I37:L37) -> 0 | I37: 0 | J37: 0 | K37: 0 | L37: 0
A38: 31 | B38: Befektetési célú külföldi értékpapírok vásárlása (K922) | C38: =SUM(D38:G38) -> 0 | D38: 0 | E38: 0 | F38: 0 | G38: 0 | H38: =SUM(I38:L38) -> 0 | I38: 0 | J38: 0 | K38: 0 | L38: 0
A39: 32 | B39: Külföldi értékpapírok beváltása (>=33) (K923) | C39: =SUM(D39:G39) -> 0 | D39: 0 | E39: 0 | F39: 0 | G39: 0 | H39: =SUM(I39:L39) -> 0 | I39: 0 | J39: 0 | K39: 0 | L39: 0
A40: 33 | B40: ebből: fedezeti ügyletek nettó kiadásai (K923) | C40: =SUM(D40:G40) -> 0 | D40: 0 | E40: 0 | F40: 0 | G40: 0 | H40: =SUM(I40:L40) -> 0 | I40: 0 | J40: 0 | K40: 0 | L40: 0
A41: 34 | B41: Hitelek, kölcsönök törlesztése külföldi kormányoknak és nemzetközi szervezeteknek (K924) | C41: =SUM(D41:G41) -> 0 | D41: 0 | E41: 0 | F41: 0 | G41: 0 | H41: =SUM(I41:L41) -> 0 | I41: 0 | J41: 0 | K41: 0 | L41: 0
A42: 35 | B42: Hitelek, kölcsönök törlesztése külföldi pénzintézeteknek (>=36) (K925) | C42: =SUM(D42:G42) -> 0 | D42: 0 | E42: 0 | F42: 0 | G42: 0 | H42: =SUM(I42:L42) -> 0 | I42: 0 | J42: 0 | K42: 0 | L42: 0
A43: 36 | B43: ebből: fedezeti ügyletek nettó kiadásai (K925) | C43: =SUM(D43:G43) -> 0 | D43: 0 | E43: 0 | F43: 0 | G43: 0 | H43: =SUM(I43:L43) -> 0 | I43: 0 | J43: 0 | K43: 0 | L43: 0
A44: 37 | B44: Külföldi finanszírozás kiadásai (=30+31+32+34+35) (K92) | C44: =SUM(D44:G44) -> 0 | D44: 0 | E44: 0 | F44: 0 | G44: 0 | H44: =SUM(I44:L44) -> 0 | I44: 0 | J44: 0 | K44: 0 | L44: 0
A45: 38 | B45: Adóssághoz nem kapcsolódó származékos ügyletek kiadásai (K93) | C45: =SUM(D45:G45) -> 0 | D45: 0 | E45: 0 | F45: 0 | G45: 0 | H45: =SUM(I45:L45) -> 0 | I45: 0 | J45: 0 | K45: 0 | L45: 0
A46: 39 | B46: Váltókiadások (K94) | C46: =SUM(D46:G46) -> 0 | D46: 0 | E46: 0 | F46: 0 | G46: 0 | H46: =SUM(I46:L46) -> 0 | I46: 0 | J46: 0 | K46: 0 | L46: 0
A47: 40 | B47: Finanszírozási kiadások (=29+37+38+39) (K9) | C47: =SUM(D47:G47) -> 246602898 | D47: =D36+D44+D45+D46 -> 246602898 | E47: =E36+E44+E45+E46 -> 0 | F47: =F36+F44+F45+F46 -> 0 | G47: =G36+G44+G45+G46 -> 0 | H47: =SUM(I47:L47) -> 251280898 | I47: =I36+I44+I45+I46 -> 251280898 | J47: =J36+J44+J45+J46 -> 0 | K47: =K36+K44+K45+K46 -> 0 | L47: =L36+L44+L45+L46 -> 0

Sheet 4
A1: 4. melléklet Csabrendek Nagyközség Önkormányzata Képviselő-testületének 13/2019. (X.3.) rendeletéhez
A2: "4. melléklet Csabrendek Nagyközség Önkormányzata Képviselő-testületének 1/2019. (I. 28.) rendeletéhez"
A4: 2019. évi Finanszírozási bevételek
A5: 1 | B5: 2 | C5: 3 | D5: 4 | E5: 5 | F5: 6 | G5: 7 | H5: 3 | I5: 4 | J5: 5 | K5: 6 | L5: 7
C6: Eredeti előirányzat | H6: Módosított előirányzat
C7: Önkormányzat összesen | D7: Csabrendek Nagyközség Önkormányzata | E7: Csabrendeki Közös Önkormányzati Hivatal | F7: Mese-domb Óvoda és Bölcsőde | G7: KÖZSZER | H7: Önkormányzat összesen | I7: Csabrendek Nagyközség Önkormányzata | J7: Csabrendeki Közös Önkormányzati Hivatal | K7: Mese-domb Óvoda és Bölcsőde | L7: KÖZSZER
A8: 1 | B8: Hosszú lejáratú hitelek, kölcsönök felvétele pénzügyi vállalkozástól (B8111) | C8: =SUM(D8:G8) -> 21745000 | D8: 21745000 | E8: 0 | F8: 0 | G8: 0 | H8: =SUM(I8:L8) -> 21745000 | I8: 21745000 | J8: 0 | K8: 0 | L8: 0
A9: 2 | B9: Likviditási célú hitelek, kölcsönök felvétele pénzügyi vállalkozástól (B8112) | C9: =SUM(D9:G9) -> 0 | D9: 0 | E9: 0 | F9: 0 | G9: 0 | H9: =SUM(I9:L9) -> 0 | I9: 0 | J9: 0 | K9: 0 | L9: 0
A10: 3 | B10: Rövid lejáratú hitelek, kölcsönök felvétele pénzügyi vállalkozástól (B8113) | C10: =SUM(D10:G10) -> 0 | D10: 0 | E10: 0 | F10: 0 | G10: 0 | H10: =SUM(I10:L10) -> 0 | I10: 0 | J10: 0 | K10: 0 | L10: 0
A11: 4 | B11: Hitel-, kölcsönfelvétel pénzügyi vállalkozástól (=01+02+03) (B811) | C11: =SUM(D11:G11) -> 21745000 | D11: =SUM(D8:D10) -> 21745000 | E11: 0 | F11: 0 | G11: 0 | H11: =SUM(I11:L11) -> 21745000 | I11: =SUM(I8:I10) -> 21745000 | J11: 0 | K11: 0 | L11: 0
A12: 5 | B12: Forgatási célú belföldi értékpapírok beváltása, értékesítése (>=06+07) (B8121) | C12: =SUM(D12:G12) -> 0 | D12: =SUM(D13:D14) -> 0 | E12: =SUM(E13:E14) -> 0 | F12: 0 | G12: 0 | H12: =SUM(I12:L12) -> 0 | I12: =SUM(I13:I14) -> 0 | J12: =SUM(J13:J14) -> 0 | K12: 0 | L12: 0
A13: 6 | B13: ebből: befektetési jegyek (B8121) | C13: =SUM(D13:G13) -> 0 | D13: ---- | E13: ---- | F13: 0 | G13: 0 | H13: =SUM(I13:L13) -> 0 | I13: ---- | J13: ---- | K13: 0 | L13: 0
A14: 7 | B14: ebből: kárpótlási jegyek (B8121) | C14: =SUM(D14:G14) -> 0 | D14: ---- | E14: ---- | F14: 0 | G14: 0 | H14: =SUM(I14:L14) -> 0 | I14: ---- | J14: ---- | K14: 0 | L14: 0
A15: 8 | B15: Éven belüli lejáratú belföldi értékpapírok kibocsátása (B8122) | C15: =SUM(D15:G15) -> 0 | D15: 0 | E15: 0 | F15: 0 | G15: 0 | H15: =SUM(I15:L15) -> 0 | I15: 0 | J15: 0 | K15: 0 | L15: 0
A16: 9 | B16: Befektetési célú belföldi értékpapírok beváltása, értékesítése (B8123) | C16: =SUM(D16:G16) -> 0 | D16: 0 | E16: 0 | F16: 0 | G16: 0 | H16: =SUM(I16:L16) -> 0 | I16: 0 | J16: 0 | K16: 0 | L16: 0
A17: 10 | B17: Éven túli lejáratú belföldi értékpapírok kibocsátása (B8124) | C17: =SUM(D17:G17) -> 0 | D17: 0 | E17: 0 | F17: 0 | G17: 0 | H17: =SUM(I17:L17) -> 0 | I17: 0 | J17: 0 | K17: 0 | L17: 0
A18: 11 | B18: Belföldi értékpapírok bevételei (=05+08+09+10) (B812) | C18: =SUM(D18:G18) -> 0 | D18: =SUM(D12,D15,D16,D17) -> 0 | E18: =SUM(E12,E15,E16,E17) -> 0 | F18: 0 | G18: 0 | H18: =SUM(I18:L18) -> 0 | I18: =SUM(I12,I15,I16,I17) -> 0 | J18: =SUM(J12,J15,J16,J17) -> 0 | K18: 0 | L18: 0
A19: 12 | B19: Előző év költségvetési maradványának igénybevétele (B8131) | C19: =SUM(D19:G19) -> 188308118 | D19: 186726016 | E19: 658972 | F19: 494832 | G19: 428298 | H19: =SUM(I19:L19) -> 188308118 | I19: 186726016 | J19: 658972 | K19: 494832 | L19: 428298
A20: 13 | B20: Előző év vállalkozási maradványának igénybevétele (B8132) | C20: =SUM(D20:G20) -> 0 | D20: 0 | E20: 0 | F20: 0 | G20: 0 | H20: =SUM(I20:L20) -> 0 | I20: 0 | J20: 0 | K20: 0 | L20: 0
A21: 14 | B21: Maradvány igénybevétele (=12+13) (B813) | C21: =SUM(D21:G21) -> 188308118 | D21: =SUM(D19:D20) -> 186726016 | E21: =SUM(E19:E20) -> 658972 | F21: =SUM(F19:F20) -> 494832 | G21: =SUM(G19,G20) -> 428298 | H21: =SUM(I21:L21) -> 188308118 | I21: =SUM(I19:I20) -> 186726016 | J21: =SUM(J19:J20) -> 658972 | K21: =SUM(K19:K20) -> 494832 | L21: =SUM(L19,L20) -> 428298
A22: 15 | B22: Államháztartáson belüli megelőlegezések (B814) | C22: =SUM(D22:G22) -> 20000000 | D22: 20000000 | E22: 0 | F22: 0 | G22: 0 | H22: =SUM(I22:L22) -> 20000000 | I22: 20000000 | J22: 0 | K22: 0 | L22: 0
A23: 16 | B23: Államháztartáson belüli megelőlegezések törlesztése (B815) | C23: =SUM(D23:G23) -> 0 | D23: 0 | E23: 0 | F23: 0 | G23: 0 | H23: =SUM(I23:L23) -> 0 | I23: 0 | J23: ---- | K23: 0 | L23: 0
A24: 17 | B24: Központi, irányító szervi támogatás (B816) | C24: =SUM(D24:G24) -> 218602898 | D24: 0 | E24: 78797028 | F24: 68314168 | G24: 71491702 | H24: =SUM(I24:L24) -> 223280898 | I24: 0 | J24: 80002028 | K24: 69512168 | L24: 73766702
A25: 18 | B25: Lekötött bankbetétek megszüntetése (B817) | C25: =SUM(D25:G25) -> 0 | D25: 0 | E25: 0 | F25: 0 | G25: 0 | H25: =SUM(I25:L25) -> 0 | I25: 0 | J25: 0 | K25: 0 | L25: 0
A26: 19 | B26: Központi költségvetés sajátos finanszírozási bevételei (B818) | C26: =SUM(D26:G26) -> 0 | D26: 0 | E26: 0 | F26: 0 | G26: 0 | H26: =SUM(I26:L26) -> 0 | I26: 0 | J26: 0 | K26: 0 | L26: 0
A27: 20 | B27: Hosszú lejáratú tulajdonosi kölcsönök bevételei (B8191) | C27: =SUM(D27:G27) -> 0 | D27: 0 | E27: 0 | F27: 0 | G27: 0 | H27: =SUM(I27:L27) -> 0 | I27: 0 | J27: 0 | K27: 0 | L27: 0
A28: 21 | B28: Rövid lejáratú tulajdonosi kölcsönök bevételei (B8192) | C28: =SUM(D28:G28) -> 0 | D28: 0 | E28: 0 | F28: 0 | G28: 0 | H28: =SUM(I28:L28) -> 0 | I28: 0 | J28: 0 | K28: 0 | L28: 0
A29: 22 | B29: Tulajdonosi kölcsönök bevételei (=20+21) (B819) | C29: =SUM(D29:G29) -> 0 | D29: =SUM(D27:D28) -> 0 | E29: =SUM(E27:E28) -> 0 | F29: =SUM(F27:F28) -> 0 | G29: =SUM(G27:G28) -> 0 | H29: =SUM(I29:L29) -> 0 | I29: =SUM(I27:I28) -> 0 | J29: =SUM(J27:J28) -> 0 | K29: =SUM(K27:K28) -> 0 | L29: =SUM(L27:L28) -> 0
A30: 23 | B30: Belföldi finanszírozás bevételei (=04+11+14+...+19+22) (B81) | C30: =SUM(D30:G30) -> 448656016 | D30: =D11+D18+D21+D22+D23+D24+D25+D26+D29 -> 228471016 | E30: 79456000 | F30: =SUM(F11,F18,F21,F22,F23,F24,F25,F26,F29) -> 68809000 | G30: =SUM(G11,G18,G21,G22,G23,G24,G25,G26,G29) -> 71920000 | H30: =SUM(I30:L30) -> 453334016 | I30: =I11+I18+I21+I22+I23+I24+I25+I26+I29 -> 228471016 | J30: =SUM(J11,J18,J21,J22,J23,J24,J25,J26,J29) -> 80661000 | K30: =SUM(K11,K18,K21,K22,K23,K24,K25,K26,K29) -> 70007000 | L30: =SUM(L11,L18,L21,L22,L23,L24,L25,L26,L29) -> 74195000
A31: 24 | B31: Forgatási célú külföldi értékpapírok beváltása, értékesítése (B821) | C31: =SUM(D31:G31) -> 0 | D31: 0 | E31: 0 | F31: 0 | G31: 0 | H31: =SUM(I31:L31) -> 0 | I31: 0 | J31: 0 | K31: 0 | L31: 0
A32: 25 | B32: Befektetési célú külföldi értékpapírok beváltása, értékesítése (B822) | C32: =SUM(D32:G32) -> 0 | D32: 0 | E32: 0 | F32: 0 | G32: 0 | H32: =SUM(I32:L32) -> 0 | I32: 0 | J32: 0 | K32: 0 | L32: 0
A33: 26 | B33: Külföldi értékpapírok kibocsátása (B823) | C33: =SUM(D33:G33) -> 0 | D33: 0 | E33: 0 | F33: 0 | G33: 0 | H33: =SUM(I33:L33) -> 0 | I33: 0 | J33: 0 | K33: 0 | L33: 0
A34: 27 | B34: Hitelek, kölcsönök felvétele külföldi kormányoktól és nemzetközi szervezetektől (B824) | C34: =SUM(D34:G34) -> 0 | D34: 0 | E34: 0 | F34: 0 | G34: 0 | H34: =SUM(I34:L34) -> 0 | I34: 0 | J34: 0 | K34: 0 | L34: 0
A35: 28 | B35: Hitelek, kölcsönök felvétele külföldi pénzintézetektől (B825) | C35: =SUM(D35:G35) -> 0 | D35: 0 | E35: 0 | F35: 0 | G35: 0 | H35: =SUM(I35:L35) -> 0 | I35: 0 | J35: 0 | K35: 0 | L35: 0
A36: 29 | B36: Külföldi finanszírozás bevételei (=24+...+28) (B82) | C36: =SUM(D36:G36) -> 0 | D36: =SUM(D31:D35) -> 0 | E36: =SUM(E31:E35) -> 0 | F36: =SUM(F31:F35) -> 0 | G36: =SUM(G31:G35) -> 0 | H36: =SUM(I36:L36) -> 0 | I36: =SUM(I31:I35) -> 0 | J36: =SUM(J31:J35) -> 0 | K36: =SUM(K31:K35) -> 0 | L36: =SUM(L31:L35) -> 0
A37: 30 | B37: Adóssághoz nem kapcsolódó származékos ügyletek bevételei (B83) | C37: =SUM(D37:G37) -> 0 | D37: 0 | E37: 0 | F37: 0 | G37: 0 | H37: =SUM(I37:L37) -> 0 | I37: 0 | J37: 0 | K37: 0 | L37: 0
A38: 31 | B38: Váltóbevételek (B84) | C38: =SUM(D38:G38) -> 0 | D38: 0 | E38: 0 | F38: 0 | G38: 0 | H38: =SUM(I38:L38) -> 0 | I38: 0 | J38: 0 | K38: 0 | L38: 0
A39: 32 | B39: Finanszírozási bevételek (=23+29+30+31) (B8) | C39: =SUM(D39:G39) -> 448656016 | D39: =SUM(D37:D38,D30,D36) -> 228471016 | E39: =SUM(E37:E38,E30,E36) -> 79456000 | F39: =SUM(F30,F36,F37,F38) -> 68809000 | G39: =SUM(G30,G36,G37,G38) -> 71920000 | H39: =SUM(I39:L39) -> 453334016 | I39: =SUM(I37:I38,I30,I36) -> 228471016 | J39: =SUM(J37:J38,J30,J36) -> 80661000 | K39: =SUM(K30,K36,K37,K38) -> 70007000 | L39: =SUM(L30,L36,L37,L38) -> 74195000

Sheet 5
A1: 5. melléklet
A2: Csabrendek Nagyközség Önkormányzata Képviselő-testületének 13/2019. (X.3.) rendeletéhez
A3: "5 melléklet
A4: Csabrendek Nagyközség Önkormányzata Képviselő-testületének 1/2019. (I. 28.) rendeletéhez"
A5: 2019. évi költségvetési mérlege
A6: E: | B6: Eredeti előirányzat | O6: adatok forintban
A7: M: | B7: Módosított előirányzat
A8: T | B8: Teljesítés
B10: A | C10: B | E10: C | F10: D | G10: E | H10: F | I10: G | J10: H | L10: I | M10: J | N10: K | O10: L
B11: Előir. csop név és szám | C11: Kiemelt előírányzatok név és szám | F11: Kötelező feladatok | G11: Önként vállalt feladatok | I11: Előir. csop név és szám | J11: Kiemelt előírányzatok név és szám | M11: Kötelező feladatok | N11: Önként vállalt feladatok
A12: 1 | B12: 1. Működési bevételek | E12: E | F12: =SUM(F24,F21,F15,F18,F27) -> 498176398 | G12: =SUM(G24,G21,G15,G18,G27) -> 0 | H12: =SUM(H24,H21,H15,H18,H27) -> 498176398 | I12: 6. Működési kiadások | L12: E | M12: =SUM(M15,M18,M21,M24,M27) -> 544586500 | N12: =SUM(N15,N18,N21,N24,N27) -> 0 | O12: =SUM(O15,O18,O21,O24,O27) -> 544586500
E13: M | F13: =SUM(F25,F22,F16,F19,F28) -> 533481184 | G13: =SUM(G25,G22,G16,G19,G28) -> 0 | H13: =SUM(H25,H22,H16,H19,H28) -> 533481184 | L13: M | M13: =SUM(M16,M19,M22,M25,M28) -> 579947654 | N13: =SUM(N16,N19,N22,N25,N28) -> 0 | O13: =SUM(O16,O19,O22,O25,O28) -> 579947654
E14: T | L14: T
A15: 2 | C15: B11 | D15: Önkormányzatok működési támogatásai | E15: E | F15: =H15-G15 -> 262559598 | H15: ='2'!C14 -> 262559598 | J15: K1 | K15: Személyi juttatások | L15: E | M15: =O15-N15 -> 235783000 | O15: ='1'!C27 -> 235783000
E16: M | F16: =H16-G16 -> 288915697 | H16: ='2'!I14 -> 288915697 | L16: M | M16: =O16-N16 -> 239701000 | O16: ='1'!H27 -> 239701000
E17: T | L17: T
A18: 3 | C18: B16 | D18: Egyéb működési célú támogatások bevételei államháztartáson belülről | E18: E | F18: =H18-G18 -> 137086800 | H18: ='2'!C39 -> 137086800 | J18: K2 | K18: Munkaadókat terhelő járulékok és szociális hozzájárulási adó | L18: E | M18: =O18-N18 -> 41871700 | O18: ='1'!C28 -> 41871700
E19: M | F19: =H19-G19 -> 122388801 | H19: ='2'!H39 -> 122388801 | L19: M | M19: =O19-N19 -> 42332700 | O19: ='1'!H28 -> 42332700
E20: T | L20: T
A21: 4 | C21: B3-B34 | D21: Közhatalmi bevételek | E21: E | F21: =H21-G21 -> 40550000 | H21: ='2'!C191-'2'!C115 -> 40550000 | J21: K3 | K21: Dologi kiadások | L21: E | M21: =O21-N21 -> 177227000 | O21: ='1'!C67 -> 177227000
E22: M | F22: =H22-G22 -> 40550000 | H22: ='2'!H191-'2'!H115 -> 40550000 | L22: M | M22: =O22-N22 -> 197467941 | O22: ='1'!H67 -> 197467941
E23: T | L23: T
A24: 5 | C24: B4 | D24: Működési bevételek | E24: E | F24: =H24-G24 -> 57896000 | H24: ='2'!C227 -> 57896000 | J24: K4 | K24: Ellátottak pénzbeni juttatásai | L24: E | M24: =O24-N24 -> 8443000 | O24: ='1'!C126 -> 8443000
E25: M | F25: =H25-G25 -> 76873791 | H25: ='2'!H227 -> 76873791 | L25: M | M25: =O25-N25 -> 8443000 | O25: ='1'!H126 -> 8443000
E26: T | F26: =H26-G26 -> 0 | L26: T
A27: 6 | C27: B6 | D27: Működési célú átvett pénzeszközök | E27: E | F27: =H27-G27 -> 84000 | H27: ='2'!C262 -> 84000 | J27: K5-K513 | K27: Egyébb működési célú kiadások | L27: E | M27: =O27-N27 -> 81261800 | O27: ='1'!C196-'1'!C195 -> 81261800
E28: M | F28: =H28-G28 -> 4752895 | H28: ='2'!H262 -> 4752895 | L28: M | M28: =O28-N28 -> 92003013 | O28: ='1'!H196-'1'!H195 -> 92003013
E29: T | L29: T
A30: 7 | B30: 2. Felhalmozási bevételek | E30: E | F30: =SUM(F36,F33,F39,F42,F45) -> 130215000 | G30: =SUM(G36,G33,G39,G42,G45) -> 0 | H30: =SUM(H36,H33,H39,H42,H45) -> 130215000 | I30: 7. Felhalmozási célú kiadások | L30: E | M30: =SUM(,M33,M36,M39) -> 251501626 | N30: =SUM(,N33,N36,N39) -> 0 | O30: =SUM(,O33,O36,O39) -> 251501626
E31: M | F31: =SUM(F37,F34,F40,F43,F46) -> 477025184 | G31: =SUM(G37,G34,G40,G43,G46) -> 0 | H31: =SUM(H37,H34,H40,H43,H46) -> 477025184 | L31: M | M31: =SUM(,M34,M37,M40) -> 324151038 | N31: =SUM(,N34,N37,N40) -> 0 | O31: =SUM(,O34,O37,O40) -> 324151038
E32: T | L32: T
A33: 8 | C33: B21 | D33: Önkormányzatok felhalmozási támogatásai | E33: E | F33: =H33-G33 -> 0 | H33: ='2'!C51 -> 0 | J33: K6 | K33: Felhalmozási költségvetés beruházások | L33: E | M33: =O33-N33 -> 23973941 | O33: ='1'!C205 -> 23973941
E34: M | F34: =H34-G34 -> 0 | H34: ='2'!C51 -> 0 | L34: M | M34: =O34-N34 -> 97226353 | O34: ='1'!H205 -> 97226353
E35: T | L35: T
A36: 9 | C36: B2-B21 | D36: Egyéb felhalmozási célú támogatások bevételei államháztartáson belülről | E36: E | F36: =H36-G36 -> 73090000 | H36: ='2'!C75 -> 73090000 | J36: K7 | K36: Felújítások | L36: E | M36: =O36-N36 -> 227464685 | O36: ='1'!C210 -> 227464685
E37: M | F37: =H37-G37 -> 417614184 | H37: ='2'!H75 -> 417614184 | L37: M | M37: =O37-N37 -> 223364685 | O37: ='1'!H210 -> 223364685
E38: T | L38: T
A39: 10 | C39: B34 | D39: Közhatalmi bevételek | E39: E | F39: =H39-G39 -> 22750000 | H39: ='2'!C115 -> 22750000 | J39: K8 | K39: Egyéb felhalmozási kiadások | L39: E | M39: =O39-N39 -> 63000 | O39: ='1'!C272 -> 63000
E40: M | F40: =H40-G40 -> 22750000 | H40: ='2'!H115 -> 22750000 | L40: M | M40: =O40-N40 -> 3560000 | O40: ='1'!H272 -> 3560000
E41: T | L41: T
A42: 11 | C42: B5 | D42: Felhalmozási bevétel | E42: E | F42: =H42-G42 -> 33500000 | H42: ='2'!C236 -> 33500000 | I42: 8. Tartalék | L42: E | M42: =O42-N42 -> 34356390 | O42: ='1'!C195 -> 34356390
E43: M | F43: =H43-G43 -> 35556000 | H43: ='2'!H236 -> 35556000 | L43: M | M43: =O43-N43 -> 308460794 | O43: ='1'!H195 -> 308460794
E44: T | L44: T
A45: 12 | C45: B7 | D45: Felhalmozási célú átvett pénzeszköz | E45: E | F45: =H45-G45 -> 875000 | H45: ='2'!C288 -> 875000
E46: M | F46: =H46-G46 -> 1105000 | H46: ='2'!H288 -> 1105000
E47: T
A48: 13 | B48: Pénzforgalmi bevételek | E48: E | F48: =SUM(F12,F30,) -> 628391398 | G48: =SUM(G12,G30,) -> 0 | H48: =SUM(H12,H30,) -> 628391398 | I48: Pénzforgalmi kiadások | L48: E | M48: =SUM(M12,M30,M42) -> 830444516 | N48: =SUM(N12,N30,N42) -> 0 | O48: =SUM(O12,O30,O42) -> 830444516
E49: M | F49: =SUM(F13,F31,) -> 1010506368 | G49: =SUM(G13,G31,) -> 0 | H49: =SUM(H13,H31,) -> 1010506368 | L49: M | M49: =SUM(M13,M31,M43) -> 1212559486 | N49: =SUM(N13,N31,N43) -> 0 | O49: =SUM(O13,O31,O43) -> 1212559486
E50: T | L50: T | M50: =SUM(M14,M32,M44) -> 0 | N50: =SUM(N14,N32,N44) -> 0 | O50: =SUM(O14,O32,O44) -> 0
A51: 14 | B51: 3. Maradvány igénybevétele | E51: E | F51: =H51-G51 -> 188308118 | H51: ='4'!C21 -> 188308118
E52: M | F52: =H52-G52 -> 188308118 | H52: ='4'!H21 -> 188308118
E53: T
A54: 15 | B54: 4. Államháztartáson belüli megelőlegezések | E54: E | F54: =H54-G54 -> 20000000 | H54: ='4'!C22 -> 20000000 | I54: 9. Államháztartáson belüli megelőlegezések visszafizetése | L54: E | M54: =O54-N54 -> 20000000 | O54: ='3'!C28 -> 20000000
E55: M | F55: =H55-G55 -> 20000000 | H55: ='4'!H22 -> 20000000 | L55: M | M55: =O55-N55 -> 20000000 | O55: ='3'!C28 -> 20000000
E56: T | L56: T
A57: 16 | B57: Lekötött bankbetétek megszüntetése | E57: E | F57: =H57-G57 -> 0 | H57: ='4'!C25 -> 0 | I57: Bankbetétek lekötése | L57: E | M57: =O57-N57 -> 0 | O57: ='3'!C30 -> 0
E58: M | F58: =H58-G58 -> 0 | H58: ='4'!C25 -> 0 | L58: M | M58: =O58-N58 -> 0 | O58: ='3'!C30 -> 0
E59: T | L59: T
A60: 17 | B60: Belföldi értékpapírok bevételei | E60: E | F60: =H60-G60 -> 0 | H60: ='4'!C18 -> 0 | I60: Belföldi értékpapírok kiadásai | L60: E | M60: =O60-N60 -> 0 | O60: =SUM('3'!C26) -> 0
E61: M | F61: =H61-G61 -> 0 | H61: ='4'!C18 -> 0 | L61: M | M61: =O61-N61 -> 0 | O61: =SUM('3'!C26) -> 0
E62: T | L62: T
A63: 18 | B63: 5. Hitel-, kölcsönfelvétel pénzügyi vállalkozástól | E63: E | F63: =H63-G63 -> 21745000 | H63: ='4'!C11 -> 21745000 | I63: 10. Hitel-, kölcsönfelvétel pénzügyi vállalkozástól | L63: E | M63: =O63-N63 -> 8000000 | O63: ='3'!C13 -> 8000000
E64: M | F64: =H64-G64 -> 21745000 | H64: ='4'!H11 -> 21745000 | L64: M | M64: =O64-N64 -> 8000000 | O64: ='3'!C13 -> 8000000
E65: T | L65: T
A66: 19 | B66: BEVÉTELEK ÖSSZESEN | E66: E | F66: =SUM(F48,F51,F54,F57,F60,F63) -> 858444516 | G66: =SUM(G48,G51,G54,G57,G60,G63) -> 0 | H66: =SUM(H48,H51,H54,H57,H60,H63) -> 858444516 | I66: KIADÁSOK ÖSSZESEN | L66: E | M66: =SUM(M48,M51,M54,M57,M60,M63) -> 858444516 | N66: =SUM(N48,N51,N54,N57,N60,N63) -> 0 | O66: =SUM(O48,O51,O54,O57,O60,O63) -> 858444516
E67: M | F67: =SUM(F49,F52,F55,F58,F61,F64) -> 1240559486 | G67: =SUM(G49,G52,G55,G58,G61,G64) -> 0 | H67: =SUM(H49,H52,H55,H58,H61,H64) -> 1240559486 | L67: M | M67: =SUM(M49,M52,M55,M58,M61,M64) -> 1240559486 | N67: =SUM(N49,N52,N55,N58,N61,N64) -> 0 | O67: =SUM(O49,O52,O55,O58,O61,O64) -> 1240559486
E68: T | F68: =SUM(F50,F53,F56,F59) -> 0 | G68: =SUM(G50,G53,G56,G59) -> 0 | H68: =SUM(H50,H53,H56,H59) -> 0 | L68: T | M68: =SUM(M50,M44,M56,M59,M62,) -> 0 | N68: =SUM(N50,N44,N56,N59,N62,) -> 0 | O68: =SUM(O50,O44,O56,O59,O62,) -> 0

Sheet 6
A1: 6. melléklet
A2: Csabrendek Nagyközség Önkormányzata Képviselő-testületének 13/2019. (X.3.) rendeletéhez
A3: "6. melléklet
A4: Csabrendek Nagyközség Önkormányzata Képviselő-testületének 1/2019. (1.28.) rendeletéhez"
A5: Önkormányzatok működési támogatásai kiemelt előirányzat részletezése
A6: E: | B6: Eredeti előirányzat | L6: adatok forintban
A7: M: | B7: Módosított előírányzat
A8: T: | B8: Teljesítés
B10: A | C10: B | D10: C | L10: D | M10: E
B11: Cím név és szám | C11: Kiemelt előirányzat név és szám | D11: Jogcím csoport, jogcím név és szám | L11: 2019. évi eredeti előirányzat | M11: 2019. évi módosított előirányzat
A14: 1 | B14: 1 ÖNKORMÁNYZAT ÖSSZESEN | L14: =L15 -> 2.625596e+08 | M14: =M15 -> 2.889157e+08
A15: 2 | C15: Önkormányzatok működési támogatásai | L15: =SUM(L16,L43,L52,L84,L92,L101) -> 2.625596e+08 | M15: =SUM(M16,M43,M52,M84,M92,M101) -> 2.889157e+08
A16: 3 | D16: 1 | E16: A helyi önkormányzatok működésének általános támogatása | L16: =SUM(L39,L17,L37,L41) -> 1.1990856e+08 | M16: =SUM(M39,M17,M37,M41) -> 1.2239255e+08
A17: 4 | E17: 1 | F17: A települési önkormányzatok működésének támogatása | L17: =SUM(L18,L20,L29,,L31,L33,L35) -> 1.1893616e+08 | M17: =SUM(M18,M20,M29,,M31,M33,M35) -> 1.1893616e+08
A18: 5 | F18: 1 | G18: Önkormányzati hivatal működésének támogatása | L18: =J19 -> 52670000 | M18: =K19 -> 52670000
G19: 11,5 fő x 4 580 000 Ft | J19: =11.5*4580000 -> 52670000 | K19: =11.5*4580000 -> 52670000
A20: 6 | F20: 2 | G20: Település-üzemeltetéshez kapcsolódó feladatellátás támogatása | L20: =SUM(L21,L23,L27,L25) -> 19460480 | M20: =SUM(M21,M23,M27,M25) -> 19460480
A21: 7 | G21: 1 | H21: A zöldterület-gazdálkodással kapcsolatos feladatok ellátásának támogatása | L21: =J22 -> 6076750 | M21: =K22 -> 6076750
H22: 272,5 ha x 22 300 Ft/ha | J22: =272.5*22300 -> 6076750 | K22: =272.5*22300 -> 6076750
A23: 8 | G23: 2 | H23: Közvilágítás fenntartásának támogatása | L23: =J24 -> 7168000 | M23: =K24 -> 7168000
H24: 22,4 km x 320 000 Ft/km | J24: =22.4*320000 -> 7168000 | K24: =22.4*320000 -> 7168000
A25: 9 | G25: 3 | H25: Köztemető fenntartással kapcsolatos feladatok támogatása | L25: =J26 -> 488520 | M25: =K26 -> 488520
H26: 7 080 m2 x 69 ft/m2 | J26: =7080*69 -> 488520 | K26: =7080*69 -> 488520
A27: 10 | G27: 4 | H27: Közutak fenntartásának támogatása | L27: =J28 -> 5727210 | M27: =K28 -> 5727210
H28: 25,23 km x 227 000 Ft/km | J28: =25.23*227000 -> 5727210 | K28: =25.23*227000 -> 5727210
A29: 11 | F29: 3 | G29: Egyéb önkormányzati feladatok támogatása | L29: =J30 -> 8259300 | M29: =K30 -> 8259300
G30: 3 059 fő x 2 700 Ft/fő | J30: =3059*2700 -> 8259300 | K30: =3059*2700 -> 8259300
A31: 12 | F31: 4 | G31: Lakott külterülettel kapcsolatos támogatás | L31: =J32 -> 1415250 | M31: =K32 -> 1415250
G32: 555 fő x 2 550 Ft/fő | J32: =555*2550 -> 1415250 | K32: =555*2550 -> 1415250
A33: 13 | F33: 5 | G33: Üdülőhelyi feladatok támogatása | L33: =J34 -> 119700 | M33: =K34 -> 119700
G34: 119 700 Ft x 1 Ft | J34: =119700*1 -> 119700 | K34: =119700*1 -> 119700
A35: 14 | F35: 6 | G35: Beszámítás kiegészítés | L35: =J36 -> 37011428 | M35: =K36 -> 37011428
J36: =0.451773573*SUM(J19,J22,J24,J26,J28,J30,J32,J34) -> 37011428 | K36: =0.451773573*SUM(K19,K22,K24,K26,K28,K30,K32,K34) -> 37011428
A37: 15 | E37: 2 | F37: Polgármesteri illetmény támogatása | L37: =J38 -> 972400 | M37: =K38 -> 972400
J38: 972400 | K38: 972400
A39: 16 | E39: 3 | F39: Bérkompenzáció támogatása | L39: =J40 -> 0 | M39: =K40 -> 313993
J40: 0 | K40: 313993
A41: 17 | E41: 4 | F41: A minimálbér és a garantált bérminimum emelésével kapcsolatos intézkedések | L41: =J42 -> 0 | M41: =K42 -> 2170000
J42: 0 | K42: 2170000
A43: 18 | D43: 2 | E43: A települési önkormányzatok egyes köznevelési feladatainak támogatása | L43: =SUM(L44,L48,L50) -> 57386666 | M43: =SUM(M44,M48,M50) -> 58361666
A44: 19 | E44: 1 | F44: Óvodapedagógusok, és az óvodapedagógusok nevelő munkáját közvetlenül segítők bértámogatása | L44: =SUM(J46:J47) -> 48328466 | M44: =SUM(K46:K47) -> 48328466
F46: (8,5 fő x 8/12 + 8,6 fő 4/12 ) x 4 371 500 Ft/fő | J46: =ROUNDDOWN(8.5*4371500*8/12+8.6*4371500*4/12,0) -> 37303466 | K46: =ROUNDDOWN(8.5*4371500*8/12+8.6*4371500*4/12,0) -> 37303466
F47: (5 fő x 8/12+5 fő 4/12) x 2 205 000 Ft | J47: =+(5*0.666666666666667+5*0.333333333333333)*2205000 -> 11025000 | K47: =+(5*0.666666666666667+5*0.333333333333333)*2205000 -> 11025000
A48: 20 | E48: 2 | F48: Óvodaműködtetési alaptámogatás | L48: =J49 -> 9058200 | M48: =K49 -> 9058200
F49: 92 fő x 8/12 + 95 fő 4/12) x 97 400 Ft/fő | J49: =(92+92+95)/3*97400 -> 9058200 | K49: =(92+92+95)/3*97400 -> 9058200
A50: 21 | E50: 3 | F50: A minimálbér és a garantált bérminimum emelésével kapcsolatos intézkedések | L50: =J51 -> 0 | M50: =K51 -> 975000
J51: 0 | K51: 975000
A52: 22 | D52: 3 | E52: A települési önkormányzatok szociális, gyermekjóléti és gyermekétkeztetési feladatainak támogatása | L52: =SUM(L71,L54,L56,L80,L78,L82) -> 81562984 | M52: =SUM(M71,M54,M56,M80,M78,M82) -> 91647405
A54: 23 | E54: 1 | F54: A települési önkormányzatok szociális feladatainak egyéb támogatása | L54: =J55 -> 13795000 | M54: =K55 -> 13795000
J55: 13795000 | K55: 13795000
A56: 24 | E56: 2 | F56: Egyes szociális és gyermekjóléti feladatok támogatása | L56: =SUM(L59,L61,L63,,L57,L65) -> 39188656 | M56: =SUM(M59,M61,M63,,M57,M65) -> 42181656
A57: 25 | F57: 1 | G57: Szociális és gyermekjóléti alapszolgáltatások általános feladatai | L57: =J58 -> 5100000 | M57: =K58 -> 5100000
G58: 1,5 fő x 3 400 000 Ft/fő | J58: =1.5*3400000 -> 5100000 | K58: =1.5*3400000 -> 5100000
A59: 26 | F59: 2 | G59: Szociális étkeztetés | L59: =J60 -> 3714656 | M59: =K60 -> 3714656
G60: 61 fő x 55 360 Ft/fő x 110% | J60: =61*55360*1.1 -> 3714656 | K60: =61*55360*1.1 -> 3714656
A61: 27 | F61: 3 | G61: Házi segítségnyújtás | L61: =J62 -> 24174000 | M61: =K62 -> 24174000
G62: 56 fő x 330 000 Ft/fő x 130% + 6 fő x 25 000 Ft | J62: =56*330000*1.3+6*25000 -> 24174000 | K62: =56*330000*1.3+6*25000 -> 24174000
A63: 28 | F63: 4 | G63: Falugondnoki vagy tanyagondnoki szolgáltatás | L63: =J64 -> 6200000 | M63: =K64 -> 6200000
G64: 2 szolgálat x 3 100 000 Ft/szolgálat | J64: =2*3100000 -> 6200000 | K64: =2*3100000 -> 6200000
A65: 29 | F65: 5 | G65: Bölcsőde, mini bölcsőde támogatása | L65: =SUM(L66,L69) -> 0 | M65: =SUM(M66,M69) -> 2993000
A66: 30 | G66: 1 | H66: A finanszírozás szempontjából elismert szakmai dolgozók bértámogatása: bölcsődei dajkák, középfokú végzettségű kisgyermeknevelők, szaktanácsadók | L66: =SUM(J68) -> 0 | M66: =SUM(K68) -> 2993000
H68: 1 fő x 2 993 000 Ft/fő | J68: 0 | K68: =1*2993000 -> 2993000
A69: 29 | G69: 2 | H69: Bölcsődei üzemeltetési támogatás | L69: =SUM(J70) -> 0 | M69: =SUM(K70) -> 0
J70: 0 | K70: 0
A71: 31 | E71: 3 | F71: Gyermekétkeztetés támogatása | L71: =SUM(L74,L72,L76) -> 28579328 | M71: =SUM(M74,M72,M76) -> 27587428
A72: 32 | F72: 1 | G72: A finanszírozás szempontjából elismert dolgozók bértámogatása | L72: =J73 -> 9747000 | M72: =K73 -> 9747000
G73: 5,13 fő x 1 900 000 Ft/fő | J73: =5.13*1900000 -> 9747000 | K73: =5.13*1900000 -> 9747000
A74: 33 | F74: 2 | G74: Gyermekétkeztetés üzemeltetési támogatása | L74: =J75 -> 17646158 | M74: =K75 -> 16654258
J75: 17646158 | K75: 16654258
A76: 34 | F76: 2 | G76: Gyermekétkeztetés üzemeltetési támogatása | L76: =J77 -> 1186170 | M76: =K77 -> 1186170
G77: 2081 adag x 570 Ft/fő | J77: =2081*570 -> 1186170 | K77: =2081*570 -> 1186170
A78: 35 | E78: 4 | F78: Szociális ágazati összevont pótlék | L78: =J79 -> 0 | M78: =K79 -> 3516321
J79: 0 | K79: 3516321
A80: 34 | E80: 5 | F80: Bölcsődei kiegészítő ágazati pótlék | L80: =J81 -> 0 | M80: =K81 -> 0
J81: 0 | K81: 0
A82: 36 | E82: 6 | F82: A minimálbér és a garantált bérminimum emelésével kapcsolatos intézkedések | L82: =J83 -> 0 | M82: =K83 -> 4567000
J83: 0 | K83: =570000+671000+2300000+1026000 -> 4567000
A84: 37 | D84: 4 | E84: A települési önkormányzatok kulturális feladatainak támogatása | L84: =L85+L88+L90 -> 3701390 | M84: =M85+M88+M90 -> 4200555
A85: 38 | E85: 1 | F85: Települési önkormányzatok nyilvános könyvtári és közművelődési feladatainak támogatása | L85: =J87 -> 3701390 | M85: =K87 -> 3701390
F87: 3059 fő x 1210 Ft/fő = | J87: =3059*1210 -> 3701390 | K87: =3059*1210 -> 3701390
A88: 39 | E88: 2 | F88: Kúltúrális illetménypótlék | L88: =J89 -> 0 | M88: =K89 -> 374165
J89: 0 | K89: 374165
A90: 40 | E90: 3 | F90: A minimálbér és a garantált bérminimum emelésével kapcsolatos intézkedések | L90: =J91 -> 0 | M90: =K91 -> 125000
J91: 0 | K91: 125000
A92: 41 | D92: 6 | E92: Működési célú költségvetési támogatások és kiegészítő támogatások | L92: =SUM(L93:L100) -> 0 | M92: =SUM(M93:M100) -> 12313520
A93: 42 | E93: 1 | F93: Kiegyenlítő bérrendezési alap | J93: 0 | K93: 9200000 | L93: =J93 -> 0 | M93: =K93 -> 9200000
A94: 43 | E94: 2 | F94: Települési önkormányzatok szociális célú tüzelőanyag vásárlásához kapcsolódó támogatás | J94: 0 | K94: 2763520 | L94: =J94 -> 0 | M94: =K94 -> 2763520
A95: 44 | E95: 3 | F95: Jó adatszolgáltató önkormányzatok támogatása | J95: 0 | K95: 350000 | L95: =J95 -> 0 | M95: =K95 -> 350000
A96: 39 | E96: 4 | F96: Lakossági víz- és csatornaszolgáltatás támogatása | J96: 0 | K96: 0 | L96: =J96 -> 0 | M96: =K96 -> 0
A97: 40 | E97: 5 | F97: Rendkívüli önkormányzati támogatás
A98: 40 | E98: 6 | F98: Rendkívüli szociális támogatás
A99: 41 | E99: 7 | F99: ASP rendszer működtetésének támogatása
A100: 42 | E100: 8 | F100: Garantált bérminimum emelés támogatása
A101: 43 | D101: 7 | E101: Elszámolásból származó bevételek
A102: 40

Sheet 7
A1: 7. melléklet
A2: Csabrendek Nagyközség Önkormányzata Képviselő-testületének 13/2019. (X.3.) rendeletéhez
B3: "7. melléklet
A4: Csabrendek Nagyközség Önkormányzata Képviselő-testületének 1/2019. (I. 28.) rendeletéhez" | B4: Csabrendek Nagyközség Önkormányzata Képviselő-testületének ……./2017. (…....) rendeletéhez"
A5: 2019.évi költségvetés Fejlesztési Kiadások
A7: M: | B7: Módosított előirányzat | F7: adatok forintban
A9: 1 | B9: 2 | C9: 3 | D9: 4 | E9: 5 | F9: 6
B10: megnevezés | C10: Immateriális javak | D10: Tárgyi eszköz beszerzés | E10: Felújítás | F10: összes kiadás
A11: 1 | B11: Óvoda bővítés | D11: 4100000 | E11: 119588685 | F11: =SUM(C11:E11) -> 123688685
A12: 2 | B12: Egészségház felújítástárgyi eszköz | D12: 150000 | E12: 991000 | F12: =SUM(C12:E12) -> 1141000
A13: 3 | B13: Bel-és csapadékvíz elvezetés | E13: 2748000 | F13: =SUM(C13:E13) -> 2748000
A14: 4 | B14: Belterületi utak | E14: 59435000 | F14: =SUM(C14:E14) -> 59435000
A15: 5 | B15: Belterületi utak | E15: 21076000 | F15: =SUM(C15:E15) -> 21076000
A16: 6 | B16: Orvosi eszközbeszerzés | D16: 2933000 | F16: =SUM(C16:E16) -> 2933000
A17: 7 | B17: Óvoda- konyha eszközbeszerzés | D17: 13309141 | F17: =SUM(C17:E17) -> 13309141
A18: 8 | B18: Iskola napelem | E18: 7851000 | F18: =SUM(C18:E18) -> 7851000
A19: 9 | B19: Művelődési Ház.tárgyi eszközök | D19: 1828800 | F19: =SUM(C19:E19) -> 1828800
A20: 10 | B20: Szenyvíztelepi eszközök | D20: 3785000 | E20: 5135000 | F20: =SUM(C20:E20) -> 8920000
A21: 11 | B21: Szenyvízhálózat kiépítése | D21: 66184412 | F21: =SUM(C21:E21) -> 66184412
A22: 12 | B22: Igazgatás-eszközök(házasságkötő) | D22: 500000 | F22: =SUM(C22:E22) -> 500000
A23: 13 | B23: Könyvtár-eszközbeszerzés | D23: 155000 | F23: =SUM(C23:E23) -> 155000
A24: 14 | B24: Közfoglalkoztatásra | D24: 184000 | F24: =SUM(C24:E24) -> 184000
A25: 15 | B25: Egyéb tárgyi eszköz | D25: 800000 | F25: =SUM(C25:E25) -> 800000
A26: 16 | B26: Egyéb informatikai eszköz | D26: 200000 | F26: =SUM(C26:E26) -> 200000
A27: 17 | B27: Útsószóró | D27: 1610000 | F27: =SUM(C27:E27) -> 1610000
A28: 18 | B28: Víztisztító készülék | D28: 380000
A29: 19 | B29: Színpad fedés | E29: 4000000
A30: 20 | B30: Közvilágítás bővítése | E30: 1270000
A31: 21 | B31: Ár-és belvízvédelem | E31: 1270000
A32: 22 | B32: Összesen | C32: =SUM(C11:C27) -> 0 | D32: =SUM(D11:D28) -> 96119353 | E32: =SUM(E11:E31) -> 223364685 | F32: =SUM(C32:E32) -> 319484038
