Workbook

Sheet 1
A1: 1. melléklet Csabrendek Nagyközség Önkormányzata Képviselő-testületének 13/2019. (X.3.) rendeletéhez
A2: "1. melléklet Csabrendek Nagyközség Önkormányzata Képviselő-testületének 1/2019. (I. 28.) rendeletéhez"
A4: 2019. évi Költségvetési kiadások
A5: 1 | B5: 2 | C5: 3 | D5: 4 | E5: 5 | F5: 6 | G5: 7 | H5: 3 | I5: 4 | J5: 5 | K5: 6 | L5: 7
C6: Eredeti előirányzat | H6: Módosított előirányzat
C7: Önkormányzat összesen | D7: Csabrendek Nagyközség Önkormányzata | E7: Csabrendeki Közös Önkormányzati Hivatal | F7: Mese-domb Óvoda és Bölcsőde | G7: KÖZSZER | H7: Önkormányzat összesen | I7: Csabrendek Nagyközség Önkormányzata | J7: Csabrendeki Közös Önkormányzati Hivatal | K7: Mese-domb Óvoda és Bölcsőde | L7: KÖZSZER
A8: 1 | B8: Törvény szerinti illetmények, munkabérek (K1101) | C8: =SUM(D8:G8) -> 181163000 | D8: 38504000 | E8: 53236000 | F8: 46337000 | G8: 43086000 | H8: =SUM(I8:L8) -> 180993000 | I8: 38444000 | J8: 51526000 | K8: 46337000 | L8: 44686000
A9: 2 | B9: Normatív jutalmak (K1102) | C9: =SUM(D9:G9) -> 12906000 | D9: 1117000 | E9: 4223000 | F9: 4000000 | G9: 3566000 | H9: =SUM(I9:L9) -> 13106000 | I9: 1117000 | J9: 4223000 | K9: 4000000 | L9: 3766000
A10: 3 | B10: Céljuttatás, projektprémium (K1103) | C10: =SUM(D10:G10) -> 0 | E10: 0 | F10: 0 | H10: =SUM(I10:L10) -> 300000 | J10: 300000 | K10: 0
A11: 4 | B11: Készenléti, ügyeleti, helyettesítési díj, túlóra, túlszolgálat (K1104) | C11: =SUM(D11:G11) -> 0 | E11: 0 | F11: 0 | H11: =SUM(I11:L11) -> 1680000 | J11: 1680000 | K11: 0
A12: 5 | B12: Végkielégítés (K1105) | C12: =SUM(D12:G12) -> 0 | E12: 0 | F12: 0 | H12: =SUM(I12:L12) -> 0 | J12: 0 | K12: 0
A13: 6 | B13: Jubileumi jutalom (K1106) | C13: =SUM(D13:G13) -> 3911000 | D13: 0 | E13: 750000 | F13: 3161000 | H13: =SUM(I13:L13) -> 3911000 | I13: 0 | J13: 750000 | K13: 3161000
A14: 7 | B14: Béren kívüli juttatások (K1107) | C14: =SUM(D14:G14) -> 1950000 | D14: 0 | E14: 1950000 | F14: 0 | H14: =SUM(I14:L14) -> 1950000 | I14: 0 | J14: 1950000 | K14: 0
A15: 8 | B15: Ruházati költségtérítés (K1108) | C15: =SUM(D15:G15) -> 0 | E15: 0 | F15: 0 | H15: =SUM(I15:L15) -> 0 | J15: 0 | K15: 0
A16: 9 | B16: Közlekedési költségtérítés (K1109) | C16: =SUM(D16:G16) -> 812000 | D16: 160000 | E16: 282000 | F16: 270000 | G16: 100000 | H16: =SUM(I16:L16) -> 892000 | I16: 160000 | J16: 282000 | K16: 350000 | L16: 100000
A17: 10 | B17: Egyéb költségtérítések (K1110) | C17: =SUM(D17:G17) -> 0 | E17: 0 | F17: 0 | H17: =SUM(I17:L17) -> 0 | J17: 0 | K17: 0
A18: 11 | B18: Lakhatási támogatások (K1111) | C18: =SUM(D18:G18) -> 0 | E18: 0 | F18: 0 | H18: =SUM(I18:L18) -> 0 | J18: 0 | K18: 0
A19: 12 | B19: Szociális támogatások (K1112) | C19: =SUM(D19:G19) -> 0 | E19: 0 | F19: 0 | H19: =SUM(I19:L19) -> 0 | J19: 0 | K19: 0
A20: 13 | B20: Foglalkoztatottak egyéb személyi juttatásai (>=14) (K1113) | C20: =SUM(D20:G20) -> 2348000 | D20: 610000 | E20: 558000 | F20: 450000 | G20: 730000 | H20: =SUM(I20:L20) -> 3008000 | I20: 670000 | J20: 588000 | K20: 1020000 | L20: 730000
A21: 14 | B21: ebből:biztosítási díjak (K1113) | C21: =SUM(D21:G21) -> 0 | E21: 0 | F21: 0 | H21: =SUM(I21:L21) -> 0 | J21: 0 | K21: 0
A22: 15 | B22: Foglalkoztatottak személyi juttatásai (=01+...+13) (K11) | C22: =SUM(D22:G22) -> 203090000 | D22: =SUM(D8:D21) -> 40391000 | E22: =SUM(E8:E21) -> 60999000 | F22: =SUM(F8:F21) -> 54218000 | G22: =SUM(G8:G21) -> 47482000 | H22: =SUM(I22:L22) -> 205840000 | I22: =SUM(I8:I21) -> 40391000 | J22: =SUM(J8:J21) -> 61299000 | K22: =SUM(K8:K21) -> 54868000 | L22: =SUM(L8:L21) -> 49282000
A23: 16 | B23: Választott tisztségviselők juttatásai (K121) | C23: =SUM(D23:G23) -> 16800000 | D23: 16800000 | E23: 0 | H23: =SUM(I23:L23) -> 16800000 | I23: 16800000 | J23: 0
A24: 17 | B24: Munkavégzésre irányuló egyéb jogviszonyban nem saját foglalkoztatottnak fizetett juttatások (K122) | C24: =SUM(D24:G24) -> 8713000 | D24: 3980000 | E24: 4440000 | F24: 293000 | H24: =SUM(I24:L24) -> 9853000 | I24: 3980000 | J24: 5580000 | K24: 293000
A25: 18 | B25: Egyéb külső személyi juttatások (K123) | C25: =SUM(D25:G25) -> 7180000 | D25: 6820000 | E25: 250000 | F25: 70000 | G25: 40000 | H25: =SUM(I25:L25) -> 7208000 | I25: 6820000 | J25: 278000 | K25: 70000 | L25: 40000
A26: 19 | B26: Külső személyi juttatások (=16+17+18) (K12) | C26: =SUM(D26:G26) -> 32693000 | D26: =SUM(D23:D25) -> 27600000 | E26: =SUM(E23:E25) -> 4690000 | F26: =SUM(F23:F25) -> 363000 | G26: =SUM(G23:G25) -> 40000 | H26: =SUM(I26:L26) -> 33861000 | I26: =SUM(I23:I25) -> 27600000 | J26: =SUM(J23:J25) -> 5858000 | K26: =SUM(K23:K25) -> 363000 | L26: =SUM(L23:L25) -> 40000
A27: 20 | B27: Személyi juttatások összesen (=15+19) (K1) | C27: =SUM(D27:G27) -> 235783000 | D27: =SUM(D26,D22) -> 67991000 | E27: =SUM(E26,E22) -> 65689000 | F27: =F22+F26 -> 54581000 | G27: =SUM(G26,G22) -> 47522000 | H27: =SUM(I27:L27) -> 239701000 | I27: =SUM(I26,I22) -> 67991000 | J27: =SUM(J26,J22) -> 67157000 | K27: =K22+K26 -> 55231000 | L27: =SUM(L26,L22) -> 49322000
A28: 21 | B28: Munkaadókat terhelő járulékok és szociális hozzájárulási adó (=22+...+27) (K2) | C28: =SUM(D28:G28) -> 41871700 | D28: =SUM(D29:D34) -> 10372700 | E28: =SUM(E29:E34) -> 12500000 | F28: =SUM(F29:F34) -> 10097000 | G28: =SUM(G29:G34) -> 8902000 | H28: =SUM(I28:L28) -> 42332700 | I28: =SUM(I29:I34) -> 10372700 | J28: =SUM(J29:J34) -> 12582000 | K28: =SUM(K29:K34) -> 10136000 | L28: =SUM(L29:L34) -> 9242000
A29: 22 | B29: ebből: szociális hozzájárulási adó (K2) | C29: =SUM(D29:G29) -> 39506300 | D29: 9006300 | E29: 11586000 | F29: 10012000 | G29: 8902000 | H29: =SUM(I29:L29) -> 39851300 | I29: 9006300 | J29: 11668000 | K29: 9935000 | L29: 9242000
A30: 23 | B30: ebből: rehabilitációs hozzájárulás (K2) | C30: =SUM(D30:G30) -> 0 | D30: 0 | E30: 0 | F30: 0 | H30: =SUM(I30:L30) -> 0 | I30: 0 | J30: 0 | K30: 0
A31: 24 | B31: ebből: egészségügyi hozzájárulás (K2) | C31: =SUM(D31:G31) -> 1133200 | D31: 605200 | E31: 513000 | F31: 15000 | H31: =SUM(I31:L31) -> 1119200 | I31: 605200 | J31: 513000 | K31: 1000
A32: 25 | B32: ebből: táppénz hozzájárulás (K2) | C32: =SUM(D32:G32) -> 455000 | D32: 345000 | E32: 50000 | F32: 60000 | H32: =SUM(I32:L32) -> 545000 | I32: 345000 | J32: 50000 | K32: 150000
A33: 26 | B33: ebből: munkaadót a foglalkoztatottak részére történő kifizetésekkel kapcsolatban terhelő más járulék jellegű kötelezettségek (K2) | C33: =SUM(D33:G33) -> 0 | D33: 0 | E33: 0 | F33: 0 | H33: =SUM(I33:L33) -> 0 | I33: 0 | J33: 0 | K33: 0
A34: 27 | B34: ebből: munkáltatót terhelő személyi jövedelemadó (K2) | C34: =SUM(D34:G34) -> 777200 | D34: 416200 | E34: 351000 | F34: 10000 | H34: =SUM(I34:L34) -> 817200 | I34: 416200 | J34: 351000 | K34: 50000
A35: 28 | B35: Szakmai anyagok beszerzése (K311) | C35: =SUM(D35:G35) -> 1082000 | D35: 490000 | E35: 30000 | F35: 550000 | G35: 12000 | H35: =SUM(I35:L35) -> 1082000 | I35: 490000 | J35: 30000 | K35: 550000 | L35: 12000
A36: 29 | B36: Üzemeltetési anyagok beszerzése (K312) | C36: =SUM(D36:G36) -> 45358000 | D36: 20586000 | E36: 1147000 | F36: 500000 | G36: 23125000 | H36: =SUM(I36:L36) -> 45902150 | I36: 20586000 | J36: 1797000 | K36: 525000 | L36: 22994150
A37: 30 | B37: Árubeszerzés (K313) | C37: =SUM(D37:G37) -> 0 | D37: 0 | E37: 0 | F37: 0 | G37: 0 | H37: =SUM(I37:L37) -> 0 | I37: 0 | J37: 0 | K37: 0 | L37: 0
A38: 31 | B38: Készletbeszerzés (=28+29+30) (K31) | C38: =SUM(D38:G38) -> 46440000 | D38: =SUM(D35:D37) -> 21076000 | E38: =SUM(E35:E37) -> 1177000 | F38: =SUM(F35:F37) -> 1050000 | G38: =SUM(G35:G37) -> 23137000 | H38: =SUM(I38:L38) -> 46984150 | I38: =SUM(I35:I37) -> 21076000 | J38: =SUM(J35:J37) -> 1827000 | K38: =SUM(K35:K37) -> 1075000 | L38: =SUM(L35:L37) -> 23006150
A39: 32 | B39: Informatikai szolgáltatások igénybevétele (K321) | C39: =SUM(D39:G39) -> 2275000 | D39: 345000 | E39: 1592000 | F39: 70000 | G39: 268000 | H39: =SUM(I39:L39) -> 2780000 | I39: 495000 | J39: 1897000 | K39: 100000 | L39: 288000
A40: 33 | B40: Egyéb kommunikációs szolgáltatások (K322) | C40: =SUM(D40:G40) -> 1075000 | D40: 468000 | E40: 255000 | F40: 80000 | G40: 272000 | H40: =SUM(I40:L40) -> 1045000 | I40: 468000 | J40: 255000 | K40: 70000 | L40: 252000
A41: 34 | B41: Kommunikációs szolgáltatások (=32+33) (K32) | C41: =SUM(D41:G41) -> 3350000 | D41: =SUM(D39:D40) -> 813000 | E41: =SUM(E39:E40) -> 1847000 | F41: =SUM(F39:F40) -> 150000 | G41: =SUM(G39:G40) -> 540000 | H41: =SUM(I41:L41) -> 3825000 | I41: =SUM(I39:I40) -> 963000 | J41: =SUM(J39:J40) -> 2152000 | K41: =SUM(K39:K40) -> 170000 | L41: =SUM(L39:L40) -> 540000
...

Sheet 2
A1: 2. melléklet Csabrendek Nagyközség Önkormányzata Képviselő-testületének 13/2019. (X.3.) rendeletéhez
A2: "2. melléklet Csabrendek Nagyközség Önkormányzata Képviselő-testületének 1/2019. (I. 28.) rendeletéhez"
A4: 2019. évi Költségvetési bevételek
A5: 1 | B5: 2 | C5: 3 | D5: 4 | E5: 5 | F5: 6 | G5: 7 | H5: 3 | I5: 4 | J5: 5 | K5: 6 | L5: 7
C6: Eredeti előirányzat | H6: Módosított előirányzat
C7: Önkormányzat összesen | D7: Csabrendek Nagyközség Önkormányzata | E7: Csabrendeki Közös Önkormányzati Hivatal | F7: Mese-domb Óvoda és Bölcsőde | G7: KÖZSZER | H7: Önkormányzat összesen | I7: Csabrendek Nagyközség Önkormányzata | J7: Csabrendeki Közös Önkormányzati Hivatal | K7: Mese-domb Óvoda és Bölcsőde | L7: KÖZSZER
A8: 1 | B8: Helyi önkormányzatok működésének általános támogatása (B111) | C8: =SUM(D8,E8,F8,G8) -> 119908558 | D8: 119908558 | E8: 0 | F8: 0 | G8: 0 | H8: =SUM(I8,J8,K8,L8) -> 122392551 | I8: 122392551 | J8: 0 | K8: 0 | L8: 0
A9: 2 | B9: Települési önkormányzatok egyes köznevelési feladatainak támogatása (B112) | C9: =SUM(D9,E9,F9,G9) -> 57386666 | D9: 57386666 | E9: 0 | F9: 0 | G9: 0 | H9: =SUM(I9,J9,K9,L9) -> 58361666 | I9: 58361666 | J9: 0 | K9: 0 | L9: 0
A10: 3 | B10: Települési önkormányzatok szociális, gyermekjóléti és gyermekétkeztetési feladatainak támogatása (B113) | C10: =SUM(D10,E10,F10,G10) -> 81562984 | D10: 81562984 | E10: 0 | F10: 0 | G10: 0 | H10: =SUM(I10,J10,K10,L10) -> 91647405 | I10: 91647405 | J10: 0 | K10: 0 | L10: 0
A11: 4 | B11: Települési önkormányzatok kulturális feladatainak támogatása (B114) | C11: =SUM(D11,E11,F11,G11) -> 3701390 | D11: 3701390 | E11: 0 | F11: 0 | G11: 0 | H11: =SUM(I11,J11,K11,L11) -> 4200555 | I11: 4200555 | J11: 0 | K11: 0 | L11: 0
A12: 5 | B12: Működési célú költségvetési támogatások és kiegészítő támogatások (B115) | C12: =SUM(D12,E12,F12,G12) -> 0 | D12: 0 | E12: 0 | F12: 0 | G12: 0 | H12: =SUM(I12,J12,K12,L12) -> 12313520 | I12: 12313520 | J12: 0 | K12: 0 | L12: 0
A13: 6 | B13: Elszámolásból származó bevételek (B116) | C13: =SUM(D13,E13,F13,G13) -> 0 | D13: 0 | E13: 0 | F13: 0 | G13: 0 | H13: =SUM(I13,J13,K13,L13) -> 0 | I13: 0 | J13: 0 | K13: 0 | L13: 0
A14: 7 | B14: Önkormányzatok működési támogatásai (=01+...+06) (B11) | C14: =SUM(D14,E14,F14,G14) -> 262559598 | D14: =SUM(D8:D13) -> 262559598 | E14: =SUM(E8:E13) -> 0 | F14: =SUM(F8:F13) -> 0 | G14: =SUM(G8:G13) -> 0 | H14: =SUM(I14,J14,K14,L14) -> 288915697 | I14: =SUM(I8:I13) -> 288915697 | J14: =SUM(J8:J13) -> 0 | K14: =SUM(K8:K13) -> 0 | L14: =SUM(L8:L13) -> 0
A15: 8 | B15: Elvonások és befizetések bevételei (B12) | C15: =SUM(D15,E15,F15,G15) -> 0 | D15: 0 | E15: 0 | F15: 0 | G15: 0 | H15: =SUM(I15,J15,K15,L15) -> 0 | I15: 0 | J15: 0 | K15: 0 | L15: 0
A16: 9 | B16: Működési célú garancia- és kezességvállalásból származó megtérülések államháztartáson belülről (B13) | C16: =SUM(D16,E16,F16,G16) -> 0 | D16: 0 | E16: 0 | F16: 0 | G16: 0 | H16: =SUM(I16,J16,K16,L16) -> 0 | I16: 0 | J16: 0 | K16: 0 | L16: 0
A17: 10 | B17: Működési célú visszatérítendő támogatások, kölcsönök visszatérülése államháztartáson belülről (=11+...+20) (B14) | C17: =SUM(D17,E17,F17,G17) -> 0 | D17: =SUM(D18:D27) -> 0 | E17: =SUM(E18:E27) -> 0 | F17: =SUM(F18:F27) -> 0 | G17: =SUM(G18:G27) -> 0 | H17: =SUM(I17,J17,K17,L17) -> 0 | I17: =SUM(I18:I27) -> 0 | J17: =SUM(J18:J27) -> 0 | K17: =SUM(K18:K27) -> 0 | L17: =SUM(L18:L27) -> 0
A18: 11 | B18: ebből: központi költségvetési szervek (B14) | C18: =SUM(D18,E18,F18,G18) -> 0 | D18: 0 | E18: 0 | F18: 0 | G18: 0 | H18: =SUM(I18,J18,K18,L18) -> 0 | I18: 0 | J18: 0 | K18: 0 | L18: 0
A19: 12 | B19: ebből: központi kezelésű előirányzatok (B14) | C19: =SUM(D19,E19,F19,G19) -> 0 | D19: 0 | E19: 0 | F19: 0 | G19: 0 | H19: =SUM(I19,J19,K19,L19) -> 0 | I19: 0 | J19: 0 | K19: 0 | L19: 0
A20: 13 | B20: ebből: fejezeti kezelésű előirányzatok EU-s programokra és azok hazai társfinanszírozása (B14) | C20: =SUM(D20,E20,F20,G20) -> 0 | D20: 0 | E20: 0 | F20: 0 | G20: 0 | H20: =SUM(I20,J20,K20,L20) -> 0 | I20: 0 | J20: 0 | K20: 0 | L20: 0
A21: 14 | B21: ebből: egyéb fejezeti kezelésű előirányzatok (B14) | C21: =SUM(D21,E21,F21,G21) -> 0 | D21: 0 | E21: 0 | F21: 0 | G21: 0 | H21: =SUM(I21,J21,K21,L21) -> 0 | I21: 0 | J21: 0 | K21: 0 | L21: 0
A22: 15 | B22: ebből: társadalombiztosítás pénzügyi alapjai (B14) | C22: =SUM(D22,E22,F22,G22) -> 0 | D22: 0 | E22: 0 | F22: 0 | G22: 0 | H22: =SUM(I22,J22,K22,L22) -> 0 | I22: 0 | J22: 0 | K22: 0 | L22: 0
A23: 16 | B23: ebből: elkülönített állami pénzalapok (B14) | C23: =SUM(D23,E23,F23,G23) -> 0 | D23: 0 | E23: 0 | F23: 0 | G23: 0 | H23: =SUM(I23,J23,K23,L23) -> 0 | I23: 0 | J23: 0 | K23: 0 | L23: 0
A24: 17 | B24: ebből: helyi önkormányzatok és költségvetési szerveik (B14) | C24: =SUM(D24,E24,F24,G24) -> 0 | D24: 0 | E24: 0 | F24: 0 | G24: 0 | H24: =SUM(I24,J24,K24,L24) -> 0 | I24: 0 | J24: 0 | K24: 0 | L24: 0
A25: 18 | B25: ebből: társulások és költségvetési szerveik (B14) | C25: =SUM(D25,E25,F25,G25) -> 0 | D25: 0 | E25: 0 | F25: 0 | G25: 0 | H25: =SUM(I25,J25,K25,L25) -> 0 | I25: 0 | J25: 0 | K25: 0 | L25: 0
A26: 19 | B26: ebből: nemzetiségi önkormányzatok és költségvetési szerveik (B14) | C26: =SUM(D26,E26,F26,G26) -> 0 | D26: 0 | E26: 0 | F26: 0 | G26: 0 | H26: =SUM(I26,J26,K26,L26) -> 0 | I26: 0 | J26: 0 | K26: 0 | L26: 0
A27: 20 | B27: ebből: térségi fejlesztési tanácsok és költségvetési szerveik (B14) | C27: =SUM(D27,E27,F27,G27) -> 0 | D27: 0 | E27: 0 | F27: 0 | G27: 0 | H27: =SUM(I27,J27,K27,L27) -> 0 | I27: 0 | J27: 0 | K27: 0 | L27: 0
A28: 21 | B28: Működési célú visszatérítendő támogatások, kölcsönök igénybevétele államháztartáson belülről (=22+...+31) (B15) | C28: =SUM(D28,E28,F28,G28) -> 0 | D28: =SUM(D29:D38) -> 0 | E28: =SUM(E29:E38) -> 0 | F28: =SUM(F29:F38) -> 0 | G28: =SUM(G29:G38) -> 0 | H28: =SUM(I28,J28,K28,L28) -> 0 | I28: =SUM(I29:I38) -> 0 | J28: =SUM(J29:J38) -> 0 | K28: =SUM(K29:K38) -> 0 | L28: =SUM(L29:L38) -> 0
A29: 22 | B29: ebből: központi költségvetési szervek (B15) | C29: =SUM(D29,E29,F29,G29) -> 0 | D29: 0 | E29: 0 | F29: 0 | G29: 0 | H29: =SUM(I29,J29,K29,L29) -> 0 | I29: 0 | J29: 0 | K29: 0 | L29: 0
A30: 23 | B30: ebből: központi kezelésű előirányzatok (B15) | C30: =SUM(D30,E30,F30,G30) -> 0 | D30: 0 | E30: 0 | F30: 0 | G30: 0 | H30: =SUM(I30,J30,K30,L30) -> 0 | I30: 0 | J30: 0 | K30: 0 | L30: 0
A31: 24 | B31: ebből: fejezeti kezelésű előirányzatok EU-s programokra és azok hazai társfinanszírozása (B15) | C31: =SUM(D31,E31,F31,G31) -> 0 | D31: 0 | E31: 0 | F31: 0 | G31: 0 | H31: =SUM(I31,J31,K31,L31) -> 0 | I31: 0 | J31: 0 | K31: 0 | L31: 0
A32: 25 | B32: ebből: egyéb fejezeti kezelésű előirányzatok (B15) | C32: =SUM(D32,E32,F32,G32) -> 0 | D32: 0 | E32: 0 | F32: 0 | G32: 0 | H32: =SUM(I32,J32,K32,L32) -> 0 | I32: 0 | J32: 0 | K32: 0 | L32: 0
A33: 26 | B33: ebből: társadalombiztosítás pénzügyi alapjai (B15) | C33: =SUM(D33,E33,F33,G33) -> 0 | D33: 0 | E33: 0 | F33: 0 | G33: 0 | H33: =SUM(I33,J33,K33,L33) -> 0 | I33: 0 | J33: 0 | K33: 0 | L33: 0
A34: 27 | B34: ebből: elkülönített állami pénzalapok (B15) | C34: =SUM(D34,E34,F34,G34) -> 0 | D34: 0 | E34: 0 | F34: 0 | G34: 0 | H34: =SUM(I34,J34,K34,L34) -> 0 | I34: 0 | J34: 0 | K34: 0 | L34: 0
A35: 28 | B35: ebből: helyi önkormányzatok és költségvetési szerveik (B15) | C35: =SUM(D35,E35,F35,G35) -> 0 | D35: 0 | E35: 0 | F35: 0 | G35: 0 | H35: =SUM(I35,J35,K35,L35) -> 0 | I35: 0 | J35: 0 | K35: 0 | L35: 0
A36: 29 | B36: ebből: társulások és költségvetési szerveik (B15) | C36: =SUM(D36,E36,F36,G36) -> 0 | D36: 0 | E36: 0 | F36: 0 | G36: 0 | H36: =SUM(I36,J36,K36,L36) -> 0 | I36: 0 | J36: 0 | K36: 0 | L36: 0
A37: 30 | B37: ebből: nemzetiségi önkormányzatok és költségvetési szerveik (B15) | C37: =SUM(D37,E37,F37,G37) -> 0 | D37: 0 | E37: 0 | F37: 0 | G37: 0 | H37: =SUM(I37,J37,K37,L37) -> 0 | I37: 0 | J37: 0 | K37: 0 | L37: 0
A38: 31 | B38: ebből: térségi fejlesztési tanácsok és költségvetési szerveik (B15) | C38: =SUM(D38,E38,F38,G38) -> 0 | D38: 0 | E38: 0 | F38: 0 | G38: 0 | H38: =SUM(I38,J38,K38,L38) -> 0 | I38: 0 | J38: 0 | K38: 0 | L38: 0
A39: 32 | B39: Egyéb működési célú támogatások bevételei államháztartáson belülről (=33+...+42) (B16) | C39: =SUM(D39,E39,F39,G39) -> 137086800 | D39: =SUM(D40:D49) -> 129152800 | E39: =SUM(E40:E49) -> 7582000 | F39: =SUM(F40:F49) -> 0 | G39: =SUM(G40,G41,G42,G43,G44,G45,G46,G47,G48,G49) -> 352000 | H39: =SUM(I39,J39,K39,L39) -> 122388801 | I39: =SUM(I40:I49) -> 112984801 | J39: =SUM(J40:J49) -> 9052000 | K39: =SUM(K40:K49) -> 0 | L39: =SUM(L40,L41,L42,L43,L44,L45,L46,L47,L48,L49) -> 352000
A40: 33 | B40: ebből: központi költségvetési szervek (B16) | C40: =SUM(D40,E40,F40,G40) -> 0 | D40: 0 | E40: 0 | F40: 0 | G40: 0 | H40: =SUM(I40,J40,K40,L40) -> 0 | I40: 0 | J40: 0 | K40: 0 | L40: 0
A41: 34 | B41: ebből: központi kezelésű előirányzatok (B16) | C41: =SUM(D41,E41,F41,G41) -> 843000 | D41: 843000 | E41: 0 | F41: 0 | G41: 0 | H41: =SUM(I41,J41,K41,L41) -> 843000 | I41: 843000 | J41: 0 | K41: 0 | L41: 0
...

Sheet 3
A1: 3. melléklet Csabrendek Nagyközség Önkormányzata Képviselő-testületének 13/2019. (X.3.) rendeletéhez
A2: "3. melléklet Csabrendek Nagyközség Önkormányzata Képviselő-testületének 1/2019. (I. 28.) rendeletéhez"
A4: 2019. évi Finanszírozási kiadások
A5: 1 | B5: 2 | C5: 3 | D5: 4 | E5: 5 | F5: 6 | G5: 7 | H5: 3 | I5: 4 | J5: 5 | K5: 6 | L5: 7
C6: Eredeti előirányzat | H6: Módosított előirányzat
C7: Önkormányzat összesen | D7: Csabrendek Nagyközség Önkormányzata | E7: Csabrendeki Közös Önkormányzati Hivatal | F7: Mese-domb Óvoda és Bölcsőde | G7: KÖZSZER | H7: Önkormányzat összesen | I7: Csabrendek Nagyközség Önkormányzata | J7: Csabrendeki Közös Önkormányzati Hivatal | K7: Mese-domb Óvoda és Bölcsőde | L7: KÖZSZER
A8: 1 | B8: Hosszú lejáratú hitelek, kölcsönök törlesztése pénzügyi vállalkozásnak (>=02) (K9111) | C8: =SUM(D8:G8) -> 8000000 | D8: 8000000 | E8: 0 | F8: 0 | G8: 0 | H8: =SUM(I8:L8) -> 8000000 | I8: 8000000 | J8: 0 | K8: 0 | L8: 0
A9: 2 | B9: ebből: fedezeti ügyletek nettó kiadásai (K9111) | C9: =SUM(D9:G9) -> 0 | D9: ---- | H9: =SUM(I9:L9) -> 0 | I9: ----
A10: 3 | B10: Likviditási célú hitelek, kölcsönök törlesztése pénzügyi vállalkozásnak (K9112) | C10: =SUM(D10:G10) -> 0 | D10: 0 | H10: =SUM(I10:L10) -> 0 | I10: 0
A11: 4 | B11: Rövid lejáratú hitelek, kölcsönök törlesztése pénzügyi vállalkozásnak (>=05) (K9113) | C11: =SUM(D11:G11) -> 0 | D11: 0 | H11: =SUM(I11:L11) -> 0 | I11: 0
A12: 5 | B12: ebből: fedezeti ügyletek nettó kiadásai (K9113) | C12: =SUM(D12:G12) -> 0 | D12: ---- | H12: =SUM(I12:L12) -> 0 | I12: ----
A13: 6 | B13: Hitel-, kölcsöntörlesztés államháztartáson kívülre (=01+03+04) (K911) | C13: =SUM(D13:G13) -> 8000000 | D13: =D8+D10+D11 -> 8000000 | E13: =SUM(E8,E10,E11) -> 0 | F13: =SUM(F8,F10,F11) -> 0 | G13: =SUM(G8,G10,G11) -> 0 | H13: =SUM(I13:L13) -> 8000000 | I13: =I8+I10+I11 -> 8000000 | J13: =SUM(J8,J10,J11) -> 0 | K13: =SUM(K8,K10,K11) -> 0 | L13: =SUM(L8,L10,L11) -> 0
A14: 7 | B14: Forgatási célú belföldi értékpapírok vásárlása (>=08+09) (K9121) | C14: =SUM(D14:G14) -> 0 | D14: 0 | H14: =SUM(I14:L14) -> 0 | I14: 0
A15: 8 | B15: ebből: befektetési jegyek (K9121) | C15: =SUM(D15:G15) -> 0 | D15: ---- | H15: =SUM(I15:L15) -> 0 | I15: ----
A16: 9 | B16: ebből: kárpótlási jegyek (K9121) | C16: =SUM(D16:G16) -> 0 | D16: ---- | H16: =SUM(I16:L16) -> 0 | I16: ----
A17: 10 | B17: Befektetési célú belföldi értékpapírok vásárlása (K9122) | C17: =SUM(D17:G17) -> 0 | D17: 0 | H17: =SUM(I17:L17) -> 0 | I17: 0
A18: 11 | B18: Kincstárjegyek beváltása (K9123) | C18: =SUM(D18:G18) -> 0 | D18: 0 | H18: =SUM(I18:L18) -> 0 | I18: 0
A19: 12 | B19: Éven belüli lejáratú belföldi értékpapírok beváltása (>=13+14+15) (K9124) | C19: =SUM(D19:G19) -> 0 | D19: 0 | H19: =SUM(I19:L19) -> 0 | I19: 0
A20: 13 | B20: ebből: fedezeti ügyletek nettó kiadásai (K9124) | C20: =SUM(D20:G20) -> 0 | D20: ---- | H20: =SUM(I20:L20) -> 0 | I20: ----
A21: 14 | B21: ebből: befektetési jegyek (K9124) | C21: =SUM(D21:G21) -> 0 | D21: ---- | H21: =SUM(I21:L21) -> 0 | I21: ----
A22: 15 | B22: ebből: kárpótlási jegyek (K9124) | C22: =SUM(D22:G22) -> 0 | D22: ---- | H22: =SUM(I22:L22) -> 0 | I22: ----
A23: 16 | B23: Belföldi kötvények beváltása (K9125) | C23: =SUM(D23:G23) -> 0 | D23: 0 | H23: =SUM(I23:L23) -> 0 | I23: 0
A24: 17 | B24: Éven túli lejáratú belföldi értékpapírok beváltása (>=18) (K9126) | C24: =SUM(D24:G24) -> 0 | D24: 0 | H24: =SUM(I24:L24) -> 0 | I24: 0
A25: 18 | B25: ebből: fedezeti ügyletek nettó kiadásai (K9126) | C25: =SUM(D25:G25) -> 0 | D25: ---- | H25: =SUM(I25:L25) -> 0 | I25: ----
A26: 19 | B26: Belföldi értékpapírok kiadásai (=07+10+11+12+16+17) (K912) | C26: =SUM(D26:G26) -> 0 | D26: =D14+D17+D18+D19+D23+D24 -> 0 | H26: =SUM(I26:L26) -> 0 | I26: =I14+I17+I18+I19+I23+I24 -> 0
A27: 20 | B27: Államháztartáson belüli megelőlegezések folyósítása (K913) | C27: =SUM(D27:G27) -> 0 | D27: 0 | H27: =SUM(I27:L27) -> 0 | I27: 0
A28: 21 | B28: Államháztartáson belüli megelőlegezések visszafizetése (K914) | C28: =SUM(D28:G28) -> 20000000 | D28: 20000000 | E28: 0 | F28: 0 | G28: 0 | H28: =SUM(I28:L28) -> 20000000 | I28: 20000000 | J28: 0 | K28: 0 | L28: 0
A29: 22 | B29: Központi, irányító szervi támogatások folyósítása (K915) | C29: =SUM(D29:G29) -> 218602898 | D29: 218602898 | E29: 0 | F29: 0 | G29: 0 | H29: =SUM(I29:L29) -> 223280898 | I29: 223280898 | J29: 0 | K29: 0 | L29: 0
A30: 23 | B30: Pénzeszközök lekötött bankbetétként elhelyezése (K916) | C30: =SUM(D30:G30) -> 0 | D30: 0 | H30: =SUM(I30:L30) -> 0 | I30: 0
A31: 24 | B31: Pénzügyi lízing kiadásai (K917) | C31: =SUM(D31:G31) -> 0 | D31: 0 | H31: =SUM(I31:L31) -> 0 | I31: 0
A32: 25 | B32: Központi költségvetés sajátos finanszírozási kiadásai (K918) | C32: =SUM(D32:G32) -> 0 | D32: 0 | H32: =SUM(I32:L32) -> 0 | I32: 0
A33: 26 | B33: Hosszú lejáratú tulajdonosi kölcsönök kiadásai (K9191) | C33: =SUM(D33:G33) -> 0 | D33: 0 | H33: =SUM(I33:L33) -> 0 | I33: 0
A34: 27 | B34: Rövid lejáratú tulajdonosi kölcsönök kiadásai (K9192) | C34: =SUM(D34:G34) -> 0 | D34: 0 | H34: =SUM(I34:L34) -> 0 | I34: 0
A35: 28 | B35: Tulajdonosi kölcsönök kiadásai (=26+27) (K919) | C35: =SUM(D35:G35) -> 0 | D35: =SUM(D33:D34) -> 0 | H35: =SUM(I35:L35) -> 0 | I35: =SUM(I33:I34) -> 0
A36: 29 | B36: Belföldi finanszírozás kiadásai (=06+19+...+25+28) (K91) | C36: =SUM(D36:G36) -> 246602898 | D36: =D13+D26+D27+D28+D29+D30+D31+D32+D35 -> 246602898 | E36: =E13+E26+E27+E28+E29+E30+E31+E32+E35 -> 0 | F36: =F13+F26+F27+F28+F29+F30+F31+F32+F35 -> 0 | G36: =G13+G26+G27+G28+G29+G30+G31+G32+G35 -> 0 | H36: =SUM(I36:L36) -> 251280898 | I36: =I13+I26+I27+I28+I29+I30+I31+I32+I35 -> 251280898 | J36: =J13+J26+J27+J28+J29+J30+J31+J32+J35 -> 0 | K36: =K13+K26+K27+K28+K29+K30+K31+K32+K35 -> 0 | L36: =L13+L26+L27+L28+L29+L30+L31+L32+L35 -> 0
A37: 30 | B37: Forgatási célú külföldi értékpapírok vásárlása (K921) | C37: =SUM(D37:G37) -> 0 | D37: 0 | E37: 0 | F37: 0 | G37: 0 | H37: =SUM(I37:L37) -> 0 | I37: 0 | J37: 0 | K37: 0 | L37: 0
A38: 31 | B38: Befektetési célú külföldi értékpapírok vásárlása (K922) | C38: =SUM(D38:G38) -> 0 | D38: 0 | E38: 0 | F38: 0 | G38: 0 | H38: =SUM(I38:L38) -> 0 | I38: 0 | J38: 0 | K38: 0 | L38: 0
A39: 32 | B39: Külföldi értékpapírok beváltása (>=33) (K923) | C39: =SUM(D39:G39) -> 0 | D39: 0 | E39: 0 | F39: 0 | G39: 0 | H39: =SUM(I39:L39) -> 0 | I39: 0 | J39: 0 | K39: 0 | L39: 0
A40: 33 | B40: ebből: fedezeti ügyletek nettó kiadásai (K923) | C40: =SUM(D40:G40) -> 0 | D40: 0 | E40: 0 | F40: 0 | G40: 0 | H40: =SUM(I40:L40) -> 0 | I40: 0 | J40: 0 | K40: 0 | L40: 0
A41: 34 | B41: Hitelek, kölcsönök törlesztése külföldi kormányoknak és nemzetközi szervezeteknek (K924) | C41: =SUM(D41:G41) -> 0 | D41: 0 | E41: 0 | F41: 0 | G41: 0 | H41: =SUM(I41:L41) -> 0 | I41: 0 | J41: 0 | K41: 0 | L41: 0
...

Sheet 4
A1: 4. melléklet Csabrendek Nagyközség Önkormányzata Képviselő-testületének 13/2019. (X.3.) rendeletéhez
A2: "4. melléklet Csabrendek Nagyközség Önkormányzata Képviselő-testületének 1/2019. (I. 28.) rendeletéhez"
A4: 2019. évi Finanszírozási bevételek
A5: 1 | B5: 2 | C5: 3 | D5: 4 | E5: 5 | F5: 6 | G5: 7 | H5: 3 | I5: 4 | J5: 5 | K5: 6 | L5: 7
C6: Eredeti előirányzat | H6: Módosított előirányzat
C7: Önkormányzat összesen | D7: Csabrendek Nagyközség Önkormányzata | E7: Csabrendeki Közös Önkormányzati Hivatal | F7: Mese-domb Óvoda és Bölcsőde | G7: KÖZSZER | H7: Önkormányzat összesen | I7: Csabrendek Nagyközség Önkormányzata | J7: Csabrendeki Közös Önkormányzati Hivatal | K7: Mese-domb Óvoda és Bölcsőde | L7: KÖZSZER
A8: 1 | B8: Hosszú lejáratú hitelek, kölcsönök felvétele pénzügyi vállalkozástól (B8111) | C8: =SUM(D8:G8) -> 21745000 | D8: 21745000 | E8: 0 | F8: 0 | G8: 0 | H8: =SUM(I8:L8) -> 21745000 | I8: 21745000 | J8: 0 | K8: 0 | L8: 0
A9: 2 | B9: Likviditási célú hitelek, kölcsönök felvétele pénzügyi vállalkozástól (B8112) | C9: =SUM(D9:G9) -> 0 | D9: 0 | E9: 0 | F9: 0 | G9: 0 | H9: =SUM(I9:L9) -> 0 | I9: 0 | J9: 0 | K9: 0 | L9: 0
A10: 3 | B10: Rövid lejáratú hitelek, kölcsönök felvétele pénzügyi vállalkozástól (B8113) | C10: =SUM(D10:G10) -> 0 | D10: 0 | E10: 0 | F10: 0 | G10: 0 | H10: =SUM(I10:L10) -> 0 | I10: 0 | J10: 0 | K10: 0 | L10: 0
A11: 4 | B11: Hitel-, kölcsönfelvétel pénzügyi vállalkozástól (=01+02+03) (B811) | C11: =SUM(D11:G11) -> 21745000 | D11: =SUM(D8:D10) -> 21745000 | E11: 0 | F11: 0 | G11: 0 | H11: =SUM(I11:L11) -> 21745000 | I11: =SUM(I8:I10) -> 21745000 | J11: 0 | K11: 0 | L11: 0
A12: 5 | B12: Forgatási célú belföldi értékpapírok beváltása, értékesítése (>=06+07) (B8121) | C12: =SUM(D12:G12) -> 0 | D12: =SUM(D13:D14) -> 0 | E12: =SUM(E13:E14) -> 0 | F12: 0 | G12: 0 | H12: =SUM(I12:L12) -> 0 | I12: =SUM(I13:I14) -> 0 | J12: =SUM(J13:J14) -> 0 | K12: 0 | L12: 0
A13: 6 | B13: ebből: befektetési jegyek (B8121) | C13: =SUM(D13:G13) -> 0 | D13: ---- | E13: ---- | F13: 0 | G13: 0 | H13: =SUM(I13:L13) -> 0 | I13: ---- | J13: ---- | K13: 0 | L13: 0
A14: 7 | B14: ebből: kárpótlási jegyek (B8121) | C14: =SUM(D14:G14) -> 0 | D14: ---- | E14: ---- | F14: 0 | G14: 0 | H14: =SUM(I14:L14) -> 0 | I14: ---- | J14: ---- | K14: 0 | L14: 0
A15: 8 | B15: Éven belüli lejáratú belföldi értékpapírok kibocsátása (B8122) | C15: =SUM(D15:G15) -> 0 | D15: 0 | E15: 0 | F15: 0 | G15: 0 | H15: =SUM(I15:L15) -> 0 | I15: 0 | J15: 0 | K15: 0 | L15: 0
A16: 9 | B16: Befektetési célú belföldi értékpapírok beváltása, értékesítése (B8123) | C16: =SUM(D16:G16) -> 0 | D16: 0 | E16: 0 | F16: 0 | G16: 0 | H16: =SUM(I16:L16) -> 0 | I16: 0 | J16: 0 | K16: 0 | L16: 0
A17: 10 | B17: Éven túli lejáratú belföldi értékpapírok kibocsátása (B8124) | C17: =SUM(D17:G17) -> 0 | D17: 0 | E17: 0 | F17: 0 | G17: 0 | H17: =SUM(I17:L17) -> 0 | I17: 0 | J17: 0 | K17: 0 | L17: 0
A18: 11 | B18: Belföldi értékpapírok bevételei (=05+08+09+10) (B812) | C18: =SUM(D18:G18) -> 0 | D18: =SUM(D12,D15,D16,D17) -> 0 | E18: =SUM(E12,E15,E16,E17) -> 0 | F18: 0 | G18: 0 | H18: =SUM(I18:L18) -> 0 | I18: =SUM(I12,I15,I16,I17) -> 0 | J18: =SUM(J12,J15,J16,J17) -> 0 | K18: 0 | L18: 0
A19: 12 | B19: Előző év költségvetési maradványának igénybevétele (B8131) | C19: =SUM(D19:G19) -> 188308118 | D19: 186726016 | E19: 658972 | F19: 494832 | G19: 428298 | H19: =SUM(I19:L19) -> 188308118 | I19: 186726016 | J19: 658972 | K19: 494832 | L19: 428298
A20: 13 | B20: Előző év vállalkozási maradványának igénybevétele (B8132) | C20: =SUM(D20:G20) -> 0 | D20: 0 | E20: 0 | F20: 0 | G20: 0 | H20: =SUM(I20:L20) -> 0 | I20: 0 | J20: 0 | K20: 0 | L20: 0
A21: 14 | B21: Maradvány igénybevétele (=12+13) (B813) | C21: =SUM(D21:G21) -> 188308118 | D21: =SUM(D19:D20) -> 186726016 | E21: =SUM(E19:E20) -> 658972 | F21: =SUM(F19:F20) -> 494832 | G21: =SUM(G19,G20) -> 428298 | H21: =SUM(I21:L21) -> 188308118 | I21: =SUM(I19:I20) -> 186726016 | J21: =SUM(J19:J20) -> 658972 | K21: =SUM(K19:K20) -> 494832 | L21: =SUM(L19,L20) -> 428298
A22: 15 | B22: Államháztartáson belüli megelőlegezések (B814) | C22: =SUM(D22:G22) -> 20000000 | D22: 20000000 | E22: 0 | F22: 0 | G22: 0 | H22: =SUM(I22:L22) -> 20000000 | I22: 20000000 | J22: 0 | K22: 0 | L22: 0
A23: 16 | B23: Államháztartáson belüli megelőlegezések törlesztése (B815) | C23: =SUM(D23:G23) -> 0 | D23: 0 | E23: 0 | F23: 0 | G23: 0 | H23: =SUM(I23:L23) -> 0 | I23: 0 | J23: ---- | K23: 0 | L23: 0
A24: 17 | B24: Központi, irányító szervi támogatás (B816) | C24: =SUM(D24:G24) -> 218602898 | D24: 0 | E24: 78797028 | F24: 68314168 | G24: 71491702 | H24: =SUM(I24:L24) -> 223280898 | I24: 0 | J24: 80002028 | K24: 69512168 | L24: 73766702
A25: 18 | B25: Lekötött bankbetétek megszüntetése (B817) | C25: =SUM(D25:G25) -> 0 | D25: 0 | E25: 0 | F25: 0 | G25: 0 | H25: =SUM(I25:L25) -> 0 | I25: 0 | J25: 0 | K25: 0 | L25: 0
A26: 19 | B26: Központi költségvetés sajátos finanszírozási bevételei (B818) | C26: =SUM(D26:G26) -> 0 | D26: 0 | E26: 0 | F26: 0 | G26: 0 | H26: =SUM(I26:L26) -> 0 | I26: 0 | J26: 0 | K26: 0 | L26: 0
A27: 20 | B27: Hosszú lejáratú tulajdonosi kölcsönök bevételei (B8191) | C27: =SUM(D27:G27) -> 0 | D27: 0 | E27: 0 | F27: 0 | G27: 0 | H27: =SUM(I27:L27) -> 0 | I27: 0 | J27: 0 | K27: 0 | L27: 0
A28: 21 | B28: Rövid lejáratú tulajdonosi kölcsönök bevételei (B8192) | C28: =SUM(D28:G28) -> 0 | D28: 0 | E28: 0 | F28: 0 | G28: 0 | H28: =SUM(I28:L28) -> 0 | I28: 0 | J28: 0 | K28: 0 | L28: 0
A29: 22 | B29: Tulajdonosi kölcsönök bevételei (=20+21) (B819) | C29: =SUM(D29:G29) -> 0 | D29: =SUM(D27:D28) -> 0 | E29: =SUM(E27:E28) -> 0 | F29: =SUM(F27:F28) -> 0 | G29: =SUM(G27:G28) -> 0 | H29: =SUM(I29:L29) -> 0 | I29: =SUM(I27:I28) -> 0 | J29: =SUM(J27:J28) -> 0 | K29: =SUM(K27:K28) -> 0 | L29: =SUM(L27:L28) -> 0
A30: 23 | B30: Belföldi finanszírozás bevételei (=04+11+14+...+19+22) (B81) | C30: =SUM(D30:G30) -> 448656016 | D30: =D11+D18+D21+D22+D23+D24+D25+D26+D29 -> 228471016 | E30: 79456000 | F30: =SUM(F11,F18,F21,F22,F23,F24,F25,F26,F29) -> 68809000 | G30: =SUM(G11,G18,G21,G22,G23,G24,G25,G26,G29) -> 71920000 | H30: =SUM(I30:L30) -> 453334016 | I30: =I11+I18+I21+I22+I23+I24+I25+I26+I29 -> 228471016 | J30: =SUM(J11,J18,J21,J22,J23,J24,J25,J26,J29) -> 80661000 | K30: =SUM(K11,K18,K21,K22,K23,K24,K25,K26,K29) -> 70007000 | L30: =SUM(L11,L18,L21,L22,L23,L24,L25,L26,L29) -> 74195000
A31: 24 | B31: Forgatási célú külföldi értékpapírok beváltása, értékesítése (B821) | C31: =SUM(D31:G31) -> 0 | D31: 0 | E31: 0 | F31: 0 | G31: 0 | H31: =SUM(I31:L31) -> 0 | I31: 0 | J31: 0 | K31: 0 | L31: 0
A32: 25 | B32: Befektetési célú külföldi értékpapírok beváltása, értékesítése (B822) | C32: =SUM(D32:G32) -> 0 | D32: 0 | E32: 0 | F32: 0 | G32: 0 | H32: =SUM(I32:L32) -> 0 | I32: 0 | J32: 0 | K32: 0 | L32: 0
A33: 26 | B33: Külföldi értékpapírok kibocsátása (B823) | C33: =SUM(D33:G33) -> 0 | D33: 0 | E33: 0 | F33: 0 | G33: 0 | H33: =SUM(I33:L33) -> 0 | I33: 0 | J33: 0 | K33: 0 | L33: 0
A34: 27 | B34: Hitelek, kölcsönök felvétele külföldi kormányoktól és nemzetközi szervezetektől (B824) | C34: =SUM(D34:G34) -> 0 | D34: 0 | E34: 0 | F34: 0 | G34: 0 | H34: =SUM(I34:L34) -> 0 | I34: 0 | J34: 0 | K34: 0 | L34: 0
A35: 28 | B35: Hitelek, kölcsönök felvétele külföldi pénzintézetektől (B825) | C35: =SUM(D35:G35) -> 0 | D35: 0 | E35: 0 | F35: 0 | G35: 0 | H35: =SUM(I35:L35) -> 0 | I35: 0 | J35: 0 | K35: 0 | L35: 0
A36: 29 | B36: Külföldi finanszírozás bevételei (=24+...+28) (B82) | C36: =SUM(D36:G36) -> 0 | D36: =SUM(D31:D35) -> 0 | E36: =SUM(E31:E35) -> 0 | F36: =SUM(F31:F35) -> 0 | G36: =SUM(G31:G35) -> 0 | H36: =SUM(I36:L36) -> 0 | I36: =SUM(I31:I35) -> 0 | J36: =SUM(J31:J35) -> 0 | K36: =SUM(K31:K35) -> 0 | L36: =SUM(L31:L35) -> 0
A37: 30 | B37: Adóssághoz nem kapcsolódó származékos ügyletek bevételei (B83) | C37: =SUM(D37:G37) -> 0 | D37: 0 | E37: 0 | F37: 0 | G37: 0 | H37: =SUM(I37:L37) -> 0 | I37: 0 | J37: 0 | K37: 0 | L37: 0
A38: 31 | B38: Váltóbevételek (B84) | C38: =SUM(D38:G38) -> 0 | D38: 0 | E38: 0 | F38: 0 | G38: 0 | H38: =SUM(I38:L38) -> 0 | I38: 0 | J38: 0 | K38: 0 | L38: 0
A39: 32 | B39: Finanszírozási bevételek (=23+29+30+31) (B8) | C39: =SUM(D39:G39) -> 448656016 | D39: =SUM(D37:D38,D30,D36) -> 228471016 | E39: =SUM(E37:E38,E30,E36) -> 79456000 | F39: =SUM(F30,F36,F37,F38) -> 68809000 | G39: =SUM(G30,G36,G37,G38) -> 71920000 | H39: =SUM(I39:L39) -> 453334016 | I39: =SUM(I37:I38,I30,I36) -> 228471016 | J39: =SUM(J37:J38,J30,J36) -> 80661000 | K39: =SUM(K30,K36,K37,K38) -> 70007000 | L39: =SUM(L30,L36,L37,L38) -> 74195000

Sheet 5
A1: 5. melléklet
A2: Csabrendek Nagyközség Önkormányzata Képviselő-testületének 13/2019. (X.3.) rendeletéhez
A3: "5 melléklet
A4: Csabrendek Nagyközség Önkormányzata Képviselő-testületének 1/2019. (I. 28.) rendeletéhez"
A5: 2019. évi költségvetési mérlege
A6: E: | B6: Eredeti előirányzat | O6: adatok forintban
A7: M: | B7: Módosított előirányzat
A8: T | B8: Teljesítés
B10: A | C10: B | E10: C | F10: D | G10: E | H10: F | I10: G | J10: H | L10: I | M10: J | N10: K | O10: L
B11: Előir. csop név és szám | C11: Kiemelt előírányzatok név és szám | F11: Kötelező feladatok | G11: Önként vállalt feladatok | I11: Előir. csop név és szám | J11: Kiemelt előírányzatok név és szám | M11: Kötelező feladatok | N11: Önként vállalt feladatok
A12: 1 | B12: 1. Működési bevételek | E12: E | F12: =SUM(F24,F21,F15,F18,F27) -> 498176398 | G12: =SUM(G24,G21,G15,G18,G27) -> 0 | H12: =SUM(H24,H21,H15,H18,H27) -> 498176398 | I12: 6. Működési kiadások | L12: E | M12: =SUM(M15,M18,M21,M24,M27) -> 544586500 | N12: =SUM(N15,N18,N21,N24,N27) -> 0 | O12: =SUM(O15,O18,O21,O24,O27) -> 544586500
E13: M | F13: =SUM(F25,F22,F16,F19,F28) -> 533481184 | G13: =SUM(G25,G22,G16,G19,G28) -> 0 | H13: =SUM(H25,H22,H16,H19,H28) -> 533481184 | L13: M | M13: =SUM(M16,M19,M22,M25,M28) -> 579947654 | N13: =SUM(N16,N19,N22,N25,N28) -> 0 | O13: =SUM(O16,O19,O22,O25,O28) -> 579947654
E14: T | L14: T
A15: 2 | C15: B11 | D15: Önkormányzatok működési támogatásai | E15: E | F15: =H15-G15 -> 262559598 | H15: ='2'!C14 -> 262559598 | J15: K1 | K15: Személyi juttatások | L15: E | M15: =O15-N15 -> 235783000 | O15: ='1'!C27 -> 235783000
E16: M | F16: =H16-G16 -> 288915697 | H16: ='2'!I14 -> 288915697 | L16: M | M16: =O16-N16 -> 239701000 | O16: ='1'!H27 -> 239701000
E17: T | L17: T
A18: 3 | C18: B16 | D18: Egyéb működési célú támogatások bevételei államháztartáson belülről | E18: E | F18: =H18-G18 -> 137086800 | H18: ='2'!C39 -> 137086800 | J18: K2 | K18: Munkaadókat terhelő járulékok és szociális hozzájárulási adó | L18: E | M18: =O18-N18 -> 41871700 | O18: ='1'!C28 -> 41871700
E19: M | F19: =H19-G19 -> 122388801 | H19: ='2'!H39 -> 122388801 | L19: M | M19: =O19-N19 -> 42332700 | O19: ='1'!H28 -> 42332700
E20: T | L20: T
A21: 4 | C21: B3-B34 | D21: Közhatalmi bevételek | E21: E | F21: =H21-G21 -> 40550000 | H21: ='2'!C191-'2'!C115 -> 40550000 | J21: K3 | K21: Dologi kiadások | L21: E | M21: =O21-N21 -> 177227000 | O21: ='1'!C67 -> 177227000
E22: M | F22: =H22-G22 -> 40550000 | H22: ='2'!H191-'2'!H115 -> 40550000 | L22: M | M22: =O22-N22 -> 197467941 | O22: ='1'!H67 -> 197467941
E23: T | L23: T
A24: 5 | C24: B4 | D24: Működési bevételek | E24: E | F24: =H24-G24 -> 57896000 | H24: ='2'!C227 -> 57896000 | J24: K4 | K24: Ellátottak pénzbeni juttatásai | L24: E | M24: =O24-N24 -> 8443000 | O24: ='1'!C126 -> 8443000
E25: M | F25: =H25-G25 -> 76873791 | H25: ='2'!H227 -> 76873791 | L25: M | M25: =O25-N25 -> 8443000 | O25: ='1'!H126 -> 8443000
E26: T | F26: =H26-G26 -> 0 | L26: T
A27: 6 | C27: B6 | D27: Működési célú átvett pénzeszközök | E27: E | F27: =H27-G27 -> 84000 | H27: ='2'!C262 -> 84000 | J27: K5-K513 | K27: Egyébb működési célú kiadások | L27: E | M27: =O27-N27 -> 81261800 | O27: ='1'!C196-'1'!C195 -> 81261800
E28: M | F28: =H28-G28 -> 4752895 | H28: ='2'!H262 -> 4752895 | L28: M | M28: =O28-N28 -> 92003013 | O28: ='1'!H196-'1'!H195 -> 92003013
E29: T | L29: T
A30: 7 | B30: 2. Felhalmozási bevételek | E30: E | F30: =SUM(F36,F33,F39,F42,F45) -> 130215000 | G30: =SUM(G36,G33,G39,G42,G45) -> 0 | H30: =SUM(H36,H33,H39,H42,H45) -> 130215000 | I30: 7. Felhalmozási célú kiadások | L30: E | M30: =SUM(,M33,M36,M39) -> 251501626 | N30: =SUM(,N33,N36,N39) -> 0 | O30: =SUM(,O33,O36,O39) -> 251501626
E31: M | F31: =SUM(F37,F34,F40,F43,F46) -> 477025184 | G31: =SUM(G37,G34,G40,G43,G46) -> 0 | H31: =SUM(H37,H34,H40,H43,H46) -> 477025184 | L31: M | M31: =SUM(,M34,M37,M40) -> 324151038 | N31: =SUM(,N34,N37,N40) -> 0 | O31: =SUM(,O34,O37,O40) -> 324151038
E32: T | L32: T
A33: 8 | C33: B21 | D33: Önkormányzatok felhalmozási támogatásai | E33: E | F33: =H33-G33 -> 0 | H33: ='2'!C51 -> 0 | J33: K6 | K33: Felhalmozási költségvetés beruházások | L33: E | M33: =O33-N33 -> 23973941 | O33: ='1'!C205 -> 23973941
E34: M | F34: =H34-G34 -> 0 | H34: ='2'!C51 -> 0 | L34: M | M34: =O34-N34 -> 97226353 | O34: ='1'!H205 -> 97226353
E35: T | L35: T
A36: 9 | C36: B2-B21 | D36: Egyéb felhalmozási célú támogatások bevételei államháztartáson belülről | E36: E | F36: =H36-G36 -> 73090000 | H36: ='2'!C75 -> 73090000 | J36: K7 | K36: Felújítások | L36: E | M36: =O36-N36 -> 227464685 | O36: ='1'!C210 -> 227464685
E37: M | F37: =H37-G37 -> 417614184 | H37: ='2'!H75 -> 417614184 | L37: M | M37: =O37-N37 -> 223364685 | O37: ='1'!H210 -> 223364685
E38: T | L38: T
A39: 10 | C39: B34 | D39: Közhatalmi bevételek | E39: E | F39: =H39-G39 -> 22750000 | H39: ='2'!C115 -> 22750000 | J39: K8 | K39: Egyéb felhalmozási kiadások | L39: E | M39: =O39-N39 -> 63000 | O39: ='1'!C272 -> 63000
E40: M | F40: =H40-G40 -> 22750000 | H40: ='2'!H115 -> 22750000 | L40: M | M40: =O40-N40 -> 3560000 | O40: ='1'!H272 -> 3560000
E41: T | L41: T
...

Sheet 6
A1: 6. melléklet
A2: Csabrendek Nagyközség Önkormányzata Képviselő-testületének 13/2019. (X.3.) rendeletéhez
A3: "6. melléklet
A4: Csabrendek Nagyközség Önkormányzata Képviselő-testületének 1/2019. (1.28.) rendeletéhez"
A5: Önkormányzatok működési támogatásai kiemelt előirányzat részletezése
A6: E: | B6: Eredeti előirányzat | L6: adatok forintban
A7: M: | B7: Módosított előírányzat
A8: T: | B8: Teljesítés
B10: A | C10: B | D10: C | L10: D | M10: E
B11: Cím név és szám | C11: Kiemelt előirányzat név és szám | D11: Jogcím csoport, jogcím név és szám | L11: 2019. évi eredeti előirányzat | M11: 2019. évi módosított előirányzat
A14: 1 | B14: 1 ÖNKORMÁNYZAT ÖSSZESEN | L14: =L15 -> 2.625596e+08 | M14: =M15 -> 2.889157e+08
A15: 2 | C15: Önkormányzatok működési támogatásai | L15: =SUM(L16,L43,L52,L84,L92,L101) -> 2.625596e+08 | M15: =SUM(M16,M43,M52,M84,M92,M101) -> 2.889157e+08
A16: 3 | D16: 1 | E16: A helyi önkormányzatok működésének általános támogatása | L16: =SUM(L39,L17,L37,L41) -> 1.1990856e+08 | M16: =SUM(M39,M17,M37,M41) -> 1.2239255e+08
A17: 4 | E17: 1 | F17: A települési önkormányzatok működésének támogatása | L17: =SUM(L18,L20,L29,,L31,L33,L35) -> 1.1893616e+08 | M17: =SUM(M18,M20,M29,,M31,M33,M35) -> 1.1893616e+08
A18: 5 | F18: 1 | G18: Önkormányzati hivatal működésének támogatása | L18: =J19 -> 52670000 | M18: =K19 -> 52670000
G19: 11,5 fő x 4 580 000 Ft | J19: =11.5*4580000 -> 52670000 | K19: =11.5*4580000 -> 52670000
A20: 6 | F20: 2 | G20: Település-üzemeltetéshez kapcsolódó feladatellátás támogatása | L20: =SUM(L21,L23,L27,L25) -> 19460480 | M20: =SUM(M21,M23,M27,M25) -> 19460480
A21: 7 | G21: 1 | H21: A zöldterület-gazdálkodással kapcsolatos feladatok ellátásának támogatása | L21: =J22 -> 6076750 | M21: =K22 -> 6076750
H22: 272,5 ha x 22 300 Ft/ha | J22: =272.5*22300 -> 6076750 | K22: =272.5*22300 -> 6076750
A23: 8 | G23: 2 | H23: Közvilágítás fenntartásának támogatása | L23: =J24 -> 7168000 | M23: =K24 -> 7168000
H24: 22,4 km x 320 000 Ft/km | J24: =22.4*320000 -> 7168000 | K24: =22.4*320000 -> 7168000
A25: 9 | G25: 3 | H25: Köztemető fenntartással kapcsolatos feladatok támogatása | L25: =J26 -> 488520 | M25: =K26 -> 488520
H26: 7 080 m2 x 69 ft/m2 | J26: =7080*69 -> 488520 | K26: =7080*69 -> 488520
A27: 10 | G27: 4 | H27: Közutak fenntartásának támogatása | L27: =J28 -> 5727210 | M27: =K28 -> 5727210
H28: 25,23 km x 227 000 Ft/km | J28: =25.23*227000 -> 5727210 | K28: =25.23*227000 -> 5727210
A29: 11 | F29: 3 | G29: Egyéb önkormányzati feladatok támogatása | L29: =J30 -> 8259300 | M29: =K30 -> 8259300
G30: 3 059 fő x 2 700 Ft/fő | J30: =3059*2700 -> 8259300 | K30: =3059*2700 -> 8259300
A31: 12 | F31: 4 | G31: Lakott külterülettel kapcsolatos támogatás | L31: =J32 -> 1415250 | M31: =K32 -> 1415250
G32: 555 fő x 2 550 Ft/fő | J32: =555*2550 -> 1415250 | K32: =555*2550 -> 1415250
A33: 13 | F33: 5 | G33: Üdülőhelyi feladatok támogatása | L33: =J34 -> 119700 | M33: =K34 -> 119700
G34: 119 700 Ft x 1 Ft | J34: =119700*1 -> 119700 | K34: =119700*1 -> 119700
A35: 14 | F35: 6 | G35: Beszámítás kiegészítés | L35: =J36 -> 37011428 | M35: =K36 -> 37011428
J36: =0.451773573*SUM(J19,J22,J24,J26,J28,J30,J32,J34) -> 37011428 | K36: =0.451773573*SUM(K19,K22,K24,K26,K28,K30,K32,K34) -> 37011428
A37: 15 | E37: 2 | F37: Polgármesteri illetmény támogatása | L37: =J38 -> 972400 | M37: =K38 -> 972400
J38: 972400 | K38: 972400
A39: 16 | E39: 3 | F39: Bérkompenzáció támogatása | L39: =J40 -> 0 | M39: =K40 -> 313993
J40: 0 | K40: 313993
A41: 17 | E41: 4 | F41: A minimálbér és a garantált bérminimum emelésével kapcsolatos intézkedések | L41: =J42 -> 0 | M41: =K42 -> 2170000
J42: 0 | K42: 2170000
A43: 18 | D43: 2 | E43: A települési önkormányzatok egyes köznevelési feladatainak támogatása | L43: =SUM(L44,L48,L50) -> 57386666 | M43: =SUM(M44,M48,M50) -> 58361666
...

Sheet 7
A1: 7. melléklet
A2: Csabrendek Nagyközség Önkormányzata Képviselő-testületének 13/2019. (X.3.) rendeletéhez
B3: "7. melléklet
A4: Csabrendek Nagyközség Önkormányzata Képviselő-testületének 1/2019. (I. 28.) rendeletéhez" | B4: Csabrendek Nagyközség Önkormányzata Képviselő-testületének ……./2017. (…....) rendeletéhez"
A5: 2019.évi költségvetés Fejlesztési Kiadások
A7: M: | B7: Módosított előirányzat | F7: adatok forintban
A9: 1 | B9: 2 | C9: 3 | D9: 4 | E9: 5 | F9: 6
B10: megnevezés | C10: Immateriális javak | D10: Tárgyi eszköz beszerzés | E10: Felújítás | F10: összes kiadás
A11: 1 | B11: Óvoda bővítés | D11: 4100000 | E11: 119588685 | F11: =SUM(C11:E11) -> 123688685
A12: 2 | B12: Egészségház felújítástárgyi eszköz | D12: 150000 | E12: 991000 | F12: =SUM(C12:E12) -> 1141000
A13: 3 | B13: Bel-és csapadékvíz elvezetés | E13: 2748000 | F13: =SUM(C13:E13) -> 2748000
A14: 4 | B14: Belterületi utak | E14: 59435000 | F14: =SUM(C14:E14) -> 59435000
A15: 5 | B15: Belterületi utak | E15: 21076000 | F15: =SUM(C15:E15) -> 21076000
A16: 6 | B16: Orvosi eszközbeszerzés | D16: 2933000 | F16: =SUM(C16:E16) -> 2933000
A17: 7 | B17: Óvoda- konyha eszközbeszerzés | D17: 13309141 | F17: =SUM(C17:E17) -> 13309141
A18: 8 | B18: Iskola napelem | E18: 7851000 | F18: =SUM(C18:E18) -> 7851000
A19: 9 | B19: Művelődési Ház.tárgyi eszközök | D19: 1828800 | F19: =SUM(C19:E19) -> 1828800
A20: 10 | B20: Szenyvíztelepi eszközök | D20: 3785000 | E20: 5135000 | F20: =SUM(C20:E20) -> 8920000
A21: 11 | B21: Szenyvízhálózat kiépítése | D21: 66184412 | F21: =SUM(C21:E21) -> 66184412
A22: 12 | B22: Igazgatás-eszközök(házasságkötő) | D22: 500000 | F22: =SUM(C22:E22) -> 500000
A23: 13 | B23: Könyvtár-eszközbeszerzés | D23: 155000 | F23: =SUM(C23:E23) -> 155000
A24: 14 | B24: Közfoglalkoztatásra | D24: 184000 | F24: =SUM(C24:E24) -> 184000
A25: 15 | B25: Egyéb tárgyi eszköz | D25: 800000 | F25: =SUM(C25:E25) -> 800000
A26: 16 | B26: Egyéb informatikai eszköz | D26: 200000 | F26: =SUM(C26:E26) -> 200000
A27: 17 | B27: Útsószóró | D27: 1610000 | F27: =SUM(C27:E27) -> 1610000
A28: 18 | B28: Víztisztító készülék | D28: 380000
A29: 19 | B29: Színpad fedés | E29: 4000000
A30: 20 | B30: Közvilágítás bővítése | E30: 1270000
A31: 21 | B31: Ár-és belvízvédelem | E31: 1270000
A32: 22 | B32: Összesen | C32: =SUM(C11:C27) -> 0 | D32: =SUM(D11:D28) -> 96119353 | E32: =SUM(E11:E31) -> 223364685 | F32: =SUM(C32:E32) -> 319484038
