Workbook

Sheet 1.a
A1: Berhida Város Önkormányzata | E1: 1.a melléklet
A2: állami támogatások részletezése | E2: a 5/2016. (II.26.) önkormányzati rendelethez
A3: 2015. évi költségvetés | E3: Ft-ban
C4: 2014 | E4: 2014 | F4: 2015 | H4: eredeti | I4: 2015 | K4: módosított
B5: Rovatrend | E5: Forint | H5: Forint | K5: Forint
A6: Önkormányzatok működési támogatásai | E6: =E7+E16+E27+E47+E50 -> 3.5336184e+08 | H6: =H7+H16+H27+H47+H50 -> 383440798 | K6: =K7+K16+K27+K47+K50+K53+K57 -> 419746962
A7: 1.)Helyi önkormányzatok működésének általános támogatása | B7: B111 | D7: MUTATÓ | E7: =SUM(E8:E13) -> 148175259 | H7: =SUM(H8:H15) -> 139174406 | K7: =SUM(K8:K15) -> 139569503
A8: Önkormányzati hivatal működésének támogatása | C8: 4580000 | D8: 22.35 | E8: =C8*D8 -> 102363000 | F8: 4580000 | G8: 22.3 | H8: 102134000 | I8: 4580000 | J8: 22.3 | K8: 102134000
A9: Település üzemeltetés: zöldterület-gazdálkodás | C9: 22300 | E9: 8966830 | F9: 22300 | H9: 8964553 | I9: 22300 | K9: 8964553
A10: közvilágítás fenntartása | C10: 283200 | E10: 13168800 | F10: 320000 | H10: 14880000 | I10: 320000 | K10: 14880000
A11: köztemető fenntartással kapcs fel | C11: 69 | E11: 1775094 | F11: 69 | H11: 1775094 | I11: 69 | K11: 1775094
A12: közutak fenntartásának támog | C12: 227000 | E12: 5448000 | F12: 227000 | H12: 5448000 | I12: 227000 | K12: 5448000
A13: Egyéb kötelező önkormányzati feladatok | C13: 2700 | E13: 16453535 | F13: 2700 | H13: 5761109 | I13: 2700 | K13: 5761109
A14: Lakott külterülettel kapcs feladatok | H14: 211650 | K14: 211650
A15: 2014. évről áthúzódó bérkompenzáció | K15: 395097
A16: 2.)Települési önkorm. Egyes köznevelési feladatainak támoga | B16: B112 | E16: =SUM(E17:E26) -> 1.0962379e+08 | H16: =SUM(H17:H26) -> 122000800 | K16: =SUM(K17:K26) -> 125823367
A17: óvodapedagógusok bértámogatása 8 hó | C17: 4012000 | D17: 19.6 | E17: =C17*D17*8/12 -> 52423467 | F17: 4152000 | G17: 20.1 | H17: 55636800 | I17: 4152000 | K17: 55913600
A18: óvodaped munkáját közvetlenül segítők bértámogatása 8 hó | C18: 1800000 | D18: 10 | E18: =C18*D18*8/12 -> 12000000 | F18: 1800000 | G18: 11 | H18: 13200000 | I18: 1800000 | K18: 13200000
A19: óvodapedagógusok bértámogatása 4 hó | C19: 4012000 | D19: 19.8 | E19: =C19*D19*4/12 -> 26479200 | F19: 4152000 | G19: 20 | H19: 27680000 | I19: 4152000 | K19: 28233600
A20: óvodaped munkáját közvetlenül segítők bértámogatása 4 hó | C20: 1800000 | D20: 10 | E20: =C20*D20*4/12 -> 6000000 | F20: 1800000 | G20: 11 | H20: 6600000 | I20: 1800000 | K20: 6600000
A21: óvodapedagógusok bértámog KIEGÉSZÍTÉS 3 hó | C21: 34400 | D21: 19.8 | E21: =C21*D21 -> 681120 | F21: 35000 | G21: 20 | H21: 700000 | I21: 35000 | K21: 714000
A22: Óvoda működtetési támogatás 8 hó | C22: 56000 | D22: 213 | E22: =C22*D22*8/12 -> 7952000 | F22: 70000 | G22: 218 | H22: 10173333 | I22: 70000 | K22: 10220000
A23: Óvoda működtetési támogatás 4 hó | C23: 56000 | D23: 219 | E23: =C23*D23*4/12 -> 4088000 | F23: 70000 | G23: 218 | H23: 5086667 | I23: 70000 | K23: 5086667
A24: köznevelési intézmények (iskolák működtetési tám) | K24: 2931500
A25: Kieg tám. Óv pedag minősítéséhez II. kategóriába sorolt | G25: 1 | H25: 352000 | K25: 352000
A26: Mesterped kategóriába sorolt | E26: =C26*D26*4/12 -> 0 | G26: 2 | H26: 2572000 | K26: 2572000
A27: 3.) Tel önk szociális, gyermekjóléti és gyermekétk fel tám | B27: B113 | E27: =SUM(E29:E46) -> 84537490 | H27: =SUM(H29:H46) -> 115343512 | K27: =SUM(K29:K46) -> 137688772
A29: gyermekétkeztetés szempontjából elismert dolgozók bértámog | C29: 1632000 | D29: 8.98 | E29: =C29*D29 -> 14655360 | F29: 1632000 | G29: 11.48 | H29: 18735360 | I29: 1632000 | J29: 11.48 | K29: 18670080
A30: gyermekétkeztetés üzemeltetési támogatása | E30: 30851087 | H30: 31817928 | K30: 32232780
A31: Hozzájárulás pénzbeli szociális ellátásokhoz | E31: 20697694 | H31: 47687090 | K31: 47687090
A32: Bölcsődei ellátás | C32: 494100 | D32: 9 | E32: =C32*D32 -> 4446900 | F32: 494100 | G32: 8 | H32: 3952800 | I32: 494100 | J32: 8 | K32: 4446900
A33: bölcsődei ellátás hátrányos helyzetű gyermek | C33: 518805 | D33: 1 | E33: =C33*D33 -> 518805 | F33: 518805 | I33: 518805
A34: Családsegítés B: 6118 Vi: 662 = 6780 fő (6072,671) | C34: 3950000 | D34: 6780 | E34: =D34/5000*C34/2 -> 2678100 | F34: 3950000 | G34: 6743 | H34: 2663485 | I34: 3950000 | J34: 6743 | K34: 2663485
A35: gyermekjóléti szolgálat | C35: 3950000 | D35: 6780 | E35: =D35/5000*C35/2 -> 2678100 | F35: 3950000 | G35: 6743 | H35: 2663485 | I35: 3950000 | J35: 6743 | K35: 2663485
A36: Családsegítés Kiegészítő támog. | C36: 300 | D36: 6780 | E36: =C36*D36 -> 2034000 | F36: 300 | H36: 2022900 | I36: 300 | K36: 2022900
A37: gyermekjóléti szolg. Kiegészítő támog. 0-17 B: 1292 Vi: 128 | C37: 1200 | D37: 1420 | E37: =C37*D37 -> 1704000 | F37: 1200 | H37: 1668000 | I37: 1200 | K37: 1668000
A38: szociális étkeztetés | C38: 60896 | D38: 39 | E38: =C38*D38 -> 2374944 | F38: 60896 | G38: 34 | H38: 2070464 | I38: 60896 | J38: 34 | K38: 1887776
A39: házi segítségnyújtás | C39: 188500 | D39: 4 | E39: =C39*D39 -> 754000 | F39: 188500 | G39: 4 | H39: 754000 | I39: 188500 | J39: 4 | K39: 754000
A40: időskorúak nappali ellátása | C40: 163500 | D40: 7 | E40: =C40*D40 -> 1144500 | F40: 163500 | G40: 8 | H40: 1308000 | I40: 163500 | J40: 8 | K40: 1308000
A41: Ágazati pótlék | K41: 1518800
...

Sheet 1b
B1: Berhida Város Önkormányzata | D1: 1b. melléklet
B2: 2015. évi költségvetés | D2: a 5/2016. (II.26.) önkormányzati rendelethez
B3: Bevételek | D3: adatok ezer Ft-ban
B4: Módosított előirányzat
D5: Összesen | E5: Önkorm | F5: Hivatal | G5: TESZ | H5: Süni | I5: Kultúrház
A6: Sor- szám | B6: Rovat megnevezése | C6: Rovat száma | D6: Módosított ei | E6: Módosított ei | F6: Módosított ei | G6: Módosított ei | H6: Módosított ei | I6: Módosított ei
A7: 1. | B7: 2. | C7: 3. | D7: 4. | E7: 5. | F7: 6. | G7: 7. | H7: 8. | I7: 9.
A8: 01 | B8: Helyi önkormányzatok működésének általános támogatása | C8: B111 | D8: =SUM(E8:I8) -> 139570 | E8: 139570
A9: 02 | B9: Települési önkormányzatok egyes köznevelési feladatainak támogatása | C9: B112 | D9: =SUM(E9:I9) -> 125823 | E9: 125823
A10: 03 | B10: Települési önkormányzatok szociális és gyermekjóléti feladatainak támogatása | C10: B113 | D10: =SUM(E10:I10) -> 137689 | E10: 137689
A11: 04 | B11: Települési önkormányzatok kulturális feladatainak támogatása | C11: B114 | D11: =SUM(E11:I11) -> 7094 | E11: 7094
A12: 05 | B12: Működési célú költségvetési támogatások és kiegészítő támogatások | C12: B115 | D12: =SUM(E12:I12) -> 6790 | E12: 6790
A13: 06 | B13: Elszámolásból származó bevételek | C13: B116 | D13: =SUM(E13:I13) -> 2782 | E13: 2782
A14: 07 | B14: Önkormányzatok működési támogatásai | C14: B11 | D14: =SUM(E14:I14) -> 419748 | E14: =SUM(E8:E13) -> 419748 | F14: =SUM(F8:F13) -> 0 | G14: =SUM(G8:G13) -> 0 | H14: =SUM(H8:H13) -> 0 | I14: =SUM(I8:I13) -> 0
A15: 08 | B15: Elvonások és befizetések bevételei | C15: B12 | D15: =SUM(E15:I15) -> 0
A16: 09 | B16: Működési célú garancia- és kezességvállalásból származó megtérülések államháztartáson belülről | C16: B13 | D16: =SUM(E16:I16) -> 0
A17: 10 | B17: Működési célú visszatérítendő támogatások, kölcsönök visszatérülése államháztartáson belülről | C17: B14 | D17: =SUM(E17:I17) -> 0
A18: 11 | B18: Működési célú visszatérítendő támogatások, kölcsönök igénybevétele államháztartáson belülről | C18: B15 | D18: =SUM(E18:I18) -> 0
A19: 12 | B19: Egyéb működési célú támogatások bevételei államháztartáson belülről | C19: B16 | D19: =SUM(E19:I19) -> 109301 | E19: =SUM(E20:E26) -> 23664 | F19: =SUM(F20:F26) -> 561 | G19: =SUM(G20:G26) -> 83409 | H19: =SUM(H20:H26) -> 1667 | I19: =SUM(I20:I26) -> 0
B20: - ebből központi költségvetési szervek | C20: B161 | D20: =SUM(E20:I20) -> 942 | E20: 381 | F20: 561
B21: - ebből Társadalombiztosítási Alapok | C21: B162 | D21: =SUM(E21:I21) -> 12922 | E21: 12922
B22: - ebből elkülönített állami alapok | C22: B163 | D22: =SUM(E22:I22) -> 85076 | G22: 83409 | H22: 1667
B23: - ebből helyi önkormányzatok és költségvetési szerveik | C23: B164 | D23: =SUM(E23:I23) -> 0
B24: - ebből társulások és költségvetési szerveik | C24: B165 | D24: =SUM(E24:I24) -> 0
B25: - ebből nemzetiségi önkormányzatok és költségvetési szerveik | C25: B166 | D25: =SUM(E25:I25) -> 0
B26: - ebből fejezeti kezelésű | C26: B167 | D26: =SUM(E26:I26) -> 10361 | E26: 10361
A27: 13 | B27: Működési célú támogatások államháztartáson belülről | C27: B1 | D27: =SUM(E27:I27) -> 529049 | E27: =SUM(E14:E19) -> 443412 | F27: =SUM(F14:F19) -> 561 | G27: =SUM(G14:G19) -> 83409 | H27: =SUM(H14:H19) -> 1667 | I27: =SUM(I14:I19) -> 0
A28: 14 | B28: Felhalmozási célú önkormányzati támogatások | C28: B21 | D28: =SUM(E28:I28) -> 181261 | E28: 181261
A29: 15 | B29: Felhalmozási célú garancia- és kezességvállalásból származó megtérülések államháztartáson belülről | C29: B22 | D29: =SUM(E29:I29) -> 0
A30: 16 | B30: Felhalmozási célú visszatérítendő támogatások, kölcsönök visszatérülése államháztartáson belülről | C30: B23 | D30: =SUM(E30:I30) -> 19290 | E30: 19290
A31: 17 | B31: Felhalmozási célú visszatérítendő támogatások, kölcsönök igénybevétele államháztartáson belülről | C31: B24 | D31: =SUM(E31:I31) -> 0
A32: 18 | B32: Egyéb felhalmozási célú támogatások bevételei államháztartáson belülről | C32: B25 | D32: =SUM(E32:I32) -> 0
A33: 19 | B33: Felhalmozási célú támogatások államháztartáson belülről | C33: B2 | D33: =SUM(E33:I33) -> 200551 | E33: =SUM(E28:E32) -> 200551 | F33: =SUM(F28:F32) -> 0 | G33: =SUM(G28:G32) -> 0 | H33: =SUM(H28:H32) -> 0 | I33: =SUM(I28:I32) -> 0
A34: 20 | B34: Magánszemélyek jövedelemadói | C34: B311 | D34: =SUM(E34:I34) -> 0
A35: 21 | B35: Társaságok jövedelemadói | C35: B312 | D35: =SUM(E35:I35) -> 0
A36: 22 | B36: Jövedelemadók | C36: B31 | D36: =SUM(E36:I36) -> 0 | E36: =SUM(E34:E35) -> 0 | F36: =SUM(F34:F35) -> 0 | G36: =SUM(G34:G35) -> 0 | H36: =SUM(H34:H35) -> 0 | I36: =SUM(I34:I35) -> 0
A37: 23 | B37: Szociális hozzájárulási adó és járulékok | C37: B32 | D37: =SUM(E37:I37) -> 0
A38: 24 | B38: Bérhez és foglalkoztatáshoz kapcsolódó adók | C38: B33 | D38: =SUM(E38:I38) -> 0
A39: 25 | B39: Vagyoni tipusú adók | C39: B34 | D39: =SUM(E39:I39) -> 92700 | E39: 92700
A40: 26 | B40: Értékesítési és forgalmi adók | C40: B351 | D40: =SUM(E40:I40) -> 159000 | E40: 159000
...

Sheet 2a
B1: Berhida Város Önkormányzata | C1: 2/a. melléklet
B2: 2015. évi költségvetés | C2: a 5/2016. (II.26.) önkormányzati rendelethez
B3: Kiadások | C3: adatok ezer Ft-ban
A5: Felújítások | C5: Eredeti előirányzat | D5: Mód ei | E5: Változás | F5: Mód javaslat | G5: Teljesítés 03.30 | H5: Teljesítés 06.30
A6: 1 | B6: ÖNK Kultúrház tető felúj | C6: 736 | D6: 736 | F6: =D6+E6 -> 736 | G6: 736
A7: 2 | B7: ÖNK "Autósbolt" temetkezési iroda tetőfelúj | C7: 148 | D7: 148 | F7: =D7+E7 -> 148 | G7: 148
A8: 3 | B8: ÖNK Pgytp sportöltöző felújítás | C8: 7 | D8: 7 | F8: =D8+E8 -> 7 | G8: 7
A9: 4 | B9: ÖNK tervek(Hétszín, Műv Ház, Ady felúj, járda) | C9: 9919 | D9: 12077 | F9: =D9+E9 -> 12077 | G9: 4699
A10: 5 | B10: ÖNK KEOP napelemes pályázat (Süni, Városháza) | C10: 20203 | D10: 7614 | F10: =D10+E10 -> 7614
A11: 6 | B11: ÖH informatikai eszk felúj | C11: 508 | D11: 508 | F11: =D11+E11 -> 508
A12: 7 | B12: ÖH egyéb gép, berend eszköz felúj | C12: 254 | D12: 254 | F12: =D12+E12 -> 254
A13: 8 | B13: ÖNK Pgytp lapostető szigetelési munkák ABC Pgytp | D13: 2480 | E13: 81 | F13: =D13+E13 -> 2561 | G13: 144
A14: 9 | B14: ÖNK tervek felújítási pályázatokhoz | D14: 7000 | F14: =D14+E14 -> 7000
A15: 10 | B15: ÖNK II. Rákóczi F Ált Isk tető felújítás | D15: 5100 | F15: =D15+E15 -> 5100
A16: 11 | B16: ÖNK Süni óvoda terasz felújítás II. ütem | D16: 2304 | F16: =D16+E16 -> 2304 | H16: 2303
A17: 12 | B17: ÖNK Hivatal emeleti 4 db vizesblokk felúj | D17: 5200 | F17: =D17+E17 -> 5200
A18: 13 | B18: ÖNK Kossuth u. 26. szolg lakás épület felújítás | D18: 3600 | F18: =D18+E18 -> 3600
A19: 14 | B19: ÖNK szennyvíz telep előtti épület vizesblokk, villany | D19: 709 | F19: =D19+E19 -> 709 | H19: 599
A20: 15 | B20: TESZ jármű felújítás | D20: 160 | F20: =D20+E20 -> 160
A21: 16 | B21: ÖNK Hivatal tető felújítás (beázás miatt) | D21: 2500 | F21: =D21+E21 -> 2500
A22: 17 | B22: ÖNK ÖNO épületében fűtés korszerűsítés | D22: 900 | F22: =D22+E22 -> 900
A23: 18 | B23: ÖNK adósság konszol. Pályázat út-járda felúj | D23: 1000 | E23: 104870 | F23: =D23+E23 -> 105870
A24: 19 | B24: ÖNK adósság konszol. Pályázat Süni tetőfelúj | E24: 32766 | F24: =D24+E24 -> 32766
A25: 20 | B25: ÖNK hulladékudvar kerítés felújítás | D25: 500 | F25: =D25+E25 -> 500
A26: 21 | B26: ÖNK Süni Óvoda ablak, ajtócsere | D26: 500 | F26: =D26+E26 -> 500
A27: 22 | B27: Összesen | C27: =SUM(C6:C26) -> 31775 | D27: =SUM(D6:D26) -> 53297 | E27: =SUM(E6:E26) -> 137717 | F27: =SUM(F6:F26) -> 191014 | G27: =SUM(G6:G26) -> 5734 | H27: =SUM(H6:H26) -> 2902

Sheet 2b
B1: Berhida Város Önkormányzata | C1: 2/b. melléklet
B2: 2015. évi költségvetés | C2: a 5/2016. (II.26.) önkormányzati rendelethez
B3: Kiadások | C3: adatok ezer Ft-ban
A4: Beruházások | C4: Eredeti előirányzat | D4: Mód ei | E4: változás | F4: Mód javaslat | G4: Teljesítés 03.30 | H4: Teljesítés 06.30
A5: 1 | B5: ÖNK településrendezési terv | C5: 1143 | D5: 1143 | F5: =D5+E5 -> 1143 | H5: 1143
A6: 2 | B6: ÖNK emlékmű pályázat | C6: 3686 | D6: 6186 | F6: =D6+E6 -> 6186 | H6: 600
A7: 3 | B7: ÖNK Ady internet hálózat bővítés | C7: 148 | D7: 148 | F7: =D7+E7 -> 148 | G7: 148
A8: 4 | B8: ÖNK urnahely beszerzés köztemető | C8: 600 | D8: 406 | F8: =D8+E8 -> 406 | H8: 406
A9: 5 | B9: TESZ B1 kút üzembehelyezése | C9: 1143 | D9: 1143 | F9: =D9+E9 -> 1143 | H9: 651
A10: 6 | B10: TESZ informatikai eszköz beszerzés | C10: 191 | D10: 191 | F10: =D10+E10 -> 191 | G10: 17 | H10: 106
A11: 7 | B11: TESZ egyéb gép, berendezés, eszköz beszerz | C11: 1687 | D11: 1687 | F11: =D11+E11 -> 1687 | G11: 237 | H11: 56
A12: 8 | B12: TESZ egyéb gép, berend, eszköz Hoszú közf | C12: 254 | D12: 2254 | F12: =D12+E12 -> 2254
A13: 9 | B13: TESZ egyéb gép, berend, eszköz Út-híd | C13: 889 | D13: 1889 | F13: =D13+E13 -> 1889 | H13: 389
A14: 10 | B14: ÖH egyéb gép, berendezés, eszköz beszerz | C14: 254 | D14: 954 | E14: 496 | F14: =D14+E14 -> 1450 | G14: 114 | H14: 9
A15: 11 | B15: ÖH informatikai eszköz beszerz | C15: 889 | D15: 3336 | E15: -496 | F15: =D15+E15 -> 2840 | G15: 38 | H15: 300
A16: 12 | B16: Süni informatikai eszköz besz | C16: 127 | D16: 127 | F16: =D16+E16 -> 127 | G16: 98
A17: 13 | B17: Süni egyéb gép,berend, eszköz besz | C17: 152 | D17: 152 | E17: 511 | F17: =D17+E17 -> 663 | H17: 30
A18: 14 | B18: Kultúrház egyéb gép, berend,közműveszköz besz pály | C18: 254 | D18: 0 | F18: =D18+E18 -> 0 | G18: 64 | H18: 36
A19: 15 | B19: ÖNK védőnői szolg. Informatikai, egyéb eszköz besz | C19: 127 | D19: 427 | F19: =D19+E19 -> 427 | G19: 50 | H19: 70
A20: 16 | B20: ÖNK Széchenyi, Liszt, Csokonai u. járdaép terv felülv | C20: 2000 | D20: 1914 | F20: =D20+E20 -> 1914 | H20: 508
A21: 17 | B21: ÖNK köznevelési int. Tárgyi eszköz beszerzés | C21: 381 | D21: 381 | F21: =D21+E21 -> 381 | G21: 287
A22: 18 | B22: Süni egyéb gép, eszköz beszerzés | D22: 127 | E22: -127 | F22: =D22+E22 -> 0
A23: 19 | B23: ÖNK tervek beruházási pályázatokhoz | D23: 5000 | F23: =D23+E23 -> 5000 | H23: 508
A24: 20 | B24: Kultúr hangtechnika (pl:keverő) riasztó, hangjelző tel | D24: 1720 | F24: =D24+E24 -> 1720 | H24: 22
A25: 21 | B25: Kultúr könyvtári polc beszerzés, egyéb eszköz | D25: 400 | F25: =D25+E25 -> 400 | H25: 8
A26: 22 | B26: Kultúr WIFI rendszer kibővítés | D26: 35 | F26: =D26+E26 -> 35
A27: 23 | B27: Kultúr Műv ház egyéb eszköz beszerzés (vasaló stb) | D27: 25 | F27: =D27+E27 -> 25 | H27: 20
A28: 24 | B28: TESZ hulladékgyűjtő edények beszerzése | D28: 420 | F28: =D28+E28 -> 420
A29: 25 | B29: TESZ buszmegálló beszerzés Kiskovácsi, Pgytp) | D29: 0 | F29: =D29+E29 -> 0
A30: 26 | B30: ÖNK térfigyelő kamera vásárlás | D30: 3260 | F30: =D30+E30 -> 3260
A31: 27 | B31: ÖNK Péti úti temető járdaépítés régi katolikus részen | D31: 2300 | F31: =D31+E31 -> 2300
A32: 28 | B32: ÖNK Integrált Városfejl Stratégia | D32: 3810 | F32: =D32+E32 -> 3810
A33: 29 | B33: ÖNK üzletsor falára térkép tábla készítés | D33: 76 | F33: =D33+E33 -> 76
A34: 30 | B34: ÖNK Nyugdíjas club bojler vásárlás | D34: 40 | F34: =D34+E34 -> 40
A35: 31 | B35: ÖNK Városközpont zöldpark kial előkész munk | D35: 3000 | F35: =D35+E35 -> 3000 | H35: 1312
A36: 32 | B36: ÖNK TESZ telephely vásárlás | D36: 7900 | F36: =D36+E36 -> 7900
A37: 33 | B37: ÖNK Köztemető szennyvízelvezetés, öntözővíz leválasztás | D37: 1200 | E37: -270 | F37: =D37+E37 -> 930
A38: 34 | B38: Kultúr: könyvtári érd növ tám könyv, eszköz, ber | D38: 172 | F38: =D38+E38 -> 172
A39: 35 | B39: ÖNK buszmegálló beszerzés Kiskovácsi, Pgytp) | D39: 2000 | F39: =D39+E39 -> 2000
A40: 36 | B40: ÖNK Kiskovácsi, Pgytp tiszti házak közvilágítás | D40: 1200 | F40: =D40+E40 -> 1200
...

Sheet 2d
B1: Berhida Város Önkormányzata | C1: 2.d. melléklet
B2: 2015. évi költségvetés | C2: a 5/2016. (II.26.) önkormányzati rendelethez
B3: Kiadások | C3: adatok ezer Ft-ban
B4: Módosított előirányzat
D5: ÖSSZESEN | E5: Önkorm | F5: Hivatal | G5: TESZ | H5: Süni | I5: Kultúrház
A6: Sor- szám | B6: Rovat megnevezése | C6: Rovat száma | D6: Módosított ei | E6: Módosított ei | F6: Módosított ei | G6: Módosított ei | H6: Módosított ei | I6: Módosított ei
A7: 1. | B7: 2. | C7: 3. | D7: 4. | E7: 5. | F7: 6. | G7: 7. | H7: 8. | I7: 9.
A8: 1 | B8: Személyi juttatások | C8: K1 | D8: =SUM(E8:I8) -> 326593 | E8: 29497 | F8: 97792 | G8: 116545 | H8: 66564 | I8: 16195
A9: 2 | B9: Munkaadókat terhelő járulékok és szociális hozzájárulási adó | C9: K2 | D9: =SUM(E9:I9) -> 80898 | E9: 8726 | F9: 27765 | G9: 21932 | H9: 17920 | I9: 4555
A10: 3 | B10: Dologi kiadások | C10: K3 | D10: =SUM(E10:I10) -> 249007 | E10: 53860 | F10: 32830 | G10: 87512 | H10: 46575 | I10: 28230
A11: 4 | B11: Társadalombiztosítási ellátások | C11: K41 | D11: =SUM(E11:I11) -> 0
A12: 5 | B12: Családi támogatások | C12: K42 | D12: =SUM(E12:I12) -> 6554 | E12: 6554
A13: 6 | B13: Pénzbeli kárpótlások, kártérítések | C13: K43 | D13: =SUM(E13:I13) -> 0
A14: 7 | B14: Betegséggel kapcsolatos (nem társadalombiztosítási) ellátások | C14: K44 | D14: =SUM(E14:I14) -> 900 | E14: 900
A15: 8 | B15: Foglalkoztatással, munkanélküliséggel kapcsolatos ellátások | C15: K45 | D15: =SUM(E15:I15) -> 13085 | E15: 13085
A16: 9 | B16: Lakhatással kapcsolatos ellátások | C16: K46 | D16: =SUM(E16:I16) -> 10079 | E16: 10079
A17: 10 | B17: Intézményi ellátottak pénzbeli juttatásai | C17: K47 | D17: =SUM(E17:I17) -> 0
A18: 11 | B18: Egyéb nem intézményi ellátások | C18: K48 | D18: =SUM(E18:I18) -> 20512 | E18: 20512
A19: 12 | B19: Ellátottak pénzbeli juttatásai | C19: K4 | D19: =SUM(E19:I19) -> 51130 | E19: =SUM(E11:E18) -> 51130 | F19: =SUM(F11:F18) -> 0 | G19: =SUM(G11:G18) -> 0 | H19: =SUM(H11:H18) -> 0 | I19: =SUM(I11:I18) -> 0
A20: 13 | B20: Nemzetközi kötelezettségek | C20: K501 | D20: =SUM(E20:I20) -> 0
A21: 14 | B21: Elvonások és befizetések | C21: K502 | D21: =SUM(E21:I21) -> 679 | E21: 541 | F21: 7 | G21: 58 | H21: 58 | I21: 15
A22: 15 | B22: Működési célú garancia- és kezességvállalásból származó kifizetés államháztartáson belülre | C22: K503 | D22: =SUM(E22:I22) -> 0
A23: 16 | B23: Működési célú visszatérítendő támogatások, kölcsönök nyújtása államháztartáson belülre | C23: K504 | D23: =SUM(E23:I23) -> 0
A24: 17 | B24: Működési célú visszatérítendő támogatások, kölcsönök törlesztése államháztartáson belülre | C24: K505 | D24: =SUM(E24:I24) -> 0
A25: 18 | B25: Egyéb működési célú támogatások államháztartáson belülre | C25: K506 | D25: =SUM(E25:I25) -> 130383 | E25: =SUM(E26:E34) -> 130383 | F25: =SUM(F26:F34) -> 0 | G25: =SUM(G26:G34) -> 0 | H25: =SUM(H26:H34) -> 0 | I25: =SUM(I26:I34) -> 0
B26: - ebből központi költségvetési szervek | C26: K5061 | D26: =SUM(E26:I26) -> 0
B27: - ebből Társadalombiztosítási Alapok | C27: K5062 | D27: =SUM(E27:I27) -> 0
B28: - ebből elkülönített állami alapok | C28: K5063 | D28: =SUM(E28:I28) -> 0
B29: - ebből fejezeti kezelésű kv-i sz-nek (Rendőrség) | E29: 500
B30: - ebből helyi önkormányzatok és költségvetési szerveik | C30: K5064 | D30: =SUM(E30:I30) -> 494 | E30: 494
B31: - ebből társulások és költségvetési szerveik | C31: K50651 | D31: =SUM(E31:I31) -> 5354 | E31: 5354
B32: - ebből köznevelési társulásnak | C32: K50652 | D32: =SUM(E32:I32) -> 86282 | E32: 86282
B33: - ebből szociális társulásnak | C33: K50653 | D33: =SUM(E33:I33) -> 37453 | E33: 37453
B34: - ebből nemzetiségi önkormányzatok és költségvetési szerveik | C34: K5066 | D34: =SUM(E34:I34) -> 300 | E34: 300
A35: 19 | B35: Működési célú garancia- és kezességvállalásból származó kifizetés államháztartáson kívülre | C35: K507 | D35: =SUM(E35:I35) -> 0
A36: 20 | B36: Működési célú visszatérítendő támogatások, kölcsönök nyújtása államháztartáson kívülre | C36: K508 | D36: =SUM(E36:I36) -> 0
A37: 21 | B37: Árkiegészítések, ártámogatások | C37: K509 | D37: =SUM(E37:I37) -> 0
A38: 22 | B38: Kamattámogatások | C38: K510 | D38: =SUM(E38:I38) -> 0
A39: 23 | B39: Egyéb működési célú támogatások államháztartáson kívülre | C39: K511 | D39: =SUM(E39:I39) -> 4161 | E39: 4161
A40: 24 | B40: Tartalékok | C40: K512 | D40: =SUM(E40:I40) -> 137991 | E40: 137991
...

Sheet 4.mell
C1: BERHIDA VÁROS ÖNKORMÁNYZATA | G1: 4. melléklet
D2: 2015.évi MÉRLEGTERV | G2: a 5/2016. (II.26.) önkormányzati rendelethez
C3: a működési és felhalmozási célú bevételi és kiadási előirányzatokról | G3: adatok ezer Ft-ban
B5: A | C5: B | D5: C | E5: D | F5: E | G5: F
A6: 1 | B6: BEVÉTELI TERV | E6: KIADÁSI TERV
A7: 2 | B7: I. | C7: Működési célú bevételi terv | E7: I. | F7: Működési célú kiadási terv
A8: 3 | B8: a.) | C8: Műk c támogatások áht belülről | D8: 529049 | E8: a.) | F8: Személyi juttatások | G8: 326593
A9: 4 | B9: b.) | C9: Közhatalmi bevételek | D9: 263440 | E9: b.) | F9: Munkaadókat t járulékok | G9: 80898
A10: 5 | B10: c.) | C10: Működési bevételek | D10: 66903 | E10: c.) | F10: Dologi kiadások | G10: 249007
A11: 6 | B11: d.) | C11: Működési átvett pénzeszközök | E11: d.) | F11: Ellátottak pénzbeli jutt | G11: 51130
A12: 7 | B12: e.) | C12: Műk. C. maradvány igénybevét. | D12: 178769 | E12: e.) | F12: Egyéb műk c kiadások | G12: 273214
A13: 8 | B13: f.) | C13: Áht belüli megelőleg visszafiz | D13: 31298 | E13: f.) | F13: Áht belüli megelőleg visszafiz | G13: 43643
A14: 9 | E14: g.)
A15: 10
A16: 11 | C16: I. Bevételek: | D16: =SUM(D8:D15) -> 1069459 | F16: I. Kiadások együtt: | G16: =SUM(G8:G14) -> 1024485
A17: 12 | F17: Működési célú bevételek: | G17: =D16 -> 1069459
A18: 13 | F18: Működési egyenleg: | G18: =G16-G17 -> -44974
A19: 14
A20: 15 | B20: II. | C20: Felhalmozási célú bevételi terv | E20: II. | F20: Felhalmozási célú kiadások:
A21: 16 | B21: 1.) | C21: Felhalmozási c támog. Áht-n bel | D21: 200551 | E21: 1.) | F21: Beruházások | G21: 122411
A22: 17 | B22: 2.) | C22: Felhalmozási bevételek | D22: 375 | E22: 2.) | F22: Felújítások | G22: 191014
A23: 18 | B23: 3.) | C23: Egyéb felhalmozási c átvett pe | D23: 570 | E23: 3.) | F23: Egyéb felhalm c kiadások | G23: 3131
A24: 19 | B24: 4.) | C24: Felhalm c maradvány igénybev | D24: 70086 | E24: 4.)
A25: 20 | B25: 5.) | E25: 5.)
A26: 21 | B26: 6.)
A27: 22 | B27: 7.)
A28: 23 | B28: 8.)
A29: 24 | C29: II. Bevételek: | D29: =SUM(D21:D28) -> 271582 | F29: II. Kiadások: | G29: =SUM(G21:G26) -> 316556
A30: 25 | F30: Felhalm.célú bevételek: | G30: =D29 -> 271582
A31: 26 | F31: Felhalm. egyenleg: | G31: =G29-G30 -> 44974
A32: 27
A33: 28 | C33: Bevételek összesen (I+II): | D33: =D16+D29 -> 1341041 | F33: Kiadások összesen (I+II): | G33: =SUM(G16+G29) -> 1341041
C35: Irányítószervei támog | D35: 443755 | G35: 443755
C36: Mindösszesen | D36: =D33+D35 -> 1784796 | G36: =G33+G35 -> 1784796

Sheet 6.mell.
C1: Berhida Város Önkormányzata
C2: ellátottak pénzbeli juttatásai | F2: 6. melléklet
C3: 2015. év | F3: a 5/2016. (II.26.) önkormányzati rendelethez
F4: adatok ezer Ft-ban
B5: A | C5: B | D5: C | E5: D | F5: E | G5: F
B6: Szociális jogcímek | C6: átruházott hatáskört gyakorló | E6: Képvis.test.jogk. | F6: Jegyzői jogk. | G6: Összes
C7: polgármester | D7: Humán Biz. | G7: előirányzat
A8: 1 | B8: Pénzbeli ellátások összesen | C8: =SUM(C9:C21) -> 3300 | D8: =SUM(D9:D21) -> 13900 | E8: =SUM(E9:E21) -> 2500 | F8: =SUM(F9:F21) -> 31430 | G8: =SUM(G9:G21) -> 51130
A9: 2 | B9: Rendsz szoc segély 03 hóig önr | F9: 1712 | G9: =SUM(C9:F9) -> 1712
A10: 3 | B10: foglal hely tám 03 hóig önrész | F10: 13085 | G10: =SUM(C10:F10) -> 13085
A11: 4 | B11: Lakásfenntartási tám. | F11: 10079 | G11: =SUM(C11:F11) -> 10079
B12: óvodáztatási támog | F12: 510 | G12: =SUM(C12:F12) -> 510
A13: 4 | B13: term gyermekvédelmi tám | F13: 6044 | G13: =SUM(C13:F13) -> 6044
A14: 5 | B14: Települési támogatás
A15: 6 | B15: Lakhatási támog | D15: 12000 | G15: =SUM(C15:F15) -> 12000
A16: 7 | B16: Gyermekvéd.támog. | D16: 900 | E16: 100 | G16: =SUM(C16:F16) -> 1000
A17: 8 | B17: Bursa Hung. (ösztöndíj tám) | E17: 2400 | G17: =SUM(C17:F17) -> 2400
A18: 9 | B18: Temetési segély | C18: 1500 | G18: =SUM(C18:F18) -> 1500
A19: 10 | B19: Átmeneti segély | D19: 1000 | G19: =SUM(C19:F19) -> 1000
A20: 11 | B20: Köztemetés | C20: 900 | G20: =SUM(C20:F20) -> 900
A21: 12 | B21: Közgyógyell,betegséggel kapcs | C21: 900 | G21: =SUM(C21:F21) -> 900

Sheet 9a
B1: Berhida Város Önkormányzata | D1: 1. melléklet
B2: 2015. évi költségvetés | D2: a 5/2016. (II.26.) önkormányzati rendelethez
B3: Bevételek | D3: adatok ezer Ft-ban
B4: Kötelezően ellátandó feladatok
D5: Összesen | E5: Önkorm | F5: Hivatal | G5: TESZ | H5: Süni | I5: Kultúrház
A6: Sor- szám | B6: Rovat megnevezése | C6: Rovat száma | D6: Eredeti ei | E6: Eredeti ei | F6: Eredeti ei | G6: Eredeti ei | H6: Eredeti ei | I6: Eredeti ei
A7: 1. | B7: 2. | C7: 3 | D7: 4 | E7: 5 | F7: 6 | G7: 7 | H7: 8 | I7: 9
A8: 01 | B8: Helyi önkormányzatok működésének általános támogatása | C8: B111 | D8: ='1b'!D8-'9b mell'!D8-'9c mell'!D8 -> 132649 | E8: ='1b'!E8-'9b mell'!E8-'9c mell'!E8 -> 132649 | F8: ='1b'!F8-'9b mell'!F8-'9c mell'!F8 -> 0 | G8: ='1b'!G8-'9b mell'!G8-'9c mell'!G8 -> 0 | H8: ='1b'!H8-'9b mell'!H8-'9c mell'!H8 -> 0 | I8: ='1b'!I8-'9b mell'!I8-'9c mell'!I8 -> 0
A9: 02 | B9: Települési önkormányzatok egyes köznevelési feladatainak támogatása | C9: B112 | D9: ='1b'!D9-'9b mell'!D9-'9c mell'!D9 -> 125823 | E9: ='1b'!E9-'9b mell'!E9-'9c mell'!E9 -> 125823 | F9: ='1b'!F9-'9b mell'!F9-'9c mell'!F9 -> 0 | G9: ='1b'!G9-'9b mell'!G9-'9c mell'!G9 -> 0 | H9: ='1b'!H9-'9b mell'!H9-'9c mell'!H9 -> 0 | I9: ='1b'!I9-'9b mell'!I9-'9c mell'!I9 -> 0
A10: 03 | B10: Települési önkormányzatok szociális és gyermekjóléti feladatainak támogatása | C10: B113 | D10: ='1b'!D10-'9b mell'!D10-'9c mell'!D10 -> 133736 | E10: ='1b'!E10-'9b mell'!E10-'9c mell'!E10 -> 133736 | F10: ='1b'!F10-'9b mell'!F10-'9c mell'!F10 -> 0 | G10: ='1b'!G10-'9b mell'!G10-'9c mell'!G10 -> 0 | H10: ='1b'!H10-'9b mell'!H10-'9c mell'!H10 -> 0 | I10: ='1b'!I10-'9b mell'!I10-'9c mell'!I10 -> 0
A11: 04 | B11: Települési önkormányzatok kulturális feladatainak támogatása | C11: B114 | D11: ='1b'!D11-'9b mell'!D11-'9c mell'!D11 -> 7094 | E11: ='1b'!E11-'9b mell'!E11-'9c mell'!E11 -> 7094 | F11: ='1b'!F11-'9b mell'!F11-'9c mell'!F11 -> 0 | G11: ='1b'!G11-'9b mell'!G11-'9c mell'!G11 -> 0 | H11: ='1b'!H11-'9b mell'!H11-'9c mell'!H11 -> 0 | I11: ='1b'!I11-'9b mell'!I11-'9c mell'!I11 -> 0
A12: 05 | B12: Működési célú központosított előirányzatok | C12: B115 | D12: ='1b'!D12-'9b mell'!D12-'9c mell'!D12 -> 6790 | E12: ='1b'!E12-'9b mell'!E12-'9c mell'!E12 -> 6790 | F12: ='1b'!F12-'9b mell'!F12-'9c mell'!F12 -> 0 | G12: ='1b'!G12-'9b mell'!G12-'9c mell'!G12 -> 0 | H12: ='1b'!H12-'9b mell'!H12-'9c mell'!H12 -> 0 | I12: ='1b'!I12-'9b mell'!I12-'9c mell'!I12 -> 0
A13: 06 | B13: Helyi önkormányzatok kiegészítő támogatásai | C13: B116 | D13: ='1b'!D13-'9b mell'!D13-'9c mell'!D13 -> 2782 | E13: ='1b'!E13-'9b mell'!E13-'9c mell'!E13 -> 2782 | F13: ='1b'!F13-'9b mell'!F13-'9c mell'!F13 -> 0 | G13: ='1b'!G13-'9b mell'!G13-'9c mell'!G13 -> 0 | H13: ='1b'!H13-'9b mell'!H13-'9c mell'!H13 -> 0 | I13: ='1b'!I13-'9b mell'!I13-'9c mell'!I13 -> 0
A14: 07 | B14: Önkormányzatok működési támogatásai | C14: B11 | D14: ='1b'!D14-'9b mell'!D14-'9c mell'!D14 -> 408874 | E14: ='1b'!E14-'9b mell'!E14-'9c mell'!E14 -> 408874 | F14: ='1b'!F14-'9b mell'!F14-'9c mell'!F14 -> 0 | G14: ='1b'!G14-'9b mell'!G14-'9c mell'!G14 -> 0 | H14: ='1b'!H14-'9b mell'!H14-'9c mell'!H14 -> 0 | I14: ='1b'!I14-'9b mell'!I14-'9c mell'!I14 -> 0
A15: 08 | B15: Elvonások és befizetések bevételei | C15: B12 | D15: ='1b'!D15-'9b mell'!D15-'9c mell'!D15 -> 0 | E15: ='1b'!E15-'9b mell'!E15-'9c mell'!E15 -> 0 | F15: ='1b'!F15-'9b mell'!F15-'9c mell'!F15 -> 0 | G15: ='1b'!G15-'9b mell'!G15-'9c mell'!G15 -> 0 | H15: ='1b'!H15-'9b mell'!H15-'9c mell'!H15 -> 0 | I15: ='1b'!I15-'9b mell'!I15-'9c mell'!I15 -> 0
A16: 09 | B16: Működési célú garancia- és kezességvállalásból származó megtérülések államháztartáson belülről | C16: B13 | D16: ='1b'!D16-'9b mell'!D16-'9c mell'!D16 -> 0 | E16: ='1b'!E16-'9b mell'!E16-'9c mell'!E16 -> 0 | F16: ='1b'!F16-'9b mell'!F16-'9c mell'!F16 -> 0 | G16: ='1b'!G16-'9b mell'!G16-'9c mell'!G16 -> 0 | H16: ='1b'!H16-'9b mell'!H16-'9c mell'!H16 -> 0 | I16: ='1b'!I16-'9b mell'!I16-'9c mell'!I16 -> 0
A17: 10 | B17: Működési célú visszatérítendő támogatások, kölcsönök visszatérülése államháztartáson belülről | C17: B14 | D17: ='1b'!D17-'9b mell'!D17-'9c mell'!D17 -> 0 | E17: ='1b'!E17-'9b mell'!E17-'9c mell'!E17 -> 0 | F17: ='1b'!F17-'9b mell'!F17-'9c mell'!F17 -> 0 | G17: ='1b'!G17-'9b mell'!G17-'9c mell'!G17 -> 0 | H17: ='1b'!H17-'9b mell'!H17-'9c mell'!H17 -> 0 | I17: ='1b'!I17-'9b mell'!I17-'9c mell'!I17 -> 0
A18: 11 | B18: Működési célú visszatérítendő támogatások, kölcsönök igénybevétele államháztartáson belülről | C18: B15 | D18: ='1b'!D18-'9b mell'!D18-'9c mell'!D18 -> 0 | E18: ='1b'!E18-'9b mell'!E18-'9c mell'!E18 -> 0 | F18: ='1b'!F18-'9b mell'!F18-'9c mell'!F18 -> 0 | G18: ='1b'!G18-'9b mell'!G18-'9c mell'!G18 -> 0 | H18: ='1b'!H18-'9b mell'!H18-'9c mell'!H18 -> 0 | I18: ='1b'!I18-'9b mell'!I18-'9c mell'!I18 -> 0
A19: 12 | B19: Egyéb működési célú támogatások bevételei államháztartáson belülről | C19: B16 | D19: ='1b'!D19-'9b mell'!D19-'9c mell'!D19 -> 109301 | E19: ='1b'!E19-'9b mell'!E19-'9c mell'!E19 -> 23664 | F19: ='1b'!F19-'9b mell'!F19-'9c mell'!F19 -> 561 | G19: ='1b'!G19-'9b mell'!G19-'9c mell'!G19 -> 83409 | H19: ='1b'!H19-'9b mell'!H19-'9c mell'!H19 -> 1667 | I19: ='1b'!I19-'9b mell'!I19-'9c mell'!I19 -> 0
B20: - ebből központi költségvetési szervek | C20: B161 | D20: ='1b'!D20-'9b mell'!D20-'9c mell'!D20 -> 942 | E20: ='1b'!E20-'9b mell'!E20-'9c mell'!E20 -> 381 | F20: ='1b'!F20-'9b mell'!F20-'9c mell'!F20 -> 561 | G20: ='1b'!G20-'9b mell'!G20-'9c mell'!G20 -> 0 | H20: ='1b'!H20-'9b mell'!H20-'9c mell'!H20 -> 0 | I20: ='1b'!I20-'9b mell'!I20-'9c mell'!I20 -> 0
B21: - ebből Társadalombiztosítási Alapok | C21: B162 | D21: ='1b'!D21-'9b mell'!D21-'9c mell'!D21 -> 12922 | E21: ='1b'!E21-'9b mell'!E21-'9c mell'!E21 -> 12922 | F21: ='1b'!F21-'9b mell'!F21-'9c mell'!F21 -> 0 | G21: ='1b'!G21-'9b mell'!G21-'9c mell'!G21 -> 0 | H21: ='1b'!H21-'9b mell'!H21-'9c mell'!H21 -> 0 | I21: ='1b'!I21-'9b mell'!I21-'9c mell'!I21 -> 0
B22: - ebből elkülönített állami alapok | C22: B163 | D22: ='1b'!D22-'9b mell'!D22-'9c mell'!D22 -> 85076 | E22: ='1b'!E22-'9b mell'!E22-'9c mell'!E22 -> 0 | F22: ='1b'!F22-'9b mell'!F22-'9c mell'!F22 -> 0 | G22: ='1b'!G22-'9b mell'!G22-'9c mell'!G22 -> 83409 | H22: ='1b'!H22-'9b mell'!H22-'9c mell'!H22 -> 1667 | I22: ='1b'!I22-'9b mell'!I22-'9c mell'!I22 -> 0
B23: - ebből helyi önkormányzatok és költségvetési szerveik | C23: B164 | D23: ='1b'!D23-'9b mell'!D23-'9c mell'!D23 -> 0 | E23: ='1b'!E23-'9b mell'!E23-'9c mell'!E23 -> 0 | F23: ='1b'!F23-'9b mell'!F23-'9c mell'!F23 -> 0 | G23: ='1b'!G23-'9b mell'!G23-'9c mell'!G23 -> 0 | H23: ='1b'!H23-'9b mell'!H23-'9c mell'!H23 -> 0 | I23: ='1b'!I23-'9b mell'!I23-'9c mell'!I23 -> 0
B24: - ebből társulások és költségvetési szerveik | C24: B165 | D24: ='1b'!D24-'9b mell'!D24-'9c mell'!D24 -> 0 | E24: ='1b'!E24-'9b mell'!E24-'9c mell'!E24 -> 0 | F24: ='1b'!F24-'9b mell'!F24-'9c mell'!F24 -> 0 | G24: ='1b'!G24-'9b mell'!G24-'9c mell'!G24 -> 0 | H24: ='1b'!H24-'9b mell'!H24-'9c mell'!H24 -> 0 | I24: ='1b'!I24-'9b mell'!I24-'9c mell'!I24 -> 0
B25: - ebből nemzetiségi önkormányzatok és költségvetési szerveik | C25: B166 | D25: ='1b'!D25-'9b mell'!D25-'9c mell'!D25 -> 0 | E25: ='1b'!E25-'9b mell'!E25-'9c mell'!E25 -> 0 | F25: ='1b'!F25-'9b mell'!F25-'9c mell'!F25 -> 0 | G25: ='1b'!G25-'9b mell'!G25-'9c mell'!G25 -> 0 | H25: ='1b'!H25-'9b mell'!H25-'9c mell'!H25 -> 0 | I25: ='1b'!I25-'9b mell'!I25-'9c mell'!I25 -> 0
B26: - ebből fejezeti kezelésű | C26: B167 | D26: ='1b'!D26-'9b mell'!D26-'9c mell'!D26 -> 10361 | E26: ='1b'!E26-'9b mell'!E26-'9c mell'!E26 -> 10361 | F26: ='1b'!F26-'9b mell'!F26-'9c mell'!F26 -> 0 | G26: ='1b'!G26-'9b mell'!G26-'9c mell'!G26 -> 0 | H26: ='1b'!H26-'9b mell'!H26-'9c mell'!H26 -> 0 | I26: ='1b'!I26-'9b mell'!I26-'9c mell'!I26 -> 0
A27: 13 | B27: Működési célú támogatások államháztartáson belülről | C27: B1 | D27: ='1b'!D27-'9b mell'!D27-'9c mell'!D27 -> 518175 | E27: ='1b'!E27-'9b mell'!E27-'9c mell'!E27 -> 432538 | F27: ='1b'!F27-'9b mell'!F27-'9c mell'!F27 -> 561 | G27: ='1b'!G27-'9b mell'!G27-'9c mell'!G27 -> 83409 | H27: ='1b'!H27-'9b mell'!H27-'9c mell'!H27 -> 1667 | I27: ='1b'!I27-'9b mell'!I27-'9c mell'!I27 -> 0
A28: 14 | B28: Felhalmozási célú önkormányzati támogatások | C28: B21 | D28: ='1b'!D28-'9b mell'!D28-'9c mell'!D28 -> 181261 | E28: ='1b'!E28-'9b mell'!E28-'9c mell'!E28 -> 181261 | F28: ='1b'!F28-'9b mell'!F28-'9c mell'!F28 -> 0 | G28: ='1b'!G28-'9b mell'!G28-'9c mell'!G28 -> 0 | H28: ='1b'!H28-'9b mell'!H28-'9c mell'!H28 -> 0 | I28: ='1b'!I28-'9b mell'!I28-'9c mell'!I28 -> 0
A29: 15 | B29: Felhalmozási célú garancia- és kezességvállalásból származó megtérülések államháztartáson belülről | C29: B22 | D29: ='1b'!D29-'9b mell'!D29-'9c mell'!D29 -> 0 | E29: ='1b'!E29-'9b mell'!E29-'9c mell'!E29 -> 0 | F29: ='1b'!F29-'9b mell'!F29-'9c mell'!F29 -> 0 | G29: ='1b'!G29-'9b mell'!G29-'9c mell'!G29 -> 0 | H29: ='1b'!H29-'9b mell'!H29-'9c mell'!H29 -> 0 | I29: ='1b'!I29-'9b mell'!I29-'9c mell'!I29 -> 0
A30: 16 | B30: Felhalmozási célú visszatérítendő támogatások, kölcsönök visszatérülése államháztartáson belülről | C30: B23 | D30: ='1b'!D30-'9b mell'!D30-'9c mell'!D30 -> 19290 | E30: ='1b'!E30-'9b mell'!E30-'9c mell'!E30 -> 19290 | F30: ='1b'!F30-'9b mell'!F30-'9c mell'!F30 -> 0 | G30: ='1b'!G30-'9b mell'!G30-'9c mell'!G30 -> 0 | H30: ='1b'!H30-'9b mell'!H30-'9c mell'!H30 -> 0 | I30: ='1b'!I30-'9b mell'!I30-'9c mell'!I30 -> 0
A31: 17 | B31: Felhalmozási célú visszatérítendő támogatások, kölcsönök igénybevétele államháztartáson belülről | C31: B24 | D31: ='1b'!D31-'9b mell'!D31-'9c mell'!D31 -> 0 | E31: ='1b'!E31-'9b mell'!E31-'9c mell'!E31 -> 0 | F31: ='1b'!F31-'9b mell'!F31-'9c mell'!F31 -> 0 | G31: ='1b'!G31-'9b mell'!G31-'9c mell'!G31 -> 0 | H31: ='1b'!H31-'9b mell'!H31-'9c mell'!H31 -> 0 | I31: ='1b'!I31-'9b mell'!I31-'9c mell'!I31 -> 0
A32: 18 | B32: Egyéb felhalmozási célú támogatások bevételei államháztartáson belülről | C32: B25 | D32: ='1b'!D32-'9b mell'!D32-'9c mell'!D32 -> 0 | E32: ='1b'!E32-'9b mell'!E32-'9c mell'!E32 -> 0 | F32: ='1b'!F32-'9b mell'!F32-'9c mell'!F32 -> 0 | G32: ='1b'!G32-'9b mell'!G32-'9c mell'!G32 -> 0 | H32: ='1b'!H32-'9b mell'!H32-'9c mell'!H32 -> 0 | I32: ='1b'!I32-'9b mell'!I32-'9c mell'!I32 -> 0
A33: 19 | B33: Felhalmozási célú támogatások államháztartáson belülről | C33: B2 | D33: ='1b'!D33-'9b mell'!D33-'9c mell'!D33 -> 200551 | E33: ='1b'!E33-'9b mell'!E33-'9c mell'!E33 -> 200551 | F33: ='1b'!F33-'9b mell'!F33-'9c mell'!F33 -> 0 | G33: ='1b'!G33-'9b mell'!G33-'9c mell'!G33 -> 0 | H33: ='1b'!H33-'9b mell'!H33-'9c mell'!H33 -> 0 | I33: ='1b'!I33-'9b mell'!I33-'9c mell'!I33 -> 0
A34: 20 | B34: Magánszemélyek jövedelemadói | C34: B311 | D34: ='1b'!D34-'9b mell'!D34-'9c mell'!D34 -> 0 | E34: ='1b'!E34-'9b mell'!E34-'9c mell'!E34 -> 0 | F34: ='1b'!F34-'9b mell'!F34-'9c mell'!F34 -> 0 | G34: ='1b'!G34-'9b mell'!G34-'9c mell'!G34 -> 0 | H34: ='1b'!H34-'9b mell'!H34-'9c mell'!H34 -> 0 | I34: ='1b'!I34-'9b mell'!I34-'9c mell'!I34 -> 0
A35: 21 | B35: Társaságok jövedelemadói | C35: B312 | D35: ='1b'!D35-'9b mell'!D35-'9c mell'!D35 -> 0 | E35: ='1b'!E35-'9b mell'!E35-'9c mell'!E35 -> 0 | F35: ='1b'!F35-'9b mell'!F35-'9c mell'!F35 -> 0 | G35: ='1b'!G35-'9b mell'!G35-'9c mell'!G35 -> 0 | H35: ='1b'!H35-'9b mell'!H35-'9c mell'!H35 -> 0 | I35: ='1b'!I35-'9b mell'!I35-'9c mell'!I35 -> 0
A36: 22 | B36: Jövedelemadók | C36: B31 | D36: ='1b'!D36-'9b mell'!D36-'9c mell'!D36 -> 0 | E36: ='1b'!E36-'9b mell'!E36-'9c mell'!E36 -> 0 | F36: ='1b'!F36-'9b mell'!F36-'9c mell'!F36 -> 0 | G36: ='1b'!G36-'9b mell'!G36-'9c mell'!G36 -> 0 | H36: ='1b'!H36-'9b mell'!H36-'9c mell'!H36 -> 0 | I36: ='1b'!I36-'9b mell'!I36-'9c mell'!I36 -> 0
A37: 23 | B37: Szociális hozzájárulási adó és járulékok | C37: B32 | D37: ='1b'!D37-'9b mell'!D37-'9c mell'!D37 -> 0 | E37: ='1b'!E37-'9b mell'!E37-'9c mell'!E37 -> 0 | F37: ='1b'!F37-'9b mell'!F37-'9c mell'!F37 -> 0 | G37: ='1b'!G37-'9b mell'!G37-'9c mell'!G37 -> 0 | H37: ='1b'!H37-'9b mell'!H37-'9c mell'!H37 -> 0 | I37: ='1b'!I37-'9b mell'!I37-'9c mell'!I37 -> 0
A38: 24 | B38: Bérhez és foglalkoztatáshoz kapcsolódó adók | C38: B33 | D38: ='1b'!D38-'9b mell'!D38-'9c mell'!D38 -> 0 | E38: ='1b'!E38-'9b mell'!E38-'9c mell'!E38 -> 0 | F38: ='1b'!F38-'9b mell'!F38-'9c mell'!F38 -> 0 | G38: ='1b'!G38-'9b mell'!G38-'9c mell'!G38 -> 0 | H38: ='1b'!H38-'9b mell'!H38-'9c mell'!H38 -> 0 | I38: ='1b'!I38-'9b mell'!I38-'9c mell'!I38 -> 0
... A50: 36 | B50: Közvetített szolgáltatások értéke | C50: B403 | D50: ='1b'!D50-'9b mell'!D50-'9c mell'!D50 -> 2740 | E50: ='1b'!E50-'9b mell'!E50-'9c mell'!E50 -> 110 | F50: ='1b'!F50-'9b mell'!F50-'9c mell'!F50 -> 1400 | G50: ='1b'!G50-'9b mell'!G50-'9c mell'!G50 -> 1230 | H50: ='1b'!H50-'9b mell'!H50-'9c mell'!H50 -> 0 | I50: ='1b'!I50-'9b mell'!I50-'9c mell'!I50 -> 0
B51: - ebből ÁHT-n belülre közvetített | C51: B4031 | D51: ='1b'!D51-'9b mell'!D51-'9c mell'!D51 -> 2740 | E51: ='1b'!E51-'9b mell'!E51-'9c mell'!E51 -> 110 | F51: ='1b'!F51-'9b mell'!F51-'9c mell'!F51 -> 1400 | G51: ='1b'!G51-'9b mell'!G51-'9c mell'!G51 -> 1230 | H51: ='1b'!H51-'9b mell'!H51-'9c mell'!H51 -> 0 | I51: ='1b'!I51-'9b mell'!I51-'9c mell'!I51 -> 0
...

Sheet 9b mell
B1: Berhida Város Önkormányzata | D1: 1. melléklet
B2: 2015. évi költségvetés | D2: a 5/2016. (II.26.) önkormányzati rendelethez
B3: Bevételek | D3: adatok ezer Ft-ban
B4: Önként vállalt feladatok
D5: Összesen | E5: Önkorm | F5: Hivatal | G5: TESZ | H5: Süni | I5: Kultúrház
A6: Sor- szám | B6: Rovat megnevezése | C6: Rovat száma | D6: Eredeti ei | E6: Eredeti ei | F6: Eredeti ei | G6: Eredeti ei | H6: Eredeti ei | I6: Eredeti ei
A7: 1. | B7: 2. | C7: 3. | D7: 4. | E7: 4. | F7: 4. | G7: 4. | H7: 4.
A8: 01 | B8: Helyi önkormányzatok működésének általános támogatása | C8: B111 | D8: =SUM(E8:I8) -> 0
A9: 02 | B9: Települési önkormányzatok egyes köznevelési feladatainak támogatása | C9: B112 | D9: =SUM(E9:I9) -> 0
A10: 03 | B10: Települési önkormányzatok szociális és gyermekjóléti feladatainak támogatása | C10: B113 | D10: =SUM(E10:I10) -> 3953 | E10: 3953
A11: 04 | B11: Települési önkormányzatok kulturális feladatainak támogatása | C11: B114 | D11: =SUM(E11:I11) -> 0
A12: 05 | B12: Működési célú központosított előirányzatok | C12: B115 | D12: =SUM(E12:I12) -> 0
A13: 06 | B13: Helyi önkormányzatok kiegészítő támogatásai | C13: B116 | D13: =SUM(E13:I13) -> 0
A14: 07 | B14: Önkormányzatok működési támogatásai | C14: B11 | D14: =SUM(E14:I14) -> 3953 | E14: =SUM(E8:E13) -> 3953 | F14: =SUM(F8:F13) -> 0 | G14: =SUM(G8:G13) -> 0 | H14: =SUM(H8:H13) -> 0 | I14: =SUM(I8:I13) -> 0
A15: 08 | B15: Elvonások és befizetések bevételei | C15: B12 | D15: =SUM(E15:I15) -> 0
A16: 09 | B16: Működési célú garancia- és kezességvállalásból származó megtérülések államháztartáson belülről | C16: B13 | D16: =SUM(E16:I16) -> 0
A17: 10 | B17: Működési célú visszatérítendő támogatások, kölcsönök visszatérülése államháztartáson belülről | C17: B14 | D17: =SUM(E17:I17) -> 0
A18: 11 | B18: Működési célú visszatérítendő támogatások, kölcsönök igénybevétele államháztartáson belülről | C18: B15 | D18: =SUM(E18:I18) -> 0
A19: 12 | B19: Egyéb működési célú támogatások bevételei államháztartáson belülről | C19: B16 | D19: =SUM(E19:I19) -> 0 | E19: =SUM(E20:E26) -> 0 | F19: =SUM(F20:F26) -> 0 | G19: =SUM(G20:G26) -> 0 | H19: =SUM(H20:H26) -> 0 | I19: =SUM(I20:I26) -> 0
B20: - ebből központi költségvetési szervek | C20: B161 | D20: =SUM(E20:I20) -> 0
B21: - ebből Társadalombiztosítási Alapok | C21: B162 | D21: =SUM(E21:I21) -> 0
B22: - ebből elkülönített állami alapok | C22: B163 | D22: =SUM(E22:I22) -> 0
B23: - ebből helyi önkormányzatok és költségvetési szerveik | C23: B164 | D23: =SUM(E23:I23) -> 0
B24: - ebből társulások és költségvetési szerveik | C24: B165 | D24: =SUM(E24:I24) -> 0
B25: - ebből nemzetiségi önkormányzatok és költségvetési szerveik | C25: B166 | D25: =SUM(E25:I25) -> 0
B26: - ebből fejezeti kezelésű | C26: B167 | D26: =SUM(E26:I26) -> 0
A27: 13 | B27: Működési célú támogatások államháztartáson belülről | C27: B1 | D27: =SUM(E27:I27) -> 3953 | E27: =SUM(E14:E19) -> 3953 | F27: =SUM(F14:F19) -> 0 | G27: =SUM(G14:G19) -> 0 | H27: =SUM(H14:H19) -> 0 | I27: =SUM(I14:I19) -> 0
A28: 14 | B28: Felhalmozási célú önkormányzati támogatások | C28: B21 | D28: =SUM(E28:I28) -> 0
A29: 15 | B29: Felhalmozási célú garancia- és kezességvállalásból származó megtérülések államháztartáson belülről | C29: B22 | D29: =SUM(E29:I29) -> 0
A30: 16 | B30: Felhalmozási célú visszatérítendő támogatások, kölcsönök visszatérülése államháztartáson belülről | C30: B23 | D30: =SUM(E30:I30) -> 0
A31: 17 | B31: Felhalmozási célú visszatérítendő támogatások, kölcsönök igénybevétele államháztartáson belülről | C31: B24 | D31: =SUM(E31:I31) -> 0
A32: 18 | B32: Egyéb felhalmozási célú támogatások bevételei államháztartáson belülről | C32: B25 | D32: =SUM(E32:I32) -> 0
A33: 19 | B33: Felhalmozási célú támogatások államháztartáson belülről | C33: B2 | D33: =SUM(E33:I33) -> 0 | E33: =SUM(E28:E32) -> 0 | F33: =SUM(F28:F32) -> 0 | G33: =SUM(G28:G32) -> 0 | H33: =SUM(H28:H32) -> 0 | I33: =SUM(I28:I32) -> 0
A34: 20 | B34: Magánszemélyek jövedelemadói | C34: B311 | D34: =SUM(E34:I34) -> 0
A35: 21 | B35: Társaságok jövedelemadói | C35: B312 | D35: =SUM(E35:I35) -> 0
A36: 22 | B36: Jövedelemadók | C36: B31 | D36: =SUM(E36:I36) -> 0 | F36: =SUM(F34:F35) -> 0 | G36: =SUM(G34:G35) -> 0 | H36: =SUM(H34:H35) -> 0 | I36: =SUM(I34:I35) -> 0
A37: 23 | B37: Szociális hozzájárulási adó és járulékok | C37: B32 | D37: =SUM(E37:I37) -> 0
A38: 24 | B38: Bérhez és foglalkoztatáshoz kapcsolódó adók | C38: B33 | D38: =SUM(E38:I38) -> 0
A39: 25 | B39: Vagyoni tipusú adók | C39: B34 | D39: =SUM(E39:I39) -> 0
A40: 26 | B40: Értékesítési és forgalmi adók | C40: B351 | D40: =SUM(E40:I40) -> 7172 | E40: 7172
...

Sheet 9c mell
B1: Berhida Város Önkormányzata | D1: 1. melléklet
B2: 2015. évi költségvetés | D2: a 5/2016. (II.26.) önkormányzati rendelethez
B3: Bevételek | D3: adatok ezer Ft-ban
B4: Államigazgatási feladatok
D5: Összesen | E5: Önkorm | F5: Hivatal | G5: TESZ | H5: Süni | I5: Kultúrház
A6: Sor- szám | B6: Rovat megnevezése | C6: Rovat száma | D6: Eredeti ei | E6: Eredeti ei | F6: Eredeti ei | G6: Eredeti ei | H6: Eredeti ei | I6: Eredeti ei
A7: 1. | B7: 2. | C7: 3. | D7: 4. | E7: 4. | F7: 4. | G7: 4. | H7: 4.
A8: 01 | B8: Helyi önkormányzatok működésének általános támogatása | C8: B111 | D8: =SUM(E8:I8) -> 6921 | E8: 6921
A9: 02 | B9: Települési önkormányzatok egyes köznevelési feladatainak támogatása | C9: B112 | D9: =SUM(E9:I9) -> 0
A10: 03 | B10: Települési önkormányzatok szociális és gyermekjóléti feladatainak támogatása | C10: B113 | D10: =SUM(E10:I10) -> 0
A11: 04 | B11: Települési önkormányzatok kulturális feladatainak támogatása | C11: B114 | D11: =SUM(E11:I11) -> 0
A12: 05 | B12: Működési célú központosított előirányzatok | C12: B115 | D12: =SUM(E12:I12) -> 0
A13: 06 | B13: Helyi önkormányzatok kiegészítő támogatásai | C13: B116 | D13: =SUM(E13:I13) -> 0
A14: 07 | B14: Önkormányzatok működési támogatásai | C14: B11 | D14: =SUM(E14:I14) -> 6921 | E14: =SUM(E8:E13) -> 6921 | F14: =SUM(F8:F13) -> 0 | G14: =SUM(G8:G13) -> 0 | H14: =SUM(H8:H13) -> 0 | I14: =SUM(I8:I13) -> 0
A15: 08 | B15: Elvonások és befizetések bevételei | C15: B12 | D15: =SUM(E15:I15) -> 0
A16: 09 | B16: Működési célú garancia- és kezességvállalásból származó megtérülések államháztartáson belülről | C16: B13 | D16: =SUM(E16:I16) -> 0
A17: 10 | B17: Működési célú visszatérítendő támogatások, kölcsönök visszatérülése államháztartáson belülről | C17: B14 | D17: =SUM(E17:I17) -> 0
A18: 11 | B18: Működési célú visszatérítendő támogatások, kölcsönök igénybevétele államháztartáson belülről | C18: B15 | D18: =SUM(E18:I18) -> 0
A19: 12 | B19: Egyéb működési célú támogatások bevételei államháztartáson belülről | C19: B16 | D19: =SUM(E19:I19) -> 0 | E19: =SUM(E20:E26) -> 0 | F19: =SUM(F20:F26) -> 0 | G19: =SUM(G20:G26) -> 0 | H19: =SUM(H20:H26) -> 0 | I19: =SUM(I20:I26) -> 0
B20: - ebből központi költségvetési szervek | C20: B161 | D20: =SUM(E20:I20) -> 0
B21: - ebből Társadalombiztosítási Alapok | C21: B162 | D21: =SUM(E21:I21) -> 0
B22: - ebből elkülönített állami alapok | C22: B163 | D22: =SUM(E22:I22) -> 0
B23: - ebből helyi önkormányzatok és költségvetési szerveik | C23: B164 | D23: =SUM(E23:I23) -> 0
B24: - ebből társulások és költségvetési szerveik | C24: B165 | D24: =SUM(E24:I24) -> 0
B25: - ebből nemzetiségi önkormányzatok és költségvetési szerveik | C25: B166 | D25: =SUM(E25:I25) -> 0
B26: - ebből fejezeti kezelésű | C26: B167 | D26: =SUM(E26:I26) -> 0
A27: 13 | B27: Működési célú támogatások államháztartáson belülről | C27: B1 | D27: =SUM(E27:I27) -> 6921 | E27: =SUM(E14:E19) -> 6921 | F27: =SUM(F14:F19) -> 0 | G27: =SUM(G14:G19) -> 0 | H27: =SUM(H14:H19) -> 0 | I27: =SUM(I14:I19) -> 0
A28: 14 | B28: Felhalmozási célú önkormányzati támogatások | C28: B21 | D28: =SUM(E28:I28) -> 0
A29: 15 | B29: Felhalmozási célú garancia- és kezességvállalásból származó megtérülések államháztartáson belülről | C29: B22 | D29: =SUM(E29:I29) -> 0
A30: 16 | B30: Felhalmozási célú visszatérítendő támogatások, kölcsönök visszatérülése államháztartáson belülről | C30: B23 | D30: =SUM(E30:I30) -> 0
A31: 17 | B31: Felhalmozási célú visszatérítendő támogatások, kölcsönök igénybevétele államháztartáson belülről | C31: B24 | D31: =SUM(E31:I31) -> 0
A32: 18 | B32: Egyéb felhalmozási célú támogatások bevételei államháztartáson belülről | C32: B25 | D32: =SUM(E32:I32) -> 0
A33: 19 | B33: Felhalmozási célú támogatások államháztartáson belülről | C33: B2 | D33: =SUM(E33:I33) -> 0 | E33: =SUM(E28:E32) -> 0 | F33: =SUM(F28:F32) -> 0 | G33: =SUM(G28:G32) -> 0 | H33: =SUM(H28:H32) -> 0 | I33: =SUM(I28:I32) -> 0
A34: 20 | B34: Magánszemélyek jövedelemadói | C34: B311 | D34: =SUM(E34:I34) -> 0
A35: 21 | B35: Társaságok jövedelemadói | C35: B312 | D35: =SUM(E35:I35) -> 0
A36: 22 | B36: Jövedelemadók | C36: B31 | D36: =SUM(E36:I36) -> 0 | E36: =SUM(E34:E35) -> 0 | F36: =SUM(F34:F35) -> 0 | G36: =SUM(G34:G35) -> 0 | H36: =SUM(H34:H35) -> 0 | I36: =SUM(I34:I35) -> 0
A37: 23 | B37: Szociális hozzájárulási adó és járulékok | C37: B32 | D37: =SUM(E37:I37) -> 0
A38: 24 | B38: Bérhez és foglalkoztatáshoz kapcsolódó adók | C38: B33 | D38: =SUM(E38:I38) -> 0
A39: 25 | B39: Vagyoni tipusú adók | C39: B34 | D39: =SUM(E39:I39) -> 0
A40: 26 | B40: Értékesítési és forgalmi adók | C40: B351 | D40: =SUM(E40:I40) -> 0
...

Sheet 13. mell
C1: Berhida Város Önkormányzatának
C2: 2015. Évi költségvetéséhez | G2: 13. melléklet
C3: ELŐIRÁNYZAT FELHASZNÁLÁSI ÜTEMTERV | G3: a 5/2016. (II.26.) önkormányzati rendelethez
G4: adatok ezer Ft-ban
A6: 1 | B6: MEGNEVEZÉS | C6: Összesen | D6: január | E6: február | F6: március | G6: április | H6: május | I6: június | J6: július | K6: augusztus | L6: szeptember | M6: október | N6: november | O6: december | P6: Ellenőrző sor
A7: 2 | B7: Személyi juttatások | C7: 326593 | D7: =C7/12 -> 27216.083 | E7: =C7/12 -> 27216.083 | F7: =C7/12 -> 27216.083 | G7: =C7/12 -> 27216.083 | H7: =C7/12 -> 27216.083 | I7: =C7/12 -> 27216.083 | J7: =C7/12 -> 27216.083 | K7: =C7/12 -> 27216.083 | L7: =C7/12 -> 27216.083 | M7: =C7/12 -> 27216.083 | N7: =C7/12 -> 27216.083 | O7: =C7/12 -> 27216.083 | P7: =SUM(D7:O7) -> 326593
A8: 3 | B8: Munkaadókat terhelő járulékok és szociális hozzájárulási adó, | C8: 80898 | D8: =C8/12 -> 6741.5 | E8: =C8/12 -> 6741.5 | F8: =C8/12 -> 6741.5 | G8: =C8/12 -> 6741.5 | H8: =C8/12 -> 6741.5 | I8: =C8/12 -> 6741.5 | J8: =C8/12 -> 6741.5 | K8: =C8/12 -> 6741.5 | L8: =C8/12 -> 6741.5 | M8: =C8/12 -> 6741.5 | N8: =C8/12 -> 6741.5 | O8: =C8/12 -> 6741.5 | P8: =SUM(D8:O8) -> 80898
A9: 4 | B9: Dologi kiadások | C9: 249007 | D9: =C9/12 -> 20750.583 | E9: =C9/12 -> 20750.583 | F9: =C9/12 -> 20750.583 | G9: =C9/12 -> 20750.583 | H9: =C9/12 -> 20750.583 | I9: =C9/12 -> 20750.583 | J9: =C9/12 -> 20750.583 | K9: =C9/12 -> 20750.583 | L9: =C9/12 -> 20750.583 | M9: =C9/12 -> 20750.583 | N9: =C9/12 -> 20750.583 | O9: =C9/12 -> 20750.583 | P9: =SUM(D9:O9) -> 249007
A10: 5 | B10: Ellátottak pénzbeli juttatásai | C10: 51130 | D10: =C10/12 -> 4260.8333 | E10: =C10/12 -> 4260.8333 | F10: =C10/12 -> 4260.8333 | G10: =C10/12 -> 4260.8333 | H10: =C10/12 -> 4260.8333 | I10: =C10/12 -> 4260.8333 | J10: =C10/12 -> 4260.8333 | K10: =C10/12 -> 4260.8333 | L10: =C10/12 -> 4260.8333 | M10: =C10/12 -> 4260.8333 | N10: =C10/12 -> 4260.8333 | O10: =C10/12 -> 4260.8333 | P10: =SUM(D10:O10) -> 51130
A11: 7 | B11: Egyéb működési célú kiadások | C11: 273214 | D11: =C11/12 -> 22767.833 | E11: =C11/12 -> 22767.833 | F11: =C11/12 -> 22767.833 | G11: =C11/12 -> 22767.833 | H11: =C11/12 -> 22767.833 | I11: =C11/12 -> 22767.833 | J11: =C11/12 -> 22767.833 | K11: =C11/12 -> 22767.833 | L11: =C11/12 -> 22767.833 | M11: =C11/12 -> 22767.833 | N11: =C11/12 -> 22767.833 | O11: =C11/12 -> 22767.833 | P11: =SUM(D11:O11) -> 273214
A12: 16 | B12: Beruházások | C12: 122411 | D12: =C12/12 -> 10200.917 | E12: =C12/12 -> 10200.917 | F12: =C12/12 -> 10200.917 | G12: =C12/12 -> 10200.917 | H12: =C12/12 -> 10200.917 | I12: =C12/12 -> 10200.917 | J12: =C12/12 -> 10200.917 | K12: =C12/12 -> 10200.917 | L12: =C12/12 -> 10200.917 | M12: =C12/12 -> 10200.917 | N12: =C12/12 -> 10200.917 | O12: =C12/12 -> 10200.917 | P12: =SUM(D12:O12) -> 122411
A13: 17 | B13: Felújítások | C13: 191014 | D13: =C13/12 -> 15917.833 | E13: =C13/12 -> 15917.833 | F13: =C13/12 -> 15917.833 | G13: =C13/12 -> 15917.833 | H13: =C13/12 -> 15917.833 | I13: =C13/12 -> 15917.833 | J13: =C13/12 -> 15917.833 | K13: =C13/12 -> 15917.833 | L13: =C13/12 -> 15917.833 | M13: =C13/12 -> 15917.833 | N13: =C13/12 -> 15917.833 | O13: =C13/12 -> 15917.833 | P13: =SUM(D13:O13) -> 191014
A14: 19 | B14: Egyéb felhalmozási célú támogatások | C14: 3131 | D14: =C14/12 -> 260.91667 | E14: =C14/12 -> 260.91667 | F14: =C14/12 -> 260.91667 | G14: =C14/12 -> 260.91667 | H14: =C14/12 -> 260.91667 | I14: =C14/12 -> 260.91667 | J14: =C14/12 -> 260.91667 | K14: =C14/12 -> 260.91667 | L14: =C14/12 -> 260.91667 | M14: =C14/12 -> 260.91667 | N14: =C14/12 -> 260.91667 | O14: =C14/12 -> 260.91667 | P14: =SUM(D14:O14) -> 3131
A15: 20 | B15: Költségvetési kiadások | C15: =SUM(C7:C14) -> 1297398 | D15: =SUM(D7:D14) -> 108116.5 | E15: =SUM(E7:E14) -> 108116.5 | F15: =SUM(F7:F14) -> 108116.5 | G15: =SUM(G7:G14) -> 108116.5 | H15: =SUM(H7:H14) -> 108116.5 | I15: =SUM(I7:I14) -> 108116.5 | J15: =SUM(J7:J14) -> 108116.5 | ... O15: =SUM(O7:O14) -> 108116.5 | P15: =SUM(D15:O15) -> 1297398
A16: 27 | B16: Finanszírozási kiadások | C16: =C17+C18 -> 487398 | D16: =D17+D18 -> 49324.583 | E16: =E17+E18 -> 36979.583 | F16: =F17+F18 -> 36979.583 | G16: =G17+G18 -> 36979.583 | H16: =H17+H18 -> 36979.583 | I16: =I17+I18 -> 36979.583 | J16: =J17+J18 -> 36979.583 | ... O16: =O17+O18 -> 59120.583 | P16: =SUM(D16:O16) -> 487398
B17: ÁHT belüli megelőlegezések visszafiz | C17: 43643 | D17: 12345 | K17: 9157 | O17: 22141 | P17: =SUM(D17:O17) -> 43643
A18: 29 | B18: Irányító szervtől finansz támogatás | C18: 443755 | D18: =C18/12 -> 36979.583 | E18: =C18/12 -> 36979.583 | F18: =C18/12 -> 36979.583 | G18: =C18/12 -> 36979.583 | H18: =C18/12 -> 36979.583 | I18: =C18/12 -> 36979.583 | J18: =C18/12 -> 36979.583 | K18: =C18/12 -> 36979.583 | L18: =C18/12 -> 36979.583 | M18: =C18/12 -> 36979.583 | N18: =C18/12 -> 36979.583 | O18: =C18/12 -> 36979.583 | P18: =SUM(D18:O18) -> 443755
A19: 30 | B19: KIADÁSOK ÖSSZESEN: | C19: =C15+C16 -> 1784796 | D19: =D15+D16 -> 157441.08 | E19: =E15+E16 -> 145096.08 | F19: =F15+F16 -> 145096.08 | G19: =G15+G16 -> 145096.08 | H19: =H15+H16 -> 145096.08 | I19: =I15+I16 -> 145096.08 | J19: =J15+J16 -> 145096.08 | ... O19: =O15+O16 -> 167237.08 | P19: =SUM(D19:O19) -> 1784796
A20: 33 | B20: Működési célú támogatások államháztartáson belül | C20: 529049 | D20: =C20/12 -> 44087.417 | E20: =C20/12 -> 44087.417 | F20: =C20/12 -> 44087.417 | G20: =C20/12 -> 44087.417 | H20: =C20/12 -> 44087.417 | I20: =C20/12 -> 44087.417 | J20: =C20/12 -> 44087.417 | K20: =C20/12 -> 44087.417 | L20: =C20/12 -> 44087.417 | M20: =C20/12 -> 44087.417 | N20: =C20/12 -> 44087.417 | O20: =C20/12 -> 44087.417 | P20: =SUM(D20:O20) -> 529049
A21: 34 | B21: Felhalmozási célú támogatások államháztartáson belülről | C21: 200551 | D21: =C21/12 -> 16712.583 | E21: =C21/12 -> 16712.583 | F21: =C21/12 -> 16712.583 | G21: =C21/12 -> 16712.583 | H21: =C21/12 -> 16712.583 | I21: =C21/12 -> 16712.583 | J21: =C21/12 -> 16712.583 | K21: =C21/12 -> 16712.583 | L21: =C21/12 -> 16712.583 | M21: =C21/12 -> 16712.583 | N21: =C21/12 -> 16712.583 | O21: =C21/12 -> 16712.583 | P21: =SUM(D21:O21) -> 200551
A22: 35 | B22: Közhatalmi bevételek | C22: 263440 | D22: =C22/12 -> 21953.333 | E22: =C22/12 -> 21953.333 | F22: =C22/12 -> 21953.333 | G22: =C22/12 -> 21953.333 | H22: =C22/12 -> 21953.333 | I22: =C22/12 -> 21953.333 | J22: =C22/12 -> 21953.333 | K22: =C22/12 -> 21953.333 | L22: =C22/12 -> 21953.333 | M22: =C22/12 -> 21953.333 | N22: =C22/12 -> 21953.333 | O22: =C22/12 -> 21953.333 | P22: =SUM(D22:O22) -> 263440
A23: 36 | B23: Működési bevételek | C23: 66903 | D23: =C23/12 -> 5575.25 | E23: =C23/12 -> 5575.25 | F23: =C23/12 -> 5575.25 | G23: =C23/12 -> 5575.25 | H23: =C23/12 -> 5575.25 | I23: =C23/12 -> 5575.25 | J23: =C23/12 -> 5575.25 | K23: =C23/12 -> 5575.25 | L23: =C23/12 -> 5575.25 | M23: =C23/12 -> 5575.25 | N23: =C23/12 -> 5575.25 | O23: =C23/12 -> 5575.25 | P23: =SUM(D23:O23) -> 66903
A24: 37 | B24: Felhalmozási bevételek | C24: 375 | D24: =C24/12 -> 31.25 | E24: =C24/12 -> 31.25 | F24: =C24/12 -> 31.25 | G24: =C24/12 -> 31.25 | H24: =C24/12 -> 31.25 | I24: =C24/12 -> 31.25 | J24: =C24/12 -> 31.25 | K24: =C24/12 -> 31.25 | L24: =C24/12 -> 31.25 | M24: =C24/12 -> 31.25 | N24: =C24/12 -> 31.25 | O24: =C24/12 -> 31.25 | P24: =SUM(D24:O24) -> 375
B25: Működési célú átvett pénzeszközök | D25: =C25/12 -> 0 | E25: =C25/12 -> 0 | F25: =C25/12 -> 0 | G25: =C25/12 -> 0 | H25: =C25/12 -> 0 | I25: =C25/12 -> 0 | J25: =C25/12 -> 0 | K25: =C25/12 -> 0 | L25: =C25/12 -> 0 | M25: =C25/12 -> 0 | N25: =C25/12 -> 0 | O25: =C25/12 -> 0 | P25: =SUM(D25:O25) -> 0
A26: 38 | B26: Felhalmozási célú átvett pénzeszközök | C26: 570 | D26: =C26/12 -> 47.5 | E26: =C26/12 -> 47.5 | F26: =C26/12 -> 47.5 | G26: =C26/12 -> 47.5 | H26: =C26/12 -> 47.5 | I26: =C26/12 -> 47.5 | J26: =C26/12 -> 47.5 | K26: =C26/12 -> 47.5 | L26: =C26/12 -> 47.5 | M26: =C26/12 -> 47.5 | N26: =C26/12 -> 47.5 | O26: =C26/12 -> 47.5 | P26: =SUM(D26:O26) -> 570
A27: 39 | B27: Költségvetési bevételek | C27: =SUM(C20:C26) -> 1060888 | D27: =SUM(D20:D26) -> 88407.333 | E27: =SUM(E20:E26) -> 88407.333 | F27: =SUM(F20:F26) -> 88407.333 | G27: =SUM(G20:G26) -> 88407.333 | H27: =SUM(H20:H26) -> 88407.333 | I27: =SUM(I20:I26) -> 88407.333 | J27: =SUM(J20:J26) -> 88407.333 | ... O27: =SUM(O20:O26) -> 88407.333 | P27: =SUM(D27:O27) -> 1060888
A28: 55 | B28: Finanszírozási bevételek | C28: =SUM(C29:C31) -> 723908 | D28: =SUM(D29:D31) -> 57717.5 | E28: =SUM(E29:E31) -> 57717.5 | F28: =SUM(F29:F31) -> 57717.5 | G28: =SUM(G29:G31) -> 57717.5 | H28: =SUM(H29:H31) -> 57717.5 | I28: =SUM(I29:I31) -> 57717.5 | J28: =SUM(J29:J31) -> 57717.5 | ... O28: =SUM(O29:O31) -> 79858.5 | P28: =SUM(D28:O28) -> 723908
B29: Költségvetési maradvány igénybevétele | C29: 248855 | D29: =C29/12 -> 20737.917 | E29: =C29/12 -> 20737.917 | F29: =C29/12 -> 20737.917 | G29: =C29/12 -> 20737.917 | H29: =C29/12 -> 20737.917 | I29: =C29/12 -> 20737.917 | J29: =C29/12 -> 20737.917 | K29: =C29/12 -> 20737.917 | L29: =C29/12 -> 20737.917 | M29: =C29/12 -> 20737.917 | N29: =C29/12 -> 20737.917 | O29: =C29/12 -> 20737.917 | P29: =SUM(D29:O29) -> 248855
B30: ÁHT belüli megelőlegezések | C30: 31298 | K30: 9157 | O30: 22141 | P30: =SUM(D30:O30) -> 31298
A31: 56 | B31: Irányító szervtől finansz támogatás | C31: 443755 | D31: =C31/12 -> 36979.583 | E31: =C31/12 -> 36979.583 | F31: =C31/12 -> 36979.583 | G31: =C31/12 -> 36979.583 | H31: =C31/12 -> 36979.583 | I31: =C31/12 -> 36979.583 | J31: =C31/12 -> 36979.583 | K31: =C31/12 -> 36979.583 | L31: =C31/12 -> 36979.583 | M31: =C31/12 -> 36979.583 | N31: =C31/12 -> 36979.583 | O31: =C31/12 -> 36979.583 | P31: =SUM(D31:O31) -> 443755
A32: 58 | B32: BEVÉTELEK ÖSSZESEN: | C32: =C27+C28 -> 1784796 | D32: =D27+D28 -> 146124.83 | E32: =E27+E28 -> 146124.83 | F32: =F27+F28 -> 146124.83 | G32: =G27+G28 -> 146124.83 | H32: =H27+H28 -> 146124.83 | I32: =I27+I28 -> 146124.83 | J32: =J27+J28 -> 146124.83 | ... O32: =O27+O28 -> 168265.83 | P32: =SUM(D32:O32) -> 1784796
