Workbook
Name onev: [1]kod!$BT$34:$BT$3186

Sheet 1.sz.tábla 
A3: MEGNEVEZÉS | B3: 2017. évi eredeti ei. | C3: 2017. évi várható | D3: 2018. évi javaslat
A4: I. Működési célú támogatások államháztartáson belülről | B4: ='2.sz.tábla'!B5 -> 25513930 | C4: ='2.sz.tábla'!C5 -> 30786309 | D4: ='2.sz.tábla'!D5 -> 31474348
A5: II. Felhalmozási célú támogatások államháztartáson belülről | B5: ='2.sz.tábla'!B19 -> 0 | C5: ='2.sz.tábla'!C19 -> 23014491 | D5: ='2.sz.tábla'!D19 -> 5000000
A6: III. Közhatalmi bevételek | B6: ='2.sz.tábla'!B28 -> 11333000 | C6: ='2.sz.tábla'!C28 -> 11333000 | D6: ='2.sz.tábla'!D28 -> 11333000
A7: IV. Működési bevételek | B7: ='2.sz.tábla'!B41 -> 3135070 | C7: ='2.sz.tábla'!C41 -> 3202070 | D7: ='2.sz.tábla'!D41 -> 3140000
A8: V. Felhalmozási bevételek | B8: ='2.sz.tábla'!B53 -> 0 | C8: ='2.sz.tábla'!C53 -> 0 | D8: ='2.sz.tábla'!D53 -> 0
A9: VI. Működési célú átvett pénzeszközök | B9: ='2.sz.tábla'!B58 -> 0 | C9: ='2.sz.tábla'!C58 -> 0 | D9: ='2.sz.tábla'!D58 -> 0
A10: VII. Felhalmozási célú átvett pénzeszközök | B10: ='2.sz.tábla'!B62 -> 0 | C10: ='2.sz.tábla'!C62 -> 0 | D10: ='2.sz.tábla'!D62 -> 0
A11: Költségvetési bevételek összesen: | B11: =SUM(B4:B10) -> 39982000 | C11: =SUM(C4:C10) -> 68335870 | D11: =SUM(D4:D10) -> 50947348
A12: 1. Költségvetési hiány belső finanszírozására szolgáló finanszírozási bevételek | B12: ='2.sz.tábla'!B68 -> 33500000 | C12: ='2.sz.tábla'!C68 -> 34311569 | D12: ='2.sz.tábla'!D68 -> 20000000
A13: 2. Költségvetési hiány külső finanszírozására szolgáló finanszírozási célú pénzügyi műveletek bevételei | B13: ='2.sz.tábla'!B71 -> 330000 | C13: ='2.sz.tábla'!C71 -> 1079274 | D13: ='2.sz.tábla'!D71 -> 907476
A14: VIII. Finanszírozási bevételek | B14: =B12+B13 -> 33830000 | C14: =C12+C13 -> 35390843 | D14: =D12+D13 -> 20907476
A15: Bevételek összesen: | B15: =B11+B14 -> 73812000 | C15: =C11+C14 -> 103726713 | D15: =D11+D14 -> 71854824
A17: Működési kiadások | B17: =B18 -> 38761600 | C17: =C18 -> 43929225 | D17: =D18 -> 47582807
A18: Önkormányzati feladatok | B18: ='3.sz.tábla '!B36 -> 38761600 | C18: ='3.sz.tábla '!C36 -> 43929225 | D18: ='3.sz.tábla '!D36 -> 47582807
A19: Felhalmozási kiadások | B19: =SUM(B20:B22) -> 15946000 | C19: =SUM(C20:C22) -> 49456553 | D19: =SUM(D20:D22) -> 14466956
A20: Beruházások | B20: ='5. sz. tábla'!B2 -> 4331000 | C20: ='5. sz. tábla'!C2 -> 12569845 | D20: ='5. sz. tábla'!D2 -> 9119196
A21: Felújítások | B21: ='5. sz. tábla'!B23 -> 11615000 | C21: ='5. sz. tábla'!C23 -> 36855058 | D21: ='5. sz. tábla'!D23 -> 5316875
A22: Egyéb felhalmozási kiadások | B22: ='5. sz. tábla'!B30 -> 0 | C22: ='5. sz. tábla'!C30 -> 31650 | D22: ='5. sz. tábla'!D30 -> 30885
A24: Tartalékok | B24: =B25+B26 -> 17786400 | C24: =C25+C26 -> 8273661 | D24: =D25+D26 -> 7405470
A25: Általános | B25: 17786400 | C25: 7911669 | D25: =9016444-361992-1248982 -> 7405470
A26: Cél | C26: 361992
A27: Költségvetési kiadások összesen: | B27: =SUM(B24,B19,B17) -> 72494000 | C27: =SUM(C24,C19,C17) -> 101659439 | D27: =SUM(D24,D19,D17) -> 69455233
A28: Lekötött bankbetét beváltása | B28: ='5. sz. tábla'!B34 -> 0 | C28: ='5. sz. tábla'!C34 -> 0 | D28: ='5. sz. tábla'!D34 -> 0
A29: Forgatási célú értékpapír vásárlás | B29: ='5. sz. tábla'!B35 -> 0 | C29: ='5. sz. tábla'!C35 -> 0 | D29: ='5. sz. tábla'!D35 -> 0
A30: Állami támogatás megelőlegezés visszafizetés | B30: ='5. sz. tábla'!B36 -> 1318000 | C30: ='5. sz. tábla'!C36 -> 2067274 | D30: 2399591
A31: Finanszírozási kiadások összesen: | B31: =SUM(B28:B30) -> 1318000 | C31: =SUM(C28:C30) -> 2067274 | D31: =SUM(D28:D30) -> 2399591
A32: Kiadások összesen: | B32: =B27+B31 -> 73812000 | C32: =C27+C31 -> 103726713 | D32: =D27+D31 -> 71854824

Sheet 2.sz.tábla
A3: MEGNEVEZÉS | B3: ÖNKORMÁNYZAT
B4: 2017. évi eredeti ei. | C4: 2017. évi várható | D4: 2018. évi javaslat
A5: I. Működési célú támogatások államháztartáson belülről | B5: =B6+B12+B13+B14+B15+B16 -> 25513930 | C5: =C6+C12+C13+C14+C15+C16 -> 30786309 | D5: =D6+D12+D13+D14+D15+D16 -> 31474348
A6: 1. Önkormányzat működési támogatásai | B6: 24701417 | C6: =SUM(C7:C11) -> 26866626 | D6: =D7+D8+D9 -> 28253068
A7: 1.1. Helyi önk. működésének ált. támogatása | B7: 17352417 | C7: 18352417 | D7: ='2a. tábla'!E5 -> 19558068
A8: 1.3. Települési önk. szoc. és gyermekjóléti feladatainak tám. | B8: 6149000 | C8: 6238609 | D8: ='2a. tábla'!E34 -> 6895000
A9: 1.4. Települési önk. kult. feladatainak támogatása | B9: 1200000 | C9: 1200000 | D9: ='2a. tábla'!E42 -> 1800000
A10: 1.5. Helyi önk. Működési célú költségvetési támogatásai és kiegészítő támogatásai | C10: 1075600
A11: 1.6. Elszámolásból származó bevételek
A12: 2. Elvonások, befizetések
A13: 3. Működési célú garancia- és kezességvállalásból származó megtérülések áh-n belülről
A14: 4. Működési célú visszatérítendő támogatások, kölcsönök visszatérülése áh-n belülről
A15: 5. Működési célú visszatérítendő támogatások, kölcsönök igénybevétele áh-n belülről
A16: 6. Egyéb működési célú támogatások bevételei államháztartáson belülről | B16: =SUM(B17:B18) -> 812513 | C16: =SUM(C17:C18) -> 3919683 | D16: =SUM(D17:D18) -> 3221280
A17: Közfoglalkoztatottak támogatás | B17: 812513 | C17: 3076283 | D17: 3221280
A18: Víz és csatorna támogatás | C18: 843400
A19: II. Felhalmozási célú támogatások államháztartáson belülről | B19: =B20+B24+B25+B26+B27 -> 0 | C19: =C20+C24+C25+C26+C27 -> 23014491 | D19: =D20+D24+D25+D26+D27 -> 5000000
A20: 1. Felhalmozási célú önkormányzati támogatások | C20: =SUM(C21:C23) -> 23014491 | D20: =SUM(D21:D23) -> 5000000 | E20: =#REF! -> #REF! | F20: =#REF! -> #REF! | G20: =#REF! -> #REF! | H20: =#REF! -> #REF!
A21: Mosó pályázat támogatás | D21: 5000000
A22: Sportöltöző és sportpálya felújítás pályázat | C22: 13000000
A23: "Önkormányzati feladatellátás szolg.fejl.tám" pályázat | C23: 10014491
A24: 2. Felhalmozási célú garancia- és kezességvállalásból származó megtérülések áh-n belülről
A25: 3. Felhalmozási célú visszatérítendő támogatások, kölcsönök visszatérülése áh-n belülről
A26: 4. Felhalmozási célú visszatérítendő támogatások, kölcsönök igénybevétele áh-n belülről
A27: 5. Egyéb felhalmozási célú támogatások államháztartáson belülről
A28: III. Közhatalmi bevételek | B28: =B29+B32+B40 -> 11333000 | C28: =C29+C32+C40 -> 11333000 | D28: =D29+D32+D40 -> 11333000
A29: 1. Vagyoni típusú adók | B29: =SUM(B30:B31) -> 5883000 | C29: =SUM(C30:C31) -> 5883000 | D29: =SUM(D30:D31) -> 5883000
A30: 1.1. Magánszemélyek kommunális adója | B30: 5583000 | C30: 5583000 | D30: 5583000
A31: 1.2. Telekadó | B31: 300000 | C31: 300000 | D31: 300000
A32: 2. Termékek és szolgáltatások adói | B32: =B33+B35+B36 -> 5350000 | C32: =C33+C35+C36 -> 5350000 | D32: =D33+D35+D36 -> 5350000
A33: 2.1. Értékesítési és forgalmi adók | B33: 3500000 | C33: 3500000 | D33: 3500000
A34: 2.1. 1. Iparűzési adó | B34: 3500000 | C34: 3500000 | D34: 3500000
A35: 2.2. Gépjárműadók | B35: 1800000 | C35: 1800000 | D35: 1800000 | E35: 1800000 | F35: 1800000 | G35: 1800000 | H35: 1800000
A36: 2.3. Egyéb áruhasználati és szolgáltatási adók | B36: =SUM(B37:B39) -> 50000 | C36: =SUM(C37:C39) -> 50000 | D36: =SUM(D37:D39) -> 50000
A37: 2.3.1. Ifa személyek u. | B37: 50000 | C37: 50000 | D37: 50000
A38: 2.3.2. Talajterhelési díj
A39: 2.3.3. Települési adó | C39: 0
A40: 3. Egyéb közhatalmi bevételek (bírság, pótlék,) | B40: 100000 | C40: 100000 | D40: 100000
A41: IV. Működési bevételek | B41: =B42+B43+B45+B46+B48+B49+B50+B51+B52 -> 3135070 | C41: =C42+C43+C45+C46+C48+C49+C50+C51+C52 -> 3202070 | D41: =D42+D43+D45+D46+D48+D49+D50+D51+D52 -> 3140000
A42: 1. Áru- és készletértékesítés bevétele
...

Sheet 2a. tábla
A3: MEGNEVEZÉS | B3: LÉTSZÁM | C3: MUTATÓ | D3: FAJLAGOS | E3: ELŐIRÁNYZAT
A5: I. HELYI ÖNKORMÁNYZATOK MŰKÖDÉSÉNEK ÁLT.TÁMOGATÁSA | E5: =E6+E28+E29 -> 19558068
A6: 1. Települési önkormányzatok működésének támogatása | E6: =E7+E10+E20+E21+E23+E24+E26+E27+E30 -> 18387668
A7: Önkormányzati hivatal működtetésének támogatás (beszámítás után) | E7: =E8 -> 0
A8: Önkormányzati hivatal működtetésének támogatás elismert hivatali létsz. | E8: =C8*D8 -> 0
A9: Beszámítás összege | E9: 0
A10: Település üzemeltetéséhez kapcsolódó feladatellát.támog.(beszámítás után) | E10: =E11+E12+E13+E14+E15+E16+E17+E18 -> 7493580
A11: Zöldterület-gazdálk-al kapcsolatos feladatok ellátásának támog. | D11: 22300 | E11: 985660
A12: Beszámítás összege
A13: Közvilágítás fenntartásának támogatás | E13: 4928000
A14: Beszámítás összege
A15: Köztemető fenntartással kapcsolatos feladatok támog. | E15: 0
A16: Beszámítás összege
A17: Közutak fenntartásának támogatás | E17: 1579920
A18: Beszámítás összege
A19: Egyéb önkormányzati feladatok támogatása (beszámítás után) | E19: =E20+E21 -> 5000000
A20: Egyéb önkormányzati feladatok támogatása | D20: 2700 | E20: 5000000
A21: Beszámítás összege
A22: Lakott külterületekkel kapcsolatos feladatok támogatása(beszámítás után) | E22: =E23+E24 -> 112200
A23: Lakott külterületekkel kapcsolatos feladatok támogatása | D23: 2550 | E23: 112200
A24: Beszámítás összege
A25: Üdülőhelyi feladatok támogatása (beszámitás után) | E25: =E26 -> 75370
A26: Üdülőhelyi feladatok támogatása | E26: 75370
A27: Beszámítás összege
A28: 2016. évről áthúzódó bérkompenzáció támogatása
A29: Polgármesteri illetmény támogatása | E29: 1170400
A30: Kiegészítés összege | E30: 5706518
A32: II. EGYES KÖZNEVELÉSI FELADATOK TÁMOGATÁSA
A34: III. SZOCIÁLIS, GYERMEKJÓLÉTI ÉS GYERMEKÉTKEZTETÉSI FELADATAI | E34: =E35+E38+E40 -> 6895000
A35: Pénzbeli szociális juttatások | E35: =SUM(E36:E37) -> 3795000
A36: Pénzbeli szociális ellátások kiegészítése
A37: Települési önkormányzatok szociális feladatainak egyéb támogatása | E37: 3795000
A38: Egyes szoc.és gyermekjólétii felad.támog. | E38: =E39 -> 3100000
A39: Falugondnoki vagy tanyagondnoki | E39: 3100000
A40: Gyermekétkeztetés támogatása
A42: Kulturális feladatok támogatása | E42: =E43 -> 1800000
A43: Nyilvános könyvtári és közművelődési feladatok támogatása | E43: 1800000
A45: Összesen | E45: =E42+E34+E32+E5 -> 28253068

Sheet 3.sz.tábla 
A4: MEGNEVEZÉS | B4: 2017. évi eredeti ei. | C4: 2017. évi várható | D4: 2018. évi javaslat
A5: I. Önkormányzati Hivatal költségvetése
A6: 1. Személyi juttatás | B6: 9751000 | C6: 12356756 | D6: =8933820+1935080+149009+149009+185000 -> 11351918
A7: 2. Munkaadót terhelő járulékok | B7: 2092100 | C7: 2448370 | D7: 2307565
A8: 3. Dologi kiadások | B8: =SUM(B9:B23) -> 12859500 | C8: 14467253 | D8: =SUM(D9:D23) -> 17032982
A9: Szakmai anyagok beszerzése | B9: 35000 | C9: 35000 | D9: 35000
A10: Üzemeltetési anyagok beszerzése | B10: 1960000 | C10: 1960000 | D10: 1960000
A11: Informatikai szolg.igénybevétele | B11: 435000 | C11: 465000 | D11: =465000+12*3000 -> 501000
A12: Egyéb kommunikációs szolg. | B12: 684000 | C12: 704000 | D12: 705000
A13: Közüzemi díjak | B13: 1983000 | C13: 2103000 | D13: 2105000
A14: Vásárolt élelmezés | B14: 15000 | C14: 18300 | D14: 20000
A15: Bérleti és lizing díjak | B15: 460000 | C15: 460000 | D15: 460000
A16: Karbantartási szolg. | B16: 525000 | C16: 525000 | D16: =525000+1248982 -> 1773982
A17: Közvetített szolgáltatások | B17: 20000 | C17: 20000 | D17: 20000
A18: Szakmai tevékenységet segítő szolg. | B18: 1141000 | C18: 1203992 | D18: =630000+47000*12+25000*12 -> 1494000
A19: Egyéb szolgáltatások | B19: 3300000 | C19: 3260000 | D19: 4000000
A20: Reklám és propaganda | B20: 60000 | C20: 60000 | D20: 60000
A21: Működési célú előzetesen felsz.áfa | B21: 1996500 | C21: 2121500 | D21: 2121000
A22: Fizetendő áfa | B22: 0 | C22: 717000 | D22: 700000
A23: Egyéb dologi kiadások | B23: 245000 | C23: 814461 | D23: =815000+263000 -> 1078000
A24: 4. Ellátottak pénzbeli juttatásai | B24: =B25 -> 1810000 | C24: =C25 -> 1810000 | D24: =D25 -> 3795000
A25: Települési támogatás | B25: 1810000 | C25: 1810000 | D25: 3795000
A26: 5. Egyéb működési célú kiadások | B26: =B27+B29+B30+B31+B32+B33+B34 -> 12249000 | C26: =C27+C29+C30+C31+C32+C33+C34+C28 -> 12846846 | D26: =D27+D29+D30+D31+D32+D33+D34+D28 -> 13095342
A27: 1. Működési célú garancia- és kezességvállalásból származó kifizetés áh-n belülre
A28: 2. Elvonások, befizetések
A29: 3. Működési célú visszatérítendő támogatások, kölcsönök nyújtása áh-n belülre
A30: 4. Működési célú visszatérítendő támogatások, kölcsönök törlesztése áh-n belülre
A31: 5. Egyéb működési célú támogatások áh-n belülre | B31: ='4.sz.tábla'!B3 -> 11209000 | C31: ='4.sz.tábla'!C3 -> 11293446 | D31: ='4.sz.tábla'!D3 -> 12335342
A32: 6. Működési célú garancia- és kezességvállalásból származó kifizetés államháztartáson kívülre
A33: 7. Működési célú visszatérítendő támogatások, kölcsönök nyújtása áh-n kívülre
A34: 8. Egyéb működési célú támogatások áh-n kívülre | B34: ='4.sz.tábla'!B9 -> 1040000 | C34: ='4.sz.tábla'!C9 -> 1553400 | D34: ='4.sz.tábla'!D9 -> 760000
A36: Önkormányzati működési kiadások összesen: | B36: =B6+B7+B8+B24+B26 -> 38761600 | C36: =C6+C7+C8+C24+C26 -> 43929225 | D36: =D6+D7+D8+D24+D26 -> 47582807

Sheet 4.sz.tábla
A2: Megnevezés | B2: 2017. évi eredeti ei. | C2: 2017. évi várható | D2: 2017. évi javaslat
A3: 1. Működési célú támogatások államháztartáson belülre | B3: =SUM(B4:B8) -> 11209000 | C3: =SUM(C4:C7) -> 11293446 | D3: =SUM(D4:D7) -> 12335342
A4: Közoktatási Intézményfenntartó Társulás Pécsely Óvoda fenntart támogatás | B4: 3853347 | C4: 3044080 | D4: 4863153
A5: Balatonfüredi közös Önkorm Hivatal | B5: 5762637 | C5: 6656350 | D5: 6117300
A6: Bf. Többcélú Társulás | B6: 1043016 | C6: 1043016 | D6: 954889
A7: BURSA Hungarica ösztöndíj (Wekerle Sándor Alapkezelő) | B7: 550000 | C7: 550000 | D7: 400000
A8: Egyéb
A9: 2. Működési célú támogatások államháztartáson kívülre | B9: =SUM(B10:B15) -> 1040000 | C9: =SUM(C10:C17) -> 1553400 | D9: =SUM(D10:D17) -> 760000
A10: Református egyház | B10: 50000 | C10: 50000
A11: Mosoly Alapítány | B11: 10000 | C11: 0
A12: Bfüredi Önk Tűzoltóságnak | B12: 330000 | C12: 0 | D12: 0
A13: Balatonszőlős Darts egyesület | B13: 150000 | C13: 150000 | D13: 150000
A14: Balatonszőlős Sport egyesület | B14: 400000 | C14: 400000 | D14: 500000
A15: Tihany Iskoláért Alapítvány | B15: 100000 | C15: 100000 | D15: 100000
A16: Bakonykarszt-Víz és csatorna támogatás | C16: 843400
A17: Falugondnokok Egyesülete | C17: 10000 | D17: 10000
A18: 3. Működési célú visszatérítendő támogatások, kölcsönök nyújtása, törlesztése | B18: 0 | C18: =SUM(C19:C19) -> 0 | D18: 0
A20: Egyéb működési célú kiadások összesen:
A26: Összesen: | B26: =B9+B3 -> 12249000 | C26: =C9+C3 -> 12846846 | D26: =D9+D3 -> 13095342

Sheet 5. sz. tábla
A1: Megnevezés | B1: 2017. évi eredeti ei. | C1: 2017. évi várható | D1: 2018. évi javaslat
A2: I. BERUHÁZÁSOK | B2: =B3+B6+B14+B13 -> 4331000 | C2: =C3+C6+C14+C13 -> 12569845 | D2: =D3+D6+D14+D13 -> 9119196
A3: Immateriális javak beszerzése | C3: =SUM(C4:C5) -> 1000000 | D3: =SUM(D4:D5) -> 2500000
A4: Településarculati kézikönyv | C4: 1000000
A5: Rendezési terv felülvizsgálat önrész | B5: 0 | C5: 0 | D5: 2500000
A6: Ingatlanok beszerzése, létesítése | B6: =SUM(B7:B11) -> 3792275 | C6: =SUM(C7:C12) -> 6968620 | D6: =SUM(D7:D12) -> 4569196
A7: Közösségi Ház féltető | B7: 400000 | C7: 400000 | D7: 0
A8: Közösségi Ház kemence | B8: 100000 | C8: 100000 | D8: 0
A9: Közösségi Ház nyitott szintere | B9: 500000 | C9: 500000 | D9: 0
A10: Mosó pályázat önrésze | B10: 2292275 | C10: 4127500 | D10: 3228076
A11: Híd készítése (85/2016) | B11: 500000 | C11: 500000 | D11: 0
A12: MLSZ futballpálya körbekerítés | B12: 0 | C12: 1341120 | D12: 1341120
A13: Informatikai eszközök beszerzése, létesítése | C13: 36000 | D13: 50000
A14: Egyéb tárgyi eszköz beszerzése | B14: =SUM(B15:B17) -> 538725 | C14: =SUM(C15:C21) -> 4565225 | D14: =SUM(D15:D21) -> 2000000
A15: Led lámpatest | B15: 85725 | C15: 85725
A16: Közösségi Ház Gázkazán | B16: 300000 | C16: 300000
A17: Műtrágya szóró | B17: 153000 | C17: 153000
A18: fűnyíró | C18: 98000
A19: Rendezvénysátor 1/4 tulajdonrésze | C19: 2222500
A20: Kisértékű tárgyi eszközök | C20: 656000 | D20: 2000000
A21: Soprtöltöző felújítás pályázathoz t.e. beszerzések | C21: 1050000
A22: Részesedések beszerzése
A23: II. FELÚJÍTÁSOK | B23: =B24 -> 11615000 | C23: =C24 -> 36855058 | D23: =D24 -> 5316875
A24: Ingatlanok Felújítása | B24: =SUM(B25:B29) -> 11615000 | C24: =SUM(C25:C29) -> 36855058 | D24: =SUM(D25:D29) -> 5316875
A25: Pécselyi iskola tető felújítása tulajdonarányosan | B25: 315774 | C25: 315774 | D25: 314112
A26: Adóságkonszolidációs pályázat-utak felújítása | B26: 9999226 | C26: 9999226 | D26: 0
A27: Adóságkonszolidációs pályázat-utak felújítása (pótmunkák) | B27: 300000 | C27: 840372 | D27: 0
A28: Sportöltöző és sportpálya felújítása pályázat önrész | B28: 1000000 | C28: 12950000 | D28: 4034832
A29: "Önkormányzati feladattellátást szolgáló fejl.tám." pályázat, utak felújítása | B29: 0 | C29: 12749686 | D29: 967931
A30: III. EGYÉB FELHALMOZÁSI KIADÁSOK | B30: =B31 -> 0 | C30: =C31 -> 31650 | D30: =D31 -> 30885
A31: Egyéb felhalmozási kiadások | B31: 0 | C31: 31650 | D31: 30885
A32: Pécsely Óvoda | C32: 31650 | D32: 30885
A33: IV. Finanszírozási kiadások | B33: =B34+B35+B36 -> 1318000 | C33: =C34+C35+C36 -> 2067274 | D33: =D34+D35+D36 -> 2399591
A34: Lekötött bankbetét beváltása
A35: Forgatási célú értékpapír vásárlás
A36: Állami támogatás megelőlegezés visszafizetés | B36: 1318000 | C36: 2067274 | D36: 2399591
A37: Felhalmozási kiadások összesen: | B37: =B2+B23+B33+B30 -> 17264000 | C37: =C2+C23+C33+C30 -> 51523827 | D37: =D2+D23+D33+D30 -> 16866547

Sheet 6. sz. tábla 
A2: Az Önkormányzat működési bevételei és kiadásai 2018. év
A4: 1. Működési bevételek | B4: 2017. évi eredeti ei. | C4: 2017. évi várható | D4: 2018. évi javaslat | E4: 2. Működési kiadások | F4: 2016. évi eredeti ei. | G4: 2016. évi várható | H4: 2017. évi javaslat
A5: 1. Működési célú támogatások államháztartáson belülről | B5: ='1.sz.tábla '!B4 -> 25513930 | C5: ='1.sz.tábla '!C4 -> 30786309 | D5: ='1.sz.tábla '!D4 -> 31474348 | E5: 1. Személyi juttatások | F5: ='3.sz.tábla '!B6 -> 9751000 | G5: ='3.sz.tábla '!C6 -> 12356756 | H5: ='3.sz.tábla '!D6 -> 11351918
A6: 2. Közhatalmi bevételek | B6: ='1.sz.tábla '!B6 -> 11333000 | C6: ='1.sz.tábla '!C6 -> 11333000 | D6: ='1.sz.tábla '!D6 -> 11333000 | E6: 2. Munkaadót terhelő járulékok és szoc.hj. Adó | F6: ='3.sz.tábla '!B7 -> 2092100 | G6: ='3.sz.tábla '!C7 -> 2448370 | H6: ='3.sz.tábla '!D7 -> 2307565
A7: 3. Működési bevételek | B7: ='1.sz.tábla '!B7 -> 3135070 | C7: ='1.sz.tábla '!C7 -> 3202070 | D7: ='1.sz.tábla '!D7 -> 3140000 | E7: 3. Dologi kiadások | F7: ='3.sz.tábla '!B8 -> 12859500 | G7: ='3.sz.tábla '!C8 -> 14467253 | H7: ='3.sz.tábla '!D8 -> 17032982
A8: 4. Működési célú átvett pénzeszközök államháztartáson kivülről | C8: ='2.sz.tábla'!C58 -> 0 | E8: 4. Ellátottak pénzbeli juttatásai | F8: ='3.sz.tábla '!B24 -> 1810000 | G8: ='3.sz.tábla '!C24 -> 1810000 | H8: ='3.sz.tábla '!D24 -> 3795000
E9: 5. Egyéb működési célú kiadások | F9: =F10+F11+F12+F13 -> 12249000 | G9: =G10+G11+G12+G13 -> 12846846 | H9: =H10+H11+H12+H13 -> 13095342
E10: 5.1. Elvonások, befizetések | G10: ='3.sz.tábla '!C28 -> 0
E11: 5.2. Egyéb működési célú támogatások áh-n belülre | F11: ='4.sz.tábla'!B3 -> 11209000 | G11: ='4.sz.tábla'!C3 -> 11293446 | H11: ='4.sz.tábla'!D3 -> 12335342
E12: 5.4. Egyéb működési célú támogatások áh-n kívülre | F12: ='4.sz.tábla'!B9 -> 1040000 | G12: ='4.sz.tábla'!C9 -> 1553400 | H12: ='4.sz.tábla'!D9 -> 760000
E13: 5.5. Működési célú visszatérítendő támogatások, kölcsönök nyújtása áh-n kívülre
E14: 6. Pénzforgalom nélküli kiadások (tartalék) | F14: ='1.sz.tábla '!B24 -> 17786400 | G14: ='1.sz.tábla '!C24 -> 8273661 | H14: ='1.sz.tábla '!D24 -> 7405470
A15: Összes költségvetési működési bevétel: | B15: =SUM(B5:B14) -> 39982000 | C15: =SUM(C5:C14) -> 45321379 | D15: =SUM(D5:D14) -> 45947348 | E15: Összes költségvetési működési kiadás: | F15: =F5+F6+F7+F8+F9+F14 -> 56548000 | G15: =G5+G6+G7+G8+G9+G14 -> 52202886 | H15: =H5+H6+H7+H8+H9+H14 -> 54988277
A16: Működési többlet: | E16: Működési hiány: | F16: =F15-B15 -> 16566000 | G16: =G15-C15 -> 6881507 | H16: =H15-D15 -> 9040929
A17: Költségvetési hiány belső finanszírozása működési célú | B17: =SUM(B18) -> 33500000 | C17: =SUM(C18) -> 34311569 | D17: =SUM(D18) -> 20000000 | E17: Finanszírozási célú műveletek kiadásai működési célú | F17: =F18+F19+F20+F21 -> 1318000 | G17: =G18+G19+G20+G21 -> 2067274 | H17: =H18+H19+H20+H21 -> 2399591
A18: 5. Költségvetési Maradvány | B18: ='2.sz.tábla'!B69 -> 33500000 | C18: ='2.sz.tábla'!C69 -> 34311569 | D18: ='2.sz.tábla'!D69 -> 20000000 | E18: 7. Állami támogatás megelőlegezés visszafizetése | F18: ='5. sz. tábla'!B36 -> 1318000 | G18: ='5. sz. tábla'!C36 -> 2067274 | H18: ='5. sz. tábla'!D36 -> 2399591
A19: Költségvetési hiány külső finanszírozása működési célú | B19: =SUM(B20:B22) -> 330000 | C19: =SUM(C20:C22) -> 1079274 | D19: =SUM(D20:D22) -> 907476 | E19: 8. Lekötött bankbetét megszüntetése | G19: ='5. sz. tábla'!C34 -> 0
A20: 6. Értékpapír beváltása | B20: ='2.sz.tábla'!B72 -> 0 | C20: ='2.sz.tábla'!C72 -> 0 | D20: ='2.sz.tábla'!D72 -> 0 | E20: 9. Betét vásárlás
A21: 7. Lekötött bankbetét megszüntetése | C21: ='2.sz.tábla'!C74 -> 0 | E21: 10. Forgatási célú értékpapír vás. | F21: ='5. sz. tábla'!B35 -> 0 | G21: ='5. sz. tábla'!C35 -> 0 | H21: ='5. sz. tábla'!D35 -> 0
A22: 8. Állami támogatás megelőlegezés visszafizetése | B22: ='2.sz.tábla'!B73 -> 330000 | C22: ='2.sz.tábla'!C73 -> 1079274 | D22: ='2.sz.tábla'!D73 -> 907476
A23: Összes működési bevétel: | B23: =B15+B17+B19 -> 73812000 | C23: =C15+C17+C19 -> 80712222 | D23: =D15+D17+D19 -> 66854824 | E23: Összes működési kiadás | F23: =F15+F17 -> 57866000 | G23: =G17+G15 -> 54270160 | H23: =H17+H15 -> 57387868
A25: Az Önkormányzat felhalmozási bevételei és kiadásai 2018. év
A27: 1. Felhalmozási bevételek | B27: 2017. évi eredeti ei. | C27: 2017. évi várható | D27: 2018. évi javaslat | E27: 2. Felhalmozási kiadások | F27: 2017. évi eredeti ei. | G27: 2017. évi várható | H27: 2018. évi javaslat
A28: 1. Felhalmozási célú támogatások államháztartáson belülről | B28: ='2.sz.tábla'!B19 -> 0 | C28: ='2.sz.tábla'!C19 -> 23014491 | D28: ='2.sz.tábla'!D19 -> 5000000 | E28: 1.1. Beruházások | F28: ='5. sz. tábla'!B2 -> 4331000 | G28: ='5. sz. tábla'!C2 -> 12569845 | H28: ='5. sz. tábla'!D2 -> 9119196
A29: 2. Felhalmozási bev. | B29: ='2.sz.tábla'!B53 -> 0 | C29: ='2.sz.tábla'!C53 -> 0 | D29: ='2.sz.tábla'!D53 -> 0 | E29: 1.2. Int.saját hatáskörű fejlesztések
A30: 3. Felhalmozási célú átvett pénzeszközök | B30: ='2.sz.tábla'!B62 -> 0 | C30: ='2.sz.tábla'!C62 -> 0 | D30: ='2.sz.tábla'!D62 -> 0 | E30: 2. Felújítások | F30: ='5. sz. tábla'!B23 -> 11615000 | G30: ='5. sz. tábla'!C23 -> 36855058 | H30: ='5. sz. tábla'!D23 -> 5316875
E31: 3. Egyéb felhalmozási kiadások | F31: ='5. sz. tábla'!B30 -> 0 | G31: ='5. sz. tábla'!C30 -> 31650 | H31: ='5. sz. tábla'!D30 -> 30885
E32: 3.1. Egyéb felhalmozási célú támogatások áh-n kívülre
E33: 3.2. Egyéb felhalmozási célú támogatások áh-n belülre
E34: 3.3. Felhalmozási célú visszatérítendő támogatások, kölcsönök nyújtása áh-n belülre
E35: 3.3. Felhalmozási célú visszatérítendő támogatások, kölcsönök nyújtása áh-n kívülre
A36: Összes költségvetési felhalmozási bevétel: | B36: =SUM(B28:B34) -> 0 | C36: =SUM(C28:C34) -> 23014491 | D36: =SUM(D28:D34) -> 5000000 | E36: Összes költségvetési felhalmozási kiadás: | F36: =SUM(F28:F31) -> 15946000 | G36: =SUM(G28:G31) -> 49456553 | H36: =SUM(H28:H31) -> 14466956
A37: Felhalmozási többlet: | B37: =B36-F36 -> -15946000 | C37: =C36-G36 -> -26442062 | D37: =D36-H36 -> -9466956 | E37: Felhalmozási hiány: | H37: =H36-D36 -> 9466956
A38: Költségvetési hiány belső finanszírozása felhalmozási célú | B38: =SUM(B39) -> 0 | C38: =SUM(C39) -> 0 | D38: =SUM(D39) -> 0 | E38: Finanszírozási célú műveletek kiadásai felhalmozási célú | F38: =SUM(F39:F41) -> 0 | G38: =SUM(G39:G41) -> 0 | H38: =SUM(H39:H41) -> 0
A39: 4.Költségvetési maradvány | B39: ='2.sz.tábla'!B70 -> 0 | C39: ='2.sz.tábla'!C70 -> 0 | D39: ='2.sz.tábla'!D70 -> 0 | E39: 4. Értékpapírok visszavásárlása
A40: Költségvetési hiány külső finanszírozása felhalmozási célú | B40: =SUM(B41:B42) -> 0 | C40: =SUM(C41:C42) -> 0 | D40: =SUM(D41:D42) -> 0 | E40: 5. Hitelek törlesztése
A41: 5. Értékpapír kibocsátás, értékesítés | E41: 6. Állami támogatás megelőlegezés visszafizetése
A42: 6. Hitelfelvétel
A43: Összes felhalmozási bevétel: | B43: =B36+B38+B40 -> 0 | C43: =C36+C38+C40 -> 23014491 | D43: =D36+D38+D40 -> 5000000 | E43: Összes felhalmozási kiadás | F43: =F36+F38 -> 15946000 | G43: =G36+G38 -> 49456553 | H43: =H36+H38 -> 14466956
A45: Bevétele és kiadások mérlege 2018. év
...

Sheet 7. sz. tábla
A3: Az Önkormányzat kötelező feladatok bevételei és kiadásai 2018. év
A5: 1. Működési bevételek | B5: 2017. évi eredeti ei. | C5: 2017. évi várható | D5: 2018. évi javaslat | E5: 2. Működési kiadások | F5: 2017. évi eredeti ei. | G5: 2017. évi várható | H5: 2018. évi javaslat
A6: Működési bevételek | E6: Működési kiadások
A7: 1. Működési támogatások államháztartáson belülről | B7: ='6. sz. tábla '!B5 -> 25513930 | C7: ='6. sz. tábla '!C5 -> 30786309 | D7: ='6. sz. tábla '!D5 -> 31474348 | E7: 1. Személyi juttatások | F7: ='6. sz. tábla '!F5 -> 9751000 | G7: ='6. sz. tábla '!G5 -> 12356756 | H7: ='6. sz. tábla '!H5 -> 11351918
A8: 2. Közhatalmi bevételek | B8: ='6. sz. tábla '!B6 -> 11333000 | C8: ='6. sz. tábla '!C6 -> 11333000 | D8: ='6. sz. tábla '!D6 -> 11333000 | E8: 2. Munkaadót terhelő járulékok | F8: ='6. sz. tábla '!F6 -> 2092100 | G8: ='6. sz. tábla '!G6 -> 2448370 | H8: ='6. sz. tábla '!H6 -> 2307565
A9: 3. Működési bevételek | B9: ='6. sz. tábla '!B7-B38 -> 3135070 | C9: ='6. sz. tábla '!C7-C38 -> 3202070 | D9: ='6. sz. tábla '!D7-D38 -> 3140000 | E9: 3. Dologi kiadások | F9: ='6. sz. tábla '!F7-F38 -> 12859500 | G9: ='6. sz. tábla '!G7-G38 -> 14467253 | H9: ='6. sz. tábla '!H7-H38 -> 17032982
A10: 4. Működési célú átvett pénzeszközök államháztartáson kivülről | B10: ='6. sz. tábla '!B8 -> 0 | C10: ='6. sz. tábla '!C8 -> 0 | D10: ='6. sz. tábla '!D8 -> 0 | E10: 4. Ellátottak pénzbeli juttatásai | F10: ='6. sz. tábla '!F8 -> 1810000 | G10: ='6. sz. tábla '!G8 -> 1810000 | H10: ='6. sz. tábla '!H8 -> 3795000
E11: 5. Egyéb működési célú kiadások | F11: =F13+F14+F15 -> 11209000 | G11: =G13+G14+G15+G12 -> 11293446 | H11: =H13+H14+H15 -> 12335342
E12: 5.1. Elvonások, befizetések | F12: ='6. sz. tábla '!F10 -> 0 | G12: ='6. sz. tábla '!G10 -> 0 | H12: ='6. sz. tábla '!H10 -> 0
E13: 5.2. Egyéb működési célú támogatások áh-n belülre | F13: ='6. sz. tábla '!F11 -> 11209000 | G13: ='6. sz. tábla '!G11 -> 11293446 | H13: ='6. sz. tábla '!H11 -> 12335342
E14: 5.4. Egyéb működési célú támogatások áh-n kívülre | F14: ='6. sz. tábla '!F12-F44 -> 0 | G14: ='6. sz. tábla '!G12-G44 -> 0 | H14: ='6. sz. tábla '!H12-H44 -> 0
E15: 5.5. Működési célú visszatérítendő támogatások, kölcsönök nyújtása áh-n kívülre | F15: ='6. sz. tábla '!F13 -> 0 | G15: ='6. sz. tábla '!G13 -> 0 | H15: ='6. sz. tábla '!H13 -> 0
E16: 6. Pénzforgalom nélküli kiadások (tartalék) | F16: ='6. sz. tábla '!F14 -> 17786400 | G16: ='6. sz. tábla '!G14 -> 8273661 | H16: ='6. sz. tábla '!H14 -> 7405470
A17: Költségvetési működési bevételek kötelező feladatok szerinti bontásban | B17: =SUM(B7:B16) -> 39982000 | C17: =SUM(C7:C16) -> 45321379 | D17: =SUM(D7:D16) -> 45947348 | E17: Költségvetési felhalmozási kiadások kötelező feladatok szerinti bontásban | F17: =F7+F8+F9+F10+F11+F16 -> 55508000 | G17: =G7+G8+G9+G10+G11+G16 -> 50649486 | H17: =H7+H8+H9+H10+H11+H16 -> 54228277
A18: Finanszírozási bevételek | B18: ='6. sz. tábla '!B52 -> 33500000 | C18: ='6. sz. tábla '!C52 -> 34311569 | D18: ='6. sz. tábla '!D52 -> 20000000 | E18: Finanszírozási kiadások | F18: ='6. sz. tábla '!F17-F59 -> 1318000 | G18: ='6. sz. tábla '!G17-G59 -> 2067274 | H18: ='6. sz. tábla '!H17-H59 -> 2399591
A19: Működési bevételek kiemelt előirányzatonként kötelező feladatok szerinti bontásban | B19: =B17+B18 -> 73482000 | C19: =C17+C18 -> 79632948 | D19: =D17+D18 -> 65947348 | E19: Működési kiadások kiemelt előirányzatonként kötelező feladatok szerinti bontásban | F19: =F17+F18 -> 56826000 | G19: =G17+G18 -> 52716760 | H19: =H17+H18 -> 56627868
A20: Felhalmozási bevételek | E20: Felhalmozási kiadások
A21: 1. Felhalmozási célú támogatások államháztartáson belülről | B21: ='1.sz.tábla '!B5 -> 0 | C21: ='1.sz.tábla '!C5 -> 23014491 | D21: ='1.sz.tábla '!D5 -> 5000000 | E21: 1.1. Beruházások | F21: ='6. sz. tábla '!F28 -> 4331000 | G21: ='6. sz. tábla '!G28 -> 12569845 | H21: ='6. sz. tábla '!H28-H50 -> 9119196
A22: 2. Felhalmozási bevételek | B22: ='6. sz. tábla '!B29-B51 -> 0 | C22: ='6. sz. tábla '!C29-C51 -> 0 | D22: ='6. sz. tábla '!D29-D51 -> 0 | E22: 1.2. Int.saját hatáskörű fejlesztések
A23: 3. Felhalmozási célú átvett pénzeszközök áh-n kívülről | B23: ='6. sz. tábla '!B30-B52 -> 0 | C23: ='6. sz. tábla '!C30-C52 -> 0 | D23: ='6. sz. tábla '!D30-D52 -> 0 | E23: 2. Felújítások | F23: ='6. sz. tábla '!F30 -> 11615000 | G23: ='6. sz. tábla '!G30 -> 36855058 | H23: ='6. sz. tábla '!H30 -> 5316875
E24: 3. Egyéb felhalmozási célú kiadások | F24: ='6. sz. tábla '!F31 -> 0 | G24: ='6. sz. tábla '!G31 -> 31650 | H24: ='6. sz. tábla '!H31 -> 30885
E25: 3.1. Egyéb felhalmozási célú pénzeszköz átadás áh-n kívülre
E26: 3.2. Egyéb felhalmozási célú pénzeszköz átadás áh-n belülre
E27: 3.4. Felhalmozási célú visszatérítendő támogatások, kölcsönök nyújtása áh-n kívülre
A28: Költségvetési felhalmozási bevételek kötelező feladatok szerinti bontásban | B28: =SUM(B21:B27) -> 0 | C28: =SUM(C21:C27) -> 23014491 | D28: =SUM(D21:D27) -> 5000000 | E28: Költségvetési felhalmozási kiadások kötelező feladatok szerinti bontásban | F28: =SUM(F21:F27) -> 15946000 | G28: =SUM(G21:G27) -> 49456553 | H28: =SUM(H21:H27) -> 14466956
A29: Finanszírozási bevételek | B29: ='6. sz. tábla '!B19-B59 -> 330000 | C29: ='6. sz. tábla '!C19-C59 -> 1079274 | D29: ='6. sz. tábla '!D19-D59 -> 907476 | E29: Finanszírozási kiadások | F29: ='6. sz. tábla '!F38 -> 0 | G29: ='6. sz. tábla '!G38 -> 0 | H29: ='6. sz. tábla '!H38 -> 0
A30: Felhalmozási bevételek kiemelt előirányzatonként kötelező feladatok szerinti bontásban | B30: =B28+B29 -> 330000 | C30: =C28+C29 -> 24093765 | D30: =D28+D29 -> 5907476 | E30: Felhalmozási kiadások kiemelt előirányzatonként kötelező feladatok szerinti bontásban | F30: =F28+F29 -> 15946000 | G30: =G28+G29 -> 49456553 | H30: =H28+H29 -> 14466956
B31: =B30+B19 -> 73812000 | C31: =C30+C19 -> 103726713 | D31: =D30+D19 -> 71854824 | F31: =F30+F19 -> 72772000 | G31: =G30+G19 -> 102173313 | H31: =H30+H19 -> 71094824
A32: Az Önkormányzat önként vállalt feladatok bevételei és kiadásai 2017. év
A34: 1. Működési bevételek | B34: 2016. évi eredeti ei. | C34: 2016. évi várható | D34: 2017. évi javaslat | E34: 2. Működési kiadások | F34: 2016. évi eredeti ei. | G34: 2016. évi várható | H34: 2017. évi javaslat
A35: Működési bevételek | E35: Működési kiadások
A36: 1. Működési támogatások államháztartáson belülről | E36: 1. Személyi juttatások
A37: 2. Közhatalmi bevételek | E37: 2. Munkaadót terhelő járulékok
A38: 3. Működési bevételek | B38: ='2.sz.tábla'!B44 -> 0 | C38: ='2.sz.tábla'!C44 -> 0 | D38: ='2.sz.tábla'!D44 -> 0 | E38: 3. Dologi kiadások
A39: 4. Működési célú átvett pénzeszközök államháztartáson kivülről | E39: 4. Ellátottak pénzbeli juttatásai
E40: 5. Egyéb működési célú kiadások
E41: 5.1. Elvonások, befizetések
E42: 5.2. Egyéb működési célú támogatások áh-n belülre
E43: 5.4. Egyéb működési célú támogatások áh-n kívülre
E44: 5.5. Működési célú visszatérítendő támogatások, kölcsönök nyújtása áh-n kívülre | F44: ='4.sz.tábla'!B9 -> 1040000 | G44: ='4.sz.tábla'!C9 -> 1553400 | H44: ='4.sz.tábla'!D9 -> 760000
...

Sheet 8.sz.tábla
A3: BEVÉTELEK ÉS KIADÁSOK ELŐIRÁNYZATÁNAK HAVI ÜTEMEZÉSE 2018.
A5: Megnevezés | B5: Január | C5: Február | D5: Március | E5: Április | F5: Május | G5: Június | H5: Július | I5: Augusztus | J5: Szeptem-ber | K5: Október | L5: November | M5: December | N5: Összesen
A6: Nyitó pénzkészlet | B6: 28675744 | C6: =B36 -> 16268887 | D6: =C36 -> 19193586 | E6: =D36 -> 18095292 | F6: =E36 -> 12936259 | G6: =F36 -> 13890682 | H6: =G36 -> 12198550 | I6: =H36 -> 11574350 | J6: =I36 -> 8300149 | ... M6: =L36 -> 10744247 | N6: 34515214
A7: Működési célú támogatások államháztartáson belülről | B7: =31474348/12 -> 2622862.3 | C7: =31474348/12 -> 2622862.3 | D7: =31474348/12 -> 2622862.3 | E7: =31474348/12 -> 2622862.3 | F7: =31474348/12 -> 2622862.3 | G7: =31474348/12 -> 2622862.3 | H7: =31474348/12 -> 2622862.3 | I7: =31474348/12 -> 2622862.3 | ... M7: =31474348/12 -> 2622862.3 | N7: =SUM(B7:M7) -> 31474348
A8: Működési bevételek | B8: =3140000/12 -> 261666.67 | C8: =3140000/12 -> 261666.67 | D8: =3140000/12 -> 261666.67 | E8: =3140000/12 -> 261666.67 | F8: =3140000/12 -> 261666.67 | G8: =3140000/12 -> 261666.67 | H8: =3140000/12 -> 261666.67 | I8: =3140000/12 -> 261666.67 | ... M8: =3140000/12 -> 261666.67 | N8: =SUM(B8:M8) -> 3140000
A9: Közhatalmi bevételek | B9: =1833000/10 -> 183300 | C9: =1833000/10 -> 183300 | D9: =1833000/10 -> 183300 | E9: =1833000/10 -> 183300 | F9: 5000000 | G9: =1833000/10 -> 183300 | H9: =1833000/10 -> 183300 | I9: =1833000/10 -> 183300 | J9: 4500000 | K9: =1833000/10 -> 183300 | L9: =1833000/10 -> 183300 | M9: =1833000/10 -> 183300 | N9: =SUM(B9:M9) -> 11333000
A10: Működési célú átvett pénzeszk. Áh-n kívülről | N10: =SUM(B10:M10) -> 0
A11: Működési bevételek összesen: | B11: =SUM(B7:B10) -> 3067829 | C11: =SUM(C7:C10) -> 3067829 | D11: =SUM(D7:D10) -> 3067829 | E11: =SUM(E7:E10) -> 3067829 | F11: =SUM(F7:F10) -> 7884529 | G11: =SUM(G7:G10) -> 3067829 | H11: =SUM(H7:H10) -> 3067829 | I11: =SUM(I7:I10) -> 3067829 | ... M11: =SUM(M7:M10) -> 3067829 | N11: =SUM(B11:M11) -> 45947348
A12: Felhalmozási célú támogatások államháztartáson belülről | C12: 5000000 | N12: =SUM(B12:M12) -> 5000000
A13: Felhalmozási bevételek | N13: =SUM(B13:M13) -> 0
A14: Felhalm. célú átvett pénzeszk. Áh-n kívülről | N14: =SUM(B14:M14) -> 0
A15: Felhalmozási bevételek összesen | B15: =SUM(B12:B14) -> 0 | C15: =SUM(C12:C14) -> 5000000 | D15: =SUM(D12:D14) -> 0 | E15: =SUM(E12:E14) -> 0 | F15: =SUM(F12:F14) -> 0 | G15: =SUM(G12:G14) -> 0 | H15: =SUM(H12:H14) -> 0 | I15: =SUM(I12:I14) -> 0 | ... M15: =SUM(M12:M14) -> 0 | N15: =SUM(B15:M15) -> 5000000
A16: Költségvetési bevételek összesen: | B16: =SUM(B11,B15) -> 3067829 | C16: =SUM(C11,C15) -> 8067829 | D16: =SUM(D11,D15) -> 3067829 | E16: =SUM(E11,E15) -> 3067829 | F16: =SUM(F11,F15) -> 7884529 | G16: =SUM(G11,G15) -> 3067829 | H16: =SUM(H11,H15) -> 3067829 | I16: =SUM(I11,I15) -> 3067829 | ... M16: =SUM(M11,M15) -> 3067829 | N16: =SUM(B16:M16) -> 50947348
A17: Finanszírozási bevételek (hitel, kötvény, értékpapír, állami tám.megelőlegezés) | B17: =907476/12 -> 75623 | C17: =1269468/12 -> 105789 | D17: =1269468/12 -> 105789 | E17: =1269468/12 -> 105789 | F17: =1269468/12 -> 105789 | G17: =1269468/12 -> 105789 | H17: =1269468/12 -> 105789 | I17: =1269468/12 -> 105789 | J17: =1269468/12 -> 105789 | ... M17: =1269468/12 -> 105789 | N17: =SUM(B17:M17) -> 1239302
A18: Költségvetési maradvány igénybevétele | B18: 20000000 | N18: =SUM(B18:M18) -> 20000000
A19: Bevételek összesen: | B19: =SUM(B16:B18) -> 23143452 | C19: =SUM(C16:C18) -> 8173618 | D19: =SUM(D16:D18) -> 3173618 | E19: =SUM(E16:E18) -> 3173618 | F19: =SUM(F16:F18) -> 7990318 | G19: =SUM(G16:G18) -> 3173618 | H19: =SUM(H16:H18) -> 3173618 | I19: =SUM(I16:I18) -> 3173618 | ... N19: =SUM(N16:N18) -> 72186650
A20: Személyi juttatások | B20: =11351918/12 -> 945993.17 | C20: =11351918/12 -> 945993.17 | D20: =11351918/12 -> 945993.17 | E20: =11351918/12 -> 945993.17 | F20: =11351918/12 -> 945993.17 | G20: =11351918/12 -> 945993.17 | H20: =11351918/12 -> 945993.17 | I20: =11351918/12 -> 945993.17 | ... M20: =11351918/12 -> 945993.17 | N20: =SUM(B20:M20) -> 11351918
A21: Munkaadót terhelő járulékok és szoc. hj. adó | B21: =2307565/12 -> 192297.08 | C21: =2307565/12 -> 192297.08 | D21: =2307565/12 -> 192297.08 | E21: =2307565/12 -> 192297.08 | F21: =2307565/12 -> 192297.08 | G21: =2307565/12 -> 192297.08 | H21: =2307565/12 -> 192297.08 | I21: =2307565/12 -> 192297.08 | ... M21: =2307565/12 -> 192297.08 | N21: =SUM(B21:M21) -> 2307565
A22: Dologi kiadások | B22: =15784000/12 -> 1315333.3 | C22: =15784000/12 -> 1315333.3 | D22: =15784000/12 -> 1315333.3 | E22: =15784000/12 -> 1315333.3 | F22: =15784000/12 -> 1315333.3 | G22: =15784000/12 -> 1315333.3 | H22: =15784000/12 -> 1315333.3 | I22: =15784000/12 -> 1315333.3 | ... M22: =15784000/12 -> 1315333.3 | N22: =SUM(B22:M22) -> 15784000
A23: Ellátottak pénzbeli juttatásai | B23: =3795000/12 -> 316250 | C23: =3795000/12 -> 316250 | D23: =3795000/12 -> 316250 | E23: =3795000/12 -> 316250 | F23: =3795000/12 -> 316250 | G23: =3795000/12 -> 316250 | H23: =3795000/12 -> 316250 | I23: =3795000/12 -> 316250 | ... M23: =3795000/12 -> 316250 | N23: =SUM(B23:M23) -> 3795000
A24: Egyéb működési célú támogatások áh-n kívülre | E24: 500000 | F24: 10000 | G24: 100000 | H24: 0 | I24: 150000 | J24: 0 | M24: 0 | N24: =SUM(B24:M24) -> 760000
A25: Egyéb működési célú támogatások áh-n belülre | B25: =12335342/12 -> 1027945.2 | C25: =12335342/12 -> 1027945.2 | D25: =12335342/12 -> 1027945.2 | E25: =12335342/12 -> 1027945.2 | F25: =12335342/12 -> 1027945.2 | G25: =12335342/12 -> 1027945.2 | H25: =12335342/12 -> 1027945.2 | I25: =12335342/12 -> 1027945.2 | ... M25: =12335342/12 -> 1027945.2 | N25: =SUM(B25:M25) -> 12335342
A26: Tartalékok | B26: 8654452 | N26: =SUM(B26:M26) -> 8654452
A27: Működési kiadások összesen: | B27: =SUM(B20:B26) -> 12452271 | C27: =SUM(C20:C26) -> 3797818.7 | D27: =SUM(D20:D26) -> 3797818.7 | E27: =SUM(E20:E26) -> 4297818.8 | F27: =SUM(F20:F26) -> 3807818.7 | G27: =SUM(G20:G26) -> 3897818.7 | H27: =SUM(H20:H26) -> 3797818.7 | I27: =SUM(I20:I26) -> 3947818.7 | ... M27: =SUM(M20:M26) -> 3797818.7 | N27: =SUM(B27:M27) -> 54988277
A28: Beruházások | B28: 2000000 | C28: 1341120 | D28: 50000 | F28: 3228076 | G28: 0 | I28: 2500000 | N28: =SUM(B28:M28) -> 9119196
A29: Felújítások | D29: 314112 | E29: 4034832 | G29: 967931 | N29: =SUM(B29:M29) -> 5316875
A30: Egyéb felhalmozási kiadások | N30: =SUM(B30:M30) -> 0
A31: Felhalmozási célú kiadások összesen | B31: =B28+B29+B30 -> 2000000 | C31: =SUM(C28:C30) -> 1341120 | D31: =SUM(D28:D30) -> 364112 | E31: =SUM(E28:E30) -> 4034832 | F31: =SUM(F28:F30) -> 3228076 | G31: =SUM(G28:G30) -> 967931 | H31: =SUM(H28:H30) -> 0 | I31: =SUM(I28:I30) -> 2500000 | J31: =SUM(J28:J30) -> 0 | ... M31: =SUM(M28:M30) -> 0 | N31: =SUM(B31:M31) -> 14436071
A32: Költségvetési kiadások összesen: | B32: =SUM(B31,B27) -> 14452271 | C32: =SUM(C31,C27) -> 5138938.8 | D32: =SUM(D31,D27) -> 4161930.7 | E32: =SUM(E31,E27) -> 8332650.8 | F32: =SUM(F31,F27) -> 7035894.8 | G32: =SUM(G31,G27) -> 4865749.8 | H32: =SUM(H31,H27) -> 3797818.7 | I32: =SUM(I31,I27) -> 6447818.8 | ... M32: =SUM(M31,M27) -> 3797818.7 | N32: =SUM(B32:M32) -> 69424348
A33: Finanszírozási kiadások (hitel törlesztés, értékpapír visszavásárlás) | B33: =988057+109981 -> 1098038 | C33: =329943/3 -> 109981 | D33: =329943/3 -> 109981 | N33: =SUM(B33:M33) -> 1318000
A34: Kiadások összesen: | B34: =SUM(B32:B33) -> 15550309 | C34: =SUM(C32:C33) -> 5248919.8 | D34: =SUM(D32:D33) -> 4271911.8 | E34: =SUM(E32:E33) -> 8332650.8 | F34: =SUM(F32:F33) -> 7035894.8 | G34: =SUM(G32:G33) -> 4865749.8 | H34: =SUM(H32:H33) -> 3797818.7 | I34: =SUM(I32:I33) -> 6447818.8 | ... M34: =SUM(M32:M33) -> 3797818.7 | N34: =SUM(B34:M34) -> 70742348
A35: Korrekció (előző évi kifizetés miatt) | N35: =SUM(B35:M35) -> 0
A36: Záró pénzkészlet | B36: =B6+B16+B17-B34 -> 16268887 | C36: =C6+C16+C17-C34 -> 19193586 | D36: =D6+D16+D17-D34 -> 18095292 | E36: =E6+E16+E17-E34 -> 12936259 | F36: =F6+F16+F17-F34 -> 13890682 | G36: =G6+G16+G17-G34 -> 12198550 | H36: =H6+H16+H17-H34 -> 11574350 | I36: =I6+I16+I17-I34 -> 8300149 | ... N36: =N6+N16+N17-N34 -> 15959516

Sheet 9. sz. stabilitási tv 
A4: Az önkormányzat adósságot keletkeztető ügyletből származó tárgyévi összes fizetési kötelezettsége az adósságot keletkeztető ügylet futamidejének végéig egyik évben sem haladja meg az önkormányzat adott évi saját bevételeinek 50%-át.
A7: megnevezés | C7: 2017. | D7: 2018. | E7: 2019. | F7: 2020.
A8: 1. Helyi adó bevétel | C8: ='2.sz.tábla'!D28-'2.sz.tábla'!D35-C12 -> 9433000 | D8: 8433000 | E8: 8433000 | F8: 8433000
A9: 2. Vagyon és vagyonértékű jog értékesítéséből származó bevétel | C9: ='2.sz.tábla'!D53 -> 0
A10: 3. Osztalék, koncessziós díj és hozambevétel,
A11: 4. tárgyi eszköz és immateriális jószág, részvény, részesedés, vállalalat értékesítésből vagy privatizációból származó bevétel
A12: 5. Bírság, pótlék- és díjbevétel | C12: ='2.sz.tábla'!D40 -> 100000 | D12: 100000 | E12: 100000 | F12: 100000
A13: 6. Kezességvállalással kapcsolatos megtérülés
A14: Összesen: | C14: =SUM(C8:C13) -> 9533000 | D14: =SUM(D8:D13) -> 8533000 | E14: =SUM(E8:E13) -> 8533000 | F14: =SUM(F8:F13) -> 8533000 | G14: ='2.sz.tábla'!D28-'2.sz.tábla'!D35 -> 9533000
A15: az önkormányzat adott évi saját bevételeinek 50%-a | C15: =C14*0.5 -> 4766500 | D15: =D14*0.5 -> 4266500 | E15: =E14*0.5 -> 4266500 | F15: =F14*0.5 -> 4266500
A17: adósságot keletkeztető ügyletekből és kezességvállalásokból fennálló kötelezettségek | B17: futamidő kezdete | C17: 2017. | D17: 2018. | E17: 2019. | F17: 2020.
A18: Összesen: | C18: 0 | D18: 0 | E18: 0 | F18: 0

Sheet 10. sz. tábla
A4: Az önkormányzat által adott közvetett támogatások
A5: (kedvezmények) 2018. év
A7: Sorszám | B7: Bevételi jogcím | C7: Intézmények, | D7: Kedvezmény nélkül | E7: Kedvezmények
C8: adónemek | D8: elérhető | E8: összege
D9: bevétel e/Ft | E9: e/Ft
A10: 1. | B10: 2. | C10: 3. | D10: 4. | E10: 5.
A11: 2. | B11: Ellátottak térítési díjának ill. kártérítésének méltányossági alapon történő elengedésének összege
A12: 3. | B12: Lakosság részére nyújtott lakásépítéshez, lakásfelújításhoz nyújtott kölcsönök elengedésének összege | E12: 0
B13: Helyi adónál, gépjárműadónál biztosított kedvezmény, mentesség összege | D13: =SUM(D14:D20) -> 12633000 | E13: =SUM(E14:E20) -> 1300000 | F13: =SUM(F14:F20) -> 11333000
C14: Kommunális adó | D14: =F14+E14 -> 6508000 | E14: 925000 | F14: ='2.sz.tábla'!D30 -> 5583000
C15: Iparűzési adó | D15: =F15+E15 -> 3520000 | E15: 20000 | F15: ='2.sz.tábla'!D34 -> 3500000
C16: IFA személyek után | D16: =F16+E16 -> 118000 | E16: 68000 | F16: ='2.sz.tábla'!D37 -> 50000
C17: Telekadó | D17: =F17+E17 -> 300000 | E17: 0 | F17: ='2.sz.tábla'!D31 -> 300000
C18: Talajterhelési díj | D18: =F18+E18 -> 0 | E18: 0 | F18: 0
C19: Gépjárműadó | D19: =F19+E19 -> 2087000 | E19: 287000 | F19: ='2.sz.tábla'!D35 -> 1800000
C20: Bírság | D20: =F20+E20 -> 100000 | E20: 0 | F20: ='2.sz.tábla'!D40 -> 100000
A21: 4. | B21: Helyiségek, eszközök hasznosításából származó bevételből nyújtott kedvezmény, mentesség összege
A22: 5. | B22: egyéb nyújtott kedvezmény vagy kölcsön elengedésének összege | E22: 0
B23: Összesen : | D23: =D22+D21+D12+D13+D11 -> 12633000 | E23: =E22+E21+E12+E13+E11 -> 1300000

Sheet 11.sz.tábla
A3: MEGNEVEZÉS | B3: 2018. évi javaslat | C3: 2019. évi várható előirányzatok | D3: 2020. évi várható előirányzatok | E3: 2021. évi várható előirányzatok
A4: I. Működési támogatások államháztartáson belülről | B4: ='2.sz.tábla'!D5 -> 31474348 | C4: 22000000 | D4: 22000000 | E4: 22000000
A5: II. Felhalmozási támogatások államháztartáson belülről | B5: ='2.sz.tábla'!D19 -> 5000000
A6: III. Közhatalmi bevételek | B6: ='2.sz.tábla'!D28 -> 11333000 | C6: 10000000 | D6: 10000000 | E6: 10000000
A7: IV. Működési bevételek | B7: ='2.sz.tábla'!D41 -> 3140000 | C7: 2000000 | D7: 2000000 | E7: 2000000
A8: V. Felhalmozási bevételek | B8: ='2.sz.tábla'!D53 -> 0
A9: VI. Működési célú átvett pénzeszközök
A10: VII. Felhalmozási célú átvett pénzeszközök | B10: ='2.sz.tábla'!D62 -> 0
A11: Költségvetési bevételek összesen: | B11: =SUM(B4:B10) -> 50947348 | C11: =SUM(C4:C9) -> 34000000 | D11: =SUM(D4:D9) -> 34000000 | E11: =SUM(E4:E10) -> 34000000
A12: VIII. Finanszírozási bevételek
A13: 1. Költségvetési hiány belső finanszírozására szolgáló finanszírozási bevételek | B13: ='1.sz.tábla '!D12 -> 20000000 | C13: 10000000 | D13: 10000000 | E13: 10000000
A14: 2. Költségvetési hiány külső finanszírozására, vagy költségvetési többlet felhasználására szolgáló finanszírozási bevételek | B14: ='1.sz.tábla '!D13 -> 907476 | C14: 250000 | D14: 250000 | E14: 250000
A15: Finanszírozási bevételek összesen: | B15: =SUM(B13:B14) -> 20907476 | C15: =SUM(C13:C14) -> 10250000 | D15: =SUM(D13:D14) -> 10250000 | E15: =SUM(E13:E14) -> 10250000
A16: Bevételek összesen: | B16: =B11+B15 -> 71854824 | C16: =C11+C15 -> 44250000 | D16: =D11+D15 -> 44250000 | E16: =E11+E15 -> 44250000
A18: I. Működési kiadások | B18: =SUM(B19:B23) -> 47582807 | C18: =SUM(C19:C23) -> 36800000 | D18: =SUM(D19:D23) -> 36800000 | E18: =SUM(E19:E23) -> 36800000
A19: 1. Személyi juttatások | B19: ='3.sz.tábla '!D6 -> 11351918 | C19: 8000000 | D19: 8000000 | E19: 8000000
A20: 2. Munkaadót terhelő járulék és szociális hozzájárulási adó | B20: ='3.sz.tábla '!D7 -> 2307565 | C20: 2500000 | D20: 2500000 | E20: 2500000
A21: 3. Dologi kiadások | B21: ='3.sz.tábla '!D8 -> 17032982 | C21: 17000000 | D21: 17000000 | E21: 17000000
A22: 4. Ellátottak pénzbeli juttatásai | B22: ='3.sz.tábla '!D24 -> 3795000 | C22: 1800000 | D22: 1800000 | E22: 1800000
A23: 5. Egyéb működési célú kiadások | B23: ='3.sz.tábla '!D26 -> 13095342 | C23: 7500000 | D23: 7500000 | E23: 7500000
A24: II. Felhalmozási kiadások | B24: =SUM(B25:B27) -> 14466956 | C24: =SUM(C25:C26) -> 2000000 | D24: =SUM(D25:D26) -> 2000000 | E24: =SUM(E25:E26) -> 2000000
A25: 1. Beruházások | B25: ='1.sz.tábla '!D20 -> 9119196 | C25: 1000000 | D25: 1000000 | E25: 1000000
A26: 3. Felújítás | B26: ='1.sz.tábla '!D21 -> 5316875 | C26: 1000000 | D26: 1000000 | E26: 1000000
A27: 4. Egyéb felhalmozási célú kiadások | B27: ='1.sz.tábla '!D22 -> 30885
A28: Tartalékok | B28: ='1.sz.tábla '!D24 -> 7405470 | C28: 5200000 | D28: 5200000 | E28: 5200000
A29: Általános | B29: 22829400 | C29: 5200000 | D29: 5200000 | E29: 5200000
A30: Cél
A31: Költségvetési kiadások összesen: | B31: =SUM(B28,B24,B18) -> 69455233 | C31: =SUM(C28,C24,C18) -> 44000000 | D31: =SUM(D28,D24,D18) -> 44000000 | E31: =SUM(E28,E24,E18) -> 44000000
A32: Hiteltörlesztés
A33: Forgatási célú értékpapír vásárlás | B33: ='1.sz.tábla '!D29 -> 0
A34: Állami támogatás megelőlegezés visszafiz. | B34: ='1.sz.tábla '!D30 -> 2399591 | C34: 250000 | D34: 250000 | E34: 250000
A35: Finanszírozási kiadások összesen: | B35: =SUM(B32:B34) -> 2399591 | C35: =SUM(C32:C34) -> 250000 | D35: =SUM(D32:D34) -> 250000 | E35: =SUM(E32:E34) -> 250000
A36: Kiadások összesen: | B36: =SUM(B31,B35) -> 71854824 | C36: =SUM(C31,C35) -> 44250000 | D36: =SUM(D31,D35) -> 44250000 | E36: =SUM(E31,E35) -> 44250000

Sheet Munka1
