Workbook

Sheet 1.Bevétel
A1: 1. melléklet a 2/2015.(II.15.) önkormányzati rendelethez
A2: 2015. évi bevételek forrásonkénti megoszlása
A4: Sorszám | B4: Bevételi források megnevezése | C4: 2014. évi előirányzat eFt | D4: 2015. évi előirányzat eFt
A6: A | B6: B | C6: C | D6: D
A7: 1. | B7: - Zöldterület-gazdálkodással kapcsolatos feladatok támogatása | C7: 2388 | D7: 2388
A8: 2. | B8: - Közvilágítás fenntartásának támogatása | C8: 2294 | D8: 2592
A9: 3. | B9: - Köztemető fenntartással kapcsolatos feladatok támogatása | C9: 100 | D9: 100
A10: 4. | B10: - Közutak fenntartásának támogatása | C10: 1547 | D10: 1548
A11: 5. | B11: - Egyéb önkormányzati feladatok támogatása | C11: 4000 | D11: 4000
A12: 6. | B12: - Lakott külterülettel kapcsolatos feladatok támogatása | C12: 3 | D12: 5
A13: 7. | B13: - Üdülőhelyi feladatok támogatása | C13: 5 | D13: 68
A14: 8. | B14: - Kiegészítő támogatás | C14: 667 | D14: 1606
A15: 9. | B15: Települési önkormányzat működésének támogatása | C15: =SUM(C7:C14) -> 11004 | D15: =SUM(D7:D14) -> 12307
A16: 10. | B16: - Óvodapedagógusok és közvetlenül segítők bértámogatása | C16: 11381 | D16: 12679
A17: 11. | B17: - Óvoda működtetési támogatás | C17: 1176 | D17: 1680
A18: 12. | B18: Települési önkormányzat egyes köznevelési feladatainak támogatása | C18: =SUM(C16:C17) -> 12557 | D18: =SUM(D16:D17) -> 14359
A19: 13. | B19: - Gyermekétkeztetési feladatok támogatása | C19: 4716 | D19: 3953
A20: 14. | B20: - Hozzájárulás pénzbeli szociális ellátásokhoz | C20: 3228 | D20: 3741
A21: 15. | B21: - Jövedelem pótló támogatások | C21: 8500 | D21: 1250
A22: 16. | B22: Önkormányzat szociális, gyermekétkeztetési feladatainak támogatása | C22: =SUM(C19:C21) -> 16444 | D22: =SUM(D19:D21) -> 8944
A23: 17. | B23: Kulturális feladatok támogatása | C23: 762 | D23: 1200
A24: 18. | B24: Közfoglalkoztatás támogatása | C24: 6028 | D24: 7875
A25: 19. | B25: Működési célú támogatások államháztartáson belülről | C25: =SUM(C22:C24)+C18+C15 -> 46795 | D25: =SUM(D22:D24)+D18+D15 -> 44685
A26: 20. | B26: - Építményadó | C26: 2431 | D26: 2500
A27: 21. | B27: - Magánszemélyek kommunális adója | C27: 2700 | D27: 3000
A28: 22. | B28: - Iparűzési adó | C28: 4000 | D28: 5000
A29: 23. | B29: - Gépjárműadó 40% | C29: 2500 | D29: 2500
A30: 24. | B30: - Idegenforgalmi adó | C30: 30 | D30: 0
A31: 25. | B31: - Talajterhelési díj | C31: 10 | D31: 40
A32: 26. | B32: - Pótlék | C32: 200 | D32: 200
A33: 27. | B33: Közhatalmi bevételek | C33: =SUM(C26:C32) -> 11871 | D33: =SUM(D26:D32) -> 13240
A34: 28. | B34: Szolgáltatási díjak | C34: 50 | D34: 20
A35: 29. | B35: Tulajdonosi bevételek (bérleti díjak) | C35: 2220 | D35: 2375
A36: 30. | B36: Ellátási díjak (térítési díjak) | C36: 698 | D36: 732
A37: 31. | B37: Kamatbevételek | C37: 260 | D37: 200
A38: 32. | B38: Működési bevételek | C38: =SUM(C34:C37) -> 3228 | D38: =SUM(D34:D37) -> 3327
A39: 33. | B39: Egyéb működési célú átvett pénzeszközök | C39: 30 | D39: 30
A40: 34. | B40: Működési célú átvett pénzeszközök | C40: =SUM(C39) -> 30 | D40: =SUM(D39) -> 30
A41: 35. | B41: Adósságkonszolidációban részt nem vett települések támogatása | C41: 0 | D41: 60
A42: 36. | B42: Felhalmozási célú átvett pénzeszközök | C42: =SUM(C41) -> 0 | D42: =SUM(D41) -> 60
...

Sheet 2.Kiadások
B1: 2. melléklet a 2/2015.(II.15.) önkormányzati rendelethez
B3: I. 2015. évi Kiadások
A5: Ssz. | B5: Megnevezés | C5: 2014. évi előirányzat eFt | D5: 2015. évi előirányzat eFt
A7: A | B7: B | C7: C | D7: D
A8: 1. | B8: Személyi juttatások | C8: 14081 | D8: 12823
A9: 2. | B9: Munkaadót terhelő járulékok | C9: 2767 | D9: 2680
A10: 3. | B10: Készletbeszerzés | C10: 3028 | D10: 3580
A11: 4. | B11: Kommunikációs szolgáltatások | C11: 580 | D11: 630
A12: 5. | B12: Szolgáltatási kiadások | C12: 6328 | D12: 8798
A13: 6. | B13: Különféle befizetések és egyéb dologi kiadások | C13: 986 | D13: 1438
A14: 7. | B14: áfa | C14: 2423 | D14: 2475
A15: 8. | B15: Dologi kiadások összesen | C15: =SUM(C10:C14) -> 13345 | D15: =SUM(D10:D14) -> 16921
A16: 9. | B16: Betegséggel kapcsolatos ellátások (ápolási díj) | C16: 850 | D16: 1134
A17: 10. | B17: Munkanélküli aktív korúak ellátása (rendsz.szoc.seg. FHT) | C17: 7120 | D17: 1250
A18: 11. | B18: Lakhatással kapcsolatos ellátások (lak.fenn.tám.) | C18: 2500 | D18: 2500
A19: 12. | B19: - Átmeneti segély | C19: 120 | D19: 160
A20: 13. | B20: - Temetési segély | C20: 120 | D20: 140
A21: 14. | B21: - Iskolakezdési támogatás (tankönyv) | C21: 360 | D21: 350
A22: 15. | B22: - Tanulmányi ösztöndíjak (Arany János, Bursa) | C22: 80 | D22: 100
A23: 16. | B23: - Egyéb (első lakáshoz jutás) | C23: 40 | D23: 300
A24: 17. | B24: Egyéb nem intézményi ellátások | C24: =SUM(C19:C23) -> 720 | D24: =SUM(D19:D23) -> 1050
A25: 18. | B25: Ellátottak pénzbeli juttatásai | C25: =SUM(C16:C18)+C24 -> 11190 | D25: =SUM(D16:D18)+D24 -> 5934
A26: 19. | B26: Közös hivatal támogatása | C26: 0 | D26: 1133
A27: 20. | B27: Tapolca Környéki Önkormányzati Társulásnak átadott pénzeszköz | C27: 1485 | D27: 1600
A28: 21. | B28: Fogorvosi ellátás támogatása | C28: 138 | D28: 238
A29: 22. | B29: Civil szervezeteknek átadott pénzeszköz | C29: 590 | D29: 1000
A30: 23. | B30: Egyéb működési célú kiadások | C30: =SUM(C26:C29) -> 2213 | D30: =SUM(D26:D29) -> 3971
A31: 24. | B31: Beruházások | C31: 3000 | D31: 2360
A32: 25. | B32: áfa | C32: 616 | D32: 640
A33: 26. | B33: Felújítások | C33: 20000 | D33: 23000
A34: 27. | B34: áfa | C34: 4000 | D34: 5800
A35: 28. | B35: Óvoda finanszírozása | C35: 17448 | D35: 17013
A36: 29. | B36: Működési tartalék | C36: 1700 | D36: 4666
A37: 30. | B37: Felhalmozási tartalék | C37: 1700 | D37: 8381
A38: 31. | B38: Kiadások mindösszesen: | C38: =SUM(C30:C37)+C25+C15+C9+C8 -> 92060 | D38: =SUM(D30:D37)+D25+D15+D9+D8 -> 104189
B40: II. Költségvetési létszámkeret
A41: 1. | B41: Teljes munkaidőben foglalkoztatottak
A42: 2. | B42: - községgazdálkodás | C42: 1
A43: 3. | B43: - Közösségi Ház | C43: 1
A44: 4. | B44: Közfoglalkoztatott | C44: 7
...

Sheet 3.mérleg
B1: 3. melléklet a 2/2015.(II.15.) önkormányzati rendelethez
A3: Taliándörögd Község Önkormányzata 2015. évi költségvetési előirányzatainak mérlege
A6: Ssz. | B6: Bevételek | C6: Eredeti előirányzat eFt | E6: Kiadások | F6: Eredeti előirányzat eFt
A7: A | B7: B | C7: C | E7: D | F7: F
A8: 1. | B8: Működési célú támogatások államháztartáson belülről | C8: ='1.Bevétel'!D25 -> 44685 | E8: Személyi juttatások | F8: ='2.Kiadások'!D8 -> 12823
A9: 2. | B9: Közhatalmi bevételek | C9: ='1.Bevétel'!D33 -> 13240 | E9: Munkaadót terhelő járulékok | F9: ='2.Kiadások'!D9 -> 2680
A10: 3. | B10: Működési bevételek | C10: ='1.Bevétel'!D38 -> 3327 | E10: Dologi kiadások | F10: ='2.Kiadások'!D15 -> 16921
A11: 4. | B11: Működési célú átvett pénzeszközök | C11: ='1.Bevétel'!D40 -> 30 | E11: Ellátottak pénzbeli juttatásai | F11: ='2.Kiadások'!D25 -> 5934
A12: 5. | B12: Felhalmozási célú átvett pénzeszközök | C12: ='1.Bevétel'!D42 -> 60 | E12: Egyéb működési célú kiadások | F12: ='2.Kiadások'!D30 -> 3971
A13: 6. | B13: Működési pénzmaradvány igénybe vétele | C13: 12742 | E13: Beruházások | F13: ='2.Kiadások'!D31+'2.Kiadások'!D32 -> 3000
A14: 7. | B14: Felhalmozási pénzmaradvány igénybe vétele | C14: 30105 | E14: Felújítások | F14: ='2.Kiadások'!D33+'2.Kiadások'!D34 -> 28800
A15: 9. | E15: Óvoda finanszírozása | F15: ='2.Kiadások'!D35 -> 17013
A16: 10. | E16: Működési tartalék | F16: ='2.Kiadások'!D36 -> 4666
A17: 11. | E17: Felhalmozási tartalék | F17: ='2.Kiadások'!D37 -> 8381
A18: 12. | B18: Bevételek mindösszesen: | C18: =SUM(C8:C17) -> 104189 | E18: Kiadások mindösszesen: | F18: =SUM(F8:F17) -> 104189

Sheet 4. cofog
B1: 4. melléklet a 2/2015.(II.15.) önkormányzati rendelethez
A3: Ssz. | B3: Feladat megnevezése | C3: Bevételek előirányzata eFt | D3: Kiadások előirányzata eFt
A4: A | B4: B | C4: C | D4: D
A5: 1. | B5: Önkormányzat általános támogatása | C5: ='1.Bevétel'!D15 -> 12307 | D5: 0
A6: 2. | B6: Közhatalmi bevételek | C6: ='1.Bevétel'!D33 -> 13240 | D6: 0
A7: 3. | B7: Önkormányzati igazgatás | C7: ='1.Bevétel'!D34+'1.Bevétel'!D37+'1.Bevétel'!D41 -> 280 | D7: 9956
A8: 4. | B8: Köztemető fenntartás, működtetés | C8: ='1.Bevétel'!D39 -> 30 | D8: 100
A9: 5. | B9: Önkormányzati vagyonnal való gazdálkodás | C9: 1975 | D9: 6910
A10: 6. | B10: Közutak, hidak fenntartása | C10: 0 | D10: 30350
A11: 7. | B11: Közvilágítás | C11: 0 | D11: 1500
A12: 8. | B12: Zöldterület-gazdálkodás | C12: 0 | D12: 3920
A13: 9. | B13: Város- és községgazdálkodás | C13: 0 | D13: 100
A14: 10. | B14: Háziorvosi alapellátás | C14: 0 | D14: 450
A15: 11. | B15: Közművelődés - közösségi és társadalmi részvétel fejlesztése | C15: 1600 | D15: 4951
A16: 12. | B16: Közfoglalkoztatás támogatása | C16: ='1.Bevétel'!D24 -> 7875 | D16: 7875
A17: 13. | B17: Óvodai nevelés, ellátás szakmai feladatai | C17: ='1.Bevétel'!D16 -> 12679 | D17: 11629
A18: 14. | B18: Óvodai nevelés, ellátás működtetési feladatai | C18: ='1.Bevétel'!D17 -> 1680 | D18: 2730
A19: 15. | B19: Gyermekétkeztetési feladatok támogatása | C19: ='1.Bevétel'!D19 -> 3953 | D19: 0
A20: 16. | B20: Óvodai intézményi étkeztetés | C20: ='5. ovi'!D9 -> 1275 | D20: 3929
A21: 17. | B21: Iskolai intézményi étkeztetés | C21: ='1.Bevétel'!D36 -> 732 | D21: 2083
A22: 18. | B22: Hozzájárulás pénzbeli szociális ellátásokhoz | C22: ='1.Bevétel'!D20 -> 3741 | D22: 0
A23: 19. | B23: Jövedelempótló támogatás | C23: ='1.Bevétel'!D21 -> 1250 | D23: 0
A24: 20. | B24: Betegséggel kapcsolatos pénzbeni ellátások támogatása | C24: 0 | D24: 1134
A25: 21. | B25: Gyermekvédelmi pénzbeni és természetbeni ellátások | C25: 0 | D25: 0
A26: 22. | B26: Munkanélküli aktív korúak ellátása | C26: 0 | D26: 1250
A27: 23. | B27: Lakásfenntartással, lakhatással összefüggő ellátások | C27: 0 | D27: 2500
A28: 24. | B28: Egyéb szociális pénzbeni ellátások | C28: 0 | D28: 1050
A29: 25. | B29: Működési tartalék | C29: ='1.Bevétel'!D43 -> 12742 | D29: ='2.Kiadások'!D36 -> 4666
A30: 26. | B30: Felhalmozási tartalék | C30: ='1.Bevétel'!D44 -> 30105 | D30: 8381
A31: 27. | B31: Kiadások összesen: | C31: =SUM(C5:C30) -> 105464 | D31: =SUM(D5:D30) -> 105464

Sheet 5. ovi
A1: 5. melléklet a 2/2015.(II.15.) önkormányzati rendelethez
A3: 2015. évi bevételek forrásonkénti megoszlása
A5: Sorszám | B5: Bevételi források megnevezése | C5: 2014. évi előirányzat eFt | D5: 2015. évi előirányzat eFt
A7: A | B7: B | C7: C | D7: F
A8: 1. | B8: Óvodai intézményi étkeztetés | C8: =SUM(C9) -> 1086 | D8: =SUM(D9) -> 1275
A9: 2. | B9: - óvodai térítési díj | C9: 1086 | D9: 1275
A10: 3. | B10: Óvoda finanszírozása | C10: =SUM(C11) -> 17448 | D10: =SUM(D11) -> 17013
A11: 4. | B11: - átvett pénzeszköz | C11: 17448 | D11: 17013
A12: 5. | B12: Bevételek összesen: | C12: =C8+C10 -> 18534 | D12: =D8+D10 -> 18288
A15: 6. melléklet a 2/2015.(II.15.) önkormányzati rendelethet
B17: I. 2015. évi Kiadások
A18: Sorszám | B18: Megnevezés | C18: 2014. évi előirányzat eFt | D18: 2015. évi előirányzat eFt
A20: A | B20: B | C20: C | D20: D
A21: 1. | B21: Személyi juttatások | C21: 10182 | D21: 10339
A22: 2. | B22: Munkaadót terhelő járulékok | C22: 2747 | D22: 2790
A23: 3. | B23: Dologi kiadások | C23: =SUM(C24:C28) -> 5605 | D23: =SUM(D24:D28) -> 5159
A24: 4. | B24: - Készletbeszerzés | C24: 1538 | D24: 2574
A25: 5. | B25: - Kommunikációs szolgáltatások | C25: 150 | D25: 160
A26: 6. | B26: - Szolgáltatási kiadások | C26: 2680 | D26: 1090
A27: 7. | B27: - Általános forgalmi adó | C27: 1147 | D27: 1255
A28: 8. | B28: - Egyéb folyó kiadások | C28: 90 | D28: 80
A29: 9. | B29: Kiadások összesen: | C29: =C21+C22+C23 -> 18534 | D29: =D21+D22+D23 -> 18288
B31: II. Költségvetési létszámkeret
A32: A | B32: B | C32: C
A33: 1. | B33: Teljes munkaidőben foglalkoztatottak | C33: fő
A34: 2. | B34: - óvodapedagógus | C34: 2
A35: 3. | B35: - dajka | C35: 1
A36: 4. | B36: - konyhai kisegítő | C36: 1
A37: 5. | B37: Létszámkeret összesen: | C37: =SUM(C33:C36) -> 4
A41: 7. melléklet a 2/2015.(II.15.)önkormányzati rendelethez
A43: 2015. évi bevételek és kiadások feladatonként
A45: I. Bevételek
A46: Sorszám | B46: Feladat megnevezése | C46: Bevételek előirányzata eFt | D46: Kiadások előirányzata eFt
A47: A | B47: B | C47: C | D47: D
A48: 1. | B48: Óvodai intézményi étkeztetés | C48: 1275 | D48: 3929
A49: 2. | B49: Óvodai nevelés, ellátás szakmai feladatai | C49: 17013 | D49: 11629
A50: 3. | B50: Óvodai nevelés, ellátás működtetési feladatai | C50: 0 | D50: 2730
A51: 4. | B51: ö s s z e s e n : | C51: =SUM(C48:C50) -> 18288 | D51: =SUM(D48:D50) -> 18288

Sheet 8. ovi mérleg
B1: 8. melléklet a 2/2015.(II.15.) önkormányzati rendelethez
A3: Taliándörögdi Napköziotthonos Óvoda 2015. évi költségvetési előirányzatainak mérlege
A6: Ssz. | B6: Bevételek | C6: Eredeti előirányzat eFt | E6: Kiadások | F6: Eredeti előirányzat eFt
A7: A | B7: B | C7: C | E7: F | F7: J
A8: 1. | B8: Óvoda finanszírozási bevétele | C8: 17013 | E8: Személyi juttatások | F8: ='5. ovi'!D21 -> 10339
A9: 2. | B9: Működési bevételek | C9: ='5. ovi'!D9 -> 1275 | E9: Munkaadót terhelő járulékok | F9: ='5. ovi'!D22 -> 2790
A10: 3. | C10: =C11-C9-C8 -> 0 | E10: Dologi kiadások | F10: ='5. ovi'!D23 -> 5159
A11: 5. | B11: Bevételek mindösszesen: | C11: =F11 -> 18288 | E11: Kiadások mindösszesen: | F11: =SUM(F8:F10) -> 18288

Sheet 9.-10.-11.mell.
A2: 9. melléklet a 2/2015.(II.15.) önkormányzati rendelethez
B4: Támogatási cél megnevezése | C4: ezer Ft
B5: - Közös hivatal támogatás átadása | C5: 1133
B6: - Kistérségi Társulásnak átadott pénzeszköz | C6: 1600
B7: - Fogorvosi ellátás támogatása | C7: 238
B8: - Műk.c.pénzeszk.átadás nonprofit szervezetnek | C8: =SUM(C9:C14) -> 1000
B9: -- Polgárőrség | C9: 100
B10: -- Taliándörögd-Halimba SE | C10: 500
B11: -- Ifjúsági Egyesület, Tűzoltó Egyesület, egyéb szervezetek | C11: 100
B12: -- Tűzoltó Egyesület | C12: 50
B13: -- Katasztrófavédelem | C13: 10
B14: -- Nyugdíjas Klub, Nagycsaládos Egyesület, Énekkar | C14: 240
B15: EGYÉB MŰKÖDÉSI CÉLÚ KIADÁSOK ÖSSZESEN: | C15: =SUM(C4:C8) -> 3971
A19: 10. melléklet a 2/2015.(II.15.) önkormányzati rendelethez
B21: Felújítási cél megnevezése | C21: ezer Ft
B22: Belterületi utak, utcák felújítása | C22: =SUM(C23:C25) -> 28800
B23: - Ráskói utca szilárd burkolása | C23: 9000
B24: - 76 hrsz-ú ingatlan (épületek és udvar) felújítása turisztikai célra | C24: 8000
B25: - Egyéb belterületi utak felületének megújítása | C25: 11800
B26: FELÚJÍTÁSOK ÖSSZESEN: | C26: =SUM(C21:C22) -> 28800
A30: 11. melléklet az 2/2015.(II.15.) önkormányzati rendelethez
B32: Beruházási cél megnevezése | C32: ezer Ft
B33: Műfüves focipálya építése (önrész) | C33: 3000
B34: BERUHÁZÁSOK ÖSSZESEN: | C34: =SUM(C32:C33) -> 3000
