Workbook
Name _4._sz._sor_részletezése: #REF!
Name _4._sz._sor_részletezése: #REF!
Name _4._sz._sor_részletezése: #REF!

Sheet 1.Onbe
B1: 1. melléklet az 5/2017. (II.23.) Önkormányzati rendelethez
B3: Csetény Község Önkormányzatának
B4: 2017. évi költségvetési bevételei
G5: adatok eFt-ban
B6: A | C6: B | D6: C | E6: D | F6: E | G6: F | H6: G | I6: H | J6: I
B7: Cím | C7: Alcím | D7: Előir. csop. szám | E7: Kie-melt előir. szám | F7: Megnevezés | G7: 2015. évi tény | H7: 2016. évi eredeti előirányzat | I7: 2016. évi várható | J7: 2017. évi eredeti előirányzat
A8: 1 | D8: 1 | F8: Működési költségvetési bevételek | G8: =SUM(G9,G14,G23,G29) -> 177587 | H8: =SUM(H9,H14,H23,H29) -> 199428 | I8: =SUM(I9,I14,I23,I29) -> 228602 | J8: =SUM(J9,J14,J23,J29) -> 182213
A9: 2 | B9: 2 | E9: 1 | F9: Működési célú támogatások Áht-on belülről | G9: 118619 | H9: =SUM(H10,H13:H13) -> 129172 | I9: =SUM(I10,I13:I13) -> 136407 | J9: =SUM(J10,J13:J13) -> 134699
A10: 3 | F10: Önkormányzatok működési támogatásai | G10: 109651 | H10: =SUM(H11:H12) -> 129172 | I10: =SUM(I11:I12) -> 128532 | J10: =SUM(J11:J12) -> 129562
A11: 4 | F11: Helyi önkormányzatok működésének általános és ágazati feladataihoz kapcsolódó támogatás | G11: 109651 | H11: 129172 | I11: 128532 | J11: 129562
A12: 5 | F12: Működési célú költségvetési támogatások és kiegészítő támogatások
A13: 6 | F13: Egyéb működési célú támogatások bevételei | G13: 8968 | I13: 7875 | J13: 5137 | K13: közfoglalkoztatás
A14: 7 | B14: 2 | E14: 2 | F14: Közhatalmi bevételek | G14: 27770 | H14: =SUM(H15) -> 33500 | I14: =SUM(I15) -> 52152 | J14: =SUM(J15) -> 40335
A15: 8 | F15: Adók | G15: 27770 | H15: =SUM(H16:H22) -> 33500 | I15: =SUM(I16:I22) -> 52152 | J15: =SUM(J16:J22) -> 40335
A16: 9 | F16: Építményadó | I16: 1240 | J16: 1800
A17: 10 | F17: Vagyoni típusú adó | G17: 100 | H17: 100 | I17: 0
A18: 11 | F18: Iparűzési adó | G18: 22000 | H18: 24000 | I18: 36033 | J18: 32000
A19: 12 | F19: Gépjárműadó | G19: 5170 | H19: 6000 | I19: 6162 | J19: 6000
A20: 13 | F20: Idegenforgalmi adó | I20: 33 | J20: 30
A21: 14 | F21: Talajterhelési díj | G21: 200 | H21: 900 | I21: 934 | J21: 500
A22: 15 | F22: Egyéb pótlékok, bírságok | G22: 300 | H22: 2500 | I22: 7750 | J22: 5
A23: 16 | B23: 2 | E23: 3 | F23: Működési bevételek | G23: 24120 | H23: =SUM(H24:H28) -> 33256 | I23: =SUM(I24:I28) -> 40043 | J23: =SUM(J24:J28) -> 7179
A24: 17 | F24: Szolgáltatások, közvetített szolgáltatások ellenértéke | G24: 80
A25: 18 | F25: Tulajdonosi bevételek | G25: 3500 | H25: 3000 | I25: 7605 | J25: 7000
A26: 19 | F26: Ellátási díjak | G26: 12000 | H26: 19836 | I26: 19934
A27: 20 | F27: ÁFA bevételek és visszatérülések | G27: 3440 | H27: 2860 | I27: 3944
A28: 21 | F28: A működés során keletkező egyéb bevételek | G28: 5100 | H28: =2700+4860 -> 7560 | I28: =2700+5860 -> 8560 | J28: =132+46+1 -> 179
A29: 22 | B29: 2 | E29: 4 | F29: Működési célú átvett pénzeszközök | G29: 7078 | H29: 3500 | I29: 0
A30: 23 | D30: 2 | F30: Felhalmozási költségvetési bevételek | G30: =SUM(G31,G34,G35:G35) -> 187807 | H30: =SUM(H31,H34,H35:H35) -> 4458 | I30: =SUM(I31,I34,I35:I35) -> 4458 | J30: =SUM(J31,J34,J35:J35) -> 0
A31: 24 | B31: 2 | E31: 5 | F31: Felhalmozási célú támogatások Áht-on belülről | G31: 185138 | H31: =SUM(H32,H33:H33) -> 4458 | I31: =SUM(I32,I33:I33) -> 4458 | J31: =SUM(J32,J33:J33) -> 0
A32: 25 | F32: Önkormányzatok felhalmozási támogatásai | G32: 172753
A33: 26 | F33: Egyéb felhalmozási célú támogatások bevételei | G33: 12385 | H33: 4458 | I33: 4458
A34: 27 | B34: 2 | E34: 6 | F34: Felhalmozási bevételek
A35: 28 | B35: 2 | E35: 7 | F35: Felhalmozási célú átvett pénzeszközök | G35: 2669
A36: 29 | F36: Költségvetési bevételek összesen | G36: =SUM(G8,G30) -> 365394 | H36: =SUM(H8,H30) -> 203886 | I36: =SUM(I8,I30) -> 233060 | J36: =SUM(J8,J30) -> 182213
A37: 30 | F37: Költségvetési egyenleg összege: | G37: =+G36-'3.Onki'!G25 -> 89420 | H37: =+H36-'3.Onki'!H25 -> -135050 | I37: =+I36-'3.Onki'!I25 -> -159000 | J37: =+J36-'3.Onki'!J25 -> -51009
A38: 31 | E38: 8 | F38: Finanszírozási bevételek | G38: 437318 | H38: =SUM(H39,H44) -> 135050 | I38: 170314 | J38: =SUM(J39,J44) -> 55607
A39: 32 | B39: 2 | F39: Költségvetési hiány belső finanszírozására szolgáló bevételek | G39: =SUM(G40,G43) -> 80851 | H39: =SUM(H40,H43) -> 27050 | I39: =SUM(I40,I43) -> 50935 | J39: =SUM(J40,J43) -> 55607
A40: 33 | F40: Működési célú költségvetési maradvány igénybevétele | G40: 80851 | H40: =SUM(H41:H42) -> 27050 | I40: 50935 | J40: =SUM(J41:J42) -> 46905
A41: 34 | F41: Csetény Közös Önkormányzati Hivatal | G41: 302 | H41: 1203 | I41: 20
A42: 35 | F42: Csetény Köszég Önkormányzat | G42: 80549 | H42: 25847 | I42: 50935 | J42: =55607-5500-3202 -> 46905
A43: 36 | F43: Felhalmozási célú költségvetési maradvány igénybevétele | J43: =1500+4000+3202 -> 8702
A44: 37 | B44: 2 | F44: Költségvetési hiány külső finanszírozására szolgáló bevételek | G44: =SUM(G45:G47) -> 356467 | H44: =SUM(H45:H47) -> 108000 | I44: =SUM(I45:I47) -> 119379 | J44: =SUM(J45:J47) -> 0
A45: 38 | F45: Belföldi értékpapírok bevételei | G45: 355833 | H45: 108000 | I45: 108000
A46: 39 | F46: Államháztartáson belüli megelőlegezések | G46: 634 | I46: 11379
A47: 40 | F47: Beruházási hitelfelvétel
A48: 41 | F48: Bevételi főösszeg | G48: =SUM(G36,G38) -> 802712 | H48: =SUM(H36,H38) -> 338936 | I48: =SUM(I36,I38) -> 403374 | J48: =SUM(J36,J38) -> 237820
H49: =+H48-'3.Onki'!H30 -> 0 | I49: =+I48-'3.Onki'!I30 -> 0 | J49: =+J48-'3.Onki'!J30 -> 0

Sheet 2.Norm
B1: 2. melléklet az 5/2017. (II.23.) Önkormányzati rendelethez
B3: Helyi önkormányzat általános működéséhez és ágazati feladataihoz
B4: kapcsolódó támogatások alakulás 2016. és 2017. évben
F5: adatok eFt-ban
B6: A | C6: B | D6: C | E6: D | F6: E
B7: Jogcím | C7: Megnevezés | D7: 2016. év | E7: 2017. év | F7: Változás %-a 2017/2016
A9: 1 | B9: 1. A települési önkormányzatok működésének támogatása | D9: =SUM(D10,D15,D16,D17) -> 51145 | E9: =SUM(E10,E15,E16,E17) -> 51144 | F9: =+E9/D9 -> 0.99998045
A10: 2 | B10: 2. I.1.a) | C10: Önkormányzati hivatal működésének támogatása | D10: 34671 | E10: 34671 | F10: =+E10/D10 -> 1
A11: 3 | B11: 2. I.1.ba.) | C11: Zöldterület-gazdálkodással kapcsolatos feladatok ellátásának támogatása | D11: 4021 | E11: 4021 | F11: =+E11/D11 -> 1
A12: 4 | B12: 2. I.1.bb.) | C12: Közvilágítás fenntartásának támogatása | D12: 3872 | E12: 3872 | F12: =+E12/D12 -> 1
A13: 5 | B13: 2. I.1.bc.) | C13: Köztemető fenntartással kapcs.feladatok támogatása | D13: 693 | E13: 693 | F13: =+E13/D13 -> 1
A14: 6 | B14: 2. I.1.bd.) | C14: Közutak fenntartásának támogatása | D14: 1864 | E14: 1863 | F14: =+E14/D14 -> 0.99946352
A15: 7 | B15: 2. I.1.b) | C15: Település-üzemeltetéshez kapcsolódó feladatellátás támogatása | D15: =SUM(D11:D14) -> 10450 | E15: =SUM(E11:E14) -> 10449 | F15: =+E15/D15 -> 0.99990431
A16: 8 | B16: 2. I.1.c) | C16: Egyéb kötelező önkormányzati feladatok támogatása | D16: 6000 | E16: 6000 | F16: =+E16/D16 -> 1
A17: 9 | B17: 2. I.1.e) | C17: Üdülőhelyi feladatok támogatása | D17: 24 | E17: 24 | F17: =+E17/D17 -> 1
A18: 10 | B18: 2. Egyes köznevelési feladatok támogatása | D18: =SUM(D19:D20) -> 46089 | E18: =SUM(E19:E20) -> 43326 | F18: =+E18/D18 -> 0.94005077
A19: 11 | B19: 2. II.1. | C19: Óvodapedagógusok és az óvodap. nevelő munkáját közv. segítők bértám. | D19: 39982 | E19: 37852 | F19: =+E19/D19 -> 0.94672603
A20: 12 | B20: 2. II.2. a) | C20: Óvodaműködtetési támogatás | D20: 6107 | E20: 5474 | F20: =+E20/D20 -> 0.89634845
A21: 13 | B21: 3. Szociális, gyermekjóléti és gyermekétkezetési feladatok támogatása | D21: =SUM(D22:D26) -> 29754 | E21: =SUM(E22:E26) -> 32973 | F21: =+E21/D21 -> 1.1081871
A22: 14 | B22: 2. III.2. | C22: A települési önkormányzatok szociális feladatainak egyéb támogatása | D22: 9917 | E22: 11460 | F22: =+E22/D22 -> 1.1555914
A23: 15 | B23: 2. III.3.a) | C23: Család- és gyermekjóléti szolgálat | D23: 3000 | E23: 3000 | F23: =+E23/D23 -> 1
A24: 16 | B24: 2. III.3.c) | C24: Szociális étkeztetés | D24: 2602 | E24: 2658 | F24: =+E24/D24 -> 1.0215219
A25: 17 | B25: 2. III.5. | C25: Gyermekétkeztetés támogatása | D25: 14156 | E25: 15855 | F25: =+E25/D25 -> 1.1200198
A26: 18 | B26: 2. III.6. | C26: A rászoruló gyermekek szünidei étkeztetésének támogatása | D26: 79 | F26: =+E26/D26 -> 0
A27: 19 | B27: 4. Települési önkormányzatok kulturális feladatainak támogatása | D27: =SUM(D28) -> 2110 | E27: =SUM(E28) -> 2119 | F27: =+E27/D27 -> 1.0042654
A28: 20 | B28: 2. IV.1.d) | C28: A települési önkormányzatok kulturális feladatainak támogatása | D28: 2110 | E28: 2119 | F28: =+E28/D28 -> 1.0042654
A29: 21 | B29: MINDÖSSZESEN | D29: =SUM(D9,D21,D27,D18) -> 129098 | E29: =SUM(E9,E21,E27,E18) -> 129562 | F29: =+E29/D29 -> 1.0035942

Sheet 3.Onki
B1: 3. melléklet az 5/2017. (II.23.) Önkormányzati rendelethez
B3: Csetény Község Önkormányzatának
B4: 2017. évi költségvetési kiadásai
G5: adatok eFt-ban
B6: A | C6: B | D6: C | E6: D | F6: E | G6: F | H6: G | I6: H | J6: I
B7: Cím | C7: Alcím | D7: Előir. csop. szám | E7: Kie-melt előir. szám | F7: Megnevezés | G7: 2015. évi tény | H7: 2016. évi eredeti előirányzat | I7: 2016. évi várható | J7: 2017. évi eredeti előirányzat
A8: 1 | B8: 1 | F8: Intézményi költségvetési kiadások | G8: 40359 | H8: =SUM(H9:H10) -> 35874 | I8: 40615 | J8: =SUM(J9:J10) -> 34671
A9: 2 | D9: 1 | F9: Működési költségvetési kiadások | G9: 40341 | H9: 35074 | I9: 39815 | J9: 34671
A10: 3 | D10: 2 | F10: Felhalmozási költségvetési kiadások | G10: 18 | H10: =SUM(H11:H12) -> 800 | I10: =SUM(I11:I12) -> 800 | J10: =SUM(J11:J12) -> 0
A11: 4 | E11: 1 | F11: - Beruházások | G11: 18 | H11: 800 | I11: 800
A12: 5 | E12: 2 | F12: - Felújítások
A13: 6 | B13: 2 | F13: Önkormányzati költségvetési kiadások | G13: =SUM(G14:G15,G18,G20) -> 235615 | H13: =SUM(H14:H15,H18,H20) -> 303062 | I13: =SUM(I14:I15,I18,I20) -> 351445 | J13: =SUM(J14:J15,J18,J20) -> 198551
A14: 7 | D14: 1 | F14: Működési költségvetési kiadások | G14: 144525 | H14: =20308+5657+54136+4457+53139+14754 -> 152451 | I14: 210209 | J14: 147579
A15: 8 | F15: Céltartalékok | G15: =SUM(G16,G17) -> 0 | H15: =SUM(H16,H17) -> 0 | I15: =SUM(I16,I17) -> 0 | J15: =SUM(J16,J17) -> 0
A16: 9 | F16: Működési céltartalékok
A17: 10 | F17: Felhalmozási céltartalékok
A18: 11 | F18: Általános tartalék | H18: 51500 | J18: 42270
A19: 12
A20: 13 | D20: 2 | F20: Felhalmozási költségvetési kiadások | G20: =SUM(G21:G23) -> 91090 | H20: =SUM(H21:H23) -> 99111 | I20: =SUM(I21:I23) -> 141236 | J20: =SUM(J21:J23) -> 8702
A21: 14 | E21: 1 | F21: - Beruházások | G21: 12112 | H21: 8723 | I21: 8957 | J21: 7202
A22: 15 | E22: 2 | F22: - Felújítások | G22: 76403 | H22: 88990 | I22: 132279 | J22: 1500
A23: 16 | E23: 3 | F23: - Egyéb felhalmozási célú kiadások | G23: 2575 | H23: 1398
A24: 17
A25: 18 | F25: Költségvetési kiadások összesen | G25: =SUM(G13,G8) -> 275974 | H25: =SUM(H13,H8) -> 338936 | I25: =SUM(I13,I8) -> 392060 | J25: =SUM(J13,J8) -> 233222
A26: 19 | B26: 1 | F26: Finanszírozási kiadások | G26: 526738 | H26: =SUM(H27:H29) -> 0 | I26: =SUM(I27:I29) -> 11314 | J26: =SUM(J27:J29) -> 4598
A27: 20 | D27: 1 | F27: Működési finanszírozási kiadások
A28: 21 | F28: - Államháztartáson belüli megelőlegezések visszafizetése | G28: 3649 | I28: 11314 | J28: 4598
A29: 22 | D29: 2 | F29: Felhalmozási finanszírozási kiadások
A30: 23 | F30: Kiadási főösszeg | G30: =SUM(G25:G26) -> 802712 | H30: =SUM(H25:H26) -> 338936 | I30: =SUM(I25:I26) -> 403374 | J30: =SUM(J25:J26) -> 237820
G31: =+-G30+'1.Onbe'!G48 -> 0 | H31: =+-H30+'1.Onbe'!H48 -> 0 | I31: =+-I30+'1.Onbe'!I48 -> 0 | J31: =+-J30+'1.Onbe'!J48 -> 0

Sheet 4.Inbe
B1: 4. melléklet az 5/2017. (II.23.) Önkormányzati rendelethez
B3: Csetény Közös Önkormányzati Hivatal
B4: 2017. évi költségvetési bevételei
O5: adatok eFt-ban
B6: A | C6: B | E6: C | F6: G | G6: H | H6: I | I6: J | J6: K | K6: L | L6: M | M6: N | N6: O | O6: P
B7: Cím | C7: Alcím | D7: COFOG kód | E7: Megnevezés | F7: 2017. évi előirányzat | G7: Működési költségvetési bevételek | J7: Felhalmozási költségvetési bevételek | M7: Előző évi költségvetési maradvány | N7: Irányító szervtől kapott támogatás
G8: Működési bevételek | H8: Működési célú támogatás Áht-on belülről | I8: Működési célú átvett pénzeszköz | J8: Felhalmozási bevétel | K8: Felhalmozási célú támogatás Áht.-on belülről | L8: Felhalmozási célú átvett pénzeszköz | N8: Összesen | O8: Ebből: normatív állami támogatás
A9: 1 | B9: 1 | C9: Csetény Közös Önkormányzati Hivatal
A10: 2 | C10: 1 | D10: 011130 | E10: Önk. és önk. hiv. jogalk. és ált. ig. tev
A11: 3 | E11: eredeti előirányzat | F11: =SUM(G11:N11) -> 0
A12: 4 | C12: 2 | D12: 018030 | E12: Támogatási célú finanszírozású műveletek
A13: 5 | E13: eredeti előirányzat | F13: =SUM(G13:N13) -> 34671 | N13: 34671 | O13: 34671
A14: 6 | E14: INTÉZMÉNY ÖSSZESEN:
A15: 7 | E15: eredeti előirányzat | F15: =SUM(G15:N15) -> 34671 | G15: =SUM(G11,G13) -> 0 | H15: =SUM(H11,H13) -> 0 | I15: =SUM(I11,I13) -> 0 | J15: =SUM(J11,J13) -> 0 | K15: =SUM(K11,K13) -> 0 | L15: =SUM(L11,L13) -> 0 | M15: =SUM(M11,M13) -> 0 | N15: =SUM(N11,N13) -> 34671 | O15: =SUM(O11,O13) -> 34671 | R15: =+F15-'5.Inki'!G15 -> 0

Sheet 5.Inki
B1: 5. melléklet az 5/2017. (II.23.) Önkormányzati rendelethez
B3: Csetény Közös Önkormányzati Hivatal
B4: 2017. évi költségvetési kiadásai
O5: adatok eFt-ban
B6: A | C6: B | E6: C | F6: D | G6: H | H6: I | I6: J | J6: K | K6: L | L6: M | M6: N | N6: O | O6: P
B7: Cím | C7: Alcím | D7: COFOG kód | E7: Megnevezés | F7: Feladatellátás jellege* | G7: 2017. évi előirányzat | H7: Működési költségvetési kiadások | M7: Felhalmozási költségvetési kiadások
H8: Személyi juttatások | I8: Munk.a. terh. jár. és szoc.hj.adó | J8: Dologi kiadások | K8: Ellátottak pénzbeli. juttatásai | L8: Egyéb működési kiadások | M8: Beruházások | N8: Felújítások | O8: Egyéb felhalmozási célú kiadások
A9: 1 | B9: 1 | C9: Csetény Közös Önkormányzati Hivatal | P9: =(SUM(#REF!))-#REF! -> #REF!
A10: 2 | C10: 1 | D10: 011130 | E10: Önk. és önk. hiv. jogalk. és ált. ig. tev | F10: Á | P10: =(SUM(#REF!))-#REF! -> #REF!
A11: 3 | E11: eredeti előirányzat | G11: =SUM(H11:O11) -> 31575 | H11: =21719-2494+20+991 -> 20236 | I11: =4760-602+170+282+308 -> 4918 | J11: =6304+117 -> 6421
A12: 4 | C12: 2 | D12: 011220 | E12: Adó-, vám- és jövedéki igazgatás | F12: Á | P12: =(SUM(#REF!))-#REF! -> #REF!
A13: 5 | E13: eredeti előirányzat | G13: =SUM(H13:O13) -> 3096 | H13: 2494 | I13: 602
A14: 6 | E14: INTÉZMÉNY ÖSSZESEN: | P14: =(SUM(#REF!))-#REF! -> #REF!
A15: 7 | E15: eredeti előirányzat | G15: =SUM(H15:O15) -> 34671 | H15: =SUM(H11,H13) -> 22730 | I15: =SUM(I11,I13) -> 5520 | J15: =SUM(J11,J13) -> 6421 | K15: =SUM(K11,K13) -> 0 | L15: =SUM(L11,L13) -> 0 | M15: =SUM(M11,M13) -> 0 | N15: =SUM(N11,N13) -> 0 | O15: =SUM(O11,O13) -> 0 | R15: =+G15-'4.Inbe'!N15 -> 0
A16: 8 | E16: Ebből:
A17: 9 | E17: Közös Hivatal által ellátott kötelező feladatok összesen | P17: =(SUM(#REF!))-#REF! -> #REF!
A18: 10 | E18: eredeti előirányzat | G18: =SUM(H18:O18) -> 0
A19: 11 | E19: Ebből:
A20: 12 | E20: Közös Hivatal által önként vállalt feladatok összesen | P20: =(SUM(#REF!))-#REF! -> #REF!
A21: 13 | E21: eredeti előirányzat | G21: =SUM(H21:O21) -> 0
A22: 14 | E22: Ebből:
A23: 15 | E23: Közös Hivatal által ellátott államigazgatási feladatok összesen | P23: =(SUM(#REF!))-#REF! -> #REF!
A24: 16 | E24: eredeti előirányzat | G24: =SUM(H24:O24) -> 34671 | H24: =SUM(H11,H13) -> 22730 | I24: =SUM(I11,I13) -> 5520 | J24: =SUM(J11,J13) -> 6421 | K24: =SUM(K11,K13) -> 0 | L24: =SUM(L11,L13) -> 0 | M24: =SUM(M11,M13) -> 0 | N24: =SUM(N11,N13) -> 0 | O24: =SUM(O11,O13) -> 0
B25: * Feladatellátás jellege:
B26: K= Magyarország helyi önkormányzatairól szóló 2011. évi CLXXXIX. törvény 13. § (1) bekezdése szerinti kötelező feladatok
B27: NK= Társulás által önként vállalt feladatok
G28: =+G15-G18-G21-G24 -> 0 | H28: =+H15-H18-H21-H24 -> 0 | I28: =+I15-I18-I21-I24 -> 0 | J28: =+J15-J18-J21-J24 -> 0 | K28: =+K15-K18-K21-K24 -> 0 | L28: =+L15-L18-L21-L24 -> 0 | M28: =+M15-M18-M21-M24 -> 0 | N28: =+N15-N18-N21-N24 -> 0 | O28: =+O15-O18-O21-O24 -> 0

Sheet 6.Önk.kiad
B1: 6. melléklet az 5/2017. (II.23.) Önkormányzati rendelethez
B2: Csetény Község Önkormányzata
B3: 2017. évi Önkormányzati feladatok és egyéb kötelezettségek működési költségvetési kiadásai
L4: adatok eFt-ban
B5: A | C5: B | D5: C | E5: D | F5: E | G5: F | H5: G | I5: H | J5: I | K5: J | L5: K
B6: Cím | C6: Alcím | D6: Kormányzati funkció | E6: Megnevezés | F6: Feladatellátás jellege* | G6: 2017. évi előirányzat | H6: Működési költségvetési kiadások
H7: Személyi juttatások | I7: Munk.a. terh. jár. és szoc.hj.adó | J7: Dologi kiadások | K7: Ellátottak pénzbeli. juttatásai | L7: Egyéb működési kiadások
A8: 1 | B8: 1 | C8: 1 | D8: 011130. | E8: Önkormányzatok és önk.hivatalok jogalkotó és ált. igazgatási tevékenysége | F8: K
A9: 2 | E9: eredeti előirányzat | G9: =SUM(H9:L9) -> 17290 | H9: 5821 | I9: 1169 | J9: 8800 | L9: 1500
A10: 3 | C10: 2 | D10: 013320. | E10: Köztemető -fenntartás és működtetés | F10: K
A11: 4 | E11: eredeti előirányzat | G11: =SUM(H11:L11) -> 693 | J11: 635 | L11: 58
A12: 5 | C12: 3 | D12: 045160. | E12: Közutak, hidak, alagutak üzemeltetése és fenntartása | F12: K
A13: 6 | E13: eredeti előirányzat | G13: =SUM(H13:L13) -> 1863 | J13: 1708 | L13: 155
A14: 7 | C14: 4 | D14: 064010. | E14: Közvilágítás | F14: K
A15: 8 | E15: eredeti előirányzat | G15: =SUM(H15:L15) -> 3872 | J15: 3872
A16: 9 | C16: 5 | D16: 066010. | E16: Zöldterület-kezelés | F16: K
A17: 10 | E17: eredeti előirányzat | G17: =SUM(H17:L17) -> 4021 | L17: 4021
A18: 11 | C18: 6 | D18: 066020. | E18: Város-, községgazdálkodási egyéb szolgáltatások | F18: K
A19: 12 | E19: eredeti előirányzat | G19: =SUM(H19:L19) -> 12792 | H19: 3762 | I19: 1101 | J19: 7929
A20: 13 | C20: 7 | D20: 074031.. | E20: Család és nővédelmi egészségügyi gondozás | F20: K
A21: 14 | E21: eredeti előirányzat | G21: =SUM(H21:L21) -> 3924 | H21: 2874 | I21: 550 | J21: 500
A22: 15 | C22: 8 | D22: 082044. | E22: Könyvtári szolgáltatások | F22: K
A23: 16 | E23: eredeti előirányzat | G23: =SUM(H23:L23) -> 600 | J23: 600
A24: 17 | C24: 9 | D24: 082092. | E24: Közművelődés - hagyományos közösségi kulturális értékek gondozása | F24: K
A25: 18 | E25: eredeti előirányzat | G25: =SUM(H25:L25) -> 1519 | J25: 1519
A26: 19 | C26: 10 | D26: 041233. | E26: Hosszabb időtartamú közfoglalkoztatás | F26: K
A27: 20 | E27: eredeti előirányzat | G27: =SUM(H27:L27) -> 5702 | H27: 5137 | I27: 565
A28: 21 | C28: 11 | D28: 096015. | E28: Gyermekétkeztetés köznevelési intézményben | F28: K
A29: 22 | E29: eredeti előirányzat | G29: =SUM(H29:L29) -> 15855 | J29: 1585 | L29: 14270
A30: 23 | C30: 12 | D30: 104042. | E30: Család- és gyermekjóléti szolgáltatások | F30: K
A31: 24 | E31: eredeti előirányzat | G31: =SUM(H31:L31) -> 3818 | H31: 2768 | I31: 550 | J31: 500
A32: 25 | C32: 13 | D32: 107051. | E32: Szociális étkeztetés | F32: K
A33: 26 | E33: eredeti előirányzat | G33: =SUM(H33:L33) -> 2658 | J33: 266 | L33: 2392
A34: 27 | C34: 14 | D34: 107060. | E34: Egyéb szociális pénzbeli és természetbeni ellátások, támogatások | F34: K
A35: 28 | E35: eredeti előirányzat | G35: =SUM(H35:L35) -> 7675 | K35: 7675
A36: 29 | C36: 15 | E36: Államháztartáson belüli szervezetek támogatása | F36: K
A37: 30 | E37: eredeti előirányzat | G37: =SUM(H37:L37) -> 50585 | L37: 50585
A38: 31 | C38: 16 | E38: Államháztartásin kívüli szervezetek támogatása | F38: K
A39: 32 | E39: eredeti előirányzat | G39: =SUM(H39:L39) -> 14712 | L39: =35608-2392-14270-4021-58-155 -> 14712
A40: 33 | E40: MINDÖSSZESEN:
A41: 34 | E41: eredeti előirányzat | G41: =SUM(H41:L41) -> 147579 | H41: =SUM(H9,H11,H13,H15,H17,H19,H21,H23,H25,H27,H29,H31,H33,H35,H37,H39) -> 20362 | I41: =SUM(I9,I11,I13,I15,I17,I19,I21,I23,I25,I27,I29,I31,I33,I35,I37,I39) -> 3935 | J41: =SUM(J9,J11,J13,J15,J17,J19,J21,J23,J25,J27,J29,J31,J33,J35,J37,J39) -> 27914 | K41: =SUM(K9,K11,K13,K15,K17,K19,K21,K23,K25,K27,K29,K31,K33,K35,K37,K39) -> 7675 | L41: =SUM(L9,L11,L13,L15,L17,L19,L21,L23,L25,L27,L29,L31,L33,L35,L37,L39) -> 87693
A42: 35 | E42: Ebből: Önkormányzat által ellátott kötelező feladatok összesen:
A43: 36 | E43: eredeti előirányzat | G43: =SUM(H43:L43) -> 147579 | H43: =+H41-H45-H47 -> 20362 | I43: =+I41-I45-I47 -> 3935 | J43: =+J41-J45-J47 -> 27914 | K43: =+K41-K45-K47 -> 7675 | L43: =+L41-L45-L47 -> 87693
A44: 37 | E44: Ebből: Önkormányzat által ellátott önként vállalt feladatok összesen:
A45: 38 | E45: eredeti előirányzat | G45: =SUM(H45:L45) -> 0
A46: 39 | E46: Ebből: Önkormányzat által ellátott állami (államigazgatási) feladatok összesen:
A47: 40 | E47: eredeti előirányzat | G47: =SUM(H47:L47) -> 0
B48: * Feladatellátás jellege:
B49: K= Magyarország helyi önkormányzatairól szóló 2011. évi CLXXXIX. törvény 13. § (1) bekezdése szerinti kötelező feladatok
B50: NK= Önkormányzat által önként vállalt feladatok
B51: Á= Állami (államigazgatási) feladatok
G52: =+G41-G43-G45-G47 -> 0 | H52: =+H41-H43-H45-H47 -> 0 | I52: =+I41-I43-I45-I47 -> 0 | J52: =+J41-J43-J45-J47 -> 0 | K52: =+K41-K43-K45-K47 -> 0 | L52: =+L41-L43-L45-L47 -> 0

Sheet 7.Beruházás
B1: 7. melléklet az 5/2017. (II.23.) Önkormányzati rendelethez
B3: Csetény Község Önkormányzata
B4: 2017. évi Beruházási célú kiadások előirányzata
J5: adatok eFt-ban
B6: A | C6: B | D6: C | E6: D | F6: E | G6: F | H6: F | I6: G | J6: I
B7: Cím | C7: Alcím | D7: Megnevezés | E7: Feladatellátás jellege* | F7: Teljes költség | G7: Teljesítés 2015.12.31-ig | H7: 2016. évi várható | I7: 2017. évi előirányzat | J7: 2017. utáni javaslat
A8: 1 | B8: 2 | C8: 1 | D8: Csapadékvíz elvezető árok építése | E8: K | F8: =+G8+H8+I8+J8 -> 4000 | I8: 4000
A9: 2 | C9: 2 | D9: ASP eszközbeszerzés | I9: 3202
A10: 3
A11: 4
A12: 5 | D12: BERUHÁZÁSI KIADÁSOK ÖSSZESEN | F12: =SUM(F8:F11) -> 4000 | G12: =SUM(G8:G11) -> 0 | H12: =SUM(H8:H11) -> 0 | I12: =SUM(I8:I11) -> 7202 | J12: =SUM(J8:J11) -> 0
B13: * Feladatellátás jellege:
B14: K= Magyarország helyi önkormányzatairól szóló 2011. évi CLXXXIX. törvény 13. § (1) bekezdése szerinti kötelező feladatok
B15: NK= Önkormányzat által önként vállalt feladatok
B16: Á= Állami (államigazgatási) feladatok

Sheet 8.Felújítás
B1: 8. melléklet az 5/2017. (II.23.) Önkormányzati rendelethez
B3: Csetény Község Önkormányzata
B4: 2017. évi Felújítási célú kiadások előirányzata
J5: adatok eFt-ban
B6: A | C6: B | D6: C | E6: D | F6: E | G6: F | H6: F | I6: G | J6: H
B7: Cím | C7: Alcím | D7: Megnevezés | E7: Feladatellátás jellege* | F7: Teljes költség | G7: Teljesítés 2015.12.31-ig | H7: 2016. évi várható | I7: 2017. évi előirányzat | J7: 2017. utáni javaslat
A8: 1 | B8: 2 | C8: 1 | D8: Ravatalozó felújítása | E8: NK | F8: =+G8+H8+I8+J8 -> 1500 | I8: 1500
A9: 2
A10: 3
A11: 4
A12: 5 | D12: BERUHÁZÁSI KIADÁSOK ÖSSZESEN | F12: =SUM(F8:F8) -> 1500 | G12: =SUM(G8:G8) -> 0 | H12: =SUM(H8:H8) -> 0 | I12: =SUM(I8:I8) -> 1500 | J12: =SUM(J8:J8) -> 0
B13: * Feladatellátás jellege:
B14: K= Magyarország helyi önkormányzatairól szóló 2011. évi CLXXXIX. törvény 13. § (1) bekezdése szerinti kötelező feladatok
B15: NK= Önkormányzat által önként vállalt feladatok
B16: Á= Állami (államigazgatási) feladatok

Sheet 9.Mérleg
B1: 9. melléklet az 5/2017. (II.23.) Önkormányzati rendelethez
B2: Csetény Község Önkormányzatának működési és felhalmozási
B3: költségvetési bevételei és kiadásai 2017. évben
G4: adatok eFt-ban
B5: A | C5: B | D5: C | E5: D | F5: E | G5: F
A6: 1 | C6: MŰKÖDÉSI KÖLTSÉGVETÉSI BEVÉTELEK | D6: Eredeti előirányzat | F6: MŰKÖDÉSI KÖLTSÉGVETÉSI KIADÁSOK | G6: Eredeti előirányzat
A7: 2 | B7: 1. | C7: Működési célú támogatások államháztartáson belülről | D7: =+'1.Onbe'!J9 -> 134699 | E7: 1. | F7: Személyi juttatások | G7: =+'5.Inki'!H15+'6.Önk.kiad'!H41 -> 43092
A8: 3 | B8: 2. | C8: Közhatalmi bevételek | D8: =+'1.Onbe'!J14 -> 40335 | E8: 2. | F8: Munkaadókat terhelő járulékok és szociális hozzájárulási adó | G8: =+'5.Inki'!I15+'6.Önk.kiad'!I41 -> 9455
A9: 4 | B9: 3. | C9: Működési bevételek | D9: =+'1.Onbe'!J23 -> 7179 | E9: 3. | F9: Dologi kiadások | G9: =+'5.Inki'!J15+'6.Önk.kiad'!J41 -> 34335
A10: 5 | B10: 4. | C10: Működési célú átvett pénzeszközök | D10: =+'1.Onbe'!J29 -> 0 | E10: 4. | F10: Ellátottak pénzbeli juttatásai | G10: =+'6.Önk.kiad'!K41 -> 7675
A11: 6 | E11: 5. | F11: Egyéb működési célú kiadások | G11: =+'6.Önk.kiad'!L41 -> 87693
A12: 7 | E12: 6. | F12: Működési célú tartalék | G12: =+'3.Onki'!J18 -> 42270
A13: 8 | C13: Működési költségvetési bevételek összesen | D13: =SUM(D7:D12) -> 182213 | F13: Működési költségvetési kiadások összesen | G13: =SUM(G7:G12) -> 224520
A14: 9 | C14: FELHALMOZÁSI KÖLTSÉGVETÉSI BEVÉTELEK | F14: FELHALMOZÁSI KÖLTSÉGVETÉSI KIADÁSOK
A15: 10 | B15: 5. | C15: Felhalmozási célú támogatások államháztartáson belülről | E15: 1. | F15: Beruházási kiadások | G15: =+'7.Beruházás'!I12 -> 7202
A16: 11 | B16: 6. | C16: Felhalmozási bevételek | E16: 2. | F16: Felújítási kiadások | G16: =+'8.Felújítás'!I12 -> 1500
A17: 12 | B17: 7. | C17: Felhalmozási célú átvett pénzeszközök | E17: 3. | F17: Egyéb felhalmozási célú kiadások
A18: 13 | E18: 4. | F18: Felhalmozási célú tartalék | G18: =+'3.Onki'!H17 -> 0
A19: 14 | C19: Felhalmozási költségvetési bevételek összesen | D19: =SUM(D15:D18) -> 0 | F19: Felhalmozási költségvetési kiadások összesen | G19: =SUM(G15:G18) -> 8702
A20: 15 | C20: Költségvetési bevételek összesen | D20: =D13+D19 -> 182213 | F20: Költségvetési kiadások összesen | G20: =G13+G19 -> 233222
A21: 16 | C21: MŰKÖDÉSI FINANSZÍROZÁSI BEVÉTELEK | F21: MŰKÖDÉSI FINANSZÍROZÁSI KIADÁSOK
A22: 17 | B22: 1. | C22: Rövid lejáratú hitel felvétele | E22: 1. | F22: Rövid lejáratú hitel tőkeösszegének törlesztése
A23: 18 | B23: 2. | C23: Államháztartáson belüli megelőlegezések | E23: 2. | F23: Államháztartáson belüli megelőlegezések visszafizetése | G23: =+'3.Onki'!J28 -> 4598
A24: 19 | B24: 3. | C24: Költségvetési maradvány | D24: =+'1.Onbe'!J40 -> 46905
A25: 20 | C25: FELHALMOZÁSI FINANSZÍROZÁSI BEVÉTELEK | F25: FELHALMOZÁSI FINANSZÍROZÁSI KIADÁSOK
A26: 21 | B26: 3. | C26: Hosszú lejáratú hitel felvétele | E26: 3. | F26: Hosszú lejáratú hitel tőkeösszegének törlesztése
A27: 22 | B27: 4. | C27: Belföldi értékpapírok bevételei | E27: 4. | F27: Rövid lejáratú hitel tőkeösszegének törlesztése
A28: 23 | B28: 5. | C28: Költségvetési maradvány | D28: =+'1.Onbe'!J43 -> 8702
A29: 24 | C29: Finanszírozási bevételek összesen | D29: =SUM(D22:D28) -> 55607 | F29: Finanszírozási kiadások összesen | G29: =SUM(G21:G27) -> 4598
A30: 25 | C30: ÖSSZES BEVÉTEL | D30: =SUM(D20,D29) -> 237820 | F30: ÖSSZES KIADÁS | G30: =SUM(G26:G27,G19,G22:G22,G13,G23) -> 237820
A31: 26 | C31: Költségvetési egyenleg összege | D31: =+D20-G20 -> -51009
A32: 27 | C32: ebből: működési | D32: =+D13-G13 -> -42307
A33: 28 | C33: ebből: felhalmozási | D33: =+D19-G19 -> -8702
A34: 29 | C34: Finanszírozási kiadásokkal korrigált egyenleg | D34: =D31-G29 -> -55607
A35: 30 | C35: Belső finanszírozásra szolgáló előző évek költségvetési maradványával korrigált egyenleg | D35: =D34+D24+D23+D28 -> 0
A36: 31 | C36: Külső finanszírozásra szolgáló költségvetési bevételek összegével korrigált hiány | D36: =D35+D26+D27 -> 0
A37: 32 | C37: Működési bevételek aránya %-ban | D37: =(D13+D22+D23+D24)/D30 -> 0.9634093 | F37: Működési kiadások aránya %-ban | G37: =(G13+G22+G23)/G30 -> 0.9634093
A38: 33 | C38: Felhalmozási bevételek aránya %-ban | D38: =(D19+D26+D27+D28)/D30 -> 0.036590699 | F38: Felhalmozási kiadások aránya %-ban | G38: =(G19+G26+G27)/G30 -> 0.036590699
D39: =+D30-'1.Onbe'!J48 -> 0 | G39: =+G30-'3.Onki'!J30 -> 0

Sheet 10.Létszám
B1: 10. melléklet az 5/2017. (II.23.) Önkormányzati rendelethez
B2: KIMUTATÁS
B3: a 2017. évi engedélyezett létszámról
B4: A | C4: B | D4: C | E4: D | F4: E
B5: Megnevezés | C5: 2016. évi engedélyezett létszám | D5: Módosítás | E5: 2017. évi engedélyezett létszám | F5: Megjegyzés
A6: 1 | B6: Csetény Község Önkormányzata | C6: 3 | E6: =SUM(C6:D6) -> 3
A7: 2 | B7: Csetény Közös Önkormányzati Hivatal | C7: 7 | E7: 7
A8: 3 | B8: Közfoglalkoztatás | C8: 4 | E8: =SUM(C8:D8) -> 4
A9: 4 | B9: ÖSSZESEN | C9: =SUM(C6:C8) -> 14 | D9: =SUM(D6:D8) -> 0 | E9: =SUM(E6:E8) -> 14

Sheet 11.Előir.felh.
B1: 11. melléklet az 5/2017. (II.23.) Önkormányzati rendelethez
B3: Csetény Község Önkormányzata
B4: 2017. évi előirányzat felhasználási terv
B5: tájékoztató jelleggel az Áht. 24. § (4) bekezdés a) pontja alapján
P6: adatok eFt-ban
B7: A | C7: B | D7: C | E7: D | F7: E | G7: F | H7: G | I7: H | J7: I | K7: J | L7: K | M7: L | N7: M | O7: N | P7: O
B8: Sor-szám | C8: Megnevezés | D8: Január | E8: Február | F8: Március | G8: Április | H8: Május | I8: Június | J8: Július | K8: Augusztus | L8: Szeptember | M8: Október | N8: November | O8: December | P8: Összesen
A9: 1 | B9: 1. | C9: Bevételek
A10: 2 | B10: 2. | C10: Nyitó pénzkészlet | P10: -----
A11: 3 | B11: 3. | C11: Önkormányzatok működési támogatásai | D11: 10797 | E11: 10797 | F11: 10797 | G11: 10797 | H11: 10797 | I11: 10797 | J11: 10797 | K11: 10797 | L11: 10797 | M11: 10797 | N11: 10796 | O11: 10796 | P11: =SUM(D11:O11) -> 129562 | Q11: =+P11-'1.Onbe'!J10 -> 0
A12: 4 | B12: 4. | C12: Egyéb működési célú támogatások bevételei | D12: 428 | E12: 428 | F12: 428 | G12: 428 | H12: 428 | I12: 428 | J12: 428 | K12: 428 | L12: 428 | M12: 428 | N12: 428 | O12: 429 | P12: =SUM(D12:O12) -> 5137 | Q12: =+P12-'1.Onbe'!J13 -> 0
A13: 5 | B13: 5. | C13: Közhatalmi bevételek | F13: 20160 | L13: 20175 | P13: =SUM(D13:O13) -> 40335 | Q13: =+P13-'1.Onbe'!J14 -> 0
A14: 6 | B14: 6. | C14: Működési bevételek | D14: 598 | E14: 598 | F14: 599 | G14: 598 | H14: 598 | I14: 599 | J14: 598 | K14: 598 | L14: 598 | M14: 599 | N14: 598 | O14: 598 | P14: =SUM(D14:O14) -> 7179 | Q14: =+P14-'1.Onbe'!J23 -> 0
A15: 7 | B15: 7. | C15: Működési célú átvett pénzeszközök | P15: =SUM(D15:O15) -> 0
A16: 8 | B16: 8. | C16: Felhalmozási költségvetési bevételek | P16: =SUM(D16:O16) -> 0
A17: 9 | B17: 9. | C17: Működési finanszírozási bevételek | D17: 55607 | P17: =SUM(D17:O17) -> 55607
A18: 10 | B18: 10. | C18: Felhalmozási finanszírozási bevételek | P18: =SUM(D18:O18) -> 0
A19: 11 | B19: 11. | C19: Bevételek összesen: | D19: =SUM(D10:D18) -> 67430 | E19: =SUM(E10:E18) -> 11823 | F19: =SUM(F10:F18) -> 31984 | G19: =SUM(G10:G18) -> 11823 | H19: =SUM(H10:H18) -> 11823 | I19: =SUM(I10:I18) -> 11824 | J19: =SUM(J10:J18) -> 11823 | K19: =SUM(K10:K18) -> 11823 | ... P19: =SUM(P10:P18) -> 237820 | Q19: =+P19-'1.Onbe'!J48 -> 0
A20: 12 | B20: 12. | C20: Kiadások
A21: 13 | B21: 13. | C21: Személyi juttatások | D21: 1697 | E21: 1697 | F21: 1697 | G21: 1697 | H21: 1697 | I21: 1697 | J21: 1697 | K21: 1696 | L21: 1697 | M21: 1697 | N21: 1697 | O21: 1696 | P21: =SUM(D21:O21) -> 20362 | Q21: =+P21-'6.Önk.kiad'!H41 -> 0
A22: 14 | B22: 14. | C22: Munkaadókat terh.jár. és szoc.hj. adó | D22: 328 | E22: 328 | F22: 328 | G22: 328 | H22: 328 | I22: 328 | J22: 328 | K22: 328 | L22: 328 | M22: 328 | N22: 328 | O22: 327 | P22: =SUM(D22:O22) -> 3935 | Q22: =+P22-'6.Önk.kiad'!I43 -> 0
A23: 15 | B23: 15. | C23: Dologi kiadások | D23: 2326 | E23: 2326 | F23: 2326 | G23: 2326 | H23: 2326 | I23: 2326 | J23: 2326 | K23: 2327 | L23: 2326 | M23: 2326 | N23: 2326 | O23: 2327 | P23: =SUM(D23:O23) -> 27914 | Q23: =+P23-'6.Önk.kiad'!J43 -> 0
A24: 16 | B24: 16. | C24: Ellátottak pénzbeli juttatása | D24: 500 | E24: 500 | F24: 500 | G24: 500 | H24: 500 | I24: 500 | J24: 500 | K24: 500 | L24: 1500 | M24: 500 | N24: 500 | O24: =500+675 -> 1175 | P24: =SUM(D24:O24) -> 7675 | Q24: =+P24-'6.Önk.kiad'!K43 -> 0
A25: 17 | B25: 17. | C25: Egyéb működési célú kiadások (tartalékok nélkül) | D25: 7308 | E25: 7308 | F25: 7307 | G25: 7308 | H25: 7308 | I25: 7307 | J25: 7308 | K25: 7308 | L25: 7307 | M25: 7308 | N25: 7308 | O25: 7308 | P25: =SUM(D25:O25) -> 87693 | Q25: =+P25-'6.Önk.kiad'!L43 -> 0
A26: 18 | B26: 18. | C26: Tartalék | O26: 42270 | P26: =SUM(D26:O26) -> 42270
A27: 19 | B27: 19. | C27: Felhalmozási költségvetési kiadások | G27: 3202 | I27: 1500 | K27: 4000 | P27: =SUM(D27:O27) -> 8702
A28: 20 | B28: 20. | C28: Működési finanszírozási kiadások | D28: =2815+4598 -> 7413 | E28: 3705 | F28: 2815 | G28: 2815 | H28: 2815 | I28: 2815 | J28: 2815 | K28: 2815 | L28: 2815 | M28: 2815 | N28: 2815 | O28: 2816 | P28: =SUM(D28:O28) -> 39269
A29: 21 | B29: 21. | C29: Felhalmozási finanszírozási kiadások | P29: =SUM(D29:O29) -> 0
A30: 22 | B30: 22. | C30: Kiadások összesen: | D30: =SUM(D21:D29) -> 19572 | E30: =SUM(E21:E29) -> 15864 | F30: =SUM(F21:F29) -> 14973 | G30: =SUM(G21:G29) -> 18176 | H30: =SUM(H21:H29) -> 14974 | I30: =SUM(I21:I29) -> 16473 | J30: =SUM(J21:J29) -> 14974 | K30: =SUM(K21:K29) -> 18974 | ... O30: =SUM(O21:O29) -> 57919 | P30: =SUM(D30:O30) -> 237820 | Q30: =+P30-'3.Onki'!J30 -> 0
A31: 23 | B31: 23. | C31: Egyenleg (11-22) | D31: =+D19-D30 -> 47858 | E31: =+D31+E19-E30 -> 43817 | F31: =+E31+F19-F30 -> 60828 | G31: =+F31+G19-G30 -> 54475 | H31: =+G31+H19-H30 -> 51324 | I31: =+H31+I19-I30 -> 46675 | J31: =+I31+J19-J30 -> 43524 | K31: =+J31+K19-K30 -> 36373 | L31: =+K31+L19-L30 -> 52398 | ... O31: =+N31+O19-O30 -> 0 | P31: -----
