Workbook

Sheet 1.Bevétel
A1: 1. melléklet a 2/2016.(II.15.) önkormányzati rendelethez
A2: 2016. évi bevételek forrásonkénti megoszlása
A4: Sorszám | B4: Bevételi források megnevezése | C4: 2015. évi előirányzat eFt | D4: 2016. évi előirányzat eFt
A6: A | B6: B | C6: C | D6: D
A7: 1. | B7: - Zöldterület-gazdálkodással kapcsolatos feladatok támogatása | D7: 2388
A8: 2. | B8: - Közvilágítás fenntartásának támogatása | D8: 2592
A9: 3. | B9: - Köztemető fenntartással kapcsolatos feladatok támogatása | D9: 0
A10: 4. | B10: - Közutak fenntartásának támogatása | D10: 1548
A11: 5. | B11: - Egyéb önkormányzati feladatok támogatása | D11: 5000
A12: 6. | B12: - Lakott külterülettel kapcsolatos feladatok támogatása | D12: 8
A13: 7. | B13: - Üdülőhelyi feladatok támogatása | D13: 67
A14: 8. | B14: - Kiegészítő támogatás | D14: 1740
A15: 9. | B15: - 2015. évről áthúzódó bérkompenzáció | D15: 27
A16: 10. | B16: Helyi önkormányzat működésének általános támogatása | C16: 12336 | D16: =SUM(D7:D15) -> 13370
A17: 11. | B17: - Óvodapedagógusok és közvetlenül segítők bértámogatása | D17: 13085
A18: 12. | B18: - Óvoda működtetési támogatás | D18: 1973
A19: 13. | B19: Települési önkormányzat egyes köznevelési feladatainak támogatása | C19: 14878 | D19: =SUM(D17:D18) -> 15058
A20: 14. | B20: - Gyermekétkeztetési feladatok támogatása | D20: 6023
A21: 15. | B21: - Szociális feladatok egyéb támogatása | D21: 5784
A22: 16. | B22: - Szünidei gyermekétkeztetés támogatása | D22: 67
A23: 17. | B23: Önkormányzat szociális, gyermekétkeztetési feladatainak támogatása | C23: 9868 | D23: =SUM(D20:D22) -> 11874
A24: 18. | B24: Kulturális feladatok támogatása | C24: 1200 | D24: 1200
A25: 19. | B25: Kiegészítő támogatások | C25: 1460 | D25: 0
A26: 20. | B26: Előző évi póttámogatás | C26: 3501 | D26: 0
A27: 21. | B27: Közfoglalkoztatás támogatása | C27: 9928 | D27: 7550
A28: 22. | B28: Működési célú támogatások államháztartáson belülről | C28: =SUM(C23:C27)+C19+C16 -> 53171 | D28: =SUM(D23:D27)+D19+D16 -> 49052
A29: 23. | B29: - Építményadó | C29: 2714 | D29: 2714
A30: 24. | B30: - Magánszemélyek kommunális adója | C30: 3087 | D30: 3000
A31: 25. | B31: - Iparűzési adó | C31: 8640 | D31: 8000
A32: 26. | B32: - Gépjárműadó 40% | C32: 2533 | D32: 3000
A33: 27. | B33: - Bírság | C33: 7 | D33: 0
A34: 28. | B34: - Talajterhelési díj | C34: 0 | D34: 0
A35: 29. | B35: - Pótlék | C35: 140 | D35: 20
A36: 30. | B36: Közhatalmi bevételek | C36: =SUM(C29:C35) -> 17121 | D36: =SUM(D29:D35) -> 16734
A37: 31. | B37: Szolgáltatási díjak | C37: 50 | D37: 10
A38: 32. | B38: Tulajdonosi bevételek (bérleti díjak) | C38: 4359 | D38: 1292
A39: 33. | B39: Ellátási díjak (térítési díjak) | C39: 774 | D39: 969
A40: 34. | B40: Kamatbevételek | C40: 127 | D40: 70
A41: 35. | B41: Működési bevételek | C41: =SUM(C37:C40) -> 5310 | D41: =SUM(D37:D40) -> 2341
A42: 36. | B42: Egyéb működési célú átvett pénzeszközök | C42: 80 | D42: 145
A43: 37. | B43: Működési célú átvett pénzeszközök | C43: =SUM(C42) -> 80 | D43: =SUM(D42) -> 145
A44: 38. | B44: Csatorna érdekeltségi hozzájárulás | C44: 20 | D44: 30
A45: 39. | B45: Felhalmozási célú átvett pénzeszközök | C45: =SUM(C44) -> 20 | D45: =SUM(D44) -> 30
A46: 40. | B46: Tartalék | C46: 42847 | D46: 31865
A47: 41. | B47: Államháztartáson belüli megelőlegezések | C47: 3834 | D47: 1468
A48: 42. | B48: Bevételek mindösszesen: | C48: =SUM(C45:C47)+C43+C41+C28+C36 -> 122383 | D48: =SUM(D45:D47)+D43+D41+D36+D28 -> 101635

Sheet 2.Kiadások
B1: 2. melléklet a 2/2016.(II.15.) önkormányzati rendelethez
B3: I. 2016. évi Kiadások
A5: Ssz. | B5: Megnevezés | C5: 2015. évi előirányzat eFt | D5: 2016. évi előirányzat eFt
A7: A | B7: B | C7: C | D7: D
A8: 1. | B8: Személyi juttatások | C8: 14734 | D8: 14233
A9: 2. | B9: Munkaadót terhelő járulékok | C9: 2710 | D9: 2573
A10: 3. | B10: Készletbeszerzés | C10: 3341 | D10: 2780
A11: 4. | B11: Kommunikációs szolgáltatások | C11: 565 | D11: 630
A12: 5. | B12: Szolgáltatási kiadások | C12: 8801 | D12: 11331
A13: 6. | B13: Különféle befizetések és egyéb dologi kiadások | C13: 15 | D13: 20
A14: 7. | B14: áfa | C14: 2816 | D14: 3443
A15: 8. | B15: Dologi kiadások összesen | C15: =SUM(C10:C14) -> 15538 | D15: =SUM(D10:D14) -> 18204
A16: 9. | B16: Betegséggel kapcsolatos ellátások (ápolási díj) | C16: 1173 | D16: 1133
A17: 10. | B17: Munkanélküli aktív korúak ellátása (rendsz.szoc.seg. FHT) | C17: 801 | D17: 0
A18: 11. | B18: Lakhatással kapcsolatos ellátások (lak.fenn.tám.) | C18: 1495 | D18: 1300
A19: 12. | B19: Gyermekvédelmi pénzbeni és természetbeni ellátások | C19: 788 | D19: 67
A20: 13. | B20: - Települési támogatás (átm, temetési, születési, rendkívüli, első lakás) | C20: 821 | D20: 1300
A21: 14. | B21: - Tanulmányi hozzájárulás (Arany János, Bursa) | C21: 181 | D21: 200
A22: 15. | B22: - Gyermekek tanulmányainak támogatása | C22: 350 | D22: 350
A23: 16. | B23: - Szociális tűzifa támogatás | C23: 800 | D23: 0
A24: 17. | B24: - Szoc.Szolg. Átadott pénzeszköz | C24: 521 | D24: 600
A25: 18. | B25: Egyéb szociális pénzbeni ellátások összesen | C25: =SUM(C20:C24) -> 2673 | D25: =SUM(D20:D24) -> 2450
A26: 19. | B26: Ellátottak pénzbeli juttatásai | C26: =SUM(C16:C19)+C25 -> 6930 | D26: =SUM(D16:D19)+D25 -> 4950
A27: 20. | B27: Közös hivatal támogatása | C27: 1463 | D27: 1332
A28: 21. | B28: Tapolca Környéki Önkormányzati Társulásnak átadott pénzeszköz | C28: 492 | D28: 550
A29: 22. | B29: Fogorvosi ellátás támogatása | C29: 238 | D29: 119
A30: 23. | B30: Civil szervezeteknek átadott pénzeszköz | C30: 595 | D30: 705
A31: 24. | B31: Háziorvosi ügyeleti ellátás támogatása | C31: 495 | D31: 650
A32: 25. | B32: Kölcsön nyújtása háztartásoknak | C32: 165 | D32: 400
A33: 26. | B33: Egyéb működési célú kiadások | C33: =SUM(C27:C32) -> 3448 | D33: =SUM(D27:D32) -> 3756
A34: 27. | B34: Felhalmozási célú átadott pénzeszköz (Bakonykarszt) | C34: 398 | D34: 0
A35: 28. | B35: Beruházások | C35: 8021 | D35: 2500
A36: 29. | B36: áfa
A37: 30. | B37: Felújítások | C37: 16838 | D37: 16250
A38: 31. | B38: áfa
A39: 32. | B39: Óvoda finanszírozása | C39: 18329 | D39: 19774
A40: 33. | B40: Tartalék | C40: 31865 | D40: 17927
A41: 34. | B41: Állami támogatás megelőlegezés visszafizetése | C41: 3571 | D41: 1468
A42: 35. | B42: Kiadások mindösszesen: | C42: =SUM(C33:C41)+C26+C15+C9+C8 -> 122382 | D42: =SUM(D33:D41)+D26+D15+D9+D8 -> 101635
B44: II. Költségvetési létszámkeret
A45: 1. | B45: Teljes munkaidőben foglalkoztatottak | C45: 2015. év | D45: 2016. év
A46: 2. | B46: - községgazdálkodás | C46: 1 | D46: 2
A47: 3. | B47: - Közösségi Ház | C47: 1 | D47: 1
A48: 4. | B48: Közfoglalkoztatott | C48: 9 | D48: 7
A49: 5. | B49: Tiszteletdíjas polgármester | C49: 1 | D49: 1
A50: 6. | B50: Létszámkeret összesen: | C50: =SUM(C45:C49) -> 12 | D50: =SUM(D45:D49) -> 11

Sheet 3.mérleg
B1: 3. melléklet a 2/2016.(II.15.) önkormányzati rendelethez
A3: Taliándörögd Község Önkormányzata 2016. évi költségvetési előirányzatainak mérlege
A6: Ssz. | B6: Bevételek | C6: Eredeti előirányzat eFt | E6: Kiadások | F6: Eredeti előirányzat eFt
A7: A | B7: B | C7: C | E7: D | F7: F
A8: 1. | B8: Működési célú támogatások államháztartáson belülről | C8: ='1.Bevétel'!D28 -> 49052 | E8: Személyi juttatások | F8: ='2.Kiadások'!D8 -> 14233
A9: 2. | B9: Közhatalmi bevételek | C9: ='1.Bevétel'!D36 -> 16734 | E9: Munkaadót terhelő járulékok | F9: ='2.Kiadások'!D9 -> 2573
A10: 3. | B10: Működési bevételek | C10: ='1.Bevétel'!D41 -> 2341 | E10: Dologi kiadások | F10: ='2.Kiadások'!D15 -> 18204
A11: 4. | B11: Működési célú átvett pénzeszközök | C11: ='1.Bevétel'!D43 -> 145 | E11: Ellátottak pénzbeli juttatásai | F11: ='2.Kiadások'!D26 -> 4950
A12: 5. | B12: Felhalmozási célú átvett pénzeszközök | C12: ='1.Bevétel'!D45 -> 30 | E12: Egyéb működési célú kiadások | F12: ='2.Kiadások'!D33 -> 3756
A13: 6. | B13: Tartalék | C13: ='1.Bevétel'!D46 -> 31865 | E13: Beruházások | F13: ='2.Kiadások'!D35+'2.Kiadások'!D36 -> 2500
A14: 7. | B14: Állami támogatás megelőlegezése | C14: ='1.Bevétel'!D47 -> 1468 | E14: Felújítások | F14: ='2.Kiadások'!D37+'2.Kiadások'!D38 -> 16250
A15: 9. | E15: Óvoda finanszírozása | F15: ='2.Kiadások'!D39 -> 19774
A16: 10. | E16: Tartalék | F16: 17927
A17: 11. | E17: Állami támogatás megelőlegezés visszaírása | F17: 1468
A18: 12. | B18: Bevételek mindösszesen: | C18: =SUM(C8:C17) -> 101635 | E18: Kiadások mindösszesen: | F18: =SUM(F8:F17) -> 101635

Sheet 4. cofog
B1: 4. melléklet a 2/2016.(II.15.) önkormányzati rendelethez
A3: Ssz. | B3: Feladat megnevezése | C3: Bevételek előirányzata eFt | D3: Kiadások előirányzata eFt
A4: A | B4: B | C4: C | D4: D
A5: 1. | B5: Önkormányzat általános támogatása | C5: ='1.Bevétel'!D16+'1.Bevétel'!D24 -> 14570 | D5: 0
A6: 2. | B6: Közhatalmi bevételek | C6: ='1.Bevétel'!D36 -> 16734 | D6: 0
A7: 3. | B7: Önkormányzati igazgatás | C7: 225 | D7: 6851
A8: 4. | B8: Köztemető fenntartás, működtetés | C8: 30 | D8: 130
A9: 5. | B9: Önkormányzati vagyonnal való gazdálkodás | C9: 892 | D9: 2540
A10: 6. | B10: Közutak, hidak fenntartása | C10: 0 | D10: 17098
A11: 7. | B11: Közvilágítás | C11: 0 | D11: 1400
A12: 8. | B12: Zöldterület-gazdálkodás | C12: 0 | D12: 0
A13: 9. | B13: Város- és községgazdálkodás | C13: 0 | D13: 7841
A14: 10. | B14: Háziorvosi alapellátás | C14: 0 | D14: 680
A15: 11. | B15: Háziorvosi ügyeleti ellátás | C15: 0 | D15: 650
A16: 12. | B16: Fogorvosi alapellátás | C16: 0 | D16: 119
A17: 13. | B17: Szálláshely szolgáltatás :DD | C17: 0 | D17: 2770
A18: 14. | B18: Közművelődés - közösségi és társadalmi részvétel fejlesztése | C18: 400 | D18: 6716
A19: 15. | B19: Civil szervezetek támogatása | C19: 0 | D19: 695
A20: 16. | B20: Közfoglalkoztatás támogatása | C20: ='1.Bevétel'!D27 -> 7550 | D20: 7550
A21: 17. | B21: Óvodai nevelés, ellátás szakmai feladatai | C21: ='1.Bevétel'!D17 -> 13085 | D21: 12516
A22: 18. | B22: Óvodai nevelés, ellátás működtetési feladatai | C22: ='1.Bevétel'!D18 -> 1973 | D22: 2542
A23: 19. | B23: Gyermekétkeztetési feladatok támogatása | C23: ='1.Bevétel'!D20 -> 6023 | D23: 0
A24: 20. | B24: Óvodai intézményi étkeztetés | C24: ='5. ovi'!D9 -> 200 | D24: 4916
A25: 21. | B25: Iskolai intézményi étkeztetés | C25: ='1.Bevétel'!D39 -> 969 | D25: 2466
A26: 22. | B26: Szünidei gyermekétkeztetés | C26: 67 | D26: 67
A27: 23. | B27: Hozzájárulás pénzbeli szociális ellátásokhoz | C27: ='1.Bevétel'!D21 -> 5784 | D27: 0
A28: 24. | B28: Betegséggel kapcsolatos pénzbeni ellátások támogatása | C28: 0 | D28: 1133
A29: 25. | B29: Lakásfenntartással, lakhatással összefüggő ellátások | C29: 0 | D29: 1300
A30: 26. | B30: Egyéb szociális pénzbeni ellátások (települési támogatások) | C30: 0 | D30: 2450
A31: 27. | B31: Tartalék | C31: ='1.Bevétel'!D46 -> 31865 | D31: ='2.Kiadások'!D40 -> 17927
A32: 28. | B32: Állami támogatás megelőlegezés | C32: ='1.Bevétel'!D47 -> 1468 | D32: 1468
A33: 29. | B33: Kiadások összesen: | C33: =SUM(C5:C32) -> 101835 | D33: =SUM(D5:D32) -> 101825

Sheet 5. ovi
A1: 5. melléklet a 2/2016.(II.15.) önkormányzati rendelethez
A3: 2016. évi bevételek forrásonkénti megoszlása
A5: Sorszám | B5: Bevételi források megnevezése | C5: 2015. évi előirányzat eFt | D5: 2016. évi előirányzat eFt
A7: A | B7: B | C7: C | D7: F
A8: 1. | B8: Óvodai intézményi étkeztetés | C8: =SUM(C9) -> 775 | D8: =SUM(D9) -> 200
A9: 2. | B9: - óvodai térítési díj | C9: 775 | D9: 200
A10: 3. | B10: Óvoda finanszírozása | C10: =SUM(C11) -> 18329 | D10: =SUM(D11) -> 19774
A11: 4. | B11: - átvett pénzeszköz | C11: 18329 | D11: 19774
A12: 5. | B12: Bevételek összesen: | C12: =C8+C10 -> 19104 | D12: =D8+D10 -> 19974
A15: 6. melléklet a 2/2016.(II.15.) önkormányzati rendelethet
B17: I. 2016. évi Kiadások
A18: Sorszám | B18: Megnevezés | C18: 2015. évi előirányzat eFt | D18: 2016. évi előirányzat eFt
A20: A | B20: B | C20: C | D20: D
A21: 1. | B21: Személyi juttatások | C21: 10532 | D21: 11500
A22: 2. | B22: Munkaadót terhelő járulékok | C22: 2854 | D22: 3115
A23: 3. | B23: Dologi kiadások | C23: =SUM(C24:C28) -> 5718 | D23: =SUM(D24:D28) -> 5359
A24: 4. | B24: - Készletbeszerzés | C24: 1574 | D24: 1072
A25: 5. | B25: - Kommunikációs szolgáltatások | C25: 143 | D25: 150
A26: 6. | B26: - Szolgáltatási kiadások | C26: 2878 | D26: 3030
A27: 7. | B27: - Általános forgalmi adó | C27: 1076 | D27: 1057
A28: 8. | B28: - Egyéb folyó kiadások | C28: 47 | D28: 50
A29: 9. | B29: Kiadások összesen: | C29: =C21+C22+C23 -> 19104 | D29: =D21+D22+D23 -> 19974
B31: II. Költségvetési létszámkeret
A32: A | B32: B | C32: C
A33: 1. | B33: Teljes munkaidőben foglalkoztatottak | C33: fő
A34: 2. | B34: - óvodapedagógus | C34: 2
A35: 3. | B35: - dajka | C35: 1
A36: 4. | B36: - konyhai kisegítő | C36: 1
A37: 5. | B37: Létszámkeret összesen: | C37: =SUM(C33:C36) -> 4
A39: 7. melléklet a 2/2016.(II.15.)önkormányzati rendelethez
A40: 2016. évi bevételek és kiadások feladatonként
A42: I. Bevételek
A43: Sorszám | B43: Feladat megnevezése | C43: Bevételek előirányzata eFt | D43: Kiadások előirányzata eFt
A44: A | B44: B | C44: C | D44: D
A45: 1. | B45: Óvodai intézményi étkeztetés | C45: 4916 | D45: 3929
A46: 2. | B46: Óvodai nevelés, ellátás szakmai feladatai | C46: 13085 | D46: 11629
A47: 3. | B47: Óvodai nevelés, ellátás működtetési feladatai | C47: 1973 | D47: 2730
A48: 4. | B48: ö s s z e s e n : | C48: =SUM(C45:C47) -> 19974 | D48: =SUM(D45:D47) -> 18288

Sheet 8. ovi mérleg
B1: n
A3: Taliándörögdi Napköziotthonos Óvoda 2016. évi költségvetési előirányzatainak mérlege
A6: Ssz. | B6: Bevételek | C6: Eredeti előirányzat eFt | E6: Kiadások | F6: Eredeti előirányzat eFt
A7: A | B7: B | C7: C | E7: F | F7: J
A8: 1. | B8: Óvoda finanszírozási bevétele | C8: 17013 | E8: Személyi juttatások | F8: ='5. ovi'!D21 -> 11500
A9: 2. | B9: Működési bevételek | C9: ='5. ovi'!D9 -> 200 | E9: Munkaadót terhelő járulékok | F9: ='5. ovi'!D22 -> 3115
A10: 3. | C10: =C11-C9-C8 -> 2761 | E10: Dologi kiadások | F10: ='5. ovi'!D23 -> 5359
A11: 5. | B11: Bevételek mindösszesen: | C11: =F11 -> 19974 | E11: Kiadások mindösszesen: | F11: =SUM(F8:F10) -> 19974

Sheet 9.-10.-11.mell.
A2: 9. melléklet a 2/2016.(II.15.) önkormányzati rendelethez
B4: Támogatási cél megnevezése | C4: ezer Ft
B5: - Közös hivatal támogatás átadása | C5: 1332
B6: - Kistérségi Társulásnak átadott pénzeszköz | C6: 550
B7: - Fogorvosi ellátás támogatása | C7: 119
B8: - Műk.c.pénzeszk.átadás nonprofit szervezetnek | C8: =SUM(C9:C14) -> 705
B9: -- Polgárőrség | C9: 60
B10: -- Taliándörögd-Halimba SE | C10: 500
B11: -- A Völgy Egyesület | C11: 50
B12: -- Tűzoltó Egyesület | C12: 50
B13: -- Katasztrófavédelem | C13: 10
B14: -- Mozgáskorlátozott Egyesület, Éltető Balaton-felv. Egy. | C14: 35
B15: EGYÉB MŰKÖDÉSI CÉLÚ KIADÁSOK ÖSSZESEN: | C15: =SUM(C4:C8) -> 2706
A19: 10. melléklet a 2/2016.(II.15.) önkormányzati rendelethez
B21: Felújítási cél megnevezése | C21: ezer Ft
B22: Belterületi utak, utcák felújítása | C22: 15000
B23: Csapadékvíz elvezető árkok felújítása | C23: 1000
B24: Közösségi Ház felújítás (önrész) | C24: 250
B26: FELÚJÍTÁSOK ÖSSZESEN: | C26: =SUM(C21:C22) -> 15000
A30: 11. melléklet az 2/2016.(II.15.) önkormányzati rendelethez
B32: Beruházási cél megnevezése | C32: ezer Ft
B33: Traktor, pótkocsi, sószóró, kasza, hóeke, pótkocsi (önrész) | C33: 2500
B34: BERUHÁZÁSOK ÖSSZESEN: | C34: =SUM(C32:C33) -> 2500
