Workbook

Sheet 1_melléklet
A1: 8/2009. ( IV.24. ) önk. rendelet 1. sz. melléklete
A3: Pétfürdői Önkormányzat
A4: 2008. ÉVI KÖLTSÉGVETÉSÉNEK
A5: PÉNZÜGYI MÉRLEGE
B8: BEVÉTELEK
A9: Sor- | B9: Bevételi jogcím | C9: 2001.évi | D9: 2008.évi | E9: 2008.évi | F9: 2008.évi
A10: szám | C10: tény | D10: előirányzat | E10: IV. mód. előirányzat | F10: teljesítés
A11: 1. | B11: 1.Saját bevételek | C11: =SUM(C12+C13+C14+C15+C16+C17+C24+C25+C26) -> 392421 | D11: =SUM(D12+D13+D14+D15+D16+D17+D24+D25+D26) -> 631049 | E11: =SUM(E12+E13+E14+E15+E16+E17+E24+E25+E26) -> 675282 | F11: =SUM(F12+F13+F14+F15+F16+F17+F23+F24+F25+F26) -> 688152
A12: 2. | B12: A/ Alaptevékenység bevételei | C12: 12280 | D12: 26585 | E12: 27115 | F12: 29996
A13: 3. | B13: B/ Alaptevékenység egyéb bevételei | C13: 2933
A14: 4. | B14: C/ Intézmények egyéb sajátos bevételei | C14: 26250
A15: 5. | B15: D/ Vállalkozási bevételek
A16: 6. | B16: E/ Kamatbevételek | D16: 16000 | E16: =41200+1884 -> 43084 | F16: =41200+1884 -> 43084
A17: 7. | B17: F/ Helyi adók | C17: =SUM(C18:C22) -> 346893 | D17: =SUM(D18:D22) -> 588464 | E17: =SUM(E18:E22) -> 605083 | F17: =SUM(F18:F22) -> 612443
A18: 8. | B18: Építményadó | C18: 58036 | D18: 120508 | E18: 120508 | F18: 123014
A19: 9. | B19: Telekadó
A20: 10. | B20: Kommunális adó | C20: 6205 | D20: 8799 | E20: 8799 | F20: 8892
A21: 11. | B21: Idegenforgalmi adó / PÓTLÉK,BÍRSÁG/ | C21: 268 | F21: 4761
A22: 12. | B22: Iparűzési adó | C22: 282384 | D22: 459157 | E22: =459157+16619 -> 475776 | F22: =459157+16619 -> 475776
A23: 13. | B23: G/ Egyéb sajátos bevétel | F23: 2620
A24: 14. | B24: H/ Illetékek
A25: 15. | B25: I/ Önkormányzatok sajátos működési bevételei | C25: 210
A26: 16. | B26: J/ Felhalmozási és tőke jellegű bevételei | C26: 3855 | F26: 9
A27: 17. | B27: II.Átengedett,megosztott bevételek | C27: =SUM(C28+C32+C33) -> 170501 | D27: =D28+D32+D33 -> 55506 | E27: =E28+E32+E33 -> 14817 | F27: =F28+F32+F33 -> 16892
A28: 18. | B28: A/ Személyi jövedelemadó | C28: 165811 | D28: =SUM(D29:D31) -> 28280 | E28: =SUM(E29:E31) -> -12409 | F28: =SUM(F29:F31) -> -12409
A29: 19. | B29: Helyben maradó rész | C29: 25768 | D29: 54496 | E29: 54496 | F29: 54496
A30: 20. | B30: Kiegészítés | C30: -18439 | D30: -26216 | E30: -66905 | F30: -66905
A31: 21. | B31: Normatív részesedés | C31: 158482
A32: 22. | B32: B/ Termőföld bérbeadása utáni adó
A33: 23. | B33: C/ Gépjárműadó | C33: 4690 | D33: 27226 | E33: 27226 | F33: 29301
A34: 24. | B34: III. Átvett pénzeszközök | C34: =SUM(C35:C39) -> 27037 | D34: =SUM(D35:D39) -> 15715 | E34: =SUM(E35:E39) -> 18506 | F34: =SUM(F35:F39) -> 18225
A35: 25. | B35: Egészségbizosítási Alaptól átvett pénzeszk. | C35: 1988 | D35: 9340 | E35: 9340 | F35: ='4_melléklet'!F644 -> 9365
A36: 26. | B36: Elkülönített állami pénzalapoktól átvett | C36: 2458 | D36: 6375 | E36: 6879 | F36: 4448
A37: 27. | B37: Központi(fejezettől ) átvett pénze. | C37: 14055 | E37: 1965 | F37: 3774
A38: 28. | B38: Költségvetési kiegészítések, visszatérítések
A39: 29. | B39: Egyéb átvett pénzeszközök | C39: 8536 | E39: 322 | F39: 638
A40: 30. | B40: IV. Állami hozzájárulások és támogatások | C40: =SUM(C41:C48) -> 198000 | D40: =SUM(D41:D48) -> 446436 | E40: =SUM(E41:E48) -> 510732 | F40: =SUM(F41:F48) -> 510732
A41: 31. | B41: Normatív állami támogatás | C41: 75296 | D41: 171982 | E41: 171982 | F41: 171982
A42: 32. | B42: Normatív kötött felhasználású tám. | C42: 45934 | D42: 256715 | E42: =256715+13040 -> 269755 | F42: =256715+13040 -> 269755
A43: 33. | B43: Színházi támogatások | C43: 21864
A44: 34. | B44: Címzett és céltámogatások
A45: 35. | B45: Működésképt. vált önkorm. támog.
A46: 36. | B46: Központosított állami támogatás | C46: 46906 | D46: =17134+605 -> 17739 | E46: =68848+147 -> 68995 | F46: =68848+147 -> 68995
A47: 37. | B47: Területi kiegy. szolg.támogatások | C47: 8000
A48: 38. | B48: Céljellegű és decentr. tám.
A49: 39. | B49: FOLYÓ BEVÉTELEK ÖSSZESEN | C49: =SUM(C11+C27+C34+C40) -> 787959 | D49: =SUM(D11+D27+D34+D40) -> 1148706 | E49: =SUM(E11+E27+E34+E40) -> 1219337 | F49: =SUM(F11+F27+F34+F40) -> 1234001
A50: 40. | B50: Előző évi várható pénzmaradvány | C50: 48035 | D50: 272115 | E50: 494777 | F50: 494777
A51: 41. | B51: Hitelek, értékpapírműveletek | C51: 545947
A52: 42. | B52: Passzív elszámolások
A53: 43. | B53: Forráshiány ( felhalmozási célú hitel ) | C53: 28932
A54: 44. | B54: BEVÉTELEK ÖSSZESEN | C54: =SUM(C49+C50+C51+C53) -> 1410873 | D54: =SUM(D49+D50+D51+D53) -> 1420821 | E54: =SUM(E49+E50+E51+E53) -> 1714114 | F54: =SUM(F49+F50+F51+F53) -> 1728778
B56: KIADÁSOK
A57: Sor- | B57: Kiadási jogcím | C57: 2001.évi | D57: 2008.évi | E57: 2008.évi | F57: 2008.évi
A58: szám | C58: tény | D58: előirányzat | E58: IV. mód. előirányzat | F58: teljesítés
A59: 1. | B59: I. Folyó ( működési ) kiadások | C59: =SUM(C60:C67) -> 1151403 | D59: =SUM(D60:D67) -> 898470 | E59: =SUM(E60:E67) -> 966629 | F59: =SUM(F60:F67) -> 916342
A60: 2. | B60: Személyi juttatások | C60: 272030 | D60: 508499 | E60: =521720+7814 -> 529534 | F60: 507619
A61: 3. | B61: Munkaadókat terhelő járulékok | C61: 100307 | D61: 152364 | E61: =156438-1783 -> 154655 | F61: 149973
A62: 4. | B62: Dologi kiadások | C62: 153586 | D62: 216332 | E62: =232542+1492 -> 234034 | F62: 213381
A63: 5. | B63: Egyéb folyó kiadások | C63: 9768 | E63: 5030 | F63: 5030
A64: 6. | B64: Működési célú pénzeszközátadás, támogatás | D64: 21275 | E64: 23228 | F64: ='4_melléklet'!F500+'4_melléklet'!F539+'4_melléklet'!F617+'4_melléklet'!F693 -> 20191
A65: 7. | B65: Rövid lejáratú értékpapírok vásárlása | C65: 615652
A66: 8. | B66: Rövid lejáratú kölcsönök nyújtása, törlesztése | C66: 60 | E66: 20000 | F66: 20000
A67: 9. | B67: Tartósan adott kölcsönök | E67: 148 | F67: 148
A68: 10. | B68: II.Felhalmozási és tőkejellegű kiadások | C68: =SUM(C69:C73) -> 138157 | D68: =SUM(D69:D74) -> 427345 | E68: =SUM(E69:E74) -> 500625 | F68: =SUM(F69:F74) -> 284947
A69: 11. | B69: Tárgyi eszk., föld és immat.javak felhalmozása | C69: 87825 | D69: 286260 | E69: =308601+1417+242 -> 310260 | F69: 147440
A70: 12. | B70: Államháztartáson belüli felhalm.átut. | C70: 6191
A71: 13. | B71: Államháztartáson kívüli felhalm. átutalások | C71: 17700 | D71: 61000 | E71: 77418 | F71: 70248
A72: 14. | B72: Nagyértékű tárgyi eszközök felújítása | C72: 3699 | D72: 19028 | E72: 23245 | F72: 12773
A73: 15. | B73: Beruházások áfa egyenlege | C73: 22742 | D73: 61057 | E73: 66702 | F73: 31486
A74: 16. | B74: Részesedések | E74: 23000 | F74: 23000
A75: 17. | B75: III. Támogatások, elvonások | C75: =SUM(C76:C79) -> 35116 | D75: =SUM(D76:D79) -> 27138 | E75: =SUM(E76:E79) -> 27643 | F75: =SUM(F76:F79) -> 28959
A76: 18. | B76: Műk. célú pénzeszk.átadás államh-on kívülre | C76: 8117
A77: 19. | B77: Műk. célú pénzeszk.átadás államh-on belülre | C77: 1686
A78: 20. | B78: Társadalom és szociálpolitikai juttatások | C78: 24566 | D78: 25388 | E78: 25893 | F78: ='4_melléklet'!F732 -> 27218
A79: 21. | B79: Ellátottak pénzbeli juttatása | C79: 747 | D79: 1750 | E79: 1750 | F79: ='4_melléklet'!F540 -> 1741
A80: 22. | B80: IV. Tartalékok | C80: =SUM(C81:C83) -> 45549 | D80: =SUM(D81:D83) -> 57515 | E80: =SUM(E81:E83) -> 208864 | F80: =SUM(F81:F83) -> 0
A81: 23. | B81: Általános tartalék | C81: 45549 | D81: 5312 | E81: =153903+16619+1884-1700+5373 -> 176079 | F81: 0
A82: 24. | B82: Céltartalék | D82: 52203 | E82: 32785 | F82: 0
A83: 25. | B83: Egyéb tartalékok
A84: 26. | B84: V. Hitelek kamatai
A85: 27. | B85: VI. Egyéb kiadások | C85: =SUM(C86+-C87) -> 28493
A86: 28. | B86: Aktív elszámolások | C86: 28493
A87: 29.
A88: 30. | B88: FOLYÓ KIADÁSOK ÖSSZESEN | C88: =SUM(C59+C68+C75+C80+C84+C85) -> 1398718 | D88: =SUM(D59+D68+D75+D80+D84+D85) -> 1410468 | E88: =SUM(E59+E68+E75+E80+E84+E85) -> 1703761 | F88: =SUM(F59+F68+F75+F80+F84+F85) -> 1230248
A89: 31. | B89: Adósságszolgálat | C89: 12155 | D89: 10353 | E89: 10353 | F89: 10353
A90: 32.
A91: 33.
A92: 34. | B92: TÁRGYÉVI KIADÁSOK ÖSSZESEN | C92: =SUM(C88:C91) -> 1410873 | D92: =SUM(D88:D91) -> 1420821 | E92: =SUM(E88:E91) -> 1714114 | F92: =SUM(F88:F91) -> 1240601

Sheet 2_melléklet
A1: 8/2009. ( IV.24.) önk. rendelet 2. sz. melléklete
A3: Működési célú (folyó)bevételek, Működési célú ( folyó) kiadások mérlege
A4: ( Önkormányzati szinten )
A9: Bevételek | E9: Kiadások
B11: 2008.évi | C11: 2008.évi | D11: 2008.évi | F11: 2008.évi | G11: 2008.évi | H11: 2008.évi
A12: Megnevezés | B12: előirányzat | C12: IV. mód. előirányzat | D12: teljesítés | E12: Megnevezés | F12: előirányzat | G12: IV. mód. előirányzat | H12: teljesítés
A13: Saját bevételek | B13: 382750 | C13: 426983 | D13: 500109 | E13: Személyi juttatások | F13: 508499 | G13: 529534 | H13: ='1_melléklet'!F60 -> 507619
A14: Átengedett bevételek | B14: 55506 | C14: 14817 | D14: ='1_melléklet'!F27 -> 16892 | E14: Járulékok | F14: 152364 | G14: 154655 | H14: ='1_melléklet'!F61 -> 149973
A15: Átvett pénzeszközök | B15: 15715 | C15: 18506 | D15: ='1_melléklet'!F34 -> 18225 | E15: Dologi kiadások | F15: 216332 | G15: 234034 | H15: ='1_melléklet'!F62 -> 213381
A16: Állami hozzájárulás | B16: 446436 | C16: 510732 | D16: ='1_melléklet'!F40 -> 510732 | E16: Ellátottak pénzbeli jutt. | F16: 1750 | G16: 1750 | H16: ='1_melléklet'!F79 -> 1741
A17: Előző évi vható pénzmar. | B17: 82716 | C17: 86031 | D17: 86031 | E17: Társ.és szocpol.jutt. | F17: 25388 | G17: 25893 | H17: ='1_melléklet'!F78 -> 27218
A18: EU előcsatlakozási tám. | E18: Pénzeszköz átadások | F18: 21275 | G18: 23228 | H18: ='1_melléklet'!F64 -> 20191
A19: Egyéb | E19: Rövid lejáratú kölcsönök nyújtása, törlesztése | G19: 20000 | H19: ='1_melléklet'!F66 -> 20000
A20: értékpapír | E20: Tartalék | F20: 57515 | G20: 62797 | H20: 0
A21: passzív elszámolások | E21: Egyéb | G21: 5030 | H21: ='1_melléklet'!F63 -> 5030
E22: akív elszámolások
E23: értékpapír vás.
E24: Tartósan adott kölcsönök | G24: 148 | H24: ='1_melléklet'!F67 -> 148
A25: ÖSSZESEN: | B25: =SUM(B13:B24) -> 983123 | C25: 1057069 | D25: =SUM(D13:D24) -> 1131989 | E25: ÖSSZESEN: | F25: =SUM(F13:F24) -> 983123 | G25: 1057069 | H25: =SUM(H13:H24) -> 945301
A26: Hiány | E26: Többlet | H26: =D25-H25 -> 186688

Sheet 3_melléklet
A1: 8/2009. (IV.24.) önk. rendelet 3. sz. melléklete
A3: Tőkejellegű bevételek és kiadások mérlege
A4: (Önkormányzati szinten )
A9: Bevételek | E9: Kiadások
B11: 2008.évi | C11: 2008.évi | D11: 2008.évi | F11: 2008.évi | G11: 2008.évi | H11: 2008.évi
A12: Megnevezés | B12: előirányzat | C12: IV. mód. előirányzat | D12: teljesítés | E12: Megnevezés | F12: előirányzat | G12: IV. mód. előirányzat | H12: teljesítés
A13: Önkormányzat felhalm.és | E13: Beruházási kiadások,felh.
A14: tőke jellegű bevételei | E14: célú alapátadások | F14: 343512 | G14: 372312 | H14: 176371
A15: Fejlelsztési célú támoga- | E15: Felhalmozási célú pénz-
A16: tások ( cél, cimzett) | E16: eszköz átadás | F16: 61000 | G16: 77418 | H16: 70248
A17: Értékpapír eladás | E17: Felújítások | F17: 22833 | G17: 27895 | H17: 15328
A18: Előző évi vható pénzm. | B18: 189399 | C18: 408746 | D18: 408746 | E18: Részesedések | G18: 23000 | H18: 23000
A19: Felhalm.célú hitel | B19: 0 | C19: 0 | D19: 0 | E19: Felhalm.célú tartalék
A20: EU előcsatl.tám. | E20: Felhalm.célú hiteltörl. | F20: 10353 | G20: 10353 | H20: 10353
A21: Egyéb | E21: Egyéb
A22: vagyonátvétel | E22: Tartalék | G22: 146067 | H22: 0
A23: egyéb sajátos bevétel | B23: 248299 | C23: 248299 | D23: 188043
A25: ÖSSZESEN: | B25: =SUM(B14:B24) -> 437698 | C25: 657045 | D25: =SUM(D13:D24) -> 596789 | E25: ÖSSZESEN: | F25: =SUM(F14:F24) -> 437698 | G25: 657045 | H25: =SUM(H14:H24) -> 295300
A26: Hiány | E26: Többlet | H26: =D25-H25 -> 301489

Sheet 4_melléklet
A1: 8/2009. (IV.24. ) önk. rendelet 4/1-4/19. sz. mellékletei
F5: 4/1.melléklet
A6: Cím neve, száma | C6: Polgármesteri Hivatal
A7: Alcím neve, száma | C7: Igazgatási tevékenység
A9: Előirányzat | B9: Kiemelt
A10: csoport | B10: előirányzat | C10: Előirányzat-csoport, kiemelt előirányzat | D10: 2008.évi | E10: 2008.évi | F10: 2008.évi
C11: megnevezése | D11: előirányzat | E11: IV. mód. előirányzat | F11: teljesítés
A12: 1 | B12: 2 | C12: 3 | D12: 4 | E12: 5 | F12: 6
C13: Bevételek
A14: 1 | C14: Saját bevételek | D14: =SUM(D15:D18) -> 20293 | E14: =SUM(E15:E18) -> 63976 | F14: =SUM(F15:F18) -> 66492
B15: 1 | C15: Alaptevékenység bevételei | D15: 20293 | E15: 47377 | F15: 49893
B16: 2 | C16: Intézményi bevételek
B17: 3 | C17: Vállalkozási bevételek
B18: 4 | C18: Pénzmaradvány | E18: 16599 | F18: 16599
A19: 2 | C19: Átvett pénzeszközök | D19: =SUM(D20:D21) -> 0 | E19: =SUM(E20:E21) -> 929 | F19: =SUM(F20:F21) -> 2663
B20: 1 | C20: Működési célra átvett pénzeszközök | E20: 929 | F20: 2663
B21: 2 | C21: Felhalmozási célra átvett pénzeszközök
A22: 3 | C22: Állami hozzájárulások és támogatások | D22: =9634+33 -> 9667 | E22: 30936 | F22: 30936
A23: 4 | C23: Önkormányzati támogatás | D23: 157713 | E23: 115550 | F23: 75906
C24: BEVÉTELEK ÖSSZESEN | D24: =SUM(D14+D19+D22+D23) -> 187673 | E24: =SUM(E14+E19+E22+E23) -> 211391 | F24: =SUM(F14+F19+F22+F23) -> 175997
C25: Kiadások
A26: 5 | C26: Működési kiadások | D26: =SUM(D27:D29) -> 139355 | E26: =SUM(E27:E29) -> 151677 | F26: =SUM(F27:F29) -> 144837
B27: 1 | C27: Személyi juttatások | D27: 82137 | E27: 85679 | F27: 82804
B28: 2 | C28: Munkaadókat terhelő járulékok | D28: 24054 | E28: 25174 | F28: 23688
B29: 3 | C29: Dologi kiadások | D29: 33164 | E29: 40824 | F29: 38345
A30: 6 | C30: Speciális célú támogatások | D30: =SUM(D31:D33) -> 0 | E30: =SUM(E31:E33) -> 0 | F30: =SUM(F31:F33) -> 0
B31: 1 | C31: Társadalom és szociálpolitikai juttatások
B32: 2 | C32: Működési célú pénzeszközátadás
B33: 3 | C33: Ellátottak pénzbeli juttatása
A34: 7 | C34: Felhalmozási célú kiadások | D34: =SUM(D35:D37) -> 48318 | E34: =SUM(E35:E37) -> 59714 | F34: =SUM(F35:F37) -> 31159
B35: 1 | C35: Beruházási kiadások | D35: 36818 | E35: 38214 | F35: 11159
B36: 2 | C36: Felújítások kiadásai | D36: 500 | E36: 500 | F36: 0
B37: 3 | C37: Fejlesztési célú pénzeszköz átadás | D37: 11000 | E37: 21000 | F37: 20000
C38: KIADÁSOK ÖSSZESEN | D38: =D26+D30+D34 -> 187673 | E38: =E26+E30+E34 -> 211391 | F38: =F26+F30+F34 -> 175996
A39: Létszámkeret/átlagos álományi létszám / fő | D39: 23 | E39: 23 | F39: 23
F44: 4/2.melléklet
A45: Cím neve, száma | C45: Polgármesteri Hivatal
A46: Alcím neve, száma | C46: Rendszeres pénzbeli ellátás
A48: Előirányzat | B48: Kiemelt
A49: csoport | B49: előirányzat | C49: Előirányzat-csoport, kiemelt előirányzat | D49: 2008.évi | E49: 2008.évi | F49: 2008.évi
C50: megnevezése | D50: előirányzat | E50: IV. mód. előirányzat | F50: teljesítés
A51: 1 | B51: 2 | C51: 3 | D51: 4 | E51: 5 | F51: 6
C52: Bevételek
A53: 1 | C53: Saját bevételek | D53: =SUM(D54:D57) -> 0 | E53: =SUM(E54:E57) -> 0 | F53: =SUM(F54:F57) -> 0
B54: 1 | C54: Alaptevékenység bevételei
B55: 2 | C55: Intézményi bevételek
B56: 3 | C56: Vállalkozási bevételek
B57: 4 | C57: Előző évi várható pénzmaradvány
A58: 2 | C58: Átvett pénzeszközök | D58: =SUM(D59:D60) -> 0 | E58: =SUM(E59:E60) -> 0 | F58: =SUM(F59:F60) -> 0
B59: 1 | C59: Működési célra átvett pénzeszközök
B60: 2 | C60: Felhalmozásicélra átvett pénzeszközök
A61: 3 | C61: Állami hozzájárulások és támogatások | D61: 605 | E61: 605 | F61: 605
A62: 4 | C62: Önkormányzati támogatás | D62: 354 | E62: 354 | F62: 289
C63: BEVÉTELEK ÖSSZESEN | D63: =SUM(D53+D58+D61+D62) -> 959 | E63: =SUM(E53+E58+E61+E62) -> 959 | F63: =SUM(F53+F58+F61+F62) -> 894
C64: Kiadások
A65: 5 | C65: Működési kiadások | D65: =SUM(D66:D68) -> 959 | E65: =SUM(E66:E68) -> 959 | F65: =SUM(F66:F68) -> 894
B66: 1 | C66: Személyi juttatások
B67: 2 | C67: Munkaadókat terhelő járulékok | D67: 959 | E67: 959 | F67: 894
B68: 3 | C68: Dologi kiadások
A69: 6 | C69: Speciális célú támogatások | D69: =SUM(D70:D72) -> 0 | E69: =SUM(E70:E72) -> 0 | F69: =SUM(F70:F72) -> 0
B70: 1 | C70: Társadalom és szociálpolitikaijuttatások
B71: 2 | C71: Működési célú pénzeszköz átadás
B72: 3 | C72: Ellátottak pénzbeli juttatása
A73: 7 | C73: Felhalmozási célú kiadások | D73: =SUM(D74:D76) -> 0 | E73: =SUM(E74:E76) -> 0 | F73: =SUM(F74:F76) -> 0
B74: 1 | C74: Beruházási kiadások
B75: 2 | C75: Felújítási kiadások
B76: 3 | C76: Fejlesztési célú pénzeszköz átadás
C77: KIADÁSOK ÖSSZESEN | D77: =SUM(D65+D69+D73) -> 959 | E77: =SUM(E65+E69+E73) -> 959 | F77: =SUM(F65+F69+F73) -> 894
A78: Létszámkeret /átlagos állományi létszám / (fő)
F83: 4/3.melléklet
A84: Cím neve, száma | C84: Polgármesteri Hivatal
A85: Alcím neve, száma | C85: Állategészségügyi tevékenység
A87: Előirányzat | B87: Kiemelt
A88: csoport | B88: előirányzat | C88: Előirányzat-csoport, kiemelt előirányzat | D88: 2008.évi | E88: 2008.évi | F88: 2008.évi
C89: megnevezése | D89: előirányzat | E89: IV. mód. előirányzat | F89: teljesítés
A90: 1 | B90: 2 | C90: 3 | D90: 4 | E90: 5 | F90: 6
C91: Bevételek
A92: 1 | C92: Saját bevételek | D92: =SUM(D93:D96) -> 0 | E92: =SUM(E93:E96) -> 0 | F92: =SUM(F93:F96) -> 0
B93: 1 | C93: Alaptevékenység bevételei
B94: 2 | C94: Intézményi bevételek
B95: 3 | C95: Vállalkozási bevételek
B96: 4 | C96: Előző évi várható pénzmaradvány
A97: 2 | C97: Átvett pénzeszközök | D97: =SUM(D98:D99) -> 0 | E97: =SUM(E98:E99) -> 0 | F97: =SUM(F98:F99) -> 0
B98: 1 | C98: Működési célra átvett pénzeszközök
B99: 2 | C99: Felhalmozásicélra átvett pénzeszközök
A100: 3 | C100: Állami hozzájárulások és támogatások | D100: 0 | E100: 0 | F100: 0
A101: 4 | C101: Önkormányzati támogatás | D101: 444 | E101: 844 | F101: 743
C102: BEVÉTELEK ÖSSZESEN | D102: =SUM(D92+D97+D101) -> 444 | E102: =SUM(E92+E97+E101) -> 844 | F102: =SUM(F92+F97+F101) -> 743
C103: Kiadások
A104: 5 | C104: Működési kiadások | D104: =SUM(D105:D107) -> 444 | E104: =SUM(E105:E107) -> 844 | F104: =SUM(F105:F107) -> 743
B105: 1 | C105: Személyi juttatások | D105: 65 | E105: 65 | F105: 64
B106: 2 | C106: Munkaadókat terhelő járulékok | D106: 19 | E106: 19 | F106: 17
B107: 3 | C107: Dologi kiadások | D107: 360 | E107: 760 | F107: 662
A108: 6 | C108: Speciális célú támogatások | D108: =SUM(D109:D111) -> 0 | E108: =SUM(E109:E111) -> 0 | F108: =SUM(F109:F111) -> 0
B109: 1 | C109: Társadalom és szociálpolitikaijuttatások
B110: 2 | C110: Működési célú pénzeszköz átadás
B111: 3 | C111: Ellátottak pénzbeli juttatása
A112: 7 | C112: Felhalmozási célú kiadások | D112: =SUM(D113:D115) -> 0 | E112: =SUM(E113:E115) -> 0 | F112: =SUM(F113:F115) -> 0
B113: 1 | C113: Beruházási kiadások
B114: 2 | C114: Felújítási kiadások
...

Sheet 5_melléklet
A1: 8/2009. (IV.24.) önk. rendelet 5. sz. melléklete
A3: Beruházási kiadások
A4: előirányzata feladatonként
A8: Beruházás megnevezése | B8: Teljes | C8: Kivitelezés | D8: Felhasználás | E8: 2008.évi | F8: 2008.évi | G8: 2008.évi
B9: költség igény | C9: kezdési és | D9: 2007. XII.31-ig | E9: előirányzat | F9: IV. mód. előirányzat | G9: teljesítés
C10: befejezési éve
A11: 1 | B11: 2 | C11: 3 | D11: 4 | E11: 5 | F11: 6 | G11: 7
A12: Tűzoltóság | F12: =SUM(F13) -> 291 | G12: =SUM(G13) -> 0
A13: műszaki mentőlétra | F13: 291 | G13: 0
A14: Iskola | B14: =SUM(B15:B17) -> 2180 | E14: =SUM(E15:E17) -> 2180 | F14: =SUM(F15:F19) -> 13398 | G14: =SUM(G15:G19) -> 2404
A15: Interaktív tábla | B15: 1100 | E15: 1100 | F15: 1100 | G15: 0
A16: Szirén könyvtárprogram | B16: 180 | E16: 180 | F16: 180 | G16: 72
A17: Fénymásoló (2 db) | B17: 900 | E17: 900 | F17: 900 | G17: 703
A18: Számítógépek | F18: 1218 | G18: 1173
A19: Intézmény elhelyezés | F19: 10000 | G19: 456
A20: Óvoda | B20: =SUM(B21:B24) -> 6350 | E20: =SUM(E21:E24) -> 3350 | F20: =SUM(F21:F25) -> 5192 | G20: =SUM(G21:G25) -> 494
A21: Bejáratok akadálymentesítése | B21: 300 | E21: 300 | F21: 300 | G21: 0
A22: Gumitégla aljzat | B22: 500 | E22: 500 | F22: 500 | G22: 0
A23: Fedett pihenőhely medence feltöltésével | B23: 550 | E23: 550 | F23: 550 | G23: 430
A24: Kerítés + lábazat | B24: 5000 | E24: 2000 | F24: 3700 | G24: 64
A25: Udvari játékok | F25: 142 | G25: 0
A26: Közösségi Ház és Könyvtár | B26: =SUM(B27:B29) -> 2044 | E26: =SUM(E27:E29) -> 2044 | F26: =SUM(F27:F30) -> 2499 | G26: =SUM(G27:G30) -> 2397
A27: Digitális kamera | B27: 400 | E27: 400 | F27: 400 | G27: 348
A28: Emelet műszaki, fszt. iroda klimatizálása | B28: 1064 | E28: 1064 | F28: 1064 | G28: 1062
A29: Számítógép + program (3 db) | B29: 580 | E29: 580 | F29: 580 | G29: 555
A30: Projektor + vetítővászon + notebook MS Windows XP op.rendszerrel és MS Office 2007 programmal | F30: 455 | G30: 432
A31: Gondozási Központ | B31: =SUM(B32:B32) -> 220 | E31: =SUM(E32:E32) -> 220 | F31: =SUM(F32:F33) -> 3520 | G31: =SUM(G32:G33) -> 2061
A32: Számítógép nyomtatóval (területi védőnők) | B32: 220 | E32: 220 | F32: 220 | G32: 219
A33: Védőnői szolgálat akadálymentesítés | F33: 3300 | G33: 1842
A34: Polgármesteri Hivatal | B34: =SUM(B35:B44) -> 8518 | E34: =SUM(E35:E44) -> 8318 | F34: =SUM(F35:F46) -> 9714 | G34: =SUM(G35:G46) -> 8159
A35: Hivatali gépkocsi | B35: 3000 | E35: 3000 | F35: 3721 | G35: 3651
A36: Számítógépek programmal (5 db) | B36: 1068 | E36: 1068 | F36: 1068 | G36: 1087
A37: Számítógépek programmal (2 db) | B37: 460 | E37: 460 | F37: 460 | G37: 413
A38: Irattári polcrendszer | B38: 1800 | E38: 1800 | F38: 1800 | G38: 1279
A39: Irodai polcok | B39: 250 | E39: 250 | F39: 250 | G39: 480
A40: Szünetmentes szervergéphez | B40: 120 | E40: 120 | F40: 120 | G40: 98
A41: Monitor (3 db) | B41: 150 | E41: 150 | F41: 150 | G41: 113
A42: Fénymásoló és hálózati nyomtató | B42: 500 | E42: 500 | F42: 500 | G42: 0
A43: Térképtároló szekrény | B43: 370 | E43: 370 | F43: 370 | G43: 0
A44: Számítógépek programmal (3 db) - Orvosi rendelők | B44: 800 | E44: 600 | F44: 600 | G44: 399
A45: Fűkasza, tisztító-polírózó alapgép | F45: 500 | G45: 468
A46: Fogorvosi rendelő - szekrény | F46: 175 | G46: 171
A47: Távfűtés | B47: =SUM(B48:B50) -> 26500 | E47: =SUM(E48:E50) -> 26500 | F47: =SUM(F48:F50) -> 26500 | G47: =SUM(G48:G50) -> 3000
A48: Fűtési rendszer korszerűsítés v. felhasználói hőközpontok kiépítése (PH.) | B48: 20000 | E48: 20000 | F48: 20000 | G48: 0
A49: Társasházak "fűtéskorszerűsítése" (Átadott PH.) | B49: 1000 | E49: 1000 | F49: 1000 | G49: 0
A50: Tanulmánytervek (PH.) | B50: 5500 | E50: 5500 | F50: 5500 | G50: 3000
A51: Felszíni vízelvezetés | B51: =SUM(B52:B56) -> 77400 | E51: =SUM(E52:E56) -> 77100 | F51: =SUM(F52:F58) -> 78495 | G51: =SUM(G52:G58) -> 54706
A52: Klapka u. vízelvezetés tervezés, kivitelezés | B52: 2600 | E52: 2600 | F52: 2600 | G52: 2390
A53: Csapadékcsatorna építés (Újmandulás - Ösküi - Akácfa - Ifjúság) | B53: 50000 | E53: 50000 | F53: 51000 | G53: 51500
A54: Vízelvezetés terv felülvizsgálat, tervezés, engedélyeztetés (Temető u. - Hősök tere - Móra) | B54: 4000 | E54: 4000 | F54: 4000 | G54: 0
A55: Csatorna építés + műszaki ellenőrzés (Temető u.) | B55: 20000 | E55: 20000 | F55: 20000 | G55: 643
A56: Vízkár elhárítási terv | B56: 800 | E56: 500 | F56: 500 | G56: 0
A57: Bánk Bán u. - garanciális visszatartás | F57: 222 | G57: 0
A58: Garanciális visszatartás | F58: 173 | G58: 173
A59: Ivóvíz | B59: =SUM(B60:B61) -> 10300 | E59: =SUM(E60:E61) -> 10300 | F59: =SUM(F60:F61) -> 20300 | G59: =SUM(G60:G61) -> 20250
A60: Bocskai u. 49. vízi közmű hálózatra való rákötése (Községgazdálkodás) | B60: 300 | E60: 300 | F60: 300 | G60: 250
A61: Ivóvízvezeték rekonstrukció (Átadott PH.) | B61: 10000 | E61: 10000 | F61: 20000 | G61: 20000
A62: Köztemető | B62: =SUM(B63:B67) -> 8500 | E62: =SUM(E63:E67) -> 6500 | F62: =SUM(F63:F68) -> 7620 | G62: =SUM(G63:G68) -> 5558
A63: Temető terület kisajátítás | B63: 1000 | E63: 1000 | F63: 1000 | G63: 261
A64: Kolumbáriumok telepítése | B64: 2000 | E64: 2000 | F64: 2000 | G64: 944
A65: Kerítés | B65: 2000 | E65: 0 | F65: 0 | G65: 0
A66: Ravatalozóhoz vezető út és környéke térkő burkolat | B66: 3000 | E66: 3000 | F66: 3400 | G66: 3285
A67: Nagykapu | B67: 500 | E67: 500 | F67: 500 | G67: 348
A68: Urnakeszon | F68: 720 | G68: 720
A69: Strand | B69: 10000 | E69: 10000 | F69: 10000 | G69: =SUM(G70) -> 1278
A70: Hydrogeologia - geodéziai vizsgálat, felmérés tanulmány készítése, üzemeltetés előkészítése | B70: 10000 | E70: 10000 | F70: 10000 | G70: 1278
A71: Parkfenntartás | B71: =SUM(B72:B73) -> 3500 | E71: =SUM(E72:E73) -> 3500 | F71: =SUM(F72:F74) -> 4692 | G71: =SUM(G72:G74) -> 1652
A72: Játszótéri eszközök pótlása, telepítése | B72: 2000 | E72: 2000 | F72: 2000 | G72: 0
A73: Térburkolat (Iskola mellett) | B73: 1500 | E73: 1500 | F73: 1660 | G73: 1647
A74: Liszt F. utca - Berhidai úti lakótelep parkfelületeinek rendezése tanulmányterv | F74: 1032 | G74: 5
A75: Köztisztaság | B75: 1000 | E75: 1000 | F75: =SUM(F76:F77) -> 7418 | G75: =SUM(G76:G77) -> 6418
A76: Szelektív hulladékgyűjtő szigetek kialakítása | B76: 1000 | E76: 1000 | F76: 1000 | G76: 0
A77: Észak-Balatoni Térség Reg. Sz.hull.-kez.r. (Átadott) | F77: 6418 | G77: 6418
A78: Településszerkezeti terv felülvizsgálata (PH.) | B78: 10000 | E78: 3000 | F78: 3000 | G78: 0
A79: Útépítés | B79: =SUM(B80:B88) -> 207500 | E79: =SUM(E80:E88) -> 200500 | F79: =SUM(F80:F90) -> 205636 | G79: =SUM(G80:G90) -> 93328
A80: Útépítés (Kazinczi, Katona J. - Szőlőskert, Bocskai - Zalai, Akácfa, Diófa - Madách) | B80: 80400 | E80: 80400 | F80: 80400 | G80: 80400
A81: Elkészült tervek engedélyeztetés (Szőlőskert - Bőhm - Bánk Bán) | B81: 500 | E81: 500 | F81: 500 | G81: 0
A82: Gyalogos átkelőhelyek (2 db) tervezés, kivitelezés | B82: 5000 | E82: 4000 | F82: 4656 | G82: 4565
A83: Parkoló Liszt F. 5-7. engedélyeztetés, kivitelezés | B83: 5000 | E83: 4000 | F83: 4000 | G83: 3718
A84: Parkoló Liszt F. 2-6. engedélyeztetés | B84: 100 | E84: 100 | F84: 100 | G84: 93
A85: Parkoló Liszt F. 2-6. terveztetés | F85: 420 | G85: 300
A86: Tervfelülvizsgálat, engedélyeztetés, tervezés (Babits - Bocskai - Névtelen - Temető u. - Móra) | B86: 3000 | E86: 3000 | F86: 3000 | G86: 1381
A87: Útépítés (Szőlőskert - Bőhm - Bánk Bán - Babits - Bocskai - Névtelen - Temető - Cseri - Bánya) | B87: =95000+8500 -> 103500 | E87: 98500 | F87: 98500 | G87: 1911
A88: Sugár út felújítása | B88: 10000 | E88: 10000 | F88: 10000 | G88: 0
A89: Műszaki ellenőrzés | F89: 960 | G89: 960
A90: Ösküi, Újmandulás, Akácfa, Ifjúság utcák terveztetése, engedélyeztetése | F90: 3100 | G90: 0
A91: Községgazdálkodás | F91: =SUM(F92:F93) -> 1215 | G91: =SUM(G92:G93) -> 844
A92: Fűkasza (2 db) | F92: 400 | G92: 369
A93: Ady E. - Temető u. - Berhidai u. - Eötvös utcák által határolt terület rendezésének tervezése | F93: 815 | G93: 475
A94: Közvilágítás | F94: =SUM(F95) -> 240 | G94: =SUM(G95) -> 240
A95: Tiborc utca közvilágítás | F95: 240 | G95: 240
A96: Beruházások összesen: | B96: =B14+B20+B26+B31+B34+B47+B51+B59+B62+B69+B71+B75+B78+B79 -> 374012 | E96: =E14+E20+E26+E31+E34+E47+E51+E59+E62+E69+E71+E75+E78+E79 -> 354512 | F96: =F12+F14+F20+F26+F31+F34+F47+F51+F59+F62+F69+F71+F75+F78+F79+F91+F94 -> 399730 | G96: =G12+G14+G20+G26+G31+G34+G47+G51+G59+G62+G69+G71+G75+G78+G79+G91+G94 -> 202789

Sheet 6_melléklet
A1: 8/2009. ( IV.24.) önk. rendelet 6. sz. melléklete
A3: Felújítási kiadások
A4: előirányzata célonként
A8: Felújítás megnevezése | B8: Teljes | C8: Kivitelezés | D8: Felhasználás | E8: 2008.évi | F8: 2008.évi | G8: 2008.évi
B9: költség igény | C9: kezdési és | D9: 2007. XII.31-ig | E9: előirányzat | F9: IV. mód. előirányzat | G9: teljesítés
C10: befejezési éve
A11: 1 | B11: 2 | C11: 3 | D11: 4 | E11: 5 | F11: 6 | G11: 7
A12: Tűzoltóság | F12: =SUM(F13) -> 5500 | G12: =SUM(G13) -> 55
A13: Tűzoltó laktanya udvarának térburkolat felújítása | F13: 5500 | G13: 55
A14: Iskola | B14: =SUM(B15:B22) -> 22686 | E14: =SUM(E15:E22) -> 15606 | F14: =SUM(F15:F22) -> 15606 | G14: =SUM(G15:G22) -> 11059
A15: Nyílászáró csere garanciális visszatartás | B15: 98 | E15: 98 | F15: 98 | G15: 98
A16: Tornaterem falszigetelés | B16: 10000 | E16: 10000 | F16: 10000 | G16: 9989
A17: Berhidai út 54. műanyag lambéria csere | B17: 700 | E17: 700 | F17: 700 | G17: 0
A18: Hősök tere radiátorcsere befejezés + szelep | B18: 1400 | E18: 1400 | F18: 1400 | G18: 402
A19: Berhidai út 54. Hőfokszabályzó radiátorszelep | B19: 576 | E19: 576 | F19: 576 | G19: 570
A20: Berhidai út 54. tornaterem sportpadló | B20: 2400 | E20: 2400 | F20: 2400 | G20: 0
A21: Berhidai út 54. sportpálya nézőtér - műkőpadok (gyártás, elhelyezés, tereprendezés) | B21: 432 | E21: 432 | F21: 432 | G21: 0
A22: Berhidai út 54. sportpálya műanyag burkolat | B22: 7080 | E22: 0 | F22: 0 | G22: 0
A23: Óvoda | B23: =SUM(B24:B26) -> 1456 | E23: =SUM(E24:E26) -> 1456 | F23: =SUM(F24:F26) -> 1456 | G23: =SUM(G24:G26) -> 1384
A24: Nyílászáró csere garanciális visszatartás | B24: 306 | E24: 306 | F24: 306 | G24: 306
A25: Fedlap süllyesztés (3 db) | B25: 150 | E25: 150 | F25: 150 | G25: 118
A26: Elektromos hálózat felújítása | B26: 1000 | E26: 1000 | F26: 1000 | G26: 960
A27: Közösségi Ház és Könyvtár | B27: =SUM(B28:B31) -> 14071 | E27: =SUM(E28:E31) -> 4271 | F27: =SUM(F28:F31) -> 3833 | G27: =SUM(G28:G31) -> 2365
A28: Belső esővízelvezető rendszer | B28: 911 | E28: 911 | F28: 456 | G28: 456
A29: Radiátor thermoszelepek | B29: 560 | E29: 560 | F29: 560 | G29: 182
A30: Színházterem szellőzés | B30: 10800 | E30: 1000 | F30: 1000 | G30: 0
A31: Emelet járólapozás | B31: 1800 | E31: 1800 | F31: 1817 | G31: 1727
A32: Polgármesteri Hivatal | B32: =SUM(B33:B33) -> 500 | E32: =SUM(E33:E33) -> 500 | F32: =SUM(F33:F33) -> 500 | G32: =SUM(G33:G33) -> 0
A33: Biztonsági rácsok cseréje | B33: 500 | E33: 500 | F33: 500 | G33: 0
A34: Községgazdálkodás | B34: =SUM(B35:B36) -> 61000 | E34: =SUM(E35:E36) -> 51000 | F34: =SUM(F35:F36) -> 51000 | G34: =SUM(G35:G36) -> 44295
A35: Panelprogram (Átadott) | B35: 60000 | E35: 50000 | F35: 50000 | G35: 43830
A36: Bérlakások felújítása | B36: 1000 | E36: 1000 | F36: 1000 | G36: 465
A37: Összesen: | B37: =B14+B23+B27+B32+B34 -> 99713 | E37: =E14+E23+E27+E32+E34 -> 72833 | F37: =F12+F14+F23+F27+F32+F34 -> 77895 | G37: =G12+G14+G23+G27+G32+G34 -> 59158

Sheet 7_melléklet
A1: 8/2009. ( IV.24.) önk. rendelet 7. sz. melléklete
A2: Polgármesteri Hivatal kiadási előirányzatai
A3: feladatonként
B6: 2008.évi | C6: 2008.évi | D6: 2008.évi
A7: KIADÁSI JOGCÍMEK | B7: eredeti előirányzat | C7: IV. módosított előirányzat | D7: teljesíts
A8: Polgármesteri Hivatal igazgatási feladatok | B8: 139355 | C8: 151677 | D8: ='4_melléklet'!F26 -> 144837
A9: Rendszeres pénzbeli ellátás | B9: 959 | C9: 959 | D9: ='4_melléklet'!F65 -> 894
A10: Állategészségügyi feladatok | B10: 444 | C10: 844 | D10: ='4_melléklet'!F104 -> 743
A11: Közvilágítás | B11: 12000 | C11: 12000 | D11: ='4_melléklet'!F143 -> 10717
A12: Köztemető | B12: 5124 | C12: 5644 | D12: ='4_melléklet'!F182 -> 4544
A13: Köztisztasági tevékenység | B13: 14032 | C13: 15265 | D13: ='4_melléklet'!F221 -> 10620
A14: Parkfenntartás | B14: 16590 | C14: 17362 | D14: ='4_melléklet'!F260 -> 17629
A15: Községgazdálkodás | B15: 22206 | C15: 22339 | D15: ='4_melléklet'!F299 -> 17277
A16: Strand | B16: 132 | C16: 132 | D16: ='4_melléklet'!F338 -> 12
A17: Utak, hidak | B17: 2688 | C17: 4766 | D17: ='4_melléklet'!F377 -> 5182
A18: Közterület felügyelet | B18: 960 | C18: 960 | D18: ='4_melléklet'!F416 -> 0
A19: Felszíni vízelvezetés | B19: 2125 | C19: 2125 | D19: ='4_melléklet'!F455 -> 1371
A20: Társadalom és szocpol. Juttatás | B20: 25388 | C20: 25893 | D20: ='4_melléklet'!F732 -> 27218
A21: Átadott pénzeszközök | B21: 21275 | C21: 23228 | D21: ='1_melléklet'!F64 -> 20191
A22: Hiteltörlesztés | B22: 10353 | C22: 10353 | D22: 10353
A23: Felújítás, felhalmozás | B23: 427345 | C23: 500625 | D23: ='1_melléklet'!F68 -> 284947
A24: Intézményfinanszírozás | B24: =660580+1750 -> 662330 | C24: 690930 | D24: ='4_melléklet'!F494+'4_melléklet'!F533+'4_melléklet'!F572+'4_melléklet'!F611+'4_melléklet'!F650+'4_melléklet'!F540 -> 663918
A25: Általános tartalék | B25: 5312 | C25: 176079 | D25: 0
A26: Céltartalék | B26: 52203 | C26: 32785 | D26: 0
A27: Kölcsönök | C27: 20148 | D27: ='1_melléklet'!F66+'1_melléklet'!F67 -> 20148
A28: Aktív elszámolások
A29: Egyéb folyó kiadás
A30: ÖSSZESEN: | B30: =SUM(B8:B29) -> 1420821 | C30: =SUM(C8:C29) -> 1714114 | D30: =SUM(D8:D29) -> 1240601

Sheet 8_mell_eszközök
D1: Ezer forintban!
A2: ESZKÖZÖK | B2: Sorszám | C2: Előző év (nyitó) | D2: Tárgyév | E2: Változás
E3: %-a
A4: 1 | B4: 2 | C4: 3 | D4: 4 | E4: 5
A5: 1. Alapítás-átszervezés aktivált értéke | B5: 01 | E5: =IF(C5<>0,ROUND(D5*100/C5,2),"- ") -> -
A6: 2. Kísérleti fejlesztés aktivált értéke | B6: 02 | E6: =IF(C6<>0,ROUND(D6*100/C6,2),"- ") -> -
A7: 3. Vagyoni értékű jogok | B7: 3 | C7: 172 | D7: 130 | E7: =IF(C7<>0,ROUND(D7*100/C7,2),"- ") -> 75.58
A8: 4. Szellemi termékek | B8: 4 | C8: 679 | D8: 163 | E8: =IF(C8<>0,ROUND(D8*100/C8,2),"- ") -> 24.01
A9: 5. Immateriális javakra adott előlegek | B9: 5 | E9: =IF(C9<>0,ROUND(D9*100/C9,2),"- ") -> -
A10: 6. Immateriális javak értékhelyesbítése | B10: 6 | E10: =IF(C10<>0,ROUND(D10*100/C10,2),"- ") -> -
A11: I. Immateriális javak összesen (01+02+03+04+05+06) | B11: 7 | C11: =SUM(C5:C10) -> 851 | D11: =SUM(D5:D10) -> 293 | E11: =IF(C11<>0,ROUND(D11*100/C11,2),"- ") -> 34.43
A12: 1. Ingatlanok és kapcsolódó vagyoni értékű jogok | B12: 8 | C12: 1348930 | D12: 1340814 | E12: =IF(C12<>0,ROUND(D12*100/C12,2),"- ") -> 99.4
A13: 2. Gépek, berendezések és felszerelések | B13: 9 | C13: 24486 | D13: 23715 | E13: =IF(C13<>0,ROUND(D13*100/C13,2),"- ") -> 96.85
A14: 3. Járművek | B14: 10 | C14: 40958 | D14: 32577 | E14: =IF(C14<>0,ROUND(D14*100/C14,2),"- ") -> 79.54
A15: 4. Tenyészállatok | B15: 11 | E15: =IF(C15<>0,ROUND(D15*100/C15,2),"- ") -> -
A16: 5. Beruházások, felújítások | B16: 12 | C16: 17083 | D16: 85689 | E16: =IF(C16<>0,ROUND(D16*100/C16,2),"- ") -> 501.6
A17: 6. Beruházásra adott előlegek | B17: 13 | E17: =IF(C17<>0,ROUND(D17*100/C17,2),"- ") -> -
A18: 7. Állami készletek, tartalékok | B18: 14 | E18: =IF(C18<>0,ROUND(D18*100/C18,2),"- ") -> -
A19: 8. Tárgyi eszközök értékhelyesbítése | B19: 15 | E19: =IF(C19<>0,ROUND(D19*100/C19,2),"- ") -> -
A20: II. Tárgyi eszközök összesen (08+..+15) | B20: 16 | C20: =SUM(C12:C19) -> 1431457 | D20: =SUM(D12:D19) -> 1482795 | E20: =IF(C20<>0,ROUND(D20*100/C20,2),"- ") -> 103.59
A21: 1. Egyéb tartós részesedés | B21: 17 | C21: 65429 | D21: 88429 | E21: =IF(C21<>0,ROUND(D21*100/C21,2),"- ") -> 135.15
A22: 2. Tartós hitelviszonyt megtestesítő értékpapír | B22: 18 | E22: =IF(C22<>0,ROUND(D22*100/C22,2),"- ") -> -
A23: 3. Tartósan adott kölcsön | B23: 19 | E23: =IF(C23<>0,ROUND(D23*100/C23,2),"- ") -> -
A24: 4. Hosszú lejáratú bankbetétek | B24: 20 | E24: =IF(C24<>0,ROUND(D24*100/C24,2),"- ") -> -
A25: 5. Egyéb hosszú lejáratú követelések | B25: 21 | E25: =IF(C25<>0,ROUND(D25*100/C25,2),"- ") -> -
A26: 6. Befektetett pénzügyi eszközök értékhelyesbítése | B26: 22 | E26: =IF(C26<>0,ROUND(D26*100/C26,2),"- ") -> -
A27: III. Befektetett pénzügyi eszközök összesen (17+..+22) | B27: 23 | C27: =SUM(C21:C26) -> 65429 | D27: =SUM(D21:D26) -> 88429 | E27: =IF(C27<>0,ROUND(D27*100/C27,2),"- ") -> 135.15
A28: 1. Üzemeltetésre kezelésre átadott eszközök | B28: 24 | C28: 582076 | D28: 567766 | E28: =IF(C28<>0,ROUND(D28*100/C28,2),"- ") -> 97.54
A29: 2. Koncesszióba adott eszközök | B29: 25 | E29: =IF(C29<>0,ROUND(D29*100/C29,2),"- ") -> -
A30: 3. Vagyonkezelésbe adott eszközök | B30: 26 | E30: =IF(C30<>0,ROUND(D30*100/C30,2),"- ") -> -
A31: 4. Vagyonkezelésbe vett eszközök | B31: 27 | E31: =IF(C31<>0,ROUND(D31*100/C31,2),"- ") -> -
A32: 5. Üzemeltetésre, kezelésre átadott koncesszióba adott, vagyonkezelésbe vett eszközök értékhelyesbítése | B32: 28 | E32: =IF(C32<>0,ROUND(D32*100/C32,2),"- ") -> -
A33: IV. Üzemeltetésre, kezelésre átadott, koncesszióba adott vagyonkezelésbe vett eszközök (24+…+28) | B33: 29 | C33: =SUM(C28:C32) -> 582076 | D33: =SUM(D28:D32) -> 567766 | E33: =IF(C33<>0,ROUND(D33*100/C33,2),"- ") -> 97.54
A34: A) BEFEKTETETT ESZKÖZÖK ÖSSZESEN (07+16+23+29) | B34: 30 | C34: =C11+C20+C27+C33 -> 2079813 | D34: =D11+D20+D27+D33 -> 2139283 | E34: =IF(C34<>0,ROUND(D34*100/C34,2),"- ") -> 102.86
A35: 1. Anyagok | B35: 31 | C35: 698 | D35: 563 | E35: =IF(C35<>0,ROUND(D35*100/C35,2),"- ") -> 80.66
A36: 2. Befejezetlen termelés és félkész termékek | B36: 32 | E36: =IF(C36<>0,ROUND(D36*100/C36,2),"- ") -> -
A37: 3. Növendék-, hízó és egyéb állatok | B37: 33 | E37: =IF(C37<>0,ROUND(D37*100/C37,2),"- ") -> -
A38: 4. Késztermékek | B38: 34 | E38: =IF(C38<>0,ROUND(D38*100/C38,2),"- ") -> -
A39: 5. Áruk, betétdíjas göngyölegek, közvetített szolgáltatásokés követelés fejében átvett eszközök, készletek | B39: 35 | E39: =IF(C39<>0,ROUND(D39*100/C39,2),"- ") -> -
A40: I. Készletek összesen (31+..+35) | B40: 36 | C40: =SUM(C35:C39) -> 698 | D40: =SUM(D35:D39) -> 563 | E40: =IF(C40<>0,ROUND(D40*100/C40,2),"- ") -> 80.66
A41: 1. Követelések áruszállításból, szolgáltatásból (vevők) | B41: 37 | C41: 2494 | D41: 4345 | E41: =IF(C41<>0,ROUND(D41*100/C41,2),"- ") -> 174.22
A42: 2. Adósok | B42: 38 | C42: 10596 | D42: 11930 | E42: =IF(C42<>0,ROUND(D42*100/C42,2),"- ") -> 112.59
A43: 3. Rövid lejáratú kölcsönök | B43: 39 | C43: 8000 | D43: 28148 | E43: =IF(C43<>0,ROUND(D43*100/C43,2),"- ") -> 351.85
A44: 4. Egyéb követelések | B44: 40 | C44: 71 | D44: 304 | E44: =IF(C44<>0,ROUND(D44*100/C44,2),"- ") -> 428.17
A45: Ebből: - tartósan adott kölcsönökből a mérlegfordulónapot követő egy éven belül esedékes részlet | B45: 41 | E45: =IF(C45<>0,ROUND(D45*100/C45,2),"- ") -> -
A46: - támogatási program előlege | B46: 42 | E46: =IF(C46<>0,ROUND(D46*100/C46,2),"- ") -> -
A47: - támogatási programok szabálytalan kifizetése miatti követelés | B47: 43 | E47: =IF(C47<>0,ROUND(D47*100/C47,2),"- ") -> -
A48: II. Követelések összesen (37+38+39+40) | B48: 44 | C48: =SUM(C41:C44) -> 21161 | D48: =SUM(D41:D44) -> 44727 | E48: =IF(C48<>0,ROUND(D48*100/C48,2),"- ") -> 211.37
A49: 1. Egyéb részesedés | B49: 45 | E49: =IF(C49<>0,ROUND(D49*100/C49,2),"- ") -> -
A50: 2. Forgatási célú hitelviszonyt megtestesítő értékpapírok | B50: 46 | E50: =IF(C50<>0,ROUND(D50*100/C50,2),"- ") -> -
A51: III. Értékpapírok összesen (45+46) | B51: 47 | C51: =SUM(C49:C50) -> 0 | D51: =SUM(D49:D50) -> 0 | E51: =IF(C51<>0,ROUND(D51*100/C51,2),"- ") -> -
A52: 1. Pénztárak, csekkek, betétkönyvek | B52: 48 | C52: 89 | D52: 60 | E52: =IF(C52<>0,ROUND(D52*100/C52,2),"- ") -> 67.42
A53: 2. Költségvetési bankszámlák | B53: 49 | C53: 540648 | D53: 499867 | E53: =IF(C53<>0,ROUND(D53*100/C53,2),"- ") -> 92.46
A54: 3. Elszámolási számlák | B54: 50 | E54: =IF(C54<>0,ROUND(D54*100/C54,2),"- ") -> -
A55: 4. Idegen pénzeszközök számlái | B55: 51 | C55: 363 | D55: 24 | E55: =IF(C55<>0,ROUND(D55*100/C55,2),"- ") -> 6.61
A56: IV. Pénzeszközök összesen (48+49+50+51) | B56: 52 | C56: =SUM(C52:C55) -> 541100 | D56: =SUM(D52:D55) -> 499951 | E56: =IF(C56<>0,ROUND(D56*100/C56,2),"- ") -> 92.4
A57: 1. Költségvetési aktív függő elszámolások | B57: 53 | C57: 23220 | D57: 22659 | E57: =IF(C57<>0,ROUND(D57*100/C57,2),"- ") -> 97.58
A58: 2. Költségvetési aktív átfutó elszámolások | B58: 54 | C58: 1964 | D58: 4193 | E58: =IF(C58<>0,ROUND(D58*100/C58,2),"- ") -> 213.49
A59: 3. Költségvetési aktív kiegyenlítő elszámolások | B59: 55 | D59: 23 | E59: =IF(C59<>0,ROUND(D59*100/C59,2),"- ") -> -
A60: 3. Költségvetésen kívüli aktív pénzügyi elszámolások | B60: 56 | E60: =IF(C60<>0,ROUND(D60*100/C60,2),"- ") -> -
A61: V. Egyéb aktív pénzügyi elszámolások összesen (53+54+55+56) | B61: 57 | C61: =SUM(C57:C60) -> 25184 | D61: =SUM(D57:D60) -> 26875 | E61: =IF(C61<>0,ROUND(D61*100/C61,2),"- ") -> 106.71
A62: B) FORGÓESZKÖZÖK ÖSSZESEN (36+44+47+52+57) | B62: 58 | C62: =C40+C48+C51+C56+C61 -> 588143 | D62: =D40+D48+D51+D56+D61 -> 572116 | E62: =IF(C62<>0,ROUND(D62*100/C62,2),"- ") -> 97.27
A63: ESZKÖZÖK ÖSSZESEN (30+58) | B63: 59 | C63: =C34+C62 -> 2667956 | D63: =D34+D62 -> 2711399 | E63: =IF(C63<>0,ROUND(D63*100/C63,2),"- ") -> 101.63

Sheet 8_mell_források
D1: Ezer forintban!
A2: FORRÁSOK | B2: Sorszám | C2: Előző év (nyitó) | D2: Tárgyév | E2: Változás
E3: %-a
A4: 1 | B4: 2 | C4: 3 | D4: 4 | E4: 5
A5: 1. Induló tőke (411.) | B5: 60 | C5: 92397 | D5: 92397 | E5: =IF(C5<>0,ROUND(D5*100/C5,2),"- ") -> 100
A6: 2. Tőkeváltozások (412.) | B6: 61 | C6: 1543220 | D6: 1817386 | E6: =IF(C6<>0,ROUND(D6*100/C6,2),"- ") -> 117.77
A7: 3. Értékelési tartalék (417.) | B7: 62 | E7: =IF(C7<>0,ROUND(D7*100/C7,2),"- ") -> -
A8: D) SAJÁT TŐKE ÖSSZESEN (60+61+62) | B8: 63 | C8: =SUM(C5:C7) -> 1635617 | D8: =SUM(D5:D7) -> 1909783 | E8: =IF(C8<>0,ROUND(D8*100/C8,2),"- ") -> 116.76
A9: 1. Költségvetési tartalék elszámolása | B9: 64 | C9: 494777 | D9: 488177 | E9: =IF(C9<>0,ROUND(D9*100/C9,2),"- ") -> 98.67
A10: 2. Költségvetési pénzmaradvány | B10: 65 | E10: =IF(C10<>0,ROUND(D10*100/C10,2),"- ") -> -
A11: 3. Kiadási megtakarítás | B11: 66 | E11: =IF(C11<>0,ROUND(D11*100/C11,2),"- ") -> -
A12: 4. Bevételi lemaradás | B12: 67 | E12: =IF(C12<>0,ROUND(D12*100/C12,2),"- ") -> -
A13: 5. Előirányzat-maradvány | B13: 68 | E13: =IF(C13<>0,ROUND(D13*100/C13,2),"- ") -> -
A14: I. Költségvetési tartalékok összesen (64+…+68) | B14: 69 | C14: =SUM(C9:C13) -> 494777 | D14: =SUM(D9:D13) -> 488177 | E14: =IF(C14<>0,ROUND(D14*100/C14,2),"- ") -> 98.67
A15: 1. Vállalkozási tartalék elszámolása | B15: 70 | E15: =IF(C15<>0,ROUND(D15*100/C15,2),"- ") -> -
A16: 2. Vállalkozási tevékenység eredménye | B16: 71 | E16: =IF(C16<>0,ROUND(D16*100/C16,2),"- ") -> -
A17: 3. Vállalkozási tevékenység kiadási megtakarítása | B17: 72 | E17: =IF(C17<>0,ROUND(D17*100/C17,2),"- ") -> -
A18: 4. Vállalkozási tevékenység bevételi lemaradása | B18: 73 | E18: =IF(C18<>0,ROUND(D18*100/C18,2),"- ") -> -
A19: II. Vállalkozási tartalékok összesen (70+…+73) | B19: 74 | C19: =SUM(C15:C18) -> 0 | D19: =SUM(D15:D18) -> 0 | E19: =IF(C19<>0,ROUND(D19*100/C19,2),"- ") -> -
A20: E) TARTALÉKOK ÖSSZESEN (69+74) | B20: 75 | C20: =C14+C19 -> 494777 | D20: =D14+D19 -> 488177 | E20: =IF(C20<>0,ROUND(D20*100/C20,2),"- ") -> 98.67
A21: 1. Hosszú lejáratra kapott kölcsönök | B21: 76 | E21: =IF(C21<>0,ROUND(D21*100/C21,2),"- ") -> -
A22: 2. Tartozások fejlesztési célú kötvénykibocsátásból | B22: 77 | E22: =IF(C22<>0,ROUND(D22*100/C22,2),"- ") -> -
A23: 3. Tartozások működési célú kötvénykibocsátásból | B23: 78
A24: 4. Beruházási és fejlesztési célú hitelek | B24: 79 | C24: 238125 | D24: 217418 | E24: =IF(C24<>0,ROUND(D24*100/C24,2),"- ") -> 91.3
A25: 5. Egyéb hosszú lejáratú kötelezettségek | B25: 80 | E25: =IF(C25<>0,ROUND(D25*100/C25,2),"- ") -> -
A26: I. Hosszú lejáratú kötelezettségek összesen (76+..+80) | B26: 81 | C26: =SUM(C21:C25) -> 238125 | D26: =SUM(D21:D25) -> 217418 | E26: =IF(C26<>0,ROUND(D26*100/C26,2),"- ") -> 91.3
A27: 1. Rövid lejáratú kölcsönök | B27: 82 | E27: =IF(C27<>0,ROUND(D27*100/C27,2),"- ") -> -
A28: 2. Rövid lejáratú hitelek | B28: 83 | E28: =IF(C28<>0,ROUND(D28*100/C28,2),"- ") -> -
A29: 3. Kötelezettségek áruszállításból és szolgáltatásból (szállítók) | B29: 84 | C29: 103433 | D29: 10824 | E29: =IF(C29<>0,ROUND(D29*100/C29,2),"- ") -> 10.46
A30: Ebből: - tárgyévi költségvetést terhelő szállítói kötelezettségek | B30: 85 | C30: 103433 | D30: 10824 | E30: =IF(C30<>0,ROUND(D30*100/C30,2),"- ") -> 10.46
A31: - tárgyévet követő évet terhelő szállítói kötelezettségek | B31: 86 | C31: 0 | D31: 0 | E31: =IF(C31<>0,ROUND(D31*100/C31,2),"- ") -> -
A32: 4. Egyéb rövid lejáratú kötelezettségek | B32: 87 | C32: 124497 | D32: 46548 | E32: =IF(C32<>0,ROUND(D32*100/C32,2),"- ") -> 37.39
A33: Ebből: - váltótartozások | B33: 88 | E33: =IF(C33<>0,ROUND(D33*100/C33,2),"- ") -> -
A34: - munkaválalókkal szembeni kötelezettségek | B34: 89 | E34: =IF(C34<>0,ROUND(D34*100/C34,2),"- ") -> -
A35: - költségvetéssel szembeni kötelezettségek | B35: 90 | E35: =IF(C35<>0,ROUND(D35*100/C35,2),"- ") -> -
A36: - iparűzési adó feltöltés miatti kötelezettség | B36: 91 | C36: 98587 | D36: 15800 | E36: =IF(C36<>0,ROUND(D36*100/C36,2),"- ") -> 16.03
A37: - helyi adó túlfizetés | B37: 92 | C37: 15122 | D37: 19972 | E37: =IF(C37<>0,ROUND(D37*100/C37,2),"- ") -> 132.07
A38: - szabálytalan kifizetések miatti kötelezettségek | B38: 93 | E38: =IF(C38<>0,ROUND(D38*100/C38,2),"- ") -> -
A39: - beruházási, fejlesztési hitelek (kötvények) következő évet terhelő törlesztő részletei | B39: 94 | C39: 10353 | D39: 10353 | E39: =IF(C39<>0,ROUND(D39*100/C39,2),"- ") -> 100
A40: - felhalmozási célú kötvénykibocsátásból származó tartozások következő évet terhelő törlesztő részletei | B40: 95 | E40: =IF(C40<>0,ROUND(D40*100/C40,2),"- ") -> -
A41: - tartozás működési célú kötvénykibocsátásból származó tartozások következő évet terhelő törlesztő részletei | B41: 96 | E41: =IF(C41<>0,ROUND(D41*100/C41,2),"- ") -> -
A42: - egyéb hosszú lejáratú kötelezettségek következő évet terhelő törlesztő részletei | B42: 97 | E42: =IF(C42<>0,ROUND(D42*100/C42,2),"- ") -> -
A43: - tárgyévi költségvetést terhelő egyéb rövid lejáratú kötelezettségek | B43: 98 | C43: 435 | D43: 423 | E43: =IF(C43<>0,ROUND(D43*100/C43,2),"- ") -> 97.24
A44: - egyéb különféle kötelezettségek | B44: 99 | E44: =IF(C44<>0,ROUND(D44*100/C44,2),"- ") -> -
A45: II. Rövid lejáratú kötelezettségek összesen (82+83+84+87) | B45: 100 | C45: =C27+C28+C29+C32 -> 227930 | D45: =D27+D28+D29+D32 -> 57372 | E45: =IF(C45<>0,ROUND(D45*100/C45,2),"- ") -> 25.17
A46: 1. Költségvetési passzív függő elszámolások | B46: 101 | C46: 41314 | D46: 9881 | E46: =IF(C46<>0,ROUND(D46*100/C46,2),"- ") -> 23.92
A47: 2. Költségvetési passzív átfutó elszámolások | B47: 102 | C47: 29830 | D47: 28744 | E47: =IF(C47<>0,ROUND(D47*100/C47,2),"- ") -> 96.36
A48: 3. Költségvetési passzív kiegyenlítő elszámolások | B48: 103 | E48: =IF(C48<>0,ROUND(D48*100/C48,2),"- ") -> -
A49: 4. Költségvetésen kívüli passzív pénzügyi elszámolások | B49: 104 | C49: 363 | D49: 24 | E49: =IF(C49<>0,ROUND(D49*100/C49,2),"- ") -> 6.61
A50: Ebből: - Költségvetésen kívüli letéti elszámolások | B50: 105 | E50: =IF(C50<>0,ROUND(D50*100/C50,2),"- ") -> -
A51: - Nemzetközi támogatási programok deviza elszámolása | B51: 106 | E51: =IF(C51<>0,ROUND(D51*100/C51,2),"- ") -> -
A52: III. Egyéb passzív pénzügyi elszámolások összesen (101+…+104) | B52: 107 | C52: =SUM(C46:C49) -> 71507 | D52: =SUM(D46:D49) -> 38649 | E52: =IF(C52<>0,ROUND(D52*100/C52,2),"- ") -> 54.05
A53: F) KÖTELEZETTSÉGEK ÖSSZESEN (81+100+107) | B53: 108 | C53: =C26+C45+C52 -> 537562 | D53: =D26+D45+D52 -> 313439 | E53: =IF(C53<>0,ROUND(D53*100/C53,2),"- ") -> 58.31
A54: FORRÁSOK ÖSSZESEN (63+75+108) | B54: 109 | C54: =C8+C20+C53 -> 2667956 | D54: =D8+D20+D53 -> 2711399 | E54: =IF(C54<>0,ROUND(D54*100/C54,2),"- ") -> 101.63

Sheet 9_melléklet
A1: 8/2009. (IV.24. ) önk. rendelet 9. sz. melléklete
C3: Az önkományzat által felvett hitelállomány alakulása
D4: lejárat és eszközök szerinti bontásban
G5: Ezer forintban
C6: Felvétel | D6: Lejárat
A7: Sor | B7: Hitel jellege | F7: Hitel állomány január 1-jén
A8: szám | C8: éve | E8: 2008. | F8: 2009. | G8: 2010. | H8: 2011. után
A9: 1 | B9: 2 | C9: 3 | D9: 4 | E9: 5 | F9: 6 | G9: 7 | H9: 8
A10: 1. | B10: Működési célú
A11: 2. | B11: ………………………….
A12: 3. | B12: ………………………….
A13: 4. | B13: ………………………….
A14: 5. | B14: …………………………..
A15: 6. | B15: Felhalmozási célú | E15: =E16 -> 248478 | F15: =F16 -> 227771 | G15: =G16 -> 207065 | H15: =H16 -> 186359
A16: 7. | B16: Japán hitel | C16: 1994. | D16: 2019. | E16: 248478 | F16: 227771 | G16: 207065 | H16: 186359
A17: 8. | B17: …………………………..
A18: 9. | B18: …………………………..
A19: 10. | B19: …………………………..
A20: 11. | B20: Összesen (1+6) | E20: =SUM(E16+E10) -> 248478 | F20: =SUM(F16+F10) -> 227771 | G20: =SUM(G16+G10) -> 207065 | H20: =SUM(H16+H10) -> 186359

Sheet 10_melléklet
C1: 8/2009.(IV.24.) sz. önk. rendelet 10. számú melléklete
A3: Az önkormányzat által adott közvetett támogatások
A4: (kedvezmények)
D5: ezer Ft-ban !
A6: Sor- | C6: Tényleges | D6: Adott kedvezmények
A7: szám | B7: Bevételi jogcím | C7: bevétel | D7: összege
A8: 1 | B8: 2 | C8: 3 | D8: 4
A9: 1. | B9: Iparűzési adó | C9: 475776 | D9: 2470
A10: 2.
A11: 3.
A12: 4.
A13: 5.
A14: 6.
A15: 7.
A16: 8.
A17: 9.
A18: 10.
A19: 11. | B19: Összesen: | C19: =SUM(C9:C18) -> 475776 | D19: =SUM(D9:D18) -> 2470
