Workbook

Sheet 1_melléklet
A1: 8/2009. ( IV.24. ) önk. rendelet 1. sz. melléklete
A3: Pétfürdői Önkormányzat
A4: 2008. ÉVI KÖLTSÉGVETÉSÉNEK
A5: PÉNZÜGYI MÉRLEGE
B8: BEVÉTELEK
A9: Sor- | B9: Bevételi jogcím | C9: 2001.évi | D9: 2008.évi | E9: 2008.évi | F9: 2008.évi
A10: szám | C10: tény | D10: előirányzat | E10: IV. mód. előirányzat | F10: teljesítés
A11: 1. | B11: 1.Saját bevételek | C11: =SUM(C12+C13+C14+C15+C16+C17+C24+C25+C26) -> 392421 | D11: =SUM(D12+D13+D14+D15+D16+D17+D24+D25+D26) -> 631049 | E11: =SUM(E12+E13+E14+E15+E16+E17+E24+E25+E26) -> 675282 | F11: =SUM(F12+F13+F14+F15+F16+F17+F23+F24+F25+F26) -> 688152
A12: 2. | B12: A/ Alaptevékenység bevételei | C12: 12280 | D12: 26585 | E12: 27115 | F12: 29996
A13: 3. | B13: B/ Alaptevékenység egyéb bevételei | C13: 2933
A14: 4. | B14: C/ Intézmények egyéb sajátos bevételei | C14: 26250
A15: 5. | B15: D/ Vállalkozási bevételek
A16: 6. | B16: E/ Kamatbevételek | D16: 16000 | E16: =41200+1884 -> 43084 | F16: =41200+1884 -> 43084
A17: 7. | B17: F/ Helyi adók | C17: =SUM(C18:C22) -> 346893 | D17: =SUM(D18:D22) -> 588464 | E17: =SUM(E18:E22) -> 605083 | F17: =SUM(F18:F22) -> 612443
A18: 8. | B18: Építményadó | C18: 58036 | D18: 120508 | E18: 120508 | F18: 123014
A19: 9. | B19: Telekadó
A20: 10. | B20: Kommunális adó | C20: 6205 | D20: 8799 | E20: 8799 | F20: 8892
A21: 11. | B21: Idegenforgalmi adó / PÓTLÉK,BÍRSÁG/ | C21: 268 | F21: 4761
A22: 12. | B22: Iparűzési adó | C22: 282384 | D22: 459157 | E22: =459157+16619 -> 475776 | F22: =459157+16619 -> 475776
A23: 13. | B23: G/ Egyéb sajátos bevétel | F23: 2620
A24: 14. | B24: H/ Illetékek
A25: 15. | B25: I/ Önkormányzatok sajátos működési bevételei | C25: 210
A26: 16. | B26: J/ Felhalmozási és tőke jellegű bevételei | C26: 3855 | F26: 9
A27: 17. | B27: II.Átengedett,megosztott bevételek | C27: =SUM(C28+C32+C33) -> 170501 | D27: =D28+D32+D33 -> 55506 | E27: =E28+E32+E33 -> 14817 | F27: =F28+F32+F33 -> 16892
A28: 18. | B28: A/ Személyi jövedelemadó | C28: 165811 | D28: =SUM(D29:D31) -> 28280 | E28: =SUM(E29:E31) -> -12409 | F28: =SUM(F29:F31) -> -12409
A29: 19. | B29: Helyben maradó rész | C29: 25768 | D29: 54496 | E29: 54496 | F29: 54496
A30: 20. | B30: Kiegészítés | C30: -18439 | D30: -26216 | E30: -66905 | F30: -66905
A31: 21. | B31: Normatív részesedés | C31: 158482
A32: 22. | B32: B/ Termőföld bérbeadása utáni adó
A33: 23. | B33: C/ Gépjárműadó | C33: 4690 | D33: 27226 | E33: 27226 | F33: 29301
A34: 24. | B34: III. Átvett pénzeszközök | C34: =SUM(C35:C39) -> 27037 | D34: =SUM(D35:D39) -> 15715 | E34: =SUM(E35:E39) -> 18506 | F34: =SUM(F35:F39) -> 18225
A35: 25. | B35: Egészségbizosítási Alaptól átvett pénzeszk. | C35: 1988 | D35: 9340 | E35: 9340 | F35: ='4_melléklet'!F644 -> 9365
A36: 26. | B36: Elkülönített állami pénzalapoktól átvett | C36: 2458 | D36: 6375 | E36: 6879 | F36: 4448
A37: 27. | B37: Központi(fejezettől ) átvett pénze. | C37: 14055 | E37: 1965 | F37: 3774
A38: 28. | B38: Költségvetési kiegészítések, visszatérítések
A39: 29. | B39: Egyéb átvett pénzeszközök | C39: 8536 | E39: 322 | F39: 638
A40: 30. | B40: IV. Állami hozzájárulások és támogatások | C40: =SUM(C41:C48) -> 198000 | D40: =SUM(D41:D48) -> 446436 | E40: =SUM(E41:E48) -> 510732 | F40: =SUM(F41:F48) -> 510732
A41: 31. | B41: Normatív állami támogatás | C41: 75296 | D41: 171982 | E41: 171982 | F41: 171982
A42: 32. | B42: Normatív kötött felhasználású tám. | C42: 45934 | D42: 256715 | E42: =256715+13040 -> 269755 | F42: =256715+13040 -> 269755
A43: 33. | B43: Színházi támogatások | C43: 21864
...

Sheet 2_melléklet
A1: 8/2009. ( IV.24.) önk. rendelet 2. sz. melléklete
A3: Működési célú (folyó)bevételek, Működési célú ( folyó) kiadások mérlege
A4: ( Önkormányzati szinten )
A9: Bevételek | E9: Kiadások
B11: 2008.évi | C11: 2008.évi | D11: 2008.évi | F11: 2008.évi | G11: 2008.évi | H11: 2008.évi
A12: Megnevezés | B12: előirányzat | C12: IV. mód. előirányzat | D12: teljesítés | E12: Megnevezés | F12: előirányzat | G12: IV. mód. előirányzat | H12: teljesítés
A13: Saját bevételek | B13: 382750 | C13: 426983 | D13: 500109 | E13: Személyi juttatások | F13: 508499 | G13: 529534 | H13: ='1_melléklet'!F60 -> 507619
A14: Átengedett bevételek | B14: 55506 | C14: 14817 | D14: ='1_melléklet'!F27 -> 16892 | E14: Járulékok | F14: 152364 | G14: 154655 | H14: ='1_melléklet'!F61 -> 149973
A15: Átvett pénzeszközök | B15: 15715 | C15: 18506 | D15: ='1_melléklet'!F34 -> 18225 | E15: Dologi kiadások | F15: 216332 | G15: 234034 | H15: ='1_melléklet'!F62 -> 213381
A16: Állami hozzájárulás | B16: 446436 | C16: 510732 | D16: ='1_melléklet'!F40 -> 510732 | E16: Ellátottak pénzbeli jutt. | F16: 1750 | G16: 1750 | H16: ='1_melléklet'!F79 -> 1741
A17: Előző évi vható pénzmar. | B17: 82716 | C17: 86031 | D17: 86031 | E17: Társ.és szocpol.jutt. | F17: 25388 | G17: 25893 | H17: ='1_melléklet'!F78 -> 27218
A18: EU előcsatlakozási tám. | E18: Pénzeszköz átadások | F18: 21275 | G18: 23228 | H18: ='1_melléklet'!F64 -> 20191
A19: Egyéb | E19: Rövid lejáratú kölcsönök nyújtása, törlesztése | G19: 20000 | H19: ='1_melléklet'!F66 -> 20000
A20: értékpapír | E20: Tartalék | F20: 57515 | G20: 62797 | H20: 0
A21: passzív elszámolások | E21: Egyéb | G21: 5030 | H21: ='1_melléklet'!F63 -> 5030
E22: akív elszámolások
E23: értékpapír vás.
E24: Tartósan adott kölcsönök | G24: 148 | H24: ='1_melléklet'!F67 -> 148
A25: ÖSSZESEN: | B25: =SUM(B13:B24) -> 983123 | C25: 1057069 | D25: =SUM(D13:D24) -> 1131989 | E25: ÖSSZESEN: | F25: =SUM(F13:F24) -> 983123 | G25: 1057069 | H25: =SUM(H13:H24) -> 945301
A26: Hiány | E26: Többlet | H26: =D25-H25 -> 186688

Sheet 3_melléklet
A1: 8/2009. (IV.24.) önk. rendelet 3. sz. melléklete
A3: Tőkejellegű bevételek és kiadások mérlege
A4: (Önkormányzati szinten )
A9: Bevételek | E9: Kiadások
B11: 2008.évi | C11: 2008.évi | D11: 2008.évi | F11: 2008.évi | G11: 2008.évi | H11: 2008.évi
A12: Megnevezés | B12: előirányzat | C12: IV. mód. előirányzat | D12: teljesítés | E12: Megnevezés | F12: előirányzat | G12: IV. mód. előirányzat | H12: teljesítés
A13: Önkormányzat felhalm.és | E13: Beruházási kiadások,felh.
A14: tőke jellegű bevételei | E14: célú alapátadások | F14: 343512 | G14: 372312 | H14: 176371
A15: Fejlelsztési célú támoga- | E15: Felhalmozási célú pénz-
A16: tások ( cél, cimzett) | E16: eszköz átadás | F16: 61000 | G16: 77418 | H16: 70248
A17: Értékpapír eladás | E17: Felújítások | F17: 22833 | G17: 27895 | H17: 15328
A18: Előző évi vható pénzm. | B18: 189399 | C18: 408746 | D18: 408746 | E18: Részesedések | G18: 23000 | H18: 23000
A19: Felhalm.célú hitel | B19: 0 | C19: 0 | D19: 0 | E19: Felhalm.célú tartalék
A20: EU előcsatl.tám. | E20: Felhalm.célú hiteltörl. | F20: 10353 | G20: 10353 | H20: 10353
A21: Egyéb | E21: Egyéb
A22: vagyonátvétel | E22: Tartalék | G22: 146067 | H22: 0
A23: egyéb sajátos bevétel | B23: 248299 | C23: 248299 | D23: 188043
A25: ÖSSZESEN: | B25: =SUM(B14:B24) -> 437698 | C25: 657045 | D25: =SUM(D13:D24) -> 596789 | E25: ÖSSZESEN: | F25: =SUM(F14:F24) -> 437698 | G25: 657045 | H25: =SUM(H14:H24) -> 295300
A26: Hiány | E26: Többlet | H26: =D25-H25 -> 301489

Sheet 4_melléklet
A1: 8/2009. (IV.24. ) önk. rendelet 4/1-4/19. sz. mellékletei
F5: 4/1.melléklet
A6: Cím neve, száma | C6: Polgármesteri Hivatal
A7: Alcím neve, száma | C7: Igazgatási tevékenység
A9: Előirányzat | B9: Kiemelt
A10: csoport | B10: előirányzat | C10: Előirányzat-csoport, kiemelt előirányzat | D10: 2008.évi | E10: 2008.évi | F10: 2008.évi
C11: megnevezése | D11: előirányzat | E11: IV. mód. előirányzat | F11: teljesítés
A12: 1 | B12: 2 | C12: 3 | D12: 4 | E12: 5 | F12: 6
C13: Bevételek
A14: 1 | C14: Saját bevételek | D14: =SUM(D15:D18) -> 20293 | E14: =SUM(E15:E18) -> 63976 | F14: =SUM(F15:F18) -> 66492
B15: 1 | C15: Alaptevékenység bevételei | D15: 20293 | E15: 47377 | F15: 49893
B16: 2 | C16: Intézményi bevételek
B17: 3 | C17: Vállalkozási bevételek
B18: 4 | C18: Pénzmaradvány | E18: 16599 | F18: 16599
A19: 2 | C19: Átvett pénzeszközök | D19: =SUM(D20:D21) -> 0 | E19: =SUM(E20:E21) -> 929 | F19: =SUM(F20:F21) -> 2663
B20: 1 | C20: Működési célra átvett pénzeszközök | E20: 929 | F20: 2663
B21: 2 | C21: Felhalmozási célra átvett pénzeszközök
A22: 3 | C22: Állami hozzájárulások és támogatások | D22: =9634+33 -> 9667 | E22: 30936 | F22: 30936
A23: 4 | C23: Önkormányzati támogatás | D23: 157713 | E23: 115550 | F23: 75906
C24: BEVÉTELEK ÖSSZESEN | D24: =SUM(D14+D19+D22+D23) -> 187673 | E24: =SUM(E14+E19+E22+E23) -> 211391 | F24: =SUM(F14+F19+F22+F23) -> 175997
C25: Kiadások
A26: 5 | C26: Működési kiadások | D26: =SUM(D27:D29) -> 139355 | E26: =SUM(E27:E29) -> 151677 | F26: =SUM(F27:F29) -> 144837
B27: 1 | C27: Személyi juttatások | D27: 82137 | E27: 85679 | F27: 82804
B28: 2 | C28: Munkaadókat terhelő járulékok | D28: 24054 | E28: 25174 | F28: 23688
B29: 3 | C29: Dologi kiadások | D29: 33164 | E29: 40824 | F29: 38345
A30: 6 | C30: Speciális célú támogatások | D30: =SUM(D31:D33) -> 0 | E30: =SUM(E31:E33) -> 0 | F30: =SUM(F31:F33) -> 0
B31: 1 | C31: Társadalom és szociálpolitikai juttatások
B32: 2 | C32: Működési célú pénzeszközátadás
B33: 3 | C33: Ellátottak pénzbeli juttatása
A34: 7 | C34: Felhalmozási célú kiadások | D34: =SUM(D35:D37) -> 48318 | E34: =SUM(E35:E37) -> 59714 | F34: =SUM(F35:F37) -> 31159
B35: 1 | C35: Beruházási kiadások | D35: 36818 | E35: 38214 | F35: 11159
B36: 2 | C36: Felújítások kiadásai | D36: 500 | E36: 500 | F36: 0
B37: 3 | C37: Fejlesztési célú pénzeszköz átadás | D37: 11000 | E37: 21000 | F37: 20000
C38: KIADÁSOK ÖSSZESEN | D38: =D26+D30+D34 -> 187673 | E38: =E26+E30+E34 -> 211391 | F38: =F26+F30+F34 -> 175996
A39: Létszámkeret/átlagos álományi létszám / fő | D39: 23 | E39: 23 | F39: 23
F44: 4/2.melléklet
A45: Cím neve, száma | C45: Polgármesteri Hivatal
A46: Alcím neve, száma | C46: Rendszeres pénzbeli ellátás
A48: Előirányzat | B48: Kiemelt
A49: csoport | B49: előirányzat | C49: Előirányzat-csoport, kiemelt előirányzat | D49: 2008.évi | E49: 2008.évi | F49: 2008.évi
...

Sheet 5_melléklet
A1: 8/2009. (IV.24.) önk. rendelet 5. sz. melléklete
A3: Beruházási kiadások
A4: előirányzata feladatonként
A8: Beruházás megnevezése | B8: Teljes | C8: Kivitelezés | D8: Felhasználás | E8: 2008.évi | F8: 2008.évi | G8: 2008.évi
B9: költség igény | C9: kezdési és | D9: 2007. XII.31-ig | E9: előirányzat | F9: IV. mód. előirányzat | G9: teljesítés
C10: befejezési éve
A11: 1 | B11: 2 | C11: 3 | D11: 4 | E11: 5 | F11: 6 | G11: 7
A12: Tűzoltóság | F12: =SUM(F13) -> 291 | G12: =SUM(G13) -> 0
A13: műszaki mentőlétra | F13: 291 | G13: 0
A14: Iskola | B14: =SUM(B15:B17) -> 2180 | E14: =SUM(E15:E17) -> 2180 | F14: =SUM(F15:F19) -> 13398 | G14: =SUM(G15:G19) -> 2404
A15: Interaktív tábla | B15: 1100 | E15: 1100 | F15: 1100 | G15: 0
A16: Szirén könyvtárprogram | B16: 180 | E16: 180 | F16: 180 | G16: 72
A17: Fénymásoló (2 db) | B17: 900 | E17: 900 | F17: 900 | G17: 703
A18: Számítógépek | F18: 1218 | G18: 1173
A19: Intézmény elhelyezés | F19: 10000 | G19: 456
A20: Óvoda | B20: =SUM(B21:B24) -> 6350 | E20: =SUM(E21:E24) -> 3350 | F20: =SUM(F21:F25) -> 5192 | G20: =SUM(G21:G25) -> 494
A21: Bejáratok akadálymentesítése | B21: 300 | E21: 300 | F21: 300 | G21: 0
A22: Gumitégla aljzat | B22: 500 | E22: 500 | F22: 500 | G22: 0
A23: Fedett pihenőhely medence feltöltésével | B23: 550 | E23: 550 | F23: 550 | G23: 430
A24: Kerítés + lábazat | B24: 5000 | E24: 2000 | F24: 3700 | G24: 64
A25: Udvari játékok | F25: 142 | G25: 0
A26: Közösségi Ház és Könyvtár | B26: =SUM(B27:B29) -> 2044 | E26: =SUM(E27:E29) -> 2044 | F26: =SUM(F27:F30) -> 2499 | G26: =SUM(G27:G30) -> 2397
A27: Digitális kamera | B27: 400 | E27: 400 | F27: 400 | G27: 348
A28: Emelet műszaki, fszt. iroda klimatizálása | B28: 1064 | E28: 1064 | F28: 1064 | G28: 1062
A29: Számítógép + program (3 db) | B29: 580 | E29: 580 | F29: 580 | G29: 555
A30: Projektor + vetítővászon + notebook MS Windows XP op.rendszerrel és MS Office 2007 programmal | F30: 455 | G30: 432
A31: Gondozási Központ | B31: =SUM(B32:B32) -> 220 | E31: =SUM(E32:E32) -> 220 | F31: =SUM(F32:F33) -> 3520 | G31: =SUM(G32:G33) -> 2061
A32: Számítógép nyomtatóval (területi védőnők) | B32: 220 | E32: 220 | F32: 220 | G32: 219
A33: Védőnői szolgálat akadálymentesítés | F33: 3300 | G33: 1842
A34: Polgármesteri Hivatal | B34: =SUM(B35:B44) -> 8518 | E34: =SUM(E35:E44) -> 8318 | F34: =SUM(F35:F46) -> 9714 | G34: =SUM(G35:G46) -> 8159
A35: Hivatali gépkocsi | B35: 3000 | E35: 3000 | F35: 3721 | G35: 3651
A36: Számítógépek programmal (5 db) | B36: 1068 | E36: 1068 | F36: 1068 | G36: 1087
A37: Számítógépek programmal (2 db) | B37: 460 | E37: 460 | F37: 460 | G37: 413
A38: Irattári polcrendszer | B38: 1800 | E38: 1800 | F38: 1800 | G38: 1279
A39: Irodai polcok | B39: 250 | E39: 250 | F39: 250 | G39: 480
A40: Szünetmentes szervergéphez | B40: 120 | E40: 120 | F40: 120 | G40: 98
A41: Monitor (3 db) | B41: 150 | E41: 150 | F41: 150 | G41: 113
A42: Fénymásoló és hálózati nyomtató | B42: 500 | E42: 500 | F42: 500 | G42: 0
A43: Térképtároló szekrény | B43: 370 | E43: 370 | F43: 370 | G43: 0
A44: Számítógépek programmal (3 db) - Orvosi rendelők | B44: 800 | E44: 600 | F44: 600 | G44: 399
...

Sheet 6_melléklet
A1: 8/2009. ( IV.24.) önk. rendelet 6. sz. melléklete
A3: Felújítási kiadások
A4: előirányzata célonként
A8: Felújítás megnevezése | B8: Teljes | C8: Kivitelezés | D8: Felhasználás | E8: 2008.évi | F8: 2008.évi | G8: 2008.évi
B9: költség igény | C9: kezdési és | D9: 2007. XII.31-ig | E9: előirányzat | F9: IV. mód. előirányzat | G9: teljesítés
C10: befejezési éve
A11: 1 | B11: 2 | C11: 3 | D11: 4 | E11: 5 | F11: 6 | G11: 7
A12: Tűzoltóság | F12: =SUM(F13) -> 5500 | G12: =SUM(G13) -> 55
A13: Tűzoltó laktanya udvarának térburkolat felújítása | F13: 5500 | G13: 55
A14: Iskola | B14: =SUM(B15:B22) -> 22686 | E14: =SUM(E15:E22) -> 15606 | F14: =SUM(F15:F22) -> 15606 | G14: =SUM(G15:G22) -> 11059
A15: Nyílászáró csere garanciális visszatartás | B15: 98 | E15: 98 | F15: 98 | G15: 98
A16: Tornaterem falszigetelés | B16: 10000 | E16: 10000 | F16: 10000 | G16: 9989
A17: Berhidai út 54. műanyag lambéria csere | B17: 700 | E17: 700 | F17: 700 | G17: 0
A18: Hősök tere radiátorcsere befejezés + szelep | B18: 1400 | E18: 1400 | F18: 1400 | G18: 402
A19: Berhidai út 54. Hőfokszabályzó radiátorszelep | B19: 576 | E19: 576 | F19: 576 | G19: 570
A20: Berhidai út 54. tornaterem sportpadló | B20: 2400 | E20: 2400 | F20: 2400 | G20: 0
A21: Berhidai út 54. sportpálya nézőtér - műkőpadok (gyártás, elhelyezés, tereprendezés) | B21: 432 | E21: 432 | F21: 432 | G21: 0
A22: Berhidai út 54. sportpálya műanyag burkolat | B22: 7080 | E22: 0 | F22: 0 | G22: 0
A23: Óvoda | B23: =SUM(B24:B26) -> 1456 | E23: =SUM(E24:E26) -> 1456 | F23: =SUM(F24:F26) -> 1456 | G23: =SUM(G24:G26) -> 1384
A24: Nyílászáró csere garanciális visszatartás | B24: 306 | E24: 306 | F24: 306 | G24: 306
A25: Fedlap süllyesztés (3 db) | B25: 150 | E25: 150 | F25: 150 | G25: 118
A26: Elektromos hálózat felújítása | B26: 1000 | E26: 1000 | F26: 1000 | G26: 960
A27: Közösségi Ház és Könyvtár | B27: =SUM(B28:B31) -> 14071 | E27: =SUM(E28:E31) -> 4271 | F27: =SUM(F28:F31) -> 3833 | G27: =SUM(G28:G31) -> 2365
A28: Belső esővízelvezető rendszer | B28: 911 | E28: 911 | F28: 456 | G28: 456
A29: Radiátor thermoszelepek | B29: 560 | E29: 560 | F29: 560 | G29: 182
A30: Színházterem szellőzés | B30: 10800 | E30: 1000 | F30: 1000 | G30: 0
A31: Emelet járólapozás | B31: 1800 | E31: 1800 | F31: 1817 | G31: 1727
A32: Polgármesteri Hivatal | B32: =SUM(B33:B33) -> 500 | E32: =SUM(E33:E33) -> 500 | F32: =SUM(F33:F33) -> 500 | G32: =SUM(G33:G33) -> 0
A33: Biztonsági rácsok cseréje | B33: 500 | E33: 500 | F33: 500 | G33: 0
A34: Községgazdálkodás | B34: =SUM(B35:B36) -> 61000 | E34: =SUM(E35:E36) -> 51000 | F34: =SUM(F35:F36) -> 51000 | G34: =SUM(G35:G36) -> 44295
A35: Panelprogram (Átadott) | B35: 60000 | E35: 50000 | F35: 50000 | G35: 43830
A36: Bérlakások felújítása | B36: 1000 | E36: 1000 | F36: 1000 | G36: 465
A37: Összesen: | B37: =B14+B23+B27+B32+B34 -> 99713 | E37: =E14+E23+E27+E32+E34 -> 72833 | F37: =F12+F14+F23+F27+F32+F34 -> 77895 | G37: =G12+G14+G23+G27+G32+G34 -> 59158

Sheet 7_melléklet
A1: 8/2009. ( IV.24.) önk. rendelet 7. sz. melléklete
A2: Polgármesteri Hivatal kiadási előirányzatai
A3: feladatonként
B6: 2008.évi | C6: 2008.évi | D6: 2008.évi
A7: KIADÁSI JOGCÍMEK | B7: eredeti előirányzat | C7: IV. módosított előirányzat | D7: teljesíts
A8: Polgármesteri Hivatal igazgatási feladatok | B8: 139355 | C8: 151677 | D8: ='4_melléklet'!F26 -> 144837
A9: Rendszeres pénzbeli ellátás | B9: 959 | C9: 959 | D9: ='4_melléklet'!F65 -> 894
A10: Állategészségügyi feladatok | B10: 444 | C10: 844 | D10: ='4_melléklet'!F104 -> 743
A11: Közvilágítás | B11: 12000 | C11: 12000 | D11: ='4_melléklet'!F143 -> 10717
A12: Köztemető | B12: 5124 | C12: 5644 | D12: ='4_melléklet'!F182 -> 4544
A13: Köztisztasági tevékenység | B13: 14032 | C13: 15265 | D13: ='4_melléklet'!F221 -> 10620
A14: Parkfenntartás | B14: 16590 | C14: 17362 | D14: ='4_melléklet'!F260 -> 17629
A15: Községgazdálkodás | B15: 22206 | C15: 22339 | D15: ='4_melléklet'!F299 -> 17277
A16: Strand | B16: 132 | C16: 132 | D16: ='4_melléklet'!F338 -> 12
A17: Utak, hidak | B17: 2688 | C17: 4766 | D17: ='4_melléklet'!F377 -> 5182
A18: Közterület felügyelet | B18: 960 | C18: 960 | D18: ='4_melléklet'!F416 -> 0
A19: Felszíni vízelvezetés | B19: 2125 | C19: 2125 | D19: ='4_melléklet'!F455 -> 1371
A20: Társadalom és szocpol. Juttatás | B20: 25388 | C20: 25893 | D20: ='4_melléklet'!F732 -> 27218
A21: Átadott pénzeszközök | B21: 21275 | C21: 23228 | D21: ='1_melléklet'!F64 -> 20191
A22: Hiteltörlesztés | B22: 10353 | C22: 10353 | D22: 10353
A23: Felújítás, felhalmozás | B23: 427345 | C23: 500625 | D23: ='1_melléklet'!F68 -> 284947
A24: Intézményfinanszírozás | B24: =660580+1750 -> 662330 | C24: 690930 | D24: ='4_melléklet'!F494+'4_melléklet'!F533+'4_melléklet'!F572+'4_melléklet'!F611+'4_melléklet'!F650+'4_melléklet'!F540 -> 663918
A25: Általános tartalék | B25: 5312 | C25: 176079 | D25: 0
A26: Céltartalék | B26: 52203 | C26: 32785 | D26: 0
A27: Kölcsönök | C27: 20148 | D27: ='1_melléklet'!F66+'1_melléklet'!F67 -> 20148
A28: Aktív elszámolások
A29: Egyéb folyó kiadás
A30: ÖSSZESEN: | B30: =SUM(B8:B29) -> 1420821 | C30: =SUM(C8:C29) -> 1714114 | D30: =SUM(D8:D29) -> 1240601

Sheet 8_mell_eszközök
D1: Ezer forintban!
A2: ESZKÖZÖK | B2: Sorszám | C2: Előző év (nyitó) | D2: Tárgyév | E2: Változás
E3: %-a
A4: 1 | B4: 2 | C4: 3 | D4: 4 | E4: 5
A5: 1. Alapítás-átszervezés aktivált értéke | B5: 01 | E5: =IF(C5<>0,ROUND(D5*100/C5,2),"- ") -> -
A6: 2. Kísérleti fejlesztés aktivált értéke | B6: 02 | E6: =IF(C6<>0,ROUND(D6*100/C6,2),"- ") -> -
A7: 3. Vagyoni értékű jogok | B7: 3 | C7: 172 | D7: 130 | E7: =IF(C7<>0,ROUND(D7*100/C7,2),"- ") -> 75.58
A8: 4. Szellemi termékek | B8: 4 | C8: 679 | D8: 163 | E8: =IF(C8<>0,ROUND(D8*100/C8,2),"- ") -> 24.01
A9: 5. Immateriális javakra adott előlegek | B9: 5 | E9: =IF(C9<>0,ROUND(D9*100/C9,2),"- ") -> -
A10: 6. Immateriális javak értékhelyesbítése | B10: 6 | E10: =IF(C10<>0,ROUND(D10*100/C10,2),"- ") -> -
A11: I. Immateriális javak összesen (01+02+03+04+05+06) | B11: 7 | C11: =SUM(C5:C10) -> 851 | D11: =SUM(D5:D10) -> 293 | E11: =IF(C11<>0,ROUND(D11*100/C11,2),"- ") -> 34.43
A12: 1. Ingatlanok és kapcsolódó vagyoni értékű jogok | B12: 8 | C12: 1348930 | D12: 1340814 | E12: =IF(C12<>0,ROUND(D12*100/C12,2),"- ") -> 99.4
A13: 2. Gépek, berendezések és felszerelések | B13: 9 | C13: 24486 | D13: 23715 | E13: =IF(C13<>0,ROUND(D13*100/C13,2),"- ") -> 96.85
A14: 3. Járművek | B14: 10 | C14: 40958 | D14: 32577 | E14: =IF(C14<>0,ROUND(D14*100/C14,2),"- ") -> 79.54
A15: 4. Tenyészállatok | B15: 11 | E15: =IF(C15<>0,ROUND(D15*100/C15,2),"- ") -> -
A16: 5. Beruházások, felújítások | B16: 12 | C16: 17083 | D16: 85689 | E16: =IF(C16<>0,ROUND(D16*100/C16,2),"- ") -> 501.6
A17: 6. Beruházásra adott előlegek | B17: 13 | E17: =IF(C17<>0,ROUND(D17*100/C17,2),"- ") -> -
A18: 7. Állami készletek, tartalékok | B18: 14 | E18: =IF(C18<>0,ROUND(D18*100/C18,2),"- ") -> -
A19: 8. Tárgyi eszközök értékhelyesbítése | B19: 15 | E19: =IF(C19<>0,ROUND(D19*100/C19,2),"- ") -> -
A20: II. Tárgyi eszközök összesen (08+..+15) | B20: 16 | C20: =SUM(C12:C19) -> 1431457 | D20: =SUM(D12:D19) -> 1482795 | E20: =IF(C20<>0,ROUND(D20*100/C20,2),"- ") -> 103.59
A21: 1. Egyéb tartós részesedés | B21: 17 | C21: 65429 | D21: 88429 | E21: =IF(C21<>0,ROUND(D21*100/C21,2),"- ") -> 135.15
A22: 2. Tartós hitelviszonyt megtestesítő értékpapír | B22: 18 | E22: =IF(C22<>0,ROUND(D22*100/C22,2),"- ") -> -
A23: 3. Tartósan adott kölcsön | B23: 19 | E23: =IF(C23<>0,ROUND(D23*100/C23,2),"- ") -> -
A24: 4. Hosszú lejáratú bankbetétek | B24: 20 | E24: =IF(C24<>0,ROUND(D24*100/C24,2),"- ") -> -
A25: 5. Egyéb hosszú lejáratú követelések | B25: 21 | E25: =IF(C25<>0,ROUND(D25*100/C25,2),"- ") -> -
A26: 6. Befektetett pénzügyi eszközök értékhelyesbítése | B26: 22 | E26: =IF(C26<>0,ROUND(D26*100/C26,2),"- ") -> -
A27: III. Befektetett pénzügyi eszközök összesen (17+..+22) | B27: 23 | C27: =SUM(C21:C26) -> 65429 | D27: =SUM(D21:D26) -> 88429 | E27: =IF(C27<>0,ROUND(D27*100/C27,2),"- ") -> 135.15
A28: 1. Üzemeltetésre kezelésre átadott eszközök | B28: 24 | C28: 582076 | D28: 567766 | E28: =IF(C28<>0,ROUND(D28*100/C28,2),"- ") -> 97.54
A29: 2. Koncesszióba adott eszközök | B29: 25 | E29: =IF(C29<>0,ROUND(D29*100/C29,2),"- ") -> -
A30: 3. Vagyonkezelésbe adott eszközök | B30: 26 | E30: =IF(C30<>0,ROUND(D30*100/C30,2),"- ") -> -
A31: 4. Vagyonkezelésbe vett eszközök | B31: 27 | E31: =IF(C31<>0,ROUND(D31*100/C31,2),"- ") -> -
A32: 5. Üzemeltetésre, kezelésre átadott koncesszióba adott, vagyonkezelésbe vett eszközök értékhelyesbítése | B32: 28 | E32: =IF(C32<>0,ROUND(D32*100/C32,2),"- ") -> -
A33: IV. Üzemeltetésre, kezelésre átadott, koncesszióba adott vagyonkezelésbe vett eszközök (24+…+28) | B33: 29 | C33: =SUM(C28:C32) -> 582076 | D33: =SUM(D28:D32) -> 567766 | E33: =IF(C33<>0,ROUND(D33*100/C33,2),"- ") -> 97.54
A34: A) BEFEKTETETT ESZKÖZÖK ÖSSZESEN (07+16+23+29) | B34: 30 | C34: =C11+C20+C27+C33 -> 2079813 | D34: =D11+D20+D27+D33 -> 2139283 | E34: =IF(C34<>0,ROUND(D34*100/C34,2),"- ") -> 102.86
A35: 1. Anyagok | B35: 31 | C35: 698 | D35: 563 | E35: =IF(C35<>0,ROUND(D35*100/C35,2),"- ") -> 80.66
A36: 2. Befejezetlen termelés és félkész termékek | B36: 32 | E36: =IF(C36<>0,ROUND(D36*100/C36,2),"- ") -> -
A37: 3. Növendék-, hízó és egyéb állatok | B37: 33 | E37: =IF(C37<>0,ROUND(D37*100/C37,2),"- ") -> -
A38: 4. Késztermékek | B38: 34 | E38: =IF(C38<>0,ROUND(D38*100/C38,2),"- ") -> -
A39: 5. Áruk, betétdíjas göngyölegek, közvetített szolgáltatásokés követelés fejében átvett eszközök, készletek | B39: 35 | E39: =IF(C39<>0,ROUND(D39*100/C39,2),"- ") -> -
A40: I. Készletek összesen (31+..+35) | B40: 36 | C40: =SUM(C35:C39) -> 698 | D40: =SUM(D35:D39) -> 563 | E40: =IF(C40<>0,ROUND(D40*100/C40,2),"- ") -> 80.66
...

Sheet 8_mell_források
D1: Ezer forintban!
A2: FORRÁSOK | B2: Sorszám | C2: Előző év (nyitó) | D2: Tárgyév | E2: Változás
E3: %-a
A4: 1 | B4: 2 | C4: 3 | D4: 4 | E4: 5
A5: 1. Induló tőke (411.) | B5: 60 | C5: 92397 | D5: 92397 | E5: =IF(C5<>0,ROUND(D5*100/C5,2),"- ") -> 100
A6: 2. Tőkeváltozások (412.) | B6: 61 | C6: 1543220 | D6: 1817386 | E6: =IF(C6<>0,ROUND(D6*100/C6,2),"- ") -> 117.77
A7: 3. Értékelési tartalék (417.) | B7: 62 | E7: =IF(C7<>0,ROUND(D7*100/C7,2),"- ") -> -
A8: D) SAJÁT TŐKE ÖSSZESEN (60+61+62) | B8: 63 | C8: =SUM(C5:C7) -> 1635617 | D8: =SUM(D5:D7) -> 1909783 | E8: =IF(C8<>0,ROUND(D8*100/C8,2),"- ") -> 116.76
A9: 1. Költségvetési tartalék elszámolása | B9: 64 | C9: 494777 | D9: 488177 | E9: =IF(C9<>0,ROUND(D9*100/C9,2),"- ") -> 98.67
A10: 2. Költségvetési pénzmaradvány | B10: 65 | E10: =IF(C10<>0,ROUND(D10*100/C10,2),"- ") -> -
A11: 3. Kiadási megtakarítás | B11: 66 | E11: =IF(C11<>0,ROUND(D11*100/C11,2),"- ") -> -
A12: 4. Bevételi lemaradás | B12: 67 | E12: =IF(C12<>0,ROUND(D12*100/C12,2),"- ") -> -
A13: 5. Előirányzat-maradvány | B13: 68 | E13: =IF(C13<>0,ROUND(D13*100/C13,2),"- ") -> -
A14: I. Költségvetési tartalékok összesen (64+…+68) | B14: 69 | C14: =SUM(C9:C13) -> 494777 | D14: =SUM(D9:D13) -> 488177 | E14: =IF(C14<>0,ROUND(D14*100/C14,2),"- ") -> 98.67
A15: 1. Vállalkozási tartalék elszámolása | B15: 70 | E15: =IF(C15<>0,ROUND(D15*100/C15,2),"- ") -> -
A16: 2. Vállalkozási tevékenység eredménye | B16: 71 | E16: =IF(C16<>0,ROUND(D16*100/C16,2),"- ") -> -
A17: 3. Vállalkozási tevékenység kiadási megtakarítása | B17: 72 | E17: =IF(C17<>0,ROUND(D17*100/C17,2),"- ") -> -
A18: 4. Vállalkozási tevékenység bevételi lemaradása | B18: 73 | E18: =IF(C18<>0,ROUND(D18*100/C18,2),"- ") -> -
A19: II. Vállalkozási tartalékok összesen (70+…+73) | B19: 74 | C19: =SUM(C15:C18) -> 0 | D19: =SUM(D15:D18) -> 0 | E19: =IF(C19<>0,ROUND(D19*100/C19,2),"- ") -> -
A20: E) TARTALÉKOK ÖSSZESEN (69+74) | B20: 75 | C20: =C14+C19 -> 494777 | D20: =D14+D19 -> 488177 | E20: =IF(C20<>0,ROUND(D20*100/C20,2),"- ") -> 98.67
A21: 1. Hosszú lejáratra kapott kölcsönök | B21: 76 | E21: =IF(C21<>0,ROUND(D21*100/C21,2),"- ") -> -
A22: 2. Tartozások fejlesztési célú kötvénykibocsátásból | B22: 77 | E22: =IF(C22<>0,ROUND(D22*100/C22,2),"- ") -> -
A23: 3. Tartozások működési célú kötvénykibocsátásból | B23: 78
A24: 4. Beruházási és fejlesztési célú hitelek | B24: 79 | C24: 238125 | D24: 217418 | E24: =IF(C24<>0,ROUND(D24*100/C24,2),"- ") -> 91.3
A25: 5. Egyéb hosszú lejáratú kötelezettségek | B25: 80 | E25: =IF(C25<>0,ROUND(D25*100/C25,2),"- ") -> -
A26: I. Hosszú lejáratú kötelezettségek összesen (76+..+80) | B26: 81 | C26: =SUM(C21:C25) -> 238125 | D26: =SUM(D21:D25) -> 217418 | E26: =IF(C26<>0,ROUND(D26*100/C26,2),"- ") -> 91.3
A27: 1. Rövid lejáratú kölcsönök | B27: 82 | E27: =IF(C27<>0,ROUND(D27*100/C27,2),"- ") -> -
A28: 2. Rövid lejáratú hitelek | B28: 83 | E28: =IF(C28<>0,ROUND(D28*100/C28,2),"- ") -> -
A29: 3. Kötelezettségek áruszállításból és szolgáltatásból (szállítók) | B29: 84 | C29: 103433 | D29: 10824 | E29: =IF(C29<>0,ROUND(D29*100/C29,2),"- ") -> 10.46
A30: Ebből: - tárgyévi költségvetést terhelő szállítói kötelezettségek | B30: 85 | C30: 103433 | D30: 10824 | E30: =IF(C30<>0,ROUND(D30*100/C30,2),"- ") -> 10.46
A31: - tárgyévet követő évet terhelő szállítói kötelezettségek | B31: 86 | C31: 0 | D31: 0 | E31: =IF(C31<>0,ROUND(D31*100/C31,2),"- ") -> -
A32: 4. Egyéb rövid lejáratú kötelezettségek | B32: 87 | C32: 124497 | D32: 46548 | E32: =IF(C32<>0,ROUND(D32*100/C32,2),"- ") -> 37.39
A33: Ebből: - váltótartozások | B33: 88 | E33: =IF(C33<>0,ROUND(D33*100/C33,2),"- ") -> -
A34: - munkaválalókkal szembeni kötelezettségek | B34: 89 | E34: =IF(C34<>0,ROUND(D34*100/C34,2),"- ") -> -
A35: - költségvetéssel szembeni kötelezettségek | B35: 90 | E35: =IF(C35<>0,ROUND(D35*100/C35,2),"- ") -> -
A36: - iparűzési adó feltöltés miatti kötelezettség | B36: 91 | C36: 98587 | D36: 15800 | E36: =IF(C36<>0,ROUND(D36*100/C36,2),"- ") -> 16.03
A37: - helyi adó túlfizetés | B37: 92 | C37: 15122 | D37: 19972 | E37: =IF(C37<>0,ROUND(D37*100/C37,2),"- ") -> 132.07
A38: - szabálytalan kifizetések miatti kötelezettségek | B38: 93 | E38: =IF(C38<>0,ROUND(D38*100/C38,2),"- ") -> -
A39: - beruházási, fejlesztési hitelek (kötvények) következő évet terhelő törlesztő részletei | B39: 94 | C39: 10353 | D39: 10353 | E39: =IF(C39<>0,ROUND(D39*100/C39,2),"- ") -> 100
A40: - felhalmozási célú kötvénykibocsátásból származó tartozások következő évet terhelő törlesztő részletei | B40: 95 | E40: =IF(C40<>0,ROUND(D40*100/C40,2),"- ") -> -
...

Sheet 9_melléklet
A1: 8/2009. (IV.24. ) önk. rendelet 9. sz. melléklete
C3: Az önkományzat által felvett hitelállomány alakulása
D4: lejárat és eszközök szerinti bontásban
G5: Ezer forintban
C6: Felvétel | D6: Lejárat
A7: Sor | B7: Hitel jellege | F7: Hitel állomány január 1-jén
A8: szám | C8: éve | E8: 2008. | F8: 2009. | G8: 2010. | H8: 2011. után
A9: 1 | B9: 2 | C9: 3 | D9: 4 | E9: 5 | F9: 6 | G9: 7 | H9: 8
A10: 1. | B10: Működési célú
A11: 2. | B11: ………………………….
A12: 3. | B12: ………………………….
A13: 4. | B13: ………………………….
A14: 5. | B14: …………………………..
A15: 6. | B15: Felhalmozási célú | E15: =E16 -> 248478 | F15: =F16 -> 227771 | G15: =G16 -> 207065 | H15: =H16 -> 186359
A16: 7. | B16: Japán hitel | C16: 1994. | D16: 2019. | E16: 248478 | F16: 227771 | G16: 207065 | H16: 186359
A17: 8. | B17: …………………………..
A18: 9. | B18: …………………………..
A19: 10. | B19: …………………………..
A20: 11. | B20: Összesen (1+6) | E20: =SUM(E16+E10) -> 248478 | F20: =SUM(F16+F10) -> 227771 | G20: =SUM(G16+G10) -> 207065 | H20: =SUM(H16+H10) -> 186359

Sheet 10_melléklet
C1: 8/2009.(IV.24.) sz. önk. rendelet 10. számú melléklete
A3: Az önkormányzat által adott közvetett támogatások
A4: (kedvezmények)
D5: ezer Ft-ban !
A6: Sor- | C6: Tényleges | D6: Adott kedvezmények
A7: szám | B7: Bevételi jogcím | C7: bevétel | D7: összege
A8: 1 | B8: 2 | C8: 3 | D8: 4
A9: 1. | B9: Iparűzési adó | C9: 475776 | D9: 2470
A10: 2.
A11: 3.
A12: 4.
A13: 5.
A14: 6.
A15: 7.
A16: 8.
A17: 9.
A18: 10.
A19: 11. | B19: Összesen: | C19: =SUM(C9:C18) -> 475776 | D19: =SUM(D9:D18) -> 2470
