Workbook

Sheet 1_melléklet
B1: 5/2006.(III.27.) önk. rendelet 1. számú melléklete
B2: Pétfürdői Önkormányzat
B3: 2005.ÉVI KÖLTSÉGVETÉSÉNEK
B4: PÉNZÜGYI MÉRLEGE
B7: BEVÉTELEK
A8: Sor- | B8: Bevételi jogcím | C8: 2001.évi | D8: 2005.évi | E8: 2005.évi | F8: 2005.évi
A9: szám | C9: tény | D9: előirányzat | E9: mód.ei.IV. | F9: teljesítés
A10: 1. | B10: 1.Saját bevételek | C10: =SUM(C11+C12+C13+C14+C15+C16+C22+C23+C24) -> 392421 | D10: =SUM(D11+D12+D13+D14+D15+D16+D22+D23+D24) -> 415340 | E10: =SUM(E11+E12+E13+E14+E15+E16+E22+E23+E24) -> 580421 | F10: =SUM(F11+F12+F13+F14+F15+F16+F22+F23+F24) -> 579652
A11: 2. | B11: A/ Alaptevékenység bevételei | C11: 12280 | D11: 20126 | E11: 22254 | F11: 20276
A12: 3. | B12: B/ Alaptevékenység egyéb bevételei | C12: 2933 | D12: 1814 | E12: 1814 | F12: 2574
A13: 4. | B13: C/ Intézmények egyéb sajátos bevételei | C13: 26250 | E13: 41442 | F13: 41442
A14: 5. | B14: D/ Vállalkozási bevételek
A15: 6. | B15: E/ Kamatbevételek | D15: 10000 | E15: 13724 | F15: 13724
A16: 7. | B16: F/ Helyi adók | C16: =SUM(C17:C21) -> 346893 | D16: =SUM(D17:D21) -> 333400 | E16: =SUM(E17:E21) -> 451156 | F16: =SUM(F17:F21) -> 451156
A17: 8. | B17: Építményadó | C17: 58036 | D17: 101500 | E17: 100468 | F17: 100468
A18: 9. | B18: Telekadó
A19: 10. | B19: Kommunális adó | C19: 6205 | D19: 8400 | E19: 7923 | F19: 7923
A20: 11. | B20: Idegenforgalmi adó / PÓTLÉK,BÍRSÁG | C20: 268 | E20: 1919 | F20: 1919
A21: 12. | B21: Iparűzési adó | C21: 282384 | D21: 223500 | E21: 340846 | F21: 340846
A22: 13. | B22: G/ Illetékek
A23: 14. | B23: H/ Önkormányzatok sajátos működési bevételei | C23: 210 | E23: 31 | F23: 30
A24: 15. | B24: I/ Felhalmozási és tőke jellegű bevételei | C24: 3855 | D24: 50000 | E24: 50000 | F24: 50450
A25: 16. | B25: II.Átengedett,megosztott bevételek | C25: =SUM(C26+C30+C31) -> 170501 | D25: =SUM(D26+D31+D29+D30) -> 345026 | E25: =SUM(E26+E30+E31+E29) -> 330311 | F25: =SUM(F26+F30+F31+F29) -> 320622
A26: 17. | B26: A/ Személyi jövedelemadó | C26: 165811 | D26: =SUM(D27+D28) -> 47606 | E26: =SUM(E27+E28) -> 29780 | F26: =SUM(F27+F28) -> 20091
A27: 18. | B27: Helyben maradó rész | C27: 25768 | D27: 56163 | E27: 56163 | F27: 46474
A28: 19. | B28: Kiegészítés | C28: -18439 | D28: -8557 | E28: -26383 | F28: -26383
A29: 20. | B29: Normatív részesedés | C29: 158482 | D29: 281420 | E29: 281421 | F29: 281421
A30: 21. | B30: B/ Termőföld bérbeadása utáni adó
A31: 22. | B31: C/ Gépjárműadó | C31: 4690 | D31: 16000 | E31: 19110 | F31: 19110
A32: 23. | B32: III. Átvett pénzeszközök | C32: =SUM(C33:C37) -> 27037 | D32: =SUM(D33:D37) -> 30419 | E32: =SUM(E33:E37) -> 18428 | F32: =SUM(F33:F37) -> 20877
A33: 24. | B33: Egészségbizosítási Alaptól átvett pénzeszk. | C33: 1988 | D33: 3492 | E33: 5659 | F33: 5659
A34: 25. | B34: Elkülönített állami pénzalapoktól átvett | C34: 2458 | D34: 6057 | E34: 6350 | F34: 6736
A35: 26. | B35: Központi(fejezettől ) átvett pénze. | C35: 14055 | D35: 20870 | E35: 6341 | F35: 8404
A36: 27. | B36: Költségvetési kiegészítések, visszatérítések
A37: 28. | B37: Egyéb átvett pénzeszköz | C37: 8536 | E37: 78 | F37: 78
A38: 29. | B38: IV. Állami hozzájárulások és támogatások | C38: =SUM(C39:C46) -> 198000 | D38: =SUM(D39:D46) -> 136749 | E38: =SUM(E39:E46) -> 172452 | F38: =SUM(F39:F46) -> 172452
A39: 30. | B39: Normatív állami támogatás | C39: 75296 | D39: 129825 | E39: 145324 | F39: 145324
A40: 31. | B40: Normatív kötött felhasználású tám. | C40: 45934 | D40: 6210 | E40: 26414 | F40: 26414
A41: 32. | B41: Színházi támogatások | C41: 21864
A42: 33. | B42: Címzett és céltámogatások
...

Sheet 7_melléklet
B2: ____ önk. rendelet 7. számú melléklete | C2: 5/2006.(III.27.) önk. rendelet 7. számú melléklete
A3: Polgármesteri Hivatal kiadási előirányzatai
A4: feladatonként
B6: 2005.évi | C6: 2005.évi | D6: 2005.évi
A7: KIADÁSI JOGCÍMEK | B7: eredeti előirányzat | C7: mód.ei. IV. | D7: teljesítés
A8: Polgármesteri Hivatal igazgatási feladatok | B8: =SUM('4_melléklet'!D24) -> 120412 | C8: =SUM('4_melléklet'!E24) -> 128248 | D8: =SUM('4_melléklet'!F24) -> 124285
A9: Rendszeres pénzbeli ellátás | B9: =SUM('4_melléklet'!D78) -> 817 | C9: =SUM('4_melléklet'!E78) -> 817 | D9: =SUM('4_melléklet'!F78) -> 607
A10: Állategészségügyi feladatok | B10: =SUM('4_melléklet'!D133) -> 200 | C10: =SUM('4_melléklet'!E133) -> 207 | D10: =SUM('4_melléklet'!F133) -> 164
A11: Közvilágítás | B11: =SUM('4_melléklet'!D188) -> 8500 | C11: =SUM('4_melléklet'!E188) -> 13644 | D11: =SUM('4_melléklet'!F188) -> 10863
A12: Köztemető | B12: =SUM('4_melléklet'!D243) -> 3249 | C12: =SUM('4_melléklet'!E243) -> 4710 | D12: =SUM('4_melléklet'!F243) -> 5232
A13: Köztisztasági tevékenység | B13: =SUM('4_melléklet'!D298) -> 17149 | C13: =SUM('4_melléklet'!E298) -> 20931 | D13: =SUM('4_melléklet'!F298) -> 9752
A14: Parkfenntartás | B14: =SUM('4_melléklet'!D353) -> 12231 | C14: =SUM('4_melléklet'!E353) -> 18172 | D14: =SUM('4_melléklet'!F353) -> 17535
A15: Községgazdálkodás | B15: =SUM('4_melléklet'!D408) -> 17841 | C15: =SUM('4_melléklet'!E408) -> 19323 | D15: =SUM('4_melléklet'!F408) -> 19314
A16: Strand | B16: =SUM('4_melléklet'!D463) -> 69 | C16: =SUM('4_melléklet'!E463) -> 5392 | D16: =SUM('4_melléklet'!F463) -> 1694
A17: Utak, hidak | B17: =SUM('4_melléklet'!D518) -> 13750 | C17: =SUM('4_melléklet'!E518) -> 9989 | D17: =SUM('4_melléklet'!F518) -> 4618
A18: Társadalom és szocpol. Juttatás | B18: =SUM('1_melléklet'!D78) -> 29000 | C18: =SUM('1_melléklet'!E78) -> 29389 | D18: =SUM('1_melléklet'!F78) -> 29823
A19: Cigány kisebbségi Önkormányzat | B19: =SUM('4_melléklet'!D851) -> 714 | C19: =SUM('4_melléklet'!E851) -> 714 | D19: =SUM('4_melléklet'!F851) -> 712
A20: Átadott pénzeszközök | B20: =SUM('1_melléklet'!D65) -> 18818 | C20: =SUM('1_melléklet'!E65) -> 21109 | D20: =SUM('1_melléklet'!F65) -> 14545
A21: Hiteltörlesztés | B21: =SUM('1_melléklet'!D89) -> 20706 | C21: =SUM('1_melléklet'!E89) -> 20706 | D21: 20706
A22: Felújítás, felhalmozás | B22: =SUM('1_melléklet'!D69) -> 219318 | C22: 162784 | D22: 142918
A23: Intézményfinanszírozás | B23: =SUM('4_melléklet'!D574,'4_melléklet'!D628,'4_melléklet'!D632,'4_melléklet'!D684,'4_melléklet'!D739,'4_melléklet'!D794) -> 558729 | C23: =SUM('4_melléklet'!E574,'4_melléklet'!E628,'4_melléklet'!E632,'4_melléklet'!E684,'4_melléklet'!E739,'4_melléklet'!E794) -> 574079 | D23: 554175
A24: Általános tartalék | C24: 121711
A25: Céltartalék | B25: =SUM('1_melléklet'!D82) -> 28474 | C25: 112892
A26: Aktív eslzámolások | D26: 1295
A27: Egyéb folyó kiadás | B27: =SUM('1_melléklet'!D64) -> 0 | C27: =SUM('1_melléklet'!E64) -> 15804 | D27: 8303
A28: ÖSSZESEN: | B28: =SUM(B8:B27) -> 1069977 | C28: =SUM(C8:C27) -> 1280621 | D28: =SUM(D8:D27) -> 966541

Sheet 4_melléklet
C2: 5/2006.(III.27.) önk. rendelet 4/1-18. számú mellékletei
F4: 4/1.melléklet
A5: Cím neve, száma | C5: Polgármesteri Hivatal | E5: 1
A6: Alcím neve, száma | C6: Igazgatási tevékenység
A8: Előirányzat | B8: Kiemelt | D8: 2005. | E8: 2005. | F8: 2005.
A9: csoport | B9: előirányzat | C9: Előirányzat-csoport, kiemelt előirányzat | D9: Előirányzat | E9: előir.mód. | F9: teljesítés
C10: megnevezése | E10: IV.
A11: 1 | B11: 2 | C11: 3 | D11: 4 | E11: 5 | F11: 6
C12: Bevételek
A13: 1 | C13: Saját bevételek | D13: =SUM(D14:D17) -> 11638 | E13: =SUM(E14:E17) -> 14060 | F13: =SUM(F14:F17) -> 10997
B14: 1 | C14: Alaptevékenység bevételei | D14: 11638 | E14: 11638 | F14: 8575
B15: 2 | C15: Intézményi bevételek
B16: 3 | C16: Vállalkozási bevételek
B17: 4 | C17: Pénzmaradvány | E17: 2422 | F17: 2422
A18: 2 | C18: Átvett pénzeszközök | D18: =SUM(D19:D20) -> 43071 | E18: =SUM(E19:E20) -> 43071 | F18: =SUM(F19:F20) -> 43071
B19: 1 | C19: Működési célra átvett pénzeszközök | D19: 43071 | E19: 43071 | F19: 43071
B20: 2 | C20: Felhalmozási célra átvett pénzeszközök
A21: 3 | C21: Önkormányzati támogatás | D21: 180778 | E21: 110362 | F21: 102299
C22: BEVÉTELEK ÖSSZESEN | D22: =SUM(D13+D18+D21) -> 235487 | E22: =SUM(E13+E18+E21) -> 167493 | F22: =SUM(F13+F18+F21) -> 156367
C23: Kiadások
A24: 4 | C24: Működési kiadások | D24: =SUM(D25:D27) -> 120412 | E24: =SUM(E25:E27) -> 128248 | F24: =SUM(F25:F27) -> 124285
B25: 1 | C25: Személyi juttatások | D25: 71841 | E25: 75269 | F25: 74596
B26: 2 | C26: Munkaadókat terhelő járulékok | D26: 20890 | E26: 21793 | F26: 21774
B27: 3 | C27: Dologi kiadások | D27: 27681 | E27: 31186 | F27: 27915
A28: 5 | C28: Speciális célú támogatások | D28: =SUM(D29:D31) -> 0
B29: 1 | C29: Társadalom és szociálpolitikai juttatások
B30: 2 | C30: Működési célú pénzeszközátadás
B31: 3 | C31: Ellátottak pénzbeli juttatása
C32: KIADÁSOK összesen | D32: =SUM(D24+D28) -> 120412 | E32: =SUM(E24+E28) -> 128248 | F32: =SUM(F24+F28) -> 124285
C33: Felhalmozási célú kiadások | D33: =SUM(D34:D36) -> 115075 | E33: =SUM(E34:E36) -> 38236 | F33: =SUM(F34:F36) -> 32082
B34: 1 | C34: Beruházási kiadások | D34: 115075 | E34: 9986 | F34: 5095
B35: 2 | C35: Felújítások kiadásai
B36: 3 | C36: Egyéb fejlesztési célú kiadások | E36: 28250 | F36: 26987
C37: KIADÁSOK ÖSSZESEN | D37: =SUM(D32:D33) -> 235487 | E37: =SUM(E32:E33) -> 166484 | F37: =SUM(F32:F33) -> 156367
A38: Létszámkeret/átlagos álományi létszám / fő | D38: 23 | E38: 23 | F38: 23
E58: 4/2.melléklet
A59: Cím neve, száma | C59: Polgármesteri Hivatal | E59: 1
A60: Alcím neve, száma | C60: Rendszeres pénzbeli ellátás
A62: Előirányzat | B62: Kiemelt | D62: 2005. | E62: 2005. | F62: 2005.
A63: csoport | B63: előirányzat | C63: Előirányzat-csoport, kiemelt előirányzat | D63: Előirányzat | E63: előir.mód. | F63: teljesítés
...

Sheet 6_melléklet
D2: 5/2006.(III.27.) önk. rendelet 6. számú. melléklete
B3: Felújítási kiadások
B4: előirányzata feladatonként
A6: Felújítás megnevezése | B6: Teljes | C6: Kivitelezés | D6: Felhasználás | E6: 2005.évi
B7: költség | C7: kezdési és | D7: 2004. XII.31-ig | E7: előirányzat | F7: 2005.évi | G7: 2005.évi
B8: e Ft | C8: befejezési éve | F8: IV.módosítás | G8: teljesítés
A9: 1 | B9: 2 | C9: 3 | D9: 4 | E9: 5 | F9: 7 | G9: 7
A10: Óvoda | B10: 6250 | E10: 6250 | F10: 5330 | G10: =SUM(G11) -> 5290
A11: ablakcsere | B11: 6250 | E11: 6250 | F11: 5330 | G11: 5290
A12: Iskola | B12: 13175 | C12: 0 | D12: 0 | E12: 13175 | F12: =SUM(F13:F24) -> 13577 | G12: =SUM(G13:G24) -> 13512
A13: központi épület ablakcsere | B13: 6250 | E13: 6250 | F13: 5199 | G13: 5199
A14: központi épület öltöző, orvosi szoba(fal) | B14: 1875 | E14: 1875 | F14: 1471 | G14: 1471
A15: központi épület ebédlő (fal) | B15: 425 | E15: 425 | F15: 384 | G15: 384
A16: központi épület tanterem padlócsere | B16: 375 | E16: 375 | F16: 300 | G16: 300
A17: központi épület könyvtár radiátorcsere | B17: 125 | E17: 125 | F17: 123 | G17: 123
A18: központi épület alagsor elektr.hálózat felúj. | B18: 375 | E18: 375 | F18: 333 | G18: 333
A19: sport udvar aszfaltpálya felújítása | B19: 625 | E19: 625 | F19: 3017 | G19: 2952
A20: közp iskola fénymásoló javítás | F20: 152 | G20: 152
A21: közp.iskola könyvtár parketta javítás | F21: 257 | G21: 257
A22: közp.iskola könyvtár fal | F22: 300 | G22: 300
A23: alsó tagozat tornaterem parkettacsere | B23: 625 | E23: 625 | F23: 625 | G23: 625
A24: alsó tagozat elektr.hálózat felújítás | B24: 2500 | E24: 2500 | F24: 1416 | G24: 1416
A25: Közösségi Ház és Könyvtár | B25: 4246 | C25: 0 | D25: 0 | E25: 4246 | F25: =SUM(F26:F31) -> 5004 | G25: =SUM(G26:G31) -> 2295
A26: számítógép felújítás | F26: 237 | G26: 237
A27: terasz szigetelés | B27: 1500 | E27: 1500 | F27: 1096 | G27: 1096
A28: főbejárat lépcső | B28: 434 | E28: 434 | F28: 354 | G28: 332
A29: alagsori mosdók felújítása | F29: 925 | G29: 325
A30: harmonika ajtó (előző évi pm.terhére) | F30: 80 | G30: 80
A31: fűtéskorszerűsítés ( 2004.évi célt.) | B31: 2312 | E31: 2312 | F31: 2312 | G31: 225
A32: Gondozási Központ | B32: 250 | E32: 250 | F32: 295 | G32: =SUM(G33) -> 295
A33: Családsegítő járda felújítás (bejáró) | B33: 250 | E33: 250 | F33: 295 | G33: 295
A34: Tűzoltóság | B34: 1500 | E34: 1500 | F34: =SUM(F35:F38) -> 2919 | G34: =SUM(G35:G38) -> 1383
A35: műhely tetőszerkezet | B35: 1500 | E35: 1500
A36: Scandoor kapuk javítása
A37: laktanya járólapozása | F37: 1500
A38: Fürdő-mosdó felújítása | F38: 1419 | G38: 1383
A39: Községgazdálkodás | B39: 125 | E39: 125 | F39: 0 | G39: 0
A40: Bocskai u.47-49. Gázvezeték és doboz áthelyezése | B40: 125 | E40: 125
A41: Utak,hidak, árkok | B41: 3750 | C41: 0 | D41: 0 | E41: 3750 | F41: 7941 | G41: =SUM(G42:G44) -> 4191
A42: hidak 3 db | B42: 1250 | E42: 1250 | F42: 1250
...

Sheet 5_melléklet
B2: Beruházási kiadások | D2: 5/2006.(III.27.) önk. rendelet 5. számú melléklete
B3: előirányzata célonként
A5: Beruházás megnevezése | B5: Teljes | C5: Kivitelezés | D5: Felhasználás | E5: 2005.évi
B6: költség | C6: kezdési és | D6: 2004. XII.31-ig | E6: előirányzat | F6: 2005.évi | G6: 2005.évi
B7: igény | C7: befejezési éve | F7: IV.módosítás | G7: teljesítés
A8: 1 | B8: 2 | C8: 3 | D8: 4 | E8: 5
A9: Tűzoltóság | B9: =SUM(B10) -> 125 | E9: =SUM(E10) -> 125 | F9: =SUM(F10:F13) -> 1740 | G9: =SUM(G10:G13) -> 1647
A10: Laktanya építészeti és statikai felülv. | B10: 125 | E10: 125 | F10: 0
A11: 2 db MOTOROLA kárhely rádió | F11: 240 | G11: 240
A12: számítógéppark | F12: 1500 | G12: 1407
A13: Pályázati tartalék vízszállítóra | F13: 0
A14: Iskola | B14: =SUM(B15:B21) -> 3381 | C14: =SUM(C15:C21) -> 0 | D14: =SUM(D15:D21) -> 0 | E14: =SUM(E15:E21) -> 3381 | F14: =SUM(F15:F21) -> 3214 | G14: =SUM(G15:G21) -> 2781
A15: Iskola alsó tagozat elektr.hálózat felúj.tervezése | B15: 313 | E15: 313 | F15: 0
A16: központi épület tálaló HACCP szaniter csere | B16: 88 | E16: 88 | F16: 74 | G16: 74
A17: központi épület könyvtár számítógép asztal | B17: 75 | E17: 75 | F17: 58 | G17: 58
A18: polcrendszer | B18: 475 | E18: 475 | F18: 500 | G18: 500
A19: központi épület tanári szekrénysor | B19: 430 | E19: 430 | F19: 344 | G19: 344
A20: nyelvi labor beszerzés (773 e Ft normatíva) | B20: 1125 | E20: 1125 | F20: 1125 | G20: 1125
A21: informatikai fejlesztés ( 687 e Ft normatíva) | B21: 875 | E21: 875 | F21: 1113 | G21: 680
A22: Óvoda | B22: =SUM(B23:B24) -> 1300 | C22: =SUM(C23:C24) -> 0 | D22: =SUM(D23:D24) -> 0 | E22: =SUM(E23:E24) -> 1300 | F22: =SUM(F23:F24) -> 680 | G22: =SUM(G23:G24) -> 680
A23: bútorok | B23: 1000 | E23: 1000 | F23: 392 | G23: 392
A24: számítógép + szoftver | B24: 300 | E24: 300 | F24: 288 | G24: 288
A25: Közösségi Ház és Könyvtár | B25: =SUM(B26:B28) -> 576 | C25: =SUM(C26:C28) -> 0 | D25: =SUM(D26:D28) -> 0 | E25: =SUM(E26:E28) -> 576 | F25: =SUM(F26:F28) -> 263 | G25: =SUM(G26:G28) -> 157
A26: 2 db számítógép (ADSL) | B26: 313 | D26: =SUM(D27:D29) -> 0 | E26: 313 | F26: 0
A27: program újsághoz | B27: 200 | E27: 200 | F27: 200 | G27: 157
A28: Közösségi Ház terasz felülvizsgálat | B28: 63 | E28: 63 | F28: 63
A29: Gondozási Központ | B29: =SUM(B31:B32) -> 213 | C29: =SUM(C31:C32) -> 0 | D29: =SUM(D31:D32) -> 0 | E29: =SUM(E31:E32) -> 213 | F29: =SUM(F30:F32) -> 308 | G29: =SUM(G30:G32) -> 0
A30: audiometer | F30: 245
A31: Bölcsőde locsolócsap vízmérő | B31: 63 | E31: 63 | F31: 63
A32: Védőnők mérleg | B32: 150 | E32: 150
A33: Polgármesteri Hivatal | B33: =SUM(B34:B46) -> 86325 | C33: =SUM(C34:C46) -> 0 | D33: =SUM(D34:D46) -> 0 | E33: =SUM(E34:E46) -> 86325 | F33: =SUM(F34:F46) -> 9986 | G33: =SUM(G34:G46) -> 5095
A34: Fogorvosi rendelő(fotopolimerizációs lámpa) | B34: 225 | E34: 225 | F34: 199 | G34: 199
A35: szociális program | B35: 400 | E35: 400 | F35: 246 | G35: 246
A36: 2 számítógép + monitor | B36: 313 | E36: 313 | F36: 288 | G36: 288
A37: takarítógép | B37: 75 | E37: 75 | F37: 0
A38: iratmegsemmesítő | B38: 212 | E38: 212 | F38: 121 | G38: 121
A39: anyakönyvi kellékek | F39: 59 | G39: 59
A40: iratkezelő program | F40: 300
A41: nyomtató 2 db EPSON | B41: 225 | E41: 225 | F41: 178 | G41: 179
A42: Polgármesteri Hivatal építés | B42: 75000 | E42: 75000 | F42: 0
...

Sheet 8_mell_források
D1: Ezer forintban!
A2: FORRÁSOK | B2: Sorszám | C2: Előző év (nyitó) | D2: Tárgyév | E2: Változás
C3: állományi érték | E3: %-a
A4: 1 | B4: 2 | C4: 3 | D4: 4 | E4: 5
A5: 1. Induló tőke (411.) | B5: 60 | C5: 92397 | D5: 92397 | E5: =IF(C5<>0,ROUND(D5*100/C5,2),"- ") -> 100
A6: 2. Tőkeváltozások (412.) | B6: 61 | C6: 1433647 | D6: 1502792 | E6: =IF(C6<>0,ROUND(D6*100/C6,2),"- ") -> 104.82
A7: 3. Értékelési tartalék (417.) | B7: 62 | E7: =IF(C7<>0,ROUND(D7*100/C7,2),"- ") -> -
A8: D) SAJÁT TŐKE ÖSSZESEN (60+61+62) | B8: 63 | C8: =SUM(C5:C7) -> 1526044 | D8: =SUM(D5:D7) -> 1595189 | E8: =IF(C8<>0,ROUND(D8*100/C8,2),"- ") -> 104.53
A9: 1. Költségvetési tartalék elszámolása | B9: 64 | C9: 179009 | D9: 307364 | E9: =IF(C9<>0,ROUND(D9*100/C9,2),"- ") -> 171.7
A10: 2. Költségvetési pénzmaradvány | B10: 65 | E10: =IF(C10<>0,ROUND(D10*100/C10,2),"- ") -> -
A11: 3. Kiadási megtakarítás | B11: 66 | E11: =IF(C11<>0,ROUND(D11*100/C11,2),"- ") -> -
A12: 4. Bevételi lemaradás | B12: 67 | E12: =IF(C12<>0,ROUND(D12*100/C12,2),"- ") -> -
A13: 5. Előirányzat-maradvány | B13: 68 | E13: =IF(C13<>0,ROUND(D13*100/C13,2),"- ") -> -
A14: I. Költségvetési tartalékok összesen (64+…+68) | B14: 69 | C14: =SUM(C9:C13) -> 179009 | D14: =SUM(D9:D13) -> 307364 | E14: =IF(C14<>0,ROUND(D14*100/C14,2),"- ") -> 171.7
A15: 1. Vállalkozási tartalék elszámolása | B15: 70 | E15: =IF(C15<>0,ROUND(D15*100/C15,2),"- ") -> -
A16: 2. Vállalkozási tevékenység eredménye | B16: 71 | E16: =IF(C16<>0,ROUND(D16*100/C16,2),"- ") -> -
A17: 3. Vállalkozási tevékenység kiadási megtakarítása | B17: 72 | E17: =IF(C17<>0,ROUND(D17*100/C17,2),"- ") -> -
A18: 4. Vállalkozási tevékenység bevételi lemaradása | B18: 73 | E18: =IF(C18<>0,ROUND(D18*100/C18,2),"- ") -> -
A19: II. Vállalkozási tartalékok összesen (70+…+73) | B19: 74 | C19: =SUM(C15:C18) -> 0 | D19: =SUM(D15:D18) -> 0 | E19: =IF(C19<>0,ROUND(D19*100/C19,2),"- ") -> -
A20: E) TARTALÉKOK ÖSSZESEN (69+74) | B20: 75 | C20: =C14+C19 -> 179009 | D20: =D14+D19 -> 307364 | E20: =IF(C20<>0,ROUND(D20*100/C20,2),"- ") -> 171.7
A21: 1. Hosszú lejáratra kapott kölcsönök | B21: 76 | E21: =IF(C21<>0,ROUND(D21*100/C21,2),"- ") -> -
A22: 2. Tartozások fejlesztési célú kötvénykibocsátásból | B22: 77 | E22: =IF(C22<>0,ROUND(D22*100/C22,2),"- ") -> -
A23: 3. Tartozások működési célú kötvénykibocsátásból | B23: 78
A24: 4. Beruházási és fejlesztési célú hitelek | B24: 79 | C24: 289891 | D24: 258832 | E24: =IF(C24<>0,ROUND(D24*100/C24,2),"- ") -> 89.29
A25: 5. Egyéb hosszú lejáratú kötelezettségek | B25: 80 | E25: =IF(C25<>0,ROUND(D25*100/C25,2),"- ") -> -
A26: I. Hosszú lejáratú kötelezettségek összesen (76+..+80) | B26: 81 | C26: =SUM(C21:C25) -> 289891 | D26: =SUM(D21:D25) -> 258832 | E26: =IF(C26<>0,ROUND(D26*100/C26,2),"- ") -> 89.29
A27: 1. Rövid lejáratú kölcsönök | B27: 82 | E27: =IF(C27<>0,ROUND(D27*100/C27,2),"- ") -> -
A28: 2. Rövid lejáratú hitelek | B28: 83 | E28: =IF(C28<>0,ROUND(D28*100/C28,2),"- ") -> -
A29: 3. Kötelezettségek áruszállításból és szolgáltatásból (szállítók) | B29: 84 | C29: 12047 | D29: 10459 | E29: =IF(C29<>0,ROUND(D29*100/C29,2),"- ") -> 86.82
A30: Ebből: - tárgyévi költségvetést terhelő szállítói kötelezettségek | B30: 85 | C30: 12047 | D30: 797 | E30: =IF(C30<>0,ROUND(D30*100/C30,2),"- ") -> 6.62
A31: - tárgyévet követő évet terhelő szállítói kötelezettségek | B31: 86 | D31: 9662 | E31: =IF(C31<>0,ROUND(D31*100/C31,2),"- ") -> -
A32: 4. Egyéb rövid lejáratú kötelezettségek | B32: 87 | C32: 102290 | D32: 39748 | E32: =IF(C32<>0,ROUND(D32*100/C32,2),"- ") -> 38.86
A33: Ebből: - váltótartozások | B33: 88 | E33: =IF(C33<>0,ROUND(D33*100/C33,2),"- ") -> -
A34: - munkaválalókkal szembeni kötelezettségek | B34: 89 | E34: =IF(C34<>0,ROUND(D34*100/C34,2),"- ") -> -
A35: - költségvetéssel szembeni kötelezettségek | B35: 90 | D35: 21 | E35: =IF(C35<>0,ROUND(D35*100/C35,2),"- ") -> -
A36: - iparűzési adó feltöltés miatti kötelezettség | B36: 91 | C36: 68853 | D36: 12114 | E36: =IF(C36<>0,ROUND(D36*100/C36,2),"- ") -> 17.59
A37: - helyi adó túlfizetés | B37: 92 | C37: 4609 | D37: 6516 | E37: =IF(C37<>0,ROUND(D37*100/C37,2),"- ") -> 141.38
A38: - szabálytalan kifizetések miatti kötelezettségek | B38: 93 | E38: =IF(C38<>0,ROUND(D38*100/C38,2),"- ") -> -
A39: - beruházási, fejlesztési hitelek (kötvények) következő évet terhelő törlesztő részletei | B39: 94 | C39: 20707 | D39: 20706 | E39: =IF(C39<>0,ROUND(D39*100/C39,2),"- ") -> 100
A40: - felhalmozási célú kötvénykibocsátásból származó tartozások következő évet terhelő törlesztő részletei | B40: 95 | E40: =IF(C40<>0,ROUND(D40*100/C40,2),"- ") -> -
...

Sheet 8_mell_eszközök
D1: Ezer forintban!
A2: ESZKÖZÖK | B2: Sorszám | C2: Előző év (nyitó) | D2: Tárgyév | E2: Változás
C3: állományi érték | E3: %-a
A4: 1 | B4: 2 | C4: 3 | D4: 4 | E4: 5
A5: 1. Alapítás-átszervezés aktivált értéke | B5: 01 | E5: =IF(C5<>0,ROUND(D5*100/C5,2),"- ") -> -
A6: 2. Kísérleti fejlesztés aktivált értéke | B6: 02 | E6: =IF(C6<>0,ROUND(D6*100/C6,2),"- ") -> -
A7: 3. Vagyoni értékű jogok | B7: 3 | C7: 90 | D7: 257 | E7: =IF(C7<>0,ROUND(D7*100/C7,2),"- ") -> 285.56
A8: 4. Szellemi termékek | B8: 4 | C8: 123 | D8: 1647 | E8: =IF(C8<>0,ROUND(D8*100/C8,2),"- ") -> 1339.02
A9: 5. Immateriális javakra adott előlegek | B9: 5 | E9: =IF(C9<>0,ROUND(D9*100/C9,2),"- ") -> -
A10: 6. Immateriális javak értékhelyesbítése | B10: 6 | E10: =IF(C10<>0,ROUND(D10*100/C10,2),"- ") -> -
A11: I. Immateriális javak összesen (01+02+03+04+05+06) | B11: 7 | C11: =SUM(C5:C10) -> 213 | D11: =SUM(D5:D10) -> 1904 | E11: =IF(C11<>0,ROUND(D11*100/C11,2),"- ") -> 893.9
A12: 1. Ingatlanok és kapcsolódó vagyoni értékű jogok | B12: 8 | C12: 1074428 | D12: 1146568 | E12: =IF(C12<>0,ROUND(D12*100/C12,2),"- ") -> 106.71
A13: 2. Gépek, berendezések és felszerelések | B13: 9 | C13: 26945 | D13: 25138 | E13: =IF(C13<>0,ROUND(D13*100/C13,2),"- ") -> 93.29
A14: 3. Járművek | B14: 10 | C14: 3282 | D14: 1606 | E14: =IF(C14<>0,ROUND(D14*100/C14,2),"- ") -> 48.93
A15: 4. Tenyészállatok | B15: 11 | E15: =IF(C15<>0,ROUND(D15*100/C15,2),"- ") -> -
A16: 5. Beruházások, felújítások | B16: 12 | C16: 14747 | D16: 17351 | E16: =IF(C16<>0,ROUND(D16*100/C16,2),"- ") -> 117.66
A17: 6. Beruházásra adott előlegek | B17: 13 | E17: =IF(C17<>0,ROUND(D17*100/C17,2),"- ") -> -
A18: 7. Állami készletek, tartalékok | B18: 14 | E18: =IF(C18<>0,ROUND(D18*100/C18,2),"- ") -> -
A19: 8. Tárgyi eszközök értékhelyesbítése | B19: 15 | E19: =IF(C19<>0,ROUND(D19*100/C19,2),"- ") -> -
A20: II. Tárgyi eszközök összesen (08+..+15) | B20: 16 | C20: =SUM(C12:C19) -> 1119402 | D20: =SUM(D12:D19) -> 1190663 | E20: =IF(C20<>0,ROUND(D20*100/C20,2),"- ") -> 106.37
A21: 1. Egyéb tartós részesedés | B21: 17 | C21: 73982 | D21: 65429 | E21: =IF(C21<>0,ROUND(D21*100/C21,2),"- ") -> 88.44
A22: 2. Tartós hitelviszonyt megtestesítő értékpapír | B22: 18 | E22: =IF(C22<>0,ROUND(D22*100/C22,2),"- ") -> -
A23: 3. Tartósan adott kölcsön | B23: 19 | E23: =IF(C23<>0,ROUND(D23*100/C23,2),"- ") -> -
A24: 4. Hosszú lejáratú bankbetétek | B24: 20 | E24: =IF(C24<>0,ROUND(D24*100/C24,2),"- ") -> -
A25: 5. Egyéb hosszú lejáratú követelések | B25: 21 | E25: =IF(C25<>0,ROUND(D25*100/C25,2),"- ") -> -
A26: 6. Befektetett pénzügyi eszközök értékhelyesbítése | B26: 22 | E26: =IF(C26<>0,ROUND(D26*100/C26,2),"- ") -> -
A27: III. Befektetett pénzügyi eszközök összesen (17+..+22) | B27: 23 | C27: =SUM(C21:C26) -> 73982 | D27: =SUM(D21:D26) -> 65429 | E27: =IF(C27<>0,ROUND(D27*100/C27,2),"- ") -> 88.44
A28: 1. Üzemeltetésre kezelésre átadott eszközök | B28: 24 | C28: 650937 | D28: 627529 | E28: =IF(C28<>0,ROUND(D28*100/C28,2),"- ") -> 96.4
A29: 2. Koncesszióba adott eszközök | B29: 25 | E29: =IF(C29<>0,ROUND(D29*100/C29,2),"- ") -> -
A30: 3. Vagyonkezelésbe adott eszközök | B30: 26 | E30: =IF(C30<>0,ROUND(D30*100/C30,2),"- ") -> -
A31: 4. Vagyonkezelésbe vett eszközök | B31: 27 | E31: =IF(C31<>0,ROUND(D31*100/C31,2),"- ") -> -
A32: 5. Üzemeltetésre, kezelésre átadott koncesszióba adott, vagyonkezelésbe vett eszközök értékhelyesbítése | B32: 28 | E32: =IF(C32<>0,ROUND(D32*100/C32,2),"- ") -> -
A33: IV. Üzemeltetésre, kezelésre átadott, koncesszióba adott vagyonkezelésbe vett eszközök (24+…+28) | B33: 29 | C33: =SUM(C28:C32) -> 650937 | D33: =SUM(D28:D32) -> 627529 | E33: =IF(C33<>0,ROUND(D33*100/C33,2),"- ") -> 96.4
A34: A) BEFEKTETETT ESZKÖZÖK ÖSSZESEN (07+16+23+29) | B34: 30 | C34: =C11+C20+C27+C33 -> 1844534 | D34: =D11+D20+D27+D33 -> 1885525 | E34: =IF(C34<>0,ROUND(D34*100/C34,2),"- ") -> 102.22
A35: 1. Anyagok | B35: 31 | C35: 1528 | D35: 1532 | E35: =IF(C35<>0,ROUND(D35*100/C35,2),"- ") -> 100.26
A36: 2. Befejezetlen termelés és félkész termékek | B36: 32 | E36: =IF(C36<>0,ROUND(D36*100/C36,2),"- ") -> -
A37: 3. Növendék-, hízó és egyéb állatok | B37: 33 | E37: =IF(C37<>0,ROUND(D37*100/C37,2),"- ") -> -
A38: 4. Késztermékek | B38: 34 | E38: =IF(C38<>0,ROUND(D38*100/C38,2),"- ") -> -
A39: 5. Áruk, betétdíjas göngyölegek, közvetített szolgáltatásokés követelés fejében átvett eszközök, készletek | B39: 35 | E39: =IF(C39<>0,ROUND(D39*100/C39,2),"- ") -> -
A40: I. Készletek összesen (31+..+35) | B40: 36 | C40: =SUM(C35:C39) -> 1528 | D40: =SUM(D35:D39) -> 1532 | E40: =IF(C40<>0,ROUND(D40*100/C40,2),"- ") -> 100.26
...

Sheet 9_melléklet
E1: 5/2006.(III.27.) önk. rendelet 9. számú melléklete
C3: Az önkományzat által felvett hitelállomány alakulása
C4: lejárat és eszközök szerinti bontásban
G5: Ezer forintban!
C6: Felvétel | D6: Lejárat
A7: Sor | B7: Hitel jellege | F7: Hitel állomány január 1-jén
A8: szám | C8: éve | E8: 2005. | F8: 2006. | G8: 2007. | H8: 2008.után
A9: 1 | B9: 2 | C9: 3 | D9: 4 | E9: 5 | F9: 6 | G9: 7 | H9: 8
A10: 1. | B10: Működési célú
A11: 2. | B11: ………………………….
A12: 3. | B12: ………………………….
A13: 4. | B13: ………………………….
A14: 5. | B14: …………………………..
A15: 6. | B15: Felhalmozási célú
A16: 7. | B16: Japán hitel | C16: 1994. | D16: 2019. | E16: 310597 | F16: 279538 | G16: 269185 | H16: 248479
A17: 8. | B17: …………………………..
A18: 9. | B18: …………………………..
A19: 10. | B19: …………………………..
A20: 11. | B20: Összesen (1+6) | E20: =SUM(E16+E10) -> 310597 | F20: =SUM(F16+F10) -> 279538 | G20: =SUM(G16+G10) -> 269185 | H20: =SUM(H16+H10) -> 248479

Sheet 10_melléklet
C1: 5/2006.(III.27.) önk. rendelet 10. számú melléklete
A3: Az önkormányzat által adott közvetett támogatások
A4: (kedvezmények)
D5: ezer Ft-ban !
A6: Sor- | C6: Tényleges | D6: Adott kedvezmények
A7: szám | B7: Bevételi jogcím | C7: bevétel | D7: összege
A8: 1 | B8: 2 | C8: 3 | D8: 4
A9: 1. | B9: Iparűzési adó | C9: 340846 | D9: 3337
A10: 2.
A11: 3.
A12: 4.
A13: 5.
A14: 6.
A15: 7.
A16: 8.
A17: 9.
A18: 10.
A19: 11. | B19: Összesen: | C19: 340846 | D19: 3337

Sheet 3_melléklet
F2: 5/2006.(III.27.) önk. rendelet 3. számú melléklete
A5: Tőkejellegű bevételek és kiadások mérlege
A6: (Önkormányzati szinten )
B7: Bevételek | G7: Kiadások
B9: 2002.évi | C9: 2005.évi | D9: 2005.évi | E9: 2005.évi | G9: 2002.évi | H9: 2005.évi | I9: 2005.évi | J9: 2005.évi
A10: Megnevezés | B10: tény | C10: előirányzat | D10: mód.ei.IV. | E10: teljesítés | F10: Megnevezés | G10: tény | H10: előirányzat | I10: mód.ei.IV. | J10: teljesítés
A11: Önkormányzat felhalm.és | F11: Beruházási kiadások,felh.
A12: tőke jellegű bevételei | C12: 50000 | D12: 50000 | E12: 50450 | F12: célú alapátadások | H12: 190022 | I12: 127716 | J12: 82885
A13: Fejlelsztési célú támoga- | F13: Felhalmozási célú pénz-
A14: tások ( cél, cimzett) | F14: eszköz átadás | J14: 33337
A15: Értékpapír eladás | F15: Felújítások | H15: 29296 | I15: 35066 | J15: 26696
A16: Előző évi vható pénzm. | F16: Pénzügyi befektetések
A17: Felhalm.célú hitel | C17: 44443 | F17: Felhalm.célú tartalék
A18: EU előcsatl.tám. | F18: Felhalm.célú hiteltörl. | H18: 20706 | I18: 20706 | J18: 20706
A19: Egyéb | F19: Egyéb
A20: vagyonátvétel | F20: Tartalék
A21: egyéb sajátos bevétel | C21: 145581 | D21: 134499 | E21: 113174
A23: ÖSSZESEN: | B23: =SUM(B12:B22) -> 0 | C23: =SUM(C12:C22) -> 240024 | D23: =SUM(D12:D22) -> 184499 | E23: =SUM(E12:E22) -> 163624 | F23: ÖSSZESEN: | G23: =SUM(G12:G22) -> 0 | H23: =SUM(H12:H22) -> 240024 | I23: =SUM(I12:I22) -> 183488 | J23: =SUM(J12:J22) -> 163624
A24: Hiány | F24: Többlet

Sheet 2_melléklet
F1: 5/2006.(III.27.) önk. rendelet 2. számú melléklete
A4: Működési célú (folyó)bevételek, Működési célú ( folyó) kiadások mérlege
A5: ( Önkormányzati szinten ) e
B6: Bevételek | G6: Kiadások
B8: 2002.évi | C8: 2005.évi | D8: 2005.évi | E8: 2005.évi | G8: 2002.évi | H8: 2005.évi | I8: 2005.évi | J8: 2005.évi
A9: Megnevezés | B9: tény | C9: előirányzat | D9: mód.ei.IV. | E9: teljesítés | F9: Megnevezés | G9: tény | H9: előirányzat | I9: mód.ei.IV. | J9: teljesítés
A10: Saját bevételek | C10: 219759 | D10: 395922 | E10: 416028 | F10: Személyi juttatások | H10: 428290 | I10: =SUM([1]Munka1!E61) -> 438953 | J10: =SUM([1]Munka1!F61) -> 432470
A11: Átengedett bevételek | C11: 345026 | D11: =SUM([1]Munka1!E25) -> 330311 | E11: =SUM([1]Munka1!F25) -> 320622 | F11: Járulékok | H11: 133745 | I11: =SUM([1]Munka1!E62) -> 136368 | J11: =SUM([1]Munka1!F62) -> 135172
A12: Átvett pénzeszközök | C12: 30419 | D12: =SUM([1]Munka1!E32) -> 18428 | E12: =SUM([1]Munka1!F32) -> 20877 | F12: Dologi kiadások | H12: 189958 | I12: =SUM([1]Munka1!E63) -> 219237 | J12: =SUM([1]Munka1!F63) -> 179641
A13: Állami hozzájárulás | C13: 136749 | D13: =SUM([1]Munka1!E38) -> 172452 | E13: =SUM([1]Munka1!F38) -> 172452 | F13: Ellátottak pénzbeli jutt. | H13: 1668 | I13: =SUM([1]Munka1!E79) -> 1668 | J13: =SUM([1]Munka1!F79) -> 1668
A14: Előző évi vható pénzmar. | C14: 98000 | D14: =SUM([1]Munka1!E48) -> 179009 | E14: =SUM([1]Munka1!F48) -> 179009 | F14: Társ.és szocpol.jutt. | H14: 29000 | I14: =SUM([1]Munka1!E78) -> 29389 | J14: =SUM([1]Munka1!F78) -> 29823
A15: EU előcsatlakozási tám. | F15: Pénzeszköz átadások | H15: 18818 | I15: =SUM([1]Munka1!E65) -> 21109 | J15: =SUM([1]Munka1!F65) -> 14545
A16: Egyéb | F16: Műk.célú hiteltörlesztés
A17: értékpapír | F17: Tartalék | H17: 28474 | I17: 234603 | J17: =SUM([1]Munka1!F81,[1]Munka1!F82) -> 0
A18: passzív elszámolások | F18: Egyéb | I18: =SUM([1]Munka1!E64) -> 15804 | J18: =SUM([1]Munka1!F64) -> 8305
F19: akív elszámolások
F20: értékpapír vás.
A22: ÖSSZESEN: | B22: =SUM(B10:B21) -> 0 | C22: =SUM(C10:C21) -> 829953 | D22: =SUM(D10:D21) -> 1096122 | E22: =SUM(E10:E21) -> 1108988 | F22: ÖSSZESEN: | G22: =SUM(G10:G21) -> 0 | H22: =SUM(H10:H21) -> 829953 | I22: =SUM(I10:I21) -> 1097131 | J22: =SUM(J10:J21) -> 801624
A23: Hiány | F23: Többlet | J23: 303322
