Workbook

Sheet 1
B1: Berhida Város Önkormányzata | F1: 1. melléklet
B2: 2019. évi eredeti költségvetés | F2: 2/2019.(III.1.) rendelethez
F3: Ft-ban
C4: BEVÉTELEK
A5: Sor- szám | B5: Rovat megnevezése | C5: Eredeti előirányzat összesen | D5: Önkormányzat | E5: Közös Hivatal | F5: TESZ | G5: Kultúrház | H5: Süni
A6: 1 | B6: Helyi önkormányzatok működésének általános támogatása (B1111) | C6: =SUM(D6:H6) -> 121805723 | D6: 121805723
A7: 2 | B7: Települési önkormányzatok egyes köznevelési feladatainak támogatása (B112) | C7: =SUM(D7:H7) -> 146632166 | D7: 146632166
A8: 3 | B8: Települési önkormányzatok szociális, gyermekjóléti és gyermekétkeztetési feladatainak támogatása (B113) | C8: =SUM(D8:H8) -> 110689107 | D8: 110689107
A9: 4 | B9: Települési önkormányzatok kulturális feladatainak támogatása (B114) | C9: =SUM(D9:H9) -> 7226120 | D9: 7226120
A10: 5 | B10: Működési célú költségvetési támogatások és kiegészítő támogatások (B115) | C10: =SUM(D10:H10) -> 0
A11: 6 | B11: Elszámolásból származó bevételek (B116) | C11: =SUM(D11:H11) -> 0
A12: 7 | B12: Önkormányzatok működési támogatásai (B11) | C12: =SUM(D12:H12) -> 386353116 | D12: =SUM(D6:D11) -> 386353116 | E12: =SUM(E6:E11) -> 0 | F12: =SUM(F6:F11) -> 0 | G12: =SUM(G6:G11) -> 0 | H12: =SUM(H6:H11) -> 0
A13: 8 | B13: Elvonások és befizetések bevételei B12 | C13: =SUM(D13:H13) -> 0
A14: 9 | B14: Egyéb működési célú támogatások bevételei államháztartáson belülről (B16) | C14: =SUM(D14:H14) -> 301800579 | D14: =SUM(D15:D19) -> 262817611 | E14: =SUM(E15:E19) -> 0 | F14: =SUM(F15:F19) -> 38982968 | G14: =SUM(G15:G19) -> 0 | H14: =SUM(H15:H19) -> 0
A15: 10 | B15: ebből: egyéb központi kezelésű előirányzatok (B1612 | C15: =SUM(D15:H15) -> 20462596 | D15: 20462596
A16: 11 | B16: ebből: fejezeti kezelésű EU B16 | C16: =SUM(D16:H16) -> 214984215 | D16: 214984215
A17: 12 | B17: ebből: társadalombiztosítás pénzügyi alapjai (B1614 | C17: =SUM(D17:H17) -> 27370800 | D17: 27370800
A18: 13 | B18: ebből: elkülönített állami pénzal (B1615 | C18: =SUM(D18:H18) -> 38982968 | F18: 38982968
A19: 14 | B19: ebből: önkormányzat és kv-i szerveik (B 1616 | C19: =SUM(D19:H19) -> 0
A20: 15 | B20: Működési célú támogatások államháztartáson belülről (B1) | C20: =SUM(D20:H20) -> 688153695 | D20: =D12+D14 -> 649170727 | E20: =E12+E14 -> 0 | F20: =F12+F14 -> 38982968 | G20: =G12+G14 -> 0 | H20: =H12+H14 -> 0
A21: 16 | B21: Felhalmozási célú önkormányzati támogatások (B21) | C21: =SUM(D21:H21) -> 0 | D21: =D22 -> 0 | E21: =E22 -> 0 | F21: =F22 -> 0 | G21: =G22 -> 0 | H21: =H22 -> 0
A22: 17 | B22: ebből: egyéb központi felhalmozási c tám B 2119 | C22: =SUM(D22:H22) -> 0
A23: 18 | B23: Egyéb felhalmozási célú tám áht belülről B 25 | C23: =SUM(D23:H23) -> 821196970 | D23: =SUM(D24:D27) -> 821196970 | E23: =SUM(E24:E27) -> 0 | F23: =SUM(F24:F27) -> 0 | G23: =SUM(G24:G27) -> 0 | H23: =SUM(H24:H27) -> 0
A24: 19 | B24: ebből egyéb központi fc tám (B2512 | C24: =SUM(D24:H24) -> 0
A25: 20 | B25: ebből: egyéb fejezeti kez EU fc (B25 | C25: =SUM(D25:H25) -> 821196970 | D25: 821196970
A26: 21 | B26: ebből: elkülönített állami pénzal fc (B2515 | C26: =SUM(D26:H26) -> 0
A27: 22 | B27: ebből: önkorm és kv-i szervek fc tám (B2516 | C27: =SUM(D27:H27) -> 0
A28: 23 | B28: Felhalmozási célú támogatások államháztartáson belülről (B2) | C28: =SUM(D28:H28) -> 821196970 | D28: =D21+D23 -> 821196970 | E28: =E21+E23 -> 0 | F28: =F21+F23 -> 0 | G28: =G21+G23 -> 0 | H28: =H21+H23 -> 0
A29: 24 | B29: Vagyoni tipusú adók (B34) | C29: =SUM(D29:H29) -> 108243000 | D29: =SUM(D30:D31) -> 108243000 | E29: =SUM(E30:E31) -> 0 | F29: =SUM(F30:F31) -> 0 | G29: =SUM(G30:G31) -> 0 | H29: =SUM(H30:H31) -> 0
A30: 25 | B30: ebből: építményadó (B34111) | C30: =SUM(D30:H30) -> 108243000 | D30: 108243000
A31: 26 | B31: ebből: magánszemélyek kommunális adója (B34114) | C31: =SUM(D31:H31) -> 0
A32: 27 | B32: Értékesítési és forgalmi adók iparűzési adó (B351121) | C32: =SUM(D32:H32) -> 225000000 | D32: 225000000
A33: 28 | B33: Gépjárműadó (B3541) | C33: =SUM(D33:H33) -> 11900000 | D33: 11900000
A34: 29 | B34: Egyéb áruhasználati és szolgáltatási adók, környezetterh díj, talajterhelési díj (B355) | C34: =SUM(D34:H34) -> 0
A35: 30 | B35: Termékek és szolgáltatások adói (B35) | C35: =SUM(D35:H35) -> 236900000 | D35: =SUM(D32:D34) -> 236900000 | E35: =SUM(E32:E34) -> 0 | F35: =SUM(F32:F34) -> 0 | G35: =SUM(G32:G34) -> 0 | H35: =SUM(H32:H34) -> 0
A36: 31 | B36: Egyéb közhatalmi bevételek (B36) | C36: =SUM(D36:H36) -> 400000 | D36: 400000 | E36: =SUM(E37:E38) -> 0 | F36: =SUM(F37:F38) -> 0 | G36: =SUM(G37:G38) -> 0 | H36: =SUM(H37:H38) -> 0
A37: 32 | B37: ebből: szabálysértési pénz- és helyszíni bírság és a közlekedési szabályszegések után kiszabott közigazgatási bírság helyi önkormányzatot megillető része (B361225 köv) | C37: =SUM(D37:H37) -> 50000 | D37: 50000
A38: 33 | B38: ebből: egyéb bírság (B361229 köv) | C38: =SUM(D38:H38) -> 350000 | D38: 350000
A39: 34 | B39: Közhatalmi bevételek (B3) | C39: =SUM(D39:H39) -> 345543000 | D39: =D29+D35+D36 -> 345543000 | E39: =E29+E35+E36 -> 0 | F39: =F29+F35+F36 -> 0 | G39: =G29+G35+G36 -> 0 | H39: =H29+H35+H36 -> 0
A40: 35 | B40: Készlet értékesítés előirányzata B 40111 | C40: =SUM(D40:H40) -> 0
...

Sheet 1a
A1: Berhida Város Önkormányzata
A2: állami támogatások részletezése | E2: 1/a. melléklet a 2/2019.(III.1.) rendelethez
D3: 2018 | H3: 2019 | M3: 2019
B4: IPA alap | E4: 9437151820 | G4: IPA alap | J4: 9578698183 | L4: IPA alap | O4: 9578698183
B5: elvonás | C5: 0,55 %-nak | E5: =E4*0.0055 -> 51904335 | G5: elvonás | H5: 0,55 %-nak | J5: =J4*0.0055 -> 52682840 | L5: elvonás | M5: 0,55 %-nak | O5: =O4*0.0055 -> 52682840
A6: 2019. évi költségvetés | C6: =E6/E5 -> 0.75 | E6: 38928251 | H6: =J6/J5 -> 0.52116317 | J6: 27456356 | M6: =O6/O5 -> 0.52116317 | O6: 27456356
B7: 1 lakosra jutó adóerőképesség | E7: =E4*0.014/C8 -> 22156.654 | G7: 1 lakosra jutó adóerőképesség | J7: =J4*0.014/H8 -> 22455.086 | L7: 1 lakosra jutó adóerőképesség | O7: =O4*0.014/M8 -> 22455.086
C8: 5963 | D8: fő | E8: beszámítás | F8: 2018 tényl | H8: 5972 | I8: fő | J8: beszámítás | K8: 2019 tényl | M8: 5972 | N8: fő | O8: beszámítás | P8: 2019 tényl
D9: Forint | H9: Forint | K9: Módosított összesen | M9: Forint | P9: Módosított összesen
A10: Önkormányzatok működési támogatásai | D10: =D11+D22+D32+D50+D55 -> 4.1503305e+08 | E10: =E11+E22+E32+E50+E55 -> -59421251 | F10: =F11+F22+F32+F50+F55 -> 3.556118e+08 | I10: =I11+I22+I32+I50+I55+I58 -> 440977987 | J10: =J11+J22+J32+J50+J55+J58 -> -27456356 | K10: =K11+K22+K32+K50+K55+K58 -> 413521631 | N10: =N11+N22+N32+N50+N55+N58 -> 4.4161855e+08 | O10: =O11+O22+O32+O50+O55+O58 -> -27456356 | P10: =P11+P22+P32+P50+P55+P58 -> 4.1416219e+08 | Q10: =Q11+Q22+Q32+Q50+Q55+Q58 -> 279993.33
A11: 1.)Helyi önkormányzatok működésének általános támogatása | D11: =SUM(D12:D21) -> 147447989 | E11: =SUM(E12:E21) -> -38928251 | F11: =SUM(F12:F21) -> 108519738 | I11: =SUM(I12:I21) -> 152388418 | J11: =SUM(J12:J21) -> -27456356 | K11: =SUM(K12:K21) -> 1.2493206e+08 | N11: =SUM(N12:N21) -> 152461089 | O11: =SUM(O12:O21) -> -27456356 | P11: =SUM(P12:P21) -> 1.2500473e+08 | Q11: =P11-K11 -> 72671
A12: Önkormányzati hivatal működésének támogatása | B12: 4580000 | C12: 22.14 | D12: =B12*C12 -> 101401200 | F12: =D12+E12 -> 101401200 | G12: 4580000 | H12: 22.17 | I12: =G12*H12 -> 1.015386e+08 | K12: =I12+J12 -> 1.015386e+08 | L12: 4580000 | M12: 22.17 | N12: =L12*M12 -> 1.015386e+08 | P12: =N12+O12 -> 1.015386e+08 | Q12: =P12-K12 -> 0
A13: Település üzemeltetés: zöldterület-gazdálkodás | B13: 22300 | C13: 402 | D13: 8984670 | E13: =-D13 -> -8984670 | F13: =D13+E13 -> 0 | G13: 22300 | H13: 402 | I13: 8984670 | J13: =-I13 -> -8984670 | K13: =I13+J13 -> 0 | L13: 22300 | M13: 402 | N13: 8984670 | O13: =-N13 -> -8984670 | P13: =N13+O13 -> 0 | Q13: =P13-K13 -> 0
A14: közvilágítás fenntartása | B14: 320000 | C14: 46.5 | D14: 9888000 | E14: =-D14 -> -9888000 | F14: =D14+E14 -> 0 | G14: 320000 | H14: 46.5 | I14: 9888000 | J14: -2140736 | K14: =I14+J14 -> 7747264 | L14: 320000 | M14: 46.5 | N14: 9888000 | O14: -2140736 | P14: =N14+O14 -> 7747264 | Q14: =P14-K14 -> 0
A15: köztemető fenntartással kapcs fel | B15: 69 | C15: 53051 | D15: =B15*C15 -> 3660519 | E15: =-D15 -> -3660519 | F15: =D15+E15 -> 0 | G15: 69 | H15: 53051 | I15: =G15*H15 -> 3660519 | K15: =I15+J15 -> 3660519 | L15: 69 | M15: 53051 | N15: =L15*M15 -> 3660519 | P15: =N15+O15 -> 3660519 | Q15: =P15-K15 -> 0
A16: közutak fenntartásának támog | B16: 227000 | C16: 24 | D16: =B16*C16 -> 5448000 | E16: -85862 | F16: =D16+E16 -> 5362138 | G16: 227000 | H16: 31.62 | I16: =G16*H16 -> 7177740 | K16: =I16+J16 -> 7177740 | L16: 227000 | M16: 31.62 | N16: =L16*M16 -> 7177740 | P16: =N16+O16 -> 7177740 | Q16: =P16-K16 -> 0
A17: Egyéb kötelező önkormányzati feladatok | B17: 2700 | C17: 5963 | D17: =B17*C17 -> 16100100 | E17: =-D17 -> -16100100 | F17: =D17+E17 -> 0 | G17: 2700 | H17: 5972 | I17: =G17*H17 -> 16124400 | J17: =-I17 -> -16124400 | K17: =I17+J17 -> 0 | L17: 2700 | M17: 5972 | N17: =L17*M17 -> 16124400 | O17: =-N17 -> -16124400 | P17: =N17+O17 -> 0 | Q17: =P17-K17 -> 0
A18: Lakott külterülettel kapcs feladatok | B18: 2550 | C18: 82 | D18: =B18*C18 -> 209100 | E18: =-D18 -> -209100 | F18: =D18+E18 -> 0 | G18: 2550 | H18: 81 | I18: =G18*H18 -> 206550 | J18: =-I18 -> -206550 | K18: =I18+J18 -> 0 | L18: 2550 | M18: 81 | N18: =L18*M18 -> 206550 | O18: =-N18 -> -206550 | P18: =N18+O18 -> 0 | Q18: =P18-K18 -> 0
A19: bérkompenzáció | F19: =D19+E19 -> 0 | I19: 244339 | K19: =I19+J19 -> 244339 | N19: 317010 | P19: =N19+O19 -> 317010 | Q19: =P19-K19 -> 72671
A20: minimál bér támogatás ált. műk. Feladat | G20: 130000 | H20: 22.17 | I20: 2882000 | K20: =I20+J20 -> 2882000 | L20: 130000 | M20: 22.17 | N20: 2882000 | P20: =N20+O20 -> 2882000 | Q20: =P20-K20 -> 0
A21: Polgármesterek illetményének támogatása | D21: 1756400 | F21: =D21+E21 -> 1756400 | I21: 1681600 | K21: =I21+J21 -> 1681600 | N21: 1681600 | P21: =N21+O21 -> 1681600 | Q21: =P21-K21 -> 0
A22: 2.)Települési önkorm. Egyes köznevelési feladatainak támoga | D22: =SUM(D23:D31) -> 1.4211607e+08 | E22: =SUM(E23:E31) -> 0 | F22: =SUM(F23:F31) -> 1.4211607e+08 | I22: =SUM(I23:I31) -> 149070733 | J22: =SUM(J23:J31) -> 0 | K22: =SUM(K23:K31) -> 149070733 | N22: =SUM(N23:N31) -> 1.4771401e+08 | O22: =SUM(O23:O31) -> 0 | P22: =SUM(P23:P31) -> 1.4771401e+08 | Q22: =SUM(Q23:Q31) -> -1356719.7
A23: óvodapedagógusok bértámogatása 8 hó | B23: 4419000 | C23: 20.4 | D23: =B23*C23*8/12 -> 60098400 | F23: =D23+E23 -> 60098400 | G23: 4371500 | H23: 20.6 | I23: =G23*H23*8/12 -> 60035267 | K23: =I23+J23 -> 60035267 | L23: 4371500 | M23: 20.6 | N23: =L23*M23*8/12 -> 60035267 | P23: =N23+O23 -> 60035267 | Q23: =P23-K23 -> 0
A24: óvodaped munkáját közvetlenül segítők bértámogatása 8 hó | B24: 2205000 | C24: 13 | D24: =B24*C24/12*8 -> 19110000 | F24: =D24+E24 -> 19110000 | G24: 2205000 | H24: 14 | I24: =G24*H24/12*8 -> 20580000 | K24: =I24+J24 -> 20580000 | L24: 2205000 | M24: 13.9 | N24: =L24*M24/12*8 -> 20433000 | P24: =N24+O24 -> 20433000 | Q24: =P24-K24 -> -147000
A25: óvodapedagógusok bértámogatása 4 hó | B25: 4419000 | C25: 20.2 | D25: =B25*C25*4/12 -> 29754600 | F25: =D25+E25 -> 29754600 | G25: 4371500 | H25: 20.6 | I25: =G25*H25*4/12 -> 30017633 | K25: =I25+J25 -> 30017633 | L25: 4371500 | M25: 20 | N25: =L25*M25*4/12 -> 29143333 | P25: =N25+O25 -> 29143333 | Q25: =P25-K25 -> -874300
A26: óvodaped munkáját közvetlenül segítők bértámogatása 4 hó | B26: 2205000 | C26: 13 | D26: =B26*C26/12*4 -> 9555000 | F26: =D26+E26 -> 9555000 | G26: 2205000 | H26: 14 | I26: =G26*H26/12*4 -> 10290000 | K26: =I26+J26 -> 10290000 | L26: 2205000 | M26: 14 | N26: =L26*M26/12*4 -> 10290000 | P26: =N26+O26 -> 10290000 | Q26: =P26-K26 -> 0
A27: Óvoda működtetési támogatás 8 hó | B27: 81700 | C27: 219 | D27: =B27*C27*8/12 -> 11928200 | F27: =D27+E27 -> 11928200 | G27: 97400 | H27: 222 | I27: =G27*H27*8/12 -> 14415200 | K27: =I27+J27 -> 14415200 | L27: 97400 | M27: 222 | N27: =L27*M27*8/12 -> 14415200 | P27: =N27+O27 -> 14415200 | Q27: =P27-K27 -> 0
A28: Óvoda működtetési támogatás 4 hó | B28: 81700 | C28: 218 | D28: =B28*C28*4/12 -> 5936866.7 | F28: =D28+E28 -> 5936866.7 | G28: 97400 | H28: 221 | I28: 7175133 | K28: =I28+J28 -> 7175133 | L28: 97400 | M28: 218 | N28: =L28*M28*4/12 -> 7077733.3 | P28: =N28+O28 -> 7077733.3 | Q28: =P28-K28 -> -97399.667
A29: Kieg tám. Óv pedag minősítéséhez II. kategóriába sorolt | B29: 401000 | C29: 7 | D29: =B29*C29 -> 2807000 | F29: =D29+E29 -> 2807000 | G29: 396700 | H29: 6 | I29: =G29*H29 -> 2380200 | K29: =I29+J29 -> 2380200 | L29: 396700 | M29: 5.4 | N29: =L29*M29 -> 2142180 | P29: =N29+O29 -> 2142180 | Q29: =P29-K29 -> -238020
A30: Mesterped kategóriába sorolt | B30: 1463000 | C30: 2 | D30: =B30*C30 -> 2926000 | F30: =D30+E30 -> 2926000 | G30: 1447300 | H30: 1 | I30: =G30*H30 -> 1447300 | K30: =I30+J30 -> 1447300 | L30: 1447300 | M30: 1 | N30: =L30*M30 -> 1447300 | P30: =N30+O30 -> 1447300 | Q30: =P30-K30 -> 0
A31: Minimálbér támogatás köznevelés | D31: =B31*C31 -> 0 | F31: =D31+E31 -> 0 | G31: 12300 | H31: 222 | I31: 2730000 | K31: =I31+J31 -> 2730000 | L31: 12300 | M31: 222 | N31: 2730000 | P31: =N31+O31 -> 2730000 | Q31: =P31-K31 -> 0
A32: 3.) Tel önk szociális, gyermekjóléti és gyermekétk fel tám | D32: =SUM(D34:D49) -> 118253769 | E32: =SUM(E34:E49) -> -20493000 | F32: =SUM(F34:F49) -> 97760769 | I32: =SUM(I34:I49) -> 117699699 | J32: =SUM(J34:J49) -> 0 | K32: =SUM(K34:K49) -> 117699699 | N32: =SUM(N34:N49) -> 118890966 | O32: =SUM(O34:O49) -> 0 | P32: =SUM(P34:P49) -> 118890966 | Q32: =SUM(Q34:Q49) -> 1191267
Q33: =P33-K33 -> 0
A34: gyermekétkeztetés szempontjából elismert dolgozók bértámog | B34: 1900000 | C34: 11.1 | D34: =B34*C34 -> 21090000 | F34: =D34+E34 -> 21090000 | G34: 1900000 | H34: 11.18 | I34: =G34*H34 -> 21242000 | K34: =I34+J34 -> 21242000 | L34: 1900000 | M34: 11.54 | N34: =L34*M34 -> 21926000 | P34: =N34+O34 -> 21926000 | Q34: =P34-K34 -> 684000
A35: gyermekétkeztetés üzemeltetési támogatása | D35: 34323860 | F35: =D35+E35 -> 34323860 | I35: 37497698 | K35: =I35+J35 -> 37497698 | N35: 37991775 | P35: =N35+O35 -> 37991775 | Q35: =P35-K35 -> 494077
A36: szünidei gyermekétkeztetés | B36: 513 | C36: 5637 | D36: =B36*C36 -> 2891781 | F36: =D36+E36 -> 2891781 | G36: 513 | H36: 6384 | I36: =G36*H36 -> 3274992 | K36: =I36+J36 -> 3274992 | L36: 513 | M36: 3274 | N36: =L36*M36 -> 1679562 | P36: =N36+O36 -> 1679562 | Q36: =P36-K36 -> -1595430
A37: Hozzájárulás pénzbeli szociális ellátásokhoz | D37: =F37*2 -> 40986000 | E37: -20493000 | F37: 20493000 | I37: 28785793 | K37: =I37+J37 -> 28785793 | N37: 28785793 | P37: =N37+O37 -> 28785793 | Q37: =P37-K37 -> 0
A38: Bölcsődei ellátás bértámogatás | B38: 2993000 | C38: 3 | D38: =B38*C38 -> 8979000 | F38: =D38+E38 -> 8979000 | G38: 2993000 | H38: 3 | I38: =G38*H38 -> 8979000 | K38: =I38+J38 -> 8979000 | L38: 2993000 | M38: 3 | N38: =L38*M38 -> 8979000 | P38: =N38+O38 -> 8979000 | Q38: =P38-K38 -> 0
A39: Bölcsődei működtetési tám | D39: 1770000 | F39: =D39+E39 -> 1770000 | I39: 1611000 | K39: =I39+J39 -> 1611000 | N39: 1916000 | P39: =N39+O39 -> 1916000 | Q39: =P39-K39 -> 305000
A40: Családsegítés és gyermekjóléti szolgáltatás B: 5972 Vi: 683 = 6655 fő | B40: 3400000 | D40: 4420000 | F40: =D40+E40 -> 4420000 | G40: 3400000 | I40: 4420000 | K40: =I40+J40 -> 4420000 | L40: 3400000 | N40: 4420000 | P40: =N40+O40 -> 4420000 | Q40: =P40-K40 -> 0
...

Sheet 1.b
B1: Berhida Város Önkormányzata
B2: 2019. évi költségvetés | F2: 1/c. melléklet a 2/2019.(III.1.) rendelethez
F3: Ft-ban
C4: BEVÉTELEK
A5: Sor- szám | B5: Rovat megnevezése | C5: Mód előirányzat összesen | D5: Önkormányzat | E5: Közös Hivatal | F5: TESZ | G5: Kultúrház | H5: Süni
A6: 1 | B6: Helyi önkormányzatok működésének általános támogatása (B1111) | C6: 124932062 | D6: 124932062
A7: 2 | B7: Települési önkormányzatok egyes köznevelési feladatainak támogatása (B112) | C7: 149070733 | D7: 149070733
A8: 3 | B8: Települési önkormányzatok szociális, gyermekjóléti és gyermekétkeztetési feladatainak támogatása (B113) | C8: 117699699 | D8: 117699699
A9: 4 | B9: Települési önkormányzatok kulturális feladatainak támogatása (B114) | C9: 8682237 | D9: 8682237
A10: 5 | B10: Működési célú költségvetési támogatások és kiegészítő támogatások (B115) | C10: 13136900 | D10: 13136900
A11: 6 | B11: Elszámolásból származó bevételek (B116) | C11: 0
A12: 7 | B12: Önkormányzatok működési támogatásai (B11) | C12: 413521631 | D12: 413521631 | E12: 0 | F12: 0 | G12: 0 | H12: 0
A13: 8 | B13: Elvonások és befizetések bevételei B12 | C13: 360567 | D13: 360567
A14: 9 | B14: Egyéb működési célú támogatások bevételei államháztartáson belülről (B16) | C14: 299173193 | D14: 250360513 | E14: 4554514 | F14: 43932388 | G14: 325778 | H14: 0
A15: 10 | B15: ebből: egyéb központi kezelésű előirányzatok (B1612 | C15: 10740958 | D15: 6186444 | E15: 4554514
A16: 11 | B16: ebből: fejezeti kezelésű EU B16 | C16: 215309993 | D16: 214984215 | G16: 325778
A17: 12 | B17: ebből: társadalombiztosítás pénzügyi alapjai (B1614 | C17: 29024800 | D17: 29024800
A18: 13 | B18: ebből: elkülönített állami pénzal (B1615 | C18: 43932388 | F18: 43932388
A19: 14 | B19: ebből: önkormányzat és kv-i szerveik (B 1616 | C19: 165054 | D19: 165054
A20: 15 | B20: Működési célú támogatások államháztartáson belülről (B1) | C20: 713055391 | D20: 664242711 | E20: 4554514 | F20: 43932388 | G20: 325778 | H20: 0
A21: 16 | B21: Felhalmozási célú önkormányzati támogatások (B21) | C21: 42912000 | D21: 42912000 | E21: 0 | F21: 0 | G21: 0 | H21: 0
A22: 17 | B22: ebből: egyéb központi felhalmozási c tám B 2119 | C22: 42912000 | D22: 42912000
A23: 18 | B23: Egyéb felhalmozási célú tám áht belülről B 25 | C23: 445980415 | D23: 445980415 | E23: 0 | F23: 0 | G23: 0 | H23: 0
A24: 19 | B24: ebből egyéb központi fc tám (B2512 | C24: 0
A25: 20 | B25: ebből: egyéb fejezeti kez EU fc (B25 | C25: 445980415 | D25: 445980415
A26: 21 | B26: ebből: elkülönített állami pénzal fc (B2515 | C26: 0
A27: 22 | B27: ebből: önkorm és kv-i szervek fc tám (B2516 | C27: 0
A28: 23 | B28: Felhalmozási célú támogatások államháztartáson belülről (B2) | C28: 488892415 | D28: 488892415 | E28: 0 | F28: 0 | G28: 0 | H28: 0
A29: 24 | B29: Vagyoni tipusú adók (B34) | C29: 108243000 | D29: 108243000 | E29: 0 | F29: 0 | G29: 0 | H29: 0
A30: 25 | B30: ebből: építményadó (B34111) | C30: 108243000 | D30: 108243000
A31: 26 | B31: ebből: magánszemélyek kommunális adója (B34114) | C31: 0
A32: 27 | B32: Értékesítési és forgalmi adók iparűzési adó (B351121) | C32: 225000000 | D32: 225000000
A33: 28 | B33: Gépjárműadó (B3541) | C33: 12257244 | D33: 12257244
A34: 29 | B34: Egyéb áruhasználati és szolgáltatási adók, környezetterh díj, talajterhelési díj (B355) | C34: 0
A35: 30 | B35: Termékek és szolgáltatások adói (B35) | C35: 237257244 | D35: 237257244 | E35: 0 | F35: 0 | G35: 0 | H35: 0
A36: 31 | B36: Egyéb közhatalmi bevételek (B36) | C36: 400000 | D36: 400000 | E36: 0 | F36: 0 | G36: 0 | H36: 0
A37: 32 | B37: ebből: szabálysértési pénz- és helyszíni bírság és a közlekedési szabályszegések után kiszabott közigazgatási bírság helyi önkormányzatot megillető része (B361225 köv) | C37: 50000 | D37: 50000
A38: 33 | B38: ebből: egyéb bírság (B361229 köv) | C38: 350000 | D38: 350000
A39: 34 | B39: Közhatalmi bevételek (B3) | C39: 345900244 | D39: 345900244 | E39: 0 | F39: 0 | G39: 0 | H39: 0
A40: 35 | B40: Készlet értékesítés előirányzata B 40111 | C40: 0
...

Sheet 1.c
B1: Berhida Város Önkormányzata
B2: 2019. évi költségvetés | F2: 1/c. melléklet a 2/2019.(III.1.) rendelethez
F3: Ft-ban
C4: BEVÉTELEK
A5: Sor- szám | B5: Rovat megnevezése | C5: Mód előirányzat összesen | D5: Önkormányzat | E5: Közös Hivatal | F5: TESZ | G5: Kultúrház | H5: Süni
A6: 1 | B6: Helyi önkormányzatok működésének általános támogatása (B1111) | C6: =SUM(D6:H6) -> 125004733 | D6: 125004733
A7: 2 | B7: Települési önkormányzatok egyes köznevelési feladatainak támogatása (B112) | C7: =SUM(D7:H7) -> 147714013 | D7: 147714013
A8: 3 | B8: Települési önkormányzatok szociális, gyermekjóléti és gyermekétkeztetési feladatainak támogatása (B113) | C8: =SUM(D8:H8) -> 118890966 | D8: 118890966
A9: 4 | B9: Települési önkormányzatok kulturális feladatainak támogatása (B114) | C9: =SUM(D9:H9) -> 9055012 | D9: 9055012
A10: 5 | B10: Működési célú költségvetési támogatások és kiegészítő támogatások (B115) | C10: =SUM(D10:H10) -> 13136900 | D10: 13136900
A11: 6 | B11: Elszámolásból származó bevételek (B116) | C11: =SUM(D11:H11) -> 0
A12: 7 | B12: Önkormányzatok működési támogatásai (B11) | C12: =SUM(D12:H12) -> 413801624 | D12: =SUM(D6:D11) -> 413801624 | E12: =SUM(E6:E11) -> 0 | F12: =SUM(F6:F11) -> 0 | G12: =SUM(G6:G11) -> 0 | H12: =SUM(H6:H11) -> 0
A13: 8 | B13: Elvonások és befizetések bevételei B12 | C13: =SUM(D13:H13) -> 360567 | D13: 360567
A14: 9 | B14: Egyéb működési célú támogatások bevételei államháztartáson belülről (B16) | C14: =SUM(D14:H14) -> 300818519 | D14: =SUM(D15:D19) -> 252005839 | E14: =SUM(E15:E19) -> 4554514 | F14: =SUM(F15:F19) -> 43932388 | G14: =SUM(G15:G19) -> 325778 | H14: =SUM(H15:H19) -> 0
A15: 10 | B15: ebből: egyéb központi kezelésű előirányzatok (B1612 | C15: =SUM(D15:H15) -> 9542684 | D15: 4988170 | E15: 4554514
A16: 11 | B16: ebből: fejezeti kezelésű EU B16 | C16: =SUM(D16:H16) -> 215309993 | D16: 214984215 | G16: 325778
A17: 12 | B17: ebből: társadalombiztosítás pénzügyi alapjai (B1614 | C17: =SUM(D17:H17) -> 31868400 | D17: 31868400
A18: 13 | B18: ebből: elkülönített állami pénzal (B1615 | C18: =SUM(D18:H18) -> 43932388 | F18: 43932388
A19: 14 | B19: ebből: önkormányzat és kv-i szerveik (B 1616 | C19: =SUM(D19:H19) -> 165054 | D19: 165054
A20: 15 | B20: Működési célú támogatások államháztartáson belülről (B1) | C20: =SUM(D20:H20) -> 714980710 | D20: =D12+D13+D14 -> 666168030 | E20: =E12+E14 -> 4554514 | F20: =F12+F14 -> 43932388 | G20: =G12+G14 -> 325778 | H20: =H12+H14 -> 0
A21: 16 | B21: Felhalmozási célú önkormányzati támogatások (B21) | C21: =SUM(D21:H21) -> 42912000 | D21: =D22 -> 42912000 | E21: =E22 -> 0 | F21: =F22 -> 0 | G21: =G22 -> 0 | H21: =H22 -> 0
A22: 17 | B22: ebből: egyéb központi felhalmozási c tám B 2119 | C22: =SUM(D22:H22) -> 42912000 | D22: 42912000
A23: 18 | B23: Egyéb felhalmozási célú tám áht belülről B 25 | C23: =SUM(D23:H23) -> 445980415 | D23: =SUM(D24:D27) -> 445980415 | E23: =SUM(E24:E27) -> 0 | F23: =SUM(F24:F27) -> 0 | G23: =SUM(G24:G27) -> 0 | H23: =SUM(H24:H27) -> 0
A24: 19 | B24: ebből egyéb központi fc tám (B2512 | C24: =SUM(D24:H24) -> 0
A25: 20 | B25: ebből: egyéb fejezeti kez EU fc (B25 | C25: =SUM(D25:H25) -> 445980415 | D25: 445980415
A26: 21 | B26: ebből: elkülönített állami pénzal fc (B2515 | C26: =SUM(D26:H26) -> 0
A27: 22 | B27: ebből: önkorm és kv-i szervek fc tám (B2516 | C27: =SUM(D27:H27) -> 0
A28: 23 | B28: Felhalmozási célú támogatások államháztartáson belülről (B2) | C28: =SUM(D28:H28) -> 488892415 | D28: =D21+D23 -> 488892415 | E28: =E21+E23 -> 0 | F28: =F21+F23 -> 0 | G28: =G21+G23 -> 0 | H28: =H21+H23 -> 0
A29: 24 | B29: Vagyoni tipusú adók (B34) | C29: =SUM(D29:H29) -> 108243000 | D29: =SUM(D30:D31) -> 108243000 | E29: =SUM(E30:E31) -> 0 | F29: =SUM(F30:F31) -> 0 | G29: =SUM(G30:G31) -> 0 | H29: =SUM(H30:H31) -> 0
A30: 25 | B30: ebből: építményadó (B34111) | C30: =SUM(D30:H30) -> 108243000 | D30: 108243000
A31: 26 | B31: ebből: magánszemélyek kommunális adója (B34114) | C31: =SUM(D31:H31) -> 0
A32: 27 | B32: Értékesítési és forgalmi adók iparűzési adó (B351121) | C32: =SUM(D32:H32) -> 225000000 | D32: 225000000
A33: 28 | B33: Gépjárműadó (B3541) | C33: =SUM(D33:H33) -> 12257244 | D33: 12257244
A34: 29 | B34: Egyéb áruhasználati és szolgáltatási adók, környezetterh díj, talajterhelési díj (B355) | C34: =SUM(D34:H34) -> 0
A35: 30 | B35: Termékek és szolgáltatások adói (B35) | C35: =SUM(D35:H35) -> 237257244 | D35: =SUM(D32:D34) -> 237257244 | E35: =SUM(E32:E34) -> 0 | F35: =SUM(F32:F34) -> 0 | G35: =SUM(G32:G34) -> 0 | H35: =SUM(H32:H34) -> 0
A36: 31 | B36: Egyéb közhatalmi bevételek (B36) | C36: =SUM(D36:H36) -> 400000 | D36: 400000 | E36: =SUM(E37:E38) -> 0 | F36: =SUM(F37:F38) -> 0 | G36: =SUM(G37:G38) -> 0 | H36: =SUM(H37:H38) -> 0
A37: 32 | B37: ebből: szabálysértési pénz- és helyszíni bírság és a közlekedési szabályszegések után kiszabott közigazgatási bírság helyi önkormányzatot megillető része (B361225 köv) | C37: =SUM(D37:H37) -> 50000 | D37: 50000
A38: 33 | B38: ebből: egyéb bírság (B361229 köv) | C38: =SUM(D38:H38) -> 350000 | D38: 350000
A39: 34 | B39: Közhatalmi bevételek (B3) | C39: =SUM(D39:H39) -> 345900244 | D39: =D29+D35+D36 -> 345900244 | E39: =E29+E35+E36 -> 0 | F39: =F29+F35+F36 -> 0 | G39: =G29+G35+G36 -> 0 | H39: =H29+H35+H36 -> 0
A40: 35 | B40: Készlet értékesítés előirányzata B 40111 | C40: =SUM(D40:H40) -> 0
...

Sheet 1.d
B1: Berhida Város Önkormányzata
B2: 2019. évi eredeti költségvetés
F3: 1.d melléklet a 2/2019.(III.1.) önkormányzati rendelethez
C4: BEVÉTELEK | F4: Ft-ban
A5: Sor- szám | B5: Rovat megnevezése | C5: Teljesítés 04.30 összesen | D5: Önkormányzat | E5: Közös Hivatal | F5: TESZ | G5: Kultúrház | H5: Süni
A6: 1 | B6: Helyi önkormányzatok működésének általános támogatása (B1111) | C6: =SUM(D6:H6) -> 43973145 | D6: 43973145 | I6: =C6/'[1]1.'!C6*100 -> 36.10105
A7: 2 | B7: Települési önkormányzatok egyes köznevelési feladatainak támogatása (B112) | C7: =SUM(D7:H7) -> 50843220 | D7: 50843220 | I7: =C7/'[1]1.'!C7*100 -> 34.673988
A8: 3 | B8: Települési önkormányzatok szociális, gyermekjóléti és gyermekétkeztetési feladatainak támogatása (B113) | C8: =SUM(D8:H8) -> 41494227 | D8: 41494227 | I8: =C8/'[1]1.'!C8*100 -> 37.487182
A9: 4 | B9: Települési önkormányzatok kulturális feladatainak támogatása (B114) | C9: =SUM(D9:H9) -> 3111831 | D9: 3111831 | I9: =C9/'[1]1.'!C9*100 -> 42.412159
A10: 5 | B10: Működési célú költségvetési támogatások és kiegészítő támogatások (B115) | C10: =SUM(D10:H10) -> 12636900 | D10: 12636900 | I10: =C10/'[1]1.'!C10*100 -> 100
A11: 6 | B11: Elszámolásból származó bevételek (B116) | C11: =SUM(D11:H11) -> 0 | I11: =C11/'[1]1.'!C11*100 -> #DIV/0!
A12: 7 | B12: Önkormányzatok működési támogatásai (B11) | C12: =SUM(D12:H12) -> 152059323 | D12: =SUM(D6:D11) -> 152059323 | E12: =SUM(E6:E11) -> 0 | F12: =SUM(F6:F11) -> 0 | G12: =SUM(G6:G11) -> 0 | H12: =SUM(H6:H11) -> 0 | I12: =C12/'[1]1.'!C12*100 -> 38.10046
A13: 8 | B13: Elvonások és befizetések bevételei B12 | C13: =SUM(D13:H13) -> 0 | I13: =C13/'[1]1.'!C13*100 -> #DIV/0!
A14: 9 | B14: Egyéb működési célú támogatások bevételei államháztartáson belülről (B16) | C14: =SUM(D14:H14) -> 22178913 | D14: =SUM(D15:D19) -> 9457500 | E14: =SUM(E15:E19) -> 227653 | F14: =SUM(F15:F19) -> 12167982 | G14: =SUM(G15:G19) -> 325778 | H14: =SUM(H15:H19) -> 0 | I14: =C14/'[1]1.'!C14*100 -> 7.6319278
A15: 10 | B15: ebből: egyéb központi kezelésű előirányzatok (B1612 | C15: =SUM(D15:H15) -> 384000 | D15: 384000 | I15: =C15/'[1]1.'!C15*100 -> 4.9069118
A16: 11 | B16: ebből: fejezeti kezelésű EU B16 | C16: =SUM(D16:H16) -> 553431 | E16: 227653 | G16: 325778 | I16: =C16/'[1]1.'!C16*100 -> 0.25703916
A17: 12 | B17: ebből: társadalombiztosítás pénzügyi alapjai (B1614 | C17: =SUM(D17:H17) -> 9073500 | D17: 9073500 | I17: =C17/'[1]1.'!C17*100 -> 33.150292
A18: 13 | B18: ebből: elkülönített állami pénzal (B1615 | C18: =SUM(D18:H18) -> 12167982 | F18: 12167982 | I18: =C18/'[1]1.'!C18*100 -> 30.343741
A19: 14 | B19: ebből: önkormányzat és kv-i szerveik (B 1616 | C19: =SUM(D19:H19) -> 0 | I19: =C19/'[1]1.'!C19*100 -> #DIV/0!
A20: 15 | B20: Működési célú támogatások államháztartáson belülről (B1) | C20: =SUM(D20:H20) -> 174238236 | D20: =D12+D14 -> 161516823 | E20: =E12+E14 -> 227653 | F20: =F12+F14 -> 12167982 | G20: =G12+G14 -> 325778 | H20: =H12+H14 -> 0 | I20: =C20/'[1]1.'!C20*100 -> 25.26261
A21: 16 | B21: Felhalmozási célú önkormányzati támogatások (B21) | C21: =SUM(D21:H21) -> 0 | D21: =D22 -> 0 | E21: =E22 -> 0 | F21: =F22 -> 0 | G21: =G22 -> 0 | H21: =H22 -> 0 | I21: =C21/'[1]1.'!C21*100 -> #DIV/0!
A22: 17 | B22: ebből: egyéb központi felhalmozási c tám B 2119 | C22: =SUM(D22:H22) -> 0 | I22: =C22/'[1]1.'!C22*100 -> #DIV/0!
A23: 18 | B23: Egyéb felhalmozási célú tám áht belülről B 25 | C23: =SUM(D23:H23) -> 2206600 | D23: =SUM(D24:D27) -> 2206600 | E23: =SUM(E24:E27) -> 0 | F23: =SUM(F24:F27) -> 0 | G23: =SUM(G24:G27) -> 0 | H23: =SUM(H24:H27) -> 0 | I23: =C23/'[1]1.'!C23*100 -> 0.50984089
A24: 19 | B24: ebből egyéb központi fc tám (B2512 | C24: =SUM(D24:H24) -> 0 | I24: =C24/'[1]1.'!C24*100 -> #DIV/0!
A25: 20 | B25: ebből: egyéb fejezeti kez EU fc (B25 | C25: =SUM(D25:H25) -> 2206600 | D25: 2206600 | I25: =C25/'[1]1.'!C25*100 -> 0.50984089
A26: 21 | B26: ebből: elkülönített állami pénzal fc (B2515 | C26: =SUM(D26:H26) -> 0 | I26: =C26/'[1]1.'!C26*100 -> #DIV/0!
A27: 22 | B27: ebből: önkorm és kv-i szervek fc tám (B2516 | C27: =SUM(D27:H27) -> 0 | I27: =C27/'[1]1.'!C27*100 -> #DIV/0!
A28: 23 | B28: Felhalmozási célú támogatások államháztartáson belülről (B2) | C28: =SUM(D28:H28) -> 2206600 | D28: =D21+D23 -> 2206600 | E28: =E21+E23 -> 0 | F28: =F21+F23 -> 0 | G28: =G21+G23 -> 0 | H28: =H21+H23 -> 0 | I28: =C28/'[1]1.'!C28*100 -> 0.50984089
A29: 24 | B29: Vagyoni tipusú adók (B34) | C29: =SUM(D29:H29) -> 57985056 | D29: =SUM(D30:D31) -> 57985056 | E29: =SUM(E30:E31) -> 0 | F29: =SUM(F30:F31) -> 0 | G29: =SUM(G30:G31) -> 0 | H29: =SUM(H30:H31) -> 0 | I29: =C29/'[1]1.'!C29*100 -> 53.569336
A30: 25 | B30: ebből: építményadó (B34111) | C30: =SUM(D30:H30) -> 57862306 | D30: 57862306 | I30: =C30/'[1]1.'!C30*100 -> 53.455933
A31: 26 | B31: ebből: magánszemélyek kommunális adója (B34114) | C31: =SUM(D31:H31) -> 122750 | D31: 122750 | I31: =C31/'[1]1.'!C31*100 -> #DIV/0!
A32: 27 | B32: Értékesítési és forgalmi adók iparűzési adó (B351121) | C32: =SUM(D32:H32) -> 89845365 | D32: 89845365 | I32: =C32/'[1]1.'!C32*100 -> 39.931273
A33: 28 | B33: Gépjárműadó (B3541) | C33: =SUM(D33:H33) -> 8460463 | D33: 8460463 | I33: =C33/'[1]1.'!C33*100 -> 71.096328
A34: 29 | B34: Egyéb áruhasználati és szolgáltatási adók, környezetterh díj, talajterhelési díj (B355) | C34: =SUM(D34:H34) -> 0 | I34: =C34/'[1]1.'!C34*100 -> #DIV/0!
A35: 30 | B35: Termékek és szolgáltatások adói (B35) | C35: =SUM(D35:H35) -> 98314828 | D35: =SUM(D32:D34) -> 98305828 | E35: 9000 | F35: =SUM(F32:F34) -> 0 | G35: =SUM(G32:G34) -> 0 | H35: =SUM(H32:H34) -> 0 | I35: =C35/'[1]1.'!C35*100 -> 41.500561
A36: 31 | B36: Egyéb közhatalmi bevételek (B36) | C36: =SUM(D36:H36) -> 68194 | D36: 68194 | E36: =SUM(E37:E38) -> 0 | F36: =SUM(F37:F38) -> 0 | G36: =SUM(G37:G38) -> 0 | H36: =SUM(H37:H38) -> 0 | I36: =C36/'[1]1.'!C36*100 -> 17.0485
A37: 32 | B37: ebből: szabálysértési pénz- és helyszíni bírság és a közlekedési szabályszegések után kiszabott közigazgatási bírság helyi önkormányzatot megillető része (B361225 köv) | C37: =SUM(D37:H37) -> 0 | I37: =C37/'[1]1.'!C37*100 -> 0
A38: 33 | B38: ebből: egyéb bírság (B361229 köv) | C38: =SUM(D38:H38) -> 39034 | D38: 39034 | I38: =C38/'[1]1.'!C38*100 -> 11.152571
A39: 34 | B39: Közhatalmi bevételek (B3) | C39: =SUM(D39:H39) -> 156368078 | D39: =D29+D35+D36 -> 156359078 | E39: =E29+E35+E36 -> 9000 | F39: =F29+F35+F36 -> 0 | G39: =G29+G35+G36 -> 0 | H39: =H29+H35+H36 -> 0 | I39: =C39/'[1]1.'!C39*100 -> 45.252857
A40: 35 | B40: Készlet értékesítés előirányzata B 40111 | C40: =SUM(D40:H40) -> 3000 | G40: 3000 | I40: =C40/'[1]1.'!C40*100 -> #DIV/0!
...

Sheet 2
B1: Berhida Város Önkormányzata | E1: 2. melléklet
B2: 2019. évi eredeti költségvetés | E2: 2/2019.(III.1. ) rendelethez
C3: KIADÁSOK | E3: Ft-ban
A5: Sor- szám | B5: Rovat megnevezése | C5: Eredeti előirányzat összesen | D5: Önkormányzat | E5: Közös Hivatal | F5: TESZ | G5: Kultúrház | H5: Süni
A6: 27 | B6: Személyi juttatások (K1) | C6: =SUM(D6:H6) -> 380862666 | D6: 40882056 | E6: 141170324 | F6: 90434440 | G6: 22626952 | H6: 85748894
A7: 28 | B7: Munkaadókat terhelő járulékok és szociális hozzájárulási adó (K2) | C7: =SUM(D7:H7) -> 73316459 | D7: 8669381 | E7: 28404284 | F7: 13174994 | G7: 4456746 | H7: 18611054
A8: 87 | B8: Dologi kiadások (K3) | C8: =SUM(D8:H8) -> 460366483 | D8: 279675327 | E8: 34390846 | F8: 68919710 | G8: 36241176 | H8: 41139424
A9: 88 | B9: Családi támogatások (K42) | C9: =SUM(D9:H9) -> 0 | D9: =D10 -> 0 | E9: =E10 -> 0 | F9: =F10 -> 0 | G9: =G10 -> 0 | H9: =H10 -> 0
A10: 89 | B10: ebből: az egyéb pénzbeli és természetbeni gyermekvédelmi támogatások (K42132) | C10: =SUM(D10:H10) -> 0
A11: 90 | B11: Intézményi ellátottak pénzbeli juttatásai (K47) | C11: =SUM(D11:H11) -> 800000 | D11: =D12 -> 800000 | E11: =E12 -> 0 | F11: =F12 -> 0 | G11: =G12 -> 0 | H11: =H12 -> 0
A12: 91 | B12: ebből: oktatásban résztvevők pénzbeli juttatásai (K471) | C12: =SUM(D12:H12) -> 800000 | D12: 800000
A13: 92 | B13: Egyéb nem intézményi ellátások (K48) | C13: =SUM(D13:H13) -> 11000000 | D13: =SUM(D14:D15) -> 11000000 | E13: =SUM(E14:E15) -> 0 | F13: =SUM(F14:F15) -> 0 | G13: =SUM(G14:G15) -> 0 | H13: =SUM(H14:H15) -> 0
A14: 93 | B14: ebből: köztemetés [Szoctv. 48.§] (K48123) | C14: =SUM(D14:H14) -> 1000000 | D14: 1000000
A15: 94 | B15: ebből: települési támogatás [Szoctv. 45. §], (K48122) | C15: =SUM(D15:H15) -> 10000000 | D15: 10000000
A16: 96 | B16: Ellátottak pénzbeli juttatásai (K4) | C16: =SUM(D16:H16) -> 11800000 | D16: =D9+D11+D13 -> 11800000 | E16: =E9+E11+E13 -> 0 | F16: =F9+F11+F13 -> 0 | G16: =G9+G11+G13 -> 0 | H16: =H9+H11+H13 -> 0
A17: 97 | B17: Elvonások és befizetések (K5023) | C17: =SUM(D17:H17) -> 0
A18: 98 | B18: Egyéb működési célú támogatások államháztartáson belülre (K506) | C18: =SUM(D18:H18) -> 174487534 | D18: =SUM(D19:D22) -> 174487534 | E18: =SUM(E19:E22) -> 0 | F18: =SUM(F19:F22) -> 0 | G18: =SUM(G19:G22) -> 0 | H18: =SUM(H19:H22) -> 0
A19: 99 | B19: ebből: egyéb központi kezelésű előir (K50612) | C19: =SUM(D19:H19) -> 3500000 | D19: 3500000
A20: 100 | B20: ebből: elkülönített állami pénzalap (K50615) | C20: =SUM(D20:H20) -> 0
A21: 101 | B21: ebből: önkormányzatok és költségv-i szerveik K50616) | C21: =SUM(D21:H21) -> 0
A22: 102 | B22: ebből: társulások és költségvetési szerveik (K50617) | C22: =SUM(D22:H22) -> 170987534 | D22: 170987534
A23: 103 | B23: Egyéb működési célú támogatások államháztartáson kívülre (K512) | C23: =SUM(D23:H23) -> 17019600 | D23: 17019600
B24: Egyházi jogi személy egyé műk célú tám( K51216 | C24: =SUM(D24:H24) -> 0
A25: 104 | B25: Tartalékok (K51311) | C25: =SUM(D25:H25) -> 98212784 | D25: 98212784
A26: 105 | B26: Egyéb működési célú kiadások (K5) | C26: =SUM(D26:H26) -> 289719918 | D26: =D17+D18+D23+D24+D25 -> 289719918 | E26: =E17+E18+E23+E24+E25 -> 0 | F26: =F17+F18+F23+F24+F25 -> 0 | G26: =G17+G18+G23+G24+G25 -> 0 | H26: =H17+H18+H23+H24+H25 -> 0
A27: 106 | B27: Immateriális javak beszerzése, lét (K611) | C27: =SUM(D27:H27) -> 6200 | G27: 6200
A28: 107 | B28: Ingatlanok beszerzése, létesítése (K621) | C28: =SUM(D28:H28) -> 817794559 | D28: 817794559
A29: 108 | B29: Informatikai eszközök beszerzése, létesítése (K631) | C29: =SUM(D29:H29) -> 1020000 | E29: 1000000 | F29: 20000
A30: 109 | B30: Egyéb tárgyi eszközök beszerzése, létesítése (K641) | C30: =SUM(D30:H30) -> 30278515 | D30: 16018494 | E30: 3000000 | F30: 2280000 | G30: 8268921 | H30: 711100
A31: 110 | B31: Beruházási célú előzetesen felszámított általános forgalmi adó (K671) | C31: =SUM(D31:H31) -> 229118426 | D31: 225129526 | E31: 1080000 | F31: 621000 | G31: 2095903 | H31: 191997
A32: 111 | B32: Beruházások (K6) | C32: =SUM(D32:H32) -> 1078217700 | D32: =SUM(D27:D31) -> 1058942579 | E32: =SUM(E27:E31) -> 5080000 | F32: =SUM(F27:F31) -> 2921000 | G32: =SUM(G27:G31) -> 10371024 | H32: =SUM(H27:H31) -> 903097
A33: 112 | B33: Ingatlanok felújítása (K711) | C33: =SUM(D33:H33) -> 125300957 | D33: 125300957
B34: Informatikai eszközök felújítása (K723) | C34: =SUM(D34:H34) -> 200000 | E34: 200000
A35: 113 | B35: Egyéb tárgyi eszközök felújítása (K731) | C35: =SUM(D35:H35) -> 2235723 | D35: 959660 | F35: 1276063
A36: 114 | B36: Felújítási célú előzetesen felszámított általános forgalmi adó (K741) | C36: =SUM(D36:H36) -> 34488902 | D36: 34090365 | E36: 54000 | F36: 344537
A37: 115 | B37: Felújítások (K7) | C37: =SUM(D37:H37) -> 162225582 | D37: =SUM(D33:D36) -> 160350982 | E37: =SUM(E33:E36) -> 254000 | F37: =SUM(F33:F36) -> 1620600 | G37: =SUM(G33:G36) -> 0 | H37: =SUM(H33:H36) -> 0
A38: 116 | B38: Egyéb felhalmozási célú támogatások államháztartáson belülre (K84) | C38: =SUM(D38:H38) -> 7516495 | D38: 7516495 | E38: =SUM(E39:E41) -> 0 | F38: =SUM(F39:F41) -> 0 | G38: =SUM(G39:G41) -> 0 | H38: =SUM(H39:H41) -> 0
A39: 119 | B39: Egyéb felhalmozási célú támogatás Áht-n kívülre (K89) | C39: =SUM(D39:H39) -> 7500000 | D39: =SUM(D40:D41) -> 7500000
A40: 118 | B40: ebből:önkormányzati többségi tulajdonú nem pénzügyi vállalkozások (K89122) | C40: =SUM(D40:H40) -> 7500000 | D40: 7500000
A41: 117 | B41: ebből: egyéb civil szervezeteknek | C41: =SUM(D41:H41) -> 0
...

Sheet 2a
B1: Berhida Város Önkormányzata
B2: 2019. évi költségvetés | C2: 2/a. melléklet a 2/2019.(III.1.) rendelethez
B3: Kiadások | C3: adatok Ft-ban
A5: Felújítások | C5: Eredeti előir | D5: Mód. Előirányzat | E5: változás | F5: Mód. Előirányzat | G5: Teljesítés 09.30
A6: 1 | B6: TESZ egyéb gép, berendezés, jármű felújítás | C6: 1620600 | D6: 1620600 | F6: 1620600 | G6: 0
A7: 2 | B7: ÖH informatikai eszköz felújítás | C7: 254000 | D7: 254000 | F7: 254000 | G7: 0
A8: 3 | B8: ÖNK külterületi utak pályázat | C8: 45985797 | D8: 45985797 | F8: 45985797 | G8: 0
A9: 4 | B9: ÖNK tervek | C9: 4000000 | D9: 5000000 | F9: 5000000 | G9: 508000
A10: 5 | B10: ÖNK Gyermekorvosi és védőnői szolg. Épület felúj pályázat 64 m | C10: 67640000 | D10: 67650000 | F10: 67650000 | G10: 3076200
A11: 6 | B11: ÖNK Petőfi Műv Ház mellékbejárat ajtócsere | C11: 339380 | D11: 339380 | F11: 339380 | G11: 339380
A12: 7 | B12: ÖNK Üzletsor virág-zöldség-vegyesker. ablakcsere | C12: 1028959 | D12: 1028959 | F12: 1028959 | G12: 1028959
A13: 8 | B13: ÖNK Süni konyha felújítás pályázat | C13: 33671602 | D13: 33671602 | F13: 33671602 | G13: 0
A14: 9 | B14: ÖNK ivóvíz bekötés felújítások Viziközmű szl-.ról | C14: 1116976 | D14: 1116976 | F14: 1116976 | G14: 0
A15: 10 | B15: ÖNK viziközmű alapból tervek | C15: 2349500 | D15: 2349500 | F15: 2349500 | G15: 508000
A16: 11 | B16: ÖNK viziközmű alapból keretszerződés | C16: 3000000 | D16: 3000000 | E16: -3000000 | F16: 0 | G16: 0
A17: 12 | B17: ÖNK MTZ traktor felújítás | C17: 1218768 | D17: 1327338 | F17: 1327338 | G17: 1327338
A18: 13 | B18: ÖNK Petőfi Műv ház tetőszigetelés javítása | D18: 806155 | F18: 806155 | G18: 806155
A19: 15 | B19: ÖNK Péti úti ravatalozó kültéri rav.hely és lábazat felújítás | D19: 900000 | F19: 900000 | G19: 0
A20: 16 | B20: ÖNK Művelődési ház érintésvédelem vill szekrény | D20: 1991430 | E20: -1665970 | F20: 325460 | G20: 0
A21: 17 | B21: ÖNK kamera rendszer felújítás | D21: 304202 | F21: 304202 | G21: 304202
A22: 18 | B22: ÖNK Víziközmű Alap szennyvíz tisztító aknák felúj | D22: 1587963 | F22: 1587963 | G22: 1587963
A23: 19 | B23: ÖNK rendőrség épület felújítás BM pályázat | D23: 42100000 | F23: 42100000 | G23: 635000
A24: 20 | B24: ÖNK Árpád köz 3. szolg. Lakás csőtörést követő gépész közműves felúj. | E24: 900000 | F24: 900000
A25: 21 | B25: Összesen | C25: 162225582 | D25: 211033902 | E25: -3765970 | F25: 207267932 | G25: 10121197

Sheet 2b
B1: Berhida Város Önkormányzata
B2: 2019. évi költségvetés | C2: 2/b. melléklet a 2/2019.(III.1.) rendelethez
B3: Kiadások | C3: adatok Ft-ban
A5: Beruházások | C5: Eredeti előir | D5: Mód előir. | E5: változás | F5: Mód előir.
A6: 1 | B6: TESZ informatikai eszközök+áfa | C6: 25400 | D6: 65400 | F6: =D6+E6 -> 65400
A7: 2 | B7: TESZ egyéb gép- berendezés+áfa | C7: 2895600 | D7: 4491600 | F7: =D7+E7 -> 4491600
A8: 3 | B8: Kultúrház egyéb tárgyi eszköz beszerzés (világító testek,kuka) | C8: 508000 | D8: 959810 | F8: =D8+E8 -> 959810
A9: 4 | B9: Kultúrház éven túli könyvbeszerzés | C9: 660450 | D9: 897450 | F9: =D9+E9 -> 897450
A10: 5 | B10: Kultúrház immateriális javak beszerzése | C10: 7874 | D10: =C10 -> 7874 | F10: =D10+E10 -> 7874
A11: 6 | B11: Kultúrház 2019. évi érdekeltség növ, egyéb gép, berend | C11: 508000 | D11: 1880000 | F11: =D11+E11 -> 1880000
A12: 7 | B12: Kultúrház 2018. érdekeltségnöv pályázat egyéb gép, berend (színpad felsőgépészet) | C12: 7759700 | D12: =C12 -> 7759700 | F12: =D12+E12 -> 7759700
A13: 8 | B13: Kultúr kisértékű te. Csóri pályázat | C13: 927000 | D13: 963500 | F13: =D13+E13 -> 963500
A14: 9 | B14: Süni egyéb tárgyi eszköz + áfa | C14: 903097 | D14: 1002097 | F14: =D14+E14 -> 1002097
A15: 10 | B15: ÖH informatikai eszközök + áfa | C15: 1270000 | D15: =C15 -> 1270000 | F15: =D15+E15 -> 1270000
A16: 11 | B16: ÖH egyéb gép, berend + áfa | C16: 3810000 | D16: =C16 -> 3810000 | F16: =D16+E16 -> 3810000
A17: 12 | B17: ÖNK védőnői szolg. Egyéb eszközbeszerzés | C17: 508000 | D17: =C17 -> 508000 | F17: =D17+E17 -> 508000
A18: 13 | B18: ÖNK kerékpárút kialakítás TOP 3.1.1-16 pályázat | C18: 245954948 | D18: 285671242 | F18: =D18+E18 -> 285671242
A19: 14 | B19: ÖNK szennyvíz tisztítótelep, csatornahál fejl. KEHOP pályázat | C19: 776790555 | D19: =C19 -> 776790555 | F19: =D19+E19 -> 776790555
A20: 15 | B20: ÖNK tervek | C20: 2000000 | D20: 3000000 | F20: =D20+E20 -> 3000000
A21: 16 | B21: ÖNK 181/2 hrsz-ú közút közvilágítási hálózatra csatlakozás | C21: 762000 | D21: 1742000 | F21: =D21+E21 -> 1742000
A22: 17 | B22: ÖNK Kiskovácsi temető ravatalozó bővítés Korm. Hiv hatós. Előir | C22: 9635788 | D22: 9559877 | F22: =D22+E22 -> 9559877
A23: 18 | B23: ÖNK közvilágítás korszer | C23: 700000 | D23: 2235000 | F23: =D23+E23 -> 2235000
A24: 19 | B24: ÖNK urnahely temetkezési hely kialakítás | C24: 1500000 | D24: =C24 -> 1500000 | F24: =D24+E24 -> 1500000
A25: 20 | B25: ÖNK sportparkok kialakítása térburkolat | C25: 1955800 | D25: =C25 -> 1955800 | F25: =D25+E25 -> 1955800
A26: 21 | B26: ÖNK sportpark napelemes lámpa | C26: 210000 | D26: =C26 -> 210000 | F26: =D26+E26 -> 210000
A27: 22 | B27: ÖNK VP6-7.2.1.4.1.3-17 közétkeztetés fejl. Süni eszközfejl.pály. | C27: 18925488 | D27: =C27 -> 18925488 | F27: =D27+E27 -> 18925488
A28: 23 | B28: ÖNK Magyar Ifjúság-Liszt F. u. közötti járdához területvásárlás | D28: 400000 | F28: =D28+E28 -> 400000
A29: 24 | B29: ÖNK Bem u. sarka terület átvétel kapcsán kerítés építés | D29: 0 | F29: =D29+E29 -> 0
A30: 25 | B30: ÖNK védőnői szolg. informatikai eszközbeszerzés | D30: 60000 | F30: =D30+E30 -> 60000
A31: 26 | B31: ÖNK kamerák elhelyezése, cseréje | D31: 3000000 | F31: =D31+E31 -> 3000000
A32: 27 | B32: ÖNK buszmegálló beszerzés | D32: 1135000 | F32: =D32+E32 -> 1135000
A33: 28 | B33: ÖNK térburkolat Péti úti temetőben (urnafalnál) | D33: 800000 | F33: =D33+E33 -> 800000
A34: 29 | B34: ÖNK Süni ovifoci pálya pályázat kerítés | D34: 1200000 | F34: =D34+E34 -> 1200000
A35: 30 | B35: ÖNK rendezési terv, települési rendezési eszköz terv módosítás | D35: 1651000 | F35: =D35+E35 -> 1651000
A36: 31 | B36: Kultúr szakkörök kisértékű egyéb eszköz beszerz.+áfa (függöny,blúz Pere-Rúzs; Berhida TE ruha) | D36: 193190 | F36: =D36+E36 -> 193190
A37: 32 | B37: ÖNK rendezetlen ingatlanvásárlás | D37: 2200000 | F37: =D37+E37 -> 2200000
A38: 33 | B38: ÖNK Víziközmű Alap szennyvíz tisztító aknák felúj | D38: 0 | F38: =D38+E38 -> 0
A39: 34 | B39: Süni informatikai tárgyi eszköz + áfa | D39: 2000 | F39: =D39+E39 -> 2000
... A41: 36 | B41: ÖNK VP6-19.2.1.-7-2-17 közösségi együttműködést segítő fejl. Tám. Fittnesparkok | D41: 10224000 | F41: =D41+E41 -> 10224000
A42: 37 | B42: ÖNK viziközmű alapból 06/2 hrsz-ú ingatlan új víz és szennyvízbekötő vezeték megvalósítása | D42: 11722100 | E42: 66040 | F42: =D42+E42 -> 11788140
...

Sheet 2-c
A1: BERHIDA VÁROS ÖNKORMÁNYZATA
A2: 2019. évi költségvetési tervben a 2018. évi költségvetési maradvány igénybevétel részletezése
E3: 2/c melléklet
E4: a 2/2019. (III.1.) önkormányzati rendelethez
E5: adatok Ft-ban
A6: kv-i maradvány | C6: céltart | D6: Felhalm.c t | E6: Felújítás | F6: Beruházás | G6: dologi | H6: finanszírozás | I6: személyi | J6: járulék
A7: Egyéb viziközmű alap | B7: =SUM(C7:J7) -> 65419810 | C7: 65419810
A8: Új HKA alap talajterh díj | B8: =SUM(C8:J8) -> 772974 | C8: 772974
A9: ÖNK külterületi utak önrész céltartba | B9: =SUM(C9:J9) -> 15828586 | E9: 15828586
A10: ÖNK sportparkok kialakítása térburkolat | B10: =SUM(C10:J10) -> 1955000 | F10: 1955000
A11: ÖNK állami támogatás elszám. Étkeztetés | B11: =SUM(C11:J11) -> 4000000 | C11: 4000000
A12: ÖNK sportparkok térburkolat | B12: =SUM(C12:J12) -> 1955800 | F12: 1955800
A13: ÖNK sportpark közvilágítás, napelemes | B13: =SUM(C13:J13) -> 210000 | F13: 210000
A14: ÖNK ingatlan havaria céltartalékba | B14: =SUM(C14:J14) -> 4000000 | C14: 4000000
A15: ÖNK pályázati tartalék | B15: =SUM(C15:J15) -> 7020000 | C15: 7020000
A16: TOPOS pályázat Megyei önk díj | B16: =SUM(C16:J16) -> 2460000 | G16: 2460000
A17: ÖNK VP6-7.2.1.4.1.3-17 közétkeztetés fejl. Süni eszközfejl.pály. | B17: =SUM(C17:J17) -> 18925488 | F17: 18925488
A18: ÖNK 181/2 hrsz-ú közút közvilágítási hálózatra csatlakozás | B18: =SUM(C18:J18) -> 762000 | F18: 762000
A19: ÖNK TOP pályázat közlekedés fejlesztés, kerékpárút | B19: =SUM(C19:J19) -> 256445840 | F19: 245954948 | G19: 7562892 | I19: 2450209 | J19: 477791
A20: ÖNK Üzletsor virág-zöldség-vegyesker. ablakcsere | B20: =SUM(C20:J20) -> 1028959 | E20: 1028959
A21: ÖNK ivóvíz bekötés felújítások Viziközmű szl-.ról | B21: =SUM(C21:J21) -> 1116976 | E21: 1116976
A22: ÖNK viziközmű alapból tervek | B22: =SUM(C22:J22) -> 2349500 | E22: 2349500
A23: ÖNK viziközmű alapból keretszerződés | B23: =SUM(C23:J23) -> 3000000 | E23: 3000000
A24: ÖNK Várpalota szennyvíztelep centrifuga, iszavíztelenítő felúj | B24: =SUM(C24:J24) -> 7516495 | D24: 7516495
A25: ÖNK Bakonykarszt telek kialak megállapodás törlesztés | B25: =SUM(C25:J25) -> 7500000 | D25: 7500000
A26: ÖNK úrnahely kialakítás | B26: =SUM(C26:J26) -> 1500000 | F26: 1500000
A27: ÖNK Kiskovácsi ravatozó bővítés | B27: =SUM(C27:J27) -> 9635788 | F27: 9635788
A28: ÖNK közvilágítás korszer | B28: =SUM(C28:J28) -> 700000 | F28: 700000
A29: ÖNK tervek | B29: =SUM(C29:J29) -> 6000000 | E29: 4000000 | F29: 2000000
A30: ÖNK Petőfi MŰV Ház mellékbejárati ajtó csere | B30: =SUM(C30:J30) -> 339380 | E30: 339380
A31: ÖNK Téli rezsi csökkentés BM pályázat | B31: =SUM(C31:J31) -> 2544000 | G31: 2544000
A32: ÖNK konyha épület felújítás Süni | B32: =SUM(C32:J32) -> 33671602 | E32: 33671602
A33: ÖNK orvosi rendelő felúj pályázat | B33: =SUM(C33:J33) -> 67640000 | E33: 67640000
A34: Kultúrház 2018 közműv érd növ pály | B34: =SUM(C34:J34) -> 7759700 | F34: 7759700
A35: Kultúrház Csóry pályázat 2018 | B35: =SUM(C35:J35) -> 2335000 | F35: 927000 | G35: 1408000
A36: Állami megelőlegezés visszafizetése MÁK | B36: =SUM(C36:J36) -> 13401715 | H36: 13401715
A37: TESZ közfoglalkoztatotti előleg Munkaügyi Központ | B37: =SUM(C37:J37) -> 8053000 | I37: 7337585 | J37: 715415
A38: TESZ város üzemeltetési feladatok | B38: =SUM(C38:J38) -> 24620921 | G38: 24620921
A39: ÖNK MTZ traktor felújítás | B39: =SUM(C39:J39) -> 1218768 | E39: 1218768
A42: Mindösszesen | B42: =SUM(B7:B41) -> 581687302 | C42: =SUM(C7:C41) -> 81212784 | D42: =SUM(D7:D41) -> 15016495 | E42: =SUM(E7:E41) -> 130193771 | F42: =SUM(F7:F41) -> 292285724 | G42: =SUM(G7:G41) -> 38595813 | H42: =SUM(H7:H41) -> 13401715 | I42: =SUM(I7:I41) -> 9787794 | J42: =SUM(J7:J41) -> 1193206
...

Sheet 2.d
B1: Berhida Város Önkormányzata
B2: 2019. évi eredeti költségvetés | E2: 2/d. melléklet a 2/2019.(III.1.) rendelethez
C3: KIADÁSOK | E3: Ft-ban
A5: Sor- szám | B5: Rovat megnevezése | C5: Mód előirányzat összesen | D5: Önkormányzat | E5: Közös Hivatal | F5: TESZ | G5: Kultúrház | H5: Süni
A6: 27 | B6: Személyi juttatások (K1) | C6: =SUM(D6:H6) -> 430846783 | D6: 43198155 | E6: 156167809 | F6: 101956900 | G6: 29809443 | H6: 99714476
A7: 28 | B7: Munkaadókat terhelő járulékok és szociális hozzájárulási adó (K2) | C7: =SUM(D7:H7) -> 84121659 | D7: 9166575 | E7: 32624488 | F7: 15131912 | G7: 5907575 | H7: 21291109
A8: 87 | B8: Dologi kiadások (K3) | C8: =SUM(D8:H8) -> 500957516 | D8: 310430117 | E8: 36756385 | F8: 73265880 | G8: 37438265 | H8: 43066869
A9: 88 | B9: Családi támogatások (K42) | C9: =SUM(D9:H9) -> 3546500 | D9: =D10 -> 3546500 | E9: =E10 -> 0 | F9: =F10 -> 0 | G9: =G10 -> 0 | H9: =H10 -> 0
A10: 89 | B10: ebből: az egyéb pénzbeli és természetbeni gyermekvédelmi támogatások (K42132) | C10: =SUM(D10:H10) -> 3546500 | D10: 3546500
A11: 90 | B11: Intézményi ellátottak pénzbeli juttatásai (K47) | C11: =SUM(D11:H11) -> 800000 | D11: =D12 -> 800000 | E11: =E12 -> 0 | F11: =F12 -> 0 | G11: =G12 -> 0 | H11: =H12 -> 0
A12: 91 | B12: ebből: oktatásban résztvevők pénzbeli juttatásai (K471) | C12: =SUM(D12:H12) -> 800000 | D12: 800000
A13: 92 | B13: Egyéb nem intézményi ellátások (K48) | C13: =SUM(D13:H13) -> 9071998 | D13: =SUM(D14:D15) -> 9071998 | E13: =SUM(E14:E15) -> 0 | F13: =SUM(F14:F15) -> 0 | G13: =SUM(G14:G15) -> 0 | H13: =SUM(H14:H15) -> 0
A14: 93 | B14: ebből: köztemetés [Szoctv. 48.§] (K48123) | C14: =SUM(D14:H14) -> 1000000 | D14: 1000000
A15: 94 | B15: ebből: települési támogatás [Szoctv. 45. §], (K48122) | C15: =SUM(D15:H15) -> 8071998 | D15: 8071998
A16: 96 | B16: Ellátottak pénzbeli juttatásai (K4) | C16: =SUM(D16:H16) -> 13418498 | D16: =D9+D11+D13 -> 13418498 | E16: =E9+E11+E13 -> 0 | F16: =F9+F11+F13 -> 0 | G16: =G9+G11+G13 -> 0 | H16: =H9+H11+H13 -> 0
A17: 97 | B17: Elvonások és befizetések (K5023) | C17: =SUM(D17:H17) -> 0
A18: 98 | B18: Egyéb működési célú támogatások államháztartáson belülre (K506) | C18: =SUM(D18:H18) -> 198744843 | D18: =SUM(D19:D22) -> 198367411 | E18: =SUM(E19:E22) -> 0 | F18: =SUM(F19:F22) -> 227432 | G18: =SUM(G19:G22) -> 150000 | H18: =SUM(H19:H22) -> 0
A19: 99 | B19: ebből: egyéb központi kezelésű előir (K50612) | C19: =SUM(D19:H19) -> 4650000 | D19: 4500000 | G19: 150000
A20: 100 | B20: ebből: elkülönített állami pénzalap (K50615) | C20: =SUM(D20:H20) -> 227432 | F20: 227432
A21: 101 | B21: ebből: önkormányzatok és költségv-i szerveik K50616) | C21: =SUM(D21:H21) -> 0
A22: 102 | B22: ebből: társulások és költségvetési szerveik (K50617) | C22: =SUM(D22:H22) -> 193867411 | D22: 193867411
A23: 103 | B23: Egyéb működési célú támogatások államháztartáson kívülre (K512) | C23: =SUM(D23:H23) -> 23144398 | D23: 23144398
B24: Egyházi jogi személy egyé műk célú tám( K51216 | C24: =SUM(D24:H24) -> 0
A25: 104 | B25: Tartalékok (K51311) | C25: =SUM(D25:H25) -> 116989280 | D25: 116989280
A26: 105 | B26: Egyéb működési célú kiadások (K5) | C26: =SUM(D26:H26) -> 338878521 | D26: =D17+D18+D23+D24+D25 -> 338501089 | E26: =E17+E18+E23+E24+E25 -> 0 | F26: =F17+F18+F23+F24+F25 -> 227432 | G26: =G17+G18+G23+G24+G25 -> 150000 | H26: =H17+H18+H23+H24+H25 -> 0
A27: 106 | B27: Immateriális javak beszerzése, lét (K611) | C27: =SUM(D27:H27) -> 1306200 | D27: 1300000 | G27: 6200
A28: 107 | B28: Ingatlanok beszerzése, létesítése (K621) | C28: =SUM(D28:H28) -> 1034994748 | D28: 1034994748
A29: 108 | B29: Informatikai eszközök beszerzése, létesítése (K631) | C29: =SUM(D29:H29) -> 1119244 | D29: 47244 | E29: 1000000 | F29: 60000 | H29: 12000
A30: 109 | B30: Egyéb tárgyi eszközök beszerzése, létesítése (K641) | C30: =SUM(D30:H30) -> 42920262 | D30: 25342625 | E30: 3000000 | F30: 3528189 | G30: 10270820 | H30: 778628
A31: 110 | B31: Beruházási célú előzetesen felszámított általános forgalmi adó (K671) | C31: =SUM(D31:H31) -> 81568180 | D31: 76921396 | E31: 1080000 | F31: 968811 | G31: 2384504 | H31: 213469
A32: 111 | B32: Beruházások (K6) | C32: =SUM(D32:H32) -> 1161908634 | D32: =SUM(D27:D31) -> 1138606013 | E32: =SUM(E27:E31) -> 5080000 | F32: =SUM(F27:F31) -> 4557000 | G32: =SUM(G27:G31) -> 12661524 | H32: =SUM(H27:H31) -> 1004097
A33: 112 | B33: Ingatlanok felújítása (K711) | C33: =SUM(D33:H33) -> 161130971 | D33: 161130971
B34: Informatikai eszközök felújítása (K723) | C34: =SUM(D34:H34) -> 200000 | E34: 200000
A35: 113 | B35: Egyéb tárgyi eszközök felújítása (K731) | C35: =SUM(D35:H35) -> 1872126 | D35: 596063 | F35: 1276063
A36: 114 | B36: Felújítási célú előzetesen felszámított általános forgalmi adó (K741) | C36: =SUM(D36:H36) -> 44064835 | D36: 43666298 | E36: 54000 | F36: 344537
A37: 115 | B37: Felújítások (K7) | C37: =SUM(D37:H37) -> 207267932 | D37: =SUM(D33:D36) -> 205393332 | E37: =SUM(E33:E36) -> 254000 | F37: =SUM(F33:F36) -> 1620600 | G37: =SUM(G33:G36) -> 0 | H37: =SUM(H33:H36) -> 0
A38: 116 | B38: Egyéb felhalmozási célú támogatások államháztartáson belülre (K84) | C38: =SUM(D38:H38) -> 7516495 | D38: 7516495 | E38: =SUM(E39:E41) -> 0 | F38: =SUM(F39:F41) -> 0 | G38: =SUM(G39:G41) -> 0 | H38: =SUM(H39:H41) -> 0
A39: 119 | B39: Egyéb felhalmozási célú támogatás Áht-n kívülre (K89) | C39: =SUM(D39:H39) -> 17672517 | D39: =SUM(D40:D41) -> 17672517
A40: 118 | B40: ebből:önkormányzati többségi tulajdonú nem pénzügyi vállalkozások (K89122) | C40: =SUM(D40:H40) -> 8562517 | D40: 8562517
A41: 117 | B41: ebből: egyéb civil szervezeteknek | C41: =SUM(D41:H41) -> 9110000 | D41: 9110000
...

Sheet 2.e
B1: Berhida Város Önkormányzata
B2: 2019. évi eredeti költségvetés | E2: 2/e. melléklet a 2/2019.(III.1.) rendelethez
C3: KIADÁSOK | E3: Ft-ban
A5: Sor- szám | B5: Rovat megnevezése | C5: Teljesítés 09.30 összesen | D5: Önkormányzat | E5: Közös Hivatal | F5: TESZ | G5: Kultúrház | H5: Süni
A6: 27 | B6: Személyi juttatások (K1) | C6: 205537411 | D6: 23649217 | E6: 104519888 | G6: 17257862 | H6: 60110444
A7: 28 | B7: Munkaadókat terhelő járulékok és szociális hozzájárulási adó (K2) | C7: 40883483 | D7: 4153675 | E7: 21839838 | G7: 3312531 | H7: 11577439
A8: 87 | B8: Dologi kiadások (K3) | C8: 137393209 | D8: 65378128 | E8: 16901030 | G8: 24867684 | H8: 30246367
A9: 88 | B9: Családi támogatások (K42) | C9: 1880000 | D9: 1880000 | E9: 0 | F9: 0 | G9: 0 | H9: 0
A10: 89 | B10: ebből: az egyéb pénzbeli és természetbeni gyermekvédelmi támogatások (K42132) | C10: 1880000 | D10: 1880000
A11: 90 | B11: Intézményi ellátottak pénzbeli juttatásai (K47) | C11: 0 | D11: 0 | E11: 0 | F11: 0 | G11: 0 | H11: 0
A12: 91 | B12: ebből: oktatásban résztvevők pénzbeli juttatásai (K471) | C12: 0
A13: 92 | B13: Egyéb nem intézményi ellátások (K48) | C13: 3034596 | D13: 3034596 | E13: 0 | F13: 0 | G13: 0 | H13: 0
A14: 93 | B14: ebből: köztemetés [Szoctv. 48.§] (K48123) | C14: 453596 | D14: 453596
A15: 94 | B15: ebből: települési támogatás [Szoctv. 45. §], (K48122) | C15: 2581000 | D15: 2581000
A16: 96 | B16: Ellátottak pénzbeli juttatásai (K4) | C16: 4914596 | D16: 4914596 | E16: 0 | F16: 0 | G16: 0 | H16: 0
A17: 97 | B17: Elvonások és befizetések (K5023) | C17: 0
A18: 98 | B18: Egyéb működési célú támogatások államháztartáson belülre (K506) | C18: 113829709 | D18: 113671709 | E18: 0 | F18: 0 | G18: 158000 | H18: 0
A19: 99 | B19: ebből: egyéb központi kezelésű előir (K50612) | C19: 3088000 | D19: 2930000 | G19: 158000
A20: 100 | B20: ebből: elkülönített állami pénzalap (K50615) | C20: 0
A21: 101 | B21: ebből: önkormányzatok és költségv-i szerveik K50616) | C21: 0
A22: 102 | B22: ebből: társulások és költségvetési szerveik (K50617) | C22: 110741709 | D22: 110741709
A23: 103 | B23: Egyéb működési célú támogatások államháztartáson kívülre (K512) | C23: 16222115 | D23: 16222115
B24: Egyházi jogi személy egyé műk célú tám( K51216 | C24: 0
A25: 104 | B25: Tartalékok (K51311) | C25: 0
A26: 105 | B26: Egyéb működési célú kiadások (K5) | C26: 130051824 | D26: 129893824 | E26: 0 | F26: 0 | G26: 158000 | H26: 0
A27: 106 | B27: Immateriális javak beszerzése, lét (K611) | C27: 0
A28: 107 | B28: Ingatlanok beszerzése, létesítése (K621) | C28: 80475649 | D28: 80475649
A29: 108 | B29: Informatikai eszközök beszerzése, létesítése (K631) | C29: 268260 | D29: 22654 | E29: 244031 | H29: 1575
A30: 109 | B30: Egyéb tárgyi eszközök beszerzése, létesítése (K641) | C30: 12361421 | D30: 3342788 | E30: 924774 | G30: 7745049 | H30: 348810
A31: 110 | B31: Beruházási célú előzetesen felszámított általános forgalmi adó (K671) | C31: 6087204 | D31: 3988076 | E31: 278371 | G31: 1726153 | H31: 94604
A32: 111 | B32: Beruházások (K6) | C32: 99192534 | D32: 87829167 | E32: 1447176 | F32: 0 | G32: 9471202 | H32: 444989
A33: 112 | B33: Ingatlanok felújítása (K711) | C33: 6684770 | D33: 6684770
B34: Informatikai eszközök felújítása (K723) | C34: 0
A35: 113 | B35: Egyéb tárgyi eszközök felújítása (K731) | C35: 1284677 | D35: 1284677
A36: 114 | B36: Felújítási célú előzetesen felszámított általános forgalmi adó (K741) | C36: 2151750 | D36: 2151750
A37: 115 | B37: Felújítások (K7) | C37: 10121197 | D37: 10121197 | E37: 0 | F37: 0 | G37: 0 | H37: 0
A38: 116 | B38: Egyéb felhalmozási célú támogatások államháztartáson belülre (K84) | C38: 0 | E38: 0 | F38: 0 | G38: 0 | H38: 0
A39: 119 | B39: Egyéb felhalmozási célú támogatás Áht-n kívülre (K89) | C39: 12368900 | D39: 12368900
A40: 118 | B40: ebből:önkormányzati többségi tulajdonú nem pénzügyi vállalkozások (K89122) | C40: 7500000 | D40: 7500000
A41: 117 | B41: ebből: egyéb civil szervezeteknek | C41: 0
...

Sheet 4.mell
C1: BERHIDA VÁROS ÖNKORMÁNYZATA
D2: 2019.évi MÉRLEGTERV | G2: 4. melléklet a 2/2019.(III.1.) rendelethez
C3: a működési és felhalmozási célú bevételi és kiadási előirányzatokról | G3: adatok Ft-ban
B5: A | C5: B | D5: C | E5: D | F5: E | G5: F
A6: 1 | B6: BEVÉTELI TERV | E6: KIADÁSI TERV
A7: 2 | B7: I. | C7: Működési célú bevételi terv | E7: I. | F7: Működési célú kiadási terv
A8: 3 | B8: a.) | C8: Műk c támogatások áht belülről | D8: ='[2]2'!C20 -> 714980710 | E8: a.) | F8: Személyi juttatások | G8: ='[2]4'!C6 -> 430846783
A9: 4 | B9: b.) | C9: Közhatalmi bevételek | D9: ='[2]2'!C39 -> 345900244 | E9: b.) | F9: Munkaadókat t járulékok | G9: ='[2]4'!C7 -> 84121659
A10: 5 | B10: c.) | C10: Működési bevételek | D10: ='[2]2'!C61 -> 43678546 | E10: c.) | F10: Dologi kiadások | G10: ='[2]4'!C8 -> 500957516
A11: 6 | B11: d.) | C11: Működési átvett pénzeszközök | D11: ='[2]2'!C66 -> 435000 | E11: d.) | F11: Ellátottak pénzbeli jutt | G11: ='[2]4'!C16 -> 13418498
A12: 7 | B12: e.) | E12: e.) | F12: Egyéb műk c kiadások | G12: ='[2]4'!C26 -> 338878521
A13: 8 | B13: f.) | E13: f.)
A14: 9 | E14: g.)
A15: 10
A16: 11 | C16: I. Bevételek: | D16: =SUM(D8:D15) -> 1104994500 | F16: I. Kiadások együtt: | G16: =SUM(G8:G14) -> 1368222977 | H16: =D16-G16 -> -263228477
A17: 12 | F17: Működési célú bevételek: | G17: =D16 -> 1104994500
A18: 13 | F18: Működési egyenleg: | G18: =G16-G17 -> 263228477
A19: 14
A20: 15 | B20: II. | C20: Felhalmozási célú bevételi terv | E20: II. | F20: Felhalmozási célú kiadások:
A21: 16 | B21: 1.) | C21: Felhalmozási c támog. Áht-n bel | D21: ='[2]2'!C28 -> 488892415 | E21: 1.) | F21: Beruházások | G21: ='[2]4'!C32 -> 1161908634
A22: 17 | B22: 2.) | C22: Felhalmozási bevételek | D22: ='[2]2'!C64 -> 20900614 | E22: 2.) | F22: Felújítások | G22: ='[2]4'!C37 -> 207267932
A23: 18 | B23: 3.) | C23: Egyéb felhalmozási c átvett pe | D23: ='[2]2'!C70 -> 728000 | E23: 3.) | F23: Egyéb felhalm c kiadások | G23: ='[2]4'!C42 -> 25189012
A24: 19 | B24: 4.) | E24: 4.)
A25: 20 | B25: 5.) | E25: 5.)
A26: 21 | B26: 6.)
A27: 22 | B27: 7.)
A28: 23 | B28: 8.)
A29: 24 | C29: II. Bevételek: | D29: =SUM(D21:D28) -> 510521029 | F29: II. Kiadások: | G29: =SUM(G21:G26) -> 1394365578 | H29: =D29-G29 -> -883844549
A30: 25 | F30: Felhalm.célú bevételek: | G30: =D29 -> 510521029
A31: 26 | F31: Felhalm. egyenleg: | G31: =G29-G30 -> 883844549
A32: 27
A33: 28 | C33: Bevételek összesen (I+II): | D33: =D16+D29 -> 1615515529 | F33: Kiadások összesen (I+II): | G33: =SUM(G16+G29) -> 2762588555 | H33: =D33-G33 -> -1147073026
C34: iránytószervi támogatás | D34: ='[2]2'!C75 -> 555010950 | F34: iránítószervi támogatás | G34: ='[2]4'!C45 -> 555010950 | H34: =D34+D35+D36+D37-G34-G37 -> 1147073026
C35: kötvény visszaváltás | D35: ='[2]2'!C72 -> 60000000
C36: Áht megelőlegezés | D36: ='[2]2'!C74 -> 35374483
C37: kv-i mararvány | D37: ='[2]2'!C73 -> 1100474741 | F37: Áht megelőleg visszafiz | G37: ='[2]4'!C44 -> 48776198
C38: Össz bevétel | D38: =SUM(D33:D37) -> 3366375703 | F38: Össz Kiadás | G38: =SUM(G33:G37) -> 3366375703

Sheet 3
D1: Berhida Város Önkormányzata | H1: 3. melléklet
