Workbook

Sheet 1
B1: Berhida Város Önkormányzata | F1: 1. melléklet
B2: 2018. évi eredeti költségvetés | F2: 2/2018.(II.23. ) önkormányzati rendelethez
F3: Ft-ban
C4: BEVÉTELEK
A5: Sor- szám | B5: Rovat megnevezése | C5: Eredeti előirányzat összesen | D5: Önkormányzat | E5: Közös Hivatal | F5: TESZ | G5: Kultúrház | H5: Süni
A6: 1 | B6: Helyi önkormányzatok működésének általános támogatása (B1111) | C6: =SUM(D6:H6) -> 108519738 | D6: 108519738
A7: 2 | B7: Települési önkormányzatok egyes köznevelési feladatainak támogatása (B112) | C7: =SUM(D7:H7) -> 142116067 | D7: 142116067
A8: 3 | B8: Települési önkormányzatok szociális, gyermekjóléti és gyermekétkeztetési feladatainak támogatása (B113) | C8: =SUM(D8:H8) -> 97760769 | D8: 97760769
A9: 4 | B9: Települési önkormányzatok kulturális feladatainak támogatása (B114) | C9: =SUM(D9:H9) -> 7215230 | D9: 7215230
A10: 5 | B10: Működési célú költségvetési támogatások és kiegészítő támogatások (B115) | C10: =SUM(D10:H10) -> 0
A11: 6 | B11: Elszámolásból származó bevételek (B116) | C11: =SUM(D11:H11) -> 0
A12: 7 | B12: Önkormányzatok működési támogatásai (B11) | C12: =SUM(D12:H12) -> 355611804 | D12: =SUM(D6:D11) -> 355611804 | E12: =SUM(E6:E11) -> 0 | F12: =SUM(F6:F11) -> 0 | G12: =SUM(G6:G11) -> 0 | H12: =SUM(H6:H11) -> 0
A13: 8 | B13: Elvonások és befizetések bevételei B12 | C13: =SUM(D13:H13) -> 0
A14: 9 | B14: Egyéb működési célú támogatások bevételei államháztartáson belülről (B16) | C14: =SUM(D14:H14) -> 309792540 | D14: =SUM(D15:D19) -> 243652694 | E14: =SUM(E15:E19) -> 1981048 | F14: =SUM(F15:F19) -> 63264006 | G14: =SUM(G15:G19) -> 0 | H14: =SUM(H15:H19) -> 894792
A15: 10 | B15: ebből: egyéb központi kezelésű előirányzatok (B1612 | C15: =SUM(D15:H15) -> 3397958 | D15: 1416910 | E15: 1981048
A16: 11 | B16: ebből: fejezeti kezelésű EU B16 | C16: =SUM(D16:H16) -> 227105784 | D16: 227105784
A17: 12 | B17: ebből: társadalombiztosítás pénzügyi alapjai (B1614 | C17: =SUM(D17:H17) -> 15130000 | D17: 15130000
A18: 13 | B18: ebből: elkülönített állami pénzal (B1615 | C18: =SUM(D18:H18) -> 64158798 | F18: 63264006 | H18: 894792
A19: 14 | B19: ebből: önkormányzat és kv-i szerveik (B 1616 | C19: =SUM(D19:H19) -> 0
A20: 15 | B20: Működési célú támogatások államháztartáson belülről (B1) | C20: =SUM(D20:H20) -> 665404344 | D20: =D12+D14 -> 599264498 | E20: =E12+E14 -> 1981048 | F20: =F12+F14 -> 63264006 | G20: =G12+G14 -> 0 | H20: =H12+H14 -> 894792
A21: 16 | B21: Felhalmozási célú önkormányzati támogatások (B21) | C21: =SUM(D21:H21) -> 0 | D21: =D22 -> 0 | E21: =E22 -> 0 | F21: =F22 -> 0 | G21: =G22 -> 0 | H21: =H22 -> 0
A22: 17 | B22: ebből: egyéb központi felhalmozási c tám B 2119 | C22: =SUM(D22:H22) -> 0
A23: 18 | B23: Egyéb felhalmozási célú tám áht belülről B 25 | C23: =SUM(D23:H23) -> 1025095503 | D23: =SUM(D24:D27) -> 1025095503 | E23: =SUM(E24:E27) -> 0 | F23: =SUM(F24:F27) -> 0 | G23: =SUM(G24:G27) -> 0 | H23: =SUM(H24:H27) -> 0
A24: 19 | B24: ebből egyéb központi fc tám (B2512 | C24: =SUM(D24:H24) -> 0
A25: 20 | B25: ebből: egyéb fejezeti kez EU fc (B25 | C25: =SUM(D25:H25) -> 1025095503 | D25: 1025095503
A26: 21 | B26: ebből: elkülönített állami pénzal fc (B2515 | C26: =SUM(D26:H26) -> 0
A27: 22 | B27: ebből: önkorm és kv-i szervek fc tám (B2516 | C27: =SUM(D27:H27) -> 0
A28: 23 | B28: Felhalmozási célú támogatások államháztartáson belülről (B2) | C28: =SUM(D28:H28) -> 1025095503 | D28: =D21+D23 -> 1025095503 | E28: =E21+E23 -> 0 | F28: =F21+F23 -> 0 | G28: =G21+G23 -> 0 | H28: =H21+H23 -> 0
A29: 24 | B29: Vagyoni tipusú adók (B34) | C29: =SUM(D29:H29) -> 110200000 | D29: =SUM(D30:D31) -> 110200000 | E29: =SUM(E30:E31) -> 0 | F29: =SUM(F30:F31) -> 0 | G29: =SUM(G30:G31) -> 0 | H29: =SUM(H30:H31) -> 0
A30: 25 | B30: ebből: építményadó (B34111) | C30: =SUM(D30:H30) -> 110200000 | D30: 110200000
A31: 26 | B31: ebből: magánszemélyek kommunális adója (B34114) | C31: =SUM(D31:H31) -> 0
A32: 27 | B32: Értékesítési és forgalmi adók iparűzési adó (B351121) | C32: =SUM(D32:H32) -> 181000000 | D32: 181000000
A33: 28 | B33: Gépjárműadó (B3541) | C33: =SUM(D33:H33) -> 11800000 | D33: 11800000
A34: 29 | B34: Egyéb áruhasználati és szolgáltatási adók, környezetterh díj, talajterhelési díj (B355) | C34: =SUM(D34:H34) -> 0
A35: 30 | B35: Termékek és szolgáltatások adói (B35) | C35: =SUM(D35:H35) -> 192800000 | D35: =SUM(D32:D34) -> 192800000 | E35: =SUM(E32:E34) -> 0 | F35: =SUM(F32:F34) -> 0 | G35: =SUM(G32:G34) -> 0 | H35: =SUM(H32:H34) -> 0
A36: 31 | B36: Egyéb közhatalmi bevételek (B36) | C36: =SUM(D36:H36) -> 400000 | D36: =SUM(D37:D38) -> 400000 | E36: =SUM(E37:E38) -> 0 | F36: =SUM(F37:F38) -> 0 | G36: =SUM(G37:G38) -> 0 | H36: =SUM(H37:H38) -> 0
A37: 32 | B37: ebből: szabálysértési pénz- és helyszíni bírság és a közlekedési szabályszegések után kiszabott közigazgatási bírság helyi önkormányzatot megillető része (B361225 köv) | C37: =SUM(D37:H37) -> 50000 | D37: 50000
A38: 33 | B38: ebből: egyéb bírság (B361229 köv) | C38: =SUM(D38:H38) -> 350000 | D38: 350000
A39: 34 | B39: Közhatalmi bevételek (B3) | C39: =SUM(D39:H39) -> 303400000 | D39: =D29+D35+D36 -> 303400000 | E39: =E29+E35+E36 -> 0 | F39: =F29+F35+F36 -> 0 | G39: =G29+G35+G36 -> 0 | H39: =H29+H35+H36 -> 0
A40: 35 | B40: Készlet értékesítés előirányzata B 40111 | C40: =SUM(D40:H40) -> 0
A41: 36 | B41: Szolgáltatások (B4021) | C41: =SUM(D41:H41) -> 8036796 | D41: =SUM(D42:D45) -> 0 | E41: =SUM(E42:E45) -> 370000 | F41: =SUM(F42:F45) -> 1000000 | G41: =SUM(G42:G45) -> 1715000 | H41: =SUM(H42:H45) -> 4951796
A42: 37 | B42: ebből étkeztetés - kivéve ell, hallgatók térítési díj B40211 | C42: =SUM(D42:H42) -> 0
A43: 38 | B43: ebből: bérleti díj bev (B40212) | C43: =SUM(D43:H43) -> 2670000 | E43: 70000 | F43: 1000000 | G43: 1600000
A44: 39 | B44: ebből: alkalmazottak térítési díj (B40213) | C44: =SUM(D44:H44) -> 848660 | H44: 848660
A45: 40 | B45: ebből: egyéb szolgáltatás (40215) | C45: =SUM(D45:H45) -> 4518136 | E45: 300000 | G45: 115000 | H45: 4103136
A46: 41 | B46: Közvetített szolgáltatások ellenértéke (B403) | C46: =SUM(D46:H46) -> 3063000 | D46: =SUM(D47:D48) -> 130000 | E46: =SUM(E47:E48) -> 1300000 | F46: =SUM(F47:F48) -> 1633000 | G46: =SUM(G47:G48) -> 0 | H46: =SUM(H47:H48) -> 0
A47: 42 | B47: ebből: államháztartáson belül (B40311) | C47: =SUM(D47:H47) -> 1775000 | D47: 130000 | E47: 1300000 | F47: 345000
A48: 43 | B48: ebből: államháztartáson kívül (B40312) | C48: =SUM(D48:H48) -> 1288000 | F48: 1288000
A49: 44 | B49: Tulajdonosi bevételek (B4041) | C49: =SUM(D49:H49) -> 9610000 | D49: =SUM(D50:D53) -> 9610000 | E49: =SUM(E50:E53) -> 0 | F49: =SUM(F50:F53) -> 0 | G49: =SUM(G50:G53) -> 0 | H49: =SUM(H50:H53) -> 0
A50: 45 | B50: ebből: önkormányzati vagyon üzemeltetéséből származó bevétel (B404131) | C50: =SUM(D50:H50) -> 0
A51: 46 | B51: ebből: önkormányzati vagyon vagyonkezelésbe adásából származó bevétel (B404133) | C51: =SUM(D51:H51) -> 0
A52: 47 | B52: ebből: egy önk-i bérleti- és lízing díj bevételek (404134) | C52: =SUM(D52:H52) -> 9100000 | D52: 9100000
A53: 49 | B53: ebből: egy önk tulajdonosi bevétel (B404139) | C53: =SUM(D53:H53) -> 510000 | D53: 510000
A54: 50 | B54: Ellátási díjak (B4051) | C54: =SUM(D54:H54) -> 1095245 | H54: 1095245
A55: 51 | B55: Kiszámlázott általános forgalmi adó (B4061) | C55: =SUM(D55:H55) -> 8699255 | D55: 5904744 | E55: 450900 | F55: 710910 | H55: 1632701
A56: 52 | B56: Általános forgalmi adó visszatérítése (B4071) | C56: =SUM(D56:H56) -> 0
A57: 53 | B57: Egyéb kapott (járó) kamatok és kamatjellegű bevételek ÁHK(B40811) | C57: =SUM(D57:H57) -> 0
A58: 54 | B58: Egyéb pénzügyi műveletek bevételei (B4091) | C58: =SUM(D58:H58) -> 0
A59: 55 | B59: Biztosító által fizetett kártérítés (B4101) | C59: =SUM(D59:H59) -> 0
A60: 56 | B60: Egyéb működési bevételek (B4111) | C60: =SUM(D60:H60) -> 1460500 | D60: 1460500
A61: 57 | B61: Működési bevételek (B4) | C61: =SUM(D61:H61) -> 31964796 | D61: =D40+D41+D46+D49+D54+D55+D56+D57+D58+D59+D60 -> 17105244 | E61: =E40+E41+E46+E49+E54+E55+E56+E57+E58+E59+E60 -> 2120900 | F61: =F40+F41+F46+F49+F54+F55+F56+F57+F58+F59+F60 -> 3343910 | G61: =G40+G41+G46+G49+G54+G55+G56+G57+G58+G59+G60 -> 1715000 | H61: =H40+H41+H46+H49+H54+H55+H56+H57+H58+H59+H60 -> 7679742
A62: 58 | B62: Ingatlanok értékesítése (B521) | C62: =SUM(D62:H62) -> 12129420 | D62: 12129420
A63: 59 | B63: Egyéb tárgyi eszközök értékesítése B531 | C63: =SUM(D63:H63) -> 0
A64: 60 | B64: Felhalmozási bevételek (B5) | C64: =SUM(D64:H64) -> 12129420 | D64: =SUM(D62:D63) -> 12129420 | E64: =SUM(E62:E63) -> 0 | F64: =SUM(F62:F63) -> 0 | G64: =SUM(G62:G63) -> 0 | H64: =SUM(H62:H63) -> 0
A65: 61 | B65: Egyéb működési célú átvett pénzeszközök (65) | C65: =SUM(D65:H65) -> 0
A66: 62 | B66: Működési célú átvett pénzeszközök (B6) | C66: =SUM(D66:H66) -> 0 | D66: =D65 -> 0 | E66: =E65 -> 0 | F66: =F65 -> 0 | G66: =G65 -> 0 | H66: =H65 -> 0
A67: 63 | B67: Felhalmozási célú visszatérítendő támogatások, kölcsönök visszatérülése államháztartáson kívülről (B74) | C67: =SUM(D67:H67) -> 0
A68: 64 | B68: ebből: háztartások (B74) | C68: =SUM(D68:H68) -> 390000 | D68: 390000
A69: 65 | B69: Egyéb felhalmozási célú átvett pénzeszközök (B75) | C69: =SUM(D69:H69) -> 0
A70: 66 | B70: Felhalmozási célú átvett pénzeszközök (B7) | C70: =SUM(D70:H70) -> 390000 | D70: =SUM(D67:D69) -> 390000 | E70: =SUM(E67:E69) -> 0 | F70: =SUM(F67:F69) -> 0 | G70: =SUM(G67:G69) -> 0 | H70: =SUM(H67:H69) -> 0
A71: 67 | B71: Költségvetési bevételek (B1-B7) | C71: =SUM(D71:H71) -> 2038384063 | D71: =D20+D28+D39+D61+D64+D66+D70 -> 1957384665 | E71: =E20+E28+E39+E61+E64+E66+E70 -> 4101948 | F71: =F20+F28+F39+F61+F64+F66+F70 -> 66607916 | G71: =G20+G28+G39+G61+G64+G66+G70 -> 1715000 | H71: =H20+H28+H39+H61+H64+H66+H70 -> 8574534
A72: 68 | B72: Befektetési célú belföldi egyéb hitelviszonyt megtestesítő értékpapír beváltása, értékesítése (B 81231 | C72: =SUM(D72:H72) -> 0
A73: 69 | B73: Előző év költségvetési maradványának igénybevétele (B813) | C73: =SUM(D73:H73) -> 202103170 | D73: 197103170 | F73: 5000000
A74: 70 | B74: Államháztartáson belüli megelőlegezések (B814) | C74: =SUM(D74:H74) -> 0
A75: 71 | B75: Irányító szervi támogatás (B816 | C75: =SUM(D75:H75) -> 487307709 | E75: 186540289 | F75: 118913460 | G75: 53449698 | H75: 128404262
A76: 72 | B76: Belföldi finanszírozás bevételei (B81) | C76: =SUM(D76:H76) -> 689410879 | D76: =SUM(D72:D75) -> 197103170 | E76: =SUM(E72:E75) -> 186540289 | F76: =SUM(F72:F75) -> 123913460 | G76: =SUM(G72:G75) -> 53449698 | H76: =SUM(H72:H75) -> 128404262
A77: 73 | B77: Finanszírozási bevételek (B8) | C77: =SUM(D77:H77) -> 689410879 | D77: =D76 -> 197103170 | E77: =E76 -> 186540289 | F77: =F76 -> 123913460 | G77: =G76 -> 53449698 | H77: =H76 -> 128404262
A78: 74 | B78: MINDÖSSZESEN: | C78: =SUM(D78:H78) -> 2727794942 | D78: =D71+D77 -> 2154487835 | E78: =E71+E77 -> 190642237 | F78: =F71+F77 -> 190521376 | G78: =G71+G77 -> 55164698 | H78: =H71+H77 -> 136978796

Sheet 1a
A1: Berhida Város Önkormányzata | E1: 1.a melléklet
A2: állami támogatások részletezése | E2: 2/2018.(II.23.) önkormányzati rendelethez
D3: 2018
B4: IPA alap | E4: 9437151820
B5: elvonás | C5: 0,55 %-nak | E5: =E4*0.0055 -> 51904335
A6: 2018. évi költségvetés | C6: =E6/E5 -> 0.75 | E6: 38928251
B7: 1 lakosra jutó adóerőképesség | E7: =E4*0.014/6013 -> 21972.414
C8: 5963 | D8: fő | E8: beszámítás | F8: 2018 tényl
D9: Forint | G9: Összesen | H9: Önkorm | I9: TESZ | J9: Hivatal | K9: Kultúrház | L9: Családs Berh | M9: Családs Vi | N9: Süni | O9: Hétszínvirág | P9: Vi Óvoda
A10: Önkormányzatok működési támogatásai | D10: =D11+D21+D34+D54+D57 -> 4.1503305e+08 | E10: =E11+E21+E34+E54+E57 -> -59421251 | F10: =F11+F21+F34+F54+F57 -> 3.556118e+08 | G10: =SUM(H10:P10) -> 355611804 | H10: =H11+H21+H34+H54+H57 -> 13556400 | I10: =I11+I21+I34+I54+I57 -> 8362138 | J10: =J11+J21+J34+J54+J57 -> 101401200 | K10: =K11+K21+K34+K54+K57 -> 7215230 | L10: =L11+L21+L34+L54+L57 -> 12193342 | M10: =M11+M21+M34+M54+M57 -> 1712786 | N10: =N11+N21+N34+N54+N57 -> 108239821 | O10: =O11+O21+O34+O54+O57 -> 87368724 | P10: =P11+P21+P34+P54+P57 -> 15562163
A11: 1.)Helyi önkormányzatok működésének általános támogatása | D11: =SUM(D12:D20) -> 147447989 | E11: =SUM(E12:E20) -> -38928251 | F11: =SUM(F12:F20) -> 108519738 | G11: =SUM(H11:P11) -> 108519738 | H11: =SUM(H12:H20) -> 1756400 | I11: =SUM(I12:I20) -> 5362138 | J11: =SUM(J12:J20) -> 101401200 | K11: =SUM(K12:K20) -> 0 | L11: =SUM(L12:L20) -> 0 | M11: =SUM(M12:M20) -> 0 | N11: =SUM(N12:N20) -> 0 | O11: =SUM(O12:O20) -> 0 | P11: =SUM(P12:P20) -> 0
A12: Önkormányzati hivatal működésének támogatása | B12: 4580000 | C12: 22.14 | D12: =B12*C12 -> 101401200 | F12: =D12+E12 -> 101401200 | G12: =SUM(H12:P12) -> 101401200 | J12: 101401200
A13: Település üzemeltetés: zöldterület-gazdálkodás | B13: 22300 | C13: 402 | D13: 8984670 | E13: =-D13 -> -8984670 | F13: =D13+E13 -> 0 | G13: =SUM(H13:P13) -> 0
A14: közvilágítás fenntartása | B14: 320000 | C14: 46.5 | D14: 9888000 | E14: =-D14 -> -9888000 | F14: =D14+E14 -> 0 | G14: =SUM(H14:P14) -> 0
A15: köztemető fenntartással kapcs fel | B15: 69 | C15: 53051 | D15: =B15*C15 -> 3660519 | E15: =-D15 -> -3660519 | F15: =D15+E15 -> 0 | G15: =SUM(H15:P15) -> 0
A16: közutak fenntartásának támog | B16: 227000 | C16: 24 | D16: =B16*C16 -> 5448000 | E16: -85862 | F16: =D16+E16 -> 5362138 | G16: =SUM(H16:P16) -> 5362138 | I16: 5362138
A17: Egyéb kötelező önkormányzati feladatok | B17: 2700 | C17: 5963 | D17: =B17*C17 -> 16100100 | E17: =-D17 -> -16100100 | F17: =D17+E17 -> 0 | G17: =SUM(H17:P17) -> 0
A18: Lakott külterülettel kapcs feladatok | B18: 2550 | C18: 82 | D18: =B18*C18 -> 209100 | E18: =-D18 -> -209100 | F18: =D18+E18 -> 0 | G18: =SUM(H18:P18) -> 0
A19: 2017. évről áthúzódó bérkompenzáció | F19: =D19+E19 -> 0 | G19: =SUM(H19:P19) -> 0
A20: Polgármesterek illetményének támogatása | D20: 1756400 | F20: =D20+E20 -> 1756400 | G20: =SUM(H20:P20) -> 1756400 | H20: 1756400
A21: 2.)Települési önkorm. Egyes köznevelési feladatainak támoga | D21: =SUM(D22:D33) -> 1.4211607e+08 | E21: =SUM(E22:E33) -> 0 | F21: =SUM(F22:F33) -> 1.4211607e+08 | G21: =SUM(H21:P21) -> 142116067 | H21: =SUM(H22:H33) -> 0 | I21: =SUM(I22:I33) -> 0 | J21: =SUM(J22:J33) -> 0 | K21: =SUM(K22:K33) -> 0 | L21: =SUM(L22:L33) -> 0 | M21: =SUM(M22:M33) -> 0 | N21: =SUM(N22:N33) -> 78343659 | O21: =SUM(O22:O33) -> 50285908 | P21: =SUM(P22:P33) -> 13486500
A22: óvodapedagógusok bértámogatása 8 hó | B22: 4419000 | C22: 20.4 | D22: =B22*C22*8/12 -> 60098400 | F22: =D22+E22 -> 60098400 | G22: =SUM(H22:P22) -> 60098400 | N22: =F22*0.56 -> 33655104 | O22: 20551296 | P22: =B22*2*8/12 -> 5892000
A23: óvodaped munkáját közvetlenül segítők bértámogatása 8 hó | B23: 2205000 | C23: 13 | D23: =B23*C23/12*8 -> 19110000 | F23: =D23+E23 -> 19110000 | G23: =SUM(H23:P23) -> 19110000 | N23: =F23*0.56 -> 10701600 | O23: 6938400 | P23: =B23*8/12 -> 1470000
A24: óvodapedagógusok bértámogatása 4 hó | B24: 4419000 | C24: 20.2 | D24: =B24*C24*4/12 -> 29754600 | F24: =D24+E24 -> 29754600 | G24: =SUM(H24:P24) -> 29754600 | N24: 16043060 | O24: 10765540 | P24: =B24*2*4/12 -> 2946000
A25: óvodaped munkáját közvetlenül segítők bértámogatása 4 hó | B25: 2205000 | C25: 13 | D25: =B25*C25/12*4 -> 9555000 | F25: =D25+E25 -> 9555000 | G25: =SUM(H25:P25) -> 9555000 | N25: =F25*0.56 -> 5350800 | O25: 3469200 | P25: =B25*4/12 -> 735000
A26: óvodapedagógusok bértámog KIEGÉSZÍTÉS 3 hó | B26: 38200 | D26: =B26*C26 -> 0 | F26: =D26+E26 -> 0 | G26: =SUM(H26:P26) -> 0 | N26: =F26*0.56 -> 0 | O26: =F26*0.33 -> 0 | P26: =F26*0.11 -> 0
A27: Óvoda működtetési támogatás 8 hó | B27: 81700 | C27: 219 | D27: =B27*C27*8/12 -> 11928200 | F27: =D27+E27 -> 11928200 | G27: =SUM(H27:P27) -> 11928200 | N27: 6630227 | O27: =F27*0.33 -> 3936306 | P27: =B27*25*8/12 -> 1361666.7
A28: Óvoda működtetési támogatás 4 hó | B28: 81700 | C28: 218 | D28: =B28*C28*4/12 -> 5936866.7 | F28: =D28+E28 -> 5936866.7 | G28: =SUM(H28:P28) -> 5936867.3 | N28: 3296868 | O28: =F28*0.33 -> 1959166 | P28: =B28*25*4/12 -> 680833.33
A29: Kieg tám. Óv pedag minősítéséhez II. kategóriába sorolt 2015-ben | B29: 401000 | C29: 7 | D29: =B29*C29 -> 2807000 | F29: =D29+E29 -> 2807000 | G29: =SUM(H29:P29) -> 2807000 | N29: =B29*3 -> 1203000 | O29: =B29*3 -> 1203000 | P29: =B29*1 -> 401000
A30: Mesterped kategóriába sorolt | B30: 1463000 | C30: 2 | D30: =B30*C30 -> 2926000 | F30: =D30+E30 -> 2926000 | G30: =SUM(H30:P30) -> 2926000 | N30: =B30 -> 1463000 | O30: 1463000
A31: Kieg tám. Óv pedag minősítéséhez II. kategóriába sorolt 2016-ben min | C31: 5.7 | D31: =B31*C31 -> 0 | F31: =D31+E31 -> 0 | G31: =SUM(H31:P31) -> 0
A32: Óvodapedagógus munkát közvetlenül segítők kiegészítő támog | F32: =D32+E32 -> 0 | G32: =SUM(H32:P32) -> 0
A33: Köznevelési intézmények működt kapcs támogatás | F33: =D33+E33 -> 0 | G33: =SUM(H33:P33) -> 0
A34: 3.) Tel önk szociális, gyermekjóléti és gyermekétk fel tám | D34: =SUM(D36:D53) -> 118253769 | E34: =SUM(E36:E53) -> -20493000 | F34: =SUM(F36:F53) -> 97760769 | G34: =SUM(H34:P34) -> 97760769 | H34: =SUM(H36:H53) -> 11800000 | I34: =SUM(I36:I53) -> 3000000 | J34: =SUM(J36:J53) -> 0 | K34: =SUM(K36:K53) -> 0 | L34: =SUM(L36:L53) -> 12193342 | M34: =SUM(M36:M53) -> 1712786 | N34: =SUM(N36:N53) -> 29896162 | O34: =SUM(O36:O53) -> 37082816 | P34: =SUM(P36:P53) -> 2075663
G35: =SUM(H35:P35) -> 0
A36: gyermekétkeztetés szempontjából elismert dolgozók bértámog | B36: 1900000 | C36: 11.1 | D36: =B36*C36 -> 21090000 | F36: =D36+E36 -> 21090000 | G36: =SUM(H36:P36) -> 21089999 | N36: 10339731 | O36: 9750230 | P36: 1000038
A37: gyermekétkeztetés üzemeltetési támogatása | D37: 34323860 | F37: =D37+E37 -> 34323860 | G37: =SUM(H37:P37) -> 34323861 | N37: 17721362 | O37: 15526874 | P37: 1075625
A38: szünidei gyermekétkeztetés | B38: 513 | C38: 5637 | D38: =B38*C38 -> 2891781 | F38: =D38+E38 -> 2891781 | G38: =SUM(H38:P38) -> 2891781 | N38: 1835069 | O38: 1056712
A39: Hozzájárulás pénzbeli szociális ellátásokhoz | D39: =F39*2 -> 40986000 | E39: -20493000 | F39: 20493000 | G39: =SUM(H39:P39) -> 20493000 | H39: 11800000 | I39: 3000000 | L39: 5693000
A40: Bölcsődei ellátás bértámogatás | B40: 2993000 | C40: 3 | D40: =B40*C40 -> 8979000 | F40: =D40+E40 -> 8979000 | G40: =SUM(H40:P40) -> 8979000 | O40: 8979000
A41: Bölcsődei működtetési tám | D41: 1770000 | F41: =D41+E41 -> 1770000 | G41: =SUM(H41:P41) -> 1770000 | O41: 1770000
D42: =B42*C42 -> 0 | F42: =D42+E42 -> 0 | G42: =SUM(H42:P42) -> 0
A43: Családsegítés B: 6118 Vi: 662 = 6780 fő (6072,671) | B43: 3950000 | C43: 6743 | F43: =D43+E43 -> 0 | G43: =SUM(H43:P43) -> 0
A44: gyermekjóléti szolgálat | B44: 3950000 | C44: 6743 | F44: =D44+E44 -> 0 | G44: =SUM(H44:P44) -> 0
A45: Családsegítés Kiegészítő támog. | B45: 300 | F45: =D45+E45 -> 0 | G45: =SUM(H45:P45) -> 0
A46: gyermekjóléti szolg. Kiegészítő támog. 0-17 B: 1292 Vi: 128 | B46: 1200 | F46: =D46+E46 -> 0 | G46: =SUM(H46:P46) -> 0
A47: Családsegítés és gyermekjóléti szolgáltatás | B47: 3400000 | D47: 4420000 | F47: =D47+E47 -> 4420000 | G47: =SUM(H47:P47) -> 4420000 | L47: 3687006 | M47: 732994
A48: szociális étkeztetés | B48: 60896 | C48: 18 | D48: =B48*C48 -> 1096128 | F48: =D48+E48 -> 1096128 | G48: =SUM(H48:P48) -> 1096128 | L48: =B48*16 -> 974336 | M48: =B48*2 -> 121792
A49: házi segítségnyújtás szem élyi gondozás | B49: 429000 | C49: 4 | D49: =B49*C49 -> 1716000 | F49: =D49+E49 -> 1716000 | G49: =SUM(H49:P49) -> 1716000 | L49: =D49/2 -> 858000 | M49: 858000
A50: házi segítségnyújtás - szociális segítés | B50: 25000 | D50: =B50*C50 -> 0 | F50: =D50+E50 -> 0 | G50: =SUM(H50:P50) -> 0
A51: időskorúak nappali ellátása | B51: 163500 | C51: 6 | D51: =B51*C51 -> 981000 | F51: =D51+E51 -> 981000 | G51: =SUM(H51:P51) -> 981000 | L51: =D51 -> 981000
A52: ágazati pótlék | F52: =D52+E52 -> 0 | G52: =SUM(H52:P52) -> 0
A53: bölcsődei pótlék | F53: =D53+E53 -> 0 | G53: =SUM(H53:P53) -> 0
A54: 4.) Tel önk kulturális feladatainak támogatása | D54: =SUM(D55:D56) -> 7215230 | E54: =SUM(E55:E56) -> 0 | F54: =SUM(F55:F56) -> 7215230 | G54: =SUM(H54:P54) -> 7215230 | H54: =SUM(H55:H56) -> 0 | I54: =SUM(I55:I56) -> 0 | J54: =SUM(J55:J56) -> 0 | K54: =SUM(K55:K56) -> 7215230 | L54: =SUM(L55:L56) -> 0 | M54: =SUM(M55:M56) -> 0 | N54: =SUM(N55:N56) -> 0 | O54: =SUM(O55:O56) -> 0 | P54: =SUM(P55:P56) -> 0
A55: könyvtári és közművelődési feladat tám Berhida: | B55: 1210 | C55: 5963 | D55: =B55*C55 -> 7215230 | F55: =D55+E55 -> 7215230 | G55: =SUM(H55:P55) -> 7215230 | K55: 7215230
A56: Kulturális pótlék | F56: =D56+E56 -> 0 | G56: =SUM(H56:P56) -> 0
A57: 5.)Helyi önkorm. Kiegészítő támogatásai | D57: =SUM(D58:D59) -> 0 | E57: =SUM(E58:E59) -> 0 | F57: =SUM(F58:F59) -> 0 | G57: =SUM(H57:P57) -> 0 | H57: =SUM(H58:H59) -> 0 | I57: =SUM(I58:I59) -> 0 | J57: =SUM(J58:J59) -> 0 | K57: =SUM(K58:K59) -> 0 | L57: =SUM(L58:L59) -> 0 | M57: =SUM(M58:M59) -> 0 | N57: =SUM(N58:N59) -> 0 | O57: =SUM(O58:O59) -> 0 | P57: =SUM(P58:P59) -> 0
A58: 2018. évi bérkompenzáció | F58: =D58+E58 -> 0 | G58: =SUM(H58:P58) -> 0

Sheet 1b
B1: Berhida Város Önkormányzata | F1: 1b. melléklet
B2: 2018. évi eredeti költségvetés | F2: 2/2018.(II.23.) önkormányzati rendelethez
F3: Ft-ban
C4: BEVÉTELEK
A5: Sor- szám | B5: Rovat megnevezése | C5: Módosított előirányzat összesen | D5: Önkormányzat | E5: Közös Hivatal | F5: TESZ | G5: Kultúrház | H5: Süni
A6: 1 | B6: Helyi önkormányzatok működésének általános támogatása (B1111) | C6: =SUM(D6:H6) -> 108519738 | D6: 108519738
A7: 2 | B7: Települési önkormányzatok egyes köznevelési feladatainak támogatása (B112) | C7: =SUM(D7:H7) -> 142116067 | D7: 142116067
A8: 3 | B8: Települési önkormányzatok szociális, gyermekjóléti és gyermekétkeztetési feladatainak támogatása (B113) | C8: =SUM(D8:H8) -> 97760769 | D8: 97760769
A9: 4 | B9: Települési önkormányzatok kulturális feladatainak támogatása (B114) | C9: =SUM(D9:H9) -> 7215230 | D9: 7215230
A10: 5 | B10: Működési célú költségvetési támogatások és kiegészítő támogatások (B115) | C10: =SUM(D10:H10) -> 0
A11: 6 | B11: Elszámolásból származó bevételek (B116) | C11: =SUM(D11:H11) -> 0
A12: 7 | B12: Önkormányzatok működési támogatásai (B11) | C12: =SUM(D12:H12) -> 355611804 | D12: =SUM(D6:D11) -> 355611804 | E12: =SUM(E6:E11) -> 0 | F12: =SUM(F6:F11) -> 0 | G12: =SUM(G6:G11) -> 0 | H12: =SUM(H6:H11) -> 0
A13: 8 | B13: Elvonások és befizetések bevételei B12 | C13: =SUM(D13:H13) -> 0
A14: 9 | B14: Egyéb működési célú támogatások bevételei államháztartáson belülről (B16) | C14: =SUM(D14:H14) -> 309792540 | D14: =SUM(D15:D19) -> 243652694 | E14: =SUM(E15:E19) -> 1981048 | F14: =SUM(F15:F19) -> 63264006 | G14: =SUM(G15:G19) -> 0 | H14: =SUM(H15:H19) -> 894792
A15: 10 | B15: ebből: egyéb központi kezelésű előirányzatok (B1612 | C15: =SUM(D15:H15) -> 3397958 | D15: 1416910 | E15: 1981048
A16: 11 | B16: ebből: fejezeti kezelésű EU B16 | C16: =SUM(D16:H16) -> 227105784 | D16: 227105784
A17: 12 | B17: ebből: társadalombiztosítás pénzügyi alapjai (B1614 | C17: =SUM(D17:H17) -> 15130000 | D17: 15130000
A18: 13 | B18: ebből: elkülönített állami pénzal (B1615 | C18: =SUM(D18:H18) -> 64158798 | F18: 63264006 | H18: 894792
A19: 14 | B19: ebből: önkormányzat és kv-i szerveik (B 1616 | C19: =SUM(D19:H19) -> 0
A20: 15 | B20: Működési célú támogatások államháztartáson belülről (B1) | C20: =SUM(D20:H20) -> 665404344 | D20: =D12+D14 -> 599264498 | E20: =E12+E14 -> 1981048 | F20: =F12+F14 -> 63264006 | G20: =G12+G14 -> 0 | H20: =H12+H14 -> 894792
A21: 16 | B21: Felhalmozási célú önkormányzati támogatások (B21) | C21: =SUM(D21:H21) -> 0 | D21: =D22 -> 0 | E21: =E22 -> 0 | F21: =F22 -> 0 | G21: =G22 -> 0 | H21: =H22 -> 0
A22: 17 | B22: ebből: egyéb központi felhalmozási c tám B 2119 | C22: =SUM(D22:H22) -> 0
A23: 18 | B23: Egyéb felhalmozási célú tám áht belülről B 25 | C23: =SUM(D23:H23) -> 1025895503 | D23: =SUM(D24:D27) -> 1025095503 | E23: =SUM(E24:E27) -> 0 | F23: =SUM(F24:F27) -> 0 | G23: =SUM(G24:G27) -> 800000 | H23: =SUM(H24:H27) -> 0
A24: 19 | B24: ebből egyéb központi fc tám (B2512 | C24: =SUM(D24:H24) -> 800000 | G24: 800000
A25: 20 | B25: ebből: egyéb fejezeti kez EU fc (B25 | C25: =SUM(D25:H25) -> 1025095503 | D25: 1025095503
A26: 21 | B26: ebből: elkülönített állami pénzal fc (B2515 | C26: =SUM(D26:H26) -> 0
A27: 22 | B27: ebből: önkorm és kv-i szervek fc tám (B2516 | C27: =SUM(D27:H27) -> 0
A28: 23 | B28: Felhalmozási célú támogatások államháztartáson belülről (B2) | C28: =SUM(D28:H28) -> 1025895503 | D28: =D21+D23 -> 1025095503 | E28: =E21+E23 -> 0 | F28: =F21+F23 -> 0 | G28: =G21+G23 -> 800000 | H28: =H21+H23 -> 0
A29: 24 | B29: Vagyoni tipusú adók (B34) | C29: =SUM(D29:H29) -> 110200000 | D29: =SUM(D30:D31) -> 110200000 | E29: =SUM(E30:E31) -> 0 | F29: =SUM(F30:F31) -> 0 | G29: =SUM(G30:G31) -> 0 | H29: =SUM(H30:H31) -> 0
A30: 25 | B30: ebből: építményadó (B34111) | C30: =SUM(D30:H30) -> 110200000 | D30: 110200000
A31: 26 | B31: ebből: magánszemélyek kommunális adója (B34114) | C31: =SUM(D31:H31) -> 0
A32: 27 | B32: Értékesítési és forgalmi adók iparűzési adó (B351121) | C32: =SUM(D32:H32) -> 181000000 | D32: 181000000
A33: 28 | B33: Gépjárműadó (B3541) | C33: =SUM(D33:H33) -> 11800000 | D33: 11800000
A34: 29 | B34: Egyéb áruhasználati és szolgáltatási adók, környezetterh díj, talajterhelési díj (B355) | C34: =SUM(D34:H34) -> 0
A35: 30 | B35: Termékek és szolgáltatások adói (B35) | C35: =SUM(D35:H35) -> 192800000 | D35: =SUM(D32:D34) -> 192800000 | E35: =SUM(E32:E34) -> 0 | F35: =SUM(F32:F34) -> 0 | G35: =SUM(G32:G34) -> 0 | H35: =SUM(H32:H34) -> 0
A36: 31 | B36: Egyéb közhatalmi bevételek (B36) | C36: =SUM(D36:H36) -> 400000 | D36: =SUM(D37:D38) -> 400000 | E36: =SUM(E37:E38) -> 0 | F36: =SUM(F37:F38) -> 0 | G36: =SUM(G37:G38) -> 0 | H36: =SUM(H37:H38) -> 0
A37: 32 | B37: ebből: szabálysértési pénz- és helyszíni bírság és a közlekedési szabályszegések után kiszabott közigazgatási bírság helyi önkormányzatot megillető része (B361225 köv) | C37: =SUM(D37:H37) -> 50000 | D37: 50000
A38: 33 | B38: ebből: egyéb bírság (B361229 köv) | C38: =SUM(D38:H38) -> 350000 | D38: 350000
A39: 34 | B39: Közhatalmi bevételek (B3) | C39: =SUM(D39:H39) -> 303400000 | D39: =D29+D35+D36 -> 303400000 | E39: =E29+E35+E36 -> 0 | F39: =F29+F35+F36 -> 0 | G39: =G29+G35+G36 -> 0 | H39: =H29+H35+H36 -> 0
A40: 35 | B40: Készlet értékesítés előirányzata B 40111 | C40: =SUM(D40:H40) -> 0
A41: 36 | B41: Szolgáltatások (B4021) | C41: =SUM(D41:H41) -> 8036796 | D41: =SUM(D42:D45) -> 0 | E41: =SUM(E42:E45) -> 370000 | F41: =SUM(F42:F45) -> 1000000 | G41: =SUM(G42:G45) -> 1715000 | H41: =SUM(H42:H45) -> 4951796
A42: 37 | B42: ebből étkeztetés - kivéve ell, hallgatók térítési díj B40211 | C42: =SUM(D42:H42) -> 0
A43: 38 | B43: ebből: bérleti díj bev (B40212) | C43: =SUM(D43:H43) -> 2670000 | E43: 70000 | F43: 1000000 | G43: 1600000
A44: 39 | B44: ebből: alkalmazottak térítési díj (B40213) | C44: =SUM(D44:H44) -> 848660 | H44: 848660
A45: 40 | B45: ebből: egyéb szolgáltatás (40215) | C45: =SUM(D45:H45) -> 4518136 | E45: 300000 | G45: 115000 | H45: 4103136
A46: 41 | B46: Közvetített szolgáltatások ellenértéke (B403) | C46: =SUM(D46:H46) -> 3063000 | D46: =SUM(D47:D48) -> 130000 | E46: =SUM(E47:E48) -> 1300000 | F46: =SUM(F47:F48) -> 1633000 | G46: =SUM(G47:G48) -> 0 | H46: =SUM(H47:H48) -> 0
A47: 42 | B47: ebből: államháztartáson belül (B40311) | C47: =SUM(D47:H47) -> 1775000 | D47: 130000 | E47: 1300000 | F47: 345000
A48: 43 | B48: ebből: államháztartáson kívül (B40312) | C48: =SUM(D48:H48) -> 1288000 | F48: 1288000
A49: 44 | B49: Tulajdonosi bevételek (B4041) | C49: =SUM(D49:H49) -> 9610000 | D49: =SUM(D50:D53) -> 9610000 | E49: =SUM(E50:E53) -> 0 | F49: =SUM(F50:F53) -> 0 | G49: =SUM(G50:G53) -> 0 | H49: =SUM(H50:H53) -> 0
A50: 45 | B50: ebből: önkormányzati vagyon üzemeltetéséből származó bevétel (B404131) | C50: =SUM(D50:H50) -> 0
A51: 46 | B51: ebből: önkormányzati vagyon vagyonkezelésbe adásából származó bevétel (B404133) | C51: =SUM(D51:H51) -> 0
A52: 47 | B52: ebből: egy önk-i bérleti- és lízing díj bevételek (404134) | C52: =SUM(D52:H52) -> 9100000 | D52: 9100000
A53: 49 | B53: ebből: egy önk tulajdonosi bevétel (B404139) | C53: =SUM(D53:H53) -> 510000 | D53: 510000
A54: 50 | B54: Ellátási díjak (B4051) | C54: =SUM(D54:H54) -> 1095245 | H54: 1095245
A55: 51 | B55: Kiszámlázott általános forgalmi adó (B4061) | C55: =SUM(D55:H55) -> 8699255 | D55: 5904744 | E55: 450900 | F55: 710910 | H55: 1632701
A56: 52 | B56: Általános forgalmi adó visszatérítése (B4071) | C56: =SUM(D56:H56) -> 0
A57: 53 | B57: Egyéb kapott (járó) kamatok és kamatjellegű bevételek ÁHK(B40811) | C57: =SUM(D57:H57) -> 0
A58: 54 | B58: Egyéb pénzügyi műveletek bevételei (B4091) | C58: =SUM(D58:H58) -> 0
A59: 55 | B59: Biztosító által fizetett kártérítés (B4101) | C59: =SUM(D59:H59) -> 0
A60: 56 | B60: Egyéb működési bevételek (B4111) | C60: =SUM(D60:H60) -> 1460500 | D60: 1460500
A61: 57 | B61: Működési bevételek (B4) | C61: =SUM(D61:H61) -> 31964796 | D61: =D40+D41+D46+D49+D54+D55+D56+D57+D58+D59+D60 -> 17105244 | E61: =E40+E41+E46+E49+E54+E55+E56+E57+E58+E59+E60 -> 2120900 | F61: =F40+F41+F46+F49+F54+F55+F56+F57+F58+F59+F60 -> 3343910 | G61: =G40+G41+G46+G49+G54+G55+G56+G57+G58+G59+G60 -> 1715000 | H61: =H40+H41+H46+H49+H54+H55+H56+H57+H58+H59+H60 -> 7679742
A62: 58 | B62: Ingatlanok értékesítése (B521) | C62: =SUM(D62:H62) -> 12129420 | D62: 12129420
A63: 59 | B63: Egyéb tárgyi eszközök értékesítése B531 | C63: =SUM(D63:H63) -> 0
A64: 60 | B64: Felhalmozási bevételek (B5) | C64: =SUM(D64:H64) -> 12129420 | D64: =SUM(D62:D63) -> 12129420 | E64: =SUM(E62:E63) -> 0 | F64: =SUM(F62:F63) -> 0 | G64: =SUM(G62:G63) -> 0 | H64: =SUM(H62:H63) -> 0
A65: 61 | B65: Egyéb működési célú átvett pénzeszközök (65) | C65: =SUM(D65:H65) -> 0
A66: 62 | B66: Működési célú átvett pénzeszközök (B6) | C66: =SUM(D66:H66) -> 0 | D66: =D65 -> 0 | E66: =E65 -> 0 | F66: =F65 -> 0 | G66: =G65 -> 0 | H66: =H65 -> 0
A67: 63 | B67: Felhalmozási célú visszatérítendő támogatások, kölcsönök visszatérülése államháztartáson kívülről (B74) | C67: =SUM(D67:H67) -> 0
A68: 64 | B68: ebből: háztartások (B74) | C68: =SUM(D68:H68) -> 390000 | D68: 390000
A69: 65 | B69: Egyéb felhalmozási célú átvett pénzeszközök (B75) | C69: =SUM(D69:H69) -> 0
A70: 66 | B70: Felhalmozási célú átvett pénzeszközök (B7) | C70: =SUM(D70:H70) -> 390000 | D70: =SUM(D67:D69) -> 390000 | E70: =SUM(E67:E69) -> 0 | F70: =SUM(F67:F69) -> 0 | G70: =SUM(G67:G69) -> 0 | H70: =SUM(H67:H69) -> 0
A71: 67 | B71: Költségvetési bevételek (B1-B7) | C71: =SUM(D71:H71) -> 2039184063 | D71: =D20+D28+D39+D61+D64+D66+D70 -> 1957384665 | E71: =E20+E28+E39+E61+E64+E66+E70 -> 4101948 | F71: =F20+F28+F39+F61+F64+F66+F70 -> 66607916 | G71: =G20+G28+G39+G61+G64+G66+G70 -> 2515000 | H71: =H20+H28+H39+H61+H64+H66+H70 -> 8574534
A72: 68 | B72: Befektetési célú belföldi egyéb hitelviszonyt megtestesítő értékpapír beváltása, értékesítése (B 81231 | C72: =SUM(D72:H72) -> 0
A73: 69 | B73: Előző év költségvetési maradványának igénybevétele (B813) | C73: =SUM(D73:H73) -> 283299607 | D73: 247944252 | E73: 11151861 | F73: 17021226 | G73: 2340070 | H73: 4842198
A74: 70 | B74: Államháztartáson belüli megelőlegezések (B814) | C74: =SUM(D74:H74) -> 0
A75: 71 | B75: Irányító szervi támogatás (B816 | C75: =SUM(D75:H75) -> 501490090 | E75: 186988414 | F75: 124226493 | G75: 61870921 | H75: 128404262
A76: 72 | B76: Belföldi finanszírozás bevételei (B81) | C76: =SUM(D76:H76) -> 784789697 | D76: =SUM(D72:D75) -> 247944252 | E76: =SUM(E72:E75) -> 198140275 | F76: =SUM(F72:F75) -> 141247719 | G76: =SUM(G72:G75) -> 64210991 | H76: =SUM(H72:H75) -> 133246460
A77: 73 | B77: Finanszírozási bevételek (B8) | C77: =SUM(D77:H77) -> 784789697 | D77: =D76 -> 247944252 | E77: =E76 -> 198140275 | F77: =F76 -> 141247719 | G77: =G76 -> 64210991 | H77: =H76 -> 133246460
A78: 74 | B78: MINDÖSSZESEN: | C78: =SUM(D78:H78) -> 2823973760 | D78: =D71+D77 -> 2205328917 | E78: =E71+E77 -> 202242223 | F78: =F71+F77 -> 207855635 | G78: =G71+G77 -> 66725991 | H78: =H71+H77 -> 141820994

Sheet 2
B1: Berhida Város Önkormányzata | E1: 2. melléklet
B2: 2018. évi eredeti költségvetés | E2: 2/2018.(II.23. ) önkormányzati rendelethez
C3: KIADÁSOK | E3: Ft-ban
A5: Sor- szám | B5: Rovat megnevezése | C5: Eredeti előirányzat összesen | D5: Önkormányzat | E5: Közös Hivatal | F5: TESZ | G5: Kultúrház | H5: Süni
A6: 27 | B6: Személyi juttatások (K1) | C6: =SUM(D6:H6) -> 372386994 | D6: 37727010 | E6: 126364544 | F6: 108020360 | G6: 20518524 | H6: 79756556
A7: 28 | B7: Munkaadókat terhelő járulékok és szociális hozzájárulási adó (K2) | C7: =SUM(D7:H7) -> 69069027 | D7: 8213625 | E7: 26790393 | F7: 14440826 | G7: 4043744 | H7: 15580439
A8: 87 | B8: Dologi kiadások (K3) | C8: =SUM(D8:H8) -> 450210676 | D8: 279643514 | E8: 33931300 | F8: 65871650 | G8: 29433980 | H8: 41330232
A9: 88 | B9: Családi támogatások (K42) | C9: =SUM(D9:H9) -> 0 | D9: =D10 -> 0 | E9: =E10 -> 0 | F9: =F10 -> 0 | G9: =G10 -> 0 | H9: =H10 -> 0
A10: 89 | B10: ebből: az egyéb pénzbeli és természetbeni gyermekvédelmi támogatások (K42132) | C10: =SUM(D10:H10) -> 0
A11: 90 | B11: Intézményi ellátottak pénzbeli juttatásai (K47) | C11: =SUM(D11:H11) -> 800000 | D11: =D12 -> 800000 | E11: =E12 -> 0 | F11: =F12 -> 0 | G11: =G12 -> 0 | H11: =H12 -> 0
A12: 91 | B12: ebből: oktatásban résztvevők pénzbeli juttatásai (K471) | C12: =SUM(D12:H12) -> 800000 | D12: 800000
A13: 92 | B13: Egyéb nem intézményi ellátások (K48) | C13: =SUM(D13:H13) -> 11000000 | D13: =SUM(D14:D15) -> 11000000 | E13: =SUM(E14:E15) -> 0 | F13: =SUM(F14:F15) -> 0 | G13: =SUM(G14:G15) -> 0 | H13: =SUM(H14:H15) -> 0
A14: 93 | B14: ebből: köztemetés [Szoctv. 48.§] (K48123) | C14: =SUM(D14:H14) -> 1000000 | D14: 1000000
A15: 94 | B15: ebből: települési támogatás [Szoctv. 45. §], (K48122) | C15: =SUM(D15:H15) -> 10000000 | D15: 10000000
A16: 96 | B16: Ellátottak pénzbeli juttatásai (K4) | C16: =SUM(D16:H16) -> 11800000 | D16: =D9+D11+D13 -> 11800000 | E16: =E9+E11+E13 -> 0 | F16: =F9+F11+F13 -> 0 | G16: =G9+G11+G13 -> 0 | H16: =H9+H11+H13 -> 0
A17: 97 | B17: Elvonások és befizetések (K5023) | C17: =SUM(D17:H17) -> 0
A18: 98 | B18: Egyéb működési célú támogatások államháztartáson belülre (K506) | C18: =SUM(D18:H18) -> 162127458 | D18: =SUM(D19:D22) -> 162127458 | E18: =SUM(E19:E22) -> 0 | F18: =SUM(F19:F22) -> 0 | G18: =SUM(G19:G22) -> 0 | H18: =SUM(H19:H22) -> 0
A19: 99 | B19: ebből: egyéb központi kezelésű előir (K50612) | C19: =SUM(D19:H19) -> 3200000 | D19: 3200000
A20: 100 | B20: ebből: elkülönített állami pénzalap (K50615) | C20: =SUM(D20:H20) -> 0
A21: 101 | B21: ebből: önkormányzatok és költségv-i szerveik K50616) | C21: =SUM(D21:H21) -> 0
A22: 102 | B22: ebből: társulások és költségvetési szerveik (K50617) | C22: =SUM(D22:H22) -> 158927458 | D22: 158927458
A23: 103 | B23: Egyéb működési célú támogatások államháztartáson kívülre non-profit szervezet (K51215) | C23: =SUM(D23:H23) -> 5400000 | D23: 5400000
B24: Egyházi jogi személy egyé műk célú tám( K51216 | C24: =SUM(D24:H24) -> 0
A25: 104 | B25: Tartalékok (K51311) | C25: =SUM(D25:H25) -> 106798932 | D25: 106798932
A26: 105 | B26: Egyéb működési célú kiadások (K5) | C26: =SUM(D26:H26) -> 274326390 | D26: =D17+D18+D23+D24+D25 -> 274326390 | E26: =E17+E18+E23+E24+E25 -> 0 | F26: =F17+F18+F23+F24+F25 -> 0 | G26: =G17+G18+G23+G24+G25 -> 0 | H26: =H17+H18+H23+H24+H25 -> 0
A27: 106 | B27: Immateriális javak beszerzése, lét (K611) | C27: =SUM(D27:H27) -> 620000 | E27: 500000 | F27: 120000
A28: 107 | B28: Ingatlanok beszerzése, létesítése (K621) | C28: =SUM(D28:H28) -> 981167953 | D28: 981167953
A29: 108 | B29: Informatikai eszközök beszerzése, létesítése (K631) | C29: =SUM(D29:H29) -> 1540000 | E29: 1500000 | F29: 40000
A30: 109 | B30: Egyéb tárgyi eszközök beszerzése, létesítése (K641) | C30: =SUM(D30:H30) -> 3237590 | D30: 200000 | E30: 500000 | F30: 1263260 | G30: 1029000 | H30: 245330
A31: 110 | B31: Beruházási célú előzetesen felszámított általános forgalmi adó (K671) | C31: =SUM(D31:H31) -> 56500866 | D31: 55235897 | E31: 675000 | F31: 384280 | G31: 139450 | H31: 66239
A32: 111 | B32: Beruházások (K6) | C32: =SUM(D32:H32) -> 1043066409 | D32: =SUM(D27:D31) -> 1036603850 | E32: =SUM(E27:E31) -> 3175000 | F32: =SUM(F27:F31) -> 1807540 | G32: =SUM(G27:G31) -> 1168450 | H32: =SUM(H27:H31) -> 311569
A33: 112 | B33: Ingatlanok felújítása (K711) | C33: =SUM(D33:H33) -> 5023972 | D33: 5023972
B34: Informatikai eszközök felújítása (K723) | C34: =SUM(D34:H34) -> 300000 | E34: 300000
A35: 113 | B35: Egyéb tárgyi eszközök felújítása (K731) | C35: =SUM(D35:H35) -> 300000 | F35: 300000
A36: 114 | B36: Felújítási célú előzetesen felszámított általános forgalmi adó (K741) | C36: =SUM(D36:H36) -> 1518472 | D36: 1356472 | E36: 81000 | F36: 81000
A37: 115 | B37: Felújítások (K7) | C37: =SUM(D37:H37) -> 7142444 | D37: =SUM(D33:D36) -> 6380444 | E37: =SUM(E33:E36) -> 381000 | F37: =SUM(F33:F36) -> 381000 | G37: =SUM(G33:G36) -> 0 | H37: =SUM(H33:H36) -> 0
A38: 116 | B38: Egyéb felhalmozási célú támogatások államháztartáson kívülre (K89) | C38: =SUM(D38:H38) -> 300000 | D38: =SUM(D39:D41) -> 300000 | E38: =SUM(E39:E41) -> 0 | F38: =SUM(F39:F41) -> 0 | G38: =SUM(G39:G41) -> 0 | H38: =SUM(H39:H41) -> 0
A39: 119 | B39: ebből:önkormányzati többségi tulajdonú nem pénzügyi vállalkozások (K89122) | C39: =SUM(D39:H39) -> 0
A40: 118 | B40: ebből: nonprofit gazdasági társaságok (K8915) | C40: =SUM(D40:H40) -> 0
A41: 117 | B41: ebből: egyéb civil szervezeteknek | C41: =SUM(D41:H41) -> 300000 | D41: 300000
A42: 120 | B42: Egyéb felhalmozási célú kiadások (K8) | C42: =SUM(D42:H42) -> 300000 | D42: =D38 -> 300000 | E42: =E38 -> 0 | F42: =F38 -> 0 | G42: =G38 -> 0 | H42: =H38 -> 0
A43: 121 | B43: Költségvetési kiadások (K1-K8) | C43: =SUM(D43:H43) -> 2228301940 | D43: =D6+D7+D8+D16+D26+D32+D37+D42 -> 1654994833 | E43: =E6+E7+E8+E16+E26+E32+E37+E42 -> 190642237 | F43: =F6+F7+F8+F16+F26+F32+F37+F42 -> 190521376 | G43: =G6+G7+G8+G16+G26+G32+G37+G42 -> 55164698 | H43: =H6+H7+H8+H16+H26+H32+H37+H42 -> 136978796
A44: 122 | B44: Államháztartáson belüli megelőlegezések visszafizetése (K914) | C44: =SUM(D44:H44) -> 12185293 | D44: 12185293
A45: 123 | B45: Központi, irányító szervi támogatások folyósítása (K915) | C45: =SUM(D45:H45) -> 487307709 | D45: 487307709
A46: 124 | B46: Belföldi finanszírozás kiadásai (K91) | C46: =SUM(D46:H46) -> 499493002 | D46: =SUM(D44:D45) -> 499493002 | E46: =SUM(E44:E45) -> 0 | F46: =SUM(F44:F45) -> 0 | G46: =SUM(G44:G45) -> 0 | H46: =SUM(H44:H45) -> 0
A47: 125 | B47: Finanszírozási kiadások (K9) | C47: =SUM(D47:H47) -> 499493002 | D47: =D46 -> 499493002 | E47: =E46 -> 0 | F47: =F46 -> 0 | G47: =G46 -> 0 | H47: =H46 -> 0
A48: 126 | B48: MINDÖSSZESEN: | C48: =SUM(D48:H48) -> 2727794942 | D48: =D43+D47 -> 2154487835 | E48: =E43+E47 -> 190642237 | F48: =F43+F47 -> 190521376 | G48: =G43+G47 -> 55164698 | H48: =H43+H47 -> 136978796

Sheet 2a
B1: Berhida Város Önkormányzata | C1: 2/a. melléklet
B2: 2018. évi költségvetés | C2: a 2/2018. (II.23.) önkormányzati rendelethez
B3: Kiadások | C3: adatok Ft-ban
A5: Felújítások | C5: Eredeti előir | D5: változás | E5: Mód. Előirányzat
A6: 1 | B6: TESZ jármű felújítás | C6: 381000 | E6: 381000
A7: 2 | B7: ÖH informatikai eszköz felújítás | C7: 381000 | E7: 381000
A8: 3 | B8: ÖNK közvilágítás korszerűsítés kiviteli terv maradv | C8: 1247775 | E8: 1247775
A9: 4 | B9: ÖNK külterületi utak pályázat tervek maradv | C9: 640000 | E9: 640000
A10: 5 | B10: ÖNK. Erkel F. u. forg.rend. terv. Kivitelezés maradv | C10: 964378 | E10: 964378
A11: 6 | B11: ÖNK Ibolya-Rezeda-Orgona szennyvíz csatorna felúj HKA | C11: 3315970 | E11: 3315970
A12: 7 | B12: ÖNK Orgona u. ABC közl.baleset miatti felúj maradv | C12: 212321 | E12: 212321
A13: 8 | B13: ÖH villámhárító | D13: 515961 | E13: 515961
A14: 9 | B14: ÖNK tervek | D14: 2000000 | E14: 2000000
A15: 10 | B15: ÖNK Süni óvoda fejlesztési pályázat önrész | D15: 2350011 | E15: 2350011
A16: 11 | B16: ÖNK Első világháborús Kisfalúdy emlékmű pályázat önrész | D16: 370000 | E16: 370000
A17: 12 | B17: ÖNK Jázmin u. 1/11. bejárati ajtó csere | D17: 190000 | E17: 190000
A18: 13 | B18: ÖNK Ady E Ált Isk nyílászáró csere | D18: 3063818 | E18: 3063818
A19: 14 | B19: ÖNK Süni konyhai épületrész felújítás (NÉMIH JKV szerint) | D19: 2500000 | E19: 2500000
A20: 15 | E20: 0
A21: 16 | E21: 0
A22: 17 | E22: 0
A23: 18 | B23: Összesen | C23: 7142444 | D23: 10989790 | E23: 18132234

Sheet 2b
B1: Berhida Város Önkormányzata | C1: 2/b. melléklet
B2: 2018. évi költségvetés | C2: a 2/2018. (II.23.) önkormányzati rendelethez
B3: Kiadások | C3: adatok Ft-ban
A5: Beruházások | C5: Eredeti előir | D5: változás | E5: Mód. Előirányzat
A6: 1 | B6: TESZ imm javak +áfa | C6: 152400 | E6: 152400
A7: 2 | B7: TESZ egyéb tárgyi eszközök beszerz út-híd | C7: 762000 | E7: 762000
A8: 3 | B8: TESZ informatikai eszközök+áfa | C8: 50800 | E8: 50800
A9: 4 | B9: TESZ zöldterület egyéb gép- berendezés+áfa | C9: 190500 | D9: 400000 | E9: 590500
A10: 5 | B10: TESZ padok köztemető egyéb gép, berendezés+áfa maradv | C10: 181940 | E10: 181940
A11: 6 | B11: TESZ egyéb gép, berendezés + áfa | C11: 88900 | E11: 88900
A12: 7 | B12: TESZ hosszú közfoglalkoztatás eszközbeszerzés | C12: 381000 | E12: 381000
A13: 8 | B13: Kultúrház egyéb tárgyi eszköz pály-hoz önrész | C13: 508000 | D13: 5044000 | E13: 5552000
A14: 9 | B14: Kultúrház könyv beszerzés (éven túli) | C14: 660450 | E14: 660450
A15: 10 | B15: Süni egyéb tárgyi eszköz + áfa | C15: 311569 | D15: 534000 | E15: 845569
A16: 11 | B16: ÖH informatikai eszközök + áfa | C16: 1905000 | E16: 1905000
A17: 12 | B17: ÖH egyéb gép, berend + áfa | C17: 635000 | D17: 300000 | E17: 935000
A18: 13 | B18: ÖH imm javak + áfa | C18: 635000 | E18: 635000
A19: 14 | B19: ÖNK védőnői szolg. Egyéb eszközbeszerzés | C19: 254000 | D19: 100000 | E19: 354000
A20: 15 | B20: ÖNK Péti uton buszmegálló beszerzés+ alépítmény maradv | C20: 1070000 | E20: 1070000
A21: 16 | B21: ÖNK Rezeda u. 19. redőny, szunyogháló beszerz maradv | C21: 184347 | E21: 184347
A22: 17 | B22: ÖNK telephely vásárlás TESZ | C22: 10000000 | E22: 10000000
A23: 18 | B23: ÖNK kerékpárút kialakítás TOP 3.1.1-16 pályázat | C23: 248304948 | E23: 248304948
A24: 19 | B24: ÖNK szennyvíz tisztítótelep, csatornahál fejl. KEHOP pályázat | C24: 776790555 | E24: 776790555
A25: 20 | B25: TESZ vagyongazdálkodás egyéb eszköz beszerz + áfa | D25: 300000 | E25: 300000
A26: 21 | B26: ÖNK tervek | D26: 1000000 | E26: 1000000
A27: 22 | B27: ÖNK Rezeda u. 21. szolg. Lakás redőny, szunyogháló besz | D27: 254000 | E27: 254000
A28: 23 | B28: ÖNK ingatlan vásárlás 1755/2 (régi forfa) | D28: 120000 | E28: 120000
A29: 24 | B29: ÖNK 181/2 hrsz-ú közút közvilágítási hálózatra csatlakozás | D29: 950214 | E29: 950214
A30: 25 | B30: ÖNK Kiskovácsi temető ravatalozó bővítés Korm. Hiv hatós. Előir | D30: 2500000 | E30: 2500000
A31: 26 | B31: ÖNK urnahely temetkezési hely kialakítás | D31: 500000 | E31: 500000
A32: 27 | B32: Kultúr kisértékű te. Népviseleti ruha, cipő pályázat | D32: 780000 | E32: 780000
A33: 28 | E33: 0
A34: 29 | E34: 0
A35: 30 | E35: 0
A36: 31 | E36: 0
A37: 32 | B37: Összesen | C37: 1043066409 | D37: 12782214 | E37: 1055848623

Sheet 2-c
A1: BERHIDA VÁROS ÖNKORMÁNYZATA
A2: 2018. évi költségvetési tervben a 2017. évi költségvetési maradvány igénybevétel részletezése
E3: 2/c melléklet
E4: a 2/2018. (II.23.) önkormányzati rendelethez
E5: adatok Ft-ban
A6: kv-i maradvány | C6: céltart | D6: Műk célú Tám | E6: Felújítás | F6: Felhalm | G6: dologi | H6: állami megel | I6: személyi | J6: járulék
A7: HKA | B7: =SUM(C7:J7) -> 73798932 | C7: 73798932
A8: ÖNK külterületi utak önrész céltartba | B8: =SUM(C8:J8) -> 11120745 | C8: 11120745
A9: ÖNK pályázati tartalék (óvoda konyha pály önrész is) | B9: =SUM(C9:J9) -> 13879255 | C9: 13879255
A10: ÖNK állami támogatás elszám. Étkeztetés | B10: =SUM(C10:J10) -> 4000000 | C10: 4000000
A11: ÖNK ingatlan havaria céltartalékba | B11: =SUM(C11:J11) -> 4000000 | C11: 4000000
A12: TOPOS pályázat Megyei önk díj | B12: =SUM(C12:J12) -> 2460000 | G12: 2460000
A13: TESZ jármű felújítás | B13: =SUM(C13:J13) -> 381000 | E13: 381000
A14: ÖH informatikai eszköz felújítás | B14: =SUM(C14:J14) -> 381000 | E14: 381000
A15: ÖNK közvilágítás korszerűsítés kiviteli terv maradv | B15: =SUM(C15:J15) -> 1247775 | E15: 1247775
A16: ÖNK külterületi utak pályázat tervek maradv | B16: =SUM(C16:J16) -> 640000 | E16: 640000
A17: ÖNK. Erkel F. u. forg.rend. terv. Kivitelezés maradv | B17: =SUM(C17:J17) -> 964378 | E17: 964378
A18: ÖNK Ibolya-Rezeda-Orgona szennyvíz csatorna felúj HKA | B18: =SUM(C18:J18) -> 3315970 | E18: 3315970
A19: ÖNK Orgona u. ABC közl.baleset miatti felúj maradv | B19: =SUM(C19:J19) -> 212321 | E19: 212321
A20: TESZ imm javak +áfa | B20: =SUM(C20:J20) -> 152400 | F20: 152400
A21: TESZ egyéb tárgyi eszközök beszerz út-híd | B21: =SUM(C21:J21) -> 762000 | F21: 762000
A22: TESZ informatikai eszközök+áfa | B22: =SUM(C22:J22) -> 50800 | F22: 50800
A23: TESZ zöldterület egyéb gép- berendezés+áfa | B23: =SUM(C23:J23) -> 190500 | F23: 190500
A24: TESZ padok köztemető egyéb gép, berendezés+áfa maradv | B24: =SUM(C24:J24) -> 181940 | F24: 181940
A25: TESZ egyéb gép, berendezés + áfa | B25: =SUM(C25:J25) -> 88900 | F25: 88900
A26: TESZ hosszú közfoglalkoztatás eszközbeszerzés | B26: =SUM(C26:J26) -> 381000 | F26: 381000
A27: Kultúrház egyéb tárgyi eszköz pály-hoz önrész | B27: =SUM(C27:J27) -> 508000 | F27: 508000
A28: Kultúrház könyv beszerzés (éven túli) | B28: =SUM(C28:J28) -> 660450 | F28: 660450
A29: Süni egyéb tárgyi eszköz + áfa | B29: =SUM(C29:J29) -> 311569 | F29: 311569
A30: ÖH informatikai eszközök + áfa | B30: =SUM(C30:J30) -> 1905000 | F30: 1905000
A31: ÖH egyéb gép, berend + áfa | B31: =SUM(C31:J31) -> 635000 | F31: 635000
... A35: ÖNK Rezeda u. 19. redőny, szunyogháló beszerz maradv | B35: =SUM(C35:J35) -> 184347 | F35: 184347
A36: TESZ közfoglak | B36: =SUM(C36:J36) -> 5000000 | I36: 4504505 | J36: 495495
A37: Város üzemeltetési feladat | B37: =SUM(C37:J37) -> 55661577 | G37: 55661577
A38: Állami megelőlegezés visszafizetése | B38: =SUM(C38:J38) -> 12185293 | H38: 12185293
A39: ASP bevezetése ÖNK | B39: =SUM(C39:J39) -> 3194450 | G39: 3194450
A40: ASP bevezetése ÖH | B40: =SUM(C40:J40) -> 1689568 | G40: 200000 | I40: 1246500 | J40: 243068
B41: =SUM(C41:J41) -> 0
A44: Mindösszesen | B44: =SUM(B7:B43) -> 202103170 | C44: =SUM(C7:C43) -> 106798932 | D44: =SUM(D7:D43) -> 0 | E44: =SUM(E7:E43) -> 7142444 | F44: =SUM(F7:F43) -> 7970906 | G44: =SUM(G7:G43) -> 61516027 | H44: =SUM(H7:H43) -> 12185293 | I44: =SUM(I7:I43) -> 5751005 | J44: =SUM(J7:J43) -> 738563
A45: Müködési célú | B45: =SUM(C45:J45) -> 76005595 | C45: =C10+C11 -> 8000000 | D45: =D44 -> 0 | G45: =G44 -> 61516027 | I45: =I44 -> 5751005 | J45: =J44 -> 738563
A46: Felhalmozási célú | B46: =SUM(C46:J46) -> 113912282 | C46: =SUM(C7:C9) -> 98798932 | E46: =E44 -> 7142444 | F46: =F44 -> 7970906
A47: finanszírozási célú | B47: =SUM(C47:J47) -> 12185293 | H47: =H44 -> 12185293
A48: Összesen | B48: =SUM(C48:J48) -> 202103170 | C48: =SUM(C45:C47) -> 106798932 | D48: =SUM(D45:D47) -> 0 | E48: =SUM(E45:E47) -> 7142444 | F48: =SUM(F45:F47) -> 7970906 | G48: =SUM(G45:G47) -> 61516027 | H48: =SUM(H45:H47) -> 12185293 | I48: =SUM(I45:I47) -> 5751005 | J48: =SUM(J45:J47) -> 738563

Sheet 2d
B1: Berhida Város Önkormányzata | E1: 2d. melléklet
B2: 2018. évi eredeti költségvetés | E2: 2/2018.(II.23.) önkormányzati rendelethez
C3: KIADÁSOK | E3: Ft-ban
A5: Sor- szám | B5: Rovat megnevezése | C5: Módosított előirányzat összesen | D5: Önkormányzat | E5: Közös Hivatal | F5: TESZ | G5: Kultúrház | H5: Süni
A6: 27 | B6: Személyi juttatások (K1) | C6: =SUM(D6:H6) -> 387614166 | D6: 38093010 | E6: 131799544 | F6: 112320360 | G6: 22629514 | H6: 82771738
A7: 28 | B7: Munkaadókat terhelő járulékok és szociális hozzájárulási adó (K2) | C7: =SUM(D7:H7) -> 72514731 | D7: 8725678 | E7: 27850218 | F7: 15279326 | G7: 4491129 | H7: 16168380
A8: 87 | B8: Dologi kiadások (K3) | C8: =SUM(D8:H8) -> 471976062 | D8: 281739948 | E8: 38220500 | F8: 77367409 | G8: 32612898 | H8: 42035307
A9: 88 | B9: Családi támogatások (K42) | C9: =SUM(D9:H9) -> 0 | D9: =D10 -> 0 | E9: =E10 -> 0 | F9: =F10 -> 0 | G9: =G10 -> 0 | H9: =H10 -> 0
A10: 89 | B10: ebből: az egyéb pénzbeli és természetbeni gyermekvédelmi támogatások (K42132) | C10: =SUM(D10:H10) -> 0
A11: 90 | B11: Intézményi ellátottak pénzbeli juttatásai (K47) | C11: =SUM(D11:H11) -> 800000 | D11: =D12 -> 800000 | E11: =E12 -> 0 | F11: =F12 -> 0 | G11: =G12 -> 0 | H11: =H12 -> 0
A12: 91 | B12: ebből: oktatásban résztvevők pénzbeli juttatásai (K471) | C12: =SUM(D12:H12) -> 800000 | D12: 800000
A13: 92 | B13: Egyéb nem intézményi ellátások (K48) | C13: =SUM(D13:H13) -> 11000000 | D13: =SUM(D14:D15) -> 11000000 | E13: =SUM(E14:E15) -> 0 | F13: =SUM(F14:F15) -> 0 | G13: =SUM(G14:G15) -> 0 | H13: =SUM(H14:H15) -> 0
A14: 93 | B14: ebből: köztemetés [Szoctv. 48.§] (K48123) | C14: =SUM(D14:H14) -> 1000000 | D14: 1000000
A15: 94 | B15: ebből: települési támogatás [Szoctv. 45. §], (K48122) | C15: =SUM(D15:H15) -> 10000000 | D15: 10000000
A16: 96 | B16: Ellátottak pénzbeli juttatásai (K4) | C16: =SUM(D16:H16) -> 11800000 | D16: =D9+D11+D13 -> 11800000 | E16: =E9+E11+E13 -> 0 | F16: =F9+F11+F13 -> 0 | G16: =G9+G11+G13 -> 0 | H16: =H9+H11+H13 -> 0
A17: 97 | B17: Elvonások és befizetések (K5023) | C17: =SUM(D17:H17) -> 0
A18: 98 | B18: Egyéb működési célú támogatások államháztartáson belülre (K506) | C18: =SUM(D18:H18) -> 165641959 | D18: =SUM(D19:D22) -> 165641959 | E18: =SUM(E19:E22) -> 0 | F18: =SUM(F19:F22) -> 0 | G18: =SUM(G19:G22) -> 0 | H18: =SUM(H19:H22) -> 0
A19: 99 | B19: ebből: egyéb központi kezelésű előir (K50612) | C19: =SUM(D19:H19) -> 3200000 | D19: 3200000
A20: 100 | B20: ebből: elkülönített állami pénzalap (K50615) | C20: =SUM(D20:H20) -> 0
A21: 101 | B21: ebből: önkormányzatok és költségv-i szerveik K50616) | C21: =SUM(D21:H21) -> 0
A22: 102 | B22: ebből: társulások és költségvetési szerveik (K50617) | C22: =SUM(D22:H22) -> 162441959 | D22: 162441959
A23: 103 | B23: Egyéb működési célú támogatások államháztartáson kívülre non-profit szervezet (K51215) | C23: =SUM(D23:H23) -> 6671670 | D23: 6671670
B24: Egyházi jogi személy egyé műk célú tám( K51216 | C24: =SUM(D24:H24) -> 0
A25: 104 | B25: Tartalékok (K51311) | C25: =SUM(D25:H25) -> 119798932 | D25: 119798932
A26: 105 | B26: Egyéb működési célú kiadások (K5) | C26: =SUM(D26:H26) -> 292112561 | D26: =D17+D18+D23+D24+D25 -> 292112561 | E26: =E17+E18+E23+E24+E25 -> 0 | F26: =F17+F18+F23+F24+F25 -> 0 | G26: =G17+G18+G23+G24+G25 -> 0 | H26: =H17+H18+H23+H24+H25 -> 0
A27: 106 | B27: Immateriális javak beszerzése, lét (K611) | C27: =SUM(D27:H27) -> 620000 | E27: 500000 | F27: 120000
A28: 107 | B28: Ingatlanok beszerzése, létesítése (K621) | C28: =SUM(D28:H28) -> 984966547 | D28: 984966547
A29: 108 | B29: Informatikai eszközök beszerzése, létesítése (K631) | C29: =SUM(D29:H29) -> 1540000 | E29: 1500000 | F29: 40000
A30: 109 | B30: Egyéb tárgyi eszközök beszerzése, létesítése (K641) | C30: =SUM(D30:H30) -> 9503731 | D30: 672441 | E30: 736220 | F30: 1814441 | G30: 5614827 | H30: 665802
A31: 110 | B31: Beruházási célú előzetesen felszámított általános forgalmi adó (K671) | C31: =SUM(D31:H31) -> 59218345 | D31: 56389076 | E31: 738780 | F31: 533099 | G31: 1377623 | H31: 179767
A32: 111 | B32: Beruházások (K6) | C32: =SUM(D32:H32) -> 1055848623 | D32: =SUM(D27:D31) -> 1042028064 | E32: =SUM(E27:E31) -> 3475000 | F32: =SUM(F27:F31) -> 2507540 | G32: =SUM(G27:G31) -> 6992450 | H32: =SUM(H27:H31) -> 845569
A33: 112 | B33: Ingatlanok felújítása (K711) | C33: =SUM(D33:H33) -> 13271081 | D33: 13271081
B34: Informatikai eszközök felújítása (K723) | C34: =SUM(D34:H34) -> 300000 | E34: 300000
A35: 113 | B35: Egyéb tárgyi eszközök felújítása (K731) | C35: =SUM(D35:H35) -> 706269 | E35: 406269 | F35: 300000
A36: 114 | B36: Felújítási célú előzetesen felszámított általános forgalmi adó (K741) | C36: =SUM(D36:H36) -> 3854884 | D36: 3583192 | E36: 190692 | F36: 81000
A37: 115 | B37: Felújítások (K7) | C37: =SUM(D37:H37) -> 18132234 | D37: =SUM(D33:D36) -> 16854273 | E37: =SUM(E33:E36) -> 896961 | F37: =SUM(F33:F36) -> 381000 | G37: =SUM(G33:G36) -> 0 | H37: =SUM(H33:H36) -> 0
A38: 116 | B38: Egyéb felhalmozási célú támogatások államháztartáson kívülre (K89) | C38: =SUM(D38:H38) -> 300000 | D38: =SUM(D39:D41) -> 300000 | E38: =SUM(E39:E41) -> 0 | F38: =SUM(F39:F41) -> 0 | G38: =SUM(G39:G41) -> 0 | H38: =SUM(H39:H41) -> 0
A39: 119 | B39: ebből:önkormányzati többségi tulajdonú nem pénzügyi vállalkozások (K89122) | C39: =SUM(D39:H39) -> 0
A40: 118 | B40: ebből: nonprofit gazdasági társaságok (K8915) | C40: =SUM(D40:H40) -> 0
A41: 117 | B41: ebből: egyéb civil szervezeteknek | C41: =SUM(D41:H41) -> 300000 | D41: 300000
A42: 120 | B42: Egyéb felhalmozási célú kiadások (K8) | C42: =SUM(D42:H42) -> 300000 | D42: =D38 -> 300000 | E42: =E38 -> 0 | F42: =F38 -> 0 | G42: =G38 -> 0 | H42: =H38 -> 0
A43: 121 | B43: Költségvetési kiadások (K1-K8) | C43: =SUM(D43:H43) -> 2310298377 | D43: =D6+D7+D8+D16+D26+D32+D37+D42 -> 1691653534 | E43: =E6+E7+E8+E16+E26+E32+E37+E42 -> 202242223 | F43: =F6+F7+F8+F16+F26+F32+F37+F42 -> 207855635 | G43: =G6+G7+G8+G16+G26+G32+G37+G42 -> 66725991 | H43: =H6+H7+H8+H16+H26+H32+H37+H42 -> 141820994
A44: 122 | B44: Államháztartáson belüli megelőlegezések visszafizetése (K914) | C44: =SUM(D44:H44) -> 12185293 | D44: 12185293
A45: 123 | B45: Központi, irányító szervi támogatások folyósítása (K915) | C45: =SUM(D45:H45) -> 501490090 | D45: 501490090
A46: 124 | B46: Belföldi finanszírozás kiadásai (K91) | C46: =SUM(D46:H46) -> 513675383 | D46: =SUM(D44:D45) -> 513675383 | E46: =SUM(E44:E45) -> 0 | F46: =SUM(F44:F45) -> 0 | G46: =SUM(G44:G45) -> 0 | H46: =SUM(H44:H45) -> 0
A47: 125 | B47: Finanszírozási kiadások (K9) | C47: =SUM(D47:H47) -> 513675383 | D47: =D46 -> 513675383 | E47: =E46 -> 0 | F47: =F46 -> 0 | G47: =G46 -> 0 | H47: =H46 -> 0
A48: 126 | B48: MINDÖSSZESEN: | C48: =SUM(D48:H48) -> 2823973760 | D48: =D43+D47 -> 2205328917 | E48: =E43+E47 -> 202242223 | F48: =F43+F47 -> 207855635 | G48: =G43+G47 -> 66725991 | H48: =H43+H47 -> 141820994

Sheet 3
D1: Berhida Város Önkormányzata | H1: 3. melléklet
C2: Költségvetési szervek engedélyezett létszám kerete | H2: a 2/2018. (II.23 .) önkormányzati rendelethez
E4: 2018. évi költségvetés
B5: A | C5: B | D5: C | E5: D | F5: E | G5: F | H5: G | I5: H
A6: 1 | B6: BEVÉTELI JOGCÍMEK | C6: Süni | D6: Kultúrház | E6: Műv.ház | F6: TESZ, közf. | G6: Köz Önk.Hiv. | H6: Önkormányzat | I6: ÖSSZESEN
A7: 2 | B7: Intézm.létszámkeret fő: | C7: 27 | D7: 5 | E7: 2.1 | F7: 13 | G7: 28.38 | H7: 12 | I7: =SUM(C7:H7) -> 87.48
A8: 3 | B8: + 6-8 órás közfoglalk létsz | C8: 2 | F8: 120 | I8: =SUM(C8:H8) -> 122
A9: 4 | B9: LÉTSZÁMKERET összesen: | C9: =SUM(C7:C8) -> 29 | D9: =SUM(D7:D8) -> 5 | E9: =SUM(E7:E8) -> 2.1 | F9: =SUM(F7:F8) -> 133 | G9: =SUM(G7:G8) -> 28.38 | H9: =SUM(H7:H8) -> 12 | I9: =SUM(I7:I8) -> 209.48
B11: Önkormányzati létszámkeret | C11: a.) polgármester | F11: 1 | G11: fő
C12: b.) alpolgármester | F12: 1 | G12: fő
C13: c.) önkormányzati képviselők | F13: 7 | G13: fő
C14: d.) védőnők | F14: 3 | G14: fő
D15: Összesen: | F15: =SUM(F11:F14) -> 12 | G15: fő

Sheet 4.mell
C1: BERHIDA VÁROS ÖNKORMÁNYZATA | G1: 4. melléklet
D2: 2018.évi MÉRLEGTERV | G2: a 2/2018. (II.23.) önkormányzati rendelethez
C3: a működési és felhalmozási célú bevételi és kiadási előirányzatokról | G3: adatok Ft-ban
B5: A | C5: B | D5: C | E5: D | F5: E | G5: F
A6: 1 | B6: BEVÉTELI TERV | E6: KIADÁSI TERV
A7: 2 | B7: I. | C7: Működési célú bevételi terv | E7: I. | F7: Működési célú kiadási terv
A8: 3 | B8: a.) | C8: Műk c támogatások áht belülről | D8: 665404344 | E8: a.) | F8: Személyi juttatások | G8: 387614166
A9: 4 | B9: b.) | C9: Közhatalmi bevételek | D9: 303400000 | E9: b.) | F9: Munkaadókat t járulékok | G9: 72514731
A10: 5 | B10: c.) | C10: Működési bevételek | D10: 31964796 | E10: c.) | F10: Dologi kiadások | G10: 471976062
A11: 6 | B11: d.) | C11: Működési átvett pénzeszközök | E11: d.) | F11: Ellátottak pénzbeli jutt | G11: 11800000
A12: 7 | B12: e.) | E12: e.) | F12: Egyéb műk c kiadások | G12: 292112561
A13: 8 | B13: f.) | E13: f.)
A14: 9 | E14: g.)
A15: 10
A16: 11 | C16: I. Bevételek: | D16: 1000769140 | F16: I. Kiadások együtt: | G16: 1236017520
A17: 12 | F17: Működési célú bevételek: | G17: 1000769140
A18: 13 | F18: Működési egyenleg: | G18: 235248380
A19: 14
A20: 15 | B20: II. | C20: Felhalmozási célú bevételi terv | E20: II. | F20: Felhalmozási célú kiadások:
A21: 16 | B21: 1.) | C21: Felhalmozási c támog. Áht-n bel | D21: 1025895503 | E21: 1.) | F21: Beruházások | G21: 1055848623
A22: 17 | B22: 2.) | C22: Felhalmozási bevételek | D22: 12129420 | E22: 2.) | F22: Felújítások | G22: 18132234
A23: 18 | B23: 3.) | C23: Egyéb felhalmozási c átvett pe | D23: 390000 | E23: 3.) | F23: Egyéb felhalm c kiadások | G23: 300000
A24: 19 | B24: 4.) | E24: 4.)
A25: 20 | B25: 5.) | E25: 5.)
A26: 21 | B26: 6.)
A27: 22 | B27: 7.)
A28: 23 | B28: 8.)
A29: 24 | C29: II. Bevételek: | D29: 1038414923 | F29: II. Kiadások: | G29: 1074280857
A30: 25 | F30: Felhalm.célú bevételek: | G30: 1038414923
A31: 26 | F31: Felhalm. egyenleg: | G31: 35865934
A32: 27
A33: 28 | C33: Bevételek összesen (I+II): | D33: 2039184063 | F33: Kiadások összesen (I+II): | G33: 2310298377
C34: iránytószervi támogatás | D34: 501490090 | F34: iránítószervi támogatás | G34: 501490090
C35: kv-i mararvány | D35: 283299607 | F35: Áht megelőleg visszafiz | G35: 12185293
C36: Össz bevétel | D36: 2823973760 | F36: Össz Kiadás | G36: 2823973760

Sheet 5.mell.
B1: 2018 évi költségvetés
B2: Berhida Város Önkormányzata | C2: 5. melléklet
B3: Közösségi szolgáltatások támogatása | C3: a 2/2018. (II.23.) önkormányzati rendelethez
B5: A | C5: B | D5: adatok Ft-ban
A6: 1 | B6: I.) Sporttámogatás működési célú | C6: 2018. Év eredeti elői | D6: 2018. Év mód előir
A7: 2
A8: 3
A9: 4 | B9: Sporttámogatás összesen működési célú: | C9: 1800000 | D9: 2617930
A10: 5 | B10: II.) Egyéb támogatás összesen működési célú | C10: 1600000 | D10: 1929060
A11: 6
A12: 7 | B12: III.) Polgárőrség Berhida | C12: 500000 | D12: 500000
A13: 8 | B13: IV. Egyháznak támogatás | D13: 124680
A14: 9 | B14: Támogatások összesen működési célú: | C14: =SUM(C9+C10+C12) -> 3900000 | D14: =SUM(D9+D10+D12+D13) -> 5171670
A15: 10 | B15: Felhalmozási célú Polgárőrség pályázat | C15: 300000 | D15: 300000
B18: A támogatások összege a megállapodásokban foglaltak szerint használhatók fel.

Sheet 6.mell.
C1: Berhida Város Önkormányzata
C2: ellátottak pénzbeli juttatásai | F2: 6. melléklet
C3: 2018. év | F3: 2/2018.(II. 23. ) önkormányzati rendelethez
F4: adatok Ft-ban
B5: A | C5: B | D5: C | E5: D | F5: E | G5: F
B6: Szociális jogcímek | C6: átruházott hatáskört gyakorló | E6: Képvis.test.jogk. | F6: Jegyzői jogk. | G6: Összes
C7: polgármester | D7: Humán Biz. | G7: előirányzat
A8: 1 | B8: Pénzbeli ellátások összesen | C8: =SUM(C9:C19) -> 3100000 | D8: =SUM(D9:D19) -> 7900000 | E8: =SUM(E9:E19) -> 800000 | F8: =SUM(F9:F19) -> 0 | G8: =SUM(G9:G19) -> 11800000
A9: 2 | B9: Települési támogatás
A10: 3 | B10: Nem intézményi ell. Ebből
A11: 4 | B11: Gyermekvéd.támog. | D11: 600000 | G11: =SUM(C11:F11) -> 600000
A12: 5 | B12: Lakhatási támog | D12: 6300000 | G12: =SUM(C12:F12) -> 6300000
A13: 6 | B13: Temetési segély | C13: 1500000 | G13: =SUM(C13:F13) -> 1500000
A14: 7 | B14: közgyógy ellátás helyi megáll | C14: 700000 | G14: =SUM(C14:F14) -> 700000
A15: 8 | B15: Átmeneti segély | D15: 1000000 | G15: =SUM(C15:F15) -> 1000000
A16: 9 | B16: Köztemetés | C16: 900000 | G16: =SUM(C16:F16) -> 900000
A17: 10 | B17: Intézményi ell., oktatásban részt vevők | G17: =SUM(C17:F17) -> 0
A18: 11 | B18: Arany János ösztöndíj | E18: 250000 | G18: =SUM(C18:F18) -> 250000
A19: 12 | B19: érettségire jelentkezők regisztrációs díja | E19: 550000 | G19: =SUM(C19:F19) -> 550000
B21: Dologi kiadás
B22: szociális tüzifa juttatás | G22: 1524000
B23: Egyéb központi kezelésű tám
B24: Bursa hungarica felsőoktatási pály tám | G24: 2700000
B26: MMINDÖSSZESEN | G26: =G8+G22+G24 -> 16024000

Sheet 7 mell
B1: Berhida Város Önkormányzatának
B2: 2018. Évi költségvetéséhez
A3: Az önkormányzat által adott közvetett támogatások, kedvezmények
C4: 7. melléklet
C5: a 2/2018. (II.23 .) önkormányzati rendelethez
C6: adatok ezer Ft-ban
A8: A | B8: B | C8: C | D8: D
A9: Sorszám | B9: Bevételi jogcím | C9: Kedvezmény nélkül | D9: Kedvezmények
C10: elérhető | D10: összege
C11: bevétel Ft | D11: Ft
A12: 1. | B12: 2. | C12: 3. | D12: 4.
A13: 1. | B13: házi gondozás térítési díj | C13: 399043 | D13: 674763
A14: 2. | B14: idősek nappali ell térítési díj | C14: 1918200 | D14: 1453978
A15: 3. | B15: szoc. étkeztetés térítési díj | C15: 4216800 | D15: 2342081
A16: 4.
A17: 5.
A18: 6.
A19: 7 | B19: Összesen: | C19: =SUM(C13:C18) -> 6534043 | D19: =SUM(D13:D18) -> 4470822

Sheet 8.sz.mell
C2: 2018 évi költségvetés | H2: 8. melléklet
C3: Berhida Város Önkormányzata | H3: 2/2018.(II.23. ) önkormányzati rendelethez
H4: adatok Ft-ban
A5: Több éves kihatással járó döntésekből származó kötelezettségek célok szerint, évenkénti bontásban
A6: Lejárat és eszközök szerinti bontásban (e/Ft-ban)
A9: A | B9: B | C9: C | D9: D | E9: E | F9: F | G9: G | H9: H | I9: I | J9: J
A10: Sorszám | C10: Kötelezett- | D10: Lejárat | E10: 2018
B11: Hitel jellege | C11: ségváll. | D11: éve | E11: előtti | F11: 2019. | G11: 2020. | H11: 2021. | I11: 2021. után | J11: Összesen
C12: éve | E12: kifizetés
A13: 1. | B13: 2. | C13: 3. | D13: 4. | F13: 5. | G13: 6. | H13: 7. | I13: 8.
A14: 1. | B14: Működési célú
A15: 2.
A16: 3.
A17: 4.
A18: 5.
A19: 6. | B19: Felhalmozási célú
A20: 7. | J20: =SUM(E20:I20) -> 0
A21: 8.
A22: 9.
A23: 10. | J23: =SUM(E23:I23) -> 0
A24: 11. | B24: Összesen: (1+6) | E24: =SUM(E20:E22) -> 0 | F24: =SUM(F20:F22) -> 0 | G24: =SUM(G20:G22) -> 0 | H24: =SUM(H20:H22) -> 0 | I24: =SUM(I20:I22) -> 0 | J24: =SUM(E24:I24) -> 0

Sheet 9a
B1: Berhida Város Önkormányzata | F1: 9a. melléklet
B2: 2018. évi eredeti költségvetés | F2: 2/2018.(II.23.) önkormányzati rendelethez
F3: Ft-ban
B4: KÖTELEZŐ FELADATOK | C4: BEVÉTELEK
A5: Sor- szám | B5: Rovat megnevezése | C5: Eredeti előirányzat összesen | D5: Önkormányzat | E5: Közös Hivatal | F5: TESZ | G5: Kultúrház | H5: Süni
A6: 1 | B6: Helyi önkormányzatok működésének általános támogatása (B1111) | C6: ='[2]25'!C6-'[2]29b'!C6-'[2]29c'!C6 -> 108519738 | D6: ='[2]25'!D6-'[2]29b'!D6-'[2]29c'!D6 -> 108519738 | E6: ='[2]25'!E6-'[2]29b'!E6-'[2]29c'!E6 -> 0 | F6: ='[2]25'!F6-'[2]29b'!F6-'[2]29c'!F6 -> 0 | G6: ='[2]25'!G6-'[2]29b'!G6-'[2]29c'!G6 -> 0 | H6: ='[2]25'!H6-'[2]29b'!H6-'[2]29c'!H6 -> 0
A7: 2 | B7: Települési önkormányzatok egyes köznevelési feladatainak támogatása (B112) | C7: ='[2]25'!C7-'[2]29b'!C7-'[2]29c'!C7 -> 142116067 | D7: ='[2]25'!D7-'[2]29b'!D7-'[2]29c'!D7 -> 142116067 | E7: ='[2]25'!E7-'[2]29b'!E7-'[2]29c'!E7 -> 0 | F7: ='[2]25'!F7-'[2]29b'!F7-'[2]29c'!F7 -> 0 | G7: ='[2]25'!G7-'[2]29b'!G7-'[2]29c'!G7 -> 0 | H7: ='[2]25'!H7-'[2]29b'!H7-'[2]29c'!H7 -> 0
A8: 3 | B8: Települési önkormányzatok szociális, gyermekjóléti és gyermekétkeztetési feladatainak támogatása (B113) | C8: ='[2]25'!C8-'[2]29b'!C8-'[2]29c'!C8 -> 97760769 | D8: ='[2]25'!D8-'[2]29b'!D8-'[2]29c'!D8 -> 97760769 | E8: ='[2]25'!E8-'[2]29b'!E8-'[2]29c'!E8 -> 0 | F8: ='[2]25'!F8-'[2]29b'!F8-'[2]29c'!F8 -> 0 | G8: ='[2]25'!G8-'[2]29b'!G8-'[2]29c'!G8 -> 0 | H8: ='[2]25'!H8-'[2]29b'!H8-'[2]29c'!H8 -> 0
A9: 4 | B9: Települési önkormányzatok kulturális feladatainak támogatása (B114) | C9: ='[2]25'!C9-'[2]29b'!C9-'[2]29c'!C9 -> 7215230 | D9: ='[2]25'!D9-'[2]29b'!D9-'[2]29c'!D9 -> 7215230 | E9: ='[2]25'!E9-'[2]29b'!E9-'[2]29c'!E9 -> 0 | F9: ='[2]25'!F9-'[2]29b'!F9-'[2]29c'!F9 -> 0 | G9: ='[2]25'!G9-'[2]29b'!G9-'[2]29c'!G9 -> 0 | H9: ='[2]25'!H9-'[2]29b'!H9-'[2]29c'!H9 -> 0
A10: 5 | B10: Működési célú költségvetési támogatások és kiegészítő támogatások (B115) | C10: ='[2]25'!C10-'[2]29b'!C10-'[2]29c'!C10 -> 0 | D10: ='[2]25'!D10-'[2]29b'!D10-'[2]29c'!D10 -> 0 | E10: ='[2]25'!E10-'[2]29b'!E10-'[2]29c'!E10 -> 0 | F10: ='[2]25'!F10-'[2]29b'!F10-'[2]29c'!F10 -> 0 | G10: ='[2]25'!G10-'[2]29b'!G10-'[2]29c'!G10 -> 0 | H10: ='[2]25'!H10-'[2]29b'!H10-'[2]29c'!H10 -> 0
A11: 6 | B11: Elszámolásból származó bevételek (B116) | C11: ='[2]25'!C11-'[2]29b'!C11-'[2]29c'!C11 -> 0 | D11: ='[2]25'!D11-'[2]29b'!D11-'[2]29c'!D11 -> 0 | E11: ='[2]25'!E11-'[2]29b'!E11-'[2]29c'!E11 -> 0 | F11: ='[2]25'!F11-'[2]29b'!F11-'[2]29c'!F11 -> 0 | G11: ='[2]25'!G11-'[2]29b'!G11-'[2]29c'!G11 -> 0 | H11: ='[2]25'!H11-'[2]29b'!H11-'[2]29c'!H11 -> 0
A12: 7 | B12: Önkormányzatok működési támogatásai (B11) | C12: ='[2]25'!C12-'[2]29b'!C12-'[2]29c'!C12 -> 355611804 | D12: ='[2]25'!D12-'[2]29b'!D12-'[2]29c'!D12 -> 355611804 | E12: ='[2]25'!E12-'[2]29b'!E12-'[2]29c'!E12 -> 0 | F12: ='[2]25'!F12-'[2]29b'!F12-'[2]29c'!F12 -> 0 | G12: ='[2]25'!G12-'[2]29b'!G12-'[2]29c'!G12 -> 0 | H12: ='[2]25'!H12-'[2]29b'!H12-'[2]29c'!H12 -> 0
A13: 8 | B13: Elvonások és befizetések bevételei B12 | C13: ='[2]25'!C13-'[2]29b'!C13-'[2]29c'!C13 -> 0 | D13: ='[2]25'!D13-'[2]29b'!D13-'[2]29c'!D13 -> 0 | E13: ='[2]25'!E13-'[2]29b'!E13-'[2]29c'!E13 -> 0 | F13: ='[2]25'!F13-'[2]29b'!F13-'[2]29c'!F13 -> 0 | G13: ='[2]25'!G13-'[2]29b'!G13-'[2]29c'!G13 -> 0 | H13: ='[2]25'!H13-'[2]29b'!H13-'[2]29c'!H13 -> 0
A14: 9 | B14: Egyéb működési célú támogatások bevételei államháztartáson belülről (B16) | C14: ='[2]25'!C14-'[2]29b'!C14-'[2]29c'!C14 -> 309792540 | D14: ='[2]25'!D14-'[2]29b'!D14-'[2]29c'!D14 -> 243652694 | E14: ='[2]25'!E14-'[2]29b'!E14-'[2]29c'!E14 -> 1981048 | F14: ='[2]25'!F14-'[2]29b'!F14-'[2]29c'!F14 -> 63264006 | G14: ='[2]25'!G14-'[2]29b'!G14-'[2]29c'!G14 -> 0 | H14: ='[2]25'!H14-'[2]29b'!H14-'[2]29c'!H14 -> 894792
A15: 10 | B15: ebből: egyéb központi kezelésű előirányzatok (B1612 | C15: ='[2]25'!C15-'[2]29b'!C15-'[2]29c'!C15 -> 3397958 | D15: ='[2]25'!D15-'[2]29b'!D15-'[2]29c'!D15 -> 1416910 | E15: ='[2]25'!E15-'[2]29b'!E15-'[2]29c'!E15 -> 1981048 | F15: ='[2]25'!F15-'[2]29b'!F15-'[2]29c'!F15 -> 0 | G15: ='[2]25'!G15-'[2]29b'!G15-'[2]29c'!G15 -> 0 | H15: ='[2]25'!H15-'[2]29b'!H15-'[2]29c'!H15 -> 0
A16: 11 | B16: ebből: fejezeti kezelésű EU B16 | C16: ='[2]25'!C16-'[2]29b'!C16-'[2]29c'!C16 -> 227105784 | D16: ='[2]25'!D16-'[2]29b'!D16-'[2]29c'!D16 -> 227105784 | E16: ='[2]25'!E16-'[2]29b'!E16-'[2]29c'!E16 -> 0 | F16: ='[2]25'!F16-'[2]29b'!F16-'[2]29c'!F16 -> 0 | G16: ='[2]25'!G16-'[2]29b'!G16-'[2]29c'!G16 -> 0 | H16: ='[2]25'!H16-'[2]29b'!H16-'[2]29c'!H16 -> 0
A17: 12 | B17: ebből: társadalombiztosítás pénzügyi alapjai (B1614 | C17: ='[2]25'!C17-'[2]29b'!C17-'[2]29c'!C17 -> 15130000 | D17: ='[2]25'!D17-'[2]29b'!D17-'[2]29c'!D17 -> 15130000 | E17: ='[2]25'!E17-'[2]29b'!E17-'[2]29c'!E17 -> 0 | F17: ='[2]25'!F17-'[2]29b'!F17-'[2]29c'!F17 -> 0 | G17: ='[2]25'!G17-'[2]29b'!G17-'[2]29c'!G17 -> 0 | H17: ='[2]25'!H17-'[2]29b'!H17-'[2]29c'!H17 -> 0
... A78: 73 | B78: MINDÖSSZESEN: | C78: ='[2]25'!C78-'[2]29b'!C78-'[2]29c'!C78 -> 2764944608 | D78: ='[2]25'!D78-'[2]29b'!D78-'[2]29c'!D78 -> 2160219522 | E78: ='[2]25'!E78-'[2]29b'!E78-'[2]29c'!E78 -> 194362866 | F78: ='[2]25'!F78-'[2]29b'!F78-'[2]29c'!F78 -> 203148735 | G78: ='[2]25'!G78-'[2]29b'!G78-'[2]29c'!G78 -> 65392491 | H78: ='[2]25'!H78-'[2]29b'!H78-'[2]29c'!H78 -> 141820994
A79: 74 | B79: Személyi juttatások (K1) | C79: ='[2]26'!C6-'[2]29b'!C79-'[2]29c'!C79 -> 381057272 | D79: ='[2]26'!D6-'[2]29b'!D79-'[2]29c'!D79 -> 38093010 | E79: ='[2]26'!E6-'[2]29b'!E79-'[2]29c'!E79 -> 125242650 | F79: ='[2]26'!F6-'[2]29b'!F79-'[2]29c'!F79 -> 112320360 | G79: ='[2]26'!G6-'[2]29b'!G79-'[2]29c'!G79 -> 22629514 | H79: ='[2]26'!H6-'[2]29b'!H79-'[2]29c'!H79 -> 82771738
A80: 75 | B80: Munkaadókat terhelő járulékok és szociális hozzájárulási adó (K2) | C80: ='[2]26'!C7-'[2]29b'!C80-'[2]29c'!C80 -> 71192268 | D80: ='[2]26'!D7-'[2]29b'!D80-'[2]29c'!D80 -> 8725678 | E80: ='[2]26'!E7-'[2]29b'!E80-'[2]29c'!E80 -> 26527755 | F80: ='[2]26'!F7-'[2]29b'!F80-'[2]29c'!F80 -> 15279326 | G80: ='[2]26'!G7-'[2]29b'!G80-'[2]29c'!G80 -> 4491129 | H80: ='[2]26'!H7-'[2]29b'!H80-'[2]29c'!H80 -> 16168380
A81: 76 | B81: Dologi kiadások (K3) | C81: ='[2]26'!C8-'[2]29b'!C81-'[2]29c'!C81 -> 452828462 | D81: ='[2]26'!D8-'[2]29b'!D81-'[2]29c'!D81 -> 268632748 | E81: ='[2]26'!E8-'[2]29b'!E81-'[2]29c'!E81 -> 38220500 | F81: ='[2]26'!F8-'[2]29b'!F81-'[2]29c'!F81 -> 72660509 | G81: ='[2]26'!G8-'[2]29b'!G81-'[2]29c'!G81 -> 31279398 | H81: ='[2]26'!H8-'[2]29b'!H81-'[2]29c'!H81 -> 42035307
A82: 77 | B82: Családi támogatások (K42) | C82: ='[2]26'!C9-'[2]29b'!C82-'[2]29c'!C82 -> 0 | D82: ='[2]26'!D9-'[2]29b'!D82-'[2]29c'!D82 -> 0 | E82: ='[2]26'!E9-'[2]29b'!E82-'[2]29c'!E82 -> 0 | F82: ='[2]26'!F9-'[2]29b'!F82-'[2]29c'!F82 -> 0 | G82: ='[2]26'!G9-'[2]29b'!G82-'[2]29c'!G82 -> 0 | H82: ='[2]26'!H9-'[2]29b'!H82-'[2]29c'!H82 -> 0
A83: 78 | B83: ebből: az egyéb pénzbeli és természetbeni gyermekvédelmi támogatások (K42132) | C83: ='[2]26'!C10-'[2]29b'!C83-'[2]29c'!C83 -> 0 | D83: ='[2]26'!D10-'[2]29b'!D83-'[2]29c'!D83 -> 0 | E83: ='[2]26'!E10-'[2]29b'!E83-'[2]29c'!E83 -> 0 | F83: ='[2]26'!F10-'[2]29b'!F83-'[2]29c'!F83 -> 0 | G83: ='[2]26'!G10-'[2]29b'!G83-'[2]29c'!G83 -> 0 | H83: ='[2]26'!H10-'[2]29b'!H83-'[2]29c'!H83 -> 0
A84: 79 | B84: Intézményi ellátottak pénzbeli juttatásai (K47) | C84: ='[2]26'!C11-'[2]29b'!C84-'[2]29c'!C84 -> 800000 | D84: ='[2]26'!D11-'[2]29b'!D84-'[2]29c'!D84 -> 800000 | E84: ='[2]26'!E11-'[2]29b'!E84-'[2]29c'!E84 -> 0 | F84: ='[2]26'!F11-'[2]29b'!F84-'[2]29c'!F84 -> 0 | G84: ='[2]26'!G11-'[2]29b'!G84-'[2]29c'!G84 -> 0 | H84: ='[2]26'!H11-'[2]29b'!H84-'[2]29c'!H84 -> 0
A85: 80 | B85: ebből: oktatásban résztvevők pénzbeli juttatásai (K471) | C85: ='[2]26'!C12-'[2]29b'!C85-'[2]29c'!C85 -> 800000 | D85: ='[2]26'!D12-'[2]29b'!D85-'[2]29c'!D85 -> 800000 | E85: ='[2]26'!E12-'[2]29b'!E85-'[2]29c'!E85 -> 0 | F85: ='[2]26'!F12-'[2]29b'!F85-'[2]29c'!F85 -> 0 | G85: ='[2]26'!G12-'[2]29b'!G85-'[2]29c'!G85 -> 0 | H85: ='[2]26'!H12-'[2]29b'!H85-'[2]29c'!H85 -> 0
A86: 81 | B86: Egyéb nem intézményi ellátások (K48) | C86: ='[2]26'!C13-'[2]29b'!C86-'[2]29c'!C86 -> 11000000 | D86: ='[2]26'!D13-'[2]29b'!D86-'[2]29c'!D86 -> 11000000 | E86: ='[2]26'!E13-'[2]29b'!E86-'[2]29c'!E86 -> 0 | F86: ='[2]26'!F13-'[2]29b'!F86-'[2]29c'!F86 -> 0 | G86: ='[2]26'!G13-'[2]29b'!G86-'[2]29c'!G86 -> 0 | H86: ='[2]26'!H13-'[2]29b'!H86-'[2]29c'!H86 -> 0
A87: 82 | B87: ebből: köztemetés [Szoctv. 48.§] (K48123) | C87: ='[2]26'!C14-'[2]29b'!C87-'[2]29c'!C87 -> 1000000 | D87: ='[2]26'!D14-'[2]29b'!D87-'[2]29c'!D87 -> 1000000 | E87: ='[2]26'!E14-'[2]29b'!E87-'[2]29c'!E87 -> 0 | F87: ='[2]26'!F14-'[2]29b'!F87-'[2]29c'!F87 -> 0 | G87: ='[2]26'!G14-'[2]29b'!G87-'[2]29c'!G87 -> 0 | H87: ='[2]26'!H14-'[2]29b'!H87-'[2]29c'!H87 -> 0
A88: 83 | B88: ebből: települési támogatás [Szoctv. 45. §], (K48122) | C88: ='[2]26'!C15-'[2]29b'!C88-'[2]29c'!C88 -> 10000000 | D88: ='[2]26'!D15-'[2]29b'!D88-'[2]29c'!D88 -> 10000000 | E88: ='[2]26'!E15-'[2]29b'!E88-'[2]29c'!E88 -> 0 | F88: ='[2]26'!F15-'[2]29b'!F88-'[2]29c'!F88 -> 0 | G88: ='[2]26'!G15-'[2]29b'!G88-'[2]29c'!G88 -> 0 | H88: ='[2]26'!H15-'[2]29b'!H88-'[2]29c'!H88 -> 0
A89: 84 | B89: Ellátottak pénzbeli juttatásai (K4) | C89: ='[2]26'!C16-'[2]29b'!C89-'[2]29c'!C89 -> 11800000 | D89: ='[2]26'!D16-'[2]29b'!D89-'[2]29c'!D89 -> 11800000 | E89: ='[2]26'!E16-'[2]29b'!E89-'[2]29c'!E89 -> 0 | F89: ='[2]26'!F16-'[2]29b'!F89-'[2]29c'!F89 -> 0 | G89: ='[2]26'!G16-'[2]29b'!G89-'[2]29c'!G89 -> 0 | H89: ='[2]26'!H16-'[2]29b'!H89-'[2]29c'!H89 -> 0
A90: 85 | B90: Elvonások és befizetések (K5023) | C90: ='[2]26'!C17-'[2]29b'!C90-'[2]29c'!C90 -> 0 | D90: ='[2]26'!D17-'[2]29b'!D90-'[2]29c'!D90 -> 0 | E90: ='[2]26'!E17-'[2]29b'!E90-'[2]29c'!E90 -> 0 | F90: ='[2]26'!F17-'[2]29b'!F90-'[2]29c'!F90 -> 0 | G90: ='[2]26'!G17-'[2]29b'!G90-'[2]29c'!G90 -> 0 | H90: ='[2]26'!H17-'[2]29b'!H90-'[2]29c'!H90 -> 0
... A121: 116 | B121: MINDÖSSZESEN: | C121: ='[2]26'!C48-'[2]29b'!C121-'[2]29c'!C121 -> 2764944608 | D121: ='[2]26'!D48-'[2]29b'!D121-'[2]29c'!D121 -> 2160219522 | E121: ='[2]26'!E48-'[2]29b'!E121-'[2]29c'!E121 -> 194362866 | F121: ='[2]26'!F48-'[2]29b'!F121-'[2]29c'!F121 -> 203148735 | G121: ='[2]26'!G48-'[2]29b'!G121-'[2]29c'!G121 -> 65392491 | H121: ='[2]26'!H48-'[2]29b'!H121-'[2]29c'!H121 -> 141820994

Sheet 9b
B1: Berhida Város Önkormányzata | F1: 9.b. melléklet
B2: 2018. évi eredeti költségvetés | F2: 2/2018.(II.23.) önkormányzati rendelethez
F3: Ft-ban
B4: ÖNKÉNT VÁLLALT FELADATOK | C4: BEVÉTELEK
A5: Sor- szám | B5: Rovat megnevezése | C5: Eredeti előirányzat összesen | D5: Önkormányzat | E5: Közös Hivatal | F5: TESZ | G5: Kultúrház | H5: Süni
A6: 1 | B6: Helyi önkormányzatok működésének általános támogatása (B1111) | C6: =SUM(D6:H6) -> 0
A7: 2 | B7: Települési önkormányzatok egyes köznevelési feladatainak támogatása (B112) | C7: =SUM(D7:H7) -> 0
A8: 3 | B8: Települési önkormányzatok szociális, gyermekjóléti és gyermekétkeztetési feladatainak támogatása (B113) | C8: =SUM(D8:H8) -> 0
A9: 4 | B9: Települési önkormányzatok kulturális feladatainak támogatása (B114) | C9: =SUM(D9:H9) -> 0
A10: 5 | B10: Működési célú költségvetési támogatások és kiegészítő támogatások (B115) | C10: =SUM(D10:H10) -> 0
A11: 6 | B11: Elszámolásból származó bevételek (B116) | C11: =SUM(D11:H11) -> 0
A12: 7 | B12: Önkormányzatok működési támogatásai (B11) | C12: =SUM(D12:H12) -> 0 | D12: =SUM(D6:D11) -> 0 | E12: =SUM(E6:E11) -> 0 | F12: =SUM(F6:F11) -> 0 | G12: =SUM(G6:G11) -> 0 | H12: =SUM(H6:H11) -> 0
A13: 8 | B13: Elvonások és befizetések bevételei B12 | C13: =SUM(D13:H13) -> 0
A14: 9 | B14: Egyéb működési célú támogatások bevételei államháztartáson belülről (B16) | C14: =SUM(D14:H14) -> 0 | D14: =SUM(D15:D19) -> 0 | E14: =SUM(E15:E19) -> 0 | F14: =SUM(F15:F19) -> 0 | G14: =SUM(G15:G19) -> 0 | H14: =SUM(H15:H19) -> 0
A15: 10 | B15: ebből: egyéb központi kezelésű előirányzatok (B1612 | C15: =SUM(D15:H15) -> 0
A16: 11 | B16: ebből: fejezeti kezelésű EU B16 | C16: =SUM(D16:H16) -> 0
A17: 12 | B17: ebből: társadalombiztosítás pénzügyi alapjai (B1614 | C17: =SUM(D17:H17) -> 0
A18: 13 | B18: ebből: elkülönített állami pénzal (B1615 | C18: =SUM(D18:H18) -> 0
A19: 14 | B19: ebből: önkormányzat és kv-i szerveik (B 1616 | C19: =SUM(D19:H19) -> 0
A20: 15 | B20: Működési célú támogatások államháztartáson belülről (B1) | C20: =SUM(D20:H20) -> 0 | D20: =D12+D14 -> 0 | E20: =E12+E14 -> 0 | F20: =F12+F14 -> 0 | G20: =G12+G14 -> 0 | H20: =H12+H14 -> 0
A21: 16 | B21: Felhalmozási célú önkormányzati támogatások (B21) | C21: =SUM(D21:H21) -> 0 | D21: =D22 -> 0 | E21: =E22 -> 0 | F21: =F22 -> 0 | G21: =G22 -> 0 | H21: =H22 -> 0
A22: 17 | B22: ebből: egyéb központi felhalmozási c tám B 2119 | C22: =SUM(D22:H22) -> 0
A23: 18 | B23: Egyéb felhalmozási célú tám áht belülről B 25 | C23: =SUM(D23:H23) -> 0 | D23: =SUM(D24:D27) -> 0 | E23: =SUM(E24:E27) -> 0 | F23: =SUM(F24:F27) -> 0 | G23: =SUM(G24:G27) -> 0 | H23: =SUM(H24:H27) -> 0
A24: 19 | B24: ebből egyéb központi fc tám (B2512 | C24: =SUM(D24:H24) -> 0
A25: 20 | B25: ebből: egyéb fejezeti kez EU fc (B25 | C25: =SUM(D25:H25) -> 0
A26: 21 | B26: ebből: elkülönített állami pénzal fc (B2515 | C26: =SUM(D26:H26) -> 0
A27: 22 | B27: ebből: önkorm és kv-i szervek fc tám (B2516 | C27: =SUM(D27:H27) -> 0
A28: 23 | B28: Felhalmozási célú támogatások államháztartáson belülről (B2) | C28: =SUM(D28:H28) -> 0 | D28: =D21+D23 -> 0 | E28: =E21+E23 -> 0 | F28: =F21+F23 -> 0 | G28: =G21+G23 -> 0 | H28: =H21+H23 -> 0
A29: 24 | B29: Vagyoni tipusú adók (B34) | C29: =SUM(D29:H29) -> 7770474 | D29: =SUM(D30:D31) -> 7770474 | E29: =SUM(E30:E31) -> 0 | F29: =SUM(F30:F31) -> 0 | G29: =SUM(G30:G31) -> 0 | H29: =SUM(H30:H31) -> 0
A30: 25 | B30: ebből: építményadó (B34111) | C30: =SUM(D30:H30) -> 7770474 | D30: 7770474
A31: 26 | B31: ebből: magánszemélyek kommunális adója (B34114) | C31: =SUM(D31:H31) -> 0
A32: 27 | B32: Értékesítési és forgalmi adók iparűzési adó (B351121) | C32: =SUM(D32:H32) -> 0
A33: 28 | B33: Gépjárműadó (B3541) | C33: =SUM(D33:H33) -> 0
A34: 29 | B34: Egyéb áruhasználati és szolgáltatási adók, környezetterh díj, talajterhelési díj (B355) | C34: =SUM(D34:H34) -> 0
A35: 30 | B35: Termékek és szolgáltatások adói (B35) | C35: =SUM(D35:H35) -> 0 | D35: =SUM(D32:D34) -> 0 | E35: =SUM(E32:E34) -> 0 | F35: =SUM(F32:F34) -> 0 | G35: =SUM(G32:G34) -> 0 | H35: =SUM(H32:H34) -> 0
A36: 31 | B36: Egyéb közhatalmi bevételek (B36) | C36: =SUM(D36:H36) -> 0 | D36: =SUM(D37:D38) -> 0 | E36: =SUM(E37:E38) -> 0 | F36: =SUM(F37:F38) -> 0 | G36: =SUM(G37:G38) -> 0 | H36: =SUM(H37:H38) -> 0
A37: 32 | B37: ebből: szabálysértési pénz- és helyszíni bírság és a közlekedési szabályszegések után kiszabott közigazgatási bírság helyi önkormányzatot megillető része (B361225 köv) | C37: =SUM(D37:H37) -> 0
A38: 33 | B38: ebből: egyéb bírság (B361229 köv) | C38: =SUM(D38:H38) -> 0
A39: 34 | B39: Közhatalmi bevételek (B3) | C39: =SUM(D39:H39) -> 7770474 | D39: =D29+D35+D36 -> 7770474 | E39: =E29+E35+E36 -> 0 | F39: =F29+F35+F36 -> 0 | G39: =G29+G35+G36 -> 0 | H39: =H29+H35+H36 -> 0
A40: 35 | B40: Készlet értékesítés előirányzata B 40111 | C40: =SUM(D40:H40) -> 0
A41: 36 | B41: Szolgáltatások (B4021) | C41: =SUM(D41:H41) -> 0 | D41: =SUM(D42:D45) -> 0 | E41: =SUM(E42:E45) -> 0 | F41: =SUM(F42:F45) -> 0 | G41: =SUM(G42:G45) -> 0 | H41: =SUM(H42:H45) -> 0
A42: 37 | B42: ebből étkeztetés - kivéve ell, hallgatók térítési díj B40211 | C42: =SUM(D42:H42) -> 0
A43: 38 | B43: ebből: bérleti díj bev (B40212) | C43: =SUM(D43:H43) -> 0
A44: 39 | B44: ebből: alkalmazottak térítési díj (B40213) | C44: =SUM(D44:H44) -> 0
A45: 40 | B45: ebből: egyéb szolgáltatás (40215) | C45: =SUM(D45:H45) -> 0
A46: 41 | B46: Közvetített szolgáltatások ellenértéke (B403) | C46: =SUM(D46:H46) -> 1170000 | D46: =SUM(D47:D48) -> 0 | E46: =SUM(E47:E48) -> 0 | F46: =SUM(F47:F48) -> 1170000 | G46: =SUM(G47:G48) -> 0 | H46: =SUM(H47:H48) -> 0
A47: 42 | B47: ebből: államháztartáson belül (B40311) | C47: =SUM(D47:H47) -> 70000 | F47: 70000
A48: 43 | B48: ebből: államháztartáson kívül (B40312) | C48: =SUM(D48:H48) -> 1100000 | F48: 1100000
A49: 44 | B49: Tulajdonosi bevételek (B4041) | C49: =SUM(D49:H49) -> 9610000 | D49: =SUM(D50:D53) -> 9610000 | E49: =SUM(E50:E53) -> 0 | F49: =SUM(F50:F53) -> 0 | G49: =SUM(G50:G53) -> 0 | H49: =SUM(H50:H53) -> 0
A50: 45 | B50: ebből: önkormányzati vagyon üzemeltetéséből származó bevétel (B404131) | C50: =SUM(D50:H50) -> 0
A51: 46 | B51: ebből: önkormányzati vagyon vagyonkezelésbe adásából származó bevétel (B404133) | C51: =SUM(D51:H51) -> 0
A52: 47 | B52: ebből: egy önk-i bérleti- és lízing díj bevételek (404134) | C52: =SUM(D52:H52) -> 9100000 | D52: 9100000
A53: 48 | B53: ebből: egy önk tulajdonosi bevétel (B404139) | C53: =SUM(D53:H53) -> 510000 | D53: 510000
A54: 49 | B54: Ellátási díjak (B4051) | C54: =SUM(D54:H54) -> 0
A55: 50 | B55: Kiszámlázott általános forgalmi adó (B4061) | C55: =SUM(D55:H55) -> 6185544 | D55: 5869644 | F55: 315900
A56: 51 | B56: Általános forgalmi adó visszatérítése (B4071) | C56: =SUM(D56:H56) -> 0
A57: 52 | B57: Egyéb kapott (járó) kamatok és kamatjellegű bevételek ÁHK(B40811) | C57: =SUM(D57:H57) -> 0
A58: 53 | B58: Egyéb pénzügyi műveletek bevételei (B4091) | C58: =SUM(D58:H58) -> 0
A59: 54 | B59: Biztosító által fizetett kártérítés (B4101) | C59: =SUM(D59:H59) -> 0
A60: 55 | B60: Egyéb működési bevételek (B4111) | C60: =SUM(D60:H60) -> 1460500 | D60: 1460500
A61: 56 | B61: Működési bevételek (B4) | C61: =SUM(D61:H61) -> 18426044 | D61: =D40+D41+D46+D49+D54+D55+D56+D57+D58+D59+D60 -> 16940144 | E61: =E40+E41+E46+E49+E54+E55+E56+E57+E58+E59+E60 -> 0 | F61: =F40+F41+F46+F49+F54+F55+F56+F57+F58+F59+F60 -> 1485900 | G61: =G40+G41+G46+G49+G54+G55+G56+G57+G58+G59+G60 -> 0 | H61: =H40+H41+H46+H49+H54+H55+H56+H57+H58+H59+H60 -> 0
A62: 57 | B62: Ingatlanok értékesítése (B521) | C62: =SUM(D62:H62) -> 12129420 | D62: 12129420
A63: 58 | B63: Egyéb tárgyi eszközök értékesítése B531 | C63: =SUM(D63:H63) -> 0
A64: 59 | B64: Felhalmozási bevételek (B5) | C64: =SUM(D64:H64) -> 12129420 | D64: =SUM(D62:D63) -> 12129420 | E64: =SUM(E62:E63) -> 0 | F64: =SUM(F62:F63) -> 0 | G64: =SUM(G62:G63) -> 0 | H64: =SUM(H62:H63) -> 0
A65: 60 | B65: Egyéb működési célú átvett pénzeszközök (65) | C65: =SUM(D65:H65) -> 0
A66: 61 | B66: Működési célú átvett pénzeszközök (B6) | C66: =SUM(D66:H66) -> 0 | D66: =D65 -> 0 | E66: =E65 -> 0 | F66: =F65 -> 0 | G66: =G65 -> 0 | H66: =H65 -> 0
A67: 62 | B67: Felhalmozási célú visszatérítendő támogatások, kölcsönök visszatérülése államháztartáson kívülről (B74) | C67: =SUM(D67:H67) -> 0
A68: 63 | B68: ebből: háztartások (B74) | C68: =SUM(D68:H68) -> 390000 | D68: 390000
A69: 64 | B69: Egyéb felhalmozási célú átvett pénzeszközök (B75) | C69: =SUM(D69:H69) -> 0
A70: 65 | B70: Felhalmozási célú átvett pénzeszközök (B7) | C70: =SUM(D70:H70) -> 390000 | D70: =SUM(D67:D69) -> 390000 | E70: =SUM(E67:E69) -> 0 | F70: =SUM(F67:F69) -> 0 | G70: =SUM(G67:G69) -> 0 | H70: =SUM(H67:H69) -> 0
A71: 66 | B71: Költségvetési bevételek (B1-B7) | C71: =SUM(D71:H71) -> 38715938 | D71: =D20+D28+D39+D61+D64+D66+D70 -> 37230038 | E71: =E20+E28+E39+E61+E64+E66+E70 -> 0 | F71: =F20+F28+F39+F61+F64+F66+F70 -> 1485900 | G71: =G20+G28+G39+G61+G64+G66+G70 -> 0 | H71: =H20+H28+H39+H61+H64+H66+H70 -> 0
A72: 67 | B72: Befektetési célú belföldi egyéb hitelviszonyt megtestesítő értékpapír beváltása, értékesítése (B 81231 | C72: =SUM(D72:H72) -> 0
A73: 68 | B73: Előző év költségvetési maradványának igénybevétele (B813) | C73: =SUM(D73:H73) -> 0
A74: 69 | B74: Államháztartáson belüli megelőlegezések (B814) | C74: =SUM(D74:H74) -> 0
A75: 70 | B75: Irányító szervi támogatás (B816 | C75: =SUM(D75:H75) -> 4554500 | F75: 3221000 | G75: 1333500
A76: 71 | B76: Belföldi finanszírozás bevételei (B81) | C76: =SUM(D76:H76) -> 4554500 | D76: =SUM(D72:D75) -> 0 | E76: =SUM(E72:E75) -> 0 | F76: =SUM(F72:F75) -> 3221000 | G76: =SUM(G72:G75) -> 1333500 | H76: =SUM(H72:H75) -> 0
A77: 72 | B77: Finanszírozási bevételek (B8) | C77: =SUM(D77:H77) -> 4554500 | D77: =D76 -> 0 | E77: =E76 -> 0 | F77: =F76 -> 3221000 | G77: =G76 -> 1333500 | H77: =H76 -> 0
A78: 73 | B78: MINDÖSSZESEN: | C78: =SUM(D78:H78) -> 43270438 | D78: =D71+D77 -> 37230038 | E78: =E71+E77 -> 0 | F78: =F71+F77 -> 4706900 | G78: =G71+G77 -> 1333500 | H78: =H71+H77 -> 0
A79: 74 | B79: Személyi juttatások (K1) | C79: =SUM(D79:H79) -> 0
A80: 75 | B80: Munkaadókat terhelő járulékok és szociális hozzájárulási adó (K2) | C80: =SUM(D80:H80) -> 0
A81: 76 | B81: Dologi kiadások (K3) | C81: =SUM(D81:H81) -> 19147600 | D81: 13107200 | F81: 4706900 | G81: 1333500
A82: 77 | B82: Családi támogatások (K42) | C82: =SUM(D82:H82) -> 0 | D82: =D83 -> 0 | E82: =E83 -> 0 | F82: =F83 -> 0 | G82: =G83 -> 0 | H82: =H83 -> 0
A83: 78 | B83: ebből: az egyéb pénzbeli és természetbeni gyermekvédelmi támogatások (K42132) | C83: =SUM(D83:H83) -> 0
A84: 79 | B84: Intézményi ellátottak pénzbeli juttatásai (K47) | C84: =SUM(D84:H84) -> 0 | D84: =D85 -> 0 | E84: =E85 -> 0 | F84: =F85 -> 0 | G84: =G85 -> 0 | H84: =H85 -> 0
A85: 80 | B85: ebből: oktatásban résztvevők pénzbeli juttatásai (K471) | C85: =SUM(D85:H85) -> 0
A86: 81 | B86: Egyéb nem intézményi ellátások (K48) | C86: =SUM(D86:H86) -> 0 | D86: =SUM(D87:D88) -> 0 | E86: =SUM(E87:E88) -> 0 | F86: =SUM(F87:F88) -> 0 | G86: =SUM(G87:G88) -> 0 | H86: =SUM(H87:H88) -> 0
A87: 82 | B87: ebből: köztemetés [Szoctv. 48.§] (K48123) | C87: =SUM(D87:H87) -> 0
A88: 83 | B88: ebből: települési támogatás [Szoctv. 45. §], (K48122) | C88: =SUM(D88:H88) -> 0
A89: 84 | B89: Ellátottak pénzbeli juttatásai (K4) | C89: =SUM(D89:H89) -> 0 | D89: =D82+D84+D86 -> 0 | E89: =E82+E84+E86 -> 0 | F89: =F82+F84+F86 -> 0 | G89: =G82+G84+G86 -> 0 | H89: =H82+H84+H86 -> 0
A90: 85 | B90: Elvonások és befizetések (K5023) | C90: =SUM(D90:H90) -> 0
A91: 86 | B91: Egyéb működési célú támogatások államháztartáson belülre (K506) | C91: =SUM(D91:H91) -> 0 | D91: =SUM(D92:D95) -> 0 | E91: =SUM(E92:E95) -> 0 | F91: =SUM(F92:F95) -> 0 | G91: =SUM(G92:G95) -> 0 | H91: =SUM(H92:H95) -> 0
A92: 87 | B92: ebből: egyéb központi kezelésű előir (K50612) | C92: =SUM(D92:H92) -> 0
A93: 88 | B93: ebből: elkülönített állami pénzalap (K50615) | C93: =SUM(D93:H93) -> 0
A94: 89 | B94: ebből: önkormányzatok és költségv-i szerveik K50616) | C94: =SUM(D94:H94) -> 0
A95: 90 | B95: ebből: társulások és költségvetési szerveik (K50617) | C95: =SUM(D95:H95) -> 0
A96: 91 | B96: Egyéb működési célú támogatások államháztartáson kívülre non-profit szervezet (K51215) | C96: =SUM(D96:H96) -> 5171670 | D96: 5171670
A97: 92 | B97: Egyházi jogi személy egyé műk célú tám( K51216 | C97: =SUM(D97:H97) -> 0
A98: 93 | B98: Tartalékok (K51311) | C98: =SUM(D98:H98) -> 4000000 | D98: 4000000
A99: 94 | B99: Egyéb működési célú kiadások (K5) | C99: =SUM(D99:H99) -> 9171670 | D99: =D90+D91+D96+D97+D98 -> 9171670 | E99: =E90+E91+E96+E97+E98 -> 0 | F99: =F90+F91+F96+F97+F98 -> 0 | G99: =G90+G91+G96+G97+G98 -> 0 | H99: =H90+H91+H96+H97+H98 -> 0
A100: 95 | B100: Immateriális javak beszerzése, lét (K611) | C100: =SUM(D100:H100) -> 0
...

Sheet 9c
B1: Berhida Város Önkormányzata | F1: 9.c. melléklet
B2: 2018. évi eredeti költségvetés | F2: 2/2018.(II.23.) önkormányzati rendelethez
F3: Ft-ban
B4: ÁLLAMIGAZGATÁSI FELADATOK | C4: BEVÉTELEK
A5: Sor- szám | B5: Rovat megnevezése | C5: Eredeti előirányzat összesen | D5: Önkormányzat | E5: Közös Hivatal | F5: TESZ | G5: Kultúrház | H5: Süni
A6: 1 | B6: Helyi önkormányzatok működésének általános támogatása (B1111) | C6: 0
A7: 2 | B7: Települési önkormányzatok egyes köznevelési feladatainak támogatása (B112) | C7: 0
A8: 3 | B8: Települési önkormányzatok szociális, gyermekjóléti és gyermekétkeztetési feladatainak támogatása (B113) | C8: 0
A9: 4 | B9: Települési önkormányzatok kulturális feladatainak támogatása (B114) | C9: 0
A10: 5 | B10: Működési célú költségvetési támogatások és kiegészítő támogatások (B115) | C10: 0
A11: 6 | B11: Elszámolásból származó bevételek (B116) | C11: 0
A12: 7 | B12: Önkormányzatok működési támogatásai (B11) | C12: 0 | D12: 0 | E12: 0 | F12: 0 | G12: 0 | H12: 0
A13: 8 | B13: Elvonások és befizetések bevételei B12 | C13: 0
A14: 9 | B14: Egyéb működési célú támogatások bevételei államháztartáson belülről (B16) | C14: 0 | D14: 0 | E14: 0 | F14: 0 | G14: 0 | H14: 0
A15: 10 | B15: ebből: egyéb központi kezelésű előirányzatok (B1612 | C15: 0
A16: 11 | B16: ebből: fejezeti kezelésű EU B16 | C16: 0
A17: 12 | B17: ebből: társadalombiztosítás pénzügyi alapjai (B1614 | C17: 0
A18: 13 | B18: ebből: elkülönített állami pénzal (B1615 | C18: 0
A19: 14 | B19: ebből: önkormányzat és kv-i szerveik (B 1616 | C19: 0
A20: 15 | B20: Működési célú támogatások államháztartáson belülről (B1) | C20: 0 | D20: 0 | E20: 0 | F20: 0 | G20: 0 | H20: 0
A21: 16 | B21: Felhalmozási célú önkormányzati támogatások (B21) | C21: 0 | D21: 0 | E21: 0 | F21: 0 | G21: 0 | H21: 0
A22: 17 | B22: ebből: egyéb központi felhalmozási c tám B 2119 | C22: 0
A23: 18 | B23: Egyéb felhalmozási célú tám áht belülről B 25 | C23: 0 | D23: 0 | E23: 0 | F23: 0 | G23: 0 | H23: 0
A24: 19 | B24: ebből egyéb központi fc tám (B2512 | C24: 0
A25: 20 | B25: ebből: egyéb fejezeti kez EU fc (B25 | C25: 0
A26: 21 | B26: ebből: elkülönített állami pénzal fc (B2515 | C26: 0
A27: 22 | B27: ebből: önkorm és kv-i szervek fc tám (B2516 | C27: 0
A28: 23 | B28: Felhalmozási célú támogatások államháztartáson belülről (B2) | C28: 0 | D28: 0 | E28: 0 | F28: 0 | G28: 0 | H28: 0
A29: 24 | B29: Vagyoni tipusú adók (B34) | C29: 7879357 | D29: 7879357 | E29: 0 | F29: 0 | G29: 0 | H29: 0
A30: 25 | B30: ebből: építményadó (B34111) | C30: 7879357 | D30: 7879357
A31: 26 | B31: ebből: magánszemélyek kommunális adója (B34114) | C31: 0
A32: 27 | B32: Értékesítési és forgalmi adók iparűzési adó (B351121) | C32: 0
A33: 28 | B33: Gépjárműadó (B3541) | C33: 0
A34: 29 | B34: Egyéb áruhasználati és szolgáltatási adók, környezetterh díj, talajterhelési díj (B355) | C34: 0
A35: 30 | B35: Termékek és szolgáltatások adói (B35) | C35: 0 | D35: 0 | E35: 0 | F35: 0 | G35: 0 | H35: 0
A36: 31 | B36: Egyéb közhatalmi bevételek (B36) | C36: 0 | D36: 0 | E36: 0 | F36: 0 | G36: 0 | H36: 0
A37: 32 | B37: ebből: szabálysértési pénz- és helyszíni bírság és a közlekedési szabályszegések után kiszabott közigazgatási bírság helyi önkormányzatot megillető része (B361225 köv) | C37: 0
A38: 33 | B38: ebből: egyéb bírság (B361229 köv) | C38: 0
A39: 34 | B39: Közhatalmi bevételek (B3) | C39: 7879357 | D39: 7879357 | E39: 0 | F39: 0 | G39: 0 | H39: 0
A40: 35 | B40: Készlet értékesítés előirányzata B 40111 | C40: 0
A41: 36 | B41: Szolgáltatások (B4021) | C41: 0 | D41: 0 | E41: 0 | F41: 0 | G41: 0 | H41: 0
A42: 37 | B42: ebből étkeztetés - kivéve ell, hallgatók térítési díj B40211 | C42: 0
A43: 38 | B43: ebből: bérleti díj bev (B40212) | C43: 0
A44: 39 | B44: ebből: alkalmazottak térítési díj (B40213) | C44: 0
A45: 40 | B45: ebből: egyéb szolgáltatás (40215) | C45: 0
A46: 41 | B46: Közvetített szolgáltatások ellenértéke (B403) | C46: 0 | D46: 0 | E46: 0 | F46: 0 | G46: 0 | H46: 0
A47: 42 | B47: ebből: államháztartáson belül (B40311) | C47: 0
A48: 43 | B48: ebből: államháztartáson kívül (B40312) | C48: 0
A49: 44 | B49: Tulajdonosi bevételek (B4041) | C49: 0 | D49: 0 | E49: 0 | F49: 0 | G49: 0 | H49: 0
A50: 45 | B50: ebből: önkormányzati vagyon üzemeltetéséből származó bevétel (B404131) | C50: 0
A51: 46 | B51: ebből: önkormányzati vagyon vagyonkezelésbe adásából származó bevétel (B404133) | C51: 0
A52: 47 | B52: ebből: egy önk-i bérleti- és lízing díj bevételek (404134) | C52: 0
A53: 48 | B53: ebből: egy önk tulajdonosi bevétel (B404139) | C53: 0
A54: 49 | B54: Ellátási díjak (B4051) | C54: 0
A55: 50 | B55: Kiszámlázott általános forgalmi adó (B4061) | C55: 0
A56: 51 | B56: Általános forgalmi adó visszatérítése (B4071) | C56: 0
A57: 52 | B57: Egyéb kapott (járó) kamatok és kamatjellegű bevételek ÁHK(B40811) | C57: 0
A58: 53 | B58: Egyéb pénzügyi műveletek bevételei (B4091) | C58: 0
A59: 54 | B59: Biztosító által fizetett kártérítés (B4101) | C59: 0
A60: 55 | B60: Egyéb működési bevételek (B4111) | C60: 0
A61: 56 | B61: Működési bevételek (B4) | C61: 0 | D61: 0 | E61: 0 | F61: 0 | G61: 0 | H61: 0
A62: 57 | B62: Ingatlanok értékesítése (B521) | C62: 0
A63: 58 | B63: Egyéb tárgyi eszközök értékesítése B531 | C63: 0
A64: 59 | B64: Felhalmozási bevételek (B5) | C64: 0 | D64: 0 | E64: 0 | F64: 0 | G64: 0 | H64: 0
A65: 60 | B65: Egyéb működési célú átvett pénzeszközök (65) | C65: 0
A66: 61 | B66: Működési célú átvett pénzeszközök (B6) | C66: 0 | D66: 0 | E66: 0 | F66: 0 | G66: 0 | H66: 0
A67: 62 | B67: Felhalmozási célú visszatérítendő támogatások, kölcsönök visszatérülése államháztartáson kívülről (B74) | C67: 0
A68: 63 | B68: ebből: háztartások (B74) | C68: 0
A69: 64 | B69: Egyéb felhalmozási célú átvett pénzeszközök (B75) | C69: 0
A70: 65 | B70: Felhalmozási célú átvett pénzeszközök (B7) | C70: 0 | D70: 0 | E70: 0 | F70: 0 | G70: 0 | H70: 0
A71: 66 | B71: Költségvetési bevételek (B1-B7) | C71: 7879357 | D71: 7879357 | E71: 0 | F71: 0 | G71: 0 | H71: 0
A72: 67 | B72: Befektetési célú belföldi egyéb hitelviszonyt megtestesítő értékpapír beváltása, értékesítése (B 81231 | C72: 0
A73: 68 | B73: Előző év költségvetési maradványának igénybevétele (B813) | C73: 0
A74: 69 | B74: Államháztartáson belüli megelőlegezések (B814) | C74: 0
A75: 70 | B75: Irányító szervi támogatás (B816 | C75: 7879357 | E75: 7879357
A76: 71 | B76: Belföldi finanszírozás bevételei (B81) | C76: 7879357 | D76: 0 | E76: 7879357 | F76: 0 | G76: 0 | H76: 0
A77: 72 | B77: Finanszírozási bevételek (B8) | C77: 7879357 | D77: 0 | E77: 7879357 | F77: 0 | G77: 0 | H77: 0
A78: 73 | B78: MINDÖSSZESEN: | C78: 15758714 | D78: 7879357 | E78: 7879357 | F78: 0 | G78: 0 | H78: 0
A79: 74 | B79: Személyi juttatások (K1) | C79: 6556894 | E79: 6556894
A80: 75 | B80: Munkaadókat terhelő járulékok és szociális hozzájárulási adó (K2) | C80: 1322463 | E80: 1322463
A81: 76 | B81: Dologi kiadások (K3) | C81: 0
A82: 77 | B82: Családi támogatások (K42) | C82: 0 | D82: 0 | E82: 0 | F82: 0 | G82: 0 | H82: 0
A83: 78 | B83: ebből: az egyéb pénzbeli és természetbeni gyermekvédelmi támogatások (K42132) | C83: 0
A84: 79 | B84: Intézményi ellátottak pénzbeli juttatásai (K47) | C84: 0 | D84: 0 | E84: 0 | F84: 0 | G84: 0 | H84: 0
A85: 80 | B85: ebből: oktatásban résztvevők pénzbeli juttatásai (K471) | C85: 0
A86: 81 | B86: Egyéb nem intézményi ellátások (K48) | C86: 0 | D86: 0 | E86: 0 | F86: 0 | G86: 0 | H86: 0
A87: 82 | B87: ebből: köztemetés [Szoctv. 48.§] (K48123) | C87: 0
A88: 83 | B88: ebből: települési támogatás [Szoctv. 45. §], (K48122) | C88: 0
A89: 84 | B89: Ellátottak pénzbeli juttatásai (K4) | C89: 0 | D89: 0 | E89: 0 | F89: 0 | G89: 0 | H89: 0
A90: 85 | B90: Elvonások és befizetések (K5023) | C90: 0
A91: 86 | B91: Egyéb működési célú támogatások államháztartáson belülre (K506) | C91: 0 | D91: 0 | E91: 0 | F91: 0 | G91: 0 | H91: 0
A92: 87 | B92: ebből: egyéb központi kezelésű előir (K50612) | C92: 0
A93: 88 | B93: ebből: elkülönített állami pénzalap (K50615) | C93: 0
A94: 89 | B94: ebből: önkormányzatok és költségv-i szerveik K50616) | C94: 0
A95: 90 | B95: ebből: társulások és költségvetési szerveik (K50617) | C95: 0
A96: 91 | B96: Egyéb működési célú támogatások államháztartáson kívülre non-profit szervezet (K51215) | C96: 0
A97: 92 | B97: Egyházi jogi személy egyé műk célú tám( K51216 | C97: 0
A98: 93 | B98: Tartalékok (K51311) | C98: 0
A99: 94 | B99: Egyéb működési célú kiadások (K5) | C99: 0 | D99: 0 | E99: 0 | F99: 0 | G99: 0 | H99: 0
A100: 95 | B100: Immateriális javak beszerzése, lét (K611) | C100: 0
...

Sheet 10 mell
B1: Berhida Város Önkormányzatának
B2: 2018. Évi költségvetéséhez
A3: Az Önkormányzat saját bevételének alakulásáról
C4: 10. melléklet
C5: a 2/2018. (II.23 .) önkormányzati rendelethez
C6: adatok ezer Ft-ban
A8: A | B8: B | C8: C | D8: D | E8: E | F8: F
A9: Sorszám | B9: Bevételi jogcím | C9: 2018. év | D9: 2019 év | E9: 2020 év | F9: 2021 év
C10: bevételi | D10: bevételi | E10: bevételi | F10: bevételi
C11: előirányzat | D11: előirányzat | E11: előirányzat | F11: előirányzat
A12: 1. | B12: 2. | C12: 3. | D12: 3. | E12: 3. | F12: 3.
A13: 1. | B13: építmény adó | C13: ='1'!C30 -> 110200000 | D13: ='1'!D30 -> 110200000 | E13: 110200000 | F13: 110200000
A14: 2. | B14: magánszemélyek kommunális adója
A15: 3. | B15: iparűzési adó | C15: ='1'!C32 -> 181000000 | D15: ='1'!D32 -> 181000000 | E15: 181000000 | F15: 181000000
A16: 4. | B16: önk-i vagyon értékesítésből sz bev
A17: 5. | B17: osztalék, hozam bevétel
A18: 6. | B18: tárgyi eszköz és imm jószág értékes sz bev
A19: 7. | B19: bírság, pótlék és díj bevétel
A20: 8. | B20: kezességvállalással kapcsolatos megtérülés
A21: 9.
A22: 10. | B22: Összesen: | C22: =SUM(C13:C21) -> 291200000 | D22: =SUM(D13:D21) -> 291200000 | E22: =SUM(E13:E21) -> 291200000 | F22: =SUM(F13:F21) -> 291200000

Sheet 11
B1: Berhida Város Önkormányzata | C1: 11. melléklet
B2: 2017. évi költségvetés | C2: a 2/2018. (II.23 .) önkormányzati rendelethez
B4: Bevételek | C4: Ft-ban
C5: Összesen | D5: Önkormányzat | E5: Hivatal | F5: TESZ | G5: Kultúr | H5: Süni
A6: Sor- szám | B6: Rovat megnevezése | C6: Eredeti előirányzat | D6: Eredeti előirányzat | E6: Eredeti előirányzat | F6: Eredeti előirányzat | G6: Eredeti előirányzat | H6: Eredeti előirányzat
A7: 1 | B7: Helyi önkormányzatok működésének általános támogatása (B1111) | C7: =SUM(D7:H7) -> 106085367 | D7: 106085367
A8: 2 | B8: Települési önkormányzatok egyes köznevelési feladatainak támogatása (B1121) | C8: =SUM(D8:H8) -> 127904640 | D8: 127904640
A9: 3 | B9: Települési önkormányzatok szociális, gyermekjóléti és gyermekétkeztetési feladatainak támogatása (B1131) | C9: =SUM(D9:H9) -> 90729626 | D9: 90729626
A10: 4 | B10: Települési önkormányzatok kulturális feladatainak támogatása (B1141) | C10: =SUM(D10:H10) -> 6854820 | D10: 6854820
A11: 5 | B11: Működési célú költségvetési támogatások és kiegészítő támogatások (B1151) | C11: =SUM(D11:H11) -> 0
A12: 6 | B12: Önkormányzatok működési támogatásai (B11) | C12: =SUM(D12:H12) -> 331574453 | D12: =SUM(D7:D11) -> 331574453 | E12: =SUM(E7:E11) -> 0 | F12: =SUM(F7:F11) -> 0 | G12: =SUM(G7:G11) -> 0 | H12: =SUM(H7:H11) -> 0
A13: 7 | B13: Egyéb működési célú támogatások bevételei államháztartáson belülről (B16) | C13: =SUM(D13:H13) -> 84703526 | D13: =SUM(D14:D17) -> 22667022 | E13: =SUM(E14:E17) -> 0 | F13: =SUM(F14:F17) -> 62036504 | G13: =SUM(G14:G17) -> 0 | H13: =SUM(H14:H17) -> 0
A14: 8 | B14: ebből: egyéb fejezeti kezelésű előirányzatok (B16132) | C14: =SUM(D14:H14) -> 8237022 | D14: 8237022
A15: 9 | B15: ebből: társadalombiztosítás pénzügyi alapjai (B1614) | C15: =SUM(D15:H15) -> 14430000 | D15: 14430000
A16: 10 | B16: ebből: elkülönített állami pénzal (B1615) | C16: =SUM(D16:H16) -> 62036504 | F16: 62036504
A17: 11 | B17: ebből: önkormányzat és kv-i szerveik (B 1616) | C17: =SUM(D17:H17) -> 0
A18: 12 | B18: Működési célú támogatások államháztartáson belülről (B1) | C18: =SUM(D18:H18) -> 416277979 | D18: =D12+D13 -> 354241475 | E18: =E12+E13 -> 0 | F18: =F12+F13 -> 62036504 | G18: =G12+G13 -> 0 | H18: =H12+H13 -> 0
A19: 13 | B19: Felhalmozási célú önkormányzati támogatások (B21) | C19: =SUM(D19:H19) -> 0 | D19: =SUM(D20:D23) -> 0 | E19: =SUM(E20:E23) -> 0 | F19: =SUM(F20:F23) -> 0 | G19: =SUM(G20:G23) -> 0 | H19: =SUM(H20:H23) -> 0
A20: 14 | B20: ebből egyéb központi fc tám (B2119) | C20: =SUM(D20:H20) -> 0
A21: 15 | B21: ebből: egyéb fejezeti kezelésű előirányzatok fc (B2513) | C21: =SUM(D21:H21) -> 0
A22: 16 | B22: ebből: elkülönített állami pénzal fc (B2515) | C22: =SUM(D22:H22) -> 0
A23: 17 | B23: ebből: önkorm és kv-i szervek fc tám (B2516) | C23: =SUM(D23:H23) -> 0
A24: 18 | B24: Felhalmozási célú támogatások államháztartáson belülről (B2) | C24: =SUM(D24:H24) -> 0 | D24: =D19 -> 0 | E24: =E19 -> 0 | F24: =F19 -> 0 | G24: =G19 -> 0 | H24: =H19 -> 0
A25: 19 | B25: Vagyoni tipusú adók (B34) | C25: =SUM(D25:H25) -> 102150639 | D25: =SUM(D26:D27) -> 102150639 | E25: =SUM(E26:E27) -> 0 | F25: =SUM(F26:F27) -> 0 | G25: =SUM(G26:G27) -> 0 | H25: =SUM(H26:H27) -> 0
A26: 20 | B26: ebből: építményadó (B34111) | C26: =SUM(D26:H26) -> 84512950 | D26: 84512950
A27: 21 | B27: ebből: magánszemélyek kommunális adója (B34114) | C27: =SUM(D27:H27) -> 17637689 | D27: 17637689
A28: 22 | B28: Értékesítési és forgalmi adók iparűzési adó (B351121) | C28: =SUM(D28:H28) -> 189265417 | D28: 189265417
A29: 23 | B29: Gépjárműadó (B354121) | C29: =SUM(D29:H29) -> 11678757 | D29: 11678757
A30: 24 | B30: Egyéb áruhasználati és szolgáltatási adók, környezetterh díj (B355122) | C30: =SUM(D30:H30) -> 110000 | D30: 110000
A31: 25 | B31: Termékek és szolgáltatások adói (B35) | C31: =SUM(D31:H31) -> 201054174 | D31: =SUM(D28:D30) -> 201054174 | E31: =SUM(E28:E30) -> 0 | F31: =SUM(F28:F30) -> 0 | G31: =SUM(G28:G30) -> 0 | H31: =SUM(H28:H30) -> 0
A32: 26 | B32: Egyéb közhatalmi bevételek (B36) | C32: =SUM(D32:H32) -> 0 | D32: =SUM(D33:D35) -> 0 | E32: =SUM(E33:E35) -> 0 | F32: =SUM(F33:F35) -> 0 | G32: =SUM(G33:G35) -> 0 | H32: =SUM(H33:H35) -> 0
A33: 27 | B33: ebből: szabálysértési pénz- és helyszíni bírság és a közlekedési szabályszegések után kiszabott közigazgatási bírság helyi önkormányzatot megillető része (B361225) | C33: =SUM(D33:H33) -> 0
A34: 28 | B34: ebből: egyéb bírság (B361229) | C34: =SUM(D34:H34) -> 0
A35: 29 | B35: ebből: egyéb települési adók (B36128) | C35: =SUM(D35:H35) -> 0
A36: 30 | B36: Közhatalmi bevételek (B3) | C36: =SUM(D36:H36) -> 303204813 | D36: =D25+D31+D32 -> 303204813 | E36: =E25+E31+E32 -> 0 | F36: =F25+F31+F32 -> 0 | G36: =G25+G31+G32 -> 0 | H36: =H25+H31+H32 -> 0
A37: 31 | B37: Szolgáltatások (B4021) | C37: =SUM(D37:H37) -> 6922704 | D37: =SUM(D38:D40) -> 0 | E37: =SUM(E38:E40) -> 335000 | F37: =SUM(F38:F40) -> 400000 | G37: =SUM(G38:G40) -> 920000 | H37: =SUM(H38:H40) -> 5267704
A38: 32 | B38: ebből: alkalmazottak térítési díj (B40211) | C38: =SUM(D38:H38) -> 562880 | H38: 562880
A39: 33 | B39: ebből: bérleti díj bev (B40212) | C39: =SUM(D39:H39) -> 1475000 | E39: 335000 | F39: 400000 | G39: 740000
A40: 34 | B40: ebből: egyéb szolgáltatás (40214) | C40: =SUM(D40:H40) -> 4884824 | G40: 180000 | H40: 4704824
A41: 35 | B41: Közvetített szolgáltatások ellenértéke (B403) | C41: =SUM(D41:H41) -> 3772000 | D41: =SUM(D42:D43) -> 1330000 | E41: =SUM(E42:E43) -> 1200000 | F41: =SUM(F42:F43) -> 1242000 | G41: =SUM(G42:G43) -> 0 | H41: =SUM(H42:H43) -> 0
A42: 36 | B42: ebből: államháztartáson belül (B40311) | C42: =SUM(D42:H42) -> 2530000 | D42: 1330000 | E42: 1200000
A43: 37 | B43: ebből: államháztartáson kívül (B40312) | C43: =SUM(D43:H43) -> 1242000 | F43: 1242000
A44: 38 | B44: Tulajdonosi bevételek (B404) | C44: =SUM(D44:H44) -> 19200212 | D44: =SUM(D45:D49) -> 19200212 | E44: =SUM(E45:E49) -> 0 | F44: =SUM(F45:F49) -> 0 | G44: =SUM(G45:G49) -> 0 | H44: =SUM(H45:H49) -> 0
A45: 39 | B45: ebből: önkormányzati vagyon üzemeltetéséből, koncesszióból származó bevétel (B404131) | C45: =SUM(D45:H45) -> 9611212 | D45: 9611212
A46: 40 | B46: ebből: önkormányzati vagyon vagyonkezelésbe adásából származó bevétel (B404133) | C46: =SUM(D46:H46) -> 0
A47: 41 | B47: ebből: egy önk-i vagyon bérbeadásából (404134) | C47: =SUM(D47:H47) -> 9079000 | D47: 9079000
A48: 42 | B48: ebből egyéb önkorm vagyon haszonbérbeadásából (B404135) | C48: =SUM(D48:H48) -> 0
A49: 43 | B49: ebből: egy önk tulajdonosi bevétel (B404139) | C49: =SUM(D49:H49) -> 510000 | D49: 510000
A50: 44 | B50: Ellátási díjak (B40511) | C50: =SUM(D50:H50) -> 898775 | H50: 898775
A51: 45 | B51: Kiszámlázott általános forgalmi adó (B40611) | C51: =SUM(D51:H51) -> 8065896 | D51: 5543157 | E51: =(E37+E41+E44+E50)*0.27 -> 414450 | F51: =(F37+F41+F44+F50)*0.27 -> 443340 | H51: 1664949
A52: 46 | B52: Általános forgalmi adó visszatérítése (B4071) | C52: =SUM(D52:H52) -> 0
A53: 47 | B53: Egyéb kapott (járó) kamatok és kamatjellegű bevételek ÁHK(B408129) | C53: =SUM(D53:H53) -> 0
A54: 48 | B54: Más egyéb pénzügyi műveletek bevételei (B4092) | C54: =SUM(D54:H54) -> 0
A55: 49 | B55: ebből: valuta és deviza eszközök realizált árfolyamnyeresége (B4092) | C55: =SUM(D55:H55) -> 0
A56: 50 | B56: Egyéb pénzügyi műveletek bevételei B409199) | C56: =SUM(D56:H56) -> 0
A57: 51 | B57: Biztosító által fizetett kártérítés (B4101) | C57: =SUM(D57:H57) -> 0
A58: 52 | B58: Egyéb működési bevételek (B411199) | C58: =SUM(D58:H58) -> 12000 | F58: 12000
A59: 53 | B59: Működési bevételek (B4) | C59: =SUM(D59:H59) -> 38871587 | D59: =D37+D41+D44+D50+D51+D52+D53+D54+D55+D56+D57+D58 -> 26073369 | E59: =E37+E41+E44+E50+E51+E52+E53+E54+E55+E56+E57+E58 -> 1949450 | F59: =F37+F41+F44+F50+F51+F52+F53+F54+F55+F56+F57+F58 -> 2097340 | G59: =G37+G41+G44+G50+G51+G52+G53+G54+G55+G56+G57+G58 -> 920000 | H59: =H37+H41+H44+H50+H51+H52+H53+H54+H55+H56+H57+H58 -> 7831428
A60: 54 | B60: Ingatlanok értékesítése (B52) | C60: =SUM(D60:H60) -> 180000 | D60: 180000
A61: 55 | B61: Felhalmozási bevételek (B5) | C61: =SUM(D61:H61) -> 180000 | D61: =D60 -> 180000 | E61: =E60 -> 0 | F61: =F60 -> 0 | G61: =G60 -> 0 | H61: =H60 -> 0
A62: 56 | B62: Felhalmozási célú visszatérítendő támogatások, kölcsönök visszatérülése államháztartáson kívülről (B74) | C62: =SUM(D62:H62) -> 0
A63: 57 | B63: ebből: háztartások (B74) | C63: =SUM(D63:H63) -> 435500 | D63: 435500
A64: 58 | B64: Egyéb felhalmozási célú átvett pénzeszközök (B75) | C64: =SUM(D64:H64) -> 0
A65: 59 | B65: Felhalmozási célú átvett pénzeszközök (B7) | C65: =SUM(D65:H65) -> 435500 | D65: =SUM(D62:D64) -> 435500 | E65: =SUM(E62:E64) -> 0 | F65: =SUM(F62:F64) -> 0 | G65: =SUM(G62:G64) -> 0 | H65: =SUM(H62:H64) -> 0
A66: 60 | B66: Költségvetési bevételek (B1-B7) | C66: =SUM(D66:H66) -> 758969879 | D66: =D18+D24+D36+D59+D61+D65 -> 684135157 | E66: =E18+E24+E36+E59+E61+E65 -> 1949450 | F66: =F18+F24+F36+F59+F61+F65 -> 64133844 | G66: =G18+G24+G36+G59+G61+G65 -> 920000 | H66: =H18+H24+H36+H59+H61+H65 -> 7831428
A67: 61 | B67: Előző év költségvetési maradványának igénybevétele (B8131) | C67: =SUM(D67:H67) -> 459034248 | D67: 452306545 | F67: 6727703
A68: 62 | B68: Államháztartáson belüli megelőlegezések (B814) | C68: =SUM(D68:H68) -> 0
A69: 63 | B69: Irányító szervi támogatás B816 | C69: =SUM(D69:H69) -> 475776396 | E69: 170104644 | F69: 118546267 | G69: 54049820 | H69: 133075665
A70: 64 | B70: Belföldi finanszírozás bevételei (B81) | C70: =SUM(D70:H70) -> 934810644 | D70: =SUM(D67:D69) -> 452306545 | E70: =SUM(E67:E69) -> 170104644 | F70: =SUM(F67:F69) -> 125273970 | G70: =SUM(G67:G69) -> 54049820 | H70: =SUM(H67:H69) -> 133075665
A71: 65 | B71: Finanszírozási bevételek (B8) | C71: =SUM(D71:H71) -> 934810644 | D71: =D70 -> 452306545 | E71: =E70 -> 170104644 | F71: =F70 -> 125273970 | G71: =G70 -> 54049820 | H71: =H70 -> 133075665
A72: 66 | B72: MINDÖSSZESEN: | C72: =SUM(D72:H72) -> 1693780523 | D72: =D66+D71 -> 1136441702 | E72: =E66+E71 -> 172054094 | F72: =F66+F71 -> 189407814 | G72: =G66+G71 -> 54969820 | H72: =H66+H71 -> 140907093

Sheet 12
B1: Berhida Város Önkormányzata | D1: 12. melléklet
B2: 2017. évi költségvetés | D2: a 2/2018. (II. 23 .) önkormányzati rendelethez
B3: Kiadások | C3: Ft-ban
C4: Összesen | D4: Önkormányzat | E4: Hivatal | F4: TESZ | G4: Kultúr | H4: Süni
A5: Sor- szám | B5: Rovat megnevezése | C5: Eredeti előirányzat | D5: Eredeti előirányzat | E5: Eredeti előirányzat | F5: Eredeti előirányzat | G5: Eredeti előirányzat | H5: Eredeti előirányzat
A6: 1 | B6: Személyi juttatások (K1) | C6: =SUM(D6:H6) -> 342026944 | D6: 34011835 | E6: 108619319 | F6: 101391038 | G6: 21160374 | H6: 76844378
A7: 2 | B7: Munkaadókat terhelő járulékok és szociális hozzájárulási adó (K2) | C7: =SUM(D7:H7) -> 73806915 | D7: 8573314 | E7: 26070315 | F7: 15853042 | G7: 4736256 | H7: 18573988
A8: 3 | B8: Dologi kiadások (K3) | C8: =SUM(D8:H8) -> 213722834 | D8: 40495573 | E8: 31903460 | F8: 68271434 | G8: 28198640 | H8: 44853727
A9: 4 | B9: Családi támogatások (K42) | C9: =SUM(D9:H9) -> 0 | D9: =D10 -> 0 | E9: =E10 -> 0 | F9: =F10 -> 0 | G9: =G10 -> 0 | H9: =H10 -> 0
A10: 5 | B10: ebből: az egyéb pénzbeli és természetbeni gyermekvédelmi támogatások (K42132) | C10: =SUM(D10:H10) -> 0
A11: 6 | B11: Intézményi ellátottak pénzbeli juttatásai (K47) | C11: =SUM(D11:H11) -> 2700000 | D11: =D12 -> 2700000 | E11: =E12 -> 0 | F11: =F12 -> 0 | G11: =G12 -> 0 | H11: =H12 -> 0
A12: 7 | B12: ebből: oktatásban résztvevők pénzbeli juttatásai (K471) | C12: =SUM(D12:H12) -> 2700000 | D12: 2700000
A13: 8 | B13: Egyéb nem intézményi ellátások (K48) | C13: =SUM(D13:H13) -> 9300000 | D13: =SUM(D14:D16) -> 9300000 | E13: =SUM(E14:E16) -> 0 | F13: =SUM(F14:F16) -> 0 | G13: =SUM(G14:G16) -> 0 | H13: =SUM(H14:H16) -> 0
A14: 9 | B14: ebből: köztemetés [Szoctv. 48.§] (K48123) | C14: =SUM(D14:H14) -> 900000 | D14: 900000
A15: 10 | B15: ebből: települési támogatás [Szoctv. 45. §], (K48122) | C15: =SUM(D15:H15) -> 8400000 | D15: 8400000
A16: 11 | B16: ebből: önkorm. Saját hatáskörben adott (K48139) | C16: =SUM(D16:H16) -> 0
A17: 12 | B17: Ellátottak pénzbeli juttatásai (K4) | C17: =SUM(D17:H17) -> 12000000 | D17: =D9+D11+D13 -> 12000000 | E17: =E9+E11+E13 -> 0 | F17: =F9+F11+F13 -> 0 | G17: =G9+G11+G13 -> 0 | H17: =H9+H11+H13 -> 0
A18: 13 | B18: Elvonások és befizetések (K5023) | C18: =SUM(D18:H18) -> 780000 | D18: 780000
A19: 14 | B19: Egyéb működési célú támogatások államháztartáson belülre (K506) | C19: =SUM(D19:H19) -> 149600192 | D19: =SUM(D20:D23) -> 148857492 | E19: =SUM(E20:E23) -> 0 | F19: =SUM(F20:F23) -> 742700 | G19: =SUM(G20:G23) -> 0 | H19: =SUM(H20:H23) -> 0
A20: 15 | B20: ebből: egyéb fejezeti kezelésű előirányzatok (K506132) | C20: =SUM(D20:H20) -> 500000 | D20: 500000
A21: 16 | B21: ebből: elkülönített állami pénzalap (K50615) | C21: =SUM(D21:H21) -> 742700 | F21: 742700
A22: 17 | B22: ebből: önkormányzatok és költségv-i szerveik K50616) | C22: =SUM(D22:H22) -> 0
A23: 18 | B23: ebből: társulások és költségvetési szerveik (K50617) | C23: =SUM(D23:H23) -> 148357492 | D23: 148357492
A24: 19 | B24: Egyéb működési célú támogatások államháztartáson kívülre non-profit szervezet (K512142) | C24: =SUM(D24:H24) -> 6360000 | D24: 6360000
A25: 20 | B25: Tartalékok (K51311) | C25: =SUM(D25:H25) -> 126096387 | D25: 126096387
A26: 21 | B26: Egyéb működési célú kiadások (K5) | C26: =SUM(D26:H26) -> 282836579 | D26: =D18+D19+D24+D25 -> 282093879 | E26: =E18+E19+E24+E25 -> 0 | F26: =F18+F19+F24+F25 -> 742700 | G26: =G18+G19+G24+G25 -> 0 | H26: =H18+H19+H24+H25 -> 0
A27: 22 | B27: Immateriális javak beszerzése, lét (K611) | C27: =SUM(D27:H27) -> 2381102 | D27: 1181102 | E27: 1000000 | F27: 200000
A28: 23 | B28: Ingatlanok beszerzése, létesítése (K621) | C28: =SUM(D28:H28) -> 11101574 | D28: 11101574
A29: 24 | B29: Informatikai eszközök beszerzése, létesítése (K631) | C29: =SUM(D29:H29) -> 3350000 | D29: 90000 | E29: 3000000 | F29: 260000
A30: 25 | B30: Egyéb tárgyi eszközök beszerzése, létesítése (K641) | C30: =SUM(D30:H30) -> 5052333 | D30: 1861333 | E30: 200000 | F30: 1820000 | G30: 791000 | H30: 380000
A31: 26 | B31: Beruházási célú előzetesen felszámított általános forgalmi adó (K671) | C31: =SUM(D31:H31) -> 5778935 | D31: 3843185 | E31: 1134000 | F31: =(SUM(F27:F30)*0.27) -> 615600 | G31: 83550 | H31: 102600
A32: 27 | B32: Beruházások (K6) | C32: =SUM(D32:H32) -> 27663944 | D32: =SUM(D27:D31) -> 18077194 | E32: =SUM(E27:E31) -> 5334000 | F32: =SUM(F27:F31) -> 2895600 | G32: =SUM(G27:G31) -> 874550 | H32: =SUM(H27:H31) -> 482600
A33: 28 | B33: Ingatlanok felújítása (K711) | C33: =SUM(D33:H33) -> 200188081 | D33: 200188081
A34: 29 | B34: Informatikai eszköz felújítása (K7211) | C34: =SUM(D34:H34) -> 100000 | E34: 100000
A35: 30 | B35: Egyéb tárgyi eszközök felújítása (K731) | C35: =SUM(D35:H35) -> 320000 | F35: 200000 | H35: 120000
A36: 31 | B36: Felújítási célú előzetesen felszámított általános forgalmi adó (K741) | C36: =SUM(D36:H36) -> 53904982 | D36: 53791582 | E36: 27000 | F36: 54000 | G36: =(SUM(G33:G35))*0.27 -> 0 | H36: 32400
A37: 32 | B37: Felújítások (K7) | C37: =SUM(D37:H37) -> 254513063 | D37: =SUM(D33:D36) -> 253979663 | E37: =SUM(E33:E36) -> 127000 | F37: =SUM(F33:F36) -> 254000 | G37: =SUM(G33:G36) -> 0 | H37: =SUM(H33:H36) -> 152400
A38: 33 | B38: Egyéb felhalmozási célú támogatások államháztartáson kívülre (K89) | C38: =SUM(D38:H38) -> 0 | D38: =SUM(D39:D41) -> 0 | E38: =SUM(E39:E41) -> 0 | F38: =SUM(F39:F41) -> 0 | G38: =SUM(G39:G41) -> 0 | H38: =SUM(H39:H41) -> 0
A39: 34 | B39: ebből: egyházi jogi személyek (K89) | C39: =SUM(D39:H39) -> 0
A40: 35 | B40: ebből: nonprofit gazdasági társaságok (K89) | C40: =SUM(D40:H40) -> 0
A41: 36 | B41: ebből:önkormányzati többségi tulajdonú nem pénzügyi vállalkozások (K89) | C41: =SUM(D41:H41) -> 0
A42: 37 | B42: Egyéb felhalmozási célú kiadások (K8) | C42: =SUM(D42:H42) -> 0 | D42: =D38 -> 0 | E42: =E38 -> 0 | F42: =F38 -> 0 | G42: =G38 -> 0 | H42: =H38 -> 0
A43: 38 | B43: Költségvetési kiadások (K1-K8) | C43: =SUM(D43:H43) -> 1206570279 | D43: =D6+D7+D8+D17+D26+D32+D37+D42 -> 649231458 | E43: =E6+E7+E8+E17+E26+E32+E37+E42 -> 172054094 | F43: =F6+F7+F8+F17+F26+F32+F37+F42 -> 189407814 | G43: =G6+G7+G8+G17+G26+G32+G37+G42 -> 54969820 | H43: =H6+H7+H8+H17+H26+H32+H37+H42 -> 140907093
A44: 39 | B44: Államháztartáson belüli megelőlegezések visszafizetése (K914) | C44: =SUM(D44:H44) -> 11433848 | D44: 11433848
A45: 40 | B45: Központi, irányító szervi támogatások folyósítása (K915) | C45: =SUM(D45:H45) -> 475776396 | D45: ='[1]1'!C69 -> 475776396
A46: 41 | B46: Belföldi finanszírozás kiadásai (K91) | C46: =SUM(D46:H46) -> 487210244 | D46: =SUM(D44:D45) -> 487210244 | E46: =SUM(E44:E45) -> 0 | F46: =SUM(F44:F45) -> 0 | G46: =SUM(G44:G45) -> 0 | H46: =SUM(H44:H45) -> 0
A47: 42 | B47: Finanszírozási kiadások (K9) | C47: =SUM(D47:H47) -> 487210244 | D47: =D46 -> 487210244 | E47: =E46 -> 0 | F47: =F46 -> 0 | G47: =G46 -> 0 | H47: =H46 -> 0
A48: 43 | B48: MINDÖSSZESEN: | C48: =SUM(D48:H48) -> 1693780523 | D48: =D43+D47 -> 1136441702 | E48: =E43+E47 -> 172054094 | F48: =F43+F47 -> 189407814 | G48: =G43+G47 -> 54969820 | H48: =H43+H47 -> 140907093

Sheet 13. mell
C1: Berhida Város Önkormányzatának
C2: 2018. Évi költségvetéséhez | G2: 13. melléklet
C3: ELŐIRÁNYZAT FELHASZNÁLÁSI ÜTEMTERV | G3: 2/2018. (II. 23 .) önkormányzati rendelethez
G4: adatok Ft-ban
A6: 1 | B6: MEGNEVEZÉS | C6: Összesen | D6: január | E6: február | F6: március | G6: április | H6: május | I6: június | J6: július | K6: augusztus | L6: szeptember | M6: október | N6: november | O6: december | P6: Ellenőrző sor
A7: 2 | B7: Személyi juttatások | C7: ='2'!C6 -> 372386994 | D7: =C7/12 -> 31032250 | E7: =C7/12 -> 31032250 | F7: =C7/12 -> 31032250 | G7: =C7/12 -> 31032250 | H7: =C7/12 -> 31032250 | I7: =C7/12 -> 31032250 | J7: =C7/12 -> 31032250 | K7: =C7/12 -> 31032250 | L7: =C7/12 -> 31032250 | M7: =C7/12 -> 31032250 | N7: =C7/12 -> 31032250 | O7: =C7/12 -> 31032250 | P7: =SUM(D7:O7) -> 372386994
A8: 3 | B8: Munkaadókat terhelő járulékok és szociális hozzájárulási adó, | C8: ='2'!C7 -> 69069027 | D8: =C8/12 -> 5755752.2 | E8: =C8/12 -> 5755752.2 | F8: =C8/12 -> 5755752.2 | G8: =C8/12 -> 5755752.2 | H8: =C8/12 -> 5755752.2 | I8: =C8/12 -> 5755752.2 | J8: =C8/12 -> 5755752.2 | K8: =C8/12 -> 5755752.2 | L8: =C8/12 -> 5755752.2 | M8: =C8/12 -> 5755752.2 | N8: =C8/12 -> 5755752.2 | O8: =C8/12 -> 5755752.2 | P8: =SUM(D8:O8) -> 69069027
A9: 4 | B9: Dologi kiadások | C9: ='2'!C8 -> 450210676 | D9: =C9/12 -> 37517556 | E9: =C9/12 -> 37517556 | F9: =C9/12 -> 37517556 | G9: =C9/12 -> 37517556 | H9: =C9/12 -> 37517556 | I9: =C9/12 -> 37517556 | J9: =C9/12 -> 37517556 | K9: =C9/12 -> 37517556 | L9: =C9/12 -> 37517556 | M9: =C9/12 -> 37517556 | N9: =C9/12 -> 37517556 | O9: =C9/12 -> 37517556 | P9: =SUM(D9:O9) -> 4.5021068e+08
A10: 5 | B10: Ellátottak pénzbeli juttatásai | C10: ='2'!C16 -> 11800000 | D10: =C10/12 -> 983333.33 | E10: =C10/12 -> 983333.33 | F10: =C10/12 -> 983333.33 | G10: =C10/12 -> 983333.33 | H10: =C10/12 -> 983333.33 | I10: =C10/12 -> 983333.33 | J10: =C10/12 -> 983333.33 | K10: =C10/12 -> 983333.33 | L10: =C10/12 -> 983333.33 | M10: =C10/12 -> 983333.33 | N10: =C10/12 -> 983333.33 | O10: =C10/12 -> 983333.33 | P10: =SUM(D10:O10) -> 11800000
A11: 7 | B11: Egyéb működési célú kiadások | C11: ='2'!C26 -> 274326390 | D11: =C11/12 -> 22860532 | E11: =C11/12 -> 22860532 | F11: =C11/12 -> 22860532 | G11: =C11/12 -> 22860532 | H11: =C11/12 -> 22860532 | I11: =C11/12 -> 22860532 | J11: =C11/12 -> 22860532 | K11: =C11/12 -> 22860532 | L11: =C11/12 -> 22860532 | M11: =C11/12 -> 22860532 | N11: =C11/12 -> 22860532 | O11: =C11/12 -> 22860532 | P11: =SUM(D11:O11) -> 274326390
A12: 16 | B12: Beruházások | C12: ='2'!C32 -> 1043066409 | D12: =C12/12 -> 86922201 | E12: =C12/12 -> 86922201 | F12: =C12/12 -> 86922201 | G12: =C12/12 -> 86922201 | H12: =C12/12 -> 86922201 | I12: =C12/12 -> 86922201 | J12: =C12/12 -> 86922201 | K12: =C12/12 -> 86922201 | L12: =C12/12 -> 86922201 | M12: =C12/12 -> 86922201 | N12: =C12/12 -> 86922201 | O12: =C12/12 -> 86922201 | P12: =SUM(D12:O12) -> 1043066409
A13: 17 | B13: Felújítások | C13: ='2'!C37 -> 7142444 | D13: =C13/12 -> 595203.67 | E13: =C13/12 -> 595203.67 | F13: =C13/12 -> 595203.67 | G13: =C13/12 -> 595203.67 | H13: =C13/12 -> 595203.67 | I13: =C13/12 -> 595203.67 | J13: =C13/12 -> 595203.67 | K13: =C13/12 -> 595203.67 | L13: =C13/12 -> 595203.67 | M13: =C13/12 -> 595203.67 | N13: =C13/12 -> 595203.67 | O13: =C13/12 -> 595203.67 | P13: =SUM(D13:O13) -> 7142444
A14: 19 | B14: Egyéb felhalmozási célú támogatások | P14: =SUM(D14:O14) -> 0
A15: 20 | B15: Költségvetési kiadások | C15: =SUM(C7:C14) -> 2228001940 | D15: =SUM(D7:D14) -> 1.8566683e+08 | E15: =SUM(E7:E14) -> 1.8566683e+08 | F15: =SUM(F7:F14) -> 1.8566683e+08 | G15: =SUM(G7:G14) -> 1.8566683e+08 | H15: =SUM(H7:H14) -> 1.8566683e+08 | I15: =SUM(I7:I14) -> 1.8566683e+08 | J15: =SUM(J7:J14) -> 1.8566683e+08 | ... O15: =SUM(O7:O14) -> 1.8566683e+08 | P15: =SUM(D15:O15) -> 2.2280019e+09
A16: 27 | B16: Finanszírozási kiadások | C16: =C17+C18 -> 499493002 | D16: =D17+D18 -> 52794269 | E16: =E17+E18 -> 40608976 | F16: =F17+F18 -> 40608976 | G16: =G17+G18 -> 40608976 | H16: =H17+H18 -> 40608976 | I16: =I17+I18 -> 40608976 | J16: =J17+J18 -> 40608976 | ... O16: =O17+O18 -> 40608976 | P16: =SUM(D16:O16) -> 499493002
B17: ÁHT belüli megelőlegezések visszafiz | C17: =D17 -> 12185293 | D17: ='2'!D44 -> 12185293
A18: 29 | B18: Irányító szervtől finansz támogatás | C18: ='2'!C45 -> 487307709 | D18: =C18/12 -> 40608976 | E18: =C18/12 -> 40608976 | F18: =C18/12 -> 40608976 | G18: =C18/12 -> 40608976 | H18: =C18/12 -> 40608976 | I18: =C18/12 -> 40608976 | J18: =C18/12 -> 40608976 | K18: =C18/12 -> 40608976 | L18: =C18/12 -> 40608976 | M18: =C18/12 -> 40608976 | N18: =C18/12 -> 40608976 | O18: =C18/12 -> 40608976 | P18: =SUM(D18:O18) -> 487307709
A19: 30 | B19: KIADÁSOK ÖSSZESEN: | C19: =C15+C16 -> 2727494942 | D19: =D15+D16 -> 2.384611e+08 | E19: =E15+E16 -> 2.262758e+08 | F19: =F15+F16 -> 2.262758e+08 | G19: =G15+G16 -> 2.262758e+08 | H19: =H15+H16 -> 2.262758e+08 | I19: =I15+I16 -> 2.262758e+08 | J19: =J15+J16 -> 2.262758e+08 | ... O19: =O15+O16 -> 2.262758e+08 | P19: =SUM(D19:O19) -> 2727494942
A20: 33 | B20: Működési célú támogatások államháztartáson belül | C20: ='1'!C20 -> 665404344 | D20: =C20/12 -> 55450362 | E20: =C20/12 -> 55450362 | F20: =C20/12 -> 55450362 | G20: =C20/12 -> 55450362 | H20: =C20/12 -> 55450362 | I20: =C20/12 -> 55450362 | J20: =C20/12 -> 55450362 | K20: =C20/12 -> 55450362 | L20: =C20/12 -> 55450362 | M20: =C20/12 -> 55450362 | N20: =C20/12 -> 55450362 | O20: =C20/12 -> 55450362 | P20: =SUM(D20:O20) -> 665404344
A21: 34 | B21: Felhalmozási célú támogatások államháztartáson belülről | C21: ='1'!C28 -> 1025095503 | D21: =C21/12 -> 85424625 | E21: =C21/12 -> 85424625 | F21: =C21/12 -> 85424625 | G21: =C21/12 -> 85424625 | H21: =C21/12 -> 85424625 | I21: =C21/12 -> 85424625 | J21: =C21/12 -> 85424625 | K21: =C21/12 -> 85424625 | L21: =C21/12 -> 85424625 | M21: =C21/12 -> 85424625 | N21: =C21/12 -> 85424625 | O21: =C21/12 -> 85424625 | P21: =SUM(D21:O21) -> 1025095503
A22: 35 | B22: Közhatalmi bevételek | C22: ='1'!C39 -> 303400000 | D22: =C22/12 -> 25283333 | E22: =C22/12 -> 25283333 | F22: =C22/12 -> 25283333 | G22: =C22/12 -> 25283333 | H22: =C22/12 -> 25283333 | I22: =C22/12 -> 25283333 | J22: =C22/12 -> 25283333 | K22: =C22/12 -> 25283333 | L22: =C22/12 -> 25283333 | M22: =C22/12 -> 25283333 | N22: =C22/12 -> 25283333 | O22: =C22/12 -> 25283333 | P22: =SUM(D22:O22) -> 303400000
A23: 36 | B23: Működési bevételek | C23: ='1'!C61 -> 31964796 | D23: =C23/12 -> 2663733 | E23: =C23/12 -> 2663733 | F23: =C23/12 -> 2663733 | G23: =C23/12 -> 2663733 | H23: =C23/12 -> 2663733 | I23: =C23/12 -> 2663733 | J23: =C23/12 -> 2663733 | K23: =C23/12 -> 2663733 | L23: =C23/12 -> 2663733 | M23: =C23/12 -> 2663733 | N23: =C23/12 -> 2663733 | O23: =C23/12 -> 2663733 | P23: =SUM(D23:O23) -> 31964796
A24: 37 | B24: Felhalmozási bevételek | C24: ='1'!C64 -> 12129420 | D24: =C24/12 -> 1010785 | E24: =C24/12 -> 1010785 | F24: =C24/12 -> 1010785 | G24: =C24/12 -> 1010785 | H24: =C24/12 -> 1010785 | I24: =C24/12 -> 1010785 | J24: =C24/12 -> 1010785 | K24: =C24/12 -> 1010785 | L24: =C24/12 -> 1010785 | M24: =C24/12 -> 1010785 | N24: =C24/12 -> 1010785 | O24: =C24/12 -> 1010785 | P24: =SUM(D24:O24) -> 12129420
B25: Működési célú átvett pénzeszközök | C25: ='1'!C66 -> 0 | D25: =C25/12 -> 0 | E25: =C25/12 -> 0 | F25: =C25/12 -> 0 | G25: =C25/12 -> 0 | H25: =C25/12 -> 0 | I25: =C25/12 -> 0 | J25: =C25/12 -> 0 | K25: =C25/12 -> 0 | L25: =C25/12 -> 0 | M25: =C25/12 -> 0 | N25: =C25/12 -> 0 | O25: =C25/12 -> 0 | P25: =SUM(D25:O25) -> 0
A26: 38 | B26: Felhalmozási célú átvett pénzeszközök | C26: ='1'!C70 -> 390000 | D26: =C26/12 -> 32500 | E26: =C26/12 -> 32500 | F26: =C26/12 -> 32500 | G26: =C26/12 -> 32500 | H26: =C26/12 -> 32500 | I26: =C26/12 -> 32500 | J26: =C26/12 -> 32500 | K26: =C26/12 -> 32500 | L26: =C26/12 -> 32500 | M26: =C26/12 -> 32500 | N26: =C26/12 -> 32500 | O26: =C26/12 -> 32500 | P26: =SUM(D26:O26) -> 390000
A27: 39 | B27: Költségvetési bevételek | C27: =SUM(C20:C26) -> 2038384063 | D27: =SUM(D20:D26) -> 1.6986534e+08 | E27: =SUM(E20:E26) -> 1.6986534e+08 | F27: =SUM(F20:F26) -> 1.6986534e+08 | G27: =SUM(G20:G26) -> 1.6986534e+08 | H27: =SUM(H20:H26) -> 1.6986534e+08 | I27: =SUM(I20:I26) -> 1.6986534e+08 | J27: =SUM(J20:J26) -> 1.6986534e+08 | ... O27: =SUM(O20:O26) -> 1.6986534e+08 | P27: =SUM(D27:O27) -> 2.0383841e+09
A28: 55 | B28: Finanszírozási bevételek | C28: =SUM(C29:C30) -> 689410879 | D28: =SUM(D29:D30) -> 2.4271185e+08 | E28: =SUM(E29:E30) -> 40608976 | F28: =SUM(F29:F30) -> 40608976 | G28: =SUM(G29:G30) -> 40608976 | H28: =SUM(H29:H30) -> 40608976 | I28: =SUM(I29:I30) -> 40608976 | J28: =SUM(J29:J30) -> 40608976 | ... O28: =SUM(O29:O30) -> 40608976 | P28: =SUM(D28:O28) -> 689410579
B29: Költségvetési maradvány igénybevétele | C29: ='1'!C73 -> 202103170 | D29: 202102870 | P29: =SUM(D29:O29) -> 202102870
A30: 56 | B30: Irányító szervtől finansz támogatás | C30: ='1'!C75 -> 487307709 | D30: =C30/12 -> 40608976 | E30: =C30/12 -> 40608976 | F30: =C30/12 -> 40608976 | G30: =C30/12 -> 40608976 | H30: =C30/12 -> 40608976 | I30: =C30/12 -> 40608976 | J30: =C30/12 -> 40608976 | K30: =C30/12 -> 40608976 | L30: =C30/12 -> 40608976 | M30: =C30/12 -> 40608976 | N30: =C30/12 -> 40608976 | O30: =C30/12 -> 40608976 | P30: =SUM(D30:O30) -> 487307709
A31: 58 | B31: BEVÉTELEK ÖSSZESEN: | C31: =C27+C28 -> 2727794942 | D31: =D27+D28 -> 4.1257718e+08 | E31: =E27+E28 -> 2.1047431e+08 | F31: =F27+F28 -> 2.1047431e+08 | G31: =G27+G28 -> 2.1047431e+08 | H31: =H27+H28 -> 2.1047431e+08 | I31: =I27+I28 -> 2.1047431e+08 | J31: =J27+J28 -> 2.1047431e+08 | ... O31: =O27+O28 -> 2.1047431e+08 | P31: =SUM(D31:O31) -> 2727794642

Sheet 14 mell
B1: Berhida Város Önkormányzatának | F1: 14. melléklet
B2: 2018. Évi költségvetéséhez | F2: a 2/2018. (II. 23 .) önkormányzati rendelethez
F3: adatok Ft-ban
A4: Az Önkormányzat és az önkormányzati költségvetési szervek európai uniós forrásból megvalósítás alatt lévő projektjei
A6: A | B6: B | C6: C | D6: D | E6: E | F6: F
A7: Sorsz | B7: Uniós projekt megnevezése | C7: Uniós támogatás | D7: Önkormányzati forrás | E7: Összes bevétel | F7: Kiadás összesen | G7: személyi jutt | H7: járulék | I7: dologi | J7: Beruházás
A8: 1 | B8: TOP 3.1.1-16 közlekedésfejlesztés (kerékpárút)pály | C8: 259822948 | D8: 0 | E8: =C8+D8 -> 259822948 | F8: =SUM(G8:J8) -> 259822948 | G8: 2450209 | H8: 477791 | I8: 8590000 | J8: 248304948
A9: 2 | B9: KEHOP 2.2.1-15-00005 szennyvíztisztítótelep pály | C9: 992378339 | E9: =C9+D9 -> 992378339 | F9: =SUM(G9:J9) -> 992378339 | I9: 215587784 | J9: 776790555
A10: 3 | B10: KÖFOP-1.2.1-VEKOP-16 ASP rendszer bevezetése | C10: 7000000 | D10: 3066750 | E10: =C10+D10 -> 10066750 | F10: =SUM(G10:J10) -> 10066570 | G10: 1246500 | H10: 243068 | I10: 3485721 | J10: 5091281
A11: 4 | E11: =C11+D11 -> 0 | F11: =SUM(G11:J11) -> 0
A12: 5 | B12: Összesen: | C12: =SUM(C8:C11) -> 1259201287 | D12: =SUM(D8:D11) -> 3066750 | E12: =SUM(E8:E11) -> 1262268037 | F12: =SUM(G12:J12) -> 1262267857 | G12: =SUM(G8:G11) -> 3696709 | H12: =SUM(H8:H11) -> 720859 | I12: =SUM(I8:I11) -> 227663505 | J12: =SUM(J8:J11) -> 1030186784
