Workbook

Sheet 1
B1: Berhida Város Önkormányzata | F1: 1. melléklet
B2: 2018. évi eredeti költségvetés | F2: 2/2018.(II.23. ) önkormányzati rendelethez
F3: Ft-ban
C4: BEVÉTELEK
A5: Sor- szám | B5: Rovat megnevezése | C5: Eredeti előirányzat összesen | D5: Önkormányzat | E5: Közös Hivatal | F5: TESZ | G5: Kultúrház | H5: Süni
A6: 1 | B6: Helyi önkormányzatok működésének általános támogatása (B1111) | C6: =SUM(D6:H6) -> 108519738 | D6: 108519738
A7: 2 | B7: Települési önkormányzatok egyes köznevelési feladatainak támogatása (B112) | C7: =SUM(D7:H7) -> 142116067 | D7: 142116067
A8: 3 | B8: Települési önkormányzatok szociális, gyermekjóléti és gyermekétkeztetési feladatainak támogatása (B113) | C8: =SUM(D8:H8) -> 97760769 | D8: 97760769
A9: 4 | B9: Települési önkormányzatok kulturális feladatainak támogatása (B114) | C9: =SUM(D9:H9) -> 7215230 | D9: 7215230
A10: 5 | B10: Működési célú költségvetési támogatások és kiegészítő támogatások (B115) | C10: =SUM(D10:H10) -> 0
A11: 6 | B11: Elszámolásból származó bevételek (B116) | C11: =SUM(D11:H11) -> 0
A12: 7 | B12: Önkormányzatok működési támogatásai (B11) | C12: =SUM(D12:H12) -> 355611804 | D12: =SUM(D6:D11) -> 355611804 | E12: =SUM(E6:E11) -> 0 | F12: =SUM(F6:F11) -> 0 | G12: =SUM(G6:G11) -> 0 | H12: =SUM(H6:H11) -> 0
A13: 8 | B13: Elvonások és befizetések bevételei B12 | C13: =SUM(D13:H13) -> 0
A14: 9 | B14: Egyéb működési célú támogatások bevételei államháztartáson belülről (B16) | C14: =SUM(D14:H14) -> 309792540 | D14: =SUM(D15:D19) -> 243652694 | E14: =SUM(E15:E19) -> 1981048 | F14: =SUM(F15:F19) -> 63264006 | G14: =SUM(G15:G19) -> 0 | H14: =SUM(H15:H19) -> 894792
A15: 10 | B15: ebből: egyéb központi kezelésű előirányzatok (B1612 | C15: =SUM(D15:H15) -> 3397958 | D15: 1416910 | E15: 1981048
A16: 11 | B16: ebből: fejezeti kezelésű EU B16 | C16: =SUM(D16:H16) -> 227105784 | D16: 227105784
A17: 12 | B17: ebből: társadalombiztosítás pénzügyi alapjai (B1614 | C17: =SUM(D17:H17) -> 15130000 | D17: 15130000
A18: 13 | B18: ebből: elkülönített állami pénzal (B1615 | C18: =SUM(D18:H18) -> 64158798 | F18: 63264006 | H18: 894792
A19: 14 | B19: ebből: önkormányzat és kv-i szerveik (B 1616 | C19: =SUM(D19:H19) -> 0
A20: 15 | B20: Működési célú támogatások államháztartáson belülről (B1) | C20: =SUM(D20:H20) -> 665404344 | D20: =D12+D14 -> 599264498 | E20: =E12+E14 -> 1981048 | F20: =F12+F14 -> 63264006 | G20: =G12+G14 -> 0 | H20: =H12+H14 -> 894792
A21: 16 | B21: Felhalmozási célú önkormányzati támogatások (B21) | C21: =SUM(D21:H21) -> 0 | D21: =D22 -> 0 | E21: =E22 -> 0 | F21: =F22 -> 0 | G21: =G22 -> 0 | H21: =H22 -> 0
A22: 17 | B22: ebből: egyéb központi felhalmozási c tám B 2119 | C22: =SUM(D22:H22) -> 0
A23: 18 | B23: Egyéb felhalmozási célú tám áht belülről B 25 | C23: =SUM(D23:H23) -> 1025095503 | D23: =SUM(D24:D27) -> 1025095503 | E23: =SUM(E24:E27) -> 0 | F23: =SUM(F24:F27) -> 0 | G23: =SUM(G24:G27) -> 0 | H23: =SUM(H24:H27) -> 0
A24: 19 | B24: ebből egyéb központi fc tám (B2512 | C24: =SUM(D24:H24) -> 0
A25: 20 | B25: ebből: egyéb fejezeti kez EU fc (B25 | C25: =SUM(D25:H25) -> 1025095503 | D25: 1025095503
A26: 21 | B26: ebből: elkülönített állami pénzal fc (B2515 | C26: =SUM(D26:H26) -> 0
A27: 22 | B27: ebből: önkorm és kv-i szervek fc tám (B2516 | C27: =SUM(D27:H27) -> 0
A28: 23 | B28: Felhalmozási célú támogatások államháztartáson belülről (B2) | C28: =SUM(D28:H28) -> 1025095503 | D28: =D21+D23 -> 1025095503 | E28: =E21+E23 -> 0 | F28: =F21+F23 -> 0 | G28: =G21+G23 -> 0 | H28: =H21+H23 -> 0
A29: 24 | B29: Vagyoni tipusú adók (B34) | C29: =SUM(D29:H29) -> 110200000 | D29: =SUM(D30:D31) -> 110200000 | E29: =SUM(E30:E31) -> 0 | F29: =SUM(F30:F31) -> 0 | G29: =SUM(G30:G31) -> 0 | H29: =SUM(H30:H31) -> 0
A30: 25 | B30: ebből: építményadó (B34111) | C30: =SUM(D30:H30) -> 110200000 | D30: 110200000
A31: 26 | B31: ebből: magánszemélyek kommunális adója (B34114) | C31: =SUM(D31:H31) -> 0
A32: 27 | B32: Értékesítési és forgalmi adók iparűzési adó (B351121) | C32: =SUM(D32:H32) -> 181000000 | D32: 181000000
A33: 28 | B33: Gépjárműadó (B3541) | C33: =SUM(D33:H33) -> 11800000 | D33: 11800000
A34: 29 | B34: Egyéb áruhasználati és szolgáltatási adók, környezetterh díj, talajterhelési díj (B355) | C34: =SUM(D34:H34) -> 0
A35: 30 | B35: Termékek és szolgáltatások adói (B35) | C35: =SUM(D35:H35) -> 192800000 | D35: =SUM(D32:D34) -> 192800000 | E35: =SUM(E32:E34) -> 0 | F35: =SUM(F32:F34) -> 0 | G35: =SUM(G32:G34) -> 0 | H35: =SUM(H32:H34) -> 0
A36: 31 | B36: Egyéb közhatalmi bevételek (B36) | C36: =SUM(D36:H36) -> 400000 | D36: =SUM(D37:D38) -> 400000 | E36: =SUM(E37:E38) -> 0 | F36: =SUM(F37:F38) -> 0 | G36: =SUM(G37:G38) -> 0 | H36: =SUM(H37:H38) -> 0
A37: 32 | B37: ebből: szabálysértési pénz- és helyszíni bírság és a közlekedési szabályszegések után kiszabott közigazgatási bírság helyi önkormányzatot megillető része (B361225 köv) | C37: =SUM(D37:H37) -> 50000 | D37: 50000
A38: 33 | B38: ebből: egyéb bírság (B361229 köv) | C38: =SUM(D38:H38) -> 350000 | D38: 350000
A39: 34 | B39: Közhatalmi bevételek (B3) | C39: =SUM(D39:H39) -> 303400000 | D39: =D29+D35+D36 -> 303400000 | E39: =E29+E35+E36 -> 0 | F39: =F29+F35+F36 -> 0 | G39: =G29+G35+G36 -> 0 | H39: =H29+H35+H36 -> 0
A40: 35 | B40: Készlet értékesítés előirányzata B 40111 | C40: =SUM(D40:H40) -> 0
...

Sheet 1a
A1: Berhida Város Önkormányzata | E1: 1.a melléklet
A2: állami támogatások részletezése | E2: 2/2018.(II.23.) önkormányzati rendelethez
D3: 2018
B4: IPA alap | E4: 9437151820
B5: elvonás | C5: 0,55 %-nak | E5: =E4*0.0055 -> 51904335
A6: 2018. évi költségvetés | C6: =E6/E5 -> 0.75 | E6: 38928251
B7: 1 lakosra jutó adóerőképesség | E7: =E4*0.014/6013 -> 21972.414
C8: 5963 | D8: fő | E8: beszámítás | F8: 2018 tényl
D9: Forint | G9: Összesen | H9: Önkorm | I9: TESZ | J9: Hivatal | K9: Kultúrház | L9: Családs Berh | M9: Családs Vi | N9: Süni | O9: Hétszínvirág | P9: Vi Óvoda
A10: Önkormányzatok működési támogatásai | D10: =D11+D21+D34+D54+D57 -> 4.1503305e+08 | E10: =E11+E21+E34+E54+E57 -> -59421251 | F10: =F11+F21+F34+F54+F57 -> 3.556118e+08 | G10: =SUM(H10:P10) -> 355611804 | H10: =H11+H21+H34+H54+H57 -> 13556400 | I10: =I11+I21+I34+I54+I57 -> 8362138 | J10: =J11+J21+J34+J54+J57 -> 101401200 | K10: =K11+K21+K34+K54+K57 -> 7215230 | L10: =L11+L21+L34+L54+L57 -> 12193342 | M10: =M11+M21+M34+M54+M57 -> 1712786 | N10: =N11+N21+N34+N54+N57 -> 108239821 | O10: =O11+O21+O34+O54+O57 -> 87368724 | P10: =P11+P21+P34+P54+P57 -> 15562163
A11: 1.)Helyi önkormányzatok működésének általános támogatása | D11: =SUM(D12:D20) -> 147447989 | E11: =SUM(E12:E20) -> -38928251 | F11: =SUM(F12:F20) -> 108519738 | G11: =SUM(H11:P11) -> 108519738 | H11: =SUM(H12:H20) -> 1756400 | I11: =SUM(I12:I20) -> 5362138 | J11: =SUM(J12:J20) -> 101401200 | K11: =SUM(K12:K20) -> 0 | L11: =SUM(L12:L20) -> 0 | M11: =SUM(M12:M20) -> 0 | N11: =SUM(N12:N20) -> 0 | O11: =SUM(O12:O20) -> 0 | P11: =SUM(P12:P20) -> 0
A12: Önkormányzati hivatal működésének támogatása | B12: 4580000 | C12: 22.14 | D12: =B12*C12 -> 101401200 | F12: =D12+E12 -> 101401200 | G12: =SUM(H12:P12) -> 101401200 | J12: 101401200
A13: Település üzemeltetés: zöldterület-gazdálkodás | B13: 22300 | C13: 402 | D13: 8984670 | E13: =-D13 -> -8984670 | F13: =D13+E13 -> 0 | G13: =SUM(H13:P13) -> 0
A14: közvilágítás fenntartása | B14: 320000 | C14: 46.5 | D14: 9888000 | E14: =-D14 -> -9888000 | F14: =D14+E14 -> 0 | G14: =SUM(H14:P14) -> 0
A15: köztemető fenntartással kapcs fel | B15: 69 | C15: 53051 | D15: =B15*C15 -> 3660519 | E15: =-D15 -> -3660519 | F15: =D15+E15 -> 0 | G15: =SUM(H15:P15) -> 0
A16: közutak fenntartásának támog | B16: 227000 | C16: 24 | D16: =B16*C16 -> 5448000 | E16: -85862 | F16: =D16+E16 -> 5362138 | G16: =SUM(H16:P16) -> 5362138 | I16: 5362138
A17: Egyéb kötelező önkormányzati feladatok | B17: 2700 | C17: 5963 | D17: =B17*C17 -> 16100100 | E17: =-D17 -> -16100100 | F17: =D17+E17 -> 0 | G17: =SUM(H17:P17) -> 0
A18: Lakott külterülettel kapcs feladatok | B18: 2550 | C18: 82 | D18: =B18*C18 -> 209100 | E18: =-D18 -> -209100 | F18: =D18+E18 -> 0 | G18: =SUM(H18:P18) -> 0
A19: 2017. évről áthúzódó bérkompenzáció | F19: =D19+E19 -> 0 | G19: =SUM(H19:P19) -> 0
A20: Polgármesterek illetményének támogatása | D20: 1756400 | F20: =D20+E20 -> 1756400 | G20: =SUM(H20:P20) -> 1756400 | H20: 1756400
A21: 2.)Települési önkorm. Egyes köznevelési feladatainak támoga | D21: =SUM(D22:D33) -> 1.4211607e+08 | E21: =SUM(E22:E33) -> 0 | F21: =SUM(F22:F33) -> 1.4211607e+08 | G21: =SUM(H21:P21) -> 142116067 | H21: =SUM(H22:H33) -> 0 | I21: =SUM(I22:I33) -> 0 | J21: =SUM(J22:J33) -> 0 | K21: =SUM(K22:K33) -> 0 | L21: =SUM(L22:L33) -> 0 | M21: =SUM(M22:M33) -> 0 | N21: =SUM(N22:N33) -> 78343659 | O21: =SUM(O22:O33) -> 50285908 | P21: =SUM(P22:P33) -> 13486500
A22: óvodapedagógusok bértámogatása 8 hó | B22: 4419000 | C22: 20.4 | D22: =B22*C22*8/12 -> 60098400 | F22: =D22+E22 -> 60098400 | G22: =SUM(H22:P22) -> 60098400 | N22: =F22*0.56 -> 33655104 | O22: 20551296 | P22: =B22*2*8/12 -> 5892000
A23: óvodaped munkáját közvetlenül segítők bértámogatása 8 hó | B23: 2205000 | C23: 13 | D23: =B23*C23/12*8 -> 19110000 | F23: =D23+E23 -> 19110000 | G23: =SUM(H23:P23) -> 19110000 | N23: =F23*0.56 -> 10701600 | O23: 6938400 | P23: =B23*8/12 -> 1470000
A24: óvodapedagógusok bértámogatása 4 hó | B24: 4419000 | C24: 20.2 | D24: =B24*C24*4/12 -> 29754600 | F24: =D24+E24 -> 29754600 | G24: =SUM(H24:P24) -> 29754600 | N24: 16043060 | O24: 10765540 | P24: =B24*2*4/12 -> 2946000
A25: óvodaped munkáját közvetlenül segítők bértámogatása 4 hó | B25: 2205000 | C25: 13 | D25: =B25*C25/12*4 -> 9555000 | F25: =D25+E25 -> 9555000 | G25: =SUM(H25:P25) -> 9555000 | N25: =F25*0.56 -> 5350800 | O25: 3469200 | P25: =B25*4/12 -> 735000
A26: óvodapedagógusok bértámog KIEGÉSZÍTÉS 3 hó | B26: 38200 | D26: =B26*C26 -> 0 | F26: =D26+E26 -> 0 | G26: =SUM(H26:P26) -> 0 | N26: =F26*0.56 -> 0 | O26: =F26*0.33 -> 0 | P26: =F26*0.11 -> 0
A27: Óvoda működtetési támogatás 8 hó | B27: 81700 | C27: 219 | D27: =B27*C27*8/12 -> 11928200 | F27: =D27+E27 -> 11928200 | G27: =SUM(H27:P27) -> 11928200 | N27: 6630227 | O27: =F27*0.33 -> 3936306 | P27: =B27*25*8/12 -> 1361666.7
A28: Óvoda működtetési támogatás 4 hó | B28: 81700 | C28: 218 | D28: =B28*C28*4/12 -> 5936866.7 | F28: =D28+E28 -> 5936866.7 | G28: =SUM(H28:P28) -> 5936867.3 | N28: 3296868 | O28: =F28*0.33 -> 1959166 | P28: =B28*25*4/12 -> 680833.33
A29: Kieg tám. Óv pedag minősítéséhez II. kategóriába sorolt 2015-ben | B29: 401000 | C29: 7 | D29: =B29*C29 -> 2807000 | F29: =D29+E29 -> 2807000 | G29: =SUM(H29:P29) -> 2807000 | N29: =B29*3 -> 1203000 | O29: =B29*3 -> 1203000 | P29: =B29*1 -> 401000
A30: Mesterped kategóriába sorolt | B30: 1463000 | C30: 2 | D30: =B30*C30 -> 2926000 | F30: =D30+E30 -> 2926000 | G30: =SUM(H30:P30) -> 2926000 | N30: =B30 -> 1463000 | O30: 1463000
A31: Kieg tám. Óv pedag minősítéséhez II. kategóriába sorolt 2016-ben min | C31: 5.7 | D31: =B31*C31 -> 0 | F31: =D31+E31 -> 0 | G31: =SUM(H31:P31) -> 0
A32: Óvodapedagógus munkát közvetlenül segítők kiegészítő támog | F32: =D32+E32 -> 0 | G32: =SUM(H32:P32) -> 0
A33: Köznevelési intézmények működt kapcs támogatás | F33: =D33+E33 -> 0 | G33: =SUM(H33:P33) -> 0
A34: 3.) Tel önk szociális, gyermekjóléti és gyermekétk fel tám | D34: =SUM(D36:D53) -> 118253769 | E34: =SUM(E36:E53) -> -20493000 | F34: =SUM(F36:F53) -> 97760769 | G34: =SUM(H34:P34) -> 97760769 | H34: =SUM(H36:H53) -> 11800000 | I34: =SUM(I36:I53) -> 3000000 | J34: =SUM(J36:J53) -> 0 | K34: =SUM(K36:K53) -> 0 | L34: =SUM(L36:L53) -> 12193342 | M34: =SUM(M36:M53) -> 1712786 | N34: =SUM(N36:N53) -> 29896162 | O34: =SUM(O36:O53) -> 37082816 | P34: =SUM(P36:P53) -> 2075663
G35: =SUM(H35:P35) -> 0
A36: gyermekétkeztetés szempontjából elismert dolgozók bértámog | B36: 1900000 | C36: 11.1 | D36: =B36*C36 -> 21090000 | F36: =D36+E36 -> 21090000 | G36: =SUM(H36:P36) -> 21089999 | N36: 10339731 | O36: 9750230 | P36: 1000038
A37: gyermekétkeztetés üzemeltetési támogatása | D37: 34323860 | F37: =D37+E37 -> 34323860 | G37: =SUM(H37:P37) -> 34323861 | N37: 17721362 | O37: 15526874 | P37: 1075625
A38: szünidei gyermekétkeztetés | B38: 513 | C38: 5637 | D38: =B38*C38 -> 2891781 | F38: =D38+E38 -> 2891781 | G38: =SUM(H38:P38) -> 2891781 | N38: 1835069 | O38: 1056712
A39: Hozzájárulás pénzbeli szociális ellátásokhoz | D39: =F39*2 -> 40986000 | E39: -20493000 | F39: 20493000 | G39: =SUM(H39:P39) -> 20493000 | H39: 11800000 | I39: 3000000 | L39: 5693000
A40: Bölcsődei ellátás bértámogatás | B40: 2993000 | C40: 3 | D40: =B40*C40 -> 8979000 | F40: =D40+E40 -> 8979000 | G40: =SUM(H40:P40) -> 8979000 | O40: 8979000
...

Sheet 1b
B1: Berhida Város Önkormányzata | F1: 1b. melléklet
B2: 2018. évi eredeti költségvetés | F2: 2/2018.(II.23.) önkormányzati rendelethez
F3: Ft-ban
C4: BEVÉTELEK
A5: Sor- szám | B5: Rovat megnevezése | C5: Módosított előirányzat összesen | D5: Önkormányzat | E5: Közös Hivatal | F5: TESZ | G5: Kultúrház | H5: Süni
A6: 1 | B6: Helyi önkormányzatok működésének általános támogatása (B1111) | C6: =SUM(D6:H6) -> 108519738 | D6: 108519738
A7: 2 | B7: Települési önkormányzatok egyes köznevelési feladatainak támogatása (B112) | C7: =SUM(D7:H7) -> 142116067 | D7: 142116067
A8: 3 | B8: Települési önkormányzatok szociális, gyermekjóléti és gyermekétkeztetési feladatainak támogatása (B113) | C8: =SUM(D8:H8) -> 97760769 | D8: 97760769
A9: 4 | B9: Települési önkormányzatok kulturális feladatainak támogatása (B114) | C9: =SUM(D9:H9) -> 7215230 | D9: 7215230
A10: 5 | B10: Működési célú költségvetési támogatások és kiegészítő támogatások (B115) | C10: =SUM(D10:H10) -> 0
A11: 6 | B11: Elszámolásból származó bevételek (B116) | C11: =SUM(D11:H11) -> 0
A12: 7 | B12: Önkormányzatok működési támogatásai (B11) | C12: =SUM(D12:H12) -> 355611804 | D12: =SUM(D6:D11) -> 355611804 | E12: =SUM(E6:E11) -> 0 | F12: =SUM(F6:F11) -> 0 | G12: =SUM(G6:G11) -> 0 | H12: =SUM(H6:H11) -> 0
A13: 8 | B13: Elvonások és befizetések bevételei B12 | C13: =SUM(D13:H13) -> 0
A14: 9 | B14: Egyéb működési célú támogatások bevételei államháztartáson belülről (B16) | C14: =SUM(D14:H14) -> 309792540 | D14: =SUM(D15:D19) -> 243652694 | E14: =SUM(E15:E19) -> 1981048 | F14: =SUM(F15:F19) -> 63264006 | G14: =SUM(G15:G19) -> 0 | H14: =SUM(H15:H19) -> 894792
A15: 10 | B15: ebből: egyéb központi kezelésű előirányzatok (B1612 | C15: =SUM(D15:H15) -> 3397958 | D15: 1416910 | E15: 1981048
A16: 11 | B16: ebből: fejezeti kezelésű EU B16 | C16: =SUM(D16:H16) -> 227105784 | D16: 227105784
A17: 12 | B17: ebből: társadalombiztosítás pénzügyi alapjai (B1614 | C17: =SUM(D17:H17) -> 15130000 | D17: 15130000
A18: 13 | B18: ebből: elkülönített állami pénzal (B1615 | C18: =SUM(D18:H18) -> 64158798 | F18: 63264006 | H18: 894792
A19: 14 | B19: ebből: önkormányzat és kv-i szerveik (B 1616 | C19: =SUM(D19:H19) -> 0
A20: 15 | B20: Működési célú támogatások államháztartáson belülről (B1) | C20: =SUM(D20:H20) -> 665404344 | D20: =D12+D14 -> 599264498 | E20: =E12+E14 -> 1981048 | F20: =F12+F14 -> 63264006 | G20: =G12+G14 -> 0 | H20: =H12+H14 -> 894792
A21: 16 | B21: Felhalmozási célú önkormányzati támogatások (B21) | C21: =SUM(D21:H21) -> 0 | D21: =D22 -> 0 | E21: =E22 -> 0 | F21: =F22 -> 0 | G21: =G22 -> 0 | H21: =H22 -> 0
A22: 17 | B22: ebből: egyéb központi felhalmozási c tám B 2119 | C22: =SUM(D22:H22) -> 0
A23: 18 | B23: Egyéb felhalmozási célú tám áht belülről B 25 | C23: =SUM(D23:H23) -> 1025895503 | D23: =SUM(D24:D27) -> 1025095503 | E23: =SUM(E24:E27) -> 0 | F23: =SUM(F24:F27) -> 0 | G23: =SUM(G24:G27) -> 800000 | H23: =SUM(H24:H27) -> 0
A24: 19 | B24: ebből egyéb központi fc tám (B2512 | C24: =SUM(D24:H24) -> 800000 | G24: 800000
A25: 20 | B25: ebből: egyéb fejezeti kez EU fc (B25 | C25: =SUM(D25:H25) -> 1025095503 | D25: 1025095503
A26: 21 | B26: ebből: elkülönített állami pénzal fc (B2515 | C26: =SUM(D26:H26) -> 0
A27: 22 | B27: ebből: önkorm és kv-i szervek fc tám (B2516 | C27: =SUM(D27:H27) -> 0
A28: 23 | B28: Felhalmozási célú támogatások államháztartáson belülről (B2) | C28: =SUM(D28:H28) -> 1025895503 | D28: =D21+D23 -> 1025095503 | E28: =E21+E23 -> 0 | F28: =F21+F23 -> 0 | G28: =G21+G23 -> 800000 | H28: =H21+H23 -> 0
A29: 24 | B29: Vagyoni tipusú adók (B34) | C29: =SUM(D29:H29) -> 110200000 | D29: =SUM(D30:D31) -> 110200000 | E29: =SUM(E30:E31) -> 0 | F29: =SUM(F30:F31) -> 0 | G29: =SUM(G30:G31) -> 0 | H29: =SUM(H30:H31) -> 0
A30: 25 | B30: ebből: építményadó (B34111) | C30: =SUM(D30:H30) -> 110200000 | D30: 110200000
A31: 26 | B31: ebből: magánszemélyek kommunális adója (B34114) | C31: =SUM(D31:H31) -> 0
A32: 27 | B32: Értékesítési és forgalmi adók iparűzési adó (B351121) | C32: =SUM(D32:H32) -> 181000000 | D32: 181000000
A33: 28 | B33: Gépjárműadó (B3541) | C33: =SUM(D33:H33) -> 11800000 | D33: 11800000
A34: 29 | B34: Egyéb áruhasználati és szolgáltatási adók, környezetterh díj, talajterhelési díj (B355) | C34: =SUM(D34:H34) -> 0
A35: 30 | B35: Termékek és szolgáltatások adói (B35) | C35: =SUM(D35:H35) -> 192800000 | D35: =SUM(D32:D34) -> 192800000 | E35: =SUM(E32:E34) -> 0 | F35: =SUM(F32:F34) -> 0 | G35: =SUM(G32:G34) -> 0 | H35: =SUM(H32:H34) -> 0
A36: 31 | B36: Egyéb közhatalmi bevételek (B36) | C36: =SUM(D36:H36) -> 400000 | D36: =SUM(D37:D38) -> 400000 | E36: =SUM(E37:E38) -> 0 | F36: =SUM(F37:F38) -> 0 | G36: =SUM(G37:G38) -> 0 | H36: =SUM(H37:H38) -> 0
A37: 32 | B37: ebből: szabálysértési pénz- és helyszíni bírság és a közlekedési szabályszegések után kiszabott közigazgatási bírság helyi önkormányzatot megillető része (B361225 köv) | C37: =SUM(D37:H37) -> 50000 | D37: 50000
A38: 33 | B38: ebből: egyéb bírság (B361229 köv) | C38: =SUM(D38:H38) -> 350000 | D38: 350000
A39: 34 | B39: Közhatalmi bevételek (B3) | C39: =SUM(D39:H39) -> 303400000 | D39: =D29+D35+D36 -> 303400000 | E39: =E29+E35+E36 -> 0 | F39: =F29+F35+F36 -> 0 | G39: =G29+G35+G36 -> 0 | H39: =H29+H35+H36 -> 0
A40: 35 | B40: Készlet értékesítés előirányzata B 40111 | C40: =SUM(D40:H40) -> 0
...

Sheet 2
B1: Berhida Város Önkormányzata | E1: 2. melléklet
B2: 2018. évi eredeti költségvetés | E2: 2/2018.(II.23. ) önkormányzati rendelethez
C3: KIADÁSOK | E3: Ft-ban
A5: Sor- szám | B5: Rovat megnevezése | C5: Eredeti előirányzat összesen | D5: Önkormányzat | E5: Közös Hivatal | F5: TESZ | G5: Kultúrház | H5: Süni
A6: 27 | B6: Személyi juttatások (K1) | C6: =SUM(D6:H6) -> 372386994 | D6: 37727010 | E6: 126364544 | F6: 108020360 | G6: 20518524 | H6: 79756556
A7: 28 | B7: Munkaadókat terhelő járulékok és szociális hozzájárulási adó (K2) | C7: =SUM(D7:H7) -> 69069027 | D7: 8213625 | E7: 26790393 | F7: 14440826 | G7: 4043744 | H7: 15580439
A8: 87 | B8: Dologi kiadások (K3) | C8: =SUM(D8:H8) -> 450210676 | D8: 279643514 | E8: 33931300 | F8: 65871650 | G8: 29433980 | H8: 41330232
A9: 88 | B9: Családi támogatások (K42) | C9: =SUM(D9:H9) -> 0 | D9: =D10 -> 0 | E9: =E10 -> 0 | F9: =F10 -> 0 | G9: =G10 -> 0 | H9: =H10 -> 0
A10: 89 | B10: ebből: az egyéb pénzbeli és természetbeni gyermekvédelmi támogatások (K42132) | C10: =SUM(D10:H10) -> 0
A11: 90 | B11: Intézményi ellátottak pénzbeli juttatásai (K47) | C11: =SUM(D11:H11) -> 800000 | D11: =D12 -> 800000 | E11: =E12 -> 0 | F11: =F12 -> 0 | G11: =G12 -> 0 | H11: =H12 -> 0
A12: 91 | B12: ebből: oktatásban résztvevők pénzbeli juttatásai (K471) | C12: =SUM(D12:H12) -> 800000 | D12: 800000
A13: 92 | B13: Egyéb nem intézményi ellátások (K48) | C13: =SUM(D13:H13) -> 11000000 | D13: =SUM(D14:D15) -> 11000000 | E13: =SUM(E14:E15) -> 0 | F13: =SUM(F14:F15) -> 0 | G13: =SUM(G14:G15) -> 0 | H13: =SUM(H14:H15) -> 0
A14: 93 | B14: ebből: köztemetés [Szoctv. 48.§] (K48123) | C14: =SUM(D14:H14) -> 1000000 | D14: 1000000
A15: 94 | B15: ebből: települési támogatás [Szoctv. 45. §], (K48122) | C15: =SUM(D15:H15) -> 10000000 | D15: 10000000
A16: 96 | B16: Ellátottak pénzbeli juttatásai (K4) | C16: =SUM(D16:H16) -> 11800000 | D16: =D9+D11+D13 -> 11800000 | E16: =E9+E11+E13 -> 0 | F16: =F9+F11+F13 -> 0 | G16: =G9+G11+G13 -> 0 | H16: =H9+H11+H13 -> 0
A17: 97 | B17: Elvonások és befizetések (K5023) | C17: =SUM(D17:H17) -> 0
A18: 98 | B18: Egyéb működési célú támogatások államháztartáson belülre (K506) | C18: =SUM(D18:H18) -> 162127458 | D18: =SUM(D19:D22) -> 162127458 | E18: =SUM(E19:E22) -> 0 | F18: =SUM(F19:F22) -> 0 | G18: =SUM(G19:G22) -> 0 | H18: =SUM(H19:H22) -> 0
A19: 99 | B19: ebből: egyéb központi kezelésű előir (K50612) | C19: =SUM(D19:H19) -> 3200000 | D19: 3200000
A20: 100 | B20: ebből: elkülönített állami pénzalap (K50615) | C20: =SUM(D20:H20) -> 0
A21: 101 | B21: ebből: önkormányzatok és költségv-i szerveik K50616) | C21: =SUM(D21:H21) -> 0
A22: 102 | B22: ebből: társulások és költségvetési szerveik (K50617) | C22: =SUM(D22:H22) -> 158927458 | D22: 158927458
A23: 103 | B23: Egyéb működési célú támogatások államháztartáson kívülre non-profit szervezet (K51215) | C23: =SUM(D23:H23) -> 5400000 | D23: 5400000
B24: Egyházi jogi személy egyé műk célú tám( K51216 | C24: =SUM(D24:H24) -> 0
A25: 104 | B25: Tartalékok (K51311) | C25: =SUM(D25:H25) -> 106798932 | D25: 106798932
A26: 105 | B26: Egyéb működési célú kiadások (K5) | C26: =SUM(D26:H26) -> 274326390 | D26: =D17+D18+D23+D24+D25 -> 274326390 | E26: =E17+E18+E23+E24+E25 -> 0 | F26: =F17+F18+F23+F24+F25 -> 0 | G26: =G17+G18+G23+G24+G25 -> 0 | H26: =H17+H18+H23+H24+H25 -> 0
A27: 106 | B27: Immateriális javak beszerzése, lét (K611) | C27: =SUM(D27:H27) -> 620000 | E27: 500000 | F27: 120000
A28: 107 | B28: Ingatlanok beszerzése, létesítése (K621) | C28: =SUM(D28:H28) -> 981167953 | D28: 981167953
A29: 108 | B29: Informatikai eszközök beszerzése, létesítése (K631) | C29: =SUM(D29:H29) -> 1540000 | E29: 1500000 | F29: 40000
A30: 109 | B30: Egyéb tárgyi eszközök beszerzése, létesítése (K641) | C30: =SUM(D30:H30) -> 3237590 | D30: 200000 | E30: 500000 | F30: 1263260 | G30: 1029000 | H30: 245330
A31: 110 | B31: Beruházási célú előzetesen felszámított általános forgalmi adó (K671) | C31: =SUM(D31:H31) -> 56500866 | D31: 55235897 | E31: 675000 | F31: 384280 | G31: 139450 | H31: 66239
A32: 111 | B32: Beruházások (K6) | C32: =SUM(D32:H32) -> 1043066409 | D32: =SUM(D27:D31) -> 1036603850 | E32: =SUM(E27:E31) -> 3175000 | F32: =SUM(F27:F31) -> 1807540 | G32: =SUM(G27:G31) -> 1168450 | H32: =SUM(H27:H31) -> 311569
A33: 112 | B33: Ingatlanok felújítása (K711) | C33: =SUM(D33:H33) -> 5023972 | D33: 5023972
B34: Informatikai eszközök felújítása (K723) | C34: =SUM(D34:H34) -> 300000 | E34: 300000
A35: 113 | B35: Egyéb tárgyi eszközök felújítása (K731) | C35: =SUM(D35:H35) -> 300000 | F35: 300000
A36: 114 | B36: Felújítási célú előzetesen felszámított általános forgalmi adó (K741) | C36: =SUM(D36:H36) -> 1518472 | D36: 1356472 | E36: 81000 | F36: 81000
A37: 115 | B37: Felújítások (K7) | C37: =SUM(D37:H37) -> 7142444 | D37: =SUM(D33:D36) -> 6380444 | E37: =SUM(E33:E36) -> 381000 | F37: =SUM(F33:F36) -> 381000 | G37: =SUM(G33:G36) -> 0 | H37: =SUM(H33:H36) -> 0
A38: 116 | B38: Egyéb felhalmozási célú támogatások államháztartáson kívülre (K89) | C38: =SUM(D38:H38) -> 300000 | D38: =SUM(D39:D41) -> 300000 | E38: =SUM(E39:E41) -> 0 | F38: =SUM(F39:F41) -> 0 | G38: =SUM(G39:G41) -> 0 | H38: =SUM(H39:H41) -> 0
A39: 119 | B39: ebből:önkormányzati többségi tulajdonú nem pénzügyi vállalkozások (K89122) | C39: =SUM(D39:H39) -> 0
A40: 118 | B40: ebből: nonprofit gazdasági társaságok (K8915) | C40: =SUM(D40:H40) -> 0
A41: 117 | B41: ebből: egyéb civil szervezeteknek | C41: =SUM(D41:H41) -> 300000 | D41: 300000
...

Sheet 2a
B1: Berhida Város Önkormányzata | C1: 2/a. melléklet
B2: 2018. évi költségvetés | C2: a 2/2018. (II.23.) önkormányzati rendelethez
B3: Kiadások | C3: adatok Ft-ban
A5: Felújítások | C5: Eredeti előir | D5: változás | E5: Mód. Előirányzat
A6: 1 | B6: TESZ jármű felújítás | C6: 381000 | E6: 381000
A7: 2 | B7: ÖH informatikai eszköz felújítás | C7: 381000 | E7: 381000
A8: 3 | B8: ÖNK közvilágítás korszerűsítés kiviteli terv maradv | C8: 1247775 | E8: 1247775
A9: 4 | B9: ÖNK külterületi utak pályázat tervek maradv | C9: 640000 | E9: 640000
A10: 5 | B10: ÖNK. Erkel F. u. forg.rend. terv. Kivitelezés maradv | C10: 964378 | E10: 964378
A11: 6 | B11: ÖNK Ibolya-Rezeda-Orgona szennyvíz csatorna felúj HKA | C11: 3315970 | E11: 3315970
A12: 7 | B12: ÖNK Orgona u. ABC közl.baleset miatti felúj maradv | C12: 212321 | E12: 212321
A13: 8 | B13: ÖH villámhárító | D13: 515961 | E13: 515961
A14: 9 | B14: ÖNK tervek | D14: 2000000 | E14: 2000000
A15: 10 | B15: ÖNK Süni óvoda fejlesztési pályázat önrész | D15: 2350011 | E15: 2350011
A16: 11 | B16: ÖNK Első világháborús Kisfalúdy emlékmű pályázat önrész | D16: 370000 | E16: 370000
A17: 12 | B17: ÖNK Jázmin u. 1/11. bejárati ajtó csere | D17: 190000 | E17: 190000
A18: 13 | B18: ÖNK Ady E Ált Isk nyílászáró csere | D18: 3063818 | E18: 3063818
A19: 14 | B19: ÖNK Süni konyhai épületrész felújítás (NÉMIH JKV szerint) | D19: 2500000 | E19: 2500000
A20: 15 | E20: 0
A21: 16 | E21: 0
A22: 17 | E22: 0
A23: 18 | B23: Összesen | C23: 7142444 | D23: 10989790 | E23: 18132234

Sheet 2b
B1: Berhida Város Önkormányzata | C1: 2/b. melléklet
B2: 2018. évi költségvetés | C2: a 2/2018. (II.23.) önkormányzati rendelethez
B3: Kiadások | C3: adatok Ft-ban
A5: Beruházások | C5: Eredeti előir | D5: változás | E5: Mód. Előirányzat
A6: 1 | B6: TESZ imm javak +áfa | C6: 152400 | E6: 152400
A7: 2 | B7: TESZ egyéb tárgyi eszközök beszerz út-híd | C7: 762000 | E7: 762000
A8: 3 | B8: TESZ informatikai eszközök+áfa | C8: 50800 | E8: 50800
A9: 4 | B9: TESZ zöldterület egyéb gép- berendezés+áfa | C9: 190500 | D9: 400000 | E9: 590500
A10: 5 | B10: TESZ padok köztemető egyéb gép, berendezés+áfa maradv | C10: 181940 | E10: 181940
A11: 6 | B11: TESZ egyéb gép, berendezés + áfa | C11: 88900 | E11: 88900
A12: 7 | B12: TESZ hosszú közfoglalkoztatás eszközbeszerzés | C12: 381000 | E12: 381000
A13: 8 | B13: Kultúrház egyéb tárgyi eszköz pály-hoz önrész | C13: 508000 | D13: 5044000 | E13: 5552000
A14: 9 | B14: Kultúrház könyv beszerzés (éven túli) | C14: 660450 | E14: 660450
A15: 10 | B15: Süni egyéb tárgyi eszköz + áfa | C15: 311569 | D15: 534000 | E15: 845569
A16: 11 | B16: ÖH informatikai eszközök + áfa | C16: 1905000 | E16: 1905000
A17: 12 | B17: ÖH egyéb gép, berend + áfa | C17: 635000 | D17: 300000 | E17: 935000
A18: 13 | B18: ÖH imm javak + áfa | C18: 635000 | E18: 635000
A19: 14 | B19: ÖNK védőnői szolg. Egyéb eszközbeszerzés | C19: 254000 | D19: 100000 | E19: 354000
A20: 15 | B20: ÖNK Péti uton buszmegálló beszerzés+ alépítmény maradv | C20: 1070000 | E20: 1070000
A21: 16 | B21: ÖNK Rezeda u. 19. redőny, szunyogháló beszerz maradv | C21: 184347 | E21: 184347
A22: 17 | B22: ÖNK telephely vásárlás TESZ | C22: 10000000 | E22: 10000000
A23: 18 | B23: ÖNK kerékpárút kialakítás TOP 3.1.1-16 pályázat | C23: 248304948 | E23: 248304948
A24: 19 | B24: ÖNK szennyvíz tisztítótelep, csatornahál fejl. KEHOP pályázat | C24: 776790555 | E24: 776790555
A25: 20 | B25: TESZ vagyongazdálkodás egyéb eszköz beszerz + áfa | D25: 300000 | E25: 300000
A26: 21 | B26: ÖNK tervek | D26: 1000000 | E26: 1000000
A27: 22 | B27: ÖNK Rezeda u. 21. szolg. Lakás redőny, szunyogháló besz | D27: 254000 | E27: 254000
A28: 23 | B28: ÖNK ingatlan vásárlás 1755/2 (régi forfa) | D28: 120000 | E28: 120000
A29: 24 | B29: ÖNK 181/2 hrsz-ú közút közvilágítási hálózatra csatlakozás | D29: 950214 | E29: 950214
A30: 25 | B30: ÖNK Kiskovácsi temető ravatalozó bővítés Korm. Hiv hatós. Előir | D30: 2500000 | E30: 2500000
A31: 26 | B31: ÖNK urnahely temetkezési hely kialakítás | D31: 500000 | E31: 500000
A32: 27 | B32: Kultúr kisértékű te. Népviseleti ruha, cipő pályázat | D32: 780000 | E32: 780000
A33: 28 | E33: 0
A34: 29 | E34: 0
A35: 30 | E35: 0
A36: 31 | E36: 0
A37: 32 | B37: Összesen | C37: 1043066409 | D37: 12782214 | E37: 1055848623

Sheet 2-c
A1: BERHIDA VÁROS ÖNKORMÁNYZATA
A2: 2018. évi költségvetési tervben a 2017. évi költségvetési maradvány igénybevétel részletezése
E3: 2/c melléklet
E4: a 2/2018. (II.23.) önkormányzati rendelethez
E5: adatok Ft-ban
A6: kv-i maradvány | C6: céltart | D6: Műk célú Tám | E6: Felújítás | F6: Felhalm | G6: dologi | H6: állami megel | I6: személyi | J6: járulék
A7: HKA | B7: =SUM(C7:J7) -> 73798932 | C7: 73798932
A8: ÖNK külterületi utak önrész céltartba | B8: =SUM(C8:J8) -> 11120745 | C8: 11120745
A9: ÖNK pályázati tartalék (óvoda konyha pály önrész is) | B9: =SUM(C9:J9) -> 13879255 | C9: 13879255
A10: ÖNK állami támogatás elszám. Étkeztetés | B10: =SUM(C10:J10) -> 4000000 | C10: 4000000
A11: ÖNK ingatlan havaria céltartalékba | B11: =SUM(C11:J11) -> 4000000 | C11: 4000000
A12: TOPOS pályázat Megyei önk díj | B12: =SUM(C12:J12) -> 2460000 | G12: 2460000
A13: TESZ jármű felújítás | B13: =SUM(C13:J13) -> 381000 | E13: 381000
A14: ÖH informatikai eszköz felújítás | B14: =SUM(C14:J14) -> 381000 | E14: 381000
A15: ÖNK közvilágítás korszerűsítés kiviteli terv maradv | B15: =SUM(C15:J15) -> 1247775 | E15: 1247775
A16: ÖNK külterületi utak pályázat tervek maradv | B16: =SUM(C16:J16) -> 640000 | E16: 640000
A17: ÖNK. Erkel F. u. forg.rend. terv. Kivitelezés maradv | B17: =SUM(C17:J17) -> 964378 | E17: 964378
A18: ÖNK Ibolya-Rezeda-Orgona szennyvíz csatorna felúj HKA | B18: =SUM(C18:J18) -> 3315970 | E18: 3315970
A19: ÖNK Orgona u. ABC közl.baleset miatti felúj maradv | B19: =SUM(C19:J19) -> 212321 | E19: 212321
A20: TESZ imm javak +áfa | B20: =SUM(C20:J20) -> 152400 | F20: 152400
A21: TESZ egyéb tárgyi eszközök beszerz út-híd | B21: =SUM(C21:J21) -> 762000 | F21: 762000
A22: TESZ informatikai eszközök+áfa | B22: =SUM(C22:J22) -> 50800 | F22: 50800
A23: TESZ zöldterület egyéb gép- berendezés+áfa | B23: =SUM(C23:J23) -> 190500 | F23: 190500
A24: TESZ padok köztemető egyéb gép, berendezés+áfa maradv | B24: =SUM(C24:J24) -> 181940 | F24: 181940
A25: TESZ egyéb gép, berendezés + áfa | B25: =SUM(C25:J25) -> 88900 | F25: 88900
A26: TESZ hosszú közfoglalkoztatás eszközbeszerzés | B26: =SUM(C26:J26) -> 381000 | F26: 381000
A27: Kultúrház egyéb tárgyi eszköz pály-hoz önrész | B27: =SUM(C27:J27) -> 508000 | F27: 508000
A28: Kultúrház könyv beszerzés (éven túli) | B28: =SUM(C28:J28) -> 660450 | F28: 660450
A29: Süni egyéb tárgyi eszköz + áfa | B29: =SUM(C29:J29) -> 311569 | F29: 311569
A30: ÖH informatikai eszközök + áfa | B30: =SUM(C30:J30) -> 1905000 | F30: 1905000
A31: ÖH egyéb gép, berend + áfa | B31: =SUM(C31:J31) -> 635000 | F31: 635000
... A35: ÖNK Rezeda u. 19. redőny, szunyogháló beszerz maradv | B35: =SUM(C35:J35) -> 184347 | F35: 184347
A36: TESZ közfoglak | B36: =SUM(C36:J36) -> 5000000 | I36: 4504505 | J36: 495495
A37: Város üzemeltetési feladat | B37: =SUM(C37:J37) -> 55661577 | G37: 55661577
A38: Állami megelőlegezés visszafizetése | B38: =SUM(C38:J38) -> 12185293 | H38: 12185293
A39: ASP bevezetése ÖNK | B39: =SUM(C39:J39) -> 3194450 | G39: 3194450
A40: ASP bevezetése ÖH | B40: =SUM(C40:J40) -> 1689568 | G40: 200000 | I40: 1246500 | J40: 243068
B41: =SUM(C41:J41) -> 0
A44: Mindösszesen | B44: =SUM(B7:B43) -> 202103170 | C44: =SUM(C7:C43) -> 106798932 | D44: =SUM(D7:D43) -> 0 | E44: =SUM(E7:E43) -> 7142444 | F44: =SUM(F7:F43) -> 7970906 | G44: =SUM(G7:G43) -> 61516027 | H44: =SUM(H7:H43) -> 12185293 | I44: =SUM(I7:I43) -> 5751005 | J44: =SUM(J7:J43) -> 738563
A45: Müködési célú | B45: =SUM(C45:J45) -> 76005595 | C45: =C10+C11 -> 8000000 | D45: =D44 -> 0 | G45: =G44 -> 61516027 | I45: =I44 -> 5751005 | J45: =J44 -> 738563
...

Sheet 2d
B1: Berhida Város Önkormányzata | E1: 2d. melléklet
B2: 2018. évi eredeti költségvetés | E2: 2/2018.(II.23.) önkormányzati rendelethez
C3: KIADÁSOK | E3: Ft-ban
A5: Sor- szám | B5: Rovat megnevezése | C5: Módosított előirányzat összesen | D5: Önkormányzat | E5: Közös Hivatal | F5: TESZ | G5: Kultúrház | H5: Süni
A6: 27 | B6: Személyi juttatások (K1) | C6: =SUM(D6:H6) -> 387614166 | D6: 38093010 | E6: 131799544 | F6: 112320360 | G6: 22629514 | H6: 82771738
A7: 28 | B7: Munkaadókat terhelő járulékok és szociális hozzájárulási adó (K2) | C7: =SUM(D7:H7) -> 72514731 | D7: 8725678 | E7: 27850218 | F7: 15279326 | G7: 4491129 | H7: 16168380
A8: 87 | B8: Dologi kiadások (K3) | C8: =SUM(D8:H8) -> 471976062 | D8: 281739948 | E8: 38220500 | F8: 77367409 | G8: 32612898 | H8: 42035307
A9: 88 | B9: Családi támogatások (K42) | C9: =SUM(D9:H9) -> 0 | D9: =D10 -> 0 | E9: =E10 -> 0 | F9: =F10 -> 0 | G9: =G10 -> 0 | H9: =H10 -> 0
A10: 89 | B10: ebből: az egyéb pénzbeli és természetbeni gyermekvédelmi támogatások (K42132) | C10: =SUM(D10:H10) -> 0
A11: 90 | B11: Intézményi ellátottak pénzbeli juttatásai (K47) | C11: =SUM(D11:H11) -> 800000 | D11: =D12 -> 800000 | E11: =E12 -> 0 | F11: =F12 -> 0 | G11: =G12 -> 0 | H11: =H12 -> 0
A12: 91 | B12: ebből: oktatásban résztvevők pénzbeli juttatásai (K471) | C12: =SUM(D12:H12) -> 800000 | D12: 800000
A13: 92 | B13: Egyéb nem intézményi ellátások (K48) | C13: =SUM(D13:H13) -> 11000000 | D13: =SUM(D14:D15) -> 11000000 | E13: =SUM(E14:E15) -> 0 | F13: =SUM(F14:F15) -> 0 | G13: =SUM(G14:G15) -> 0 | H13: =SUM(H14:H15) -> 0
A14: 93 | B14: ebből: köztemetés [Szoctv. 48.§] (K48123) | C14: =SUM(D14:H14) -> 1000000 | D14: 1000000
A15: 94 | B15: ebből: települési támogatás [Szoctv. 45. §], (K48122) | C15: =SUM(D15:H15) -> 10000000 | D15: 10000000
A16: 96 | B16: Ellátottak pénzbeli juttatásai (K4) | C16: =SUM(D16:H16) -> 11800000 | D16: =D9+D11+D13 -> 11800000 | E16: =E9+E11+E13 -> 0 | F16: =F9+F11+F13 -> 0 | G16: =G9+G11+G13 -> 0 | H16: =H9+H11+H13 -> 0
A17: 97 | B17: Elvonások és befizetések (K5023) | C17: =SUM(D17:H17) -> 0
A18: 98 | B18: Egyéb működési célú támogatások államháztartáson belülre (K506) | C18: =SUM(D18:H18) -> 165641959 | D18: =SUM(D19:D22) -> 165641959 | E18: =SUM(E19:E22) -> 0 | F18: =SUM(F19:F22) -> 0 | G18: =SUM(G19:G22) -> 0 | H18: =SUM(H19:H22) -> 0
A19: 99 | B19: ebből: egyéb központi kezelésű előir (K50612) | C19: =SUM(D19:H19) -> 3200000 | D19: 3200000
A20: 100 | B20: ebből: elkülönített állami pénzalap (K50615) | C20: =SUM(D20:H20) -> 0
A21: 101 | B21: ebből: önkormányzatok és költségv-i szerveik K50616) | C21: =SUM(D21:H21) -> 0
A22: 102 | B22: ebből: társulások és költségvetési szerveik (K50617) | C22: =SUM(D22:H22) -> 162441959 | D22: 162441959
A23: 103 | B23: Egyéb működési célú támogatások államháztartáson kívülre non-profit szervezet (K51215) | C23: =SUM(D23:H23) -> 6671670 | D23: 6671670
B24: Egyházi jogi személy egyé műk célú tám( K51216 | C24: =SUM(D24:H24) -> 0
A25: 104 | B25: Tartalékok (K51311) | C25: =SUM(D25:H25) -> 119798932 | D25: 119798932
A26: 105 | B26: Egyéb működési célú kiadások (K5) | C26: =SUM(D26:H26) -> 292112561 | D26: =D17+D18+D23+D24+D25 -> 292112561 | E26: =E17+E18+E23+E24+E25 -> 0 | F26: =F17+F18+F23+F24+F25 -> 0 | G26: =G17+G18+G23+G24+G25 -> 0 | H26: =H17+H18+H23+H24+H25 -> 0
A27: 106 | B27: Immateriális javak beszerzése, lét (K611) | C27: =SUM(D27:H27) -> 620000 | E27: 500000 | F27: 120000
A28: 107 | B28: Ingatlanok beszerzése, létesítése (K621) | C28: =SUM(D28:H28) -> 984966547 | D28: 984966547
A29: 108 | B29: Informatikai eszközök beszerzése, létesítése (K631) | C29: =SUM(D29:H29) -> 1540000 | E29: 1500000 | F29: 40000
A30: 109 | B30: Egyéb tárgyi eszközök beszerzése, létesítése (K641) | C30: =SUM(D30:H30) -> 9503731 | D30: 672441 | E30: 736220 | F30: 1814441 | G30: 5614827 | H30: 665802
A31: 110 | B31: Beruházási célú előzetesen felszámított általános forgalmi adó (K671) | C31: =SUM(D31:H31) -> 59218345 | D31: 56389076 | E31: 738780 | F31: 533099 | G31: 1377623 | H31: 179767
A32: 111 | B32: Beruházások (K6) | C32: =SUM(D32:H32) -> 1055848623 | D32: =SUM(D27:D31) -> 1042028064 | E32: =SUM(E27:E31) -> 3475000 | F32: =SUM(F27:F31) -> 2507540 | G32: =SUM(G27:G31) -> 6992450 | H32: =SUM(H27:H31) -> 845569
A33: 112 | B33: Ingatlanok felújítása (K711) | C33: =SUM(D33:H33) -> 13271081 | D33: 13271081
B34: Informatikai eszközök felújítása (K723) | C34: =SUM(D34:H34) -> 300000 | E34: 300000
A35: 113 | B35: Egyéb tárgyi eszközök felújítása (K731) | C35: =SUM(D35:H35) -> 706269 | E35: 406269 | F35: 300000
A36: 114 | B36: Felújítási célú előzetesen felszámított általános forgalmi adó (K741) | C36: =SUM(D36:H36) -> 3854884 | D36: 3583192 | E36: 190692 | F36: 81000
A37: 115 | B37: Felújítások (K7) | C37: =SUM(D37:H37) -> 18132234 | D37: =SUM(D33:D36) -> 16854273 | E37: =SUM(E33:E36) -> 896961 | F37: =SUM(F33:F36) -> 381000 | G37: =SUM(G33:G36) -> 0 | H37: =SUM(H33:H36) -> 0
A38: 116 | B38: Egyéb felhalmozási célú támogatások államháztartáson kívülre (K89) | C38: =SUM(D38:H38) -> 300000 | D38: =SUM(D39:D41) -> 300000 | E38: =SUM(E39:E41) -> 0 | F38: =SUM(F39:F41) -> 0 | G38: =SUM(G39:G41) -> 0 | H38: =SUM(H39:H41) -> 0
A39: 119 | B39: ebből:önkormányzati többségi tulajdonú nem pénzügyi vállalkozások (K89122) | C39: =SUM(D39:H39) -> 0
A40: 118 | B40: ebből: nonprofit gazdasági társaságok (K8915) | C40: =SUM(D40:H40) -> 0
A41: 117 | B41: ebből: egyéb civil szervezeteknek | C41: =SUM(D41:H41) -> 300000 | D41: 300000
...

Sheet 3
D1: Berhida Város Önkormányzata | H1: 3. melléklet
C2: Költségvetési szervek engedélyezett létszám kerete | H2: a 2/2018. (II.23 .) önkormányzati rendelethez
E4: 2018. évi költségvetés
B5: A | C5: B | D5: C | E5: D | F5: E | G5: F | H5: G | I5: H
A6: 1 | B6: BEVÉTELI JOGCÍMEK | C6: Süni | D6: Kultúrház | E6: Műv.ház | F6: TESZ, közf. | G6: Köz Önk.Hiv. | H6: Önkormányzat | I6: ÖSSZESEN
A7: 2 | B7: Intézm.létszámkeret fő: | C7: 27 | D7: 5 | E7: 2.1 | F7: 13 | G7: 28.38 | H7: 12 | I7: =SUM(C7:H7) -> 87.48
A8: 3 | B8: + 6-8 órás közfoglalk létsz | C8: 2 | F8: 120 | I8: =SUM(C8:H8) -> 122
A9: 4 | B9: LÉTSZÁMKERET összesen: | C9: =SUM(C7:C8) -> 29 | D9: =SUM(D7:D8) -> 5 | E9: =SUM(E7:E8) -> 2.1 | F9: =SUM(F7:F8) -> 133 | G9: =SUM(G7:G8) -> 28.38 | H9: =SUM(H7:H8) -> 12 | I9: =SUM(I7:I8) -> 209.48
B11: Önkormányzati létszámkeret | C11: a.) polgármester | F11: 1 | G11: fő
C12: b.) alpolgármester | F12: 1 | G12: fő
C13: c.) önkormányzati képviselők | F13: 7 | G13: fő
C14: d.) védőnők | F14: 3 | G14: fő
D15: Összesen: | F15: =SUM(F11:F14) -> 12 | G15: fő

Sheet 4.mell
C1: BERHIDA VÁROS ÖNKORMÁNYZATA | G1: 4. melléklet
D2: 2018.évi MÉRLEGTERV | G2: a 2/2018. (II.23.) önkormányzati rendelethez
C3: a működési és felhalmozási célú bevételi és kiadási előirányzatokról | G3: adatok Ft-ban
B5: A | C5: B | D5: C | E5: D | F5: E | G5: F
A6: 1 | B6: BEVÉTELI TERV | E6: KIADÁSI TERV
A7: 2 | B7: I. | C7: Működési célú bevételi terv | E7: I. | F7: Működési célú kiadási terv
A8: 3 | B8: a.) | C8: Műk c támogatások áht belülről | D8: 665404344 | E8: a.) | F8: Személyi juttatások | G8: 387614166
A9: 4 | B9: b.) | C9: Közhatalmi bevételek | D9: 303400000 | E9: b.) | F9: Munkaadókat t járulékok | G9: 72514731
A10: 5 | B10: c.) | C10: Működési bevételek | D10: 31964796 | E10: c.) | F10: Dologi kiadások | G10: 471976062
A11: 6 | B11: d.) | C11: Működési átvett pénzeszközök | E11: d.) | F11: Ellátottak pénzbeli jutt | G11: 11800000
A12: 7 | B12: e.) | E12: e.) | F12: Egyéb műk c kiadások | G12: 292112561
A13: 8 | B13: f.) | E13: f.)
A14: 9 | E14: g.)
A15: 10
A16: 11 | C16: I. Bevételek: | D16: 1000769140 | F16: I. Kiadások együtt: | G16: 1236017520
A17: 12 | F17: Működési célú bevételek: | G17: 1000769140
A18: 13 | F18: Működési egyenleg: | G18: 235248380
A19: 14
A20: 15 | B20: II. | C20: Felhalmozási célú bevételi terv | E20: II. | F20: Felhalmozási célú kiadások:
A21: 16 | B21: 1.) | C21: Felhalmozási c támog. Áht-n bel | D21: 1025895503 | E21: 1.) | F21: Beruházások | G21: 1055848623
A22: 17 | B22: 2.) | C22: Felhalmozási bevételek | D22: 12129420 | E22: 2.) | F22: Felújítások | G22: 18132234
A23: 18 | B23: 3.) | C23: Egyéb felhalmozási c átvett pe | D23: 390000 | E23: 3.) | F23: Egyéb felhalm c kiadások | G23: 300000
A24: 19 | B24: 4.) | E24: 4.)
A25: 20 | B25: 5.) | E25: 5.)
A26: 21 | B26: 6.)
A27: 22 | B27: 7.)
A28: 23 | B28: 8.)
A29: 24 | C29: II. Bevételek: | D29: 1038414923 | F29: II. Kiadások: | G29: 1074280857
A30: 25 | F30: Felhalm.célú bevételek: | G30: 1038414923
A31: 26 | F31: Felhalm. egyenleg: | G31: 35865934
A32: 27
A33: 28 | C33: Bevételek összesen (I+II): | D33: 2039184063 | F33: Kiadások összesen (I+II): | G33: 2310298377
C34: iránytószervi támogatás | D34: 501490090 | F34: iránítószervi támogatás | G34: 501490090
C35: kv-i mararvány | D35: 283299607 | F35: Áht megelőleg visszafiz | G35: 12185293
C36: Össz bevétel | D36: 2823973760 | F36: Össz Kiadás | G36: 2823973760

Sheet 5.mell.
B1: 2018 évi költségvetés
B2: Berhida Város Önkormányzata | C2: 5. melléklet
B3: Közösségi szolgáltatások támogatása | C3: a 2/2018. (II.23.) önkormányzati rendelethez
B5: A | C5: B | D5: adatok Ft-ban
A6: 1 | B6: I.) Sporttámogatás működési célú | C6: 2018. Év eredeti elői | D6: 2018. Év mód előir
A7: 2
A8: 3
A9: 4 | B9: Sporttámogatás összesen működési célú: | C9: 1800000 | D9: 2617930
A10: 5 | B10: II.) Egyéb támogatás összesen működési célú | C10: 1600000 | D10: 1929060
A11: 6
A12: 7 | B12: III.) Polgárőrség Berhida | C12: 500000 | D12: 500000
A13: 8 | B13: IV. Egyháznak támogatás | D13: 124680
A14: 9 | B14: Támogatások összesen működési célú: | C14: =SUM(C9+C10+C12) -> 3900000 | D14: =SUM(D9+D10+D12+D13) -> 5171670
A15: 10 | B15: Felhalmozási célú Polgárőrség pályázat | C15: 300000 | D15: 300000
B18: A támogatások összege a megállapodásokban foglaltak szerint használhatók fel.

Sheet 6.mell.
C1: Berhida Város Önkormányzata
C2: ellátottak pénzbeli juttatásai | F2: 6. melléklet
C3: 2018. év | F3: 2/2018.(II. 23. ) önkormányzati rendelethez
F4: adatok Ft-ban
B5: A | C5: B | D5: C | E5: D | F5: E | G5: F
B6: Szociális jogcímek | C6: átruházott hatáskört gyakorló | E6: Képvis.test.jogk. | F6: Jegyzői jogk. | G6: Összes
C7: polgármester | D7: Humán Biz. | G7: előirányzat
A8: 1 | B8: Pénzbeli ellátások összesen | C8: =SUM(C9:C19) -> 3100000 | D8: =SUM(D9:D19) -> 7900000 | E8: =SUM(E9:E19) -> 800000 | F8: =SUM(F9:F19) -> 0 | G8: =SUM(G9:G19) -> 11800000
A9: 2 | B9: Települési támogatás
A10: 3 | B10: Nem intézményi ell. Ebből
A11: 4 | B11: Gyermekvéd.támog. | D11: 600000 | G11: =SUM(C11:F11) -> 600000
A12: 5 | B12: Lakhatási támog | D12: 6300000 | G12: =SUM(C12:F12) -> 6300000
A13: 6 | B13: Temetési segély | C13: 1500000 | G13: =SUM(C13:F13) -> 1500000
A14: 7 | B14: közgyógy ellátás helyi megáll | C14: 700000 | G14: =SUM(C14:F14) -> 700000
A15: 8 | B15: Átmeneti segély | D15: 1000000 | G15: =SUM(C15:F15) -> 1000000
A16: 9 | B16: Köztemetés | C16: 900000 | G16: =SUM(C16:F16) -> 900000
A17: 10 | B17: Intézményi ell., oktatásban részt vevők | G17: =SUM(C17:F17) -> 0
A18: 11 | B18: Arany János ösztöndíj | E18: 250000 | G18: =SUM(C18:F18) -> 250000
A19: 12 | B19: érettségire jelentkezők regisztrációs díja | E19: 550000 | G19: =SUM(C19:F19) -> 550000
B21: Dologi kiadás
B22: szociális tüzifa juttatás | G22: 1524000
B23: Egyéb központi kezelésű tám
B24: Bursa hungarica felsőoktatási pály tám | G24: 2700000
B26: MMINDÖSSZESEN | G26: =G8+G22+G24 -> 16024000

Sheet 7 mell
B1: Berhida Város Önkormányzatának
B2: 2018. Évi költségvetéséhez
A3: Az önkormányzat által adott közvetett támogatások, kedvezmények
C4: 7. melléklet
C5: a 2/2018. (II.23 .) önkormányzati rendelethez
C6: adatok ezer Ft-ban
A8: A | B8: B | C8: C | D8: D
A9: Sorszám | B9: Bevételi jogcím | C9: Kedvezmény nélkül | D9: Kedvezmények
C10: elérhető | D10: összege
C11: bevétel Ft | D11: Ft
A12: 1. | B12: 2. | C12: 3. | D12: 4.
A13: 1. | B13: házi gondozás térítési díj | C13: 399043 | D13: 674763
A14: 2. | B14: idősek nappali ell térítési díj | C14: 1918200 | D14: 1453978
A15: 3. | B15: szoc. étkeztetés térítési díj | C15: 4216800 | D15: 2342081
A16: 4.
A17: 5.
A18: 6.
A19: 7 | B19: Összesen: | C19: =SUM(C13:C18) -> 6534043 | D19: =SUM(D13:D18) -> 4470822

Sheet 8.sz.mell
C2: 2018 évi költségvetés | H2: 8. melléklet
C3: Berhida Város Önkormányzata | H3: 2/2018.(II.23. ) önkormányzati rendelethez
H4: adatok Ft-ban
A5: Több éves kihatással járó döntésekből származó kötelezettségek célok szerint, évenkénti bontásban
A6: Lejárat és eszközök szerinti bontásban (e/Ft-ban)
A9: A | B9: B | C9: C | D9: D | E9: E | F9: F | G9: G | H9: H | I9: I | J9: J
A10: Sorszám | C10: Kötelezett- | D10: Lejárat | E10: 2018
B11: Hitel jellege | C11: ségváll. | D11: éve | E11: előtti | F11: 2019. | G11: 2020. | H11: 2021. | I11: 2021. után | J11: Összesen
C12: éve | E12: kifizetés
A13: 1. | B13: 2. | C13: 3. | D13: 4. | F13: 5. | G13: 6. | H13: 7. | I13: 8.
A14: 1. | B14: Működési célú
A15: 2.
A16: 3.
A17: 4.
A18: 5.
A19: 6. | B19: Felhalmozási célú
A20: 7. | J20: =SUM(E20:I20) -> 0
A21: 8.
A22: 9.
A23: 10. | J23: =SUM(E23:I23) -> 0
A24: 11. | B24: Összesen: (1+6) | E24: =SUM(E20:E22) -> 0 | F24: =SUM(F20:F22) -> 0 | G24: =SUM(G20:G22) -> 0 | H24: =SUM(H20:H22) -> 0 | I24: =SUM(I20:I22) -> 0 | J24: =SUM(E24:I24) -> 0

Sheet 9a
B1: Berhida Város Önkormányzata | F1: 9a. melléklet
B2: 2018. évi eredeti költségvetés | F2: 2/2018.(II.23.) önkormányzati rendelethez
F3: Ft-ban
B4: KÖTELEZŐ FELADATOK | C4: BEVÉTELEK
A5: Sor- szám | B5: Rovat megnevezése | C5: Eredeti előirányzat összesen | D5: Önkormányzat | E5: Közös Hivatal | F5: TESZ | G5: Kultúrház | H5: Süni
A6: 1 | B6: Helyi önkormányzatok működésének általános támogatása (B1111) | C6: ='[2]25'!C6-'[2]29b'!C6-'[2]29c'!C6 -> 108519738 | D6: ='[2]25'!D6-'[2]29b'!D6-'[2]29c'!D6 -> 108519738 | E6: ='[2]25'!E6-'[2]29b'!E6-'[2]29c'!E6 -> 0 | F6: ='[2]25'!F6-'[2]29b'!F6-'[2]29c'!F6 -> 0 | G6: ='[2]25'!G6-'[2]29b'!G6-'[2]29c'!G6 -> 0 | H6: ='[2]25'!H6-'[2]29b'!H6-'[2]29c'!H6 -> 0
A7: 2 | B7: Települési önkormányzatok egyes köznevelési feladatainak támogatása (B112) | C7: ='[2]25'!C7-'[2]29b'!C7-'[2]29c'!C7 -> 142116067 | D7: ='[2]25'!D7-'[2]29b'!D7-'[2]29c'!D7 -> 142116067 | E7: ='[2]25'!E7-'[2]29b'!E7-'[2]29c'!E7 -> 0 | F7: ='[2]25'!F7-'[2]29b'!F7-'[2]29c'!F7 -> 0 | G7: ='[2]25'!G7-'[2]29b'!G7-'[2]29c'!G7 -> 0 | H7: ='[2]25'!H7-'[2]29b'!H7-'[2]29c'!H7 -> 0
A8: 3 | B8: Települési önkormányzatok szociális, gyermekjóléti és gyermekétkeztetési feladatainak támogatása (B113) | C8: ='[2]25'!C8-'[2]29b'!C8-'[2]29c'!C8 -> 97760769 | D8: ='[2]25'!D8-'[2]29b'!D8-'[2]29c'!D8 -> 97760769 | E8: ='[2]25'!E8-'[2]29b'!E8-'[2]29c'!E8 -> 0 | F8: ='[2]25'!F8-'[2]29b'!F8-'[2]29c'!F8 -> 0 | G8: ='[2]25'!G8-'[2]29b'!G8-'[2]29c'!G8 -> 0 | H8: ='[2]25'!H8-'[2]29b'!H8-'[2]29c'!H8 -> 0
A9: 4 | B9: Települési önkormányzatok kulturális feladatainak támogatása (B114) | C9: ='[2]25'!C9-'[2]29b'!C9-'[2]29c'!C9 -> 7215230 | D9: ='[2]25'!D9-'[2]29b'!D9-'[2]29c'!D9 -> 7215230 | E9: ='[2]25'!E9-'[2]29b'!E9-'[2]29c'!E9 -> 0 | F9: ='[2]25'!F9-'[2]29b'!F9-'[2]29c'!F9 -> 0 | G9: ='[2]25'!G9-'[2]29b'!G9-'[2]29c'!G9 -> 0 | H9: ='[2]25'!H9-'[2]29b'!H9-'[2]29c'!H9 -> 0
A10: 5 | B10: Működési célú költségvetési támogatások és kiegészítő támogatások (B115) | C10: ='[2]25'!C10-'[2]29b'!C10-'[2]29c'!C10 -> 0 | D10: ='[2]25'!D10-'[2]29b'!D10-'[2]29c'!D10 -> 0 | E10: ='[2]25'!E10-'[2]29b'!E10-'[2]29c'!E10 -> 0 | F10: ='[2]25'!F10-'[2]29b'!F10-'[2]29c'!F10 -> 0 | G10: ='[2]25'!G10-'[2]29b'!G10-'[2]29c'!G10 -> 0 | H10: ='[2]25'!H10-'[2]29b'!H10-'[2]29c'!H10 -> 0
A11: 6 | B11: Elszámolásból származó bevételek (B116) | C11: ='[2]25'!C11-'[2]29b'!C11-'[2]29c'!C11 -> 0 | D11: ='[2]25'!D11-'[2]29b'!D11-'[2]29c'!D11 -> 0 | E11: ='[2]25'!E11-'[2]29b'!E11-'[2]29c'!E11 -> 0 | F11: ='[2]25'!F11-'[2]29b'!F11-'[2]29c'!F11 -> 0 | G11: ='[2]25'!G11-'[2]29b'!G11-'[2]29c'!G11 -> 0 | H11: ='[2]25'!H11-'[2]29b'!H11-'[2]29c'!H11 -> 0
A12: 7 | B12: Önkormányzatok működési támogatásai (B11) | C12: ='[2]25'!C12-'[2]29b'!C12-'[2]29c'!C12 -> 355611804 | D12: ='[2]25'!D12-'[2]29b'!D12-'[2]29c'!D12 -> 355611804 | E12: ='[2]25'!E12-'[2]29b'!E12-'[2]29c'!E12 -> 0 | F12: ='[2]25'!F12-'[2]29b'!F12-'[2]29c'!F12 -> 0 | G12: ='[2]25'!G12-'[2]29b'!G12-'[2]29c'!G12 -> 0 | H12: ='[2]25'!H12-'[2]29b'!H12-'[2]29c'!H12 -> 0
A13: 8 | B13: Elvonások és befizetések bevételei B12 | C13: ='[2]25'!C13-'[2]29b'!C13-'[2]29c'!C13 -> 0 | D13: ='[2]25'!D13-'[2]29b'!D13-'[2]29c'!D13 -> 0 | E13: ='[2]25'!E13-'[2]29b'!E13-'[2]29c'!E13 -> 0 | F13: ='[2]25'!F13-'[2]29b'!F13-'[2]29c'!F13 -> 0 | G13: ='[2]25'!G13-'[2]29b'!G13-'[2]29c'!G13 -> 0 | H13: ='[2]25'!H13-'[2]29b'!H13-'[2]29c'!H13 -> 0
A14: 9 | B14: Egyéb működési célú támogatások bevételei államháztartáson belülről (B16) | C14: ='[2]25'!C14-'[2]29b'!C14-'[2]29c'!C14 -> 309792540 | D14: ='[2]25'!D14-'[2]29b'!D14-'[2]29c'!D14 -> 243652694 | E14: ='[2]25'!E14-'[2]29b'!E14-'[2]29c'!E14 -> 1981048 | F14: ='[2]25'!F14-'[2]29b'!F14-'[2]29c'!F14 -> 63264006 | G14: ='[2]25'!G14-'[2]29b'!G14-'[2]29c'!G14 -> 0 | H14: ='[2]25'!H14-'[2]29b'!H14-'[2]29c'!H14 -> 894792
A15: 10 | B15: ebből: egyéb központi kezelésű előirányzatok (B1612 | C15: ='[2]25'!C15-'[2]29b'!C15-'[2]29c'!C15 -> 3397958 | D15: ='[2]25'!D15-'[2]29b'!D15-'[2]29c'!D15 -> 1416910 | E15: ='[2]25'!E15-'[2]29b'!E15-'[2]29c'!E15 -> 1981048 | F15: ='[2]25'!F15-'[2]29b'!F15-'[2]29c'!F15 -> 0 | G15: ='[2]25'!G15-'[2]29b'!G15-'[2]29c'!G15 -> 0 | H15: ='[2]25'!H15-'[2]29b'!H15-'[2]29c'!H15 -> 0
A16: 11 | B16: ebből: fejezeti kezelésű EU B16 | C16: ='[2]25'!C16-'[2]29b'!C16-'[2]29c'!C16 -> 227105784 | D16: ='[2]25'!D16-'[2]29b'!D16-'[2]29c'!D16 -> 227105784 | E16: ='[2]25'!E16-'[2]29b'!E16-'[2]29c'!E16 -> 0 | F16: ='[2]25'!F16-'[2]29b'!F16-'[2]29c'!F16 -> 0 | G16: ='[2]25'!G16-'[2]29b'!G16-'[2]29c'!G16 -> 0 | H16: ='[2]25'!H16-'[2]29b'!H16-'[2]29c'!H16 -> 0
A17: 12 | B17: ebből: társadalombiztosítás pénzügyi alapjai (B1614 | C17: ='[2]25'!C17-'[2]29b'!C17-'[2]29c'!C17 -> 15130000 | D17: ='[2]25'!D17-'[2]29b'!D17-'[2]29c'!D17 -> 15130000 | E17: ='[2]25'!E17-'[2]29b'!E17-'[2]29c'!E17 -> 0 | F17: ='[2]25'!F17-'[2]29b'!F17-'[2]29c'!F17 -> 0 | G17: ='[2]25'!G17-'[2]29b'!G17-'[2]29c'!G17 -> 0 | H17: ='[2]25'!H17-'[2]29b'!H17-'[2]29c'!H17 -> 0
... A78: 73 | B78: MINDÖSSZESEN: | C78: ='[2]25'!C78-'[2]29b'!C78-'[2]29c'!C78 -> 2764944608 | D78: ='[2]25'!D78-'[2]29b'!D78-'[2]29c'!D78 -> 2160219522 | E78: ='[2]25'!E78-'[2]29b'!E78-'[2]29c'!E78 -> 194362866 | F78: ='[2]25'!F78-'[2]29b'!F78-'[2]29c'!F78 -> 203148735 | G78: ='[2]25'!G78-'[2]29b'!G78-'[2]29c'!G78 -> 65392491 | H78: ='[2]25'!H78-'[2]29b'!H78-'[2]29c'!H78 -> 141820994
A79: 74 | B79: Személyi juttatások (K1) | C79: ='[2]26'!C6-'[2]29b'!C79-'[2]29c'!C79 -> 381057272 | D79: ='[2]26'!D6-'[2]29b'!D79-'[2]29c'!D79 -> 38093010 | E79: ='[2]26'!E6-'[2]29b'!E79-'[2]29c'!E79 -> 125242650 | F79: ='[2]26'!F6-'[2]29b'!F79-'[2]29c'!F79 -> 112320360 | G79: ='[2]26'!G6-'[2]29b'!G79-'[2]29c'!G79 -> 22629514 | H79: ='[2]26'!H6-'[2]29b'!H79-'[2]29c'!H79 -> 82771738
A80: 75 | B80: Munkaadókat terhelő járulékok és szociális hozzájárulási adó (K2) | C80: ='[2]26'!C7-'[2]29b'!C80-'[2]29c'!C80 -> 71192268 | D80: ='[2]26'!D7-'[2]29b'!D80-'[2]29c'!D80 -> 8725678 | E80: ='[2]26'!E7-'[2]29b'!E80-'[2]29c'!E80 -> 26527755 | F80: ='[2]26'!F7-'[2]29b'!F80-'[2]29c'!F80 -> 15279326 | G80: ='[2]26'!G7-'[2]29b'!G80-'[2]29c'!G80 -> 4491129 | H80: ='[2]26'!H7-'[2]29b'!H80-'[2]29c'!H80 -> 16168380
A81: 76 | B81: Dologi kiadások (K3) | C81: ='[2]26'!C8-'[2]29b'!C81-'[2]29c'!C81 -> 452828462 | D81: ='[2]26'!D8-'[2]29b'!D81-'[2]29c'!D81 -> 268632748 | E81: ='[2]26'!E8-'[2]29b'!E81-'[2]29c'!E81 -> 38220500 | F81: ='[2]26'!F8-'[2]29b'!F81-'[2]29c'!F81 -> 72660509 | G81: ='[2]26'!G8-'[2]29b'!G81-'[2]29c'!G81 -> 31279398 | H81: ='[2]26'!H8-'[2]29b'!H81-'[2]29c'!H81 -> 42035307
A82: 77 | B82: Családi támogatások (K42) | C82: ='[2]26'!C9-'[2]29b'!C82-'[2]29c'!C82 -> 0 | D82: ='[2]26'!D9-'[2]29b'!D82-'[2]29c'!D82 -> 0 | E82: ='[2]26'!E9-'[2]29b'!E82-'[2]29c'!E82 -> 0 | F82: ='[2]26'!F9-'[2]29b'!F82-'[2]29c'!F82 -> 0 | G82: ='[2]26'!G9-'[2]29b'!G82-'[2]29c'!G82 -> 0 | H82: ='[2]26'!H9-'[2]29b'!H82-'[2]29c'!H82 -> 0
A83: 78 | B83: ebből: az egyéb pénzbeli és természetbeni gyermekvédelmi támogatások (K42132) | C83: ='[2]26'!C10-'[2]29b'!C83-'[2]29c'!C83 -> 0 | D83: ='[2]26'!D10-'[2]29b'!D83-'[2]29c'!D83 -> 0 | E83: ='[2]26'!E10-'[2]29b'!E83-'[2]29c'!E83 -> 0 | F83: ='[2]26'!F10-'[2]29b'!F83-'[2]29c'!F83 -> 0 | G83: ='[2]26'!G10-'[2]29b'!G83-'[2]29c'!G83 -> 0 | H83: ='[2]26'!H10-'[2]29b'!H83-'[2]29c'!H83 -> 0
A84: 79 | B84: Intézményi ellátottak pénzbeli juttatásai (K47) | C84: ='[2]26'!C11-'[2]29b'!C84-'[2]29c'!C84 -> 800000 | D84: ='[2]26'!D11-'[2]29b'!D84-'[2]29c'!D84 -> 800000 | E84: ='[2]26'!E11-'[2]29b'!E84-'[2]29c'!E84 -> 0 | F84: ='[2]26'!F11-'[2]29b'!F84-'[2]29c'!F84 -> 0 | G84: ='[2]26'!G11-'[2]29b'!G84-'[2]29c'!G84 -> 0 | H84: ='[2]26'!H11-'[2]29b'!H84-'[2]29c'!H84 -> 0
A85: 80 | B85: ebből: oktatásban résztvevők pénzbeli juttatásai (K471) | C85: ='[2]26'!C12-'[2]29b'!C85-'[2]29c'!C85 -> 800000 | D85: ='[2]26'!D12-'[2]29b'!D85-'[2]29c'!D85 -> 800000 | E85: ='[2]26'!E12-'[2]29b'!E85-'[2]29c'!E85 -> 0 | F85: ='[2]26'!F12-'[2]29b'!F85-'[2]29c'!F85 -> 0 | G85: ='[2]26'!G12-'[2]29b'!G85-'[2]29c'!G85 -> 0 | H85: ='[2]26'!H12-'[2]29b'!H85-'[2]29c'!H85 -> 0
A86: 81 | B86: Egyéb nem intézményi ellátások (K48) | C86: ='[2]26'!C13-'[2]29b'!C86-'[2]29c'!C86 -> 11000000 | D86: ='[2]26'!D13-'[2]29b'!D86-'[2]29c'!D86 -> 11000000 | E86: ='[2]26'!E13-'[2]29b'!E86-'[2]29c'!E86 -> 0 | F86: ='[2]26'!F13-'[2]29b'!F86-'[2]29c'!F86 -> 0 | G86: ='[2]26'!G13-'[2]29b'!G86-'[2]29c'!G86 -> 0 | H86: ='[2]26'!H13-'[2]29b'!H86-'[2]29c'!H86 -> 0
A87: 82 | B87: ebből: köztemetés [Szoctv. 48.§] (K48123) | C87: ='[2]26'!C14-'[2]29b'!C87-'[2]29c'!C87 -> 1000000 | D87: ='[2]26'!D14-'[2]29b'!D87-'[2]29c'!D87 -> 1000000 | E87: ='[2]26'!E14-'[2]29b'!E87-'[2]29c'!E87 -> 0 | F87: ='[2]26'!F14-'[2]29b'!F87-'[2]29c'!F87 -> 0 | G87: ='[2]26'!G14-'[2]29b'!G87-'[2]29c'!G87 -> 0 | H87: ='[2]26'!H14-'[2]29b'!H87-'[2]29c'!H87 -> 0
A88: 83 | B88: ebből: települési támogatás [Szoctv. 45. §], (K48122) | C88: ='[2]26'!C15-'[2]29b'!C88-'[2]29c'!C88 -> 10000000 | D88: ='[2]26'!D15-'[2]29b'!D88-'[2]29c'!D88 -> 10000000 | E88: ='[2]26'!E15-'[2]29b'!E88-'[2]29c'!E88 -> 0 | F88: ='[2]26'!F15-'[2]29b'!F88-'[2]29c'!F88 -> 0 | G88: ='[2]26'!G15-'[2]29b'!G88-'[2]29c'!G88 -> 0 | H88: ='[2]26'!H15-'[2]29b'!H88-'[2]29c'!H88 -> 0
A89: 84 | B89: Ellátottak pénzbeli juttatásai (K4) | C89: ='[2]26'!C16-'[2]29b'!C89-'[2]29c'!C89 -> 11800000 | D89: ='[2]26'!D16-'[2]29b'!D89-'[2]29c'!D89 -> 11800000 | E89: ='[2]26'!E16-'[2]29b'!E89-'[2]29c'!E89 -> 0 | F89: ='[2]26'!F16-'[2]29b'!F89-'[2]29c'!F89 -> 0 | G89: ='[2]26'!G16-'[2]29b'!G89-'[2]29c'!G89 -> 0 | H89: ='[2]26'!H16-'[2]29b'!H89-'[2]29c'!H89 -> 0
A90: 85 | B90: Elvonások és befizetések (K5023) | C90: ='[2]26'!C17-'[2]29b'!C90-'[2]29c'!C90 -> 0 | D90: ='[2]26'!D17-'[2]29b'!D90-'[2]29c'!D90 -> 0 | E90: ='[2]26'!E17-'[2]29b'!E90-'[2]29c'!E90 -> 0 | F90: ='[2]26'!F17-'[2]29b'!F90-'[2]29c'!F90 -> 0 | G90: ='[2]26'!G17-'[2]29b'!G90-'[2]29c'!G90 -> 0 | H90: ='[2]26'!H17-'[2]29b'!H90-'[2]29c'!H90 -> 0
... A121: 116 | B121: MINDÖSSZESEN: | C121: ='[2]26'!C48-'[2]29b'!C121-'[2]29c'!C121 -> 2764944608 | D121: ='[2]26'!D48-'[2]29b'!D121-'[2]29c'!D121 -> 2160219522 | E121: ='[2]26'!E48-'[2]29b'!E121-'[2]29c'!E121 -> 194362866 | F121: ='[2]26'!F48-'[2]29b'!F121-'[2]29c'!F121 -> 203148735 | G121: ='[2]26'!G48-'[2]29b'!G121-'[2]29c'!G121 -> 65392491 | H121: ='[2]26'!H48-'[2]29b'!H121-'[2]29c'!H121 -> 141820994

Sheet 9b
B1: Berhida Város Önkormányzata | F1: 9.b. melléklet
B2: 2018. évi eredeti költségvetés | F2: 2/2018.(II.23.) önkormányzati rendelethez
F3: Ft-ban
B4: ÖNKÉNT VÁLLALT FELADATOK | C4: BEVÉTELEK
A5: Sor- szám | B5: Rovat megnevezése | C5: Eredeti előirányzat összesen | D5: Önkormányzat | E5: Közös Hivatal | F5: TESZ | G5: Kultúrház | H5: Süni
A6: 1 | B6: Helyi önkormányzatok működésének általános támogatása (B1111) | C6: =SUM(D6:H6) -> 0
A7: 2 | B7: Települési önkormányzatok egyes köznevelési feladatainak támogatása (B112) | C7: =SUM(D7:H7) -> 0
A8: 3 | B8: Települési önkormányzatok szociális, gyermekjóléti és gyermekétkeztetési feladatainak támogatása (B113) | C8: =SUM(D8:H8) -> 0
A9: 4 | B9: Települési önkormányzatok kulturális feladatainak támogatása (B114) | C9: =SUM(D9:H9) -> 0
A10: 5 | B10: Működési célú költségvetési támogatások és kiegészítő támogatások (B115) | C10: =SUM(D10:H10) -> 0
A11: 6 | B11: Elszámolásból származó bevételek (B116) | C11: =SUM(D11:H11) -> 0
A12: 7 | B12: Önkormányzatok működési támogatásai (B11) | C12: =SUM(D12:H12) -> 0 | D12: =SUM(D6:D11) -> 0 | E12: =SUM(E6:E11) -> 0 | F12: =SUM(F6:F11) -> 0 | G12: =SUM(G6:G11) -> 0 | H12: =SUM(H6:H11) -> 0
A13: 8 | B13: Elvonások és befizetések bevételei B12 | C13: =SUM(D13:H13) -> 0
A14: 9 | B14: Egyéb működési célú támogatások bevételei államháztartáson belülről (B16) | C14: =SUM(D14:H14) -> 0 | D14: =SUM(D15:D19) -> 0 | E14: =SUM(E15:E19) -> 0 | F14: =SUM(F15:F19) -> 0 | G14: =SUM(G15:G19) -> 0 | H14: =SUM(H15:H19) -> 0
A15: 10 | B15: ebből: egyéb központi kezelésű előirányzatok (B1612 | C15: =SUM(D15:H15) -> 0
A16: 11 | B16: ebből: fejezeti kezelésű EU B16 | C16: =SUM(D16:H16) -> 0
A17: 12 | B17: ebből: társadalombiztosítás pénzügyi alapjai (B1614 | C17: =SUM(D17:H17) -> 0
A18: 13 | B18: ebből: elkülönített állami pénzal (B1615 | C18: =SUM(D18:H18) -> 0
A19: 14 | B19: ebből: önkormányzat és kv-i szerveik (B 1616 | C19: =SUM(D19:H19) -> 0
A20: 15 | B20: Működési célú támogatások államháztartáson belülről (B1) | C20: =SUM(D20:H20) -> 0 | D20: =D12+D14 -> 0 | E20: =E12+E14 -> 0 | F20: =F12+F14 -> 0 | G20: =G12+G14 -> 0 | H20: =H12+H14 -> 0
A21: 16 | B21: Felhalmozási célú önkormányzati támogatások (B21) | C21: =SUM(D21:H21) -> 0 | D21: =D22 -> 0 | E21: =E22 -> 0 | F21: =F22 -> 0 | G21: =G22 -> 0 | H21: =H22 -> 0
A22: 17 | B22: ebből: egyéb központi felhalmozási c tám B 2119 | C22: =SUM(D22:H22) -> 0
A23: 18 | B23: Egyéb felhalmozási célú tám áht belülről B 25 | C23: =SUM(D23:H23) -> 0 | D23: =SUM(D24:D27) -> 0 | E23: =SUM(E24:E27) -> 0 | F23: =SUM(F24:F27) -> 0 | G23: =SUM(G24:G27) -> 0 | H23: =SUM(H24:H27) -> 0
A24: 19 | B24: ebből egyéb központi fc tám (B2512 | C24: =SUM(D24:H24) -> 0
A25: 20 | B25: ebből: egyéb fejezeti kez EU fc (B25 | C25: =SUM(D25:H25) -> 0
A26: 21 | B26: ebből: elkülönített állami pénzal fc (B2515 | C26: =SUM(D26:H26) -> 0
A27: 22 | B27: ebből: önkorm és kv-i szervek fc tám (B2516 | C27: =SUM(D27:H27) -> 0
A28: 23 | B28: Felhalmozási célú támogatások államháztartáson belülről (B2) | C28: =SUM(D28:H28) -> 0 | D28: =D21+D23 -> 0 | E28: =E21+E23 -> 0 | F28: =F21+F23 -> 0 | G28: =G21+G23 -> 0 | H28: =H21+H23 -> 0
A29: 24 | B29: Vagyoni tipusú adók (B34) | C29: =SUM(D29:H29) -> 7770474 | D29: =SUM(D30:D31) -> 7770474 | E29: =SUM(E30:E31) -> 0 | F29: =SUM(F30:F31) -> 0 | G29: =SUM(G30:G31) -> 0 | H29: =SUM(H30:H31) -> 0
A30: 25 | B30: ebből: építményadó (B34111) | C30: =SUM(D30:H30) -> 7770474 | D30: 7770474
A31: 26 | B31: ebből: magánszemélyek kommunális adója (B34114) | C31: =SUM(D31:H31) -> 0
A32: 27 | B32: Értékesítési és forgalmi adók iparűzési adó (B351121) | C32: =SUM(D32:H32) -> 0
A33: 28 | B33: Gépjárműadó (B3541) | C33: =SUM(D33:H33) -> 0
A34: 29 | B34: Egyéb áruhasználati és szolgáltatási adók, környezetterh díj, talajterhelési díj (B355) | C34: =SUM(D34:H34) -> 0
A35: 30 | B35: Termékek és szolgáltatások adói (B35) | C35: =SUM(D35:H35) -> 0 | D35: =SUM(D32:D34) -> 0 | E35: =SUM(E32:E34) -> 0 | F35: =SUM(F32:F34) -> 0 | G35: =SUM(G32:G34) -> 0 | H35: =SUM(H32:H34) -> 0
A36: 31 | B36: Egyéb közhatalmi bevételek (B36) | C36: =SUM(D36:H36) -> 0 | D36: =SUM(D37:D38) -> 0 | E36: =SUM(E37:E38) -> 0 | F36: =SUM(F37:F38) -> 0 | G36: =SUM(G37:G38) -> 0 | H36: =SUM(H37:H38) -> 0
A37: 32 | B37: ebből: szabálysértési pénz- és helyszíni bírság és a közlekedési szabályszegések után kiszabott közigazgatási bírság helyi önkormányzatot megillető része (B361225 köv) | C37: =SUM(D37:H37) -> 0
A38: 33 | B38: ebből: egyéb bírság (B361229 köv) | C38: =SUM(D38:H38) -> 0
A39: 34 | B39: Közhatalmi bevételek (B3) | C39: =SUM(D39:H39) -> 7770474 | D39: =D29+D35+D36 -> 7770474 | E39: =E29+E35+E36 -> 0 | F39: =F29+F35+F36 -> 0 | G39: =G29+G35+G36 -> 0 | H39: =H29+H35+H36 -> 0
A40: 35 | B40: Készlet értékesítés előirányzata B 40111 | C40: =SUM(D40:H40) -> 0
...

Sheet 9c
B1: Berhida Város Önkormányzata | F1: 9.c. melléklet
B2: 2018. évi eredeti költségvetés | F2: 2/2018.(II.23.) önkormányzati rendelethez
F3: Ft-ban
B4: ÁLLAMIGAZGATÁSI FELADATOK | C4: BEVÉTELEK
A5: Sor- szám | B5: Rovat megnevezése | C5: Eredeti előirányzat összesen | D5: Önkormányzat | E5: Közös Hivatal | F5: TESZ | G5: Kultúrház | H5: Süni
