Workbook
Name _4._sz._sor_részletezése: #REF!
Name _4._sz._sor_részletezése: #REF!
Name _4._sz._sor_részletezése: #REF!
Name _4._sz._sor_részletezése: #REF!
Name _4._sz._sor_részletezése: #REF!

Sheet Összefoglaló 
B1: ÖSSZEFOGLALÓ TÁBLA
B2: a bevételi és kiadási előirányzatok módosításáról
B3: 2019. április hó
E4: adatok eFt-ban
D5: A | E5: B
D6: Megnevezés | E6: Összesen
A7: 1 | B7: I. | D7: BEVÉTELEK
A8: 2 | C8: 1. | D8: Helyi önkormányzatok általános működéséhez és ágazati feladataihoz kapcsolódó támogatás
A9: 3 | D9: Kulturális illetmény pótlék (2018. december hó - 2019. február hó) | E9: 16260
A10: 4 | D10: Szociális ágazati összevont pótlék (2018. december hó - 2019. február hó) | E10: 29524
A11: 5 | D11: Szociális ágazatban foglalkoztatottak egészségügyi kiegészítő pótléka (2018. december hó - 2019. február hó) | E11: 736
A12: 6 | D12: Bérkompenzáció (2018. december hó - 2019. február hó) | E12: 4013
A13: 7 | D13: Összesen | E13: =SUM(E9:E12) -> 50533
A14: 8 | C14: 2. | D14: Egyéb működési célú támogatások
A15: 9 | D15: EMMI - Hiszek Benned Sportprogram támogatása | E15: 2137
A16: 10 | D16: Innovációs és Technológiai Minisztérium - Mobilitási Hét pályázat elszámolás | E16: 1500
A17: 11 | D17: Szociális és Gyermekvédelmi Főigazgatóság - fejlesztő foglalkoztatás finanszírozása (Göllesz Viktor FSZNI) | E17: 5941
A18: 12 | D18: TOP-6.4.1-16-VP1 Kerékpárút építése Márkó-Bánd települések irányába | E18: 22600
A19: 13 | D19: DTP1-1-311-2.2 Interreg Duna Nemzetközi Program Networld* | E19: 21326
A20: 14 | D20: Átcsoportosítások:
A21: 15 | D21: TOP – 6.9.2 -16-VP1-2018-00001 Közösségfejlesztés Veszprém város településrészein | E21: 31805
A22: 16 | D22: Urbact Innova Tor | E22: 5696
A23: 17 | D23: Erasmus +K3 SporTown | E23: 2258
A24: 18 | D24: TOP-6.5.1 - 16- VP1-2018-00004 Aprófalvi Bölcsőde energetikai korszerűsítése | E24: 278
A25: 19 | D25: TOP-6.6.1-16-VP1-2018-00004 Vilonyai utca 2/B szám alatti orvosi rendelő megújítása | E25: 270
A26: 20 | D26: TOP-6.6.1-16-VP1-2018-00005 Ördögárok u. 5. szám alatti orvosi rendelő megújítása | E26: 270
A27: 21 | D27: TOP-6.5.1-16-VP1-2018-00006 Módszertani bölcsőde energetikai megújítása | E27: 378
A28: 22 | D28: TOP-6.5.1-16-VP1-2018-00003 Laczkó Dezső Múzeum épületének energetikai megújítása | E28: 400
A29: 23 | D29: Összesen | E29: =SUM(E15:E28) -> 94859
A30: 24 | C30: 3. | D30: Önkormányzati Intézmények működési célú támogatások Áht-on belülről
A31: 25 | D31: Veszprémi Bölcsődei és Egészségügyi Alapellátási Integrált Intézmény - szakképzési hozzájárulás | E31: 6007
A32: 26 | D32: Eötvös Károly Megyei Könyvtár
A33: 27 | D33: TOP – 6.9.2 -16-VP1-2018-00001 Közösségfejlesztés Veszprém város településrészein | E33: 55188
A34: 28 | D34: Agóra Veszprém Kulturális Központ
A35: 29 | D35: TOP – 6.9.2 -16-VP1-2018-00001 Közösségfejlesztés Veszprém város településrészein | E35: 90557
A36: 30 | D36: Polgármesteri Hivatal
A37: 31 | D37: Európai Parlament tagjainak 2019. évi választása | E37: 13313
A38: 32 | D38: Összesen | E38: =SUM(E31:E37) -> 165065
A39: 33 | C39: 4. | D39: Működési bevételek
A40: 34 | D40: Zöldkár befizetések - keretszerződés | E40: 5000
...

Sheet 1.Onbe
B1: 1. melléklet a 13/2019. (IV.25.) önkormányzati rendelethez
B2: Veszprém Megyei Jogú Város Önkormányzatának
B3: 2019. évi költségvetési bevételeinek módosítása - 2019. április
L4: adatok eFt-ban
B5: A | C5: B | D5: C | E5: D | F5: E | G5: F | H5: G | I5: H | J5: I | K5: J | L5: K
B6: Cím | C6: Alcím | D6: Előir. csop. szám | E6: Kie-melt előir. szám | F6: Megnevezés | G6: 2017. évi tény | H6: 2018. évi eredeti előirányzat | I6: 2018. évi tény | J6: 2019. évi eredeti előirányzat | K6: Módosítás | L6: 2019. évi módosított előirányzat 1.
A7: 1 | D7: 1 | F7: Működési költségvetési bevételek | G7: =SUM(G8,G15,G25,G31,G32,G14,G30) -> 12957199 | H7: =SUM(H8,H15,H25,H31,H32,H14,H30) -> 12105550 | I7: =SUM(I8,I15,I25,I31,I32,I14,I30) -> 14062643 | J7: =SUM(J8,J15,J25,J31,J32,J14,J30) -> 12977517 | K7: =SUM(K8,K15,K25,K31,K32,K14,K30) -> 315042 | L7: =SUM(L8,L15,L25,L31,L32,L14,L30) -> 13292559
A8: 2 | B8: 18 | E8: 1 | F8: Működési célú támogatások Áht-on belülről | G8: =SUM(G9,G12:G12) -> 3469686 | H8: =SUM(H9,H12:H12) -> 3257505 | I8: =SUM(I9,I12:I12) -> 3706565 | J8: =SUM(J9,J12:J12) -> 3419289 | K8: =SUM(K9,K12:K12) -> 145392 | L8: =SUM(L9,L12:L12) -> 3564681
A9: 3 | F9: Önkormányzatok működési támogatásai | G9: =SUM(G10:G11) -> 3090134 | H9: =SUM(H10:H11) -> 2929761 | I9: =SUM(I10:I11) -> 3341151 | J9: =SUM(J10:J11) -> 3194545 | K9: =SUM(K10:K11) -> 50533 | L9: =SUM(L10:L11) -> 3245078
A10: 4 | F10: Helyi önkormányzatok működésének általános és ágazati feladataihoz kapcsolódó támogatás | G10: 2986827 | H10: 2929761 | I10: 3286398 | J10: 3194545 | K10: 50533 | L10: =SUM(J10:K10) -> 3245078
A11: 5 | F11: Működési célú költségvetési támogatások és kiegészítő támogatások | G11: 103307 | I11: 54753
A12: 6 | F12: Egyéb működési célú támogatások bevételei | G12: 379552 | H12: 327744 | I12: 365414 | J12: =193394+31350 -> 224744 | K12: 94859 | L12: =SUM(J12:K12) -> 319603
A13: 7 | F13: ebből: Társadalombizt. Alapból származó támogatás | G13: 140289 | H13: 151000 | I13: 148540 | J13: 147600 | L13: =SUM(J13:K13) -> 147600
A14: 8 | B14: 1-17 | E14: 2 | F14: Önkormányzati Intézmények működési célú támogatások Áht-on belülről | G14: 190782 | H14: 155331 | I14: 216590 | J14: 117496 | K14: 165065 | L14: =SUM(J14:K14) -> 282561
A15: 9 | B15: 18 | E15: 3 | F15: Közhatalmi bevételek | G15: =SUM(G16,G24:G24) -> 7624249 | H15: =SUM(H16,H24:H24) -> 7128500 | I15: =SUM(I16,I24:I24) -> 8049548 | J15: =SUM(J16,J24:J24) -> 7765600 | K15: =SUM(K16,K24:K24) -> 0 | L15: =SUM(L16,L24:L24) -> 7765600
A16: 10 | F16: Adók | G16: =SUM(G17:G23) -> 7606629 | H16: =SUM(H17:H23) -> 7128000 | I16: =SUM(I17:I23) -> 8043412 | J16: =SUM(J17:J23) -> 7760000 | K16: =SUM(K17:K23) -> 0 | L16: =SUM(L17:L23) -> 7760000
A17: 11 | F17: Építményadó | G17: 1435111 | H17: 1250000 | I17: 1300333 | J17: 1300000 | L17: =SUM(J17:K17) -> 1300000
A18: 12 | F18: Idegenforgalmi adó | G18: 46098 | H18: 40000 | I18: 44141 | J18: 45000 | L18: =SUM(J18:K18) -> 45000
A19: 13 | F19: Kommunális adó | G19: 145905 | H19: 138000 | I19: 143422 | J19: 145000 | L19: =SUM(J19:K19) -> 145000
A20: 14 | F20: Telekadó | G20: 111756 | H20: 95000 | I20: 95735 | J20: 95000 | L20: =SUM(J20:K20) -> 95000
A21: 15 | F21: Iparűzési adó | G21: 5584394 | H21: 5400000 | I21: 6222826 | J21: 5950000 | L21: =SUM(J21:K21) -> 5950000
A22: 16 | F22: Gépjárműadó | G22: 209256 | H22: 200000 | I22: 215843 | J22: 210000 | L22: =SUM(J22:K22) -> 210000
A23: 17 | F23: Egyéb pótlékok, bírságok | G23: 74109 | H23: 5000 | I23: 21112 | J23: 15000 | L23: =SUM(J23:K23) -> 15000
A24: 18 | F24: Egyéb közhatalmi bevételek (bírságok, igazgatási szolgáltatási díjak) | G24: 17620 | H24: 500 | I24: 6136 | J24: 5600 | L24: =SUM(J24:K24) -> 5600
A25: 19 | B25: 18 | E25: 4 | F25: Működési bevételek | G25: =SUM(G26:G29) -> 774567 | H25: =SUM(H26:H29) -> 725000 | I25: =SUM(I26:I29) -> 1035546 | J25: =SUM(J26:J29) -> 765238 | K25: =SUM(K26:K29) -> 5000 | L25: =SUM(L26:L29) -> 770238
A26: 20 | F26: Szolgáltatások, közvetített szolgáltatások ellenértéke | G26: 334282 | H26: 345000 | I26: 319006 | J26: 367526 | L26: =SUM(J26:K26) -> 367526
A27: 21 | F27: Tulajdonosi bevételek | G27: 189655 | H27: 192000 | I27: 155541 | J27: 192783 | L27: =SUM(J27:K27) -> 192783
A28: 22 | F28: ÁFA bevételek és visszatérülések | G28: 163912 | H28: 188000 | I28: 490423 | J28: 204929 | L28: =SUM(J28:K28) -> 204929
A29: 23 | F29: Egyéb működési bevételek | G29: 86718 | I29: 70576 | K29: 5000 | L29: =SUM(J29:K29) -> 5000
A30: 24 | B30: 1-17 | E30: 5 | F30: Önkormányzati Intézmények működési bevételek | G30: 887056 | H30: 839214 | I30: 998980 | J30: 909894 | K30: -445 | L30: =SUM(J30:K30) -> 909449
A31: 25 | B31: 18 | E31: 6 | F31: Működési célú átvett pénzeszközök | G31: 4377 | I31: 41080
A32: 26 | B32: 1-17 | E32: 7 | F32: Önkormányzati Intézmények működési célú átvett pénzeszközök | G32: 6482 | I32: 14334 | K32: 30 | L32: =SUM(J32:K32) -> 30
A33: 27 | D33: 2 | F33: Felhalmozási költségvetési bevételek | G33: =SUM(G34,G38:G39,G42:G44) -> 3340220 | H33: =SUM(H34,H38:H39,H42:H44) -> 7712589 | I33: =SUM(I34,I38:I39,I42:I44) -> 12772481 | J33: =SUM(J34,J38:J39,J42:J44) -> 5648160 | K33: =SUM(K34,K38:K39,K42:K44) -> 336239 | L33: =SUM(L34,L38:L39,L42:L44) -> 5984399
A34: 28 | E34: 8 | F34: Felhalmozási célú támogatások Áht-on belülről | G34: =SUM(G35,G37) -> 2353026 | H34: =SUM(H35,H37) -> 7497589 | I34: =SUM(I35,I37) -> 12588575 | J34: =SUM(J35,J37) -> 5270260 | K34: =SUM(K35,K37) -> 328749 | L34: =SUM(L35,L37) -> 5599009
A35: 29 | B35: 18 | F35: Felhalmozási célú önkormányzati támogatások | G35: =+G36 -> 728440 | H35: =+H36 -> 723000 | I35: =+I36 -> 4325400 | J35: =+J36 -> 0 | K35: =+K36 -> 0 | L35: =+L36 -> 0
A36: 30 | F36: Vis maior, Egyéb felhalmozási célú támogatás | G36: 728440 | H36: 723000 | I36: 4325400
A37: 31 | B37: 18 | F37: Egyéb felhalmozási célú támogatások bevételei | G37: 1624586 | H37: 6774589 | I37: 8263175 | J37: =5301610-31350 -> 5270260 | K37: 328749 | L37: =SUM(J37:K37) -> 5599009
A38: 32 | B38: 1-17 | E38: 9 | F38: Önkormányzati Intézmények felhalmozási célú támogatások Áht-on belülről | G38: 3078 | I38: 40469 | J38: 2900 | K38: 6450 | L38: =SUM(J38:K38) -> 9350
A39: 33 | B39: 18 | E39: 10 | F39: Felhalmozási bevételek | G39: =SUM(G40:G41) -> 982437 | H39: =SUM(H40:H41) -> 185000 | I39: =SUM(I40:I41) -> 136583 | J39: =SUM(J40:J41) -> 225000 | K39: =SUM(K40:K41) -> 0 | L39: =SUM(L40:L41) -> 225000
A40: 34 | F40: Ingatlanok értékesítése | G40: 982437 | H40: 170000 | I40: 136583 | J40: 225000 | L40: =SUM(J40:K40) -> 225000
...

Sheet 2.Onki
B1: 2. melléklet a 13/2019. (IV.25.) önkormányzati rendelethez
B2: Veszprém Megyei Jogú Város Önkormányzatának
B3: 2019. évi költségvetési kiadásainak módosítása - 2019. április
L4: adatok eFt-ban
B5: A | C5: B | D5: C | E5: D | F5: E | G5: F | H5: G | I5: H | J5: I
B6: Cím | C6: Alcím | D6: Előir. csop. szám | E6: Kie-melt előir. szám | F6: Megnevezés | G6: 2017. évi tény | H6: 2018. évi eredeti előirányzat | I6: 2018. évi tény | J6: 2019. évi eredeti előirányzat | K6: Módosítás | L6: 2019. évi módosított előirányzat 1.
A7: 1 | B7: 1-17 | F7: Intézményi költségvetési kiadások | G7: =SUM(G8:G9) -> 6705548 | H7: =SUM(H8:H9) -> 7096344 | I7: =SUM(I8:I9) -> 7353582 | J7: =SUM(J8:J9) -> 7596089 | K7: =SUM(K8:K9) -> 1049735 | L7: =SUM(L8:L9) -> 8645824
A8: 2 | D8: 1 | F8: Működési költségvetési kiadások | G8: 6573836 | H8: 7023169 | I8: 7197678 | J8: =7419591+11725 -> 7431316 | K8: 949460 | L8: =SUM(J8:K8) -> 8380776
A9: 3 | D9: 2 | F9: Felhalmozási költségvetési kiadások | G9: =SUM(G10:G11) -> 131712 | H9: =SUM(H10:H11) -> 73175 | I9: =SUM(I10:I11) -> 155904 | J9: =SUM(J10:J11) -> 164773 | K9: =SUM(K10:K11) -> 100275 | L9: =SUM(J9:K9) -> 265048
A10: 4 | E10: 1 | F10: Beruházási kiadások | G10: 131598 | H10: 73175 | I10: 155449 | J10: 164773 | K10: 100275 | L10: =SUM(J10:K10) -> 265048
A11: 5 | E11: 2 | F11: Felújítási kiadások | G11: 114 | I11: 455
A12: 6 | B12: 18 | F12: VMJV Önkormányzata | G12: =SUM(G13:G14,G25,G26) -> 6862305 | H12: =SUM(H13:H14,H25,H26) -> 14771449 | I12: =SUM(I13:I14,I25,I26) -> 13225053 | J12: =SUM(J13:J14,J25,J26) -> 19900460 | K12: =SUM(K13:K14,K25,K26) -> 4284604 | L12: =SUM(L13:L14,L25,L26) -> 24185064
A13: 7 | D13: 1 | F13: Működési költségvetési kiadások | G13: 4573500 | H13: 4616792 | I13: 4718378 | J13: =5574990-15000+1000+19625-876 -> 5579739 | K13: 838234 | L13: =SUM(J13:K13) -> 6417973
A14: 8 | F14: Céltartalékok | G14: =SUM(G15,G21) -> 0 | H14: =SUM(H15,H21) -> 400033 | I14: =SUM(I15,I21) -> 0 | J14: =SUM(J15,J21) -> 394518 | K14: =SUM(K15,K21) -> 200016 | L14: =SUM(L15,L21) -> 594534
A15: 9 | D15: 1 | F15: Működési célú céltartalékok | G15: =SUM(G16:G19) -> 0 | H15: =SUM(H16:H19) -> 152545 | I15: =SUM(I16:I20) -> 0 | J15: =SUM(J16:J19) -> 105109 | K15: =SUM(K16:K20) -> 200016 | L15: =SUM(L16:L20) -> 305125
A16: 10 | F16: - Felmentési idő, jub.jut., végkielégítés | H16: 110965 | J16: =88371-12003 -> 76368 | L16: =SUM(J16:K16) -> 76368
A17: 11 | F17: - Választókerületi keret | H17: 24000 | J17: 24000 | K17: 16 | L17: =SUM(J17:K17) -> 24016
A18: 12 | F18: - Intézményi beruházáshoz kapcsolódó létszámbővítés | H18: 17580 | J18: 4741 | L18: =SUM(J18:K18) -> 4741
A19: 13 | F19: - Szakosított ellátások üzem.tám., bölcsődei kieg.tám. | L19: =SUM(J19:K19) -> 0
A20: 14 | F20: - 2018. évi adóbevételekkel szembeni kötelezettség | K20: 200000 | L20: =SUM(J20:K20) -> 200000
A21: 15 | D21: 2 | F21: Felhalmozási célú céltartalékok | G21: =SUM(G22:G24) -> 0 | H21: =SUM(H22:H24) -> 247488 | I21: =SUM(I22:I24) -> 0 | J21: =SUM(J22:J24) -> 289409 | K21: =SUM(K22:K24) -> 0 | L21: =SUM(L22:L24) -> 289409
A22: 16 | F22: - Előző évi hitelszerződéshez kapcs. feladat | H22: 47488
A23: 17 | F23: - Beruházási kiadásokra képzett céltartalék | H23: 200000 | J23: 248370 | L23: =SUM(J23:K23) -> 248370
A24: 18 | F24: - Viziközmű fejlesztés | J24: 41039 | L24: =SUM(J24:K24) -> 41039
A25: 19 | F25: Általános tartalék | H25: 50000 | J25: 150000 | K25: -117921 | L25: =SUM(J25:K25) -> 32079
A26: 20 | D26: 2 | F26: Felhalmozási költségvetési kiadások | G26: =SUM(G27:G29) -> 2288805 | H26: =SUM(H27:H29) -> 9704624 | I26: =SUM(I27:I29) -> 8506675 | J26: =SUM(J27:J29) -> 13776203 | K26: =SUM(K27:K29) -> 3364275 | L26: =SUM(L27:L29) -> 17140478
A27: 21 | E27: 1 | F27: Beruházási kiadások | G27: 1959718 | H27: 9249545 | I27: 7792799 | J27: =13282053-182728+28000+15000-31350+12003-247494-14294+153000 -> 13014190 | K27: 3146860 | L27: =SUM(J27:K27) -> 16161050
A28: 22 | E28: 2 | F28: Egyéb felhalmozási célú kiadások | G28: 141526 | H28: 5630 | I28: 502120 | J28: =182728+14294 -> 197022 | K28: 8943 | L28: =SUM(J28:K28) -> 205965
A29: 23 | E29: 3 | F29: Felújítási kiadások | G29: 187561 | H29: 449449 | I29: 211756 | J29: =592991-28000 -> 564991 | K29: 208472 | L29: =SUM(J29:K29) -> 773463
A30: 24 | B30: 18 | F30: Lakásalap kiadása | G30: =SUM(G31:G32) -> 39 | H30: =SUM(H31:H32) -> 0 | I30: =SUM(I31:I32) -> 0 | J30: =SUM(J31:J32) -> 0 | K30: =SUM(K31:K32) -> 0 | L30: =SUM(L31:L32) -> 0
A31: 25 | D31: 1 | F31: Működési költségvetési kiadások | G31: 39
A32: 26 | D32: 2 | F32: Felhalmozási költségvetési kiadások
A33: 27 | F33: Költségvetési kiadások összesen | G33: =SUM(G7,G12,G30) -> 13567892 | H33: =SUM(H7,H12,H30) -> 21867793 | I33: =SUM(I7,I12,I30) -> 20578635 | J33: =SUM(J7,J12,J30) -> 27496549 | K33: =SUM(K7,K12,K30) -> 5334339 | L33: =SUM(L7,L12,L30) -> 32830888
A34: 28 | B34: 18 | F34: Finanszírozási kiadások | G34: =SUM(G38:G39,G35:G36) -> 221852 | H34: =SUM(H38:H39,H35:H36) -> 203329 | I34: =SUM(I38:I39,I35:I36) -> 215713 | J34: =SUM(J38:J39,J35:J36) -> 209635 | L34: =SUM(J34:K34) -> 209635
A35: 29 | D35: 1 | F35: Működési finanszírozási kiadások
A36: 30 | D36: 1 | F36: Államháztartáson belüli megelőlegezések visszafizetése | G36: 116478 | H36: 95734 | I36: 108118 | J36: 96040 | L36: =SUM(J36:K36) -> 96040
A37: 31 | D37: 2 | F37: Felhalmozási finanszírozási kiadások
A38: 32 | F38: - Hiteltörlesztés | G38: 105374 | H38: 107595 | I38: 107595 | J38: 113595 | L38: =SUM(J38:K38) -> 113595
A39: 33 | F39: - Lakásalap hiteltörlesztése
A40: 34 | F40: Kiadási főösszeg | G40: =SUM(G33:G34) -> 13789744 | H40: =SUM(H33:H34) -> 22071122 | I40: =SUM(I33:I34) -> 20794348 | J40: =SUM(J33:J34) -> 27706184 | K40: =SUM(K33:K34) -> 5334339 | L40: =SUM(L33:L34) -> 33040523
...

Sheet 3.Inbe
B1: 3. melléklet a 13/2019. (IV.25.) önkormányzati rendelethez
B2: Veszprém Megyei Jogú Város Önkormányzata Intézményei
B3: 2019. évi költségvetési bevételeinek módosítása - 2019. április
M4: adatok eFt-ban
B5: A | C5: B | D5: C | E5: D | F5: E | G5: F | H5: G | I5: H | J5: I | K5: J | L5: K | M5: L | N5: M
B6: Cím | C6: Alcím | D6: Megnevezés | E6: Működési költségvetési bevételek | H6: Felhalmozási költségvetési bevételek | K6: Előző évi költségvetési maradvány | L6: Irányító szervtől kapott támogatás | N6: Bevételek összesen
E7: Működési bevételek | F7: Működési célú támogatás Áht-on belülről | G7: Működési célú átvett pénzeszköz | H7: Felhalmozási bevétel | I7: Felhalmozási célú támogatás Áht.-on belülről | J7: Felhalmozási célú átvett pénzeszköz | L7: Összesen | M7: Ebből: költségvetési támogatás
A8: 1 | B8: 1 | D8: Veszprémi Vadvirág Körzeti Óvoda
A9: 2 | D9: (Csillagvár Waldorf Tagóvoda, Vadvirág Óvoda)
A10: 3 | D10: eredeti előirányzat | E10: 4458 | L10: 204935 | M10: 138149 | N10: =SUM(E10:L10) -> 209393
A11: 4 | D11: módosítás- bérkompenzáció 2018. december - 2019. február | L11: 19 | M11: 19 | N11: =SUM(E11:L11) -> 19
A12: 5 | D12: költségvetési maradvány | K12: 4819 | N12: =SUM(E12:L12) -> 4819
A13: 6 | D13: 12.vk. Vadvirág Óvoda támogatása - játszóeszköz beszerzésre, rendezvényekre | L13: 100 | N13: =SUM(E13:L13) -> 100
A14: 7 | D14: módosított előirányzat 1. | E14: =SUM(E10:E13) -> 4458 | K14: =SUM(K10:K13) -> 4819 | L14: =SUM(L10:L13) -> 205054 | M14: =SUM(M10:M13) -> 138168 | N14: =SUM(E14:L14) -> 214331
A15: 8 | B15: 2 | D15: Veszprémi Bóbita Körzeti Óvoda
A16: 9 | D16: (Hársfa Tagóvoda, Bóbita Óvoda)
A17: 10 | D17: eredeti előirányzat | E17: 10813 | L17: 345515 | M17: 259748 | N17: =SUM(E17:L17) -> 356328
A18: 11 | D18: módosítás- bérkompenzáció 2018. december - 2019. február | L18: 52 | M18: 52 | N18: =SUM(E18:L18) -> 52
A19: 12 | D19: költségvetési maradvány | K19: 22828 | N19: =SUM(E19:L19) -> 22828
A20: 13 | D20: 4.vk. támogatása - rendezvényekre, eszközbeszerzésekre | L20: 100 | N20: =SUM(E20:L20) -> 100
A21: 14 | D21: 4.vk. támogatása - udvari játékokra | L21: 300 | N21: =SUM(E21:L21) -> 300
A22: 15 | D22: módosított előirányzat 1. | E22: =SUM(E17:E21) -> 10813 | K22: =SUM(K17:K21) -> 22828 | L22: =SUM(L17:L21) -> 345967 | M22: =SUM(M17:M21) -> 259800 | N22: =SUM(E22:L22) -> 379608
A23: 16 | B23: 3 | D23: Veszprémi Ringató Körzeti Óvoda
A24: 17 | D24: (Ringató Óvoda, Erdei Tagóvoda, Kuckó Tagóvoda)
A25: 18 | D25: eredeti előirányzat | E25: 17490 | L25: 407750 | M25: 346182 | N25: =SUM(E25:L25) -> 425240
A26: 19 | D26: módosítás- bérkompenzáció 2018. december - 2019. február | L26: 12 | M26: 12 | N26: =SUM(E26:L26) -> 12
A27: 20 | D27: költségvetési maradvány | K27: 10575 | N27: =SUM(E27:L27) -> 10575
A28: 21 | D28: 2.vk. támogatása - eszközbeszerzésekre | L28: =100+200 -> 300 | N28: =SUM(E28:L28) -> 300
A29: 22 | D29: 3.vk. támogatása - eszközbeszerzésre, működésre | L29: 200 | N29: =SUM(E29:L29) -> 200
A30: 23 | D30: módosított előirányzat 1. | E30: =SUM(E25:E29) -> 17490 | K30: =SUM(K25:K29) -> 10575 | L30: =SUM(L25:L29) -> 408262 | M30: =SUM(M25:M29) -> 346194 | N30: =SUM(E30:L30) -> 436327
A31: 24 | B31: 4 | D31: Veszprémi Egry úti Körzeti Óvoda
A32: 25 | D32: (Egry ltp. Óvoda, Nárcisz Tagóvoda)
A33: 26 | D33: eredeti előirányzat | E33: 13993 | L33: 296535 | M33: 239376 | N33: =SUM(E33:L33) -> 310528
A34: 27 | D34: módosítás- bérkompenzáció 2018. december - 2019. február | L34: 47 | M34: 47 | N34: =SUM(E34:L34) -> 47
A35: 28 | D35: költségvetési maradvány | K35: 26421 | N35: =SUM(E35:L35) -> 26421
A36: 29 | D36: Felnőtt étkeztetés, Ovi Olimpia | E36: -445 | G36: 30 | N36: =SUM(E36:L36) -> -415
A37: 30 | D37: 9.vk. Egry utcai Körzeti Óvoda támogatása - játékok beszerzésére | L37: 200 | N37: =SUM(E37:L37) -> 200
A38: 31 | D38: 9.vk. Nárcisz Tagóvoda támogatása - karácsonyi rendezvény költségeire | L38: 100 | N38: =SUM(E38:L38) -> 100
A39: 32 | D39: módosított előirányzat 1. | E39: =SUM(E33:E38) -> 13548 | G39: =SUM(G33:G38) -> 30 | K39: =SUM(K33:K38) -> 26421 | L39: =SUM(L33:L38) -> 296882 | M39: =SUM(M33:M38) -> 239423 | N39: =SUM(E39:L39) -> 336881
A40: 33 | B40: 5 | D40: Veszprémi Csillag úti Körzeti Óvoda
...

Sheet 4.Inbe
B1: 4. melléklet a 13/2019. (IV.25.) önkormányzati rendelethez
B2: Veszprém Megyei Jogú Város Önkormányzata Intézményei
B3: 2019. évi saját bevételeinek módosítás - 2019. április
H4: adatok eFt-ban
B5: A | C5: B | D5: C | E5: D | F5: E | G5: F | H5: G
B6: Cím | C6: Alcím | D6: Megnevezés | E6: 2017. évi tény | F6: 2018. évi eredeti előirányzat | G6: 2018. évi tény | H6: 2019. évi előirányzat
A8: 1 | B8: 1 | D8: Veszprémi Vadvirág Körzeti Óvoda (Csillagvár Waldorf Tagóvoda, Vadvirág Óvoda) | E8: 5002 | F8: 4211 | G8: 4241 | H8: 4458
A9: 2 | B9: 2 | D9: Veszprémi Bóbita Körzeti Óvoda (Hársfa Tagóvoda, Bóbita Óvoda) | E9: 9352 | F9: 9172 | G9: 8290 | H9: 10813
A10: 3 | B10: 3 | D10: Veszprémi Ringató Körzeti Óvoda (Ringató Óvoda, Erdei Tagóvoda, Kuckó Tagóvoda) | E10: 16718 | F10: 18529 | G10: 16663 | H10: 17490
A11: 4 | B11: 4 | D11: Veszprémi Egry úti Körzeti Óvoda (Egry ltp. Óvoda, Nárcisz Tagóvoda) | E11: 11570 | F11: 9159 | G11: 12417 | H11: 13548
A12: 5 | B12: 5 | D12: Veszprémi Csillag úti Körzeti Óvoda (Csillag úti Óvoda, Cholnoky ltp. Óvoda) | E12: 14151 | F12: 13403 | G12: 14656 | H12: 15663
A13: 6 | B13: 6 | D13: Veszprémi Kastélykert Körzeti Óvoda (Kastélykert Óvoda, Ficánka Óvoda) | E13: 5106 | F13: 3735 | G13: 3862 | H13: 3794
A14: 7 | D14: Óvodák összesen: | E14: =SUM(E8:E13) -> 61899 | F14: =SUM(F8:F13) -> 58209 | G14: =SUM(G8:G13) -> 60129 | H14: =SUM(H8:H13) -> 65766
A15: 8 | B15: 7 | D15: Veszprémi Bölcsődei és Egészségügyi Alapellátási Integrált Intézmény | E15: 49823 | F15: 38296 | G15: 43118 | H15: 19344
A16: 9 | B16: 8 | D16: Göllesz Viktor Fogyatékos Személyek Nappali Intézménye | E16: 12363 | F16: 12400 | G16: 15040 | H16: 13500
A17: 10 | B17: 9 | D17: Veszprémi Családsegítő és Gyermekjóléti Integrált Intézmény | H17: 1800
A18: 11 | D18: Egészségügyi és szoc. int. összesen: | E18: =SUM(E15:E17) -> 62186 | F18: =SUM(F15:F17) -> 50696 | G18: =SUM(G15:G17) -> 58158 | H18: =SUM(H15:H17) -> 34644
A19: 12 | B19: 10 | D19: Agóra Veszprém Kulturális Központ | E19: 32111 | F19: 30692 | G19: 39591 | H19: 39584
A20: 13 | B20: 11 | D20: Művészetek Háza Veszprém Művelődési Ház és Kiállítóhely | E20: 6214 | F20: 4104 | G20: 4063 | H20: 7001
A21: 14 | B21: 12 | D21: Eötvös Károly Megyei Könyvtár | E21: 34173 | F21: 21200 | G21: 36291 | H21: 21200
A22: 15 | B22: 13 | D22: Laczkó Dezső Múzeum | E22: 74176 | F22: 75907 | G22: 129584 | H22: 125341
A23: 16 | B23: 14 | D23: Kabóca Bábszínház | E23: 32837 | F23: 28754 | G23: 29609 | H23: 33854
A24: 17 | B24: 15 | D24: Veszprémi Petőfi Színház | E24: 223252 | F24: 195500 | G24: 273726 | H24: 203000
A25: 18 | D25: Kulturális és közművelődési int. Összesen | E25: =SUM(E19:E24) -> 402763 | F25: =SUM(F19:F24) -> 356157 | G25: =SUM(G19:G24) -> 512864 | H25: =SUM(H19:H24) -> 429980
A26: 19 | B26: 16 | D26: Veszprémi Intézményi Szolgáltató Szervezet | E26: 355205 | F26: 374152 | G26: 362984 | H26: 379059
A27: 20 | C27: INTÉZMÉNYEK ÖSSZESEN: | E27: =SUM(E14,E18,E25,E26) -> 882053 | F27: =SUM(F14,F18,F25,F26) -> 839214 | G27: =SUM(G14,G18,G25,G26) -> 994135 | H27: =SUM(H14,H18,H25,H26) -> 909449
A28: 21 | B28: 17 | C28: VMJV Polgármesteri Hivatal által ellátott kötelező és önként vállalt feladatok | E28: 5003 | G28: 4845
A29: 22 | C29: MINDÖSSZESEN: | E29: =SUM(E27,E28) -> 887056 | F29: =SUM(F27,F28) -> 839214 | G29: =SUM(G27,G28) -> 998980 | H29: =SUM(H27,H28) -> 909449
E30: =+E29-'1.Onbe'!G30 -> 0 | F30: =+F29-'1.Onbe'!H30 -> 0 | G30: =+G29-'1.Onbe'!I30 -> 0 | H30: =+H29-'1.Onbe'!L30 -> 0

Sheet 5.Inki
B1: 5. melléklet a 13/2019. (IV.25.) önkormányzati rendelethez
B2: Veszprém Megyei Jogú Város Önkormányzata Intézményeinek
B3: 2019. évi költségvetési kiadásainak módosítása - 2019. április
P4: adatok eFt-ban
B5: A | C5: B | D5: C | E5: D | F5: E | G5: F | H5: G | I5: H | J5: I | K5: J | L5: K | M5: L | N5: M | O5: N | P5: O | Q5: P
B6: Cím | C6: Alcím | D6: Megnevezés | E6: Feladatellátás jellege* | F6: 2017. évi tény | G6: 2018. évi eredeti előirányzat | H6: 2018. évi várható | I6: 2019. évi előirányzat | J6: Működési költségvetési kiadások | O6: Felhalmozási költségvetési kiadások
J7: Személyi juttatások | K7: Munk.a. terh. jár. és szoc.hj.adó | L7: Dologi kiadások | M7: Ellátottak pénzbeli juttatásai | N7: Egyéb működési kiadások | O7: Beruházási kiadások | P7: Felújítási kiadások | Q7: Egyéb felhalmozási célú kiadások
A8: 1 | B8: 1 | D8: Veszprémi Vadvirág Körzeti Óvoda | E8: K | F8: 192029 | G8: 201561 | H8: 206614
A9: 2 | D9: (Csillagvár Waldorf Tagóvoda, Vadvirág Óvoda)
A10: 3 | D10: eredeti előirányzat | I10: =SUM(J10:Q10) -> 209393 | J10: 128101 | K10: 27759 | L10: 50833 | O10: 2700
A11: 4 | D11: módosítás- bérkompenzáció 2018. december - 2019. február | I11: =SUM(J11:Q11) -> 19 | J11: 16 | K11: 3
A12: 5 | D12: költségvetési maradványból | I12: =SUM(J12:Q12) -> 4819 | J12: 1522 | K12: 297 | L12: 1840 | O12: 1160
A13: 6 | D13: 12.vk. Vadvirág Óvoda támogatása - játszóeszköz beszerzésre, rendezvényekre | I13: =SUM(J13:Q13) -> 100 | L13: 100
A14: 7 | D14: módosított előirányzat 1. | I14: =SUM(J14:Q14) -> 214331 | J14: =SUM(J10:J13) -> 129639 | K14: =SUM(K10:K13) -> 28059 | L14: =SUM(L10:L13) -> 52773 | M14: =SUM(M10:M13) -> 0 | N14: =SUM(N10:N13) -> 0 | O14: =SUM(O10:O13) -> 3860 | P14: =SUM(P10:P13) -> 0 | Q14: =SUM(Q10:Q13) -> 0
A15: 8 | B15: 2 | D15: Veszprémi Bóbita Körzeti Óvoda | E15: K | F15: 352042 | G15: 354412 | H15: 351654
A16: 9 | D16: (Hársfa Tagóvoda, Bóbita Óvoda)
A17: 10 | D17: eredeti előirányzat | I17: =SUM(J17:Q17) -> 356328 | J17: 230034 | K17: 49964 | L17: 73030 | O17: 3300
A18: 11 | D18: módosítás- bérkompenzáció 2018. december - 2019. február | I18: =SUM(J18:Q18) -> 52 | J18: 44 | K18: 8
A19: 12 | D19: költségvetési maradványból | I19: =SUM(J19:Q19) -> 22828 | J19: 7135 | K19: 1786 | L19: 2827 | O19: 11080
A20: 13 | D20: 4.vk. támogatása - rendezvényekre, eszközbeszerzésekre | I20: =SUM(J20:Q20) -> 100 | L20: 100
A21: 14 | D21: 4.vk. támogatása - udvari játékokra | I21: =SUM(J21:Q21) -> 300 | O21: 300
A22: 15 | D22: módosított előirányzat 1. | I22: =SUM(J22:Q22) -> 379608 | J22: =SUM(J17:J21) -> 237213 | K22: =SUM(K17:K21) -> 51758 | L22: =SUM(L17:L21) -> 75957 | M22: =SUM(M17:M21) -> 0 | N22: =SUM(N17:N21) -> 0 | O22: =SUM(O17:O21) -> 14680 | P22: =SUM(P17:P21) -> 0 | Q22: =SUM(Q17:Q21) -> 0
A23: 16 | B23: 3 | D23: Veszprémi Ringató Körzeti Óvoda | E23: K | F23: 390437 | G23: 406698 | H23: 431588
A24: 17 | D24: (Ringató Óvoda, Erdei Tagóvoda, Kuckó Tagóvoda)
A25: 18 | D25: eredeti előirányzat | I25: =SUM(J25:Q25) -> 425240 | J25: 282771 | K25: 61168 | L25: 78301 | O25: 3000
A26: 19 | D26: módosítás- bérkompenzáció 2018. december - 2019. február | I26: =SUM(J26:Q26) -> 12 | J26: 10 | K26: 2
A27: 20 | D27: költségvetési maradványból | I27: =SUM(J27:Q27) -> 10575 | J27: 3386 | K27: 888 | L27: 5758 | O27: 543
A28: 21 | D28: 2.vk. támogatása - eszközbeszerzésre | I28: =SUM(J28:Q28) -> 300 | L28: =100+200 -> 300
A29: 22 | D29: 3.vk. támogatása - eszközbeszerzésre, működésre | I29: =SUM(J29:Q29) -> 200 | L29: 200
A30: 23 | D30: módosított előirányzat 1. | I30: =SUM(J30:Q30) -> 436327 | J30: =SUM(J25:J29) -> 286167 | K30: =SUM(K25:K29) -> 62058 | L30: =SUM(L25:L29) -> 84559 | M30: =SUM(M25:M29) -> 0 | N30: =SUM(N25:N29) -> 0 | O30: =SUM(O25:O29) -> 3543 | P30: =SUM(P25:P29) -> 0 | Q30: =SUM(Q25:Q29) -> 0
A31: 24 | B31: 4 | D31: Veszprémi Egry úti Körzeti Óvoda | E31: K | F31: 288668 | G31: 297708 | H31: 302390
A32: 25 | D32: (Egry ltp. Óvoda, Nárcisz Tagóvoda)
A33: 26 | D33: eredeti előirányzat | I33: =SUM(J33:Q33) -> 310528 | J33: 202358 | K33: 43912 | L33: 62358 | O33: 1900
A34: 27 | D34: módosítás- bérkompenzáció 2018. december - 2019. február | I34: =SUM(J34:Q34) -> 47 | J34: 39 | K34: 8
A35: 28 | D35: költségvetési maradványból | I35: =SUM(J35:Q35) -> 26421 | J35: 8581 | K35: 2541 | L35: 9828 | O35: 5471
A36: 29 | D36: Felnőtt étkeztés, Ovi Olimpia | I36: =SUM(J36:Q36) -> -415 | L36: =-445+30 -> -415
A37: 30 | D37: 9.vk. Egry utcai Körzeti Óvoda támogatása - játékok beszerzésére | I37: =SUM(J37:Q37) -> 200 | L37: 200
A38: 31 | D38: 9.vk. Nárcisz Tagóvoda támogatása - karácsonyi rendezvény költségeire | I38: =SUM(J38:Q38) -> 100 | L38: 100
A39: 32 | D39: módosított előirányzat 1. | I39: =SUM(J39:Q39) -> 336881 | J39: =SUM(J33:J38) -> 210978 | K39: =SUM(K33:K38) -> 46461 | L39: =SUM(L33:L38) -> 72071 | M39: =SUM(M33:M38) -> 0 | N39: =SUM(N33:N38) -> 0 | O39: =SUM(O33:O38) -> 7371 | P39: =SUM(P33:P38) -> 0 | Q39: =SUM(Q33:Q38) -> 0
A40: 33 | B40: 5 | D40: Veszprémi Csillag úti Körzeti Óvoda | E40: K | F40: 318973 | G40: 327569 | H40: 336173
...

Sheet 6.Önk.műk.
B1: 6. melléklet a 13/2019. (IV.25.) önkormányzati rendelethez
B2: Veszprém Megyei Jogú Város Önkormányzata
B3: Önkormányzati feladatok és egyéb kötelezettségek 2019. évi működési költségvetési kiadásainak módosítása - 2019. április
M4: adatok eFt-ban
B5: A | C5: B | D5: C | E5: D | F5: E | G5: F | H5: G | I5: H | J5: I | K5: J | L5: K | M5: L | N5: M
B6: Cím | C6: Alcím | D6: Megnevezés | E6: 2017. évi tény | F6: 2018. évi eredeti előirányzat | G6: 2018. évi tény | H6: Feladatellátás jellege* | I6: 2019. évi előirányzat | J6: Működési költségvetési kiadások
J7: Személyi juttatások | K7: Munk.a. terh. jár. és szoc.hj.adó | L7: Dologi kiadások | M7: Ellátottak pénzbeli juttatásai | N7: Egyéb működési kiadások
A8: 1 | B8: 18 | C8: 1 | D8: Nemzeti ünnepek kiadásaira | E8: 6005 | F8: 7000 | G8: 6918 | H8: K
A9: 2 | D9: eredeti előirányzat | I9: =SUM(J9:N9) -> 7000 | L9: 7000
A10: 3 | D10: módosítás- költségvetési maradvány | I10: =SUM(J10:Q10) -> 645 | L10: 645
A11: 4 | D11: módosított előirányzat 1. | I11: =SUM(J11:N11) -> 7645 | L11: =SUM(L9:L10) -> 7645
A12: 5 | C12: 2 | D12: Közművelődési szolgált. | E12: 3150 | F12: 5000 | G12: 4298 | H12: NK
A13: 6 | D13: eredeti előirányzat | I13: =SUM(J13:N13) -> 5000 | L13: 5000
A14: 7 | D14: módosítás- költségvetési maradvány | I14: =SUM(J14:Q14) -> 1592 | L14: 1592
A15: 8 | D15: átcsoportosítás Művészetek Házának Ünnepi könyvhétre | I15: =SUM(J15:Q15) -> -800 | L15: -800
A16: 9 | D16: módosított előirányzat 1. | I16: =SUM(J16:N16) -> 5792 | L16: =SUM(L13:L15) -> 5792
A17: 10 | C17: 3 | D17: Nemzetközi kapcsolatok | E17: 8774 | F17: 10000 | G17: 15651 | H17: NK
A18: 11 | D18: eredeti előirányzat | I18: =SUM(J18:N18) -> 10000 | J18: 1000 | K18: 500 | L18: 8500
A19: 12 | D19: módosítás- költségvetési maradvány | I19: =SUM(J19:Q19) -> 575 | L19: 575
A20: 13 | D20: módosított előirányzat 1. | I20: =SUM(J20:N20) -> 10575 | J20: =SUM(J18:J19) -> 1000 | K20: =SUM(K18:K19) -> 500 | L20: =SUM(L18:L19) -> 9075
A21: 14 | C21: 4 | D21: Marketing tevékenység, marketing stratégia | E21: 13898 | F21: 11000 | G21: 12950 | H21: NK
A22: 15 | D22: eredeti előirányzat | I22: =SUM(J22:N22) -> 11000 | L22: 11000
A23: 16 | D23: módosítás- átcsoportosítás, költségvetési maradvány | I23: =SUM(J23:Q23) -> 3014 | L23: =1500+1514 -> 3014
A24: 17 | D24: módosított előirányzat 1. | I24: =SUM(J24:N24) -> 14014 | L24: =SUM(L22:L23) -> 14014
A25: 18 | C25: 5 | D25: Kitüntetések | E25: 7830 | F25: 9653 | G25: 8243 | H25: NK
A26: 19 | D26: eredeti előirányzat | I26: =SUM(J26:N26) -> 10167 | J26: 5595 | K26: 1132 | L26: 3090 | N26: 350
A27: 20 | D27: módosítás- költségvetési maradvány | I27: =SUM(J27:Q27) -> 1250 | L27: 1250
A28: 21 | D28: 1.vk. Hadnagy László Díj és Dévai Bíró Mátyás Díja | I28: =SUM(J28:Q28) -> 50 | L28: 50
A29: 22 | D29: módosított előirányzat 1. | I29: =SUM(J29:N29) -> 11467 | J29: =SUM(J26:J28) -> 5595 | K29: =SUM(K26:K28) -> 1132 | L29: =SUM(L26:L28) -> 4390 | N29: =SUM(N26:N28) -> 350
A30: 23 | C30: 6 | D30: Mihály-napi búcsú | E30: 1000 | F30: 1000 | G30: 1000 | H30: NK
A31: 24 | D31: eredeti előirányzat | I31: =SUM(J31:N31) -> 1000 | L31: 1000
A32: 25 | D32: módosítás- | I32: =SUM(J32:Q32) -> 0
A33: 26 | D33: módosított előirányzat 1. | I33: =SUM(J33:N33) -> 1000 | L33: =SUM(L31:L32) -> 1000
A34: 27 | C34: 7 | D34: Városi kiemelt fesztiválok | E34: =SUM(E38,E42,E46,E50,E54,E58) -> 62200 | F34: =SUM(F38,F42,F46,F50,F54,F58) -> 72000 | G34: =SUM(G38,G42,G46,G50,G54,G58) -> 72000 | H34: NK
A35: 28 | D35: eredeti előirányzat | I35: =SUM(J35:N35) -> 74000 | J35: =SUM(J39,J43,J47,J51,J55,J59) -> 0 | K35: =SUM(K39,K43,K47,K51,K55,K59) -> 0 | L35: =SUM(L39,L43,L47,L51,L55,L59) -> 15000 | M35: =SUM(M39,M43,M47,M51,M55,M59) -> 0 | N35: =SUM(N39,N43,N47,N51,N55,N59) -> 59000
A36: 29 | D36: módosítás- | I36: =SUM(J36:Q36) -> 0 | J36: =J40+J44+J48+J52+J56+J60 -> 0 | K36: =K40+K44+K48+K52+K56+K60 -> 0 | L36: =L40+L44+L48+L52+L56+L60 -> 0 | M36: =M40+M44+M48+M52+M56+M60 -> 0 | N36: =N40+N44+N48+N52+N56+N60 -> 0
A37: 30 | D37: módosított előirányzat 1. | I37: =SUM(J37:N37) -> 74000 | J37: =SUM(J35:J36) -> 0 | K37: =SUM(K35:K36) -> 0 | L37: =SUM(L35:L36) -> 15000 | M37: =SUM(M35:M36) -> 0 | N37: =SUM(N35:N36) -> 59000
A38: 31 | D38: ebből: - Veszprémi Ünnepi Játékok | E38: 30000 | F38: 30000 | G38: 30000
A39: 32 | D39: eredeti előirányzat | I39: =SUM(J39:N39) -> 30000 | N39: 30000
A40: 33 | D40: módosítás- | I40: =SUM(J40:Q40) -> 0
...

Sheet 6.A Alapítv
B1: 6.A. melléklet a 13/2019. (IV.25.) önkormányzati rendelethez
B2: KIMUTATÁS
B3: Veszprém Megyei Jogú Város Önkormányzata által
B4: alapítványoknak, egyesületeknek, civil szervezeteknek, társadalmi szervezeteknek nyújtott támogatásokról 2019. évben
B5: adatok eFt-ban
B6: A | C6: B
B7: Alapítvány / egyesület / civil szervezet / társadalmi szervezet megnevezése | C7: Támogatás összege
A9: 1 | B9: Veszprémi Szemle Várostörténeti Közhasznú Alapítvány Támogatása | C9: =2000+846 -> 2846
A10: 2 | B10: Ex Symposion Alapítvány | C10: 2000
A11: 3 | B11: Comitatus Társadalomkutató Egyesület - Comitatus Önkormányzati Szemle | C11: 500
A12: 4 | B12: Brusznyai Árpád Alapítvány támogatása | C12: 650
A13: 5 | B13: Veszprém Város Vegyeskar utánpótlás | C13: 1000
A14: 6 | B14: Mendelssohn Kamarazenekar | C14: 83500
A15: 7 | B15: Veszprém Város Vegyeskara | C15: 5600
A16: 8 | B16: Veszprémi Táncegyüttesért Alapítvány | C16: 4500
A17: 9 | B17: Liszt F. Kórus | C17: 3000
A18: 10 | B18: Gizella Kórus/Dowland Alapítvány | C18: 1000
A19: 11 | B19: Civil díj, civil nap költségei | C19: 600
A20: 12 | B20: Veszprémi Ifjúsági Közalapítvány | C20: =14000-5000 -> 9000
A21: 13 | B21: Máltai Szeretetszolgálat | C21: 60000
A22: 14 | B22: Veszprém Foci Centrum Utánpótlás SE | C22: 17000
A23: 15 | B23: Veszprémi Egyetemi és Diák Atlétikai Club | C23: 28000
A24: 16 | B24: Futsal Club Veszprém | C24: 30000
A25: 17 | B25: Örmény Kultúráért Alapítvány | C25: 300
A26: 18 | B26: Tanórán kívüli tevékenység - Veszprémi Fúvóskultúráért Alapítvány | C26: 300
A27: 19 | B27: Kulturális Kínálat bővítése/amatőr művészeti csoportok támogatása - Veszprémi Fúvóskultúráért Alapítvány | C27: 100
A28: 20 | B28: Kulturális Kínálat bővítése/amatőr művészeti csoportok támogatása - Szilágyi Táncegyüttes Alapítvány | C28: 100
A29: 21 | B29: MINDÖSSZESEN: | C29: =SUM(C9:C28) -> 249996

Sheet 7.Beruh.
B1: 7. melléklet a 13/2019. (IV.25.) önkormányzati rendelethez
B2: Veszprém Megyei Jogú Város Önkormányzata
B3: 2019. évi beruházási és egyéb felhalmozási célú kiadások előirányzatainak módosítása - 2019. április
L4: adatok eFt-ban
B5: A | C5: B | D5: C | E5: D | F5: E | G5: F | H5: G | I5: H | L5: I
B6: Cím | C6: Alcím | D6: Megnevezés | E6: Feladatellátás jellege | F6: Teljes költség | G6: Teljesítés 2017. 12.31.-ig | H6: 2018. évi tény | I6: 2019. évi eredeti előirányzat | J6: Módosítás | K6: 2019. évi módosított előirányzat 1. | L6: 2019. év utáni javaslat
A7: 1 | B7: 18 | C7: Önkormányzati beruházási kiadások
A8: 2 | C8: 1 | D8: TOP-6.2.1-16-VP1-2018-00002 Egry úti óvoda újjáépítése | E8: NK | F8: =G8+H8+K8+L8 -> 1103100 | I8: =918181-1635 -> 916546 | K8: =SUM(I8:J8) -> 916546 | L8: 186554
A9: 3 | C9: 2 | D9: TOP-6.2.1-15-VP1-2016-00002 Gyulafirátóti óvoda újjáépítése | E9: NK | F9: =G9+H9+K9+L9 -> 864816 | G9: =10953+1020 -> 11973 | H9: 229 | I9: 852614 | K9: =SUM(I9:J9) -> 852614
A10: 4 | C10: 3 | D10: TOP-6.3.3-16-VP1-2017-00001 Dózsaváros, Pápai úti csapadékvíz-elvezető rendszer fejlesztése | E10: NK | F10: =G10+H10+K10+L10 -> 260045 | H10: 4280 | I10: 42322 | J10: =214312-869 -> 213443 | K10: =SUM(I10:J10) -> 255765
A11: 5 | C11: 4 | D11: TOP-6.4.1-15-VP1-2016-00001 Közlekedésbiztonsági és kerékpárosbarát fejlesztések magvalósulása Veszprém város területén | E11: NK | F11: =G11+H11+K11+L11 -> 1104646 | G11: 44965 | H11: 381764 | I11: 697540 | J11: -19623 | K11: =SUM(I11:J11) -> 677917
A12: 6 | C12: 5 | D12: TOP-6.1.5-16-VP1-2017-00001 Északi Iparterület Közlekedés-fejlesztése | E12: NK | F12: =G12+H12+K12+L12 -> 2686328 | G12: 115020 | H12: 324225 | I12: 607839 | J12: 1639244 | K12: =SUM(I12:J12) -> 2247083
A13: 7 | C13: 6 | D13: TOP-6.4.1-16-VP1 Kerékpárút építése Alsóörs - Felsőörs irányába | E13: NK | F13: =G13+H13+K13+L13 -> 229555 | H13: 9271 | I13: 218251 | J13: -9967 | K13: =SUM(I13:J13) -> 208284 | L13: 12000
A14: 8 | C14: 7 | D14: TOP-6.6.1-16-VP1-2017-00002 Kádártai rendelő kialakítása | E14: NK | F14: =G14+H14+K14+L14 -> 64839 | H14: 143 | I14: =56494+10000 -> 66494 | J14: -1798 | K14: =SUM(I14:J14) -> 64696
A15: 9 | C15: 8 | D15: TOP – 6.3.2 Zöldváros kialakítása (Kulturális negyed - Színházkert, Megyeház tér, Erzsébet liget, Erzsébet sétány – fejlesztése) | E15: NK | F15: =G15+H15+K15+L15 -> 1680297 | H15: 16505 | I15: 789391 | J15: 64401 | K15: =SUM(I15:J15) -> 853792 | L15: 810000
A16: 10 | C16: 9 | D16: TOP- 7.1.1 Helyi közösségi kezdeményezések (CLLD kulcsprojekt előkészítése) | E16: NK | F16: =G16+H16+K16+L16 -> 262046 | H16: 4379 | I16: 244376 | J16: 13291 | K16: =SUM(I16:J16) -> 257667
A17: 11 | C17: 10 | D17: TOP-7.1.1-16 CLLD Városrészi közösség és kulturális terek felújítása | E17: NK | F17: =G17+H17+K17+L17 -> 6137 | I17: =3155+2982 -> 6137 | K17: =SUM(I17:J17) -> 6137
A18: 12 | C18: 11 | D18: TOP-6.4.1-16-VP1 Kerékpárút építése Márkó-Bánd települések irányába | E18: NK | F18: =G18+H18+K18+L18 -> 479000 | I18: 43600 | J18: 435400 | K18: =SUM(I18:J18) -> 479000
A19: 13 | C19: 12 | D19: TOP – 6.9.2 A helyi identitás és kohézió erősítése | E19: NK | F19: =G19+H19+K19+L19 -> 0 | I19: 184000 | J19: -184000 | K19: =SUM(I19:J19) -> 0
A20: 14 | C20: 13 | D20: TOP-6.5.1-16-VP1-2018-00006 Módszertani Bölcsőde energetikai megújítása | E20: NK | F20: =G20+H20+K20+L20 -> 266603 | H20: 6401 | I20: =215705+44000 -> 259705 | J20: -378 | K20: =SUM(I20:J20) -> 259327 | L20: =44875-44000 -> 875
A21: 15 | C21: 14 | D21: TOP-6.2.1-16-VP1-2018-00001 A Veszprémi Bölcsődei és Egészségügyi Alapellátási Integrált Intézmény Módszertani Bölcsődéje megújítása, illetve bölcsődei eszközbeszerzések | E21: NK | F21: =G21+H21+K21+L21 -> 200171 | H21: 4794 | I21: =86052-435+109000 -> 194617 | K21: =SUM(I21:J21) -> 194617 | L21: =109760-109000 -> 760
A22: 16 | C22: 15 | D22: TOP-6.6.1-16-VP1-2018-00006 - Cserhát ltp.1.sz.alatti gyermekorvosi rendelők felújítása | E22: NK | F22: =G22+H22+K22+L22 -> 47233 | H22: 3556 | I22: =28738-170 -> 28568 | K22: =SUM(I22:J22) -> 28568 | L22: 15109
A23: 17 | C23: 16 | D23: TOP-6.6.1-16-VP1-2018-00004 Vilonyai utca 2/B szám alatti orvosi rendelő megújítása | E23: NK | F23: =G23+H23+K23+L23 -> 48291 | H23: 1956 | I23: 39537 | J23: -270 | K23: =SUM(I23:J23) -> 39267 | L23: 7068
A24: 18 | C24: 17 | D24: TOP-6.6.1-16-VP1-2018-00005 Ördögárok u. 5. szám alatti orvosi rendelő megújítása | E24: NK | F24: =G24+H24+K24+L24 -> 77739 | H24: 2459 | I24: 53492 | J24: -270 | K24: =SUM(I24:J24) -> 53222 | L24: 22058
A25: 19 | C25: 18 | D25: TOP-6.5.1-16-VP1-2018-00005 - Március 15. utcai Sportcsarnok és Uszoda energetikai megújítása | E25: NK | F25: =G25+H25+K25+L25 -> 804913 | H25: 6414 | I25: =781615-24602 -> 757013 | J25: 86 | K25: =SUM(I25:J25) -> 757099 | L25: 41400
A26: 20 | C26: 19 | D26: TOP-6.5.1 - 16- VP1-2018-00004 Aprófalvi Bölcsőde energetikai korszerűsítése | E26: NK | F26: =G26+H26+K26+L26 -> 282298 | G26: 6699 | I26: 223100 | J26: -278 | K26: =SUM(I26:J26) -> 222822 | L26: =275877-223100 -> 52777
A27: 21 | C27: 20 | D27: TOP-6.5.1-16-VP1-2018-00002 Völgyikút utca 2. szám alatti épület energetikai megújítása | E27: NK | F27: =G27+H27+K27+L27 -> 172115 | G27: 6541 | I27: =134273-3632 -> 130641 | K27: =SUM(I27:J27) -> 130641 | L27: 34933
A28: 22 | C28: 21 | D28: TOP-6.5.1-16-VP1-2018-00003 Laczkó Dezső Múzeum energetikai megújítása | E28: NK | F28: =G28+H28+K28+L28 -> 381489 | I28: 147420 | J28: =44677-400 -> 44277 | K28: =SUM(I28:J28) -> 191697 | L28: =29144+160648 -> 189792
A29: 23 | C29: 22 | D29: TOP-6.6.1-16-VP1-2018-0003 "Jutasi u. 59. sz. alatti orvosi rendelők megújítása" | E29: NK | F29: =G29+H29+K29+L29 -> 73296 | H29: 4826 | I29: 76700 | J29: =-76700+68470 -> -8230 | K29: =SUM(I29:J29) -> 68470
A30: 24 | C30: 23 | D30: TOP-6.6.1-16-VP1-2017-00001 Gyulafirátóti rendelő felújítása | E30: NK | F30: =G30+H30+K30+L30 -> 62980 | H30: 30272 | I30: 2003 | J30: 30705 | K30: =SUM(I30:J30) -> 32708
A31: 25 | C31: 24 | D31: TOP-6.9 "Közösségfejlesztés Veszprém város településrészein | E31: NK | F31: =G31+H31+K31+L31 -> 2500 | I31: 2500 | K31: =SUM(I31:J31) -> 2500
A32: 26 | C32: 25 | D32: GINOP - 7.1.9-17-2018-00023 Veszprém kulturális turisztikai kínálatának fejlesztése | E32: NK | F32: =G32+H32+K32+L32 -> 1336766 | H32: 28000 | I32: 530299 | J32: =-12700-1918 -> -14618 | K32: =SUM(I32:J32) -> 515681 | L32: 793085
A33: 27 | C33: 26 | D33: URBACT Innova Tor | E33: NK | F33: =G33+H33+K33+L33 -> 12239 | I33: 6859 | J33: -6859 | K33: =SUM(I33:J33) -> 0 | L33: 12239
A34: 28 | C34: 27 | D34: DTP1-1-311-2.2 Interreg Duna Nemzetközi Program Networld* | E34: NK | F34: =G34+H34+K34+L34 -> 1575 | G34: 241 | H34: 1334 | I34: 3930 | J34: =329-4259 -> -3930 | K34: =SUM(I34:J34) -> 0
A35: 29 | C35: 28 | D35: Erasmus +K3 SporTown | E35: NK | F35: =G35+H35+K35+L35 -> 7345 | H35: 7345 | I35: 5444 | J35: =-4544-900 -> -5444 | K35: =SUM(I35:J35) -> 0
A36: 30 | C36: 29 | D36: KEHOP-5.4.1-16-2016-00142 "Veszprém, az energiatudatos város" | E36: NK | F36: =G36+H36+K36+L36 -> 4792 | I36: 4792 | K36: =SUM(I36:J36) -> 4792
A37: 31 | C37: 30 | D37: TOP-6.3.3-15-VP1-2016-00001 Kertváros csapadékelvezető rendszer rekonstrukciója I. ütem | E37: NK | F37: =G37+H37+K37+L37 -> 260817 | G37: 160545 | H37: 86833 | J37: =13416+23 -> 13439 | K37: =SUM(I37:J37) -> 13439
A38: 32 | C38: 31 | D38: TOP 6.5.1-16 Önkormányzati épületek energetikai korszerűsítése | F38: =G38+H38+K38+L38 -> 14326 | H38: 10198 | J38: 4128 | K38: =SUM(I38:J38) -> 4128
A39: 33 | C39: 32 | D39: MVP Veszprémi Petőfi Színház komplex fejlesztése | E39: NK | F39: =G39+H39+K39+L39 -> 12988620 | H39: 324077 | I39: 4114047 | J39: 238376 | K39: =SUM(I39:J39) -> 4352423 | L39: =4550000+3762120 -> 8312120
A40: 34 | C40: 33 | D40: MVP Kittenberger Kálmán Növény- és Vadaspark fejlesztése és bővítése | E40: NK | F40: =G40+H40+K40+L40 -> 1281846 | G40: 11938 | H40: 1269872 | J40: 36 | K40: =SUM(I40:J40) -> 36
...

Sheet 8.Felúj.
B1: 8. melléklet a 13/2019. (IV.25.) önkormányzati rendelethez
B2: Veszprém Megyei Jogú Város Önkormányzata
B3: 2019. évi felújítási kiadások előirányzatainak módosítása - 2019. április
H4: adatok eFt-ban
B5: A | C5: B | D5: C | E5: D | F5: E | G5: F | H5: G | I5: H | J5: I | K5: J
B6: Cím | C6: Alcím | D6: Megnevezés | E6: Feladatellátás jellege | F6: Teljes költség | G6: 2018. évi tény | H6: 2019. évi eredeti előirányzat | I6: Módosítás | J6: 2019. módosított előirányzat 1. | K6: 2019. év utáni javaslat
A7: 1 | B7: 18 | D7: Önkormányzati felújítási kiadások
A8: 2 | C8: 1 | D8: Játszóeszközök felújítása (78/2003 GKM rendelet) | E8: K | F8: =G8+J8+K8 -> 20093 | G8: 10000 | H8: 9000 | I8: 1093 | J8: =SUM(H8:I8) -> 10093
A9: 3 | C9: 2 | D9: Köztéri műalkotások rekonstrukciója, körforgalmakban lévő fa műtárgyak felületkezelése, állagmegóvása | E9: NK | F9: =G9+J9+K9 -> 6804 | G9: 873 | H9: 3000 | I9: 2931 | J9: =SUM(H9:I9) -> 5931
A10: 4 | C10: 3 | D10: Elhasználódott labdapályák felújítása és balesetveszély elhárítás | E10: NK | F10: =G10+J10+K10 -> 3955 | G10: 1955 | H10: 2000 | J10: =SUM(H10:I10) -> 2000
A11: 5 | C11: 4 | D11: Nagyfelületű út- és járdafelújítások | E11: NK | F11: =G11+J11+K11 -> 315208 | G11: 127108 | H11: 100000 | I11: 88100 | J11: =SUM(H11:I11) -> 188100
A12: 6 | C12: 5 | D12: Vízrendezési feladatok, árkok felújítása | E12: K | F12: =G12+J12+K12 -> 30000 | H12: 30000 | J12: =SUM(H12:I12) -> 30000
A13: 7 | C13: 6 | D13: Földutak felújítása | E13: NK | F13: =G13+J13+K13 -> 4000 | H13: 4000 | J13: =SUM(H13:I13) -> 4000
A14: 8 | C14: 7 | D14: Köztéri padok felújítása | E14: NK | F14: =G14+J14+K14 -> 1000 | H14: 1000 | J14: =SUM(H14:I14) -> 1000
A15: 9 | C15: 8 | D15: Védett sírok felújítása az Alsóvárosi temetőben | E15: NK | F15: =G15+J15+K15 -> 14734 | G15: 9999 | H15: 2000 | I15: 2735 | J15: =SUM(H15:I15) -> 4735
A16: 10 | C16: 9 | D16: Dózsa György u. 2.sz. alatti épület felújítása | E16: NK | F16: =G16+J16+K16 -> 130000 | H16: 130000 | J16: =SUM(H16:I16) -> 130000
A17: 11 | C17: 10 | D17: Polgármesteri Hivatal felújítási munkák | E17: NK | F17: =G17+J17+K17 -> 55621 | G17: 2350 | H17: 53271 | J17: =SUM(H17:I17) -> 53271
A18: 12 | C18: 11 | D18: Kertészeti felújítások | E18: NK | F18: =G18+J18+K18 -> 28500 | I18: =20000+8500 -> 28500 | J18: =SUM(H18:I18) -> 28500
A19: 13 | C19: 12 | D19: Vár utca kockakő burkolat felújítása | E19: NK | F19: =G19+J19+K19 -> 20000 | I19: 20000 | J19: =SUM(H19:I19) -> 20000
A20: 14 | C20: 13 | D20: Kertvárosi utcák felújítása víziközmű rekonstrukció után | E20: NK | F20: =G20+J20+K20 -> 78000 | G20: 330 | H20: 36000 | I20: 41670 | J20: =SUM(H20:I20) -> 77670
A21: 15 | C21: 14 | D21: Önkormányzati bérlakások felújítása | E21: NK | F21: =G21+J21+K21 -> 23500 | H21: 23500 | J21: =SUM(H21:I21) -> 23500
A22: 16 | C22: 15 | D22: Hősök kapuja, Vár u. 2. tetőterasz beázás és falak felszívódó nedvesség elleni szigetelése | E22: NK | F22: =G22+J22+K22 -> 3891 | H22: 3850 | I22: 41 | J22: =SUM(H22:I22) -> 3891
A23: 17 | C23: 16 | D23: Egry úti Óvoda újjáépítése miatt szükséges óvodai felújítások, konténer ovi telepítése | E23: NK | F23: =G23+J23+K23 -> 6800 | H23: 6800 | J23: =SUM(H23:I23) -> 6800
A24: 18 | C24: 17 | D24: Evangélikus Óvoda tető felújítása | E24: NK | F24: =G24+J24+K24 -> 7500 | H24: 7500 | J24: =SUM(H24:I24) -> 7500
A25: 19 | C25: 18 | D25: Gyulafirátót, Posta utcai csapadékvíz elvezető árok részleges felújítása | E25: NK | F25: =G25+J25+K25 -> 2200 | H25: 2200 | J25: =SUM(H25:I25) -> 2200
A26: 20 | C26: 19 | D26: Nem lakás célú helyiségek felújítási igénye | E26: NK | F26: =G26+J26+K26 -> 5000 | H26: 5000 | J26: =SUM(H26:I26) -> 5000
A27: 21 | C27: 20 | D27: Földmérési jelek felújítása | E27: NK | F27: =G27+J27+K27 -> 1620 | H27: 1620 | J27: =SUM(H27:I27) -> 1620
A28: 22 | C28: 21 | D28: Gyepmesteri telep kerítés felújítása | E28: K | F28: =G28+J28+K28 -> 1500 | I28: 1500 | J28: =SUM(H28:I28) -> 1500
A29: 23 | C29: 22 | D29: Pajta utca 10. sz. alatti bérlakás felújítása | E29: NK | F29: =G29+J29+K29 -> 2000 | I29: 2000 | J29: =SUM(H29:I29) -> 2000
A30: 24 | C30: 23 | D30: Aranyfőkötős szobor felújítása | E30: NK | F30: =G30+J30+K30 -> 1200 | G30: 425 | I30: 775 | J30: =SUM(H30:I30) -> 775
A31: 25 | D31: ÓVODÁK
A32: 26 | B32: 1 | D32: Veszprémi Vadvirág Körzeti Óvoda | E32: K
A33: 27 | C33: 24 | D33: Tetőjavítás, esővízelvezetés Kengyel utca felőli részen | F33: =G33+J33+K33 -> 3000 | H33: 3000 | J33: =SUM(H33:I33) -> 3000
A34: 28 | C34: 25 | D34: Elkorhadt nyílászárók cseréje II. ütem | F34: =G34+J34+K34 -> 7000 | H34: 7000 | J34: =SUM(H34:I34) -> 7000
A35: 29 | C35: 26 | D35: Teherhordó fal javítása | F35: =G35+J35+K35 -> 558 | I35: 558 | J35: =SUM(H35:I35) -> 558
A36: 30 | C36: 27 | D36: 11.vk., 12.vk. Gazdasági bejárat ajtó csere | F36: =G36+J36+K36 -> 544 | I36: 544 | J36: =SUM(H36:I36) -> 544
A37: 31 | B37: 2 | D37: Veszprémi Bóbita Körzeti Óvoda | E37: K
A38: 32 | C38: 28 | D38: Kertrendezés, vízelvezetés, talajpótlás megoldása | F38: =G38+J38+K38 -> 5000 | H38: 5000 | J38: =SUM(H38:I38) -> 5000
A39: 33 | C39: 29 | D39: Árnyékolás két pavilon teraszán | F39: =G39+J39+K39 -> 5300 | H39: 5300 | J39: =SUM(H39:I39) -> 5300
A40: 34 | D40: Hársfa Tagóvoda
...

Sheet 9.Mérleg
B1: 9. melléklet a 13/2019. (IV.25.) önkormányzati rendelethez
B2: VESZPRÉM MEGYEI JOGÚ VÁROS ÖNKORMÁNYZATÁNAK MŰKÖDÉSI ÉS FELHALMOZÁSI
B3: KÖLTSÉGVETÉSI BEVÉTELEI ÉS KIADÁSAI 2019. ÉVBEN
H4: adatok eFt-ban
B5: A | C5: B | D5: C | F5: D | G5: E | H5: F
A6: 1 | C6: MŰKÖDÉSI KÖLTSÉGVETÉSI BEVÉTELEK | D6: 2019. évi eredeti előirányzat | E6: 2019. évi módosított előirányzat 1. | G6: MŰKÖDÉSI KÖLTSÉGVETÉSI KIADÁSOK | H6: 2019. évi eredeti előirányzat | I6: 2019. évi módosított előirányzat 1.
A7: 2 | B7: 1. | C7: Működési célú támogatások államháztartáson belülről | D7: ='1.Onbe'!J8+'1.Onbe'!J14 -> 3536785 | E7: ='1.Onbe'!L8+'1.Onbe'!L14 -> 3847242 | F7: 1. | G7: Személyi juttatások | H7: ='5.Inki'!J290+'6.Önk.műk.'!J933 -> 4219586 | I7: ='5.Inki'!J292+'6.Önk.műk.'!J935 -> 4561666
A8: 3 | B8: 2. | C8: Közhatalmi bevételek | D8: ='1.Onbe'!J15 -> 7765600 | E8: ='1.Onbe'!L15 -> 7765600 | F8: 2. | G8: Munkaadókat terhelő járulékok és szociális hozzájárulási adó | H8: ='5.Inki'!K290+'6.Önk.műk.'!K933 -> 900609 | I8: ='5.Inki'!K292+'6.Önk.műk.'!K935 -> 986780
A9: 4 | B9: 3. | C9: Működési bevételek | D9: ='1.Onbe'!J25+'1.Onbe'!J30 -> 1675132 | E9: ='1.Onbe'!L25+'1.Onbe'!L30 -> 1679687 | F9: 3. | G9: Dologi kiadások | H9: ='5.Inki'!L290+'6.Önk.műk.'!L933 -> 5250483 | I9: ='5.Inki'!L292+'6.Önk.műk.'!L935 -> 5491844
A10: 5 | B10: 4. | C10: Működési célú átvett pénzeszközök | D10: ='1.Onbe'!J31+'1.Onbe'!J32 -> 0 | E10: ='1.Onbe'!L31+'1.Onbe'!L32 -> 30 | F10: 4. | G10: Ellátottak pénzbeli juttatásai | H10: ='6.Önk.műk.'!M933 -> 34350 | I10: ='5.Inki'!M292+'6.Önk.műk.'!M935 -> 35178
A11: 6 | F11: 5. | G11: Egyéb működési célú kiadások (tartalékok nélkül) | H11: ='5.Inki'!N290+'6.Önk.műk.'!N933 -> 2606027 | I11: ='5.Inki'!N292+'6.Önk.műk.'!N935 -> 3723281
A12: 7 | F12: 6. | G12: Működési célú tartalékok | H12: ='2.Onki'!J15+'2.Onki'!J25 -> 255109 | I12: ='2.Onki'!L15+'2.Onki'!L25 -> 337204
A13: 8 | C13: Működési költségvetési bevételek összesen | D13: =SUM(D7:D12) -> 12977517 | E13: =SUM(E7:E12) -> 13292559 | G13: Működési költségvetési kiadások összesen | H13: =SUM(H7:H12) -> 13266164 | I13: =SUM(I7:I12) -> 15135953
A14: 9 | C14: FELHALMOZÁSI KÖLTSÉGVETÉSI BEVÉTELEK | G14: FELHALMOZÁSI KÖLTSÉGVETÉSI KIADÁSOK
A15: 10 | B15: 1. | C15: Felhalmozási célú támogatások államháztartáson belülről | D15: ='1.Onbe'!J34+'1.Onbe'!J38 -> 5273160 | E15: ='1.Onbe'!L34+'1.Onbe'!L38 -> 5608359 | F15: 1. | G15: Beruházási kiadások | H15: ='2.Onki'!J10+'2.Onki'!J27 -> 13178963 | I15: ='2.Onki'!L10+'2.Onki'!L27 -> 16426098
A16: 11 | B16: 2. | C16: Felhalmozási bevételek | D16: ='1.Onbe'!J39 -> 225000 | E16: ='1.Onbe'!L39+'1.Onbe'!L42 -> 225000 | F16: 2. | G16: Egyéb felhalmozási célú kiadások | H16: ='2.Onki'!J28 -> 197022 | I16: ='2.Onki'!L28 -> 205965
A17: 12 | B17: 3. | C17: Felhalmozási célú átvett pénzeszközök | D17: ='1.Onbe'!J43+'1.Onbe'!J44 -> 150000 | E17: ='1.Onbe'!L43+'1.Onbe'!L44 -> 151040 | F17: 3. | G17: Felújítási kiadások | H17: ='2.Onki'!J29 -> 564991 | I17: ='2.Onki'!L29 -> 773463
A18: 13 | F18: 4. | G18: Felhalmozási célú tartalékok | H18: ='2.Onki'!J21 -> 289409 | I18: ='2.Onki'!L21 -> 289409
A19: 14 | C19: Felhalmozási költségvetési bevételek összesen | D19: =SUM(D15:D18) -> 5648160 | E19: =SUM(E15:E18) -> 5984399 | G19: Felhalmozási költségvetési kiadások összesen | H19: =SUM(H15:H18) -> 14230385 | I19: =SUM(I15:I18) -> 17694935
A20: 15 | C20: Költségvetési bevételek összesen | D20: =SUM(D13,D19) -> 18625677 | E20: =SUM(E13,E19) -> 19276958 | G20: Költségvetési kiadások összesen | H20: =SUM(H13,H19) -> 27496549 | I20: =SUM(I13,I19) -> 32830888
A21: 16 | C21: MŰKÖDÉSI FINANSZÍROZÁSI BEVÉTELEK | G21: MŰKÖDÉSI FINANSZÍROZÁSI KIADÁSOK
A22: 17 | B22: 1. | C22: Rövid lejáratú hitel felvétele | F22: 1. | G22: Rövid lejáratú hitel tőkeösszegének törlesztése | H22: 0
A23: 18 | B23: 2. | C23: Költségvetési maradvány | D23: ='1.Onbe'!J52 -> 1315949 | E23: ='1.Onbe'!L52 -> 2879946 | F23: 2. | G23: Államháztartáson belüli megelőlegezések visszafizetése | H23: ='2.Onki'!J36 -> 96040 | I23: ='2.Onki'!L36 -> 96040
A24: 19 | B24: 3. | C24: Államháztartáson belüli megelőlegezések | D24: ='1.Onbe'!J50 -> 0 | E24: ='1.Onbe'!L50 -> 0
A25: 20 | C25: FELHALMOZÁSI FINANSZÍROZÁSI BEVÉTELEK | G25: FELHALMOZÁSI FINANSZÍROZÁSI KIADÁSOK
A26: 21 | B26: 4. | C26: Hosszú lejáratú hitel felvétele | D26: ='1.Onbe'!J63+'1.Onbe'!J62 -> 676488 | E26: ='1.Onbe'!L60 -> 676488 | F26: 3. | G26: Hosszú lejáratú hitel tőkeösszegének törlesztése | H26: ='2.Onki'!J38 -> 113595 | I26: ='2.Onki'!L38 -> 113595
A27: 22 | B27: 5. | C27: Rövid lejáratú hitel felvétele | F27: 4. | G27: Rövid lejáratú hitel tőkeösszegének törlesztése
A28: 23 | B28: 6. | C28: Költségvetési maradvány | D28: ='1.Onbe'!J56 -> 7088070 | E28: ='1.Onbe'!L56 -> 10207131
A29: 24 | C29: Finanszírozási bevételek összesen | D29: =SUM(D21:D28) -> 9080507 | E29: =SUM(E21:E28) -> 13763565 | G29: Finanszírozási kiadások összesen | H29: =SUM(H21:H28) -> 209635 | I29: =SUM(I21:I28) -> 209635
A30: 25 | C30: ÖSSZES BEVÉTEL | D30: =SUM(D20,D29) -> 27706184 | E30: =SUM(E20,E29) -> 33040523 | G30: ÖSSZES KIADÁS | H30: =SUM(H20,H29) -> 27706184 | I30: =SUM(I20,I29) -> 33040523
A31: 26 | C31: Költségvetési egyenleg összege | D31: =+D20-H20 -> -8870872 | E31: =+E20-I20 -> -13553930
A32: 27 | C32: ebből működési: | D32: =+D13-H13 -> -288647 | E32: =+E13-I13 -> -1843394
A33: 28 | C33: ebből felhalmozási: | D33: =+D19-H19 -> -8582225 | E33: =+E19-I19 -> -11710536
A34: 29 | C34: Finanszírozási kiadásokkal korrigált hiány összege | D34: =+D31-H29 -> -9080507 | E34: =+E31-I29 -> -13763565
A35: 30 | C35: Hiány finanszírozása belső finanszírozásra szolgáló költségvetési bevétel összegével | D35: =D28+D23 -> 8404019 | E35: =E28+E23 -> 13087077
A36: 31 | C36: Hiány finanszírozása külső finanszírozásra szolgáló költségvetési bevétel összegével | D36: =D26 -> 676488 | E36: =E26 -> 676488
A37: 32 | C37: Működési bevételek aránya %-ban | D37: =(D13+D22+D23+D24)/D30 -> 0.51589443 | E37: =(E13+E22+E23+E24)/E30 -> 0.48947485 | G37: Működési kiadások aránya %-ban | H37: =(H13+H22+H23)/H30 -> 0.48228237 | I37: =(I13+I22+I23)/I30 -> 0.46100944
A38: 33 | C38: Felhalmozási bevételek aránya %-ban | D38: =(D19+D26+D27+D28)/D30 -> 0.48410557 | E38: =(E19+E26+E27+E28)/E30 -> 0.51052515 | G38: Felhalmozási kiadások aránya %-ban | H38: =(H19+H26+H27)/H30 -> 0.51771763 | I38: =(I19+I26+I27)/I30 -> 0.53899056

Sheet 10.Létszám
B1: 10. melléklet a 13/2019. (IV.25.) önkormányzati rendelethez
C2: KIMUTATÁS
B3: a 2019. évi engedélyezett létszámról - 2019. április
B4: A | C4: B | D4: C | E4: D | F4: E | G4: F
B5: Cím | C5: Megnevezés | D5: 2018. évi engedélyezett létszám | E5: Módosítás | F5: 2019. évi engedélyezett létszám | G5: Megjegyzés
A6: 1 | B6: 1 | C6: Veszprémi Vadvirág Körzeti Óvoda | D6: 38 | F6: =SUM(D6:E6) -> 38
A7: 2 | C7: Közfoglalkoztatottak létszáma | D7: 0 | F7: =SUM(D7:E7) -> 0
A8: 3 | B8: 2 | C8: Veszprémi Bóbita Körzeti Óvoda | D8: 70 | F8: =SUM(D8:E8) -> 70
A9: 4 | C9: Közfoglalkoztatottak létszáma | D9: 0 | F9: =SUM(D9:E9) -> 0
A10: 5 | B10: 3 | C10: Veszprémi Ringató Körzeti Óvoda | D10: 83.5 | F10: =SUM(D10:E10) -> 83.5
A11: 6 | C11: Közfoglalkoztatottak létszáma | D11: 0 | F11: =SUM(D11:E11) -> 0
A12: 7 | B12: 4 | C12: Veszprémi Egry úti Körzeti Óvoda | D12: 60 | F12: =SUM(D12:E12) -> 60
A13: 8 | C13: Közfoglalkoztatottak létszáma | D13: 0 | F13: =SUM(D13:E13) -> 0
A14: 9 | B14: 5 | C14: Veszprémi Csillag úti Körzeti Óvoda | D14: 61.5 | F14: =SUM(D14:E14) -> 61.5
A15: 10 | C15: Közfoglalkoztatottak létszáma | D15: 0 | F15: =SUM(D15:E15) -> 0
A16: 11 | B16: 6 | C16: Veszprémi Kastélykert Körzeti Óvoda | D16: 31 | F16: =SUM(D16:E16) -> 31
A17: 12 | C17: Közfoglalkoztatottak létszáma | D17: 2 | F17: =SUM(D17:E17) -> 2
A18: 13 | B18: 7 | C18: Veszprémi Bölcsődei és Egészségügyi Alapellátási Integrált Intézmény | D18: 204 | F18: =SUM(D18:E18) -> 204
A19: 14 | C19: Közfoglalkoztatottak létszáma | D19: 0 | F19: =SUM(D19:E19) -> 0
A20: 15 | B20: 8 | C20: Göllesz Viktor Fogyatékos Személyek Nappali Intézménye | D20: 13.25 | F20: =SUM(D20:E20) -> 13.25
A21: 16 | C21: Közfoglalkoztatottak létszáma | D21: 0 | F21: =SUM(D21:E21) -> 0
A22: 17 | B22: 9 | C22: Veszprémi Családsegítő és Gyermekjóléti Integrált Intézmény | D22: 63 | F22: =SUM(D22:E22) -> 63
A23: 18 | C23: Közfoglalkoztatottak létszáma | D23: 0.16 | F23: =SUM(D23:E23) -> 0.16
A24: 19 | B24: 10 | C24: Agóra Veszprém Kulturális Központ | D24: 24.25 | F24: =SUM(D24:E24) -> 24.25
A25: 20 | B25: 11 | C25: Művészetek Háza Veszprém Művelődési Ház és Kiállítóhely | D25: 22 | F25: =SUM(D25:E25) -> 22
A26: 21 | B26: 12 | C26: Eötvös Károly Megyei Könyvtár | D26: 50.5 | F26: =SUM(D26:E26) -> 50.5
A27: 22 | C27: Közfoglalkoztatottak létszáma | D27: 0 | F27: =SUM(D27:E27) -> 0
A28: 23 | B28: 13 | C28: Laczkó Dezső Múzeum | D28: 52 | F28: =SUM(D28:E28) -> 52
A29: 24 | C29: Közfoglalkoztatottak létszáma | D29: 0 | F29: =SUM(D29:E29) -> 0
A30: 25 | C30: határozott idejű foglalkozatottak létszáma (2019. március 1 - 2019. december 31-i) | D30: 4 | F30: =SUM(D30:E30) -> 4
A31: 26 | C31: határozott idejű foglalkozatottak létszáma (2019. január 1 - 2019. február 28-i) | D31: 6 | F31: =SUM(D31:E31) -> 6
A32: 27 | B32: 14 | C32: Kabóca Bábszínház | D32: 20.5 | F32: =SUM(D32:E32) -> 20.5
A33: 28 | C33: Közfoglalkoztatottak létszáma | D33: 2 | F33: =SUM(D33:E33) -> 2
A34: 29 | B34: 15 | C34: Veszprémi Petőfi Színház | D34: 102 | F34: =SUM(D34:E34) -> 102
A35: 30 | C35: Közfoglalkoztatottak létszáma | D35: 0 | F35: =SUM(D35:E35) -> 0
A36: 31 | B36: 16 | C36: Veszprémi Intézményi Szolgáltató Szervezet | D36: 53.25 | F36: =SUM(D36:E36) -> 53.25
A37: 32 | C37: Intézmények összesen: | D37: =SUM(D6:D36) -> 962.91 | E37: =SUM(E6:E36) -> 0 | F37: =SUM(F6:F36) -> 962.91
A38: 33 | B38: 17 | C38: VMJV Polgármesteri Hivatal | D38: 198 | E38: 2 | F38: =D38+E38 -> 200 | G38: 2019. május 1-től - 1 fő 36 hónapra, 1 fő 18 hónapra
A39: 34 | B39: 18 | C39: VMJV Önkormányzata
A40: 35 | C40: Polgármester, Alpolgármesterek | D40: 3 | F40: =D40+E40 -> 3
...

Sheet 11.Hitel
B1: 11. melléklet a 13/2019. (IV.25.) önkormányzati rendelethez
B2: KIMUTATÁS
B3: Veszprém Megyei Jogú Város Önkormányzata
B4: hiteltörlesztésének, hitelállományának és egyéb kötelezettségeinek alakulásáról
T5: adatok eFt-ban
B6: A | D6: B | E6: C | F6: D | G6: E | H6: F | I6: G | J6: H | K6: I | L6: J | M6: K | N6: L | O6: M | P6: N | Q6: O | R6: P | S6: Q | T6: R | U6: S
B7: Hitel megnevezése | D7: Hitelt nyújtó pénzintézet | E7: Hitelszerződés dátuma | F7: Lejárat idő- pontja | G7: Hitelkeret | H7: Hitel-állomány 2018.12.31 | I7: Hitelfelvétel 2019. (előző évek hitel-szerződésén alapuló) | J7: Hitelfelvétel 2019. ÚJ | K7: Hitelfelvétel 2020 | L7: Tőke-törlesztés 2019. | M7: Hitel-állomány 2019.12.31 | N7: Kamat 2019 | O7: Tőke-törlesztés 2020 | P7: Tőke-törlesztés 2021 | Q7: Tőke-törlesztés 2022 | R7: Tőke-törlesztés 2023-tól | S7: Kamat 2020 | T7: Kamat 2021 | U7: Kamat 2022
A8: 1 | B8: 1. | C8: Rövid lejáratú hitel (1500M Ft) | D8: OTP Bank | E8: 2019.06.01 | F8: 43373 | G8: 1500000 | H8: 0 | J8: 0 | K8: 0 | L8: 0 | M8: =H8+J8-L8+I8 -> 0 | N8: 2000 | O8: 0
A9: 2 | B9: 2. | C9: Beruházási hitel - SMO 2011. | D9: UniCredit Bank | E9: 40736 | F9: 48040 | G9: 484000 | H9: 51965 | J9: 0 | K9: 0 | L9: 12340 | M9: =H9+J9-L9+I9 -> 39625 | N9: 1148 | O9: 12340 | P9: 12340 | Q9: 12340 | R9: =M9-O9-P9-Q9 -> 2605 | S9: 849 | T9: 550 | U9: 250
A10: 3 | B10: 3. | C10: Beruházási hitel - Célhitel 2013. | D10: UniCredit Bank | E10: 41502 | F10: 45153 | G10: 650000 | H10: 104453 | J10: 0 | K10: 0 | L10: 57772 | M10: =H10+J10-L10+I10 -> 46681 | N10: 2310 | O10: 46681 | P10: 0 | S10: 698 | T10: 0
A11: 4 | B11: 4. | C11: Beruházási hitel - MFB 2013. | D11: Takarékbank | E11: 41555 | F11: 48859 | G11: 200000 | H11: 121329 | J11: 0 | K11: 0 | L11: 8918 | M11: =H11+J11-L11+I11 -> 112411 | N11: 3751 | O11: 8918 | P11: 8918 | Q11: 8918 | R11: =M11-O11-P11-Q11 -> 85657 | S11: 3467 | T11: 3184 | U11: 2900
