Workbook
Name _4._sz._sor_részletezése: #REF!
Name _4._sz._sor_részletezése: #REF!
Name _4._sz._sor_részletezése: #REF!
Name _4._sz._sor_részletezése: #REF!
Name _4._sz._sor_részletezése: #REF!

Sheet Összefoglaló 
B1: ÖSSZEFOGLALÓ TÁBLA
B2: a bevételi és kiadási előirányzatok módosításáról
B3: 2019. április hó
E4: adatok eFt-ban
D5: A | E5: B
D6: Megnevezés | E6: Összesen
A7: 1 | B7: I. | D7: BEVÉTELEK
A8: 2 | C8: 1. | D8: Helyi önkormányzatok általános működéséhez és ágazati feladataihoz kapcsolódó támogatás
A9: 3 | D9: Kulturális illetmény pótlék (2018. december hó - 2019. február hó) | E9: 16260
A10: 4 | D10: Szociális ágazati összevont pótlék (2018. december hó - 2019. február hó) | E10: 29524
A11: 5 | D11: Szociális ágazatban foglalkoztatottak egészségügyi kiegészítő pótléka (2018. december hó - 2019. február hó) | E11: 736
A12: 6 | D12: Bérkompenzáció (2018. december hó - 2019. február hó) | E12: 4013
A13: 7 | D13: Összesen | E13: =SUM(E9:E12) -> 50533
A14: 8 | C14: 2. | D14: Egyéb működési célú támogatások
A15: 9 | D15: EMMI - Hiszek Benned Sportprogram támogatása | E15: 2137
A16: 10 | D16: Innovációs és Technológiai Minisztérium - Mobilitási Hét pályázat elszámolás | E16: 1500
A17: 11 | D17: Szociális és Gyermekvédelmi Főigazgatóság - fejlesztő foglalkoztatás finanszírozása (Göllesz Viktor FSZNI) | E17: 5941
A18: 12 | D18: TOP-6.4.1-16-VP1 Kerékpárút építése Márkó-Bánd települések irányába | E18: 22600
A19: 13 | D19: DTP1-1-311-2.2 Interreg Duna Nemzetközi Program Networld* | E19: 21326
A20: 14 | D20: Átcsoportosítások:
A21: 15 | D21: TOP – 6.9.2 -16-VP1-2018-00001 Közösségfejlesztés Veszprém város településrészein | E21: 31805
A22: 16 | D22: Urbact Innova Tor | E22: 5696
A23: 17 | D23: Erasmus +K3 SporTown | E23: 2258
A24: 18 | D24: TOP-6.5.1 - 16- VP1-2018-00004 Aprófalvi Bölcsőde energetikai korszerűsítése | E24: 278
A25: 19 | D25: TOP-6.6.1-16-VP1-2018-00004 Vilonyai utca 2/B szám alatti orvosi rendelő megújítása | E25: 270
A26: 20 | D26: TOP-6.6.1-16-VP1-2018-00005 Ördögárok u. 5. szám alatti orvosi rendelő megújítása | E26: 270
A27: 21 | D27: TOP-6.5.1-16-VP1-2018-00006 Módszertani bölcsőde energetikai megújítása | E27: 378
A28: 22 | D28: TOP-6.5.1-16-VP1-2018-00003 Laczkó Dezső Múzeum épületének energetikai megújítása | E28: 400
A29: 23 | D29: Összesen | E29: =SUM(E15:E28) -> 94859
A30: 24 | C30: 3. | D30: Önkormányzati Intézmények működési célú támogatások Áht-on belülről
A31: 25 | D31: Veszprémi Bölcsődei és Egészségügyi Alapellátási Integrált Intézmény - szakképzési hozzájárulás | E31: 6007
A32: 26 | D32: Eötvös Károly Megyei Könyvtár
A33: 27 | D33: TOP – 6.9.2 -16-VP1-2018-00001 Közösségfejlesztés Veszprém város településrészein | E33: 55188
A34: 28 | D34: Agóra Veszprém Kulturális Központ
A35: 29 | D35: TOP – 6.9.2 -16-VP1-2018-00001 Közösségfejlesztés Veszprém város településrészein | E35: 90557
A36: 30 | D36: Polgármesteri Hivatal
A37: 31 | D37: Európai Parlament tagjainak 2019. évi választása | E37: 13313
A38: 32 | D38: Összesen | E38: =SUM(E31:E37) -> 165065
A39: 33 | C39: 4. | D39: Működési bevételek
A40: 34 | D40: Zöldkár befizetések - keretszerződés | E40: 5000
A41: 35 | C41: 5. | D41: Önkormányzati intézmények működési bevételei
A42: 36 | D42: Veszprémi Egry Úti Körzeti Óvoda - Felnőtt étkeztetés | E42: -445
A43: 37 | C43: 6. | D43: Önkormányzati intézmények működési célú átvett bevételei
A44: 38 | D44: Veszprémi Egry Úti Körzeti Óvoda - Ovi Olimpia nyereménye | E44: 30
A45: 39 | C45: 7. | D45: Felhalmozási célú támogatások Áht-on belülről
A46: 40 | D46: TOP-6.6.1-16-VP1-2018-0003 "Jutasi u. 59. sz. alatti orvosi rendelők megújítása" | E46: -76700
A47: 41 | D47: MVP Veszprémi Atlétikai Stadion felújítása I.ütem | E47: 150000
A48: 42 | D48: TOP-6.4.1-16-VP1 Kerékpárút építése Márkó-Bánd települések irányába | E48: 435400
A49: 43 | D49: TOP-6.3.3-15-VP1-2016-00001 Kertváros csapadékelvezető rendszer rekonstrukciója I. ütem | E49: 13599
A50: 44 | D50: Átcsoportosítások:
A51: 45 | D51: TOP – 6.9.2 -16-VP1-2018-00001 Közösségfejlesztés Veszprém város településrészein | E51: -184000
A52: 46 | D52: Erasmus +K3 SporTown | E52: -2258
A53: 47 | D53: Urbact Innova Tor | E53: -5696
A54: 48 | D54: TOP-6.5.1 - 16- VP1-2018-00004 Aprófalvi Bölcsőde energetikai korszerűsítése | E54: -278
A55: 49 | D55: TOP-6.6.1-16-VP1-2018-00004 Vilonyai utca 2/B szám alatti orvosi rendelő megújítása | E55: -270
A56: 50 | D56: TOP-6.6.1-16-VP1-2018-00005 Ördögárok u. 5. szám alatti orvosi rendelő megújítása | E56: -270
A57: 51 | D57: TOP-6.5.1-16-VP1-2018-00006 Módszertani bölcsőde energetikai megújítása | E57: -378
A58: 52 | D58: TOP-6.5.1-16-VP1-2018-00003 Laczkó Dezső Múzeum épületének energetikai megújítása | E58: -400
A59: 53 | D59: Összesen | E59: =SUM(E46:E58) -> 328749
A60: 54 | C60: 8. | D60: Önkormányzati intézmények felhalmozási célú támogatások Áht-on belülről
A61: 55 | D61: Átcsoportosítás
A62: 56 | D62: Eötvös Károly Megyei Könyvtár
A63: 57 | D63: TOP – 6.9.2 -16-VP1-2018-00001 Közösségfejlesztés Veszprém város településrészein | E63: 2400
A64: 58 | D64: Agóra Veszprém Kulturális Központ
A65: 59 | D65: TOP – 6.9.2 -16-VP1-2018-00001 Közösségfejlesztés Veszprém város településrészein | E65: 4050
A66: 60 | D66: Összesen | E66: =SUM(E63:E65) -> 6450
A67: 61 | C67: 9 | D67: Felhalmozási célú átvett pénzeszközök
A68: 62 | D68: A Veszprém, 0273 hrsz-ú "kivett helyi közút" kialakítása érdekében szükséges ingatlanszerzési eljárások lefolytatása (0270/1, 0270/2, 0271/3, 0274/1, 0274/3 hrsz-ú ingatlanok) | E68: 1040
A69: 63 | C69: 10. | D69: Hiány belső finanszírozására szolgáló bevételek
A70: 64 | D70: Működési célú maradvány
A71: 65 | D71: Intézmények | E71: =3659+11748+10032+20950+9874+5981+40406+15563+12863+39730+15077+18434+1131+35672+112939+81310 -> 435369
A72: 66 | D72: Polgármesteri Hivatal | E72: =294771-14861 -> 279910
A73: 67 | D73: Önkormányzat | E73: =851023-2305 -> 848718
A74: 68 | D74: Összesen | E74: =SUM(E71:E73) -> 1563997
A75: 69 | D75: Felhalmozási célú maradvány
A76: 70 | D76: Intézmények | E76: =1160+11080+543+5471+5000+6076+11500+2624+1000+1802+380+10825+6000+5613 -> 69074
A77: 71 | D77: Polgármesteri Hivatal | E77: 24251
A78: 72 | D78: Önkormányzat | E78: =3023431+2305 -> 3025736
A79: 73 | D79: Összesen | E79: =SUM(E76:E78) -> 3119061
A80: 74 | B80: I. | D80: BEVÉTELEK ÖSSZESEN: | E80: =E79+E74+E44+E38+E29+E13+E59+E40+E42+E68+E66 -> 5334339
A81: 75 | B81: II. | D81: KIADÁSOK
A82: 76 | C82: 1. | D82: VMJV Önkormányzat működési kiadások
A83: 77 | D83: Ágazati feladatokhoz kapott támogatásokból, bevételi többletből, feladatok közötti átcsoportosításból
A84: 78 | D84: Veszprémi Kistérségi Társulásnak pénzeszköz átadás (ESZI)
A85: 79 | D85: Szociális ágazati összevont pótlék (2018. december hó - 2019. február hó) | E85: 12472
A86: 80 | D86: Egészségügyi kiegészítő pótlék (2018. december - február hó) | E86: 736
A87: 81 | D87: Bérkompenzáció (2018. december - 2019. február hó) | E87: 594
A88: 82 | D88: Városi Ifjúsági keret - Veszprémi Ifjúsági Közalapítvány - átcsoportosítás | E88: -5000
A89: 83 | D89: Városi rendezvények | E89: 5000
A90: 84 | D90: I. Világháborús Centenáriumi Emlékezés költségei - átcsoportosítások
A91: 85 | D91: Veszprémi Szemle Várostörténeti Közhasznú Alapítványnak - a vidék fiskális c. kötet kiadásaira | E91: -846
A92: 86 | D92: Eötvös Károly Megyei Könyvtárnak - 10 állomás, 10 épület, 10 történet c. program megvalósítására | E92: -400
A93: 87 | D93: Laczkó Dezső Múzeumnak - Vörösök, fehérek és románok Veszprémben 1919-ben | E93: -300
A94: 88 | D94: Veszprémi Szemle Várostörténeti Közhasznú Alapítvány Támogatása | E94: 846
A95: 89 | D95: Kiadványok, folyóiratok támogatása - Vár Ucca Műhely
A96: 90 | D96: átcsoportosítás Művészetek Házának | E96: -1500
A97: 91 | D97: Veszprémi Kaleidoszkóp 1-2 újrakiadása - átnevezés | E97: -2000
A98: 92 | D98: Veszprém várostörténeti kiadványok előkészítése | E98: 2000
A99: 93 | D99: Hiszek Benned Sportprogram | E99: 2137
A100: 94 | D100: Nyugdíjas szervezetek számára pályázati keret - átcsoportosítás Agóra VKK-nak | E100: -5000
...

Sheet 1.Onbe
B1: 1. melléklet a 13/2019. (IV.25.) önkormányzati rendelethez
B2: Veszprém Megyei Jogú Város Önkormányzatának
B3: 2019. évi költségvetési bevételeinek módosítása - 2019. április
L4: adatok eFt-ban
B5: A | C5: B | D5: C | E5: D | F5: E | G5: F | H5: G | I5: H | J5: I | K5: J | L5: K
B6: Cím | C6: Alcím | D6: Előir. csop. szám | E6: Kie-melt előir. szám | F6: Megnevezés | G6: 2017. évi tény | H6: 2018. évi eredeti előirányzat | I6: 2018. évi tény | J6: 2019. évi eredeti előirányzat | K6: Módosítás | L6: 2019. évi módosított előirányzat 1.
A7: 1 | D7: 1 | F7: Működési költségvetési bevételek | G7: =SUM(G8,G15,G25,G31,G32,G14,G30) -> 12957199 | H7: =SUM(H8,H15,H25,H31,H32,H14,H30) -> 12105550 | I7: =SUM(I8,I15,I25,I31,I32,I14,I30) -> 14062643 | J7: =SUM(J8,J15,J25,J31,J32,J14,J30) -> 12977517 | K7: =SUM(K8,K15,K25,K31,K32,K14,K30) -> 315042 | L7: =SUM(L8,L15,L25,L31,L32,L14,L30) -> 13292559
A8: 2 | B8: 18 | E8: 1 | F8: Működési célú támogatások Áht-on belülről | G8: =SUM(G9,G12:G12) -> 3469686 | H8: =SUM(H9,H12:H12) -> 3257505 | I8: =SUM(I9,I12:I12) -> 3706565 | J8: =SUM(J9,J12:J12) -> 3419289 | K8: =SUM(K9,K12:K12) -> 145392 | L8: =SUM(L9,L12:L12) -> 3564681
A9: 3 | F9: Önkormányzatok működési támogatásai | G9: =SUM(G10:G11) -> 3090134 | H9: =SUM(H10:H11) -> 2929761 | I9: =SUM(I10:I11) -> 3341151 | J9: =SUM(J10:J11) -> 3194545 | K9: =SUM(K10:K11) -> 50533 | L9: =SUM(L10:L11) -> 3245078
A10: 4 | F10: Helyi önkormányzatok működésének általános és ágazati feladataihoz kapcsolódó támogatás | G10: 2986827 | H10: 2929761 | I10: 3286398 | J10: 3194545 | K10: 50533 | L10: =SUM(J10:K10) -> 3245078
A11: 5 | F11: Működési célú költségvetési támogatások és kiegészítő támogatások | G11: 103307 | I11: 54753
A12: 6 | F12: Egyéb működési célú támogatások bevételei | G12: 379552 | H12: 327744 | I12: 365414 | J12: =193394+31350 -> 224744 | K12: 94859 | L12: =SUM(J12:K12) -> 319603
A13: 7 | F13: ebből: Társadalombizt. Alapból származó támogatás | G13: 140289 | H13: 151000 | I13: 148540 | J13: 147600 | L13: =SUM(J13:K13) -> 147600
A14: 8 | B14: 1-17 | E14: 2 | F14: Önkormányzati Intézmények működési célú támogatások Áht-on belülről | G14: 190782 | H14: 155331 | I14: 216590 | J14: 117496 | K14: 165065 | L14: =SUM(J14:K14) -> 282561
A15: 9 | B15: 18 | E15: 3 | F15: Közhatalmi bevételek | G15: =SUM(G16,G24:G24) -> 7624249 | H15: =SUM(H16,H24:H24) -> 7128500 | I15: =SUM(I16,I24:I24) -> 8049548 | J15: =SUM(J16,J24:J24) -> 7765600 | K15: =SUM(K16,K24:K24) -> 0 | L15: =SUM(L16,L24:L24) -> 7765600
A16: 10 | F16: Adók | G16: =SUM(G17:G23) -> 7606629 | H16: =SUM(H17:H23) -> 7128000 | I16: =SUM(I17:I23) -> 8043412 | J16: =SUM(J17:J23) -> 7760000 | K16: =SUM(K17:K23) -> 0 | L16: =SUM(L17:L23) -> 7760000
A17: 11 | F17: Építményadó | G17: 1435111 | H17: 1250000 | I17: 1300333 | J17: 1300000 | L17: =SUM(J17:K17) -> 1300000
A18: 12 | F18: Idegenforgalmi adó | G18: 46098 | H18: 40000 | I18: 44141 | J18: 45000 | L18: =SUM(J18:K18) -> 45000
A19: 13 | F19: Kommunális adó | G19: 145905 | H19: 138000 | I19: 143422 | J19: 145000 | L19: =SUM(J19:K19) -> 145000
A20: 14 | F20: Telekadó | G20: 111756 | H20: 95000 | I20: 95735 | J20: 95000 | L20: =SUM(J20:K20) -> 95000
A21: 15 | F21: Iparűzési adó | G21: 5584394 | H21: 5400000 | I21: 6222826 | J21: 5950000 | L21: =SUM(J21:K21) -> 5950000
A22: 16 | F22: Gépjárműadó | G22: 209256 | H22: 200000 | I22: 215843 | J22: 210000 | L22: =SUM(J22:K22) -> 210000
A23: 17 | F23: Egyéb pótlékok, bírságok | G23: 74109 | H23: 5000 | I23: 21112 | J23: 15000 | L23: =SUM(J23:K23) -> 15000
A24: 18 | F24: Egyéb közhatalmi bevételek (bírságok, igazgatási szolgáltatási díjak) | G24: 17620 | H24: 500 | I24: 6136 | J24: 5600 | L24: =SUM(J24:K24) -> 5600
A25: 19 | B25: 18 | E25: 4 | F25: Működési bevételek | G25: =SUM(G26:G29) -> 774567 | H25: =SUM(H26:H29) -> 725000 | I25: =SUM(I26:I29) -> 1035546 | J25: =SUM(J26:J29) -> 765238 | K25: =SUM(K26:K29) -> 5000 | L25: =SUM(L26:L29) -> 770238
A26: 20 | F26: Szolgáltatások, közvetített szolgáltatások ellenértéke | G26: 334282 | H26: 345000 | I26: 319006 | J26: 367526 | L26: =SUM(J26:K26) -> 367526
A27: 21 | F27: Tulajdonosi bevételek | G27: 189655 | H27: 192000 | I27: 155541 | J27: 192783 | L27: =SUM(J27:K27) -> 192783
A28: 22 | F28: ÁFA bevételek és visszatérülések | G28: 163912 | H28: 188000 | I28: 490423 | J28: 204929 | L28: =SUM(J28:K28) -> 204929
A29: 23 | F29: Egyéb működési bevételek | G29: 86718 | I29: 70576 | K29: 5000 | L29: =SUM(J29:K29) -> 5000
A30: 24 | B30: 1-17 | E30: 5 | F30: Önkormányzati Intézmények működési bevételek | G30: 887056 | H30: 839214 | I30: 998980 | J30: 909894 | K30: -445 | L30: =SUM(J30:K30) -> 909449
A31: 25 | B31: 18 | E31: 6 | F31: Működési célú átvett pénzeszközök | G31: 4377 | I31: 41080
A32: 26 | B32: 1-17 | E32: 7 | F32: Önkormányzati Intézmények működési célú átvett pénzeszközök | G32: 6482 | I32: 14334 | K32: 30 | L32: =SUM(J32:K32) -> 30
A33: 27 | D33: 2 | F33: Felhalmozási költségvetési bevételek | G33: =SUM(G34,G38:G39,G42:G44) -> 3340220 | H33: =SUM(H34,H38:H39,H42:H44) -> 7712589 | I33: =SUM(I34,I38:I39,I42:I44) -> 12772481 | J33: =SUM(J34,J38:J39,J42:J44) -> 5648160 | K33: =SUM(K34,K38:K39,K42:K44) -> 336239 | L33: =SUM(L34,L38:L39,L42:L44) -> 5984399
A34: 28 | E34: 8 | F34: Felhalmozási célú támogatások Áht-on belülről | G34: =SUM(G35,G37) -> 2353026 | H34: =SUM(H35,H37) -> 7497589 | I34: =SUM(I35,I37) -> 12588575 | J34: =SUM(J35,J37) -> 5270260 | K34: =SUM(K35,K37) -> 328749 | L34: =SUM(L35,L37) -> 5599009
A35: 29 | B35: 18 | F35: Felhalmozási célú önkormányzati támogatások | G35: =+G36 -> 728440 | H35: =+H36 -> 723000 | I35: =+I36 -> 4325400 | J35: =+J36 -> 0 | K35: =+K36 -> 0 | L35: =+L36 -> 0
A36: 30 | F36: Vis maior, Egyéb felhalmozási célú támogatás | G36: 728440 | H36: 723000 | I36: 4325400
A37: 31 | B37: 18 | F37: Egyéb felhalmozási célú támogatások bevételei | G37: 1624586 | H37: 6774589 | I37: 8263175 | J37: =5301610-31350 -> 5270260 | K37: 328749 | L37: =SUM(J37:K37) -> 5599009
A38: 32 | B38: 1-17 | E38: 9 | F38: Önkormányzati Intézmények felhalmozási célú támogatások Áht-on belülről | G38: 3078 | I38: 40469 | J38: 2900 | K38: 6450 | L38: =SUM(J38:K38) -> 9350
A39: 33 | B39: 18 | E39: 10 | F39: Felhalmozási bevételek | G39: =SUM(G40:G41) -> 982437 | H39: =SUM(H40:H41) -> 185000 | I39: =SUM(I40:I41) -> 136583 | J39: =SUM(J40:J41) -> 225000 | K39: =SUM(K40:K41) -> 0 | L39: =SUM(L40:L41) -> 225000
A40: 34 | F40: Ingatlanok értékesítése | G40: 982437 | H40: 170000 | I40: 136583 | J40: 225000 | L40: =SUM(J40:K40) -> 225000
A41: 35 | F41: Tárgyi eszközök értékesítés | H41: 15000
A42: 36 | E42: 11 | F42: Önkormányzati Intézmények felhalmozási bevételei | G42: 165 | I42: 957
A43: 37 | B43: 18 | E43: 12 | F43: Felhalmozási célú átvett pénzeszközök | G43: 719 | H43: 30000 | I43: 5897 | J43: 150000 | K43: 1040 | L43: =SUM(J43:K43) -> 151040
A44: 38 | B44: 1-17 | E44: 13 | F44: Önkormányzati Intézmények felhalmozási célú átvett pénzeszközök | G44: 795
A45: 39 | B45: 18 | F45: Lakásalap | G45: =SUM(G46:G46) -> 0 | H45: =SUM(H46:H46) -> 0 | I45: =SUM(I46:I46) -> 700 | J45: =SUM(J46:J46) -> 0 | K45: =SUM(K46:K46) -> 0 | L45: =SUM(L46:L46) -> 0
A46: 40 | F46: Felhalmozási célú átvett pénzeszközök (kölcsönök visszatérülése) | I46: 700
A47: 41 | F47: Költségvetési bevételek összesen | G47: =SUM(G7,G33,G45) -> 16297419 | H47: =SUM(H7,H33,H45) -> 19818139 | I47: =SUM(I7,I33,I45) -> 26835824 | J47: =SUM(J7,J33,J45) -> 18625677 | K47: =SUM(K7,K33,K45) -> 651281 | L47: =SUM(L7,L33,L45) -> 19276958
A48: 42 | F48: Költségvetési egyenleg összege | G48: =+G47-'2.Onki'!G33 -> 2729527 | H48: =+H47-'2.Onki'!H33 -> -2049654 | I48: =+I47-'2.Onki'!I33 -> 6257189 | J48: =+J47-'2.Onki'!J33 -> -8870872 | K48: =+K47-'2.Onki'!K33 -> -4683058 | L48: =+L47-'2.Onki'!L33 -> -13553930
A49: 43 | E49: 14 | F49: Finanszírozási bevételek | G49: =SUM(G51,G60)+G50 -> 4365983 | H49: =SUM(H51,H60)+H50 -> 2252983 | I49: =SUM(I51,I60)+I50 -> 7032676 | J49: =SUM(J51,J60)+J50 -> 9080507 | K49: =SUM(K51,K60)+K50 -> 4683058 | L49: =SUM(L51,L60)+L50 -> 13763565
A50: 44 | D50: 1 | F50: Államháztartáson belüli megelőlegezések | G50: 125962 | I50: =101444+6062 -> 107506
A51: 45 | F51: Költségvetési hiány belső finanszírozására szolgáló bevételek | G51: =SUM(G52,G56) -> 4240021 | H51: =SUM(H52,H56) -> 2153983 | I51: =SUM(I52,I56) -> 6873658 | J51: =SUM(J52,J56) -> 8404019 | K51: =SUM(K52,K56) -> 4683058 | L51: =SUM(L52,L56) -> 13087077
A52: 46 | D52: 1 | F52: Működési célú költségvetési maradvány igénybevétele | G52: =SUM(G53:G55) -> 1445783 | H52: =SUM(H53:H55) -> 816136 | I52: =SUM(I53:I55) -> 1957723 | J52: =SUM(J53:J55) -> 1315949 | K52: =SUM(K53:K55) -> 1563997 | L52: =SUM(L53:L55) -> 2879946
A53: 47 | B53: 1-16 | F53: Intézmények | G53: 375129 | H53: 220402 | I53: 612577 | J53: =140431-2495 -> 137936 | K53: 435369 | L53: =SUM(J53:K53) -> 573305
A54: 48 | B54: 17 | F54: VMJV Polgármesteri Hivatala | G54: 235809 | I54: 251672 | J54: =12366+2495 -> 14861 | K54: 279910 | L54: =SUM(J54:K54) -> 294771
A55: 49 | B55: 18 | F55: VMJV Önkormányzata | G55: 834845 | H55: 595734 | I55: 1093474 | J55: 1163152 | K55: 848718 | L55: =SUM(J55:K55) -> 2011870
A56: 50 | D56: 2 | F56: Felhalmozási célú költségvetési maradvány igénybevétele | G56: =SUM(G57:G59) -> 2794238 | H56: =H57+H59 -> 1337847 | I56: =SUM(I57:I59) -> 4915935 | J56: =SUM(J57:J59) -> 7088070 | K56: =SUM(K57:K59) -> 3119061 | L56: =SUM(L57:L59) -> 10207131
A57: 51 | B57: 1-16 | F57: Intézmények | G57: 36696 | I57: 48512 | J57: 58070 | K57: 69074 | L57: =SUM(J57:K57) -> 127144
A58: 52 | B58: 17 | F58: VMJV Polgármesteri Hivatala | G58: 5940 | I58: 16696 | K58: 24251 | L58: =SUM(J58:K58) -> 24251
A59: 53 | B59: 18 | F59: VMJV Önkormányzat | G59: 2751602 | H59: 1337847 | I59: 4850727 | J59: 7030000 | K59: 3025736 | L59: =SUM(J59:K59) -> 10055736
A60: 54 | F60: Költségvetési hiány külső finanszírozására szolgáló bevételek | G60: =SUM(G61:G63) -> 0 | H60: =SUM(H61:H63) -> 99000 | I60: =SUM(I61:I63) -> 51512 | J60: =SUM(J61:J63) -> 676488 | K60: =SUM(K61:K63) -> 0 | L60: =SUM(L61:L63) -> 676488
A61: 55 | B61: 18 | D61: 2 | F61: Beruházási hitelfelvétel
A62: 56 | F62: Beruházási hitelfelvétel | J62: =475000+1000+153000 -> 629000 | L62: =SUM(J62:K62) -> 629000
A63: 57 | F63: Előző évi hitelszerződéseken alapuló felvétel | H63: 99000 | I63: 51512 | J63: 47488 | L63: =SUM(J63:K63) -> 47488
A64: 58 | F64: Bevételi főösszeg | G64: =SUM(G47,G49) -> 20663402 | H64: =SUM(H47,H49) -> 22071122 | I64: =SUM(I47,I49) -> 33868500 | J64: =SUM(J47,J49) -> 27706184 | K64: =SUM(K47,K49) -> 5334339 | L64: =SUM(L47,L49) -> 33040523

Sheet 2.Onki
B1: 2. melléklet a 13/2019. (IV.25.) önkormányzati rendelethez
B2: Veszprém Megyei Jogú Város Önkormányzatának
B3: 2019. évi költségvetési kiadásainak módosítása - 2019. április
L4: adatok eFt-ban
B5: A | C5: B | D5: C | E5: D | F5: E | G5: F | H5: G | I5: H | J5: I
B6: Cím | C6: Alcím | D6: Előir. csop. szám | E6: Kie-melt előir. szám | F6: Megnevezés | G6: 2017. évi tény | H6: 2018. évi eredeti előirányzat | I6: 2018. évi tény | J6: 2019. évi eredeti előirányzat | K6: Módosítás | L6: 2019. évi módosított előirányzat 1.
A7: 1 | B7: 1-17 | F7: Intézményi költségvetési kiadások | G7: =SUM(G8:G9) -> 6705548 | H7: =SUM(H8:H9) -> 7096344 | I7: =SUM(I8:I9) -> 7353582 | J7: =SUM(J8:J9) -> 7596089 | K7: =SUM(K8:K9) -> 1049735 | L7: =SUM(L8:L9) -> 8645824
A8: 2 | D8: 1 | F8: Működési költségvetési kiadások | G8: 6573836 | H8: 7023169 | I8: 7197678 | J8: =7419591+11725 -> 7431316 | K8: 949460 | L8: =SUM(J8:K8) -> 8380776
A9: 3 | D9: 2 | F9: Felhalmozási költségvetési kiadások | G9: =SUM(G10:G11) -> 131712 | H9: =SUM(H10:H11) -> 73175 | I9: =SUM(I10:I11) -> 155904 | J9: =SUM(J10:J11) -> 164773 | K9: =SUM(K10:K11) -> 100275 | L9: =SUM(J9:K9) -> 265048
A10: 4 | E10: 1 | F10: Beruházási kiadások | G10: 131598 | H10: 73175 | I10: 155449 | J10: 164773 | K10: 100275 | L10: =SUM(J10:K10) -> 265048
A11: 5 | E11: 2 | F11: Felújítási kiadások | G11: 114 | I11: 455
A12: 6 | B12: 18 | F12: VMJV Önkormányzata | G12: =SUM(G13:G14,G25,G26) -> 6862305 | H12: =SUM(H13:H14,H25,H26) -> 14771449 | I12: =SUM(I13:I14,I25,I26) -> 13225053 | J12: =SUM(J13:J14,J25,J26) -> 19900460 | K12: =SUM(K13:K14,K25,K26) -> 4284604 | L12: =SUM(L13:L14,L25,L26) -> 24185064
A13: 7 | D13: 1 | F13: Működési költségvetési kiadások | G13: 4573500 | H13: 4616792 | I13: 4718378 | J13: =5574990-15000+1000+19625-876 -> 5579739 | K13: 838234 | L13: =SUM(J13:K13) -> 6417973
A14: 8 | F14: Céltartalékok | G14: =SUM(G15,G21) -> 0 | H14: =SUM(H15,H21) -> 400033 | I14: =SUM(I15,I21) -> 0 | J14: =SUM(J15,J21) -> 394518 | K14: =SUM(K15,K21) -> 200016 | L14: =SUM(L15,L21) -> 594534
A15: 9 | D15: 1 | F15: Működési célú céltartalékok | G15: =SUM(G16:G19) -> 0 | H15: =SUM(H16:H19) -> 152545 | I15: =SUM(I16:I20) -> 0 | J15: =SUM(J16:J19) -> 105109 | K15: =SUM(K16:K20) -> 200016 | L15: =SUM(L16:L20) -> 305125
A16: 10 | F16: - Felmentési idő, jub.jut., végkielégítés | H16: 110965 | J16: =88371-12003 -> 76368 | L16: =SUM(J16:K16) -> 76368
A17: 11 | F17: - Választókerületi keret | H17: 24000 | J17: 24000 | K17: 16 | L17: =SUM(J17:K17) -> 24016
A18: 12 | F18: - Intézményi beruházáshoz kapcsolódó létszámbővítés | H18: 17580 | J18: 4741 | L18: =SUM(J18:K18) -> 4741
A19: 13 | F19: - Szakosított ellátások üzem.tám., bölcsődei kieg.tám. | L19: =SUM(J19:K19) -> 0
A20: 14 | F20: - 2018. évi adóbevételekkel szembeni kötelezettség | K20: 200000 | L20: =SUM(J20:K20) -> 200000
A21: 15 | D21: 2 | F21: Felhalmozási célú céltartalékok | G21: =SUM(G22:G24) -> 0 | H21: =SUM(H22:H24) -> 247488 | I21: =SUM(I22:I24) -> 0 | J21: =SUM(J22:J24) -> 289409 | K21: =SUM(K22:K24) -> 0 | L21: =SUM(L22:L24) -> 289409
A22: 16 | F22: - Előző évi hitelszerződéshez kapcs. feladat | H22: 47488
A23: 17 | F23: - Beruházási kiadásokra képzett céltartalék | H23: 200000 | J23: 248370 | L23: =SUM(J23:K23) -> 248370
A24: 18 | F24: - Viziközmű fejlesztés | J24: 41039 | L24: =SUM(J24:K24) -> 41039
A25: 19 | F25: Általános tartalék | H25: 50000 | J25: 150000 | K25: -117921 | L25: =SUM(J25:K25) -> 32079
A26: 20 | D26: 2 | F26: Felhalmozási költségvetési kiadások | G26: =SUM(G27:G29) -> 2288805 | H26: =SUM(H27:H29) -> 9704624 | I26: =SUM(I27:I29) -> 8506675 | J26: =SUM(J27:J29) -> 13776203 | K26: =SUM(K27:K29) -> 3364275 | L26: =SUM(L27:L29) -> 17140478
A27: 21 | E27: 1 | F27: Beruházási kiadások | G27: 1959718 | H27: 9249545 | I27: 7792799 | J27: =13282053-182728+28000+15000-31350+12003-247494-14294+153000 -> 13014190 | K27: 3146860 | L27: =SUM(J27:K27) -> 16161050
A28: 22 | E28: 2 | F28: Egyéb felhalmozási célú kiadások | G28: 141526 | H28: 5630 | I28: 502120 | J28: =182728+14294 -> 197022 | K28: 8943 | L28: =SUM(J28:K28) -> 205965
A29: 23 | E29: 3 | F29: Felújítási kiadások | G29: 187561 | H29: 449449 | I29: 211756 | J29: =592991-28000 -> 564991 | K29: 208472 | L29: =SUM(J29:K29) -> 773463
A30: 24 | B30: 18 | F30: Lakásalap kiadása | G30: =SUM(G31:G32) -> 39 | H30: =SUM(H31:H32) -> 0 | I30: =SUM(I31:I32) -> 0 | J30: =SUM(J31:J32) -> 0 | K30: =SUM(K31:K32) -> 0 | L30: =SUM(L31:L32) -> 0
A31: 25 | D31: 1 | F31: Működési költségvetési kiadások | G31: 39
A32: 26 | D32: 2 | F32: Felhalmozási költségvetési kiadások
A33: 27 | F33: Költségvetési kiadások összesen | G33: =SUM(G7,G12,G30) -> 13567892 | H33: =SUM(H7,H12,H30) -> 21867793 | I33: =SUM(I7,I12,I30) -> 20578635 | J33: =SUM(J7,J12,J30) -> 27496549 | K33: =SUM(K7,K12,K30) -> 5334339 | L33: =SUM(L7,L12,L30) -> 32830888
A34: 28 | B34: 18 | F34: Finanszírozási kiadások | G34: =SUM(G38:G39,G35:G36) -> 221852 | H34: =SUM(H38:H39,H35:H36) -> 203329 | I34: =SUM(I38:I39,I35:I36) -> 215713 | J34: =SUM(J38:J39,J35:J36) -> 209635 | L34: =SUM(J34:K34) -> 209635
A35: 29 | D35: 1 | F35: Működési finanszírozási kiadások
A36: 30 | D36: 1 | F36: Államháztartáson belüli megelőlegezések visszafizetése | G36: 116478 | H36: 95734 | I36: 108118 | J36: 96040 | L36: =SUM(J36:K36) -> 96040
A37: 31 | D37: 2 | F37: Felhalmozási finanszírozási kiadások
A38: 32 | F38: - Hiteltörlesztés | G38: 105374 | H38: 107595 | I38: 107595 | J38: 113595 | L38: =SUM(J38:K38) -> 113595
A39: 33 | F39: - Lakásalap hiteltörlesztése
A40: 34 | F40: Kiadási főösszeg | G40: =SUM(G33:G34) -> 13789744 | H40: =SUM(H33:H34) -> 22071122 | I40: =SUM(I33:I34) -> 20794348 | J40: =SUM(J33:J34) -> 27706184 | K40: =SUM(K33:K34) -> 5334339 | L40: =SUM(L33:L34) -> 33040523
G41: =+'1.Onbe'!G64-'2.Onki'!G40 -> 6873658 | H41: =+'1.Onbe'!H64-'2.Onki'!H40 -> 0 | I41: =+'1.Onbe'!I64-'2.Onki'!I40 -> 13074152 | J41: =+'1.Onbe'!J64-'2.Onki'!J40 -> 0 | K41: =+'1.Onbe'!K64-'2.Onki'!K40 -> 0 | L41: =+'1.Onbe'!L64-'2.Onki'!L40 -> 0

Sheet 3.Inbe
B1: 3. melléklet a 13/2019. (IV.25.) önkormányzati rendelethez
B2: Veszprém Megyei Jogú Város Önkormányzata Intézményei
B3: 2019. évi költségvetési bevételeinek módosítása - 2019. április
M4: adatok eFt-ban
B5: A | C5: B | D5: C | E5: D | F5: E | G5: F | H5: G | I5: H | J5: I | K5: J | L5: K | M5: L | N5: M
B6: Cím | C6: Alcím | D6: Megnevezés | E6: Működési költségvetési bevételek | H6: Felhalmozási költségvetési bevételek | K6: Előző évi költségvetési maradvány | L6: Irányító szervtől kapott támogatás | N6: Bevételek összesen
E7: Működési bevételek | F7: Működési célú támogatás Áht-on belülről | G7: Működési célú átvett pénzeszköz | H7: Felhalmozási bevétel | I7: Felhalmozási célú támogatás Áht.-on belülről | J7: Felhalmozási célú átvett pénzeszköz | L7: Összesen | M7: Ebből: költségvetési támogatás
A8: 1 | B8: 1 | D8: Veszprémi Vadvirág Körzeti Óvoda
A9: 2 | D9: (Csillagvár Waldorf Tagóvoda, Vadvirág Óvoda)
A10: 3 | D10: eredeti előirányzat | E10: 4458 | L10: 204935 | M10: 138149 | N10: =SUM(E10:L10) -> 209393
A11: 4 | D11: módosítás- bérkompenzáció 2018. december - 2019. február | L11: 19 | M11: 19 | N11: =SUM(E11:L11) -> 19
A12: 5 | D12: költségvetési maradvány | K12: 4819 | N12: =SUM(E12:L12) -> 4819
A13: 6 | D13: 12.vk. Vadvirág Óvoda támogatása - játszóeszköz beszerzésre, rendezvényekre | L13: 100 | N13: =SUM(E13:L13) -> 100
A14: 7 | D14: módosított előirányzat 1. | E14: =SUM(E10:E13) -> 4458 | K14: =SUM(K10:K13) -> 4819 | L14: =SUM(L10:L13) -> 205054 | M14: =SUM(M10:M13) -> 138168 | N14: =SUM(E14:L14) -> 214331
A15: 8 | B15: 2 | D15: Veszprémi Bóbita Körzeti Óvoda
A16: 9 | D16: (Hársfa Tagóvoda, Bóbita Óvoda)
A17: 10 | D17: eredeti előirányzat | E17: 10813 | L17: 345515 | M17: 259748 | N17: =SUM(E17:L17) -> 356328
A18: 11 | D18: módosítás- bérkompenzáció 2018. december - 2019. február | L18: 52 | M18: 52 | N18: =SUM(E18:L18) -> 52
A19: 12 | D19: költségvetési maradvány | K19: 22828 | N19: =SUM(E19:L19) -> 22828
A20: 13 | D20: 4.vk. támogatása - rendezvényekre, eszközbeszerzésekre | L20: 100 | N20: =SUM(E20:L20) -> 100
A21: 14 | D21: 4.vk. támogatása - udvari játékokra | L21: 300 | N21: =SUM(E21:L21) -> 300
A22: 15 | D22: módosított előirányzat 1. | E22: =SUM(E17:E21) -> 10813 | K22: =SUM(K17:K21) -> 22828 | L22: =SUM(L17:L21) -> 345967 | M22: =SUM(M17:M21) -> 259800 | N22: =SUM(E22:L22) -> 379608
A23: 16 | B23: 3 | D23: Veszprémi Ringató Körzeti Óvoda
A24: 17 | D24: (Ringató Óvoda, Erdei Tagóvoda, Kuckó Tagóvoda)
A25: 18 | D25: eredeti előirányzat | E25: 17490 | L25: 407750 | M25: 346182 | N25: =SUM(E25:L25) -> 425240
A26: 19 | D26: módosítás- bérkompenzáció 2018. december - 2019. február | L26: 12 | M26: 12 | N26: =SUM(E26:L26) -> 12
A27: 20 | D27: költségvetési maradvány | K27: 10575 | N27: =SUM(E27:L27) -> 10575
A28: 21 | D28: 2.vk. támogatása - eszközbeszerzésekre | L28: =100+200 -> 300 | N28: =SUM(E28:L28) -> 300
A29: 22 | D29: 3.vk. támogatása - eszközbeszerzésre, működésre | L29: 200 | N29: =SUM(E29:L29) -> 200
A30: 23 | D30: módosított előirányzat 1. | E30: =SUM(E25:E29) -> 17490 | K30: =SUM(K25:K29) -> 10575 | L30: =SUM(L25:L29) -> 408262 | M30: =SUM(M25:M29) -> 346194 | N30: =SUM(E30:L30) -> 436327
A31: 24 | B31: 4 | D31: Veszprémi Egry úti Körzeti Óvoda
A32: 25 | D32: (Egry ltp. Óvoda, Nárcisz Tagóvoda)
A33: 26 | D33: eredeti előirányzat | E33: 13993 | L33: 296535 | M33: 239376 | N33: =SUM(E33:L33) -> 310528
A34: 27 | D34: módosítás- bérkompenzáció 2018. december - 2019. február | L34: 47 | M34: 47 | N34: =SUM(E34:L34) -> 47
A35: 28 | D35: költségvetési maradvány | K35: 26421 | N35: =SUM(E35:L35) -> 26421
A36: 29 | D36: Felnőtt étkeztetés, Ovi Olimpia | E36: -445 | G36: 30 | N36: =SUM(E36:L36) -> -415
A37: 30 | D37: 9.vk. Egry utcai Körzeti Óvoda támogatása - játékok beszerzésére | L37: 200 | N37: =SUM(E37:L37) -> 200
A38: 31 | D38: 9.vk. Nárcisz Tagóvoda támogatása - karácsonyi rendezvény költségeire | L38: 100 | N38: =SUM(E38:L38) -> 100
A39: 32 | D39: módosított előirányzat 1. | E39: =SUM(E33:E38) -> 13548 | G39: =SUM(G33:G38) -> 30 | K39: =SUM(K33:K38) -> 26421 | L39: =SUM(L33:L38) -> 296882 | M39: =SUM(M33:M38) -> 239423 | N39: =SUM(E39:L39) -> 336881
A40: 33 | B40: 5 | D40: Veszprémi Csillag úti Körzeti Óvoda
A41: 34 | D41: (Csillag úti Óvoda, Cholnoky ltp. Óvoda)
A42: 35 | D42: eredeti előirányzat | E42: 15663 | K42: 500 | L42: 322898 | M42: 233271 | N42: =SUM(E42:L42) -> 339061
A43: 36 | D43: módosítás- bérkompenzáció 2018. december - 2019. február | L43: 13 | M43: 13 | N43: =SUM(E43:L43) -> 13
A44: 37 | D44: költségvetési maradvány | K44: 14874 | N44: =SUM(E44:L44) -> 14874
A45: 38 | D45: 6.vk. Támogatása - eszközbeszerzésre, rendezvényekre | L45: 150 | N45: =SUM(E45:L45) -> 150
A46: 39 | D46: módosított előirányzat 1. | E46: =SUM(E42:E45) -> 15663 | K46: =SUM(K42:K45) -> 15374 | L46: =SUM(L42:L45) -> 323061 | M46: =SUM(M42:M45) -> 233284 | N46: =SUM(E46:L46) -> 354098
A47: 40 | B47: 6 | D47: Veszprémi Kastélykert Körzeti Óvoda
A48: 41 | D48: (Kastélykert Óvoda, Ficánka Óvoda)
A49: 42 | D49: eredeti előirányzat | E49: 3794 | L49: 161890 | M49: 114171 | N49: =SUM(E49:L49) -> 165684
A50: 43 | D50: módosítás- költségvetési maradvány | K50: 11967 | N50: =SUM(E50:L50) -> 11967
A51: 44 | D51: módosított előirányzat 1. | E51: =SUM(E49:E50) -> 3794 | K51: =SUM(K49:K50) -> 11967 | L51: =SUM(L49:L50) -> 161890 | M51: =SUM(M49:M50) -> 114171 | N51: =SUM(E51:L51) -> 177651
A52: 45 | C52: 1 | D52: Közcélú és közhasznú foglalkoztatás
A53: 46 | D53: eredeti előirányzat | F53: 2245 | N53: =SUM(E53:L53) -> 2245
A54: 47 | D54: módosítás- költségvetési maradvány | K54: 90 | N54: =SUM(E54:L54) -> 90
A55: 48 | D55: módosított előirányzat 1. | F55: =SUM(F53:F54) -> 2245 | K55: =SUM(K53:K54) -> 90 | N55: =SUM(E55:L55) -> 2335
A56: 49 | D56: Óvodák összesen:
A57: 50 | D57: eredeti előirányzat | E57: =SUM(E53,E49,E42,E33,E25,E17,E10) -> 66211 | F57: =SUM(F53,F49,F42,F33,F25,F17,F10) -> 2245 | G57: =SUM(G53,G49,G42,G33,G25,G17,G10) -> 0 | H57: =SUM(H53,H49,H42,H33,H25,H17,H10) -> 0 | I57: =SUM(I53,I49,I42,I33,I25,I17,I10) -> 0 | J57: =SUM(J53,J49,J42,J33,J25,J17,J10) -> 0 | K57: =SUM(K53,K49,K42,K33,K25,K17,K10) -> 500 | L57: =SUM(L53,L49,L42,L33,L25,L17,L10) -> 1739523 | M57: =SUM(M53,M49,M42,M33,M25,M17,M10) -> 1330897 | N57: =SUM(E57:L57) -> 1808479
A58: 51 | D58: módosítás- | E58: =E54+E50+E44+E43+E35+E34+E27+E26+E19+E18+E12+E11+E36+E28+E29+E13+E20+E37+E38+E45+E21 -> -445 | F58: =F54+F50+F44+F43+F35+F34+F27+F26+F19+F18+F12+F11+F36+F28+F29+F13+F20+F37+F38+F45+F21 -> 0 | G58: =G54+G50+G44+G43+G35+G34+G27+G26+G19+G18+G12+G11+G36+G28+G29+G13+G20+G37+G38+G45+G21 -> 30 | H58: =H54+H50+H44+H43+H35+H34+H27+H26+H19+H18+H12+H11+H36+H28+H29+H13+H20+H37+H38+H45+H21 -> 0 | I58: =I54+I50+I44+I43+I35+I34+I27+I26+I19+I18+I12+I11+I36+I28+I29+I13+I20+I37+I38+I45+I21 -> 0 | J58: =J54+J50+J44+J43+J35+J34+J27+J26+J19+J18+J12+J11+J36+J28+J29+J13+J20+J37+J38+J45+J21 -> 0 | K58: =K54+K50+K44+K43+K35+K34+K27+K26+K19+K18+K12+K11+K36+K28+K29+K13+K20+K37+K38+K45+K21 -> 91574 | L58: =L54+L50+L44+L43+L35+L34+L27+L26+L19+L18+L12+L11+L36+L28+L29+L13+L20+L37+L38+L45+L21 -> 1593 | M58: =M54+M50+M44+M43+M35+M34+M27+M26+M19+M18+M12+M11+M36+M28+M29+M13+M20+M37+M38+M45+M21 -> 143 | N58: =SUM(E58:L58) -> 92752
A59: 52 | D59: módosított előirányzat 1. | E59: =SUM(E57:E58) -> 65766 | F59: =SUM(F57:F58) -> 2245 | G59: =SUM(G57:G58) -> 30 | H59: =SUM(H57:H58) -> 0 | I59: =SUM(I57:I58) -> 0 | J59: =SUM(J57:J58) -> 0 | K59: =SUM(K57:K58) -> 92074 | L59: =SUM(L57:L58) -> 1741116 | M59: =SUM(M57:M58) -> 1331040 | N59: =SUM(E59:L59) -> 1901231
A60: 53 | B60: 7 | D60: Veszprémi Bölcsődei és Egészségügyi Alapellátási Integrált Intézmény
A61: 54 | D61: eredeti előirányzat | E61: 19344 | F61: 1445 | L61: 862197 | M61: 524297 | N61: =SUM(E61:L61) -> 882986
A62: 55 | D62: módosítás- bérkompenzáció 2018. december - 2019. február | L62: 1391 | M62: 1391 | N62: =SUM(E62:L62) -> 1391
A63: 56 | D63: szociális ágazati összevont pótlék 2018. december - 2019. február | L63: 2830 | M63: 2830 | N63: =SUM(E63:L63) -> 2830
A64: 57 | D64: költségvetési maradvány | K64: 51906 | N64: =SUM(E64:L64) -> 51906
A65: 58 | D65: szakképzési hozzájárulás | F65: 6007 | N65: =SUM(E65:L65) -> 6007
A66: 59 | D66: 9.vk. Hóvirág Bölcsőde támogatása - (Mikulás napi rendezvényre) | L66: 80 | N66: =SUM(E66:L66) -> 80
A67: 60 | D67: 12.vk. Napsugár Bölcsőde támogatása - rendezvények támogatása, eszközbeszerzésre | L67: 100 | N67: =SUM(E67:L67) -> 100
A68: 61 | D68: módosított előirányzat 1. | E68: =SUM(E61:E67) -> 19344 | F68: =SUM(F61:F67) -> 7452 | K68: =SUM(K61:K67) -> 51906 | L68: =SUM(L61:L67) -> 866598 | M68: =SUM(M61:M67) -> 528518 | N68: =SUM(E68:L68) -> 945300
A69: 62 | C69: 1 | D69: EFOP-1.9.9-17-2017-00004 Még jobb kezekben - Veszprémben
A70: 63 | D70: eredeti előirányzat | K70: 10080 | N70: =SUM(E70:L70) -> 10080
A71: 64 | D71: módosítás- | N71: =SUM(E71:L71) -> 0
A72: 65 | D72: módosított előirányzat 1. | K72: =SUM(K70:K71) -> 10080 | N72: =SUM(E72:L72) -> 10080
A73: 66 | B73: 8 | D73: Göllesz Viktor Fogyatékos Személyek Nappali Intézménye
A74: 67 | D74: eredeti előirányzat | E74: 13500 | L74: 53325 | M74: 22000 | N74: =SUM(E74:L74) -> 66825
A75: 68 | D75: módosítás- bérkompenzáció 2018. december - 2019. február | L75: 129 | M75: 129 | N75: =SUM(E75:L75) -> 129
A76: 69 | D76: szociális ágazati összevont pótlék 2018. december - 2019. február | L76: 2239 | N76: =SUM(E76:L76) -> 2239
A77: 70 | D77: költségvetési maradvány | K77: 18187 | N77: =SUM(E77:L77) -> 18187
A78: 71 | D78: Szociális és Gyermekvédelmi Főigazgatóság - fejlesztő foglalkoztatás finanszírozása | L78: 5941 | M78: 5941 | N78: =SUM(E78:L78) -> 5941
A79: 72 | D79: módosított előirányzat 1. | E79: =SUM(E74:E78) -> 13500 | K79: =SUM(K74:K78) -> 18187 | L79: =SUM(L74:L78) -> 61634 | M79: =SUM(M74:M78) -> 28070 | N79: =SUM(E79:L79) -> 93321
A80: 73 | C80: 1 | D80: Közcélú és közhasznú foglalkoztatás
A81: 74 | D81: eredeti előirányzat | N81: =SUM(E81:L81) -> 0
A82: 75 | D82: módosítás- | N82: =SUM(E82:L82) -> 0
A83: 76 | D83: módosított előirányzat 1. | N83: =SUM(E83:L83) -> 0
A84: 77 | B84: 9 | D84: Veszprémi Családsegítő és Gyermekjóléti Integrált Intézmény
A85: 78 | D85: eredeti előirányzat | E85: 1800 | L85: 234900 | M85: 138057 | N85: =SUM(E85:L85) -> 236700
A86: 79 | D86: módosítás- bérkompenzáció 2018. december - 2019. február | L86: 784 | M86: 784 | N86: =SUM(E86:L86) -> 784
A87: 80 | D87: szociális ágazati összevont pótlék 2018. december - 2019. február | L87: 11983 | M87: 11983 | N87: =SUM(E87:L87) -> 11983
A88: 81 | D88: költségvetési maradvány | K88: 12863 | N88: =SUM(E88:L88) -> 12863
A89: 82 | D89: módosított előirányzat 1. | E89: =SUM(E85:E88) -> 1800 | K89: =SUM(K85:K88) -> 12863 | L89: =SUM(L85:L88) -> 247667 | M89: =SUM(M85:M88) -> 150824 | N89: =SUM(E89:L89) -> 262330
A90: 83 | C90: 1 | D90: Közcélú és közhasznú foglalkoztatás
A91: 84 | D91: eredeti előirányzat | F91: 179 | K91: 90 | N91: =SUM(E91:L91) -> 269
A92: 85 | D92: módosítás- | N92: =SUM(E92:L92) -> 0
A93: 86 | D93: módosított előirányzat 1. | F93: =SUM(F91:F92) -> 179 | K93: =SUM(K91:K92) -> 90 | N93: =SUM(N91:N92) -> 269
A94: 87 | D94: Egészségügyi és szoc. int. összesen:
A95: 88 | D95: eredeti előirányzat | E95: =SUM(E81,E74,E61,E70,E85,E91) -> 34644 | F95: =SUM(F81,F74,F61,F70,F85,F91) -> 1624 | G95: =SUM(G81,G74,G61,G70,G85,G91) -> 0 | H95: =SUM(H81,H74,H61,H70,H85,H91) -> 0 | I95: =SUM(I81,I74,I61,I70,I85,I91) -> 0 | J95: =SUM(J81,J74,J61,J70,J85,J91) -> 0 | K95: =SUM(K81,K74,K61,K70,K85,K91) -> 10170 | L95: =SUM(L81,L74,L61,L70,L85,L91) -> 1150422 | ... N95: =SUM(N81,N74,N61,N70,N85,N91) -> 1196860
A96: 89 | D96: módosítás- | E96: =E92+E88+E87+E86+E82+E77+E76+E75+E71+E64+E63+E62+E65+E66+E67+E78 -> 0 | F96: =F92+F88+F87+F86+F82+F77+F76+F75+F71+F64+F63+F62+F65+F66+F67+F78 -> 6007 | G96: =G92+G88+G87+G86+G82+G77+G76+G75+G71+G64+G63+G62+G65+G66+G67+G78 -> 0 | H96: =H92+H88+H87+H86+H82+H77+H76+H75+H71+H64+H63+H62+H65+H66+H67+H78 -> 0 | I96: =I92+I88+I87+I86+I82+I77+I76+I75+I71+I64+I63+I62+I65+I66+I67+I78 -> 0 | J96: =J92+J88+J87+J86+J82+J77+J76+J75+J71+J64+J63+J62+J65+J66+J67+J78 -> 0 | K96: =K92+K88+K87+K86+K82+K77+K76+K75+K71+K64+K63+K62+K65+K66+K67+K78 -> 82956 | L96: =L92+L88+L87+L86+L82+L77+L76+L75+L71+L64+L63+L62+L65+L66+L67+L78 -> 25477 | M96: =M92+M88+M87+M86+M82+M77+M76+M75+M71+M64+M63+M62+M65+M66+M67+M78 -> 23058 | N96: =SUM(E96:L96) -> 114440
A97: 90 | D97: módosított előirányzat 1. | E97: =SUM(E95:E96) -> 34644 | F97: =SUM(F95:F96) -> 7631 | G97: =SUM(G95:G96) -> 0 | H97: =SUM(H95:H96) -> 0 | I97: =SUM(I95:I96) -> 0 | J97: =SUM(J95:J96) -> 0 | K97: =SUM(K95:K96) -> 93126 | L97: =SUM(L95:L96) -> 1175899 | M97: =SUM(M95:M96) -> 707412 | N97: =SUM(E97:L97) -> 1311300
A98: 91 | B98: 10 | D98: Agóra Veszprém Kulturális Központ
A99: 92 | D99: eredeti előirányzat | E99: 39584 | L99: 174961 | N99: =SUM(E99:L99) -> 214545
A100: 93 | D100: módosítás- bérkompenzáció 2018. december - 2019. február | L100: 16 | M100: 16 | N100: =SUM(E100:L100) -> 16
...

Sheet 4.Inbe
B1: 4. melléklet a 13/2019. (IV.25.) önkormányzati rendelethez
B2: Veszprém Megyei Jogú Város Önkormányzata Intézményei
B3: 2019. évi saját bevételeinek módosítás - 2019. április
H4: adatok eFt-ban
B5: A | C5: B | D5: C | E5: D | F5: E | G5: F | H5: G
B6: Cím | C6: Alcím | D6: Megnevezés | E6: 2017. évi tény | F6: 2018. évi eredeti előirányzat | G6: 2018. évi tény | H6: 2019. évi előirányzat
A8: 1 | B8: 1 | D8: Veszprémi Vadvirág Körzeti Óvoda (Csillagvár Waldorf Tagóvoda, Vadvirág Óvoda) | E8: 5002 | F8: 4211 | G8: 4241 | H8: 4458
A9: 2 | B9: 2 | D9: Veszprémi Bóbita Körzeti Óvoda (Hársfa Tagóvoda, Bóbita Óvoda) | E9: 9352 | F9: 9172 | G9: 8290 | H9: 10813
A10: 3 | B10: 3 | D10: Veszprémi Ringató Körzeti Óvoda (Ringató Óvoda, Erdei Tagóvoda, Kuckó Tagóvoda) | E10: 16718 | F10: 18529 | G10: 16663 | H10: 17490
A11: 4 | B11: 4 | D11: Veszprémi Egry úti Körzeti Óvoda (Egry ltp. Óvoda, Nárcisz Tagóvoda) | E11: 11570 | F11: 9159 | G11: 12417 | H11: 13548
A12: 5 | B12: 5 | D12: Veszprémi Csillag úti Körzeti Óvoda (Csillag úti Óvoda, Cholnoky ltp. Óvoda) | E12: 14151 | F12: 13403 | G12: 14656 | H12: 15663
A13: 6 | B13: 6 | D13: Veszprémi Kastélykert Körzeti Óvoda (Kastélykert Óvoda, Ficánka Óvoda) | E13: 5106 | F13: 3735 | G13: 3862 | H13: 3794
A14: 7 | D14: Óvodák összesen: | E14: =SUM(E8:E13) -> 61899 | F14: =SUM(F8:F13) -> 58209 | G14: =SUM(G8:G13) -> 60129 | H14: =SUM(H8:H13) -> 65766
A15: 8 | B15: 7 | D15: Veszprémi Bölcsődei és Egészségügyi Alapellátási Integrált Intézmény | E15: 49823 | F15: 38296 | G15: 43118 | H15: 19344
A16: 9 | B16: 8 | D16: Göllesz Viktor Fogyatékos Személyek Nappali Intézménye | E16: 12363 | F16: 12400 | G16: 15040 | H16: 13500
A17: 10 | B17: 9 | D17: Veszprémi Családsegítő és Gyermekjóléti Integrált Intézmény | H17: 1800
A18: 11 | D18: Egészségügyi és szoc. int. összesen: | E18: =SUM(E15:E17) -> 62186 | F18: =SUM(F15:F17) -> 50696 | G18: =SUM(G15:G17) -> 58158 | H18: =SUM(H15:H17) -> 34644
A19: 12 | B19: 10 | D19: Agóra Veszprém Kulturális Központ | E19: 32111 | F19: 30692 | G19: 39591 | H19: 39584
A20: 13 | B20: 11 | D20: Művészetek Háza Veszprém Művelődési Ház és Kiállítóhely | E20: 6214 | F20: 4104 | G20: 4063 | H20: 7001
A21: 14 | B21: 12 | D21: Eötvös Károly Megyei Könyvtár | E21: 34173 | F21: 21200 | G21: 36291 | H21: 21200
A22: 15 | B22: 13 | D22: Laczkó Dezső Múzeum | E22: 74176 | F22: 75907 | G22: 129584 | H22: 125341
A23: 16 | B23: 14 | D23: Kabóca Bábszínház | E23: 32837 | F23: 28754 | G23: 29609 | H23: 33854
A24: 17 | B24: 15 | D24: Veszprémi Petőfi Színház | E24: 223252 | F24: 195500 | G24: 273726 | H24: 203000
A25: 18 | D25: Kulturális és közművelődési int. Összesen | E25: =SUM(E19:E24) -> 402763 | F25: =SUM(F19:F24) -> 356157 | G25: =SUM(G19:G24) -> 512864 | H25: =SUM(H19:H24) -> 429980
A26: 19 | B26: 16 | D26: Veszprémi Intézményi Szolgáltató Szervezet | E26: 355205 | F26: 374152 | G26: 362984 | H26: 379059
A27: 20 | C27: INTÉZMÉNYEK ÖSSZESEN: | E27: =SUM(E14,E18,E25,E26) -> 882053 | F27: =SUM(F14,F18,F25,F26) -> 839214 | G27: =SUM(G14,G18,G25,G26) -> 994135 | H27: =SUM(H14,H18,H25,H26) -> 909449
A28: 21 | B28: 17 | C28: VMJV Polgármesteri Hivatal által ellátott kötelező és önként vállalt feladatok | E28: 5003 | G28: 4845
A29: 22 | C29: MINDÖSSZESEN: | E29: =SUM(E27,E28) -> 887056 | F29: =SUM(F27,F28) -> 839214 | G29: =SUM(G27,G28) -> 998980 | H29: =SUM(H27,H28) -> 909449
E30: =+E29-'1.Onbe'!G30 -> 0 | F30: =+F29-'1.Onbe'!H30 -> 0 | G30: =+G29-'1.Onbe'!I30 -> 0 | H30: =+H29-'1.Onbe'!L30 -> 0

Sheet 5.Inki
B1: 5. melléklet a 13/2019. (IV.25.) önkormányzati rendelethez
B2: Veszprém Megyei Jogú Város Önkormányzata Intézményeinek
B3: 2019. évi költségvetési kiadásainak módosítása - 2019. április
P4: adatok eFt-ban
B5: A | C5: B | D5: C | E5: D | F5: E | G5: F | H5: G | I5: H | J5: I | K5: J | L5: K | M5: L | N5: M | O5: N | P5: O | Q5: P
B6: Cím | C6: Alcím | D6: Megnevezés | E6: Feladatellátás jellege* | F6: 2017. évi tény | G6: 2018. évi eredeti előirányzat | H6: 2018. évi várható | I6: 2019. évi előirányzat | J6: Működési költségvetési kiadások | O6: Felhalmozási költségvetési kiadások
J7: Személyi juttatások | K7: Munk.a. terh. jár. és szoc.hj.adó | L7: Dologi kiadások | M7: Ellátottak pénzbeli juttatásai | N7: Egyéb működési kiadások | O7: Beruházási kiadások | P7: Felújítási kiadások | Q7: Egyéb felhalmozási célú kiadások
A8: 1 | B8: 1 | D8: Veszprémi Vadvirág Körzeti Óvoda | E8: K | F8: 192029 | G8: 201561 | H8: 206614
A9: 2 | D9: (Csillagvár Waldorf Tagóvoda, Vadvirág Óvoda)
A10: 3 | D10: eredeti előirányzat | I10: =SUM(J10:Q10) -> 209393 | J10: 128101 | K10: 27759 | L10: 50833 | O10: 2700
A11: 4 | D11: módosítás- bérkompenzáció 2018. december - 2019. február | I11: =SUM(J11:Q11) -> 19 | J11: 16 | K11: 3
A12: 5 | D12: költségvetési maradványból | I12: =SUM(J12:Q12) -> 4819 | J12: 1522 | K12: 297 | L12: 1840 | O12: 1160
A13: 6 | D13: 12.vk. Vadvirág Óvoda támogatása - játszóeszköz beszerzésre, rendezvényekre | I13: =SUM(J13:Q13) -> 100 | L13: 100
A14: 7 | D14: módosított előirányzat 1. | I14: =SUM(J14:Q14) -> 214331 | J14: =SUM(J10:J13) -> 129639 | K14: =SUM(K10:K13) -> 28059 | L14: =SUM(L10:L13) -> 52773 | M14: =SUM(M10:M13) -> 0 | N14: =SUM(N10:N13) -> 0 | O14: =SUM(O10:O13) -> 3860 | P14: =SUM(P10:P13) -> 0 | Q14: =SUM(Q10:Q13) -> 0
A15: 8 | B15: 2 | D15: Veszprémi Bóbita Körzeti Óvoda | E15: K | F15: 352042 | G15: 354412 | H15: 351654
A16: 9 | D16: (Hársfa Tagóvoda, Bóbita Óvoda)
A17: 10 | D17: eredeti előirányzat | I17: =SUM(J17:Q17) -> 356328 | J17: 230034 | K17: 49964 | L17: 73030 | O17: 3300
A18: 11 | D18: módosítás- bérkompenzáció 2018. december - 2019. február | I18: =SUM(J18:Q18) -> 52 | J18: 44 | K18: 8
A19: 12 | D19: költségvetési maradványból | I19: =SUM(J19:Q19) -> 22828 | J19: 7135 | K19: 1786 | L19: 2827 | O19: 11080
A20: 13 | D20: 4.vk. támogatása - rendezvényekre, eszközbeszerzésekre | I20: =SUM(J20:Q20) -> 100 | L20: 100
A21: 14 | D21: 4.vk. támogatása - udvari játékokra | I21: =SUM(J21:Q21) -> 300 | O21: 300
A22: 15 | D22: módosított előirányzat 1. | I22: =SUM(J22:Q22) -> 379608 | J22: =SUM(J17:J21) -> 237213 | K22: =SUM(K17:K21) -> 51758 | L22: =SUM(L17:L21) -> 75957 | M22: =SUM(M17:M21) -> 0 | N22: =SUM(N17:N21) -> 0 | O22: =SUM(O17:O21) -> 14680 | P22: =SUM(P17:P21) -> 0 | Q22: =SUM(Q17:Q21) -> 0
A23: 16 | B23: 3 | D23: Veszprémi Ringató Körzeti Óvoda | E23: K | F23: 390437 | G23: 406698 | H23: 431588
A24: 17 | D24: (Ringató Óvoda, Erdei Tagóvoda, Kuckó Tagóvoda)
A25: 18 | D25: eredeti előirányzat | I25: =SUM(J25:Q25) -> 425240 | J25: 282771 | K25: 61168 | L25: 78301 | O25: 3000
A26: 19 | D26: módosítás- bérkompenzáció 2018. december - 2019. február | I26: =SUM(J26:Q26) -> 12 | J26: 10 | K26: 2
A27: 20 | D27: költségvetési maradványból | I27: =SUM(J27:Q27) -> 10575 | J27: 3386 | K27: 888 | L27: 5758 | O27: 543
A28: 21 | D28: 2.vk. támogatása - eszközbeszerzésre | I28: =SUM(J28:Q28) -> 300 | L28: =100+200 -> 300
A29: 22 | D29: 3.vk. támogatása - eszközbeszerzésre, működésre | I29: =SUM(J29:Q29) -> 200 | L29: 200
A30: 23 | D30: módosított előirányzat 1. | I30: =SUM(J30:Q30) -> 436327 | J30: =SUM(J25:J29) -> 286167 | K30: =SUM(K25:K29) -> 62058 | L30: =SUM(L25:L29) -> 84559 | M30: =SUM(M25:M29) -> 0 | N30: =SUM(N25:N29) -> 0 | O30: =SUM(O25:O29) -> 3543 | P30: =SUM(P25:P29) -> 0 | Q30: =SUM(Q25:Q29) -> 0
A31: 24 | B31: 4 | D31: Veszprémi Egry úti Körzeti Óvoda | E31: K | F31: 288668 | G31: 297708 | H31: 302390
A32: 25 | D32: (Egry ltp. Óvoda, Nárcisz Tagóvoda)
A33: 26 | D33: eredeti előirányzat | I33: =SUM(J33:Q33) -> 310528 | J33: 202358 | K33: 43912 | L33: 62358 | O33: 1900
A34: 27 | D34: módosítás- bérkompenzáció 2018. december - 2019. február | I34: =SUM(J34:Q34) -> 47 | J34: 39 | K34: 8
A35: 28 | D35: költségvetési maradványból | I35: =SUM(J35:Q35) -> 26421 | J35: 8581 | K35: 2541 | L35: 9828 | O35: 5471
A36: 29 | D36: Felnőtt étkeztés, Ovi Olimpia | I36: =SUM(J36:Q36) -> -415 | L36: =-445+30 -> -415
A37: 30 | D37: 9.vk. Egry utcai Körzeti Óvoda támogatása - játékok beszerzésére | I37: =SUM(J37:Q37) -> 200 | L37: 200
A38: 31 | D38: 9.vk. Nárcisz Tagóvoda támogatása - karácsonyi rendezvény költségeire | I38: =SUM(J38:Q38) -> 100 | L38: 100
A39: 32 | D39: módosított előirányzat 1. | I39: =SUM(J39:Q39) -> 336881 | J39: =SUM(J33:J38) -> 210978 | K39: =SUM(K33:K38) -> 46461 | L39: =SUM(L33:L38) -> 72071 | M39: =SUM(M33:M38) -> 0 | N39: =SUM(N33:N38) -> 0 | O39: =SUM(O33:O38) -> 7371 | P39: =SUM(P33:P38) -> 0 | Q39: =SUM(Q33:Q38) -> 0
A40: 33 | B40: 5 | D40: Veszprémi Csillag úti Körzeti Óvoda | E40: K | F40: 318973 | G40: 327569 | H40: 336173
A41: 34 | D41: (Csillag úti Óvoda, Cholnoky ltp. Óvoda)
A42: 35 | D42: eredeti előirányzat | I42: =SUM(J42:Q42) -> 339061 | J42: 205859 | K42: 44702 | L42: 83200 | O42: 5300
A43: 36 | D43: módosítás- bérkompenzáció 2018. december - 2019. február | I43: =SUM(J43:Q43) -> 13 | J43: 11 | K43: 2
A44: 37 | D44: költségvetési maradványból | I44: =SUM(J44:Q44) -> 14874 | J44: 4895 | K44: 979 | L44: 4000 | O44: 5000
A45: 38 | D45: 6.vk. Támogatása - eszközbeszerzésre, rendezvényekre | I45: =SUM(J45:Q45) -> 150 | L45: 150
A46: 39 | D46: módosított előirányzat 1. | I46: =SUM(J46:Q46) -> 354098 | J46: =SUM(J42:J45) -> 210765 | K46: =SUM(K42:K45) -> 45683 | L46: =SUM(L42:L45) -> 87350 | M46: =SUM(M42:M45) -> 0 | N46: =SUM(N42:N45) -> 0 | O46: =SUM(O42:O45) -> 10300 | P46: =SUM(P42:P45) -> 0 | Q46: =SUM(Q42:Q45) -> 0
A47: 40 | B47: 6 | D47: Veszprémi Kastélykert Körzeti Óvoda | E47: K | F47: 148764 | G47: 157637 | H47: 156041
A48: 41 | D48: (Kastélykert Óvoda, Ficánka Óvoda)
A49: 42 | D49: eredeti előirányzat | I49: =SUM(J49:Q49) -> 165684 | J49: 105948 | K49: 23188 | L49: 35448 | O49: 1100
A50: 43 | D50: módosítás- költségvetési maradványból | I50: =SUM(J50:Q50) -> 11967 | J50: 4426 | K50: 1338 | L50: 127 | O50: 6076
A51: 44 | D51: módosított előirányzat 1. | I51: =SUM(J51:Q51) -> 177651 | J51: =SUM(J49:J50) -> 110374 | K51: =SUM(K49:K50) -> 24526 | L51: =SUM(L49:L50) -> 35575 | M51: =SUM(M49:M50) -> 0 | N51: =SUM(N49:N50) -> 0 | O51: =SUM(O49:O50) -> 7176 | P51: =SUM(P49:P50) -> 0 | Q51: =SUM(Q49:Q50) -> 0
A52: 45 | C52: 1 | D52: Közcélú és közhasznú foglalkoztatás | F52: 1562 | G52: 2240 | H52: 1006
A53: 46 | D53: eredeti előirányzat | I53: =SUM(J53:Q53) -> 2245 | J53: 1957 | K53: 191 | L53: 97
A54: 47 | D54: módosítás- költségvetési maradványból | I54: =SUM(J54:Q54) -> 90 | N54: 90
A55: 48 | D55: módosított előirányzat 1. | I55: =SUM(J55:Q55) -> 2335 | J55: =SUM(J53:J54) -> 1957 | K55: =SUM(K53:K54) -> 191 | L55: =SUM(L53:L54) -> 97 | M55: =SUM(M53:M54) -> 0 | N55: =SUM(N53:N54) -> 90 | O55: =SUM(O53:O54) -> 0 | P55: =SUM(P53:P54) -> 0 | Q55: =SUM(Q53:Q54) -> 0
A56: 49 | D56: Óvodák összesen:
A57: 50 | D57: eredeti előirányzat | F57: =SUM(F8:F53) -> 1692475 | G57: =SUM(G8:G53) -> 1747825 | H57: =SUM(H8:H53) -> 1785466 | I57: =SUM(J57:Q57) -> 1808479 | J57: =SUM(J10,J17,J25,J33,J42,J49,J53) -> 1157028 | K57: =SUM(K10,K17,K25,K33,K42,K49,K53) -> 250884 | L57: =SUM(L10,L17,L25,L33,L42,L49,L53) -> 383267 | M57: =SUM(M10,M17,M25,M33,M42,M49,M53) -> 0 | N57: =SUM(N10,N17,N25,N33,N42,N49,N53) -> 0 | O57: =SUM(O10,O17,O25,O33,O42,O49,O53) -> 17300 | P57: =SUM(P10,P17,P25,P33,P42,P49,P53) -> 0 | Q57: =SUM(Q10,Q17,Q25,Q33,Q42,Q49,Q53) -> 0 | R57: =+'3.Inbe'!N57-'5.Inki'!I57 -> 0
A58: 51 | D58: módosítás- | I58: =SUM(J58:Q58) -> 92752 | J58: =J54+J50+J44+J43+J35+J34+J27+J26+J19+J18+J12+J11+J36+J28+J29+J20+J37+J38+J13+J45+J21 -> 30065 | K58: =K54+K50+K44+K43+K35+K34+K27+K26+K19+K18+K12+K11+K36+K28+K29+K20+K37+K38+K13+K45+K21 -> 7852 | L58: =L54+L50+L44+L43+L35+L34+L27+L26+L19+L18+L12+L11+L36+L28+L29+L20+L37+L38+L13+L45+L21 -> 25115 | M58: =M54+M50+M44+M43+M35+M34+M27+M26+M19+M18+M12+M11+M36+M28+M29+M20+M37+M38+M13+M45+M21 -> 0 | N58: =N54+N50+N44+N43+N35+N34+N27+N26+N19+N18+N12+N11+N36+N28+N29+N20+N37+N38+N13+N45+N21 -> 90 | O58: =O54+O50+O44+O43+O35+O34+O27+O26+O19+O18+O12+O11+O36+O28+O29+O20+O37+O38+O13+O45+O21 -> 29630 | P58: =P54+P50+P44+P43+P35+P34+P27+P26+P19+P18+P12+P11+P36+P28+P29+P20+P37+P38+P13+P45+P21 -> 0 | Q58: =Q54+Q50+Q44+Q43+Q35+Q34+Q27+Q26+Q19+Q18+Q12+Q11+Q36+Q28+Q29+Q20+Q37+Q38+Q13+Q45+Q21 -> 0
A59: 52 | D59: módosított előirányzat 1. | I59: =SUM(J59:Q59) -> 1901231 | J59: =SUM(J57:J58) -> 1187093 | K59: =SUM(K57:K58) -> 258736 | L59: =SUM(L57:L58) -> 408382 | M59: =SUM(M57:M58) -> 0 | N59: =SUM(N57:N58) -> 90 | O59: =SUM(O57:O58) -> 46930 | P59: =SUM(P57:P58) -> 0 | Q59: =SUM(Q57:Q58) -> 0
A60: 53 | B60: 7 | D60: Veszprémi Bölcsődei és Egészségügyi Alapellátási Integrált Intézmény | E60: K | F60: 841546 | G60: 863672 | H60: 902499
A61: 54 | D61: eredeti előirányzat | I61: =SUM(J61:Q61) -> 882986 | J61: 603305 | K61: 133043 | L61: 140158 | O61: 6480
A62: 55 | D62: módosítás- bérkompenzáció 2018. december - 2019. február | I62: =SUM(J62:Q62) -> 1391 | J62: 1164 | K62: 227
A63: 56 | D63: szociális ágazati összevont pótlék 2018. december - 2019. február | I63: =SUM(J63:Q63) -> 2830 | J63: 2228 | K63: 602
A64: 57 | D64: költségvetési maradványból | I64: =SUM(J64:Q64) -> 51906 | J64: 23042 | K64: 5690 | L64: 11674 | O64: 11500
A65: 58 | D65: szakképzési hozzájárulás | I65: =SUM(J65:Q65) -> 6007 | J65: 4200 | K65: 800 | L65: 1007
A66: 59 | D66: 9.vk. Hóvirág Bölcsőde támogatása - (Mikulás napi rendezvényre) | I66: =SUM(J66:Q66) -> 80 | L66: 80
A67: 60 | D67: 12.vk. Napsugár Bölcsőde támogatása - rendezvények támogatása, eszközbeszerzésre | I67: =SUM(J67:Q67) -> 100 | L67: 100
A68: 61 | D68: módosított előirányzat 1. | I68: =SUM(J68:Q68) -> 945300 | J68: =SUM(J61:J65) -> 633939 | K68: =SUM(K61:K65) -> 140362 | L68: =SUM(L61:L67) -> 153019 | O68: =SUM(O61:O65) -> 17980
A69: 62 | C69: 2 | D69: EFOP-1.9.9-17-2017-00004 Még jobb kezekben - Veszprémben | H69: 4233
A70: 63 | D70: eredeti előirányzat | I70: =SUM(J70:Q70) -> 10080 | J70: 8195 | K70: 1885
A71: 64 | D71: módosítás- | I71: =SUM(J71:Q71) -> 0
A72: 65 | D72: módosított előirányzat 1. | I72: =SUM(J72:Q72) -> 10080 | J72: =SUM(J70:J71) -> 8195 | K72: =SUM(K70:K71) -> 1885
A73: 66 | B73: 8 | D73: Göllesz Viktor Fogyatékos Személyek Nappali Intézménye | E73: K | F73: 75909 | G73: 64902 | H73: 82024
A74: 67 | D74: eredeti előirányzat | I74: =SUM(J74:Q74) -> 66825 | J74: 37684 | K74: 7484 | L74: 21657
A75: 68 | D75: módosítás- bérkompenzáció 2018. december - 2019. február | I75: =SUM(J75:Q75) -> 129 | J75: 108 | K75: 21
A76: 69 | D76: szociális ágazati összevont pótlék 2018. december - 2019. február | I76: =SUM(J76:Q76) -> 2239 | J76: 1763 | K76: 476
A77: 70 | D77: költségvetési maradványból | I77: =SUM(J77:Q77) -> 18187 | J77: 5022 | K77: 1082 | L77: 9459 | O77: 2624
A78: 71 | D78: Szociális és Gyermekvédelmi Főigazgatóság - fejlesztő foglalkoztatás finanszírozása | I78: =SUM(J78:Q78) -> 5941 | J78: 5941
A79: 72 | D79: módosított előirányzat 1. | I79: =SUM(J79:Q79) -> 93321 | J79: =SUM(J74:J78) -> 50518 | K79: =SUM(K74:K77) -> 9063 | L79: =SUM(L74:L77) -> 31116 | O79: =SUM(O77) -> 2624
A80: 73 | C80: 1 | D80: Közcélú és közhasznú foglalkoztatás | F80: 1056 | G80: 1076 | H80: 89
A81: 74 | D81: eredeti előirányzat | I81: =SUM(J81:Q81) -> 0
A82: 75 | D82: módosítás- | I82: =SUM(J82:Q82) -> 0
A83: 76 | D83: módosított előirányzat 1. | I83: =SUM(J83:Q83) -> 0
A84: 77 | B84: 9 | D84: Veszprémi Családsegítő és Gyermekjóléti Integrált Intézmény | E84: K
A85: 78 | D85: eredeti előirányzat | I85: =SUM(J85:Q85) -> 236700 | J85: 165535 | K85: 36707 | L85: 30073 | O85: 4385
A86: 79 | D86: módosítás- bérkompenzáció 2018. december - 2019. február | I86: =SUM(J86:Q86) -> 784 | J86: 656 | K86: 128
A87: 80 | D87: szociális ágazati összevont pótlék 2018. december - 2019. február | I87: =SUM(J87:Q87) -> 11983 | J87: 9435 | K87: 2548
A88: 81 | D88: költségvetési maradványból | I88: =SUM(J88:Q88) -> 12863 | J88: 4918 | K88: 992 | L88: 6953
A89: 82 | D89: módosított előirányzat 1. | I89: =SUM(I85:I88) -> 262330 | J89: =SUM(J85:J88) -> 180544 | K89: =SUM(K85:K88) -> 40375 | L89: =SUM(L85:L88) -> 37026 | M89: =SUM(M85:M88) -> 0 | N89: =SUM(N85:N88) -> 0 | O89: =SUM(O85:O88) -> 4385
A90: 83 | C90: 1 | D90: Közcélú és közhasznú foglalkoztatás
A91: 84 | D91: eredeti előirányzat | I91: =SUM(J91:Q91) -> 269 | J91: 245 | K91: 24
A92: 85 | D92: módosítás- | I92: =SUM(J92:Q92) -> 0
A93: 86 | D93: módosított előirányzat 1. | I93: =SUM(I91:I92) -> 269 | J93: =SUM(J91:J92) -> 245 | K93: =SUM(K91:K92) -> 24
A94: 87 | D94: Egészségügyi és szoc. int. összesen: | F94: =SUM(F60:F91) -> 918511 | G94: =SUM(G60:G91) -> 929650 | H94: =SUM(H60:H91) -> 988845 | I94: =SUM(J94:Q94) -> 1196860 | J94: =SUM(J61,J70,J74,J81,J85,J91) -> 814964 | K94: =SUM(K61,K70,K74,K81,K85,K91) -> 179143 | L94: =SUM(L61,L70,L74,L81,L85,L91) -> 191888 | M94: =SUM(M61,M70,M74,M81,M85,M91) -> 0 | N94: =SUM(N61,N70,N74,N81,N85,N91) -> 0 | O94: =SUM(O61,O70,O74,O81,O85,O91) -> 10865 | P94: =SUM(P61,P70,P74,P81,P85,P91) -> 0 | Q94: =SUM(Q61,Q70,Q74,Q81,Q85,Q91) -> 0 | R94: =+'3.Inbe'!N95-'5.Inki'!I94 -> 0
A95: 88 | D95: módosítás- | I95: =SUM(J95:Q95) -> 114440 | J95: =J92+J88+J87+J86+J82+J76+J75+J71+J64+J63+J62+J65+J77+J66+J67+J78 -> 58477 | K95: =K92+K88+K87+K86+K82+K76+K75+K71+K64+K63+K62+K65+K77+K66+K67+K78 -> 12566 | L95: =L92+L88+L87+L86+L82+L76+L75+L71+L64+L63+L62+L65+L77+L66+L67+L78 -> 29273 | M95: =M92+M88+M87+M86+M82+M76+M75+M71+M64+M63+M62+M65+M77+M66+M67+M78 -> 0 | N95: =N92+N88+N87+N86+N82+N76+N75+N71+N64+N63+N62+N65+N77+N66+N67+N78 -> 0 | O95: =O92+O88+O87+O86+O82+O76+O75+O71+O64+O63+O62+O65+O77+O66+O67+O78 -> 14124 | P95: =P92+P88+P87+P86+P82+P76+P75+P71+P64+P63+P62+P65+P77+P66+P67+P78 -> 0 | Q95: =Q92+Q88+Q87+Q86+Q82+Q76+Q75+Q71+Q64+Q63+Q62+Q65+Q77+Q66+Q67+Q78 -> 0
A96: 89 | D96: módosított előirányzat 1. | I96: =SUM(I92:I95) -> 1311569 | J96: =SUM(J94:J95) -> 873441 | K96: =SUM(K94:K95) -> 191709 | L96: =SUM(L94:L95) -> 221161 | M96: =SUM(M94:M95) -> 0 | N96: =SUM(N94:N95) -> 0 | O96: =SUM(O94:O95) -> 24989 | P96: =SUM(P94:P95) -> 0 | Q96: =SUM(Q94:Q95) -> 0
A97: 90 | B97: 10 | D97: Agóra Veszprém Kulturális Központ | E97: K | F97: 217117 | G97: 208999 | H97: 246321
A98: 91 | D98: eredeti előirányzat | I98: =SUM(J98:Q98) -> 214545 | J98: 78067 | K98: 15849 | L98: 115629 | O98: 5000
A99: 92 | D99: módosítás- bérkompenzáció 2018. december - 2019. február | I99: =SUM(J99:Q99) -> 16 | J99: 13 | K99: 3
A100: 93 | D100: kulturális pótlék 2018. december - 2019. február | I100: =SUM(J100:Q100) -> 1609 | J100: 1267 | K100: 342
...

Sheet 6.Önk.műk.
B1: 6. melléklet a 13/2019. (IV.25.) önkormányzati rendelethez
B2: Veszprém Megyei Jogú Város Önkormányzata
B3: Önkormányzati feladatok és egyéb kötelezettségek 2019. évi működési költségvetési kiadásainak módosítása - 2019. április
M4: adatok eFt-ban
B5: A | C5: B | D5: C | E5: D | F5: E | G5: F | H5: G | I5: H | J5: I | K5: J | L5: K | M5: L | N5: M
B6: Cím | C6: Alcím | D6: Megnevezés | E6: 2017. évi tény | F6: 2018. évi eredeti előirányzat | G6: 2018. évi tény | H6: Feladatellátás jellege* | I6: 2019. évi előirányzat | J6: Működési költségvetési kiadások
J7: Személyi juttatások | K7: Munk.a. terh. jár. és szoc.hj.adó | L7: Dologi kiadások | M7: Ellátottak pénzbeli juttatásai | N7: Egyéb működési kiadások
A8: 1 | B8: 18 | C8: 1 | D8: Nemzeti ünnepek kiadásaira | E8: 6005 | F8: 7000 | G8: 6918 | H8: K
A9: 2 | D9: eredeti előirányzat | I9: =SUM(J9:N9) -> 7000 | L9: 7000
A10: 3 | D10: módosítás- költségvetési maradvány | I10: =SUM(J10:Q10) -> 645 | L10: 645
A11: 4 | D11: módosított előirányzat 1. | I11: =SUM(J11:N11) -> 7645 | L11: =SUM(L9:L10) -> 7645
A12: 5 | C12: 2 | D12: Közművelődési szolgált. | E12: 3150 | F12: 5000 | G12: 4298 | H12: NK
A13: 6 | D13: eredeti előirányzat | I13: =SUM(J13:N13) -> 5000 | L13: 5000
A14: 7 | D14: módosítás- költségvetési maradvány | I14: =SUM(J14:Q14) -> 1592 | L14: 1592
A15: 8 | D15: átcsoportosítás Művészetek Házának Ünnepi könyvhétre | I15: =SUM(J15:Q15) -> -800 | L15: -800
A16: 9 | D16: módosított előirányzat 1. | I16: =SUM(J16:N16) -> 5792 | L16: =SUM(L13:L15) -> 5792
A17: 10 | C17: 3 | D17: Nemzetközi kapcsolatok | E17: 8774 | F17: 10000 | G17: 15651 | H17: NK
A18: 11 | D18: eredeti előirányzat | I18: =SUM(J18:N18) -> 10000 | J18: 1000 | K18: 500 | L18: 8500
A19: 12 | D19: módosítás- költségvetési maradvány | I19: =SUM(J19:Q19) -> 575 | L19: 575
A20: 13 | D20: módosított előirányzat 1. | I20: =SUM(J20:N20) -> 10575 | J20: =SUM(J18:J19) -> 1000 | K20: =SUM(K18:K19) -> 500 | L20: =SUM(L18:L19) -> 9075
A21: 14 | C21: 4 | D21: Marketing tevékenység, marketing stratégia | E21: 13898 | F21: 11000 | G21: 12950 | H21: NK
A22: 15 | D22: eredeti előirányzat | I22: =SUM(J22:N22) -> 11000 | L22: 11000
A23: 16 | D23: módosítás- átcsoportosítás, költségvetési maradvány | I23: =SUM(J23:Q23) -> 3014 | L23: =1500+1514 -> 3014
A24: 17 | D24: módosított előirányzat 1. | I24: =SUM(J24:N24) -> 14014 | L24: =SUM(L22:L23) -> 14014
A25: 18 | C25: 5 | D25: Kitüntetések | E25: 7830 | F25: 9653 | G25: 8243 | H25: NK
A26: 19 | D26: eredeti előirányzat | I26: =SUM(J26:N26) -> 10167 | J26: 5595 | K26: 1132 | L26: 3090 | N26: 350
A27: 20 | D27: módosítás- költségvetési maradvány | I27: =SUM(J27:Q27) -> 1250 | L27: 1250
A28: 21 | D28: 1.vk. Hadnagy László Díj és Dévai Bíró Mátyás Díja | I28: =SUM(J28:Q28) -> 50 | L28: 50
A29: 22 | D29: módosított előirányzat 1. | I29: =SUM(J29:N29) -> 11467 | J29: =SUM(J26:J28) -> 5595 | K29: =SUM(K26:K28) -> 1132 | L29: =SUM(L26:L28) -> 4390 | N29: =SUM(N26:N28) -> 350
A30: 23 | C30: 6 | D30: Mihály-napi búcsú | E30: 1000 | F30: 1000 | G30: 1000 | H30: NK
A31: 24 | D31: eredeti előirányzat | I31: =SUM(J31:N31) -> 1000 | L31: 1000
A32: 25 | D32: módosítás- | I32: =SUM(J32:Q32) -> 0
A33: 26 | D33: módosított előirányzat 1. | I33: =SUM(J33:N33) -> 1000 | L33: =SUM(L31:L32) -> 1000
A34: 27 | C34: 7 | D34: Városi kiemelt fesztiválok | E34: =SUM(E38,E42,E46,E50,E54,E58) -> 62200 | F34: =SUM(F38,F42,F46,F50,F54,F58) -> 72000 | G34: =SUM(G38,G42,G46,G50,G54,G58) -> 72000 | H34: NK
A35: 28 | D35: eredeti előirányzat | I35: =SUM(J35:N35) -> 74000 | J35: =SUM(J39,J43,J47,J51,J55,J59) -> 0 | K35: =SUM(K39,K43,K47,K51,K55,K59) -> 0 | L35: =SUM(L39,L43,L47,L51,L55,L59) -> 15000 | M35: =SUM(M39,M43,M47,M51,M55,M59) -> 0 | N35: =SUM(N39,N43,N47,N51,N55,N59) -> 59000
A36: 29 | D36: módosítás- | I36: =SUM(J36:Q36) -> 0 | J36: =J40+J44+J48+J52+J56+J60 -> 0 | K36: =K40+K44+K48+K52+K56+K60 -> 0 | L36: =L40+L44+L48+L52+L56+L60 -> 0 | M36: =M40+M44+M48+M52+M56+M60 -> 0 | N36: =N40+N44+N48+N52+N56+N60 -> 0
A37: 30 | D37: módosított előirányzat 1. | I37: =SUM(J37:N37) -> 74000 | J37: =SUM(J35:J36) -> 0 | K37: =SUM(K35:K36) -> 0 | L37: =SUM(L35:L36) -> 15000 | M37: =SUM(M35:M36) -> 0 | N37: =SUM(N35:N36) -> 59000
A38: 31 | D38: ebből: - Veszprémi Ünnepi Játékok | E38: 30000 | F38: 30000 | G38: 30000
A39: 32 | D39: eredeti előirányzat | I39: =SUM(J39:N39) -> 30000 | N39: 30000
A40: 33 | D40: módosítás- | I40: =SUM(J40:Q40) -> 0
A41: 34 | D41: módosított előirányzat 1. | I41: =SUM(J41:N41) -> 30000 | N41: =SUM(N39:N40) -> 30000
A42: 35 | D42: - Gizella Napok | E42: 10200 | F42: 15000 | G42: 15000
A43: 36 | D43: eredeti előirányzat | I43: =SUM(J43:N43) -> 15000 | L43: 15000
A44: 37 | D44: módosítás- | I44: =SUM(J44:Q44) -> 0
A45: 38 | D45: módosított előirányzat 1. | I45: =SUM(J45:N45) -> 15000 | L45: =SUM(L43:L44) -> 15000
A46: 39 | D46: - Tánc Fesztivál | E46: 2000 | F46: 5000 | G46: 5000
A47: 40 | D47: eredeti előirányzat | I47: =SUM(J47:N47) -> 2000 | N47: 2000
A48: 41 | D48: módosítás- | I48: =SUM(J48:Q48) -> 0
A49: 42 | D49: módosított előirányzat 1. | I49: =SUM(J49:N49) -> 2000 | N49: =SUM(N47:N48) -> 2000
A50: 43 | D50: - Veszprémi Utcazene Fesztivál | E50: 15000 | F50: 15000 | G50: 15000
A51: 44 | D51: eredeti előirányzat | I51: =SUM(J51:N51) -> 15000 | N51: 15000
A52: 45 | D52: módosítás- | I52: =SUM(J52:Q52) -> 0
A53: 46 | D53: módosított előirányzat 1. | I53: =SUM(J53:N53) -> 15000 | N53: =SUM(N51:N52) -> 15000
A54: 47 | D54: - Magyar Kórusok találkozója | E54: 0 | F54: 2000 | G54: 2000
A55: 48 | D55: eredeti előirányzat | I55: =SUM(J55:N55) -> 2000 | N55: 2000
A56: 49 | D56: módosítás- | I56: =SUM(J56:Q56) -> 0
A57: 50 | D57: módosított előirányzat 1. | I57: =SUM(J57:N57) -> 2000 | N57: =SUM(N55:N56) -> 2000
A58: 51 | D58: - Auer Hegedűfesztivál | E58: 5000 | F58: 5000 | G58: 5000
A59: 52 | D59: eredeti előirányzat | I59: =SUM(J59:N59) -> 10000 | N59: 10000
A60: 53 | D60: módosítás- | I60: =SUM(J60:Q60) -> 0
A61: 54 | D61: módosított előirányzat 1. | I61: =SUM(J61:N61) -> 10000 | N61: =SUM(N59:N60) -> 10000
A62: 55 | C62: 9 | D62: Városi rendezvények | E62: 4123 | F62: 7000 | G62: 7817 | H62: NK
A63: 56 | D63: eredeti előirányzat | I63: =SUM(J63:N63) -> 10000 | L63: 10000
A64: 57 | D64: költségvetési maradvány | I64: =SUM(J64:Q64) -> 2746 | L64: 2746
A65: 58 | D65: módosítás- átcsoportosítás | I65: =SUM(J65:Q65) -> 5000 | L65: 5000
A66: 59 | D66: módosított előirányzat 1. | I66: =SUM(J66:N66) -> 17746 | L66: =SUM(L63:L65) -> 17746
A67: 60 | C67: 10 | D67: Eseti rendezvények | E67: 5091 | F67: 4500 | G67: 6008 | H67: NK
A68: 61 | D68: eredeti előirányzat | I68: =SUM(J68:N68) -> 4500 | L68: 4500
A69: 62 | D69: módosítás-költségvetési maradvány | I69: =SUM(J69:Q69) -> 10124 | L69: 10124
A70: 63 | D70: átcsoportosítás | I70: =SUM(J70:Q70) -> 10000 | L70: 10000
A71: 64 | D71: módosított előirányzat 1. | I71: =SUM(J71:N71) -> 24624 | L71: =SUM(L68:L70) -> 24624
A72: 65 | C72: 11 | D72: Köztéri szobrok, emléktáblák, lektorátus | E72: 879 | F72: 1000 | G72: 21 | H72: NK
A73: 66 | D73: eredeti előirányzat | I73: =SUM(J73:N73) -> 2000 | L73: 1700 | N73: 300
A74: 67 | D74: módosítás-költségvetési maradvány | I74: =SUM(J74:Q74) -> 200 | L74: 200
A75: 68 | D75: módosított előirányzat 1. | I75: =SUM(J75:N75) -> 2200 | L75: =SUM(L73:L74) -> 1900 | N75: =SUM(N73:N74) -> 300
A76: 69 | C76: 12 | D76: I. Világháborús Centenáriumi Emlékezés költségei | E76: 914 | F76: 3000 | G76: 2657 | H76: NK
A77: 70 | D77: eredeti előirányzat | I77: =SUM(J77:N77) -> 4000 | L77: 4000
A78: 71 | D78: módosítás-költségvetési maradvány | I78: =SUM(J78:Q78) -> 607 | L78: 607
A79: 72 | D79: Veszprémi Szemle Várostörténeti Közhasznú Alapítványnak - a vidék fiskális c. kötet kiadásaira | I79: =SUM(J79:Q79) -> -846 | L79: -846
A80: 73 | D80: Eötvös Károly Megyei Könyvtárnak - 10 állomás, 10 épület, 10 történet c. program megvalósítására | I80: =SUM(J80:Q80) -> -400 | L80: -400
A81: 74 | D81: Laczkó Dezső Múzeumnak - Vörösök, fehérek és románok Veszprémben 1919-ben | I81: =SUM(J81:Q81) -> -300 | L81: -300
A82: 75 | D82: módosított előirányzat 1. | I82: =SUM(J82:N82) -> 3061 | L82: =SUM(L77:L81) -> 3061
A83: 76 | C83: 13 | D83: Kiadványok, folyóiratok támogatása | E83: =SUM(E87,E91,E96,E100,) -> 4755 | F83: =SUM(F87,F91,F96,F100,) -> 6500 | G83: 5498 | H83: NK
A84: 77 | D84: eredeti előirányzat | I84: =SUM(J84:N84) -> 13000 | J84: =SUM(J88,J92,J97,J101,) -> 0 | K84: =SUM(K88,K92,K97,K101,) -> 0 | L84: =SUM(L88,L92,L97,L101,) -> 0 | M84: =SUM(M88,M92,M97,M101,) -> 0 | N84: =SUM(N88,N92,N97,N101,+N105+N109) -> 13000
A85: 78 | D85: módosítás- | I85: =SUM(J85:Q85) -> -2654 | J85: =J89+J93+J98+J102+J106+J110 -> 0 | K85: =K89+K93+K98+K102+K106+K110 -> 0 | L85: =L89+L93+L98+L102+L106+L110 -> 0 | M85: =M89+M93+M98+M102+M106+M110 -> 0 | N85: =N89+N93+N98+N102+N106+N110 -> -2654
A86: 79 | D86: módosított előirányzat 1. | I86: =SUM(J86:N86) -> 10346 | J86: =SUM(J84:J85) -> 0 | K86: =SUM(K84:K85) -> 0 | L86: =SUM(L84:L85) -> 0 | M86: =SUM(M84:M85) -> 0 | N86: =SUM(N84:N85) -> 10346
A87: 80 | D87: ebből: - Vár Ucca Műhely támogatása | F87: 1500
A88: 81 | D88: eredeti előirányzat | I88: =SUM(J88:N88) -> 1500 | N88: 1500
A89: 82 | D89: módosítás- átcsoportosítás Művészetek Házának | I89: =SUM(J89:Q89) -> -1500 | N89: -1500
A90: 83 | D90: módosított előirányzat 1. | I90: =SUM(J90:N90) -> 0 | N90: =SUM(N88:N89) -> 0
A91: 84 | D91: - Veszprémi Szemle Várostörténeti Közhasznú Alapítvány Támogatása | E91: 2255 | F91: 2500 | G91: 2998
A92: 85 | D92: eredeti előirányzat | I92: =SUM(J92:N92) -> 2000 | N92: 2000
A93: 86 | D93: módosítás- átcsoportosítás | I93: =SUM(J93:Q93) -> 846 | N93: 846
A94: 87 | D94: módosítás- költségvetési maradvány | I94: =SUM(J94:Q94) -> 114 | N94: 114
A95: 88 | D95: módosított előirányzat 1. | I95: =SUM(J95:N95) -> 2960 | N95: =SUM(N92:N94) -> 2960
A96: 89 | D96: - Ex Symposion Alapítvány | E96: 2000 | F96: 2000 | G96: 2000
A97: 90 | D97: eredeti előirányzat | I97: =SUM(J97:N97) -> 2000 | N97: 2000
A98: 91 | D98: módosítás- | I98: =SUM(J98:Q98) -> 0
A99: 92 | D99: módosított előirányzat 1. | I99: =SUM(J99:N99) -> 2000 | N99: =SUM(N97:N98) -> 2000
A100: 93 | D100: - Comitatus Társadalomkutató Egyesület - Comitatus Önkormányzati Szemle | E100: 500 | F100: 500 | G100: 500
...

Sheet 6.A Alapítv
B1: 6.A. melléklet a 13/2019. (IV.25.) önkormányzati rendelethez
B2: KIMUTATÁS
B3: Veszprém Megyei Jogú Város Önkormányzata által
B4: alapítványoknak, egyesületeknek, civil szervezeteknek, társadalmi szervezeteknek nyújtott támogatásokról 2019. évben
B5: adatok eFt-ban
B6: A | C6: B
B7: Alapítvány / egyesület / civil szervezet / társadalmi szervezet megnevezése | C7: Támogatás összege
A9: 1 | B9: Veszprémi Szemle Várostörténeti Közhasznú Alapítvány Támogatása | C9: =2000+846 -> 2846
A10: 2 | B10: Ex Symposion Alapítvány | C10: 2000
A11: 3 | B11: Comitatus Társadalomkutató Egyesület - Comitatus Önkormányzati Szemle | C11: 500
A12: 4 | B12: Brusznyai Árpád Alapítvány támogatása | C12: 650
A13: 5 | B13: Veszprém Város Vegyeskar utánpótlás | C13: 1000
A14: 6 | B14: Mendelssohn Kamarazenekar | C14: 83500
A15: 7 | B15: Veszprém Város Vegyeskara | C15: 5600
A16: 8 | B16: Veszprémi Táncegyüttesért Alapítvány | C16: 4500
A17: 9 | B17: Liszt F. Kórus | C17: 3000
A18: 10 | B18: Gizella Kórus/Dowland Alapítvány | C18: 1000
A19: 11 | B19: Civil díj, civil nap költségei | C19: 600
A20: 12 | B20: Veszprémi Ifjúsági Közalapítvány | C20: =14000-5000 -> 9000
A21: 13 | B21: Máltai Szeretetszolgálat | C21: 60000
A22: 14 | B22: Veszprém Foci Centrum Utánpótlás SE | C22: 17000
A23: 15 | B23: Veszprémi Egyetemi és Diák Atlétikai Club | C23: 28000
A24: 16 | B24: Futsal Club Veszprém | C24: 30000
A25: 17 | B25: Örmény Kultúráért Alapítvány | C25: 300
A26: 18 | B26: Tanórán kívüli tevékenység - Veszprémi Fúvóskultúráért Alapítvány | C26: 300
A27: 19 | B27: Kulturális Kínálat bővítése/amatőr művészeti csoportok támogatása - Veszprémi Fúvóskultúráért Alapítvány | C27: 100
A28: 20 | B28: Kulturális Kínálat bővítése/amatőr művészeti csoportok támogatása - Szilágyi Táncegyüttes Alapítvány | C28: 100
A29: 21 | B29: MINDÖSSZESEN: | C29: =SUM(C9:C28) -> 249996

Sheet 7.Beruh.
B1: 7. melléklet a 13/2019. (IV.25.) önkormányzati rendelethez
B2: Veszprém Megyei Jogú Város Önkormányzata
B3: 2019. évi beruházási és egyéb felhalmozási célú kiadások előirányzatainak módosítása - 2019. április
L4: adatok eFt-ban
B5: A | C5: B | D5: C | E5: D | F5: E | G5: F | H5: G | I5: H | L5: I
B6: Cím | C6: Alcím | D6: Megnevezés | E6: Feladatellátás jellege | F6: Teljes költség | G6: Teljesítés 2017. 12.31.-ig | H6: 2018. évi tény | I6: 2019. évi eredeti előirányzat | J6: Módosítás | K6: 2019. évi módosított előirányzat 1. | L6: 2019. év utáni javaslat
A7: 1 | B7: 18 | C7: Önkormányzati beruházási kiadások
A8: 2 | C8: 1 | D8: TOP-6.2.1-16-VP1-2018-00002 Egry úti óvoda újjáépítése | E8: NK | F8: =G8+H8+K8+L8 -> 1103100 | I8: =918181-1635 -> 916546 | K8: =SUM(I8:J8) -> 916546 | L8: 186554
A9: 3 | C9: 2 | D9: TOP-6.2.1-15-VP1-2016-00002 Gyulafirátóti óvoda újjáépítése | E9: NK | F9: =G9+H9+K9+L9 -> 864816 | G9: =10953+1020 -> 11973 | H9: 229 | I9: 852614 | K9: =SUM(I9:J9) -> 852614
A10: 4 | C10: 3 | D10: TOP-6.3.3-16-VP1-2017-00001 Dózsaváros, Pápai úti csapadékvíz-elvezető rendszer fejlesztése | E10: NK | F10: =G10+H10+K10+L10 -> 260045 | H10: 4280 | I10: 42322 | J10: =214312-869 -> 213443 | K10: =SUM(I10:J10) -> 255765
A11: 5 | C11: 4 | D11: TOP-6.4.1-15-VP1-2016-00001 Közlekedésbiztonsági és kerékpárosbarát fejlesztések magvalósulása Veszprém város területén | E11: NK | F11: =G11+H11+K11+L11 -> 1104646 | G11: 44965 | H11: 381764 | I11: 697540 | J11: -19623 | K11: =SUM(I11:J11) -> 677917
A12: 6 | C12: 5 | D12: TOP-6.1.5-16-VP1-2017-00001 Északi Iparterület Közlekedés-fejlesztése | E12: NK | F12: =G12+H12+K12+L12 -> 2686328 | G12: 115020 | H12: 324225 | I12: 607839 | J12: 1639244 | K12: =SUM(I12:J12) -> 2247083
A13: 7 | C13: 6 | D13: TOP-6.4.1-16-VP1 Kerékpárút építése Alsóörs - Felsőörs irányába | E13: NK | F13: =G13+H13+K13+L13 -> 229555 | H13: 9271 | I13: 218251 | J13: -9967 | K13: =SUM(I13:J13) -> 208284 | L13: 12000
A14: 8 | C14: 7 | D14: TOP-6.6.1-16-VP1-2017-00002 Kádártai rendelő kialakítása | E14: NK | F14: =G14+H14+K14+L14 -> 64839 | H14: 143 | I14: =56494+10000 -> 66494 | J14: -1798 | K14: =SUM(I14:J14) -> 64696
A15: 9 | C15: 8 | D15: TOP – 6.3.2 Zöldváros kialakítása (Kulturális negyed - Színházkert, Megyeház tér, Erzsébet liget, Erzsébet sétány – fejlesztése) | E15: NK | F15: =G15+H15+K15+L15 -> 1680297 | H15: 16505 | I15: 789391 | J15: 64401 | K15: =SUM(I15:J15) -> 853792 | L15: 810000
A16: 10 | C16: 9 | D16: TOP- 7.1.1 Helyi közösségi kezdeményezések (CLLD kulcsprojekt előkészítése) | E16: NK | F16: =G16+H16+K16+L16 -> 262046 | H16: 4379 | I16: 244376 | J16: 13291 | K16: =SUM(I16:J16) -> 257667
A17: 11 | C17: 10 | D17: TOP-7.1.1-16 CLLD Városrészi közösség és kulturális terek felújítása | E17: NK | F17: =G17+H17+K17+L17 -> 6137 | I17: =3155+2982 -> 6137 | K17: =SUM(I17:J17) -> 6137
A18: 12 | C18: 11 | D18: TOP-6.4.1-16-VP1 Kerékpárút építése Márkó-Bánd települések irányába | E18: NK | F18: =G18+H18+K18+L18 -> 479000 | I18: 43600 | J18: 435400 | K18: =SUM(I18:J18) -> 479000
A19: 13 | C19: 12 | D19: TOP – 6.9.2 A helyi identitás és kohézió erősítése | E19: NK | F19: =G19+H19+K19+L19 -> 0 | I19: 184000 | J19: -184000 | K19: =SUM(I19:J19) -> 0
A20: 14 | C20: 13 | D20: TOP-6.5.1-16-VP1-2018-00006 Módszertani Bölcsőde energetikai megújítása | E20: NK | F20: =G20+H20+K20+L20 -> 266603 | H20: 6401 | I20: =215705+44000 -> 259705 | J20: -378 | K20: =SUM(I20:J20) -> 259327 | L20: =44875-44000 -> 875
A21: 15 | C21: 14 | D21: TOP-6.2.1-16-VP1-2018-00001 A Veszprémi Bölcsődei és Egészségügyi Alapellátási Integrált Intézmény Módszertani Bölcsődéje megújítása, illetve bölcsődei eszközbeszerzések | E21: NK | F21: =G21+H21+K21+L21 -> 200171 | H21: 4794 | I21: =86052-435+109000 -> 194617 | K21: =SUM(I21:J21) -> 194617 | L21: =109760-109000 -> 760
A22: 16 | C22: 15 | D22: TOP-6.6.1-16-VP1-2018-00006 - Cserhát ltp.1.sz.alatti gyermekorvosi rendelők felújítása | E22: NK | F22: =G22+H22+K22+L22 -> 47233 | H22: 3556 | I22: =28738-170 -> 28568 | K22: =SUM(I22:J22) -> 28568 | L22: 15109
A23: 17 | C23: 16 | D23: TOP-6.6.1-16-VP1-2018-00004 Vilonyai utca 2/B szám alatti orvosi rendelő megújítása | E23: NK | F23: =G23+H23+K23+L23 -> 48291 | H23: 1956 | I23: 39537 | J23: -270 | K23: =SUM(I23:J23) -> 39267 | L23: 7068
A24: 18 | C24: 17 | D24: TOP-6.6.1-16-VP1-2018-00005 Ördögárok u. 5. szám alatti orvosi rendelő megújítása | E24: NK | F24: =G24+H24+K24+L24 -> 77739 | H24: 2459 | I24: 53492 | J24: -270 | K24: =SUM(I24:J24) -> 53222 | L24: 22058
A25: 19 | C25: 18 | D25: TOP-6.5.1-16-VP1-2018-00005 - Március 15. utcai Sportcsarnok és Uszoda energetikai megújítása | E25: NK | F25: =G25+H25+K25+L25 -> 804913 | H25: 6414 | I25: =781615-24602 -> 757013 | J25: 86 | K25: =SUM(I25:J25) -> 757099 | L25: 41400
A26: 20 | C26: 19 | D26: TOP-6.5.1 - 16- VP1-2018-00004 Aprófalvi Bölcsőde energetikai korszerűsítése | E26: NK | F26: =G26+H26+K26+L26 -> 282298 | G26: 6699 | I26: 223100 | J26: -278 | K26: =SUM(I26:J26) -> 222822 | L26: =275877-223100 -> 52777
A27: 21 | C27: 20 | D27: TOP-6.5.1-16-VP1-2018-00002 Völgyikút utca 2. szám alatti épület energetikai megújítása | E27: NK | F27: =G27+H27+K27+L27 -> 172115 | G27: 6541 | I27: =134273-3632 -> 130641 | K27: =SUM(I27:J27) -> 130641 | L27: 34933
A28: 22 | C28: 21 | D28: TOP-6.5.1-16-VP1-2018-00003 Laczkó Dezső Múzeum energetikai megújítása | E28: NK | F28: =G28+H28+K28+L28 -> 381489 | I28: 147420 | J28: =44677-400 -> 44277 | K28: =SUM(I28:J28) -> 191697 | L28: =29144+160648 -> 189792
A29: 23 | C29: 22 | D29: TOP-6.6.1-16-VP1-2018-0003 "Jutasi u. 59. sz. alatti orvosi rendelők megújítása" | E29: NK | F29: =G29+H29+K29+L29 -> 73296 | H29: 4826 | I29: 76700 | J29: =-76700+68470 -> -8230 | K29: =SUM(I29:J29) -> 68470
A30: 24 | C30: 23 | D30: TOP-6.6.1-16-VP1-2017-00001 Gyulafirátóti rendelő felújítása | E30: NK | F30: =G30+H30+K30+L30 -> 62980 | H30: 30272 | I30: 2003 | J30: 30705 | K30: =SUM(I30:J30) -> 32708
A31: 25 | C31: 24 | D31: TOP-6.9 "Közösségfejlesztés Veszprém város településrészein | E31: NK | F31: =G31+H31+K31+L31 -> 2500 | I31: 2500 | K31: =SUM(I31:J31) -> 2500
A32: 26 | C32: 25 | D32: GINOP - 7.1.9-17-2018-00023 Veszprém kulturális turisztikai kínálatának fejlesztése | E32: NK | F32: =G32+H32+K32+L32 -> 1336766 | H32: 28000 | I32: 530299 | J32: =-12700-1918 -> -14618 | K32: =SUM(I32:J32) -> 515681 | L32: 793085
A33: 27 | C33: 26 | D33: URBACT Innova Tor | E33: NK | F33: =G33+H33+K33+L33 -> 12239 | I33: 6859 | J33: -6859 | K33: =SUM(I33:J33) -> 0 | L33: 12239
A34: 28 | C34: 27 | D34: DTP1-1-311-2.2 Interreg Duna Nemzetközi Program Networld* | E34: NK | F34: =G34+H34+K34+L34 -> 1575 | G34: 241 | H34: 1334 | I34: 3930 | J34: =329-4259 -> -3930 | K34: =SUM(I34:J34) -> 0
A35: 29 | C35: 28 | D35: Erasmus +K3 SporTown | E35: NK | F35: =G35+H35+K35+L35 -> 7345 | H35: 7345 | I35: 5444 | J35: =-4544-900 -> -5444 | K35: =SUM(I35:J35) -> 0
A36: 30 | C36: 29 | D36: KEHOP-5.4.1-16-2016-00142 "Veszprém, az energiatudatos város" | E36: NK | F36: =G36+H36+K36+L36 -> 4792 | I36: 4792 | K36: =SUM(I36:J36) -> 4792
A37: 31 | C37: 30 | D37: TOP-6.3.3-15-VP1-2016-00001 Kertváros csapadékelvezető rendszer rekonstrukciója I. ütem | E37: NK | F37: =G37+H37+K37+L37 -> 260817 | G37: 160545 | H37: 86833 | J37: =13416+23 -> 13439 | K37: =SUM(I37:J37) -> 13439
A38: 32 | C38: 31 | D38: TOP 6.5.1-16 Önkormányzati épületek energetikai korszerűsítése | F38: =G38+H38+K38+L38 -> 14326 | H38: 10198 | J38: 4128 | K38: =SUM(I38:J38) -> 4128
A39: 33 | C39: 32 | D39: MVP Veszprémi Petőfi Színház komplex fejlesztése | E39: NK | F39: =G39+H39+K39+L39 -> 12988620 | H39: 324077 | I39: 4114047 | J39: 238376 | K39: =SUM(I39:J39) -> 4352423 | L39: =4550000+3762120 -> 8312120
A40: 34 | C40: 33 | D40: MVP Kittenberger Kálmán Növény- és Vadaspark fejlesztése és bővítése | E40: NK | F40: =G40+H40+K40+L40 -> 1281846 | G40: 11938 | H40: 1269872 | J40: 36 | K40: =SUM(I40:J40) -> 36
A41: 35 | C41: 34 | D41: MVP Veszprémi Atlétikai Stadion felújítása I.ütem | E41: NK | F41: =G41+H41+K41+L41 -> 399000 | H41: 149500 | I41: 100000 | J41: 149500 | K41: =SUM(I41:J41) -> 249500
A42: 36 | C42: 35 | D42: MVP Veszprémi Zeneművészeti Szakgimnázium és Alapfokú Művészeti Iskola intézményegysége, a Csermák Antal Zeneiskola felújításának megvalósítása | E42: NK | F42: =G42+H42+K42+L42 -> 1388203 | H42: 6510 | I42: 754957 | J42: -367 | K42: =SUM(I42:J42) -> 754590 | L42: 627103
A43: 37 | C43: 36 | D43: MVP "Veszprémi új Városi Jégcsarnok építése" | E43: NK | F43: =G43+H43+K43+L43 -> 75012 | H43: 10737 | I43: 65545 | J43: -1270 | K43: =SUM(I43:J43) -> 64275
A44: 38 | C44: 37 | D44: Önkormányzati érdekeket érintő településrendezése eszközök módosítása-2019 | E44: NK | F44: =G44+H44+K44+L44 -> 3000 | I44: 3000 | K44: =SUM(I44:J44) -> 3000
A45: 39 | C45: 38 | D45: Petőfi Sándor utca rekonstrukciója II. ütem | E45: NK | F45: =G45+H45+K45+L45 -> 169185 | H45: 83462 | J45: 85723 | K45: =SUM(I45:J45) -> 85723
A46: 40 | C46: 39 | D46: Petőfi Sándor utca rekonstrukciója III. ütem | E46: NK | F46: =G46+H46+K46+L46 -> 50000 | I46: 50000 | K46: =SUM(I46:J46) -> 50000
A47: 41 | C47: 40 | D47: Vörösmarty tér tömbbelső fejlesztés, I. ütem (csapadékvíz elvezetés kiépítése) + II. ütem | E47: NK | F47: =G47+H47+K47+L47 -> 121702 | H47: 18391 | I47: 55000 | J47: 48311 | K47: =SUM(I47:J47) -> 103311
A48: 42 | C48: 41 | D48: Kulturális negyed tervezése II. ütem | E48: NK | F48: =G48+H48+K48+L48 -> 4500 | I48: 4500 | K48: =SUM(I48:J48) -> 4500
A49: 43 | C49: 42 | D49: Jutaspusztai kerékpárút tervezés előkészítése | E49: NK | F49: =G49+H49+K49+L49 -> 2000 | I49: 2000 | K49: =SUM(I49:J49) -> 2000
A50: 44 | C50: 43 | D50: Bolgár Mihály utcai híd áteresz kapacitás bővítés, tervezés, engedélyezés, kivitelezés | E50: NK | F50: =G50+H50+K50+L50 -> 2000 | I50: 2000 | K50: =SUM(I50:J50) -> 2000
A51: 45 | C51: 44 | D51: Brusznyai utcai csapadékvíz csatorna rekonstrukció I. ütem (alsó szakasz) tervezés, engedélyezés, kivitelezés | E51: NK | F51: =G51+H51+K51+L51 -> 22500 | I51: 22500 | K51: =SUM(I51:J51) -> 22500
A52: 46 | C52: 45 | D52: Egry utcai óvoda új villamos és gáz betáp vezeték tervezése és kiépítése, villamos kapacitásbővítés | E52: NK | F52: =G52+H52+K52+L52 -> 3400 | I52: 3400 | K52: =SUM(I52:J52) -> 3400
A53: 47 | C53: 46 | D53: Bóbita óvodában elhelyezendő konténer óvodák | E53: NK | F53: =G53+H53+K53+L53 -> 16200 | I53: 16200 | K53: =SUM(I53:J53) -> 16200
A54: 48 | C54: 47 | D54: Gyulafirátóti köztéri játszótér eszközeinek elhelyezése | E54: NK | F54: =G54+H54+K54+L54 -> 3000 | I54: 3000 | K54: =SUM(I54:J54) -> 3000
A55: 49 | C55: 48 | D55: Sorompó utca járdaépítés | E55: NK | F55: =G55+H55+K55+L55 -> 2000 | I55: 2000 | K55: =SUM(I55:J55) -> 2000
A56: 50 | C56: 49 | D56: Sorompó utca hiányzó járdaszakasz tervek | E56: NK | F56: =G56+H56+K56+L56 -> 290 | J56: 290 | K56: =SUM(I56:J56) -> 290
A57: 51 | C57: 50 | D57: Egyetemváros, zöldterület rendezés | E57: NK | F57: =G57+H57+K57+L57 -> 4000 | I57: 4000 | K57: =SUM(I57:J57) -> 4000
A58: 52 | C58: 51 | D58: Engedélyek megújítása | E58: NK | F58: =G58+H58+K58+L58 -> 3000 | I58: 3000 | K58: =SUM(I58:J58) -> 3000
A59: 53 | C59: 52 | D59: Török I.u. - Aulich összekötés | E59: NK | F59: =G59+H59+K59+L59 -> 71393 | H59: 1765 | I59: 25800 | J59: 43828 | K59: =SUM(I59:J59) -> 69628
A60: 54 | C60: 53 | D60: 82-es út közlekedésbiztonsági fejlesztése | E60: NK | F60: =G60+H60+K60+L60 -> 45000 | I60: 45000 | K60: =SUM(I60:J60) -> 45000
A61: 55 | C61: 54 | D61: Közvilágítás bővítések (tervezés, kivitelezés) 2011. évi CLXXXIX törvény | E61: K | F61: =G61+H61+K61+L61 -> 45924 | G61: 9924 | H61: 9956 | I61: 16000 | J61: 10044 | K61: =SUM(I61:J61) -> 26044
A62: 56 | C62: 55 | D62: Vár u. 10. épület felújításának előkészítése, tervezés | E62: NK | F62: =G62+H62+K62+L62 -> 28000 | I62: 28000 | K62: =SUM(I62:J62) -> 28000
A63: 57 | C63: 56 | D63: Aradi vértanuk emlékművének elkészítése | E63: NK | F63: =G63+H63+K63+L63 -> 15000 | I63: 15000 | K63: =SUM(I63:J63) -> 15000
A64: 58 | C64: 57 | D64: Programiroda Kft. törzstőke emelés | E64: NK | F64: =G64+H64+K64+L64 -> 3420 | G64: 3210 | H64: 110 | I64: 100 | K64: =SUM(I64:J64) -> 100
A65: 59 | C65: 58 | D65: Programiroda Kft. tőketartalékba helyezés | E65: NK | F65: =G65+H65+K65+L65 -> 142880 | G65: 84090 | H65: 35890 | I65: 22900 | K65: =SUM(I65:J65) -> 22900
A66: 60 | C66: 59 | D66: Swing-Swing Kft. törzstőke emelés | E66: NK | F66: =G66+H66+K66+L66 -> 100070 | G66: 100050 | H66: 10 | I66: 10 | K66: =SUM(I66:J66) -> 10
A67: 61 | C67: 60 | D67: Swing-Swing Kft. tőketartalékba helyezés | E67: NK | F67: =G67+H67+K67+L67 -> 619930 | G67: =379860+90 -> 379950 | H67: 119990 | I67: 119990 | K67: =SUM(I67:J67) -> 119990
A68: 62 | C68: 61 | D68: Swing-Swing Kft. Üzletrész vásárlás | E68: NK | F68: =G68+H68+K68+L68 -> 201326 | I68: 50326 | J68: 151000 | K68: =SUM(I68:J68) -> 201326
A69: 63 | C69: 62 | D69: Veszprém - Balaton 2023 Zrt. törzstőke emelés | E69: NK | F69: =G69+H69+K69+L69 -> 1100 | H69: 100 | I69: =100+1000-100 -> 1000 | K69: =SUM(I69:J69) -> 1000
A70: 64 | C70: 63 | D70: Veszprém - Balaton 2023 Zrt. tőketartalékba helyezés | E70: NK | F70: =G70+H70+K70+L70 -> 231400 | H70: 82900 | I70: =149400-1000+100 -> 148500 | K70: =SUM(I70:J70) -> 148500
A71: 65 | C71: 64 | D71: Veszprém - Balaton Zrt. Részvényvásárlás | E71: NK | F71: =G71+H71+K71+L71 -> 6000 | I71: 6000 | K71: =SUM(I71:J71) -> 6000
A72: 66 | C72: 65 | D72: V-Busz Kft törzstőke | E72: NK | F72: =G72+H72+K72+L72 -> 3110 | H72: 3010 | I72: 100 | K72: =SUM(I72:J72) -> 100
A73: 67 | C73: 66 | D73: V-Busz Kft tőketartalékba helyezés | E73: NK | F73: =G73+H73+K73+L73 -> 208000 | H73: 85000 | I73: 123000 | K73: =SUM(I73:J73) -> 123000
A74: 68 | C74: 67 | D74: Herendi műtárgy felállítása belvárosi körforgalomba | E74: NK | F74: =G74+H74+K74+L74 -> 7000 | I74: 7000 | K74: =SUM(I74:J74) -> 7000
A75: 69 | C75: 68 | D75: Erdőtelepítés és utógondozás (a 241/2009.(IX.15.) Közgyűlési határozat; Erdészeti Hatóság 28.3/1176-7/2010.(V.25.) és VE-G-001/3883-8/2013. sz. határozata; 298/2009.(X.20.) Vfkb és 48/2010.(II.16.) Vfkb | E75: K | F75: =G75+H75+K75+L75 -> 40832 | G75: 11933 | H75: 7351 | I75: 4000 | J75: 17548 | K75: =SUM(I75:J75) -> 21548
A76: 70 | C76: 69 | D76: Játszótér építések | E76: NK | F76: =G76+H76+K76+L76 -> 48467 | G76: 26235 | H76: 11033 | I76: 6500 | J76: 4699 | K76: =SUM(I76:J76) -> 11199
A77: 71 | C77: 70 | D77: Utcanévtáblák | E77: K | F77: =G77+H77+K77+L77 -> 7500 | G77: 2058 | I77: 1000 | J77: 4442 | K77: =SUM(I77:J77) -> 5442
A78: 72 | C78: 71 | D78: Kézi hulladékgyűjtők beszerzése | E78: NK | F78: =G78+H78+K78+L78 -> 5000 | G78: 248 | H78: 251 | I78: 2000 | J78: 2501 | K78: =SUM(I78:J78) -> 4501
A79: 73 | C79: 72 | D79: Padbeszerzés és kihelyezés (141/2008(IV.22.) VFKB és 215/2008(VI.20.) VFKB | E79: NK | F79: =G79+H79+K79+L79 -> 9000 | G79: 3500 | H79: 2500 | I79: 3000 | K79: =SUM(I79:J79) -> 3000
A80: 74 | C80: 73 | D80: Térfigyelő rendszer bővítése 51/2011. (IV.29.) VMJV Önk. | E80: NK | F80: =G80+H80+K80+L80 -> 30000 | I80: 10000 | J80: 20000 | K80: =SUM(I80:J80) -> 30000
A81: 75 | C81: 74 | D81: Karácsonyi köztéri dekorációk beszerzése | E81: NK | F81: =G81+H81+K81+L81 -> 16400 | H81: 11091 | I81: 5000 | J81: 309 | K81: =SUM(I81:J81) -> 5309
A82: 76 | C82: 75 | D82: Ivókút létesítése | E82: NK | F82: =G82+H82+K82+L82 -> 650 | I82: 650 | K82: =SUM(I82:J82) -> 650
A83: 77 | C83: 76 | D83: Március 15. u. Uszoda HMV vízmelegítés értéktartó szabályozás kiépítése | E83: NK | F83: =G83+H83+K83+L83 -> 3568 | H83: 1784 | J83: 1784 | K83: =SUM(I83:J83) -> 1784
A84: 78 | C84: 77 | D84: Veszprém 0105/1 hrsz.alatti nem veszélyes hulladéklerakó részletes tényfeltárása | E84: NK | F84: =G84+H84+K84+L84 -> 19000 | I84: 19000 | K84: =SUM(I84:J84) -> 19000
A85: 79 | C85: 78 | D85: Infrastruktúra fejlesztési feladatokhoz kapcsolódó kiadások | E85: NK | F85: =G85+H85+K85+L85 -> 18251 | H85: 8127 | I85: 4000 | J85: =8678-2554 -> 6124 | K85: =SUM(I85:J85) -> 10124
A86: 80 | C86: 79 | D86: Óvodai pályaépítési program | E86: NK | F86: =G86+H86+K86+L86 -> 294 | I86: 6935 | J86: -6641 | K86: =SUM(I86:J86) -> 294
A87: 81 | D87: Agóra Veszprém Kulturális Központ | F87: =G87+H87+K87+L87 -> 0
A88: 82 | C88: 80 | D88: Villámhárító tervezése, kivitelezése (Gyulafirátót) | E88: NK | F88: =G88+H88+K88+L88 -> 2500 | I88: 2500 | K88: =SUM(I88:J88) -> 2500
A89: 83 | C89: 81 | D89: 6.vk. Gyalogátkelőhely tervezése (Ady E. u.) | E89: NK | F89: =G89+H89+K89+L89 -> 900 | J89: 900 | K89: =SUM(I89:J89) -> 900
A90: 84 | C90: 82 | D90: 8.vk. Hulladékgyűjtő elhelyezése a Kalmár térre | E90: NK | F90: =G90+H90+K90+L90 -> 69 | J90: 69 | K90: =SUM(I90:J90) -> 69
A91: 85 | C91: 83 | D91: 8.vk. 2 db utcai pad és 1 db sörpad garnitúra Kalmár térre | E91: NK | F91: =G91+H91+K91+L91 -> 402 | J91: 402 | K91: =SUM(I91:J91) -> 402
A92: 86 | C92: 84 | D92: 8.vk. Hulladékgyűjtő beszerzésére | E92: NK | F92: =G92+H92+K92+L92 -> 15 | J92: 15 | K92: =SUM(I92:J92) -> 15
A93: 87 | C93: 85 | D93: 10.vk. Konténer tárolók kihelyezésére a 10. sz. választókerületben | E93: NK | F93: =G93+H93+K93+L93 -> 400 | J93: 400 | K93: =SUM(I93:J93) -> 400
A94: 88 | C94: 86 | D94: A Veszprém, 0273 hrsz-ú "kivett helyi közút" kialakítása érdekében szükséges ingatlanszerzési eljárások lefolytatása (0270/1, 0270/2, 0271/3, 0274/1, 0274/3 hrsz-ú ingatlanok) | E94: NK | F94: =G94+H94+K94+L94 -> 1040 | J94: 1040 | K94: =SUM(I94:J94) -> 1040
A95: 89 | C95: 87 | D95: Miklós utca 18. sz. alatti 604/A/3 hrsz-ú ingatlan adásvétele | E95: NK | F95: =G95+H95+K95+L95 -> 17000 | J95: 17000 | K95: =SUM(I95:J95) -> 17000
A96: 90 | C96: 88 | D96: Gyulafirátót 10089/4 hrsz-ú ingatlan közműfejlesztési költségei | E96: NK | F96: =G96+H96+K96+L96 -> 3066 | J96: 3066 | K96: =SUM(I96:J96) -> 3066
A97: 91 | C97: 89 | D97: Veszprém, Pápai út 37. szám alatti ingatlanon munkásszállás kialakítása | E97: NK | F97: =G97+H97+K97+L97 -> 355188 | H97: 324071 | J97: 31117 | K97: =SUM(I97:J97) -> 31117
A98: 92 | C98: 90 | D98: Hulladéklerakó környezetének vizsgálata és rekultiváció | E98: NK | F98: =G98+H98+K98+L98 -> 269 | J98: 269 | K98: =SUM(I98:J98) -> 269
A99: 93 | C99: 91 | D99: Önkormányzati érdekeket érintő településrendezése eszközök módosítása III. | E99: NK | F99: =G99+H99+K99+L99 -> 6254 | H99: 3048 | J99: 3206 | K99: =SUM(I99:J99) -> 3206
A100: 94 | C100: 92 | D100: Arculati kézikönyv | E100: NK | F100: =G100+H100+K100+L100 -> 1778 | J100: 1778 | K100: =SUM(I100:J100) -> 1778
...

Sheet 8.Felúj.
B1: 8. melléklet a 13/2019. (IV.25.) önkormányzati rendelethez
B2: Veszprém Megyei Jogú Város Önkormányzata
B3: 2019. évi felújítási kiadások előirányzatainak módosítása - 2019. április
H4: adatok eFt-ban
B5: A | C5: B | D5: C | E5: D | F5: E | G5: F | H5: G | I5: H | J5: I | K5: J
B6: Cím | C6: Alcím | D6: Megnevezés | E6: Feladatellátás jellege | F6: Teljes költség | G6: 2018. évi tény | H6: 2019. évi eredeti előirányzat | I6: Módosítás | J6: 2019. módosított előirányzat 1. | K6: 2019. év utáni javaslat
A7: 1 | B7: 18 | D7: Önkormányzati felújítási kiadások
A8: 2 | C8: 1 | D8: Játszóeszközök felújítása (78/2003 GKM rendelet) | E8: K | F8: =G8+J8+K8 -> 20093 | G8: 10000 | H8: 9000 | I8: 1093 | J8: =SUM(H8:I8) -> 10093
A9: 3 | C9: 2 | D9: Köztéri műalkotások rekonstrukciója, körforgalmakban lévő fa műtárgyak felületkezelése, állagmegóvása | E9: NK | F9: =G9+J9+K9 -> 6804 | G9: 873 | H9: 3000 | I9: 2931 | J9: =SUM(H9:I9) -> 5931
A10: 4 | C10: 3 | D10: Elhasználódott labdapályák felújítása és balesetveszély elhárítás | E10: NK | F10: =G10+J10+K10 -> 3955 | G10: 1955 | H10: 2000 | J10: =SUM(H10:I10) -> 2000
A11: 5 | C11: 4 | D11: Nagyfelületű út- és járdafelújítások | E11: NK | F11: =G11+J11+K11 -> 315208 | G11: 127108 | H11: 100000 | I11: 88100 | J11: =SUM(H11:I11) -> 188100
A12: 6 | C12: 5 | D12: Vízrendezési feladatok, árkok felújítása | E12: K | F12: =G12+J12+K12 -> 30000 | H12: 30000 | J12: =SUM(H12:I12) -> 30000
A13: 7 | C13: 6 | D13: Földutak felújítása | E13: NK | F13: =G13+J13+K13 -> 4000 | H13: 4000 | J13: =SUM(H13:I13) -> 4000
A14: 8 | C14: 7 | D14: Köztéri padok felújítása | E14: NK | F14: =G14+J14+K14 -> 1000 | H14: 1000 | J14: =SUM(H14:I14) -> 1000
A15: 9 | C15: 8 | D15: Védett sírok felújítása az Alsóvárosi temetőben | E15: NK | F15: =G15+J15+K15 -> 14734 | G15: 9999 | H15: 2000 | I15: 2735 | J15: =SUM(H15:I15) -> 4735
A16: 10 | C16: 9 | D16: Dózsa György u. 2.sz. alatti épület felújítása | E16: NK | F16: =G16+J16+K16 -> 130000 | H16: 130000 | J16: =SUM(H16:I16) -> 130000
A17: 11 | C17: 10 | D17: Polgármesteri Hivatal felújítási munkák | E17: NK | F17: =G17+J17+K17 -> 55621 | G17: 2350 | H17: 53271 | J17: =SUM(H17:I17) -> 53271
A18: 12 | C18: 11 | D18: Kertészeti felújítások | E18: NK | F18: =G18+J18+K18 -> 28500 | I18: =20000+8500 -> 28500 | J18: =SUM(H18:I18) -> 28500
A19: 13 | C19: 12 | D19: Vár utca kockakő burkolat felújítása | E19: NK | F19: =G19+J19+K19 -> 20000 | I19: 20000 | J19: =SUM(H19:I19) -> 20000
A20: 14 | C20: 13 | D20: Kertvárosi utcák felújítása víziközmű rekonstrukció után | E20: NK | F20: =G20+J20+K20 -> 78000 | G20: 330 | H20: 36000 | I20: 41670 | J20: =SUM(H20:I20) -> 77670
A21: 15 | C21: 14 | D21: Önkormányzati bérlakások felújítása | E21: NK | F21: =G21+J21+K21 -> 23500 | H21: 23500 | J21: =SUM(H21:I21) -> 23500
A22: 16 | C22: 15 | D22: Hősök kapuja, Vár u. 2. tetőterasz beázás és falak felszívódó nedvesség elleni szigetelése | E22: NK | F22: =G22+J22+K22 -> 3891 | H22: 3850 | I22: 41 | J22: =SUM(H22:I22) -> 3891
A23: 17 | C23: 16 | D23: Egry úti Óvoda újjáépítése miatt szükséges óvodai felújítások, konténer ovi telepítése | E23: NK | F23: =G23+J23+K23 -> 6800 | H23: 6800 | J23: =SUM(H23:I23) -> 6800
A24: 18 | C24: 17 | D24: Evangélikus Óvoda tető felújítása | E24: NK | F24: =G24+J24+K24 -> 7500 | H24: 7500 | J24: =SUM(H24:I24) -> 7500
A25: 19 | C25: 18 | D25: Gyulafirátót, Posta utcai csapadékvíz elvezető árok részleges felújítása | E25: NK | F25: =G25+J25+K25 -> 2200 | H25: 2200 | J25: =SUM(H25:I25) -> 2200
A26: 20 | C26: 19 | D26: Nem lakás célú helyiségek felújítási igénye | E26: NK | F26: =G26+J26+K26 -> 5000 | H26: 5000 | J26: =SUM(H26:I26) -> 5000
A27: 21 | C27: 20 | D27: Földmérési jelek felújítása | E27: NK | F27: =G27+J27+K27 -> 1620 | H27: 1620 | J27: =SUM(H27:I27) -> 1620
A28: 22 | C28: 21 | D28: Gyepmesteri telep kerítés felújítása | E28: K | F28: =G28+J28+K28 -> 1500 | I28: 1500 | J28: =SUM(H28:I28) -> 1500
A29: 23 | C29: 22 | D29: Pajta utca 10. sz. alatti bérlakás felújítása | E29: NK | F29: =G29+J29+K29 -> 2000 | I29: 2000 | J29: =SUM(H29:I29) -> 2000
A30: 24 | C30: 23 | D30: Aranyfőkötős szobor felújítása | E30: NK | F30: =G30+J30+K30 -> 1200 | G30: 425 | I30: 775 | J30: =SUM(H30:I30) -> 775
A31: 25 | D31: ÓVODÁK
A32: 26 | B32: 1 | D32: Veszprémi Vadvirág Körzeti Óvoda | E32: K
A33: 27 | C33: 24 | D33: Tetőjavítás, esővízelvezetés Kengyel utca felőli részen | F33: =G33+J33+K33 -> 3000 | H33: 3000 | J33: =SUM(H33:I33) -> 3000
A34: 28 | C34: 25 | D34: Elkorhadt nyílászárók cseréje II. ütem | F34: =G34+J34+K34 -> 7000 | H34: 7000 | J34: =SUM(H34:I34) -> 7000
A35: 29 | C35: 26 | D35: Teherhordó fal javítása | F35: =G35+J35+K35 -> 558 | I35: 558 | J35: =SUM(H35:I35) -> 558
A36: 30 | C36: 27 | D36: 11.vk., 12.vk. Gazdasági bejárat ajtó csere | F36: =G36+J36+K36 -> 544 | I36: 544 | J36: =SUM(H36:I36) -> 544
A37: 31 | B37: 2 | D37: Veszprémi Bóbita Körzeti Óvoda | E37: K
A38: 32 | C38: 28 | D38: Kertrendezés, vízelvezetés, talajpótlás megoldása | F38: =G38+J38+K38 -> 5000 | H38: 5000 | J38: =SUM(H38:I38) -> 5000
A39: 33 | C39: 29 | D39: Árnyékolás két pavilon teraszán | F39: =G39+J39+K39 -> 5300 | H39: 5300 | J39: =SUM(H39:I39) -> 5300
A40: 34 | D40: Hársfa Tagóvoda
A41: 35 | C41: 30 | D41: Hátsó épület nyílászárók cseréje a csoportszobákban | F41: =G41+J41+K41 -> 3500 | H41: 3500 | J41: =SUM(H41:I41) -> 3500
A42: 36 | C42: 31 | D42: Első épület összekötő folyosó nyílászáró cseréje és tetőjavítás | F42: =G42+J42+K42 -> 5500 | H42: 5500 | J42: =SUM(H42:I42) -> 5500
A43: 37 | C43: 32 | D43: Hátsó épület utólagos vízszigetelése, külső terepszint süllyesztése | F43: =G43+J43+K43 -> 9500 | H43: 9500 | J43: =SUM(H43:I43) -> 9500
A44: 38 | B44: 3 | D44: Veszprémi Ringató Körzeti Óvoda | E44: K
A45: 39 | D45: Erdei Tagóvoda
A46: 40 | C46: 33 | D46: Tornaterem és utcafronti ablakok nyílászáró csere | F46: =G46+J46+K46 -> 3000 | H46: 3000 | J46: =SUM(H46:I46) -> 3000
A47: 41 | C47: 34 | D47: Terasz árnyékolás | F47: =G47+J47+K47 -> 7500 | H47: 7500 | J47: =SUM(H47:I47) -> 7500
A48: 42 | D48: Kuckó Tagóvoda
A49: 43 | C49: 35 | D49: Tetőcsere 1 pavilonban | F49: =G49+J49+K49 -> 7500 | H49: 7500 | J49: =SUM(H49:I49) -> 7500
A50: 44 | C50: 36 | D50: Terasz árnyékolás | F50: =G50+J50+K50 -> 7500 | H50: 7500 | J50: =SUM(H50:I50) -> 7500
A51: 45 | B51: 4 | D51: Veszprémi Egry Úti Körzeti Óvoda | E51: K
A52: 46 | D52: Nárcisz Tagóvoda
A53: 47 | C53: 37 | D53: Ereszcsatorna bővítés, csapadékelvezetés | F53: =G53+J53+K53 -> 2000 | H53: 2000 | J53: =SUM(H53:I53) -> 2000
A54: 48 | C54: 38 | D54: Burkolat cseréje szélfogóban, folyosón | F54: =G54+J54+K54 -> 4800 | H54: 4800 | J54: =SUM(H54:I54) -> 4800
A55: 49 | B55: 5 | D55: Veszprémi Csillag Úti Körzeti Óvoda | E55: K
A56: 50 | C56: 39 | D56: Gyermekmosdók burkolása, öltözők felújítása - 3 csoportban | F56: =G56+J56+K56 -> 13500 | H56: 13500 | J56: =SUM(H56:I56) -> 13500
A57: 51 | D57: Cholnoky Jenő Tagóvoda
A58: 52 | C58: 40 | D58: Éjszakai áramkör kialakítása | F58: =G58+J58+K58 -> 1200 | H58: 1200 | J58: =SUM(H58:I58) -> 1200
A59: 53 | C59: 41 | D59: Elektromos hálózat felújítása I. ütem | F59: =G59+J59+K59 -> 5000 | H59: 5000 | J59: =SUM(H59:I59) -> 5000
A60: 54 | C60: 42 | D60: Udvari ivókút telepítése, hozzá tartozó vízvezeték elvezetése és a kút körüli burkolás | F60: =G60+J60+K60 -> 600 | H60: 600 | J60: =SUM(H60:I60) -> 600
A61: 55 | B61: 7 | D61: Veszprémi Bölcsődei és Eü.Alapell. Integrált Int. | E61: K
A62: 56 | D62: Eü. Alapellátás | F62: =G62+J62+K62 -> 0 | J62: =SUM(H62:I62) -> 0
A63: 57 | C63: 43 | D63: Komakút tér 1. Fogászat - pihenőhelyiség lapozása, festése | F63: =G63+J63+K63 -> 1600 | H63: 1600 | J63: =SUM(H63:I63) -> 1600
A64: 58 | D64: Hóvirág Bölcsőde | F64: =G64+J64+K64 -> 0 | J64: =SUM(H64:I64) -> 0
A65: 59 | C65: 44 | D65: Terasz árnyékolás megoldása 3 pavilonnál | F65: =G65+J65+K65 -> 7500 | H65: 7500 | J65: =SUM(H65:I65) -> 7500
A66: 60 | D66: Vackor Bölcsőde | F66: =G66+J66+K66 -> 0 | J66: =SUM(H66:I66) -> 0
A67: 61 | C67: 45 | D67: Nyílászáró csere IV. ütem (4 db. pavilonban) | F67: =G67+J67+K67 -> 10000 | H67: 10000 | J67: =SUM(H67:I67) -> 10000
A68: 62 | C68: 46 | D68: Fürdőszoba felújítása III. ütem (1 db. pavilonban) | F68: =G68+J68+K68 -> 6300 | H68: 6300 | J68: =SUM(H68:I68) -> 6300
A69: 63 | B69: 9 | D69: Veszprémi Családseg. és Gyermekjóléti Integrált Int. | E69: K
A70: 64 | C70: 47 | D70: Családok Átmeneti Otthonában (Pápai u.37.) a fennmaradó 6 db konvektor cseréje | F70: =G70+J70+K70 -> 2000 | H70: 2000 | J70: =SUM(H70:I70) -> 2000
A71: 65 | C71: 48 | D71: A Családok Átmeneti Otthona, Pápai út 37. telephelyen elavult, tönkrement fűtésrendszer cseréje | F71: =G71+J71+K71 -> 2000 | G71: 1942 | I71: 58 | J71: =SUM(H71:I71) -> 58
A72: 66 | D72: VKTT Egyesített Szociális Intézmény
A73: 67 | C73: 49 | D73: 1. sz. Idősek Otthona lift felvonó csere | F73: =G73+J73+K73 -> 12000 | G73: 3454 | I73: 8546 | J73: =SUM(H73:I73) -> 8546
A74: 68 | B74: 10 | D74: Agóra Veszprém Kulturális Központ | E74: K
A75: 69 | C75: 50 | D75: Bejárati lépcsők felújítása | F75: =G75+J75+K75 -> 2800 | H75: 2800 | J75: =SUM(H75:I75) -> 2800
A76: 70 | B76: 11 | D76: Művészetek Háza Veszprém Művelődési Ház és Kiállítóhely | E76: K
A77: 71 | D77: Vass-Gyűjtemény
A78: 72 | C78: 51 | D78: Kazán csere | F78: =G78+J78+K78 -> 2500 | H78: 2500 | J78: =SUM(H78:I78) -> 2500
A79: 73 | D79: Csikász Galéria Vár u.17.
A80: 74 | C80: 52 | D80: Kazán csere | F80: =G80+J80+K80 -> 2900 | I80: 2900 | J80: =SUM(H80:I80) -> 2900
A81: 75 | C81: 53 | D81: Irodaépület - padlóburkolatok cseréje | F81: =G81+J81+K81 -> 2100 | I81: 2100 | J81: =SUM(H81:I81) -> 2100
A82: 76 | B82: 12 | D82: Eötvös Károly Megyei Könyvtár | E82: K
A83: 77 | C83: 54 | D83: Tűzjelző, mozgásérzékelő javítása | F83: =G83+J83+K83 -> 5150 | H83: 5150 | J83: =SUM(H83:I83) -> 5150
A84: 78 | C84: 55 | D84: Fan-coil fűtési rendszer javítása | F84: =G84+J84+K84 -> 1500 | I84: 1500 | J84: =SUM(H84:I84) -> 1500
A85: 79 | C85: 56 | D85: Tűzjelző, mozgásérzékelő javítása, cseréje | F85: =G85+J85+K85 -> 2000 | I85: 2000 | J85: =SUM(H85:I85) -> 2000
A86: 80 | B86: 13 | D86: Laczkó Dezső Múzeum
A87: 81 | C87: 57 | D87: Raktárbázis (Felsőörs) villamos hálózat felújítás és riasztó kiépítése | F87: =G87+J87+K87 -> 2170 | G87: 1249 | I87: 921 | J87: =SUM(H87:I87) -> 921
A88: 82 | D88: Veszprémi Báthory István Általános Iskola és Köznevelési Típusú Sportiskola | E88: K
A89: 83 | C89: 58 | D89: Főzőkonyha padozat és burkolat felújítása | F89: =G89+J89+K89 -> 15000 | H89: 15000 | J89: =SUM(H89:I89) -> 15000
A90: 84 | D90: MINDÖSSZESEN: | F90: =SUM(F8:F89) -> 933148 | G90: =SUM(G8:G89) -> 159685 | H90: =SUM(H8:H89) -> 564991 | I90: =SUM(I8:I89) -> 208472 | J90: =SUM(J8:J89) -> 773463 | K90: =SUM(K8:K89) -> 0
B91: * Feladatellátás jellege:
B92: K= Magyarország helyi önkormányzatairól szóló 2011. évi CLXXXIX. törvény 13. § (1) bekezdése szerinti kötelező feladatok
B93: NK= Önkormányzat által önként vállalt feladatok
F94: =+F90-G90-J90-K90 -> 0

Sheet 9.Mérleg
B1: 9. melléklet a 13/2019. (IV.25.) önkormányzati rendelethez
B2: VESZPRÉM MEGYEI JOGÚ VÁROS ÖNKORMÁNYZATÁNAK MŰKÖDÉSI ÉS FELHALMOZÁSI
B3: KÖLTSÉGVETÉSI BEVÉTELEI ÉS KIADÁSAI 2019. ÉVBEN
H4: adatok eFt-ban
B5: A | C5: B | D5: C | F5: D | G5: E | H5: F
A6: 1 | C6: MŰKÖDÉSI KÖLTSÉGVETÉSI BEVÉTELEK | D6: 2019. évi eredeti előirányzat | E6: 2019. évi módosított előirányzat 1. | G6: MŰKÖDÉSI KÖLTSÉGVETÉSI KIADÁSOK | H6: 2019. évi eredeti előirányzat | I6: 2019. évi módosított előirányzat 1.
A7: 2 | B7: 1. | C7: Működési célú támogatások államháztartáson belülről | D7: ='1.Onbe'!J8+'1.Onbe'!J14 -> 3536785 | E7: ='1.Onbe'!L8+'1.Onbe'!L14 -> 3847242 | F7: 1. | G7: Személyi juttatások | H7: ='5.Inki'!J290+'6.Önk.műk.'!J933 -> 4219586 | I7: ='5.Inki'!J292+'6.Önk.műk.'!J935 -> 4561666
A8: 3 | B8: 2. | C8: Közhatalmi bevételek | D8: ='1.Onbe'!J15 -> 7765600 | E8: ='1.Onbe'!L15 -> 7765600 | F8: 2. | G8: Munkaadókat terhelő járulékok és szociális hozzájárulási adó | H8: ='5.Inki'!K290+'6.Önk.műk.'!K933 -> 900609 | I8: ='5.Inki'!K292+'6.Önk.műk.'!K935 -> 986780
A9: 4 | B9: 3. | C9: Működési bevételek | D9: ='1.Onbe'!J25+'1.Onbe'!J30 -> 1675132 | E9: ='1.Onbe'!L25+'1.Onbe'!L30 -> 1679687 | F9: 3. | G9: Dologi kiadások | H9: ='5.Inki'!L290+'6.Önk.műk.'!L933 -> 5250483 | I9: ='5.Inki'!L292+'6.Önk.műk.'!L935 -> 5491844
A10: 5 | B10: 4. | C10: Működési célú átvett pénzeszközök | D10: ='1.Onbe'!J31+'1.Onbe'!J32 -> 0 | E10: ='1.Onbe'!L31+'1.Onbe'!L32 -> 30 | F10: 4. | G10: Ellátottak pénzbeli juttatásai | H10: ='6.Önk.műk.'!M933 -> 34350 | I10: ='5.Inki'!M292+'6.Önk.műk.'!M935 -> 35178
A11: 6 | F11: 5. | G11: Egyéb működési célú kiadások (tartalékok nélkül) | H11: ='5.Inki'!N290+'6.Önk.műk.'!N933 -> 2606027 | I11: ='5.Inki'!N292+'6.Önk.műk.'!N935 -> 3723281
A12: 7 | F12: 6. | G12: Működési célú tartalékok | H12: ='2.Onki'!J15+'2.Onki'!J25 -> 255109 | I12: ='2.Onki'!L15+'2.Onki'!L25 -> 337204
A13: 8 | C13: Működési költségvetési bevételek összesen | D13: =SUM(D7:D12) -> 12977517 | E13: =SUM(E7:E12) -> 13292559 | G13: Működési költségvetési kiadások összesen | H13: =SUM(H7:H12) -> 13266164 | I13: =SUM(I7:I12) -> 15135953
A14: 9 | C14: FELHALMOZÁSI KÖLTSÉGVETÉSI BEVÉTELEK | G14: FELHALMOZÁSI KÖLTSÉGVETÉSI KIADÁSOK
A15: 10 | B15: 1. | C15: Felhalmozási célú támogatások államháztartáson belülről | D15: ='1.Onbe'!J34+'1.Onbe'!J38 -> 5273160 | E15: ='1.Onbe'!L34+'1.Onbe'!L38 -> 5608359 | F15: 1. | G15: Beruházási kiadások | H15: ='2.Onki'!J10+'2.Onki'!J27 -> 13178963 | I15: ='2.Onki'!L10+'2.Onki'!L27 -> 16426098
A16: 11 | B16: 2. | C16: Felhalmozási bevételek | D16: ='1.Onbe'!J39 -> 225000 | E16: ='1.Onbe'!L39+'1.Onbe'!L42 -> 225000 | F16: 2. | G16: Egyéb felhalmozási célú kiadások | H16: ='2.Onki'!J28 -> 197022 | I16: ='2.Onki'!L28 -> 205965
A17: 12 | B17: 3. | C17: Felhalmozási célú átvett pénzeszközök | D17: ='1.Onbe'!J43+'1.Onbe'!J44 -> 150000 | E17: ='1.Onbe'!L43+'1.Onbe'!L44 -> 151040 | F17: 3. | G17: Felújítási kiadások | H17: ='2.Onki'!J29 -> 564991 | I17: ='2.Onki'!L29 -> 773463
A18: 13 | F18: 4. | G18: Felhalmozási célú tartalékok | H18: ='2.Onki'!J21 -> 289409 | I18: ='2.Onki'!L21 -> 289409
A19: 14 | C19: Felhalmozási költségvetési bevételek összesen | D19: =SUM(D15:D18) -> 5648160 | E19: =SUM(E15:E18) -> 5984399 | G19: Felhalmozási költségvetési kiadások összesen | H19: =SUM(H15:H18) -> 14230385 | I19: =SUM(I15:I18) -> 17694935
A20: 15 | C20: Költségvetési bevételek összesen | D20: =SUM(D13,D19) -> 18625677 | E20: =SUM(E13,E19) -> 19276958 | G20: Költségvetési kiadások összesen | H20: =SUM(H13,H19) -> 27496549 | I20: =SUM(I13,I19) -> 32830888
A21: 16 | C21: MŰKÖDÉSI FINANSZÍROZÁSI BEVÉTELEK | G21: MŰKÖDÉSI FINANSZÍROZÁSI KIADÁSOK
A22: 17 | B22: 1. | C22: Rövid lejáratú hitel felvétele | F22: 1. | G22: Rövid lejáratú hitel tőkeösszegének törlesztése | H22: 0
A23: 18 | B23: 2. | C23: Költségvetési maradvány | D23: ='1.Onbe'!J52 -> 1315949 | E23: ='1.Onbe'!L52 -> 2879946 | F23: 2. | G23: Államháztartáson belüli megelőlegezések visszafizetése | H23: ='2.Onki'!J36 -> 96040 | I23: ='2.Onki'!L36 -> 96040
A24: 19 | B24: 3. | C24: Államháztartáson belüli megelőlegezések | D24: ='1.Onbe'!J50 -> 0 | E24: ='1.Onbe'!L50 -> 0
A25: 20 | C25: FELHALMOZÁSI FINANSZÍROZÁSI BEVÉTELEK | G25: FELHALMOZÁSI FINANSZÍROZÁSI KIADÁSOK
A26: 21 | B26: 4. | C26: Hosszú lejáratú hitel felvétele | D26: ='1.Onbe'!J63+'1.Onbe'!J62 -> 676488 | E26: ='1.Onbe'!L60 -> 676488 | F26: 3. | G26: Hosszú lejáratú hitel tőkeösszegének törlesztése | H26: ='2.Onki'!J38 -> 113595 | I26: ='2.Onki'!L38 -> 113595
A27: 22 | B27: 5. | C27: Rövid lejáratú hitel felvétele | F27: 4. | G27: Rövid lejáratú hitel tőkeösszegének törlesztése
A28: 23 | B28: 6. | C28: Költségvetési maradvány | D28: ='1.Onbe'!J56 -> 7088070 | E28: ='1.Onbe'!L56 -> 10207131
A29: 24 | C29: Finanszírozási bevételek összesen | D29: =SUM(D21:D28) -> 9080507 | E29: =SUM(E21:E28) -> 13763565 | G29: Finanszírozási kiadások összesen | H29: =SUM(H21:H28) -> 209635 | I29: =SUM(I21:I28) -> 209635
A30: 25 | C30: ÖSSZES BEVÉTEL | D30: =SUM(D20,D29) -> 27706184 | E30: =SUM(E20,E29) -> 33040523 | G30: ÖSSZES KIADÁS | H30: =SUM(H20,H29) -> 27706184 | I30: =SUM(I20,I29) -> 33040523
A31: 26 | C31: Költségvetési egyenleg összege | D31: =+D20-H20 -> -8870872 | E31: =+E20-I20 -> -13553930
A32: 27 | C32: ebből működési: | D32: =+D13-H13 -> -288647 | E32: =+E13-I13 -> -1843394
A33: 28 | C33: ebből felhalmozási: | D33: =+D19-H19 -> -8582225 | E33: =+E19-I19 -> -11710536
A34: 29 | C34: Finanszírozási kiadásokkal korrigált hiány összege | D34: =+D31-H29 -> -9080507 | E34: =+E31-I29 -> -13763565
A35: 30 | C35: Hiány finanszírozása belső finanszírozásra szolgáló költségvetési bevétel összegével | D35: =D28+D23 -> 8404019 | E35: =E28+E23 -> 13087077
A36: 31 | C36: Hiány finanszírozása külső finanszírozásra szolgáló költségvetési bevétel összegével | D36: =D26 -> 676488 | E36: =E26 -> 676488
A37: 32 | C37: Működési bevételek aránya %-ban | D37: =(D13+D22+D23+D24)/D30 -> 0.51589443 | E37: =(E13+E22+E23+E24)/E30 -> 0.48947485 | G37: Működési kiadások aránya %-ban | H37: =(H13+H22+H23)/H30 -> 0.48228237 | I37: =(I13+I22+I23)/I30 -> 0.46100944
A38: 33 | C38: Felhalmozási bevételek aránya %-ban | D38: =(D19+D26+D27+D28)/D30 -> 0.48410557 | E38: =(E19+E26+E27+E28)/E30 -> 0.51052515 | G38: Felhalmozási kiadások aránya %-ban | H38: =(H19+H26+H27)/H30 -> 0.51771763 | I38: =(I19+I26+I27)/I30 -> 0.53899056

Sheet 10.Létszám
B1: 10. melléklet a 13/2019. (IV.25.) önkormányzati rendelethez
C2: KIMUTATÁS
B3: a 2019. évi engedélyezett létszámról - 2019. április
B4: A | C4: B | D4: C | E4: D | F4: E | G4: F
B5: Cím | C5: Megnevezés | D5: 2018. évi engedélyezett létszám | E5: Módosítás | F5: 2019. évi engedélyezett létszám | G5: Megjegyzés
A6: 1 | B6: 1 | C6: Veszprémi Vadvirág Körzeti Óvoda | D6: 38 | F6: =SUM(D6:E6) -> 38
A7: 2 | C7: Közfoglalkoztatottak létszáma | D7: 0 | F7: =SUM(D7:E7) -> 0
A8: 3 | B8: 2 | C8: Veszprémi Bóbita Körzeti Óvoda | D8: 70 | F8: =SUM(D8:E8) -> 70
A9: 4 | C9: Közfoglalkoztatottak létszáma | D9: 0 | F9: =SUM(D9:E9) -> 0
A10: 5 | B10: 3 | C10: Veszprémi Ringató Körzeti Óvoda | D10: 83.5 | F10: =SUM(D10:E10) -> 83.5
A11: 6 | C11: Közfoglalkoztatottak létszáma | D11: 0 | F11: =SUM(D11:E11) -> 0
A12: 7 | B12: 4 | C12: Veszprémi Egry úti Körzeti Óvoda | D12: 60 | F12: =SUM(D12:E12) -> 60
A13: 8 | C13: Közfoglalkoztatottak létszáma | D13: 0 | F13: =SUM(D13:E13) -> 0
A14: 9 | B14: 5 | C14: Veszprémi Csillag úti Körzeti Óvoda | D14: 61.5 | F14: =SUM(D14:E14) -> 61.5
A15: 10 | C15: Közfoglalkoztatottak létszáma | D15: 0 | F15: =SUM(D15:E15) -> 0
A16: 11 | B16: 6 | C16: Veszprémi Kastélykert Körzeti Óvoda | D16: 31 | F16: =SUM(D16:E16) -> 31
A17: 12 | C17: Közfoglalkoztatottak létszáma | D17: 2 | F17: =SUM(D17:E17) -> 2
A18: 13 | B18: 7 | C18: Veszprémi Bölcsődei és Egészségügyi Alapellátási Integrált Intézmény | D18: 204 | F18: =SUM(D18:E18) -> 204
A19: 14 | C19: Közfoglalkoztatottak létszáma | D19: 0 | F19: =SUM(D19:E19) -> 0
A20: 15 | B20: 8 | C20: Göllesz Viktor Fogyatékos Személyek Nappali Intézménye | D20: 13.25 | F20: =SUM(D20:E20) -> 13.25
A21: 16 | C21: Közfoglalkoztatottak létszáma | D21: 0 | F21: =SUM(D21:E21) -> 0
A22: 17 | B22: 9 | C22: Veszprémi Családsegítő és Gyermekjóléti Integrált Intézmény | D22: 63 | F22: =SUM(D22:E22) -> 63
A23: 18 | C23: Közfoglalkoztatottak létszáma | D23: 0.16 | F23: =SUM(D23:E23) -> 0.16
A24: 19 | B24: 10 | C24: Agóra Veszprém Kulturális Központ | D24: 24.25 | F24: =SUM(D24:E24) -> 24.25
A25: 20 | B25: 11 | C25: Művészetek Háza Veszprém Művelődési Ház és Kiállítóhely | D25: 22 | F25: =SUM(D25:E25) -> 22
A26: 21 | B26: 12 | C26: Eötvös Károly Megyei Könyvtár | D26: 50.5 | F26: =SUM(D26:E26) -> 50.5
A27: 22 | C27: Közfoglalkoztatottak létszáma | D27: 0 | F27: =SUM(D27:E27) -> 0
A28: 23 | B28: 13 | C28: Laczkó Dezső Múzeum | D28: 52 | F28: =SUM(D28:E28) -> 52
A29: 24 | C29: Közfoglalkoztatottak létszáma | D29: 0 | F29: =SUM(D29:E29) -> 0
A30: 25 | C30: határozott idejű foglalkozatottak létszáma (2019. március 1 - 2019. december 31-i) | D30: 4 | F30: =SUM(D30:E30) -> 4
A31: 26 | C31: határozott idejű foglalkozatottak létszáma (2019. január 1 - 2019. február 28-i) | D31: 6 | F31: =SUM(D31:E31) -> 6
A32: 27 | B32: 14 | C32: Kabóca Bábszínház | D32: 20.5 | F32: =SUM(D32:E32) -> 20.5
A33: 28 | C33: Közfoglalkoztatottak létszáma | D33: 2 | F33: =SUM(D33:E33) -> 2
A34: 29 | B34: 15 | C34: Veszprémi Petőfi Színház | D34: 102 | F34: =SUM(D34:E34) -> 102
A35: 30 | C35: Közfoglalkoztatottak létszáma | D35: 0 | F35: =SUM(D35:E35) -> 0
A36: 31 | B36: 16 | C36: Veszprémi Intézményi Szolgáltató Szervezet | D36: 53.25 | F36: =SUM(D36:E36) -> 53.25
A37: 32 | C37: Intézmények összesen: | D37: =SUM(D6:D36) -> 962.91 | E37: =SUM(E6:E36) -> 0 | F37: =SUM(F6:F36) -> 962.91
A38: 33 | B38: 17 | C38: VMJV Polgármesteri Hivatal | D38: 198 | E38: 2 | F38: =D38+E38 -> 200 | G38: 2019. május 1-től - 1 fő 36 hónapra, 1 fő 18 hónapra
A39: 34 | B39: 18 | C39: VMJV Önkormányzata
A40: 35 | C40: Polgármester, Alpolgármesterek | D40: 3 | F40: =D40+E40 -> 3
A41: 36 | C41: Közfoglalkoztatottak és diákmunkások létszáma | D41: 9.88 | F41: =D41+E41 -> 9.88
A42: 37 | C42: MINDÖSSZESEN: | D42: =SUM(D37:D41) -> 1173.79 | E42: =SUM(E37:E41) -> 2 | F42: =SUM(F37:F41) -> 1175.79
A43: 38 | C43: ebből:
A44: 39 | C44: Közfoglalkoztatottak és diákmunkások létszáma | D44: =+D7+D9+D11+D13+D15+D17+D19+D21+D27+D29+D33+D35+D41 -> 13.88 | E44: =+E7+E9+E11+E13+E15+E17+E19+E21+E27+E29+E33+E35+E41 -> 0 | F44: =+F7+F9+F11+F13+F15+F17+F19+F21+F27+F29+F33+F35+F41 -> 13.88

Sheet 11.Hitel
B1: 11. melléklet a 13/2019. (IV.25.) önkormányzati rendelethez
B2: KIMUTATÁS
B3: Veszprém Megyei Jogú Város Önkormányzata
B4: hiteltörlesztésének, hitelállományának és egyéb kötelezettségeinek alakulásáról
T5: adatok eFt-ban
B6: A | D6: B | E6: C | F6: D | G6: E | H6: F | I6: G | J6: H | K6: I | L6: J | M6: K | N6: L | O6: M | P6: N | Q6: O | R6: P | S6: Q | T6: R | U6: S
B7: Hitel megnevezése | D7: Hitelt nyújtó pénzintézet | E7: Hitelszerződés dátuma | F7: Lejárat idő- pontja | G7: Hitelkeret | H7: Hitel-állomány 2018.12.31 | I7: Hitelfelvétel 2019. (előző évek hitel-szerződésén alapuló) | J7: Hitelfelvétel 2019. ÚJ | K7: Hitelfelvétel 2020 | L7: Tőke-törlesztés 2019. | M7: Hitel-állomány 2019.12.31 | N7: Kamat 2019 | O7: Tőke-törlesztés 2020 | P7: Tőke-törlesztés 2021 | Q7: Tőke-törlesztés 2022 | R7: Tőke-törlesztés 2023-tól | S7: Kamat 2020 | T7: Kamat 2021 | U7: Kamat 2022
A8: 1 | B8: 1. | C8: Rövid lejáratú hitel (1500M Ft) | D8: OTP Bank | E8: 2019.06.01 | F8: 43373 | G8: 1500000 | H8: 0 | J8: 0 | K8: 0 | L8: 0 | M8: =H8+J8-L8+I8 -> 0 | N8: 2000 | O8: 0
A9: 2 | B9: 2. | C9: Beruházási hitel - SMO 2011. | D9: UniCredit Bank | E9: 40736 | F9: 48040 | G9: 484000 | H9: 51965 | J9: 0 | K9: 0 | L9: 12340 | M9: =H9+J9-L9+I9 -> 39625 | N9: 1148 | O9: 12340 | P9: 12340 | Q9: 12340 | R9: =M9-O9-P9-Q9 -> 2605 | S9: 849 | T9: 550 | U9: 250
A10: 3 | B10: 3. | C10: Beruházási hitel - Célhitel 2013. | D10: UniCredit Bank | E10: 41502 | F10: 45153 | G10: 650000 | H10: 104453 | J10: 0 | K10: 0 | L10: 57772 | M10: =H10+J10-L10+I10 -> 46681 | N10: 2310 | O10: 46681 | P10: 0 | S10: 698 | T10: 0
A11: 4 | B11: 4. | C11: Beruházási hitel - MFB 2013. | D11: Takarékbank | E11: 41555 | F11: 48859 | G11: 200000 | H11: 121329 | J11: 0 | K11: 0 | L11: 8918 | M11: =H11+J11-L11+I11 -> 112411 | N11: 3751 | O11: 8918 | P11: 8918 | Q11: 8918 | R11: =M11-O11-P11-Q11 -> 85657 | S11: 3467 | T11: 3184 | U11: 2900
A12: 5 | B12: 5. | C12: Beruházási hitel - MFB 2014 | D12: UniCredit Bank | E12: 41759 | F12: 49064 | G12: 200000 | H12: 137726 | J12: 0 | K12: 0 | L12: 8886 | M12: =H12+J12-L12+I12 -> 128840 | N12: 3099 | O12: 8886 | P12: 8886 | Q12: 8886 | R12: =M12-P12-Q12-O12 -> 102182 | S12: 2894 | T12: 2689 | U12: 2484
A13: 6 | B13: 6. | C13: Beruházási hitel - Célhitel 2014 | D13: OTP Bank | E13: 41759 | F13: 45285 | G13: 151317 | H13: 97200 | J13: 0 | K13: 0 | L13: 19679 | M13: =H13+J13-L13+I13 -> 77521 | N13: 1572 | O13: 19679 | P13: 19678 | Q13: 19679 | R13: =M13-P13-Q13-O13 -> 18485 | S13: 1227 | T13: 883 | U13: 539
A14: 7 | B14: 7. | C14: Felhalmozási hitel - Célhitel 2017 | D14: OTP Bank | E14: 42943 | F14: 46568 | G14: 99000 | H14: 51512 | I14: 47488 | J14: 0 | K14: 0 | L14: 6000 | M14: =H14+J14-L14+I14 -> 93000 | N14: 1307 | O14: 12000 | P14: 12000 | Q14: 12000 | R14: =M14-P14-Q14-O14 -> 57000 | S14: 1177 | T14: 1017 | U14: 858
A15: 8 | B15: 8. | C15: Felhalmozási hitel - Célhitel 2019 | E15: 2019. | F15: 2029. | G15: 1260000 | J15: 629000 | K15: 631000 | M15: =H15+J15-L15+I15+K15 -> 1260000 | N15: =1500+1386 -> 2886 | O15: 0 | P15: 76364 | Q15: 152727 | R15: =M15-P15-Q15-O15 -> 1030909 | S15: 21136 | T15: 20683 | U15: 18373
A16: 9 | B16: I. | C16: Pénzintézetekkel szemben fenálló kötelezettségek összesen | H16: =SUM(H8:H14) -> 564185 | I16: =SUM(I8:I14) -> 47488 | J16: =SUM(J8:J15) -> 629000 | K16: =SUM(K8:K15) -> 631000 | L16: =SUM(L8:L14) -> 113595 | M16: =SUM(M8:M14) -> 498078 | N16: =SUM(N8:N15) -> 18073 | O16: =SUM(O8:O15) -> 108504 | P16: =SUM(P8:P15) -> 138186 | Q16: =SUM(Q8:Q15) -> 214550 | R16: =SUM(R8:R15) -> 1296838 | S16: =SUM(S8:S15) -> 31448 | T16: =SUM(T8:T15) -> 29006 | U16: =SUM(U8:U15) -> 25404

Sheet 12.Projekt
B1: 12. melléklet a 13/2019. (IV.25.) önkormányzati rendelethez
B2: KIMUTATÁS
B3: a Veszprém Megyei Jogú Város Önkormányzata Támogatási Szerződéssel rendelkező
B4: Európai Uniós forrásból finanszírozott támogatással megvalósuló programok, projektek bevételeiről és kiadásairól az Ávr. 24. § (1) bekezdés a.) és bd.) pontjainak megfelelően - 2019. április
Q5: adatok eFt-ban
B6: A | C6: B | D6: C | F6: D | G6: E | H6: F | I6: G | J6: H | K6: I | L6: J | M6: K | N6: L | O6: M | P6: N | Q6: O | R6: P
B7: Sorszám | C7: Program megnevezés | D7: Program megvalósításának ideje | F7: Projekt forrás összetétel | M7: Projekt költség megbontás | R7: Projekt teljes költség
F8: Saját erő | G8: EU támogatás | L8: EU támogatás összesen
G9: 2016. évi tény | H9: 2017. évi tény | I9: 2018. tény | J9: 2019. | K9: 2020-tól | M9: 2016. évi tény | N9: 2017. évi tény | O9: 2018. tény | P9: 2019. | Q9: 2020-tól
A10: 1 | B10: 1 | C10: TOP-6.2.1-16-VP1-2018-00002 Egry úti óvoda újjáépítése | D10: 2018-2021 | F10: =+R10-L10 -> 187554 | J10: 917181 | K10: 15000 | L10: =SUM(G10:K10) -> 932181 | P10: 918181 | Q10: =186554+15000 -> 201554 | R10: =SUM(M10:Q10) -> 1119735
A11: 2 | B11: 2 | C11: TOP-6.2.1-16-VP1-2018-00001 A Veszprémi Bölcsődei és Egészségügyi Alapellátási Integrált Intézmény Módszertani Bölcsődéje megújítása, illetve bölcsődei eszközbeszerzések | D11: 2018-2021 | F11: =+R11-L11 -> 113560 | J11: 87086 | L11: =SUM(G11:K11) -> 87086 | O11: 4834 | P11: =86052+109000 -> 195052 | Q11: 760 | R11: =SUM(M11:Q11) -> 200646
A12: 3 | B12: 3 | C12: TOP-6.6.1-16-VP1-2018-00006 - Cserhát ltp.1.sz.alatti gyermekorvosi rendelők felújítása | D12: 2019-2020 | F12: =+R12-L12 -> 20896 | J12: 26507 | L12: =SUM(G12:K12) -> 26507 | O12: 3556 | P12: =28738 -> 28738 | Q12: 15109 | R12: =SUM(M12:Q12) -> 47403
A13: 4 | B13: 4 | C13: TOP-6.5.1-16-VP1-2018-00005 - Március 15. utcai Sportcsarnok és Uszoda energetikai megújítása | D13: 2018-2021 | F13: =+R13-L13 -> 0 | J13: 788115 | K13: 41400 | L13: =SUM(G13:K13) -> 829515 | O13: 6414 | P13: =781615+86 -> 781701 | Q13: 41400 | R13: =SUM(M13:Q13) -> 829515
A14: 5 | B14: 5 | C14: TOP 6.5.1-16 Önkormányzati épületek energetikai korszerűsítése | D14: 2019-2021 | F14: =+R14-L14 -> 537845 | J14: 248370 | L14: =SUM(G14:K14) -> 248370 | M14: 889 | N14: 9309 | P14: =248370+4128 -> 252498 | Q14: 523519 | R14: =SUM(M14:Q14) -> 786215
A15: 6 | B15: 6 | C15: TOP-6.5.1-16-VP1-2018-00002 Völgyikút utca 2. szám alatti épület energetikai megújítása | D15: 2018-2021 | F15: =+R15-L15 -> 41474 | J15: 134273 | L15: =SUM(G15:K15) -> 134273 | M15: 2921 | N15: 3620 | P15: 134273 | Q15: =34933 -> 34933 | R15: =SUM(M15:Q15) -> 175747
A16: 7 | B16: 7 | C16: TOP-6.2.1-15-VP1-2016-00002 Gyulafirátóti óvoda újjáépítése | D16: 2016-2018 | F16: =+R16-L16 -> 241534 | G16: 400000 | J16: 241732 | L16: =SUM(G16:K16) -> 641732 | M16: 12483 | N16: 9241 | O16: 5099 | P16: =516178+241732+47488+51046-1 -> 856443 | R16: =SUM(M16:Q16) -> 883266
A17: 8 | B17: 8 | C17: TOP-6.4.1-15-VP1-2016-00001 Közlekedésbiztonsági és kerékpárosbarát fejlesztések megvalósulása Veszprém város területén | D17: 2016-2019 | F17: =+R17-L17 -> 143397 | G17: 977327 | J17: 27091 | L17: =SUM(G17:K17) -> 1004418 | M17: 25062 | N17: 32060 | O17: =393152+1 -> 393153 | P17: 697540 | R17: =SUM(M17:Q17) -> 1147815
A18: 9 | B18: 9 | C18: TOP-6.4.1-16-VP1-2018-00002 Márkó-Bánd települések irányába kerékpárút építése | D18: 2018-2020 | F18: =+R18-L18 -> 0 | J18: =43600+458000 -> 501600 | L18: =SUM(G18:K18) -> 501600 | O18: 326 | P18: 501274 | R18: =SUM(M18:Q18) -> 501600
A19: 10 | B19: 10 | C19: TOP-6.8.2-15-VPI-2016-00001 Helyi foglalkoztatási együttműködések a megyei jogú város területén és várostérségben, foglalkoztatási együttműködés a veszprémi járás területén | D19: 2016-2020 | F19: =+R19-L19 -> 0 | G19: 26790 | L19: =SUM(G19:K19) -> 26790 | M19: 8890 | N19: 9697 | O19: 8097 | P19: 106 | R19: =SUM(M19:Q19) -> 26790
A20: 11 | B20: 11 | C20: TOP-6.1.5-16-VP1-2017-00001 Északi Iparterület Közlekedés-fejlesztése | D20: 2016-2021 | F20: =+R20-L20 -> 0 | I20: 2092161 | J20: 607839 | L20: =SUM(G20:K20) -> 2700000 | M20: 40063 | N20: 83854 | O20: 327034 | P20: 2249049 | R20: =SUM(M20:Q20) -> 2700000
A21: 12 | B21: 12 | C21: DTP1-1-311-2.2 Interreg Duna Nemzetközi Program Networld* | D21: 2017-2019 | F21: =+R21-L21 -> 1909 | H21: 3765 | I21: 7428 | J21: =21326+3733 -> 25059 | L21: =SUM(G21:K21) -> 36252 | N21: 7899 | O21: 22368 | P21: =7894 -> 7894 | R21: =SUM(M21:Q21) -> 38161
A22: 13 | B22: 13 | C22: TOP-6.3.3-16-VP1-2017-00001 Dózsaváros, Pápai úti csapadékvíz-elvezető rendszer fejlesztése | D22: 2018-2019 | F22: =+R22-L22 -> 31406 | I22: 227554 | J22: 10916 | L22: =SUM(G22:K22) -> 238470 | O22: 4460 | P22: =42322+223094 -> 265416 | R22: =SUM(M22:Q22) -> 269876
A23: 14 | B23: 14 | C23: TOP-6.6.1-16-VP1-2017-00001 Gyulafirátóti rendelő felújítása | D23: 2018-2019 | F23: =+R23-L23 -> 3 | I23: 64997 | J23: 2003 | L23: =SUM(G23:K23) -> 67000 | M23: 1994 | O23: 32064 | P23: =2003+30942 -> 32945 | R23: =SUM(M23:Q23) -> 67003
A24: 15 | B24: 15 | C24: EFOP-4.1.8-16-VP1-2017-00020 "Az Eötvös Károly Megyei Könyvtár tanulás segítő infrastrukturális fejlesztései" | D24: 2017-2019 | F24: =+R24-L24 -> 6731 | I24: 32728 | L24: =SUM(G24:K24) -> 32728 | N24: 6731 | P24: 32728 | R24: =SUM(M24:Q24) -> 39459
A25: 16 | B25: 16 | C25: TOP-6.4.1-16-VP1-17-00001 Kerékpárút építése Alsóörs - Felsőörs irányába | D25: 2017-2020 | F25: =+R25-L25 -> 0 | I25: 19671 | J25: 208329 | K25: 12000 | L25: =SUM(G25:K25) -> 240000 | O25: 9749 | P25: 218251 | Q25: 12000 | R25: =SUM(M25:Q25) -> 240000
A26: 17 | B26: 17 | C26: KÖFOP-1.2.1-VEKOP-16-2017-01268 Veszprém Megyei Jogú Város Önkormányzata ASP Központhoz való csatlakozása ** | D26: 2017-2018 | F26: =+R26-L26 -> 0 | H26: 9000 | I26: -2700 | L26: =SUM(G26:K26) -> 6300 | O26: 1582 | P26: 4718 | R26: =SUM(M26:Q26) -> 6300
A27: 18 | B27: 18 | C27: Erasmus +K3 SporTown | D27: 2018-2019 | F27: =+R27-L27 -> 1500 | I27: 9031 | J27: 2258 | L27: =SUM(G27:K27) -> 11289 | O27: 7830 | P27: 4959 | R27: =SUM(M27:Q27) -> 12789
A28: 19 | B28: 19 | C28: EFOP-1.9.9-17-2017-00004 Még jobb kezekben - Veszprémben | D28: 2018-2019 | F28: =+R28-L28 -> 0 | I28: 17017 | J28: 8958 | L28: =SUM(G28:K28) -> 25975 | O28: 12413 | P28: =13561+1 -> 13562 | R28: =SUM(M28:Q28) -> 25975
A29: 20 | B29: 20 | C29: TOP-6.6.1-16-VP1-2017-00002 Kádártai rendelő kialakítása | D29: 2018-2019 | F29: =+R29-L29 -> 5021 | I29: 58534 | J29: 3081 | L29: =SUM(G29:K29) -> 61615 | O29: 143 | P29: 66493 | R29: =SUM(M29:Q29) -> 66636
A30: 21 | B30: 21 | C30: 601835-CITIZ-1-2018-1-HU-CITIZ-NT Reveal YouropEaN Cultural Heritage/Tárd fel európai kulturális örökségedet (ENriCH) | D30: 2018-2020 | F30: =+R30-L30 -> 700 | I30: 24175 | K30: 24175 | L30: =SUM(G30:K30) -> 48350 | O30: 1176 | P30: =8950+22999 -> 31949 | Q30: =15225+700 -> 15925 | R30: =SUM(M30:Q30) -> 49050
A31: 22 | B31: 22 | C31: TOP-6.6.1-16-VP1-2018-00003 Jutasi u. 59. szám alatti orvosi rendelő megújítása | D31: 2018-2019 | F31: =+R31-L31 -> 2249 | I31: 71352 | L31: =SUM(G31:K31) -> 71352 | O31: 4926 | P31: 68675 | R31: =SUM(M31:Q31) -> 73601
A32: 23 | B32: 23 | C32: GINOP - 7.1.9-17-2018-00023 Veszprém kulturális turisztikai kínálatának fejlesztése | D32: 2018-2020 | F32: =+R32-L32 -> 0 | I32: 558299 | K32: 793085 | L32: =SUM(G32:K32) -> 1351384 | O32: 28000 | P32: 530299 | Q32: 793085 | R32: =SUM(M32:Q32) -> 1351384
A33: 24 | B33: 24 | C33: TOP-6.5.1-16-VP1-2018-00004 Aprófalvi bölcsőde energetikai korszerűsítése | D33: 2018-2021 | F33: =+R33-L33 -> 59476 | J33: 223100 | L33: =SUM(G33:K33) -> 223100 | N33: 6699 | P33: 223100 | Q33: 52777 | R33: =SUM(M33:Q33) -> 282576
A34: 25 | B34: 25 | C34: TOP-6.5.1-16-VP1-2018-00006 Módszertani bölcsőde energetikai megújítása | D34: 2018-2021 | F34: =+R34-L34 -> 93006 | J34: 173975 | L34: =SUM(G34:K34) -> 173975 | O34: 6401 | P34: =215705+44000 -> 259705 | Q34: 875 | R34: =SUM(M34:Q34) -> 266981
A35: 26 | B35: 26 | C35: TOP-6.5.1-16-VP1-2018-00003 Laczkó Dezső Múzeum épületének energetikai megújítása | D35: 2018-2019 | F35: =+R35-L35 -> 273789 | J35: 108100 | L35: =SUM(G35:K35) -> 108100 | P35: =147420+44677 -> 192097 | Q35: =29144+160648 -> 189792 | R35: =SUM(M35:Q35) -> 381889
A36: 27 | B36: 27 | C36: Urbact Innova-tor * | D36: 2019-2021 | F36: =+R36-L36 -> 5140 | J36: 5696 | K36: 10537 | L36: =SUM(G36:K36) -> 16233 | P36: 9134 | Q36: 12239 | R36: =SUM(M36:Q36) -> 21373
A37: 28 | B37: 28 | C37: TOP-6.6.1-16-VP1-2018-00005 Ördögárok u. 5. szám alatti orvosi rendelő megújítása | D37: 2019-2020 | F37: =+R37-L37 -> 24517 | J37: 53492 | L37: =SUM(G37:K37) -> 53492 | O37: 2459 | P37: 53492 | Q37: 22058 | R37: =SUM(M37:Q37) -> 78009
A38: 29 | B38: 29 | C38: TOP-6.6.1-16-VP1-2018-00004 Vilonyai utca 2/B szám alatti orvosi rendelő megújítása | D38: 2019-2020 | F38: =+R38-L38 -> 9148 | J38: 39413 | L38: =SUM(G38:K38) -> 39413 | O38: 1956 | P38: =39537 -> 39537 | Q38: 7068 | R38: =SUM(M38:Q38) -> 48561
A39: 30 | B39: 30 | C39: EFOP-3.3.2-16-2016-00107 Kulturális intézmények a köznevelés eredményességéért | D39: 2018-2019 | F39: =+R39-L39 -> 0 | I39: 27967 | L39: =SUM(G39:K39) -> 27967 | O39: 4679 | P39: 23288 | R39: =SUM(M39:Q39) -> 27967
A40: 31 | B40: 31 | C40: EFOP-4.1.9-16-2017-00014 A múzeumi és levéltári intézményrendszer tanulás segítő infrastrukturális fejlesztései -Laczkó Dezső Múzeumban oktatótermek és kiszolgáló helyiségek kialakítása*** | D40: 2017-2019 | F40: =+R40-L40 -> 16308 | I40: 29873 | L40: =SUM(G40:K40) -> 29873 | N40: 750 | O40: 1550 | P40: 43881 | R40: =SUM(M40:Q40) -> 46181
A41: 32 | B41: Összesen | F41: =SUM(F10:F40) -> 1817163 | G41: =SUM(G10:G40) -> 1404117 | H41: =SUM(H10:H40) -> 12765 | I41: =SUM(I10:I40) -> 3238087 | J41: =SUM(J10:J40) -> 4444174 | K41: =SUM(K10:K40) -> 896197 | L41: =SUM(L10:L40) -> 9995340 | M41: =SUM(M10:M40) -> 92302 | ... R41: =SUM(R10:R40) -> 11812503
C42: * A Duna Nemzetközi Interreg Program kapcsán az összes támogatás összevontan került feltüntetésre (85% EU és a 10% Nemzeti támogatás) A támogatási szerződésben €-ban van, 2017. jan. 12-i MNB deviza-árfolyammal: 307,71 forinttal átszámolva.
C43: * Az Urbact Innova-tor támogatása a szerződésben €-ban van meghatározva, az átszámítás 316.39 Ft/EUR-val történt
C44: ** Ezen projektek esetében a 2018. évi EU támogatás negatív előirányzata az EU támogatás visszautalását jelenti.
C45: *** A projekt a támogatási szerződés szerint nettó módon finanszírozott (az előirányzatok az ÁFA összegét nem tartalmazzák)

Sheet 13.Képvis.
B1: 13. melléklet a 13/2019. (IV.25.) önkormányzati rendelethez
B2: A 2019. évi választókerületi alap megoszlása feladatonként
B3: 2019. április hó
O4: adatok eFt-ban
B5: A | D5: B | E5: C | F5: D | G5: E | H5: F | I5: G | J5: H | K5: I | L5: J | M5: K | N5: L | O5: M | P5: N | Q5: O
B6: V á l a s z t ó k e r ü l e t | D6: Beruh. | E6: Felúj. és karbantartás | F6: Utak- | G6: Parkfennt. | H6: Köztiszt. | I6: Város | J6: Környezet- | K6: Igaz- | L6: Sport | M6: Civil Szerv. | N6: Intézményi | O6: Tartalék | Q6: Összesen
F7: hidak | H7: feladatok | I7: Gazdálk. | J7: védelmi fel. | K7: gatás | M7: támogatása | N7: támogatás | O7: Költségv. | P7: Kv.-i maradv.
A8: 1 | B8: 1. | C8: eredeti ei. + költségvetési maradvány | O8: 2000 | P8: 468 | Q8: =SUM(D8:P8) -> 2468
A9: 2 | C9: módosítás- | I9: 320 | K9: 50 | N9: 340 | O9: -242 | P9: -468 | Q9: =SUM(D9:P9) -> 0
A10: 3 | C10: módosított előirányzat 1. | D10: =SUM(D8:D9) -> 0 | E10: =SUM(E8:E9) -> 0 | F10: =SUM(F8:F9) -> 0 | G10: =SUM(G8:G9) -> 0 | H10: =SUM(H8:H9) -> 0 | I10: =SUM(I8:I9) -> 320 | J10: =SUM(J8:J9) -> 0 | K10: =SUM(K8:K9) -> 50 | ... Q10: =SUM(Q8:Q9) -> 2468
A11: 4 | B11: 2. | C11: eredeti ei. + költségvetési maradvány | O11: 2000 | P11: 2054 | Q11: =SUM(D11:P11) -> 4054
A12: 5 | C12: módosítás- | G12: =200+200 -> 400 | N12: =100+200+200 -> 500 | P12: -900 | Q12: =SUM(D12:P12) -> 0
A13: 6 | C13: módosított előirányzat 1. | D13: =SUM(D11:D12) -> 0 | E13: =SUM(E11:E12) -> 0 | F13: =SUM(F11:F12) -> 0 | G13: =SUM(G11:G12) -> 400 | H13: =SUM(H11:H12) -> 0 | I13: =SUM(I11:I12) -> 0 | J13: =SUM(J11:J12) -> 0 | K13: =SUM(K11:K12) -> 0 | ... Q13: =SUM(Q11:Q12) -> 4054
A14: 7 | B14: 3. | C14: eredeti ei. + költségvetési maradvány | O14: 2000 | P14: 651 | Q14: =SUM(D14:P14) -> 2651
A15: 8 | C15: módosítás- | G15: 200 | I15: 300 | N15: 770 | O15: -619 | P15: -651 | Q15: =SUM(D15:P15) -> 0
A16: 9 | C16: módosított előirányzat 1. | D16: =SUM(D14:D15) -> 0 | E16: =SUM(E14:E15) -> 0 | F16: =SUM(F14:F15) -> 0 | G16: =SUM(G14:G15) -> 200 | H16: =SUM(H14:H15) -> 0 | I16: =SUM(I14:I15) -> 300 | J16: =SUM(J14:J15) -> 0 | K16: =SUM(K14:K15) -> 0 | ... Q16: =SUM(Q14:Q15) -> 2651
A17: 10 | B17: 4. | C17: eredeti ei. + költségvetési maradvány | O17: 2000 | P17: 2287 | Q17: =SUM(D17:P17) -> 4287
A18: 11 | C18: módosítás- | G18: 150 | I18: 200 | N18: 800 | P18: -1150 | Q18: =SUM(D18:P18) -> 0
A19: 12 | C19: módosított előirányzat 1. | D19: =SUM(D17:D18) -> 0 | E19: =SUM(E17:E18) -> 0 | F19: =SUM(F17:F18) -> 0 | G19: =SUM(G17:G18) -> 150 | H19: =SUM(H17:H18) -> 0 | I19: =SUM(I17:I18) -> 200 | J19: =SUM(J17:J18) -> 0 | K19: =SUM(K17:K18) -> 0 | ... Q19: =SUM(Q17:Q18) -> 4287
A20: 13 | B20: 5. | C20: eredeti ei. + költségvetési maradvány | O20: 2000 | P20: 292 | Q20: =SUM(D20:P20) -> 2292
A21: 14 | C21: módosítás- | G21: 200 | N21: =425+700 -> 1125 | O21: -1033 | P21: -292 | Q21: =SUM(D21:P21) -> 0
A22: 15 | C22: módosított előirányzat 1. | D22: =SUM(D20:D21) -> 0 | E22: =SUM(E20:E21) -> 0 | F22: =SUM(F20:F21) -> 0 | G22: =SUM(G20:G21) -> 200 | H22: =SUM(H20:H21) -> 0 | I22: =SUM(I20:I21) -> 0 | J22: =SUM(J20:J21) -> 0 | K22: =SUM(K20:K21) -> 0 | ... Q22: =SUM(Q20:Q21) -> 2292
A23: 16 | B23: 6. | C23: eredeti ei. + költségvetési maradvány | D23: 900 | M23: 300 | O23: 2000 | P23: 1163 | Q23: =SUM(D23:P23) -> 4363
A24: 17 | C24: módosítás- | G24: 60 | N24: 150 | P24: -210 | Q24: =SUM(D24:P24) -> 0
A25: 18 | C25: módosított előirányzat 1. | D25: =SUM(D23:D24) -> 900 | E25: =SUM(E23:E24) -> 0 | F25: =SUM(F23:F24) -> 0 | G25: =SUM(G23:G24) -> 60 | H25: =SUM(H23:H24) -> 0 | I25: =SUM(I23:I24) -> 0 | J25: =SUM(J23:J24) -> 0 | K25: =SUM(K23:K24) -> 0 | ... Q25: =SUM(Q23:Q24) -> 4363
A26: 19 | B26: 7. | C26: eredeti ei. + költségvetési maradvány | O26: 2000 | P26: 204 | Q26: =SUM(D26:P26) -> 2204
A27: 20 | C27: módosítás- | G27: 160 | I27: =100+50 -> 150 | N27: 550 | O27: -656 | P27: -204 | Q27: =SUM(D27:P27) -> 0
A28: 21 | C28: módosított előirányzat 1. | D28: =SUM(D26:D27) -> 0 | E28: =SUM(E26:E27) -> 0 | F28: =SUM(F26:F27) -> 0 | G28: =SUM(G26:G27) -> 160 | H28: =SUM(H26:H27) -> 0 | I28: =SUM(I26:I27) -> 150 | J28: =SUM(J26:J27) -> 0 | K28: =SUM(K26:K27) -> 0 | ... Q28: =SUM(Q26:Q27) -> 2204
A29: 22 | B29: 8. | C29: eredeti ei. + költségvetési maradvány | O29: 2000 | P29: 580 | Q29: =SUM(D29:P29) -> 2580
A30: 23 | C30: módosítás- | D30: =69+402+15 -> 486 | G30: 170 | I30: 100 | N30: =50+50 -> 100 | O30: -276 | P30: -580 | Q30: =SUM(D30:P30) -> 0
A31: 24 | C31: módosított előirányzat 1. | D31: =SUM(D29:D30) -> 486 | E31: =SUM(E29:E30) -> 0 | F31: =SUM(F29:F30) -> 0 | G31: =SUM(G29:G30) -> 170 | H31: =SUM(H29:H30) -> 0 | I31: =SUM(I29:I30) -> 100 | J31: =SUM(J29:J30) -> 0 | K31: =SUM(K29:K30) -> 0 | ... Q31: =SUM(Q29:Q30) -> 2580
A32: 25 | B32: 9. | C32: eredeti ei. + költségvetési maradvány | O32: 2000 | P32: 795 | Q32: =SUM(D32:P32) -> 2795
A33: 26 | C33: módosítás- | G33: =130+50 -> 180 | N33: =100+300+80 -> 480 | P33: -660 | Q33: =SUM(D33:P33) -> 0
A34: 27 | C34: módosított előirányzat 1. | D34: =SUM(D32:D33) -> 0 | E34: =SUM(E32:E33) -> 0 | F34: =SUM(F32:F33) -> 0 | G34: =SUM(G32:G33) -> 180 | H34: =SUM(H32:H33) -> 0 | I34: =SUM(I32:I33) -> 0 | J34: =SUM(J32:J33) -> 0 | K34: =SUM(K32:K33) -> 0 | ... Q34: =SUM(Q32:Q33) -> 2795
A35: 28 | B35: 10. | C35: eredeti ei. + költségvetési maradvány | O35: 2000 | P35: 1985 | Q35: =SUM(D35:P35) -> 3985
A36: 29 | C36: módosítás- | D36: 400 | G36: =100+40 -> 140 | I36: =100+300+200 -> 600 | N36: =500+300 -> 800 | P36: -1940 | Q36: =SUM(D36:P36) -> 0
A37: 30 | C37: módosított előirányzat 1. | D37: =SUM(D35:D36) -> 400 | E37: =SUM(E35:E36) -> 0 | F37: =SUM(F35:F36) -> 0 | G37: =SUM(G35:G36) -> 140 | H37: =SUM(H35:H36) -> 0 | I37: =SUM(I35:I36) -> 600 | J37: =SUM(J35:J36) -> 0 | K37: =SUM(K35:K36) -> 0 | ... Q37: =SUM(Q35:Q36) -> 3985
A38: 31 | B38: 11. | C38: eredeti ei. + költségvetési maradvány | E38: 272 | O38: 2000 | P38: 1254 | Q38: =SUM(D38:P38) -> 3526
A39: 32 | C39: módosítás- | F39: 600 | G39: 150 | H39: 25 | I39: =25+25 -> 50 | N39: 150 | P39: -975 | Q39: =SUM(D39:P39) -> 0
A40: 33 | C40: módosított előirányzat 1. | D40: =SUM(D38:D39) -> 0 | E40: =SUM(E38:E39) -> 272 | F40: =SUM(F38:F39) -> 600 | G40: =SUM(G38:G39) -> 150 | H40: =SUM(H38:H39) -> 25 | I40: =SUM(I38:I39) -> 50 | J40: =SUM(J38:J39) -> 0 | K40: =SUM(K38:K39) -> 0 | ... Q40: =SUM(Q38:Q39) -> 3526
A41: 34 | B41: 12. | C41: eredeti ei. + költségvetési maradvány | D41: 500 | E41: 272 | O41: 2000 | P41: 409 | Q41: =SUM(D41:P41) -> 3181
A42: 35 | C42: módosítás- | G42: 200 | H42: 100 | N42: =100+100+670+100 -> 970 | O42: -861 | P42: -409 | Q42: =SUM(D42:P42) -> 0
A43: 36 | C43: módosított előirányzat 1. | D43: =SUM(D41:D42) -> 500 | E43: =SUM(E41:E42) -> 272 | F43: =SUM(F41:F42) -> 0 | G43: =SUM(G41:G42) -> 200 | H43: =SUM(H41:H42) -> 100 | I43: =SUM(I41:I42) -> 0 | J43: =SUM(J41:J42) -> 0 | K43: =SUM(K41:K42) -> 0 | ... Q43: =SUM(Q41:Q42) -> 3181
A44: 37 | C44: eredeti ei. + költségvetési maradvány | D44: =SUM(D41,D38,D35,D32,D29,D26,D23,D20,D17,D14,D11,D8) -> 1400 | E44: =SUM(E41,E38,E35,E32,E29,E26,E23,E20,E17,E14,E11,E8) -> 544 | F44: =SUM(F41,F38,F35,F32,F29,F26,F23,F20,F17,F14,F11,F8) -> 0 | G44: =SUM(G41,G38,G35,G32,G29,G26,G23,G20,G17,G14,G11,G8) -> 0 | H44: =SUM(H41,H38,H35,H32,H29,H26,H23,H20,H17,H14,H11,H8) -> 0 | I44: =SUM(I41,I38,I35,I32,I29,I26,I23,I20,I17,I14,I11,I8) -> 0 | J44: =SUM(J41,J38,J35,J32,J29,J26,J23,J20,J17,J14,J11,J8) -> 0 | K44: =SUM(K41,K38,K35,K32,K29,K26,K23,K20,K17,K14,K11,K8) -> 0 | ... Q44: =SUM(Q41,Q38,Q35,Q32,Q29,Q26,Q23,Q20,Q17,Q14,Q11,Q8) -> 38386
A45: 38 | C45: módosítás- | D45: =SUM(D42,D39,D36,D33,D30,D27,D24,D21,D18,D15,D12,D9) -> 886 | E45: =SUM(E42,E39,E36,E33,E30,E27,E24,E21,E18,E15,E12,E9) -> 0 | F45: =SUM(F42,F39,F36,F33,F30,F27,F24,F21,F18,F15,F12,F9) -> 600 | G45: =SUM(G42,G39,G36,G33,G30,G27,G24,G21,G18,G15,G12,G9) -> 2010 | H45: =SUM(H42,H39,H36,H33,H30,H27,H24,H21,H18,H15,H12,H9) -> 125 | I45: =SUM(I42,I39,I36,I33,I30,I27,I24,I21,I18,I15,I12,I9) -> 1720 | J45: =SUM(J42,J39,J36,J33,J30,J27,J24,J21,J18,J15,J12,J9) -> 0 | K45: =SUM(K42,K39,K36,K33,K30,K27,K24,K21,K18,K15,K12,K9) -> 50 | ... Q45: =SUM(Q42,Q39,Q36,Q33,Q30,Q27,Q24,Q21,Q18,Q15,Q12,Q9) -> 0
A46: 39 | C46: módosított előirányzat összesen 1. | D46: =SUM(D44:D45) -> 2286 | E46: =SUM(E44:E45) -> 544 | F46: =SUM(F44:F45) -> 600 | G46: =SUM(G44:G45) -> 2010 | H46: =SUM(H44:H45) -> 125 | I46: =SUM(I44:I45) -> 1720 | J46: =SUM(J44:J45) -> 0 | K46: =SUM(K44:K45) -> 50 | ... Q46: =SUM(Q44:Q45) -> 38386
