Workbook

Sheet 1
B1: Berhida Város Önkormányzata | F1: 1. melléklet
B2: 2020. évi költségvetés | F2: 2/2020.(II. 28. ) rendelethez
F3: Ft-ban
C4: BEVÉTELEK
A5: Sor- szám | B5: Rovat megnevezése | C5: Eredeti előirányzat összesen | D5: Önkormányzat | E5: Közös Hivatal | F5: TESZ | G5: Kultúrház | H5: Süni
A6: 1 | B6: Helyi önkormányzatok működésének általános támogatása (B1111) | C6: =SUM(D6:H6) -> 135191702 | D6: 135191702
A7: 2 | B7: Települési önkormányzatok egyes köznevelési feladatainak támogatása (B112) | C7: =SUM(D7:H7) -> 146232880 | D7: 146232880
A8: 3 | B8: Települési önkormányzatok szociális, gyermekjóléti feladatainak támogatása (B1131) | C8: =SUM(D8:H8) -> 56039856 | D8: 56039856
A9: 4 | B9: Tel.önkormányzat gyermekétkeztetési fel.tám( B 1132) | D9: 64026699
A10: 5 | B10: Települési önkormányzatok kulturális feladatainak támogatása (B114) | C10: =SUM(D10:H10) -> 7402167 | D10: 7402167
A11: 6 | B11: Működési célú költségvetési támogatások és kiegészítő támogatások (B115) | C11: =SUM(D11:H11) -> 0
A12: 7 | B12: Elszámolásból származó bevételek (B116) | C12: =SUM(D12:H12) -> 0
A13: 8 | B13: Önkormányzatok működési támogatásai (B11) | C13: =SUM(D13:H13) -> 408893304 | D13: =SUM(D6:D12) -> 408893304 | E13: =SUM(E6:E12) -> 0 | F13: =SUM(F6:F12) -> 0 | G13: =SUM(G6:G12) -> 0 | H13: =SUM(H6:H12) -> 0
A14: 9 | B14: Elvonások és befizetések bevételei B12 | C14: =SUM(D14:H14) -> 0
A15: 10 | B15: Egyéb működési célú támogatások bevételei államháztartáson belülről (B16) | C15: =SUM(D15:H15) -> 243970334 | D15: =SUM(D16:D20) -> 204969562 | E15: =SUM(E16:E20) -> 0 | F15: =SUM(F16:F20) -> 39000772 | G15: =SUM(G16:G20) -> 0 | H15: =SUM(H16:H20) -> 0
A16: 11 | B16: ebből: egyéb központi kezelésű előirányzatok (B1612 | C16: =SUM(D16:H16) -> 22992429 | D16: 22992429
A17: 12 | B17: ebből: fejezeti kezelésű EU B16 | C17: =SUM(D17:H17) -> 150463717 | D17: 150463717
A18: 13 | B18: ebből: társadalombiztosítás pénzügyi alapjai (B1614 | C18: =SUM(D18:H18) -> 30853200 | D18: 30853200
A19: 14 | B19: ebből: elkülönített állami pénzal (B1615 | C19: =SUM(D19:H19) -> 39000772 | F19: 39000772
A20: 15 | B20: ebből: önkormányzat és kv-i szerveik (B 1616 | C20: =SUM(D20:H20) -> 660216 | D20: 660216
A21: 16 | B21: Működési célú támogatások államháztartáson belülről (B1) | C21: =SUM(D21:H21) -> 652863638 | D21: =D13+D15 -> 613862866 | E21: =E13+E15 -> 0 | F21: =F13+F15 -> 39000772 | G21: =G13+G15 -> 0 | H21: =H13+H15 -> 0
A22: 17 | B22: Felhalmozási célú önkormányzati támogatások (B21) | C22: =SUM(D22:H22) -> 0 | D22: =D23 -> 0 | E22: =E23 -> 0 | F22: =F23 -> 0 | G22: =G23 -> 0 | H22: =H23 -> 0
A23: 18 | B23: ebből: egyéb központi felhalmozási c tám B 2119 | C23: =SUM(D23:H23) -> 0
A24: 19 | B24: Egyéb felhalmozási célú tám áht belülről B 25 | C24: =SUM(D24:H24) -> 850533503 | D24: =SUM(D25:D28) -> 850533503 | E24: =SUM(E25:E28) -> 0 | F24: =SUM(F25:F28) -> 0 | G24: =SUM(G25:G28) -> 0 | H24: =SUM(H25:H28) -> 0
A25: 20 | B25: ebből egyéb központi fc tám (B2512 | C25: =SUM(D25:H25) -> 81350056 | D25: 81350056
A26: 21 | B26: ebből: egyéb fejezeti kez EU fc (B25 | C26: =SUM(D26:H26) -> 769183447 | D26: 769183447
A27: 22 | B27: ebből: elkülönített állami pénzal fc (B2515 | C27: =SUM(D27:H27) -> 0
A28: 23 | B28: ebből: önkorm és kv-i szervek fc tám (B2516 | C28: =SUM(D28:H28) -> 0
A29: 24 | B29: Felhalmozási célú támogatások államháztartáson belülről (B2) | C29: =SUM(D29:H29) -> 850533503 | D29: =D22+D24 -> 850533503 | E29: =E22+E24 -> 0 | F29: =F22+F24 -> 0 | G29: =G22+G24 -> 0 | H29: =H22+H24 -> 0
A30: 25 | B30: Vagyoni tipusú adók (B34) | C30: =SUM(D30:H30) -> 110500000 | D30: =SUM(D31:D32) -> 110500000 | E30: =SUM(E31:E32) -> 0 | F30: =SUM(F31:F32) -> 0 | G30: =SUM(G31:G32) -> 0 | H30: =SUM(H31:H32) -> 0
A31: 26 | B31: ebből: építményadó (B34111) | C31: =SUM(D31:H31) -> 110500000 | D31: 110500000
A32: 27 | B32: ebből: magánszemélyek kommunális adója (B34114) | C32: =SUM(D32:H32) -> 0
A33: 28 | B33: Értékesítési és forgalmi adók iparűzési adó (B351121) | C33: =SUM(D33:H33) -> 225000000 | D33: 225000000
A34: 29 | B34: Gépjárműadó (B3541) | C34: =SUM(D34:H34) -> 12000000 | D34: 12000000
A35: 30 | B35: Egyéb áruhasználati és szolgáltatási adók, környezetterh díj, talajterhelési díj (B355) | C35: =SUM(D35:H35) -> 46610 | D35: 46610
A36: 31 | B36: Termékek és szolgáltatások adói (B35) | C36: =SUM(D36:H36) -> 237046610 | D36: =SUM(D33:D35) -> 237046610 | E36: =SUM(E33:E35) -> 0 | F36: =SUM(F33:F35) -> 0 | G36: =SUM(G33:G35) -> 0 | H36: =SUM(H33:H35) -> 0
A37: 32 | B37: Egyéb közhatalmi bevételek (B36) | C37: =SUM(D37:H37) -> 400000 | D37: 400000 | E37: =SUM(E38:E39) -> 0 | F37: =SUM(F38:F39) -> 0 | G37: =SUM(G38:G39) -> 0 | H37: =SUM(H38:H39) -> 0
A38: 33 | B38: ebből: szabálysértési pénz- és helyszíni bírság és a közlekedési szabályszegések után kiszabott közigazgatási bírság helyi önkormányzatot megillető része (B361225 köv) | C38: =SUM(D38:H38) -> 50000 | D38: 50000
A39: 34 | B39: ebből: egyéb bírság (B361229 köv) | C39: =SUM(D39:H39) -> 350000 | D39: 350000
A40: 35 | B40: Közhatalmi bevételek (B3) | C40: =SUM(D40:H40) -> 347946610 | D40: =D30+D36+D37 -> 347946610 | E40: =E30+E36+E37 -> 0 | F40: =F30+F36+F37 -> 0 | G40: =G30+G36+G37 -> 0 | H40: =H30+H36+H37 -> 0
...

Sheet 1a
A1: Berhida Város Önkormányzata | G1: 1/a melléklet
A2: állami támogatások részletezése | G2: 2/2020.(II.28.) rendelethez
C3: 2019 | H3: 2020
B4: IPA alap | E4: 9578698183 | G4: IPA alap | J4: 8739937119
B5: elvonás | C5: 0,55 %-nak | E5: =E4*0.0055 -> 52682840 | G5: elvonás
A6: 2020. évi költségvetés | C6: =E6/E5 -> 0.52116317 | E6: 27456356 | J6: 15160557
B7: 1 lakosra jutó adóerőképesség | E7: =E4*0.014/C8 -> 22455.086 | G7: 1 lakosra jutó adóerőképesség | J7: =J4*0.014/H8 -> 20679.25
C8: 5972 | D8: fő | E8: beszámítás | F8: 2019 tényl | H8: 5917 | I8: fő | J8: beszámítás | K8: 2019 tényl
C9: Forint | F9: Módosított összesen | H9: Forint | K9: Módosított összesen | L9: Intézményi összesen | M9: Önkorm | N9: TESZ | O9: Hivatal | P9: Kultúrház | Q9: Családs Berh | R9: Családs Vi | S9: Süni | T9: Hétszínvirág | U9: Vi Óvoda
A10: Önkormányzatok működési támogatásai | D10: =D11+D21+D30+D45+D49+D52 -> 4.1380947e+08 | E10: =E11+E21+E30+E45+E49+E52 -> -27456356 | F10: =F11+F21+F30+F45+F49+F52 -> 3.8635312e+08 | I10: =I11+I21+I30+I45+I49+I52 -> 424053861 | J10: =J11+J21+J30+J45+J49+J52 -> -15160557 | K10: =K11+K21+K30+K45+K49+K52 -> 408893304 | L10: =SUM(M10:U10) -> 408893304 | M10: =M11+M21+M30+M45+M49+M52 -> 12353343 | N10: =N11+N21+N30+N45+N49+N52 -> 31299759 | O10: =O11+O21+O30+O45+O49+O52 -> 1.015386e+08 | P10: =P11+P21+P30+P45+P49+P52 -> 7402167 | Q10: =Q11+Q21+Q30+Q45+Q49+Q52 -> 33868348 | R10: =R11+R21+R30+R45+R49+R52 -> 1276508 | S10: =S11+S21+S30+S45+S49+S52 -> 1.1238242e+08 | T10: =T11+T21+T30+T45+T49+T52 -> 89749529 | U10: =U11+U21+U30+U45+U49+U52 -> 19022628 | V10: =SUM(M10:U10) -> 408893304
A11: 1.)Helyi önkormányzatok működésének általános támogatása | D11: =SUM(D12:D20) -> 149262079 | E11: =SUM(E12:E20) -> -27456356 | F11: =SUM(F12:F20) -> 1.2180572e+08 | I11: =SUM(I12:I20) -> 150352259 | J11: =SUM(J12:J20) -> -15160557 | K11: =SUM(K12:K20) -> 135191702 | L11: =SUM(M11:U11) -> 135191702 | M11: =SUM(M12:M20) -> 2353343 | N11: =SUM(N12:N20) -> 31299759 | O11: =SUM(O12:O20) -> 1.015386e+08 | P11: =SUM(P12:P20) -> 0 | Q11: =SUM(Q12:Q20) -> 0 | R11: =SUM(R12:R20) -> 0 | S11: =SUM(S12:S20) -> 0 | T11: =SUM(T12:T20) -> 0 | U11: =SUM(U12:U20) -> 0
A12: Önkormányzati hivatal működésének támogatása | B12: 4580000 | C12: 22.17 | D12: =B12*C12 -> 1.015386e+08 | F12: =D12+E12 -> 1.015386e+08 | G12: 4580000 | H12: 22.17 | I12: =G12*H12 -> 1.015386e+08 | K12: =I12+J12 -> 1.015386e+08 | L12: =SUM(M12:U12) -> 1.015386e+08 | O12: =K12 -> 1.015386e+08
A13: Település üzemeltetés: zöldterület-gazdálkodás | B13: 22300 | C13: 402 | D13: 8984670 | E13: =-D13 -> -8984670 | F13: =D13+E13 -> 0 | G13: 25200 | H13: 403.9 | I13: =G13*H13 -> 10178280 | K13: =I13+J13 -> 10178280 | L13: =SUM(M13:U13) -> 10178280 | N13: =K13 -> 10178280
A14: közvilágítás fenntartása | B14: 320000 | C14: 46.5 | D14: 9888000 | E14: -2140736 | F14: =D14+E14 -> 7747264 | G14: 320000 | I14: 10048000 | K14: =I14+J14 -> 10048000 | L14: =SUM(M14:U14) -> 10048000 | N14: =K14 -> 10048000
A15: köztemető fenntartással kapcs fel | B15: 69 | C15: 53051 | D15: =B15*C15 -> 3660519 | F15: =D15+E15 -> 3660519 | G15: 69 | H15: 53051 | I15: =G15*H15 -> 3660519 | K15: =I15+J15 -> 3660519 | L15: =SUM(M15:U15) -> 3660519 | N15: =K15 -> 3660519
A16: közutak fenntartásának támog | B16: 227000 | C16: 31.62 | D16: =B16*C16 -> 7177740 | F16: =D16+E16 -> 7177740 | G16: 227000 | H16: 31.78 | I16: =G16*H16 -> 7214060 | K16: =I16+J16 -> 7214060 | L16: =SUM(M16:U16) -> 7214060 | N16: =K16 -> 7214060
A17: Egyéb kötelező önkormányzati feladatok | B17: 2700 | C17: 5972 | D17: =B17*C17 -> 16124400 | E17: =-D17 -> -16124400 | F17: =D17+E17 -> 0 | G17: 2700 | H17: 5917 | I17: =G17*H17 -> 15975900 | J17: -15160557 | K17: =I17+J17 -> 815343 | L17: =SUM(M17:U17) -> 815343 | M17: 815343
A18: Lakott külterülettel kapcs feladatok | B18: 2550 | C18: 81 | D18: =B18*C18 -> 206550 | E18: =-D18 -> -206550 | F18: =D18+E18 -> 0 | G18: 2550 | H18: 78 | I18: =G18*H18 -> 198900 | K18: =I18+J18 -> 198900 | L18: =SUM(M18:U18) -> 198900 | N18: =K18 -> 198900
A19: bérkompenzáció
A20: Polgármesterek illetményének támogatása | D20: 1681600 | F20: =D20+E20 -> 1681600 | I20: 1538000 | K20: =I20+J20 -> 1538000 | L20: =SUM(M20:U20) -> 1538000 | M20: =K20 -> 1538000
A21: 2.)Települési önkorm. Egyes köznevelési feladatainak támoga | D21: =SUM(D22:D29) -> 1.4663217e+08 | E21: =SUM(E22:E29) -> 0 | F21: =SUM(F22:F29) -> 1.4663217e+08 | I21: =SUM(I22:I29) -> 146232880 | J21: =SUM(J22:J29) -> 0 | K21: =SUM(K22:K29) -> 146232880 | L21: =SUM(M21:U21) -> 146232880 | M21: =SUM(M22:M29) -> 0 | N21: =SUM(N22:N29) -> 0 | O21: =SUM(O22:O29) -> 0 | P21: =SUM(P22:P29) -> 0 | Q21: =SUM(Q22:Q29) -> 0 | R21: =SUM(R22:R29) -> 0 | S21: =SUM(S22:S29) -> 80425930 | T21: =SUM(T22:T29) -> 51152750 | U21: =SUM(U22:U29) -> 14654200
A22: óvodapedagógusok bértámogatása 8 hó (2020 éves) | B22: 4371500 | C22: 20.7 | D22: =B22*C22*8/12 -> 60326700 | F22: =D22+E22 -> 60326700 | G22: 4371500 | H22: 20.2 | I22: =G22*H22 -> 88304300 | K22: =I22+J22 -> 88304300 | L22: =SUM(M22:U22) -> 88304300 | S22: =$G$22*10.5 -> 45900750 | T22: =$G$22*7.5 -> 32786250 | U22: =$G$22*2.2 -> 9617300
A23: óvodaped munkáját közvetlenül segítők bértámogatása 8 hó (2020 éves) | B23: 2205000 | C23: 14 | D23: =B23*C23/12*8 -> 20580000 | F23: =D23+E23 -> 20580000 | G23: 2400000 | H23: 14 | I23: =G23*H23 -> 33600000 | K23: =I23+J23 -> 33600000 | L23: =SUM(M23:U23) -> 33600000 | S23: =$G$23*9 -> 21600000 | T23: =$G$23*4 -> 9600000 | U23: =$G$23*1 -> 2400000
A24: óvodapedagógusok bértámogatása 4 hó | B24: 4371500 | C24: 20.6 | D24: =B24*C24*4/12 -> 30017633 | F24: =D24+E24 -> 30017633 | G24: 4371500 | I24: =G24*H24*4/12 -> 0 | K24: =I24+J24 -> 0 | L24: =SUM(M24:U24) -> 0
A25: óvodaped munkáját közvetlenül segítők bértámogatása 4 hó | B25: 2205000 | C25: 14 | D25: =B25*C25/12*4 -> 10290000 | F25: =D25+E25 -> 10290000 | G25: 2205000 | I25: =G25*H25/12*4 -> 0 | K25: =I25+J25 -> 0 | L25: =SUM(M25:U25) -> 0
A26: Óvoda működtetési támogatás 8 hó | B26: 97400 | C26: 222 | D26: =B26*C26*8/12 -> 14415200 | F26: =D26+E26 -> 14415200 | G26: 97400 | H26: 217 | I26: =G26*H26 -> 21135800 | K26: =I26+J26 -> 21135800 | L26: =SUM(M26:U26) -> 21135800 | S26: =$G$26*127 -> 12369800 | T26: =$G$26*67 -> 6525800 | U26: =$G$26*23 -> 2240200
A27: Óvoda működtetési támogatás 4 hó | B27: 97400 | C27: 221 | D27: 7175133 | F27: =D27+E27 -> 7175133 | G27: 97400 | K27: =I27+J27 -> 0 | L27: =SUM(M27:U27) -> 0
A28: Kieg tám. Óv pedag minősítéséhez II. kategóriába sorolt | B28: 396700 | C28: 6 | D28: =B28*C28 -> 2380200 | F28: =D28+E28 -> 2380200 | G28: 396700 | H28: 4.4 | I28: =G28*H28 -> 1745480 | K28: =I28+J28 -> 1745480 | L28: =SUM(M28:U28) -> 1745480 | S28: 555380 | T28: 793400 | U28: 396700
A29: Mesterped kategóriába sorolt | B29: 1447300 | C29: 1 | D29: =B29*C29 -> 1447300 | F29: =D29+E29 -> 1447300 | G29: 1447300 | H29: 1 | I29: =G29*H29 -> 1447300 | K29: =I29+J29 -> 1447300 | L29: =SUM(M29:U29) -> 1447300 | T29: 1447300
A30: 3.) Tel önk szociális, gyermekjóléti és gyermekétk fel tám | D30: =SUM(D32:D44) -> 110689107 | E30: =SUM(E32:E44) -> 0 | F30: =SUM(F32:F44) -> 110689107 | I30: =SUM(I32:I44) -> 120066555 | J30: =SUM(J32:J44) -> 0 | K30: =SUM(K32:K44) -> 120066555 | L30: =SUM(M30:U30) -> 120066555 | M30: =SUM(M32:M44) -> 10000000 | N30: =SUM(N32:N44) -> 0 | O30: =SUM(O32:O44) -> 0 | P30: =SUM(P32:P44) -> 0 | Q30: =SUM(Q32:Q44) -> 33868348 | R30: =SUM(R32:R44) -> 1276508 | S30: =SUM(S32:S44) -> 31956491 | T30: =SUM(T32:T44) -> 38596779 | U30: =SUM(U32:U44) -> 4368428.3
L31: =SUM(M31:U31) -> 0
A32: gyermekétkeztetés szempontjából elismert dolgozók bértámog | B32: 1900000 | C32: 11.18 | D32: =B32*C32 -> 21242000 | F32: =D32+E32 -> 21242000 | G32: 2200000 | H32: 11.48 | I32: =G32*H32 -> 25256000 | K32: =I32+J32 -> 25256000 | L32: =SUM(M32:U32) -> 25256000 | S32: =K32*0.49 -> 12375440 | T32: =K32*0.44 -> 11112640 | U32: =K32*0.07 -> 1767920
A33: gyermekétkeztetés üzemeltetési támogatása | D33: 37497698 | F33: =D33+E33 -> 37497698 | I33: 37150119 | K33: =I33+J33 -> 37150119 | L33: =SUM(M33:U33) -> 37150119 | S33: =K33*0.49 -> 18203558 | T33: =K33*0.44 -> 16346052 | U33: =K33*0.07 -> 2600508.3
A34: szünidei gyermekétkeztetés | B34: 513 | C34: 6592 | D34: =B34*C34 -> 3381696 | F34: =D34+E34 -> 3381696 | G34: 542 | H34: 2990 | I34: =G34*H34 -> 1620580 | K34: =I34+J34 -> 1620580 | L34: =SUM(M34:U34) -> 1620580 | S34: =K34-T34 -> 1377493 | T34: 243087
A35: Hozzájárulás pénzbeli szociális ellátásokhoz | D35: 28785793 | F35: =D35+E35 -> 28785793 | I35: 34834144 | K35: =I35+J35 -> 34834144 | L35: =SUM(M35:U35) -> 34834144 | M35: 10000000 | Q35: 24834144
A36: Bölcsődei ellátás bértámogatás | B36: 2993000 | C36: 3 | D36: =B36*C36 -> 8979000 | F36: =D36+E36 -> 8979000 | G36: 2993000 | H36: 3 | I36: =G36*H36 -> 8979000 | K36: =I36+J36 -> 8979000 | L36: =SUM(M36:U36) -> 8979000 | T36: 8979000
A37: Bölcsődei működtetési tám | D37: 2014000 | F37: =D37+E37 -> 2014000 | I37: 1916000 | K37: =I37+J37 -> 1916000 | L37: =SUM(M37:U37) -> 1916000 | T37: 1916000
A38: Családsegítés és gyermekjóléti szolgáltatás B: 5972 Vi: 683 = 6655 fő | B38: 3400000 | D38: 4420000 | F38: =D38+E38 -> 4420000 | G38: 3400000 | H38: 1.3 | I38: 4420000 | K38: =I38+J38 -> 4420000 | L38: =SUM(M38:U38) -> 4420000 | Q38: =K38-R38 -> 3788180 | R38: 631820
A39: szociális étkeztetés | B39: 60896 | C39: 20 | D39: =B39*C39 -> 1217920 | F39: =D39+E39 -> 1217920 | G39: 71896 | H39: 22 | I39: =G39*H39 -> 1581712 | K39: =I39+J39 -> 1581712 | L39: =SUM(M39:U39) -> 1581712 | Q39: =K39-R39 -> 1366024 | R39: 215688
A40: házi segítségnyújtás szem élyi gondozás | B40: 429000 | C40: 5 | D40: =B40*C40 -> 2145000 | F40: =D40+E40 -> 2145000 | G40: 429000 | H40: 6 | I40: =G40*H40 -> 2574000 | K40: =I40+J40 -> 2574000 | L40: =SUM(M40:U40) -> 2574000 | Q40: =K40-R40 -> 2145000 | R40: 429000
...

Sheet 1b
B1: Berhida Város Önkormányzata
B2: 2020. évi költségvetés | F2: 1/b. melléklet a 2/2020.(II.28.) rendelethez
F3: Ft-ban
C4: BEVÉTELEK
A5: Sor- szám | B5: Rovat megnevezése | C5: Módosított előirányzat összesen | D5: Önkormányzat | E5: Közös Hivatal | F5: TESZ | G5: Kultúrház | H5: Süni
A6: 1 | B6: Helyi önkormányzatok működésének általános támogatása (B1111) | C6: =SUM(D6:H6) -> 159888434 | D6: 159888434
A7: 2 | B7: Települési önkormányzatok egyes köznevelési feladatainak támogatása (B112) | C7: =SUM(D7:H7) -> 146232880 | D7: 146232880
A8: 3 | B8: Települési önkormányzatok szociális, gyermekjóléti feladatainak támogatása (B1131) | C8: =SUM(D8:H8) -> 56533856 | D8: 56533856
A9: 4 | B9: Tel.önkormányzat gyermekétkeztetési fel.tám( B 1132) | D9: 64026699
A10: 5 | B10: Települési önkormányzatok kulturális feladatainak támogatása (B114) | C10: =SUM(D10:H10) -> 7402167 | D10: 7402167
A11: 6 | B11: Működési célú költségvetési támogatások és kiegészítő támogatások (B115) | C11: =SUM(D11:H11) -> 0
A12: 7 | B12: Elszámolásból származó bevételek (B116) | C12: =SUM(D12:H12) -> 0
A13: 8 | B13: Önkormányzatok működési támogatásai (B11) | C13: =SUM(D13:H13) -> 434084036 | D13: =SUM(D6:D12) -> 434084036 | E13: =SUM(E6:E12) -> 0 | F13: =SUM(F6:F12) -> 0 | G13: =SUM(G6:G12) -> 0 | H13: =SUM(H6:H12) -> 0
A14: 9 | B14: Elvonások és befizetések bevételei B12 | C14: =SUM(D14:H14) -> 0
A15: 10 | B15: Egyéb működési célú támogatások bevételei államháztartáson belülről (B16) | C15: =SUM(D15:H15) -> 228227048 | D15: =SUM(D16:D20) -> 189226276 | E15: =SUM(E16:E20) -> 0 | F15: =SUM(F16:F20) -> 39000772 | G15: =SUM(G16:G20) -> 0 | H15: =SUM(H16:H20) -> 0
A16: 11 | B16: ebből: egyéb központi kezelésű előirányzatok (B1612 | C16: =SUM(D16:H16) -> 7249143 | D16: 7249143
A17: 12 | B17: ebből: fejezeti kezelésű EU B16 | C17: =SUM(D17:H17) -> 150463717 | D17: 150463717
A18: 13 | B18: ebből: társadalombiztosítás pénzügyi alapjai (B1614 | C18: =SUM(D18:H18) -> 30853200 | D18: 30853200
A19: 14 | B19: ebből: elkülönített állami pénzal (B1615 | C19: =SUM(D19:H19) -> 39000772 | F19: 39000772
A20: 15 | B20: ebből: önkormányzat és kv-i szerveik (B 1616 | C20: =SUM(D20:H20) -> 660216 | D20: 660216
A21: 16 | B21: Működési célú támogatások államháztartáson belülről (B1) | C21: =SUM(D21:H21) -> 662311084 | D21: =D13+D15 -> 623310312 | E21: =E13+E15 -> 0 | F21: =F13+F15 -> 39000772 | G21: =G13+G15 -> 0 | H21: =H13+H15 -> 0
A22: 17 | B22: Felhalmozási célú önkormányzati támogatások (B21) | C22: =SUM(D22:H22) -> 0 | D22: =D23 -> 0 | E22: =E23 -> 0 | F22: =F23 -> 0 | G22: =G23 -> 0 | H22: =H23 -> 0
A23: 18 | B23: ebből: egyéb központi felhalmozási c tám B 2119 | C23: =SUM(D23:H23) -> 0
A24: 19 | B24: Egyéb felhalmozási célú tám áht belülről B 25 | C24: =SUM(D24:H24) -> 850533503 | D24: =SUM(D25:D28) -> 850533503 | E24: =SUM(E25:E28) -> 0 | F24: =SUM(F25:F28) -> 0 | G24: =SUM(G25:G28) -> 0 | H24: =SUM(H25:H28) -> 0
A25: 20 | B25: ebből egyéb központi fc tám (B2512 | C25: =SUM(D25:H25) -> 81350056 | D25: 81350056
A26: 21 | B26: ebből: egyéb fejezeti kez EU fc (B25 | C26: =SUM(D26:H26) -> 769183447 | D26: 769183447
A27: 22 | B27: ebből: elkülönített állami pénzal fc (B2515 | C27: =SUM(D27:H27) -> 0
A28: 23 | B28: ebből: önkorm és kv-i szervek fc tám (B2516 | C28: =SUM(D28:H28) -> 0
A29: 24 | B29: Felhalmozási célú támogatások államháztartáson belülről (B2) | C29: =SUM(D29:H29) -> 850533503 | D29: =D22+D24 -> 850533503 | E29: =E22+E24 -> 0 | F29: =F22+F24 -> 0 | G29: =G22+G24 -> 0 | H29: =H22+H24 -> 0
A30: 25 | B30: Vagyoni tipusú adók (B34) | C30: =SUM(D30:H30) -> 110500000 | D30: =SUM(D31:D32) -> 110500000 | E30: =SUM(E31:E32) -> 0 | F30: =SUM(F31:F32) -> 0 | G30: =SUM(G31:G32) -> 0 | H30: =SUM(H31:H32) -> 0
A31: 26 | B31: ebből: építményadó (B34111) | C31: =SUM(D31:H31) -> 110500000 | D31: 110500000
A32: 27 | B32: ebből: magánszemélyek kommunális adója (B34114) | C32: =SUM(D32:H32) -> 0
A33: 28 | B33: Értékesítési és forgalmi adók iparűzési adó (B351121) | C33: =SUM(D33:H33) -> 225000000 | D33: 225000000
A34: 29 | B34: Gépjárműadó (B3541) | C34: =SUM(D34:H34) -> 0
A35: 30 | B35: Egyéb áruhasználati és szolgáltatási adók, környezetterh díj, talajterhelési díj (B355) | C35: =SUM(D35:H35) -> 46610 | D35: 46610
A36: 31 | B36: Termékek és szolgáltatások adói (B35) | C36: =SUM(D36:H36) -> 225046610 | D36: =SUM(D33:D35) -> 225046610 | E36: =SUM(E33:E35) -> 0 | F36: =SUM(F33:F35) -> 0 | G36: =SUM(G33:G35) -> 0 | H36: =SUM(H33:H35) -> 0
A37: 32 | B37: Egyéb közhatalmi bevételek (B36) | C37: =SUM(D37:H37) -> 400000 | D37: 400000 | E37: =SUM(E38:E39) -> 0 | F37: =SUM(F38:F39) -> 0 | G37: =SUM(G38:G39) -> 0 | H37: =SUM(H38:H39) -> 0
A38: 33 | B38: ebből: szabálysértési pénz- és helyszíni bírság és a közlekedési szabályszegések után kiszabott közigazgatási bírság helyi önkormányzatot megillető része (B361225 köv) | C38: =SUM(D38:H38) -> 50000 | D38: 50000
A39: 34 | B39: ebből: egyéb bírság (B361229 köv) | C39: =SUM(D39:H39) -> 350000 | D39: 350000
A40: 35 | B40: Közhatalmi bevételek (B3) | C40: =SUM(D40:H40) -> 335946610 | D40: =D30+D36+D37 -> 335946610 | E40: =E30+E36+E37 -> 0 | F40: =F30+F36+F37 -> 0 | G40: =G30+G36+G37 -> 0 | H40: =H30+H36+H37 -> 0
...

Sheet 1c
B1: Berhida Város Önkormányzata
B2: 2020. évi költségvetés | F2: 1/c. melléklet a 2/2020.(II.28.) rendelethez
F3: Ft-ban
C4: BEVÉTELEK
A5: Sor- szám | B5: Rovat megnevezése | C5: Teljesítés 03.31. összesen | D5: Önkormányzat | E5: Közös Hivatal | F5: TESZ | G5: Kultúrház | H5: Süni
A6: 1 | B6: Helyi önkormányzatok működésének általános támogatása (B1111) | C6: =SUM(D6:H6) -> 44819170 | D6: 44819170
A7: 2 | B7: Települési önkormányzatok egyes köznevelési feladatainak támogatása (B112) | C7: =SUM(D7:H7) -> 40945205 | D7: 40945205
A8: 3 | B8: Települési önkormányzatok szociális, gyermekjóléti feladatainak támogatása (B1131) | C8: =SUM(D8:H8) -> 16823923 | D8: 16823923
A9: 4 | B9: Tel.önkormányzat gyermekétkeztetési fel.tám( B 1132) | D9: 17927476
A10: 5 | B10: Települési önkormányzatok kulturális feladatainak támogatása (B114) | C10: =SUM(D10:H10) -> 2436856 | D10: 2436856
A11: 6 | B11: Működési célú költségvetési támogatások és kiegészítő támogatások (B115) | C11: =SUM(D11:H11) -> 0
A12: 7 | B12: Elszámolásból származó bevételek (B116) | C12: =SUM(D12:H12) -> 0
A13: 8 | B13: Önkormányzatok működési támogatásai (B11) | C13: =SUM(D13:H13) -> 122952630 | D13: =SUM(D6:D12) -> 122952630 | E13: =SUM(E6:E12) -> 0 | F13: =SUM(F6:F12) -> 0 | G13: =SUM(G6:G12) -> 0 | H13: =SUM(H6:H12) -> 0
A14: 9 | B14: Elvonások és befizetések bevételei B12 | C14: =SUM(D14:H14) -> 0
A15: 10 | B15: Egyéb működési célú támogatások bevételei államháztartáson belülről (B16) | C15: =SUM(D15:H15) -> 79986461 | D15: =SUM(D16:D20) -> 69909775 | E15: =SUM(E16:E20) -> 0 | F15: =SUM(F16:F20) -> 10076686 | G15: =SUM(G16:G20) -> 0 | H15: =SUM(H16:H20) -> 0
A16: 11 | B16: ebből: egyéb központi kezelésű előirányzatok (B1612 | C16: =SUM(D16:H16) -> 195000 | D16: 195000
A17: 12 | B17: ebből: fejezeti kezelésű EU B16 | C17: =SUM(D17:H17) -> 61222575 | D17: 61222575
A18: 13 | B18: ebből: társadalombiztosítás pénzügyi alapjai (B1614 | C18: =SUM(D18:H18) -> 8492200 | D18: 8492200
A19: 14 | B19: ebből: elkülönített állami pénzal (B1615 | C19: =SUM(D19:H19) -> 10076686 | F19: 10076686
A20: 15 | B20: ebből: önkormányzat és kv-i szerveik (B 1616 | C20: =SUM(D20:H20) -> 0
A21: 16 | B21: Működési célú támogatások államháztartáson belülről (B1) | C21: =SUM(D21:H21) -> 202939091 | D21: =D13+D15 -> 192862405 | E21: =E13+E15 -> 0 | F21: =F13+F15 -> 10076686 | G21: =G13+G15 -> 0 | H21: =H13+H15 -> 0
A22: 17 | B22: Felhalmozási célú önkormányzati támogatások (B21) | C22: =SUM(D22:H22) -> 0 | D22: =D23 -> 0 | E22: =E23 -> 0 | F22: =F23 -> 0 | G22: =G23 -> 0 | H22: =H23 -> 0
A23: 18 | B23: ebből: egyéb központi felhalmozási c tám B 2119 | C23: =SUM(D23:H23) -> 0
A24: 19 | B24: Egyéb felhalmozási célú tám áht belülről B 25 | C24: =SUM(D24:H24) -> 240349531 | D24: =SUM(D25:D28) -> 240349531 | E24: =SUM(E25:E28) -> 0 | F24: =SUM(F25:F28) -> 0 | G24: =SUM(G25:G28) -> 0 | H24: =SUM(H25:H28) -> 0
A25: 20 | B25: ebből egyéb központi fc tám (B2512 | C25: =SUM(D25:H25) -> 0
A26: 21 | B26: ebből: egyéb fejezeti kez EU fc (B25 | C26: =SUM(D26:H26) -> 240349531 | D26: 240349531
A27: 22 | B27: ebből: elkülönített állami pénzal fc (B2515 | C27: =SUM(D27:H27) -> 0
A28: 23 | B28: ebből: önkorm és kv-i szervek fc tám (B2516 | C28: =SUM(D28:H28) -> 0
A29: 24 | B29: Felhalmozási célú támogatások államháztartáson belülről (B2) | C29: =SUM(D29:H29) -> 240349531 | D29: =D22+D24 -> 240349531 | E29: =E22+E24 -> 0 | F29: =F22+F24 -> 0 | G29: =G22+G24 -> 0 | H29: =H22+H24 -> 0
A30: 25 | B30: Vagyoni tipusú adók (B34) | C30: =SUM(D30:H30) -> 55218484 | D30: =SUM(D31:D32) -> 55218484 | E30: =SUM(E31:E32) -> 0 | F30: =SUM(F31:F32) -> 0 | G30: =SUM(G31:G32) -> 0 | H30: =SUM(H31:H32) -> 0
A31: 26 | B31: ebből: építményadó (B34111) | C31: =SUM(D31:H31) -> 55047109 | D31: 55047109
A32: 27 | B32: ebből: magánszemélyek kommunális adója (B34114) | C32: =SUM(D32:H32) -> 171375 | D32: 171375
A33: 28 | B33: Értékesítési és forgalmi adók iparűzési adó (B351121) | C33: =SUM(D33:H33) -> 85751778 | D33: 85751778
A34: 29 | B34: Gépjárműadó (B3541) | C34: =SUM(D34:H34) -> 0
A35: 30 | B35: Egyéb áruhasználati és szolgáltatási adók, környezetterh díj, talajterhelési díj (B355) | C35: =SUM(D35:H35) -> 0
A36: 31 | B36: Termékek és szolgáltatások adói (B35) | C36: =SUM(D36:H36) -> 85751778 | D36: =SUM(D33:D35) -> 85751778 | E36: =SUM(E33:E35) -> 0 | F36: =SUM(F33:F35) -> 0 | G36: =SUM(G33:G35) -> 0 | H36: =SUM(H33:H35) -> 0
A37: 32 | B37: Egyéb közhatalmi bevételek (B36) | C37: =SUM(D37:H37) -> 235944 | D37: 203305 | E37: 32639 | F37: =SUM(F38:F39) -> 0 | G37: =SUM(G38:G39) -> 0 | H37: =SUM(H38:H39) -> 0
A38: 33 | B38: ebből: szabálysértési pénz- és helyszíni bírság és a közlekedési szabályszegések után kiszabott közigazgatási bírság helyi önkormányzatot megillető része (B361225 köv) | C38: =SUM(D38:H38) -> 20639 | E38: 20639
A39: 34 | B39: ebből: egyéb bírság (B361229 köv) | C39: =SUM(D39:H39) -> 0
A40: 35 | B40: Közhatalmi bevételek (B3) | C40: =SUM(D40:H40) -> 141206206 | D40: =D30+D36+D37 -> 141173567 | E40: =E30+E36+E37 -> 32639 | F40: =F30+F36+F37 -> 0 | G40: =G30+G36+G37 -> 0 | H40: =H30+H36+H37 -> 0
...

Sheet 2
B1: Berhida Város Önkormányzata | E1: 2. melléklet
B2: 2020. évi költségvetés | E2: 2/2020.(II. 28.) rendelethez
C3: KIADÁSOK | E3: Ft-ban
A5: Sor- szám | B5: Rovat megnevezése | C5: Eredeti előirányzat összesen | D5: Önkormányzat | E5: Közös Hivatal | F5: TESZ | G5: Kultúrház | H5: Süni
A6: 27 | B6: Személyi juttatások (K1) | C6: =SUM(D6:H6) -> 404120936 | D6: 52267571 | E6: 144171047 | F6: 91322900 | G6: 26389513 | H6: 89969905
A7: 28 | B7: Munkaadókat terhelő járulékok és szociális hozzájárulási adó (K2) | C7: =SUM(D7:H7) -> 71260878 | D7: 10350728 | E7: 28098504 | F7: 12288159 | G7: 4655154 | H7: 15868333
A8: 87 | B8: Dologi kiadások (K3) | C8: =SUM(D8:H8) -> 500700674 | D8: 316638952 | E8: 33988840 | F8: 71815470 | G8: 36083056 | H8: 42174356
A9: 88 | B9: Családi támogatások (K42) | C9: =SUM(D9:H9) -> 0 | D9: =D10 -> 0 | E9: =E10 -> 0 | F9: =F10 -> 0 | G9: =G10 -> 0 | H9: =H10 -> 0
A10: 89 | B10: ebből: az egyéb pénzbeli és természetbeni gyermekvédelmi támogatások (K42132) | C10: =SUM(D10:H10) -> 0
A11: 90 | B11: Intézményi ellátottak pénzbeli juttatásai (K47) | C11: =SUM(D11:H11) -> 800000 | D11: =D12 -> 800000 | E11: =E12 -> 0 | F11: =F12 -> 0 | G11: =G12 -> 0 | H11: =H12 -> 0
A12: 91 | B12: ebből: oktatásban résztvevők pénzbeli juttatásai (K471) | C12: =SUM(D12:H12) -> 800000 | D12: 800000
A13: 92 | B13: Egyéb nem intézményi ellátások (K48) | C13: =SUM(D13:H13) -> 10700000 | D13: =SUM(D14:D15) -> 10700000 | E13: =SUM(E14:E15) -> 0 | F13: =SUM(F14:F15) -> 0 | G13: =SUM(G14:G15) -> 0 | H13: =SUM(H14:H15) -> 0
A14: 93 | B14: ebből: köztemetés [Szoctv. 48.§] (K48123) | C14: =SUM(D14:H14) -> 900000 | D14: 900000
A15: 94 | B15: ebből: települési támogatás [Szoctv. 45. §], (K48122) | C15: =SUM(D15:H15) -> 9800000 | D15: 9800000
A16: 96 | B16: Ellátottak pénzbeli juttatásai (K4) | C16: =SUM(D16:H16) -> 11500000 | D16: =D9+D11+D13 -> 11500000 | E16: =E9+E11+E13 -> 0 | F16: =F9+F11+F13 -> 0 | G16: =G9+G11+G13 -> 0 | H16: =H9+H11+H13 -> 0
A17: 97 | B17: Elvonások és befizetések (K5023) | C17: =SUM(D17:H17) -> 0
A18: 98 | B18: Egyéb működési célú támogatások államháztartáson belülre (K506) | C18: =SUM(D18:H18) -> 176540348 | D18: =SUM(D19:D22) -> 176540348 | E18: =SUM(E19:E22) -> 0 | F18: =SUM(F19:F22) -> 0 | G18: =SUM(G19:G22) -> 0 | H18: =SUM(H19:H22) -> 0
A19: 99 | B19: ebből: egyéb központi kezelésű előir (K50612) | C19: =SUM(D19:H19) -> 3500000 | D19: 3500000
A20: 100 | B20: ebből: elkülönített állami pénzalap (K50615) | C20: =SUM(D20:H20) -> 0
A21: 101 | B21: ebből: önkormányzatok és költségv-i szerveik K50616) | C21: =SUM(D21:H21) -> 0
A22: 102 | B22: ebből: társulások és költségvetési szerveik (K50617) | C22: =SUM(D22:H22) -> 173040348 | D22: 173040348
A23: 103 | B23: Egyéb működési célú támogatások államháztartáson kívülre (K512) | C23: =SUM(D23:H23) -> 19955600 | D23: 19955600
B24: Egyházi jogi személy egyé műk célú tám( K51216 | C24: =SUM(D24:H24) -> 0
A25: 104 | B25: Tartalékok (K51311) | C25: =SUM(D25:H25) -> 76092700 | D25: 76092700
A26: 105 | B26: Egyéb működési célú kiadások (K5) | C26: =SUM(D26:H26) -> 272588648 | D26: =D17+D18+D23+D24+D25 -> 272588648 | E26: =E17+E18+E23+E24+E25 -> 0 | F26: =F17+F18+F23+F24+F25 -> 0 | G26: =G17+G18+G23+G24+G25 -> 0 | H26: =H17+H18+H23+H24+H25 -> 0
A27: 106 | B27: Immateriális javak beszerzése, lét (K611) | C27: =SUM(D27:H27) -> 440000 | D27: 260000 | G27: 150000 | H27: 30000
A28: 107 | B28: Ingatlanok beszerzése, létesítése (K621) | C28: =SUM(D28:H28) -> 971737796 | D28: 971737796
A29: 108 | B29: Informatikai eszközök beszerzése, létesítése (K631) | C29: =SUM(D29:H29) -> 1580000 | E29: 1300000 | F29: 150000 | H29: 130000
A30: 109 | B30: Egyéb tárgyi eszközök beszerzése, létesítése (K641) | C30: =SUM(D30:H30) -> 36976116 | D30: 26805197 | E30: 3500000 | F30: 3630000 | G30: 2475919 | H30: 565000
A31: 110 | B31: Beruházási célú előzetesen felszámított általános forgalmi adó (K671) | C31: =SUM(D31:H31) -> 29697475 | D31: 26614726 | E31: 1296000 | F31: 1020600 | G31: 570399 | H31: 195750
A32: 111 | B32: Beruházások (K6) | C32: =SUM(D32:H32) -> 1040431387 | D32: =SUM(D27:D31) -> 1025417719 | E32: =SUM(E27:E31) -> 6096000 | F32: =SUM(F27:F31) -> 4800600 | G32: =SUM(G27:G31) -> 3196318 | H32: =SUM(H27:H31) -> 920750
A33: 112 | B33: Ingatlanok felújítása (K711) | C33: =SUM(D33:H33) -> 151961349 | D33: 151961349
B34: Informatikai eszközök felújítása (K723) | C34: =SUM(D34:H34) -> 200000 | E34: 200000
A35: 113 | B35: Egyéb tárgyi eszközök felújítása (K731) | C35: =SUM(D35:H35) -> 0
A36: 114 | B36: Felújítási célú előzetesen felszámított általános forgalmi adó (K741) | C36: =SUM(D36:H36) -> 41083565 | D36: 41029565 | E36: 54000
A37: 115 | B37: Felújítások (K7) | C37: =SUM(D37:H37) -> 193244914 | D37: =SUM(D33:D36) -> 192990914 | E37: =SUM(E33:E36) -> 254000 | F37: =SUM(F33:F36) -> 0 | G37: =SUM(G33:G36) -> 0 | H37: =SUM(H33:H36) -> 0
A38: 116 | B38: Egyéb felhalmozási célú támogatások államháztartáson belülre (K84) | C38: =SUM(D38:H38) -> 7516495 | D38: 7516495 | E38: =SUM(E39:E41) -> 0 | F38: =SUM(F39:F41) -> 0 | G38: =SUM(G39:G41) -> 0 | H38: =SUM(H39:H41) -> 0
A39: 119 | B39: Egyéb felhalmozási célú támogatás Áht-n kívülre (K89) | C39: =SUM(D39:H39) -> 4500000 | D39: =SUM(D40:D41) -> 4500000
A40: 118 | B40: ebből:önkormányzati többségi tulajdonú nem pénzügyi vállalkozások (K89122) | C40: =SUM(D40:H40) -> 0
A41: 117 | B41: ebből: egyéb civil szervezeteknek | C41: =SUM(D41:H41) -> 4500000 | D41: 4500000
...

Sheet 2a
B1: Berhida Város Önkormányzata
B2: 2020. évi költségvetés | C2: 2/a. melléklet a 2/2020.(II.28.) rendelethez
B3: Kiadások | C3: adatok Ft-ban
A5: Felújítások | C5: Eredeti előir | D5: változás | E5: Mód. Előir. | F5: Teljesítés 03.31
A6: 1 | B6: ÖH informatikai eszköz felújítás | C6: 254000 | E6: =C6+D6 -> 254000
A7: 2 | B7: ÖNK rendőrőrs felújítás KM | C7: 48426697 | E7: =C7+D7 -> 48426697
A8: 3 | B8: ÖNK Gyermekorv és védőnői szolg. Épület felúj pály KM | C8: 64650000 | E8: =C8+D8 -> 64650000
A9: 4 | B9: ÖNK Süni konyha felújítás pályázat mKM | C9: 35388602 | E9: =C9+D9 -> 35388602
A10: 5 | B10: ÖNK viziközmű alapból keretszerződés | C10: 3000000 | E10: =C10+D10 -> 3000000
A11: 6 | B11: ÖNK tervek | C11: 3000000 | D11: -93806 | E11: =C11+D11 -> 2906194
A12: 7 | B12: ÖNK Hivatal lapostető szigetelés felúj | C12: 850000 | D12: -672200 | E12: =C12+D12 -> 177800
A13: 8 | B13: ÖNK Orgona út üzletsor tetőszigetelés | C13: 3800000 | D13: -656575 | E13: =C13+D13 -> 3143425
A14: 9 | B14: ÖNK Orgona út villámhárító felúj | C14: 2000000 | D14: -1198580 | E14: =C14+D14 -> 801420
A15: 10 | B15: ÖNK Szegfű u. gyógyszertár felúj (vakolat, padlásfeljáró,szellőző stb) | C15: 650000 | E15: =C15+D15 -> 650000
A16: 11 | B16: ÖNK I. orvosi rendelő gépkocsi beálló tetőhéjalás felúj | C16: 190000 | E16: =C16+D16 -> 190000
A17: 12 | B17: ÖNK Szent Flórián szobor felújítás | C17: 660000 | E17: =C17+D17 -> 660000
A18: 13 | B18: ÖNK I. világháborúban elesett hős fiaink feszület pályázat | C18: 1210000 | E18: =C18+D18 -> 1210000
A19: 14 | B19: ÖNK Árpád köz 3. szolg. Lakás közmű gépészet felúj | C19: 900000 | E19: =C19+D19 -> 900000 | F19: 732165
A20: 15 | B20: ÖNK Pgytp Műv ház villamos szekrény felújítás | C20: 6500000 | D20: -2719730 | E20: =C20+D20 -> 3780270
A21: 16 | B21: ÖNK Hétszínvirág óvoda felújítás ( 3 csoportszoba és villamos stb) | C21: 20946483 | D21: -2248629 | E21: =C21+D21 -> 18697854
A22: 17 | B22: ÖNK ivóvíz bekötés felújítások Viziközmű szl-.ról | C22: 819132 | E22: =C22+D22 -> 819132
A23: 18 | B23: ÖNK Veszprémi út 1005/9 hrsz-ú területen, Szabadság tér és Bem János utca közötti szakaszon 7 db víznyelő aknafedlap, 1 db csapszekrény, 2 db postakábel akna szintre emelése | D23: 287020 | E23: =C23+D23 -> 287020
A24: 19 | B24: ÖNK Veszprémi út 1005/9 hrsz-ú területen, Szabadság tér és Bem János utca közötti szakaszon 8 db csatorna fedlap szintre emelése | D24: 345440 | E24: =C24+D24 -> 345440
A25: 20 | B25: ÖNK Ősi út 696. hrsz-ú területen lévő, 10 db. csatorna fedlap szintre emelése | D25: 431000 | E25: =C25+D25 -> 431000
A26: 21 | E26: =C26+D26 -> 0
A27: 22 | B27: Összesen | C27: =SUM(C6:C26) -> 193244914 | D27: =SUM(D6:D26) -> -6526060 | E27: =SUM(E6:E26) -> 186718854 | F27: =SUM(F6:F26) -> 732165

Sheet 2b
B1: Berhida Város Önkormányzata
B2: 2020. évi költségvetés | C2: 2/b. melléklet a 2/2020.(II.28.) rendelethez
B3: Kiadások | C3: adatok Ft-ban
A5: Beruházások | C5: Eredeti előir | D5: változás | E5: Mód elői | F5: Teljesülés 03.31
A6: 1 | B6: TESZ imm. Javak és informatikai eszközök+áfa | C6: 190500 | E6: =C6+D6 -> 190500
A7: 2 | B7: TESZ egyéb gép- berendezés+áfa | C7: 4610100 | E7: =C7+D7 -> 4610100 | F7: 53427
A8: 3 | B8: Kultúrház imm. javak és informatikai eszközök beszerzése | C8: 190500 | E8: =C8+D8 -> 190500
A9: 4 | B9: Kultúrház egyéb gép, berend beszerzés | C9: 3005818 | E9: =C9+D9 -> 3005818 | F9: 569120
A10: 5 | B10: Süni imm.jav és informatika tárgyi eszköz + áfa | C10: 203200 | E10: =C10+D10 -> 203200
A11: 6 | B11: Süni egyéb tárgyi eszköz + áfa | C11: 717550 | E11: =C11+D11 -> 717550
A12: 7 | B12: ÖH imm. Javak és informatikai eszközök + áfa | C12: 1651000 | E12: =C12+D12 -> 1651000 | F12: 62000
A13: 8 | B13: ÖH egyéb gép, berend + áfa | C13: 4445000 | E13: =C13+D13 -> 4445000 | F13: 392351
A14: 9 | B14: ÖNK védőnői szolg. Egyéb eszközbeszerzés | C14: 508000 | E14: =C14+D14 -> 508000
A15: 10 | B15: ÖNK kerékpárút kialakítás TOP 3.1.1-16 pályázat KM | C15: 230266627 | E15: =C15+D15 -> 230266627
A16: 11 | B16: ÖNK szennyvíz tisztítótelep, csatornahál fejl. KEHOP pályázat bev | C16: 492974394 | E16: =C16+D16 -> 492974394
A17: 12 | B17: ÖNK bölcsőde kialakítás TOP pályázat bev | C17: 212847140 | E17: =C17+D17 -> 212847140
A18: 13 | B18: ÖNK külterületi utak pályázat bev | C18: 26859708 | E18: =C18+D18 -> 26859708
A19: 14 | B19: ÖNK tervek | C19: 2000000 | E19: =C19+D19 -> 2000000
A20: 15 | B20: ÖNK Jázmi és szegfű u. csapadékvíz hálózat összekötő vezeték talajterhl.díjból+t.évi bev | C20: 3000000 | E20: =C20+D20 -> 3000000
A21: 16 | B21: ÖNK kamerák cseréje | C21: 2161600 | E21: =C21+D21 -> 2161600 | F21: 275092
A22: 17 | B22: ÖNK rendezetlen ingatlan vásárlás, kerítés építés | C22: 2200000 | E22: =C22+D22 -> 2200000
A23: 18 | B23: ÖNK urnahely temetkezési hely kialakítás | C23: 1500000 | E23: =C23+D23 -> 1500000
A24: 19 | B24: ÖNK fittnes parkok kialakítása térburkolat és egyéb kialak. költség | C24: 1940020 | E24: =C24+D24 -> 1940020
A25: 20 | B25: ÖNK VP fittnes parkok kialakítása pályázat bev | C25: 13578162 | E25: =C25+D25 -> 13578162
A26: 21 | B26: ÖNK közvilágítás bővítés | C26: 892610 | E26: =C26+D26 -> 892610
A27: 22 | B27: ÖNK VP6-7.2.1.4.1.3-17 közétkeztetés fejl. Süni eszközfejl.pály. Bev | C27: 18925488 | E27: =C27+D27 -> 18925488
A28: 23 | B28: ÖNK Magyar I-Liszt F u. közötti járdához ter. Vásárlás | C28: 400000 | E28: =C28+D28 -> 400000
A29: 24 | B29: ÖNK Rozmaring út szennyvíz, ivóvíz beköt áthúz Viziközmű alap | C29: 725170 | E29: =C29+D29 -> 725170
A30: 25 | B30: ÖNK Tulipán-Szegfű-Orgona-Margaréta u. régi-új szennyvíz szétvál.terv | C30: 444500 | E30: =C30+D30 -> 444500
A31: 26 | B31: ÖNK rendezési terv, települési rendezési eszköz terv módosítás | C31: 330200 | E31: =C31+D31 -> 330200
A32: 27 | B32: ÖNK Telkek mérőszekrény kialakítás | C32: 2044700 | E32: =C32+D32 -> 2044700
A33: 28 | B33: ÖNK Viola utca telkek közvilágítás részleges kialak | C33: 2794000 | E33: =C33+D33 -> 2794000
... A35: 30 | B35: ÖNK Lakat János tér kialakítása | C35: 9000000 | E35: =C35+D35 -> 9000000
A36: 31 | B36: ÖNK Hunyadi tér 950/10 hrsz ivókút vízellátása ( vízbekötővezeték, szakipari szerelés stb) | D36: 587617 | E36: =C36+D36 -> 587617
A37: 32 | B37: ÖNK Peremarton 1765/41 ivókút vízellátása (vízbekötővezeték, vízmérő kial stb) | D37: 1364857 | E37: =C37+D37 -> 1364857
A38: 33 | B38: ÖNK Ledes világító információs tábla 3 db letelepítéssel | D38: 529209 | E38: =C38+D38 -> 529209
A39: 34 | B39: TESZ permetezőgép vásárlás (fertőző betegség feladatra) | D39: 170000 | E39: =C39+D39 -> 170000
A40: 35 | B40: ÖNK Fenyős sor 1528 hrsz-ú összekötő útszakasz makadámút ép | D40: 7302500 | E40: =C40+D40 -> 7302500
A41: 36
A42: 37 | E42: =C42+D42 -> 0
...

Sheet 2-c
A1: BERHIDA VÁROS ÖNKORMÁNYZATA
A2: 2020. évi költségvetési tervben a 2019. évi költségvetési maradvány igénybevétel részletezése
E4: 2/c. melléklet a 2/2020.(II.28.) rendelethez
E5: adatok Ft-ban
A6: kv-i maradvány | C6: személyi | D6: járulék | E6: dologi | F6: felhalm tám | G6: felújítás | H6: beruházás | I6: finansz | J6: céltart
A7: Egyéb viziközmű alap | B7: =SUM(C7:J7) -> 66729493 | J7: 66729493
A8: Állami étkeztetési tart | B8: =SUM(C8:J8) -> 4000000 | J8: 4000000
A9: ingatlanhavaria | B9: =SUM(C9:J9) -> 4000000 | J9: 4000000
A10: HKA talajterh 2019 csapadékvíz elvez Jázmin | B10: =SUM(C10:J10) -> 40820 | H10: 40820
A11: HKA talajterh 2019-ig csapadékvíz elvez Jázmin | B11: =SUM(C11:J11) -> 772974 | H11: 772974
A12: Gyermekorvosi rendelő pály | B12: =SUM(C12:J12) -> 64650000 | G12: 64650000
A13: Rendőrőrs felúj pályázat | B13: =SUM(C13:J13) -> 40699250 | G13: 40699250
A14: TOP kerékpárút | B14: =SUM(C14:J14) -> 252682740 | C14: 2491915 | D14: 436085 | E14: 59104407 | H14: 190650333
A15: Süni konyha felúj BM pály | B15: =SUM(C15:J15) -> 35388602 | G15: 35388602
A16: Gátiba mérőszekrény kialakítás | B16: =SUM(C16:J16) -> 2044700 | H16: 2044700
A17: Településszerk terv HÉSZ mód | B17: =SUM(C17:J17) -> 330200 | H17: 330200
A18: Hidroszolg Tulipán u. 500 m terv | B18: =SUM(C18:J18) -> 444500 | H18: 444500
A19: Gátiba 7 db közvil. Lámpa | B19: =SUM(C19:J19) -> 2794000 | H19: 2794000
A20: Rozmaring út szennyvíz, ivóvíz beköt | B20: =SUM(C20:J20) -> 725170 | H20: 725170
A21: Hétszín ovifoci pálya kial | B21: =SUM(C21:J21) -> 4500000 | F21: 4500000
A22: Árpád köz 3 közmű felúj | B22: =SUM(C22:J22) -> 900000 | G22: 900000
A23: Sport fittnes park saját beruh | B23: =SUM(C23:J23) -> 1940020 | H23: 1940020
A24: ÖNK 181/2 hrsz-ú közút közvilágítási hálózatra csatlakozás áthúz KM | B24: =SUM(C24:J24) -> 25400 | H24: 25400
A25: Süni étk eszközbeszerzés önrész | B25: =SUM(C25:J25) -> 4676284 | H25: 4676284
A26: pályázati tartalék | B26: =SUM(C26:J26) -> 10000000 | J26: 10000000
A27: Hétszín felújítás önerős | B27: =SUM(C27:J27) -> 20946483 | G27: 20946483
A28: állami megelőlegezés | B28: =SUM(C28:J28) -> 16355732 | I28: 16355732
A29: Műv ház villamos szekrény felúj | B29: =SUM(C29:J29) -> 6500000 | G29: 6500000
A30: ÖNK Hivatal lapostető szigetelés felúj | B30: =SUM(C30:J30) -> 850000 | G30: 850000
A31: ÖNK Orgona út üzletsor tetőszigetelés | B31: =SUM(C31:J31) -> 3800000 | G31: 3800000
A32: ÖNK Orgona út villámhárító felúj | B32: =SUM(C32:J32) -> 2000000 | G32: 2000000
A33: ÖNK Szegfű u. gyógyszertár felúj (vakolat, padlásfeljáró,szellőző stb) | B33: =SUM(C33:J33) -> 650000 | G33: 650000
A34: ÖNK I. orvosi rendelő gépkocsi beálló tetőhéjalás felúj | B34: =SUM(C34:J34) -> 190000 | G34: 190000
A35: ÖNK Szent Flórián szobor felújítás | B35: =SUM(C35:J35) -> 660000 | G35: 660000
A36: ÖNK kamerák cseréje | B36: =SUM(C36:J36) -> 2161600 | H36: 2161600
A37: ÖNK rendezetlen ingatlan vásárlás, kerítés építés | B37: =SUM(C37:J37) -> 2200000 | H37: 2200000
A38: ÖNK urnahely temetkezési hely kialakítás | B38: =SUM(C38:J38) -> 1500000 | H38: 1500000
A39: ÖNK közvilágítás bővítés | B39: =SUM(C39:J39) -> 892610 | H39: 892610
A40: TESZ közfoglalkoztatottak támogatási előleg | B40: =SUM(C40:J40) -> 5000000 | C40: 4597701 | D40: 402299
A41: Művelődési Ház | B41: =SUM(C41:J41) -> 417936 | H41: 417936
...

Sheet 2d
B1: Berhida Város Önkormányzata
B2: 2020. évi költségvetés | E2: 2/d. melléklet a 2/2020.(II.28.) rendelethez
C3: KIADÁSOK | E3: Ft-ban
A5: Sor- szám | B5: Rovat megnevezése | C5: Módosított előirányzat összesen | D5: Önkormányzat | E5: Közös Hivatal | F5: TESZ | G5: Kultúrház | H5: Süni
A6: 27 | B6: Személyi juttatások (K1) | C6: =SUM(D6:H6) -> 411199541 | D6: 51560571 | E6: 151956652 | F6: 91322900 | G6: 26389513 | H6: 89969905
A7: 28 | B7: Munkaadókat terhelő járulékok és szociális hozzájárulási adó (K2) | C7: =SUM(D7:H7) -> 72304994 | D7: 10227003 | E7: 29266345 | F7: 12288159 | G7: 4655154 | H7: 15868333
A8: 87 | B8: Dologi kiadások (K3) | C8: =SUM(D8:H8) -> 505114265 | D8: 320939743 | E8: 33988840 | F8: 71815470 | G8: 36195856 | H8: 42174356
A9: 88 | B9: Családi támogatások (K42) | C9: =SUM(D9:H9) -> 0 | D9: =D10 -> 0 | E9: =E10 -> 0 | F9: =F10 -> 0 | G9: =G10 -> 0 | H9: =H10 -> 0
A10: 89 | B10: ebből: az egyéb pénzbeli és természetbeni gyermekvédelmi támogatások (K42132) | C10: =SUM(D10:H10) -> 0
A11: 90 | B11: Intézményi ellátottak pénzbeli juttatásai (K47) | C11: =SUM(D11:H11) -> 800000 | D11: =D12 -> 800000 | E11: =E12 -> 0 | F11: =F12 -> 0 | G11: =G12 -> 0 | H11: =H12 -> 0
A12: 91 | B12: ebből: oktatásban résztvevők pénzbeli juttatásai (K471) | C12: =SUM(D12:H12) -> 800000 | D12: 800000
A13: 92 | B13: Egyéb nem intézményi ellátások (K48) | C13: =SUM(D13:H13) -> 10700000 | D13: =SUM(D14:D15) -> 10700000 | E13: =SUM(E14:E15) -> 0 | F13: =SUM(F14:F15) -> 0 | G13: =SUM(G14:G15) -> 0 | H13: =SUM(H14:H15) -> 0
A14: 93 | B14: ebből: köztemetés [Szoctv. 48.§] (K48123) | C14: =SUM(D14:H14) -> 900000 | D14: 900000
A15: 94 | B15: ebből: települési támogatás [Szoctv. 45. §], (K48122) | C15: =SUM(D15:H15) -> 9800000 | D15: 9800000
A16: 96 | B16: Ellátottak pénzbeli juttatásai (K4) | C16: =SUM(D16:H16) -> 11500000 | D16: =D9+D11+D13 -> 11500000 | E16: =E9+E11+E13 -> 0 | F16: =F9+F11+F13 -> 0 | G16: =G9+G11+G13 -> 0 | H16: =H9+H11+H13 -> 0
A17: 97 | B17: Elvonások és befizetések (K5023) | C17: =SUM(D17:H17) -> 0
A18: 98 | B18: Egyéb működési célú támogatások államháztartáson belülre (K506) | C18: =SUM(D18:H18) -> 177034348 | D18: =SUM(D19:D22) -> 177034348 | E18: =SUM(E19:E22) -> 0 | F18: =SUM(F19:F22) -> 0 | G18: =SUM(G19:G22) -> 0 | H18: =SUM(H19:H22) -> 0
A19: 99 | B19: ebből: egyéb központi kezelésű előir (K50612) | C19: =SUM(D19:H19) -> 3500000 | D19: 3500000
A20: 100 | B20: ebből: elkülönített állami pénzalap (K50615) | C20: =SUM(D20:H20) -> 0
A21: 101 | B21: ebből: önkormányzatok és költségv-i szerveik K50616) | C21: =SUM(D21:H21) -> 0
A22: 102 | B22: ebből: társulások és költségvetési szerveik (K50617) | C22: =SUM(D22:H22) -> 173534348 | D22: 173534348
A23: 103 | B23: Egyéb működési célú támogatások államháztartáson kívülre (K512) | C23: =SUM(D23:H23) -> 20673525 | D23: 20673525
B24: Egyházi jogi személy egyé műk célú tám( K51216 | C24: =SUM(D24:H24) -> 0
A25: 104 | B25: Tartalékok (K51311) | C25: =SUM(D25:H25) -> 68363786 | D25: 68363786
A26: 105 | B26: Egyéb működési célú kiadások (K5) | C26: =SUM(D26:H26) -> 266071659 | D26: =D17+D18+D23+D24+D25 -> 266071659 | E26: =E17+E18+E23+E24+E25 -> 0 | F26: =F17+F18+F23+F24+F25 -> 0 | G26: =G17+G18+G23+G24+G25 -> 0 | H26: =H17+H18+H23+H24+H25 -> 0
A27: 106 | B27: Immateriális javak beszerzése, lét (K611) | C27: =SUM(D27:H27) -> 440000 | D27: 260000 | G27: 150000 | H27: 30000
A28: 107 | B28: Ingatlanok beszerzése, létesítése (K621) | C28: =SUM(D28:H28) -> 979025177 | D28: 979025177
A29: 108 | B29: Informatikai eszközök beszerzése, létesítése (K631) | C29: =SUM(D29:H29) -> 1580000 | E29: 1300000 | F29: 150000 | H29: 130000
A30: 109 | B30: Egyéb tárgyi eszközök beszerzése, létesítése (K641) | C30: =SUM(D30:H30) -> 37526674 | D30: 27221897 | E30: 3500000 | F30: 3763858 | G30: 2475919 | H30: 565000
A31: 110 | B31: Beruházási célú előzetesen felszámított általános forgalmi adó (K671) | C31: =SUM(D31:H31) -> 31813719 | D31: 28694828 | E31: 1296000 | F31: 1056742 | G31: 570399 | H31: 195750
A32: 111 | B32: Beruházások (K6) | C32: =SUM(D32:H32) -> 1050385570 | D32: =SUM(D27:D31) -> 1035201902 | E32: =SUM(E27:E31) -> 6096000 | F32: =SUM(F27:F31) -> 4970600 | G32: =SUM(G27:G31) -> 3196318 | H32: =SUM(H27:H31) -> 920750
A33: 112 | B33: Ingatlanok felújítása (K711) | C33: =SUM(D33:H33) -> 146822719 | D33: 146822719
B34: Informatikai eszközök felújítása (K723) | C34: =SUM(D34:H34) -> 200000 | E34: 200000
A35: 113 | B35: Egyéb tárgyi eszközök felújítása (K731) | C35: =SUM(D35:H35) -> 0
A36: 114 | B36: Felújítási célú előzetesen felszámított általános forgalmi adó (K741) | C36: =SUM(D36:H36) -> 39696135 | D36: 39642135 | E36: 54000
A37: 115 | B37: Felújítások (K7) | C37: =SUM(D37:H37) -> 186718854 | D37: =SUM(D33:D36) -> 186464854 | E37: =SUM(E33:E36) -> 254000 | F37: =SUM(F33:F36) -> 0 | G37: =SUM(G33:G36) -> 0 | H37: =SUM(H33:H36) -> 0
A38: 116 | B38: Egyéb felhalmozási célú támogatások államháztartáson belülre (K84) | C38: =SUM(D38:H38) -> 7516495 | D38: 7516495 | E38: =SUM(E39:E41) -> 0 | F38: =SUM(F39:F41) -> 0 | G38: =SUM(G39:G41) -> 0 | H38: =SUM(H39:H41) -> 0
A39: 119 | B39: Egyéb felhalmozási célú támogatás Áht-n kívülre (K89) | C39: =SUM(D39:H39) -> 4500000 | D39: =SUM(D40:D41) -> 4500000
A40: 118 | B40: ebből:önkormányzati többségi tulajdonú nem pénzügyi vállalkozások (K89122) | C40: =SUM(D40:H40) -> 0
A41: 117 | B41: ebből: egyéb civil szervezeteknek | C41: =SUM(D41:H41) -> 4500000 | D41: 4500000
...

Sheet 2e
B1: Berhida Város Önkormányzata
B2: 2020. évi költségvetés | E2: 2/e. melléklet a 2/2020.(II.28.) rendelethez
C3: KIADÁSOK | E3: Ft-ban
A5: Sor- szám | B5: Rovat megnevezése | C5: Teljesítés 03.31 összesen | D5: Önkormányzat | E5: Közös Hivatal | F5: TESZ | G5: Kultúrház | H5: Süni
A6: 27 | B6: Személyi juttatások (K1) | C6: =SUM(D6:H6) -> 82238452 | D6: 7667858 | E6: 31379413 | F6: 19372546 | G6: 5560779 | H6: 18257856
A7: 28 | B7: Munkaadókat terhelő járulékok és szociális hozzájárulási adó (K2) | C7: =SUM(D7:H7) -> 15376216 | D7: 1473362 | E7: 6732119 | F7: 2803426 | G7: 985400 | H7: 3381909
A8: 87 | B8: Dologi kiadások (K3) | C8: =SUM(D8:H8) -> 76151080 | D8: 42240994 | E8: 6060702 | F8: 12013557 | G8: 7085566 | H8: 8750261
A9: 88 | B9: Családi támogatások (K42) | C9: =SUM(D9:H9) -> 0 | D9: =D10 -> 0 | E9: =E10 -> 0 | F9: =F10 -> 0 | G9: =G10 -> 0 | H9: =H10 -> 0
A10: 89 | B10: ebből: az egyéb pénzbeli és természetbeni gyermekvédelmi támogatások (K42132) | C10: =SUM(D10:H10) -> 0
A11: 90 | B11: Intézményi ellátottak pénzbeli juttatásai (K47) | C11: =SUM(D11:H11) -> 0 | D11: =D12 -> 0 | E11: =E12 -> 0 | F11: =F12 -> 0 | G11: =G12 -> 0 | H11: =H12 -> 0
A12: 91 | B12: ebből: oktatásban résztvevők pénzbeli juttatásai (K471) | C12: =SUM(D12:H12) -> 0
A13: 92 | B13: Egyéb nem intézményi ellátások (K48) | C13: =SUM(D13:H13) -> 729497 | D13: =SUM(D14:D15) -> 729497 | E13: =SUM(E14:E15) -> 0 | F13: =SUM(F14:F15) -> 0 | G13: =SUM(G14:G15) -> 0 | H13: =SUM(H14:H15) -> 0
A14: 93 | B14: ebből: köztemetés [Szoctv. 48.§] (K48123) | C14: =SUM(D14:H14) -> 112497 | D14: 112497
A15: 94 | B15: ebből: települési támogatás [Szoctv. 45. §], (K48122) | C15: =SUM(D15:H15) -> 617000 | D15: 617000
A16: 96 | B16: Ellátottak pénzbeli juttatásai (K4) | C16: =SUM(D16:H16) -> 729497 | D16: =D9+D11+D13 -> 729497 | E16: =E9+E11+E13 -> 0 | F16: =F9+F11+F13 -> 0 | G16: =G9+G11+G13 -> 0 | H16: =H9+H11+H13 -> 0
A17: 97 | B17: Elvonások és befizetések (K5023) | C17: =SUM(D17:H17) -> 0
A18: 98 | B18: Egyéb működési célú támogatások államháztartáson belülre (K506) | C18: =SUM(D18:H18) -> 33628402 | D18: =SUM(D19:D22) -> 33628402 | E18: =SUM(E19:E22) -> 0 | F18: =SUM(F19:F22) -> 0 | G18: =SUM(G19:G22) -> 0 | H18: =SUM(H19:H22) -> 0
A19: 99 | B19: ebből: egyéb központi kezelésű előir (K50612) | C19: =SUM(D19:H19) -> 517000 | D19: 517000
A20: 100 | B20: ebből: elkülönített állami pénzalap (K50615) | C20: =SUM(D20:H20) -> 0
A21: 101 | B21: ebből: önkormányzatok és költségv-i szerveik K50616) | C21: =SUM(D21:H21) -> 0
A22: 102 | B22: ebből: társulások és költségvetési szerveik (K50617) | C22: =SUM(D22:H22) -> 33111402 | D22: 33111402
A23: 103 | B23: Egyéb működési célú támogatások államháztartáson kívülre (K512) | C23: =SUM(D23:H23) -> 3844546 | D23: 3844546
B24: Egyházi jogi személy egyé műk célú tám( K51216 | C24: =SUM(D24:H24) -> 0
A25: 104 | B25: Tartalékok (K51311) | C25: =SUM(D25:H25) -> 0
A26: 105 | B26: Egyéb működési célú kiadások (K5) | C26: =SUM(D26:H26) -> 37472948 | D26: =D17+D18+D23+D24+D25 -> 37472948 | E26: =E17+E18+E23+E24+E25 -> 0 | F26: =F17+F18+F23+F24+F25 -> 0 | G26: =G17+G18+G23+G24+G25 -> 0 | H26: =H17+H18+H23+H24+H25 -> 0
A27: 106 | B27: Immateriális javak beszerzése, lét (K611) | C27: =SUM(D27:H27) -> 0
A28: 107 | B28: Ingatlanok beszerzése, létesítése (K621) | C28: =SUM(D28:H28) -> 0
A29: 108 | B29: Informatikai eszközök beszerzése, létesítése (K631) | C29: =SUM(D29:H29) -> 48819 | E29: 48819
A30: 109 | B30: Egyéb tárgyi eszközök beszerzése, létesítése (K641) | C30: =SUM(D30:H30) -> 1016236 | D30: 216608 | E30: 308938 | F30: 42069 | G30: 448621
A31: 110 | B31: Beruházási célú előzetesen felszámított általános forgalmi adó (K671) | C31: =SUM(D31:H31) -> 286935 | D31: 58484 | E31: 96594 | F31: 11358 | G31: 120499
A32: 111 | B32: Beruházások (K6) | C32: =SUM(D32:H32) -> 1351990 | D32: =SUM(D27:D31) -> 275092 | E32: =SUM(E27:E31) -> 454351 | F32: =SUM(F27:F31) -> 53427 | G32: =SUM(G27:G31) -> 569120 | H32: =SUM(H27:H31) -> 0
A33: 112 | B33: Ingatlanok felújítása (K711) | C33: =SUM(D33:H33) -> 576508 | D33: 576508
B34: Informatikai eszközök felújítása (K723) | C34: =SUM(D34:H34) -> 0
A35: 113 | B35: Egyéb tárgyi eszközök felújítása (K731) | C35: =SUM(D35:H35) -> 0
A36: 114 | B36: Felújítási célú előzetesen felszámított általános forgalmi adó (K741) | C36: =SUM(D36:H36) -> 155657 | D36: 155657
A37: 115 | B37: Felújítások (K7) | C37: =SUM(D37:H37) -> 732165 | D37: =SUM(D33:D36) -> 732165 | E37: =SUM(E33:E36) -> 0 | F37: =SUM(F33:F36) -> 0 | G37: =SUM(G33:G36) -> 0 | H37: =SUM(H33:H36) -> 0
A38: 116 | B38: Egyéb felhalmozási célú támogatások államháztartáson belülre (K84) | C38: =SUM(D38:H38) -> 0 | E38: =SUM(E39:E41) -> 0 | F38: =SUM(F39:F41) -> 0 | G38: =SUM(G39:G41) -> 0 | H38: =SUM(H39:H41) -> 0
A39: 119 | B39: Egyéb felhalmozási célú támogatás Áht-n kívülre (K89) | C39: =SUM(D39:H39) -> 0
A40: 118 | B40: ebből:önkormányzati többségi tulajdonú nem pénzügyi vállalkozások (K89122) | C40: =SUM(D40:H40) -> 0
A41: 117 | B41: ebből: egyéb civil szervezeteknek | C41: =SUM(D41:H41) -> 0
...

Sheet 3
D1: Berhida Város Önkormányzata | H1: 3. melléklet
C2: Költségvetési szervek engedélyezett létszám kerete | H2: 2/2020.(II. 28. ) rendelethez
E4: 2020. évi költségvetés
B5: A | C5: B | D5: C | E5: D | F5: E | G5: F | H5: G
A6: 1 | B6: BEVÉTELI JOGCÍMEK | C6: Süni | D6: Műv. Ház | E6: TESZ, közf. | F6: Köz Önk.Hiv. | G6: Önkormányzat | H6: ÖSSZESEN
A7: 2 | B7: Intézm.létszámkeret fő: | C7: 27 | D7: 8 | E7: 13 | F7: 28.38 | G7: 12 | H7: =SUM(C7:G7) -> 88.38
A8: 3 | B8: ideiglenes hat. Idejű létszámkeret | E8: 1 | F8: 1 | H8: =SUM(C8:G8) -> 2
A9: 4 | B9: + 6-8 órás közfoglalk létsz | E9: 120 | H9: =SUM(C9:G9) -> 120
A10: 5 | B10: LÉTSZÁMKERET összesen: | C10: =SUM(C7:C9) -> 27 | D10: =SUM(D7:D9) -> 8 | E10: =SUM(E7:E9) -> 134 | F10: =SUM(F7:F9) -> 29.38 | G10: =SUM(G7:G9) -> 12 | H10: =SUM(H7:H9) -> 210.38
B12: Önkormányzati létszámkeret | C12: a.) polgármester | F12: 1 | G12: fő
C13: b.) alpolgármester | F13: 1 | G13: fő
C14: c.) önkormányzati képviselők | F14: 7 | G14: fő
C15: d.) védőnők | F15: 3 | G15: fő
D16: Összesen: | F16: =SUM(F12:F15) -> 12 | G16: fő

Sheet 4.mell
C1: BERHIDA VÁROS ÖNKORMÁNYZATA
D2: 2020.évi MÉRLEGTERV | G2: 4. melléklet a 2/2020.(II.28.) rendelethez
C3: a működési és felhalmozási célú bevételi és kiadási előirányzatokról | G3: adatok Ft-ban
B5: A | C5: B | D5: C | E5: D | F5: E | G5: F
A6: 1 | B6: BEVÉTELI TERV | E6: KIADÁSI TERV
A7: 2 | B7: I. | C7: Működési célú bevételi terv | E7: I. | F7: Működési célú kiadási terv
A8: 3 | B8: a.) | C8: Műk c támogatások áht belülről | D8: ='[1]2'!C21 -> 662311084 | E8: a.) | F8: Személyi juttatások | G8: ='[1]7'!C6 -> 411199541
A9: 4 | B9: b.) | C9: Közhatalmi bevételek | D9: ='[1]2'!C40 -> 335946610 | E9: b.) | F9: Munkaadókat t járulékok | G9: ='[1]7'!C7 -> 72304994
A10: 5 | B10: c.) | C10: Működési bevételek | D10: ='[1]2'!C62 -> 35885928 | E10: c.) | F10: Dologi kiadások | G10: ='[1]7'!C8 -> 505114265
A11: 6 | B11: d.) | C11: Működési átvett pénzeszközök | E11: d.) | F11: Ellátottak pénzbeli jutt | G11: ='[1]7'!C16 -> 11500000
A12: 7 | B12: e.) | E12: e.) | F12: Egyéb műk c kiadások | G12: ='[1]7'!C26 -> 266071659
A13: 8 | B13: f.) | E13: f.)
A14: 9 | E14: g.)
A15: 10
A16: 11 | C16: I. Bevételek: | D16: =SUM(D8:D15) -> 1034143622 | F16: I. Kiadások együtt: | G16: =SUM(G8:G14) -> 1266190459 | H16: =D16-G16 -> -232046837
A17: 12 | F17: Működési célú bevételek: | G17: =D16 -> 1034143622
A18: 13 | F18: Működési egyenleg: | G18: =G16-G17 -> 232046837
A19: 14
A20: 15 | B20: II. | C20: Felhalmozási célú bevételi terv | E20: II. | F20: Felhalmozási célú kiadások:
A21: 16 | B21: 1.) | C21: Felhalmozási c támog. Áht-n bel | D21: ='[1]2'!C29 -> 850533503 | E21: 1.) | F21: Beruházások | G21: ='[1]7'!C32 -> 1050385570
A22: 17 | B22: 2.) | C22: Felhalmozási bevételek | D22: ='[1]2'!C65 -> 3000000 | E22: 2.) | F22: Felújítások | G22: ='[1]7'!C37 -> 186718854
A23: 18 | B23: 3.) | C23: Egyéb felhalmozási c átvett pe | D23: ='[1]2'!C71 -> 1255000 | E23: 3.) | F23: Egyéb felhalm c kiadások | G23: ='[1]7'!C42 -> 12016495
A24: 19 | B24: 4.) | E24: 4.)
A25: 20 | B25: 5.) | E25: 5.)
A26: 21 | B26: 6.)
A27: 22 | B27: 7.)
A28: 23 | B28: 8.)
A29: 24 | C29: II. Bevételek: | D29: =SUM(D21:D28) -> 854788503 | F29: II. Kiadások: | G29: =SUM(G21:G26) -> 1249120919 | H29: =D29-G29 -> -394332416
A30: 25 | F30: Felhalm.célú bevételek: | G30: =D29 -> 854788503
A31: 26 | F31: Felhalm. egyenleg: | G31: =G29-G30 -> 394332416
A32: 27
A33: 28 | C33: Bevételek összesen (I+II): | D33: =D16+D29 -> 1888932125 | F33: Kiadások összesen (I+II): | G33: =SUM(G16+G29) -> 2515311378 | H33: =D33-G33 -> -626379253
C34: iránytószervi támogatás | D34: ='[1]2'!C76 -> 556872454 | F34: iránítószervi támogatás | G34: ='[1]7'!C45 -> 556872454 | H34: =D34+D35+D37-G34-G35 -> 622742763
C35: kv-i mararvány | D35: ='[1]2'!C74 -> 582734985 | F35: Áht megelőleg visszafiz | G35: ='[1]7'!C44 -> 19992222
C36: Áht megelőlegezés | D36: ='[1]2'!C75 -> 3636490
C37: Államkötvény visszaváltás | D37: ='[1]2'!C73 -> 60000000
C38: Össz bevétel | D38: =SUM(D33:D37) -> 3092176054 | F38: Össz Kiadás | G38: =SUM(G33:G35) -> 3092176054

Sheet 5.mell.
B1: 2020. évi költségvetés
B2: Berhida Város Önkormányzata
B3: Közösségi szolgáltatások támogatása | C3: 5. melléklet a 2/2020.(II.28.) rendelethez
B5: A | C5: B | D5: adatok Ft-ban
A6: 1 | B6: I.) Sporttámogatás működési célú | C6: 2020. Év eredeti | D6: 2020. Év mód
A7: 2
A8: 3
A9: 4 | B9: Sporttámogatás összesen működési célú: | C9: 2000000 | D9: 2000000
A10: 5 | B10: II.) Egyéb támogatás összesen működési célú | C10: 1600000 | D10: 2317925
A11: 6
A12: 7 | B12: III.) Polgárőrség Berhida | C12: 500000 | D12: 500000
A13: 8 | B13: Támogatások összesen működési célú: | C13: =SUM(C9+C10+C12) -> 4100000 | D13: =SUM(D9+D10+D12) -> 4817925
B15: A támogatások összege a megállapodásokban foglaltak szerint használhatók fel.

Sheet 6.mell.
C1: Berhida Város Önkormányzata
C2: ellátottak pénzbeli juttatásai | F2: 6. melléklet
C3: 2020. évi költségvetés | F3: 2/2020.(II. 28.) rendelethez
F4: adatok Ft-ban
B5: A | C5: B | D5: C | E5: D | F5: E | G5: F
B6: Szociális jogcímek | C6: átruházott hatáskört gyakorló | E6: Képvis.test.jogk. | F6: Jegyzői jogk. | G6: Összes
C7: polgármester | D7: Humán Biz. | G7: előirányzat
A8: 1 | B8: Pénzbeli ellátások összesen | C8: =SUM(C9:C19) -> 3100000 | D8: =SUM(D9:D19) -> 7600000 | E8: =SUM(E9:E19) -> 800000 | F8: =SUM(F9:F19) -> 0 | G8: =SUM(G9:G19) -> 11500000
A9: 2 | B9: Települési támogatás
A10: 3 | B10: Nem intézményi ell. Ebből célonként
A11: 4 | B11: Gyermekvéd.támog. | D11: 600000 | G11: =SUM(C11:F11) -> 600000
A12: 5 | B12: Lakhatási támog | D12: 6000000 | G12: =SUM(C12:F12) -> 6000000
A13: 6 | B13: Temetési segély | C13: 1500000 | G13: =SUM(C13:F13) -> 1500000
A14: 7 | B14: közgyógy ellátás helyi megáll | C14: 700000 | G14: =SUM(C14:F14) -> 700000
A15: 8 | B15: Átmeneti segély | D15: 1000000 | G15: =SUM(C15:F15) -> 1000000
A16: 9 | B16: Köztemetés | C16: 900000 | G16: =SUM(C16:F16) -> 900000
A17: 10 | B17: Intézményi ell., oktatásban részt vevők | G17: =SUM(C17:F17) -> 0
A18: 11 | B18: Arany János ösztöndíj | E18: 250000 | G18: =SUM(C18:F18) -> 250000
A19: 12 | B19: érettségire jelentkezők regisztrációs díja | E19: 550000 | G19: =SUM(C19:F19) -> 550000
B21: Dologi kiadás | G21: =SUM(G22:G23) -> 1800000
B23: szociális tüzifa juttatás | G23: 1800000
B24: Egyéb központi kezelésű tám
B25: Bursa hungarica felsőoktatási pály tám | G25: 3000000
B27: MMINDÖSSZESEN | G27: =G8+G21+G25 -> 16300000

Sheet 7 mell
B1: Berhida Város Önkormányzatának
B2: 2020. évi költségvetés
A3: Az önkormányzat által adott közvetett támogatások, kedvezmények
C4: 7. melléklet
C5: 2/2020.(II. 28. ) rendelethez
C6: adatok ezer Ft-ban
A8: A | B8: B | C8: C | D8: D
A9: Sorszám | B9: Bevételi jogcím | C9: Kedvezmény nélkül | D9: Kedvezmények
C10: elérhető | D10: összege
C11: bevétel Ft | D11: Ft
A12: 1. | B12: 2. | C12: 3. | D12: 4.
A13: 1. | B13: házi gondozás térítési díj | C13: 1842340 | D13: 469107
A14: 2. | B14: idősek nappali ell térítési díj | C14: 6863480 | D14: 6350401
A15: 3. | B15: szoc. étkeztetés térítési díj | C15: 5272890 | D15: 3751624
A16: 4.
A17: 5.
A18: 6.
A19: 7 | B19: Összesen: | C19: =SUM(C13:C18) -> 13978710 | D19: =SUM(D13:D18) -> 10571132

Sheet 8.sz.mell
C2: 2020 évi költségvetés | I2: 8. melléklet
C3: Berhida Város Önkormányzata | I3: 2/2020.(II.28.) rendelethez
I4: adatok Ft-ban
A5: Több éves kihatással járó döntésekből származó kötelezettségek célok szerint, évenkénti bontásban
A6: Lejárat és eszközök szerinti bontásban (e/Ft-ban)
A8: A | B8: B | C8: C | D8: D | F8: E | G8: F | H8: G | I8: H | K8: I | M8: J
A9: Sorszám | C9: Kötelezett- | D9: Lejárat | F9: 2019
B10: Hitel jellege | C10: ségváll. | D10: éve | E10: összeg | F10: előtti | G10: 2019. | H10: 2020. | I10: 2021. | J10: 2022. | K10: 2022 | M10: Összesen
C11: éve | F11: kifizetés | L11: 2023 után
A12: 1 | B12: 2 | C12: 3 | D12: 4 | E12: 5 | F12: 6 | G12: 7 | H12: 8 | I12: 9 | K12: 10 | M12: 11
A13: 2 | B13: Működési célú
A14: 3
A15: 4
A16: 5
A17: 6
A18: 7 | B18: Felhalmozási célú
A19: 8 | B19: TOP 3.1.1-16 közlekedésfejlesztés (kerékpárút)pály | C19: 2018 | D19: 2020 | E19: 299539242 | F19: 2410008 | G19: 75060510 | H19: 222068724 | M19: =SUM(F19:L19) -> 299539242
A20: 9 | B20: KEHOP 2.2.1-15-00005 szennyvíztisztítótelep pály | C20: 2018 | D20: 2020 | E20: 993981370 | F20: 2206600 | G20: 530303358 | H20: 461471412 | M20: =SUM(F20:L20) -> 993981370
A21: 10 | B21: ÖNK VP6-7.2.1.4.1.3-17 közétkeztetés fejl. Süni eszközfejl.pály. | C21: 2018 | D21: 2020 | E21: 18925488 | H21: 18925488 | M21: =SUM(F21:L21) -> 18925488
