Workbook

Sheet 1
B1: Berhida Város Önkormányzata | F1: 1. melléklet
B2: 2020. évi költségvetés | F2: 2/2020.(II. 28. ) rendelethez
F3: Ft-ban
C4: BEVÉTELEK
A5: Sor- szám | B5: Rovat megnevezése | C5: Eredeti előirányzat összesen | D5: Önkormányzat | E5: Közös Hivatal | F5: TESZ | G5: Kultúrház | H5: Süni
A6: 1 | B6: Helyi önkormányzatok működésének általános támogatása (B1111) | C6: =SUM(D6:H6) -> 135191702 | D6: 135191702
A7: 2 | B7: Települési önkormányzatok egyes köznevelési feladatainak támogatása (B112) | C7: =SUM(D7:H7) -> 146232880 | D7: 146232880
A8: 3 | B8: Települési önkormányzatok szociális, gyermekjóléti feladatainak támogatása (B1131) | C8: =SUM(D8:H8) -> 56039856 | D8: 56039856
A9: 4 | B9: Tel.önkormányzat gyermekétkeztetési fel.tám( B 1132) | D9: 64026699
A10: 5 | B10: Települési önkormányzatok kulturális feladatainak támogatása (B114) | C10: =SUM(D10:H10) -> 7402167 | D10: 7402167
A11: 6 | B11: Működési célú költségvetési támogatások és kiegészítő támogatások (B115) | C11: =SUM(D11:H11) -> 0
A12: 7 | B12: Elszámolásból származó bevételek (B116) | C12: =SUM(D12:H12) -> 0
A13: 8 | B13: Önkormányzatok működési támogatásai (B11) | C13: =SUM(D13:H13) -> 408893304 | D13: =SUM(D6:D12) -> 408893304 | E13: =SUM(E6:E12) -> 0 | F13: =SUM(F6:F12) -> 0 | G13: =SUM(G6:G12) -> 0 | H13: =SUM(H6:H12) -> 0
A14: 9 | B14: Elvonások és befizetések bevételei B12 | C14: =SUM(D14:H14) -> 0
A15: 10 | B15: Egyéb működési célú támogatások bevételei államháztartáson belülről (B16) | C15: =SUM(D15:H15) -> 243970334 | D15: =SUM(D16:D20) -> 204969562 | E15: =SUM(E16:E20) -> 0 | F15: =SUM(F16:F20) -> 39000772 | G15: =SUM(G16:G20) -> 0 | H15: =SUM(H16:H20) -> 0
A16: 11 | B16: ebből: egyéb központi kezelésű előirányzatok (B1612 | C16: =SUM(D16:H16) -> 22992429 | D16: 22992429
A17: 12 | B17: ebből: fejezeti kezelésű EU B16 | C17: =SUM(D17:H17) -> 150463717 | D17: 150463717
A18: 13 | B18: ebből: társadalombiztosítás pénzügyi alapjai (B1614 | C18: =SUM(D18:H18) -> 30853200 | D18: 30853200
A19: 14 | B19: ebből: elkülönített állami pénzal (B1615 | C19: =SUM(D19:H19) -> 39000772 | F19: 39000772
A20: 15 | B20: ebből: önkormányzat és kv-i szerveik (B 1616 | C20: =SUM(D20:H20) -> 660216 | D20: 660216
A21: 16 | B21: Működési célú támogatások államháztartáson belülről (B1) | C21: =SUM(D21:H21) -> 652863638 | D21: =D13+D15 -> 613862866 | E21: =E13+E15 -> 0 | F21: =F13+F15 -> 39000772 | G21: =G13+G15 -> 0 | H21: =H13+H15 -> 0
A22: 17 | B22: Felhalmozási célú önkormányzati támogatások (B21) | C22: =SUM(D22:H22) -> 0 | D22: =D23 -> 0 | E22: =E23 -> 0 | F22: =F23 -> 0 | G22: =G23 -> 0 | H22: =H23 -> 0
A23: 18 | B23: ebből: egyéb központi felhalmozási c tám B 2119 | C23: =SUM(D23:H23) -> 0
A24: 19 | B24: Egyéb felhalmozási célú tám áht belülről B 25 | C24: =SUM(D24:H24) -> 850533503 | D24: =SUM(D25:D28) -> 850533503 | E24: =SUM(E25:E28) -> 0 | F24: =SUM(F25:F28) -> 0 | G24: =SUM(G25:G28) -> 0 | H24: =SUM(H25:H28) -> 0
A25: 20 | B25: ebből egyéb központi fc tám (B2512 | C25: =SUM(D25:H25) -> 81350056 | D25: 81350056
A26: 21 | B26: ebből: egyéb fejezeti kez EU fc (B25 | C26: =SUM(D26:H26) -> 769183447 | D26: 769183447
A27: 22 | B27: ebből: elkülönített állami pénzal fc (B2515 | C27: =SUM(D27:H27) -> 0
A28: 23 | B28: ebből: önkorm és kv-i szervek fc tám (B2516 | C28: =SUM(D28:H28) -> 0
A29: 24 | B29: Felhalmozási célú támogatások államháztartáson belülről (B2) | C29: =SUM(D29:H29) -> 850533503 | D29: =D22+D24 -> 850533503 | E29: =E22+E24 -> 0 | F29: =F22+F24 -> 0 | G29: =G22+G24 -> 0 | H29: =H22+H24 -> 0
A30: 25 | B30: Vagyoni tipusú adók (B34) | C30: =SUM(D30:H30) -> 110500000 | D30: =SUM(D31:D32) -> 110500000 | E30: =SUM(E31:E32) -> 0 | F30: =SUM(F31:F32) -> 0 | G30: =SUM(G31:G32) -> 0 | H30: =SUM(H31:H32) -> 0
A31: 26 | B31: ebből: építményadó (B34111) | C31: =SUM(D31:H31) -> 110500000 | D31: 110500000
A32: 27 | B32: ebből: magánszemélyek kommunális adója (B34114) | C32: =SUM(D32:H32) -> 0
A33: 28 | B33: Értékesítési és forgalmi adók iparűzési adó (B351121) | C33: =SUM(D33:H33) -> 225000000 | D33: 225000000
A34: 29 | B34: Gépjárműadó (B3541) | C34: =SUM(D34:H34) -> 12000000 | D34: 12000000
A35: 30 | B35: Egyéb áruhasználati és szolgáltatási adók, környezetterh díj, talajterhelési díj (B355) | C35: =SUM(D35:H35) -> 46610 | D35: 46610
A36: 31 | B36: Termékek és szolgáltatások adói (B35) | C36: =SUM(D36:H36) -> 237046610 | D36: =SUM(D33:D35) -> 237046610 | E36: =SUM(E33:E35) -> 0 | F36: =SUM(F33:F35) -> 0 | G36: =SUM(G33:G35) -> 0 | H36: =SUM(H33:H35) -> 0
A37: 32 | B37: Egyéb közhatalmi bevételek (B36) | C37: =SUM(D37:H37) -> 400000 | D37: 400000 | E37: =SUM(E38:E39) -> 0 | F37: =SUM(F38:F39) -> 0 | G37: =SUM(G38:G39) -> 0 | H37: =SUM(H38:H39) -> 0
A38: 33 | B38: ebből: szabálysértési pénz- és helyszíni bírság és a közlekedési szabályszegések után kiszabott közigazgatási bírság helyi önkormányzatot megillető része (B361225 köv) | C38: =SUM(D38:H38) -> 50000 | D38: 50000
A39: 34 | B39: ebből: egyéb bírság (B361229 köv) | C39: =SUM(D39:H39) -> 350000 | D39: 350000
A40: 35 | B40: Közhatalmi bevételek (B3) | C40: =SUM(D40:H40) -> 347946610 | D40: =D30+D36+D37 -> 347946610 | E40: =E30+E36+E37 -> 0 | F40: =F30+F36+F37 -> 0 | G40: =G30+G36+G37 -> 0 | H40: =H30+H36+H37 -> 0
A41: 36 | B41: Készlet értékesítés előirányzata B 40111 | C41: =SUM(D41:H41) -> 0
A42: 37 | B42: Szolgáltatások (B4021) | C42: =SUM(D42:H42) -> 10478654 | D42: =SUM(D43:D46) -> 0 | E42: =SUM(E43:E46) -> 220000 | F42: =SUM(F43:F46) -> 1200000 | G42: =SUM(G43:G46) -> 1400000 | H42: =SUM(H43:H46) -> 7658654
A43: 38 | B43: ebből étkeztetés - kivéve ell, hallgatók térítési díj B40211 | C43: =SUM(D43:H43) -> 6098022 | H43: 6098022
A44: 39 | B44: ebből: bérleti díj bev (B40212) | C44: =SUM(D44:H44) -> 2170000 | E44: 220000 | F44: 600000 | G44: 1350000
A45: 40 | B45: ebből: alkalmazottak térítési díj (B40213) | C45: =SUM(D45:H45) -> 1560632 | H45: 1560632
A46: 41 | B46: ebből: egyéb szolgáltatás (40215) | C46: =SUM(D46:H46) -> 650000 | F46: 600000 | G46: 50000
A47: 42 | B47: Közvetített szolgáltatások ellenértéke (B403) | C47: =SUM(D47:H47) -> 4809000 | D47: =SUM(D48:D49) -> 1173000 | E47: =SUM(E48:E49) -> 1400000 | F47: =SUM(F48:F49) -> 2236000 | G47: =SUM(G48:G49) -> 0 | H47: =SUM(H48:H49) -> 0
A48: 43 | B48: ebből: államháztartáson belül (B40311) | C48: =SUM(D48:H48) -> 2473000 | D48: 600000 | E48: 1400000 | F48: 473000
A49: 44 | B49: ebből: államháztartáson kívül (B40312) | C49: =SUM(D49:H49) -> 2336000 | D49: 573000 | F49: 1763000
A50: 45 | B50: Tulajdonosi bevételek (B4041) | C50: =SUM(D50:H50) -> 9610000 | D50: =SUM(D51:D54) -> 9610000 | E50: =SUM(E51:E54) -> 0 | F50: =SUM(F51:F54) -> 0 | G50: =SUM(G51:G54) -> 0 | H50: =SUM(H51:H54) -> 0
A51: 46 | B51: ebből: önkormányzati vagyon üzemeltetéséből származó bevétel (B404131) | C51: =SUM(D51:H51) -> 0
A52: 47 | B52: ebből: önkormányzati vagyon vagyonkezelésbe adásából származó bevétel (B404133) | C52: =SUM(D52:H52) -> 0
A53: 48 | B53: ebből: egy önk-i bérleti- és lízing díj bevételek (404134) | C53: =SUM(D53:H53) -> 9100000 | D53: 9100000
A54: 49 | B54: ebből: egy önk tulajdonosi bevétel (B404139) | C54: =SUM(D54:H54) -> 510000 | D54: 510000
A55: 50 | B55: Ellátási díjak (B4051) | C55: =SUM(D55:H55) -> 1842030 | H55: 1842030
A56: 51 | B56: Kiszámlázott általános forgalmi adó (B4061) | C56: =SUM(D56:H56) -> 7651715 | D56: 3721410 | E56: 437400 | F56: 927720 | H56: 2565185
A57: 52 | B57: Általános forgalmi adó visszatérítése (B4071) | C57: =SUM(D57:H57) -> 0
A58: 53 | B58: Egyéb kapott (járó) kamatok és kamatjellegű bevételek ÁHK(B40811) | C58: =SUM(D58:H58) -> 0
A59: 54 | B59: Egyéb pénzügyi műveletek bevételei (B4091) | C59: =SUM(D59:H59) -> 0
A60: 55 | B60: Biztosító által fizetett kártérítés (B4101) | C60: =SUM(D60:H60) -> 0
A61: 56 | B61: Egyéb működési bevételek (B4111) | C61: =SUM(D61:H61) -> 1761000 | D61: 1610000 | F61: 151000
A62: 57 | B62: Működési bevételek (B4) | C62: =SUM(D62:H62) -> 36152399 | D62: =D41+D42+D47+D50+D55+D56+D57+D58+D59+D60+D61 -> 16114410 | E62: =E41+E42+E47+E50+E55+E56+E57+E58+E59+E60+E61 -> 2057400 | F62: =F41+F42+F47+F50+F55+F56+F57+F58+F59+F60+F61 -> 4514720 | G62: =G41+G42+G47+G50+G55+G56+G57+G58+G59+G60+G61 -> 1400000 | H62: =H41+H42+H47+H50+H55+H56+H57+H58+H59+H60+H61 -> 12065869
A63: 58 | B63: Ingatlanok értékesítése (B521) | C63: =SUM(D63:H63) -> 3000000 | D63: 3000000
A64: 59 | B64: Egyéb tárgyi eszközök értékesítése B531 | C64: =SUM(D64:H64) -> 0
A65: 60 | B65: Felhalmozási bevételek (B5) | C65: =SUM(D65:H65) -> 3000000 | D65: =SUM(D63:D64) -> 3000000 | E65: =SUM(E63:E64) -> 0 | F65: =SUM(F63:F64) -> 0 | G65: =SUM(G63:G64) -> 0 | H65: =SUM(H63:H64) -> 0
A66: 61 | B66: Egyéb működési célú átvett pénzeszközök (65) | C66: =SUM(D66:H66) -> 0
A67: 62 | B67: Működési célú átvett pénzeszközök (B6) | C67: =SUM(D67:H67) -> 0 | D67: =D66 -> 0 | E67: =E66 -> 0 | F67: =F66 -> 0 | G67: =G66 -> 0 | H67: =H66 -> 0
A68: 63 | B68: Felhalmozási célú visszatérítendő támogatások, kölcsönök visszatérülése államháztartáson kívülről (B74) | C68: =SUM(D68:H68) -> 80000 | D68: 80000
A69: 64 | B69: ebből: háztartások (B74) | C69: =SUM(D69:H69) -> 80000 | D69: 80000
A70: 65 | B70: Egyéb felhalmozási célú átvett pénzeszközök (B75) | C70: =SUM(D70:H70) -> 1175000 | D70: 1175000
A71: 66 | B71: Felhalmozási célú átvett pénzeszközök (B7) | C71: =SUM(D71:H71) -> 1255000 | D71: =D68+D70 -> 1255000 | E71: =E68+E70 -> 0 | F71: =F68+F70 -> 0 | G71: =G68+G70 -> 0 | H71: =H68+H70 -> 0
A72: 67 | B72: Költségvetési bevételek (B1-B7) | C72: =SUM(D72:H72) -> 1891751150 | D72: =D21+D29+D40+D62+D65+D67+D71 -> 1832712389 | E72: =E21+E29+E40+E62+E65+E67+E71 -> 2057400 | F72: =F21+F29+F40+F62+F65+F67+F71 -> 43515492 | G72: =G21+G29+G40+G62+G65+G67+G71 -> 1400000 | H72: =H21+H29+H40+H62+H65+H67+H71 -> 12065869
A73: 68 | B73: Befektetési célú belföldi egyéb hitelviszonyt megtestesítő értékpapír beváltása, értékesítése (B 81231 | C73: =SUM(D73:H73) -> 60000000 | D73: 60000000
A74: 69 | B74: Előző év költségvetési maradványának igénybevétele (B813) | C74: =SUM(D74:H74) -> 570468514 | D74: 565050578 | F74: 5000000 | G74: 417936
A75: 70 | B75: Államháztartáson belüli megelőlegezések (B814) | C75: =SUM(D75:H75) -> 0
A76: 71 | B76: Irányító szervi támogatás (B816 | C76: =SUM(D76:H76) -> 547636208 | E76: 210550991 | F76: 131711637 | G76: 68506105 | H76: 136867475
A77: 72 | B77: Belföldi finanszírozás bevételei (B81) | C77: =SUM(D77:H77) -> 1178104722 | D77: =SUM(D73:D76) -> 625050578 | E77: =SUM(E73:E76) -> 210550991 | F77: =SUM(F73:F76) -> 136711637 | G77: =SUM(G73:G76) -> 68924041 | H77: =SUM(H73:H76) -> 136867475
A78: 73 | B78: Finanszírozási bevételek (B8) | C78: =SUM(D78:H78) -> 1178104722 | D78: =D77 -> 625050578 | E78: =E77 -> 210550991 | F78: =F77 -> 136711637 | G78: =G77 -> 68924041 | H78: =H77 -> 136867475
A79: 74 | B79: MINDÖSSZESEN: | C79: =SUM(D79:H79) -> 3069855872 | D79: =D72+D78 -> 2457762967 | E79: =E72+E78 -> 212608391 | F79: =F72+F78 -> 180227129 | G79: =G72+G78 -> 70324041 | H79: =H72+H78 -> 148933344

Sheet 1a
A1: Berhida Város Önkormányzata | G1: 1/a melléklet
A2: állami támogatások részletezése | G2: 2/2020.(II.28.) rendelethez
C3: 2019 | H3: 2020
B4: IPA alap | E4: 9578698183 | G4: IPA alap | J4: 8739937119
B5: elvonás | C5: 0,55 %-nak | E5: =E4*0.0055 -> 52682840 | G5: elvonás
A6: 2020. évi költségvetés | C6: =E6/E5 -> 0.52116317 | E6: 27456356 | J6: 15160557
B7: 1 lakosra jutó adóerőképesség | E7: =E4*0.014/C8 -> 22455.086 | G7: 1 lakosra jutó adóerőképesség | J7: =J4*0.014/H8 -> 20679.25
C8: 5972 | D8: fő | E8: beszámítás | F8: 2019 tényl | H8: 5917 | I8: fő | J8: beszámítás | K8: 2019 tényl
C9: Forint | F9: Módosított összesen | H9: Forint | K9: Módosított összesen | L9: Intézményi összesen | M9: Önkorm | N9: TESZ | O9: Hivatal | P9: Kultúrház | Q9: Családs Berh | R9: Családs Vi | S9: Süni | T9: Hétszínvirág | U9: Vi Óvoda
A10: Önkormányzatok működési támogatásai | D10: =D11+D21+D30+D45+D49+D52 -> 4.1380947e+08 | E10: =E11+E21+E30+E45+E49+E52 -> -27456356 | F10: =F11+F21+F30+F45+F49+F52 -> 3.8635312e+08 | I10: =I11+I21+I30+I45+I49+I52 -> 424053861 | J10: =J11+J21+J30+J45+J49+J52 -> -15160557 | K10: =K11+K21+K30+K45+K49+K52 -> 408893304 | L10: =SUM(M10:U10) -> 408893304 | M10: =M11+M21+M30+M45+M49+M52 -> 12353343 | N10: =N11+N21+N30+N45+N49+N52 -> 31299759 | O10: =O11+O21+O30+O45+O49+O52 -> 1.015386e+08 | P10: =P11+P21+P30+P45+P49+P52 -> 7402167 | Q10: =Q11+Q21+Q30+Q45+Q49+Q52 -> 33868348 | R10: =R11+R21+R30+R45+R49+R52 -> 1276508 | S10: =S11+S21+S30+S45+S49+S52 -> 1.1238242e+08 | T10: =T11+T21+T30+T45+T49+T52 -> 89749529 | U10: =U11+U21+U30+U45+U49+U52 -> 19022628 | V10: =SUM(M10:U10) -> 408893304
A11: 1.)Helyi önkormányzatok működésének általános támogatása | D11: =SUM(D12:D20) -> 149262079 | E11: =SUM(E12:E20) -> -27456356 | F11: =SUM(F12:F20) -> 1.2180572e+08 | I11: =SUM(I12:I20) -> 150352259 | J11: =SUM(J12:J20) -> -15160557 | K11: =SUM(K12:K20) -> 135191702 | L11: =SUM(M11:U11) -> 135191702 | M11: =SUM(M12:M20) -> 2353343 | N11: =SUM(N12:N20) -> 31299759 | O11: =SUM(O12:O20) -> 1.015386e+08 | P11: =SUM(P12:P20) -> 0 | Q11: =SUM(Q12:Q20) -> 0 | R11: =SUM(R12:R20) -> 0 | S11: =SUM(S12:S20) -> 0 | T11: =SUM(T12:T20) -> 0 | U11: =SUM(U12:U20) -> 0
A12: Önkormányzati hivatal működésének támogatása | B12: 4580000 | C12: 22.17 | D12: =B12*C12 -> 1.015386e+08 | F12: =D12+E12 -> 1.015386e+08 | G12: 4580000 | H12: 22.17 | I12: =G12*H12 -> 1.015386e+08 | K12: =I12+J12 -> 1.015386e+08 | L12: =SUM(M12:U12) -> 1.015386e+08 | O12: =K12 -> 1.015386e+08
A13: Település üzemeltetés: zöldterület-gazdálkodás | B13: 22300 | C13: 402 | D13: 8984670 | E13: =-D13 -> -8984670 | F13: =D13+E13 -> 0 | G13: 25200 | H13: 403.9 | I13: =G13*H13 -> 10178280 | K13: =I13+J13 -> 10178280 | L13: =SUM(M13:U13) -> 10178280 | N13: =K13 -> 10178280
A14: közvilágítás fenntartása | B14: 320000 | C14: 46.5 | D14: 9888000 | E14: -2140736 | F14: =D14+E14 -> 7747264 | G14: 320000 | I14: 10048000 | K14: =I14+J14 -> 10048000 | L14: =SUM(M14:U14) -> 10048000 | N14: =K14 -> 10048000
A15: köztemető fenntartással kapcs fel | B15: 69 | C15: 53051 | D15: =B15*C15 -> 3660519 | F15: =D15+E15 -> 3660519 | G15: 69 | H15: 53051 | I15: =G15*H15 -> 3660519 | K15: =I15+J15 -> 3660519 | L15: =SUM(M15:U15) -> 3660519 | N15: =K15 -> 3660519
A16: közutak fenntartásának támog | B16: 227000 | C16: 31.62 | D16: =B16*C16 -> 7177740 | F16: =D16+E16 -> 7177740 | G16: 227000 | H16: 31.78 | I16: =G16*H16 -> 7214060 | K16: =I16+J16 -> 7214060 | L16: =SUM(M16:U16) -> 7214060 | N16: =K16 -> 7214060
A17: Egyéb kötelező önkormányzati feladatok | B17: 2700 | C17: 5972 | D17: =B17*C17 -> 16124400 | E17: =-D17 -> -16124400 | F17: =D17+E17 -> 0 | G17: 2700 | H17: 5917 | I17: =G17*H17 -> 15975900 | J17: -15160557 | K17: =I17+J17 -> 815343 | L17: =SUM(M17:U17) -> 815343 | M17: 815343
A18: Lakott külterülettel kapcs feladatok | B18: 2550 | C18: 81 | D18: =B18*C18 -> 206550 | E18: =-D18 -> -206550 | F18: =D18+E18 -> 0 | G18: 2550 | H18: 78 | I18: =G18*H18 -> 198900 | K18: =I18+J18 -> 198900 | L18: =SUM(M18:U18) -> 198900 | N18: =K18 -> 198900
A19: bérkompenzáció
A20: Polgármesterek illetményének támogatása | D20: 1681600 | F20: =D20+E20 -> 1681600 | I20: 1538000 | K20: =I20+J20 -> 1538000 | L20: =SUM(M20:U20) -> 1538000 | M20: =K20 -> 1538000
A21: 2.)Települési önkorm. Egyes köznevelési feladatainak támoga | D21: =SUM(D22:D29) -> 1.4663217e+08 | E21: =SUM(E22:E29) -> 0 | F21: =SUM(F22:F29) -> 1.4663217e+08 | I21: =SUM(I22:I29) -> 146232880 | J21: =SUM(J22:J29) -> 0 | K21: =SUM(K22:K29) -> 146232880 | L21: =SUM(M21:U21) -> 146232880 | M21: =SUM(M22:M29) -> 0 | N21: =SUM(N22:N29) -> 0 | O21: =SUM(O22:O29) -> 0 | P21: =SUM(P22:P29) -> 0 | Q21: =SUM(Q22:Q29) -> 0 | R21: =SUM(R22:R29) -> 0 | S21: =SUM(S22:S29) -> 80425930 | T21: =SUM(T22:T29) -> 51152750 | U21: =SUM(U22:U29) -> 14654200
A22: óvodapedagógusok bértámogatása 8 hó (2020 éves) | B22: 4371500 | C22: 20.7 | D22: =B22*C22*8/12 -> 60326700 | F22: =D22+E22 -> 60326700 | G22: 4371500 | H22: 20.2 | I22: =G22*H22 -> 88304300 | K22: =I22+J22 -> 88304300 | L22: =SUM(M22:U22) -> 88304300 | S22: =$G$22*10.5 -> 45900750 | T22: =$G$22*7.5 -> 32786250 | U22: =$G$22*2.2 -> 9617300
A23: óvodaped munkáját közvetlenül segítők bértámogatása 8 hó (2020 éves) | B23: 2205000 | C23: 14 | D23: =B23*C23/12*8 -> 20580000 | F23: =D23+E23 -> 20580000 | G23: 2400000 | H23: 14 | I23: =G23*H23 -> 33600000 | K23: =I23+J23 -> 33600000 | L23: =SUM(M23:U23) -> 33600000 | S23: =$G$23*9 -> 21600000 | T23: =$G$23*4 -> 9600000 | U23: =$G$23*1 -> 2400000
A24: óvodapedagógusok bértámogatása 4 hó | B24: 4371500 | C24: 20.6 | D24: =B24*C24*4/12 -> 30017633 | F24: =D24+E24 -> 30017633 | G24: 4371500 | I24: =G24*H24*4/12 -> 0 | K24: =I24+J24 -> 0 | L24: =SUM(M24:U24) -> 0
A25: óvodaped munkáját közvetlenül segítők bértámogatása 4 hó | B25: 2205000 | C25: 14 | D25: =B25*C25/12*4 -> 10290000 | F25: =D25+E25 -> 10290000 | G25: 2205000 | I25: =G25*H25/12*4 -> 0 | K25: =I25+J25 -> 0 | L25: =SUM(M25:U25) -> 0
A26: Óvoda működtetési támogatás 8 hó | B26: 97400 | C26: 222 | D26: =B26*C26*8/12 -> 14415200 | F26: =D26+E26 -> 14415200 | G26: 97400 | H26: 217 | I26: =G26*H26 -> 21135800 | K26: =I26+J26 -> 21135800 | L26: =SUM(M26:U26) -> 21135800 | S26: =$G$26*127 -> 12369800 | T26: =$G$26*67 -> 6525800 | U26: =$G$26*23 -> 2240200
A27: Óvoda működtetési támogatás 4 hó | B27: 97400 | C27: 221 | D27: 7175133 | F27: =D27+E27 -> 7175133 | G27: 97400 | K27: =I27+J27 -> 0 | L27: =SUM(M27:U27) -> 0
A28: Kieg tám. Óv pedag minősítéséhez II. kategóriába sorolt | B28: 396700 | C28: 6 | D28: =B28*C28 -> 2380200 | F28: =D28+E28 -> 2380200 | G28: 396700 | H28: 4.4 | I28: =G28*H28 -> 1745480 | K28: =I28+J28 -> 1745480 | L28: =SUM(M28:U28) -> 1745480 | S28: 555380 | T28: 793400 | U28: 396700
A29: Mesterped kategóriába sorolt | B29: 1447300 | C29: 1 | D29: =B29*C29 -> 1447300 | F29: =D29+E29 -> 1447300 | G29: 1447300 | H29: 1 | I29: =G29*H29 -> 1447300 | K29: =I29+J29 -> 1447300 | L29: =SUM(M29:U29) -> 1447300 | T29: 1447300
A30: 3.) Tel önk szociális, gyermekjóléti és gyermekétk fel tám | D30: =SUM(D32:D44) -> 110689107 | E30: =SUM(E32:E44) -> 0 | F30: =SUM(F32:F44) -> 110689107 | I30: =SUM(I32:I44) -> 120066555 | J30: =SUM(J32:J44) -> 0 | K30: =SUM(K32:K44) -> 120066555 | L30: =SUM(M30:U30) -> 120066555 | M30: =SUM(M32:M44) -> 10000000 | N30: =SUM(N32:N44) -> 0 | O30: =SUM(O32:O44) -> 0 | P30: =SUM(P32:P44) -> 0 | Q30: =SUM(Q32:Q44) -> 33868348 | R30: =SUM(R32:R44) -> 1276508 | S30: =SUM(S32:S44) -> 31956491 | T30: =SUM(T32:T44) -> 38596779 | U30: =SUM(U32:U44) -> 4368428.3
L31: =SUM(M31:U31) -> 0
A32: gyermekétkeztetés szempontjából elismert dolgozók bértámog | B32: 1900000 | C32: 11.18 | D32: =B32*C32 -> 21242000 | F32: =D32+E32 -> 21242000 | G32: 2200000 | H32: 11.48 | I32: =G32*H32 -> 25256000 | K32: =I32+J32 -> 25256000 | L32: =SUM(M32:U32) -> 25256000 | S32: =K32*0.49 -> 12375440 | T32: =K32*0.44 -> 11112640 | U32: =K32*0.07 -> 1767920
A33: gyermekétkeztetés üzemeltetési támogatása | D33: 37497698 | F33: =D33+E33 -> 37497698 | I33: 37150119 | K33: =I33+J33 -> 37150119 | L33: =SUM(M33:U33) -> 37150119 | S33: =K33*0.49 -> 18203558 | T33: =K33*0.44 -> 16346052 | U33: =K33*0.07 -> 2600508.3
A34: szünidei gyermekétkeztetés | B34: 513 | C34: 6592 | D34: =B34*C34 -> 3381696 | F34: =D34+E34 -> 3381696 | G34: 542 | H34: 2990 | I34: =G34*H34 -> 1620580 | K34: =I34+J34 -> 1620580 | L34: =SUM(M34:U34) -> 1620580 | S34: =K34-T34 -> 1377493 | T34: 243087
A35: Hozzájárulás pénzbeli szociális ellátásokhoz | D35: 28785793 | F35: =D35+E35 -> 28785793 | I35: 34834144 | K35: =I35+J35 -> 34834144 | L35: =SUM(M35:U35) -> 34834144 | M35: 10000000 | Q35: 24834144
A36: Bölcsődei ellátás bértámogatás | B36: 2993000 | C36: 3 | D36: =B36*C36 -> 8979000 | F36: =D36+E36 -> 8979000 | G36: 2993000 | H36: 3 | I36: =G36*H36 -> 8979000 | K36: =I36+J36 -> 8979000 | L36: =SUM(M36:U36) -> 8979000 | T36: 8979000
A37: Bölcsődei működtetési tám | D37: 2014000 | F37: =D37+E37 -> 2014000 | I37: 1916000 | K37: =I37+J37 -> 1916000 | L37: =SUM(M37:U37) -> 1916000 | T37: 1916000
A38: Családsegítés és gyermekjóléti szolgáltatás B: 5972 Vi: 683 = 6655 fő | B38: 3400000 | D38: 4420000 | F38: =D38+E38 -> 4420000 | G38: 3400000 | H38: 1.3 | I38: 4420000 | K38: =I38+J38 -> 4420000 | L38: =SUM(M38:U38) -> 4420000 | Q38: =K38-R38 -> 3788180 | R38: 631820
A39: szociális étkeztetés | B39: 60896 | C39: 20 | D39: =B39*C39 -> 1217920 | F39: =D39+E39 -> 1217920 | G39: 71896 | H39: 22 | I39: =G39*H39 -> 1581712 | K39: =I39+J39 -> 1581712 | L39: =SUM(M39:U39) -> 1581712 | Q39: =K39-R39 -> 1366024 | R39: 215688
A40: házi segítségnyújtás szem élyi gondozás | B40: 429000 | C40: 5 | D40: =B40*C40 -> 2145000 | F40: =D40+E40 -> 2145000 | G40: 429000 | H40: 6 | I40: =G40*H40 -> 2574000 | K40: =I40+J40 -> 2574000 | L40: =SUM(M40:U40) -> 2574000 | Q40: =K40-R40 -> 2145000 | R40: 429000
A41: házi segítségnyújtás - szociális segítés | B41: 25000 | C41: 1 | D41: =B41*C41 -> 25000 | F41: =D41+E41 -> 25000 | G41: 25000 | H41: 1 | I41: =G41*H41 -> 25000 | K41: =I41+J41 -> 25000 | L41: =SUM(M41:U41) -> 25000 | Q41: 25000
A42: időskorúak nappali ellátása | B42: 163500 | C42: 6 | D42: =B42*C42 -> 981000 | F42: =D42+E42 -> 981000 | G42: 285000 | H42: 6 | I42: =G42*H42 -> 1710000 | K42: =I42+J42 -> 1710000 | L42: =SUM(M42:U42) -> 1710000 | Q42: =K42 -> 1710000
A43: ágazati pótlék | F43: =D43+E43 -> 0 | K43: =I43+J43 -> 0 | L43: =SUM(M43:U43) -> 0
F44: =D44+E44 -> 0 | K44: =I44+J44 -> 0 | L44: =SUM(M44:U44) -> 0
A45: 4.) Tel önk kulturális feladatainak támogatása | D45: =SUM(D46:D48) -> 7226120 | E45: =SUM(E46:E48) -> 0 | F45: =SUM(F46:F48) -> 7226120 | I45: =SUM(I46:I48) -> 7402167 | J45: =SUM(J46:J48) -> 0 | K45: =SUM(K46:K48) -> 7402167 | L45: =SUM(M45:U45) -> 7402167 | M45: =SUM(M46:M48) -> 0 | N45: =SUM(N46:N48) -> 0 | O45: =SUM(O46:O48) -> 0 | P45: =SUM(P46:P48) -> 7402167 | Q45: =SUM(Q46:Q48) -> 0 | R45: =SUM(R46:R48) -> 0 | S45: =SUM(S46:S48) -> 0 | T45: =SUM(T46:T48) -> 0 | U45: =SUM(U46:U48) -> 0
A46: könyvtári és közművelődési feladat tám Berhida: | B46: 1210 | C46: 5972 | D46: =B46*C46 -> 7226120 | F46: =D46+E46 -> 7226120 | G46: 1251 | H46: 5917 | I46: =G46*H46 -> 7402167 | K46: =I46+J46 -> 7402167 | L46: =SUM(M46:U46) -> 7402167 | P46: 7402167
A47: könyvtári érdekeltségnövelő tám | F47: =D47+E47 -> 0 | K47: =I47+J47 -> 0
A48: Kulturális pótlék | F48: =D48+E48 -> 0 | K48: =I48+J48 -> 0 | L48: =SUM(M48:U48) -> 0
A49: 5.)Helyi önkorm. Kiegészítő támogatásai | D49: =SUM(D50:D51) -> 0 | E49: =SUM(E50:E51) -> 0 | F49: =SUM(F50:F51) -> 0 | I49: =SUM(I50:I51) -> 0 | J49: =SUM(J50:J51) -> 0 | K49: =SUM(K50:K51) -> 0 | L49: =SUM(M49:U49) -> 0 | M49: =SUM(M50:M50) -> 0 | N49: =SUM(N50:N53) -> 0 | O49: =SUM(O50:O53) -> 0 | P49: =SUM(P50:P53) -> 0 | Q49: =SUM(Q50:Q53) -> 0 | R49: =SUM(R50:R53) -> 0 | S49: =SUM(S50:S53) -> 0 | T49: =SUM(T50:T53) -> 0 | U49: =SUM(U50:U53) -> 0
F50: =D50+E50 -> 0 | K50: =I50+J50 -> 0 | L50: =SUM(M50:U50) -> 0
F51: =D51+E51 -> 0 | K51: =I51+J51 -> 0
A52: 2019. évi állami tám. elszámolásból adódó bevétel | F52: =D52+E52 -> 0 | K52: =I52+J52 -> 0 | L52: =SUM(M52:U52) -> 0
L53: =SUM(M53:U53) -> 0

Sheet 1b
B1: Berhida Város Önkormányzata
B2: 2020. évi költségvetés | F2: 1/b. melléklet a 2/2020.(II.28.) rendelethez
F3: Ft-ban
C4: BEVÉTELEK
A5: Sor- szám | B5: Rovat megnevezése | C5: Módosított előirányzat összesen | D5: Önkormányzat | E5: Közös Hivatal | F5: TESZ | G5: Kultúrház | H5: Süni
A6: 1 | B6: Helyi önkormányzatok működésének általános támogatása (B1111) | C6: =SUM(D6:H6) -> 159888434 | D6: 159888434
A7: 2 | B7: Települési önkormányzatok egyes köznevelési feladatainak támogatása (B112) | C7: =SUM(D7:H7) -> 146232880 | D7: 146232880
A8: 3 | B8: Települési önkormányzatok szociális, gyermekjóléti feladatainak támogatása (B1131) | C8: =SUM(D8:H8) -> 56533856 | D8: 56533856
A9: 4 | B9: Tel.önkormányzat gyermekétkeztetési fel.tám( B 1132) | D9: 64026699
A10: 5 | B10: Települési önkormányzatok kulturális feladatainak támogatása (B114) | C10: =SUM(D10:H10) -> 7402167 | D10: 7402167
A11: 6 | B11: Működési célú költségvetési támogatások és kiegészítő támogatások (B115) | C11: =SUM(D11:H11) -> 0
A12: 7 | B12: Elszámolásból származó bevételek (B116) | C12: =SUM(D12:H12) -> 0
A13: 8 | B13: Önkormányzatok működési támogatásai (B11) | C13: =SUM(D13:H13) -> 434084036 | D13: =SUM(D6:D12) -> 434084036 | E13: =SUM(E6:E12) -> 0 | F13: =SUM(F6:F12) -> 0 | G13: =SUM(G6:G12) -> 0 | H13: =SUM(H6:H12) -> 0
A14: 9 | B14: Elvonások és befizetések bevételei B12 | C14: =SUM(D14:H14) -> 0
A15: 10 | B15: Egyéb működési célú támogatások bevételei államháztartáson belülről (B16) | C15: =SUM(D15:H15) -> 228227048 | D15: =SUM(D16:D20) -> 189226276 | E15: =SUM(E16:E20) -> 0 | F15: =SUM(F16:F20) -> 39000772 | G15: =SUM(G16:G20) -> 0 | H15: =SUM(H16:H20) -> 0
A16: 11 | B16: ebből: egyéb központi kezelésű előirányzatok (B1612 | C16: =SUM(D16:H16) -> 7249143 | D16: 7249143
A17: 12 | B17: ebből: fejezeti kezelésű EU B16 | C17: =SUM(D17:H17) -> 150463717 | D17: 150463717
A18: 13 | B18: ebből: társadalombiztosítás pénzügyi alapjai (B1614 | C18: =SUM(D18:H18) -> 30853200 | D18: 30853200
A19: 14 | B19: ebből: elkülönített állami pénzal (B1615 | C19: =SUM(D19:H19) -> 39000772 | F19: 39000772
A20: 15 | B20: ebből: önkormányzat és kv-i szerveik (B 1616 | C20: =SUM(D20:H20) -> 660216 | D20: 660216
A21: 16 | B21: Működési célú támogatások államháztartáson belülről (B1) | C21: =SUM(D21:H21) -> 662311084 | D21: =D13+D15 -> 623310312 | E21: =E13+E15 -> 0 | F21: =F13+F15 -> 39000772 | G21: =G13+G15 -> 0 | H21: =H13+H15 -> 0
A22: 17 | B22: Felhalmozási célú önkormányzati támogatások (B21) | C22: =SUM(D22:H22) -> 0 | D22: =D23 -> 0 | E22: =E23 -> 0 | F22: =F23 -> 0 | G22: =G23 -> 0 | H22: =H23 -> 0
A23: 18 | B23: ebből: egyéb központi felhalmozási c tám B 2119 | C23: =SUM(D23:H23) -> 0
A24: 19 | B24: Egyéb felhalmozási célú tám áht belülről B 25 | C24: =SUM(D24:H24) -> 850533503 | D24: =SUM(D25:D28) -> 850533503 | E24: =SUM(E25:E28) -> 0 | F24: =SUM(F25:F28) -> 0 | G24: =SUM(G25:G28) -> 0 | H24: =SUM(H25:H28) -> 0
A25: 20 | B25: ebből egyéb központi fc tám (B2512 | C25: =SUM(D25:H25) -> 81350056 | D25: 81350056
A26: 21 | B26: ebből: egyéb fejezeti kez EU fc (B25 | C26: =SUM(D26:H26) -> 769183447 | D26: 769183447
A27: 22 | B27: ebből: elkülönített állami pénzal fc (B2515 | C27: =SUM(D27:H27) -> 0
A28: 23 | B28: ebből: önkorm és kv-i szervek fc tám (B2516 | C28: =SUM(D28:H28) -> 0
A29: 24 | B29: Felhalmozási célú támogatások államháztartáson belülről (B2) | C29: =SUM(D29:H29) -> 850533503 | D29: =D22+D24 -> 850533503 | E29: =E22+E24 -> 0 | F29: =F22+F24 -> 0 | G29: =G22+G24 -> 0 | H29: =H22+H24 -> 0
A30: 25 | B30: Vagyoni tipusú adók (B34) | C30: =SUM(D30:H30) -> 110500000 | D30: =SUM(D31:D32) -> 110500000 | E30: =SUM(E31:E32) -> 0 | F30: =SUM(F31:F32) -> 0 | G30: =SUM(G31:G32) -> 0 | H30: =SUM(H31:H32) -> 0
A31: 26 | B31: ebből: építményadó (B34111) | C31: =SUM(D31:H31) -> 110500000 | D31: 110500000
A32: 27 | B32: ebből: magánszemélyek kommunális adója (B34114) | C32: =SUM(D32:H32) -> 0
A33: 28 | B33: Értékesítési és forgalmi adók iparűzési adó (B351121) | C33: =SUM(D33:H33) -> 225000000 | D33: 225000000
A34: 29 | B34: Gépjárműadó (B3541) | C34: =SUM(D34:H34) -> 0
A35: 30 | B35: Egyéb áruhasználati és szolgáltatási adók, környezetterh díj, talajterhelési díj (B355) | C35: =SUM(D35:H35) -> 46610 | D35: 46610
A36: 31 | B36: Termékek és szolgáltatások adói (B35) | C36: =SUM(D36:H36) -> 225046610 | D36: =SUM(D33:D35) -> 225046610 | E36: =SUM(E33:E35) -> 0 | F36: =SUM(F33:F35) -> 0 | G36: =SUM(G33:G35) -> 0 | H36: =SUM(H33:H35) -> 0
A37: 32 | B37: Egyéb közhatalmi bevételek (B36) | C37: =SUM(D37:H37) -> 400000 | D37: 400000 | E37: =SUM(E38:E39) -> 0 | F37: =SUM(F38:F39) -> 0 | G37: =SUM(G38:G39) -> 0 | H37: =SUM(H38:H39) -> 0
A38: 33 | B38: ebből: szabálysértési pénz- és helyszíni bírság és a közlekedési szabályszegések után kiszabott közigazgatási bírság helyi önkormányzatot megillető része (B361225 köv) | C38: =SUM(D38:H38) -> 50000 | D38: 50000
A39: 34 | B39: ebből: egyéb bírság (B361229 köv) | C39: =SUM(D39:H39) -> 350000 | D39: 350000
A40: 35 | B40: Közhatalmi bevételek (B3) | C40: =SUM(D40:H40) -> 335946610 | D40: =D30+D36+D37 -> 335946610 | E40: =E30+E36+E37 -> 0 | F40: =F30+F36+F37 -> 0 | G40: =G30+G36+G37 -> 0 | H40: =H30+H36+H37 -> 0
A41: 36 | B41: Készlet értékesítés előirányzata B 40111 | C41: =SUM(D41:H41) -> 0
A42: 37 | B42: Szolgáltatások (B4021) | C42: =SUM(D42:H42) -> 10478654 | D42: =SUM(D43:D46) -> 0 | E42: =SUM(E43:E46) -> 220000 | F42: =SUM(F43:F46) -> 1200000 | G42: =SUM(G43:G46) -> 1400000 | H42: =SUM(H43:H46) -> 7658654
A43: 38 | B43: ebből étkeztetés - kivéve ell, hallgatók térítési díj B40211 | C43: =SUM(D43:H43) -> 6098022 | H43: 6098022
A44: 39 | B44: ebből: bérleti díj bev (B40212) | C44: =SUM(D44:H44) -> 2170000 | E44: 220000 | F44: 600000 | G44: 1350000
A45: 40 | B45: ebből: alkalmazottak térítési díj (B40213) | C45: =SUM(D45:H45) -> 1560632 | H45: 1560632
A46: 41 | B46: ebből: egyéb szolgáltatás (40215) | C46: =SUM(D46:H46) -> 650000 | F46: 600000 | G46: 50000
A47: 42 | B47: Közvetített szolgáltatások ellenértéke (B403) | C47: =SUM(D47:H47) -> 4809000 | D47: =SUM(D48:D49) -> 1173000 | E47: =SUM(E48:E49) -> 1400000 | F47: =SUM(F48:F49) -> 2236000 | G47: =SUM(G48:G49) -> 0 | H47: =SUM(H48:H49) -> 0
A48: 43 | B48: ebből: államháztartáson belül (B40311) | C48: =SUM(D48:H48) -> 2473000 | D48: 600000 | E48: 1400000 | F48: 473000
A49: 44 | B49: ebből: államháztartáson kívül (B40312) | C49: =SUM(D49:H49) -> 2336000 | D49: 573000 | F49: 1763000
A50: 45 | B50: Tulajdonosi bevételek (B4041) | C50: =SUM(D50:H50) -> 9400180 | D50: =SUM(D51:D54) -> 9400180 | E50: =SUM(E51:E54) -> 0 | F50: =SUM(F51:F54) -> 0 | G50: =SUM(G51:G54) -> 0 | H50: =SUM(H51:H54) -> 0
A51: 46 | B51: ebből: önkormányzati vagyon üzemeltetéséből származó bevétel (B404131) | C51: =SUM(D51:H51) -> 0
A52: 47 | B52: ebből: önkormányzati vagyon vagyonkezelésbe adásából származó bevétel (B404133) | C52: =SUM(D52:H52) -> 0
A53: 48 | B53: ebből: egy önk-i bérleti- és lízing díj bevételek (404134) | C53: =SUM(D53:H53) -> 8890180 | D53: 8890180
A54: 49 | B54: ebből: egy önk tulajdonosi bevétel (B404139) | C54: =SUM(D54:H54) -> 510000 | D54: 510000
A55: 50 | B55: Ellátási díjak (B4051) | C55: =SUM(D55:H55) -> 1842030 | H55: 1842030
A56: 51 | B56: Kiszámlázott általános forgalmi adó (B4061) | C56: =SUM(D56:H56) -> 7595064 | D56: 3664759 | E56: 437400 | F56: 927720 | H56: 2565185
A57: 52 | B57: Általános forgalmi adó visszatérítése (B4071) | C57: =SUM(D57:H57) -> 0
A58: 53 | B58: Egyéb kapott (járó) kamatok és kamatjellegű bevételek ÁHK(B40811) | C58: =SUM(D58:H58) -> 0
A59: 54 | B59: Egyéb pénzügyi műveletek bevételei (B4091) | C59: =SUM(D59:H59) -> 0
A60: 55 | B60: Biztosító által fizetett kártérítés (B4101) | C60: =SUM(D60:H60) -> 0
A61: 56 | B61: Egyéb működési bevételek (B4111) | C61: =SUM(D61:H61) -> 1761000 | D61: 1610000 | F61: 151000
A62: 57 | B62: Működési bevételek (B4) | C62: =SUM(D62:H62) -> 35885928 | D62: =D41+D42+D47+D50+D55+D56+D57+D58+D59+D60+D61 -> 15847939 | E62: =E41+E42+E47+E50+E55+E56+E57+E58+E59+E60+E61 -> 2057400 | F62: =F41+F42+F47+F50+F55+F56+F57+F58+F59+F60+F61 -> 4514720 | G62: =G41+G42+G47+G50+G55+G56+G57+G58+G59+G60+G61 -> 1400000 | H62: =H41+H42+H47+H50+H55+H56+H57+H58+H59+H60+H61 -> 12065869
A63: 58 | B63: Ingatlanok értékesítése (B521) | C63: =SUM(D63:H63) -> 3000000 | D63: 3000000
A64: 59 | B64: Egyéb tárgyi eszközök értékesítése B531 | C64: =SUM(D64:H64) -> 0
A65: 60 | B65: Felhalmozási bevételek (B5) | C65: =SUM(D65:H65) -> 3000000 | D65: =SUM(D63:D64) -> 3000000 | E65: =SUM(E63:E64) -> 0 | F65: =SUM(F63:F64) -> 0 | G65: =SUM(G63:G64) -> 0 | H65: =SUM(H63:H64) -> 0
A66: 61 | B66: Egyéb működési célú átvett pénzeszközök (65) | C66: =SUM(D66:H66) -> 0
A67: 62 | B67: Működési célú átvett pénzeszközök (B6) | C67: =SUM(D67:H67) -> 0 | D67: =D66 -> 0 | E67: =E66 -> 0 | F67: =F66 -> 0 | G67: =G66 -> 0 | H67: =H66 -> 0
A68: 63 | B68: Felhalmozási célú visszatérítendő támogatások, kölcsönök visszatérülése államháztartáson kívülről (B74) | C68: =SUM(D68:H68) -> 80000 | D68: 80000
A69: 64 | B69: ebből: háztartások (B74) | C69: =SUM(D69:H69) -> 80000 | D69: 80000
A70: 65 | B70: Egyéb felhalmozási célú átvett pénzeszközök (B75) | C70: =SUM(D70:H70) -> 1175000 | D70: 1175000
A71: 66 | B71: Felhalmozási célú átvett pénzeszközök (B7) | C71: =SUM(D71:H71) -> 1255000 | D71: =D68+D70 -> 1255000 | E71: =E68+E70 -> 0 | F71: =F68+F70 -> 0 | G71: =G68+G70 -> 0 | H71: =H68+H70 -> 0
A72: 67 | B72: Költségvetési bevételek (B1-B7) | C72: =SUM(D72:H72) -> 1888932125 | D72: =D21+D29+D40+D62+D65+D67+D71 -> 1829893364 | E72: =E21+E29+E40+E62+E65+E67+E71 -> 2057400 | F72: =F21+F29+F40+F62+F65+F67+F71 -> 43515492 | G72: =G21+G29+G40+G62+G65+G67+G71 -> 1400000 | H72: =H21+H29+H40+H62+H65+H67+H71 -> 12065869
A73: 68 | B73: Befektetési célú belföldi egyéb hitelviszonyt megtestesítő értékpapír beváltása, értékesítése (B 81231 | C73: =SUM(D73:H73) -> 60000000 | D73: 60000000
A74: 69 | B74: Előző év költségvetési maradványának igénybevétele (B813) | C74: =SUM(D74:H74) -> 582734985 | D74: 577317049 | F74: 5000000 | G74: 417936
A75: 70 | B75: Államháztartáson belüli megelőlegezések (B814) | C75: =SUM(D75:H75) -> 3636490 | D75: 3636490
A76: 71 | B76: Irányító szervi támogatás (B816 | C76: =SUM(D76:H76) -> 556872454 | E76: 219504437 | F76: 131881637 | G76: 68618905 | H76: 136867475
A77: 72 | B77: Belföldi finanszírozás bevételei (B81) | C77: =SUM(D77:H77) -> 1203243929 | D77: =SUM(D73:D76) -> 640953539 | E77: =SUM(E73:E76) -> 219504437 | F77: =SUM(F73:F76) -> 136881637 | G77: =SUM(G73:G76) -> 69036841 | H77: =SUM(H73:H76) -> 136867475
A78: 73 | B78: Finanszírozási bevételek (B8) | C78: =SUM(D78:H78) -> 1203243929 | D78: =D77 -> 640953539 | E78: =E77 -> 219504437 | F78: =F77 -> 136881637 | G78: =G77 -> 69036841 | H78: =H77 -> 136867475
A79: 74 | B79: MINDÖSSZESEN: | C79: =SUM(D79:H79) -> 3092176054 | D79: =D72+D78 -> 2470846903 | E79: =E72+E78 -> 221561837 | F79: =F72+F78 -> 180397129 | G79: =G72+G78 -> 70436841 | H79: =H72+H78 -> 148933344

Sheet 1c
B1: Berhida Város Önkormányzata
B2: 2020. évi költségvetés | F2: 1/c. melléklet a 2/2020.(II.28.) rendelethez
F3: Ft-ban
C4: BEVÉTELEK
A5: Sor- szám | B5: Rovat megnevezése | C5: Teljesítés 03.31. összesen | D5: Önkormányzat | E5: Közös Hivatal | F5: TESZ | G5: Kultúrház | H5: Süni
A6: 1 | B6: Helyi önkormányzatok működésének általános támogatása (B1111) | C6: =SUM(D6:H6) -> 44819170 | D6: 44819170
A7: 2 | B7: Települési önkormányzatok egyes köznevelési feladatainak támogatása (B112) | C7: =SUM(D7:H7) -> 40945205 | D7: 40945205
A8: 3 | B8: Települési önkormányzatok szociális, gyermekjóléti feladatainak támogatása (B1131) | C8: =SUM(D8:H8) -> 16823923 | D8: 16823923
A9: 4 | B9: Tel.önkormányzat gyermekétkeztetési fel.tám( B 1132) | D9: 17927476
A10: 5 | B10: Települési önkormányzatok kulturális feladatainak támogatása (B114) | C10: =SUM(D10:H10) -> 2436856 | D10: 2436856
A11: 6 | B11: Működési célú költségvetési támogatások és kiegészítő támogatások (B115) | C11: =SUM(D11:H11) -> 0
A12: 7 | B12: Elszámolásból származó bevételek (B116) | C12: =SUM(D12:H12) -> 0
A13: 8 | B13: Önkormányzatok működési támogatásai (B11) | C13: =SUM(D13:H13) -> 122952630 | D13: =SUM(D6:D12) -> 122952630 | E13: =SUM(E6:E12) -> 0 | F13: =SUM(F6:F12) -> 0 | G13: =SUM(G6:G12) -> 0 | H13: =SUM(H6:H12) -> 0
A14: 9 | B14: Elvonások és befizetések bevételei B12 | C14: =SUM(D14:H14) -> 0
A15: 10 | B15: Egyéb működési célú támogatások bevételei államháztartáson belülről (B16) | C15: =SUM(D15:H15) -> 79986461 | D15: =SUM(D16:D20) -> 69909775 | E15: =SUM(E16:E20) -> 0 | F15: =SUM(F16:F20) -> 10076686 | G15: =SUM(G16:G20) -> 0 | H15: =SUM(H16:H20) -> 0
A16: 11 | B16: ebből: egyéb központi kezelésű előirányzatok (B1612 | C16: =SUM(D16:H16) -> 195000 | D16: 195000
A17: 12 | B17: ebből: fejezeti kezelésű EU B16 | C17: =SUM(D17:H17) -> 61222575 | D17: 61222575
A18: 13 | B18: ebből: társadalombiztosítás pénzügyi alapjai (B1614 | C18: =SUM(D18:H18) -> 8492200 | D18: 8492200
A19: 14 | B19: ebből: elkülönített állami pénzal (B1615 | C19: =SUM(D19:H19) -> 10076686 | F19: 10076686
A20: 15 | B20: ebből: önkormányzat és kv-i szerveik (B 1616 | C20: =SUM(D20:H20) -> 0
A21: 16 | B21: Működési célú támogatások államháztartáson belülről (B1) | C21: =SUM(D21:H21) -> 202939091 | D21: =D13+D15 -> 192862405 | E21: =E13+E15 -> 0 | F21: =F13+F15 -> 10076686 | G21: =G13+G15 -> 0 | H21: =H13+H15 -> 0
A22: 17 | B22: Felhalmozási célú önkormányzati támogatások (B21) | C22: =SUM(D22:H22) -> 0 | D22: =D23 -> 0 | E22: =E23 -> 0 | F22: =F23 -> 0 | G22: =G23 -> 0 | H22: =H23 -> 0
A23: 18 | B23: ebből: egyéb központi felhalmozási c tám B 2119 | C23: =SUM(D23:H23) -> 0
A24: 19 | B24: Egyéb felhalmozási célú tám áht belülről B 25 | C24: =SUM(D24:H24) -> 240349531 | D24: =SUM(D25:D28) -> 240349531 | E24: =SUM(E25:E28) -> 0 | F24: =SUM(F25:F28) -> 0 | G24: =SUM(G25:G28) -> 0 | H24: =SUM(H25:H28) -> 0
A25: 20 | B25: ebből egyéb központi fc tám (B2512 | C25: =SUM(D25:H25) -> 0
A26: 21 | B26: ebből: egyéb fejezeti kez EU fc (B25 | C26: =SUM(D26:H26) -> 240349531 | D26: 240349531
A27: 22 | B27: ebből: elkülönített állami pénzal fc (B2515 | C27: =SUM(D27:H27) -> 0
A28: 23 | B28: ebből: önkorm és kv-i szervek fc tám (B2516 | C28: =SUM(D28:H28) -> 0
A29: 24 | B29: Felhalmozási célú támogatások államháztartáson belülről (B2) | C29: =SUM(D29:H29) -> 240349531 | D29: =D22+D24 -> 240349531 | E29: =E22+E24 -> 0 | F29: =F22+F24 -> 0 | G29: =G22+G24 -> 0 | H29: =H22+H24 -> 0
A30: 25 | B30: Vagyoni tipusú adók (B34) | C30: =SUM(D30:H30) -> 55218484 | D30: =SUM(D31:D32) -> 55218484 | E30: =SUM(E31:E32) -> 0 | F30: =SUM(F31:F32) -> 0 | G30: =SUM(G31:G32) -> 0 | H30: =SUM(H31:H32) -> 0
A31: 26 | B31: ebből: építményadó (B34111) | C31: =SUM(D31:H31) -> 55047109 | D31: 55047109
A32: 27 | B32: ebből: magánszemélyek kommunális adója (B34114) | C32: =SUM(D32:H32) -> 171375 | D32: 171375
A33: 28 | B33: Értékesítési és forgalmi adók iparűzési adó (B351121) | C33: =SUM(D33:H33) -> 85751778 | D33: 85751778
A34: 29 | B34: Gépjárműadó (B3541) | C34: =SUM(D34:H34) -> 0
A35: 30 | B35: Egyéb áruhasználati és szolgáltatási adók, környezetterh díj, talajterhelési díj (B355) | C35: =SUM(D35:H35) -> 0
A36: 31 | B36: Termékek és szolgáltatások adói (B35) | C36: =SUM(D36:H36) -> 85751778 | D36: =SUM(D33:D35) -> 85751778 | E36: =SUM(E33:E35) -> 0 | F36: =SUM(F33:F35) -> 0 | G36: =SUM(G33:G35) -> 0 | H36: =SUM(H33:H35) -> 0
A37: 32 | B37: Egyéb közhatalmi bevételek (B36) | C37: =SUM(D37:H37) -> 235944 | D37: 203305 | E37: 32639 | F37: =SUM(F38:F39) -> 0 | G37: =SUM(G38:G39) -> 0 | H37: =SUM(H38:H39) -> 0
A38: 33 | B38: ebből: szabálysértési pénz- és helyszíni bírság és a közlekedési szabályszegések után kiszabott közigazgatási bírság helyi önkormányzatot megillető része (B361225 köv) | C38: =SUM(D38:H38) -> 20639 | E38: 20639
A39: 34 | B39: ebből: egyéb bírság (B361229 köv) | C39: =SUM(D39:H39) -> 0
A40: 35 | B40: Közhatalmi bevételek (B3) | C40: =SUM(D40:H40) -> 141206206 | D40: =D30+D36+D37 -> 141173567 | E40: =E30+E36+E37 -> 32639 | F40: =F30+F36+F37 -> 0 | G40: =G30+G36+G37 -> 0 | H40: =H30+H36+H37 -> 0
A41: 36 | B41: Készlet értékesítés előirányzata B 40111 | C41: =SUM(D41:H41) -> 3000 | G41: 3000
A42: 37 | B42: Szolgáltatások (B4021) | C42: =SUM(D42:H42) -> 2738604 | D42: =SUM(D43:D46) -> 0 | E42: 59055 | F42: 299387 | G42: 437250 | H42: =SUM(H43:H46) -> 1942912
A43: 38 | B43: ebből étkeztetés - kivéve ell, hallgatók térítési díj B40211 | C43: =SUM(D43:H43) -> 1942912 | H43: 1942912
A44: 39 | B44: ebből: bérleti díj bev (B40212) | C44: =SUM(D44:H44) -> 366055 | E44: 59055 | G44: 307000
A45: 40 | B45: ebből: alkalmazottak térítési díj (B40213) | C45: =SUM(D45:H45) -> 0
A46: 41 | B46: ebből: egyéb szolgáltatás (40215) | C46: =SUM(D46:H46) -> 0
A47: 42 | B47: Közvetített szolgáltatások ellenértéke (B403) | C47: =SUM(D47:H47) -> 962782 | D47: =SUM(D48:D49) -> 192641 | E47: =SUM(E48:E49) -> 346701 | F47: =SUM(F48:F49) -> 383846 | G47: =SUM(G48:G49) -> 0 | H47: 39594
A48: 43 | B48: ebből: államháztartáson belül (B40311) | C48: =SUM(D48:H48) -> 610539 | D48: 164160 | E48: 343977 | F48: 102402
A49: 44 | B49: ebből: államháztartáson kívül (B40312) | C49: =SUM(D49:H49) -> 312649 | D49: 28481 | E49: 2724 | F49: 281444
A50: 45 | B50: Tulajdonosi bevételek (B4041) | C50: =SUM(D50:H50) -> 2316587 | D50: =SUM(D51:D54) -> 2316587 | E50: =SUM(E51:E54) -> 0 | F50: =SUM(F51:F54) -> 0 | G50: =SUM(G51:G54) -> 0 | H50: =SUM(H51:H54) -> 0
A51: 46 | B51: ebből: önkormányzati vagyon üzemeltetéséből származó bevétel (B404131) | C51: =SUM(D51:H51) -> 0
A52: 47 | B52: ebből: önkormányzati vagyon vagyonkezelésbe adásából származó bevétel (B404133) | C52: =SUM(D52:H52) -> 0
A53: 48 | B53: ebből: egy önk-i bérleti- és lízing díj bevételek (404134) | C53: =SUM(D53:H53) -> 2316587 | D53: 2316587
A54: 49 | B54: ebből: egy önk tulajdonosi bevétel (B404139) | C54: =SUM(D54:H54) -> 0
A55: 50 | B55: Ellátási díjak (B4051) | C55: =SUM(D55:H55) -> 234012 | H55: 234012
A56: 51 | B56: Kiszámlázott általános forgalmi adó (B4061) | C56: =SUM(D56:H56) -> 2219225 | D56: 1511801 | E56: 108968 | H56: 598456
A57: 52 | B57: Általános forgalmi adó visszatérítése (B4071) | C57: =SUM(D57:H57) -> 582493 | F57: 175493 | H57: 407000
A58: 53 | B58: Egyéb kapott (járó) kamatok és kamatjellegű bevételek ÁHK(B40811) | C58: =SUM(D58:H58) -> 125 | D58: 118 | E58: 2 | F58: 3 | H58: 2
A59: 54 | B59: Egyéb pénzügyi műveletek bevételei (B4091) | C59: =SUM(D59:H59) -> 0
A60: 55 | B60: Biztosító által fizetett kártérítés (B4101) | C60: =SUM(D60:H60) -> 116065 | D60: 116065
A61: 56 | B61: Egyéb működési bevételek (B4111) | C61: =SUM(D61:H61) -> 20457 | D61: 7 | E61: 579 | F61: 17556 | G61: 1385 | H61: 930
A62: 57 | B62: Működési bevételek (B4) | C62: =SUM(D62:H62) -> 9193350 | D62: =D41+D42+D47+D50+D55+D56+D57+D58+D59+D60+D61 -> 4137219 | E62: =E41+E42+E47+E50+E55+E56+E57+E58+E59+E60+E61 -> 515305 | F62: =F41+F42+F47+F50+F55+F56+F57+F58+F59+F60+F61 -> 876285 | G62: =G41+G42+G47+G50+G55+G56+G57+G58+G59+G60+G61 -> 441635 | H62: =H41+H42+H47+H50+H55+H56+H57+H58+H59+H60+H61 -> 3222906
A63: 58 | B63: Ingatlanok értékesítése (B521) | C63: =SUM(D63:H63) -> 3463200 | D63: 3463200
A64: 59 | B64: Egyéb tárgyi eszközök értékesítése B531 | C64: =SUM(D64:H64) -> 0
A65: 60 | B65: Felhalmozási bevételek (B5) | C65: =SUM(D65:H65) -> 3463200 | D65: =SUM(D63:D64) -> 3463200 | E65: =SUM(E63:E64) -> 0 | F65: =SUM(F63:F64) -> 0 | G65: =SUM(G63:G64) -> 0 | H65: =SUM(H63:H64) -> 0
A66: 61 | B66: Egyéb működési célú átvett pénzeszközök (65) | C66: =SUM(D66:H66) -> 4815 | D66: 4815
A67: 62 | B67: Működési célú átvett pénzeszközök (B6) | C67: =SUM(D67:H67) -> 4815 | D67: =D66 -> 4815 | E67: =E66 -> 0 | F67: =F66 -> 0 | G67: =G66 -> 0 | H67: =H66 -> 0
A68: 63 | B68: Felhalmozási célú visszatérítendő támogatások, kölcsönök visszatérülése államháztartáson kívülről (B74) | C68: =SUM(D68:H68) -> 5966 | D68: 5966
A69: 64 | B69: ebből: háztartások (B74) | C69: =SUM(D69:H69) -> 5000 | D69: 5000
A70: 65 | B70: Egyéb felhalmozási célú átvett pénzeszközök (B75) | C70: =SUM(D70:H70) -> 1175000 | D70: 1175000
A71: 66 | B71: Felhalmozási célú átvett pénzeszközök (B7) | C71: =SUM(D71:H71) -> 1180966 | D71: =D68+D70 -> 1180966 | E71: =E68+E70 -> 0 | F71: =F68+F70 -> 0 | G71: =G68+G70 -> 0 | H71: =H68+H70 -> 0
A72: 67 | B72: Költségvetési bevételek (B1-B7) | C72: =SUM(D72:H72) -> 598337159 | D72: =D21+D29+D40+D62+D65+D67+D71 -> 583171703 | E72: =E21+E29+E40+E62+E65+E67+E71 -> 547944 | F72: =F21+F29+F40+F62+F65+F67+F71 -> 10952971 | G72: =G21+G29+G40+G62+G65+G67+G71 -> 441635 | H72: =H21+H29+H40+H62+H65+H67+H71 -> 3222906
A73: 68 | B73: Befektetési célú belföldi egyéb hitelviszonyt megtestesítő értékpapír beváltása, értékesítése (B 81231 | C73: =SUM(D73:H73) -> 0
A74: 69 | B74: Előző év költségvetési maradványának igénybevétele (B813) | C74: =SUM(D74:H74) -> 45175123 | E74: 12183894 | F74: 21638300 | G74: 4001121 | H74: 7351808
B75: Államháztartáson belüli megelőlegezések (B814) | C75: =SUM(D75:H75) -> 3636490 | D75: 3636490
A76: 71 | B76: Irányító szervi támogatás (B816 | C76: =SUM(D76:H76) -> 82177581 | E76: 32477875 | F76: 16560403 | G76: 10677212 | H76: 22462091
A77: 72 | B77: Belföldi finanszírozás bevételei (B81) | C77: =SUM(D77:H77) -> 130989194 | D77: =SUM(D73:D76) -> 3636490 | E77: =SUM(E73:E76) -> 44661769 | F77: =SUM(F73:F76) -> 38198703 | G77: =SUM(G73:G76) -> 14678333 | H77: =SUM(H73:H76) -> 29813899
A78: 73 | B78: Finanszírozási bevételek (B8) | C78: =SUM(D78:H78) -> 130989194 | D78: =D77 -> 3636490 | E78: =E77 -> 44661769 | F78: =F77 -> 38198703 | G78: =G77 -> 14678333 | H78: =H77 -> 29813899
A79: 74 | B79: MINDÖSSZESEN: | C79: =SUM(D79:H79) -> 729326353 | D79: =D72+D78 -> 586808193 | E79: =E72+E78 -> 45209713 | F79: =F72+F78 -> 49151674 | G79: =G72+G78 -> 15119968 | H79: =H72+H78 -> 33036805

Sheet 2
B1: Berhida Város Önkormányzata | E1: 2. melléklet
B2: 2020. évi költségvetés | E2: 2/2020.(II. 28.) rendelethez
C3: KIADÁSOK | E3: Ft-ban
A5: Sor- szám | B5: Rovat megnevezése | C5: Eredeti előirányzat összesen | D5: Önkormányzat | E5: Közös Hivatal | F5: TESZ | G5: Kultúrház | H5: Süni
A6: 27 | B6: Személyi juttatások (K1) | C6: =SUM(D6:H6) -> 404120936 | D6: 52267571 | E6: 144171047 | F6: 91322900 | G6: 26389513 | H6: 89969905
A7: 28 | B7: Munkaadókat terhelő járulékok és szociális hozzájárulási adó (K2) | C7: =SUM(D7:H7) -> 71260878 | D7: 10350728 | E7: 28098504 | F7: 12288159 | G7: 4655154 | H7: 15868333
A8: 87 | B8: Dologi kiadások (K3) | C8: =SUM(D8:H8) -> 500700674 | D8: 316638952 | E8: 33988840 | F8: 71815470 | G8: 36083056 | H8: 42174356
A9: 88 | B9: Családi támogatások (K42) | C9: =SUM(D9:H9) -> 0 | D9: =D10 -> 0 | E9: =E10 -> 0 | F9: =F10 -> 0 | G9: =G10 -> 0 | H9: =H10 -> 0
A10: 89 | B10: ebből: az egyéb pénzbeli és természetbeni gyermekvédelmi támogatások (K42132) | C10: =SUM(D10:H10) -> 0
A11: 90 | B11: Intézményi ellátottak pénzbeli juttatásai (K47) | C11: =SUM(D11:H11) -> 800000 | D11: =D12 -> 800000 | E11: =E12 -> 0 | F11: =F12 -> 0 | G11: =G12 -> 0 | H11: =H12 -> 0
A12: 91 | B12: ebből: oktatásban résztvevők pénzbeli juttatásai (K471) | C12: =SUM(D12:H12) -> 800000 | D12: 800000
A13: 92 | B13: Egyéb nem intézményi ellátások (K48) | C13: =SUM(D13:H13) -> 10700000 | D13: =SUM(D14:D15) -> 10700000 | E13: =SUM(E14:E15) -> 0 | F13: =SUM(F14:F15) -> 0 | G13: =SUM(G14:G15) -> 0 | H13: =SUM(H14:H15) -> 0
A14: 93 | B14: ebből: köztemetés [Szoctv. 48.§] (K48123) | C14: =SUM(D14:H14) -> 900000 | D14: 900000
A15: 94 | B15: ebből: települési támogatás [Szoctv. 45. §], (K48122) | C15: =SUM(D15:H15) -> 9800000 | D15: 9800000
A16: 96 | B16: Ellátottak pénzbeli juttatásai (K4) | C16: =SUM(D16:H16) -> 11500000 | D16: =D9+D11+D13 -> 11500000 | E16: =E9+E11+E13 -> 0 | F16: =F9+F11+F13 -> 0 | G16: =G9+G11+G13 -> 0 | H16: =H9+H11+H13 -> 0
A17: 97 | B17: Elvonások és befizetések (K5023) | C17: =SUM(D17:H17) -> 0
A18: 98 | B18: Egyéb működési célú támogatások államháztartáson belülre (K506) | C18: =SUM(D18:H18) -> 176540348 | D18: =SUM(D19:D22) -> 176540348 | E18: =SUM(E19:E22) -> 0 | F18: =SUM(F19:F22) -> 0 | G18: =SUM(G19:G22) -> 0 | H18: =SUM(H19:H22) -> 0
A19: 99 | B19: ebből: egyéb központi kezelésű előir (K50612) | C19: =SUM(D19:H19) -> 3500000 | D19: 3500000
A20: 100 | B20: ebből: elkülönített állami pénzalap (K50615) | C20: =SUM(D20:H20) -> 0
A21: 101 | B21: ebből: önkormányzatok és költségv-i szerveik K50616) | C21: =SUM(D21:H21) -> 0
A22: 102 | B22: ebből: társulások és költségvetési szerveik (K50617) | C22: =SUM(D22:H22) -> 173040348 | D22: 173040348
A23: 103 | B23: Egyéb működési célú támogatások államháztartáson kívülre (K512) | C23: =SUM(D23:H23) -> 19955600 | D23: 19955600
B24: Egyházi jogi személy egyé műk célú tám( K51216 | C24: =SUM(D24:H24) -> 0
A25: 104 | B25: Tartalékok (K51311) | C25: =SUM(D25:H25) -> 76092700 | D25: 76092700
A26: 105 | B26: Egyéb működési célú kiadások (K5) | C26: =SUM(D26:H26) -> 272588648 | D26: =D17+D18+D23+D24+D25 -> 272588648 | E26: =E17+E18+E23+E24+E25 -> 0 | F26: =F17+F18+F23+F24+F25 -> 0 | G26: =G17+G18+G23+G24+G25 -> 0 | H26: =H17+H18+H23+H24+H25 -> 0
A27: 106 | B27: Immateriális javak beszerzése, lét (K611) | C27: =SUM(D27:H27) -> 440000 | D27: 260000 | G27: 150000 | H27: 30000
A28: 107 | B28: Ingatlanok beszerzése, létesítése (K621) | C28: =SUM(D28:H28) -> 971737796 | D28: 971737796
A29: 108 | B29: Informatikai eszközök beszerzése, létesítése (K631) | C29: =SUM(D29:H29) -> 1580000 | E29: 1300000 | F29: 150000 | H29: 130000
A30: 109 | B30: Egyéb tárgyi eszközök beszerzése, létesítése (K641) | C30: =SUM(D30:H30) -> 36976116 | D30: 26805197 | E30: 3500000 | F30: 3630000 | G30: 2475919 | H30: 565000
A31: 110 | B31: Beruházási célú előzetesen felszámított általános forgalmi adó (K671) | C31: =SUM(D31:H31) -> 29697475 | D31: 26614726 | E31: 1296000 | F31: 1020600 | G31: 570399 | H31: 195750
A32: 111 | B32: Beruházások (K6) | C32: =SUM(D32:H32) -> 1040431387 | D32: =SUM(D27:D31) -> 1025417719 | E32: =SUM(E27:E31) -> 6096000 | F32: =SUM(F27:F31) -> 4800600 | G32: =SUM(G27:G31) -> 3196318 | H32: =SUM(H27:H31) -> 920750
A33: 112 | B33: Ingatlanok felújítása (K711) | C33: =SUM(D33:H33) -> 151961349 | D33: 151961349
B34: Informatikai eszközök felújítása (K723) | C34: =SUM(D34:H34) -> 200000 | E34: 200000
A35: 113 | B35: Egyéb tárgyi eszközök felújítása (K731) | C35: =SUM(D35:H35) -> 0
A36: 114 | B36: Felújítási célú előzetesen felszámított általános forgalmi adó (K741) | C36: =SUM(D36:H36) -> 41083565 | D36: 41029565 | E36: 54000
A37: 115 | B37: Felújítások (K7) | C37: =SUM(D37:H37) -> 193244914 | D37: =SUM(D33:D36) -> 192990914 | E37: =SUM(E33:E36) -> 254000 | F37: =SUM(F33:F36) -> 0 | G37: =SUM(G33:G36) -> 0 | H37: =SUM(H33:H36) -> 0
A38: 116 | B38: Egyéb felhalmozási célú támogatások államháztartáson belülre (K84) | C38: =SUM(D38:H38) -> 7516495 | D38: 7516495 | E38: =SUM(E39:E41) -> 0 | F38: =SUM(F39:F41) -> 0 | G38: =SUM(G39:G41) -> 0 | H38: =SUM(H39:H41) -> 0
A39: 119 | B39: Egyéb felhalmozási célú támogatás Áht-n kívülre (K89) | C39: =SUM(D39:H39) -> 4500000 | D39: =SUM(D40:D41) -> 4500000
A40: 118 | B40: ebből:önkormányzati többségi tulajdonú nem pénzügyi vállalkozások (K89122) | C40: =SUM(D40:H40) -> 0
A41: 117 | B41: ebből: egyéb civil szervezeteknek | C41: =SUM(D41:H41) -> 4500000 | D41: 4500000
A42: 120 | B42: Egyéb felhalmozási célú kiadások (K8) | C42: =SUM(D42:H42) -> 12016495 | D42: =D38+D39 -> 12016495 | E42: =E38+E39 -> 0 | F42: =F38+F39 -> 0 | G42: =G38+G39 -> 0 | H42: =H38+H39 -> 0
A43: 121 | B43: Költségvetési kiadások (K1-K8) | C43: =SUM(D43:H43) -> 2505863932 | D43: =D6+D7+D8+D16+D26+D32+D37+D42 -> 1893771027 | E43: =E6+E7+E8+E16+E26+E32+E37+E42 -> 212608391 | F43: =F6+F7+F8+F16+F26+F32+F37+F42 -> 180227129 | G43: =G6+G7+G8+G16+G26+G32+G37+G42 -> 70324041 | H43: =H6+H7+H8+H16+H26+H32+H37+H42 -> 148933344
A44: 122 | B44: Államháztartáson belüli megelőlegezések visszafizetése (K914) | C44: =SUM(D44:H44) -> 16355732 | D44: 16355732
A45: 123 | B45: Központi, irányító szervi támogatások folyósítása (K915) | C45: =SUM(D45:H45) -> 547636208 | D45: 547636208
A46: 124 | B46: Belföldi finanszírozás kiadásai (K91) | C46: =SUM(D46:H46) -> 563991940 | D46: =SUM(D44:D45) -> 563991940 | E46: =SUM(E44:E45) -> 0 | F46: =SUM(F44:F45) -> 0 | G46: =SUM(G44:G45) -> 0 | H46: =SUM(H44:H45) -> 0
A47: 125 | B47: Finanszírozási kiadások (K9) | C47: =SUM(D47:H47) -> 563991940 | D47: =D46 -> 563991940 | E47: =E46 -> 0 | F47: =F46 -> 0 | G47: =G46 -> 0 | H47: =H46 -> 0
A48: 126 | B48: MINDÖSSZESEN: | C48: =SUM(D48:H48) -> 3069855872 | D48: =D43+D47 -> 2457762967 | E48: =E43+E47 -> 212608391 | F48: =F43+F47 -> 180227129 | G48: =G43+G47 -> 70324041 | H48: =H43+H47 -> 148933344
C49: ='1'!C79 -> 3069855872 | D49: =D48-'1'!D79 -> 0 | E49: =E48-'1'!E79 -> 0 | F49: =F48-'1'!F79 -> 0 | G49: =G48-'1'!G79 -> 0 | H49: =H48-'1'!H79 -> 0
C50: =C49-C48 -> 0

Sheet 2a
B1: Berhida Város Önkormányzata
B2: 2020. évi költségvetés | C2: 2/a. melléklet a 2/2020.(II.28.) rendelethez
B3: Kiadások | C3: adatok Ft-ban
A5: Felújítások | C5: Eredeti előir | D5: változás | E5: Mód. Előir. | F5: Teljesítés 03.31
A6: 1 | B6: ÖH informatikai eszköz felújítás | C6: 254000 | E6: =C6+D6 -> 254000
A7: 2 | B7: ÖNK rendőrőrs felújítás KM | C7: 48426697 | E7: =C7+D7 -> 48426697
A8: 3 | B8: ÖNK Gyermekorv és védőnői szolg. Épület felúj pály KM | C8: 64650000 | E8: =C8+D8 -> 64650000
A9: 4 | B9: ÖNK Süni konyha felújítás pályázat mKM | C9: 35388602 | E9: =C9+D9 -> 35388602
A10: 5 | B10: ÖNK viziközmű alapból keretszerződés | C10: 3000000 | E10: =C10+D10 -> 3000000
A11: 6 | B11: ÖNK tervek | C11: 3000000 | D11: -93806 | E11: =C11+D11 -> 2906194
A12: 7 | B12: ÖNK Hivatal lapostető szigetelés felúj | C12: 850000 | D12: -672200 | E12: =C12+D12 -> 177800
A13: 8 | B13: ÖNK Orgona út üzletsor tetőszigetelés | C13: 3800000 | D13: -656575 | E13: =C13+D13 -> 3143425
A14: 9 | B14: ÖNK Orgona út villámhárító felúj | C14: 2000000 | D14: -1198580 | E14: =C14+D14 -> 801420
A15: 10 | B15: ÖNK Szegfű u. gyógyszertár felúj (vakolat, padlásfeljáró,szellőző stb) | C15: 650000 | E15: =C15+D15 -> 650000
A16: 11 | B16: ÖNK I. orvosi rendelő gépkocsi beálló tetőhéjalás felúj | C16: 190000 | E16: =C16+D16 -> 190000
A17: 12 | B17: ÖNK Szent Flórián szobor felújítás | C17: 660000 | E17: =C17+D17 -> 660000
A18: 13 | B18: ÖNK I. világháborúban elesett hős fiaink feszület pályázat | C18: 1210000 | E18: =C18+D18 -> 1210000
A19: 14 | B19: ÖNK Árpád köz 3. szolg. Lakás közmű gépészet felúj | C19: 900000 | E19: =C19+D19 -> 900000 | F19: 732165
A20: 15 | B20: ÖNK Pgytp Műv ház villamos szekrény felújítás | C20: 6500000 | D20: -2719730 | E20: =C20+D20 -> 3780270
A21: 16 | B21: ÖNK Hétszínvirág óvoda felújítás ( 3 csoportszoba és villamos stb) | C21: 20946483 | D21: -2248629 | E21: =C21+D21 -> 18697854
A22: 17 | B22: ÖNK ivóvíz bekötés felújítások Viziközmű szl-.ról | C22: 819132 | E22: =C22+D22 -> 819132
A23: 18 | B23: ÖNK Veszprémi út 1005/9 hrsz-ú területen, Szabadság tér és Bem János utca közötti szakaszon 7 db víznyelő aknafedlap, 1 db csapszekrény, 2 db postakábel akna szintre emelése | D23: 287020 | E23: =C23+D23 -> 287020
A24: 19 | B24: ÖNK Veszprémi út 1005/9 hrsz-ú területen, Szabadság tér és Bem János utca közötti szakaszon 8 db csatorna fedlap szintre emelése | D24: 345440 | E24: =C24+D24 -> 345440
A25: 20 | B25: ÖNK Ősi út 696. hrsz-ú területen lévő, 10 db. csatorna fedlap szintre emelése | D25: 431000 | E25: =C25+D25 -> 431000
A26: 21 | E26: =C26+D26 -> 0
A27: 22 | B27: Összesen | C27: =SUM(C6:C26) -> 193244914 | D27: =SUM(D6:D26) -> -6526060 | E27: =SUM(E6:E26) -> 186718854 | F27: =SUM(F6:F26) -> 732165

Sheet 2b
B1: Berhida Város Önkormányzata
B2: 2020. évi költségvetés | C2: 2/b. melléklet a 2/2020.(II.28.) rendelethez
B3: Kiadások | C3: adatok Ft-ban
A5: Beruházások | C5: Eredeti előir | D5: változás | E5: Mód elői | F5: Teljesülés 03.31
A6: 1 | B6: TESZ imm. Javak és informatikai eszközök+áfa | C6: 190500 | E6: =C6+D6 -> 190500
A7: 2 | B7: TESZ egyéb gép- berendezés+áfa | C7: 4610100 | E7: =C7+D7 -> 4610100 | F7: 53427
A8: 3 | B8: Kultúrház imm. javak és informatikai eszközök beszerzése | C8: 190500 | E8: =C8+D8 -> 190500
A9: 4 | B9: Kultúrház egyéb gép, berend beszerzés | C9: 3005818 | E9: =C9+D9 -> 3005818 | F9: 569120
A10: 5 | B10: Süni imm.jav és informatika tárgyi eszköz + áfa | C10: 203200 | E10: =C10+D10 -> 203200
A11: 6 | B11: Süni egyéb tárgyi eszköz + áfa | C11: 717550 | E11: =C11+D11 -> 717550
A12: 7 | B12: ÖH imm. Javak és informatikai eszközök + áfa | C12: 1651000 | E12: =C12+D12 -> 1651000 | F12: 62000
A13: 8 | B13: ÖH egyéb gép, berend + áfa | C13: 4445000 | E13: =C13+D13 -> 4445000 | F13: 392351
A14: 9 | B14: ÖNK védőnői szolg. Egyéb eszközbeszerzés | C14: 508000 | E14: =C14+D14 -> 508000
A15: 10 | B15: ÖNK kerékpárút kialakítás TOP 3.1.1-16 pályázat KM | C15: 230266627 | E15: =C15+D15 -> 230266627
A16: 11 | B16: ÖNK szennyvíz tisztítótelep, csatornahál fejl. KEHOP pályázat bev | C16: 492974394 | E16: =C16+D16 -> 492974394
A17: 12 | B17: ÖNK bölcsőde kialakítás TOP pályázat bev | C17: 212847140 | E17: =C17+D17 -> 212847140
A18: 13 | B18: ÖNK külterületi utak pályázat bev | C18: 26859708 | E18: =C18+D18 -> 26859708
A19: 14 | B19: ÖNK tervek | C19: 2000000 | E19: =C19+D19 -> 2000000
A20: 15 | B20: ÖNK Jázmi és szegfű u. csapadékvíz hálózat összekötő vezeték talajterhl.díjból+t.évi bev | C20: 3000000 | E20: =C20+D20 -> 3000000
A21: 16 | B21: ÖNK kamerák cseréje | C21: 2161600 | E21: =C21+D21 -> 2161600 | F21: 275092
A22: 17 | B22: ÖNK rendezetlen ingatlan vásárlás, kerítés építés | C22: 2200000 | E22: =C22+D22 -> 2200000
A23: 18 | B23: ÖNK urnahely temetkezési hely kialakítás | C23: 1500000 | E23: =C23+D23 -> 1500000
A24: 19 | B24: ÖNK fittnes parkok kialakítása térburkolat és egyéb kialak. költség | C24: 1940020 | E24: =C24+D24 -> 1940020
A25: 20 | B25: ÖNK VP fittnes parkok kialakítása pályázat bev | C25: 13578162 | E25: =C25+D25 -> 13578162
A26: 21 | B26: ÖNK közvilágítás bővítés | C26: 892610 | E26: =C26+D26 -> 892610
A27: 22 | B27: ÖNK VP6-7.2.1.4.1.3-17 közétkeztetés fejl. Süni eszközfejl.pály. Bev | C27: 18925488 | E27: =C27+D27 -> 18925488
A28: 23 | B28: ÖNK Magyar I-Liszt F u. közötti járdához ter. Vásárlás | C28: 400000 | E28: =C28+D28 -> 400000
A29: 24 | B29: ÖNK Rozmaring út szennyvíz, ivóvíz beköt áthúz Viziközmű alap | C29: 725170 | E29: =C29+D29 -> 725170
A30: 25 | B30: ÖNK Tulipán-Szegfű-Orgona-Margaréta u. régi-új szennyvíz szétvál.terv | C30: 444500 | E30: =C30+D30 -> 444500
A31: 26 | B31: ÖNK rendezési terv, települési rendezési eszköz terv módosítás | C31: 330200 | E31: =C31+D31 -> 330200
A32: 27 | B32: ÖNK Telkek mérőszekrény kialakítás | C32: 2044700 | E32: =C32+D32 -> 2044700
A33: 28 | B33: ÖNK Viola utca telkek közvilágítás részleges kialak | C33: 2794000 | E33: =C33+D33 -> 2794000
... A35: 30 | B35: ÖNK Lakat János tér kialakítása | C35: 9000000 | E35: =C35+D35 -> 9000000
A36: 31 | B36: ÖNK Hunyadi tér 950/10 hrsz ivókút vízellátása ( vízbekötővezeték, szakipari szerelés stb) | D36: 587617 | E36: =C36+D36 -> 587617
A37: 32 | B37: ÖNK Peremarton 1765/41 ivókút vízellátása (vízbekötővezeték, vízmérő kial stb) | D37: 1364857 | E37: =C37+D37 -> 1364857
A38: 33 | B38: ÖNK Ledes világító információs tábla 3 db letelepítéssel | D38: 529209 | E38: =C38+D38 -> 529209
A39: 34 | B39: TESZ permetezőgép vásárlás (fertőző betegség feladatra) | D39: 170000 | E39: =C39+D39 -> 170000
A40: 35 | B40: ÖNK Fenyős sor 1528 hrsz-ú összekötő útszakasz makadámút ép | D40: 7302500 | E40: =C40+D40 -> 7302500
A41: 36
A42: 37 | E42: =C42+D42 -> 0
A43: 38 | B43: Összesen | C43: =SUM(C6:C42) -> 1040431387 | D43: =SUM(D6:D42) -> 9954183 | E43: =SUM(E6:E42) -> 1050385570 | F43: =SUM(F6:F42) -> 1351990

Sheet 2-c
A1: BERHIDA VÁROS ÖNKORMÁNYZATA
A2: 2020. évi költségvetési tervben a 2019. évi költségvetési maradvány igénybevétel részletezése
E4: 2/c. melléklet a 2/2020.(II.28.) rendelethez
E5: adatok Ft-ban
A6: kv-i maradvány | C6: személyi | D6: járulék | E6: dologi | F6: felhalm tám | G6: felújítás | H6: beruházás | I6: finansz | J6: céltart
A7: Egyéb viziközmű alap | B7: =SUM(C7:J7) -> 66729493 | J7: 66729493
A8: Állami étkeztetési tart | B8: =SUM(C8:J8) -> 4000000 | J8: 4000000
A9: ingatlanhavaria | B9: =SUM(C9:J9) -> 4000000 | J9: 4000000
A10: HKA talajterh 2019 csapadékvíz elvez Jázmin | B10: =SUM(C10:J10) -> 40820 | H10: 40820
A11: HKA talajterh 2019-ig csapadékvíz elvez Jázmin | B11: =SUM(C11:J11) -> 772974 | H11: 772974
A12: Gyermekorvosi rendelő pály | B12: =SUM(C12:J12) -> 64650000 | G12: 64650000
A13: Rendőrőrs felúj pályázat | B13: =SUM(C13:J13) -> 40699250 | G13: 40699250
A14: TOP kerékpárút | B14: =SUM(C14:J14) -> 252682740 | C14: 2491915 | D14: 436085 | E14: 59104407 | H14: 190650333
A15: Süni konyha felúj BM pály | B15: =SUM(C15:J15) -> 35388602 | G15: 35388602
A16: Gátiba mérőszekrény kialakítás | B16: =SUM(C16:J16) -> 2044700 | H16: 2044700
A17: Településszerk terv HÉSZ mód | B17: =SUM(C17:J17) -> 330200 | H17: 330200
A18: Hidroszolg Tulipán u. 500 m terv | B18: =SUM(C18:J18) -> 444500 | H18: 444500
A19: Gátiba 7 db közvil. Lámpa | B19: =SUM(C19:J19) -> 2794000 | H19: 2794000
A20: Rozmaring út szennyvíz, ivóvíz beköt | B20: =SUM(C20:J20) -> 725170 | H20: 725170
A21: Hétszín ovifoci pálya kial | B21: =SUM(C21:J21) -> 4500000 | F21: 4500000
A22: Árpád köz 3 közmű felúj | B22: =SUM(C22:J22) -> 900000 | G22: 900000
A23: Sport fittnes park saját beruh | B23: =SUM(C23:J23) -> 1940020 | H23: 1940020
A24: ÖNK 181/2 hrsz-ú közút közvilágítási hálózatra csatlakozás áthúz KM | B24: =SUM(C24:J24) -> 25400 | H24: 25400
A25: Süni étk eszközbeszerzés önrész | B25: =SUM(C25:J25) -> 4676284 | H25: 4676284
A26: pályázati tartalék | B26: =SUM(C26:J26) -> 10000000 | J26: 10000000
A27: Hétszín felújítás önerős | B27: =SUM(C27:J27) -> 20946483 | G27: 20946483
A28: állami megelőlegezés | B28: =SUM(C28:J28) -> 16355732 | I28: 16355732
A29: Műv ház villamos szekrény felúj | B29: =SUM(C29:J29) -> 6500000 | G29: 6500000
A30: ÖNK Hivatal lapostető szigetelés felúj | B30: =SUM(C30:J30) -> 850000 | G30: 850000
A31: ÖNK Orgona út üzletsor tetőszigetelés | B31: =SUM(C31:J31) -> 3800000 | G31: 3800000
A32: ÖNK Orgona út villámhárító felúj | B32: =SUM(C32:J32) -> 2000000 | G32: 2000000
A33: ÖNK Szegfű u. gyógyszertár felúj (vakolat, padlásfeljáró,szellőző stb) | B33: =SUM(C33:J33) -> 650000 | G33: 650000
A34: ÖNK I. orvosi rendelő gépkocsi beálló tetőhéjalás felúj | B34: =SUM(C34:J34) -> 190000 | G34: 190000
A35: ÖNK Szent Flórián szobor felújítás | B35: =SUM(C35:J35) -> 660000 | G35: 660000
A36: ÖNK kamerák cseréje | B36: =SUM(C36:J36) -> 2161600 | H36: 2161600
A37: ÖNK rendezetlen ingatlan vásárlás, kerítés építés | B37: =SUM(C37:J37) -> 2200000 | H37: 2200000
A38: ÖNK urnahely temetkezési hely kialakítás | B38: =SUM(C38:J38) -> 1500000 | H38: 1500000
A39: ÖNK közvilágítás bővítés | B39: =SUM(C39:J39) -> 892610 | H39: 892610
A40: TESZ közfoglalkoztatottak támogatási előleg | B40: =SUM(C40:J40) -> 5000000 | C40: 4597701 | D40: 402299
A41: Művelődési Ház | B41: =SUM(C41:J41) -> 417936 | H41: 417936
A42: ÖNK Lakat János tér kialakítása | B42: =SUM(C42:J42) -> 9000000 | H42: 9000000
A43: gépjárműadó bevétel kiesés miatt igénybevétel | B43: =SUM(C43:J43) -> 12000000 | I43: 12000000 | K43: 05.07.-i mód
A44: bérleti díj kiesés miatt igénybevétel | B44: =SUM(C44:J44) -> 266471 | I44: 266471
A46: Mindösszesen | B46: =SUM(B7:B45) -> 582734985 | C46: =SUM(C7:C45) -> 7089616 | D46: =SUM(D7:D45) -> 838384 | E46: =SUM(E7:E45) -> 59104407 | F46: =SUM(F7:F45) -> 4500000 | G46: =SUM(G7:G45) -> 177234335 | H46: =SUM(H7:H45) -> 220616547 | I46: =SUM(I7:I45) -> 28622203 | J46: =SUM(J7:J45) -> 84729493
A47: Müködési célú | B47: =SUM(C47:J47) -> 62434706 | C47: =C11+C14 -> 2491915 | D47: =D46 -> 838384 | E47: =E46 -> 59104407
A48: Felhalmozási célú | B48: =SUM(C48:J48) -> 491678076 | C48: =C46-C47 -> 4597701 | F48: =F46 -> 4500000 | G48: =G46 -> 177234335 | H48: =H46 -> 220616547 | J48: =J46 -> 84729493
A49: finanszírozási célú | B49: =SUM(C49:J49) -> 28622203 | I49: =I46 -> 28622203
A50: Összesen | B50: =SUM(C50:J50) -> 582734985 | C50: =SUM(C47:C49) -> 7089616 | D50: =SUM(D47:D49) -> 838384 | E50: =SUM(E47:E49) -> 59104407 | F50: =SUM(F47:F49) -> 4500000 | G50: =SUM(G47:G49) -> 177234335 | H50: =SUM(H47:H49) -> 220616547 | I50: =SUM(I47:I49) -> 28622203 | J50: =SUM(J47:J49) -> 84729493
A52: Pályázathoz kapcsolódó | B52: =B12+B13+B14+B15+B23 -> 395360612

Sheet 2d
B1: Berhida Város Önkormányzata
B2: 2020. évi költségvetés | E2: 2/d. melléklet a 2/2020.(II.28.) rendelethez
C3: KIADÁSOK | E3: Ft-ban
A5: Sor- szám | B5: Rovat megnevezése | C5: Módosított előirányzat összesen | D5: Önkormányzat | E5: Közös Hivatal | F5: TESZ | G5: Kultúrház | H5: Süni
A6: 27 | B6: Személyi juttatások (K1) | C6: =SUM(D6:H6) -> 411199541 | D6: 51560571 | E6: 151956652 | F6: 91322900 | G6: 26389513 | H6: 89969905
A7: 28 | B7: Munkaadókat terhelő járulékok és szociális hozzájárulási adó (K2) | C7: =SUM(D7:H7) -> 72304994 | D7: 10227003 | E7: 29266345 | F7: 12288159 | G7: 4655154 | H7: 15868333
A8: 87 | B8: Dologi kiadások (K3) | C8: =SUM(D8:H8) -> 505114265 | D8: 320939743 | E8: 33988840 | F8: 71815470 | G8: 36195856 | H8: 42174356
A9: 88 | B9: Családi támogatások (K42) | C9: =SUM(D9:H9) -> 0 | D9: =D10 -> 0 | E9: =E10 -> 0 | F9: =F10 -> 0 | G9: =G10 -> 0 | H9: =H10 -> 0
A10: 89 | B10: ebből: az egyéb pénzbeli és természetbeni gyermekvédelmi támogatások (K42132) | C10: =SUM(D10:H10) -> 0
A11: 90 | B11: Intézményi ellátottak pénzbeli juttatásai (K47) | C11: =SUM(D11:H11) -> 800000 | D11: =D12 -> 800000 | E11: =E12 -> 0 | F11: =F12 -> 0 | G11: =G12 -> 0 | H11: =H12 -> 0
A12: 91 | B12: ebből: oktatásban résztvevők pénzbeli juttatásai (K471) | C12: =SUM(D12:H12) -> 800000 | D12: 800000
A13: 92 | B13: Egyéb nem intézményi ellátások (K48) | C13: =SUM(D13:H13) -> 10700000 | D13: =SUM(D14:D15) -> 10700000 | E13: =SUM(E14:E15) -> 0 | F13: =SUM(F14:F15) -> 0 | G13: =SUM(G14:G15) -> 0 | H13: =SUM(H14:H15) -> 0
A14: 93 | B14: ebből: köztemetés [Szoctv. 48.§] (K48123) | C14: =SUM(D14:H14) -> 900000 | D14: 900000
A15: 94 | B15: ebből: települési támogatás [Szoctv. 45. §], (K48122) | C15: =SUM(D15:H15) -> 9800000 | D15: 9800000
A16: 96 | B16: Ellátottak pénzbeli juttatásai (K4) | C16: =SUM(D16:H16) -> 11500000 | D16: =D9+D11+D13 -> 11500000 | E16: =E9+E11+E13 -> 0 | F16: =F9+F11+F13 -> 0 | G16: =G9+G11+G13 -> 0 | H16: =H9+H11+H13 -> 0
A17: 97 | B17: Elvonások és befizetések (K5023) | C17: =SUM(D17:H17) -> 0
A18: 98 | B18: Egyéb működési célú támogatások államháztartáson belülre (K506) | C18: =SUM(D18:H18) -> 177034348 | D18: =SUM(D19:D22) -> 177034348 | E18: =SUM(E19:E22) -> 0 | F18: =SUM(F19:F22) -> 0 | G18: =SUM(G19:G22) -> 0 | H18: =SUM(H19:H22) -> 0
A19: 99 | B19: ebből: egyéb központi kezelésű előir (K50612) | C19: =SUM(D19:H19) -> 3500000 | D19: 3500000
A20: 100 | B20: ebből: elkülönített állami pénzalap (K50615) | C20: =SUM(D20:H20) -> 0
A21: 101 | B21: ebből: önkormányzatok és költségv-i szerveik K50616) | C21: =SUM(D21:H21) -> 0
A22: 102 | B22: ebből: társulások és költségvetési szerveik (K50617) | C22: =SUM(D22:H22) -> 173534348 | D22: 173534348
A23: 103 | B23: Egyéb működési célú támogatások államháztartáson kívülre (K512) | C23: =SUM(D23:H23) -> 20673525 | D23: 20673525
B24: Egyházi jogi személy egyé műk célú tám( K51216 | C24: =SUM(D24:H24) -> 0
A25: 104 | B25: Tartalékok (K51311) | C25: =SUM(D25:H25) -> 68363786 | D25: 68363786
A26: 105 | B26: Egyéb működési célú kiadások (K5) | C26: =SUM(D26:H26) -> 266071659 | D26: =D17+D18+D23+D24+D25 -> 266071659 | E26: =E17+E18+E23+E24+E25 -> 0 | F26: =F17+F18+F23+F24+F25 -> 0 | G26: =G17+G18+G23+G24+G25 -> 0 | H26: =H17+H18+H23+H24+H25 -> 0
A27: 106 | B27: Immateriális javak beszerzése, lét (K611) | C27: =SUM(D27:H27) -> 440000 | D27: 260000 | G27: 150000 | H27: 30000
A28: 107 | B28: Ingatlanok beszerzése, létesítése (K621) | C28: =SUM(D28:H28) -> 979025177 | D28: 979025177
A29: 108 | B29: Informatikai eszközök beszerzése, létesítése (K631) | C29: =SUM(D29:H29) -> 1580000 | E29: 1300000 | F29: 150000 | H29: 130000
A30: 109 | B30: Egyéb tárgyi eszközök beszerzése, létesítése (K641) | C30: =SUM(D30:H30) -> 37526674 | D30: 27221897 | E30: 3500000 | F30: 3763858 | G30: 2475919 | H30: 565000
A31: 110 | B31: Beruházási célú előzetesen felszámított általános forgalmi adó (K671) | C31: =SUM(D31:H31) -> 31813719 | D31: 28694828 | E31: 1296000 | F31: 1056742 | G31: 570399 | H31: 195750
A32: 111 | B32: Beruházások (K6) | C32: =SUM(D32:H32) -> 1050385570 | D32: =SUM(D27:D31) -> 1035201902 | E32: =SUM(E27:E31) -> 6096000 | F32: =SUM(F27:F31) -> 4970600 | G32: =SUM(G27:G31) -> 3196318 | H32: =SUM(H27:H31) -> 920750
A33: 112 | B33: Ingatlanok felújítása (K711) | C33: =SUM(D33:H33) -> 146822719 | D33: 146822719
B34: Informatikai eszközök felújítása (K723) | C34: =SUM(D34:H34) -> 200000 | E34: 200000
A35: 113 | B35: Egyéb tárgyi eszközök felújítása (K731) | C35: =SUM(D35:H35) -> 0
A36: 114 | B36: Felújítási célú előzetesen felszámított általános forgalmi adó (K741) | C36: =SUM(D36:H36) -> 39696135 | D36: 39642135 | E36: 54000
A37: 115 | B37: Felújítások (K7) | C37: =SUM(D37:H37) -> 186718854 | D37: =SUM(D33:D36) -> 186464854 | E37: =SUM(E33:E36) -> 254000 | F37: =SUM(F33:F36) -> 0 | G37: =SUM(G33:G36) -> 0 | H37: =SUM(H33:H36) -> 0
A38: 116 | B38: Egyéb felhalmozási célú támogatások államháztartáson belülre (K84) | C38: =SUM(D38:H38) -> 7516495 | D38: 7516495 | E38: =SUM(E39:E41) -> 0 | F38: =SUM(F39:F41) -> 0 | G38: =SUM(G39:G41) -> 0 | H38: =SUM(H39:H41) -> 0
A39: 119 | B39: Egyéb felhalmozási célú támogatás Áht-n kívülre (K89) | C39: =SUM(D39:H39) -> 4500000 | D39: =SUM(D40:D41) -> 4500000
A40: 118 | B40: ebből:önkormányzati többségi tulajdonú nem pénzügyi vállalkozások (K89122) | C40: =SUM(D40:H40) -> 0
A41: 117 | B41: ebből: egyéb civil szervezeteknek | C41: =SUM(D41:H41) -> 4500000 | D41: 4500000
A42: 120 | B42: Egyéb felhalmozási célú kiadások (K8) | C42: =SUM(D42:H42) -> 12016495 | D42: =D38+D39 -> 12016495 | E42: =E38+E39 -> 0 | F42: =F38+F39 -> 0 | G42: =G38+G39 -> 0 | H42: =H38+H39 -> 0
A43: 121 | B43: Költségvetési kiadások (K1-K8) | C43: =SUM(D43:H43) -> 2515311378 | D43: =D6+D7+D8+D16+D26+D32+D37+D42 -> 1893982227 | E43: =E6+E7+E8+E16+E26+E32+E37+E42 -> 221561837 | F43: =F6+F7+F8+F16+F26+F32+F37+F42 -> 180397129 | G43: =G6+G7+G8+G16+G26+G32+G37+G42 -> 70436841 | H43: =H6+H7+H8+H16+H26+H32+H37+H42 -> 148933344
A44: 122 | B44: Államháztartáson belüli megelőlegezések visszafizetése (K914) | C44: =SUM(D44:H44) -> 19992222 | D44: 19992222
A45: 123 | B45: Központi, irányító szervi támogatások folyósítása (K915) | C45: =SUM(D45:H45) -> 556872454 | D45: 556872454
A46: 124 | B46: Belföldi finanszírozás kiadásai (K91) | C46: =SUM(D46:H46) -> 576864676 | D46: =SUM(D44:D45) -> 576864676 | E46: =SUM(E44:E45) -> 0 | F46: =SUM(F44:F45) -> 0 | G46: =SUM(G44:G45) -> 0 | H46: =SUM(H44:H45) -> 0
A47: 125 | B47: Finanszírozási kiadások (K9) | C47: =SUM(D47:H47) -> 576864676 | D47: =D46 -> 576864676 | E47: =E46 -> 0 | F47: =F46 -> 0 | G47: =G46 -> 0 | H47: =H46 -> 0
A48: 126 | B48: MINDÖSSZESEN: | C48: =SUM(D48:H48) -> 3092176054 | D48: =D43+D47 -> 2470846903 | E48: =E43+E47 -> 221561837 | F48: =F43+F47 -> 180397129 | G48: =G43+G47 -> 70436841 | H48: =H43+H47 -> 148933344
C49: ='[1]2'!C79 -> 3092176054 | D49: =D48-'[1]2'!D79 -> 0 | E49: =E48-'[1]2'!E79 -> 0 | F49: =F48-'[1]2'!F79 -> 0 | G49: =G48-'[1]2'!G79 -> 0 | H49: =H48-'[1]2'!H79 -> 0
C50: =C49-C48 -> 0

Sheet 2e
B1: Berhida Város Önkormányzata
B2: 2020. évi költségvetés | E2: 2/e. melléklet a 2/2020.(II.28.) rendelethez
C3: KIADÁSOK | E3: Ft-ban
A5: Sor- szám | B5: Rovat megnevezése | C5: Teljesítés 03.31 összesen | D5: Önkormányzat | E5: Közös Hivatal | F5: TESZ | G5: Kultúrház | H5: Süni
A6: 27 | B6: Személyi juttatások (K1) | C6: =SUM(D6:H6) -> 82238452 | D6: 7667858 | E6: 31379413 | F6: 19372546 | G6: 5560779 | H6: 18257856
A7: 28 | B7: Munkaadókat terhelő járulékok és szociális hozzájárulási adó (K2) | C7: =SUM(D7:H7) -> 15376216 | D7: 1473362 | E7: 6732119 | F7: 2803426 | G7: 985400 | H7: 3381909
A8: 87 | B8: Dologi kiadások (K3) | C8: =SUM(D8:H8) -> 76151080 | D8: 42240994 | E8: 6060702 | F8: 12013557 | G8: 7085566 | H8: 8750261
A9: 88 | B9: Családi támogatások (K42) | C9: =SUM(D9:H9) -> 0 | D9: =D10 -> 0 | E9: =E10 -> 0 | F9: =F10 -> 0 | G9: =G10 -> 0 | H9: =H10 -> 0
A10: 89 | B10: ebből: az egyéb pénzbeli és természetbeni gyermekvédelmi támogatások (K42132) | C10: =SUM(D10:H10) -> 0
A11: 90 | B11: Intézményi ellátottak pénzbeli juttatásai (K47) | C11: =SUM(D11:H11) -> 0 | D11: =D12 -> 0 | E11: =E12 -> 0 | F11: =F12 -> 0 | G11: =G12 -> 0 | H11: =H12 -> 0
A12: 91 | B12: ebből: oktatásban résztvevők pénzbeli juttatásai (K471) | C12: =SUM(D12:H12) -> 0
A13: 92 | B13: Egyéb nem intézményi ellátások (K48) | C13: =SUM(D13:H13) -> 729497 | D13: =SUM(D14:D15) -> 729497 | E13: =SUM(E14:E15) -> 0 | F13: =SUM(F14:F15) -> 0 | G13: =SUM(G14:G15) -> 0 | H13: =SUM(H14:H15) -> 0
A14: 93 | B14: ebből: köztemetés [Szoctv. 48.§] (K48123) | C14: =SUM(D14:H14) -> 112497 | D14: 112497
A15: 94 | B15: ebből: települési támogatás [Szoctv. 45. §], (K48122) | C15: =SUM(D15:H15) -> 617000 | D15: 617000
A16: 96 | B16: Ellátottak pénzbeli juttatásai (K4) | C16: =SUM(D16:H16) -> 729497 | D16: =D9+D11+D13 -> 729497 | E16: =E9+E11+E13 -> 0 | F16: =F9+F11+F13 -> 0 | G16: =G9+G11+G13 -> 0 | H16: =H9+H11+H13 -> 0
A17: 97 | B17: Elvonások és befizetések (K5023) | C17: =SUM(D17:H17) -> 0
A18: 98 | B18: Egyéb működési célú támogatások államháztartáson belülre (K506) | C18: =SUM(D18:H18) -> 33628402 | D18: =SUM(D19:D22) -> 33628402 | E18: =SUM(E19:E22) -> 0 | F18: =SUM(F19:F22) -> 0 | G18: =SUM(G19:G22) -> 0 | H18: =SUM(H19:H22) -> 0
A19: 99 | B19: ebből: egyéb központi kezelésű előir (K50612) | C19: =SUM(D19:H19) -> 517000 | D19: 517000
A20: 100 | B20: ebből: elkülönített állami pénzalap (K50615) | C20: =SUM(D20:H20) -> 0
A21: 101 | B21: ebből: önkormányzatok és költségv-i szerveik K50616) | C21: =SUM(D21:H21) -> 0
A22: 102 | B22: ebből: társulások és költségvetési szerveik (K50617) | C22: =SUM(D22:H22) -> 33111402 | D22: 33111402
A23: 103 | B23: Egyéb működési célú támogatások államháztartáson kívülre (K512) | C23: =SUM(D23:H23) -> 3844546 | D23: 3844546
B24: Egyházi jogi személy egyé műk célú tám( K51216 | C24: =SUM(D24:H24) -> 0
A25: 104 | B25: Tartalékok (K51311) | C25: =SUM(D25:H25) -> 0
A26: 105 | B26: Egyéb működési célú kiadások (K5) | C26: =SUM(D26:H26) -> 37472948 | D26: =D17+D18+D23+D24+D25 -> 37472948 | E26: =E17+E18+E23+E24+E25 -> 0 | F26: =F17+F18+F23+F24+F25 -> 0 | G26: =G17+G18+G23+G24+G25 -> 0 | H26: =H17+H18+H23+H24+H25 -> 0
A27: 106 | B27: Immateriális javak beszerzése, lét (K611) | C27: =SUM(D27:H27) -> 0
A28: 107 | B28: Ingatlanok beszerzése, létesítése (K621) | C28: =SUM(D28:H28) -> 0
A29: 108 | B29: Informatikai eszközök beszerzése, létesítése (K631) | C29: =SUM(D29:H29) -> 48819 | E29: 48819
A30: 109 | B30: Egyéb tárgyi eszközök beszerzése, létesítése (K641) | C30: =SUM(D30:H30) -> 1016236 | D30: 216608 | E30: 308938 | F30: 42069 | G30: 448621
A31: 110 | B31: Beruházási célú előzetesen felszámított általános forgalmi adó (K671) | C31: =SUM(D31:H31) -> 286935 | D31: 58484 | E31: 96594 | F31: 11358 | G31: 120499
A32: 111 | B32: Beruházások (K6) | C32: =SUM(D32:H32) -> 1351990 | D32: =SUM(D27:D31) -> 275092 | E32: =SUM(E27:E31) -> 454351 | F32: =SUM(F27:F31) -> 53427 | G32: =SUM(G27:G31) -> 569120 | H32: =SUM(H27:H31) -> 0
A33: 112 | B33: Ingatlanok felújítása (K711) | C33: =SUM(D33:H33) -> 576508 | D33: 576508
B34: Informatikai eszközök felújítása (K723) | C34: =SUM(D34:H34) -> 0
A35: 113 | B35: Egyéb tárgyi eszközök felújítása (K731) | C35: =SUM(D35:H35) -> 0
A36: 114 | B36: Felújítási célú előzetesen felszámított általános forgalmi adó (K741) | C36: =SUM(D36:H36) -> 155657 | D36: 155657
A37: 115 | B37: Felújítások (K7) | C37: =SUM(D37:H37) -> 732165 | D37: =SUM(D33:D36) -> 732165 | E37: =SUM(E33:E36) -> 0 | F37: =SUM(F33:F36) -> 0 | G37: =SUM(G33:G36) -> 0 | H37: =SUM(H33:H36) -> 0
A38: 116 | B38: Egyéb felhalmozási célú támogatások államháztartáson belülre (K84) | C38: =SUM(D38:H38) -> 0 | E38: =SUM(E39:E41) -> 0 | F38: =SUM(F39:F41) -> 0 | G38: =SUM(G39:G41) -> 0 | H38: =SUM(H39:H41) -> 0
A39: 119 | B39: Egyéb felhalmozási célú támogatás Áht-n kívülre (K89) | C39: =SUM(D39:H39) -> 0
A40: 118 | B40: ebből:önkormányzati többségi tulajdonú nem pénzügyi vállalkozások (K89122) | C40: =SUM(D40:H40) -> 0
A41: 117 | B41: ebből: egyéb civil szervezeteknek | C41: =SUM(D41:H41) -> 0
A42: 120 | B42: Egyéb felhalmozási célú kiadások (K8) | C42: =SUM(D42:H42) -> 0 | D42: =D38+D39 -> 0 | E42: =E38+E39 -> 0 | F42: =F38+F39 -> 0 | G42: =G38+G39 -> 0 | H42: =H38+H39 -> 0
A43: 121 | B43: Költségvetési kiadások (K1-K8) | C43: =SUM(D43:H43) -> 214052348 | D43: =D6+D7+D8+D16+D26+D32+D37+D42 -> 90591916 | E43: =E6+E7+E8+E16+E26+E32+E37+E42 -> 44626585 | F43: =F6+F7+F8+F16+F26+F32+F37+F42 -> 34242956 | G43: =G6+G7+G8+G16+G26+G32+G37+G42 -> 14200865 | H43: =H6+H7+H8+H16+H26+H32+H37+H42 -> 30390026
A44: 122 | B44: Államháztartáson belüli megelőlegezések visszafizetése (K914) | C44: =SUM(D44:H44) -> 19992222 | D44: 19992222
A45: 123 | B45: Központi, irányító szervi támogatások folyósítása (K915) | C45: =SUM(D45:H45) -> 82177581 | D45: 82177581
A46: 124 | B46: Belföldi finanszírozás kiadásai (K91) | C46: =SUM(D46:H46) -> 102169803 | D46: =SUM(D44:D45) -> 102169803 | E46: =SUM(E44:E45) -> 0 | F46: =SUM(F44:F45) -> 0 | G46: =SUM(G44:G45) -> 0 | H46: =SUM(H44:H45) -> 0
A47: 125 | B47: Finanszírozási kiadások (K9) | C47: =SUM(D47:H47) -> 102169803 | D47: =D46 -> 102169803 | E47: =E46 -> 0 | F47: =F46 -> 0 | G47: =G46 -> 0 | H47: =H46 -> 0
A48: 126 | B48: MINDÖSSZESEN: | C48: =SUM(D48:H48) -> 316222151 | D48: =D43+D47 -> 192761719 | E48: =E43+E47 -> 44626585 | F48: =F43+F47 -> 34242956 | G48: =G43+G47 -> 14200865 | H48: =H43+H47 -> 30390026

Sheet 3
D1: Berhida Város Önkormányzata | H1: 3. melléklet
C2: Költségvetési szervek engedélyezett létszám kerete | H2: 2/2020.(II. 28. ) rendelethez
E4: 2020. évi költségvetés
B5: A | C5: B | D5: C | E5: D | F5: E | G5: F | H5: G
A6: 1 | B6: BEVÉTELI JOGCÍMEK | C6: Süni | D6: Műv. Ház | E6: TESZ, közf. | F6: Köz Önk.Hiv. | G6: Önkormányzat | H6: ÖSSZESEN
A7: 2 | B7: Intézm.létszámkeret fő: | C7: 27 | D7: 8 | E7: 13 | F7: 28.38 | G7: 12 | H7: =SUM(C7:G7) -> 88.38
A8: 3 | B8: ideiglenes hat. Idejű létszámkeret | E8: 1 | F8: 1 | H8: =SUM(C8:G8) -> 2
A9: 4 | B9: + 6-8 órás közfoglalk létsz | E9: 120 | H9: =SUM(C9:G9) -> 120
A10: 5 | B10: LÉTSZÁMKERET összesen: | C10: =SUM(C7:C9) -> 27 | D10: =SUM(D7:D9) -> 8 | E10: =SUM(E7:E9) -> 134 | F10: =SUM(F7:F9) -> 29.38 | G10: =SUM(G7:G9) -> 12 | H10: =SUM(H7:H9) -> 210.38
B12: Önkormányzati létszámkeret | C12: a.) polgármester | F12: 1 | G12: fő
C13: b.) alpolgármester | F13: 1 | G13: fő
C14: c.) önkormányzati képviselők | F14: 7 | G14: fő
C15: d.) védőnők | F15: 3 | G15: fő
D16: Összesen: | F16: =SUM(F12:F15) -> 12 | G16: fő

Sheet 4.mell
C1: BERHIDA VÁROS ÖNKORMÁNYZATA
D2: 2020.évi MÉRLEGTERV | G2: 4. melléklet a 2/2020.(II.28.) rendelethez
C3: a működési és felhalmozási célú bevételi és kiadási előirányzatokról | G3: adatok Ft-ban
B5: A | C5: B | D5: C | E5: D | F5: E | G5: F
A6: 1 | B6: BEVÉTELI TERV | E6: KIADÁSI TERV
A7: 2 | B7: I. | C7: Működési célú bevételi terv | E7: I. | F7: Működési célú kiadási terv
A8: 3 | B8: a.) | C8: Műk c támogatások áht belülről | D8: ='[1]2'!C21 -> 662311084 | E8: a.) | F8: Személyi juttatások | G8: ='[1]7'!C6 -> 411199541
A9: 4 | B9: b.) | C9: Közhatalmi bevételek | D9: ='[1]2'!C40 -> 335946610 | E9: b.) | F9: Munkaadókat t járulékok | G9: ='[1]7'!C7 -> 72304994
A10: 5 | B10: c.) | C10: Működési bevételek | D10: ='[1]2'!C62 -> 35885928 | E10: c.) | F10: Dologi kiadások | G10: ='[1]7'!C8 -> 505114265
A11: 6 | B11: d.) | C11: Működési átvett pénzeszközök | E11: d.) | F11: Ellátottak pénzbeli jutt | G11: ='[1]7'!C16 -> 11500000
A12: 7 | B12: e.) | E12: e.) | F12: Egyéb műk c kiadások | G12: ='[1]7'!C26 -> 266071659
A13: 8 | B13: f.) | E13: f.)
A14: 9 | E14: g.)
A15: 10
A16: 11 | C16: I. Bevételek: | D16: =SUM(D8:D15) -> 1034143622 | F16: I. Kiadások együtt: | G16: =SUM(G8:G14) -> 1266190459 | H16: =D16-G16 -> -232046837
A17: 12 | F17: Működési célú bevételek: | G17: =D16 -> 1034143622
A18: 13 | F18: Működési egyenleg: | G18: =G16-G17 -> 232046837
A19: 14
A20: 15 | B20: II. | C20: Felhalmozási célú bevételi terv | E20: II. | F20: Felhalmozási célú kiadások:
A21: 16 | B21: 1.) | C21: Felhalmozási c támog. Áht-n bel | D21: ='[1]2'!C29 -> 850533503 | E21: 1.) | F21: Beruházások | G21: ='[1]7'!C32 -> 1050385570
A22: 17 | B22: 2.) | C22: Felhalmozási bevételek | D22: ='[1]2'!C65 -> 3000000 | E22: 2.) | F22: Felújítások | G22: ='[1]7'!C37 -> 186718854
A23: 18 | B23: 3.) | C23: Egyéb felhalmozási c átvett pe | D23: ='[1]2'!C71 -> 1255000 | E23: 3.) | F23: Egyéb felhalm c kiadások | G23: ='[1]7'!C42 -> 12016495
A24: 19 | B24: 4.) | E24: 4.)
A25: 20 | B25: 5.) | E25: 5.)
A26: 21 | B26: 6.)
A27: 22 | B27: 7.)
A28: 23 | B28: 8.)
A29: 24 | C29: II. Bevételek: | D29: =SUM(D21:D28) -> 854788503 | F29: II. Kiadások: | G29: =SUM(G21:G26) -> 1249120919 | H29: =D29-G29 -> -394332416
A30: 25 | F30: Felhalm.célú bevételek: | G30: =D29 -> 854788503
A31: 26 | F31: Felhalm. egyenleg: | G31: =G29-G30 -> 394332416
A32: 27
A33: 28 | C33: Bevételek összesen (I+II): | D33: =D16+D29 -> 1888932125 | F33: Kiadások összesen (I+II): | G33: =SUM(G16+G29) -> 2515311378 | H33: =D33-G33 -> -626379253
C34: iránytószervi támogatás | D34: ='[1]2'!C76 -> 556872454 | F34: iránítószervi támogatás | G34: ='[1]7'!C45 -> 556872454 | H34: =D34+D35+D37-G34-G35 -> 622742763
C35: kv-i mararvány | D35: ='[1]2'!C74 -> 582734985 | F35: Áht megelőleg visszafiz | G35: ='[1]7'!C44 -> 19992222
C36: Áht megelőlegezés | D36: ='[1]2'!C75 -> 3636490
C37: Államkötvény visszaváltás | D37: ='[1]2'!C73 -> 60000000
C38: Össz bevétel | D38: =SUM(D33:D37) -> 3092176054 | F38: Össz Kiadás | G38: =SUM(G33:G35) -> 3092176054

Sheet 5.mell.
B1: 2020. évi költségvetés
B2: Berhida Város Önkormányzata
B3: Közösségi szolgáltatások támogatása | C3: 5. melléklet a 2/2020.(II.28.) rendelethez
B5: A | C5: B | D5: adatok Ft-ban
A6: 1 | B6: I.) Sporttámogatás működési célú | C6: 2020. Év eredeti | D6: 2020. Év mód
A7: 2
A8: 3
A9: 4 | B9: Sporttámogatás összesen működési célú: | C9: 2000000 | D9: 2000000
A10: 5 | B10: II.) Egyéb támogatás összesen működési célú | C10: 1600000 | D10: 2317925
A11: 6
A12: 7 | B12: III.) Polgárőrség Berhida | C12: 500000 | D12: 500000
A13: 8 | B13: Támogatások összesen működési célú: | C13: =SUM(C9+C10+C12) -> 4100000 | D13: =SUM(D9+D10+D12) -> 4817925
B15: A támogatások összege a megállapodásokban foglaltak szerint használhatók fel.

Sheet 6.mell.
C1: Berhida Város Önkormányzata
C2: ellátottak pénzbeli juttatásai | F2: 6. melléklet
C3: 2020. évi költségvetés | F3: 2/2020.(II. 28.) rendelethez
F4: adatok Ft-ban
B5: A | C5: B | D5: C | E5: D | F5: E | G5: F
B6: Szociális jogcímek | C6: átruházott hatáskört gyakorló | E6: Képvis.test.jogk. | F6: Jegyzői jogk. | G6: Összes
C7: polgármester | D7: Humán Biz. | G7: előirányzat
A8: 1 | B8: Pénzbeli ellátások összesen | C8: =SUM(C9:C19) -> 3100000 | D8: =SUM(D9:D19) -> 7600000 | E8: =SUM(E9:E19) -> 800000 | F8: =SUM(F9:F19) -> 0 | G8: =SUM(G9:G19) -> 11500000
A9: 2 | B9: Települési támogatás
A10: 3 | B10: Nem intézményi ell. Ebből célonként
A11: 4 | B11: Gyermekvéd.támog. | D11: 600000 | G11: =SUM(C11:F11) -> 600000
A12: 5 | B12: Lakhatási támog | D12: 6000000 | G12: =SUM(C12:F12) -> 6000000
A13: 6 | B13: Temetési segély | C13: 1500000 | G13: =SUM(C13:F13) -> 1500000
A14: 7 | B14: közgyógy ellátás helyi megáll | C14: 700000 | G14: =SUM(C14:F14) -> 700000
A15: 8 | B15: Átmeneti segély | D15: 1000000 | G15: =SUM(C15:F15) -> 1000000
A16: 9 | B16: Köztemetés | C16: 900000 | G16: =SUM(C16:F16) -> 900000
A17: 10 | B17: Intézményi ell., oktatásban részt vevők | G17: =SUM(C17:F17) -> 0
A18: 11 | B18: Arany János ösztöndíj | E18: 250000 | G18: =SUM(C18:F18) -> 250000
A19: 12 | B19: érettségire jelentkezők regisztrációs díja | E19: 550000 | G19: =SUM(C19:F19) -> 550000
B21: Dologi kiadás | G21: =SUM(G22:G23) -> 1800000
B23: szociális tüzifa juttatás | G23: 1800000
B24: Egyéb központi kezelésű tám
B25: Bursa hungarica felsőoktatási pály tám | G25: 3000000
B27: MMINDÖSSZESEN | G27: =G8+G21+G25 -> 16300000

Sheet 7 mell
B1: Berhida Város Önkormányzatának
B2: 2020. évi költségvetés
A3: Az önkormányzat által adott közvetett támogatások, kedvezmények
C4: 7. melléklet
C5: 2/2020.(II. 28. ) rendelethez
C6: adatok ezer Ft-ban
A8: A | B8: B | C8: C | D8: D
A9: Sorszám | B9: Bevételi jogcím | C9: Kedvezmény nélkül | D9: Kedvezmények
C10: elérhető | D10: összege
C11: bevétel Ft | D11: Ft
A12: 1. | B12: 2. | C12: 3. | D12: 4.
A13: 1. | B13: házi gondozás térítési díj | C13: 1842340 | D13: 469107
A14: 2. | B14: idősek nappali ell térítési díj | C14: 6863480 | D14: 6350401
A15: 3. | B15: szoc. étkeztetés térítési díj | C15: 5272890 | D15: 3751624
A16: 4.
A17: 5.
A18: 6.
A19: 7 | B19: Összesen: | C19: =SUM(C13:C18) -> 13978710 | D19: =SUM(D13:D18) -> 10571132

Sheet 8.sz.mell
C2: 2020 évi költségvetés | I2: 8. melléklet
C3: Berhida Város Önkormányzata | I3: 2/2020.(II.28.) rendelethez
I4: adatok Ft-ban
A5: Több éves kihatással járó döntésekből származó kötelezettségek célok szerint, évenkénti bontásban
A6: Lejárat és eszközök szerinti bontásban (e/Ft-ban)
A8: A | B8: B | C8: C | D8: D | F8: E | G8: F | H8: G | I8: H | K8: I | M8: J
A9: Sorszám | C9: Kötelezett- | D9: Lejárat | F9: 2019
B10: Hitel jellege | C10: ségváll. | D10: éve | E10: összeg | F10: előtti | G10: 2019. | H10: 2020. | I10: 2021. | J10: 2022. | K10: 2022 | M10: Összesen
C11: éve | F11: kifizetés | L11: 2023 után
A12: 1 | B12: 2 | C12: 3 | D12: 4 | E12: 5 | F12: 6 | G12: 7 | H12: 8 | I12: 9 | K12: 10 | M12: 11
A13: 2 | B13: Működési célú
A14: 3
A15: 4
A16: 5
A17: 6
A18: 7 | B18: Felhalmozási célú
A19: 8 | B19: TOP 3.1.1-16 közlekedésfejlesztés (kerékpárút)pály | C19: 2018 | D19: 2020 | E19: 299539242 | F19: 2410008 | G19: 75060510 | H19: 222068724 | M19: =SUM(F19:L19) -> 299539242
A20: 9 | B20: KEHOP 2.2.1-15-00005 szennyvíztisztítótelep pály | C20: 2018 | D20: 2020 | E20: 993981370 | F20: 2206600 | G20: 530303358 | H20: 461471412 | M20: =SUM(F20:L20) -> 993981370
A21: 10 | B21: ÖNK VP6-7.2.1.4.1.3-17 közétkeztetés fejl. Süni eszközfejl.pály. | C21: 2018 | D21: 2020 | E21: 18925488 | H21: 18925488 | M21: =SUM(F21:L21) -> 18925488
A22: 11 | B22: ÖNK konyha épület felújítás Süni | C22: 2018 | D22: 2020 | E22: 37319002 | G22: 1930400 | H22: 35388602 | M22: =SUM(F22:L22) -> 37319002
A23: 12 | B23: ÖNK gyermekorvosi rendelő felúj pályázat | C23: 2018 | D23: 2020 | E23: 69476000 | F23: 1826000 | G23: 3000000 | H23: 64650000 | M23: =SUM(F23:L23) -> 69476000
A24: 13 | B24: VP Külterületi utas pályázat | C24: 2018 | D24: 2020 | E24: 33949380 | H24: 33949380 | M24: =SUM(F24:L24) -> 33949380
A25: 14 | B25: TOP-1.4.1-19 Bölcsőde fejlesztés | C25: 2019 | D25: 2022 | E25: 274069715 | H25: 18560705 | I25: 127754505 | J25: 127754505 | M25: =SUM(F25:L25) -> 274069715
A26: 15 | B26: Rendőrség felújítás BM | C26: 2019 | D26: 2020 | E26: 49827447 | G26: 1400750 | H26: 48426697 | M26: =SUM(F26:L26) -> 49827447
A27: 16 | B27: VP6-19.2.1-7-2-17 Fittnespark kial pály | C27: 2019 | D27: 2020 | E27: 13578162 | H27: 13578162 | M27: =SUM(F27:L27) -> 13578162
A28: 17 | M28: =SUM(F28:L28) -> 0
A29: 18 | B29: Összesen: (1+6) | E29: =SUM(E19:E28) -> 1790665806 | F29: =SUM(F19:F28) -> 6442608 | G29: =SUM(G19:G28) -> 611695018 | H29: =SUM(H19:H28) -> 917019170 | I29: =SUM(I19:I28) -> 127754505 | J29: =SUM(J19:J28) -> 127754505 | K29: =SUM(K19:K28) -> 0 | M29: =SUM(M19:M28) -> 1790665806

Sheet 9a
B1: Berhida Város Önkormányzata
B2: 2020 évi költségvetés | F2: 9/a. melléklet a 2/2020.(II.28.) rendelethez
F3: Ft-ban
B4: KÖTELEZŐ FELADATOK | C4: BEVÉTELEK
A5: Sor- szám | B5: Rovat megnevezése | C5: Eredeti előirányzat összesen | D5: Önkormányzat | E5: Közös Hivatal | F5: TESZ | G5: Kultúrház | H5: Süni
A6: 1 | B6: Helyi önkormányzatok működésének általános támogatása (B1111) | C6: ='[1]2'!C6-'[1]12'!C6-'[1]13'!C6 -> 159888434 | D6: ='[1]2'!D6-'[1]12'!D6-'[1]13'!D6 -> 159888434 | E6: ='[1]2'!E6-'[1]12'!E6-'[1]13'!E6 -> 0 | F6: ='[1]2'!F6-'[1]12'!F6-'[1]13'!F6 -> 0 | G6: ='[1]2'!G6-'[1]12'!G6-'[1]13'!G6 -> 0 | H6: ='[1]2'!H6-'[1]12'!H6-'[1]13'!H6 -> 0
A7: 2 | B7: Települési önkormányzatok egyes köznevelési feladatainak támogatása (B112) | C7: ='[1]2'!C7-'[1]12'!C7-'[1]13'!C7 -> 146232880 | D7: ='[1]2'!D7-'[1]12'!D7-'[1]13'!D7 -> 146232880 | E7: ='[1]2'!E7-'[1]12'!E7-'[1]13'!E7 -> 0 | F7: ='[1]2'!F7-'[1]12'!F7-'[1]13'!F7 -> 0 | G7: ='[1]2'!G7-'[1]12'!G7-'[1]13'!G7 -> 0 | H7: ='[1]2'!H7-'[1]12'!H7-'[1]13'!H7 -> 0
A8: 3 | B8: Települési önkormányzatok szociális, gyermekjóléti feladatainak támogatása (B1131) | C8: ='[1]2'!C8-'[1]12'!C8-'[1]13'!C8 -> 56533856 | D8: ='[1]2'!D8-'[1]12'!D8-'[1]13'!D8 -> 56533856 | E8: ='[1]2'!E8-'[1]12'!E8-'[1]13'!E8 -> 0 | F8: ='[1]2'!F8-'[1]12'!F8-'[1]13'!F8 -> 0 | G8: ='[1]2'!G8-'[1]12'!G8-'[1]13'!G8 -> 0 | H8: ='[1]2'!H8-'[1]12'!H8-'[1]13'!H8 -> 0
A9: 4 | B9: Tel.önkormányzat gyermekétkeztetési fel.tám( B 1132) | C9: ='[1]2'!C9-'[1]12'!C10-'[1]13'!C10 -> 0 | D9: ='[1]2'!D9-'[1]12'!D10-'[1]13'!D10 -> 64026699 | E9: ='[1]2'!E9-'[1]12'!E10-'[1]13'!E10 -> 0 | F9: ='[1]2'!F9-'[1]12'!F10-'[1]13'!F10 -> 0 | G9: ='[1]2'!G9-'[1]12'!G10-'[1]13'!G10 -> 0 | H9: ='[1]2'!H9-'[1]12'!H10-'[1]13'!H10 -> 0
A10: 5 | B10: Települési önkormányzatok kulturális feladatainak támogatása (B114) | C10: ='[1]2'!C10-'[1]12'!C10-'[1]13'!C10 -> 7402167 | D10: ='[1]2'!D10-'[1]12'!D10-'[1]13'!D10 -> 7402167 | E10: ='[1]2'!E10-'[1]12'!E10-'[1]13'!E10 -> 0 | F10: ='[1]2'!F10-'[1]12'!F10-'[1]13'!F10 -> 0 | G10: ='[1]2'!G10-'[1]12'!G10-'[1]13'!G10 -> 0 | H10: ='[1]2'!H10-'[1]12'!H10-'[1]13'!H10 -> 0
A11: 6 | B11: Működési célú költségvetési támogatások és kiegészítő támogatások (B115) | C11: ='[1]2'!C11-'[1]12'!C11-'[1]13'!C11 -> 0 | D11: ='[1]2'!D11-'[1]12'!D11-'[1]13'!D11 -> 0 | E11: ='[1]2'!E11-'[1]12'!E11-'[1]13'!E11 -> 0 | F11: ='[1]2'!F11-'[1]12'!F11-'[1]13'!F11 -> 0 | G11: ='[1]2'!G11-'[1]12'!G11-'[1]13'!G11 -> 0 | H11: ='[1]2'!H11-'[1]12'!H11-'[1]13'!H11 -> 0
A12: 7 | B12: Elszámolásból származó bevételek (B116) | C12: ='[1]2'!C12-'[1]12'!C12-'[1]13'!C12 -> 0 | D12: ='[1]2'!D12-'[1]12'!D12-'[1]13'!D12 -> 0 | E12: ='[1]2'!E12-'[1]12'!E12-'[1]13'!E12 -> 0 | F12: ='[1]2'!F12-'[1]12'!F12-'[1]13'!F12 -> 0 | G12: ='[1]2'!G12-'[1]12'!G12-'[1]13'!G12 -> 0 | H12: ='[1]2'!H12-'[1]12'!H12-'[1]13'!H12 -> 0
A13: 8 | B13: Önkormányzatok működési támogatásai (B11) | C13: ='[1]2'!C13-'[1]12'!C13-'[1]13'!C13 -> 434084036 | D13: ='[1]2'!D13-'[1]12'!D13-'[1]13'!D13 -> 434084036 | E13: ='[1]2'!E13-'[1]12'!E13-'[1]13'!E13 -> 0 | F13: ='[1]2'!F13-'[1]12'!F13-'[1]13'!F13 -> 0 | G13: ='[1]2'!G13-'[1]12'!G13-'[1]13'!G13 -> 0 | H13: ='[1]2'!H13-'[1]12'!H13-'[1]13'!H13 -> 0
A14: 9 | B14: Elvonások és befizetések bevételei B12 | C14: ='[1]2'!C14-'[1]12'!C14-'[1]13'!C14 -> 0 | D14: ='[1]2'!D14-'[1]12'!D14-'[1]13'!D14 -> 0 | E14: ='[1]2'!E14-'[1]12'!E14-'[1]13'!E14 -> 0 | F14: ='[1]2'!F14-'[1]12'!F14-'[1]13'!F14 -> 0 | G14: ='[1]2'!G14-'[1]12'!G14-'[1]13'!G14 -> 0 | H14: ='[1]2'!H14-'[1]12'!H14-'[1]13'!H14 -> 0
A15: 10 | B15: Egyéb működési célú támogatások bevételei államháztartáson belülről (B16) | C15: ='[1]2'!C15-'[1]12'!C15-'[1]13'!C15 -> 228227048 | D15: ='[1]2'!D15-'[1]12'!D15-'[1]13'!D15 -> 189226276 | E15: ='[1]2'!E15-'[1]12'!E15-'[1]13'!E15 -> 0 | F15: ='[1]2'!F15-'[1]12'!F15-'[1]13'!F15 -> 39000772 | G15: ='[1]2'!G15-'[1]12'!G15-'[1]13'!G15 -> 0 | H15: ='[1]2'!H15-'[1]12'!H15-'[1]13'!H15 -> 0
A16: 11 | B16: ebből: egyéb központi kezelésű előirányzatok (B1612 | C16: ='[1]2'!C16-'[1]12'!C16-'[1]13'!C16 -> 7249143 | D16: ='[1]2'!D16-'[1]12'!D16-'[1]13'!D16 -> 7249143 | E16: ='[1]2'!E16-'[1]12'!E16-'[1]13'!E16 -> 0 | F16: ='[1]2'!F16-'[1]12'!F16-'[1]13'!F16 -> 0 | G16: ='[1]2'!G16-'[1]12'!G16-'[1]13'!G16 -> 0 | H16: ='[1]2'!H16-'[1]12'!H16-'[1]13'!H16 -> 0
A17: 12 | B17: ebből: fejezeti kezelésű EU B16 | C17: ='[1]2'!C17-'[1]12'!C17-'[1]13'!C17 -> 150463717 | D17: ='[1]2'!D17-'[1]12'!D17-'[1]13'!D17 -> 150463717 | E17: ='[1]2'!E17-'[1]12'!E17-'[1]13'!E17 -> 0 | F17: ='[1]2'!F17-'[1]12'!F17-'[1]13'!F17 -> 0 | G17: ='[1]2'!G17-'[1]12'!G17-'[1]13'!G17 -> 0 | H17: ='[1]2'!H17-'[1]12'!H17-'[1]13'!H17 -> 0
A18: 13 | B18: ebből: társadalombiztosítás pénzügyi alapjai (B1614 | C18: ='[1]2'!C18-'[1]12'!C18-'[1]13'!C18 -> 30853200 | D18: ='[1]2'!D18-'[1]12'!D18-'[1]13'!D18 -> 30853200 | E18: ='[1]2'!E18-'[1]12'!E18-'[1]13'!E18 -> 0 | F18: ='[1]2'!F18-'[1]12'!F18-'[1]13'!F18 -> 0 | G18: ='[1]2'!G18-'[1]12'!G18-'[1]13'!G18 -> 0 | H18: ='[1]2'!H18-'[1]12'!H18-'[1]13'!H18 -> 0
A19: 14 | B19: ebből: elkülönített állami pénzal (B1615 | C19: ='[1]2'!C19-'[1]12'!C19-'[1]13'!C19 -> 39000772 | D19: ='[1]2'!D19-'[1]12'!D19-'[1]13'!D19 -> 0 | E19: ='[1]2'!E19-'[1]12'!E19-'[1]13'!E19 -> 0 | F19: ='[1]2'!F19-'[1]12'!F19-'[1]13'!F19 -> 39000772 | G19: ='[1]2'!G19-'[1]12'!G19-'[1]13'!G19 -> 0 | H19: ='[1]2'!H19-'[1]12'!H19-'[1]13'!H19 -> 0
A20: 15 | B20: ebből: önkormányzat és kv-i szerveik (B 1616 | C20: ='[1]2'!C20-'[1]12'!C20-'[1]13'!C20 -> 660216 | D20: ='[1]2'!D20-'[1]12'!D20-'[1]13'!D20 -> 660216 | E20: ='[1]2'!E20-'[1]12'!E20-'[1]13'!E20 -> 0 | F20: ='[1]2'!F20-'[1]12'!F20-'[1]13'!F20 -> 0 | G20: ='[1]2'!G20-'[1]12'!G20-'[1]13'!G20 -> 0 | H20: ='[1]2'!H20-'[1]12'!H20-'[1]13'!H20 -> 0
A21: 16 | B21: Működési célú támogatások államháztartáson belülről (B1) | C21: ='[1]2'!C21-'[1]12'!C21-'[1]13'!C21 -> 662311084 | D21: ='[1]2'!D21-'[1]12'!D21-'[1]13'!D21 -> 623310312 | E21: ='[1]2'!E21-'[1]12'!E21-'[1]13'!E21 -> 0 | F21: ='[1]2'!F21-'[1]12'!F21-'[1]13'!F21 -> 39000772 | G21: ='[1]2'!G21-'[1]12'!G21-'[1]13'!G21 -> 0 | H21: ='[1]2'!H21-'[1]12'!H21-'[1]13'!H21 -> 0
... A79: 74 | B79: MINDÖSSZESEN: | C79: ='[1]2'!C79-'[1]12'!C79-'[1]13'!C79 -> 3034576768 | D79: ='[1]2'!D79-'[1]12'!D79-'[1]13'!D79 -> 2432298404 | E79: ='[1]2'!E79-'[1]12'!E79-'[1]13'!E79 -> 211789225 | F79: ='[1]2'!F79-'[1]12'!F79-'[1]13'!F79 -> 175962529 | G79: ='[1]2'!G79-'[1]12'!G79-'[1]13'!G79 -> 65593266 | H79: ='[1]2'!H79-'[1]12'!H79-'[1]13'!H79 -> 148933344
A80: 75 | B80: Személyi juttatások (K1) | C80: ='[1]7'!C6-'[1]12'!C80-'[1]13'!C80 -> 399910395 | D80: ='[1]7'!D6-'[1]12'!D80-'[1]13'!D80 -> 51560571 | E80: ='[1]7'!E6-'[1]12'!E80-'[1]13'!E80 -> 144241706 | F80: ='[1]7'!F6-'[1]12'!F80-'[1]13'!F80 -> 91322900 | G80: ='[1]7'!G6-'[1]12'!G80-'[1]13'!G80 -> 22815313 | H80: ='[1]7'!H6-'[1]12'!H80-'[1]13'!H80 -> 89969905
A81: 76 | B81: Munkaadókat terhelő járulékok és szociális hozzájárulási adó (K2) | C81: ='[1]7'!C7-'[1]12'!C81-'[1]13'!C81 -> 70284783 | D81: ='[1]7'!D7-'[1]12'!D81-'[1]13'!D81 -> 10227003 | E81: ='[1]7'!E7-'[1]12'!E81-'[1]13'!E81 -> 27871619 | F81: ='[1]7'!F7-'[1]12'!F81-'[1]13'!F81 -> 12288159 | G81: ='[1]7'!G7-'[1]12'!G81-'[1]13'!G81 -> 4029669 | H81: ='[1]7'!H7-'[1]12'!H81-'[1]13'!H81 -> 15868333
A82: 77 | B82: Dologi kiadások (K3) | C82: ='[1]7'!C8-'[1]12'!C82-'[1]13'!C82 -> 482124123 | D82: ='[1]7'!D8-'[1]12'!D82-'[1]13'!D82 -> 303373531 | E82: ='[1]7'!E8-'[1]12'!E82-'[1]13'!E82 -> 33325900 | F82: ='[1]7'!F8-'[1]12'!F82-'[1]13'!F82 -> 67698370 | G82: ='[1]7'!G8-'[1]12'!G82-'[1]13'!G82 -> 35551966 | H82: ='[1]7'!H8-'[1]12'!H82-'[1]13'!H82 -> 42174356
A83: 78 | B83: Családi támogatások (K42) | C83: ='[1]7'!C9-'[1]12'!C83-'[1]13'!C83 -> 0 | D83: ='[1]7'!D9-'[1]12'!D83-'[1]13'!D83 -> 0 | E83: ='[1]7'!E9-'[1]12'!E83-'[1]13'!E83 -> 0 | F83: ='[1]7'!F9-'[1]12'!F83-'[1]13'!F83 -> 0 | G83: ='[1]7'!G9-'[1]12'!G83-'[1]13'!G83 -> 0 | H83: ='[1]7'!H9-'[1]12'!H83-'[1]13'!H83 -> 0
A84: 79 | B84: ebből: az egyéb pénzbeli és természetbeni gyermekvédelmi támogatások (K42132) | C84: ='[1]7'!C10-'[1]12'!C84-'[1]13'!C84 -> 0 | D84: ='[1]7'!D10-'[1]12'!D84-'[1]13'!D84 -> 0 | E84: ='[1]7'!E10-'[1]12'!E84-'[1]13'!E84 -> 0 | F84: ='[1]7'!F10-'[1]12'!F84-'[1]13'!F84 -> 0 | G84: ='[1]7'!G10-'[1]12'!G84-'[1]13'!G84 -> 0 | H84: ='[1]7'!H10-'[1]12'!H84-'[1]13'!H84 -> 0
A85: 80 | B85: Intézményi ellátottak pénzbeli juttatásai (K47) | C85: ='[1]7'!C11-'[1]12'!C85-'[1]13'!C85 -> 800000 | D85: ='[1]7'!D11-'[1]12'!D85-'[1]13'!D85 -> 800000 | E85: ='[1]7'!E11-'[1]12'!E85-'[1]13'!E85 -> 0 | F85: ='[1]7'!F11-'[1]12'!F85-'[1]13'!F85 -> 0 | G85: ='[1]7'!G11-'[1]12'!G85-'[1]13'!G85 -> 0 | H85: ='[1]7'!H11-'[1]12'!H85-'[1]13'!H85 -> 0
A86: 81 | B86: ebből: oktatásban résztvevők pénzbeli juttatásai (K471) | C86: ='[1]7'!C12-'[1]12'!C86-'[1]13'!C86 -> 800000 | D86: ='[1]7'!D12-'[1]12'!D86-'[1]13'!D86 -> 800000 | E86: ='[1]7'!E12-'[1]12'!E86-'[1]13'!E86 -> 0 | F86: ='[1]7'!F12-'[1]12'!F86-'[1]13'!F86 -> 0 | G86: ='[1]7'!G12-'[1]12'!G86-'[1]13'!G86 -> 0 | H86: ='[1]7'!H12-'[1]12'!H86-'[1]13'!H86 -> 0
A87: 82 | B87: Egyéb nem intézményi ellátások (K48) | C87: ='[1]7'!C13-'[1]12'!C87-'[1]13'!C87 -> 10700000 | D87: ='[1]7'!D13-'[1]12'!D87-'[1]13'!D87 -> 10700000 | E87: ='[1]7'!E13-'[1]12'!E87-'[1]13'!E87 -> 0 | F87: ='[1]7'!F13-'[1]12'!F87-'[1]13'!F87 -> 0 | G87: ='[1]7'!G13-'[1]12'!G87-'[1]13'!G87 -> 0 | H87: ='[1]7'!H13-'[1]12'!H87-'[1]13'!H87 -> 0
A88: 83 | B88: ebből: köztemetés [Szoctv. 48.§] (K48123) | C88: ='[1]7'!C14-'[1]12'!C88-'[1]13'!C88 -> 900000 | D88: ='[1]7'!D14-'[1]12'!D88-'[1]13'!D88 -> 900000 | E88: ='[1]7'!E14-'[1]12'!E88-'[1]13'!E88 -> 0 | F88: ='[1]7'!F14-'[1]12'!F88-'[1]13'!F88 -> 0 | G88: ='[1]7'!G14-'[1]12'!G88-'[1]13'!G88 -> 0 | H88: ='[1]7'!H14-'[1]12'!H88-'[1]13'!H88 -> 0
A89: 84 | B89: ebből: települési támogatás [Szoctv. 45. §], (K48122) | C89: ='[1]7'!C15-'[1]12'!C89-'[1]13'!C89 -> 9800000 | D89: ='[1]7'!D15-'[1]12'!D89-'[1]13'!D89 -> 9800000 | E89: ='[1]7'!E15-'[1]12'!E89-'[1]13'!E89 -> 0 | F89: ='[1]7'!F15-'[1]12'!F89-'[1]13'!F89 -> 0 | G89: ='[1]7'!G15-'[1]12'!G89-'[1]13'!G89 -> 0 | H89: ='[1]7'!H15-'[1]12'!H89-'[1]13'!H89 -> 0
A90: 85 | B90: Ellátottak pénzbeli juttatásai (K4) | C90: ='[1]7'!C16-'[1]12'!C90-'[1]13'!C90 -> 11500000 | D90: ='[1]7'!D16-'[1]12'!D90-'[1]13'!D90 -> 11500000 | E90: ='[1]7'!E16-'[1]12'!E90-'[1]13'!E90 -> 0 | F90: ='[1]7'!F16-'[1]12'!F90-'[1]13'!F90 -> 0 | G90: ='[1]7'!G16-'[1]12'!G90-'[1]13'!G90 -> 0 | H90: ='[1]7'!H16-'[1]12'!H90-'[1]13'!H90 -> 0
A91: 86 | B91: Elvonások és befizetések (K5023) | C91: ='[1]7'!C17-'[1]12'!C91-'[1]13'!C91 -> 0 | D91: ='[1]7'!D17-'[1]12'!D91-'[1]13'!D91 -> 0 | E91: ='[1]7'!E17-'[1]12'!E91-'[1]13'!E91 -> 0 | F91: ='[1]7'!F17-'[1]12'!F91-'[1]13'!F91 -> 0 | G91: ='[1]7'!G17-'[1]12'!G91-'[1]13'!G91 -> 0 | H91: ='[1]7'!H17-'[1]12'!H91-'[1]13'!H91 -> 0
... A111: 106 | B111: Felújítások (K7) | C111: ='[1]7'!C37-'[1]12'!C111-'[1]13'!C111 -> 182456509 | D111: ='[1]7'!D37-'[1]12'!D111-'[1]13'!D111 -> 182520009 | E111: ='[1]7'!E37-'[1]12'!E111-'[1]13'!E111 -> 254000 | F111: ='[1]7'!F37-'[1]12'!F111-'[1]13'!F111 -> -317500 | G111: ='[1]7'!G37-'[1]12'!G111-'[1]13'!G111 -> 0 | H111: ='[1]7'!H37-'[1]12'!H111-'[1]13'!H111 -> 0
A112: 107 | B112: Egyéb felhalmozási célú támogatások államháztartáson belülre (K84) | C112: =SUM(D112:H112) -> 7516495 | D112: 7516495 | E112: ='[1]7'!E38-'[1]12'!E112-'[1]13'!E112 -> 0 | F112: ='[1]7'!F38-'[1]12'!F112-'[1]13'!F112 -> 0 | G112: ='[1]7'!G38-'[1]12'!G112-'[1]13'!G112 -> 0 | H112: ='[1]7'!H38-'[1]12'!H112-'[1]13'!H112 -> 0
A113: 108 | B113: Egyéb felhalmozási célú támogatás Áht-n kívülre (K89) | C113: =SUM(D113:H113) -> 12000000 | D113: =SUM(D114:D115) -> 12000000 | E113: ='[1]7'!E39-'[1]12'!E113-'[1]13'!E113 -> 0 | F113: ='[1]7'!F39-'[1]12'!F113-'[1]13'!F113 -> 0 | G113: ='[1]7'!G39-'[1]12'!G113-'[1]13'!G113 -> 0 | H113: ='[1]7'!H39-'[1]12'!H113-'[1]13'!H113 -> 0
A114: 109 | B114: ebből:önkormányzati többségi tulajdonú nem pénzügyi vállalkozások (K89122) | C114: =SUM(D114:H114) -> 7500000 | D114: 7500000 | E114: ='[1]7'!E40-'[1]12'!E114-'[1]13'!E114 -> 0 | F114: ='[1]7'!F40-'[1]12'!F114-'[1]13'!F114 -> 0 | G114: ='[1]7'!G40-'[1]12'!G114-'[1]13'!G114 -> 0 | H114: ='[1]7'!H40-'[1]12'!H114-'[1]13'!H114 -> 0
A115: 110 | B115: ebből: egyéb civil szervezeteknek | C115: ='[1]7'!C41-'[1]12'!C115-'[1]13'!C115 -> 4500000 | D115: ='[1]7'!D41-'[1]12'!D115-'[1]13'!D115 -> 4500000 | E115: ='[1]7'!E41-'[1]12'!E115-'[1]13'!E115 -> 0 | F115: ='[1]7'!F41-'[1]12'!F115-'[1]13'!F115 -> 0 | G115: ='[1]7'!G41-'[1]12'!G115-'[1]13'!G115 -> 0 | H115: ='[1]7'!H41-'[1]12'!H115-'[1]13'!H115 -> 0
A116: 111 | B116: Egyéb felhalmozási célú kiadások (K8) | C116: ='[1]7'!C42-'[1]12'!C116-'[1]13'!C116 -> 12016495 | D116: ='[1]7'!D42-'[1]12'!D116-'[1]13'!D116 -> 12016495 | E116: ='[1]7'!E42-'[1]12'!E116-'[1]13'!E116 -> 0 | F116: ='[1]7'!F42-'[1]12'!F116-'[1]13'!F116 -> 0 | G116: ='[1]7'!G42-'[1]12'!G116-'[1]13'!G116 -> 0 | H116: ='[1]7'!H42-'[1]12'!H116-'[1]13'!H116 -> 0
A117: 112 | B117: Költségvetési kiadások (K1-K8) | C117: ='[1]7'!C43-'[1]12'!C117-'[1]13'!C117 -> 2470849534 | D117: ='[1]7'!D43-'[1]12'!D117-'[1]13'!D117 -> 1868571170 | E117: ='[1]7'!E43-'[1]12'!E117-'[1]13'!E117 -> 211789225 | F117: ='[1]7'!F43-'[1]12'!F117-'[1]13'!F117 -> 175962529 | G117: ='[1]7'!G43-'[1]12'!G117-'[1]13'!G117 -> 65593266 | H117: ='[1]7'!H43-'[1]12'!H117-'[1]13'!H117 -> 148933344
A118: 113 | B118: Államháztartáson belüli megelőlegezések visszafizetése (K914) | C118: ='[1]7'!C44-'[1]12'!C118-'[1]13'!C118 -> 19992222 | D118: ='[1]7'!D44-'[1]12'!D118-'[1]13'!D118 -> 19992222 | E118: ='[1]7'!E44-'[1]12'!E118-'[1]13'!E118 -> 0 | F118: ='[1]7'!F44-'[1]12'!F118-'[1]13'!F118 -> 0 | G118: ='[1]7'!G44-'[1]12'!G118-'[1]13'!G118 -> 0 | H118: ='[1]7'!H44-'[1]12'!H118-'[1]13'!H118 -> 0
A119: 114 | B119: Központi, irányító szervi támogatások folyósítása (K915) | C119: ='[1]7'!C45-'[1]12'!C119-'[1]13'!C119 -> 539790167 | D119: ='[1]7'!D45-'[1]12'!D119-'[1]13'!D119 -> 539790167 | E119: ='[1]7'!E45-'[1]12'!E119-'[1]13'!E119 -> 0 | F119: ='[1]7'!F45-'[1]12'!F119-'[1]13'!F119 -> 0 | G119: ='[1]7'!G45-'[1]12'!G119-'[1]13'!G119 -> 0 | H119: ='[1]7'!H45-'[1]12'!H119-'[1]13'!H119 -> 0
A120: 115 | B120: Belföldi finanszírozás kiadásai (K91) | C120: ='[1]7'!C46-'[1]12'!C120-'[1]13'!C120 -> 559782389 | D120: ='[1]7'!D46-'[1]12'!D120-'[1]13'!D120 -> 559782389 | E120: ='[1]7'!E46-'[1]12'!E120-'[1]13'!E120 -> 0 | F120: ='[1]7'!F46-'[1]12'!F120-'[1]13'!F120 -> 0 | G120: ='[1]7'!G46-'[1]12'!G120-'[1]13'!G120 -> 0 | H120: ='[1]7'!H46-'[1]12'!H120-'[1]13'!H120 -> 0
A121: 116 | B121: Finanszírozási kiadások (K9) | C121: ='[1]7'!C47-'[1]12'!C121-'[1]13'!C121 -> 559782389 | D121: ='[1]7'!D47-'[1]12'!D121-'[1]13'!D121 -> 559782389 | E121: ='[1]7'!E47-'[1]12'!E121-'[1]13'!E121 -> 0 | F121: ='[1]7'!F47-'[1]12'!F121-'[1]13'!F121 -> 0 | G121: ='[1]7'!G47-'[1]12'!G121-'[1]13'!G121 -> 0 | H121: ='[1]7'!H47-'[1]12'!H121-'[1]13'!H121 -> 0
A122: 117 | B122: MINDÖSSZESEN: | C122: ='[1]7'!C48-'[1]12'!C122-'[1]13'!C122 -> 3030631923 | D122: ='[1]7'!D48-'[1]12'!D122-'[1]13'!D122 -> 2428353559 | E122: ='[1]7'!E48-'[1]12'!E122-'[1]13'!E122 -> 211789225 | F122: ='[1]7'!F48-'[1]12'!F122-'[1]13'!F122 -> 175962529 | G122: ='[1]7'!G48-'[1]12'!G122-'[1]13'!G122 -> 65593266 | H122: ='[1]7'!H48-'[1]12'!H122-'[1]13'!H122 -> 148933344

Sheet 9b
B1: Berhida Város Önkormányzata
B2: 2020 évi költségvetés | F2: 9/b melléklet a 2/2020.(II.28.) rendelethez
F3: Ft-ban
B4: ÖNKÉNT VÁLLALT FELADATOK | C4: BEVÉTELEK
A5: Sor- szám | B5: Rovat megnevezése | C5: Eredeti előirányzat összesen | D5: Önkormányzat | E5: Közös Hivatal | F5: TESZ | G5: Kultúrház | H5: Süni
A6: 1 | B6: Helyi önkormányzatok működésének általános támogatása (B1111) | C6: =SUM(D6:H6) -> 0
A7: 2 | B7: Települési önkormányzatok egyes köznevelési feladatainak támogatása (B112) | C7: =SUM(D7:H7) -> 0
A8: 3 | B8: Települési önkormányzatok szociális, gyermekjóléti feladatainak támogatása (B1131) | C8: =SUM(D8:H8) -> 0
A9: 4 | B9: Tel.önkormányzat gyermekétkeztetési fel.tám( B 1132)
A10: 5 | B10: Települési önkormányzatok kulturális feladatainak támogatása (B114) | C10: =SUM(D10:H10) -> 0
A11: 6 | B11: Működési célú költségvetési támogatások és kiegészítő támogatások (B115) | C11: =SUM(D11:H11) -> 0
A12: 7 | B12: Elszámolásból származó bevételek (B116) | C12: =SUM(D12:H12) -> 0
A13: 8 | B13: Önkormányzatok működési támogatásai (B11) | C13: =SUM(D13:H13) -> 0 | D13: =SUM(D6:D12) -> 0 | E13: =SUM(E6:E12) -> 0 | F13: =SUM(F6:F12) -> 0 | G13: =SUM(G6:G12) -> 0 | H13: =SUM(H6:H12) -> 0
A14: 9 | B14: Elvonások és befizetések bevételei B12 | C14: =SUM(D14:H14) -> 0
A15: 10 | B15: Egyéb működési célú támogatások bevételei államháztartáson belülről (B16) | C15: =SUM(D15:H15) -> 0 | D15: =SUM(D16:D20) -> 0 | E15: =SUM(E16:E20) -> 0 | F15: =SUM(F16:F20) -> 0 | G15: =SUM(G16:G20) -> 0 | H15: =SUM(H16:H20) -> 0
A16: 11 | B16: ebből: egyéb központi kezelésű előirányzatok (B1612 | C16: =SUM(D16:H16) -> 0
A17: 12 | B17: ebből: fejezeti kezelésű EU B16 | C17: =SUM(D17:H17) -> 0
A18: 13 | B18: ebből: társadalombiztosítás pénzügyi alapjai (B1614 | C18: =SUM(D18:H18) -> 0
A19: 14 | B19: ebből: elkülönített állami pénzal (B1615 | C19: =SUM(D19:H19) -> 0
A20: 15 | B20: ebből: önkormányzat és kv-i szerveik (B 1616 | C20: =SUM(D20:H20) -> 0
A21: 16 | B21: Működési célú támogatások államháztartáson belülről (B1) | C21: =SUM(D21:H21) -> 0 | D21: =D13+D15 -> 0 | E21: =E13+E15 -> 0 | F21: =F13+F15 -> 0 | G21: =G13+G15 -> 0 | H21: =H13+H15 -> 0
A22: 17 | B22: Felhalmozási célú önkormányzati támogatások (B21) | C22: =SUM(D22:H22) -> 0 | D22: =D23 -> 0 | E22: =E23 -> 0 | F22: =F23 -> 0 | G22: =G23 -> 0 | H22: =H23 -> 0
A23: 18 | B23: ebből: egyéb központi felhalmozási c tám B 2119 | C23: =SUM(D23:H23) -> 0
A24: 19 | B24: Egyéb felhalmozási célú tám áht belülről B 25 | C24: =SUM(D24:H24) -> 0 | D24: =SUM(D25:D28) -> 0 | E24: =SUM(E25:E28) -> 0 | F24: =SUM(F25:F28) -> 0 | G24: =SUM(G25:G28) -> 0 | H24: =SUM(H25:H28) -> 0
A25: 20 | B25: ebből egyéb központi fc tám (B2512 | C25: =SUM(D25:H25) -> 0
A26: 21 | B26: ebből: egyéb fejezeti kez EU fc (B25 | C26: =SUM(D26:H26) -> 0
A27: 22 | B27: ebből: elkülönített állami pénzal fc (B2515 | C27: =SUM(D27:H27) -> 0
A28: 23 | B28: ebből: önkorm és kv-i szervek fc tám (B2516 | C28: =SUM(D28:H28) -> 0
A29: 24 | B29: Felhalmozási célú támogatások államháztartáson belülről (B2) | C29: =SUM(D29:H29) -> 0 | D29: =D22+D24 -> 0 | E29: =E22+E24 -> 0 | F29: =F22+F24 -> 0 | G29: =G22+G24 -> 0 | H29: =H22+H24 -> 0
A30: 25 | B30: Vagyoni tipusú adók (B34) | C30: =SUM(D30:H30) -> 381500 | D30: =SUM(D31:D32) -> 381500 | E30: =SUM(E31:E32) -> 0 | F30: =SUM(F31:F32) -> 0 | G30: =SUM(G31:G32) -> 0 | H30: =SUM(H31:H32) -> 0
A31: 26 | B31: ebből: építményadó (B34111) | C31: =SUM(D31:H31) -> 381500 | D31: 381500
A32: 27 | B32: ebből: magánszemélyek kommunális adója (B34114) | C32: =SUM(D32:H32) -> 0
A33: 28 | B33: Értékesítési és forgalmi adók iparűzési adó (B351121) | C33: =SUM(D33:H33) -> 10689687 | D33: 10689687
A34: 29 | B34: Gépjárműadó (B3541) | C34: =SUM(D34:H34) -> 0
A35: 30 | B35: Egyéb áruhasználati és szolgáltatási adók, környezetterh díj, talajterhelési díj (B355) | C35: =SUM(D35:H35) -> 0
A36: 31 | B36: Termékek és szolgáltatások adói (B35) | C36: =SUM(D36:H36) -> 10689687 | D36: =SUM(D33:D35) -> 10689687 | E36: =SUM(E33:E35) -> 0 | F36: =SUM(F33:F35) -> 0 | G36: =SUM(G33:G35) -> 0 | H36: =SUM(H33:H35) -> 0
A37: 32 | B37: Egyéb közhatalmi bevételek (B36) | C37: =SUM(D37:H37) -> 0 | D37: =SUM(D38:D39) -> 0 | E37: =SUM(E38:E39) -> 0 | F37: =SUM(F38:F39) -> 0 | G37: =SUM(G38:G39) -> 0 | H37: =SUM(H38:H39) -> 0
A38: 33 | B38: ebből: szabálysértési pénz- és helyszíni bírság és a közlekedési szabályszegések után kiszabott közigazgatási bírság helyi önkormányzatot megillető része (B361225 köv) | C38: =SUM(D38:H38) -> 0
A39: 34 | B39: ebből: egyéb bírság (B361229 köv) | C39: =SUM(D39:H39) -> 0
A40: 35 | B40: Közhatalmi bevételek (B3) | C40: =SUM(D40:H40) -> 11071187 | D40: =D30+D36+D37 -> 11071187 | E40: =E30+E36+E37 -> 0 | F40: =F30+F36+F37 -> 0 | G40: =G30+G36+G37 -> 0 | H40: =H30+H36+H37 -> 0
A41: 36 | B41: Készlet értékesítés előirányzata B 40111 | C41: =SUM(D41:H41) -> 0
A42: 37 | B42: Szolgáltatások (B4021) | C42: =SUM(D42:H42) -> 0 | D42: =SUM(D43:D46) -> 0 | E42: =SUM(E43:E46) -> 0 | F42: =SUM(F43:F46) -> 0 | G42: =SUM(G43:G46) -> 0 | H42: =SUM(H43:H46) -> 0
A43: 38 | B43: ebből étkeztetés - kivéve ell, hallgatók térítési díj B40211 | C43: =SUM(D43:H43) -> 0
A44: 39 | B44: ebből: bérleti díj bev (B40212) | C44: =SUM(D44:H44) -> 0
A45: 40 | B45: ebből: alkalmazottak térítési díj (B40213) | C45: =SUM(D45:H45) -> 0
A46: 41 | B46: ebből: egyéb szolgáltatás (40215) | C46: =SUM(D46:H46) -> 0
A47: 42 | B47: Közvetített szolgáltatások ellenértéke (B403) | C47: =SUM(D47:H47) -> 1550000 | D47: =SUM(D48:D49) -> 0 | E47: =SUM(E48:E49) -> 0 | F47: =SUM(F48:F49) -> 1550000 | G47: =SUM(G48:G49) -> 0 | H47: =SUM(H48:H49) -> 0
A48: 43 | B48: ebből: államháztartáson belül (B40311) | C48: =SUM(D48:H48) -> 50000 | F48: 50000
A49: 44 | B49: ebből: államháztartáson kívül (B40312) | C49: =SUM(D49:H49) -> 1500000 | F49: 1500000
A50: 45 | B50: Tulajdonosi bevételek (B4041) | C50: =SUM(D50:H50) -> 9610000 | D50: =SUM(D51:D54) -> 9610000 | E50: =SUM(E51:E54) -> 0 | F50: =SUM(F51:F54) -> 0 | G50: =SUM(G51:G54) -> 0 | H50: =SUM(H51:H54) -> 0
A51: 46 | B51: ebből: önkormányzati vagyon üzemeltetéséből származó bevétel (B404131) | C51: =SUM(D51:H51) -> 0
A52: 47 | B52: ebből: önkormányzati vagyon vagyonkezelésbe adásából származó bevétel (B404133) | C52: =SUM(D52:H52) -> 0
A53: 48 | B53: ebből: egy önk-i bérleti- és lízing díj bevételek (404134) | C53: =SUM(D53:H53) -> 9100000 | D53: 9100000
A54: 49 | B54: ebből: egy önk tulajdonosi bevétel (B404139) | C54: =SUM(D54:H54) -> 510000 | D54: 510000
A55: 50 | B55: Ellátási díjak (B4051) | C55: =SUM(D55:H55) -> 0
A56: 51 | B56: Kiszámlázott általános forgalmi adó (B4061) | C56: =SUM(D56:H56) -> 3823200 | D56: 3404700 | F56: 418500
A57: 52 | B57: Általános forgalmi adó visszatérítése (B4071) | C57: =SUM(D57:H57) -> 0
A58: 53 | B58: Egyéb kapott (járó) kamatok és kamatjellegű bevételek ÁHK(B40811) | C58: =SUM(D58:H58) -> 0
A59: 54 | B59: Egyéb pénzügyi műveletek bevételei (B4091) | C59: =SUM(D59:H59) -> 0
A60: 55 | B60: Biztosító által fizetett kártérítés (B4101) | C60: =SUM(D60:H60) -> 0
A61: 56 | B61: Egyéb működési bevételek (B4111) | C61: =SUM(D61:H61) -> 1610000 | D61: 1610000
A62: 57 | B62: Működési bevételek (B4) | C62: =SUM(D62:H62) -> 16593200 | D62: =D41+D42+D47+D50+D55+D56+D57+D58+D59+D60+D61 -> 14624700 | E62: =E41+E42+E47+E50+E55+E56+E57+E58+E59+E60+E61 -> 0 | F62: =F41+F42+F47+F50+F55+F56+F57+F58+F59+F60+F61 -> 1968500 | G62: =G41+G42+G47+G50+G55+G56+G57+G58+G59+G60+G61 -> 0 | H62: =H41+H42+H47+H50+H55+H56+H57+H58+H59+H60+H61 -> 0
A63: 58 | B63: Ingatlanok értékesítése (B521) | C63: =SUM(D63:H63) -> 3000000 | D63: 3000000
A64: 59 | B64: Egyéb tárgyi eszközök értékesítése B531 | C64: =SUM(D64:H64) -> 0
A65: 60 | B65: Felhalmozási bevételek (B5) | C65: =SUM(D65:H65) -> 3000000 | D65: =SUM(D63:D64) -> 3000000 | E65: =SUM(E63:E64) -> 0 | F65: =SUM(F63:F64) -> 0 | G65: =SUM(G63:G64) -> 0 | H65: =SUM(H63:H64) -> 0
A66: 61 | B66: Egyéb működési célú átvett pénzeszközök (65) | C66: =SUM(D66:H66) -> 0
A67: 62 | B67: Működési célú átvett pénzeszközök (B6) | C67: =SUM(D67:H67) -> 0 | D67: =D66 -> 0 | E67: =E66 -> 0 | F67: =F66 -> 0 | G67: =G66 -> 0 | H67: =H66 -> 0
A68: 63 | B68: Felhalmozási célú visszatérítendő támogatások, kölcsönök visszatérülése államháztartáson kívülről (B74) | C68: =SUM(D68:H68) -> 0
A69: 64 | B69: ebből: háztartások (B74) | C69: =SUM(D69:H69) -> 80000 | D69: 80000
A70: 65 | B70: Egyéb felhalmozási célú átvett pénzeszközök (B75) | C70: =SUM(D70:H70) -> 0
A71: 66 | B71: Felhalmozási célú átvett pénzeszközök (B7) | C71: =SUM(D71:H71) -> 80000 | D71: =SUM(D68:D70) -> 80000 | E71: =SUM(E68:E70) -> 0 | F71: =SUM(F68:F70) -> 0 | G71: =SUM(G68:G70) -> 0 | H71: =SUM(H68:H70) -> 0
A72: 67 | B72: Költségvetési bevételek (B1-B7) | C72: =SUM(D72:H72) -> 30744387 | D72: =D21+D29+D40+D62+D65+D67+D71 -> 28775887 | E72: =E21+E29+E40+E62+E65+E67+E71 -> 0 | F72: =F21+F29+F40+F62+F65+F67+F71 -> 1968500 | G72: =G21+G29+G40+G62+G65+G67+G71 -> 0 | H72: =H21+H29+H40+H62+H65+H67+H71 -> 0
A73: 68 | B73: Befektetési célú belföldi egyéb hitelviszonyt megtestesítő értékpapír beváltása, értékesítése (B 81231 | C73: =SUM(D73:H73) -> 0
A74: 69 | B74: Előző év költségvetési maradványának igénybevétele (B813) | C74: =SUM(D74:H74) -> 0
A75: 70 | B75: Államháztartáson belüli megelőlegezések (B814) | C75: =SUM(D75:H75) -> 0
A76: 71 | B76: Irányító szervi támogatás (B816 | C76: =SUM(D76:H76) -> 7309675 | F76: 2466100 | G76: =G122 -> 4843575
A77: 72 | B77: Belföldi finanszírozás bevételei (B81) | C77: =SUM(D77:H77) -> 7309675 | D77: =SUM(D73:D76) -> 0 | E77: =SUM(E73:E76) -> 0 | F77: =SUM(F73:F76) -> 2466100 | G77: =SUM(G73:G76) -> 4843575 | H77: =SUM(H73:H76) -> 0
A78: 73 | B78: Finanszírozási bevételek (B8) | C78: =SUM(D78:H78) -> 7309675 | D78: =D77 -> 0 | E78: =E77 -> 0 | F78: =F77 -> 2466100 | G78: =G77 -> 4843575 | H78: =H77 -> 0
A79: 74 | B79: MINDÖSSZESEN: | C79: =SUM(D79:H79) -> 38054062 | D79: =D72+D78 -> 28775887 | E79: =E72+E78 -> 0 | F79: =F72+F78 -> 4434600 | G79: =G72+G78 -> 4843575 | H79: =H72+H78 -> 0
A80: 75 | B80: Személyi juttatások (K1) | C80: =SUM(D80:H80) -> 3574200 | G80: 3574200
A81: 76 | B81: Munkaadókat terhelő járulékok és szociális hozzájárulási adó (K2) | C81: =SUM(D81:H81) -> 625485 | G81: 625485
A82: 77 | B82: Dologi kiadások (K3) | C82: =SUM(D82:H82) -> 22327202 | D82: 17566212 | F82: 4117100 | G82: 643890
A83: 78 | B83: Családi támogatások (K42) | C83: =SUM(D83:H83) -> 0 | D83: =D84 -> 0 | E83: =E84 -> 0 | F83: =F84 -> 0 | G83: =G84 -> 0 | H83: =H84 -> 0
A84: 79 | B84: ebből: az egyéb pénzbeli és természetbeni gyermekvédelmi támogatások (K42132) | C84: =SUM(D84:H84) -> 0
A85: 80 | B85: Intézményi ellátottak pénzbeli juttatásai (K47) | C85: =SUM(D85:H85) -> 0 | D85: =D86 -> 0 | E85: =E86 -> 0 | F85: =F86 -> 0 | G85: =G86 -> 0 | H85: =H86 -> 0
A86: 81 | B86: ebből: oktatásban résztvevők pénzbeli juttatásai (K471) | C86: =SUM(D86:H86) -> 0
A87: 82 | B87: Egyéb nem intézményi ellátások (K48) | C87: =SUM(D87:H87) -> 0 | D87: =SUM(D88:D89) -> 0 | E87: =SUM(E88:E89) -> 0 | F87: =SUM(F88:F89) -> 0 | G87: =SUM(G88:G89) -> 0 | H87: =SUM(H88:H89) -> 0
A88: 83 | B88: ebből: köztemetés [Szoctv. 48.§] (K48123) | C88: =SUM(D88:H88) -> 0
A89: 84 | B89: ebből: települési támogatás [Szoctv. 45. §], (K48122) | C89: =SUM(D89:H89) -> 0
A90: 85 | B90: Ellátottak pénzbeli juttatásai (K4) | C90: =SUM(D90:H90) -> 0 | D90: =D83+D85+D87 -> 0 | E90: =E83+E85+E87 -> 0 | F90: =F83+F85+F87 -> 0 | G90: =G83+G85+G87 -> 0 | H90: =H83+H85+H87 -> 0
A91: 86 | B91: Elvonások és befizetések (K5023) | C91: =SUM(D91:H91) -> 0
A92: 87 | B92: Egyéb működési célú támogatások államháztartáson belülre (K506) | C92: =SUM(D92:H92) -> 0 | D92: =SUM(D93:D96) -> 0 | E92: =SUM(E93:E96) -> 0 | F92: =SUM(F93:F96) -> 0 | G92: =SUM(G93:G96) -> 0 | H92: =SUM(H93:H96) -> 0
A93: 88 | B93: ebből: egyéb központi kezelésű előir (K50612) | C93: =SUM(D93:H93) -> 0
A94: 89 | B94: ebből: elkülönített állami pénzalap (K50615) | C94: =SUM(D94:H94) -> 0
A95: 90 | B95: ebből: önkormányzatok és költségv-i szerveik K50616) | C95: =SUM(D95:H95) -> 0
A96: 91 | B96: ebből: társulások és költségvetési szerveik (K50617) | C96: =SUM(D96:H96) -> 0
A97: 92 | B97: Egyéb működési célú támogatások államháztartáson kívülre non-profit szervezet (K51215) | C97: =SUM(D97:H97) -> 3900000 | D97: 3900000
A98: 93 | B98: Egyházi jogi személy egyé műk célú tám( K51216 | C98: =SUM(D98:H98) -> 0
A99: 94 | B99: Tartalékok (K51311) | C99: =SUM(D99:H99) -> 0
A100: 95 | B100: Egyéb működési célú kiadások (K5) | C100: =SUM(D100:H100) -> 3900000 | D100: =D91+D92+D97+D98+D99 -> 3900000 | E100: =E91+E92+E97+E98+E99 -> 0 | F100: =F91+F92+F97+F98+F99 -> 0 | G100: =G91+G92+G97+G98+G99 -> 0 | H100: =H91+H92+H97+H98+H99 -> 0
...

Sheet 9c
B1: Berhida Város Önkormányzata
B2: 2020 évi költségvetés | F2: 9/C. melléklet a 2/2020.(II.28.) rendelethez
F3: Ft-ban
B4: ÁLLAMIGAZGATÁSI FELADATOK | C4: BEVÉTELEK
A5: Sor- szám | B5: Rovat megnevezése | C5: Eredeti előirányzat összesen | D5: Önkormányzat | E5: Közös Hivatal | F5: TESZ | G5: Kultúrház | H5: Süni
A6: 1 | B6: Helyi önkormányzatok működésének általános támogatása (B1111) | C6: =SUM(D6:H6) -> 0
A7: 2 | B7: Települési önkormányzatok egyes köznevelési feladatainak támogatása (B112) | C7: =SUM(D7:H7) -> 0
A8: 3 | B8: Települési önkormányzatok szociális, gyermekjóléti feladatainak támogatása (B1131) | C8: =SUM(D8:H8) -> 0
A9: 4 | B9: Tel.önkormányzat gyermekétkeztetési fel.tám( B 1132)
A10: 5 | B10: Települési önkormányzatok kulturális feladatainak támogatása (B114) | C10: =SUM(D10:H10) -> 0
A11: 6 | B11: Működési célú költségvetési támogatások és kiegészítő támogatások (B115) | C11: =SUM(D11:H11) -> 0
A12: 7 | B12: Elszámolásból származó bevételek (B116) | C12: =SUM(D12:H12) -> 0
A13: 8 | B13: Önkormányzatok működési támogatásai (B11) | C13: =SUM(D13:H13) -> 0 | D13: =SUM(D6:D12) -> 0 | E13: =SUM(E6:E12) -> 0 | F13: =SUM(F6:F12) -> 0 | G13: =SUM(G6:G12) -> 0 | H13: =SUM(H6:H12) -> 0
A14: 9 | B14: Elvonások és befizetések bevételei B12 | C14: =SUM(D14:H14) -> 0
A15: 10 | B15: Egyéb működési célú támogatások bevételei államháztartáson belülről (B16) | C15: =SUM(D15:H15) -> 0 | D15: =SUM(D16:D20) -> 0 | E15: =SUM(E16:E20) -> 0 | F15: =SUM(F16:F20) -> 0 | G15: =SUM(G16:G20) -> 0 | H15: =SUM(H16:H20) -> 0
A16: 11 | B16: ebből: egyéb központi kezelésű előirányzatok (B1612 | C16: =SUM(D16:H16) -> 0
A17: 12 | B17: ebből: fejezeti kezelésű EU B16 | C17: =SUM(D17:H17) -> 0
A18: 13 | B18: ebből: társadalombiztosítás pénzügyi alapjai (B1614 | C18: =SUM(D18:H18) -> 0
A19: 14 | B19: ebből: elkülönített állami pénzal (B1615 | C19: =SUM(D19:H19) -> 0
A20: 15 | B20: ebből: önkormányzat és kv-i szerveik (B 1616 | C20: =SUM(D20:H20) -> 0
A21: 16 | B21: Működési célú támogatások államháztartáson belülről (B1) | C21: =SUM(D21:H21) -> 0 | D21: =D13+D15 -> 0 | E21: =E13+E15 -> 0 | F21: =F13+F15 -> 0 | G21: =G13+G15 -> 0 | H21: =H13+H15 -> 0
A22: 17 | B22: Felhalmozási célú önkormányzati támogatások (B21) | C22: =SUM(D22:H22) -> 0 | D22: =D23 -> 0 | E22: =E23 -> 0 | F22: =F23 -> 0 | G22: =G23 -> 0 | H22: =H23 -> 0
A23: 18 | B23: ebből: egyéb központi felhalmozási c tám B 2119 | C23: =SUM(D23:H23) -> 0
A24: 19 | B24: Egyéb felhalmozási célú tám áht belülről B 25 | C24: =SUM(D24:H24) -> 0 | D24: =SUM(D25:D28) -> 0 | E24: =SUM(E25:E28) -> 0 | F24: =SUM(F25:F28) -> 0 | G24: =SUM(G25:G28) -> 0 | H24: =SUM(H25:H28) -> 0
A25: 20 | B25: ebből egyéb központi fc tám (B2512 | C25: =SUM(D25:H25) -> 0
A26: 21 | B26: ebből: egyéb fejezeti kez EU fc (B25 | C26: =SUM(D26:H26) -> 0
A27: 22 | B27: ebből: elkülönített állami pénzal fc (B2515 | C27: =SUM(D27:H27) -> 0
A28: 23 | B28: ebből: önkorm és kv-i szervek fc tám (B2516 | C28: =SUM(D28:H28) -> 0
A29: 24 | B29: Felhalmozási célú támogatások államháztartáson belülről (B2) | C29: =SUM(D29:H29) -> 0 | D29: =D22+D24 -> 0 | E29: =E22+E24 -> 0 | F29: =F22+F24 -> 0 | G29: =G22+G24 -> 0 | H29: =H22+H24 -> 0
A30: 25 | B30: Vagyoni tipusú adók (B34) | C30: =SUM(D30:H30) -> 9772612 | D30: =SUM(D31:D32) -> 9772612 | E30: =SUM(E31:E32) -> 0 | F30: =SUM(F31:F32) -> 0 | G30: =SUM(G31:G32) -> 0 | H30: =SUM(H31:H32) -> 0
A31: 26 | B31: ebből: építményadó (B34111) | C31: =SUM(D31:H31) -> 9772612 | D31: =D119 -> 9772612
A32: 27 | B32: ebből: magánszemélyek kommunális adója (B34114) | C32: =SUM(D32:H32) -> 0
A33: 28 | B33: Értékesítési és forgalmi adók iparűzési adó (B351121) | C33: =SUM(D33:H33) -> 0
A34: 29 | B34: Gépjárműadó (B3541) | C34: =SUM(D34:H34) -> 0
A35: 30 | B35: Egyéb áruhasználati és szolgáltatási adók, környezetterh díj, talajterhelési díj (B355) | C35: =SUM(D35:H35) -> 0
A36: 31 | B36: Termékek és szolgáltatások adói (B35) | C36: =SUM(D36:H36) -> 0 | D36: =SUM(D33:D35) -> 0 | E36: =SUM(E33:E35) -> 0 | F36: =SUM(F33:F35) -> 0 | G36: =SUM(G33:G35) -> 0 | H36: =SUM(H33:H35) -> 0
A37: 32 | B37: Egyéb közhatalmi bevételek (B36) | C37: =SUM(D37:H37) -> 0 | D37: =SUM(D38:D39) -> 0 | E37: =SUM(E38:E39) -> 0 | F37: =SUM(F38:F39) -> 0 | G37: =SUM(G38:G39) -> 0 | H37: =SUM(H38:H39) -> 0
A38: 33 | B38: ebből: szabálysértési pénz- és helyszíni bírság és a közlekedési szabályszegések után kiszabott közigazgatási bírság helyi önkormányzatot megillető része (B361225 köv) | C38: =SUM(D38:H38) -> 0
A39: 34 | B39: ebből: egyéb bírság (B361229 köv) | C39: =SUM(D39:H39) -> 0
A40: 35 | B40: Közhatalmi bevételek (B3) | C40: =SUM(D40:H40) -> 9772612 | D40: =D30+D36+D37 -> 9772612 | E40: =E30+E36+E37 -> 0 | F40: =F30+F36+F37 -> 0 | G40: =G30+G36+G37 -> 0 | H40: =H30+H36+H37 -> 0
A41: 36 | B41: Készlet értékesítés előirányzata B 40111 | C41: =SUM(D41:H41) -> 0
A42: 37 | B42: Szolgáltatások (B4021) | C42: =SUM(D42:H42) -> 0 | D42: =SUM(D43:D46) -> 0 | E42: =SUM(E43:E46) -> 0 | F42: =SUM(F43:F46) -> 0 | G42: =SUM(G43:G46) -> 0 | H42: =SUM(H43:H46) -> 0
A43: 38 | B43: ebből étkeztetés - kivéve ell, hallgatók térítési díj B40211 | C43: =SUM(D43:H43) -> 0
A44: 39 | B44: ebből: bérleti díj bev (B40212) | C44: =SUM(D44:H44) -> 0
A45: 40 | B45: ebből: alkalmazottak térítési díj (B40213) | C45: =SUM(D45:H45) -> 0
A46: 41 | B46: ebből: egyéb szolgáltatás (40215) | C46: =SUM(D46:H46) -> 0
A47: 42 | B47: Közvetített szolgáltatások ellenértéke (B403) | C47: =SUM(D47:H47) -> 0 | D47: =SUM(D48:D49) -> 0 | E47: =SUM(E48:E49) -> 0 | F47: =SUM(F48:F49) -> 0 | G47: =SUM(G48:G49) -> 0 | H47: =SUM(H48:H49) -> 0
A48: 43 | B48: ebből: államháztartáson belül (B40311) | C48: =SUM(D48:H48) -> 0
A49: 44 | B49: ebből: államháztartáson kívül (B40312) | C49: =SUM(D49:H49) -> 0
A50: 45 | B50: Tulajdonosi bevételek (B4041) | C50: =SUM(D50:H50) -> 0 | D50: =SUM(D51:D54) -> 0 | E50: =SUM(E51:E54) -> 0 | F50: =SUM(F51:F54) -> 0 | G50: =SUM(G51:G54) -> 0 | H50: =SUM(H51:H54) -> 0
A51: 46 | B51: ebből: önkormányzati vagyon üzemeltetéséből származó bevétel (B404131) | C51: =SUM(D51:H51) -> 0
A52: 47 | B52: ebből: önkormányzati vagyon vagyonkezelésbe adásából származó bevétel (B404133) | C52: =SUM(D52:H52) -> 0
A53: 48 | B53: ebből: egy önk-i bérleti- és lízing díj bevételek (404134) | C53: =SUM(D53:H53) -> 0
A54: 49 | B54: ebből: egy önk tulajdonosi bevétel (B404139) | C54: =SUM(D54:H54) -> 0
A55: 50 | B55: Ellátási díjak (B4051) | C55: =SUM(D55:H55) -> 0
A56: 51 | B56: Kiszámlázott általános forgalmi adó (B4061) | C56: =SUM(D56:H56) -> 0
A57: 52 | B57: Általános forgalmi adó visszatérítése (B4071) | C57: =SUM(D57:H57) -> 0
A58: 53 | B58: Egyéb kapott (járó) kamatok és kamatjellegű bevételek ÁHK(B40811) | C58: =SUM(D58:H58) -> 0
A59: 54 | B59: Egyéb pénzügyi műveletek bevételei (B4091) | C59: =SUM(D59:H59) -> 0
A60: 55 | B60: Biztosító által fizetett kártérítés (B4101) | C60: =SUM(D60:H60) -> 0
A61: 56 | B61: Egyéb működési bevételek (B4111) | C61: =SUM(D61:H61) -> 0
A62: 57 | B62: Működési bevételek (B4) | C62: =SUM(D62:H62) -> 0 | D62: =D41+D42+D47+D50+D55+D56+D57+D58+D59+D60+D61 -> 0 | E62: =E41+E42+E47+E50+E55+E56+E57+E58+E59+E60+E61 -> 0 | F62: =F41+F42+F47+F50+F55+F56+F57+F58+F59+F60+F61 -> 0 | G62: =G41+G42+G47+G50+G55+G56+G57+G58+G59+G60+G61 -> 0 | H62: =H41+H42+H47+H50+H55+H56+H57+H58+H59+H60+H61 -> 0
A63: 58 | B63: Ingatlanok értékesítése (B521) | C63: =SUM(D63:H63) -> 0
A64: 59 | B64: Egyéb tárgyi eszközök értékesítése B531 | C64: =SUM(D64:H64) -> 0
A65: 60 | B65: Felhalmozási bevételek (B5) | C65: =SUM(D65:H65) -> 0 | D65: =SUM(D63:D64) -> 0 | E65: =SUM(E63:E64) -> 0 | F65: =SUM(F63:F64) -> 0 | G65: =SUM(G63:G64) -> 0 | H65: =SUM(H63:H64) -> 0
A66: 61 | B66: Egyéb működési célú átvett pénzeszközök (65) | C66: =SUM(D66:H66) -> 0
A67: 62 | B67: Működési célú átvett pénzeszközök (B6) | C67: =SUM(D67:H67) -> 0 | D67: =D66 -> 0 | E67: =E66 -> 0 | F67: =F66 -> 0 | G67: =G66 -> 0 | H67: =H66 -> 0
A68: 63 | B68: Felhalmozási célú visszatérítendő támogatások, kölcsönök visszatérülése államháztartáson kívülről (B74) | C68: =SUM(D68:H68) -> 0
A69: 64 | B69: ebből: háztartások (B74) | C69: =SUM(D69:H69) -> 0
A70: 65 | B70: Egyéb felhalmozási célú átvett pénzeszközök (B75) | C70: =SUM(D70:H70) -> 0
A71: 66 | B71: Felhalmozási célú átvett pénzeszközök (B7) | C71: =SUM(D71:H71) -> 0 | D71: =SUM(D68:D70) -> 0 | E71: =SUM(E68:E70) -> 0 | F71: =SUM(F68:F70) -> 0 | G71: =SUM(G68:G70) -> 0 | H71: =SUM(H68:H70) -> 0
A72: 67 | B72: Költségvetési bevételek (B1-B7) | C72: =SUM(D72:H72) -> 9772612 | D72: =D21+D29+D40+D62+D65+D67+D71 -> 9772612 | E72: =E21+E29+E40+E62+E65+E67+E71 -> 0 | F72: =F21+F29+F40+F62+F65+F67+F71 -> 0 | G72: =G21+G29+G40+G62+G65+G67+G71 -> 0 | H72: =H21+H29+H40+H62+H65+H67+H71 -> 0
A73: 68 | B73: Befektetési célú belföldi egyéb hitelviszonyt megtestesítő értékpapír beváltása, értékesítése (B 81231 | C73: =SUM(D73:H73) -> 0
A74: 69 | B74: Előző év költségvetési maradványának igénybevétele (B813) | C74: =SUM(D74:H74) -> 0
A75: 70 | B75: Államháztartáson belüli megelőlegezések (B814) | C75: =SUM(D75:H75) -> 0
A76: 71 | B76: Irányító szervi támogatás (B816 | C76: =SUM(D76:H76) -> 9772612 | E76: =E122 -> 9772612
A77: 72 | B77: Belföldi finanszírozás bevételei (B81) | C77: =SUM(D77:H77) -> 9772612 | D77: =SUM(D73:D76) -> 0 | E77: =SUM(E73:E76) -> 9772612 | F77: =SUM(F73:F76) -> 0 | G77: =SUM(G73:G76) -> 0 | H77: =SUM(H73:H76) -> 0
A78: 73 | B78: Finanszírozási bevételek (B8) | C78: =SUM(D78:H78) -> 9772612 | D78: =D77 -> 0 | E78: =E77 -> 9772612 | F78: =F77 -> 0 | G78: =G77 -> 0 | H78: =H77 -> 0
A79: 74 | B79: MINDÖSSZESEN: | C79: =SUM(D79:H79) -> 19545224 | D79: =D72+D78 -> 9772612 | E79: =E72+E78 -> 9772612 | F79: =F72+F78 -> 0 | G79: =G72+G78 -> 0 | H79: =H72+H78 -> 0
A80: 75 | B80: Személyi juttatások (K1) | C80: =SUM(D80:H80) -> 7714946 | E80: 7714946
A81: 76 | B81: Munkaadókat terhelő járulékok és szociális hozzájárulási adó (K2) | C81: =SUM(D81:H81) -> 1394726 | E81: 1394726
A82: 77 | B82: Dologi kiadások (K3) | C82: =SUM(D82:H82) -> 662940 | E82: 662940
A83: 78 | B83: Családi támogatások (K42) | C83: =SUM(D83:H83) -> 0 | D83: =D84 -> 0 | E83: =E84 -> 0 | F83: =F84 -> 0 | G83: =G84 -> 0 | H83: =H84 -> 0
A84: 79 | B84: ebből: az egyéb pénzbeli és természetbeni gyermekvédelmi támogatások (K42132) | C84: =SUM(D84:H84) -> 0
A85: 80 | B85: Intézményi ellátottak pénzbeli juttatásai (K47) | C85: =SUM(D85:H85) -> 0 | D85: =D86 -> 0 | E85: =E86 -> 0 | F85: =F86 -> 0 | G85: =G86 -> 0 | H85: =H86 -> 0
A86: 81 | B86: ebből: oktatásban résztvevők pénzbeli juttatásai (K471) | C86: =SUM(D86:H86) -> 0
A87: 82 | B87: Egyéb nem intézményi ellátások (K48) | C87: =SUM(D87:H87) -> 0 | D87: =SUM(D88:D89) -> 0 | E87: =SUM(E88:E89) -> 0 | F87: =SUM(F88:F89) -> 0 | G87: =SUM(G88:G89) -> 0 | H87: =SUM(H88:H89) -> 0
A88: 83 | B88: ebből: köztemetés [Szoctv. 48.§] (K48123) | C88: =SUM(D88:H88) -> 0
A89: 84 | B89: ebből: települési támogatás [Szoctv. 45. §], (K48122) | C89: =SUM(D89:H89) -> 0
A90: 85 | B90: Ellátottak pénzbeli juttatásai (K4) | C90: =SUM(D90:H90) -> 0 | D90: =D83+D85+D87 -> 0 | E90: =E83+E85+E87 -> 0 | F90: =F83+F85+F87 -> 0 | G90: =G83+G85+G87 -> 0 | H90: =H83+H85+H87 -> 0
A91: 86 | B91: Elvonások és befizetések (K5023) | C91: =SUM(D91:H91) -> 0
A92: 87 | B92: Egyéb működési célú támogatások államháztartáson belülre (K506) | C92: =SUM(D92:H92) -> 0 | D92: =SUM(D93:D96) -> 0 | E92: =SUM(E93:E96) -> 0 | F92: =SUM(F93:F96) -> 0 | G92: =SUM(G93:G96) -> 0 | H92: =SUM(H93:H96) -> 0
A93: 88 | B93: ebből: egyéb központi kezelésű előir (K50612) | C93: =SUM(D93:H93) -> 0
A94: 89 | B94: ebből: elkülönített állami pénzalap (K50615) | C94: =SUM(D94:H94) -> 0
A95: 90 | B95: ebből: önkormányzatok és költségv-i szerveik K50616) | C95: =SUM(D95:H95) -> 0
A96: 91 | B96: ebből: társulások és költségvetési szerveik (K50617) | C96: =SUM(D96:H96) -> 0
A97: 92 | B97: Egyéb működési célú támogatások államháztartáson kívülre non-profit szervezet (K51215) | C97: =SUM(D97:H97) -> 0
A98: 93 | B98: Egyházi jogi személy egyé műk célú tám( K51216 | C98: =SUM(D98:H98) -> 0
A99: 94 | B99: Tartalékok (K51311) | C99: =SUM(D99:H99) -> 0
A100: 95 | B100: Egyéb működési célú kiadások (K5) | C100: =SUM(D100:H100) -> 0 | D100: =D91+D92+D97+D98+D99 -> 0 | E100: =E91+E92+E97+E98+E99 -> 0 | F100: =F91+F92+F97+F98+F99 -> 0 | G100: =G91+G92+G97+G98+G99 -> 0 | H100: =H91+H92+H97+H98+H99 -> 0
...

Sheet 10 mell
B1: Berhida Város Önkormányzatának
B2: 2020 évi költségvetés
A3: Az Önkormányzat saját bevételének alakulásáról
C4: 10. melléklet
C5: 2/2020.(II. 28. ) rendelethez
C6: adatok ezer Ft-ban
A8: A | B8: B | C8: C | D8: D | E8: E | F8: F
A9: Sorszám | B9: Bevételi jogcím | C9: 2019. év | D9: 2020 év | E9: 2021 év | F9: 2022 év
C10: bevételi | D10: bevételi | E10: bevételi | F10: bevételi
C11: előirányzat | D11: előirányzat | E11: előirányzat | F11: előirányzat
A12: 1. | B12: 2. | C12: 3. | D12: 4. | E12: 5. | F12: 6.
A13: 1. | B13: építmény adó | C13: ='1'!C31 -> 110500000 | D13: ='1'!D31 -> 110500000 | E13: 110500000 | F13: 110500000
A14: 2. | B14: magánszemélyek kommunális adója
A15: 3. | B15: iparűzési adó | C15: ='1'!C33 -> 225000000 | D15: 225000000 | E15: 225000000 | F15: 225000000
A16: 4. | B16: önk-i vagyon értékesítésből sz bev
A17: 5. | B17: osztalék, hozam bevétel
A18: 6. | B18: tárgyi eszköz és imm jószág értékes sz bev
A19: 7. | B19: bírság, pótlék és díj bevétel
A20: 8. | B20: kezességvállalással kapcsolatos megtérülés
A21: 9.
A22: 10. | B22: Összesen: | C22: =SUM(C13:C21) -> 335500000 | D22: =SUM(D13:D21) -> 335500000 | E22: =SUM(E13:E21) -> 335500000 | F22: =SUM(F13:F21) -> 335500000

Sheet 11
B1: Berhida Város Önkormányzata | F1: 11. melléklet
B2: 2019. évi eredeti költségvetés | F2: 2/2020.(II.28. ) rendelethez
F3: Ft-ban
C4: BEVÉTELEK
A5: Sor- szám | B5: Rovat megnevezése | C5: Eredeti előirányzat összesen | D5: Önkormányzat | E5: Közös Hivatal | F5: TESZ | G5: Kultúrház | H5: Süni
A6: 1 | B6: Helyi önkormányzatok működésének általános támogatása (B1111) | C6: =SUM(D6:H6) -> 121805723 | D6: 121805723
A7: 2 | B7: Települési önkormányzatok egyes köznevelési feladatainak támogatása (B112) | C7: =SUM(D7:H7) -> 146632166 | D7: 146632166
A8: 3 | B8: Települési önkormányzatok szociális, gyermekjóléti és gyermekétkeztetési feladatainak támogatása (B113) | C8: =SUM(D8:H8) -> 110689107 | D8: 110689107
A9: 4 | B9: Települési önkormányzatok kulturális feladatainak támogatása (B114) | C9: =SUM(D9:H9) -> 7226120 | D9: 7226120
A10: 5 | B10: Működési célú költségvetési támogatások és kiegészítő támogatások (B115) | C10: =SUM(D10:H10) -> 0
A11: 6 | B11: Elszámolásból származó bevételek (B116) | C11: =SUM(D11:H11) -> 0
A12: 7 | B12: Önkormányzatok működési támogatásai (B11) | C12: =SUM(D12:H12) -> 386353116 | D12: =SUM(D6:D11) -> 386353116 | E12: =SUM(E6:E11) -> 0 | F12: =SUM(F6:F11) -> 0 | G12: =SUM(G6:G11) -> 0 | H12: =SUM(H6:H11) -> 0
A13: 8 | B13: Elvonások és befizetések bevételei B12 | C13: =SUM(D13:H13) -> 0
A14: 9 | B14: Egyéb működési célú támogatások bevételei államháztartáson belülről (B16) | C14: =SUM(D14:H14) -> 301800579 | D14: =SUM(D15:D19) -> 262817611 | E14: =SUM(E15:E19) -> 0 | F14: =SUM(F15:F19) -> 38982968 | G14: =SUM(G15:G19) -> 0 | H14: =SUM(H15:H19) -> 0
A15: 10 | B15: ebből: egyéb központi kezelésű előirányzatok (B1612 | C15: =SUM(D15:H15) -> 20462596 | D15: 20462596
A16: 11 | B16: ebből: fejezeti kezelésű EU B16 | C16: =SUM(D16:H16) -> 214984215 | D16: 214984215
A17: 12 | B17: ebből: társadalombiztosítás pénzügyi alapjai (B1614 | C17: =SUM(D17:H17) -> 27370800 | D17: 27370800
A18: 13 | B18: ebből: elkülönített állami pénzal (B1615 | C18: =SUM(D18:H18) -> 38982968 | F18: 38982968
A19: 14 | B19: ebből: önkormányzat és kv-i szerveik (B 1616 | C19: =SUM(D19:H19) -> 0
A20: 15 | B20: Működési célú támogatások államháztartáson belülről (B1) | C20: =SUM(D20:H20) -> 688153695 | D20: =D12+D14 -> 649170727 | E20: =E12+E14 -> 0 | F20: =F12+F14 -> 38982968 | G20: =G12+G14 -> 0 | H20: =H12+H14 -> 0
A21: 16 | B21: Felhalmozási célú önkormányzati támogatások (B21) | C21: =SUM(D21:H21) -> 0 | D21: =D22 -> 0 | E21: =E22 -> 0 | F21: =F22 -> 0 | G21: =G22 -> 0 | H21: =H22 -> 0
A22: 17 | B22: ebből: egyéb központi felhalmozási c tám B 2119 | C22: =SUM(D22:H22) -> 0
A23: 18 | B23: Egyéb felhalmozási célú tám áht belülről B 25 | C23: =SUM(D23:H23) -> 821196970 | D23: =SUM(D24:D27) -> 821196970 | E23: =SUM(E24:E27) -> 0 | F23: =SUM(F24:F27) -> 0 | G23: =SUM(G24:G27) -> 0 | H23: =SUM(H24:H27) -> 0
A24: 19 | B24: ebből egyéb központi fc tám (B2512 | C24: =SUM(D24:H24) -> 0
A25: 20 | B25: ebből: egyéb fejezeti kez EU fc (B25 | C25: =SUM(D25:H25) -> 821196970 | D25: 821196970
A26: 21 | B26: ebből: elkülönített állami pénzal fc (B2515 | C26: =SUM(D26:H26) -> 0
A27: 22 | B27: ebből: önkorm és kv-i szervek fc tám (B2516 | C27: =SUM(D27:H27) -> 0
A28: 23 | B28: Felhalmozási célú támogatások államháztartáson belülről (B2) | C28: =SUM(D28:H28) -> 821196970 | D28: =D21+D23 -> 821196970 | E28: =E21+E23 -> 0 | F28: =F21+F23 -> 0 | G28: =G21+G23 -> 0 | H28: =H21+H23 -> 0
A29: 24 | B29: Vagyoni tipusú adók (B34) | C29: =SUM(D29:H29) -> 108243000 | D29: =SUM(D30:D31) -> 108243000 | E29: =SUM(E30:E31) -> 0 | F29: =SUM(F30:F31) -> 0 | G29: =SUM(G30:G31) -> 0 | H29: =SUM(H30:H31) -> 0
A30: 25 | B30: ebből: építményadó (B34111) | C30: =SUM(D30:H30) -> 108243000 | D30: 108243000
A31: 26 | B31: ebből: magánszemélyek kommunális adója (B34114) | C31: =SUM(D31:H31) -> 0
A32: 27 | B32: Értékesítési és forgalmi adók iparűzési adó (B351121) | C32: =SUM(D32:H32) -> 225000000 | D32: 225000000
A33: 28 | B33: Gépjárműadó (B3541) | C33: =SUM(D33:H33) -> 11900000 | D33: 11900000
A34: 29 | B34: Egyéb áruhasználati és szolgáltatási adók, környezetterh díj, talajterhelési díj (B355) | C34: =SUM(D34:H34) -> 0
A35: 30 | B35: Termékek és szolgáltatások adói (B35) | C35: =SUM(D35:H35) -> 236900000 | D35: =SUM(D32:D34) -> 236900000 | E35: =SUM(E32:E34) -> 0 | F35: =SUM(F32:F34) -> 0 | G35: =SUM(G32:G34) -> 0 | H35: =SUM(H32:H34) -> 0
A36: 31 | B36: Egyéb közhatalmi bevételek (B36) | C36: =SUM(D36:H36) -> 400000 | D36: 400000 | E36: =SUM(E37:E38) -> 0 | F36: =SUM(F37:F38) -> 0 | G36: =SUM(G37:G38) -> 0 | H36: =SUM(H37:H38) -> 0
A37: 32 | B37: ebből: szabálysértési pénz- és helyszíni bírság és a közlekedési szabályszegések után kiszabott közigazgatási bírság helyi önkormányzatot megillető része (B361225 köv) | C37: =SUM(D37:H37) -> 50000 | D37: 50000
A38: 33 | B38: ebből: egyéb bírság (B361229 köv) | C38: =SUM(D38:H38) -> 350000 | D38: 350000
A39: 34 | B39: Közhatalmi bevételek (B3) | C39: =SUM(D39:H39) -> 345543000 | D39: =D29+D35+D36 -> 345543000 | E39: =E29+E35+E36 -> 0 | F39: =F29+F35+F36 -> 0 | G39: =G29+G35+G36 -> 0 | H39: =H29+H35+H36 -> 0
A40: 35 | B40: Készlet értékesítés előirányzata B 40111 | C40: =SUM(D40:H40) -> 0
A41: 36 | B41: Szolgáltatások (B4021) | C41: =SUM(D41:H41) -> 10922980 | D41: =SUM(D42:D45) -> 0 | E41: =SUM(E42:E45) -> 370000 | F41: =SUM(F42:F45) -> 700000 | G41: =SUM(G42:G45) -> 1360000 | H41: =SUM(H42:H45) -> 8492980
A42: 37 | B42: ebből étkeztetés - kivéve ell, hallgatók térítési díj B40211 | C42: =SUM(D42:H42) -> 1146420 | H42: 1146420
A43: 38 | B43: ebből: bérleti díj bev (B40212) | C43: =SUM(D43:H43) -> 2070000 | E43: 70000 | F43: 700000 | G43: 1300000
A44: 39 | B44: ebből: alkalmazottak térítési díj (B40213) | C44: =SUM(D44:H44) -> 7346560 | H44: 7346560
A45: 40 | B45: ebből: egyéb szolgáltatás (40215) | C45: =SUM(D45:H45) -> 360000 | E45: 300000 | G45: 60000
A46: 41 | B46: Közvetített szolgáltatások ellenértéke (B403) | C46: =SUM(D46:H46) -> 3575000 | D46: =SUM(D47:D48) -> 130000 | E46: =SUM(E47:E48) -> 1300000 | F46: =SUM(F47:F48) -> 2145000 | G46: =SUM(G47:G48) -> 0 | H46: =SUM(H47:H48) -> 0
A47: 42 | B47: ebből: államháztartáson belül (B40311) | C47: =SUM(D47:H47) -> 1855000 | D47: 130000 | E47: 1300000 | F47: 425000
A48: 43 | B48: ebből: államháztartáson kívül (B40312) | C48: =SUM(D48:H48) -> 1720000 | F48: 1720000
A49: 44 | B49: Tulajdonosi bevételek (B4041) | C49: =SUM(D49:H49) -> 9610000 | D49: =SUM(D50:D53) -> 9610000 | E49: =SUM(E50:E53) -> 0 | F49: =SUM(F50:F53) -> 0 | G49: =SUM(G50:G53) -> 0 | H49: =SUM(H50:H53) -> 0
A50: 45 | B50: ebből: önkormányzati vagyon üzemeltetéséből származó bevétel (B404131) | C50: =SUM(D50:H50) -> 0
A51: 46 | B51: ebből: önkormányzati vagyon vagyonkezelésbe adásából származó bevétel (B404133) | C51: =SUM(D51:H51) -> 0
A52: 47 | B52: ebből: egy önk-i bérleti- és lízing díj bevételek (404134) | C52: =SUM(D52:H52) -> 9100000 | D52: 9100000
A53: 49 | B53: ebből: egy önk tulajdonosi bevétel (B404139) | C53: =SUM(D53:H53) -> 510000 | D53: 510000
A54: 50 | B54: Ellátási díjak (B4051) | C54: =SUM(D54:H54) -> 1365455 | H54: 1365455
A55: 51 | B55: Kiszámlázott általános forgalmi adó (B4061) | C55: =SUM(D55:H55) -> 9650810 | D55: 5769983 | E55: 450900 | F55: 768150 | H55: 2661777
A56: 52 | B56: Általános forgalmi adó visszatérítése (B4071) | C56: =SUM(D56:H56) -> 0
A57: 53 | B57: Egyéb kapott (járó) kamatok és kamatjellegű bevételek ÁHK(B40811) | C57: =SUM(D57:H57) -> 0
A58: 54 | B58: Egyéb pénzügyi műveletek bevételei (B4091) | C58: =SUM(D58:H58) -> 1000 | F58: 1000
A59: 55 | B59: Biztosító által fizetett kártérítés (B4101) | C59: =SUM(D59:H59) -> 0
A60: 56 | B60: Egyéb működési bevételek (B4111) | C60: =SUM(D60:H60) -> 1470500 | D60: 1460500 | F60: 10000
A61: 57 | B61: Működési bevételek (B4) | C61: =SUM(D61:H61) -> 36595745 | D61: =D40+D41+D46+D49+D54+D55+D56+D57+D58+D59+D60 -> 16970483 | E61: =E40+E41+E46+E49+E54+E55+E56+E57+E58+E59+E60 -> 2120900 | F61: =F40+F41+F46+F49+F54+F55+F56+F57+F58+F59+F60 -> 3624150 | G61: =G40+G41+G46+G49+G54+G55+G56+G57+G58+G59+G60 -> 1360000 | H61: =H40+H41+H46+H49+H54+H55+H56+H57+H58+H59+H60 -> 12520212
A62: 58 | B62: Ingatlanok értékesítése (B521) | C62: =SUM(D62:H62) -> 11630306 | D62: 11630306
A63: 59 | B63: Egyéb tárgyi eszközök értékesítése B531 | C63: =SUM(D63:H63) -> 0
A64: 60 | B64: Felhalmozási bevételek (B5) | C64: =SUM(D64:H64) -> 11630306 | D64: =SUM(D62:D63) -> 11630306 | E64: =SUM(E62:E63) -> 0 | F64: =SUM(F62:F63) -> 0 | G64: =SUM(G62:G63) -> 0 | H64: =SUM(H62:H63) -> 0
A65: 61 | B65: Egyéb működési célú átvett pénzeszközök (65) | C65: =SUM(D65:H65) -> 0
A66: 62 | B66: Működési célú átvett pénzeszközök (B6) | C66: =SUM(D66:H66) -> 0 | D66: =D65 -> 0 | E66: =E65 -> 0 | F66: =F65 -> 0 | G66: =G65 -> 0 | H66: =H65 -> 0
A67: 63 | B67: Felhalmozási célú visszatérítendő támogatások, kölcsönök visszatérülése államháztartáson kívülről (B74) | C67: =SUM(D67:H67) -> 0
A68: 64 | B68: ebből: háztartások (B74) | C68: =SUM(D68:H68) -> 0
A69: 65 | B69: Egyéb felhalmozási célú átvett pénzeszközök (B75) | C69: =SUM(D69:H69) -> 120000 | D69: 120000
A70: 66 | B70: Felhalmozási célú átvett pénzeszközök (B7) | C70: =SUM(D70:H70) -> 120000 | D70: =SUM(D67:D69) -> 120000 | E70: =SUM(E67:E69) -> 0 | F70: =SUM(F67:F69) -> 0 | G70: =SUM(G67:G69) -> 0 | H70: =SUM(H67:H69) -> 0
A71: 67 | B71: Költségvetési bevételek (B1-B7) | C71: =SUM(D71:H71) -> 1903239716 | D71: =D20+D28+D39+D61+D64+D66+D70 -> 1844631486 | E71: =E20+E28+E39+E61+E64+E66+E70 -> 2120900 | F71: =F20+F28+F39+F61+F64+F66+F70 -> 42607118 | G71: =G20+G28+G39+G61+G64+G66+G70 -> 1360000 | H71: =H20+H28+H39+H61+H64+H66+H70 -> 12520212
A72: 68 | B72: Befektetési célú belföldi egyéb hitelviszonyt megtestesítő értékpapír beváltása, értékesítése (B 81231 | C72: =SUM(D72:H72) -> 0
A73: 69 | B73: Előző év költségvetési maradványának igénybevétele (B813) | C73: =SUM(D73:H73) -> 581687302 | D73: 563539602 | F73: 8053000 | G73: 10094700
A74: 70 | B74: Államháztartáson belüli megelőlegezések (B814) | C74: =SUM(D74:H74) -> 0
A75: 71 | B75: Irányító szervi támogatás (B816 | C75: =SUM(D75:H75) -> 529712635 | E75: 207178554 | F75: 126410626 | G75: 62241198 | H75: 133882257
A76: 72 | B76: Belföldi finanszírozás bevételei (B81) | C76: =SUM(D76:H76) -> 1111399937 | D76: =SUM(D72:D75) -> 563539602 | E76: =SUM(E72:E75) -> 207178554 | F76: =SUM(F72:F75) -> 134463626 | G76: =SUM(G72:G75) -> 72335898 | H76: =SUM(H72:H75) -> 133882257
A77: 73 | B77: Finanszírozási bevételek (B8) | C77: =SUM(D77:H77) -> 1111399937 | D77: =D76 -> 563539602 | E77: =E76 -> 207178554 | F77: =F76 -> 134463626 | G77: =G76 -> 72335898 | H77: =H76 -> 133882257
A78: 74 | B78: MINDÖSSZESEN: | C78: =SUM(D78:H78) -> 3014639653 | D78: =D71+D77 -> 2408171088 | E78: =E71+E77 -> 209299454 | F78: =F71+F77 -> 177070744 | G78: =G71+G77 -> 73695898 | H78: =H71+H77 -> 146402469

Sheet 12
B1: Berhida Város Önkormányzata | E1: 12. melléklet
B2: 2019. évi eredeti költségvetés | E2: 2/2020.(II. 28.) rendelethez
C3: KIADÁSOK | E3: Ft-ban
A5: Sor- szám | B5: Rovat megnevezése | C5: Eredeti előirányzat összesen | D5: Önkormányzat | E5: Közös Hivatal | F5: TESZ | G5: Kultúrház | H5: Süni
A6: 27 | B6: Személyi juttatások (K1) | C6: =SUM(D6:H6) -> 380862666 | D6: 40882056 | E6: 141170324 | F6: 90434440 | G6: 22626952 | H6: 85748894
A7: 28 | B7: Munkaadókat terhelő járulékok és szociális hozzájárulási adó (K2) | C7: =SUM(D7:H7) -> 73316459 | D7: 8669381 | E7: 28404284 | F7: 13174994 | G7: 4456746 | H7: 18611054
A8: 87 | B8: Dologi kiadások (K3) | C8: =SUM(D8:H8) -> 460366483 | D8: 279675327 | E8: 34390846 | F8: 68919710 | G8: 36241176 | H8: 41139424
A9: 88 | B9: Családi támogatások (K42) | C9: =SUM(D9:H9) -> 0 | D9: =D10 -> 0 | E9: =E10 -> 0 | F9: =F10 -> 0 | G9: =G10 -> 0 | H9: =H10 -> 0
A10: 89 | B10: ebből: az egyéb pénzbeli és természetbeni gyermekvédelmi támogatások (K42132) | C10: =SUM(D10:H10) -> 0
A11: 90 | B11: Intézményi ellátottak pénzbeli juttatásai (K47) | C11: =SUM(D11:H11) -> 800000 | D11: =D12 -> 800000 | E11: =E12 -> 0 | F11: =F12 -> 0 | G11: =G12 -> 0 | H11: =H12 -> 0
A12: 91 | B12: ebből: oktatásban résztvevők pénzbeli juttatásai (K471) | C12: =SUM(D12:H12) -> 800000 | D12: 800000
A13: 92 | B13: Egyéb nem intézményi ellátások (K48) | C13: =SUM(D13:H13) -> 11000000 | D13: =SUM(D14:D15) -> 11000000 | E13: =SUM(E14:E15) -> 0 | F13: =SUM(F14:F15) -> 0 | G13: =SUM(G14:G15) -> 0 | H13: =SUM(H14:H15) -> 0
A14: 93 | B14: ebből: köztemetés [Szoctv. 48.§] (K48123) | C14: =SUM(D14:H14) -> 1000000 | D14: 1000000
A15: 94 | B15: ebből: települési támogatás [Szoctv. 45. §], (K48122) | C15: =SUM(D15:H15) -> 10000000 | D15: 10000000
A16: 96 | B16: Ellátottak pénzbeli juttatásai (K4) | C16: =SUM(D16:H16) -> 11800000 | D16: =D9+D11+D13 -> 11800000 | E16: =E9+E11+E13 -> 0 | F16: =F9+F11+F13 -> 0 | G16: =G9+G11+G13 -> 0 | H16: =H9+H11+H13 -> 0
A17: 97 | B17: Elvonások és befizetések (K5023) | C17: =SUM(D17:H17) -> 0
A18: 98 | B18: Egyéb működési célú támogatások államháztartáson belülre (K506) | C18: =SUM(D18:H18) -> 174487534 | D18: =SUM(D19:D22) -> 174487534 | E18: =SUM(E19:E22) -> 0 | F18: =SUM(F19:F22) -> 0 | G18: =SUM(G19:G22) -> 0 | H18: =SUM(H19:H22) -> 0
A19: 99 | B19: ebből: egyéb központi kezelésű előir (K50612) | C19: =SUM(D19:H19) -> 3500000 | D19: 3500000
A20: 100 | B20: ebből: elkülönített állami pénzalap (K50615) | C20: =SUM(D20:H20) -> 0
A21: 101 | B21: ebből: önkormányzatok és költségv-i szerveik K50616) | C21: =SUM(D21:H21) -> 0
A22: 102 | B22: ebből: társulások és költségvetési szerveik (K50617) | C22: =SUM(D22:H22) -> 170987534 | D22: 170987534
A23: 103 | B23: Egyéb működési célú támogatások államháztartáson kívülre (K512) | C23: =SUM(D23:H23) -> 17019600 | D23: 17019600
B24: Egyházi jogi személy egyé műk célú tám( K51216 | C24: =SUM(D24:H24) -> 0
A25: 104 | B25: Tartalékok (K51311) | C25: =SUM(D25:H25) -> 98212784 | D25: 98212784
A26: 105 | B26: Egyéb működési célú kiadások (K5) | C26: =SUM(D26:H26) -> 289719918 | D26: =D17+D18+D23+D24+D25 -> 289719918 | E26: =E17+E18+E23+E24+E25 -> 0 | F26: =F17+F18+F23+F24+F25 -> 0 | G26: =G17+G18+G23+G24+G25 -> 0 | H26: =H17+H18+H23+H24+H25 -> 0
A27: 106 | B27: Immateriális javak beszerzése, lét (K611) | C27: =SUM(D27:H27) -> 6200 | G27: 6200
A28: 107 | B28: Ingatlanok beszerzése, létesítése (K621) | C28: =SUM(D28:H28) -> 817794559 | D28: 817794559
A29: 108 | B29: Informatikai eszközök beszerzése, létesítése (K631) | C29: =SUM(D29:H29) -> 1020000 | E29: 1000000 | F29: 20000
A30: 109 | B30: Egyéb tárgyi eszközök beszerzése, létesítése (K641) | C30: =SUM(D30:H30) -> 30278515 | D30: 16018494 | E30: 3000000 | F30: 2280000 | G30: 8268921 | H30: 711100
A31: 110 | B31: Beruházási célú előzetesen felszámított általános forgalmi adó (K671) | C31: =SUM(D31:H31) -> 229118426 | D31: 225129526 | E31: 1080000 | F31: 621000 | G31: 2095903 | H31: 191997
A32: 111 | B32: Beruházások (K6) | C32: =SUM(D32:H32) -> 1078217700 | D32: =SUM(D27:D31) -> 1058942579 | E32: =SUM(E27:E31) -> 5080000 | F32: =SUM(F27:F31) -> 2921000 | G32: =SUM(G27:G31) -> 10371024 | H32: =SUM(H27:H31) -> 903097
A33: 112 | B33: Ingatlanok felújítása (K711) | C33: =SUM(D33:H33) -> 125300957 | D33: 125300957
B34: Informatikai eszközök felújítása (K723) | C34: =SUM(D34:H34) -> 200000 | E34: 200000
A35: 113 | B35: Egyéb tárgyi eszközök felújítása (K731) | C35: =SUM(D35:H35) -> 2235723 | D35: 959660 | F35: 1276063
A36: 114 | B36: Felújítási célú előzetesen felszámított általános forgalmi adó (K741) | C36: =SUM(D36:H36) -> 34488902 | D36: 34090365 | E36: 54000 | F36: 344537
A37: 115 | B37: Felújítások (K7) | C37: =SUM(D37:H37) -> 162225582 | D37: =SUM(D33:D36) -> 160350982 | E37: =SUM(E33:E36) -> 254000 | F37: =SUM(F33:F36) -> 1620600 | G37: =SUM(G33:G36) -> 0 | H37: =SUM(H33:H36) -> 0
A38: 116 | B38: Egyéb felhalmozási célú támogatások államháztartáson belülre (K84) | C38: =SUM(D38:H38) -> 7516495 | D38: 7516495 | E38: =SUM(E39:E41) -> 0 | F38: =SUM(F39:F41) -> 0 | G38: =SUM(G39:G41) -> 0 | H38: =SUM(H39:H41) -> 0
A39: 119 | B39: Egyéb felhalmozási célú támogatás Áht-n kívülre (K89) | C39: =SUM(D39:H39) -> 7500000 | D39: =SUM(D40:D41) -> 7500000
A40: 118 | B40: ebből:önkormányzati többségi tulajdonú nem pénzügyi vállalkozások (K89122) | C40: =SUM(D40:H40) -> 7500000 | D40: 7500000
A41: 117 | B41: ebből: egyéb civil szervezeteknek | C41: =SUM(D41:H41) -> 0
A42: 120 | B42: Egyéb felhalmozási célú kiadások (K8) | C42: =SUM(D42:H42) -> 15016495 | D42: =D38+D39 -> 15016495 | E42: =E38+E39 -> 0 | F42: =F38+F39 -> 0 | G42: =G38+G39 -> 0 | H42: =H38+H39 -> 0
A43: 121 | B43: Költségvetési kiadások (K1-K8) | C43: =SUM(D43:H43) -> 2471525303 | D43: =D6+D7+D8+D16+D26+D32+D37+D42 -> 1865056738 | E43: =E6+E7+E8+E16+E26+E32+E37+E42 -> 209299454 | F43: =F6+F7+F8+F16+F26+F32+F37+F42 -> 177070744 | G43: =G6+G7+G8+G16+G26+G32+G37+G42 -> 73695898 | H43: =H6+H7+H8+H16+H26+H32+H37+H42 -> 146402469
A44: 122 | B44: Államháztartáson belüli megelőlegezések visszafizetése (K914) | C44: =SUM(D44:H44) -> 13401715 | D44: 13401715
A45: 123 | B45: Központi, irányító szervi támogatások folyósítása (K915) | C45: =SUM(D45:H45) -> 529712635 | D45: 529712635
A46: 124 | B46: Belföldi finanszírozás kiadásai (K91) | C46: =SUM(D46:H46) -> 543114350 | D46: =SUM(D44:D45) -> 543114350 | E46: =SUM(E44:E45) -> 0 | F46: =SUM(F44:F45) -> 0 | G46: =SUM(G44:G45) -> 0 | H46: =SUM(H44:H45) -> 0
A47: 125 | B47: Finanszírozási kiadások (K9) | C47: =SUM(D47:H47) -> 543114350 | D47: =D46 -> 543114350 | E47: =E46 -> 0 | F47: =F46 -> 0 | G47: =G46 -> 0 | H47: =H46 -> 0
A48: 126 | B48: MINDÖSSZESEN: | C48: =SUM(D48:H48) -> 3014639653 | D48: =D43+D47 -> 2408171088 | E48: =E43+E47 -> 209299454 | F48: =F43+F47 -> 177070744 | G48: =G43+G47 -> 73695898 | H48: =H43+H47 -> 146402469
C49: ='[2]1'!C78 -> 3014639653 | D49: =D48-'[2]1'!D78 -> 0 | E49: =E48-'[2]1'!E78 -> 0 | F49: =F48-'[2]1'!F78 -> 0 | G49: =G48-'[2]1'!G78 -> 0 | H49: =H48-'[2]1'!H78 -> 0
C50: =C49-C48 -> 0

Sheet 13. mell
C1: Berhida Város Önkormányzatának
C2: 2020 évi költségvetés
C3: ELŐIRÁNYZAT FELHASZNÁLÁSI ÜTEMTERV | G3: 13. melléklet a 2/2020.(II.28.) rendelethez
G4: adatok Ft-ban
A6: 1 | B6: MEGNEVEZÉS | C6: Összesen | D6: január | E6: február | F6: március | G6: április | H6: május | I6: június | J6: július | K6: augusztus | L6: szeptember | M6: október | N6: november | O6: december | P6: Ellenőrző sor
A7: 2 | B7: Személyi juttatások | C7: ='[1]7'!C6 -> 411199541 | D7: =C7/12 -> 34266628 | E7: =C7/12 -> 34266628 | F7: =C7/12 -> 34266628 | G7: =C7/12 -> 34266628 | H7: =C7/12 -> 34266628 | I7: =C7/12 -> 34266628 | J7: =C7/12 -> 34266628 | K7: =C7/12 -> 34266628 | L7: =C7/12 -> 34266628 | M7: =C7/12 -> 34266628 | N7: =C7/12 -> 34266628 | O7: =C7/12 -> 34266628 | P7: =SUM(D7:O7) -> 4.1119954e+08
A8: 3 | B8: Munkaadókat terhelő járulékok és szociális hozzájárulási adó, | C8: ='[1]7'!C7 -> 72304994 | D8: =C8/12 -> 6025416.2 | E8: =C8/12 -> 6025416.2 | F8: =C8/12 -> 6025416.2 | G8: =C8/12 -> 6025416.2 | H8: =C8/12 -> 6025416.2 | I8: =C8/12 -> 6025416.2 | J8: =C8/12 -> 6025416.2 | K8: =C8/12 -> 6025416.2 | L8: =C8/12 -> 6025416.2 | M8: =C8/12 -> 6025416.2 | N8: =C8/12 -> 6025416.2 | O8: =C8/12 -> 6025416.2 | P8: =SUM(D8:O8) -> 72304994
A9: 4 | B9: Dologi kiadások | C9: ='[1]7'!C8 -> 505114265 | D9: =C9/12 -> 42092855 | E9: =C9/12 -> 42092855 | F9: =C9/12 -> 42092855 | G9: =C9/12 -> 42092855 | H9: =C9/12 -> 42092855 | I9: =C9/12 -> 42092855 | J9: =C9/12 -> 42092855 | K9: =C9/12 -> 42092855 | L9: =C9/12 -> 42092855 | M9: =C9/12 -> 42092855 | N9: =C9/12 -> 42092855 | O9: =C9/12 -> 42092855 | P9: =SUM(D9:O9) -> 5.0511427e+08
A10: 5 | B10: Ellátottak pénzbeli juttatásai | C10: ='[1]7'!C16 -> 11500000 | D10: =C10/12 -> 958333.33 | E10: =C10/12 -> 958333.33 | F10: =C10/12 -> 958333.33 | G10: =C10/12 -> 958333.33 | H10: =C10/12 -> 958333.33 | I10: =C10/12 -> 958333.33 | J10: =C10/12 -> 958333.33 | K10: =C10/12 -> 958333.33 | L10: =C10/12 -> 958333.33 | M10: =C10/12 -> 958333.33 | N10: =C10/12 -> 958333.33 | O10: =C10/12 -> 958333.33 | P10: =SUM(D10:O10) -> 11500000
A11: 7 | B11: Egyéb működési célú kiadások | C11: ='[1]7'!C26 -> 266071659 | D11: =C11/12 -> 22172638 | E11: =C11/12 -> 22172638 | F11: =C11/12 -> 22172638 | G11: =C11/12 -> 22172638 | H11: =C11/12 -> 22172638 | I11: =C11/12 -> 22172638 | J11: =C11/12 -> 22172638 | K11: =C11/12 -> 22172638 | L11: =C11/12 -> 22172638 | M11: =C11/12 -> 22172638 | N11: =C11/12 -> 22172638 | O11: =C11/12 -> 22172638 | P11: =SUM(D11:O11) -> 266071659
A12: 16 | B12: Beruházások | C12: ='[1]7'!C32 -> 1050385570 | D12: =C12/12 -> 87532131 | E12: =C12/12 -> 87532131 | F12: =C12/12 -> 87532131 | G12: =C12/12 -> 87532131 | H12: =C12/12 -> 87532131 | I12: =C12/12 -> 87532131 | J12: =C12/12 -> 87532131 | K12: =C12/12 -> 87532131 | L12: =C12/12 -> 87532131 | M12: =C12/12 -> 87532131 | N12: =C12/12 -> 87532131 | O12: =C12/12 -> 87532131 | P12: =SUM(D12:O12) -> 1.0503856e+09
A13: 17 | B13: Felújítások | C13: ='[1]7'!C37 -> 186718854 | D13: =C13/12 -> 15559904 | E13: =C13/12 -> 15559904 | F13: =C13/12 -> 15559904 | G13: =C13/12 -> 15559904 | H13: =C13/12 -> 15559904 | I13: =C13/12 -> 15559904 | J13: =C13/12 -> 15559904 | K13: =C13/12 -> 15559904 | L13: =C13/12 -> 15559904 | M13: =C13/12 -> 15559904 | N13: =C13/12 -> 15559904 | O13: =C13/12 -> 15559904 | P13: =SUM(D13:O13) -> 186718854
A14: 19 | B14: Egyéb felhalmozási célú támogatások | C14: ='[1]7'!C42 -> 12016495 | F14: 4500000 | K14: 7516495 | P14: =SUM(D14:O14) -> 12016495
A15: 20 | B15: Költségvetési kiadások | C15: =SUM(C7:C14) -> 2515311378 | D15: =SUM(D7:D14) -> 2.0860791e+08 | E15: =SUM(E7:E14) -> 2.0860791e+08 | F15: =SUM(F7:F14) -> 2.1310791e+08 | G15: =SUM(G7:G14) -> 2.0860791e+08 | H15: =SUM(H7:H14) -> 2.0860791e+08 | I15: =SUM(I7:I14) -> 2.0860791e+08 | J15: =SUM(J7:J14) -> 2.0860791e+08 | ... O15: =SUM(O7:O14) -> 2.0860791e+08 | P15: =SUM(D15:O15) -> 2515311378
A16: 27 | B16: Finanszírozási kiadások | C16: =C17+C18 -> 576864676 | D16: =D17+D18 -> 62761770 | E16: =E17+E18 -> 50042528 | F16: =F17+F18 -> 46406038 | G16: =G17+G18 -> 46406038 | H16: =H17+H18 -> 46406038 | I16: =I17+I18 -> 46406038 | J16: =J17+J18 -> 46406038 | ... O16: =O17+O18 -> 46406038 | P16: =SUM(D16:O16) -> 5.7686468e+08
B17: ÁHT belüli megelőlegezések visszafiz | C17: =SUM(D17:O17) -> 19992222 | D17: 16355732 | E17: 3636490 | P17: =SUM(D17:O17) -> 19992222
A18: 29 | B18: Irányító szervtől finansz támogatás | C18: ='[1]7'!C45 -> 556872454 | D18: =C18/12 -> 46406038 | E18: =C18/12 -> 46406038 | F18: =C18/12 -> 46406038 | G18: =C18/12 -> 46406038 | H18: =C18/12 -> 46406038 | I18: =C18/12 -> 46406038 | J18: =C18/12 -> 46406038 | K18: =C18/12 -> 46406038 | L18: =C18/12 -> 46406038 | M18: =C18/12 -> 46406038 | N18: =C18/12 -> 46406038 | O18: =C18/12 -> 46406038 | P18: =SUM(D18:O18) -> 5.5687245e+08
A19: 30 | B19: KIADÁSOK ÖSSZESEN: | C19: =C15+C16 -> 3092176054 | D19: =D15+D16 -> 2.7136968e+08 | E19: =E15+E16 -> 2.5865043e+08 | F19: =F15+F16 -> 2.5951394e+08 | G19: =G15+G16 -> 2.5501394e+08 | H19: =H15+H16 -> 2.5501394e+08 | I19: =I15+I16 -> 2.5501394e+08 | J19: =J15+J16 -> 2.5501394e+08 | ... O19: =O15+O16 -> 2.5501394e+08 | P19: =SUM(D19:O19) -> 3092176054
A20: 33 | B20: Működési célú támogatások államháztartáson belül | C20: ='[1]2'!C21 -> 662311084 | D20: =C20/12 -> 55192590 | E20: =C20/12 -> 55192590 | F20: =C20/12 -> 55192590 | G20: =C20/12 -> 55192590 | H20: =C20/12 -> 55192590 | I20: =C20/12 -> 55192590 | J20: =C20/12 -> 55192590 | K20: =C20/12 -> 55192590 | L20: =C20/12 -> 55192590 | M20: =C20/12 -> 55192590 | N20: =C20/12 -> 55192590 | O20: =C20/12 -> 55192590 | P20: =SUM(D20:O20) -> 662311084
A21: 34 | B21: Felhalmozási célú támogatások államháztartáson belülről | C21: ='[1]2'!C29 -> 850533503 | D21: =C21/12 -> 70877792 | E21: =C21/12 -> 70877792 | F21: =C21/12 -> 70877792 | G21: =C21/12 -> 70877792 | H21: =C21/12 -> 70877792 | I21: =C21/12 -> 70877792 | J21: =C21/12 -> 70877792 | K21: =C21/12 -> 70877792 | L21: =C21/12 -> 70877792 | M21: =C21/12 -> 70877792 | N21: =C21/12 -> 70877792 | O21: =C21/12 -> 70877792 | P21: =SUM(D21:O21) -> 8.505335e+08
A22: 35 | B22: Közhatalmi bevételek | C22: ='[1]2'!C40 -> 335946610 | D22: =C22/12 -> 27995551 | E22: =C22/12 -> 27995551 | F22: =C22/12 -> 27995551 | G22: =C22/12 -> 27995551 | H22: =C22/12 -> 27995551 | I22: =C22/12 -> 27995551 | J22: =C22/12 -> 27995551 | K22: =C22/12 -> 27995551 | L22: =C22/12 -> 27995551 | M22: =C22/12 -> 27995551 | N22: =C22/12 -> 27995551 | O22: =C22/12 -> 27995551 | P22: =SUM(D22:O22) -> 335946610
A23: 36 | B23: Működési bevételek | C23: ='[1]2'!C62 -> 35885928 | D23: =C23/12 -> 2990494 | E23: =C23/12 -> 2990494 | F23: =C23/12 -> 2990494 | G23: =C23/12 -> 2990494 | H23: =C23/12 -> 2990494 | I23: =C23/12 -> 2990494 | J23: =C23/12 -> 2990494 | K23: =C23/12 -> 2990494 | L23: =C23/12 -> 2990494 | M23: =C23/12 -> 2990494 | N23: =C23/12 -> 2990494 | O23: =C23/12 -> 2990494 | P23: =SUM(D23:O23) -> 35885928
A24: 37 | B24: Felhalmozási bevételek | C24: ='[1]2'!C65 -> 3000000 | D24: =C24/12 -> 250000 | E24: =C24/12 -> 250000 | F24: =C24/12 -> 250000 | G24: =C24/12 -> 250000 | H24: =C24/12 -> 250000 | I24: =C24/12 -> 250000 | J24: =C24/12 -> 250000 | K24: =C24/12 -> 250000 | L24: =C24/12 -> 250000 | M24: =C24/12 -> 250000 | N24: =C24/12 -> 250000 | O24: =C24/12 -> 250000 | P24: =SUM(D24:O24) -> 3000000
B25: Működési célú átvett pénzeszközök | C25: ='[1]2'!C67 -> 0 | D25: =C25/12 -> 0 | E25: =C25/12 -> 0 | F25: =C25/12 -> 0 | G25: =C25/12 -> 0 | H25: =C25/12 -> 0 | I25: =C25/12 -> 0 | J25: =C25/12 -> 0 | K25: =C25/12 -> 0 | L25: =C25/12 -> 0 | M25: =C25/12 -> 0 | N25: =C25/12 -> 0 | O25: =C25/12 -> 0 | P25: =SUM(D25:O25) -> 0
A26: 38 | B26: Felhalmozási célú átvett pénzeszközök | C26: ='[1]2'!C71 -> 1255000 | D26: =C26/12 -> 104583.33 | E26: =C26/12 -> 104583.33 | F26: =C26/12 -> 104583.33 | G26: =C26/12 -> 104583.33 | H26: =C26/12 -> 104583.33 | I26: =C26/12 -> 104583.33 | J26: =C26/12 -> 104583.33 | K26: =C26/12 -> 104583.33 | L26: =C26/12 -> 104583.33 | M26: =C26/12 -> 104583.33 | N26: =C26/12 -> 104583.33 | O26: =C26/12 -> 104583.33 | P26: =SUM(D26:O26) -> 1255000
A27: 39 | B27: Költségvetési bevételek | C27: =SUM(C20:C26) -> 1888932125 | D27: =SUM(D20:D26) -> 1.5741101e+08 | E27: =SUM(E20:E26) -> 1.5741101e+08 | F27: =SUM(F20:F26) -> 1.5741101e+08 | G27: =SUM(G20:G26) -> 1.5741101e+08 | H27: =SUM(H20:H26) -> 1.5741101e+08 | I27: =SUM(I20:I26) -> 1.5741101e+08 | J27: =SUM(J20:J26) -> 1.5741101e+08 | ... O27: =SUM(O20:O26) -> 1.5741101e+08 | P27: =SUM(D27:O27) -> 1.8889321e+09
A28: 55 | B28: Finanszírozási bevételek | C28: =SUM(C29:C32) -> 1203243929 | D28: =SUM(D29:D32) -> 6.2914102e+08 | E28: =SUM(E29:E32) -> 50042528 | F28: =SUM(F29:F32) -> 1.0640604e+08 | G28: =SUM(G29:G32) -> 46406038 | H28: =SUM(H29:H32) -> 46406038 | I28: =SUM(I29:I32) -> 46406038 | J28: =SUM(J29:J32) -> 46406038 | ... O28: =SUM(O29:O32) -> 46406038 | P28: =SUM(D28:O28) -> 1.2032439e+09
B29: Költségvetési maradvány igénybevétele | C29: ='[1]2'!C74 -> 582734985 | D29: ='[1]2'!C74 -> 582734985 | P29: =SUM(D29:O29) -> 582734985
B30: Áht megelőlegezés | C30: ='[1]2'!C75 -> 3636490 | E30: 3636490 | P30: =SUM(D30:O30) -> 3636490
B31: Államkötvény értékesítés | C31: 60000000 | F31: 60000000 | P31: =SUM(D31:O31) -> 60000000
A32: 56 | B32: Irányító szervtől finansz támogatás | C32: ='[1]2'!C76 -> 556872454 | D32: =C32/12 -> 46406038 | E32: =C32/12 -> 46406038 | F32: =C32/12 -> 46406038 | G32: =C32/12 -> 46406038 | H32: =C32/12 -> 46406038 | I32: =C32/12 -> 46406038 | J32: =C32/12 -> 46406038 | K32: =C32/12 -> 46406038 | L32: =C32/12 -> 46406038 | M32: =C32/12 -> 46406038 | N32: =C32/12 -> 46406038 | O32: =C32/12 -> 46406038 | P32: =SUM(D32:O32) -> 5.5687245e+08
A33: 58 | B33: BEVÉTELEK ÖSSZESEN: | C33: =C27+C28 -> 3092176054 | D33: =D27+D28 -> 7.8655203e+08 | E33: =E27+E28 -> 2.0745354e+08 | F33: =F27+F28 -> 2.6381705e+08 | G33: =G27+G28 -> 2.0381705e+08 | H33: =H27+H28 -> 2.0381705e+08 | I33: =I27+I28 -> 2.0381705e+08 | J33: =J27+J28 -> 2.0381705e+08 | ... O33: =O27+O28 -> 2.0381705e+08 | P33: =SUM(D33:O33) -> 3092176054

Sheet 14 mell
B1: Berhida Város Önkormányzatának | F1: 14. melléklet
B2: 2020 évi költségvetés | F2: 2/2020.(II.28.) rendelethez
F3: adatok Ft-ban
A4: Az Önkormányzat és az önkormányzati költségvetési szervek európai uniós forrásból megvalósítás alatt lévő projektjei
A6: A | B6: B | C6: C | D6: D | E6: E | F6: F
A7: Sorsz | B7: Uniós projekt megnevezése | C7: Uniós támogatás | D7: Önkormányzati forrás | E7: Összes bevétel | F7: Kiadás összesen | G7: személyi jutt | H7: járulék | I7: dologi | J7: Beruházás
A8: 1 | B8: TOP 3.1.1-16 közlekedésfejlesztés (kerékpárút)pály | C8: 259822948 | D8: 39716294 | E8: =C8+D8 -> 299539242 | F8: =SUM(G8:J8) -> 299539242 | G8: 2450209 | H8: 477791 | I8: 8590000 | J8: 288021242
A9: 2 | B9: KEHOP 2.2.1-15-00005 szennyvíztisztítótelep pály | C9: 993981370 | E9: =C9+D9 -> 993981370 | F9: =SUM(G9:J9) -> 993981365 | I9: 214984215 | J9: 778997150
A10: 3 | B10: VP Külterületi utas pályázat | C10: 28461065 | D10: =F10-C10 -> 5488315 | E10: =C10+D10 -> 33949380 | F10: =SUM(G10:J10) -> 33949380 | J10: 33949380
A11: 4 | B11: ÖNK VP6-7.2.1.4.1.3-17 közétkeztetés fejl. Süni eszközfejl.pály. | C11: 14249204 | D11: =F11-C11 -> 4676284 | E11: =C11+D11 -> 18925488 | F11: =SUM(G11:J11) -> 18925488 | J11: 18925488
A12: 5 | B12: TOP-1.4.1-19 Bölcsőde fejlesztés | C12: 274069715 | E12: =C12+D12 -> 274069715 | F12: =SUM(G12:J12) -> 274069715 | G12: 6476596 | H12: 1133404 | I12: 53612575 | J12: 212847140
A13: 6 | B13: VP6-19.2.1-7-2-17 Fittnespark kial pály | C13: 10178722 | D13: 3399440 | E13: =C13+D13 -> 13578162 | F13: =SUM(G13:J13) -> 13578162 | J13: 13578162
A14: 7 | E14: =C14+D14 -> 0 | F14: =SUM(G14:J14) -> 0
A15: 8 | E15: =C15+D15 -> 0 | F15: =SUM(G15:J15) -> 0
A16: 9 | B16: Összesen: | C16: =SUM(C8:C15) -> 1580763024 | D16: =SUM(D8:D15) -> 53280333 | E16: =SUM(E8:E15) -> 1634043357 | F16: =SUM(G16:J16) -> 1634043352 | G16: =SUM(G8:G15) -> 8926805 | H16: =SUM(H8:H15) -> 1611195 | I16: =SUM(I8:I15) -> 277186790 | J16: =SUM(J8:J15) -> 1346318562
