Workbook
Name onev: [1]kod!$BT$34:$BT$3186

Sheet 1.tábla 
A3: AZ ÖNKORMÁNYZAT FŐÖSSZESÍTŐJE
A4: MEGNEVEZÉS | B4: 2019. évi eredeti előirányzat | C4: I. Módosítás | D4: II. Módosítás | E4: III. Módosítás | F4: Eltérés
A5: I. Működési célú támogatások államháztartáson belülről | B5: ='2.tábla'!B5 -> 41568251 | C5: ='2.tábla'!C5 -> 42733378 | D5: ='2.tábla'!D5 -> 43337898 | E5: ='2.tábla'!E5 -> 44131898 | F5: ='2.tábla'!F5 -> 794000
A6: II. Felhalmozási célú támogatások államháztartáson belülről | B6: ='2.tábla'!B19 -> 0 | C6: ='2.tábla'!C19 -> 20000000 | D6: ='2.tábla'!D19 -> 22951930 | E6: ='2.tábla'!E19 -> 22951930 | F6: ='2.tábla'!F19 -> 0
A7: III. Közhatalmi bevételek | B7: ='2.tábla'!B25 -> 11383000 | C7: ='2.tábla'!C25 -> 11383000 | D7: ='2.tábla'!D25 -> 11383000 | E7: ='2.tábla'!E25 -> 11383000 | F7: ='2.tábla'!F25 -> 0
A8: IV. Működési bevételek | B8: ='2.tábla'!B38 -> 3308110 | C8: ='2.tábla'!C38 -> 3308110 | D8: ='2.tábla'!D38 -> 3308110 | E8: ='2.tábla'!E38 -> 3308110 | F8: ='2.tábla'!F38 -> 0
A9: V. Felhalmozási bevételek | B9: ='2.tábla'!B50 -> 0 | C9: ='2.tábla'!C50 -> 0 | D9: ='2.tábla'!F50 -> 0 | E9: ='2.tábla'!G50 -> 0 | F9: ='2.tábla'!F50 -> 0
A10: VI. Működési célú átvett pénzeszközök | B10: ='2.tábla'!B55 -> 0 | C10: ='2.tábla'!C55 -> 0 | D10: ='2.tábla'!F55 -> 0 | E10: ='2.tábla'!G55 -> 0 | F10: ='2.tábla'!F55 -> 0
A11: VII. Felhalmozási célú átvett pénzeszközök | B11: ='2.tábla'!B59 -> 0 | C11: ='2.tábla'!C59 -> 0 | D11: ='2.tábla'!F59 -> 0 | E11: ='2.tábla'!G59 -> 0 | F11: ='2.tábla'!F59 -> 0
A12: Költségvetési bevételek összesen: | B12: =SUM(B5:B11) -> 56259361 | C12: =SUM(C5:C11) -> 77424488 | D12: =SUM(D5:D11) -> 80980938 | E12: =SUM(E5:E11) -> 81774938 | F12: =SUM(F5:F11) -> 794000
A13: 1. Költségvetési hiány belső finanszírozására szolgáló finanszírozási bevételek | B13: ='2.tábla'!B64 -> 35000000 | C13: ='2.tábla'!C64 -> 42792254 | D13: ='2.tábla'!D64 -> 42792254 | E13: ='2.tábla'!E64 -> 42792254 | F13: ='2.tábla'!F64 -> 0
A14: 2. Költségvetési hiány külső finanszírozására szolgáló finanszírozási célú pénzügyi műveletek bevételei | B14: ='2.tábla'!B67 -> 1044244 | C14: ='2.tábla'!C67 -> 1044244 | D14: ='2.tábla'!D67 -> 1044244 | E14: ='2.tábla'!E67 -> 1044244 | F14: ='2.tábla'!F67 -> 0
A15: VIII. Finanszírozási bevételek | B15: =B13+B14 -> 36044244 | C15: =C13+C14 -> 43836498 | D15: =D13+D14 -> 43836498 | E15: =E13+E14 -> 43836498 | F15: =F13+F14 -> 0
A16: Bevételek összesen: | B16: =B12+B15 -> 92303605 | C16: =C12+C15 -> 121260986 | D16: =D12+D15 -> 124817436 | E16: =E12+E15 -> 125611436 | F16: =F12+F15 -> 794000
A18: Működési kiadások | B18: =B19 -> 65058469 | C18: =C19 -> 66850338 | D18: =D19 -> 67426725 | E18: =E19 -> 69546133 | F18: =E18-D18 -> 2119408
A19: Önkormányzati feladatok | B19: ='3.tábla '!B35 -> 65058469 | C19: ='3.tábla '!C35 -> 66850338 | D19: ='3.tábla '!D35 -> 67426725 | E19: ='3.tábla '!E35 -> 69546133 | F19: =E19-D19 -> 2119408
A20: Felhalmozási kiadások | B20: =SUM(B21:B23) -> 19184951 | C20: =SUM(C21:C23) -> 41934613 | D20: =SUM(D21:D23) -> 46132913 | E20: =SUM(E21:E23) -> 46132913 | F20: =E20-D20 -> 0
A21: Beruházások | B21: ='5.tábla'!B3 -> 8604620 | C21: ='5.tábla'!C3 -> 31354282 | D21: ='5.tábla'!D3 -> 34306212 | E21: ='5.tábla'!E3 -> 34306212 | F21: =E21-D21 -> 0
A22: Felújítások | B22: ='5.tábla'!B19 -> 10537476 | C22: ='5.tábla'!C19 -> 10537476 | D22: ='5.tábla'!D19 -> 11783846 | E22: ='5.tábla'!E19 -> 11783846 | F22: =E22-D22 -> 0
A23: Egyéb felhalmozási kiadások | B23: ='5.tábla'!B24 -> 42855 | C23: ='5.tábla'!C24 -> 42855 | D23: ='5.tábla'!D24 -> 42855 | E23: ='5.tábla'!E24 -> 42855 | F23: =E23-D23 -> 0
A25: Tartalékok | B25: =B26+B27 -> 5773950 | C25: =C26+C27 -> 10189800 | D25: =D26+D27 -> 8971563 | E25: =E26+E27 -> 7646155 | F25: =E25-D25 -> -1325408
A26: Általános | B26: 5773950 | C26: =5773950+7792254-10000-30000-21529-180340+15127-1200000-1549662-1550000 -> 9039800 | D26: =9039800+28133-1246370 -> 7821563 | E26: =7821563+843729-170157-150000-635000-50000-411480-127000-508000-117500 -> 6496155 | F26: =E26-D26 -> -1325408
A27: Cél | B27: 0 | C27: 1150000 | D27: 1150000 | E27: 1150000 | F27: =E27-D27 -> 0
A28: Költségvetési kiadások összesen: | B28: =SUM(B25,B20,B18) -> 90017370 | C28: =SUM(C25,C20,C18) -> 118974751 | D28: =SUM(D25,D20,D18) -> 122531201 | E28: =SUM(E25,E20,E18) -> 123325201 | F28: =E28-D28 -> 794000
A29: Állami támogatás megelőlegezés visszafizetés | B29: ='5.tábla'!B29 -> 2286235 | C29: ='5.tábla'!C29 -> 2286235 | D29: ='5.tábla'!D29 -> 2286235 | E29: 2286235 | F29: =E29-D29 -> 0
A30: Finanszírozási kiadások összesen: | B30: =SUM(B29:B29) -> 2286235 | C30: =SUM(C29:C29) -> 2286235 | D30: =SUM(D29:D29) -> 2286235 | E30: =SUM(E29:E29) -> 2286235 | F30: 0
A31: Kiadások összesen: | B31: =B28+B30 -> 92303605 | C31: =C28+C30 -> 121260986 | D31: =D28+D30 -> 124817436 | E31: =E28+E30 -> 125611436 | F31: =E31-D31 -> 794000
B32: =B16-B31 -> 0 | C32: =C16-C31 -> 0 | D32: =D16-D31 -> 0 | E32: =E16-E31 -> 0 | F32: =F16-F31 -> 0

Sheet 2.tábla
A3: BEVÉTELEK ELŐIRÁNYZATA
A4: MEGNEVEZÉS | B4: ='1.tábla '!B4 -> 2019. évi eredeti előirányzat | C4: ='1.tábla '!C4 -> I. Módosítás | D4: II. Módosítás | E4: III. Módosítás | F4: ='1.tábla '!F4 -> Eltérés
A5: I. Működési célú támogatások államháztartáson belülről | B5: =B6+B12+B13+B14+B15+B16 -> 41568251 | C5: =C6+C12+C13+C14+C15+C16 -> 42733378 | D5: =D6+D12+D13+D14+D15+D16 -> 43337898 | E5: =E6+E12+E13+E14+E15+E16 -> 44131898 | F5: =F6+F12+F13+F14+F15+F16 -> 794000
A6: 1. Önkormányzat működési támogatásai | B6: ='2a. tábla'!E48 -> 31049766 | C6: ='2a. tábla'!F48 -> 32245891 | D6: ='2a. tábla'!G48 -> 32873452 | E6: ='2a. tábla'!H48 -> 33690363 | F6: ='2a. tábla'!I48 -> 816911
A7: 1.1. Helyi önkormányzatok működésének általános támogatása | B7: ='2a. tábla'!E4 -> 24101266 | C7: ='2a. tábla'!F4 -> 24101266 | D7: ='2a. tábla'!G4 -> 24101266 | E7: ='2a. tábla'!H4 -> 24101266 | F7: ='2a. tábla'!I4 -> 0
A8: 1.3. Települési önkormányzatok szoc. és gyermekjóléti feladatainak tám. | B8: ='2a. tábla'!E33 -> 5148500 | C8: ='2a. tábla'!F33 -> 5194625 | D8: ='2a. tábla'!G33 -> 6367666 | E8: ='2a. tábla'!H33 -> 6390577 | F8: ='2a. tábla'!I33 -> 22911
A9: 1.4. Települési önkormányzatok kulturális feladatainak támogatása | B9: ='2a. tábla'!E41 -> 1800000 | C9: ='2a. tábla'!F41 -> 1800000 | D9: ='2a. tábla'!G41 -> 1800000 | E9: ='2a. tábla'!H41 -> 1800000 | F9: ='2a. tábla'!I41 -> 0
A10: 1.5. Helyi önk. Működési célú költségvetési támogatásai és kiegészítő támogatásai | B10: ='2a. tábla'!E45 -> 0 | C10: ='2a. tábla'!F44 -> 1150000 | D10: ='2a. tábla'!G44 -> 604520 | E10: ='2a. tábla'!H44 -> 1398520 | F10: ='2a. tábla'!I44 -> 794000
A11: 1.6. Elszámolásból származó bevételek
A12: 2. Elvonások, befizetések
A13: 3. Működési célú garancia- és kezességvállalásból származó megtérülések áh-n belülről
A14: 4. Működési célú visszatérítendő támogatások, kölcsönök visszatérülése áh-n belülről
A15: 5. Működési célú visszatérítendő támogatások, kölcsönök igénybevétele áh-n belülről
A16: 6. Egyéb működési célú támogatások bevételei államháztartáson belülről | B16: =B17+B18+77600 -> 10518485 | C16: =C17+C18+77600-46125+15127 -> 10487487 | D16: =D17+D18+77600-46125+15127-23041 -> 10464446 | E16: =E17+E18+77600-46125+15127-23041-22911 -> 10441535 | F16: =E16-D16 -> -22911
A17: Közfoglalkoztatási támogatás | B17: 2615889 | C17: 2615889 | D17: 2615889 | E17: 2615889 | F17: =E17-D17 -> 0
A18: EFOP-5.1.2-16-2017 Humán szolgáltatások fejlesztése | B18: 7824996 | C18: 7824996 | D18: 7824996 | E18: 7824996 | F18: =E18-D18 -> 0
A19: II. Felhalmozási célú támogatások államháztartáson belülről | B19: =B20 -> 0 | C19: =C20 -> 20000000 | D19: =D20+D24 -> 22951930 | E19: =E20+E24 -> 22951930 | F19: =E19-D19 -> 0
A20: 1. Felhalmozási célú önkormányzati támogatások | B20: 0 | C20: 20000000 | D20: 20000000 | E20: 20000000 | F20: =D20-C20 -> 0
A21: 2. Felhalmozási célú garancia- és kezességvállalásból származó megtérülések áh-n belülről
A22: 3. Felhalmozási célú visszatérítendő támogatások, kölcsönök visszatérülése áh-n belülről
A23: 4. Felhalmozási célú visszatérítendő támogatások, kölcsönök igénybevétele áh-n belülről
A24: 5. Egyéb felhalmozási célú támogatások államháztartáson belülről 927/3009/149/5/2019 | B24: 0 | C24: 0 | D24: 2951930 | E24: 2951930 | F24: =E24-D24 -> 0
A25: III. Közhatalmi bevételek | B25: =B26+B29+B37 -> 11383000 | C25: =C26+C29+C37 -> 11383000 | D25: =D26+D29+D37 -> 11383000 | E25: =E26+E29+E37 -> 11383000 | F25: =D25-C25 -> 0
A26: 1. Vagyoni típusú adók | B26: =SUM(B27:B28) -> 5883000 | C26: =SUM(C27:C28) -> 5883000 | D26: =SUM(D27:D28) -> 5883000 | E26: =SUM(E27:E28) -> 5883000 | F26: =D26-C26 -> 0
A27: 1.1. Magánszemélyek kommunális adója | B27: 5583000 | C27: 5583000 | D27: 5583000 | E27: 5583000 | F27: =D27-C27 -> 0
A28: 1.2. Telekadó | B28: 300000 | C28: 300000 | D28: 300000 | E28: 300000 | F28: =D28-C28 -> 0
A29: 2. Termékek és szolgáltatások adói | B29: =B30+B32+B33 -> 5400000 | C29: =C30+C32+C33 -> 5400000 | D29: =D30+D32+D33 -> 5400000 | E29: =E30+E32+E33 -> 5400000 | F29: =D29-C29 -> 0
A30: 2.1. Értékesítési és forgalmi adók | B30: =SUM(B31) -> 3500000 | C30: =SUM(C31) -> 3500000 | D30: =SUM(D31) -> 3500000 | E30: =SUM(E31) -> 3500000 | F30: =D30-C30 -> 0
A31: 2.1. 1. Iparűzési adó | B31: 3500000 | C31: 3500000 | D31: 3500000 | E31: 3500000 | F31: =D31-C31 -> 0
A32: 2.2. Gépjárműadók | B32: 1800000 | C32: 1800000 | D32: 1800000 | E32: 1800000 | F32: =D32-C32 -> 0
A33: 2.3. Egyéb áruhasználati és szolgáltatási adók | B33: =SUM(B34:B36) -> 100000 | C33: =SUM(C34:C36) -> 100000 | D33: =SUM(D34:D36) -> 100000 | E33: =SUM(E34:E36) -> 100000 | F33: =D33-C33 -> 0
A34: 2.3.1. Ifa személyek u. | B34: 100000 | C34: 100000 | D34: 100000 | E34: 100000 | F34: =D34-C34 -> 0
A35: 2.3.2. Talajterhelési díj | F35: =D35-C35 -> 0
A36: 2.3.3. Települési adó | F36: =D36-C36 -> 0
A37: 3. Egyéb közhatalmi bevételek (bírság, pótlék,) | B37: 100000 | C37: 100000 | D37: 100000 | E37: 100000 | F37: =D37-C37 -> 0
A38: IV. Működési bevételek | B38: =B39+B40+B42+B43+B45+B46+B47+B48+B49 -> 3308110 | C38: =C39+C40+C42+C43+C45+C46+C47+C48+C49 -> 3308110 | D38: =D39+D40+D42+D43+D45+D46+D47+D48+D49 -> 3308110 | E38: =E39+E40+E42+E43+E45+E46+E47+E48+E49 -> 3308110 | F38: =D38-C38 -> 0
A39: 1. Áru- és készletértékesítés bevétele
A40: 2. Nyújtott szolgáltatások ellenértéke | B40: 20000 | C40: 20000 | D40: 20000 | E40: 20000 | F40: =D40-C40 -> 0
A41: 2.2 bérleti díjak
A42: 3. Közvetített szolgáltatások ellenértéke | B42: 138110 | C42: =20000+118110 -> 138110 | D42: =20000+118110 -> 138110 | E42: =20000+118110 -> 138110 | F42: =D42-C42 -> 0
A43: 4. Tulajdonosi bevételek | B43: =B44 -> 2400000 | C43: 2400000 | D43: 2400000 | E43: 2400000 | F43: =D43-C43 -> 0
A44: 4.1. Üzemeltetési díjak | B44: 2400000 | C44: 2400000 | D44: 2400000 | E44: 2400000 | F44: =D44-C44 -> 0
A45: 5. Ellátási díjak
A46: 6. Kiszámlázott Áfa | B46: 750000 | C46: 750000 | D46: 750000 | E46: 750000 | F46: =D46-C46 -> 0
A47: 7. Áfa visszatérítés
A48: 8. Kamatbevétel
A49: 9. Egyéb működési bevételek (kártérítés, kötbér, stb.)
A50: V. Felhalmozási bevételek | B50: =SUM(B51:B54) -> 0 | C50: =SUM(C51:C54) -> 0 | D50: =SUM(D51:D54) -> 0 | E50: =SUM(E51:E54) -> 0 | F50: =D50-C50 -> 0
A51: 1. Immateriális javak értékesítése
A52: 2. Ingatlanok értékesítése
A53: 3. Egyéb tárgyi eszközök értékesítése
A54: 4. Részesedések értékesítése
A55: VI. Működési célú átvett pénzeszközök | B55: =SUM(B56:B58) -> 0 | C55: =SUM(C56:C58) -> 0 | D55: =SUM(D56:D58) -> 0 | E55: =SUM(E56:E58) -> 0 | F55: =D55-C55 -> 0
A56: 1. Működési célú garancia- és kezességvállalásból származó megtérülések áhk
A57: 2. Működési célú visszatérítendő támogatások, kölcsönök visszatérülése államháztartáson kívülről
A58: 3. Egyéb működési célú átvett pénzeszközök
A59: VII. Felhalmozási célú átvett pénzeszközök | B59: =B60+B61+B62 -> 0 | C59: =C60+C61+C62 -> 0 | D59: =D60+D61+D62 -> 0 | E59: =E60+E61+E62 -> 0 | F59: =D59-C59 -> 0
A60: 1. Felhalmozási célú garancia- és kezességvállalásból származó megtérülések áh-n kívülről
A61: 2. Felhalmozási célú visszatérítendő támogatások, kölcsönök visszatérülése államháztartáson kívülről
A62: 3. Egyéb felhalmozási célú átvett pénzeszközök
A63: Költségvetési bevételek összesen: | B63: =B59+B55+B50+B38+B25+B19+B5 -> 56259361 | C63: =C59+C55+C50+C38+C25+C19+C5 -> 77424488 | D63: =D59+D55+D50+D38+D25+D19+D5 -> 80980938 | E63: =E59+E55+E50+E38+E25+E19+E5 -> 81774938 | F63: =E63-D63 -> 794000
A64: 1. Költségvetési hiány belső finanszírozására szolgáló bevételek | B64: =SUM(B65:B66) -> 35000000 | C64: =SUM(C65:C66) -> 42792254 | D64: =SUM(D65:D66) -> 42792254 | E64: =SUM(E65:E66) -> 42792254 | F64: =E64-D64 -> 0
A65: 1.1. Előző év költségvetési maradványának igénybevétele működési célra | B65: 28135000 | C65: =28135000+7792254 -> 35927254 | D65: =28135000+7792254 -> 35927254 | E65: 35927254 | F65: =E65-D65 -> 0
A66: 1.2. Előző év költségvetési maradványának igénybevétele felhalmozási célra | B66: 6865000 | C66: 6865000 | D66: 6865000 | E66: 6865000 | F66: =E66-D66 -> 0
A67: 2. Költségvetési hiány külső finanszírozására szolgáló finanszírozási bevételek | B67: =B69+B68 -> 1044244 | C67: =C69+C68 -> 1044244 | D67: =D69+D68 -> 1044244 | E67: =E69+E68 -> 1044244 | F67: =E67-D67 -> 0
A68: 2.1. Forgatási célú értékpapír beváltása | B68: 0 | C68: 0 | D68: 0 | E68: 0 | F68: =E68-D68 -> 0
A69: 2.4. Államháztartáson belüli megelőlegezések | B69: 1044244 | C69: 1044244 | D69: 1044244 | E69: 1044244 | F69: =E69-D69 -> 0
A70: 2.5. Lekötött bankbetét megszüntetése | B70: 0 | C70: 0 | D70: 0 | E70: 0 | F70: =E70-D70 -> 0
A71: VIII. Finanszírozási bevételek | B71: =B67+B64 -> 36044244 | C71: =C67+C64 -> 43836498 | D71: =D67+D64 -> 43836498 | E71: =E67+E64 -> 43836498 | F71: =E71-D71 -> 0
A72: Összes bevétel: | B72: =B63+B71 -> 92303605 | C72: =C63+C71 -> 121260986 | D72: =D63+D71 -> 124817436 | E72: =E63+E71 -> 125611436 | F72: =E72-D72 -> 794000
A73: Intézményi létszámok: | B73: 6 | C73: 6 | D73: 6 | E73: 6
A74: ebből közfoglalkoztatott | B74: 3 | C74: 3 | D74: 3 | E74: 3

Sheet 2a. tábla
A1: ÁLLAMI TÁMOGATÁSOK 2019. ÉV
A2: MEGNEVEZÉS | B2: Létszám | C2: Mutató | D2: Fajlagos | E2: ELŐIRÁNYZAT | F2: I. Módosítás | G2: II. Módosítás | H2: III. Módosítás | I2: Eltérés
A4: I. HELYI ÖNKORMÁNYZATOK MŰKÖDÉSÉNEK ÁLTALÁNOS TÁMOGATÁSA | E4: =E5 -> 24101266 | F4: =F5 -> 24101266 | G4: =G5 -> 24101266 | H4: =H5 -> 24101266 | I4: =H4-G4 -> 0
A5: 1. Települési önkormányzatok működésének támogatása | E5: =E6 -> 24101266 | F5: =F6 -> 24101266 | G5: =G6 -> 24101266 | H5: =H6 -> 24101266 | I5: =H5-G5 -> 0
A6: Önkormányzati hivatal működtetésének támogatás (beszámítás után) | E6: =E9+E18+E21+E24+E27+E29 -> 24101266 | F6: =F9+F18+F21+F24+F27+F29 -> 24101266 | G6: =H9+G18+G21+G24+G27+G29 -> 24101266 | H6: 24101266 | I6: =H6-G6 -> 0
A7: Önkormányzati hivatal működtetésének támogatás elismert hivatali létsz. | E7: =C7*D7 -> 0 | F7: =D7*E7 -> 0 | G7: =E7*F7 -> 0 | H7: =F7*G7 -> 0 | I7: =H7-G7 -> 0
A8: Beszámítás összege | E8: 0 | F8: 0 | G8: 0 | H8: 0 | I8: =H8-G8 -> 0
A9: Település üzemeltetéséhez kapcsolódó feladatellátás támogatása (beszámítás után) | E9: =E10+E11+E12+E13+E14+E15+E16+E17 -> 10594400 | F9: =F10+F11+F12+F13+F14+F15+F16+F17 -> 10594400 | G9: =G10+G11+G12+G13+G14+G15+G16+G17 -> 10594400 | H9: =H10+G11+G12+G13+G14+G15+G16+G17 -> 10594400 | I9: =H9-G9 -> 0
A10: Zöldterület-gazdálk-al kapcsolatos feladatok ellátásának támogatása | D10: 22300 | E10: 985660 | F10: 985660 | G10: 985660 | H10: 985660 | I10: =H10-G10 -> 0
A11: Beszámítás összege
A12: Közvilágítás fenntartásának támogatás | E12: 4928000 | F12: 4928000 | G12: 4928000 | H12: 4928000 | I12: =H12-G12 -> 0
A13: Beszámítás összege
A14: Köztemető fenntartással kapcsolatos feladatok támog. | E14: 0 | F14: 0 | G14: 0 | I14: =H14-G14 -> 0
A15: Beszámítás összege
A16: Közutak fenntartásának támogatás | E16: 4680740 | F16: 4680740 | G16: 4680740 | H16: 4680740 | I16: =H16-G16 -> 0
A17: Beszámítás összege
A18: Egyéb önkormányzati feladatok támogatása (beszámítás után) | E18: =E19+E20 -> 5000000 | F18: =F19+F20 -> 5000000 | G18: =G19+G20 -> 5000000 | H18: =H19+H20 -> 5000000 | I18: =H18-G18 -> 0
A19: Egyéb önkormányzati feladatok támogatása | D19: 2700 | E19: 5000000 | F19: 5000000 | G19: 5000000 | H19: 5000000 | I19: =H19-G19 -> 0
A20: Beszámítás összege
A21: Lakott külterületekkel kapcsolatos feladatok támogatása(beszámítás után) | E21: =E22+E23 -> 114750 | F21: =F22+F23 -> 114750 | G21: =G22+G23 -> 114750 | H21: =H22+H23 -> 114750 | I21: =H21-G21 -> 0
A22: Lakott külterületekkel kapcsolatos feladatok támogatása | D22: 2550 | E22: 114750 | F22: 114750 | G22: 114750 | H22: 114750 | I22: =H22-G22 -> 0
A23: Beszámítás összege
A24: Üdülőhelyi feladatok támogatása (beszámitás után) | E24: =E25 -> 99600 | F24: =F25 -> 99600 | G24: =G25 -> 99600 | H24: =H25 -> 99600 | I24: =H24-G24 -> 0
A25: Üdülőhelyi feladatok támogatása | E25: 99600 | F25: 99600 | G25: 99600 | H25: 99600 | I25: =H25-G25 -> 0
A26: Beszámítás összege
A27: Kiegészítés | E27: 7172016 | F27: 7172016 | G27: 7172016 | H27: 7172016 | I27: =H27-G27 -> 0
A28: 5. 2018. évről áthúzódó bérkompenzáció támogatása | E28: 0 | F28: 0 | G28: 0 | H28: 0 | I28: 0
A29: 6. Polgármesteri illetmény támogatása | E29: 1120500 | F29: 1120500 | G29: 1120500 | H29: 1120500 | I29: =H29-G29 -> 0
A31: II. EGYES KÖZNEVELÉSI FELADATOK TÁMOGATÁSA | E31: 0 | F31: 0 | G31: 0 | I31: =H31-G31 -> 0
A33: III. SZOCIÁLIS, GYERMEKJÓLÉTI ÉS GYERMEKÉTKEZTETÉSI FELADATAI | E33: =E34+E37+E39+E35 -> 5148500 | F33: =F34+F37+F39+F35 -> 5194625 | G33: =G34+G37+G39+G35+G38 -> 6367666 | H33: =H34+H37+H39+H35+H38 -> 6390577 | I33: =H33-G33 -> 22911
A34: 1. Szociális ágazati összevont pótlék | E34: 0 | F34: 46125 | G34: =46125+23041 -> 69166 | H34: =46125+23041+22911 -> 92077 | I34: =H34-G34 -> 22911
A35: 2. Települési önkormányzatok szociális feladatainak egyéb támogatása | E35: 2048500 | F35: 2048500 | G35: 2048500 | H35: 2048500 | I35: =H35-G35 -> 0
A36: 3. Egyéb szociális és gyermekjólétii feladatok támogatása | E36: 3100000 | F36: 3100000 | G36: 3100000 | H36: 3100000 | I36: =H36-G36 -> 0
A37: e) Falugondnoki vagy tanyagondnoki szolgáltatás | E37: 3100000 | F37: 3100000 | G37: 3100000 | H37: 3100000 | I37: =H37-G37 -> 0
A38: A falu- és tanyagondoki szolgálatok 2019. évi többlettámogatása | E38: 0 | G38: 1150000 | H38: 1150000 | I38: =H38-G38 -> 0
A40: IV. A TELEPÜLÉSI ÖNKORMÁNYZATOK KULTURÁLIS FELADATAINAK TÁMOGATÁSA
A41: 1. Településiönkormányzatok nyilvános könyvtári és közművelődési feladatok támogatása | E41: =E42 -> 1800000 | F41: =F42 -> 1800000 | G41: =G42 -> 1800000 | H41: =H42 -> 1800000 | I41: =H41-G41 -> 0
E42: 1800000 | F42: 1800000 | G42: 1800000 | H42: 1800000 | I42: =H42-G42 -> 0
A44: Helyi önkormányzatok kiegészítő támogatásai (működési) | E44: 0 | F44: 1150000 | G44: =G45+G46 -> 604520 | H44: =H45+H46+H47 -> 1398520 | I44: =H44-G44 -> 794000
A45: A falu- és tanyagondoki szolgálatok 2019. évi többlettámogatása | E45: 0 | F45: 1150000 | G45: 0 | H45: 0 | I45: =H45-G45 -> 0
A46: Önkormányzatok szociális célú tüzelőanyag vásárlásához kapcsolódó támogatása | E46: 0 | F46: 0 | G46: 604520 | H46: 604520 | I46: =H46-G46 -> 0
A47: Lakossági víz- és csatornaszolgáltatás támogatásai | E47: 0 | F47: 0 | G47: 0 | H47: 794000 | I47: =H47-G47 -> 794000
A48: Összesen | E48: =E41+E33+E31+E4 -> 31049766 | F48: =F41+F33+F31+F4+F44 -> 32245891 | G48: =G41+G33+G31+G4+G44 -> 32873452 | H48: =H41+H33+H31+H4+H44 -> 33690363 | I48: =H48-G48 -> 816911

Sheet 3.tábla 
A1: MŰKÖDÉSI KIADÁSOK 2019. ÉV
A2: MEGNEVEZÉS | B2: ='1.tábla '!B4 -> 2019. évi eredeti előirányzat | C2: ='1.tábla '!C4 -> I. Módosítás | D2: II. Módosítás | E2: III. Módosítás | F2: ='1.tábla '!F4 -> Eltérés
A3: I. Önkormányzati Hivatal költségvetése
A4: 1. Személyi juttatások | B4: =SUM(B5:B6) -> 22269078 | C4: =SUM(C5:C6) -> 23819078 | D4: =SUM(D5:D6) -> 23819078 | E4: =SUM(E5:E6) -> 23919078 | F4: =E4-D4 -> 100000
A5: 1.1 Személyi juttatások | B5: 17195238 | C5: =17195238+1550000 -> 18745238 | D5: =17195238+1550000 -> 18745238 | E5: =18745238+100000 -> 18845238 | F5: =E5-D5 -> 100000
A6: 1.2 EFOP Személyi juttatások | B6: 5073840 | C6: 5073840 | D6: 5073840 | E6: 5073840 | F6: =E6-D6 -> 0
A7: 2. Munkaadót terhelő járulékok | B7: =B8+B9 -> 3645209 | C7: =C8+C9 -> 3645209 | D7: =D8+D9 -> 3645209 | E7: =E8+E9 -> 3662709 | F7: =E7-D7 -> 17500
A8: 2.1 Munakadót terhelő járulékok | B8: 2985209 | C8: 2985209 | D8: 2985209 | E8: =2985209+17500 -> 3002709 | F8: =E8-D8 -> 17500
A9: 2.2 EFOP Munkaadókat terhelő járulékok | B9: 660000 | C9: 660000 | D9: 660000 | E9: 660000 | F9: =E9-D9 -> 0
A10: 3. Dologi kiadások | B10: =SUM(B11:B28) -> 22864333 | C10: =SUM(C11:C28) -> 23084673 | D10: =SUM(D11:D28) -> 23689193 | E10: =SUM(E11:E28) -> 25570673 | F10: =E10-D10 -> 1881480
A11: Szakmai anyagok beszerzése | B11: 570000 | C11: =35000+10000 -> 45000 | D11: 45000 | E11: =45000+50000 -> 95000 | F11: =E11-D11 -> 50000
A12: Üzemeltetési anyagok beszerzése | B12: 2000000 | C12: 2000000 | D12: =2000000+476000 -> 2476000 | E12: =2476000+324000 -> 2800000 | F12: =E12-D12 -> 324000
A13: EFOP Üzemeltetési anyagok beszerzése | B13: 0 | C13: 421260 | D13: 421260 | E13: 421260 | F13: =E13-D13 -> 0
A14: Informatikai szolg.igénybevétele | B14: 550000 | C14: 550000 | D14: 550000 | E14: =650000+100000 -> 750000 | F14: =E14-D14 -> 200000
A15: Egyéb kommunikációs szolg. | B15: 650000 | C15: 650000 | D15: 650000 | E15: 550000 | F15: =E15-D15 -> -100000
A16: Közüzemi díjak | B16: 2000000 | C16: 2000000 | D16: 2000000 | E16: =2000000+400000 -> 2400000 | F16: =E16-D16 -> 400000
A17: Vásárolt élelmezés | B17: 20000 | C17: 20000 | D17: 20000 | E17: 20000 | F17: =E17-D17 -> 0
A18: Bérleti és lizing díjak | B18: 480000 | C18: =B18+30000 -> 510000 | D18: 510000 | E18: 510000 | F18: =E18-D18 -> 0
A19: Karbantartási, kisjavítási szolgáltatások 75/2019. (V. 29.) | B19: 400000 | C19: =400000+142000 -> 542000 | D19: 642000 | E19: =+D19+150000 -> 792000 | F19: =E19-D19 -> 150000
A20: Közvetített szolgáltatások | B20: 200000 | C20: 200000 | D20: 200000 | E20: 200000 | F20: =E20-D20 -> 0
A21: Szakmai tevékenységet segítő szolg. | B21: 1800000 | C21: 1800000 | D21: 1800000 | E21: =1800000+500000 -> 2300000 | F21: =E21-D21 -> 500000
A22: Egyéb szolgáltatások | B22: 3500000 | C22: 3500000 | D22: 3400000 | E22: 3400000 | F22: =E22-D22 -> 0
A23: EFOP Egyéb szolgáltatások | B23: 5954333 | C23: 4688451 | D23: 4688451 | E23: 4688451 | F23: =E23-D23 -> 0
A24: Reklám és propagandakiadások | B24: 40000 | C24: 40000 | D24: 40000 | E24: 40000 | F24: =E24-D24 -> 0
A25: Működési célú előzetesen felszámított ÁFA | B25: 2700000 | C25: =2700000+38340 -> 2738340 | D25: =2738340+128520 -> 2866860 | E25: =2738340+128520+135000+87480+27000+108000 -> 3224340 | F25: =E25-D25 -> 357480
A26: EFOP Működési célú előzetesen felszámított ÁFA | B26: 0 | C26: =113740+1265882 -> 1379622 | D26: 1379622 | E26: 1379622 | F26: =E26-D26 -> 0
A27: Fizetendő ÁFA | B27: 750000 | C27: 750000 | D27: 750000 | E27: 750000 | F27: =E27-D27 -> 0
A28: Egyéb dologi kiadások | B28: 1250000 | C28: 1250000 | D28: 1250000 | E28: 1250000 | F28: =E28-D28 -> 0
A29: 4. Ellátottak pénzbeli juttatásai | B29: =B30 -> 2048500 | C29: =C30 -> 2048500 | D29: =D30 -> 2048500 | E29: =E30 -> 2048500 | F29: =E29-D29 -> 0
A30: Települési támogatás | B30: 2048500 | C30: 2048500 | D30: 2048500 | E30: 2048500 | F30: =E30-D30 -> 0
A31: 5. Egyéb működési célú kiadások | B31: ='4.tábla'!B17+B34 -> 14231349 | C31: ='4.tábla'!C17+C34 -> 14252878 | D31: ='4.tábla'!D17+D34 -> 14224745 | E31: ='4.tábla'!E17+E34 -> 14345173 | F31: =E31-D31 -> 120428
A32: 5.1. Egyéb működési célú visszatérítendő támogatások államháztartáson belülre | B32: ='4.tábla'!B3 -> 13371349 | C32: ='4.tábla'!C3 -> 13371349 | D32: ='4.tábla'!D3 -> 13343216 | E32: ='4.tábla'!E3 -> 12669644 | F32: =E32-D32 -> -673572
A33: 5.2 Működési célú visszatérítendő támogatások, kölcsönök nyújtása áh-n kívülre | B33: ='4.tábla'!B9 -> 860000 | C33: ='4.tábla'!C9 -> 860000 | D33: ='4.tábla'!D9 -> 860000 | E33: ='4.tábla'!E9 -> 1654000 | F33: =E33-D33 -> 794000
A34: 5.3 Állami támogatás visszafizetése elszámolás alapján | B34: 0 | C34: 21529 | D34: 21529 | E34: 21529 | F34: =E34-D34 -> 0
A35: Önkormányzati működési kiadások összesen: | B35: =B4+B7+B10+B29+B31 -> 65058469 | C35: =C4+C7+C10+C29+C31 -> 66850338 | D35: =D4+D7+D10+D29+D31 -> 67426725 | E35: =E4+E7+E10+E29+E31 -> 69546133 | F35: =E35-D35 -> 2119408

Sheet 4.tábla
A1: MŰKÖDÉSI KIADÁSOK 2019. ÉV
A2: Megnevezés | B2: ='1.tábla '!B4 -> 2019. évi eredeti előirányzat | C2: ='1.tábla '!C4 -> I. Módosítás | D2: ='1.tábla '!D4 -> II. Módosítás | E2: III. Módosítás | F2: ='1.tábla '!F4 -> Eltérés
A3: 1. Működési célú támogatások államháztartáson belülre | B3: =SUM(B4:B8) -> 13371349 | C3: =SUM(C4:C8) -> 13371349 | D3: =SUM(D4:D8) -> 13343216 | E3: =SUM(E4:E8) -> 12669644 | F3: =E3-D3 -> -673572
A4: Balatonfüredi Közoktatási Intézményfenntartó Társulás Pécsely Óvoda fenntartási támogatás | B4: 5178174 | C4: 5178174 | D4: 5178174 | E4: 4334445 | F4: =E4-D4 -> -843729
A5: Balatonfüredi Közös Önkormányzati Hivatal | B5: 6988286 | C5: 6988286 | D5: 6988286 | E5: 6988286 | F5: =E5-D5 -> 0
A6: Balatonfüredi Többcélú Társulás | B6: 954889 | C6: 954889 | D6: 926756 | E6: 926756 | F6: =E6-D6 -> 0
A7: Közfoglalkoztatási támogatás visszafizetése | B7: 0 | C7: 0 | D7: 0 | E7: 170157 | F7: =E7-D7 -> 170157
A8: BURSA Hungarica ösztöndíj (Wekerle Sándor Alapkezelő) | B8: 250000 | C8: 250000 | D8: 250000 | E8: 250000 | F8: =E8-D8 -> 0
A9: 2. Működési célú támogatások államháztartáson kívülre | B9: =SUM(B10:B14) -> 860000 | C9: =SUM(C10:C14) -> 860000 | D9: =SUM(D10:D14) -> 860000 | E9: =SUM(E10:E15) -> 1654000 | F9: =E9-D9 -> 794000
A10: Balatonszőlős Darts egyesület | B10: 150000 | C10: 150000 | D10: 150000 | E10: 150000 | F10: =E10-D10 -> 0
A11: Balatonszőlős Sport egyesület | B11: 500000 | C11: 500000 | D11: 500000 | E11: 500000 | F11: =E11-D11 -> 0
A12: Tihany Iskoláért Alapítvány | B12: 100000 | C12: 100000 | D12: 100000 | E12: 100000 | F12: =E12-D12 -> 0
A13: Falugondnokok egyesülete támogatás | B13: 10000 | C13: 10000 | D13: 10000 | E13: 10000 | F13: =E13-D13 -> 0
A14: Balatonszőlős Jövőjéért Alapítvány | B14: 100000 | C14: 100000 | D14: 100000 | E14: 100000 | F14: =E14-D14 -> 0
A15: Bakonykarszt Zrt. Lakossági víz- és csatornaszolgáltatás támogatása BM/5730-22/2019. | B15: 0 | C15: 0 | D15: 0 | E15: 794000 | F15: =E15-D15 -> 794000
A16: 3. Működési célú visszatérítendő támogatások, kölcsönök nyújtása, törlesztése | B16: 0 | C16: 0 | D16: 0 | E16: 0 | F16: 0
A17: Összesen: | B17: =B9+B3 -> 14231349 | C17: =C9+C3 -> 14231349 | D17: =D9+D3 -> 14203216 | E17: =E9+E3 -> 14323644 | F17: =F9+F3 -> 120428

Sheet 5.tábla
A1: FELHALMOZÁSI KIADÁSOK 2019. ÉV
A2: Megnevezés | B2: ='1.tábla '!B4 -> 2019. évi eredeti előirányzat | C2: ='1.tábla '!C4 -> I. Módosítás | D2: ='1.tábla '!D4 -> II. Módosítás | E2: III. Módosítás | F2: ='1.tábla '!F4 -> Eltérés
A3: I. BERUHÁZÁSOK | B3: =B4+B6+B12+B10 -> 8604620 | C3: =C4+C6+C12+C10 -> 31354282 | D3: =D4+D6+D12+D10 -> 34306212 | E3: =E4+E6+E12+E10 -> 34306212 | F3: =E3-D3 -> 0
A4: Immateriális javak beszerzése | B4: =SUM(B5:B5) -> 2500000 | C4: =SUM(C5:C5) -> 2500000 | D4: =SUM(D5:D5) -> 2500000 | E4: =SUM(E5:E5) -> 2500000 | F4: =E4-D4 -> 0
A5: Rendezési terv felülvizsgálat önrész | B5: 2500000 | C5: 2500000 | D5: 2500000 | E5: 2500000 | F5: =E5-D5 -> 0
A6: Ingatlanok beszerzése, létesítése | B6: =B7+B8+B9 -> 4004620 | C6: =C7+C8+C9 -> 24004620 | D6: =D7+D8+D9 -> 24004620 | E6: =E7+E8+E9 -> 24004620 | F6: =E6-D6 -> 0
A7: Külterületi út- és csapadékvíz elvezető rendszer kiépítése - pályázat | B7: 0 | C7: 20000000 | D7: 20000000 | E7: 20000000 | F7: =E7-D7 -> 0
A8: LEADER pályázat Közösségi tér önrész 75/2018. (VIII. 28.) | B8: 1004620 | C8: 1004620 | D8: 1004620 | E8: 1004620 | F8: =E8-D8 -> 0
A9: LEADER pályázat Közösségi tér munkálatok 75/2018. (VIII. 28.) | B9: 3000000 | C9: 3000000 | D9: 3000000 | E9: 3000000 | F9: =E9-D9 -> 0
A10: Informatikai eszközök beszerzése, létesítése | B10: 50000 | C10: =50000+C11 -> 250000 | D10: =50000+D11 -> 250000 | E10: =50000+E11 -> 250000 | F10: =E10-D10 -> 0
A11: EFOP Informatikai eszköz bszerzése | B11: 0 | C11: 200000 | D11: 200000 | E11: 200000 | F11: =E11-D11 -> 0
A12: Egyéb tárgyi eszköz beszerzése | B12: =B13+B14+B15 -> 2050000 | C12: =SUM(C13:C18) -> 4599662 | D12: =SUM(D13:D18) -> 7551592 | E12: =SUM(E13:E18) -> 7551592 | F12: =E12-D12 -> 0
A13: Nyomtató vásárlás 37/2019. (II. 14.) | B13: 250000 | C13: 250000 | D13: 250000 | E13: 250000 | F13: =E13-D13 -> 0
A14: RZ kaszsa | B14: 300000 | C14: 300000 | D14: 300000 | E14: 300000 | F14: =E14-D14 -> 0
A15: Kisértékű tárgyi eszközök | B15: 1500000 | C15: 1500000 | D15: 1500000 | E15: 1500000 | F15: =E15-D15 -> 0
A16: EFOP Eszközbeszerzés | B16: 0 | C16: 1000000 | D16: 1000000 | E16: 1000000 | F16: =E16-D16 -> 0
A17: Eszközbeszerzés egészségügyi ellátáshoz | B17: 0 | C17: 0 | D17: 2951930 | E17: 2951930 | F17: =E17-D17 -> 0
A18: Szivattyú beszerzése 61/2019. (IV. 17.) | B18: 0 | C18: 1549662 | D18: 1549662 | E18: 1549662 | F18: =E18-D18 -> 0
A19: II. FELÚJÍTÁSOK | B19: =B20 -> 10537476 | C19: =C20 -> 10537476 | D19: =D20 -> 11783846 | E19: =E20 -> 11783846 | F19: =E19-D19 -> 0
A20: Ingatlanok Felújítása | B20: =B21+B22 -> 10537476 | C20: =SUM(C21:C22) -> 10537476 | D20: =SUM(D21:D23) -> 11783846 | E20: 11783846 | F20: =E20-D20 -> 0
A21: Önkormányzati fejlesztések 2018 önrész | B21: 1580622 | C21: 1580622 | D21: 1580622 | E21: 1580622 | F21: =E21-D21 -> 0
A22: Önkormányzati fejlesztések 2018 munkálatok | B22: 8956854 | C22: 8956854 | D22: 8956854 | E22: 8956854 | F22: =E22-D22 -> 0
A23: Önkormányzati fejlesztések 2018 pótmunka 82/2019. (VII. 19.) | B23: 0 | C23: 0 | D23: 1246370 | E23: 1246370 | F23: =E23-D23 -> 0
A24: III. EGYÉB FELHALMOZÁSI KIADÁSOK | B24: =B25 -> 42855 | C24: =C25 -> 42855 | D24: =D25 -> 42855 | E24: 42855 | F24: =E24-D24 -> 0
A25: Egyéb felhalmozási kiadások | B25: 42855 | C25: 42855 | D25: 42855 | E25: 42855 | F25: =E25-D25 -> 0
A26: IV. FINANSZÍROZÁSI KIADÁSOK | B26: =B27+B28+B29 -> 2286235 | C26: =C27+C28+C29 -> 2286235 | D26: =D27+D28+D29 -> 2286235 | E26: =E27+E28+E29 -> 2286235 | F26: =E26-D26 -> 0
A27: Lekötött bankbetét beváltása | F27: =E27-D27 -> 0
A28: Forgatási célú értékpapír vásárlás | F28: =E28-D28 -> 0
A29: Állami támogatás megelőlegezés visszafizetés | B29: 2286235 | C29: 2286235 | D29: 2286235 | E29: 2286235 | F29: =E29-D29 -> 0
A30: Felhalmozási kiadások összesen: | B30: =B3+B19+B26+B24 -> 21471186 | C30: =C3+C19+C26+C24 -> 44220848 | D30: =D3+D19+D26+D24 -> 48419148 | E30: =E3+E19+E26+E24 -> 48419148 | F30: =E30-D30 -> 0

Sheet 6.tábla 
A2: Az Önkormányzat működési bevételei és kiadásai 2019. év
A4: 1. Működési bevételek | B4: ='1.tábla '!B4 -> 2019. évi eredeti előirányzat | C4: ='1.tábla '!C4 -> I. Módosítás | D4: ='1.tábla '!D4 -> II. Módosítás | E4: ='1.tábla '!E4 -> III. Módosítás | F4: ='1.tábla '!F4 -> Eltérés | G4: 2. Működési kiadások | H4: =B4 -> 2019. évi eredeti előirányzat | I4: =C4 -> I. Módosítás | J4: =D4 -> II. Módosítás | K4: =E4 -> III. Módosítás | L4: =F4 -> Eltérés
A5: 1. Működési célú támogatások államháztartáson belülről | B5: ='1.tábla '!B5 -> 41568251 | C5: ='1.tábla '!C5 -> 42733378 | D5: ='1.tábla '!D5 -> 43337898 | E5: ='1.tábla '!E5 -> 44131898 | F5: ='1.tábla '!F5 -> 794000 | G5: 1. Személyi juttatások | H5: ='3.tábla '!B4 -> 22269078 | I5: ='3.tábla '!C4 -> 23819078 | J5: ='3.tábla '!D4 -> 23819078 | K5: ='3.tábla '!E4 -> 23919078 | L5: ='3.tábla '!F4 -> 100000
A6: 2. Közhatalmi bevételek | B6: ='1.tábla '!B7 -> 11383000 | C6: ='1.tábla '!C7 -> 11383000 | D6: ='1.tábla '!D7 -> 11383000 | E6: ='1.tábla '!E7 -> 11383000 | F6: ='1.tábla '!F7 -> 0 | G6: 2. Munkaadót terhelő járulékok | H6: ='3.tábla '!B7 -> 3645209 | I6: ='3.tábla '!C7 -> 3645209 | J6: ='3.tábla '!D7 -> 3645209 | K6: ='3.tábla '!E7 -> 3662709 | L6: ='3.tábla '!F7 -> 17500
A7: 3. Működési bevételek | B7: ='1.tábla '!B8 -> 3308110 | C7: ='1.tábla '!C8 -> 3308110 | D7: ='1.tábla '!D8 -> 3308110 | E7: ='1.tábla '!E8 -> 3308110 | F7: ='1.tábla '!F8 -> 0 | G7: 3. Dologi kiadások | H7: ='3.tábla '!B10 -> 22864333 | I7: ='3.tábla '!C10 -> 23084673 | J7: ='3.tábla '!D10 -> 23689193 | K7: ='3.tábla '!E10 -> 25570673 | L7: ='3.tábla '!F10 -> 1881480
A8: 4. Működési célú átvett pénzeszközök államháztartáson kivülről | B8: 0 | C8: 0 | D8: 0 | E8: 0 | F8: 0 | G8: 4. Ellátottak pénzbeli juttatásai | H8: ='3.tábla '!B30 -> 2048500 | I8: ='3.tábla '!C30 -> 2048500 | J8: ='3.tábla '!D30 -> 2048500 | K8: ='3.tábla '!E30 -> 2048500 | L8: ='3.tábla '!F30 -> 0
G9: 5. Egyéb működési célú kiadások | H9: =H10+H11+H12+H13 -> 14231349 | I9: =I10+I11+I12+I13 -> 14252878 | J9: =J10+J11+J12+J13 -> 14224745 | K9: =K10+K11+K12+K13 -> 14345173 | L9: =L10+L11+L12+L13 -> 120428
G10: 5.1. Elvonások, befizetések
G11: 5.2. Egyéb működési célú támogatások áhb | H11: ='4.tábla'!B3 -> 13371349 | I11: ='4.tábla'!C3 -> 13371349 | J11: ='4.tábla'!D3 -> 13343216 | K11: ='4.tábla'!E3 -> 12669644 | L11: ='4.tábla'!F3 -> -673572
G12: 5.4. Egyéb működési célú támogatások áhk | H12: ='4.tábla'!B9 -> 860000 | I12: ='4.tábla'!C9 -> 860000 | J12: ='4.tábla'!D9 -> 860000 | K12: ='4.tábla'!E9 -> 1654000 | L12: ='4.tábla'!F9 -> 794000
G13: 5.5. Állami támogatás visszafizetése elszámolás alapján | H13: ='3.tábla '!B34 -> 0 | I13: ='3.tábla '!C34 -> 21529 | J13: ='3.tábla '!D34 -> 21529 | K13: ='3.tábla '!E34 -> 21529 | L13: ='3.tábla '!F34 -> 0
G14: 6. Pénzforgalom nélküli kiadások (tartalék) | H14: ='1.tábla '!B25 -> 5773950 | I14: ='1.tábla '!C25 -> 10189800 | J14: ='1.tábla '!D25 -> 8971563 | K14: ='1.tábla '!E25 -> 7646155 | L14: ='1.tábla '!F25 -> -1325408
A15: Összes költségvetési működési bevétel: | B15: =SUM(B5:B14) -> 56259361 | C15: =SUM(C5:C14) -> 57424488 | D15: =SUM(D5:D14) -> 58029008 | E15: =SUM(E5:E14) -> 58823008 | F15: =SUM(F5:F14) -> 794000 | G15: Összes költségvetési működési kiadás: | H15: =H5+H6+H7+H8+H9+H14 -> 70832419 | I15: =I5+I6+I7+I8+I9+I14 -> 77040138 | J15: =J5+J6+J7+J8+J9+J14 -> 76398288 | K15: =K5+K6+K7+K8+K9+K14 -> 77192288 | L15: =L5+L6+L7+L8+L9+L14 -> 794000
A16: Működési többlet: | G16: Működési hiány: | H16: =H15-B15 -> 14573058 | I16: =I15-C15 -> 19615650 | J16: =J15-D15 -> 18369280 | K16: =K15-E15 -> 18369280 | L16: =L15-F15 -> 0
A17: Költségvetési hiány belső finanszírozása működési célú | B17: =SUM(B18) -> 28135000 | C17: =SUM(C18) -> 35927254 | D17: =SUM(D18) -> 35927254 | E17: =SUM(E18) -> 35927254 | F17: =SUM(F18) -> 0 | G17: Finanszírozási célú műveletek kiadásai működési célú | H17: =H18+H19+H20+H21 -> 2286235 | I17: =I18+I19+I20+I21 -> 2286235 | J17: =J18+J19+J20+J21 -> 2286235 | K17: =K18+K19+K20+K21 -> 2286235 | L17: =L18+L19+L20+L21 -> 0
A18: 5. Költségvetési Maradvány | B18: ='2.tábla'!B65 -> 28135000 | C18: ='2.tábla'!C65 -> 35927254 | D18: ='2.tábla'!D65 -> 35927254 | E18: ='2.tábla'!E65 -> 35927254 | F18: ='2.tábla'!F65 -> 0 | G18: 7. Állami támogatás megelőlegezés visszafizetése | H18: ='5.tábla'!B29 -> 2286235 | I18: ='5.tábla'!C29 -> 2286235 | J18: ='5.tábla'!D29 -> 2286235 | K18: ='5.tábla'!E29 -> 2286235 | L18: ='5.tábla'!F29 -> 0
A19: Költségvetési hiány külső finanszírozása működési célú | B19: =SUM(B20:B22) -> 1044244 | C19: =SUM(C20:C22) -> 1044244 | D19: =SUM(D20:D22) -> 1044244 | E19: =SUM(E20:E22) -> 1044244 | F19: =SUM(F20:F22) -> 0 | G19: 8. Lekötött bankbetét megszüntetése
A20: 6. Értékpapír beváltása | B20: ='2.tábla'!B68 -> 0 | C20: ='2.tábla'!C68 -> 0 | D20: ='2.tábla'!D68 -> 0 | E20: ='2.tábla'!E68 -> 0 | F20: ='2.tábla'!F68 -> 0 | G20: 9. Betét vásárlás
A21: 7. Lekötött bankbetét megszüntetése | G21: 10. Forgatási célú értékpapír vásárlása
A22: 8. Állami támogatás megelőlegezés visszafizetése | B22: ='2.tábla'!B69 -> 1044244 | C22: ='2.tábla'!C69 -> 1044244 | D22: ='2.tábla'!D69 -> 1044244 | E22: ='2.tábla'!E69 -> 1044244 | F22: ='2.tábla'!F69 -> 0
A23: Összes működési bevétel: | B23: =B15+B17+B19 -> 85438605 | C23: =C15+C17+C19 -> 94395986 | D23: =D15+D17+D19 -> 95000506 | E23: =E15+E17+E19 -> 95794506 | F23: =F15+F17+F19 -> 794000 | G23: Összes működési kiadás | H23: =H17+H15 -> 73118654 | I23: =I17+I15 -> 79326373 | J23: =J17+J15 -> 78684523 | K23: =K17+K15 -> 79478523 | L23: =L17+L15 -> 794000
A25: Az Önkormányzat felhalmozási bevételei és kiadásai 2019. év
A27: 1. Felhalmozási bevételek | B27: =B4 -> 2019. évi eredeti előirányzat | C27: =C4 -> I. Módosítás | D27: =D4 -> II. Módosítás | E27: =E4 -> III. Módosítás | F27: =F4 -> Eltérés | G27: 2. Felhalmozási kiadások | H27: =B27 -> 2019. évi eredeti előirányzat | I27: =C27 -> I. Módosítás | J27: =D27 -> II. Módosítás | K27: =E27 -> III. Módosítás | L27: =F27 -> Eltérés
A28: 1. Felhalmozási célú támogatások államháztartáson belülről | B28: ='2.tábla'!B19 -> 0 | C28: ='2.tábla'!C19 -> 20000000 | D28: ='2.tábla'!D19 -> 22951930 | E28: ='2.tábla'!E19 -> 22951930 | F28: ='2.tábla'!F19 -> 0 | G28: 1.1. Beruházások | H28: ='5.tábla'!B3 -> 8604620 | I28: ='5.tábla'!C3 -> 31354282 | J28: ='5.tábla'!D3 -> 34306212 | K28: ='5.tábla'!E3 -> 34306212 | L28: ='5.tábla'!F3 -> 0
A29: 2. Felhalmozási bevételek | B29: ='2.tábla'!B50 -> 0 | C29: ='2.tábla'!C50 -> 0 | D29: ='2.tábla'!D50 -> 0 | E29: ='2.tábla'!E50 -> 0 | F29: ='2.tábla'!F50 -> 0 | G29: 1.2. Int.saját hatáskörű fejlesztések
A30: 3. Felhalmozási célú átvett pénzeszközök | B30: ='2.tábla'!B59 -> 0 | C30: ='2.tábla'!C59 -> 0 | D30: ='2.tábla'!D59 -> 0 | E30: ='2.tábla'!E59 -> 0 | F30: ='2.tábla'!F59 -> 0 | G30: 2. Felújítások | H30: ='5.tábla'!B19 -> 10537476 | I30: ='5.tábla'!C19 -> 10537476 | J30: ='5.tábla'!D19 -> 11783846 | K30: ='5.tábla'!E19 -> 11783846 | L30: ='5.tábla'!F19 -> 0
G31: 3. Egyéb felhalmozási kiadások | H31: =H32+H33+H35+H36 -> 42855 | I31: =I32+I33+I35+I36 -> 42855 | J31: =J32+J33+J35+J36 -> 42855 | K31: =K32+K33+K35+K36 -> 42855 | L31: =L32+L33+L35+L36 -> 0
G32: 3.1. Egyéb felhalmozási célú támogatások áh-n kívülre
G33: 3.2. Egyéb felhalmozási célú támogatások áh-n belülre | H33: ='5.tábla'!B25 -> 42855 | I33: ='5.tábla'!C25 -> 42855 | J33: ='5.tábla'!D25 -> 42855 | K33: ='5.tábla'!E25 -> 42855 | L33: ='5.tábla'!F25 -> 0
G35: 3.3. Felhalmozási célú visszatérítendő támogatások, kölcsönök nyújtása áh-n belülre
G36: 3.3. Felhalmozási célú visszatérítendő támogatások, kölcsönök nyújtása áh-n kívülre
A37: Összes költségvetési felhalmozási bevétel: | B37: =SUM(B28:B35) -> 0 | C37: =SUM(C28:C35) -> 20000000 | D37: =SUM(D28:D35) -> 22951930 | E37: =SUM(E28:E35) -> 22951930 | F37: =SUM(F28:F35) -> 0 | G37: Összes költségvetési felhalmozási kiadás: | H37: =SUM(H28:H31) -> 19184951 | I37: =SUM(I28:I31) -> 41934613 | J37: =SUM(J28:J31) -> 46132913 | K37: =SUM(K28:K31) -> 46132913 | L37: =SUM(L28:L31) -> 0
A38: Felhalmozási többlet: | B38: -9466956 | C38: -9466956 | D38: -9466956 | E38: -9466956 | F38: -9466956 | G38: Felhalmozási hiány: | H38: =H37-B37 -> 19184951 | I38: =I37-C37 -> 21934613 | J38: =J37-D37 -> 23180983 | K38: =K37-E37 -> 23180983 | L38: =L37-F37 -> 0
A39: Költségvetési hiány belső finanszírozása felhalmozási célú | B39: =SUM(B40) -> 6865000 | C39: =SUM(C40) -> 6865000 | D39: =SUM(D40) -> 6865000 | E39: =SUM(E40) -> 6865000 | F39: =SUM(F40) -> 0 | G39: Finanszírozási célú műveletek kiadásai felhalmozási célú | H39: =SUM(H40:H42) -> 0 | I39: =SUM(I40:I42) -> 0 | J39: =SUM(J40:J42) -> 0 | K39: =SUM(K40:K42) -> 0 | L39: =SUM(L40:L42) -> 0
A40: 4.Költségvetési maradvány | B40: ='2.tábla'!B66 -> 6865000 | C40: ='2.tábla'!C66 -> 6865000 | D40: ='2.tábla'!D66 -> 6865000 | E40: ='2.tábla'!E66 -> 6865000 | F40: ='2.tábla'!F66 -> 0 | G40: 4. Értékpapírok visszavásárlása
A41: Költségvetési hiány külső finanszírozása felhalmozási célú | B41: =SUM(B42:B43) -> 0 | C41: =SUM(C42:C43) -> 0 | D41: =SUM(D42:D43) -> 0 | E41: =SUM(E42:E43) -> 0 | F41: =SUM(F42:F43) -> 0 | G41: 5. Hitelek törlesztése
A42: 5. Értékpapír kibocsátás, értékesítés | G42: 6. Állami támogatás megelőlegezés visszafizetése
A43: 6. Hitelfelvétel
A44: Összes felhalmozási bevétel: | B44: =B37+B39+B41 -> 6865000 | C44: =C37+C39+C41 -> 26865000 | D44: =D37+D39+D41 -> 29816930 | E44: =E37+E39+E41 -> 29816930 | F44: =F37+F39+F41 -> 0 | G44: Összes felhalmozási kiadás | H44: =H37+H39 -> 19184951 | I44: =I37+I39 -> 41934613 | J44: =J37+J39 -> 46132913 | K44: =K37+K39 -> 46132913 | L44: =L37+L39 -> 0
A47: Bevétele és kiadások mérlege 2019. év
A49: BEVÉTELEK | B49: =B4 -> 2019. évi eredeti előirányzat | C49: =C4 -> I. Módosítás | D49: =D4 -> II. Módosítás | E49: =E4 -> III. Módosítás | F49: =F4 -> Eltérés | G49: KIADÁSOK | H49: =B49 -> 2019. évi eredeti előirányzat | I49: =C49 -> I. Módosítás | J49: =D49 -> II. Módosítás | K49: =E49 -> III. Módosítás | L49: =F49 -> Eltérés
A50: Költségvetési működési bevételek | B50: =B15 -> 56259361 | C50: =C15 -> 57424488 | D50: =D15 -> 58029008 | E50: =E15 -> 58823008 | F50: =F15 -> 794000 | G50: Költségvetési működési kiadások | H50: =H15 -> 70832419 | I50: =I15 -> 77040138 | J50: =J15 -> 76398288 | K50: =K15 -> 77192288 | L50: =L15 -> 794000
A51: Költségvetési felhalmozási bevételek | B51: =B37 -> 0 | C51: =C37 -> 20000000 | D51: =D37 -> 22951930 | E51: =E37 -> 22951930 | F51: =F37 -> 0 | G51: Költségvetési felhalmozási kiadások | H51: =H37 -> 19184951 | I51: =I37 -> 41934613 | J51: =J37 -> 46132913 | K51: =K37 -> 46132913 | L51: =L37 -> 0
A52: Költségvetési bevételek összesen: | B52: =SUM(B50:B51) -> 56259361 | C52: =SUM(C50:C51) -> 77424488 | D52: =SUM(D50:D51) -> 80980938 | E52: =SUM(E50:E51) -> 81774938 | F52: =SUM(F50:F51) -> 794000 | G52: Költségvetési kiadások összesen: | H52: =SUM(H50:H51) -> 90017370 | I52: =SUM(I50:I51) -> 118974751 | J52: =SUM(J50:J51) -> 122531201 | K52: =SUM(K50:K51) -> 123325201 | L52: =SUM(L50:L51) -> 794000
A53: Költségvetési többlet: | G53: Költségvetési hiány: | H53: =H52-B52 -> 33758009 | I53: =I52-C52 -> 41550263 | J53: =J52-D52 -> 41550263 | K53: =K52-E52 -> 41550263 | L53: =L52-F52 -> 0
A54: Költségvetési hiány belső finanszírozása: | B54: =SUM(B55:B56) -> 35000000 | C54: =SUM(C55:C56) -> 42792254 | D54: =SUM(D55:D56) -> 42792254 | E54: =SUM(E55:E56) -> 42792254 | F54: =SUM(F55:F56) -> 0 | G54: Finanszírozási célú műveletek kiadásai összesen: | H54: =SUM(H55:H56) -> 2286235 | I54: =SUM(I55:I56) -> 2286235 | J54: =SUM(J55:J56) -> 2286235 | K54: =SUM(K55:K56) -> 2286235 | L54: =SUM(L55:L56) -> 0
A55: Költségvetési hiány belső finanszírozása működési célú | B55: =B17 -> 28135000 | C55: =C17 -> 35927254 | D55: =D17 -> 35927254 | E55: =E17 -> 35927254 | F55: =F17 -> 0 | G55: Finanszírozási célú műveletek működési kiadásai | H55: =H17 -> 2286235 | I55: =I17 -> 2286235 | J55: =J17 -> 2286235 | K55: =K17 -> 2286235 | L55: =L17 -> 0
A56: Költségvetési hiány belső finanszírozása felhalmozási célú | B56: =B39 -> 6865000 | C56: =C39 -> 6865000 | D56: =D39 -> 6865000 | E56: =E39 -> 6865000 | F56: =F39 -> 0 | G56: Finanszírozási célú műveletek felhalmozási kiadásai | H56: =H39 -> 0 | I56: =I39 -> 0 | J56: =J39 -> 0 | K56: =K39 -> 0 | L56: =L39 -> 0
A57: Költségvetési hiány külső finanszírozása: | B57: =SUM(B58:B59) -> 1044244 | C57: =SUM(C58:C59) -> 1044244 | D57: =SUM(D58:D59) -> 1044244 | E57: =SUM(E58:E59) -> 1044244 | F57: =SUM(F58:F59) -> 0
A58: Költségvetési hiány külső finanszírozása működési célú | B58: =B19 -> 1044244 | C58: =C19 -> 1044244 | D58: =D19 -> 1044244 | E58: =E19 -> 1044244 | F58: =F19 -> 0
A59: Költségvetési hiány külső finanszírozása felhalmozási célú | B59: =B41 -> 0 | C59: =C41 -> 0 | D59: =D41 -> 0 | E59: =E41 -> 0 | F59: =F41 -> 0
A60: Összes bevétel: | B60: =B52+B54+B57 -> 92303605 | C60: =C52+C54+C57 -> 121260986 | D60: =D52+D54+D57 -> 124817436 | E60: =E52+E54+E57 -> 125611436 | F60: =F52+F54+F57 -> 794000 | G60: Összes kiadás: | H60: =H52+H54 -> 92303605 | I60: =I52+I54 -> 121260986 | J60: =J52+J54 -> 124817436 | K60: =K52+K54 -> 125611436 | L60: =L52+L54 -> 794000
A61: TÖBBLET

Sheet 7.tábla
A1: Az Önkormányzat kötelező feladatok bevételei és kiadásai 2019. év
A2: 1. Működési bevételek | B2: ='1.tábla '!B4 -> 2019. évi eredeti előirányzat | C2: ='1.tábla '!C4 -> I. Módosítás | D2: ='1.tábla '!D4 -> II. Módosítás | E2: ='1.tábla '!E4 -> III. Módosítás | F2: ='1.tábla '!F4 -> Eltérés | G2: 2. Működési kiadások | H2: =B2 -> 2019. évi eredeti előirányzat | I2: =C2 -> I. Módosítás | J2: =D2 -> II. Módosítás | K2: =E2 -> III. Módosítás | L2: =F2 -> Eltérés
A3: Működési bevételek | G3: Működési kiadások
A4: 1. Működési támogatások államháztartáson belülről | B4: ='6.tábla '!B5 -> 41568251 | C4: ='6.tábla '!C5 -> 42733378 | D4: ='6.tábla '!D5 -> 43337898 | E4: ='6.tábla '!E5 -> 44131898 | F4: ='6.tábla '!F5 -> 794000 | G4: 1. Személyi juttatások | H4: ='6.tábla '!H5 -> 22269078 | I4: ='6.tábla '!I5 -> 23819078 | J4: ='6.tábla '!J5 -> 23819078 | K4: ='6.tábla '!K5 -> 23919078 | L4: ='6.tábla '!L5 -> 100000
A5: 2. Közhatalmi bevételek | B5: ='6.tábla '!B6 -> 11383000 | C5: ='6.tábla '!C6 -> 11383000 | D5: ='6.tábla '!D6 -> 11383000 | E5: ='6.tábla '!E6 -> 11383000 | F5: ='6.tábla '!F6 -> 0 | G5: 2. Munkaadót terhelő járulékok | H5: ='6.tábla '!H6 -> 3645209 | I5: ='6.tábla '!I6 -> 3645209 | J5: ='6.tábla '!J6 -> 3645209 | K5: ='6.tábla '!K6 -> 3662709 | L5: ='6.tábla '!L6 -> 17500
A6: 3. Működési bevételek | B6: ='6.tábla '!B7-B34 -> 3308110 | C6: ='6.tábla '!C7-C34 -> 3308110 | D6: ='6.tábla '!D7-D34 -> 3308110 | E6: ='6.tábla '!E7-E34 -> 3308110 | F6: ='6.tábla '!F7-F34 -> 0 | G6: 3. Dologi kiadások | H6: ='6.tábla '!H7-H34 -> 22864333 | I6: ='6.tábla '!I7-I34 -> 23084673 | J6: ='6.tábla '!J7-J34 -> 23689193 | K6: ='6.tábla '!K7-K34 -> 25570673 | L6: ='6.tábla '!L7-L34 -> 1881480
A7: 4. Működési célú átvett pénzeszközök áhk | B7: ='6.tábla '!B8 -> 0 | C7: ='6.tábla '!C8 -> 0 | D7: ='6.tábla '!D8 -> 0 | E7: ='6.tábla '!E8 -> 0 | F7: 0 | G7: 4. Ellátottak pénzbeli juttatásai | H7: ='6.tábla '!H8 -> 2048500 | I7: ='6.tábla '!I8 -> 2048500 | J7: ='6.tábla '!J8 -> 2048500 | K7: ='6.tábla '!K8 -> 2048500 | L7: ='6.tábla '!L8 -> 0
G8: 5. Egyéb működési célú kiadások | H8: =H10+H11+H12 -> 13371349 | I8: =I10+I11+I12 -> 13392878 | J8: =J10+J11+J12 -> 13364745 | K8: =K10+K11+K12 -> 12691173 | L8: =L10+L11+L12 -> -673572
G9: 5.1. Elvonások, befizetések | H9: ='6.tábla '!H10 -> 0 | I9: ='6.tábla '!I10 -> 0 | J9: ='6.tábla '!J10 -> 0 | K9: ='6.tábla '!K10 -> 0 | L9: ='6.tábla '!L10 -> 0
G10: 5.2. Egyéb működési célú támogatások áh-n belülre | H10: ='6.tábla '!H11 -> 13371349 | I10: ='6.tábla '!I11 -> 13371349 | J10: ='6.tábla '!J11 -> 13343216 | K10: ='6.tábla '!K11 -> 12669644 | L10: ='6.tábla '!L11 -> -673572
G11: 5.4. Egyéb működési célú támogatások áh-n kívülre | H11: ='6.tábla '!H12-H40 -> 0 | I11: ='6.tábla '!I12-I40 -> 0 | J11: 0 | K11: 0 | L11: ='6.tábla '!L12-L40 -> 0
G12: 5.5. Működési célú visszatérítendő támogatások, kölcsönök nyújtása áh-n kívülre | H12: ='6.tábla '!H13 -> 0 | I12: ='6.tábla '!I13 -> 21529 | J12: ='6.tábla '!J13 -> 21529 | K12: ='6.tábla '!K13 -> 21529 | L12: ='6.tábla '!L13 -> 0
G13: 6. Pénzforgalom nélküli kiadások (tartalék) | H13: ='6.tábla '!H14 -> 5773950 | I13: ='6.tábla '!I14 -> 10189800 | J13: ='6.tábla '!J14 -> 8971563 | K13: ='6.tábla '!K14 -> 7646155 | L13: ='6.tábla '!L14 -> -1325408
A14: Költségvetési működési bevételek kötelező feladatok szerinti bontásban | B14: =SUM(B4:B13) -> 56259361 | C14: =SUM(C4:C13) -> 57424488 | D14: =SUM(D4:D13) -> 58029008 | E14: =SUM(E4:E13) -> 58823008 | F14: =SUM(F4:F13) -> 794000 | G14: Költségvetési felhalmozási kiadások kötelező feladatok szerinti bontásban | H14: =H4+H5+H6+H7+H8+H13 -> 69972419 | I14: =I4+I5+I6+I7+I8+I13 -> 76180138 | J14: =J4+J5+J6+J7+J8+J13 -> 75538288 | K14: =K4+K5+K6+K7+K8+K13 -> 75538288 | L14: =L4+L5+L6+L7+L8+L13 -> 0
A15: Finanszírozási bevételek | B15: ='6.tábla '!B54 -> 35000000 | C15: ='6.tábla '!C54 -> 42792254 | D15: ='6.tábla '!D54 -> 42792254 | E15: ='6.tábla '!E54 -> 42792254 | F15: ='6.tábla '!F54 -> 0 | G15: Finanszírozási kiadások | H15: ='6.tábla '!H17-H55 -> 2286235 | I15: ='6.tábla '!I17-I55 -> 2286235 | J15: ='6.tábla '!J17-J55 -> 2286235 | K15: ='6.tábla '!K17-K55 -> 2286235 | L15: ='6.tábla '!L17-L55 -> 0
A16: Működési bevételek kiemelt előirányzatonként kötelező feladatok szerinti bontásban | B16: =B14+B15 -> 91259361 | C16: =C14+C15 -> 100216742 | D16: =D14+D15 -> 100821262 | E16: =E14+E15 -> 101615262 | F16: =F14+F15 -> 794000 | G16: Működési kiadások kiemelt előirányzatonként kötelező feladatok szerinti bontásban | H16: =H14+H15 -> 72258654 | I16: =I14+I15 -> 78466373 | J16: =J14+J15 -> 77824523 | K16: =K14+K15 -> 77824523 | L16: =L14+L15 -> 0
A17: Felhalmozási bevételek | G17: Felhalmozási kiadások
A18: 1. Felhalmozási célú támogatások áhb | B18: ='1.tábla '!B6 -> 0 | C18: ='1.tábla '!C6 -> 20000000 | D18: ='1.tábla '!D6 -> 22951930 | E18: ='1.tábla '!E6 -> 22951930 | F18: ='1.tábla '!F6 -> 0 | G18: 1.1. Beruházások | H18: ='6.tábla '!H28-H46 -> 8604620 | I18: ='6.tábla '!I28-I46 -> 31354282 | J18: ='6.tábla '!J28-J46 -> 34306212 | K18: ='6.tábla '!K28-K46 -> 34306212 | L18: ='6.tábla '!L28-L46 -> 0
A19: 2. Felhalmozási bevételek | B19: ='6.tábla '!B29-B47 -> 0 | C19: 0 | D19: 0 | E19: 0 | F19: 0 | G19: 1.2. Int.saját hatáskörű fejlesztések
A20: 3. Felhalmozási célú átvett pénzeszközök áhk | B20: ='6.tábla '!B30-B48 -> 0 | C20: ='6.tábla '!C30 -> 0 | D20: 0 | E20: 0 | F20: ='6.tábla '!F30 -> 0 | G20: 2. Felújítások | H20: ='6.tábla '!H30 -> 10537476 | I20: ='6.tábla '!I30 -> 10537476 | J20: ='6.tábla '!J30 -> 11783846 | K20: ='6.tábla '!K30 -> 11783846 | L20: ='6.tábla '!L30 -> 0
G21: 3. Egyéb felhalmozási célú kiadások | H21: ='6.tábla '!H31 -> 42855 | I21: ='6.tábla '!I31 -> 42855 | J21: ='6.tábla '!J31 -> 42855 | K21: ='6.tábla '!K31 -> 42855 | L21: ='6.tábla '!L31 -> 0
G22: 3.1. Egyéb felhalmozási célú pénzeszköz átadás áhk
G23: 3.2. Egyéb felhalmozási célú pénzeszköz átadás áh-n belülre
G24: 3.4. Felhalmozási célú visszatérítendő támogatások, kölcsönök nyújtása áh-n kívülre
A25: Költségvetési felhalmozási bevételek kötelező feladatok szerinti bontásban | B25: =SUM(B18:B24) -> 0 | C25: =SUM(C18:C24) -> 20000000 | D25: =SUM(D18:D24) -> 22951930 | E25: =SUM(E18:E24) -> 22951930 | F25: =SUM(F18:F24) -> 0 | G25: Költségvetési felhalmozási kiadások kötelező feladatok szerinti bontásban | H25: =SUM(H18:H24) -> 19184951 | I25: =SUM(I18:I24) -> 41934613 | J25: =SUM(J18:J24) -> 46132913 | K25: =SUM(K18:K24) -> 46132913 | L25: =SUM(L18:L24) -> 0
A26: Finanszírozási bevételek | B26: ='6.tábla '!B19-B55 -> 1044244 | C26: ='6.tábla '!C19-C55 -> 1044244 | D26: ='6.tábla '!D19-D55 -> 1044244 | E26: ='6.tábla '!E19-E55 -> 1044244 | F26: ='6.tábla '!F19-F55 -> 0 | G26: Finanszírozási kiadások | H26: ='6.tábla '!H39 -> 0 | I26: ='6.tábla '!I39 -> 0 | J26: ='6.tábla '!J39 -> 0 | K26: ='6.tábla '!K39 -> 0 | L26: ='6.tábla '!L39 -> 0
A27: Felhalmozási bevételek kiemelt előirányzatonként kötelező feladatok szerinti bontásban | B27: =B25+B26 -> 1044244 | C27: =C25+C26 -> 21044244 | D27: =D25+D26 -> 23996174 | E27: =E25+E26 -> 23996174 | F27: =F25+F26 -> 0 | G27: Felhalmozási kiadások kiemelt előirányzatonként kötelező feladatok szerinti bontásban | H27: =H25+H26 -> 19184951 | I27: =I25+I26 -> 41934613 | J27: =J25+J26 -> 46132913 | K27: =K25+K26 -> 46132913 | L27: =L25+L26 -> 0
B28: =B27+B16 -> 92303605 | C28: =C27+C16 -> 121260986 | D28: =D27+D16 -> 124817436 | E28: =E27+E16 -> 125611436 | F28: =F27+F16 -> 794000 | H28: =H27+H16 -> 91443605 | I28: =I27+I16 -> 120400986 | J28: =J27+J16 -> 123957436 | K28: =K27+K16 -> 123957436 | L28: =L27+L16 -> 0
A29: Az Önkormányzat önként vállalt feladatok bevételei és kiadásai 2019. év
A30: 1. Működési bevételek | B30: =B2 -> 2019. évi eredeti előirányzat | C30: =C2 -> I. Módosítás | D30: =D2 -> II. Módosítás | E30: =E2 -> III. Módosítás | F30: =F2 -> Eltérés | G30: 2. Működési kiadások | H30: =B30 -> 2019. évi eredeti előirányzat | I30: =C30 -> I. Módosítás | J30: =D30 -> II. Módosítás | K30: =E30 -> III. Módosítás | L30: =F30 -> Eltérés
A31: Működési bevételek | G31: Működési kiadások
A32: 1. Működési támogatások államháztartáson belülről | G32: 1. Személyi juttatások
A33: 2. Közhatalmi bevételek | G33: 2. Munkaadót terhelő járulékok
A34: 3. Működési bevételek | G34: 3. Dologi kiadások
A35: 4. Működési célú átvett pénzeszközök államháztartáson kivülről | G35: 4. Ellátottak pénzbeli juttatásai
G36: 5. Egyéb működési célú kiadások
G37: 5.1. Elvonások, befizetések
G38: 5.2. Egyéb működési célú támogatások áhb
G39: 5.4. Egyéb működési célú támogatások áhk
G40: 5.5. Működési célú visszatérítendő támogatások, kölcsönök nyújtása áh-n kívülre | H40: ='4.tábla'!B9 -> 860000 | I40: ='4.tábla'!C9 -> 860000 | J40: ='4.tábla'!D9 -> 860000 | K40: ='4.tábla'!E9 -> 1654000 | L40: ='4.tábla'!F9 -> 794000
G41: 6. Pénzforgalom nélküli kiadások (tartalék)
A42: Költségvetési működési bevételek önként vállalt feladatok szerinti bontásban | B42: =SUM(B32:B41) -> 0 | C42: 0 | D42: 0 | E42: 0 | F42: 0 | G42: Költségvetési működési kiadások önként vállalt feladatok szerinti bontásban | H42: =SUM(H32:H41) -> 860000 | I42: =SUM(I32:I41) -> 860000 | J42: =SUM(J32:J41) -> 860000 | K42: =SUM(K32:K41) -> 1654000 | L42: =SUM(L32:L41) -> 794000
A43: Finanszírozási bevételek | G43: Finanszírozási kiadások
A44: Működési bevételek kiemelt előirányzatonként önként vállalt feladatok szerinti bontásban | B44: =B42+B43 -> 0 | C44: 0 | D44: 0 | E44: 0 | F44: 0 | G44: Működési kiadások kiemelt előirányzatonként önként vállalt feladatok szerinti bontásban | H44: =H42+H43 -> 860000 | I44: =I42+I43 -> 860000 | J44: =J42+J43 -> 860000 | K44: =K42+K43 -> 1654000 | L44: =L42+L43 -> 794000
A45: Felhalmozási bevételek | G45: Felhalmozási kiadások
A46: 1. Felhalmozási célú támogatások államháztartáson belülről | G46: 1.1. Beruházások
A47: 2. Felhalmozási bevételek | B47: ='2.tábla'!B52 -> 0 | C47: ='2.tábla'!C52 -> 0 | D47: ='2.tábla'!D52 -> 0 | E47: ='2.tábla'!E52 -> 0 | F47: ='2.tábla'!F52 -> 0 | G47: 1.2. Int.saját hatáskörű fejlesztések
A48: 3. Felhalmozási célú átvett pénzeszközök áh-n kívülről | B48: ='2.tábla'!B61 -> 0 | C48: ='2.tábla'!C61 -> 0 | D48: ='2.tábla'!D61 -> 0 | E48: ='2.tábla'!E61 -> 0 | F48: ='2.tábla'!F61 -> 0 | G48: 2. Felújítások
G49: 3. Egyéb felhalmozási célú kiadások
G50: 3.1. Egyéb felhalmozási célú pénzeszköz átadás áh-n kívülre
G51: 3.2. Egyéb felhalmozási célú pénzeszköz átadás áh-n belülre
G52: 3.3. Felhalmozási célú visszatérítendő támogatások, kölcsönök nyújtása áh-n belülre
G53: 3.4. Felhalmozási célú visszatérítendő támogatások, kölcsönök nyújtása áh-n kívülre
A54: Költségvetési felhalmozási bevételek önként vállalt feladatok szerinti bontásban | B54: =SUM(B46:B52) -> 0 | C54: =SUM(C46:C52) -> 0 | D54: =SUM(D46:D52) -> 0 | E54: =SUM(E46:E52) -> 0 | F54: =SUM(F46:F52) -> 0 | G54: Költségvetési felhalmozási kiadások önként vállalt feladatok szerinti bontásban | H54: =SUM(H46:H53) -> 0 | I54: 0 | J54: 0 | K54: 0 | L54: 0
A55: Finanszírozási bevételek | B55: ='2.tábla'!B68 -> 0 | G55: Finanszírozási kiadások
A56: Felhalmozási bevételek kiemelt előirányzatonként önként vállalt feladatok szerinti bontásban | B56: =B54+B55 -> 0 | C56: =C54+C55 -> 0 | D56: =D54+D55 -> 0 | E56: =E54+E55 -> 0 | F56: =F54+F55 -> 0 | G56: Felhalmozási kiadások kiemelt előirányzatonként önként vállalt feladatok szerinti bontásban | H56: =H44 -> 860000 | I56: =I44 -> 860000 | J56: =J44 -> 860000 | K56: =K44 -> 1654000 | L56: =L44 -> 794000
A57: Az Önkormányzat állami (államigazgatási) feladatok bevételei és kiadásai 2019. év
A59: 1. Működési bevételek | B59: =B2 -> 2019. évi eredeti előirányzat | C59: =C2 -> I. Módosítás | D59: =D2 -> II. Módosítás | E59: =E2 -> III. Módosítás | F59: =F2 -> Eltérés | G59: 2. Működési kiadások | H59: =B59 -> 2019. évi eredeti előirányzat | I59: =C59 -> I. Módosítás | J59: =D59 -> II. Módosítás | K59: =E59 -> III. Módosítás | L59: =F59 -> Eltérés
A60: Működési bevételek
A61: 1. Működési támogatások államháztartáson belülről | G61: 1. Személyi juttatások
A62: 2. Közhatalmi bevételek | G62: 2. Munkaadót terhelő járulékok
A63: 3. Működési bevételek | G63: 3. Dologi kiadások
A64: 4. Működési célú átvett pénzeszközök államháztartáson kivülről | G64: 4. Ellátottak pénzbeli juttatásai
G65: 5. Egyéb működési célú kiadások
G66: 5.1. Elvonások, befizetések
G67: 5.2. Egyéb működési célú támogatások áh-n belülre
G68: 5.4. Egyéb működési célú támogatások áh-n kívülre
G69: 5.5. Működési célú visszatérítendő támogatások, kölcsönök nyújtása áh-n kívülre
G70: 6. Pénzforgalom nélküli kiadások (tartalék)
A71: Költségvetési működési bevételek állami (államigazgatási) feladatok szerinti bontásban | G71: Költségvetési működési kiadások állami (államigazgatási) feladatok szerinti bontásban
A72: Finanszírozási bevételek | G72: Finanszírozási kiadások
A73: Működési bevételek kiemelt előirányzatonként állami (államigazgatási) feladatok szerinti bontásban | G73: Működési kiadások kiemelt előirányzatonként állami (államigazgatási) feladatok szerinti bontásban
A74: Felhalmozási bevételek | G74: Felhalmozási kiadások
A75: 1. Felhalmozási célú támogatások államháztartáson belülről | G75: 1.1. Beruházások
A76: 2. Felhalmozási bevételek | G76: 1.2. Int.saját hatáskörű fejlesztések
A77: 3. Felhalmozási célú átvett pénzeszközök áh-n kívülről | G77: 2. Felújítások
G78: 3. Egyéb felhalmozási célú kiadások
A79: Költségvetési felhalmozási bevételek önként vállalt feladatok szerinti bontásban | G79: 3.1. Egyéb felhalmozási célú pénzeszköz átadás áh-n kívülre
A80: Finanszírozási bevételek | G80: 3.2. Egyéb felhalmozási célú pénzeszköz átadás áh-n belülre
G81: 3.3. Felhalmozási célú visszatérítendő támogatások, kölcsönök nyújtása áh-n kívülre
A82: Felhalmozási bevételek kiemelt előirányzatonként állami (államigazgatási) feladatok szerinti bontásban | B82: 0 | C82: 0 | D82: 0 | E82: 0 | F82: 0 | G82: Felhalmozási kiadások kiemelt előirányzatonként állami (államigazgatási) feladatok szerinti bontásban | H82: =SUM(H75:H81) -> 0 | I82: =SUM(I75:I81) -> 0 | J82: =SUM(J75:J81) -> 0 | K82: =SUM(K75:K81) -> 0 | L82: =SUM(L75:L81) -> 0
B83: =B82+B73+B56+B44+B27+B16 -> 92303605 | C83: =C82+C73+C56+C44+C27+C16 -> 121260986 | D83: =D82+D73+D56+D44+D27+D16 -> 124817436 | E83: =E82+E73+E56+E44+E27+E16 -> 125611436 | F83: =F82+F73+F56+F44+F27+F16 -> 794000 | H83: =H82+H73+H44+H27+H16 -> 92303605 | I83: =I82+I73+I56+I27+I16 -> 121260986 | J83: =J82+J73+J56+J27+J16 -> 124817436 | K83: =K82+K73+K56+K27+K16 -> 125611436 | L83: =L82+L73+L56+L27+L16 -> 794000
A84: Önkormányzati támogatás | B84: =H83-B83 -> 0

Sheet 8.tábla
A1: BEVÉTELEK ÉS KIADÁSOK ELŐIRÁNYZATÁNAK HAVI ÜTEMEZÉSE 2019.
A3: Megnevezés | B3: Január | C3: Február | D3: Március | E3: Április | F3: Május | G3: Június | H3: Július | I3: Augusztus | J3: Szeptem-ber | K3: Október | L3: November | M3: December | N3: Összesen
A4: Nyitó pénzkészlet | B4: 42502993 | C4: =B34 -> 35926752 | D4: =C34 -> 34618390 | E4: =D34 -> 28727437 | F4: =E34 -> 28663082 | G4: =F34 -> 50058937 | H4: =G34 -> 45920342 | I4: =H34 -> 43409329 | J4: =I34 -> 41172013 | ... M4: =L34 -> 27727817 | N4: 42502993
A5: Működési célú támogatások államháztartáson belülről | B5: 3733262 | C5: 2491748 | D5: 3464021 | E5: 2491748 | F5: 2491748 | G5: 2491748 | H5: =2491748 -> 2491748 | I5: =2491748+604520 -> 3096268 | J5: =2491748+7824996 -> 10316744 | K5: =2491748+794000 -> 3285748 | L5: 2491748 | M5: 5285367 | N5: =SUM(B5:M5) -> 44131898 | O5: ='1.tábla '!E5 -> 44131898 | P5: =N5-O5 -> 0
A6: Működési bevételek | B6: 1557 | C6: 29793 | D6: 194663 | E6: 938 | F6: 15880 | G6: 275676 | H6: 275676 | I6: 275676 | J6: 275676 | K6: 700000 | L6: 350000 | M6: 912575 | N6: =SUM(B6:M6) -> 3308110 | O6: ='1.tábla '!E8 -> 3308110 | P6: =N6-O6 -> 0
A7: Közhatalmi bevételek | B7: 104535 | C7: 62366 | D7: 3118656 | E7: 1791626 | F7: 460083 | G7: 100000 | H7: 948583 | I7: 948583 | J7: 1002815 | K7: 948583 | L7: 948583 | M7: 948587 | N7: =SUM(B7:M7) -> 11383000 | O7: ='1.tábla '!E7 -> 11383000 | P7: =N7-O7 -> 0
A8: Működési célú átvett pénzeszk. Áh-n kívülről | N8: =SUM(B8:M8) -> 0 | P8: =N8-O8 -> 0
A9: Működési bevételek összesen: | B9: =SUM(B5:B8) -> 3839354 | C9: =SUM(C5:C8) -> 2583907 | D9: =SUM(D5:D8) -> 6777340 | E9: =SUM(E5:E8) -> 4284312 | F9: =SUM(F5:F8) -> 2967711 | G9: =SUM(G5:G8) -> 2867424 | H9: =SUM(H5:H8) -> 3716007 | I9: =SUM(I5:I8) -> 4320527 | ... M9: =SUM(M5:M8) -> 7146529 | N9: =SUM(B9:M9) -> 58823008 | O9: =SUM(O5:O8) -> 58823008 | P9: =N9-O9 -> 0
A10: Felhalmozási célú támogatások államháztartáson belülről | N10: =SUM(B10:M10) -> 0 | P10: =N10-O10 -> 0
A11: Felhalmozási bevételek | F11: 20000000 | I11: 2951930 | N11: =SUM(B11:M11) -> 22951930 | O11: ='1.tábla '!E6 -> 22951930 | P11: =N11-O11 -> 0
A12: Felhalm. célú átvett pénzeszk. Áh-n kívülről | N12: =SUM(B12:M12) -> 0 | O12: 0 | P12: =N12-O12 -> 0
A13: Felhalmozási bevételek összesen | B13: =SUM(B10:B12) -> 0 | C13: =SUM(C10:C12) -> 0 | D13: =SUM(D10:D12) -> 0 | E13: =SUM(E10:E12) -> 0 | F13: =SUM(F10:F12) -> 20000000 | G13: =SUM(G10:G12) -> 0 | H13: =SUM(H10:H12) -> 0 | I13: =SUM(I10:I12) -> 2951930 | ... M13: =SUM(M10:M12) -> 0 | N13: =SUM(B13:M13) -> 22951930 | O13: =SUM(O10:O12) -> 22951930 | P13: =N13-O13 -> 0
A14: Költségvetési bevételek összesen: | B14: =SUM(B9,B13) -> 3839354 | C14: =SUM(C9,C13) -> 2583907 | D14: =SUM(D9,D13) -> 6777340 | E14: =SUM(E9,E13) -> 4284312 | F14: =SUM(F9,F13) -> 22967711 | G14: =SUM(G9,G13) -> 2867424 | H14: =SUM(H9,H13) -> 3716007 | I14: =SUM(I9,I13) -> 7272457 | ... M14: =SUM(M9,M13) -> 7146529 | N14: =SUM(B14:M14) -> 81774938 | O14: =O9+O13 -> 81774938 | P14: =N14-O14 -> 0
A15: Finanszírozási bevételek (hitel, kötvény, értékpapír, állami tám.megelőlegezés) | B15: 106063 | C15: 91159 | D15: 63216 | E15: 5781 | F15: 0 | G15: 111146 | H15: 111146 | I15: 111146 | J15: 111147 | K15: 111146 | L15: 111147 | M15: 111147 | N15: =SUM(B15:M15) -> 1044244 | O15: ='1.tábla '!E14 -> 1044244 | P15: =N15-O15 -> 0
A16: Költségvetési maradvány igénybevétele | B16: 35000000 | D16: 7792254 | N16: =SUM(B16:M16) -> 42792254 | O16: ='1.tábla '!E13 -> 42792254 | P16: =N16-O16 -> 0
A17: Bevételek összesen: | B17: =SUM(B14:B16) -> 38945417 | C17: =SUM(C14:C16) -> 2675066 | D17: =SUM(D14:D16) -> 14632810 | E17: =SUM(E14:E16) -> 4290093 | F17: =SUM(F14:F16) -> 22967711 | G17: =SUM(G14:G16) -> 2978570 | H17: =SUM(H14:H16) -> 3827153 | I17: =SUM(I14:I16) -> 7383603 | ... N17: =SUM(N14:N16) -> 125611436 | O17: =O14+O15+O16 -> 125611436 | P17: =N17-O17 -> 0
A18: Személyi juttatások | B18: 1114215 | C18: 1124946 | D18: 1383045 | E18: 1285430 | F18: 1218764 | G18: 2355755 | H18: 2355755 | I18: 2355755 | J18: 1855755 | K18: 1855755 | L18: =1855755+50000 -> 1905755 | M18: =5058148+50000 -> 5108148 | N18: =SUM(B18:M18) -> 23919078 | O18: ='3.tábla '!E4 -> 23919078 | P18: =N18-O18 -> 0
A19: Munkaadót terhelő járulékok és szoc. hj. adó | B19: 316010 | C19: 243751 | D19: 44025 | E19: 224924 | F19: 181625 | G19: 376411 | H19: 376411 | I19: 376411 | J19: 376411 | K19: 376411 | L19: =376411+8750 -> 385161 | M19: =376408+8750 -> 385158 | N19: =SUM(B19:M19) -> 3662709 | O19: ='3.tábla '!E7 -> 3662709 | P19: =N19-O19 -> 0
A20: Dologi kiadások | B20: 1656714 | C20: 1401404 | D20: 955324 | E20: 1167432 | F20: 1345183 | G20: 1905361 | H20: 2000000 | I20: 2500000 | J20: 1905361 | K20: =1905361+500000 -> 2405361 | L20: =1905361+604520+500000 -> 3009881 | M20: =4437172+881480 -> 5318652 | N20: =SUM(B20:M20) -> 25570673 | O20: ='3.tábla '!E10 -> 25570673 | P20: =N20-O20 -> 0
A21: Ellátottak pénzbeli juttatásai | B21: 80000 | C21: 60000 | D21: 50000 | E21: 0 | F21: 0 | G21: 50000 | H21: 0 | I21: 100000 | J21: 100000 | K21: 100000 | L21: 100000 | M21: 1408500 | N21: =SUM(B21:M21) -> 2048500 | O21: ='3.tábla '!E29 -> 2048500 | P21: =N21-O21 -> 0
A22: Egyéb működési célú támogatások áh-n kívülre | B22: 0 | C22: 655000 | D22: 0 | E22: 0 | F22: 0 | G22: 0 | H22: 100000 | I22: 0 | J22: 105000 | K22: 794000 | L22: 0 | M22: 0 | N22: =SUM(B22:M22) -> 1654000 | O22: ='4.tábla'!E9 -> 1654000 | P22: =N22-O22 -> 0
A23: Egyéb működési célú támogatások áh-n belülre | B23: 125000 | C23: 8982 | D23: 1917230 | F23: 3352688 | G23: 1141283 | H23: 1141283 | I23: 1141282 | J23: 1141283 | K23: 1141282 | L23: 1141282 | M23: 1141283 | N23: =SUM(B23:M23) -> 13392878 | O23: ='3.tábla '!C32+'3.tábla '!E34 -> 13392878 | P23: =N23-O23 -> 0
A24: Tartalékok | B24: 5773950 | D24: 7792254 | F24: -4526404 | G24: 1150000 | I24: =-1246340+28103 -> -1218237 | L24: -1325408 | N24: =SUM(B24:M24) -> 7646155 | O24: ='1.tábla '!E25 -> 7646155 | P24: =N24-O24 -> 0
A25: Működési kiadások összesen: | B25: =SUM(B18:B24) -> 9065889 | C25: =SUM(C18:C24) -> 3494083 | D25: =SUM(D18:D24) -> 12141878 | E25: =SUM(E18:E24) -> 2677786 | F25: =SUM(F18:F24) -> 1571856 | G25: =SUM(G18:G24) -> 6978810 | H25: =SUM(H18:H24) -> 5973449 | I25: =SUM(I18:I24) -> 5255211 | ... M25: =SUM(M18:M24) -> 13361741 | N25: =SUM(B25:M25) -> 77893993 | O25: =SUM(O18:O24) -> 77893993 | P25: =N25-O25 -> 0
A26: Beruházások | B26: 107715 | C26: 398186 | D26: 526415 | E26: =127000+1549662 -> 1676662 | H26: 250000 | I26: 3004620 | J26: =1000000+2951930 -> 3951930 | K26: 1890684 | M26: 22500000 | N26: =SUM(B26:M26) -> 34306212 | O26: ='1.tábla '!E21 -> 34306212 | P26: =N26-O26 -> 0
A27: Felújítások | I27: 1246370 | J27: =1580622+8956854 -> 10537476 | N27: =SUM(B27:M27) -> 11783846 | O27: ='1.tábla '!E22 -> 11783846 | P27: =N27-O27 -> 0
A28: Egyéb felhalmozási kiadások | G28: 21428 | H28: 3571 | I28: 3572 | J28: 3571 | K28: 3571 | L28: 3571 | M28: 3571 | N28: =SUM(B28:M28) -> 42855 | O28: ='5.tábla'!E25 -> 42855 | P28: =N28-O28 -> 0
A29: Felhalmozási célú kiadások összesen | B29: =B26+B27+B28 -> 107715 | C29: =C26+C27+C28 -> 398186 | D29: =SUM(D26:D28) -> 526415 | E29: =SUM(E26:E28) -> 1676662 | F29: =SUM(F26:F28) -> 0 | G29: =SUM(G26:G28) -> 21428 | H29: =SUM(H26:H28) -> 253571 | I29: =SUM(I26:I28) -> 4254562 | J29: =SUM(J26:J28) -> 14492977 | K29: =SUM(K26:K28) -> 1894255 | ... M29: =SUM(M26:M28) -> 22503571 | N29: =SUM(B29:M29) -> 46132913 | O29: =SUM(O26:O28) -> 46132913 | P29: =N29-O29 -> 0
A30: Költségvetési kiadások összesen: | B30: =SUM(B29,B25) -> 9173604 | C30: =SUM(C29,C25) -> 3892269 | D30: =SUM(D29,D25) -> 12668293 | E30: =SUM(E29,E25) -> 4354448 | F30: =SUM(F29,F25) -> 1571856 | G30: =SUM(G29,G25) -> 7000238 | H30: =SUM(H29,H25) -> 6227020 | I30: =SUM(I29,I25) -> 9509773 | ... M30: =SUM(M29,M25) -> 35865312 | N30: =SUM(B30:M30) -> 124026906 | O30: =O25+O29 -> 124026906 | P30: =N30-O30 -> 0
A31: Finanszírozási kiadások (hitel törlesztés, értékpapír visszavásárlás) | B31: 1348054 | C31: 91159 | D31: 63216 | G31: =111146+5781 -> 116927 | H31: 111146 | I31: 111146 | J31: 111147 | K31: 111146 | L31: 111147 | M31: 111147 | N31: =SUM(B31:M31) -> 2286235 | O31: ='1.tábla '!E29 -> 2286235 | P31: =N31-O31 -> 0
A32: Kiadások összesen: | B32: =SUM(B30:B31) -> 10521658 | C32: =SUM(C30:C31) -> 3983428 | D32: =SUM(D30:D31) -> 12731509 | E32: =SUM(E30:E31) -> 4354448 | F32: =SUM(F30:F31) -> 1571856 | G32: =SUM(G30:G31) -> 7117165 | H32: =SUM(H30:H31) -> 6338166 | I32: =SUM(I30:I31) -> 9620919 | ... M32: =SUM(M30:M31) -> 35976459 | N32: =SUM(B32:M32) -> 126313141 | O32: =O30+O31 -> 126313141 | P32: =N32-O32 -> 0
A33: Korrekció (előző évi kifizetés miatt) | M33: 990966 | N33: 990966
A34: Záró pénzkészlet | B34: =B4+B14+B15-B32 -> 35926752 | C34: =C4+C14+C15-C32 -> 34618390 | D34: =D4+D14+D15-D32 -> 28727437 | E34: =E4+E14+E15-E32 -> 28663082 | F34: =F4+F14+F15-F32 -> 50058937 | G34: =G4+G14+G15-G32 -> 45920342 | H34: =H4+H14+H15-H32 -> 43409329 | I34: =I4+I14+I15-I32 -> 41172013 | ... L34: =L4+L14+L15-L32 -> 27727817 | M34: =M4+M14+M15-M32+M33 -> 0 | N34: =N4+N14+N15-N32+N33 -> 0

Sheet 9.tábla
A4: Az önkormányzat adósságot keletkeztető ügyletből származó tárgyévi összes fizetési kötelezettsége az adósságot keletkeztető ügylet futamidejének végéig egyik évben sem haladja meg az önkormányzat adott évi saját bevételeinek 50%-át.
A7: megnevezés | C7: 2019 | D7: 2020 | E7: 2021 | F7: 2022
A8: 1. Helyi adó bevétel | C8: 11283000 | D8: 11000000 | E8: 11000000 | F8: 11000000
A9: 2. Vagyon és vagyonértékű jog értékesítéséből származó bevétel | C9: ='[2]2.sz.tábla'!D53 -> 0
A10: 3. Osztalék, koncessziós díj és hozambevétel,
A11: 4. tárgyi eszköz és immateriális jószág, részvény, részesedés, vállalalat értékesítésből vagy privatizációból származó bevétel
A12: 5. Bírság, pótlék- és díjbevétel | C12: ='[2]2.sz.tábla'!D40 -> 100000 | D12: 100000 | E12: 100000 | F12: 100000
A13: 6. Kezességvállalással kapcsolatos megtérülés
A14: Összesen: | C14: =SUM(C8:C13) -> 11383000 | D14: =SUM(D8:D13) -> 11100000 | E14: =SUM(E8:E13) -> 11100000 | F14: =SUM(F8:F13) -> 11100000 | G14: ='[2]2.sz.tábla'!D30-'[2]2.sz.tábla'!D37 -> 9533000
A15: az önkormányzat adott évi saját bevételeinek 50%-a | C15: =C14*0.5 -> 5691500 | D15: =D14*0.5 -> 5550000 | E15: =E14*0.5 -> 5550000 | F15: =F14*0.5 -> 5550000
A17: adósságot keletkeztető ügyletekből és kezességvállalásokból fennálló kötelezettségek | B17: futamidő kezdete | C17: 2019 | D17: 2020 | E17: 2021 | F17: 2022
A18: Összesen: | C18: 0 | D18: 0 | E18: 0 | F18: 0

Sheet 10.tábla
A4: Az önkormányzat által adott közvetett támogatások
A5: (kedvezmények) 2019. év
A7: Sorszám | B7: Bevételi jogcím | C7: Intézmények, | D7: Kedvezmény nélkül | E7: Kedvezmények
C8: adónemek | D8: elérhető | E8: összege
D9: bevétel e/Ft | E9: e/Ft
A10: 1. | B10: 2. | C10: 3. | D10: 4. | E10: 5.
A11: 2. | B11: Ellátottak térítési díjának ill. kártérítésének méltányossági alapon történő elengedésének összege
A12: 3. | B12: Lakosság részére nyújtott lakásépítéshez, lakásfelújításhoz nyújtott kölcsönök elengedésének összege | E12: 0
B13: Helyi adónál, gépjárműadónál biztosított kedvezmény, mentesség összege | D13: =SUM(D14:D20) -> 12604000 | E13: =SUM(E14:E20) -> 1321000 | F13: =SUM(F14:F20) -> 11283000
C14: Kommunális adó | D14: =F14+E14 -> 6517000 | E14: 934000 | F14: ='[3]2.tábla'!C27 -> 5583000
C15: Iparűzési adó | D15: =F15+E15 -> 3546000 | E15: 46000 | F15: ='[3]2.tábla'!C31 -> 3500000
C16: IFA személyek után | D16: =F16+E16 -> 144000 | E16: 44000 | F16: ='[3]2.tábla'!C34 -> 100000
C17: Telekadó | D17: =F17+E17 -> 300000 | E17: 0 | F17: ='[3]2.tábla'!C28 -> 300000
C18: Talajterhelési díj | D18: =F18+E18 -> 0 | E18: 0 | F18: 0
C19: Gépjárműadó | D19: =F19+E19 -> 2097000 | E19: 297000 | F19: ='[3]2.tábla'!C32 -> 1800000
C20: Bírság | D20: =F20+E20 -> 0 | E20: 0 | F20: ='[3]2.tábla'!E37 -> 0
A21: 4. | B21: Helyiségek, eszközök hasznosításából származó bevételből nyújtott kedvezmény, mentesség összege
A22: 5. | B22: egyéb nyújtott kedvezmény vagy kölcsön elengedésének összege | E22: 0
B23: Összesen : | D23: =D22+D21+D12+D13+D11 -> 12604000 | E23: =E22+E21+E12+E13+E11 -> 1321000

Sheet 11.tábla
A3: AZ ÖNKORMÁNYZAT 2019-2022. ÉVEK
A4: TERVEZETT ELŐIRÁNYZATAINAK KERETSZÁMAI
A5: MEGNEVEZÉS | B5: 2019. évi eredeti ei. | C5: 2020. évi várható előirányzatok | D5: 2021. évi várható előirányzatok | E5: 2022. évi várható előirányzatok
A6: I. Működési támogatások államháztartáson belülről | B6: 41568251 | C6: 22000000 | D6: 22000000 | E6: 22000000
A7: II. Felhalmozási támogatások államháztartáson belülről | B7: 0
A8: III. Közhatalmi bevételek | B8: 11383000 | C8: 10000000 | D8: 10000000 | E8: 10000000
A9: IV. Működési bevételek | B9: 3308110 | C9: 2000000 | D9: 2000000 | E9: 2000000
A10: V. Felhalmozási bevételek | B10: ='[2]2.sz.tábla'!D53 -> 0
A11: VI. Működési célú átvett pénzeszközök
A12: VII. Felhalmozási célú átvett pénzeszközök | B12: ='[2]2.sz.tábla'!D63 -> 0
A13: Költségvetési bevételek összesen: | B13: =SUM(B6:B12) -> 56259361 | C13: =SUM(C6:C11) -> 34000000 | D13: =SUM(D6:D11) -> 34000000 | E13: =SUM(E6:E12) -> 34000000
A14: VIII. Finanszírozási bevételek
A15: 1. Költségvetési hiány belső finanszírozására szolgáló finanszírozási bevételek | B15: 35000000 | C15: 10000000 | D15: 10000000 | E15: 10000000
A16: 2. Költségvetési hiány külső finanszírozására, vagy költségvetési többlet felhasználására szolgáló finanszírozási bevételek | B16: 1044244 | C16: 250000 | D16: 250000 | E16: 250000
A17: Finanszírozási bevételek összesen: | B17: 36044244 | C17: =SUM(C15:C16) -> 10250000 | D17: =SUM(D15:D16) -> 10250000 | E17: =SUM(E15:E16) -> 10250000
A18: Bevételek összesen: | B18: =B13+B17 -> 92303605 | C18: =C13+C17 -> 44250000 | D18: =D13+D17 -> 44250000 | E18: =E13+E17 -> 44250000
A20: I. Működési kiadások | B20: =SUM(B21:B25) -> 65058469 | C20: =SUM(C21:C25) -> 36800000 | D20: =SUM(D21:D25) -> 36800000 | E20: =SUM(E21:E25) -> 36800000
A21: 1. Személyi juttatások | B21: 22269078 | C21: 8000000 | D21: 8000000 | E21: 8000000
A22: 2. Munkaadót terhelő járulék és szociális hozzájárulási adó | B22: 3645209 | C22: 2500000 | D22: 2500000 | E22: 2500000
A23: 3. Dologi kiadások | B23: 22864333 | C23: 17000000 | D23: 17000000 | E23: 17000000
A24: 4. Ellátottak pénzbeli juttatásai | B24: 2048500 | C24: 1800000 | D24: 1800000 | E24: 1800000
A25: 5. Egyéb működési célú kiadások | B25: 14231349 | C25: 7500000 | D25: 7500000 | E25: 7500000
A26: II. Felhalmozási kiadások | B26: =SUM(B27:B29) -> 19184951 | C26: =SUM(C27:C28) -> 2000000 | D26: =SUM(D27:D28) -> 2000000 | E26: =SUM(E27:E28) -> 2000000
A27: 1. Beruházások | B27: 8604620 | C27: 1000000 | D27: 1000000 | E27: 1000000
A28: 3. Felújítás | B28: 10537476 | C28: 1000000 | D28: 1000000 | E28: 1000000
A29: 4. Egyéb felhalmozási célú kiadások | B29: 42855
A30: Tartalékok | B30: 5773950 | C30: 5200000 | D30: 5200000 | E30: 5200000
A31: Általános | B31: 5773950 | C31: 5200000 | D31: 5200000 | E31: 5200000
A32: Cél
A33: Költségvetési kiadások összesen: | B33: =SUM(B30,B26,B20) -> 90017370 | C33: =SUM(C30,C26,C20) -> 44000000 | D33: =SUM(D30,D26,D20) -> 44000000 | E33: =SUM(E30,E26,E20) -> 44000000
A34: Hiteltörlesztés
A35: Forgatási célú értékpapír vásárlás | B35: ='[2]1.sz.tábla '!D29 -> 0
A36: Állami támogatás megelőlegezés visszafiz. | B36: 2286235 | C36: 250000 | D36: 250000 | E36: 250000
A37: Finanszírozási kiadások összesen: | B37: =SUM(B34:B36) -> 2286235 | C37: =SUM(C34:C36) -> 250000 | D37: =SUM(D34:D36) -> 250000 | E37: =SUM(E34:E36) -> 250000
A38: Kiadások összesen: | B38: =SUM(B33,B37) -> 92303605 | C38: =SUM(C33,C37) -> 44250000 | D38: =SUM(D33,D37) -> 44250000 | E38: =SUM(E33,E37) -> 44250000

Sheet 12.tábla
A3: EURÓPAI UNIÓS TÁMOGATÁSSAL MEGVALÓSULÓ PROGRAMOK BEVÉTELEI ÉS KIADÁSAI 2018-2019. ÉV
B5: EFOP-1.5.2-16-2017-00016
A6: EU Projekt megnevezése: | B6: Humán közszolgáltatások fejlesztése az Észak-Balatoni térségben
A9: Bevételek | B9: 2018 év | C9: 2019 év | D9: 2020 év | E9: Következő évek | F9: Összesen
A10: EU forrás | B10: 11040004 | C10: 6605000 | D10: 1220000 | F10: =SUM(B10:E10) -> 18865004
A11: Egyéb forrás | F11: 0
A12: Saját forrás
A13: Összesen | B13: =SUM(B10:B12) -> 11040004 | C13: =SUM(C10:C12) -> 6605000 | D13: =SUM(D10:D12) -> 1220000 | E13: =SUM(E10:E12) -> 0 | F13: =SUM(F10:F12) -> 18865004
A15: Kiadások | B15: 2018 év | C15: 2019 év | D15: 2020 év | E15: Következő évek | F15: Összesen
A16: személyi juttatások (bérköltség) | B16: 3000000 | C16: 1220004 | D16: 1220000 | F16: =SUM(B16:E16) -> 5440004
A17: személyi juttatások járulékai | B17: 660000 | C17: 0 | D17: 0 | E17: 0 | F17: =SUM(B17:E17) -> 660000
A18: egyéb személyi kiadások | B18: 2945000 | C18: 5385000 | D18: 0 | E18: 0 | F18: =SUM(B18:E18) -> 8330000
A19: anyagköltség | B19: 535000 | C19: 0 | D19: 0 | E19: 0 | F19: =SUM(B19:E19) -> 535000
A20: felújítások | C20: 0 | E20: 0 | F20: =SUM(B20:D20) -> 0
A21: beruházások | B21: 3900000 | C21: 0 | E21: 0 | F21: =SUM(B21:D21) -> 3900000
A22: átadott pénzeszközök | F22: =SUM(B22:D22) -> 0
A23: Összesen | B23: =SUM(B16:B22) -> 11040000 | C23: =SUM(C16:C22) -> 6605004 | D23: =SUM(D16:D22) -> 1220000 | E23: =SUM(E16:E22) -> 0 | F23: =SUM(F16:F22) -> 18865004
