Workbook
Name _4._sz._sor_részletezése: #REF!
Name _4._sz._sor_részletezése: #REF!
Name _4._sz._sor_részletezése: #REF!
Name _4._sz._sor_részletezése: #REF!
Name _4._sz._sor_részletezése: #REF!
Name _4._sz._sor_részletezése: #REF!
Name _4._sz._sor_részletezése: #REF!
Name _4._sz._sor_részletezése: #REF!
Name _4._sz._sor_részletezése: #REF!
Name _4._sz._sor_részletezése: #REF!
Name _4._sz._sor_részletezése: #REF!

Sheet 1.Onbe
B1: 1. melléklet a 5/2020. (II.27.) önkormányzati rendelethez
B2: A rendelet 1. mellékletét módosította a 17/2020. (IV.30.) Ör. 1. melléklete
B3: A rendelet 1. mellékletét módosította a 26/2020. (VI.26.) Ör. 1. melléklete
B4: A rendelet 1. mellékletét módosította a 37/2020. (IX.24.) Ör. 1. melléklete
B5: Veszprém Megyei Jogú Város Önkormányzatának
B6: 2020. évi költségvetési bevételei
M7: adatok eFt-ban
B8: A | C8: B | D8: C | E8: D | F8: E | G8: F | H8: G | I8: H | J8: I | K8: J | L8: K | M8: L
B9: Cím | C9: Alcím | D9: Előir. csop. | E9: Kie-melt előir. | F9: Megnevezés | G9: 2018. évi tény | H9: 2019. évi eredeti előirányzat | I9: 2019. évi tény | J9: 2020. évi eredeti előirányzat | K9: 2020. évi módosított előirányzat 2. | L9: Módosítás | M9: 2020. évi módosított előirányzat 3.
A10: 1 | D10: 1 | F10: Működési költségvetési bevételek | G10: =SUM(G11,G18,G28,G34,G36,G17,G33) -> 14062643 | H10: =SUM(H11,H18,H28,H34,H36,H17,H33) -> 12977517 | I10: =SUM(I11,I18,I28,I34,I36,I17,I33) -> 14853364 | J10: =SUM(J11,J18,J28,J34,J36,J17,J33) -> 15115259 | K10: =SUM(K11,K18,K28,K34,K36,K17,K33) -> 13554693 | L10: =SUM(L11,L18,L28,L34,L36,L17,L33) -> 370337 | M10: =SUM(M11,M18,M28,M34,M36,M17,M33) -> 13925030
A11: 2 | B11: 18 | E11: 1 | F11: Működési célú támogatások Áht-on belülről | G11: =SUM(G12,G15:G15) -> 3706565 | H11: =SUM(H12,H15:H15) -> 3419289 | I11: =SUM(I12,I15:I15) -> 4483032 | J11: =SUM(J12,J15:J15) -> 4404208 | K11: =SUM(K12,K15:K15) -> 4066631 | L11: =SUM(L12,L15:L15) -> 358781 | M11: =SUM(M12,M15:M15) -> 4425412
A12: 3 | F12: Önkormányzatok működési támogatásai | G12: =SUM(G13:G14) -> 3341151 | H12: =SUM(H13:H14) -> 3194545 | I12: =SUM(I13:I14) -> 3563207 | J12: =SUM(J13:J14) -> 3066627 | K12: =SUM(K13:K14) -> 3198812 | L12: =SUM(L13:L14) -> 232365 | M12: =SUM(M13:M14) -> 3431177
A13: 4 | F13: Helyi önkormányzatok működésének általános és ágazati feladataihoz kapcsolódó támogatás | G13: 3286398 | H13: 3194545 | I13: 3533067 | J13: 3066627 | K13: 3198812 | L13: 229415 | M13: =SUM(K13:L13) -> 3428227
A14: 5 | F14: Működési célú költségvetési támogatások és kiegészítő támogatások | G14: 54753 | I14: 30140 | L14: 2950 | M14: =SUM(K14:L14) -> 2950
A15: 6 | F15: Egyéb működési célú támogatások bevételei | G15: 365414 | H15: 224744 | I15: 919825 | J15: 1337581 | K15: 867819 | L15: 126416 | M15: =SUM(K15:L15) -> 994235
A16: 7 | F16: ebből: Társadalombizt. Alapból származó támogatás | G16: 148540 | H16: 147600 | I16: 160234 | J16: 180000 | K16: 180000 | L16: 19387 | M16: =SUM(K16:L16) -> 199387
A17: 8 | B17: 1-17 | E17: 2 | F17: Önkormányzati Intézmények működési célú támogatások Áht-on belülről | G17: 216590 | H17: 117496 | I17: 317352 | J17: 236049 | K17: 179422 | L17: 14635 | M17: =SUM(K17:L17) -> 194057
A18: 9 | B18: 18 | E18: 3 | F18: Közhatalmi bevételek | G18: =SUM(G19,G27:G27) -> 8049548 | H18: =SUM(H19,H27:H27) -> 7765600 | I18: =SUM(I19,I27:I27) -> 8108452 | J18: =SUM(J19,J27:J27) -> 7945120 | K18: =SUM(K19,K27:K27) -> 7280120 | L18: =SUM(L19,L27:L27) -> 0 | M18: =SUM(M19,M27:M27) -> 7280120
A19: 10 | F19: Adók | G19: =SUM(G20:G26) -> 8043412 | H19: =SUM(H20:H26) -> 7760000 | I19: =SUM(I20:I26) -> 8100342 | J19: =SUM(J20:J26) -> 7940000 | K19: =SUM(K20:K26) -> 7275000 | L19: =SUM(L20:L26) -> 0 | M19: =SUM(M20:M26) -> 7275000
A20: 11 | F20: Építményadó | G20: 1300333 | H20: 1300000 | I20: 1353716 | J20: 1320000 | K20: 1320000 | M20: =SUM(K20:L20) -> 1320000
A21: 12 | F21: Idegenforgalmi adó | G21: 44141 | H21: 45000 | I21: 45085 | J21: 55000 | K21: 10000 | M21: =SUM(K21:L21) -> 10000
A22: 13 | F22: Kommunális adó | G22: 143422 | H22: 145000 | I22: 142925 | J22: 143000 | K22: 143000 | M22: =SUM(K22:L22) -> 143000
A23: 14 | F23: Telekadó | G23: 95735 | H23: 95000 | I23: 91186 | J23: 92000 | K23: 92000 | M23: =SUM(K23:L23) -> 92000
A24: 15 | F24: Iparűzési adó | G24: 6222826 | H24: 5950000 | I24: 6222920 | J24: 6100000 | K24: 5700000 | M24: =SUM(K24:L24) -> 5700000
A25: 16 | F25: Gépjárműadó | G25: 215843 | H25: 210000 | I25: 230151 | J25: 220000 | K25: 0 | M25: =SUM(K25:L25) -> 0
A26: 17 | F26: Egyéb pótlékok, bírságok | G26: 21112 | H26: 15000 | I26: 14359 | J26: 10000 | K26: 10000 | M26: =SUM(K26:L26) -> 10000
A27: 18 | F27: Egyéb közhatalmi bevételek (bírságok, igazgatási szolgáltatási díjak) | G27: 6136 | H27: 5600 | I27: 8110 | J27: 5120 | K27: 5120 | M27: =SUM(K27:L27) -> 5120
A28: 19 | B28: 18 | E28: 4 | F28: Működési bevételek | G28: =SUM(G29:G32) -> 1035546 | H28: =SUM(H29:H32) -> 765238 | I28: =SUM(I29:I32) -> 818620 | J28: =SUM(J29:J32) -> 1501270 | K28: =SUM(K29:K32) -> 1134028 | L28: =SUM(L29:L32) -> 0 | M28: =SUM(M29:M32) -> 1134028
A29: 20 | F29: Szolgáltatások, közvetített szolgáltatások ellenértéke | G29: 319006 | H29: 367526 | I29: 335480 | J29: 327392 | K29: 263773 | M29: =SUM(K29:L29) -> 263773
A30: 21 | F30: Tulajdonosi bevételek | G30: 155541 | H30: 192783 | I30: 219462 | J30: 280770 | K30: 281160 | M30: =SUM(K30:L30) -> 281160
A31: 22 | F31: ÁFA bevételek és visszatérülések | G31: 490423 | H31: 204929 | I31: 219034 | J31: 889171 | K31: 584630 | M31: =SUM(K31:L31) -> 584630
A32: 23 | F32: Egyéb működési bevételek | G32: 70576 | I32: 44644 | J32: 3937 | K32: 4465 | M32: =SUM(K32:L32) -> 4465
A33: 24 | B33: 1-17 | E33: 5 | F33: Önkormányzati Intézmények működési bevételek | G33: 998980 | H33: 909894 | I33: 1111879 | J33: 1028612 | K33: 883498 | L33: -3711 | M33: =SUM(K33:L33) -> 879787
A34: 25 | B34: 18 | E34: 6 | F34: Működési célú átvett pénzeszközök | G34: 41080 | I34: 5713 | K34: 9688 | L34: 432 | M34: =SUM(K34:L34) -> 10120
F35: ebből: Koronavírus elleni védekezésre adomány | K35: 5688 | L35: 432 | M35: =SUM(K35:L35) -> 6120
A36: 26 | B36: 1-17 | E36: 7 | F36: Önkormányzati Intézmények működési célú átvett pénzeszközök | G36: 14334 | I36: 8316 | K36: 1306 | L36: 200 | M36: =SUM(K36:L36) -> 1506
A37: 27 | D37: 2 | F37: Felhalmozási költségvetési bevételek | G37: =SUM(G38,G41:G42,G44:G46) -> 12772481 | H37: =SUM(H38,H41:H42,H44:H46) -> 5648160 | I37: =SUM(I38,I41:I42,I44:I46) -> 6259786 | J37: =SUM(J38,J41:J42,J44:J46) -> 8363612 | K37: =SUM(K38,K41:K42,K44:K46) -> 10017556 | L37: =SUM(L38,L41:L42,L44:L46) -> 399389 | M37: =SUM(M38,M41:M42,M44:M46) -> 10416945
A38: 28 | E38: 8 | F38: Felhalmozási célú támogatások Áht-on belülről | G38: =SUM(G39,G40) -> 12588575 | H38: =SUM(H39,H40) -> 5270260 | I38: =SUM(I39,I40) -> 5463793 | J38: =SUM(J39,J40) -> 8162019 | K38: =SUM(K39,K40) -> 9820506 | L38: =SUM(L39,L40) -> 397904 | M38: =SUM(M39,M40) -> 10218410
A39: 29 | B39: 18 | F39: Felhalmozási célú önkormányzati támogatások | G39: 4325400 | I39: 6456
A40: 30 | B40: 18 | F40: Egyéb felhalmozási célú támogatások bevételei | G40: 8263175 | H40: 5270260 | I40: 5457337 | J40: 8162019 | K40: 9820506 | L40: 397904 | M40: =SUM(K40:L40) -> 10218410
A41: 31 | B41: 1-17 | E41: 9 | F41: Önkormányzati Intézmények felhalmozási célú támogatások Áht-on belülről | G41: 40469 | H41: 2900 | I41: 14183 | J41: 4050 | K41: 4050 | L41: 85 | M41: =SUM(K41:L41) -> 4135
A42: 32 | B42: 18 | E42: 10 | F42: Felhalmozási bevételek | G42: =SUM(G43:G43) -> 136583 | H42: =SUM(H43:H43) -> 225000 | I42: =SUM(I43:I43) -> 153966 | J42: =SUM(J43:J43) -> 190000 | K42: =SUM(K43:K43) -> 190000 | L42: =SUM(L43:L43) -> 0 | M42: =SUM(M43:M43) -> 190000
A43: 33 | F43: Ingatlanok értékesítése | G43: 136583 | H43: 225000 | I43: 153966 | J43: 190000 | K43: 190000 | M43: =SUM(K43:L43) -> 190000
A44: 34 | E44: 11 | F44: Önkormányzati Intézmények felhalmozási bevételei | G44: 957 | I44: 939 | J44: 7543 | K44: 3000 | L44: 1400 | M44: =SUM(K44:L44) -> 4400
A45: 35 | B45: 18 | E45: 12 | F45: Felhalmozási célú átvett pénzeszközök | G45: 5897 | H45: 150000 | I45: 626905
A46: 36 | B46: 1-17 | E46: 13 | F46: Önkormányzati Intézmények felhalmozási célú átvett pénzeszközök
A47: 37 | B47: 18 | F47: Lakásalap | G47: =SUM(G48:G48) -> 700 | H47: =SUM(H48:H48) -> 0 | I47: =SUM(I48:I48) -> 183 | J47: =SUM(J48:J48) -> 0 | K47: =SUM(K48:K48) -> 0 | L47: =SUM(L48:L48) -> 0 | M47: =SUM(M48:M48) -> 0
A48: 38 | F48: Felhalmozási célú átvett pénzeszközök (kölcsönök visszatérülése) | G48: 700 | I48: 183
A49: 39 | F49: Költségvetési bevételek összesen | G49: =SUM(G10,G37,G47) -> 26835824 | H49: =SUM(H10,H37,H47) -> 18625677 | I49: =SUM(I10,I37,I47) -> 21113333 | J49: =SUM(J10,J37,J47) -> 23478871 | K49: =SUM(K10,K37,K47) -> 23572249 | L49: =SUM(L10,L37,L47) -> 769726 | M49: =SUM(M10,M37,M47) -> 24341975
A50: 40 | F50: Költségvetési egyenleg összege | G50: =G49-'2.Onki'!G36 -> 6257189 | H50: =H49-'2.Onki'!H36 -> -8870872 | I50: =I49-'2.Onki'!I36 -> 1177920 | J50: =J49-'2.Onki'!J36 -> -14073403 | K50: =K49-'2.Onki'!K36 -> -15255267 | L50: =L49-'2.Onki'!L36 -> 0 | M50: =M49-'2.Onki'!M36 -> -15255267
A51: 41 | E51: 14 | F51: Finanszírozási bevételek | G51: =SUM(G53,G62)+G52 -> 7032676 | H51: =SUM(H53,H62)+H52 -> 9080507 | I51: =SUM(I53,I62)+I52 -> 13278366 | J51: =SUM(J53,J62)+J52 -> 14293174 | K51: =SUM(K53,K62)+K52 -> 15475038 | L51: =SUM(L53,L62)+L52 -> 0 | M51: =SUM(M53,M62)+M52 -> 15475038
A52: 42 | D52: 1 | F52: Államháztartáson belüli megelőlegezések | G52: 107506 | I52: 143801
A53: 43 | F53: Költségvetési hiány belső finanszírozására szolgáló bevételek | G53: =SUM(G54,G58) -> 6873658 | H53: =SUM(H54,H58) -> 8404019 | I53: =SUM(I54,I58) -> 13087077 | J53: =SUM(J54,J58) -> 12883374 | K53: =SUM(K54,K58) -> 14215038 | L53: =SUM(L54,L58) -> 0 | M53: =SUM(M54,M58) -> 14215038
A54: 44 | D54: 1 | F54: Működési célú költségvetési maradvány igénybevétele | G54: =SUM(G55:G57) -> 1957723 | H54: =SUM(H55:H57) -> 1315949 | I54: =SUM(I55:I57) -> 2879946 | J54: =SUM(J55:J57) -> 1081085 | K54: =SUM(K55:K57) -> 2384006 | L54: =SUM(L55:L57) -> 0 | M54: =SUM(M55:M57) -> 2384006
A55: 45 | B55: 1-16 | F55: Intézmények | G55: 612577 | H55: 137936 | I55: 573305 | J55: 31301 | K55: 661346 | M55: =SUM(K55:L55) -> 661346
A56: 46 | B56: 17 | F56: VMJV Polgármesteri Hivatala | G56: 251672 | H56: 14861 | I56: 294771 | J56: 75474 | K56: 360284 | M56: =SUM(K56:L56) -> 360284
A57: 47 | B57: 18 | F57: VMJV Önkormányzata | G57: 1093474 | H57: 1163152 | I57: 2011870 | J57: 974310 | K57: 1362376 | M57: =SUM(K57:L57) -> 1362376
A58: 48 | D58: 2 | F58: Felhalmozási célú költségvetési maradvány igénybevétele | G58: =SUM(G59:G61) -> 4915935 | H58: =H59+H61 -> 7088070 | I58: =SUM(I59:I61) -> 10207131 | J58: =SUM(J59:J61) -> 11802289 | K58: =SUM(K59:K61) -> 11831032 | L58: =SUM(L59:L61) -> 0 | M58: =SUM(M59:M61) -> 11831032
A59: 49 | B59: 1-16 | F59: Intézmények | G59: 48512 | H59: 58070 | I59: 127144 | J59: 12621 | K59: 27970 | M59: =SUM(K59:L59) -> 27970
A60: 50 | B60: 17 | F60: VMJV Polgármesteri Hivatala | G60: 16696 | I60: 24251 | J60: 16985 | K60: 24177 | M60: =SUM(K60:L60) -> 24177
A61: 51 | B61: 18 | F61: VMJV Önkormányzat | G61: 4850727 | H61: 7030000 | I61: 10055736 | J61: 11772683 | K61: 11778885 | M61: =SUM(K61:L61) -> 11778885
A62: 52 | F62: Költségvetési hiány külső finanszírozására szolgáló bevételek | G62: =SUM(G63:G65) -> 51512 | H62: =SUM(H63:H65) -> 676488 | I62: =SUM(I63:I65) -> 47488 | J62: =SUM(J63:J65) -> 1409800 | K62: =SUM(K63:K65) -> 1260000 | L62: =SUM(L63:L65) -> 0 | M62: =SUM(M63:M65) -> 1260000
A63: 53 | B63: 18 | D63: 2 | F63: Beruházási hitelfelvétel
A64: 54 | F64: Beruházási hitelfelvétel | H64: 629000 | J64: 780800 | K64: 631000 | M64: =SUM(K64:L64) -> 631000
A65: 55 | F65: Előző évi hitelszerződéseken alapuló felvétel | G65: 51512 | H65: 47488 | I65: 47488 | J65: 629000 | K65: 629000 | M65: =SUM(K65:L65) -> 629000
A66: 56 | F66: Bevételi főösszeg | G66: =SUM(G49,G51) -> 33868500 | H66: =SUM(H49,H51) -> 27706184 | I66: =SUM(I49,I51) -> 34391699 | J66: =SUM(J49,J51) -> 37772045 | K66: =SUM(K49,K51) -> 39047287 | L66: =SUM(L49,L51) -> 769726 | M66: =SUM(M49,M51) -> 39817013

Sheet 1.A Norm
B1: 1.A. melléklet a 5/2020. (II.27.) önkormányzati rendelethez
B2: A rendelet 1.A mellékletét módosította a 17/2020. (IV.30.) Ör. 1.A. melléklete
B3: A rendelet 1.A mellékletét módosította a 26/2020. (VI.26.) Ör. 1.A. melléklete
B4: Helyi önkormányzatok általános működéséhez és ágazati feladataihoz kapcsolódó támogatások
B5: alakulása 2019. és 2020. évben
G6: adatok eFt-ban
B7: A | C7: B | D7: C | G7: D
B8: Megnevezés | C8: 2019. év | D8: 2020. év | E8: Módosítás | F8: 2020. év összesen | G8: Változás %-a
G9: 2020/2019.
A10: 1 | B10: 1. Helyi önkormányzatok működésének általános támogatása | C10: 0 | D10: 0 | E10: 7199 | F10: =SUM(D10:E10) -> 7199
A11: 2 | B11: 2. Települési önkormányzatok egyes köznevelési feladatainak támogatása | C11: =SUM(C12:C15) -> 1108325 | D11: =SUM(D12:D15) -> 1125011 | E11: =SUM(E12:E15) -> 3733 | F11: =SUM(F12:F15) -> 1128744 | G11: =(F11/C11) -> 1.0184233
A12: 3 | B12: Óvodapedagógusok és az óvodapedagógusok nevelő munkáját közvetlenül segítők bértámogatása | C12: 911028 | D12: 927157 | F12: =SUM(D12:E12) -> 927157 | G12: =(F12/C12) -> 1.0177042
A13: 4 | B13: Óvodaműködtetési támogatás | C13: 165613 | D13: 162239 | F13: =SUM(D13:E13) -> 162239 | G13: =(F13/C13) -> 0.9796272
A14: 5 | B14: Kiegészítő támogatás az óvodapedagógusok minősítéséből adódó többletkiadásokhoz | C14: 28306 | D14: 30745 | E14: 3733 | F14: =SUM(D14:E14) -> 34478 | G14: =(F14/C14) -> 1.2180456
A15: 6 | B15: Nemzetiségi pótlék | C15: 3378 | D15: 4870 | F15: =SUM(D15:E15) -> 4870 | G15: =(F15/C15) -> 1.4416815
A16: 7 | B16: 3. Települési önkormányzatok szociális, gyermekjóléti és gyermek-étkeztetési feladatainak támogatása | C16: =SUM(C17:C29) -> 1319428 | D16: =SUM(D17:D29) -> 1480333 | E16: =SUM(E17:E29) -> 2828 | F16: =SUM(F17:F29) -> 1483161 | G16: =(F16/C16) -> 1.1240939
A17: 8 | B17: Család- és gyermekjóléti szolgálat | C17: 35020 | D17: 35020 | E17: 3158 | F17: =SUM(D17:E17) -> 38178 | G17: =(F17/C17) -> 1.090177
A18: 9 | B18: Család- és gyermekjóléti központ | C18: 39270 | D18: 39270 | E18: -330 | F18: =SUM(D18:E18) -> 38940 | G18: =(F18/C18) -> 0.99159664
A19: 10 | B19: Szociális étkeztetés | C19: 39887 | D19: 49393 | F19: =SUM(D19:E19) -> 49393 | G19: =(F19/C19) -> 1.2383233
A20: 11 | B20: Házi segítségnyújtás | C20: 52463 | D20: 65687 | F20: =SUM(D20:E20) -> 65687 | G20: =(F20/C20) -> 1.2520634
A21: 12 | B21: Időskorúak nappali intézményi ellátása | C21: 26160 | D21: 39900 | F21: =SUM(D21:E21) -> 39900 | G21: =(F21/C21) -> 1.5252294
A22: 13 | B22: Fogyatékos személyek nappali intézményi ellátása | C22: 22000 | D22: 32245 | F22: =SUM(D22:E22) -> 32245 | G22: =(F22/C22) -> 1.4656818
A23: 14 | B23: Demens személyek nappali intézményi ellátása | C23: 8500 | D23: 13780 | F23: =SUM(D23:E23) -> 13780 | G23: =(F23/C23) -> 1.6211765
A24: 15 | B24: Óvodai és iskolaiszociális segítő tevékenység támogatása | C24: 54369 | D24: 54612 | F24: =SUM(D24:E24) -> 54612 | G24: =(F24/C24) -> 1.0044695
A25: 16 | B25: Családok és hajléktalanok átmeneti elhelyezése | C25: 9398 | D25: 19290 | F25: =SUM(D25:E25) -> 19290 | G25: =(F25/C25) -> 2.0525644
A26: 17 | B26: Idősek átmeneti és tartós szociális szakosított ellátásának támogatása | C26: 111469 | D26: =142747+30058 -> 172805 | F26: =SUM(D26:E26) -> 172805 | G26: =(F26/C26) -> 1.5502516
A27: 18 | B27: Gyermekétkeztetés támogatása | C27: 482460 | D27: 501906 | F27: =SUM(D27:E27) -> 501906 | G27: =(F27/C27) -> 1.0403059
A28: 19 | B28: Rászoruló gyermekek intézményen kívüli szünidei étkeztetése | C28: 133 | D28: 76 | F28: =SUM(D28:E28) -> 76 | G28: =(F28/C28) -> 0.57142857
A29: 20 | B29: Bölcsődei, mini bölcsődei ellátás (kedvezményes étk. támog. nélkül) | C29: 438299 | D29: 456349 | F29: =SUM(D29:E29) -> 456349 | G29: =(F29/C29) -> 1.0411819
A30: 21 | B30: 4. Települési önkormányzatok kulturális feladatainak támogatása | C30: =SUM(C31:C36) -> 766792 | D30: =SUM(D31:D36) -> 461283 | E30: =SUM(E31:E36) -> 417327 | F30: =SUM(F31:F36) -> 878610 | G30: =(F30/C30) -> 1.1458257
A31: 22 | B31: Megyei hatáskörű városi múzeumok feladatainak támogatása | C31: 117500 | D31: 120660 | F31: =SUM(D31:E31) -> 120660 | G31: =(F31/C31) -> 1.0268936
A32: 23 | B32: Megyei könyvtárak feladatainak támogatása | C32: 140200 | D32: 140200 | F32: =SUM(D32:E32) -> 140200 | G32: =(F32/C32) -> 1
A33: 24 | B33: Megyeszékhely megyei jogú városok közművelődési támogatása | C33: 25588 | D33: 25675 | F33: =SUM(D33:E33) -> 25675 | G33: =(F33/C33) -> 1.0034
A34: 25 | B34: Megyei könyvtár kistelepülési könyvtári célú kiegészítő támogatása | C34: 149704 | D34: 150648 | F34: =SUM(D34:E34) -> 150648 | G34: =(F34/C34) -> 1.0063058
A35: 26 | B35: Színművészeti szervezetek támogatása* | C35: 308800 | E35: 417327 | F35: =SUM(D35:E35) -> 417327 | G35: =(F35/C35) -> 1.3514475
A36: 27 | B36: Zenekarok támogatása | C36: 25000 | D36: 24100 | F36: =SUM(D36:E36) -> 24100 | G36: =(F36/C36) -> 0.964
A37: 28 | B37: MINDÖSSZESEN: | C37: =SUM(C10:C11,C16,C30) -> 3194545 | D37: =SUM(D10:D11,D16,D30) -> 3066627 | E37: =SUM(E10:E11,E16,E30) -> 431087 | F37: =SUM(F10:F11,F16,F30) -> 3497714 | G37: =(F37/C37) -> 1.0949021
B38: * Megjegyzés: A Magyar Államkincstár tájékoztatása szerint a Magyarország 2020. évi központi költségvetéséről szóló 2019. évi LXXI. Törvény 3. melléklet I. 13. e) pontjában szereplő Színházművészeti szervezetek támogatása jogcímen eredeti előirányzatként 0 forintot kell az elemi költségvetésben tervezni. A színművészeti szervezetek finanszírozására VMJV Önkormányzata és Magyrország Kormány között Társműködtetői megállapodás jött létre.

Sheet 2.Onki
B1: 2. melléklet a 5/2020. (II.27.) önkormányzati rendelethez
B2: A rendelet 2. mellékletét módosította a 17/2020. (IV.30.) Ör. 2. melléklete
B3: A rendelet 2. mellékletét módosította a 26/2020. (VI.26.) Ör. 2. melléklete
B4: A rendelet 2. mellékletét módosította a 37/2020. (IX.24.) Ör. 2. melléklete
B5: Veszprém Megyei Jogú Város Önkormányzatának
B6: 2020. évi költségvetési kiadásai
M7: adatok eFt-ban
B8: A | C8: B | D8: C | E8: D | F8: E | G8: F | H8: G | I8: H | J8: I | K8: J | L8: K | M8: L
B9: Cím | C9: Alcím | D9: Előir. csop. | E9: Kie-melt előir. | F9: Megnevezés | G9: 2018. évi tény | H9: 2019. évi eredeti előirányzat | I9: 2019. évi tény | J9: 2020. évi eredeti előirányzat | K9: 2020. évi módosított előirányzat 2. | L9: Módosítás | M9: 2020. évi módosított előirányzat 3.
A10: 1 | B10: 1-17 | F10: Intézményi költségvetési kiadások | G10: =SUM(G11:G12) -> 7353582 | H10: =SUM(H11:H12) -> 7596089 | I10: =SUM(I11:I12) -> 8054296 | J10: =SUM(J11:J12) -> 8038573 | K10: =SUM(K11:K12) -> 8928975 | L10: 56546 | M10: =SUM(M11:M12) -> 8985521
A11: 2 | D11: 1 | F11: Működési költségvetési kiadások | G11: 7197678 | H11: 7431316 | I11: 7776616 | J11: 7971537 | K11: 8780717 | L11: 32949 | M11: =SUM(K11:L11) -> 8813666
A12: 3 | D12: 2 | F12: Felhalmozási költségvetési kiadások | G12: =SUM(G13:G14) -> 155904 | H12: =SUM(H13:H14) -> 164773 | I12: =SUM(I13:I14) -> 277680 | J12: =SUM(J13:J14) -> 67036 | K12: =SUM(K13:K14) -> 148258 | L12: 23597 | M12: =SUM(M13:M14) -> 171855
A13: 4 | E13: 1 | F13: Beruházási kiadások | G13: 155449 | H13: 164773 | I13: 277321 | J13: 67036 | K13: 145103 | L13: 23597 | M13: =SUM(K13:L13) -> 168700
A14: 5 | E14: 2 | F14: Felújítási kiadások | G14: 455 | I14: 359 | K14: 3155 | M14: =SUM(K14:L14) -> 3155
A15: 6 | B15: 18 | F15: VMJV Önkormányzata | G15: =SUM(G16:G17,G28,G29) -> 13225053 | H15: =SUM(H16:H17,H28,H29) -> 19900460 | I15: =SUM(I16:I17,I28,I29) -> 11881117 | J15: =SUM(J16:J17,J28,J29) -> 29513701 | K15: =SUM(K16:K17,K28,K29) -> 29898541 | L15: 713180 | M15: =SUM(M16:M17,M28,M29) -> 30611721
A16: 7 | D16: 1 | F16: Működési költségvetési kiadások | G16: 4718378 | H16: 5579739 | I16: 6400942 | J16: 6655947 | K16: =5993772+15710 -> 6009482 | L16: 154172 | M16: =SUM(K16:L16) -> 6163654
A17: 8 | F17: Céltartalékok | G17: =SUM(G18,G24) -> 0 | H17: =SUM(H18,H24) -> 394518 | I17: =SUM(I18,I24) -> 0 | J17: =SUM(J18,J24) -> 520204 | K17: =SUM(K18,K24) -> 571250 | L17: 0 | M17: =SUM(M18,M24) -> 571250
A18: 9 | D18: 1 | F18: Működési célú céltartalékok | G18: =SUM(G19:G22) -> 0 | H18: =SUM(H19:H22) -> 105109 | I18: =SUM(I19:I23) -> 0 | J18: =SUM(J19:J22) -> 135616 | K18: =SUM(K19:K22) -> 77662 | L18: 0 | M18: =SUM(K18:L18) -> 77662
A19: 10 | F19: - Felmentési idő, jub.jut., végkielégítés | H19: 76368 | J19: 111616 | K19: 77662 | M19: =SUM(K19:L19) -> 77662
A20: 11 | F20: - Képviselői keret | H20: 24000 | J20: 24000 | K20: 0 | M20: =SUM(K20:L20) -> 0
A21: 12 | F21: - Intézményi beruházáshoz kapcsolódó létszámbővítés | H21: 4741 | M21: =SUM(K21:L21) -> 0
A22: 13 | F22: - Működési kiadásokra képzett céltartalék | M22: =SUM(K22:L22) -> 0
A23: 14 | F23: - Adóbevételekkel szembeni kötelezettség | M23: =SUM(K23:L23) -> 0
A24: 15 | D24: 2 | F24: Felhalmozási célú céltartalékok | G24: =SUM(G25:G27) -> 0 | H24: =SUM(H25:H27) -> 289409 | J24: =SUM(J25:J27) -> 384588 | K24: =SUM(K25:K27) -> 493588 | L24: 0 | M24: =SUM(M25:M27) -> 493588
A25: 16 | F25: - Előző évi hitelszerződéshez kapcs. feladat
A26: 17 | F26: - Beruházási kiadásokra képzett céltartalék | H26: 248370 | K26: 109000 | M26: =SUM(K26:L26) -> 109000
A27: 18 | F27: - Viziközmű fejlesztés | H27: 41039 | J27: 384588 | K27: 384588 | M27: =SUM(K27:L27) -> 384588
A28: 19 | F28: Általános tartalék | H28: 150000 | J28: 177471 | K28: 100000 | L28: -36078 | M28: =SUM(K28:L28) -> 63922
A29: 20 | D29: 2 | F29: Felhalmozási költségvetési kiadások | G29: =SUM(G30:G32) -> 8506675 | H29: =SUM(H30:H32) -> 13776203 | I29: =SUM(I30:I32) -> 5480175 | J29: =SUM(J30:J32) -> 22160079 | K29: =SUM(K30:K32) -> 23217809 | L29: 595086 | M29: =SUM(M30:M32) -> 23812895
A30: 21 | E30: 1 | F30: Beruházási kiadások | G30: 7792799 | H30: 13014190 | I30: 5000126 | J30: 21222147 | K30: =22246140-15710 -> 22230430 | L30: -859839 | M30: =SUM(K30:L30) -> 21370591
A31: 22 | E31: 2 | F31: Egyéb felhalmozási célú kiadások | G31: 502120 | H31: 197022 | I31: 55982 | J31: 549493 | K31: 622304 | L31: 1449925 | M31: =SUM(K31:L31) -> 2072229
A32: 23 | E32: 3 | F32: Felújítási kiadások | G32: 211756 | H32: 564991 | I32: 424067 | J32: 388439 | K32: 365075 | L32: 5000 | M32: =SUM(K32:L32) -> 370075
A33: 24 | B33: 18 | F33: Lakásalap kiadása | G33: =SUM(G34:G35) -> 0 | H33: =SUM(H34:H35) -> 0 | I33: =SUM(I34:I35) -> 0 | J33: =SUM(J34:J35) -> 0 | K33: =SUM(K34:K35) -> 0 | L33: 0 | M33: =SUM(M34:M35) -> 0
A34: 25 | D34: 1 | F34: Működési költségvetési kiadások
A35: 26 | D35: 2 | F35: Felhalmozási költségvetési kiadások
A36: 27 | F36: Költségvetési kiadások összesen | G36: =SUM(G10,G15,G33) -> 20578635 | H36: =SUM(H10,H15,H33) -> 27496549 | I36: =SUM(I10,I15,I33) -> 19935413 | J36: =SUM(J10,J15,J33) -> 37552274 | K36: =SUM(K10,K15,K33) -> 38827516 | L36: 769726 | M36: =SUM(M10,M15,M33) -> 39597242
A37: 28 | B37: 18 | F37: Finanszírozási kiadások | G37: =SUM(G41:G42,G38:G39) -> 215713 | H37: =SUM(H41:H42,H38:H39) -> 209635 | I37: =SUM(I41:I42,I38:I39) -> 241248 | J37: =SUM(J41:J42,J38:J39) -> 219771 | K37: =SUM(K41:K42,K38:K39) -> 219771 | L37: =SUM(L41:L42,L38:L39) -> 0 | M37: =SUM(M41:M42,M38:M39) -> 219771
A38: 29 | D38: 1 | F38: Működési finanszírozási kiadások
A39: 30 | D39: 1 | F39: Államháztartáson belüli megelőlegezések visszafizetése | G39: 108118 | H39: 96040 | I39: 127653 | J39: 111267 | K39: 111267 | M39: =SUM(K39:L39) -> 111267
A40: 31 | D40: 2 | F40: Felhalmozási finanszírozási kiadások
A41: 32 | F41: - Hiteltörlesztés | G41: 107595 | H41: 113595 | I41: 113595 | J41: 108504 | K41: 108504 | M41: =SUM(K41:L41) -> 108504
A42: 33 | F42: - Lakásalap hiteltörlesztése
A43: 34 | F43: Kiadási főösszeg | G43: =SUM(G36:G37) -> 20794348 | H43: =SUM(H36:H37) -> 27706184 | I43: =SUM(I36:I37) -> 20176661 | J43: =SUM(J36:J37) -> 37772045 | K43: =SUM(K36:K37) -> 39047287 | L43: =SUM(L36:L37) -> 769726 | M43: =SUM(M36:M37) -> 39817013

Sheet 3.Inbe 
B1: 3. melléklet a 5/2020. (II.27.) önkormányzati rendelethez
B2: A rendelet 3. mellékletét módosította a 17/2020. (IV.30.) Ör. 3. melléklete
B3: A rendelet 3. mellékletét módosította a 26/2020. (VI.26.) Ör. 3. melléklete
B4: A rendelet 3. mellékletét módosította a 37/2020. (IX.24.) Ör. 3. melléklete
B5: Veszprém Megyei Jogú Város Önkormányzata Intézményei
B6: 2020. évi költségvetési bevételei
N7: adatok eFt-ban
B8: A | C8: B | D8: C | F8: D | G8: E | H8: F | I8: G | J8: H | K8: I | L8: J | M8: K | N8: L | O8: M
B9: Cím | C9: Alcím | D9: Megnevezés | F9: Működési költségvetési bevételek | I9: Felhalmozási költségvetési bevételek | L9: Előző évi költségvetési maradvány | M9: Irányító szervtől kapott támogatás | O9: 2020. évi bevételi előirányzat
F10: Működési bevételek | G10: Működési célú támogatás Áht-on belülről | H10: Működési célú átvett pénzeszköz | I10: Felhalmozási bevétel | J10: Felhalmozási célú támogatás Áht.-on belülről | K10: Felhalmozási célú átvett pénzeszköz | M10: Összesen | N10: Ebből: költségvetési támogatás
A11: 1 | B11: 1 | D11: Veszprémi Vadvirág Körzeti Óvoda
A12: 2 | D12: (Csillagvár Waldorf Tagóvoda, Vadvirág Óvoda)
A13: 3 | E13: eredeti előirányzat | F13: 4940 | L13: 710 | M13: 207975 | N13: 142608 | O13: =SUM(F13:M13) -> 213625
A14: 4 | E14: módosított előirányzat 2. | F14: 4940 | L14: 6146 | M14: 209170 | N14: 142612 | O14: =SUM(F14:M14) -> 220256
A15: 5 | E15: módosítás- köznevelési feladatok kiegészítő támogatása (min.bér, gar.bérmin. támog) | N15: 10552 | O15: =SUM(F15:M15) -> 0
A16: 6 | E16: intézményi gyermekétkeztetés kiegészítő bértámogatás (min.bér, gar.bérmin. támog) | N16: 493 | O16: =SUM(F16:M16) -> 0
A17: 7 | E17: minősített pedagógusok támogatása | N17: 727 | O17: =SUM(F17:M17) -> 0
A18: 8 | E18: Bérkompenzáció (2020. május hó - 2020. július hó) | M18: 1 | N18: 1 | O18: =SUM(F18:M18) -> 1
A19: 9 | E19: módosított előirányzat 3. | F19: =SUM(F14:F18) -> 4940 | L19: =SUM(L14:L18) -> 6146 | M19: =SUM(M14:M18) -> 209171 | N19: =SUM(N14:N18) -> 154385 | O19: =SUM(F19:M19) -> 220257
A20: 10 | B20: 2 | D20: Veszprémi Bóbita Körzeti Óvoda
A21: 11 | D21: (Hársfa Tagóvoda, Bóbita Óvoda)
A22: 12 | E22: eredeti előirányzat | F22: 9516 | L22: 700 | M22: 356874 | N22: 277977 | O22: =SUM(F22:M22) -> 367090
A23: 13 | E23: módosított előirányzat 2. | F23: 7516 | L23: 28037 | M23: 358733 | N23: 278006 | O23: =SUM(F23:M23) -> 394286
A24: 14 | E24: módosítás- köznevelési feladatok kiegészítő támogatása (min.bér, gar.bérmin. támog) | N24: 17374 | O24: =SUM(F24:M24) -> 0
A25: 15 | E25: intézményi gyermekétkeztetés kiegészítő bértámogatás (min.bér, gar.bérmin. támog) | N25: 873 | O25: =SUM(F25:M25) -> 0
A26: 16 | E26: Bérkompenzáció (2020. május hó - 2020. július hó) | M26: 7 | N26: 7 | O26: =SUM(F26:M26) -> 7
A27: 17 | E27: módosított előirányzat 3. | F27: =SUM(F23:F26) -> 7516 | L27: =SUM(L23:L26) -> 28037 | M27: =SUM(M23:M26) -> 358740 | N27: =SUM(N23:N26) -> 296260 | O27: =SUM(F27:M27) -> 394293
A28: 18 | B28: 3 | D28: Veszprémi Ringató Körzeti Óvoda
A29: 19 | D29: (Ringató Óvoda, Erdei Tagóvoda, Kuckó Tagóvoda)
A30: 20 | E30: eredeti előirányzat | F30: 17581 | M30: 411379 | N30: 365584 | O30: =SUM(F30:M30) -> 428960
A31: 21 | E31: módosított előirányzat 2. | F31: 12581 | L31: 14688 | M31: 417705 | N31: 365584 | O31: =SUM(F31:M31) -> 444974
A32: 22 | E32: módosítás- köznevelési feladatok kiegészítő támogatása (min.bér, gar.bérmin. támog) | N32: 21218 | O32: =SUM(F32:M32) -> 0
A33: 23 | E33: intézményi gyermekétkeztetés kiegészítő bértámogatás (min.bér, gar.bérmin. támog) | N33: 1079 | O33: =SUM(F33:M33) -> 0
A34: 24 | E34: minősített pedagógusok támogatása | N34: 1454 | O34: =SUM(F34:M34) -> 0
A35: 25 | E35: módosított előirányzat 3. | F35: =SUM(F31:F34) -> 12581 | L35: =SUM(L31:L34) -> 14688 | M35: =SUM(M31:M34) -> 417705 | N35: =SUM(N31:N34) -> 389335 | O35: =SUM(F35:M35) -> 444974
A36: 26 | B36: 4 | D36: Veszprémi Egry úti Körzeti Óvoda
A37: 27 | D37: (Egry ltp. Óvoda, Nárcisz Tagóvoda)
A38: 28 | E38: eredeti előirányzat | F38: 10020 | M38: 309492 | N38: 193144 | O38: =SUM(F38:M38) -> 319512
A39: 29 | E39: módosított előirányzat 2. | F39: 7133 | L39: 18600 | M39: 309505 | N39: 193157 | O39: =SUM(F39:M39) -> 335238
A40: 30 | E40: módosítás- köznevelési feladatok kiegészítő támogatása (min.bér, gar.bérmin. támog) | N40: 14718 | O40: =SUM(F40:M40) -> 0
A41: 31 | E41: intézményi gyermekétkeztetés kiegészítő bértámogatás (min.bér, gar.bérmin. támog) | N41: 586 | O41: =SUM(F41:M41) -> 0
A42: 32 | E42: minősített pedagógusok támogatása | N42: 364 | O42: =SUM(F42:M42) -> 0
A43: 33 | E43: Bérkompenzáció (2020. május hó - 2020. július hó) | M43: 7 | N43: 7 | O43: =SUM(F43:M43) -> 7
A44: 34 | E44: módosított előirányzat 3. | F44: =SUM(F39:F43) -> 7133 | L44: =SUM(L39:L43) -> 18600 | M44: =SUM(M39:M43) -> 309512 | N44: =SUM(N39:N43) -> 208832 | O44: =SUM(F44:M44) -> 335245
A45: 35 | B45: 5 | D45: Veszprémi Csillag úti Körzeti Óvoda
A46: 36 | D46: (Csillag úti Óvoda, Cholnoky ltp. Óvoda)
A47: 37 | E47: eredeti előirányzat | F47: 18635 | M47: 322903 | N47: 237570 | O47: =SUM(F47:M47) -> 341538
A48: 38 | E48: módosított előirányzat 2. | F48: 18635 | L48: 11955 | M48: 333916 | N48: 237570 | O48: =SUM(F48:M48) -> 364506
A49: 39 | E49: módosítás- köznevelési feladatok kiegészítő támogatása (min.bér, gar.bérmin. támog) | N49: 17375 | O49: =SUM(F49:M49) -> 0
A50: 40 | E50: intézményi gyermekétkeztetés kiegészítő bértámogatás (min.bér, gar.bérmin. támog) | N50: 933 | O50: =SUM(F50:M50) -> 0
A51: 41 | E51: minősített pedagógusok támogatása | N51: 1091 | O51: =SUM(F51:M51) -> 0
A52: 42 | E52: módosított előirányzat 3. | F52: =SUM(F48:F51) -> 18635 | L52: =SUM(L48:L51) -> 11955 | M52: =SUM(M48:M51) -> 333916 | N52: =SUM(N48:N51) -> 256969 | O52: =SUM(F52:M52) -> 364506
A53: 43 | B53: 6 | D53: Veszprémi Kastélykert Körzeti Óvoda
A54: 44 | D54: (Kastélykert Óvoda, Ficánka Óvoda)
A55: 45 | E55: eredeti előirányzat | F55: 5441 | M55: 166965 | N55: 119083 | O55: =SUM(F55:M55) -> 172406
A56: 46 | E56: módosított előirányzat 2. | F56: 2968 | L56: 15535 | M56: 166965 | N56: 119083 | O56: =SUM(F56:M56) -> 185468
A57: 47 | E57: módosítás- köznevelési feladatok kiegészítő támogatása (min.bér, gar.bérmin. támog) | N57: 6494 | O57: =SUM(F57:M57) -> 0
A58: 48 | E58: intézményi gyermekétkeztetés kiegészítő bértámogatás (min.bér, gar.bérmin. támog) | N58: 336 | O58: =SUM(F58:M58) -> 0
A59: 49 | E59: minősített pedagógusok támogatása | N59: 137 | O59: =SUM(F59:M59) -> 0
A60: 50 | E60: módosított előirányzat 3. | F60: =SUM(F56:F59) -> 2968 | L60: =SUM(L56:L59) -> 15535 | M60: =SUM(M56:M59) -> 166965 | N60: =SUM(N56:N59) -> 126050 | O60: =SUM(F60:M60) -> 185468
A61: 51 | C61: 1 | D61: Közcélú és közhasznú foglalkoztatás
A62: 52 | E62: eredeti előirányzat | G62: 2225 | O62: =SUM(F62:M62) -> 2225
A63: 53 | E63: módosított előirányzat 2. | G63: 2225 | O63: =SUM(F63:M63) -> 2225
A64: 54 | E64: módosítás- | O64: =SUM(F64:M64) -> 0
A65: 55 | E65: módosított előirányzat 3. | G65: =SUM(G63:G64) -> 2225 | O65: =SUM(F65:M65) -> 2225
A66: 56 | C66: Óvodák összesen:
A67: 57 | E67: eredeti előirányzat | F67: =SUM(F13,F22,F30,F38,F47,F55,F62) -> 66133 | G67: =SUM(G13,G22,G30,G38,G47,G55,G62) -> 2225 | H67: =SUM(H13,H22,H30,H38,H47,H55,H62) -> 0 | I67: =SUM(I13,I22,I30,I38,I47,I55,I62) -> 0 | J67: =SUM(J13,J22,J30,J38,J47,J55,J62) -> 0 | K67: =SUM(K13,K22,K30,K38,K47,K55,K62) -> 0 | L67: =SUM(L13,L22,L30,L38,L47,L55,L62) -> 1410 | M67: =SUM(M13,M22,M30,M38,M47,M55,M62) -> 1775588 | N67: =SUM(N13,N22,N30,N38,N47,N55,N62) -> 1335966 | O67: =SUM(F67:M67) -> 1845356
A68: 58 | E68: módosított előirányzat 2. | F68: =SUM(F14,F23,F31,F39,F48,F56,F63) -> 53773 | G68: =SUM(G14,G23,G31,G39,G48,G56,G63) -> 2225 | H68: =SUM(H14,H23,H31,H39,H48,H56,H63) -> 0 | I68: =SUM(I14,I23,I31,I39,I48,I56,I63) -> 0 | J68: =SUM(J14,J23,J31,J39,J48,J56,J63) -> 0 | K68: =SUM(K14,K23,K31,K39,K48,K56,K63) -> 0 | L68: =SUM(L14,L23,L31,L39,L48,L56,L63) -> 94961 | M68: =SUM(M14,M23,M31,M39,M48,M56,M63) -> 1795994 | N68: =SUM(N14,N23,N31,N39,N48,N56,N63) -> 1336012 | O68: =SUM(F68:M68) -> 1946953
A69: 59 | E69: módosítás- | F69: =SUM(F15:F18,F24:F26,F32:F34,F40:F43,F49:F51,F57:F59,F64) -> 0 | G69: =SUM(G15:G18,G24:G26,G32:G34,G40:G43,G49:G51,G57:G59,G64) -> 0 | H69: =SUM(H15:H18,H24:H26,H32:H34,H40:H43,H49:H51,H57:H59,H64) -> 0 | I69: =SUM(I15:I18,I24:I26,I32:I34,I40:I43,I49:I51,I57:I59,I64) -> 0 | J69: =SUM(J15:J18,J24:J26,J32:J34,J40:J43,J49:J51,J57:J59,J64) -> 0 | K69: =SUM(K15:K18,K24:K26,K32:K34,K40:K43,K49:K51,K57:K59,K64) -> 0 | L69: =SUM(L15:L18,L24:L26,L32:L34,L40:L43,L49:L51,L57:L59,L64) -> 0 | M69: =SUM(M15:M18,M24:M26,M32:M34,M40:M43,M49:M51,M57:M59,M64) -> 15 | N69: =SUM(N15:N18,N24:N26,N32:N34,N40:N43,N49:N51,N57:N59,N64) -> 95819 | O69: =SUM(F69:M69) -> 15
A70: 60 | E70: módosított előirányzat 3. | F70: =SUM(F68:F69) -> 53773 | G70: =SUM(G68:G69) -> 2225 | H70: =SUM(H68:H69) -> 0 | I70: =SUM(I68:I69) -> 0 | J70: =SUM(J68:J69) -> 0 | K70: =SUM(K68:K69) -> 0 | L70: =SUM(L68:L69) -> 94961 | M70: =SUM(M68:M69) -> 1796009 | N70: =SUM(N68:N69) -> 1431831 | O70: =SUM(F70:M70) -> 1946968
A71: 61 | B71: 7 | D71: Veszprémi Bölcsődei és Egészségügyi Alapellátási Integrált Intézmény
A72: 62 | E72: eredeti előirányzat | F72: 21777 | G72: 1473 | L72: 1630 | M72: 972097 | N72: 747388 | O72: =SUM(F72:M72) -> 996977
A73: 63 | E73: módosított előirányzat 2. | F73: 15700 | G73: 6542 | L73: 49233 | M73: 987180 | N73: 754753 | O73: =SUM(F73:M73) -> 1058655
A74: 64 | E74: módosítás- bölcsődei feladatok kiegészítő bértámogatása (min.bér, gar.bérmin.támog) | N74: 12755 | O74: =SUM(F74:M74) -> 0
A75: 65 | E75: intézményi gyermekétkeztetés kiegészítő bértámogatás (min.bér, gar.bérmin. támog) | N75: 1079 | O75: =SUM(F75:M75) -> 0
A76: 66 | E76: bölcsődei üzemeltetési támogatás | N76: -40437 | O76: =SUM(F76:M76) -> 0
A77: 67 | E77: bölcsődei pótlék támogatása | N77: 38579 | O77: =SUM(F77:M77) -> 0
A78: 68 | E78: Bérkompenzáció (2020. május hó - 2020. július hó) | M78: 699 | N78: 699 | O78: =SUM(F78:M78) -> 699
A79: 69 | E79: Szociális ágazati összevont pótlék (2020. május hó - 2020. július hó) | M79: 3766 | N79: 3766 | O79: =SUM(F79:M79) -> 3766
A80: 70 | E80: Társadalombiztosítási Alaptól egyszeri rendkívüli juttatás fedezetére | M80: 19387 | N80: 19387 | O80: =SUM(F80:M80) -> 19387
A81: 71 | E81: szakképzési hozzájárulás | G81: 1788 | O81: =SUM(F81:M81) -> 1788
A82: 72 | E82: gépjármű értékesítés | I82: 1200 | O82: =SUM(F82:M82) -> 1200
A83: 73 | E83: módosított előirányzat 3. | F83: =SUM(F73:F82) -> 15700 | G83: =SUM(G73:G82) -> 8330 | I83: =SUM(I73:I82) -> 1200 | L83: =SUM(L73:L82) -> 49233 | M83: =SUM(M73:M82) -> 1011032 | N83: =SUM(N73:N82) -> 790581 | O83: =SUM(F83:M83) -> 1085495
A84: 74 | B84: 8 | D84: Göllesz Viktor Fogyatékos Személyek Nappali Intézménye
A85: 75 | E85: eredeti előirányzat | F85: 13800 | M85: 55450 | N85: 32245 | O85: =SUM(F85:M85) -> 69250
A86: 76 | E86: módosított előirányzat 2. | F86: 10425 | L86: 16508 | M86: 67008 | N86: 43803 | O86: =SUM(F86:M86) -> 93941
A87: 77 | E87: módosítás- Egyes szociális feladatok kiegészítő támogatása (min.bér, gar.bérmin. támog) | N87: =1806+206 -> 2012 | O87: =SUM(F87:M87) -> 0
A88: 78 | E88: Bérkompenzáció (2020. május hó - 2020. július hó) | M88: 96 | N88: 96 | O88: =SUM(F88:M88) -> 96
A89: 79 | E89: Szociális ágazati összevont pótlék (2020. május hó - 2020. július hó) | M89: 3125 | N89: 3125 | O89: =SUM(F89:M89) -> 3125
A90: 80 | E90: módosított előirányzat 3. | F90: =SUM(F86:F89) -> 10425 | L90: =SUM(L86:L89) -> 16508 | M90: =SUM(M86:M89) -> 70229 | N90: =SUM(N86:N89) -> 49036 | O90: =SUM(F90:M90) -> 97162
A91: 81 | B91: 9 | D91: Veszprémi Családsegítő és Gyermekjóléti Integrált Intézmény
A92: 82 | E92: eredeti előirányzat | F92: 1800 | L92: 1150 | M92: 240692 | N92: 148192 | O92: =SUM(F92:M92) -> 243642
A93: 83 | E93: módosított előirányzat 2. | F93: 1800 | L93: 29468 | M93: 270910 | N93: 178876 | O93: =SUM(F93:M93) -> 302178
A94: 84 | E94: módosítás- Család és gyermekjóléti szolgálat és központ kiegészítő támogatása (min.bér, gar.bérmin. támog) | N94: =7362+2828 -> 10190 | O94: =SUM(F94:M94) -> 0
A95: 85 | E95: Szakosított ellátások kiegészítő támogatása (min.bér, gar.bérmin. támog) | N95: 1880 | O95: =SUM(F95:M95) -> 0
A96: 86 | E96: Bérkompenzáció (2020. május hó - 2020. július hó) | M96: 236 | N96: 236 | O96: =SUM(F96:M96) -> 236
A97: 87 | E97: Szociális ágazati összevont pótlék (2020. május hó - 2020. július hó) | M97: 17640 | N97: 17640 | O97: =SUM(F97:M97) -> 17640
A98: 88 | E98: módosított előirányzat 3. | F98: =SUM(F93:F97) -> 1800 | L98: =SUM(L93:L97) -> 29468 | M98: =SUM(M93:M97) -> 288786 | N98: =SUM(N93:N97) -> 208822 | O98: =SUM(F98:M98) -> 320054
A99: 89 | C99: Egészségügyi és szociális intézmények összesen:
A100: 90 | E100: eredeti előirányzat | F100: =SUM(F72,F85,F92) -> 37377 | G100: =SUM(G72,G85,G92) -> 1473 | H100: =SUM(H72,H85,H92) -> 0 | I100: =SUM(I72,I85,I92) -> 0 | J100: =SUM(J72,J85,J92) -> 0 | K100: =SUM(K72,K85,K92) -> 0 | L100: =SUM(L72,L85,L92) -> 2780 | M100: =SUM(M72,M85,M92) -> 1268239 | N100: =SUM(N72,N85,N92) -> 927825 | O100: =SUM(F100:M100) -> 1309869
...

Sheet 3.A Inbe
B1: 3.A. melléklet a 5/2020. (II.27.) önkormányzati rendelethez
B2: A rendelet 3.A mellékletét módosította a 17/2020. (IV.30.) Ör. 3.A melléklete
B3: a rendelet 3.A mellékletét módosította a 26/2020. (VI.26.) Ör. 3.A melléklete
B4: A rendelet 3.A mellékletét módosította a 37/2020. (IX.24.) Ör. 3.A melléklete
B5: Veszprém Megyei Jogú Város Önkormányzata Intézményei
B6: 2020. évi saját bevételei
H7: adatok eFt-ban
B8: A | C8: B | D8: C | E8: D | F8: E | G8: F | H8: G
B9: Cím | C9: Alcím | D9: Megnevezés | E9: 2018. évi tény | F9: 2019. évi eredeti előirányzat | G9: 2019. évi tény | H9: 2020. évi előirányzat
A11: 1 | B11: 1 | D11: Veszprémi Vadvirág Körzeti Óvoda (Csillagvár Waldorf Tagóvoda, Vadvirág Óvoda) | E11: 4241 | F11: 4458 | G11: 4440 | H11: 4940
A12: 2 | B12: 2 | D12: Veszprémi Bóbita Körzeti Óvoda (Hársfa Tagóvoda, Bóbita Óvoda) | E12: 8290 | F12: 10813 | G12: 8462 | H12: 7516
A13: 3 | B13: 3 | D13: Veszprémi Ringató Körzeti Óvoda (Ringató Óvoda, Erdei Tagóvoda, Kuckó Tagóvoda) | E13: 16663 | F13: 17490 | G13: 15398 | H13: 12581
A14: 4 | B14: 4 | D14: Veszprémi Egry úti Körzeti Óvoda (Egry ltp. Óvoda, Nárcisz Tagóvoda) | E14: 12417 | F14: 13993 | G14: 10994 | H14: 7133
A15: 5 | B15: 5 | D15: Veszprémi Csillag úti Körzeti Óvoda (Csillag úti Óvoda, Cholnoky ltp. Óvoda) | E15: 14656 | F15: 15663 | G15: 17279 | H15: 18635
A16: 6 | B16: 6 | D16: Veszprémi Kastélykert Körzeti Óvoda (Kastélykert Óvoda, Ficánka Óvoda) | E16: 3862 | F16: 3794 | G16: 4464 | H16: 2968
A17: 7 | D17: Óvodák összesen: | E17: =SUM(E11:E16) -> 60129 | F17: =SUM(F11:F16) -> 66211 | G17: =SUM(G11:G16) -> 61037 | H17: =SUM(H11:H16) -> 53773
A18: 8 | B18: 7 | D18: Veszprémi Bölcsődei és Egészségügyi Alapellátási Integrált Intézmény | E18: 43118 | F18: 19344 | G18: 23407 | H18: 15700
A19: 9 | B19: 8 | D19: Göllesz Viktor Fogyatékos Személyek Nappali Intézménye | E19: 15040 | F19: 13500 | G19: 15109 | H19: 10425
A20: 10 | B20: 9 | D20: Veszprémi Családsegítő és Gyermekjóléti Integrált Intézmény | F20: 1800 | G20: 2909 | H20: 1800
A21: 11 | D21: Egészségügyi és szociális intézmények összesen: | E21: =SUM(E18:E20) -> 58158 | F21: =SUM(F18:F20) -> 34644 | G21: =SUM(G18:G20) -> 41425 | H21: =SUM(H18:H20) -> 27925
A22: 12 | B22: 10 | D22: Agóra Veszprém Kulturális Központ | E22: 39591 | F22: 39584 | G22: 43824 | H22: 23539
A23: 13 | B23: 11 | D23: Művészetek Háza Veszprém Művelődési Ház és Kiállítóhely | E23: 4063 | F23: 7001 | G23: 8889 | H23: 6527
A24: 14 | B24: 12 | D24: Eötvös Károly Megyei Könyvtár | E24: 36291 | F24: 21200 | G24: 31157 | H24: 17914
A25: 15 | B25: 13 | D25: Laczkó Dezső Múzeum | E25: 129584 | F25: =113894+11447 -> 125341 | G25: 200194 | H25: 209389
A26: 16 | B26: 14 | D26: Kabóca Bábszínház | E26: 29609 | F26: 33854 | G26: 25393 | H26: =15414+228 -> 15642
A27: 17 | B27: 15 | D27: Veszprémi Petőfi Színház | E27: 273726 | F27: 203000 | G27: 303830 | H27: 139433
A28: 18 | D28: Kulturális és közművelődési intézmények összesen: | E28: =SUM(E22:E27) -> 512864 | F28: =SUM(F22:F27) -> 429980 | G28: =SUM(G22:G27) -> 613287 | H28: =SUM(H22:H27) -> 412444
A29: 19 | B29: 16 | D29: Veszprémi Intézményi Szolgáltató Szervezet | E29: 362984 | F29: 379059 | G29: 386604 | H29: 381102
A30: 20 | B30: INTÉZMÉNYEK ÖSSZESEN: | E30: =SUM(E17,E21,E28,E29) -> 994135 | F30: =SUM(F17,F21,F28,F29) -> 909894 | G30: =SUM(G17,G21,G28,G29) -> 1102353 | H30: =SUM(H17,H21,H28,H29) -> 875244
A31: 21 | B31: 17 | D31: VMJV Polgármesteri Hivatal által ellátott kötelező és önként vállalt feladatok | E31: 4845 | G31: 9526 | H31: 4543
A32: 22 | B32: MINDÖSSZESEN: | E32: =SUM(E30,E31) -> 998980 | F32: =SUM(F30,F31) -> 909894 | G32: =SUM(G30,G31) -> 1111879 | H32: =SUM(H30,H31) -> 879787

Sheet 4.Inki
B1: 4. melléklet a 5/2020. (II.27.) önkormányzati rendelethez
B2: A rendelet 4. mellékletét módosította a 17/2020. (IV.30.) Ör. 4. melléklete
B3: A rendelet 4. mellékletét módosította a 26/2020. (VI.26.) Ör. 4. melléklete
B4: A rendelet 4. mellékletét módosította a 37/2020. (IX.24.) Ör. 4. melléklete
B5: Veszprém Megyei Jogú Város Önkormányzata Intézményei
B6: 2020. évi költségvetési kiadásai
Q7: adatok eFt-ban
B8: A | C8: B | D8: C | F8: D | G8: E | H8: F | I8: G | J8: H | K8: I | L8: J | M8: K | N8: L | O8: M | P8: N | Q8: O | R8: P
B9: Cím | C9: Alcím | D9: Megnevezés | F9: Feladatellátás jellege* | G9: 2018. évi tény | H9: 2019. évi eredeti előirányzat | I9: 2019. évi tény | J9: 2020. évi kiadási előirányzat | K9: Működési költségvetési kiadások | P9: Felhalmozási költségvetési kiadások
K10: Személyi juttatások | L10: Munk.a. terh. jár. és szoc.hj.adó | M10: Dologi kiadások | N10: Ellátottak pénzbeli juttatásai | O10: Egyéb működési kiadások | P10: Beruházási kiadások | Q10: Felújítási kiadások | R10: Egyéb felhalmozási célú kiadások
A11: 1 | B11: 1 | D11: Veszprémi Vadvirág Körzeti Óvoda | F11: K | G11: 206614 | H11: 209393 | I11: 212753
A12: 2 | D12: (Csillagvár Waldorf Tagóvoda, Vadvirág Óvoda)
A13: 3 | E13: eredeti előirányzat | J13: =SUM(K13:R13) -> 213625 | K13: 134372 | L13: 26600 | M13: 51943 | P13: 710
A14: 4 | E14: módosított előirányzat 2. | J14: =SUM(K14:R14) -> 220256 | K14: 135799 | L14: 27417 | M14: 56310 | P14: 522 | Q14: 208
A15: 5 | E15: módosítás- Bérkompenzáció (2020. május hó - 2020. július hó) | J15: =SUM(K15:R15) -> 1 | K15: 1
A16: 6 | E16: átcsoportosítás | J16: =SUM(K16:R16) -> 0 | K16: -1500 | M16: 1500
A17: 7 | E17: módosított előirányzat 3. | J17: =SUM(K17:R17) -> 220257 | K17: =SUM(K14:K16) -> 134300 | L17: =SUM(L14:L16) -> 27417 | M17: =SUM(M14:M16) -> 57810 | P17: =SUM(P14:P16) -> 522 | Q17: =SUM(Q14:Q16) -> 208
A18: 8 | B18: 2 | D18: Veszprémi Bóbita Körzeti Óvoda | F18: K | G18: 351654 | H18: 356328 | I18: 358902
A19: 9 | D19: (Hársfa Tagóvoda, Bóbita Óvoda)
A20: 10 | E20: eredeti előirányzat | J20: =SUM(K20:R20) -> 367090 | K20: 241291 | L20: 48109 | M20: 76990 | P20: 700
A21: 11 | E21: módosított előirányzat 2. | J21: =SUM(K21:R21) -> 394286 | K21: 241279 | L21: 48163 | M21: 92443 | P21: 9454 | Q21: 2947
A22: 12 | E22: módosítás- Bérkompenzáció (2020. május hó - 2020. július hó) | J22: =SUM(K22:R22) -> 7 | K22: 6 | L22: 1
A23: 13 | E23: átcsoportosítás | J23: =SUM(K23:R23) -> 0 | M23: -2190 | P23: 2190
A24: 14 | E24: módosított előirányzat 3. | J24: =SUM(K24:R24) -> 394293 | K24: =SUM(K21:K23) -> 241285 | L24: =SUM(L21:L23) -> 48164 | M24: =SUM(M21:M23) -> 90253 | P24: =SUM(P21:P23) -> 11644 | Q24: =SUM(Q21:Q23) -> 2947
A25: 15 | B25: 3 | D25: Veszprémi Ringató Körzeti Óvoda | F25: K | G25: 431588 | H25: 425240 | I25: 431030
A26: 16 | D26: (Ringató Óvoda, Erdei Tagóvoda, Kuckó Tagóvoda)
A27: 17 | E27: eredeti előirányzat | J27: =SUM(K27:R27) -> 428960 | K27: 291221 | L27: 57361 | M27: 80378
A28: 18 | E28: módosított előirányzat 2. | J28: =SUM(K28:R28) -> 444974 | K28: 299510 | L28: 58873 | M28: 85931 | P28: 660
A29: 19 | E29: módosítás- átcsoportosítás | J29: =SUM(K29:R29) -> 0 | M29: -660 | P29: 660
A30: 20 | E30: módosított előirányzat 3. | J30: =SUM(K30:R30) -> 444974 | K30: =SUM(K28:K29) -> 299510 | L30: =SUM(L28:L29) -> 58873 | M30: =SUM(M28:M29) -> 85271 | P30: =SUM(P28:P29) -> 1320
A31: 21 | B31: 4 | D31: Veszprémi Egry úti Körzeti Óvoda | F31: K | G31: 302390 | H31: 310528 | I31: 318994
A32: 22 | D32: (Egry ltp. Óvoda, Nárcisz Tagóvoda)
A33: 23 | E33: eredeti előirányzat | J33: =SUM(K33:R33) -> 319512 | K33: 213322 | L33: 42437 | M33: 63753
A34: 24 | E34: módosított előirányzat 2. | J34: =SUM(K34:R34) -> 335238 | K34: 213706 | L34: 42572 | M34: 78960
A35: 25 | E35: módosítás- Bérkompenzáció (2020. május hó - 2020. július hó) | J35: =SUM(K35:R35) -> 7 | K35: 6 | L35: 1
A36: 26 | E36: módosított előirányzat 3. | J36: =SUM(K36:R36) -> 335245 | K36: =SUM(K34:K35) -> 213712 | L36: =SUM(L34:L35) -> 42573 | M36: =SUM(M34:M35) -> 78960
A37: 27 | B37: 5 | D37: Veszprémi Csillag úti Körzeti Óvoda | F37: K | G37: 336173 | H37: 339061 | I37: 350092
A38: 28 | D38: (Csillag úti Óvoda, Cholnoky ltp. Óvoda)
A39: 29 | E39: eredeti előirányzat | J39: =SUM(K39:R39) -> 341538 | K39: 213361 | L39: 42331 | M39: 85846
A40: 30 | E40: módosított előirányzat 2. | J40: =SUM(K40:R40) -> 364506 | K40: 223592 | L40: 44860 | M40: 95654 | P40: 400
A41: 31 | E41: módosítás- | J41: =SUM(K41:R41) -> 0
A42: 32 | E42: módosított előirányzat 3. | J42: =SUM(K42:R42) -> 364506 | K42: =SUM(K40:K41) -> 223592 | L42: =SUM(L40:L41) -> 44860 | M42: =SUM(M40:M41) -> 95654 | P42: =SUM(P40:P41) -> 400
A43: 33 | B43: 6 | D43: Veszprémi Kastélykert Körzeti Óvoda | F43: K | G43: 156041 | H43: 165684 | I43: 168688
A44: 34 | D44: (Kastélykert Óvoda, Ficánka Óvoda)
A45: 35 | E45: eredeti előirányzat | J45: =SUM(K45:R45) -> 172406 | K45: 113388 | L45: 22885 | M45: 36133
A46: 36 | E46: módosított előirányzat 2. | J46: =SUM(K46:R46) -> 185468 | K46: 113920 | L46: 23188 | M46: 46966 | O46: 179 | P46: 1215
A47: 37 | E47: módosítás- átcsoportosítás | J47: =SUM(K47:R47) -> 0 | M47: -846 | P47: 846
A48: 38 | E48: módosított előirányzat 3. | J48: =SUM(K48:R48) -> 185468 | K48: =SUM(K46:K47) -> 113920 | L48: =SUM(L46:L47) -> 23188 | M48: =SUM(M46:M47) -> 46120 | O48: =SUM(O46:O47) -> 179 | P48: =SUM(P46:P47) -> 2061
A49: 39 | C49: 1 | D49: Közcélú és közhasznú foglalkoztatás | G49: 1006 | H49: 2245 | I49: 179
A50: 40 | E50: eredeti előirányzat | J50: =SUM(K50:R50) -> 2225 | K50: 1957 | L50: 171 | M50: 97
A51: 41 | E51: módosított előirányzat 2. | J51: =SUM(K51:R51) -> 2225 | K51: 1957 | L51: 171 | M51: 97
A52: 42 | E52: módosítás- | J52: =SUM(K52:R52) -> 0
A53: 43 | E53: módosított előirányzat 3. | J53: =SUM(K53:R53) -> 2225 | K53: =SUM(K51:K52) -> 1957 | L53: =SUM(L51:L52) -> 171 | M53: =SUM(M51:M52) -> 97
A54: 44 | C54: Óvodák összesen: | G54: =SUM(G11:G50) -> 1785466 | H54: =SUM(H11:H50) -> 1808479 | I54: =SUM(I11:I50) -> 1840638
A55: 45 | E55: eredeti előirányzat | J55: =SUM(K55:R55) -> 1845356 | K55: =SUM(K13,K20,K27,K33,K39,K45,K50) -> 1208912 | L55: =SUM(L13,L20,L27,L33,L39,L45,L50) -> 239894 | M55: =SUM(M13,M20,M27,M33,M39,M45,M50) -> 395140 | N55: =SUM(N13,N20,N27,N33,N39,N45,N50) -> 0 | O55: =SUM(O13,O20,O27,O33,O39,O45,O50) -> 0 | P55: =SUM(P13,P20,P27,P33,P39,P45,P50) -> 1410 | Q55: =SUM(Q13,Q20,Q27,Q33,Q39,Q45,Q50) -> 0 | R55: =SUM(R13,R20,R27,R33,R39,R45,R50) -> 0
A56: 46 | E56: módosított előirányzat 2. | J56: =SUM(K56:R56) -> 1946953 | K56: =SUM(K14,K21,K28,K34,K40,K46,K51) -> 1229763 | L56: =SUM(L14,L21,L28,L34,L40,L46,L51) -> 245244 | M56: =SUM(M14,M21,M28,M34,M40,M46,M51) -> 456361 | N56: =SUM(N14,N21,N28,N34,N40,N46,N51) -> 0 | O56: =SUM(O14,O21,O28,O34,O40,O46,O51) -> 179 | P56: =SUM(P14,P21,P28,P34,P40,P46,P51) -> 12251 | Q56: =SUM(Q14,Q21,Q28,Q34,Q40,Q46,Q51) -> 3155 | R56: =SUM(R14,R21,R28,R34,R40,R46,R51) -> 0
A57: 47 | E57: módosítás- | J57: =SUM(K57:R57) -> 15 | K57: =SUM(K15:K16,K22:K23,K29:K29,K35:K35,K41:K41,K47:K47,K52:K52,) -> -1487 | L57: =SUM(L15:L16,L22:L23,L29:L29,L35:L35,L41:L41,L47:L47,L52:L52,) -> 2 | M57: =SUM(M15:M16,M22:M23,M29:M29,M35:M35,M41:M41,M47:M47,M52:M52,) -> -2196 | N57: =SUM(N15:N16,N22:N23,N29:N29,N35:N35,N41:N41,N47:N47,N52:N52,) -> 0 | O57: =SUM(O15:O16,O22:O23,O29:O29,O35:O35,O41:O41,O47:O47,O52:O52,) -> 0 | P57: =SUM(P15:P16,P22:P23,P29:P29,P35:P35,P41:P41,P47:P47,P52:P52,) -> 3696 | Q57: =SUM(Q15:Q16,Q22:Q23,Q29:Q29,Q35:Q35,Q41:Q41,Q47:Q47,Q52:Q52,) -> 0 | R57: =SUM(R15:R16,R22:R23,R29:R29,R35:R35,R41:R41,R47:R47,R52:R52,) -> 0 | S57: 0
A58: 48 | E58: módosított előirányzat 3. | J58: =SUM(K58:R58) -> 1946968 | K58: =SUM(K56:K57) -> 1228276 | L58: =SUM(L56:L57) -> 245246 | M58: =SUM(M56:M57) -> 454165 | N58: =SUM(N56:N57) -> 0 | O58: =SUM(O56:O57) -> 179 | P58: =SUM(P56:P57) -> 15947 | Q58: =SUM(Q56:Q57) -> 3155 | R58: =SUM(R56:R57) -> 0
A59: 49 | B59: 7 | D59: Veszprémi Bölcsődei és Egészségügyi Alapellátási Integrált Intézmény | F59: K | G59: 902499 | H59: 882986 | I59: 946591
A60: 50 | E60: eredeti előirányzat | J60: =SUM(K60:R60) -> 996977 | K60: 713799 | L60: 141390 | M60: 140158 | P60: 1630
A61: 51 | E61: módosított előirányzat 2. | J61: =SUM(K61:R61) -> 1058655 | K61: 731852 | L61: 145380 | M61: 178993 | P61: 2430
A62: 52 | E62: módosítás- Bérkompenzáció (2020. május hó - 2020. július hó) | J62: =SUM(K62:R62) -> 699 | K62: 605 | L62: 94
A63: 53 | E63: Szociális ágazati összevont pótlék (2020. május hó - 2020. július hó) | J63: =SUM(K63:R63) -> 3766 | K63: 3261 | L63: 505
A64: 54 | E64: Társadalombiztosítási Alaptól egyszeri rendkívüli juttatás fedezetére | J64: =SUM(K64:R64) -> 19387 | K64: 16785 | L64: 2602
A65: 55 | E65: Bevételi többletből | J65: =SUM(K65:R65) -> 2988 | K65: 1550 | L65: 238 | M65: 1000 | P65: 200
A66: 56 | E66: módosított előirányzat 3. | J66: =SUM(K66:R66) -> 1085495 | K66: =SUM(K61:K65) -> 754053 | L66: =SUM(L61:L65) -> 148819 | M66: =SUM(M61:M65) -> 179993 | P66: =SUM(P61:P65) -> 2630
A67: 57 | C67: 1 | D67: EFOP-1.9.9-17-2017-00004 Még jobb kezekben - Veszprémben | G67: 4233 | H67: 10080 | I67: 10041
A68: 58 | E68: módosított előirányzat 2. | J68: =SUM(K68:R68) -> 0
A69: 59 | E69: módosítás- | J69: =SUM(K69:R69) -> 0
A70: 60 | E70: módosított előirányzat 3. | J70: =SUM(K70:R70) -> 0
A71: 61 | B71: 8 | D71: Göllesz Viktor Fogyatékos Személyek Nappali Intézménye | F71: K | G71: 82024 | H71: 66825 | I71: 85870
A72: 62 | E72: eredeti előirányzat | J72: =SUM(K72:R72) -> 69250 | K72: 40442 | L72: 7151 | M72: 21657
A73: 63 | E73: módosított előirányzat 2. | J73: =SUM(K73:R73) -> 93941 | K73: 52127 | L73: 8078 | M73: 33477 | P73: 259
A74: 64 | E74: módosítás- Bérkompenzáció (2020. május hó - 2020. július hó) | J74: =SUM(K74:R74) -> 96 | K74: 83 | L74: 13
A75: 65 | E75: Szociális ágazati összevont pótlék (2020. május hó - 2020. július hó) | J75: =SUM(K75:R75) -> 3125 | K75: 2706 | L75: 419
A76: 66 | E76: átcsoportosítás | J76: =SUM(K76:R76) -> 0 | M76: -400 | P76: 400
A77: 67 | E77: módosított előirányzat 3. | J77: =SUM(K77:R77) -> 97162 | K77: =SUM(K73:K76) -> 54916 | L77: =SUM(L73:L76) -> 8510 | M77: =SUM(M73:M76) -> 33077 | P77: =SUM(P73:P76) -> 659
A78: 68 | C78: 1 | D78: Közcélú és közhasznú foglalkoztatás | G78: 89 | H78: 269
A79: 69 | B79: 9 | D79: Veszprémi Családsegítő és Gyermekjóléti Integrált Intézmény | F79: K | H79: 236700 | I79: =275013-163-17 -> 274833
A80: 70 | E80: eredeti előirányzat | J80: =SUM(K80:R80) -> 243642 | K80: 176682 | L80: 35737 | M80: 30073 | P80: 1150
A81: 71 | E81: módosított előirányzat 2. | J81: =SUM(K81:R81) -> 302178 | K81: 202977 | L81: 40305 | M81: 57746 | P81: 1150
A82: 72 | E82: módosítás- Bérkompenzáció (2020. május hó - 2020. július hó) | J82: =SUM(K82:R82) -> 236 | K82: 204 | L82: 32
A83: 73 | E83: Szociális ágazati összevont pótlék (2020. május hó - 2020. július hó) | J83: =SUM(K83:R83) -> 17640 | K83: 15273 | L83: 2367
A84: 74 | E84: átcsoportosítás | J84: =SUM(K84:R84) -> 0 | L84: -1400 | P84: 1400
A85: 75 | E85: módosított előirányzat 3. | J85: =SUM(K85:R85) -> 320054 | K85: =SUM(K81:K84) -> 218454 | L85: =SUM(L81:L84) -> 41304 | M85: =SUM(M81:M84) -> 57746 | P85: =SUM(P81:P84) -> 2550
A86: 76 | C86: 1 | D86: Közcélú és közhasznú foglalkoztatás | I86: =163+17 -> 180
A87: 77 | C87: Egészségügyi és szociális intézmények összesen: | G87: =SUM(G59:G86) -> 988845 | H87: =SUM(H59:H86) -> 1196860 | I87: =SUM(I59:I86) -> 1317515
A88: 78 | E88: eredeti előirányzat | J88: =SUM(K88:R88) -> 1309869 | K88: =SUM(K60,K72,K80) -> 930923 | L88: =SUM(L60,L72,L80) -> 184278 | M88: =SUM(M60,M72,M80) -> 191888 | N88: =SUM(N60,N72,N80) -> 0 | O88: =SUM(O60,O72,O80) -> 0 | P88: =SUM(P60,P72,P80) -> 2780 | Q88: =SUM(Q60,Q72,Q80) -> 0 | R88: =SUM(R60,R72,R80) -> 0
A89: 79 | E89: módosított előirányzat 2. | J89: =SUM(K89:R89) -> 1454774 | K89: =SUM(K61,K73,K81) -> 986956 | L89: =SUM(L61,L73,L81) -> 193763 | M89: =SUM(M61,M73,M81) -> 270216 | N89: =SUM(N61,N73,N81) -> 0 | O89: =SUM(O61,O73,O81) -> 0 | P89: =SUM(P61,P73,P81) -> 3839 | Q89: =SUM(Q61,Q73,Q81) -> 0 | R89: =SUM(R61,R73,R81) -> 0
A90: 80 | E90: módosítás- | J90: =SUM(K90:R90) -> 47937 | K90: =SUM(K62:K64,K69:K69,K74:K75,K82:K83)+K65+K76+K84 -> 40467 | L90: =SUM(L62:L64,L69:L69,L74:L75,L82:L83)+L65+L76+L84 -> 4870 | M90: =SUM(M62:M64,M69:M69,M74:M75,M82:M83)+M65+M76+M84 -> 600 | N90: =SUM(N62:N64,N69:N69,N74:N75,N82:N83)+N65+N76+N84 -> 0 | O90: =SUM(O62:O64,O69:O69,O74:O75,O82:O83)+O65+O76+O84 -> 0 | P90: =SUM(P62:P64,P69:P69,P74:P75,P82:P83)+P65+P76+P84 -> 2000 | Q90: =SUM(Q62:Q64,Q69:Q69,Q74:Q75,Q82:Q83)+Q65+Q76+Q84 -> 0 | R90: =SUM(R62:R64,R69:R69,R74:R75,R82:R83)+R65+R76+R84 -> 0
A91: 81 | E91: módosított előirányzat 3. | J91: =SUM(K91:R91) -> 1502711 | K91: =SUM(K89:K90) -> 1027423 | L91: =SUM(L89:L90) -> 198633 | M91: =SUM(M89:M90) -> 270816 | N91: =SUM(N89:N90) -> 0 | O91: =SUM(O89:O90) -> 0 | P91: =SUM(P89:P90) -> 5839 | Q91: =SUM(Q89:Q90) -> 0 | R91: =SUM(R89:R90) -> 0
A92: 82 | B92: 10 | D92: Agóra Veszprém Kulturális Központ | F92: K | G92: 246321 | H92: 214545 | I92: 245048
A93: 83 | E93: eredeti előirányzat | J93: =SUM(K93:R93) -> 213129 | K93: =82250-11583+11583 -> 82250 | L93: =15250-2027+2027 -> 15250 | M93: 115629
A94: 84 | E94: módosított előirányzat 2. | J94: =SUM(K94:R94) -> 243942 | K94: 89750 | L94: 17245 | M94: 134679 | P94: 2268
A95: 85 | E95: módosítás- Kulturális illetménypótlék (2020. május hó - 2020. július hó) | J95: =SUM(K95:R95) -> 1696 | K95: 1468 | L95: 228
A96: 86 | E96: módosított előirányzat 3. | J96: =SUM(K96:R96) -> 245638 | K96: =SUM(K94:K95) -> 91218 | L96: =SUM(L94:L95) -> 17473 | M96: =SUM(M94:M95) -> 134679 | P96: =SUM(P94:P95) -> 2268
A97: 87 | D97: ebből: - Európa Kulturális Főváros II. ütem
A98: 88 | E98: eredeti előirányzat | J98: =SUM(K98:R98) -> 13610 | K98: 11583 | L98: 2027
A99: 89 | E99: módosított előirányzat 2. | J99: =SUM(K99:R99) -> 0 | K99: 0 | L99: 0
A100: 90 | E100: módosítás- | J100: =SUM(K100:R100) -> 0
...

Sheet 5.Infelhki
B1: 5. melléklet a 5/2020. (II.27.) önkormányzati rendelethez
B2: A rendelet 5. mellékletét módosította a 17/2020. (IV.30.) Ör. 5. melléklete
B3: A rendelet 5. mellékletét módosította a 26/2020. (VI.26.) Ör. 5. melléklete
B4: A rendelet 5. mellékletét módosította a 37/2020. (IX.24.) Ör. 5. melléklete
B5: Veszprém Megyei Jogú Város Önkormányzata Intézményei
B6: 2020. évi felhalmozási költségvetési kiadások előirányzata
L7: adatok eFt-ban
B8: A | C8: B | D8: C | E8: D | F8: E | G8: F | H8: G | I8: H | J8: I | K8: J | L8: K
B9: Cím | C9: Alcím | D9: Megnevezés | E9: Feladatellátás jellege | F9: 2018. évi tény | G9: 2019. évi eredeti előirányzat | H9: 2019. évi tény | I9: 2020. évi eredeti előirányzat | J9: 2020. évi módosított előirányzat 2. | K9: Módosítás | L9: 2020. évi módosított előirányzat 3.
A11: 1 | C11: Beruházási kiadások
A12: 2 | B12: 1 | C12: Veszprémi Vadvirág Körzeti Óvoda | E12: K | F12: 1695 | G12: 1800 | H12: 3100
A13: 3 | C13: 1 | D13: Bábos raktár nyitott bútorzat befejezése | I13: 510 | J13: 502 | L13: =SUM(J13:K13) -> 502
A14: 4 | C14: 2 | D14: Vákuumfóliázó (védőmaszkok varrása utáni csomagoláshoz) | J14: 20 | L14: =SUM(J14:K14) -> 20
A15: 5 | C15: Csillagvár Waldorf Tagóvoda | F15: 217 | G15: 900 | H15: 1294
A16: 6 | C16: 3 | D16: Mosókonyha bejárati ajtó csere | I16: 200 | J16: 0 | L16: =SUM(J16:K16) -> 0
A17: 7 | B17: 2 | C17: Veszprémi Bóbita Körzeti Óvoda | E17: K | F17: 2509 | G17: 3300 | H17: 3496
A18: 8 | C18: 1 | D18: Asztali számítógép, laptop beszerzése | I18: 700 | J18: 700 | L18: =SUM(J18:K18) -> 700
A19: 9 | C19: 2 | D19: Udvari játékok (Bóbita és Hársfa Tagóvoda) | J19: 4137 | L19: =SUM(J19:K19) -> 4137
A20: 10 | C20: 3 | D20: Kisértékű tárgyi eszközök (mosógép, porszívó, mobiltelefon, gyermekszék, gyermekfektető és tartó, függöny, redőny, szúnyogháló, roló, konyhai kisgép) | J20: 1100 | K20: =450+500+100+250+150 -> 1450 | L20: =SUM(J20:K20) -> 2550
A21: 11 | C21: Hársfa Tagóvoda | F21: 1162 | H21: 1094
A22: 12 | C22: 4 | D22: Udvari játékok | J22: 2817 | L22: =SUM(J22:K22) -> 2817
A23: 13 | C23: 5 | D23: Kisértékű tárgyi eszközök (mosógép, porszívó, mobiltelefon, gyermekszék, szőnyeg, redőny, roló, szúnyogháló, konyhai kisgép) | J23: 700 | K23: =225+50+250+15 -> 540 | L23: =SUM(J23:K23) -> 1240
A24: 14 | C24: 6 | D24: Bútorzat főzőkonyhára | K24: 200 | L24: =SUM(J24:K24) -> 200
A25: 15 | B25: 3 | C25: Veszprémi Ringató Körzeti Óvoda | E25: K | F25: 5920 | G25: 1500 | H25: 6208
A26: 16 | C26: 1 | D26: Tárgyi eszközök beszerzésére (Mobiltelefon, laptop, irodai székek, mosógép) | J26: 400 | K26: =180+200 -> 380 | L26: =SUM(J26:K26) -> 780
A27: 17 | C27: 2 | D27: Fa kerti tároló | K27: 220 | L27: =SUM(J27:K27) -> 220
A28: 18 | C28: Erdei és Kuckó Tagóvoda | F28: 7972 | G28: 1500 | H28: 3386 | L28: =SUM(J28:K28) -> 0
A29: 19 | C29: 3 | D29: Kisértékű tárgyi eszközök (Hűtőszekrény főzőkonyhába, irodai székek) | J29: 260 | K29: 60 | L29: =SUM(J29:K29) -> 320
A30: 20 | B30: 4 | C30: Veszprémi Egry úti Körzeti Óvoda | E30: K | F30: 3926 | G30: 1000 | H30: 1347 | L30: =SUM(J30:K30) -> 0
A31: 21 | C31: 1 | D31: Tárgyi eszközök beszerzésére | L31: =SUM(J31:K31) -> 0
A32: 22 | C32: Nárcisz Tagóvoda | F32: 2560 | G32: 900 | H32: 2216 | L32: =SUM(J32:K32) -> 0
A33: 23 | C33: 2 | D33: Tárgyi eszközök beszerzésére | L33: =SUM(J33:K33) -> 0
A34: 24 | B34: 5 | C34: Veszprémi Csillag úti Körzeti Óvoda | E34: K | F34: 4964 | G34: 2400 | H34: 6273 | L34: =SUM(J34:K34) -> 0
A35: 25 | C35: 1 | D35: Kézfertőtlenítő adagolók | J35: 200 | L35: =SUM(J35:K35) -> 200
A36: 26 | C36: Cholnoky Jenő Ltp. Tagóvoda | F36: 4686 | G36: 2900 | H36: 6233 | L36: =SUM(J36:K36) -> 0
A37: 27 | C37: 2 | D37: Kézfertőtlenítő adagolók | J37: 200 | L37: =SUM(J37:K37) -> 200
A38: 28 | B38: 6 | C38: Veszprémi Kastélykert Körzeti Óvoda | E38: K | F38: 527 | G38: 500 | H38: 6174 | L38: =SUM(J38:K38) -> 0
A39: 29 | C39: 1 | D39: Tárgyi eszközök beszerzésére (Katica csoport: polcos szekrény, babakonyha szekrény, tálaló szekrény, foglalkoztató szekrény, játéktároló, ágyazó, tükrök, élősarokpolc, teakonyha polc, ágyazó polc, szőnyegek, konyhai eszközök, étel-ital szállító badellák, botmixer, serpenyő, érintésmentes kézfertőtlenítő) | J39: 964 | K39: 496 | L39: =SUM(J39:K39) -> 1460
A40: 30 | C40: 2 | D40: Laptop | K40: 200 | L40: =SUM(J40:K40) -> 200
A41: 31 | C41: Ficánka Tagóvoda | F41: 15 | G41: 600 | H41: 324 | L41: =SUM(J41:K41) -> 0
A42: 32 | C42: 3 | D42: Gőzállomás, varrógép, széf, érintésmentes kézfertőtlenítő, nyomtató-fénymásoló | J42: 251 | K42: 150 | L42: =SUM(J42:K42) -> 401
A43: 33 | B43: 7 | C43: Veszprémi Bölcsődei és Egészségügyi Alapellátási Integrált Intézmény | E43: K
A44: 34 | C44: Napsugár Bölcsőde | F44: 1083 | G44: 300 | H44: 1129
A45: 35 | C45: 1 | D45: Tárgyi eszközök beszerzése (mosógép) | I45: 120 | J45: 120 | L45: =SUM(J45:K45) -> 120
A46: 36 | C46: 2 | D46: 20 m2-es faház, játéktárolónak | I46: 300 | J46: 300 | L46: =SUM(J46:K46) -> 300
A47: 37 | C47: Hóvirág Bölcsőde | F47: 1293 | G47: 320 | H47: 1450
A48: 38 | C48: 3 | D48: Tárgyi eszközök beszerzése (mosógép, gáztűzhely) | I48: 190 | J48: 190 | L48: =SUM(J48:K48) -> 190
A49: 39 | C49: Vackor Bölcsőde | F49: 2601 | G49: 1300 | H49: 2493
A50: 40 | C50: 4 | D50: Tárgyi eszközök beszerzése (öltöző szekrény, varrógép) | I50: 260 | J50: 260 | L50: =SUM(J50:K50) -> 260
A51: 41 | C51: Módszertani Bölcsőde | F51: 2227 | G51: 1500 | H51: 3057
A52: 42 | C52: 5 | D52: Tárgyi eszközök beszerzése (mosógép, szárítógép, hűtőszekrény) | I52: 340 | J52: 340 | L52: =SUM(J52:K52) -> 340
A53: 43 | C53: Aprófalvi Bölcsőde | F53: 1803 | G53: 800 | H53: 1244
A54: 44 | C54: 6 | D54: Tárgyi eszközök beszerzése (mosógép, hűtőszekrény) | I54: 220 | J54: 220 | L54: =SUM(J54:K54) -> 220
A55: 45 | C55: Gyulafirátóti Bölcsőde | H55: 193
A56: 46 | C56: Eü. Alapellátás | F56: 5072 | G56: 2260 | H56: 15436
A57: 47 | C57: 7 | D57: Koronavírus-járványügyi vészhelyzettel kapcsolatos beszerzések: érintés nélküli lázmérők, kártyaolvasók, mobiltelefonok, számítógép, szakmai eszközök, Viktória ügyeleti program) | J57: 800 | K57: 200 | L57: =SUM(J57:K57) -> 1000
A58: 48 | C58: Védőnői Szolgálat
A59: 49 | C59: 8 | D59: Oktatási eszközök vásárlása iskolavédőnők részére | I59: 200 | J59: 200 | L59: =SUM(J59:K59) -> 200
A60: 50 | B60: 8 | C60: Göllesz Viktor Fogyatékos Személyek Nappali Intézménye | E60: K | F60: 905 | H60: 2004
A61: 51 | C61: 1 | D61: Mobiltelefon törlesztés | J61: 59 | L61: =SUM(J61:K61) -> 59
A62: 52 | C62: 2 | D62: Tárgyi eszköz beszerzések (szekrény, ventilátorok, klaviatúrák, vízforraló, mobil telefon) | J62: 200 | K62: 400 | L62: =SUM(J62:K62) -> 600
A63: 53 | B63: 9 | C63: Veszprémi Családsegítő és Gyermekjóléti Integrált Intézmény | E63: K | G63: 4385 | H63: 5998
A64: 54 | C64: 1 | D64: Tárgyi eszközök beszerzése Mikszáth K.u.13. (kézfertőtlenítő állomás, bútor, szőnyeg, függöny, mobiltelefon, mikró, kávéfőző, vízmelegítő, tűzhely, ventilátor/hősugárzó, külső winchester, router, iratmegsemmisítő, porszívó, játék/társasjáték) | I64: 500 | J64: 500 | L64: =SUM(J64:K64) -> 500
A65: 55 | C65: 2 | D65: Tárgyi eszközök beszerzése Pápai út 37. - CSÁO (kézfertőtlenítő állomás, bútor, szőnyeg, függöny, mobiltelefon, mikró, kávéfőző, vízmelegítő, ventilátor/hősugárzó, külső winchester, router, iratmegsemmisítő, porszívó, mérleg, szárítógép) | I65: 300 | J65: 300 | L65: =SUM(J65:K65) -> 300
A66: 56 | C66: 3 | D66: Tárgyi eszközök beszerzése Rózsa u. 48 (kézfertőtlenítő állomás, bútor, szőnyeg, függöny, mobiltelefon, mikró, kávéfőző, vízmelegítő, ventilátor/hősugárzó, külső winchester, router, iratmegsemmisítő, porszívó, mérleg, szárítógép, játék/társasjáték) | I66: 200 | J66: 200 | L66: =SUM(J66:K66) -> 200
A67: 57 | C67: 4 | D67: Mosógép vásárlás (kigyulladt lakás károsultjának megsegítésére) | I67: 150 | J67: 150 | L67: =SUM(J67:K67) -> 150
A68: 58 | C68: 5 | D68: Laptopok szoftverrel | K68: 1400 | L68: =SUM(J68:K68) -> 1400
A69: 59 | B69: 10 | C69: Agóra Veszprém Kulturális Központ | E69: K | F69: 13964 | G69: 5000 | H69: 4955
A70: 60 | C70: 1 | D70: Tárgyi eszközök beszerzésére
A71: 61 | C71: 1 | D71: TOP – 6.9.2 -16-VP1-2018-00001 Közösségfejlesztés Veszprém város településrészein | I71: 4050 | J71: 4050 | L71: =SUM(J71:K71) -> 4050
A72: 62 | C72: 2 | D72: Közművelődési érdekeltségnövelő pályázat | J72: 1268 | L72: =SUM(J72:K72) -> 1268
A73: 63 | C73: 3 | D73: Számítógépek | J73: 1000 | L73: =SUM(J73:K73) -> 1000
A74: 64 | B74: 11 | C74: Művészetek Háza Veszprém Művelődési Ház és Kiállítóhely | E74: K | F74: 10145 | G74: 4400 | H74: 8894
A75: 65 | C75: 1 | D75: Közművelődési érdekeltségnövelő pályázat | J75: 794 | L75: =SUM(J75:K75) -> 794
A76: 66 | C76: 2 | D76: Notebook, monitor, programok | J76: 643 | L76: =SUM(J76:K76) -> 643
A77: 67 | C77: 3 | D77: Készlet és pénztár program | J77: 345 | L77: =SUM(J77:K77) -> 345
A78: 68 | C78: 4 | D78: Szekrény | J78: 173 | L78: =SUM(J78:K78) -> 173
A79: 69 | C79: 5 | D79: Mini keverő (MANK Nonprofit rendezvény) | K79: 127 | L79: =SUM(J79:K79) -> 127
A80: 70 | B80: 12 | C80: Eötvös Károly Megyei Könyvtár | E80: K | F80: 7550 | G80: 2000 | H80: =1106+1737+1848+92 -> 4783
A81: 71 | C81: 1 | D81: Tárgyi eszközök beszerzésére
A82: 72 | C82: 1 | D82: Megyei Könyvtár kistelepülési könyvtári és közművelődési célú kiegészítő állami támogatás | F82: 21775 | G82: 15000 | H82: 20716 | I82: 16000 | J82: 51000 | K82: 5000 | L82: =SUM(J82:K82) -> 56000
A83: 73 | C83: 2 | D83: TOP – 6.9.2 -16-VP1-2018-00001 Közösségfejlesztés Veszprém város településrészein | I83: 2400 | J83: 2400 | L83: =SUM(J83:K83) -> 2400
A84: 74 | C84: 3 | D84: Könyvek, egyéb könyvtári dokumentumok | J84: 11000 | K84: 1633 | L84: =SUM(J84:K84) -> 12633
A85: 75 | C85: 4 | D85: Egyéb tárgyi eszköz beszerzés (plexifal, karbantartáshoz kapcsolható eszköz, telefon, játék) | J85: 950 | K85: -15 | L85: =SUM(J85:K85) -> 935
A86: 76 | C86: 5 | D86: Szoftver beszerzés | K86: 15 | L86: =SUM(J86:K86) -> 15
A87: 77 | C87: 6 | D87: Könyvtári érdekeltségnövelő támogatásból műszaki, technikai, informatikai eszközök | K87: 420 | L87: =SUM(J87:K87) -> 420
A88: 78 | B88: 13 | C88: Laczkó Dezső Múzeum | E88: K | F88: =7372-1016 -> 6356 | G88: 25158 | H88: 50840
A89: 79 | C89: 1 | D89: Tárgyi eszközök beszerzésére (számítástechnikai beszerzések, kisértékű eszközök cseréje | I89: 700 | J89: 690 | K89: 200 | L89: =SUM(J89:K89) -> 890
A90: 80 | C90: 2 | D90: Műtárgybeszerzés (NKA pályázat) | I90: 500 | J90: 500 | K90: 400 | L90: =SUM(J90:K90) -> 900
A91: 81 | C91: 3 | D91: EFOP-4.1.9-16-2017-00014 A múzeumi és levéltári intézményrendszer tanulás segítő infrastrukturális fejlesztései -Laczkó Dezső Múzeumban oktatótermek és kiszolgáló helyiségek kialakítása | F91: 1016 | G91: 53846 | H91: 54424 | L91: =SUM(J91:K91) -> 0
A92: 82 | C92: 4 | D92: Salgó polcrendszer a Felsőörsi raktárbázisra | J92: 1000 | L92: =SUM(J92:K92) -> 1000
A93: 83 | C93: 5 | D93: Nyílászáró cserék a Török I. u. műtárgy-raktárban és műtárgyvédelmi központban | J93: 1804 | L93: =SUM(J93:K93) -> 1804
A94: 84 | C94: 6 | D94: Műtárgyvásárlás | J94: 10 | K94: 100 | L94: =SUM(J94:K94) -> 110
A95: 85 | C95: 7 | D95: Adattári polcok, lemezszekrények (Levéltárból történő kiköltözéshez) | K95: 2500 | L95: =SUM(J95:K95) -> 2500
A96: 86 | C96: 8 | D96: Aggregátor, szivattyú (régészeti feltárásokra) | K96: 175 | L96: =SUM(J96:K96) -> 175
A97: 88 | C97: 9 | D97: Laptopok | K97: 600 | L97: =SUM(J97:K97) -> 600
C98: 10 | D98: Nyilvános WC beléptető rendszer | K98: 300 | L98: =SUM(J98:K98) -> 300
A99: 90 | B99: 14 | C99: Kabóca Bábszínház | E99: NK | F99: 6210 | G99: 4000 | H99: 2197
A100: 91 | C100: 1 | D100: EFOP-3.3.2-16-2016-00107 Kulturális intézmények a köznevelés eredményességéért | F100: 597 | G100: 1879 | H100: 835 | I100: 2831 | J100: 869 | L100: =SUM(J100:K100) -> 869
A101: 92 | C101: 2 | D101: EMT-Te-19-0345 pályázat - mikroportok, kézzel varrott bőrcipő, hordozható hangfal, asztal, CAJUN hangszerek, fémből készült díszlet | J101: 2847 | L101: =SUM(J101:K101) -> 2847
...

Sheet 6.Önk.műk.
B1: 6. melléklet a 5/2020. (II.27.) önkormányzati rendelethez
B2: A rendelet 6. mellékletét módosította a 17/2020. (IV.30.) Ör. 6. melléklete
B3: A rendelet 6. mellékletét módosította a 26/2020. (VI.26.) Ör. 6. melléklete
B4: A rendelet 6. mellékletét módosította a 37/2020. (IX.24.) Ör. 6. melléklete
B5: Veszprém Megyei Jogú Város Önkormányzata
B6: Önkormányzati feladatok és egyéb kötelezettségek 2020. évi működési költségvetési kiadásai
M7: adatok eFt-ban
B8: A | C8: B | D8: C | E8: D | F8: E | G8: F | H8: G | I8: H | J8: I | K8: J | L8: K | M8: L | N8: M
B9: Cím | C9: Alcím | D9: Megnevezés | E9: 2018. évi tény | F9: 2019. évi eredeti előirányzat | G9: 2019. évi tény | H9: Feladatellátás jellege* | I9: 2020. évi előirányzat | J9: Működési költségvetési kiadások
J10: Személyi juttatások | K10: Munk.a. terh. jár. és szoc.hj.adó | L10: Dologi kiadások | M10: Ellátottak pénzbeli juttatásai | N10: Egyéb működési kiadások
A11: 1 | B11: 18 | C11: Önkormányzati működési kiadások
A12: 2 | C12: 1 | D12: Nemzeti ünnepek kiadásaira | E12: 6918 | F12: 7000 | G12: 1779 | H12: K
A13: 3 | D13: módosított előirányzat 2. | I13: =SUM(J13:N13) -> 296 | L13: 296
A14: 4 | D14: módosítás- | I14: =SUM(J14:N14) -> 0
A15: 5 | D15: módosított előirányzat 3. | I15: =SUM(J15:N15) -> 296 | L15: =SUM(L13:L14) -> 296
A16: 6 | C16: 2 | D16: Közművelődési szolgált. | E16: 4298 | F16: 5000 | G16: 3685 | H16: NK
A17: 7 | D17: módosított előirányzat 2. | I17: =SUM(J17:N17) -> 4000 | J17: 22 | K17: 12 | L17: 3966
A18: 8 | D18: módosítás- | I18: =SUM(J18:N18) -> 0
A19: 9 | D19: módosított előirányzat 3. | I19: =SUM(J19:N19) -> 4000 | J19: =SUM(J17:J18) -> 22 | K19: =SUM(K17:K18) -> 12 | L19: =SUM(L17:L18) -> 3966
A20: 10 | C20: 3 | D20: Nemzetközi kapcsolatok | E20: 15651 | F20: 10000 | G20: 7056 | H20: NK
A21: 11 | D21: eredeti előirányzat | I21: =SUM(J21:N21) -> 3000 | L21: 3000
A22: 12 | D22: módosított előirányzat 2. | I22: =SUM(J22:N22) -> 3737 | J22: 30 | K22: 42 | L22: 3665
A23: 13 | D23: módosítás- | I23: =SUM(J23:N23) -> 0
A24: 14 | D24: módosított előirányzat 3. | I24: =SUM(J24:N24) -> 3737 | J24: =SUM(J22:J23) -> 30 | K24: =SUM(K22:K23) -> 42 | L24: =SUM(L22:L23) -> 3665
A25: 15 | C25: 4 | D25: Marketing tevékenység, marketing stratégia | E25: 12950 | F25: 11000 | G25: 13218 | H25: NK
A26: 16 | D26: módosított előirányzat 2. | I26: =SUM(J26:N26) -> 11235 | L26: 11235
A27: 17 | D27: módosítás- | I27: =SUM(J27:N27) -> 0
A28: 18 | D28: módosított előirányzat 3. | I28: =SUM(J28:N28) -> 11235 | L28: =SUM(L26:L27) -> 11235
A29: 19 | C29: 5 | D29: Kitüntetések | E29: 8243 | F29: 10167 | G29: 9366 | H29: NK
A30: 20 | D30: eredeti előirányzat | I30: =SUM(J30:N30) -> 9601 | J30: 3800 | K30: 1100 | L30: 4701
A31: 21 | D31: módosított előirányzat 2. | I31: =SUM(J31:N31) -> 9601 | J31: 3800 | K31: 1100 | L31: 4701
A32: 22 | D32: módosítás- átcsoportosítás | I32: =SUM(J32:N32) -> 0 | J32: -300 | K32: -39 | N32: 339
A33: 23 | D33: módosított előirányzat 3. | I33: =SUM(J33:N33) -> 9601 | J33: =SUM(J31:J32) -> 3500 | K33: =SUM(K31:K32) -> 1061 | L33: =SUM(L31:L32) -> 4701 | N33: =SUM(N32) -> 339
A34: 24 | C34: 6 | D34: Mihály-napi búcsú | E34: 1000 | F34: 1000 | H34: NK
A35: 25 | C35: 7 | D35: Városi kiemelt fesztiválok | E35: =SUM(E36,E37,E38,E39,E41,E40) -> 72000 | F35: =SUM(F36,F37,F38,F39,F41,F40) -> 74000 | G35: =SUM(G36,G37,G38,G39,G41,G40) -> 74000 | H35: NK
A36: 26 | D36: ebből: - Veszprémi Ünnepi Játékok | E36: 30000 | F36: 30000 | G36: 30000
A37: 27 | D37: - Gizella Napok | E37: 15000 | F37: 15000 | G37: 15000
A38: 28 | D38: - Tánc Fesztivál | E38: 5000 | F38: 2000 | G38: 2000
A39: 29 | D39: - Veszprémi Utcazene Fesztivál | E39: 15000 | F39: 15000 | G39: 15000
A40: 30 | D40: - Auer Hegedűfesztivál | E40: 5000 | F40: 10000 | G40: 10000
A41: 31 | C41: 8 | D41: Magyar Kórusok találkozója | E41: 2000 | F41: 2000 | G41: 2000 | H41: NK
A42: 32 | C42: 9 | D42: Városi rendezvények | E42: 7817 | F42: 10000 | G42: 16207 | H42: NK
A43: 33 | D43: módosított előirányzat 2. | I43: =SUM(J43:N43) -> 6657 | L43: 6657
A44: 34 | D44: módosítás- | I44: =SUM(J44:N44) -> 0
A45: 35 | D45: módosított előirányzat 3. | I45: =SUM(J45:N45) -> 6657 | L45: =SUM(L43:L44) -> 6657
A46: 36 | C46: 10 | D46: Eseti rendezvények | E46: 6008 | F46: 4500 | G46: 22414 | H46: NK
A47: 37 | D47: módosított előirányzat 2. | I47: =SUM(J47:N47) -> 3499 | L47: =1554+1945 -> 3499
A48: 38 | D48: módosítás- | I48: =SUM(J48:N48) -> 0
A49: 39 | D49: módosított előirányzat 3. | I49: =SUM(J49:N49) -> 3499 | L49: =SUM(L47:L48) -> 3499
A50: 40 | C50: 11 | D50: Köztéri szobrok, emléktáblák, lektorátus | E50: 21 | F50: 2000 | G50: 450 | H50: NK
A51: 41 | D51: eredeti előirányzat | I51: =SUM(J51:N51) -> 1000 | L51: 1000
A52: 42 | D52: módosított előirányzat 2. | I52: =SUM(J52:N52) -> 1750 | L52: 1750
A53: 43 | D53: módosítás- | I53: =SUM(J53:N53) -> 0
A54: 44 | D54: módosított előirányzat 3. | I54: =SUM(J54:N54) -> 1750 | L54: =SUM(L52:L53) -> 1750
A55: 45 | C55: 12 | D55: I. Világháborús Centenáriumi Emlékezés költségei | E55: 2657 | F55: 4000 | G55: 1887 | H55: NK
A56: 46 | D56: eredeti előirányzat | I56: =SUM(J56:N56) -> 2000 | L56: 2000
A57: 47 | D57: módosított előirányzat 2. | I57: =SUM(J57:N57) -> 0 | L57: 0
A58: 48 | D58: módosítás- | I58: =SUM(J58:N58) -> 0
A59: 49 | D59: módosított előirányzat 3. | I59: =SUM(J59:N59) -> 0 | L59: =SUM(L57:L58) -> 0
A60: 50 | C60: 13 | D60: Kiadványok, folyóiratok támogatása | E60: =SUM(E65,E70,E75,E80) -> 5498 | F60: =SUM(F65,F70,F75,F80)+F81+F82 -> 13000 | G60: =SUM(G65,G70,G75,G80)+G83 -> 7346 | H60: NK
A61: 51 | D61: eredeti előirányzat | I61: =SUM(J61:N61) -> 2925 | J61: =SUM(J66,J71,J76,) -> 0 | K61: =SUM(K66,K71,K76,) -> 0 | L61: =SUM(L66,L71,L76,) -> 0 | M61: =SUM(M66,M71,M76,) -> 0 | N61: =SUM(N66,N71,N76,) -> 2925
A62: 52 | D62: módosított előirányzat 2. | I62: =SUM(J62:N62) -> 0 | J62: =SUM(J67,J72,J77,) -> 0 | K62: =SUM(K67,K72,K77,) -> 0 | L62: =SUM(L67,L72,L77,) -> 0 | M62: =SUM(M67,M72,M77,) -> 0 | N62: =SUM(N67,N72,N77,) -> 0
A63: 53 | D63: módosítás- | I63: =SUM(J63:N63) -> 0 | J63: =J68+J73+J78 -> 0 | K63: =K68+K73+K78 -> 0 | L63: =L68+L73+L78 -> 0 | M63: =M68+M73+M78 -> 0 | N63: =N68+N73+N78 -> 0
A64: 54 | D64: módosított előirányzat 3. | I64: =SUM(J64:N64) -> 0 | J64: =SUM(J62:J63) -> 0 | K64: =SUM(K62:K63) -> 0 | L64: =SUM(L62:L63) -> 0 | M64: =SUM(M62:M63) -> 0 | N64: =SUM(N62:N63) -> 0
A65: 55 | D65: ebből: - Vár Ucca Műhely támogatása | F65: 1500
A66: 56 | D66: eredeti előirányzat | I66: =SUM(J66:N66) -> 1000 | N66: 1000
A67: 57 | D67: módosított előirányzat 2. | I67: =SUM(J67:N67) -> 0 | N67: 0
A68: 58 | D68: módosítás- átcsoportosítás | I68: =SUM(J68:N68) -> 0
A69: 59 | D69: módosított előirányzat 3. | I69: =SUM(J69:N69) -> 0 | N69: =SUM(N67:N68) -> 0
A70: 60 | D70: - Veszprémi Szemle Várostörténeti Közhasznú Alapítvány Támogatása | E70: 2998 | F70: 2000 | G70: 2846
A71: 61 | D71: eredeti előirányzat | I71: =SUM(J71:N71) -> 1500 | N71: 1500
A72: 62 | D72: módosított előirányzat 2. | I72: =SUM(J72:N72) -> 0 | N72: 0
A73: 63 | D73: módosítás- átcsoportosítás | I73: =SUM(J73:N73) -> 0
A74: 64 | D74: módosított előirányzat 3. | I74: =SUM(J74:N74) -> 0 | N74: =SUM(N72:N73) -> 0
A75: 65 | D75: - Comitatus Társadalomkutató Egyesület - Comitatus Önkormányzati Szemle | E75: 500 | F75: 500 | G75: 500
A76: 66 | D76: eredeti előirányzat | I76: =SUM(J76:N76) -> 425 | N76: 425
A77: 67 | D77: módosított előirányzat 2. | I77: =SUM(J77:N77) -> 0 | N77: 0
A78: 68 | D78: módosítás- átcsoportosítás | I78: =SUM(J78:N78) -> 0
A79: 69 | D79: módosított előirányzat 3. | I79: =SUM(J79:N79) -> 0 | N79: =SUM(N77:N78) -> 0
A80: 70 | D80: - Ex Symposion Alapítvány | E80: 2000 | F80: 2000 | G80: 2000
A81: 71 | D81: - Veszprémi Kaleidoszkóp 1-2 újraindítása | F81: 2000
A82: 72 | D82: - 10 éves kiadvány | F82: 5000
A83: 73 | D83: - Veszprémi várostörténeti kiadványok előkészítése | G83: 2000
A84: 74 | C84: 14 | D84: Közösség Kádártáért Egyesület | H84: NK
A85: 75 | D85: eredeti előirányzat | I85: =SUM(J85:N85) -> 2550 | N85: 2550
A86: 76 | D86: módosított előirányzat 2. | I86: =SUM(J86:N86) -> 1000 | N86: 1000
A87: 77 | D87: módosítás- | I87: =SUM(J87:N87) -> 0
A88: 78 | D88: módosított előirányzat 3. | I88: =SUM(J88:N88) -> 1000 | N88: =SUM(N86:N87) -> 1000
A89: 79 | C89: 15 | D89: Virágzó Veszprém Egyesület | H89: NK
A90: 80 | D90: eredeti előirányzat | I90: =SUM(J90:N90) -> 2550 | N90: 2550
A91: 81 | D91: módosított előirányzat 2. | I91: =SUM(J91:N91) -> 1000 | N91: 1000
A92: 82 | D92: módosítás- | I92: =SUM(J92:N92) -> 0
A93: 83 | D93: módosított előirányzat 3. | I93: =SUM(J93:N93) -> 1000 | N93: =SUM(N91:N92) -> 1000
A94: 84 | C94: 16 | D94: Lokálpatrióták a Városért Egyesület | H94: NK
A95: 85 | D95: eredeti előirányzat | I95: =SUM(J95:N95) -> 850 | N95: 850
A96: 86 | D96: módosított előirányzat 2. | I96: =SUM(J96:N96) -> 450 | N96: 450
A97: 87 | D97: módosítás- | I97: =SUM(J97:N97) -> 0
A98: 88 | D98: módosított előirányzat 3. | I98: =SUM(J98:N98) -> 450 | N98: =SUM(N96:N97) -> 450
A99: 89 | C99: 17 | D99: Brusznyai Árpád Alapítvány támogatása | E99: 500 | F99: 650 | G99: 650 | H99: NK
A100: 90 | D100: eredeti előirányzat | I100: =SUM(J100:N100) -> 553 | N100: 553
...

Sheet 6.A Alapítv
B1: 6.A. melléklet a 5/2020. (II.27.) önkormányzati rendelethez
B2: A rendelet 6.A mellékletét módosította a 17/2020. (IV.30.) Ör. 6.A melléklete
B3: A rendelet 6.A mellékletét módosította a 26/2020. (VI.26.) Ör. 6.A melléklete
B4: A rendelet 6.A mellékletét módosította a 37/2020. (IX.24.) Ör. 6.A melléklete
B5: KIMUTATÁS
B6: Veszprém Megyei Jogú Város Önkormányzata által
B7: alapítványoknak, egyesületeknek, civil szervezeteknek, társadalmi szervezeteknek nyújtott támogatásokról 2020. évben
B8: adatok eFt-ban
B9: A | C9: B
B10: Alapítvány / egyesület / civil szervezet / társadalmi szervezet megnevezése | C10: Támogatás összege
A12: 1 | B12: Alkohol-Drogsegély Ambulancia/Szenvedélybetegek ellátásnak működési kiadásaihoz támogatás | C12: 10200
A13: 2 | B13: Közösség Kádártáért Egyesület | C13: =2550-1550 -> 1000
A14: 3 | B14: Virágzó Veszprém Egyesület | C14: =2550-1550 -> 1000
A15: 4 | B15: Lokálpatrióták a Városért Egyesület | C15: =850-400 -> 450
A16: 5 | B16: Brusznyai Árpád Alapítvány támogatása | C16: =553-553+500 -> 500
A17: 6 | B17: Mendelssohn Kamarazenekar | C17: =25975+4880 -> 30855
A18: 7 | B18: Veszprém Város Vegyeskara | C18: =6460-5994 -> 466
A19: 8 | B19: Veszprémi Ifjúsági Közalapítvány | C19: =11900-1900-4445 -> 5555
A20: 9 | B20: Máltai Szeretetszolgálat | C20: 60000
A21: 10 | B21: Pszichiátriai betegek nappali ellátása ("Horgony" Pszichiátriai Betegekért Közhasznú Alapítvány) | C21: 1275
A22: 11 | B22: 8.vk. Városi Nyilvánosságért Alapítvány - karácsonyi ajándékcsomagok beszerzésére | C22: 50
A23: 12 | B23: Kórház Bébi Koraszülött Mentő Alapítványa részére - echocardiograf eszközbeszerzésre | C23: 10000
A24: 13 | B24: Veszprémi Táncegyüttesért Alapítvány | C24: 375
A25: 14 | B25: Liszt F. Kórus | C25: 83
A26: 15 | B26: Gizella Kórus/Dowland Alapítvány | C26: 250
A27: 16 | B27: Közbiztonsági feladatok / Gyulafirátóti Polgárőrség | C27: 1375
A28: 17 | B28: Verseny és élsport - működési támogatások
A29: 18 | B29: Veszprém Foci Centrum Utánpótlás SE | C29: =17000-8500 -> 8500
A30: 19 | B30: Veszprémi Egyetemi és Diák Atlétikai Club | C30: =28000-15500 -> 12500
A31: 20 | B31: Futsal Club Veszprém | C31: =30000-15000 -> 15000
A32: 21 | B32: Pannon SE női kézilabda | C32: 3000
A33: 22 | B33: Veszprémi Úszó Klub | C33: 1500
A34: 23 | B34: Balaton Úszó Klub | C34: 1750
A35: 24 | B35: Veszprémi Torna Club | C35: 3000
A36: 25 | B36: VESC női röplabda | C36: 2500
A37: 26 | B37: Szilágyi DSE | C37: 1600
A38: 27 | B38: Dózsavárosi DSE | C38: 500
A39: 28 | B39: Sportolj Velünk SE | C39: 4750
A40: 29 | B40: Gyulafirátót SE | C40: 1500
A41: 30 | B41: Veszprémi Jégkorong SE | C41: 700
A42: 31 | B42: Veszprémi Taekwon-do SE | C42: 300
A43: 32 | B43: Veszprémi Asztalitenisz Sportegyesület | C43: 300
... A59: 48 | B59: Golding Táncsport Egyesület | C59: 50
A60: 49 | B60: Olimpiai felkészülés céljára támogatás
A61: 50 | B61: Sportolj Velünk SE (Bartha-Kéri Bianka) | C61: 600
A62: 51 | B62: VEDAC (Orbán Éva) | C62: 600
A63: 52 | B63: Veszprémi Sí Egylet (Kónya Ádám) | C63: 600
A64: 53 | B64: Balaton Úszó Klub (Rasovszky Kristóf) | C64: 1800
A65: 58 | B65: Sportcélok és feladatok
A66: 59 | B66: Veszprém Megyei Diáksport Egyesület | C66: 3000
B67: MINDÖSSZESEN: | C67: =SUM(C12:C66) -> 188709

Sheet 7.Beruh.
B1: 7. melléklet a 5/2020. (II.27.) önkormányzati rendelethez
B2: A rendelet 7. mellékletét módosította a 17/2020. (IV.30.) Ör. 7. melléklete
B3: A rendelet 7. mellékletét módosította a 26/2020. (VI.26.) Ör. 7. melléklete
B4: A rendelet 7. mellékletét módosította a 37/2020. (IX.24.) Ör. 7. melléklete
B5: Veszprém Megyei Jogú Város Önkormányzata
B6: 2020. évi beruházási és egyéb felhalmozási célú kiadások előirányzata
M7: adatok eFt-ban
B8: A | C8: B | D8: C | E8: D | F8: E | G8: F | H8: G | I8: H | J8: I | K8: J | L8: K | M8: L
B9: Cím | C9: Alcím | D9: Megnevezés | E9: Teljes költség | F9: Teljesítés 2018. 12.31.-ig | G9: 2019. évi tény | H9: Feladatellátás jellege | I9: 2020. évi előirányzat | M9: 2020. év utáni javaslat
I10: Működési költségvetési kiadások | J10: Felhalmozási költségvetési kiadások | L10: Összesen
I11: Dologi kiadások | J11: Beruházási kiadások | K11: Egyéb felhalmozási célú kiadások
A12: 1 | B12: 18 | C12: Önkormányzati beruházási kiadások
A13: 2 | C13: 1 | D13: Önkormányzati érdekeket érintő településrendezése eszközök módosítása | E13: =F13+G13+L17+M14 -> 11906 | G13: 5652 | H13: NK
A14: 3 | D14: eredeti előirányzat | J14: 4554 | L14: =SUM(I14:K14) -> 4554
A15: 4 | D15: módosított előirányzat 2. | J15: 4554 | L15: =SUM(I15:K15) -> 4554
A16: 5 | D16: módosítás- átcsoportosítás | J16: 1700 | L16: =SUM(I16:K16) -> 1700
A17: 6 | D17: módosított előirányzat 3. | J17: =SUM(J15:J16) -> 6254 | K17: =SUM(K14:K16) -> 0 | L17: =SUM(I17:K17) -> 6254
A18: 7 | C18: 2 | D18: Petőfi Sándor utca rekonstrukciója I-III. ütem | E18: =F18+G18+L22+M19 -> 218705 | F18: =83462 -> 83462 | G18: =134105 -> 134105 | H18: NK
A19: 8 | D19: eredeti előirányzat | I19: 500 | J19: 638 | L19: =SUM(I19:K19) -> 1138
A20: 9 | D20: módosított előirányzat 2. | I20: 500 | J20: 638 | L20: =SUM(I20:K20) -> 1138
A21: 10 | D21: módosítás- | L21: =SUM(I21:K21) -> 0
A22: 11 | D22: módosított előirányzat 3. | I22: =SUM(I20:I21) -> 500 | J22: =SUM(J20:J21) -> 638 | K22: =SUM(K20:K21) -> 0 | L22: =SUM(I22:K22) -> 1138
A23: 12 | C23: 3 | D23: Vörösmarty tér tömbbelső fejlesztés, I. ütem (csapadékvíz elvezetés kiépítése) + II. ütem | E23: =F23+G23+L27+M24 -> 74702 | F23: 18391 | G23: =26497+3 -> 26500 | H23: NK
A24: 13 | D24: eredeti előirányzat | I24: 327 | J24: 29484 | L24: =SUM(I24:K24) -> 29811
A25: 14 | D25: módosított előirányzat 2. | I25: 327 | J25: 29484 | L25: =SUM(I25:K25) -> 29811
A26: 15 | D26: módosítás- | L26: =SUM(I26:K26) -> 0
A27: 16 | D27: módosított előirányzat 3. | I27: =SUM(I25:I26) -> 327 | J27: =SUM(J25:J26) -> 29484 | K27: =SUM(K25:K26) -> 0 | L27: =SUM(I27:K27) -> 29811
A28: 17 | C28: 4 | D28: Kulturális negyed tervezése II. ütem | E28: =F28+G28+L32+M29 -> 3175 | H28: NK
A29: 18 | D29: eredeti előirányzat | J29: 3175 | L29: =SUM(I29:K29) -> 3175
A30: 19 | D30: módosított előirányzat 2. | J30: 3175 | L30: =SUM(I30:K30) -> 3175
A31: 20 | D31: módosítás- | L31: =SUM(I31:K31) -> 0
A32: 21 | D32: módosított előirányzat 3. | J32: =SUM(J30:J31) -> 3175 | K32: =SUM(K30:K31) -> 0 | L32: =SUM(I32:K32) -> 3175
A33: 22 | C33: 5 | D33: Bolgár Mihály utcai híd áteresz kapacitás bővítés, tervezés, engedélyezés, kivitelezés | E33: =F33+G33+L37+M34 -> 1905 | H33: NK
A34: 23 | D34: eredeti előirányzat | J34: 2000 | L34: =SUM(I34:K34) -> 2000
A35: 24 | D35: módosított előirányzat 2. | J35: 1905 | L35: =SUM(I35:K35) -> 1905
A36: 25 | D36: módosítás- | L36: =SUM(I36:K36) -> 0
A37: 26 | D37: módosított előirányzat 3. | J37: =SUM(J35:J36) -> 1905 | K37: =SUM(K35:K36) -> 0 | L37: =SUM(I37:K37) -> 1905
A38: 27 | C38: 6 | D38: Egry utcai óvoda új villamos és gáz betáp vezeték tervezése és kiépítése, villamos kapacitásbővítés | E38: =F38+G38+L42+M39 -> 4260 | G38: 305 | H38: NK
A39: 28 | D39: eredeti előirányzat | J39: 3955 | L39: =SUM(I39:K39) -> 3955
A40: 29 | D40: módosított előirányzat 2. | J40: 3955 | L40: =SUM(I40:K40) -> 3955
A41: 30 | D41: módosítás- | L41: =SUM(I41:K41) -> 0
A42: 31 | D42: módosított előirányzat 3. | J42: =SUM(J40:J41) -> 3955 | K42: =SUM(K40:K41) -> 0 | L42: =SUM(I42:K42) -> 3955
A43: 32 | C43: 7 | D43: Gyulafirátóti köztéri játszótér eszközeinek elhelyezése | E43: =F43+G43+L47+M44 -> 3000 | H43: NK
A44: 33 | D44: eredeti előirányzat | J44: 3000 | L44: =SUM(I44:K44) -> 3000
A45: 34 | D45: módosított előirányzat 2. | J45: 3000 | L45: =SUM(I45:K45) -> 3000
A46: 35 | D46: módosítás- | L46: =SUM(I46:K46) -> 0
A47: 36 | D47: módosított előirányzat 3. | J47: =SUM(J45:J46) -> 3000 | K47: =SUM(K45:K46) -> 0 | L47: =SUM(I47:K47) -> 3000
A48: 37 | C48: 8 | D48: 82-es út közlekedésbiztonsági fejlesztése | E48: =F48+G48+L52+M49 -> 25000 | G48: 12491 | H48: NK
A49: 38 | D49: eredeti előirányzat | J49: 12509 | L49: =SUM(I49:K49) -> 12509
A50: 39 | D50: módosított előirányzat 2. | J50: 12509 | L50: =SUM(I50:K50) -> 12509
A51: 40 | D51: módosítás- | L51: =SUM(I51:K51) -> 0
A52: 41 | D52: módosított előirányzat 3. | J52: =SUM(J50:J51) -> 12509 | K52: =SUM(K50:K51) -> 0 | L52: =SUM(I52:K52) -> 12509
A53: 42 | C53: 9 | D53: Programiroda Kft. törzstőke emelés | E53: =F53+G53+L57+M54 -> 3520 | F53: =3210+110 -> 3320 | G53: 100 | H53: NK
A54: 43 | D54: eredeti előirányzat | J54: 100 | L54: =SUM(I54:K54) -> 100
A55: 44 | D55: módosított előirányzat 2. | J55: 100 | L55: =SUM(I55:K55) -> 100
A56: 45 | D56: módosítás- | L56: =SUM(I56:K56) -> 0
A57: 46 | D57: módosított előirányzat 3. | J57: =SUM(J55:J56) -> 100 | K57: =SUM(K55:K56) -> 0 | L57: =SUM(I57:K57) -> 100
A58: 47 | C58: 10 | D58: Programiroda Kft. tőketartalékba helyezés | E58: =F58+G58+L62+M59 -> 165780 | F58: =84090+35890 -> 119980 | G58: 22900 | H58: NK
A59: 48 | D59: eredeti előirányzat | J59: 22900 | L59: =SUM(I59:K59) -> 22900
A60: 49 | D60: módosított előirányzat 2. | J60: 22900 | L60: =SUM(I60:K60) -> 22900
A61: 50 | D61: módosítás- | L61: =SUM(I61:K61) -> 0
A62: 51 | D62: módosított előirányzat 3. | J62: =SUM(J60:J61) -> 22900 | K62: =SUM(K60:K61) -> 0 | L62: =SUM(I62:K62) -> 22900
A63: 52 | C63: 11 | D63: Swing-Swing Kft. törzstőke emelés | E63: =F63+G63+L67+M64 -> 100080 | F63: =100050+10 -> 100060 | G63: 10 | H63: NK
A64: 53 | D64: eredeti előirányzat | J64: 10 | L64: =SUM(I64:K64) -> 10
A65: 54 | D65: módosított előirányzat 2. | J65: 10 | L65: =SUM(I65:K65) -> 10
A66: 55 | D66: módosítás- | L66: =SUM(I66:K66) -> 0
A67: 56 | D67: módosított előirányzat 3. | J67: =SUM(J65:J66) -> 10 | K67: =SUM(K65:K66) -> 0 | L67: =SUM(I67:K67) -> 10
A68: 57 | C68: 12 | D68: Swing-Swing Kft. tőketartalékba helyezés | E68: =F68+G68+L72+M69 -> 739920 | F68: =379950+119990 -> 499940 | G68: 119990 | H68: NK
A69: 58 | D69: eredeti előirányzat | J69: 119990 | L69: =SUM(I69:K69) -> 119990
A70: 59 | D70: módosított előirányzat 2. | J70: 119990 | L70: =SUM(I70:K70) -> 119990
A71: 60 | D71: módosítás- | L71: =SUM(I71:K71) -> 0
A72: 61 | D72: módosított előirányzat 3. | J72: =SUM(J70:J71) -> 119990 | K72: =SUM(K70:K71) -> 0 | L72: =SUM(I72:K72) -> 119990
A73: 62 | C73: 13 | D73: Swing-Swing Kft. üzletrész vásárlás | E73: =F73+G73+L77+M74 -> 251652 | H73: NK
A74: 63 | D74: eredeti előirányzat | J74: 251652 | L74: =SUM(I74:K74) -> 251652
A75: 64 | D75: módosított előirányzat 2. | J75: 251652 | L75: =SUM(I75:K75) -> 251652
A76: 65 | D76: módosítás- | L76: =SUM(I76:K76) -> 0
A77: 66 | D77: módosított előirányzat 3. | J77: =SUM(J75:J76) -> 251652 | K77: =SUM(K75:K76) -> 0 | L77: =SUM(I77:K77) -> 251652
A78: 67 | C78: 14 | D78: Veszprém - Balaton 2023 Zrt. törzstőke emelés | E78: =F78+G78+L82+M79 -> 3600 | F78: 100 | G78: 1500 | H78: NK
A79: 68 | D79: eredeti előirányzat | J79: 2000 | L79: =SUM(I79:K79) -> 2000
A80: 69 | D80: módosított előirányzat 2. | J80: 2000 | L80: =SUM(I80:K80) -> 2000
A81: 70 | D81: módosítás- | L81: =SUM(I81:K81) -> 0
A82: 71 | D82: módosított előirányzat 3. | J82: =SUM(J80:J81) -> 2000 | K82: =SUM(K80:K81) -> 0 | L82: =SUM(I82:K82) -> 2000
A83: 72 | C83: 15 | D83: Veszprém - Balaton 2023 Zrt. tőketartalékba helyezés | E83: =F83+G83+L87+M84 -> 376100 | F83: 82900 | G83: 195200 | H83: NK
A84: 73 | D84: eredeti előirányzat | J84: 98000 | L84: =SUM(I84:K84) -> 98000
A85: 74 | D85: módosított előirányzat 2. | J85: 98000 | L85: =SUM(I85:K85) -> 98000
A86: 75 | D86: módosítás- | L86: =SUM(I86:K86) -> 0
A87: 76 | D87: módosított előirányzat 3. | J87: =SUM(J85:J86) -> 98000 | K87: =SUM(K85:K86) -> 0 | L87: =SUM(I87:K87) -> 98000
A88: 77 | C88: 16 | D88: Erdőtelepítés és utógondozás (a 241/2009.(IX.15.) Közgyűlési határozat; Erdészeti Hatóság 28.3/1176-7/2010.(V.25.) és VE-G-001/3883-8/2013. sz. határozata; 298/2009.(X.20.) Vfkb és 48/2010.(II.16.) Vfkb | E88: =F88+G88+L92+M89 -> 39628 | F88: =11933+7351 -> 19284 | G88: 12596 | H88: NK
A89: 78 | D89: eredeti előirányzat | J89: 13952 | L89: =SUM(I89:K89) -> 13952
A90: 79 | D90: módosított előirányzat 2. | J90: 7748 | L90: =SUM(I90:K90) -> 7748
A91: 80 | D91: módosítás- | L91: =SUM(I91:K91) -> 0
A92: 81 | D92: módosított előirányzat 3. | J92: =SUM(J90:J91) -> 7748 | K92: =SUM(K90:K91) -> 0 | L92: =SUM(I92:K92) -> 7748
A93: 82 | C93: 17 | D93: Utcanévtáblák | E93: =F93+G93+L97+M94 -> 3058 | F93: 2058 | G93: 269 | H93: NK
A94: 83 | D94: eredeti előirányzat | J94: 7173 | L94: =SUM(I94:K94) -> 7173
A95: 84 | D95: módosított előirányzat 2. | J95: 731 | L95: =SUM(I95:K95) -> 731
A96: 85 | D96: módosítás- | L96: =SUM(I96:K96) -> 0
A97: 86 | D97: módosított előirányzat 3. | J97: =SUM(J95:J96) -> 731 | K97: =SUM(K94:K96) -> 0 | L97: =SUM(I97:K97) -> 731
A98: 87 | C98: 18 | D98: Kézi hulladékgyűjtők beszerzése | E98: =F98+G98+L102+M99 -> 3145 | F98: =248+251 -> 499 | G98: 1455 | H98: NK
A99: 88 | D99: eredeti előirányzat | J99: 5046 | L99: =SUM(I99:K99) -> 5046
A100: 89 | D100: módosított előirányzat 2. | J100: 1191 | L100: =SUM(I100:K100) -> 1191
...

Sheet 8.Felúj.
B1: 8. melléklet a 5/2020. (II.27.) önkormányzati rendelethez
B2: A rendelet 8. mellékletét módosította a 17/2020. (IV.30.) Ör. 8. melléklete
B3: A rendelet 8. mellékletét módosította a 26/2020. (VI.26.) Ör. 8. melléklete
B4: A rendelet 8. mellékletét módosította a 37/2020. (IX.24.) Ör. 8. melléklete
B5: Veszprém Megyei Jogú Város Önkormányzata
B6: 2020. évi felújítási kiadások előirányzata
L7: adatok eFt-ban
B8: A | C8: B | D8: C | E8: D | F8: E | G8: F | H8: G | I8: H | J8: I | K8: J | L8: K
B9: Cím | C9: Alcím | D9: Megnevezés | E9: Teljes költség | F9: 2018. évi tény | G9: 2019. évi tény | H9: Feladatellátás jellege | I9: 2020. évi előirányzat | L9: 2020. év utáni javaslat
I10: Működési költségvetési kiadások | J10: Felhalmozási költségvetési kiadások | K10: Összesen
I11: Dologi kiadások | J11: Felújítási kiadások
A12: 1 | B12: 18 | C12: Önkormányzati felújítási kiadások
A13: 2 | C13: 1 | D13: Játszóeszközök felújítása (78/2003 GKM rendelet) | E13: =F13+G13+K17+L14 -> 21500 | F13: 10000 | G13: 9000 | H13: K
A14: 3 | D14: eredeti előirányzat | J14: 5000 | K14: =SUM(I14:J14) -> 5000
A15: 4 | D15: módosított előirányzat 2. | J15: 2500 | K15: =SUM(I15:J15) -> 2500
A16: 5 | D16: módosítás- | K16: =SUM(I16:J16) -> 0
A17: 6 | D17: módosított előirányzat 3. | J17: =SUM(J15:J16) -> 2500 | K17: =SUM(I17:J17) -> 2500
A18: 7 | C18: 2 | D18: Nagyfelületű út- és járdafelújítások | E18: =F18+G18+K22+L19 -> 310601 | F18: 127108 | G18: 129978 | H18: NK
A19: 8 | D19: eredeti előirányzat | J19: 158122 | K19: =SUM(I19:J19) -> 158122
A20: 9 | D20: módosított előirányzat 2. | J20: 53515 | K20: =SUM(I20:J20) -> 53515
A21: 10 | D21: módosítás- | K21: =SUM(I21:J21) -> 0
A22: 11 | D22: módosított előirányzat 3. | J22: =SUM(J20:J21) -> 53515 | K22: =SUM(I22:J22) -> 53515
A23: 12 | C23: 3 | D23: Vízrendezési feladatok, árkok felújítása | E23: =F23+G23+K27+L24 -> 50000 | G23: 450 | H23: K
A24: 13 | D24: eredeti előirányzat | J24: 49550 | K24: =SUM(I24:J24) -> 49550
A25: 14 | D25: módosított előirányzat 2. | J25: 49550 | K25: 49550
A26: 15 | D26: módosítás- | K26: =SUM(I26:J26) -> 0
A27: 16 | D27: módosított előirányzat 3. | J27: =SUM(J25:J26) -> 49550 | K27: =SUM(I27:J27) -> 49550
A28: 17 | C28: 4 | D28: Védett sírok felújítása az Alsóvárosi temetőben | E28: =F28+G28+K32+L29 -> 11252 | F28: 9999 | H28: NK
A29: 18 | D29: eredeti előirányzat | J29: 1235 | K29: =SUM(I29:J29) -> 1235
A30: 19 | D30: módosított előirányzat 2. | I30: 18 | J30: 1235 | K30: =SUM(I30:J30) -> 1253
A31: 20 | D31: módosítás- | K31: =SUM(I31:J31) -> 0
A32: 21 | D32: módosított előirányzat 3. | I32: =SUM(I30:I31) -> 18 | J32: =SUM(J30:J31) -> 1235 | K32: =SUM(I32:J32) -> 1253
A33: 22 | C33: 5 | D33: Polgármesteri Hivatal felújítási munkák | E33: =F33+G33+K37+L34 -> 3085 | F33: 2350 | G33: 735 | H33: NK
A34: 23 | D34: eredeti előirányzat | J34: 95 | K34: =SUM(I34:J34) -> 95
A35: 24 | D35: módosított előirányzat 2. | J35: 0 | K35: =SUM(I35:J35) -> 0
A36: 25 | D36: módosítás-
A37: 26 | D37: módosított előirányzat 3. | J37: =SUM(J35:J36) -> 0 | K37: =SUM(I37:J37) -> 0
A38: 27 | C38: 6 | D38: Kertészeti felújítások | E38: =F38+G38+K42+L39 -> 28500 | G38: 20000 | H38: NK
A39: 28 | D39: eredeti előirányzat | J39: 8500 | K39: =SUM(I39:J39) -> 8500
A40: 29 | D40: módosított előirányzat 2. | J40: 8500 | K40: =SUM(I40:J40) -> 8500
A41: 30 | D41: módosítás- | K41: =SUM(I41:J41) -> 0
A42: 31 | D42: módosított előirányzat 3. | J42: =SUM(J40:J41) -> 8500 | K42: =SUM(I42:J42) -> 8500
A43: 32 | C43: 7 | D43: Kertvárosi utcák felújítása víziközmű rekonstrukció után | E43: =F43+G43+K47+L44 -> 77497 | F43: 330 | G43: 77167 | H43: NK
A44: 33 | D44: eredeti előirányzat | J44: 25503 | K44: =SUM(I44:J44) -> 25503
A45: 34 | D45: módosított előirányzat 2. | J45: 0 | K45: =SUM(I45:J45) -> 0
A46: 35 | D46: módosítás- átcsoportosítás | K46: =SUM(I46:J46) -> 0
A47: 36 | D47: módosított előirányzat 3. | J47: =SUM(J45:J46) -> 0 | K47: =SUM(I47:J47) -> 0
A48: 37 | C48: 8 | D48: Önkormányzati bérlakások felújítása | E48: =F48+G48+K52+L49 -> 6728 | G48: 6728 | H48: K
A49: 38 | D49: eredeti előirányzat | I49: 300 | J49: 25372 | K49: =SUM(I49:J49) -> 25672
A50: 39 | D50: módosított előirányzat 2. | I50: 0 | J50: 0 | K50: =SUM(I50:J50) -> 0
A51: 40 | D51: módosítás- | K51: =SUM(I51:J51) -> 0
A52: 41 | D52: módosított előirányzat 3. | I52: =SUM(I50:I51) -> 0 | J52: =SUM(J50:J51) -> 0 | K52: =SUM(I52:J52) -> 0
A53: 42 | D53: Veszprémi Vadvirág Körzeti Óvoda | H53: K
A54: 43 | C54: 9 | D54: Elkorhadt nyílászárók cseréje II. ütem | E54: =F54+G54+K58+L55 -> 6929 | G54: 6789
A55: 44 | D55: eredeti előirányzat | J55: 211 | K55: =SUM(I55:J55) -> 211
A56: 45 | D56: módosított előirányzat 2. | J56: 140 | K56: =SUM(I56:J56) -> 140
A57: 46 | D57: módosítás- | K57: =SUM(I57:J57) -> 0
A58: 47 | D58: módosított előirányzat 3. | J58: =SUM(J56:J57) -> 140 | K58: =SUM(I58:J58) -> 140
A59: 48 | D59: Veszprémi Bóbita Körzeti Óvoda | H59: K
A60: 49 | C60: 10 | D60: Árnyékolás két pavilon teraszán | E60: =F60+G60+K64+L61 -> 6265
A61: 50 | D61: eredeti előirányzat | J61: 6300 | K61: =SUM(I61:J61) -> 6300
A62: 51 | D62: módosított előirányzat 2. | J62: 6265 | K62: =SUM(I62:J62) -> 6265
A63: 52 | D63: módosítás- | K63: =SUM(I63:J63) -> 0
A64: 53 | D64: módosított előirányzat 3. | J64: =SUM(J62:J63) -> 6265 | K64: =SUM(I64:J64) -> 6265
A65: 54 | D65: Hársfa Tagóvoda
A66: 55 | C66: 11 | D66: Hátsó épület utólagos vízszigetelése, külső terepszint süllyesztése | E66: =F66+G66+K70+L67 -> 9226 | G66: 7268
A67: 56 | D67: eredeti előirányzat | J67: 2232 | K67: =SUM(I67:J67) -> 2232
A68: 57 | D68: módosított előirányzat 2. | J68: 1958 | K68: =SUM(I68:J68) -> 1958
A69: 58 | D69: módosítás- | K69: =SUM(I69:J69) -> 0
A70: 59 | D70: módosított előirányzat 3. | J70: =SUM(J68:J69) -> 1958 | K70: =SUM(I70:J70) -> 1958
A71: 60 | D71: Veszprémi Ringató Körzeti Óvoda | H71: K
A72: 61 | D72: Erdei Tagóvoda
A73: 62 | C73: 12 | D73: Terasz árnyékolás | E73: =F73+G73+K77+L74 -> 3476
A74: 63 | D74: eredeti előirányzat | J74: 3500 | K74: =SUM(I74:J74) -> 3500
A75: 64 | D75: módosított előirányzat 2. | J75: 3476 | K75: =SUM(I75:J75) -> 3476
A76: 65 | D76: módosítás- | K76: =SUM(I76:J76) -> 0
A77: 66 | D77: módosított előirányzat 3. | J77: =SUM(J75:J76) -> 3476 | K77: =SUM(I77:J77) -> 3476
A78: 67 | D78: Kuckó Tagóvoda
A79: 68 | C79: 13 | D79: Terasz árnyékolás | E79: =F79+G79+K83+L80 -> 9385
A80: 69 | D80: eredeti előirányzat | J80: 9400 | K80: =SUM(I80:J80) -> 9400
A81: 70 | D81: módosított előirányzat 2. | J81: 9385 | K81: =SUM(I81:J81) -> 9385
A82: 71 | D82: módosítás- | K82: =SUM(I82:J82) -> 0
A83: 72 | D83: módosított előirányzat 3. | J83: =SUM(J81:J82) -> 9385 | K83: =SUM(I83:J83) -> 9385
A84: 73 | D84: Veszprémi Egry Úti Körzeti Óvoda | H84: K
A85: 74 | D85: Nárcisz Tagóvoda
A86: 75 | C86: 14 | D86: Ereszcsatorna bővítés, csapadékelvezetés | E86: =F86+G86+K90+L87 -> 1976 | G86: 1231
A87: 76 | D87: eredeti előirányzat | J87: 769 | K87: =SUM(I87:J87) -> 769
A88: 77 | D88: módosított előirányzat 2. | J88: 745 | K88: =SUM(I88:J88) -> 745
A89: 78 | D89: módosítás- | K89: =SUM(I89:J89) -> 0
A90: 79 | D90: módosított előirányzat 3. | J90: =SUM(J88:J89) -> 745 | K90: =SUM(I90:J90) -> 745
A91: 80 | C91: 15 | D91: Burkolat cseréje szélfogóban, folyosón | E91: =F91+G91+K95+L92 -> 4691 | G91: 4551
A92: 81 | D92: eredeti előirányzat | J92: 249 | K92: =SUM(I92:J92) -> 249
A93: 82 | D93: módosított előirányzat 2. | J93: 140 | K93: =SUM(I93:J93) -> 140
A94: 83 | D94: módosítás- | K94: =SUM(I94:J94) -> 0
A95: 84 | D95: módosított előirányzat 3. | J95: =SUM(J93:J94) -> 140 | K95: =SUM(I95:J95) -> 140
A96: 85 | D96: Veszprémi Csillag Úti Körzeti Óvoda | H96: K
A97: 86 | D97: Cholnoky Jenő Tagóvoda
A98: 87 | C98: 16 | D98: Éjszakai áramkör kialakítása | E98: =F98+G98+K102+L99 -> 1163 | G98: 1125
A99: 88 | D99: eredeti előirányzat | J99: 75 | K99: =SUM(I99:J99) -> 75
A100: 89 | D100: módosított előirányzat 2. | J100: 38 | K100: =SUM(I100:J100) -> 38
...

Sheet 9.Projekt
A1: 9. melléklet a 5/2020. (II.27.) önkormányzati rendelethez
A2: A rendelet 9. mellékletét módosította a 17/2020. (IV.30.) Ör. 9. melléklete
A3: a rendelet 9. mellékletét módosította a 26/2020. (VI.26.) Ör. 9. melléklete
A4: A rendelet 9. mellékletét módosította a 37/2020. (IX.24.) Ör. 9. melléklete
A5: Veszprém Megyei Jogú Város Önkormányzata
A6: Európai Uniós forrásból finanszírozott támogatással megvalósuló programok, projektek 2020. évi költségvetési kiadásainak előirányzata
P7: adatok eFt-ban
B8: A | C8: B | D8: C | E8: D | F8: E | G8: F | H8: G | I8: H | J8: I | K8: J | L8: K | M8: L | N8: M | O8: N | P8: O
B9: Cím | C9: Alcím | D9: Megnevezés | E9: Teljes költség* | F9: Teljesítés 2018. 12.31.-ig* | G9: 2019. évi tény* | H9: Feladatellátás jellege* | I9: 2020. évi előirányzat | P9: 2020. év utáni javaslat
I10: Működési költségvetési kiadások | M10: Felhalmozási költségvetési kiadások | O10: Összesen
I11: Személyi juttatások | J11: Munk.a. terh. Jár. És szoc.hj.adó | K11: Dologi kiadások | L11: Egyéb működési célú kiadások | M11: Beruházási kiadások | N11: Egyéb felhalmozási célú kiadások
A12: 1 | B12: 18 | C12: Veszprém Megyei Jogú Város Önkormányzata
A13: 2 | C13: 1 | D13: TOP-6.2.1-16-VP1-2018-00002 Egry úti óvoda újjáépítése | H13: NK
A14: 3 | D14: eredeti előirányzat | E14: =F14+G14+O17+P17 -> 1119735 | G14: 237 | K14: 1398 | M14: =201554+916546 -> 1118100 | O14: =SUM(I14:N14) -> 1119498
A15: 4 | D15: módosított előirányzat 2. | K15: 1398 | M15: 1118100 | O15: =SUM(I15:N15) -> 1119498
A16: 5 | D16: módosítás- átcsoportosítás | K16: 300 | M16: -300 | O16: =SUM(I16:N16) -> 0
A17: 6 | D17: módosított előirányzat 3. | K17: =SUM(K15:K16) -> 1698 | M17: =SUM(M15:M16) -> 1117800 | O17: =SUM(I17:N17) -> 1119498
A18: 7 | C18: 2 | D18: EFOP-1.9.9-17-2017-00004 Még jobb kezekben - Veszprémben | H18: NK
A19: 8 | D19: eredeti előirányzat | E19: =F19+G19+O22+P22 -> 25975 | F19: =6208+6205 -> 12413 | G19: =2345+10041 -> 12386 | I19: 73 | J19: 73 | K19: 509 | O19: =SUM(I19:N19) -> 655
A20: 9 | D20: módosított előirányzat 2. | I20: 74 | J20: 40 | K20: 302 | L20: 760 | O20: =SUM(I20:N20) -> 1176
A21: 10 | D21: módosítás- | O21: =SUM(I21:N21) -> 0
A22: 11 | D22: módosított előirányzat 3. | I22: =SUM(I20:I21) -> 74 | J22: =SUM(J20:J21) -> 40 | K22: =SUM(K20:K21) -> 302 | L22: =SUM(L20:L21) -> 760 | O22: =SUM(I22:N22) -> 1176
A23: 12 | C23: 3 | D23: TOP-6.5.1-16-VP1-2018-00004 Aprófalvi bölcsőde energetikai korszerűsítése | H23: NK
A24: 13 | D24: eredeti előirányzat | E24: =F24+G24+O27+P27 -> 282576 | F24: 6699 | K24: 278 | M24: =52777+222822 -> 275599 | O24: =SUM(I24:N24) -> 275877
A25: 14 | D25: módosított előirányzat 2. | K25: 278 | M25: 275599 | O25: =SUM(I25:N25) -> 275877
A26: 15 | D26: módosítás- | O26: =SUM(I26:N26) -> 0
A27: 16 | D27: módosított előirányzat 3. | K27: =SUM(K25:K26) -> 278 | M27: =SUM(M25:M26) -> 275599 | O27: =SUM(I27:N27) -> 275877
A28: 17 | C28: 4 | D28: TOP-6.6.1-16-VP1-2017-00002 Kádártai rendelő kialakítása | H28: NK
A29: 18 | D29: eredeti előirányzat | E29: =F29+G29+O32+P32 -> 66636 | F29: 143 | G29: =196+62988+1540 -> 64724 | K29: 61 | M29: 1708 | O29: =SUM(I29:N29) -> 1769
A30: 19 | D30: módosított előirányzat 2. | K30: 61 | M30: 1708 | O30: =SUM(I30:N30) -> 1769
A31: 20 | D31: módosítás- | O31: =SUM(I31:N31) -> 0
A32: 21 | D32: módosított előirányzat 3. | K32: =SUM(K30:K31) -> 61 | M32: =SUM(M30:M31) -> 1708 | O32: =SUM(I32:N32) -> 1769
A33: 22 | C33: 5 | D33: TOP-6.5.1-16-VP1-2018-00002 Völgyikút utca 2. szám alatti épület energetikai megújítása | H33: NK
A34: 23 | D34: eredeti előirányzat | E34: =F34+G34+O37+P37+3250 -> 175747 | F34: 6541 | K34: 382 | M34: =34933+130641 -> 165574 | O34: =SUM(I34:N34) -> 165956
A35: 24 | D35: módosított előirányzat 2. | K35: 382 | M35: 165574 | O35: =SUM(I35:N35) -> 165956
A36: 25 | D36: módosítás- | O36: =SUM(I36:N36) -> 0
A37: 26 | D37: módosított előirányzat 3. | K37: =SUM(K35:K36) -> 382 | M37: =SUM(M35:M36) -> 165574 | O37: =SUM(I37:N37) -> 165956
A38: 27 | C38: 6 | D38: TOP-6.6.1-16-VP1-2018-00004 Vilonyai utca 2/B szám alatti orvosi rendelő megújítása | H38: NK
A39: 28 | D39: eredeti előirányzat | E39: =F39+G39+O42+P42 -> 50792 | F39: 1956 | K39: 270 | M39: =7068+41498 -> 48566 | O39: =SUM(I39:N39) -> 48836
A40: 29 | D40: módosított előirányzat 2. | K40: 270 | M40: 48566 | O40: =SUM(I40:N40) -> 48836
A41: 30 | D41: módosítás- | O41: =SUM(I41:N41) -> 0
A42: 31 | D42: módosított előirányzat 3. | K42: =SUM(K40:K41) -> 270 | M42: =SUM(M40:M41) -> 48566 | O42: =SUM(I42:N42) -> 48836
A43: 32 | C43: 7 | D43: TOP-6.6.1-16-VP1-2018-00005 Ördögárok u. 5. szám alatti orvosi rendelő megújítása | H43: NK
A44: 33 | D44: eredeti előirányzat | E44: =F44+G44+O47+P47 -> 93009 | F44: 2459 | K44: 270 | M44: =37058+53222 -> 90280 | O44: =SUM(I44:N44) -> 90550
A45: 34 | D45: módosított előirányzat 2. | K45: 270 | M45: 90280 | O45: =SUM(I45:N45) -> 90550
A46: 35 | D46: módosítás- | O46: =SUM(I46:N46) -> 0
A47: 36 | D47: módosított előirányzat 3. | K47: =SUM(K45:K46) -> 270 | M47: =SUM(M45:M46) -> 90280 | O47: =SUM(I47:N47) -> 90550
A48: 37 | C48: 8 | D48: TOP-6.6.1-16-VP1 Jutasi u. 59. sz. alatti rendelő megújítása | H48: NK
A49: 38 | D49: eredeti előirányzat | E49: =F49+G49+O52+P52 -> 72672 | F49: 4926 | G49: =120+67252+329 -> 67701 | K49: 45 | O49: =SUM(I49:N49) -> 45
A50: 39 | D50: módosított előirányzat 2. | K50: 0 | L50: 45 | O50: =SUM(I50:N50) -> 45
A51: 40 | D51: módosítás- | O51: =SUM(I51:N51) -> 0
A52: 41 | D52: módosított előirányzat 3. | K52: =SUM(K50:K51) -> 0 | L52: =SUM(L50:L51) -> 45 | O52: =SUM(I52:N52) -> 45
A53: 42 | C53: 9 | D53: TOP-6.2.1-16-VP1-2018-00001 A Veszprémi Bölcsődei és Egészségügyi Alapellátási Integrált Intézmény Módszertani Bölcsődéje megújítása, illetve bölcsődei eszközbeszerzések | H53: NK
A54: 43 | D54: eredeti előirányzat | E54: =F54+G54+O57+P57 -> 91960 | F54: 4834 | G54: 40 | K54: 395 | M54: =760+194617 -> 195377 | O54: =SUM(I54:N54) -> 195772
A55: 44 | D55: módosított előirányzat 2. | K55: 0 | L55: 435 | M55: 0 | N55: 86651 | O55: =SUM(I55:N55) -> 87086
A56: 45 | D56: módosítás- | O56: =SUM(I56:N56) -> 0
A57: 46 | D57: módosított előirányzat 3. | K57: =SUM(K55:K56) -> 0 | L57: =SUM(L55:L56) -> 435 | M57: =SUM(M55:M56) -> 0 | N57: =SUM(N55:N56) -> 86651 | O57: =SUM(I57:N57) -> 87086
A58: 47 | C58: 10 | D58: TOP-6.5.1-16-VP1-2018-00006 Módszertani bölcsőde energetikai megújítása | H58: NK
A59: 48 | D59: eredeti előirányzat | E59: =F59+G59+O62+P62 -> 334981 | F59: 6401 | G59: 100 | K59: 278 | M59: =29875+298327 -> 328202 | O59: =SUM(I59:N59) -> 328480
A60: 49 | D60: módosított előirányzat 2. | K60: 278 | M60: 328202 | O60: =SUM(I60:N60) -> 328480
A61: 50 | D61: módosítás- | O61: =SUM(I61:N61) -> 0
A62: 51 | D62: módosított előirányzat 3. | K62: =SUM(K60:K61) -> 278 | M62: =SUM(M60:M61) -> 328202 | O62: =SUM(I62:N62) -> 328480
A63: 52 | C63: 11 | D63: TOP-6.1.5-16-VP1-2017-00001 Északi Iparterület Közlekedés-fejlesztése | H63: NK
A64: 53 | D64: eredeti előirányzat | E64: =F64+G64+O67+P67 -> 3597000 | F64: 450951 | G64: =1230725+544 -> 1231269 | K64: 1422 | M64: =294000+1619358 -> 1913358 | O64: =SUM(I64:N64) -> 1914780
A65: 54 | D65: módosított előirányzat 2. | K65: 1422 | M65: 1913358 | O65: =SUM(I65:N65) -> 1914780
A66: 55 | D66: módosítás- | O66: =SUM(I66:N66) -> 0
A67: 56 | D67: módosított előirányzat 3. | K67: =SUM(K65:K66) -> 1422 | M67: =SUM(M65:M66) -> 1913358 | O67: =SUM(I67:N67) -> 1914780
A68: 57 | C68: 12 | D68: TOP-6.4.1-16-VP1-17-00001 Szabadságpuszta településrész és Felsőörs Község közötti kerékpárút beruházása | H68: NK
A69: 58 | D69: eredeti előirányzat | E69: =F69+G69+O72+P72+6000 -> 240000 | F69: 9749 | G69: =2883+952 -> 3835 | K69: 3015 | M69: =12000+205401 -> 217401 | O69: =SUM(I69:N69) -> 220416
A70: 59 | D70: módosított előirányzat 2. | K70: 3015 | M70: 217401 | O70: =SUM(I70:N70) -> 220416
A71: 60 | D71: módosítás- | O71: =SUM(I71:N71) -> 0
A72: 61 | D72: módosított előirányzat 3. | K72: =SUM(K70:K71) -> 3015 | M72: =SUM(M70:M71) -> 217401 | O72: =SUM(I72:N72) -> 220416
A73: 62 | C73: 13 | D73: TOP-6.4.1-16-VP1-2018-00002 Márkó-Bánd települések irányába kerékpárút építése | H73: NK
A74: 63 | D74: eredeti előirányzat | E74: =F74+G74+O77+P77+12000 -> 501600 | F74: 326 | G74: =16713+414 -> 17127 | K74: 9860 | M74: 462287 | O74: =SUM(I74:N74) -> 472147
A75: 64 | D75: módosított előirányzat 2. | K75: 9860 | M75: 462287 | O75: =SUM(I75:N75) -> 472147
A76: 65 | D76: módosítás- | O76: =SUM(I76:N76) -> 0
A77: 66 | D77: módosított előirányzat 3. | K77: =SUM(K75:K76) -> 9860 | M77: =SUM(M75:M76) -> 462287 | O77: =SUM(I77:N77) -> 472147
A78: 67 | C78: 14 | D78: TOP-6.4.1-15-VP1-2016-00001"Közlekedésbiztonsági és kerékpárosbarát fejlesztések megvalósulása Veszprém város területén" | H78: NK
A79: 68 | D79: eredeti előirányzat | E79: =F79+G79+O82+P82 -> 1147594 | F79: =25062+32060+393153 -> 450275 | G79: =682686+5740+11 -> 688437 | K79: 8968 | O79: =SUM(I79:N79) -> 8968
A80: 69 | D80: módosított előirányzat 2. | K80: 8968 | O80: =SUM(I80:N80) -> 8968
A81: 70 | D81: módosítás- átcsoportosítás | K81: -86 | O81: =SUM(I81:N81) -> -86
A82: 71 | D82: módosított előirányzat 3. | K82: =SUM(K80:K81) -> 8882 | O82: =SUM(I82:N82) -> 8882
A83: 72 | C83: 15 | D83: TOP-6.4.1-16 Kerékpárút és kerékpárforgalmi létesítmények építése Veszprém-Gyulafirátót | H83: NK
A84: 73 | D84: eredeti előirányzat | E84: =F84+G84+O87+P87 -> 906000 | M84: 906000 | O84: =SUM(I84:N84) -> 906000
A85: 74 | D85: módosított előirányzat 2. | M85: 906000 | O85: =SUM(I85:N85) -> 906000
A86: 75 | D86: módosítás- | O86: =SUM(I86:N86) -> 0
A87: 76 | D87: módosított előirányzat 3. | M87: =SUM(M85:M86) -> 906000 | O87: =SUM(I87:N87) -> 906000
A88: 77 | C88: 16 | D88: TOP-6.3.3-16-VP1-2017-00001 Dózsaváros, Pápai úti csapadékvíz-elvezető rendszer fejlesztése | H88: NK
A89: 78 | D89: eredeti előirányzat | E89: =F89+G89+O92+P92+5962 -> 300876 | F89: 4460 | G89: =264851+2602 -> 267453 | K89: 1087 | M89: 21914 | O89: =SUM(I89:N89) -> 23001
A90: 79 | D90: módosított előirányzat 2. | K90: 1087 | M90: 21914 | O90: =SUM(I90:N90) -> 23001
A91: 80 | D91: módosítás- | O91: =SUM(I91:N91) -> 0
A92: 81 | D92: módosított előirányzat 3. | K92: =SUM(K90:K91) -> 1087 | M92: =SUM(M90:M91) -> 21914 | O92: =SUM(I92:N92) -> 23001
A93: 82 | C93: 17 | D93: TOP-6.5.1-16-VP1-2018-00005 - Március 15. utcai Sportcsarnok és Uszoda energetikai megújítása | H93: NK
A94: 83 | D94: eredeti előirányzat | E94: =F94+G94+O97+P97+13852 -> 829515 | F94: 6414 | G94: =26646 -> 26646 | K94: 10750 | M94: =41400+730453 -> 771853 | O94: =SUM(I94:N94) -> 782603
A95: 84 | D95: módosított előirányzat 2. | K95: 10750 | M95: 771853 | O95: =SUM(I95:N95) -> 782603
A96: 85 | D96: módosítás- | O96: =SUM(I96:N96) -> 0
A97: 86 | D97: módosított előirányzat 3. | K97: =SUM(K95:K96) -> 10750 | M97: =SUM(M95:M96) -> 771853 | O97: =SUM(I97:N97) -> 782603
A98: 87 | C98: 18 | D98: TOP-6.5-1-19 Laczkó Dezső Múzeum energetikai megújítása | H98: NK
A99: 88 | D99: eredeti előirányzat | E99: =F99+G99+O102+P102 -> 390564 | M99: 390564 | O99: =SUM(I99:N99) -> 390564
A100: 89 | D100: módosított előirányzat 2. | M100: 390564 | O100: =SUM(I100:N100) -> 390564
...

Sheet 10.MVP és hazai
A1: 10. melléklet a 5/2020. (II.27.) önkormányzati rendelethez
A2: A rendelet 10. mellékletét módosította a 17/2020. (IV.30.) Ör. 10. melléklete
A3: A rendelet 10. mellékletét módosította a 26/2020. (VI.26.) Ör. 10. melléklete
A4: A rendelet 10. mellékletét módosította a 37/2020. (IX.24.) Ör. 10. melléklete
A5: Veszprém Megyei Jogú Város Önkormányzata
A6: Modern Városok Program és más hazai finanszírozásból megvalósuló feladatok 2020. évi költségvetési kiadásainak előirányzata
P7: adatok eFt-ban
B8: A | C8: B | D8: C | E8: D | F8: E | G8: F | H8: G | I8: H | J8: I | K8: J | L8: K | M8: L | N8: M | O8: N | P8: O
B9: Cím | C9: Alcím | D9: Megnevezés | E9: Teljes költség* | F9: Teljesítés 2018. 12.31.-ig** | G9: 2019. évi tény* | H9: Feladatellátás jellege* | I9: 2020. évi előirányzat | P9: 2020. év utáni javaslat
I10: Működési költségvetési kiadások | M10: Felhalmozási költségvetési kiadások | O10: Összesen
I11: Személyi juttatások | J11: Munk.a. terh. Jár. És szoc.hj.adó | K11: Dologi kiadások | L11: Egyéb működési célú kiadások | M11: Beruházási kiadások | N11: Egyéb felhalmozási célú kiadások
A12: 1 | B12: 18 | C12: Veszprém Megyei Jogú Város Önkormányzata
A13: 2 | C13: 1 | D13: Iparos Park | H13: NK
A14: 3 | D14: eredeti előirányzat | E14: =F14+G14+O17+P14 -> 8822998 | G14: =106200 -> 106200 | K14: 34384 | M14: 694452 | O14: =SUM(I14:N14) -> 728836 | P14: 4397322
A15: 4 | D15: módosított előirányzat 2. | K15: 97709 | M15: 4221767 | O15: =SUM(I15:N15) -> 4319476
A16: 5 | D16: módosítás- | O16: =SUM(I16:N16) -> 0
A17: 6 | D17: módosított előirányzat 3. | K17: =SUM(K15:K16) -> 97709 | M17: =SUM(M15:M16) -> 4221767 | O17: =SUM(I17:N17) -> 4319476
A18: 7 | C18: 2 | D18: Veszprémi Petőfi Színház komplex fejlesztése | H18: NK
A19: 8 | D19: eredeti előirányzat | E19: =F19+G19+O22+P19 -> 14460580 | F19: 324476 | G19: =2834+481562 -> 484396 | K19: 499 | M19: 3870629 | O19: =SUM(I19:N19) -> 3871128 | P19: 9780580
A20: 9 | D20: módosított előirányzat 2. | K20: 5715 | M20: 3865413 | O20: =SUM(I20:N20) -> 3871128
A21: 10 | D21: módosítás- | O21: =SUM(I21:N21) -> 0
A22: 11 | D22: módosított előirányzat 3. | K22: =SUM(K20:K21) -> 5715 | M22: =SUM(M20:M21) -> 3865413 | O22: =SUM(I22:N22) -> 3871128
A23: 12 | C23: 3 | D23: Kittenberger Kálmán Növény- és Vadaspark fejlesztése és bővítése | H23: NK
A24: 13 | D24: eredeti előirányzat | E24: =F24+G24+O27+P24 -> 1793189 | F24: 1281902 | G24: =1692 -> 1692 | K24: 658 | M24: =371256+137681 -> 508937 | O24: =SUM(I24:N24) -> 509595
A25: 14 | D25: módosított előirányzat 2. | K25: 658 | M25: 508937 | O25: =SUM(I25:N25) -> 509595
A26: 15 | D26: módosítás- | O26: =SUM(I26:N26) -> 0
A27: 16 | D27: módosított előirányzat 3. | K27: =SUM(K25:K26) -> 658 | M27: =SUM(M25:M26) -> 508937 | O27: =SUM(I27:N27) -> 509595
A28: 17 | C28: 4 | D28: Veszprémi Zeneművészeti Szakgimnázium és Alapfokú Művészeti Iskola intézményegysége, a Csermák Antal Zeneiskola felújításának megvalósítása | H28: NK
A29: 18 | D29: eredeti előirányzat | E29: =F29+G29+O32+P29 -> 1658925 | F29: 7043 | G29: =15189+980 -> 16169 | M29: =78617+738788 -> 817405 | O29: =SUM(I29:N29) -> 817405 | P29: =818308 -> 818308
A30: 19 | D30: módosított előirányzat 2. | K30: 15710 | M30: =817405-15710 -> 801695 | O30: =SUM(I30:N30) -> 817405
A31: 20 | D31: módosítás- | O31: =SUM(I31:N31) -> 0
A32: 21 | D32: módosított előirányzat 3. | K32: =SUM(K30:K31) -> 15710 | M32: =SUM(M30:M31) -> 801695 | O32: =SUM(I32:N32) -> 817405
A33: 22 | C33: 5 | D33: Veszprémi új Városi Jégcsarnok építése | H33: NK
A34: 23 | D34: eredeti előirányzat | E34: =F34+G34+O37+P34 -> 76282 | F34: 10737 | G34: 25052 | N34: 40493 | O34: =SUM(I34:N34) -> 40493
A35: 24 | D35: módosított előirányzat 2. | N35: 40493 | O35: =SUM(I35:N35) -> 40493
A36: 25 | D36: módosítás- | O36: =SUM(I36:N36) -> 0
A37: 26 | D37: módosított előirányzat 3. | N37: =SUM(N35:N36) -> 40493 | O37: =SUM(I37:N37) -> 40493
A38: 27 | C38: 6 | D38: Veszprémi Atlétikai Stadion felújítása - I. ütem (BMSK) | H38: NK
A39: 28 | D39: eredeti előirányzat | E39: =F39+G39+O42+P39 -> 250000 | K39: 500 | M39: 249500 | O39: =SUM(I39:N39) -> 250000
A40: 29 | D40: módosított előirányzat 2. | K40: 500 | M40: 249500 | O40: =SUM(I40:N40) -> 250000
A41: 30 | D41: módosítás- | O41: =SUM(I41:N41) -> 0
A42: 31 | D42: módosított előirányzat 3. | K42: =SUM(K40:K41) -> 500 | M42: =SUM(M40:M41) -> 249500 | O42: =SUM(I42:N42) -> 250000
A43: 32 | C43: 7 | D43: Veszprémi Atlétikai Stadion komplex megújítás (tornász gyakorló csarnok) - I. ütem | H43: NK
A44: 33 | D44: eredeti előirányzat | E44: =F44+G44+O47+P44 -> 957296 | G44: 820 | M44: 360738 | O44: =SUM(I44:N44) -> 360738 | P44: =611414-7838-603576 -> 0
A45: 34 | D45: módosított előirányzat 2. | M45: 352900 | O45: =SUM(I45:N45) -> 352900
A46: 35 | D46: módosítás- befolyt támogatási összeg szerint | K46: =978-302 -> 676 | M46: =602598+302 -> 602900 | O46: =SUM(I46:N46) -> 603576
A47: 36 | D47: módosított előirányzat 3. | K47: =SUM(K46) -> 676 | M47: =SUM(M45:M46) -> 955800 | O47: =SUM(I47:N47) -> 956476
A48: 37 | C48: 8 | D48: Sportterület közmű-, út infrastruktúra fejlesztés | H48: NK
A49: 38 | D49: eredeti előirányzat | E49: =F49+G49+O52+P49 -> 3901162 | M49: 981338 | O49: =SUM(I49:N49) -> 981338 | P49: 2919824
A50: 39 | D50: módosított előirányzat 2. | M50: 981338 | O50: =SUM(I50:N50) -> 981338
A51: 40 | D51: módosítás- | O51: =SUM(I51:N51) -> 0
A52: 41 | D52: módosított előirányzat 3. | M52: =SUM(M50:M51) -> 981338 | O52: =SUM(I52:N52) -> 981338
A53: 42 | C53: 9 | D53: MVP feladatok előkészítés költségei | H53: NK
A54: 43 | D54: eredeti előirányzat | E54: =F54+G54+O57+P54 -> 3095 | K54: =5000-1905 -> 3095 | O54: =SUM(I54:N54) -> 3095
A55: 44 | D55: módosított előirányzat 2. | K55: 3095 | O55: =SUM(I55:N55) -> 3095
A56: 45 | D56: módosítás- | O56: =SUM(I56:N56) -> 0
A57: 46 | D57: módosított előirányzat 3. | K57: =SUM(K55:K56) -> 3095 | O57: =SUM(I57:N57) -> 3095
A58: 47 | C58: 10 | D58: Kelet-nyugati gyűjtőút zajvédő létesítmény tervezése | H58: NK
A59: 48 | D59: eredeti előirányzat | E59: =F59+G59+O62+P59 -> 1905 | M59: 1905 | O59: =SUM(I59:N59) -> 1905
A60: 49 | D60: módosított előirányzat 2. | M60: 1905 | O60: =SUM(I60:N60) -> 1905
A61: 50 | D61: módosítás- | O61: =SUM(I61:N61) -> 0
A62: 51 | D62: módosított előirányzat 3. | M62: =SUM(M60:M61) -> 1905 | O62: =SUM(I62:N62) -> 1905
A63: 52 | C63: 11 | D63: Aszfalt burkolatok, útlapok és makadám burkolatok, földmunkák | H63: NK
A64: 53 | D64: eredeti előirányzat | E64: =F64+G64+O67+P64 -> 3755 | M64: 3755 | O64: =SUM(I64:N64) -> 3755
A65: 54 | D65: módosított előirányzat 2. | M65: 3755 | O65: =SUM(I65:N65) -> 3755
A66: 55 | D66: módosítás- | O66: =SUM(I66:N66) -> 0
A67: 56 | D67: módosított előirányzat 3. | M67: =SUM(M65:M66) -> 3755 | O67: =SUM(I67:N67) -> 3755
A68: 57 | C68: 12 | D68: Járásszékhely múzeumok szakmai támogatása | H68: NK
A69: 58 | D69: eredeti előirányzat | E69: =F69+G69+O72+P69 -> 3979 | K69: 79 | M69: 3900 | O69: =SUM(I69:N69) -> 3979
A70: 59 | D70: módosított előirányzat 2. | K70: 79 | M70: 3900 | O70: =SUM(I70:N70) -> 3979
A71: 60 | D71: módosítás- | O71: =SUM(I71:N71) -> 0
A72: 61 | D72: módosított előirányzat 3. | K72: =SUM(K70:K71) -> 79 | M72: =SUM(M70:M71) -> 3900 | O72: =SUM(I72:N72) -> 3979
A73: 62 | C73: 13 | D73: Kubinyi Ágoston program | H73: NK
A74: 63 | D74: eredeti előirányzat | E74: =F74+G74+O77+P74 -> 2000 | M74: 2000 | O74: =SUM(I74:N74) -> 2000
A75: 64 | D75: módosított előirányzat 2. | M75: 2000 | O75: =SUM(I75:N75) -> 2000
A76: 65 | D76: módosítás- | O76: =SUM(I76:N76) -> 0
A77: 66 | D77: módosított előirányzat 3. | M77: =SUM(M75:M76) -> 2000 | O77: =SUM(I77:N77) -> 2000
A78: 67 | B78: MINDÖSSZESEN:
A79: 68 | D79: eredeti előirányzat | I79: =I74+I69+I64+I59+I54+I49+I44+I39+I34+I29+I24+I19+I14 -> 0 | J79: =J74+J69+J64+J59+J54+J49+J44+J39+J34+J29+J24+J19+J14 -> 0 | K79: =K74+K69+K64+K59+K54+K49+K44+K39+K34+K29+K24+K19+K14 -> 39215 | L79: =L74+L69+L64+L59+L54+L49+L44+L39+L34+L29+L24+L19+L14 -> 0 | M79: =M74+M69+M64+M59+M54+M49+M44+M39+M34+M29+M24+M19+M14 -> 7494559 | N79: =N74+N69+N64+N59+N54+N49+N44+N39+N34+N29+N24+N19+N14 -> 40493 | O79: =O74+O69+O64+O59+O54+O49+O44+O39+O34+O29+O24+O19+O14 -> 7574267 | P79: =SUM(P12:P78) -> 17916034
A80: 69 | D80: módosított előirányzat 2. | I80: =I75+I70+I65+I60+I55+I50+I45+I40+I35+I30+I25+I20+I15 -> 0 | J80: =J75+J70+J65+J60+J55+J50+J45+J40+J35+J30+J25+J20+J15 -> 0 | K80: =K75+K70+K65+K60+K55+K50+K45+K40+K35+K30+K25+K20+K15 -> 123466 | L80: =L75+L70+L65+L60+L55+L50+L45+L40+L35+L30+L25+L20+L15 -> 0 | M80: =M75+M70+M65+M60+M55+M50+M45+M40+M35+M30+M25+M20+M15 -> 10993110 | N80: =N75+N70+N65+N60+N55+N50+N45+N40+N35+N30+N25+N20+N15 -> 40493 | O80: =O75+O70+O65+O60+O55+O50+O45+O40+O35+O30+O25+O20+O15 -> 11157069
A81: 70 | D81: módosítás- | I81: =I76+I71+I66+I61+I56+I51+I46+I41+I36+I31+I26+I21+I16 -> 0 | J81: =J76+J71+J66+J61+J56+J51+J46+J41+J36+J31+J26+J21+J16 -> 0 | K81: =K76+K71+K66+K61+K56+K51+K46+K41+K36+K31+K26+K21+K16 -> 676 | L81: =L76+L71+L66+L61+L56+L51+L46+L41+L36+L31+L26+L21+L16 -> 0 | M81: =M76+M71+M66+M61+M56+M51+M46+M41+M36+M31+M26+M21+M16 -> 602900 | N81: =N76+N71+N66+N61+N56+N51+N46+N41+N36+N31+N26+N21+N16 -> 0 | O81: =I81+J81+K81+L81+M81+N81 -> 603576
A82: 71 | D82: módosított előirányzat 3. | I82: =SUM(I80:I81) -> 0 | J82: =SUM(J80:J81) -> 0 | K82: =SUM(K80:K81) -> 124142 | L82: =SUM(L80:L81) -> 0 | M82: =SUM(M80:M81) -> 11596010 | N82: =SUM(N80:N81) -> 40493 | O82: =SUM(O80:O81) -> 11760645
B83: * Feladatellátás jellege:
B84: K= Magyarország helyi önkormányzatairól szóló 2011. évi CLXXXIX. törvény 13. § (1) bekezdése szerinti kötelező feladatok
B85: NK= Önkormányzat által önként vállalt feladatok
B86: **Az intézményeknél kimutatott adatokat is tartalmazza

Sheet 11.EKF
A1: 11. melléklet a 5/2020. (II.27.) önkormányzati rendelethez
A2: A rendelet 11. mellékletét módosította a 17/2020. (IV.30.) Ör. 11. melléklete
A3: A rendelet 11. mellékletét módosította a 26/2020. (VI.26.) Ör. 11. melléklete
A4: A rendelet 11. mellékletét módosította a 37/2020. (IX.24.) Ör. 11. melléklete
A5: Veszprém Megyei Jogú Város Önkormányzata
A6: Európa Kulturális Főváros 2020. évi költségvetési kiadásainak előirányzata
Q7: adatok eFt-ban
B8: A | C8: B | D8: C | E8: D | F8: E | G8: F | H8: G | I8: H | J8: I | K8: J | L8: K | M8: L | N8: M | O8: N | P8: O | Q8: P
B9: Cím | C9: Alcím | D9: Megnevezés | E9: Teljes költség* | F9: Teljesítés 2018. 12.31.-ig** | G9: 2019. évi tény* | H9: Feladatellátás jellege* | I9: 2020. évi előirányzat | Q9: 2020. év utáni javaslat
I10: Működési költségvetési kiadások | M10: Felhalmozási költségvetési kiadások | P10: Összesen
I11: Személyi juttatások | J11: Munk.a. terh. Jár. És szoc.hj.adó | K11: Dologi kiadások | L11: Egyéb működési célú kiadások | M11: Beruházási kiadások | N11: Felújítási kiadások | O11: Egyéb felhalmozási célú kiadások
A12: 1 | B12: 18 | C12: Veszprém Megyei Jogú Város Önkormányzata
A13: 2 | C13: 1 | D13: Európa Kulturális Fővárosa I. ütem | H13: NK
A14: 3 | D14: Működési kiadások
A15: 4 | D15: eredeti előirányzat | E15: =F15+G15+P18+2261 -> 335640 | G15: =50667+10996+4445+8177+635-1891 -> 73029 | I15: 1000 | J15: 500 | K15: =320196-4230-1500 -> 314466 | P15: =SUM(I15:O15) -> 315966
A16: 5 | D16: módosított előirányzat 2. | I16: 1000 | J16: 500 | K16: 303872 | P16: 305372
A17: 6 | D17: módosítás- | K17: -45022 | P17: =SUM(I17:O17) -> -45022
A18: 7 | D18: módosított előirányzat 3. | I18: =SUM(I16:I17) -> 1000 | J18: =SUM(J16:J17) -> 500 | K18: =SUM(K16:K17) -> 258850 | P18: =SUM(P16:P17) -> 260350
A19: 8 | D19: Felhalmozási kiadások
A20: 9 | D20: Dózsa György u. 2sz. Alatti épület felújítása (tervezés-előkészítés)
A21: 10 | D21: eredeti előirányzat | E21: =F21+G21+P24 -> 0 | N21: 68500 | P21: =SUM(I21:O21) -> 68500
A22: 11 | D22: módosított előirányzat 2. | N22: 0 | P22: =SUM(I22:O22) -> 0
A23: 12 | D23: módosítás- | P23: =SUM(I23:O23) -> 0
A24: 13 | D24: módosított előirányzat 3. | N24: =SUM(N22:N23) -> 0 | P24: =SUM(I24:O24) -> 0
A25: 14 | D25: Európa Kulturális Fővárosa beruházási feladatok (tervezés-előkészítés)
A26: 15 | D26: eredeti előirányzat | E26: =F26+G26+P29 -> 0 | M26: 38500 | P26: =SUM(I26:O26) -> 38500
A27: 16 | D27: módosított előirányzat 2. | M27: 0 | P27: =SUM(I27:O27) -> 0
A28: 17 | D28: módosítás- | P28: =SUM(I28:O28) -> 0
A29: 18 | D29: módosított előirányzat 3. | M29: =SUM(M27:M28) -> 0 | P29: =SUM(I29:O29) -> 0
A30: 19 | D30: Európa Kulturális Fővárosa I. ütem - nem elszámolható költségek
A31: 20 | D31: eredeti előirányzat | E31: =F31+G31+P34 -> 6121 | G31: 1891 | K31: 4230 | P31: =SUM(I31:O31) -> 4230
A32: 21 | D32: módosított előirányzat 2. | K32: 4230 | P32: =SUM(I32:O32) -> 4230
A33: 22 | D33: módosítás- | P33: =SUM(I33:O33) -> 0
A34: 23 | D34: módosított előirányzat 3. | K34: =SUM(K32:K33) -> 4230 | P34: =SUM(I34:O34) -> 4230
D35: SMART Veszprém alapinfrastruktúra I.
D36: módosítás- | M36: 45022 | P36: =SUM(I36:O36) -> 45022
D37: módosított előirányzat 3. | M37: =SUM(M36) -> 45022 | P37: =SUM(I37:O37) -> 45022
A38: 24 | D38: Kulturális negyed tervezése II. ütem - Pannon Egyetem Campus
A39: 25 | D39: módosított előirányzat 2. | E39: =F39+G39+P41 -> 86233 | M39: 86233 | P39: =SUM(I39:O39) -> 86233
A40: 26 | D40: módosítás- | P40: =SUM(I40:O40) -> 0
A41: 27 | D41: módosított előirányzat 3. | M41: =SUM(M39:M40) -> 86233 | P41: =SUM(I41:O41) -> 86233
A42: 28 | D42: Vár, Jókai utca 8.
A43: 29 | D43: módosított előirányzat 2. | E43: =F43+G43+P45 -> 4328 | M43: 4328 | P43: =SUM(I43:O43) -> 4328
A44: 30 | D44: módosítás- | P44: =SUM(I44:O44) -> 0
A45: 31 | D45: módosított előirányzat 3. | M45: =SUM(M43:M44) -> 4328 | P45: =SUM(I45:O45) -> 4328
A46: 32 | D46: Vár FutureLabs, Vár utca 17.
A47: 33 | D47: módosított előirányzat 2. | E47: =F47+G47+P49 -> 3021 | M47: 3021 | P47: =SUM(I47:O47) -> 3021
A48: 34 | D48: módosítás- átcsoportosítás | P48: =SUM(I48:O48) -> 0
A49: 35 | D49: módosított előirányzat 3. | M49: =SUM(M47:M48) -> 3021 | P49: =SUM(I49:O49) -> 3021
A50: 36 | D50: Vár, Óváros tér, Vár utca fejlesztései
A51: 37 | D51: módosított előirányzat 2. | E51: =F51+G51+P53 -> 1397 | M51: 1397 | P51: =SUM(I51:O51) -> 1397
A52: 38 | D52: módosítás- | P52: =SUM(I52:O52) -> 0
A53: 39 | D53: módosított előirányzat 3. | M53: =SUM(M51:M52) -> 1397 | P53: =SUM(I53:O53) -> 1397
A54: 40 | D54: Haszkovó lakótelep fejlesztései
A55: 41 | D55: módosított előirányzat 2. | E55: =F55+G55+P57 -> 7318 | M55: 7318 | P55: =SUM(I55:O55) -> 7318
A56: 42 | D56: módosítás- | P56: =SUM(I56:O56) -> 0
A57: 43 | D57: módosított előirányzat 3. | M57: =SUM(M55:M56) -> 7318 | P57: =SUM(I57:O57) -> 7318
A58: 44 | D58: SÉD-völgy Kolostorok és kertek I. ütem
A59: 45 | D59: módosított előirányzat 2. | E59: =F59+G59+P61 -> 1016 | M59: 1016 | P59: =SUM(I59:O59) -> 1016
A60: 46 | D60: módosítás- | P60: =SUM(I60:O60) -> 0
A61: 47 | D61: módosított előirányzat 3. | M61: =SUM(M59:M60) -> 1016 | P61: =SUM(I61:O61) -> 1016
A62: 48 | D62: Buszpályaudvar
A63: 49 | D63: módosított előirányzat 2. | E63: =F63+G63+P65 -> 1206 | M63: 1206 | P63: =SUM(I63:O63) -> 1206
A64: 50 | D64: módosítás- | P64: =SUM(I64:O64) -> 0
A65: 51 | D65: módosított előirányzat 3. | M65: =SUM(M63:M64) -> 1206 | P65: =SUM(I65:O65) -> 1206
A66: 52 | D66: Kossuth utca fejlesztései
A67: 53 | D67: módosított előirányzat 2. | E67: =F67+G67+P69 -> 502 | M67: 502 | P67: =SUM(I67:O67) -> 502
A68: 54 | D68: módosítás- | P68: =SUM(I68:O68) -> 0
A69: 55 | D69: módosított előirányzat 3. | M69: =SUM(M67:M68) -> 502 | P69: =SUM(I69:O69) -> 502
A70: 56 | D70: Átfogó infrastruktúra fejlesztés Megvalósíthatósági Tanulmány
A71: 57 | D71: módosított előirányzat 2. | E71: =F71+G71+P73 -> 12573 | M71: 12573 | P71: =SUM(I71:O71) -> 12573
A72: 58 | D72: módosítás- | P72: =SUM(I72:O72) -> 0
A73: 59 | D73: módosított előirányzat 3. | M73: =SUM(M71:M72) -> 12573 | P73: =SUM(I73:O73) -> 12573
A74: 60 | D74: I. ütem összesen | E74: =E31+E26+E21+E15+E39+E43+E47+E51+E55+E59+E63+E67+E71 -> 459355 | F74: =F31+F26+F21+F15+F14 -> 0 | G74: =G31+G26+G21+G15 -> 74920
A75: 61 | D75: eredeti előirányzat | I75: =I31+I26+I21+I15 -> 1000 | J75: =J31+J26+J21+J15 -> 500 | K75: =K31+K26+K21+K15 -> 318696 | L75: =L31+L26+L21+L15 -> 0 | M75: =M31+M26+M21+M15 -> 38500 | N75: =N31+N26+N21+N15 -> 68500 | O75: =O31+O26+O21+O15 -> 0 | P75: =P31+P26+P21+P15 -> 427196
A76: 62 | D76: módosított előirányzat 2. | I76: =I32+I27+I22+I16+I71+I67+I63+I59+I55+I51+I47+I43+I39 -> 1000 | J76: =J32+J27+J22+J16+J71+J67+J63+J59+J55+J51+J47+J43+J39 -> 500 | K76: =K32+K27+K22+K16+K71+K67+K63+K59+K55+K51+K47+K43+K39 -> 308102 | L76: =L32+L27+L22+L16+L71+L67+L63+L59+L55+L51+L47+L43+L39 -> 0 | M76: =M32+M27+M22+M16+M71+M67+M63+M59+M55+M51+M47+M43+M39 -> 117594 | N76: =N32+N27+N22+N16+N71+N67+N63+N59+N55+N51+N47+N43+N39 -> 0 | O76: =O32+O27+O22+O16+O71+O67+O63+O59+O55+O51+O47+O43+O39 -> 0 | P76: =SUM(I76:O76) -> 427196
A77: 63 | D77: módosítás- | I77: =I33+I28+I23+I17+I40+I44+I48+I72+I68+I64+I60+I56+I52+I36 -> 0 | J77: =J33+J28+J23+J17+J40+J44+J48+J72+J68+J64+J60+J56+J52+J36 -> 0 | K77: =K33+K28+K23+K17+K40+K44+K48+K72+K68+K64+K60+K56+K52+K36 -> -45022 | L77: =L33+L28+L23+L17+L40+L44+L48+L72+L68+L64+L60+L56+L52+L36 -> 0 | M77: =M33+M28+M23+M17+M40+M44+M48+M72+M68+M64+M60+M56+M52+M36 -> 45022 | N77: =N33+N28+N23+N17+N40+N44+N48+N72+N68+N64+N60+N56+N52+N36 -> 0 | O77: =O33+O28+O23+O17+O40+O44+O48+O72+O68+O64+O60+O56+O52+O36 -> 0 | P77: =SUM(I77:O77) -> 0
A78: 64 | D78: módosított előirányzat 3. | I78: =SUM(I76:I77) -> 1000 | J78: =SUM(J76:J77) -> 500 | K78: =SUM(K76:K77) -> 263080 | L78: =SUM(L76:L77) -> 0 | M78: =SUM(M76:M77) -> 162616 | N78: =SUM(N76:N77) -> 0 | O78: =SUM(O76:O77) -> 0 | P78: =SUM(P76:P77) -> 427196
A79: 65 | C79: 2 | D79: Európa Kulturális Fővárosa II. ütem | H79: NK
A80: 66 | D80: Működési kiadások | E80: =F80+G80+P84 -> 2450
A81: 67 | D81: eredeti előirányzat | K81: =197850-25400 -> 172450 | L81: 165075 | P81: =SUM(I81:O81) -> 337525
A82: 68 | D82: módosított előirányzat 2. | K82: 2450 | L82: 0 | P82: =SUM(I82:O82) -> 2450
A83: 69 | D83: módosítás- | P83: =SUM(I83:O83) -> 0
A84: 70 | D84: módosított előirányzat 3. | K84: =SUM(K82:K83) -> 2450 | L84: =SUM(L82:L83) -> 0 | P84: =SUM(P82:P83) -> 2450
A85: 71 | D85: Vár u. 10. volt piarista gimnázium | E85: =F85+G85+P88 -> 10160
A86: 72 | D86: módosított előirányzat 2. | N86: 10160 | P86: =SUM(P84:P85) -> 2450
A87: 73 | D87: módosítás- | P87: =SUM(I87:O87) -> 0
A88: 74 | D88: módosított előirányzat 3. | N88: =SUM(N86:N87) -> 10160 | P88: =SUM(I88:O88) -> 10160
A89: 75 | D89: Jókai utca 8. | E89: =F89+G89+P92 -> 37846
A90: 76 | D90: módosított előirányzat 2. | N90: 37846 | P90: =SUM(P87:P89) -> 10160
A91: 77 | D91: módosítás- | P91: =SUM(I91:O91) -> 0
A92: 78 | D92: módosított előirányzat 3. | N92: =SUM(N90:N91) -> 37846 | P92: =SUM(I92:O92) -> 37846
A93: 79 | D93: Acticity - Hóvirág u. 1. | E93: =F93+G93+P96 -> 85090
A94: 80 | D94: módosított előirányzat 2. | N94: 85090 | P94: =SUM(P91:P93) -> 37846
A95: 81 | D95: módosítás- | P95: =SUM(I95:O95) -> 0
A96: 82 | D96: módosított előirányzat 3. | N96: =SUM(N94:N95) -> 85090 | P96: =SUM(I96:O96) -> 85090
A97: 83 | D97: Haszkovó lakótelep újjáélesztése | E97: =F97+G97+P100 -> 25860
A98: 84 | D98: módosított előirányzat 2. | N98: 25860 | P98: =SUM(P95:P97) -> 85090
A99: 85 | D99: módosítás- | P99: =SUM(I99:O99) -> 0
A100: 86 | D100: módosított előirányzat 3. | N100: =SUM(N98:N99) -> 25860 | P100: =SUM(I100:O100) -> 25860
...

Sheet 12.Mérleg
B1: 12. melléklet a 5/2020. (II.27.) önkormányzati rendelethez
B2: A rendelet 12. mellékletét módosította a 17/2020. (IV.30.) Ör. 12. melléklete
B3: A rendelet 12. mellékletét módosította a 26/2020. (VI.26.) Ör. 12. melléklete
B4: A rendelet 12 mellékletét módosította a 37/2020. (IX.24.) Ör. 12. melléklete
B5: VESZPRÉM MEGYEI JOGÚ VÁROS ÖNKORMÁNYZATÁNAK MŰKÖDÉSI ÉS FELHALMOZÁSI
B6: KÖLTSÉGVETÉSI BEVÉTELEI ÉS KIADÁSAI 2020. ÉVBEN
I7: adatok eFt-ban
B8: A | C8: B | D8: C | E8: D | F8: E | G8: F | H8: G | I8: H
A9: 1 | C9: MŰKÖDÉSI KÖLTSÉGVETÉSI BEVÉTELEK | D9: 2020. évi eredeti előirányzat | E9: 2020. évi módosított előirányzat 3. | G9: MŰKÖDÉSI KÖLTSÉGVETÉSI KIADÁSOK | H9: 2020. évi eredeti előirányzat | I9: 2020. évi módosított előirányzat 3.
A10: 2 | B10: 1. | C10: Működési célú támogatások államháztartáson belülről | D10: 4640257 | E10: 4619469 | F10: 1. | G10: Személyi juttatások | H10: 4606337 | I10: 4855152
A11: 3 | B11: 2. | C11: Közhatalmi bevételek | D11: 7945120 | E11: 7280120 | F11: 2. | G11: Munkaadókat terhelő járulékok és szociális hozzájárulási adó | H11: 881200 | I11: 948750
A12: 4 | B12: 3. | C12: Működési bevételek | D12: 2529882 | E12: 2013815 | F12: 3. | G12: Dologi kiadások | H12: 5506893 | I12: 5669246
A13: 5 | B13: 4. | C13: Működési célú átvett pénzeszközök | D13: 0 | E13: 11626 | F13: 4. | G13: Ellátottak pénzbeli juttatásai | H13: 23248 | I13: 32198
A14: 6 | F14: 5. | G14: Egyéb működési célú kiadások (tartalékok nélkül) | H14: 3609806 | I14: 3471974
A15: 7 | F15: 6. | G15: Működési célú tartalékok | H15: 313087 | I15: 141584
A16: 8 | C16: Működési költségvetési bevételek összesen | D16: 15115259 | E16: 13925030 | G16: Működési költségvetési kiadások összesen | H16: 14940571 | I16: 15118904
A17: 9 | C17: FELHALMOZÁSI KÖLTSÉGVETÉSI BEVÉTELEK | G17: FELHALMOZÁSI KÖLTSÉGVETÉSI KIADÁSOK
A18: 10 | B18: 1. | C18: Felhalmozási célú támogatások államháztartáson belülről | D18: 8166069 | E18: 10222545 | F18: 1. | G18: Beruházási kiadások | H18: 21289183 | I18: 21539291
A19: 11 | B19: 2. | C19: Felhalmozási bevételek | D19: 197543 | E19: 194400 | F19: 2. | G19: Egyéb felhalmozási célú kiadások | H19: 549493 | I19: 2072229
A20: 12 | B20: 3. | C20: Felhalmozási célú átvett pénzeszközök | D20: 0 | E20: 0 | F20: 3. | G20: Felújítási kiadások | H20: 388439 | I20: 373230
A21: 13 | F21: 4. | G21: Felhalmozási célú tartalékok | H21: 384588 | I21: 493588
A22: 14 | C22: Felhalmozási költségvetési bevételek összesen | D22: 8363612 | E22: 10416945 | G22: Felhalmozási költségvetési kiadások összesen | H22: 22611703 | I22: 24478338
A23: 15 | C23: Költségvetési bevételek összesen | D23: 23478871 | E23: 24341975 | G23: Költségvetési kiadások összesen | H23: 37552274 | I23: 39597242
A24: 16 | C24: MŰKÖDÉSI FINANSZÍROZÁSI BEVÉTELEK | G24: MŰKÖDÉSI FINANSZÍROZÁSI KIADÁSOK
A25: 17 | B25: 1. | C25: Rövid lejáratú hitel felvétele | F25: 1. | G25: Rövid lejáratú hitel tőkeösszegének törlesztése
A26: 18 | B26: 2. | C26: Költségvetési maradvány | D26: 1081085 | E26: 2384006 | F26: 2. | G26: Államháztartáson belüli megelőlegezések visszafizetése | H26: 111267 | I26: 111267
A27: 19 | B27: 3. | C27: Államháztartáson belüli megelőlegezések | D27: 0 | E27: 0
A28: 20 | C28: FELHALMOZÁSI FINANSZÍROZÁSI BEVÉTELEK | G28: FELHALMOZÁSI FINANSZÍROZÁSI KIADÁSOK
A29: 21 | B29: 4. | C29: Hosszú lejáratú hitel felvétele | D29: 1409800 | E29: 1260000 | F29: 3. | G29: Hosszú lejáratú hitel tőkeösszegének törlesztése | H29: 108504 | I29: 108504
A30: 22 | B30: 5. | C30: Rövid lejáratú hitel felvétele | F30: 4. | G30: Rövid lejáratú hitel tőkeösszegének törlesztése
A31: 23 | B31: 6. | C31: Költségvetési maradvány | D31: 11802289 | E31: 11831032
A32: 24 | C32: Finanszírozási bevételek összesen | D32: 14293174 | E32: 15475038 | G32: Finanszírozási kiadások összesen | H32: 219771 | I32: 219771
A33: 25 | C33: ÖSSZES BEVÉTEL | D33: 37772045 | E33: 39817013 | G33: ÖSSZES KIADÁS | H33: 37772045 | I33: 39817013
A34: 26 | C34: Költségvetési egyenleg összege | D34: -14073403 | E34: -15255267
A35: 27 | C35: ebből működési: | D35: 174688 | E35: -1193874
A36: 28 | C36: ebből felhalmozási: | D36: -14248091 | E36: -14061393
A37: 29 | C37: Finanszírozási kiadásokkal korrigált hiány összege | D37: -14293174 | E37: -15475038
A38: 30 | C38: Hiány finanszírozása belső finanszírozásra szolgáló költségvetési bevétel összegével | D38: 12883374 | E38: 14215038
A39: 31 | C39: Hiány finanszírozása külső finanszírozásra szolgáló költségvetési bevétel összegével | D39: 1409800 | E39: 1260000
A40: 32 | C40: Működési bevételek aránya %-ban | D40: 0.42879182 | E40: 0.40959969 | G40: Működési kiadások aránya %-ban | H40: 0.39849148 | I40: 0.38250411
A41: 33 | C41: Felhalmozási bevételek aránya %-ban | D41: 0.57120818 | E41: 0.59040031 | G41: Felhalmozási kiadások aránya %-ban | H41: 0.60150852 | I41: 0.61749589

Sheet 13.Létszám
B1: 13. melléklet a 5/2020. (II.27.) önkormányzati rendelethez
B2: A rendelet 13. mellékletét módosította a 17/2020. (IV.30.) Ör. 13. melléklete
B3: A rendelet 13. mellékletét módosította a 26/2020. (VI.26.) Ör. 13. melléklete
C4: KIMUTATÁS
B5: a 2020. évi engedélyezett létszámról
B6: A | C6: B | D6: C | E6: D | F6: E | G6: F
B7: Cím | C7: Megnevezés | D7: 2020. évi engedélyezett létszám | E7: Módosítás | F7: 2020. évi engedélyezett létszám | G7: Megjegyzés
A8: 1 | B8: 1 | C8: Veszprémi Vadvirág Körzeti Óvoda | D8: 38 | F8: =SUM(D8:E8) -> 38
A9: 2 | B9: 2 | C9: Veszprémi Bóbita Körzeti Óvoda | D9: 70 | F9: =SUM(D9:E9) -> 70
A10: 3 | B10: 3 | C10: Veszprémi Ringató Körzeti Óvoda | D10: 83.5 | F10: =SUM(D10:E10) -> 83.5
A11: 4 | B11: 4 | C11: Veszprémi Egry úti Körzeti Óvoda | D11: 60 | F11: =SUM(D11:E11) -> 60
A12: 5 | B12: 5 | C12: Veszprémi Csillag úti Körzeti Óvoda | D12: 61.5 | F12: =SUM(D12:E12) -> 61.5
A13: 6 | B13: 6 | C13: Veszprémi Kastélykert Körzeti Óvoda | D13: 36 | F13: =SUM(D13:E13) -> 36
A14: 7 | C14: Közfoglalkoztatottak létszáma | D14: 2 | F14: =SUM(D14:E14) -> 2
A15: 8 | B15: 7 | C15: Veszprémi Bölcsődei és Egészségügyi Alapellátási Integrált Intézmény | D15: 200 | F15: =SUM(D15:E15) -> 200
A16: 9 | B16: 8 | C16: Göllesz Viktor Fogyatékos Személyek Nappali Intézménye | D16: 13.25 | F16: =SUM(D16:E16) -> 13.25
A17: 10 | B17: 9 | C17: Veszprémi Családsegítő és Gyermekjóléti Integrált Intézmény | D17: 63 | F17: =SUM(D17:E17) -> 63
A18: 11 | C18: Közfoglalkoztatottak létszáma | D18: 0 | F18: =SUM(D18:E18) -> 0
A19: 12 | B19: 10 | C19: Agóra Veszprém Kulturális Központ | D19: 24.25 | F19: =SUM(D19:E19) -> 24.25
A20: 13 | B20: 11 | C20: Művészetek Háza Veszprém Művelődési Ház és Kiállítóhely | D20: 22 | F20: =SUM(D20:E20) -> 22
A21: 14 | B21: 12 | C21: Eötvös Károly Megyei Könyvtár | D21: 51.5 | F21: =SUM(D21:E21) -> 51.5
A22: 15 | B22: 13 | C22: Laczkó Dezső Múzeum | D22: 53 | F22: =SUM(D22:E22) -> 53
A23: 16 | C23: határozott idejű foglalkozatottak létszáma (2020. március 1 - 2021. december 31) | D23: 6 | F23: =SUM(D23:E23) -> 6
A24: 17 | B24: 14 | C24: Kabóca Bábszínház | D24: 22 | F24: =SUM(D24:E24) -> 22
A25: 18 | C25: Közfoglalkoztatottak létszáma | D25: 1 | F25: =SUM(D25:E25) -> 1
A26: 19 | B26: 15 | C26: Veszprémi Petőfi Színház | D26: 102 | F26: =SUM(D26:E26) -> 102
A27: 20 | B27: 16 | C27: Veszprémi Intézményi Szolgáltató Szervezet | D27: 53.25 | F27: =SUM(D27:E27) -> 53.25
A28: 21 | C28: Intézmények összesen: | D28: =SUM(D8:D27) -> 962.25 | E28: =SUM(E8:E27) -> 0 | F28: =SUM(F8:F27) -> 962.25
A29: 22 | B29: 17 | C29: VMJV Polgármesteri Hivatal | D29: 200 | F29: =SUM(D29:E29) -> 200
A30: 23 | B30: 18 | C30: VMJV Önkormányzata | F30: =SUM(D30:E30) -> 0
A31: 24 | C31: Polgármester, Alpolgármesterek | D31: 3 | F31: =SUM(D31:E31) -> 3
A32: 25 | C32: Közfoglalkoztatottak és diákmunkások létszáma | D32: 9.88 | F32: =SUM(D32:E32) -> 9.88
A33: 26 | C33: MINDÖSSZESEN: | D33: =SUM(D28:D32) -> 1175.13 | E33: =SUM(E28:E32) -> 0 | F33: =SUM(F28:F32) -> 1175.13
A34: 27 | C34: ebből:
A35: 28 | C35: Közfoglalkoztatottak és diákmunkások létszáma | D35: =SUM(D14,D18,D25,D32) -> 12.88 | E35: =SUM(E14,E18,E25,E32) -> 0 | F35: =SUM(F14,F18,F25,F32) -> 12.88

Sheet 14. Többéves
B1: 14. melléklet a 5/2020. (II.27.) önkormányzati rendelethez
A3: Több éves kihatással járó döntések számszerűsítése éves bontásban
A4: tájékoztató jelleggel az Áht. 24.§ (4) bekezdés b) pontja alapján
F5: adatok eFt-ban
B6: A | C6: B | D6: C | E6: D | F6: E | G6: D
A7: Sorszám | B7: Megnevezés | C7: 2020. év | D7: 2021. év | E7: 2022. év | F7: 2023. év | G7: 2023. évi előirányzat
A9: 1 | B9: Játszóeszközök kopásból, elhasználódásból adódó karbantartása, felújítása | C9: 5000
A10: 2 | B10: TOP-6.6.1-16-VP1-2018-00005 Ördögárok u. 5. szám alatti orvosi rendelő megújítása (saját forrás) | C10: 37058
A11: 3 | B11: TOP-6.6.1-16-VP1-2018-00004 Vilonyai utca 2/B szám alatti orvosi rendelő megújítása (saját forrás) | C11: 7068
A12: 4 | B12: TOP-6.2.1-16-VP1-2018-00002 Egry úti óvoda újjáépítése (saját forrás) | C12: 186554
A13: 5 | B13: TOP-6.5.1-16-VP1-2018-00002 Völgyikút utca 2. szám alatti épület energetikai megújítása (saját forrás) | C13: 34933
A14: 6 | B14: TOP-6.5.1-16-VP1-2018-00004 Aprófalvi bölcsőde energetikai korszerűsítése (saját forrás) | C14: 52777
A15: 7 | B15: TOP-6.5.1-16-VP1-2018-00006 Módszertani bölcsőde energetikai megújítása (saját forrás) | C15: 29875
A16: 8 | B16: TOP-6.2.1-16-VP1-2018-00001 A Veszprémi Bölcsődei és Egészségügyi Alapellátási Integrált Intézmény Módszertani Bölcsődéje megújítása, illetve bölcsődei eszközbeszerzések (saját forrás) | C16: 760
A17: 9 | B17: a TOP-6.1.5-16-VP1-2017-00001 Északi Iparterület Közlekedés-fejlesztése elnevezésű projekthez szükséges kiegészítő pénzügyi forrással kapcsolatos pénzügyi kötelezettségvállalás (saját forrás) | C17: 294000
A18: 10 | B18: Döntés pályázat benyújtásáról az "Urban Innovative Actions" elnevezésű Európai Uniós közösségi kezdeményezés pályázati felhívására | C18: 13000 | D18: 13000 | E18: 13000
A19: 11 | B19: Döntés a helyi közösségi közlekedés biztosításához kapcsolódó autóbuszbeszerzési szerződés és előzetes kötelelezettségvállalás jóváhagyásáról | C19: 480000
A20: 12 | B20: Pályázat benyújtása az Magyar Labdarúgó Szövetség TAO pályaépítési programjához (saját forrás) | C20: =7620/2 -> 3810
A21: Beruházás / felújítás / projekt kötelezettségvállalások összesen | C21: =SUM(C9:C19) -> 1141025 | D21: =SUM(D9:D19) -> 13000 | E21: =SUM(E9:E19) -> 13000 | F21: =SUM(F9:F19) -> 0
A22: 13 | B22: Rekultivációt megelőző telephely fenntartási költség | C22: 17000
A23: 14 | B23: Döntés az "ELENA" elnevezésű projektfejlesztési támogatásra benyújtott Európai Uniós pályázat konzorciumi szerződés módosítás tárgyában | C23: =6000+3000+3000 -> 12000 | D23: =6000+3000+3000 -> 12000
A24: 15 | B24: Kittenberger K. Növény és Vadaspark Kht. működéséhez hozzájárulás | C24: 103000 | D24: 103000 | E24: 103000 | F24: 103000
A25: 16 | B25: Veszprém TV közszolgálati műsorok támogatása | C25: 29500 | D25: 29500 | E25: 29500 | F25: 29500
A26: 17 | B26: Swing-Swing Kft. törzstőke emelés, tőketartalékba helyezés (Hangvilla üzletrész vásárlás) | C26: 120000 | D26: 120000
A27: 18 | B27: Swing-Swing Kft. üzletrész vásárlás | C27: 50326 | D27: 50348
A28: 19 | B28: Swing-Swing Kft. (Hangvilla) szolgáltatási szerződés | C28: 38100 | D28: 38100 | G28: 38324
A29: 20 | B29: V-Busz Kft. Szolgáltatás vásárlás | C29: 881516 | D29: 881516 | E29: 881516 | F29: 881516
A30: 21 | B30: V-Busz Kft. 2019. évi ellentételezés | C30: 153947
A31: 22 | B31: Az ÉNYKK Északnyugat-magyarországi Közlekedési Központ Zrt. által 2018. évben ellátott helyi menetrend szerinti közösségi közlekedés közszolgáltatás ellentételezése | C31: =100000-29240 -> 70760 | G31: 38100
B32: VKSZ Zrt. által ellátott városüzemeltetési feladatok közszolgáltatási keretmegállapodás alapján:
A33: 23 | B33: Parkfenntartás | C33: 277100 | D33: 277100 | E33: 277100 | F33: 277100
A34: 24 | B34: Köztisztasági feladatok | C34: 259250 | D34: 259250 | E34: 259250 | F34: 259250
A35: 25 | B35: Egyéb városüzemeltetési feladatok | C35: 45900 | D35: 45900 | E35: 45900 | F35: 45900 | G35: 270000
A36: 26 | B36: Temetők üzemeltetésével kapcsolatos feladatok | C36: 36550 | D36: 36550 | E36: 36550 | F36: 36550 | G36: 288725
A37: 27 | B37: Intézményi karbantartási költségek | C37: 42500 | D37: 42500 | E37: 42500 | F37: 42500 | G37: 21000
A38: 28 | B38: Intézményi működtetők költsége | C38: 169738 | D38: 169738 | E38: 169738 | F38: 169738 | G38: 186000
A39: 29 | B39: Intézményi közüzemi költségek | C39: 130000 | D39: 130000 | E39: 130000 | F39: 130000 | G39: 180000
A40: 30 | B40: Villamos energia beszerzés (Intézmények) | C40: 150000 | D40: 150000 | G40: 20000
A41: 31 | B41: Villamos energia beszerzés (Közvilágítás célú) | C41: 120000 | D41: 120000
A42: 32 | B42: Földgáz energia beszerzés | C42: 105000 | D42: 70000
A43: 33 | B43: Nagyfelületű út- és járdafelújítások | C43: 100000
A44: 34 | B44: Veszprém Stromfeld A. u. 9/E. szám alatti ingatlanrész rendőrségi körzeti megbízotti iroda működtetése céljára | C44: 239 | D44: 239 | E44: 239 | F44: 239
A45: 35 | B45: Sport marketing tárgyú több éves szolgáltatásvásárlási szerződés megkötése érdekében pénzügyi kötelezettségvállalás | C45: 140000 | D45: 140000 | G45: 239
A46: 36 | B46: Veszprém Egyetemi és Diák Atlétikai Club | C46: 25000 | D46: 25000 | E46: 25000 | F46: 25000
A47: 37 | B47: Veszprém Kosárlabda Korlátolt Felelősségű Társasággal együttműködési megállapodás (Veszprémi Egyetemi SC kosárlabda szakosztály) | C47: 25000 | G47: 25000
A48: 38 | B48: Veszprémi Foci Centrum Utánpótlás SE | C48: 17000 | D48: 17000 | E48: 17000
A49: 39 | B49: Futsal Club Veszprém | C49: 30000
A50: 40 | B50: Veszprémi Labdarúgó és Sportszervező Korlátolt Felelősségű Társaság támogatása | C50: =40000+40000 -> 80000 | D50: =40000+40000 -> 80000
A51: 41 | B51: Veszprém Fiatal Sportolóiért Közhasznú Alapítvány támogatása élsport, versenysport és utánpótlás nevelési feladatokhoz kapcsolódóan | C51: 25000 | D51: 25000 | E51: 25000 | F51: 25000
A52: 42 | B52: A Magyar Kézilabda Szövetség Országos Tornaterem Felújítási Programjához kapcsolódó támogatási igény benyújtása és előzetes kötelezettségvállalás a veszprémi stadion területén található sportcsarnok belső felújítása érdekében | C52: 24000
A53: 43 | B53: Jutasi úti műfüves sportpálya fenntartása és működtetése | C53: 22000
A54: 44 | B54: Stadion üzemeltetése | C54: =46997-32000 -> 14997 | D54: =46997-32000 -> 14997 | E54: =46997-32000 -> 14997 | F54: =46997-32000 -> 14997
A55: 45 | B55: Signator Audit Könyvvizsgáló Kft-vel kötött megbízási szerződés könyvvizsgálói feladatok ellátására | C55: =800*1.27 -> 1016 | G55: 3840
A56: 46 | B56: Foglalkozás egészségügyi szolgáltatás ellátásával kapcsolatos pénzügyi kötelezettségvállalás | C56: 917 | G56: 4000
A57: 47 | B57: VMJV Önkormányzatánál, költségvetési szerveinél, valamint a Veszprémi Kistérség Többcélú Társulása Egyesített Szociális Intézménynél foglalkozás-egészségügyi szolgáltatás ellátásával kapcsolatos pénzügyi kötelezettségvállalás | C57: 4583 | D57: 5500 | E57: 917 | G57: 300
A58: 48 | B58: Fogorvosok működési hozzájárulás | C58: 3264 | D58: 3264 | E58: 3264 | F58: 3264 | G58: 127
A59: 49 | B59: Fogorvosi körzet pályázati alap | C59: 3400 | D59: 3400 | E59: 3400 | F59: 3400 | G59: 1200
A60: 50 | B60: Cuha Völgye Egyesületi tagdíj (5 Ft/lakos) | C60: 300 | D60: 300 | E60: 300 | F60: 300 | G60: 300
A61: 51 | B61: ÖKOpolisz Klaszter tagdíj | C61: 127 | D61: 127 | E61: 127 | F61: 127 | G61: 120
A62: 52 | B62: A Települési Önkormányzatok Országos Szövetségéhez történő csatlakozás | C62: 1200 | D62: 1200 | E62: 1200 | F62: 1200 | G62: 1700
A63: 53 | B63: A Klímabarát Települések Szövetségéhez történő csatlakozás | C63: 300 | D63: 300 | E63: 300 | F63: 300 | G63: 600
A64: 54 | B64: Balatoni Szövetség | C64: 120 | D64: 120 | E64: 120 | F64: 120 | G64: 12000
A65: 55 | B65: Megyei Jogú Városok Szövetsége tagdíj | C65: 1700 | D65: 1700 | E65: 1700 | F65: 1700 | G65: 356958
A66: 56 | B66: Szenvedélybetegek ellátásának működési kiadásaihoz támogatás (Alkohol-Drogsegély Ambulancia - ellátási szerződés) | C66: 10200 | D66: 10200 | E66: 10200 | F66: 10200 | G66: 38148
A67: 57 | B67: Veszprémi Kistérségi Társulásnak pénzeszköz átadás (Egyesített Szoc.Int.) | C67: 143385 | D67: 143385 | E67: 143385 | F67: 143385
A68: 58 | B68: Máltai Szeretetszolgálat (ellátási szerződés) | C68: 60000 | D68: 60000 | E68: 60000 | F68: 60000 | G68: 95000
A69: 59 | B69: Polgármesteri Hivatal használatában lévő nyomatkészítő eszközök tartós üzemeltetése | C69: =7400*1.27 -> 9398 | G69: 5600
A70: 60 | B70: Megállapodás megkötése üzemidő hasznosítás tárgyában a Veszprémi Programiroda Rendezvényszervező és Kulturális Szolgáltató Kft-vel | C70: 34150
A71: 61 | B71: Kolostorok és Kertek működtetése | C71: 57501 | D71: 57501 | E71: 57501 | F71: 57501
A72: 62 | B72: Az Önkormányzat vagyonbiztosításával kapcsolatos pénzügyi kötelezettségvállalás | C72: 8800 | G72: 53800
A73: 63 | B73: Városi lap kiadásai | C73: =30000*1.27 -> 38100 | D73: =30000*1.27 -> 38100 | E73: =30000*1.27 -> 38100 | F73: =30000*1.27 -> 38100 | G73: 72000
A74: 64 | B74: Kitüntetések | C74: 9601 | D74: 9601 | E74: 9601 | F74: 9601
A75: 65 | B75: Polgármesteri Hivatal épületeinek takarítási feladatainak ellátása | C75: =14980*1.27 -> 19024.6 | G75: =30000*1.27 -> 38100
A76: 66 | B76: Polgármesteri Hivatal „Őrzés-védelmi és portaszolgálat feladatainak” ellátása 2 évre | C76: =6700*1.27 -> 8509 | D76: =6700*1.27 -> 8509 | G76: 9653
A77: 67 | B77: Központi orvosi ügyelet külső szolgáltatóval történő működtetése, az alapellátási központi orvosi ügyelet további működtetése | C77: 80578
A78: 68 | B78: Egészségügyi feladatok ellátása - Veszprémi Csolnoky Ferenc Kórházzal kötött használati szerződés | C78: 5100 | D78: 5100 | E78: 5100 | F78: 5100
A79: 69 | B79: Munka- és tűzvédelmi feladatok; 2019.01.01-2020.02.29. és 2020.03.01-2022.02.28. | C79: 5200 | D79: 5200 | G79: 6000
A80: 70 | B80: Német Nemzetiségi Önk. helyiségének bérleti díja | C80: =15*12 -> 180 | D80: =15*12 -> 180 | E80: =15*12 -> 180 | F80: 180
A81: 71 | B81: A diákétkeztetésre vonatkozó szolgáltatási díj emelése | C81: 417000
A82: 72 | B82: a Veszprémi Intézményi Szolgáltató Szervezet diákétkeztetési közfeladatainak ellátásához szükséges étkezési nyilvántartó program beszerzésével kapcsolatos pénzügyi kötelezettségvállalás | C82: =1224*1.27 -> 1554.48 | G82: =15*12 -> 180
A83: 73 | B83: Veszprémi óvodák gyermekétkeztetési közfeladat ellátása érdekében élelmezési nyilvántartó program beszerzéséhez szükséges pénzügyi kötelezettségvállalás | C83: 2896
A84: 74 | B84: Veszprémi óvodák gyermekétkeztetési közfeladat ellátása érdekében vásárolt élelmezés beszerzéséhez szükséges pénzügyi kötelezettségvállalások | C84: 94299
A85: Önkormányzati kiadások összesen: | C85: =SUM(C22:C84) -> 4337826.1 | D85: =SUM(D22:D84) -> 3191425 | E85: =SUM(E22:E84) -> 2392685 | F85: =SUM(F22:F84) -> 2374768 | G85: =SUM(G28:G84) -> 1767014
A86: MINDÖSSZESEN: | C86: =SUM(C85,C21) -> 5478851.1 | D86: =SUM(D85,D21) -> 3204425 | E86: =SUM(E85,E21) -> 2405685 | F86: =SUM(F85,F21) -> 2374768 | G86: =SUM(G85,#REF!) -> #REF!

Sheet 15.Hitel
B1: 15. melléklet a 5/2020. (II.27.) önkormányzati rendelethez
B2: KIMUTATÁS
B3: Veszprém Megyei Jogú Város Önkormányzata
B4: hiteltörlesztésének, hitelállományának és egyéb kötelezettségeinek alakulásáról
T5: adatok eFt-ban
B6: A | D6: B | E6: C | F6: D | G6: E | H6: F | I6: G | J6: H | K6: I | L6: J | M6: K | N6: L | O6: M | P6: N | Q6: O | R6: P | S6: Q | T6: R | U6: S
B7: Hitel megnevezése | D7: Hitelt nyújtó pénzintézet | E7: Hitelszerződés dátuma | F7: Lejárat idő- pontja | G7: Hitelkeret | H7: Hitel-állomány 2019.12.31 | I7: Hitelfelvétel 2019. (előző évek hitelszerződésén alapuló) | J7: Hitelfelvétel 2019-es | K7: Hitelfelvétel 2020-as | L7: Tőke-törlesztés 2020 | M7: Hitel-állomány 2020.12.31 | N7: Kamat 2020 | O7: Tőke-törlesztés 2021 | P7: Tőke-törlesztés 2022 | Q7: Tőke-törlesztés 2023 | R7: Tőke-törlesztés 2024-tól | S7: Kamat 2021 | T7: Kamat 2022 | U7: Kamat 2023
A8: 1 | B8: 1. | C8: Rövid lejáratú hitel (1500M Ft) | D8: OTP Bank | E8: 2020.06.01 | F8: 44104 | G8: 1500000 | H8: 0 | J8: 0 | K8: 0 | L8: 0 | M8: =H8+J8-L8+I8 -> 0 | N8: =4000+10000 -> 14000 | O8: 0
A9: 2 | B9: 2. | C9: Beruházási hitel - SMO 2011. | D9: UniCredit Bank | E9: 40736 | F9: 48040 | G9: 484000 | H9: 39625 | J9: 0 | K9: 0 | L9: 12340 | M9: =H9+J9-L9+I9 -> 27285 | N9: 818 | O9: 12341 | P9: 12340 | Q9: 2604 | R9: =M9-O9-P9-Q9 -> 0 | S9: 530 | T9: 241 | U9: 15
A10: 3 | B10: 3. | C10: Beruházási hitel - Célhitel 2013. | D10: UniCredit Bank | E10: 41502 | F10: 45153 | G10: 650000 | H10: 46681 | J10: 0 | K10: 0 | L10: 46681 | M10: =H10+J10-L10+I10 -> 0 | N10: 686 | O10: 0 | P10: 0 | S10: 0 | T10: 0
A11: 4 | B11: 4. | C11: Beruházási hitel - MFB 2013. | D11: Takarékbank | E11: 41555 | F11: 48859 | G11: 200000 | H11: 112411 | J11: 0 | K11: 0 | L11: 8918 | M11: =H11+J11-L11+I11 -> 103493 | N11: 3406 | O11: 8918 | P11: 8918 | Q11: 8918 | R11: =M11-O11-P11-Q11 -> 76739 | S11: 3128 | T11: 2829 | U11: 2571
A12: 5 | B12: 5. | C12: Beruházási hitel - MFB 2014 | D12: UniCredit Bank | E12: 41759 | F12: 49064 | G12: 200000 | H12: 128840 | J12: 0 | K12: 0 | L12: 8886 | M12: =H12+J12-L12+I12 -> 119954 | N12: 2869 | O12: 8886 | P12: 8886 | Q12: 8886 | R12: =M12-P12-Q12-O12 -> 93296 | S12: 2666 | T12: 2463 | U12: 2260
A13: 6 | B13: 6. | C13: Beruházási hitel - Célhitel 2014 | D13: OTP Bank | E13: 41759 | F13: 45285 | G13: 151317 | H13: 77521 | J13: 0 | K13: 0 | L13: 19679 | M13: =H13+J13-L13+I13 -> 57842 | N13: 1192 | O13: 19679 | P13: 19678 | Q13: 18485 | R13: =M13-P13-Q13-O13 -> 0 | S13: 858 | T13: 523 | U13: 187
A14: 7 | B14: 7. | C14: Fejlesztési hitel - Célhitel 2017 | D14: OTP Bank | E14: 42943 | F14: 46568 | G14: 99000 | H14: 93000 | J14: 0 | K14: 0 | L14: 12000 | M14: =H14+J14-L14+I14 -> 81000 | N14: 1336 | O14: 12000 | P14: 12000 | Q14: 12000 | R14: =M14-P14-Q14-O14 -> 45000 | S14: 1155 | T14: 974 | U14: 793
A15: 8 | B15: 8. | C15: Fejlesztési hitel - Célhitel 2019 | D15: OTP Bank | E15: 43641 | F15: 47299 | G15: 1260000 | H15: 0 | J15: 629000 | K15: 631000 | L15: 0 | M15: =H15+J15-L15+I15+K15 -> 1260000 | N15: 13999 | O15: 76364 | P15: 152727 | Q15: 152727 | R15: =M15-P15-Q15-O15 -> 878182 | S15: 15881 | T15: 13305 | U15: 12365
A16: 9
A17: 10 | B17: I. | C17: Pénzintézetekkel szemben fenálló kötelezettségek összesen | H17: =SUM(H8:H16) -> 498078 | I17: =SUM(I8:I16) -> 0 | J17: =SUM(J8:J16) -> 629000 | K17: =SUM(K8:K16) -> 631000 | L17: =SUM(L8:L16) -> 108504 | M17: =SUM(M8:M16) -> 1649574 | N17: =SUM(N8:N16) -> 38306 | O17: =SUM(O8:O16) -> 138188 | ... U17: =SUM(U8:U16) -> 18191

Sheet 15.A Beruh.hitel
B1: 15.A. melléklet a 5/2020 (II.27.) önkormányzati rendelethez
B3: Veszprém Megyei Jogú Város Önkormányzatának 2019. évi
B4: hitelszerződésen alapuló 2019. és 2020. évre vonatkozó beruházási hitelfelvétele feladatonként *
F6: adatok eFt-ban
B7: A | E7: B | F7: C
A8: 1 | B8: Adósságot Keletkeztető Ügyletek fejlesztési célok szerinti besorolása | E8: Hitel összege 2019 | F8: Hitel összege 2020
A9: 2 | B9: 1 | C9: Környezetvédelemhez és természeti katasztrófák elhárításához kapcsolódó beruházási célok (szennyvízelvezetés és szennyvíztisztítás, csapadékvíz-elvezetés, hulladékkezelés, árvíz/belvíz elleni védekezés stb.) | E9: 50000
D10: Vízrendezési feladatok, árkok felújítása
A11: 3 | B11: 2 | C11: Közoktatási célú beruházási célok (óvodák, iskolák, tornaterem, tanuszoda, egyéb köznevelési intézmények építése, felújítása stb.) | E11: 50000 | F11: 184000
D12: TOP-6.2.1-15-VP1-2016-00002 Gyulafirátóti óvoda újjáépítése
D13: TOP-6.2.1-16-VP1-2018-00002 Egry úti óvoda újjáépítése
A14: 4 | B14: 3 | C14: Szociális, gyermekjóléti és gyermekvédelmi célok (bölcsődék, időskorúak ellátását, gyermekek és családok átmeneti gondozását szolgáló beruházások stb.) | E14: 232000 | F14: 109000
D15: TOP-6.5.1-16-VPI-2018-00006 Módszertani Bölcsőde energetikai megújítása
D16: TOP-6.2.1-16-VP1-2018-00001 Módszertani Bölcsőde megújítása – eszközbeszerzés
D17: TOP-6.5.1 Aprófalvi Bölcsőde energetikai megújítása
D18: TOP-6.5.1 Völgyikút utca 2. szám alatti épület energetikai megújítása
A19: 5 | B19: 4 | C19: Egészségügyi szolgáltatások fejlesztése (egészségházak, orvosi, gyermekorvosi, fogorvosi szakrendelők felújítása, eszközbeszerzések stb.) | F19: 44000
D20: TOP - Vilonyai u. 2/B sz. gyermekorvosi rendelők felújítása
D21: TOP - Ördögárok u. 5. sz. gyermekorvosi rendelők felújítása
A22: 6 | B22: 5 | C22: Egyéb feladatokhoz kapcsolódó célok (közutak építése, felújítása, közbiztonság növelése, egyéb önkormányzati tulajdonú létesítmények felújítása, fejlesztése, város és település-rehabilitáció stb.) | E22: 297000 | F22: 294000
D23: Petőfi Sándor utca rekonstrukciója III. ütem
D24: Vörösmarty tér tömbbelső fejlesztés, I. ütem (csapadékvíz elvezetés kiépítése) + II. ütem
D25: Török I. u. - Aulich L. u. összekötés
D26: Közvilágítás bővítések (tervezés, kivitelezés) 2011. évi CLXXXIX törvény
D27: 82-es út közlekedésbiztonsági fejlesztése
D28: Nagyfelületű út- és járdafelújítások
D29: Kertvárosi utcák felújítása víziközmű rekonstrukció után
D30: TOP-6.1.5-16-VP1-2017-00001 Északi Iparterület Közlekedés-fejlesztése
A31: 7 | B31: I. Adósságot keletkeztető ügyletek összesen | E31: 629000 | F31: 631000
A32: 8 | B32: II. Adósságot keletkeztető ügyletek mindösszesen | E32: 1260000
B33: * Magyarország gazdasági stabilitásáról szóló 2011. évi CXCIV. törvény szerint Kormányengedélyhez kötött, adósságot keletkeztető ügylet jóváhagyása megtörtént az önkormányzatok adósságot keletkeztető, valamint kezesség-, illetve garanciavállalásra vonatkozó ügyleteihez történő 2019. áprilisi előzetes kormányzati hozzájárulásról szóló 1356/2019. (VI.14.) Korm. határozatában.

Sheet 15.B Beruh.hitel
B1: 15.B. melléklet a 5/2020. (II.27.) önkormányzati rendelethez
B3: Veszprém Megyei Jogú Város Önkormányzatának 2020. évi
B4: új hitelszerződésen alapuló beruházási hitelfelvétele feladatonként
B6: Magyarország gazdasági stabilitásáról szóló 2011. évi CXCIV. törvény szerint Kormányengedélyhez kötött, adósságot keletkeztető ügylet
C8: adatok eFt-ban
B9: A | C9: B
B10: Adósságot Keletkeztető Ügyletek fejlesztési célok szerinti besorolása | C10: Hitel összege 2020. év
A11: 1 | B11: Közutak, hidak építése, felújítása | C11: 0
A12: 2 | B12: Egyéb, törvény által az önkormányzatok számára előírt feladatok teljesítéséhez szükséges infrastrukturális beruházások | C12: 0
A13: 3 | B13: Adósságot keletkeztető ügyletek összesen | C13: =SUM(C11:C12) -> 0

Sheet 16.EU
B1: 16. melléklet a 5/2020. (II.27.) önkormányzati rendelethez
B2: A rendelet 16. mellékletét módosította a 17/2020. (IV.30.) Ör. 14. melléklete
B3: A rendelet 16. mellékletét módosította a 26/2020. (VI.26.) Ör. 14. melléklete
B4: A rendelet 16. mellékletét módosította a 37/2020. (IX.24.) Ör. 13. melléklete
B5: KIMUTATÁS
B6: a Veszprém Megyei Jogú Város Önkormányzata Támogatási Szerződéssel rendelkező
B7: Európai Uniós forrásból finanszírozott támogatással megvalósuló programok, projektek bevételeiről és kiadásairól az Ávr. 24. § (1) bekezdés a.) és bd.) pontjainak megfelelően
U8: adatok eFt-ban
B9: A | C9: B | D9: C | E9: D | G9: E | H9: F | I9: G | J9: H | K9: I | L9: J | M9: K | N9: L | O9: M | P9: N | Q9: O | R9: P | S9: Q | T9: R | U9: S | V9: T
B10: Cím | C10: Alcím | D10: Program megnevezés | E10: Program megvalósításának ideje | G10: Projekt forrás összetétel | P10: Projekt költség megbontás | V10: Projekt teljes költség
G11: Saját erő | H11: Projekthez kapcsolódó működési bevétel (ÁFA) | I11: EU támogatás | O11: EU támogatás összesen
I12: 2016. évi tény | J12: 2017. évi tény | K12: 2018. évi tény | L12: 2019. évi tény | M12: 2020. | N12: 2021-től | P12: 2016. évi tény | Q12: 2017. évi tény | R12: 2018. évi tény | S12: 2019. évi tény | T12: 2020. | U12: 2021-től
A13: 1 | B13: 18 | C13: Veszprém Megyei Jogú Város Önkormányzata
A14: 2 | C14: 1 | D14: TOP-6.2.1-16-VP1-2018-00002 Egry úti óvoda újjáépítése | E14: 2018-2021 | G14: =+V14-O14-H14 -> 187554 | L14: 917181 | M14: 15000 | O14: =SUM(I14:N14) -> 932181 | S14: 237 | T14: 1119498 | V14: =SUM(P14:U14) -> 1119735
A15: 3 | C15: 2 | D15: EFOP-1.9.9-17-2017-00004 Még jobb kezekben - Veszprémben | E15: 2018-2019 | G15: =+V15-O15-H15 -> 0 | K15: 17017 | L15: 8958 | O15: =SUM(I15:N15) -> 25975 | R15: 12413 | S15: =2345+10041 -> 12386 | T15: =655+482+39 -> 1176 | V15: =SUM(P15:U15) -> 25975
A16: 4 | C16: 3 | D16: TOP-6.5.1-16-VP1-2018-00004 Aprófalvi bölcsőde energetikai korszerűsítése | E16: 2018-2021 | G16: =+V16-O16-H16 -> 59476 | M16: 223100 | O16: =SUM(I16:N16) -> 223100 | Q16: 6699 | T16: 275877 | V16: =SUM(P16:U16) -> 282576
A17: 5 | C17: 4 | D17: TOP-6.6.1-16-VP1-2017-00002 Kádártai rendelő kialakítása | E17: 2018-2019 | G17: =+V17-O17-H17 -> 5021 | K17: 58534 | M17: 3081 | O17: =SUM(I17:N17) -> 61615 | R17: 143 | S17: 64724 | T17: 1769 | V17: =SUM(P17:U17) -> 66636
A18: 6 | C18: 5 | D18: TOP-6.5.1-16-VP1-2018-00002 Völgyikút utca 2. szám alatti épület energetikai megújítása | E18: 2018-2021 | G18: =+V18-O18-H18 -> 41474 | L18: 134273 | M18: 0 | O18: =SUM(I18:N18) -> 134273 | P18: 2921 | Q18: 3620 | T18: =165956+3250 -> 169206 | V18: =SUM(P18:U18) -> 175747
A19: 7 | C19: 6 | D19: TOP-6.6.1-16-VP1-2018-00004 Vilonyai utca 2/B szám alatti orvosi rendelő megújítása | E19: 2019-2020 | G19: =+V19-O19-H19 -> 14154 | L19: 19069 | M19: =20344-2775 -> 17569 | O19: =SUM(I19:N19) -> 36638 | R19: 1956 | T19: 48836 | V19: =SUM(P19:U19) -> 50792
A20: 8 | C20: 7 | D20: TOP-6.6.1-16-VP1-2018-00005 Ördögárok u. 5. szám alatti orvosi rendelő megújítása | E20: 2019-2020 | G20: =+V20-O20-H20 -> 39517 | L20: 27673 | M20: 25819 | O20: =SUM(I20:N20) -> 53492 | R20: 2459 | T20: 90550 | V20: =SUM(P20:U20) -> 93009
A21: 9 | C21: 8 | D21: TOP-6.6.1-16-VP1-2018-00003 Jutasi u. 59. szám alatti orvosi rendelő megújítása | E21: 2018-2019 | G21: =+V21-O21-H21 -> 1320 | K21: 71352 | M21: -45 | O21: =SUM(I21:N21) -> 71307 | R21: 4926 | S21: 67701 | V21: =SUM(P21:U21) -> 72627
A22: 10 | C22: 9 | D22: TOP-6.2.1-16-VP1-2018-00001 A Veszprémi Bölcsődei és Egészségügyi Alapellátási Integrált Intézmény Módszertani Bölcsődéje megújítása, illetve bölcsődei eszközbeszerzések | E22: 2018-2021 | G22: =+V22-O22-H22 -> 3810 | L22: 87086 | M22: -87086 | O22: =SUM(I22:N22) -> 0 | R22: =4834-1024 -> 3810 | S22: =40-40 -> 0 | T22: =195772-195772 -> 0 | V22: =SUM(P22:U22) -> 3810
A23: 11 | C23: 10 | D23: TOP-6.2.1-16-VP1-2018-00001 A Veszprémi Bölcsődei és Egészségügyi Alapellátási Integrált Intézmény Módszertani Bölcsődéje megújítása, illetve bölcsődei eszközbeszerzések | E23: 2020-2021 | G23: =+V23-O23-H23 -> 750 | M23: 307086 | O23: =SUM(I23:N23) -> 307086 | R23: =984+40 -> 1024 | S23: 40 | T23: =307086-1064+750 -> 306772 | V23: =SUM(P23:U23) -> 307836
A24: 12 | C24: 11 | D24: TOP-6.5.1-16-VP1-2018-00006 Módszertani bölcsőde energetikai megújítása | E24: 2018-2021 | G24: =+V24-O24-H24 -> 161006 | L24: 173975 | M24: 0 | O24: =SUM(I24:N24) -> 173975 | R24: 6401 | S24: 100 | T24: 328480 | V24: =SUM(P24:U24) -> 334981
A25: 13 | C25: 12 | D25: TOP-6.1.5-16-VP1-2017-00001 Északi Iparterület Közlekedés-fejlesztése | E25: 2016-2021 | G25: =+V25-O25-H25 -> 397000 | K25: 2092161 | M25: 1107839 | O25: =SUM(I25:N25) -> 3200000 | P25: 40063 | Q25: 83854 | R25: 327034 | S25: 1231269 | T25: 1914780 | V25: =SUM(P25:U25) -> 3597000
A26: 14 | C26: 13 | D26: TOP-6.4.1-16-VP1-17-00001 Szabadságpuszta településrész és Felsőörs Község közötti kerékpárút beruházása | E26: 2017-2020 | G26: =+V26-O26-H26 -> 0 | K26: 19671 | M26: =12000+208329 -> 220329 | O26: =SUM(I26:N26) -> 240000 | R26: 9749 | S26: 3835 | T26: =220416+6000 -> 226416 | V26: =SUM(P26:U26) -> 240000
A27: 15 | C27: 14 | D27: TOP-6.4.1-16-VP1-2018-00002 Márkó-Bánd települések irányába kerékpárút építése | E27: 2018-2020 | G27: =+V27-O27-H27 -> 0 | L27: 480600 | M27: 21000 | O27: =SUM(I27:N27) -> 501600 | R27: 326 | S27: 17127 | T27: =472147+12000 -> 484147 | V27: =SUM(P27:U27) -> 501600
A28: 16 | C28: 15 | D28: TOP-6.4.1-15-VP1-2016-00001 Közlekedésbiztonsági és kerékpárosbarát fejlesztések megvalósulása Veszprém város területén | E28: 2016-2019 | G28: =+V28-O28-H28 -> 143176 | I28: 977327 | M28: 27091 | O28: =SUM(I28:N28) -> 1004418 | P28: 25062 | Q28: 32060 | R28: 393153 | S28: =688437 -> 688437 | T28: =8968-86 -> 8882 | V28: =SUM(P28:U28) -> 1147594
A29: 17 | C29: 16 | D29: TOP-6.3.3-16-VP1-2017-00001 Dózsaváros, Pápai úti csapadékvíz-elvezető rendszer fejlesztése | E29: 2018-2019 | G29: =+V29-O29-H29 -> 62406 | K29: 227554 | M29: 10916 | O29: =SUM(I29:N29) -> 238470 | R29: 4460 | S29: 267453 | T29: =23001+5962 -> 28963 | V29: =SUM(P29:U29) -> 300876
A30: 18 | C30: 17 | D30: TOP-6.5.1-16-VP1-2018-00005 - Március 15. utcai Sportcsarnok és Uszoda energetikai megújítása | E30: 2018-2021 | G30: =+V30-O30-H30 -> 0 | L30: 788115 | M30: 41400 | O30: =SUM(I30:N30) -> 829515 | R30: 6414 | S30: 26646 | T30: =782603+13852 -> 796455 | V30: =SUM(P30:U30) -> 829515
A31: 19 | C31: 18 | D31: TOP-6.3.2-16-VP1-2018-00001 Kulturális negyed | E31: 2019-2021 | G31: =+V31-O31-H31 -> 96381 | L31: 1544000 | M31: =76000-76000-1544000 -> -1544000 | O31: =SUM(I31:N31) -> 0 | R31: 16599 | S31: 79782 | T31: =1561731+22278-1561731-22278 -> 0 | V31: =SUM(P31:U31) -> 96381
A32: 20 | C32: 19 | D32: GINOP - 7.1.9-17-2018-00023 Veszprém kulturális turisztikai kínálatának fejlesztése | E32: 2018-2020 | G32: =+V32-O32-H32 -> 0 | H32: 277946 | K32: 558299 | M32: 793085 | O32: =SUM(I32:N32) -> 1351384 | R32: 28000 | S32: 26441 | T32: 1574889 | V32: =SUM(P32:U32) -> 1629330
A33: 21 | C33: 20 | D33: KEHOP-5.4.1-16-2016-00142 "Veszprém, az energiatudatos város" | E33: 2019-2020 | G33: =+V33-O33-H33 -> 0 | L33: 815 | M33: =3977-3977 -> 0 | O33: =SUM(I33:N33) -> 815 | T33: =4792-3977 -> 815 | V33: =SUM(P33:U33) -> 815
A34: 22 | C34: 21 | D34: TOP-7.1.1-16-H-ERFA-2019-00078 Szent Miklós-szegi Kálvária domb és környékének infrastrukturális felújítása és funkcióbővítése | E34: 2019-2021 | G34: =+V34-O34-H34 -> 12126 | L34: 243150 | M34: 11850 | O34: =SUM(I34:N34) -> 255000 | R34: 4379 | S34: 12827 | T34: 249920 | V34: =SUM(P34:U34) -> 267126
A35: 23 | C35: 22 | D35: TOP-6.9.2-16-VP1-2018-00001 Közösségfejlesztés Veszprém város településrészein | E35: 2019-2022 | G35: =+V35-O35-H35 -> 0 | L35: =23652+14397 -> 38049 | M35: =31805+70955+43191 -> 145951 | O35: =SUM(I35:N35) -> 184000 | R35: 9200 | S35: =3350+5228+2097 -> 10675 | T35: =19255+89379+55491 -> 164125 | V35: =SUM(P35:U35) -> 184000
A36: 24 | C36: 23 | D36: 601835-CITIZ-1-2018-1-HU-CITIZ-NT Reveal YouropEaN Cultural Heritage/Tárd fel európai kulturális örökségedet (ENriCH) | E36: 2018-2020 | G36: =+V36-O36-H36 -> 695 | K36: 24175 | M36: 24175 | O36: =SUM(I36:N36) -> 48350 | R36: 1176 | S36: 23808 | T36: =24004+62-5 -> 24061 | V36: =SUM(P36:U36) -> 49045
A37: 25 | C37: 24 | D37: Erasmus +K3 SporTown | E37: 2018-2019 | G37: =+V37-O37-H37 -> 0 | K37: 9031 | L37: 8 | M37: 0 | O37: =SUM(I37:N37) -> 9039 | R37: 7830 | S37: 186 | T37: 1023 | V37: =SUM(P37:U37) -> 9039
A38: 26 | C38: 25 | D38: Urbact Innova-tor * | E38: 2019-2021 | G38: =+V38-O38-H38 -> 11302 | M38: =11175+5830 -> 17005 | O38: =SUM(I38:N38) -> 17005 | S38: 8399 | T38: =19581+327 -> 19908 | V38: =SUM(P38:U38) -> 28307
A39: 27 | C39: 26 | D39: KÖFOP-1.2.1-VEKOP-16-2017-01268 Veszprém Megyei Jogú Város Önkormányzata ASP Központhoz való csatlakozása ** | E39: 2017-2018 | G39: =+V39-O39-H39 -> 220 | J39: 9000 | K39: -2700 | M39: -325 | O39: =SUM(I39:N39) -> 5975 | R39: 1582 | S39: 4613 | T39: =239-239 -> 0 | V39: =SUM(P39:U39) -> 6195
A40: 28 | C40: 27 | D40: TOP-7.1.1-16-H-ERFA-2019-00372 Barátságparki csalánkert | E40: 2019-2021 | G40: =+V40-O40-H40 -> 0 | M40: 40000 | O40: =SUM(I40:N40) -> 40000 | T40: 40000 | V40: =SUM(P40:U40) -> 40000
A41: 29 | C41: 28 | D41: KEHOP-1.2.1-18-2019-00247 Veszprém MJV klímastratégia kidolgozása és klímatudatosságot erősítő, szemléletformáló programok megvalósítása | E41: 2019-2021 | G41: =+V41-O41-H41 -> 0 | M41: 19985 | O41: =SUM(I41:N41) -> 19985 | T41: 19985 | V41: =SUM(P41:U41) -> 19985
A42: 30 | B42: 14 | C42: Kabóca Bábszínház
A43: 31 | C43: 2 | D43: EFOP-3.3.2-16-2016-00107 Kulturális intézmények a köznevelés eredményességéért*** | E43: 2018-2019 | G43: =+V43-O43-H43 -> 0 | H43: =1926+228 -> 2154 | K43: 27687 | O43: =SUM(I43:N43) -> 27687 | R43: 5105 | S43: 19384 | T43: 5352 | V43: =SUM(P43:U43) -> 29841
A44: 32 | B44: Összesen | G44: =SUM(G14:G43) -> 1237388 | I44: =SUM(I14:I43) -> 977327 | J44: =SUM(J14:J43) -> 9000 | K44: =SUM(K14:K43) -> 3102781 | L44: =SUM(L14:L43) -> 4462952 | M44: =SUM(M14:M43) -> 1440825 | N44: =SUM(N14:N43) -> 0 | O44: =SUM(O14:O43) -> 9992885 | P44: =SUM(P14:P43) -> 68046 | ... V44: =SUM(V14:V43) -> 11510373
B45: * Az Urbact Innova-tor támogatása a szerződésben €-ban van meghatározva, az átszámítás 316.39 Ft/EUR-val történt
B46: ** Ezen projektek esetében a 2018. évi EU támogatás negatív előirányzata az EU támogatás visszautalását jelenti.
B47: *** A projekt a támogatási szerződés szerint nettó módon finanszírozott.

Sheet 17.Közv.tám.
B1: 17. melléklet a 5/2020. (II.27.) önkormányzati rendelethez
B3: KIMUTATÁS
B4: a 2020. évi közvetett támogatásokról
B5: tájékoztató jelleggel az Áht. 24. § (4) bekezdés c) pontja alapján
B6: A | D6: B
B7: Törvények és helyi rendeletek által nyújtott mentességek, kedvezmények | D7: Közvetett támogatás ezer Forintban
A8: 1 | B8: 1. | C8: Adóhivatal:
A9: 2 | C9: Iparűzési adó | D9: 150000
A10: 3 | C10: Építményadó | D10: 30000
A11: 4 | C11: Telekadó | D11: 150000
A12: 5 | C12: Kommunális adó | D12: 14000
A13: 6 | C13: Idegenforgalmi adó | D13: 42000
A14: 7 | C14: Gépjárműadó | D14: 100000
A15: 8 | D15: =SUM(D9:D14) -> 486000
A16: 9 | B16: 2. | C16: Ellátottak térítési díjának, illetve kártérítésének méltányossági alapon történő elengedésének összege | D16: 113
A17: 10 | B17: 3. | C17: Lakosság részére lakásépítéshez, lakásfelújításhoz nyújtott kölcsönök elengedésének összege
A18: 11 | B18: 4. | C18: Helyiségek, eszközök hasznosításából származó bevételből nyújtott kedvezmény, mentesség összege | D18: 1476
A19: 12 | B19: 5. | C19: Egyéb nyújtott kedvezmény, vagy kölcsön elengedésének összege
A20: 13 | B20: Összesen: | D20: =SUM(D15:D19) -> 487589
