Workbook
Name _4._sz._sor_részletezése: #REF!
Name _4._sz._sor_részletezése: #REF!
Name _4._sz._sor_részletezése: #REF!
Name _4._sz._sor_részletezése: #REF!
Name _4._sz._sor_részletezése: #REF!
Name _4._sz._sor_részletezése: #REF!
Name _4._sz._sor_részletezése: #REF!
Name _4._sz._sor_részletezése: #REF!
Name _4._sz._sor_részletezése: #REF!
Name _4._sz._sor_részletezése: #REF!
Name _4._sz._sor_részletezése: #REF!

Sheet 1.Onbe
B1: 1. melléklet a 5/2020. (II.27.) önkormányzati rendelethez
B2: A rendelet 1. mellékletét módosította a 17/2020. (IV.30.) Ör. 1. melléklete
B3: A rendelet 1. mellékletét módosította a 26/2020. (VI.26.) Ör. 1. melléklete
B4: A rendelet 1. mellékletét módosította a 37/2020. (IX.24.) Ör. 1. melléklete
B5: Veszprém Megyei Jogú Város Önkormányzatának
B6: 2020. évi költségvetési bevételei
M7: adatok eFt-ban
B8: A | C8: B | D8: C | E8: D | F8: E | G8: F | H8: G | I8: H | J8: I | K8: J | L8: K | M8: L
B9: Cím | C9: Alcím | D9: Előir. csop. | E9: Kie-melt előir. | F9: Megnevezés | G9: 2018. évi tény | H9: 2019. évi eredeti előirányzat | I9: 2019. évi tény | J9: 2020. évi eredeti előirányzat | K9: 2020. évi módosított előirányzat 2. | L9: Módosítás | M9: 2020. évi módosított előirányzat 3.
A10: 1 | D10: 1 | F10: Működési költségvetési bevételek | G10: =SUM(G11,G18,G28,G34,G36,G17,G33) -> 14062643 | H10: =SUM(H11,H18,H28,H34,H36,H17,H33) -> 12977517 | I10: =SUM(I11,I18,I28,I34,I36,I17,I33) -> 14853364 | J10: =SUM(J11,J18,J28,J34,J36,J17,J33) -> 15115259 | K10: =SUM(K11,K18,K28,K34,K36,K17,K33) -> 13554693 | L10: =SUM(L11,L18,L28,L34,L36,L17,L33) -> 370337 | M10: =SUM(M11,M18,M28,M34,M36,M17,M33) -> 13925030
A11: 2 | B11: 18 | E11: 1 | F11: Működési célú támogatások Áht-on belülről | G11: =SUM(G12,G15:G15) -> 3706565 | H11: =SUM(H12,H15:H15) -> 3419289 | I11: =SUM(I12,I15:I15) -> 4483032 | J11: =SUM(J12,J15:J15) -> 4404208 | K11: =SUM(K12,K15:K15) -> 4066631 | L11: =SUM(L12,L15:L15) -> 358781 | M11: =SUM(M12,M15:M15) -> 4425412
A12: 3 | F12: Önkormányzatok működési támogatásai | G12: =SUM(G13:G14) -> 3341151 | H12: =SUM(H13:H14) -> 3194545 | I12: =SUM(I13:I14) -> 3563207 | J12: =SUM(J13:J14) -> 3066627 | K12: =SUM(K13:K14) -> 3198812 | L12: =SUM(L13:L14) -> 232365 | M12: =SUM(M13:M14) -> 3431177
A13: 4 | F13: Helyi önkormányzatok működésének általános és ágazati feladataihoz kapcsolódó támogatás | G13: 3286398 | H13: 3194545 | I13: 3533067 | J13: 3066627 | K13: 3198812 | L13: 229415 | M13: =SUM(K13:L13) -> 3428227
A14: 5 | F14: Működési célú költségvetési támogatások és kiegészítő támogatások | G14: 54753 | I14: 30140 | L14: 2950 | M14: =SUM(K14:L14) -> 2950
A15: 6 | F15: Egyéb működési célú támogatások bevételei | G15: 365414 | H15: 224744 | I15: 919825 | J15: 1337581 | K15: 867819 | L15: 126416 | M15: =SUM(K15:L15) -> 994235
A16: 7 | F16: ebből: Társadalombizt. Alapból származó támogatás | G16: 148540 | H16: 147600 | I16: 160234 | J16: 180000 | K16: 180000 | L16: 19387 | M16: =SUM(K16:L16) -> 199387
A17: 8 | B17: 1-17 | E17: 2 | F17: Önkormányzati Intézmények működési célú támogatások Áht-on belülről | G17: 216590 | H17: 117496 | I17: 317352 | J17: 236049 | K17: 179422 | L17: 14635 | M17: =SUM(K17:L17) -> 194057
A18: 9 | B18: 18 | E18: 3 | F18: Közhatalmi bevételek | G18: =SUM(G19,G27:G27) -> 8049548 | H18: =SUM(H19,H27:H27) -> 7765600 | I18: =SUM(I19,I27:I27) -> 8108452 | J18: =SUM(J19,J27:J27) -> 7945120 | K18: =SUM(K19,K27:K27) -> 7280120 | L18: =SUM(L19,L27:L27) -> 0 | M18: =SUM(M19,M27:M27) -> 7280120
A19: 10 | F19: Adók | G19: =SUM(G20:G26) -> 8043412 | H19: =SUM(H20:H26) -> 7760000 | I19: =SUM(I20:I26) -> 8100342 | J19: =SUM(J20:J26) -> 7940000 | K19: =SUM(K20:K26) -> 7275000 | L19: =SUM(L20:L26) -> 0 | M19: =SUM(M20:M26) -> 7275000
A20: 11 | F20: Építményadó | G20: 1300333 | H20: 1300000 | I20: 1353716 | J20: 1320000 | K20: 1320000 | M20: =SUM(K20:L20) -> 1320000
A21: 12 | F21: Idegenforgalmi adó | G21: 44141 | H21: 45000 | I21: 45085 | J21: 55000 | K21: 10000 | M21: =SUM(K21:L21) -> 10000
A22: 13 | F22: Kommunális adó | G22: 143422 | H22: 145000 | I22: 142925 | J22: 143000 | K22: 143000 | M22: =SUM(K22:L22) -> 143000
A23: 14 | F23: Telekadó | G23: 95735 | H23: 95000 | I23: 91186 | J23: 92000 | K23: 92000 | M23: =SUM(K23:L23) -> 92000
A24: 15 | F24: Iparűzési adó | G24: 6222826 | H24: 5950000 | I24: 6222920 | J24: 6100000 | K24: 5700000 | M24: =SUM(K24:L24) -> 5700000
A25: 16 | F25: Gépjárműadó | G25: 215843 | H25: 210000 | I25: 230151 | J25: 220000 | K25: 0 | M25: =SUM(K25:L25) -> 0
A26: 17 | F26: Egyéb pótlékok, bírságok | G26: 21112 | H26: 15000 | I26: 14359 | J26: 10000 | K26: 10000 | M26: =SUM(K26:L26) -> 10000
A27: 18 | F27: Egyéb közhatalmi bevételek (bírságok, igazgatási szolgáltatási díjak) | G27: 6136 | H27: 5600 | I27: 8110 | J27: 5120 | K27: 5120 | M27: =SUM(K27:L27) -> 5120
A28: 19 | B28: 18 | E28: 4 | F28: Működési bevételek | G28: =SUM(G29:G32) -> 1035546 | H28: =SUM(H29:H32) -> 765238 | I28: =SUM(I29:I32) -> 818620 | J28: =SUM(J29:J32) -> 1501270 | K28: =SUM(K29:K32) -> 1134028 | L28: =SUM(L29:L32) -> 0 | M28: =SUM(M29:M32) -> 1134028
A29: 20 | F29: Szolgáltatások, közvetített szolgáltatások ellenértéke | G29: 319006 | H29: 367526 | I29: 335480 | J29: 327392 | K29: 263773 | M29: =SUM(K29:L29) -> 263773
A30: 21 | F30: Tulajdonosi bevételek | G30: 155541 | H30: 192783 | I30: 219462 | J30: 280770 | K30: 281160 | M30: =SUM(K30:L30) -> 281160
A31: 22 | F31: ÁFA bevételek és visszatérülések | G31: 490423 | H31: 204929 | I31: 219034 | J31: 889171 | K31: 584630 | M31: =SUM(K31:L31) -> 584630
A32: 23 | F32: Egyéb működési bevételek | G32: 70576 | I32: 44644 | J32: 3937 | K32: 4465 | M32: =SUM(K32:L32) -> 4465
A33: 24 | B33: 1-17 | E33: 5 | F33: Önkormányzati Intézmények működési bevételek | G33: 998980 | H33: 909894 | I33: 1111879 | J33: 1028612 | K33: 883498 | L33: -3711 | M33: =SUM(K33:L33) -> 879787
A34: 25 | B34: 18 | E34: 6 | F34: Működési célú átvett pénzeszközök | G34: 41080 | I34: 5713 | K34: 9688 | L34: 432 | M34: =SUM(K34:L34) -> 10120
F35: ebből: Koronavírus elleni védekezésre adomány | K35: 5688 | L35: 432 | M35: =SUM(K35:L35) -> 6120
A36: 26 | B36: 1-17 | E36: 7 | F36: Önkormányzati Intézmények működési célú átvett pénzeszközök | G36: 14334 | I36: 8316 | K36: 1306 | L36: 200 | M36: =SUM(K36:L36) -> 1506
A37: 27 | D37: 2 | F37: Felhalmozási költségvetési bevételek | G37: =SUM(G38,G41:G42,G44:G46) -> 12772481 | H37: =SUM(H38,H41:H42,H44:H46) -> 5648160 | I37: =SUM(I38,I41:I42,I44:I46) -> 6259786 | J37: =SUM(J38,J41:J42,J44:J46) -> 8363612 | K37: =SUM(K38,K41:K42,K44:K46) -> 10017556 | L37: =SUM(L38,L41:L42,L44:L46) -> 399389 | M37: =SUM(M38,M41:M42,M44:M46) -> 10416945
A38: 28 | E38: 8 | F38: Felhalmozási célú támogatások Áht-on belülről | G38: =SUM(G39,G40) -> 12588575 | H38: =SUM(H39,H40) -> 5270260 | I38: =SUM(I39,I40) -> 5463793 | J38: =SUM(J39,J40) -> 8162019 | K38: =SUM(K39,K40) -> 9820506 | L38: =SUM(L39,L40) -> 397904 | M38: =SUM(M39,M40) -> 10218410
A39: 29 | B39: 18 | F39: Felhalmozási célú önkormányzati támogatások | G39: 4325400 | I39: 6456
A40: 30 | B40: 18 | F40: Egyéb felhalmozási célú támogatások bevételei | G40: 8263175 | H40: 5270260 | I40: 5457337 | J40: 8162019 | K40: 9820506 | L40: 397904 | M40: =SUM(K40:L40) -> 10218410
...

Sheet 1.A Norm
B1: 1.A. melléklet a 5/2020. (II.27.) önkormányzati rendelethez
B2: A rendelet 1.A mellékletét módosította a 17/2020. (IV.30.) Ör. 1.A. melléklete
B3: A rendelet 1.A mellékletét módosította a 26/2020. (VI.26.) Ör. 1.A. melléklete
B4: Helyi önkormányzatok általános működéséhez és ágazati feladataihoz kapcsolódó támogatások
B5: alakulása 2019. és 2020. évben
G6: adatok eFt-ban
B7: A | C7: B | D7: C | G7: D
B8: Megnevezés | C8: 2019. év | D8: 2020. év | E8: Módosítás | F8: 2020. év összesen | G8: Változás %-a
G9: 2020/2019.
A10: 1 | B10: 1. Helyi önkormányzatok működésének általános támogatása | C10: 0 | D10: 0 | E10: 7199 | F10: =SUM(D10:E10) -> 7199
A11: 2 | B11: 2. Települési önkormányzatok egyes köznevelési feladatainak támogatása | C11: =SUM(C12:C15) -> 1108325 | D11: =SUM(D12:D15) -> 1125011 | E11: =SUM(E12:E15) -> 3733 | F11: =SUM(F12:F15) -> 1128744 | G11: =(F11/C11) -> 1.0184233
A12: 3 | B12: Óvodapedagógusok és az óvodapedagógusok nevelő munkáját közvetlenül segítők bértámogatása | C12: 911028 | D12: 927157 | F12: =SUM(D12:E12) -> 927157 | G12: =(F12/C12) -> 1.0177042
A13: 4 | B13: Óvodaműködtetési támogatás | C13: 165613 | D13: 162239 | F13: =SUM(D13:E13) -> 162239 | G13: =(F13/C13) -> 0.9796272
A14: 5 | B14: Kiegészítő támogatás az óvodapedagógusok minősítéséből adódó többletkiadásokhoz | C14: 28306 | D14: 30745 | E14: 3733 | F14: =SUM(D14:E14) -> 34478 | G14: =(F14/C14) -> 1.2180456
A15: 6 | B15: Nemzetiségi pótlék | C15: 3378 | D15: 4870 | F15: =SUM(D15:E15) -> 4870 | G15: =(F15/C15) -> 1.4416815
A16: 7 | B16: 3. Települési önkormányzatok szociális, gyermekjóléti és gyermek-étkeztetési feladatainak támogatása | C16: =SUM(C17:C29) -> 1319428 | D16: =SUM(D17:D29) -> 1480333 | E16: =SUM(E17:E29) -> 2828 | F16: =SUM(F17:F29) -> 1483161 | G16: =(F16/C16) -> 1.1240939
A17: 8 | B17: Család- és gyermekjóléti szolgálat | C17: 35020 | D17: 35020 | E17: 3158 | F17: =SUM(D17:E17) -> 38178 | G17: =(F17/C17) -> 1.090177
A18: 9 | B18: Család- és gyermekjóléti központ | C18: 39270 | D18: 39270 | E18: -330 | F18: =SUM(D18:E18) -> 38940 | G18: =(F18/C18) -> 0.99159664
A19: 10 | B19: Szociális étkeztetés | C19: 39887 | D19: 49393 | F19: =SUM(D19:E19) -> 49393 | G19: =(F19/C19) -> 1.2383233
A20: 11 | B20: Házi segítségnyújtás | C20: 52463 | D20: 65687 | F20: =SUM(D20:E20) -> 65687 | G20: =(F20/C20) -> 1.2520634
A21: 12 | B21: Időskorúak nappali intézményi ellátása | C21: 26160 | D21: 39900 | F21: =SUM(D21:E21) -> 39900 | G21: =(F21/C21) -> 1.5252294
A22: 13 | B22: Fogyatékos személyek nappali intézményi ellátása | C22: 22000 | D22: 32245 | F22: =SUM(D22:E22) -> 32245 | G22: =(F22/C22) -> 1.4656818
A23: 14 | B23: Demens személyek nappali intézményi ellátása | C23: 8500 | D23: 13780 | F23: =SUM(D23:E23) -> 13780 | G23: =(F23/C23) -> 1.6211765
A24: 15 | B24: Óvodai és iskolaiszociális segítő tevékenység támogatása | C24: 54369 | D24: 54612 | F24: =SUM(D24:E24) -> 54612 | G24: =(F24/C24) -> 1.0044695
A25: 16 | B25: Családok és hajléktalanok átmeneti elhelyezése | C25: 9398 | D25: 19290 | F25: =SUM(D25:E25) -> 19290 | G25: =(F25/C25) -> 2.0525644
A26: 17 | B26: Idősek átmeneti és tartós szociális szakosított ellátásának támogatása | C26: 111469 | D26: =142747+30058 -> 172805 | F26: =SUM(D26:E26) -> 172805 | G26: =(F26/C26) -> 1.5502516
A27: 18 | B27: Gyermekétkeztetés támogatása | C27: 482460 | D27: 501906 | F27: =SUM(D27:E27) -> 501906 | G27: =(F27/C27) -> 1.0403059
A28: 19 | B28: Rászoruló gyermekek intézményen kívüli szünidei étkeztetése | C28: 133 | D28: 76 | F28: =SUM(D28:E28) -> 76 | G28: =(F28/C28) -> 0.57142857
A29: 20 | B29: Bölcsődei, mini bölcsődei ellátás (kedvezményes étk. támog. nélkül) | C29: 438299 | D29: 456349 | F29: =SUM(D29:E29) -> 456349 | G29: =(F29/C29) -> 1.0411819
A30: 21 | B30: 4. Települési önkormányzatok kulturális feladatainak támogatása | C30: =SUM(C31:C36) -> 766792 | D30: =SUM(D31:D36) -> 461283 | E30: =SUM(E31:E36) -> 417327 | F30: =SUM(F31:F36) -> 878610 | G30: =(F30/C30) -> 1.1458257
A31: 22 | B31: Megyei hatáskörű városi múzeumok feladatainak támogatása | C31: 117500 | D31: 120660 | F31: =SUM(D31:E31) -> 120660 | G31: =(F31/C31) -> 1.0268936
A32: 23 | B32: Megyei könyvtárak feladatainak támogatása | C32: 140200 | D32: 140200 | F32: =SUM(D32:E32) -> 140200 | G32: =(F32/C32) -> 1
A33: 24 | B33: Megyeszékhely megyei jogú városok közművelődési támogatása | C33: 25588 | D33: 25675 | F33: =SUM(D33:E33) -> 25675 | G33: =(F33/C33) -> 1.0034
A34: 25 | B34: Megyei könyvtár kistelepülési könyvtári célú kiegészítő támogatása | C34: 149704 | D34: 150648 | F34: =SUM(D34:E34) -> 150648 | G34: =(F34/C34) -> 1.0063058
A35: 26 | B35: Színművészeti szervezetek támogatása* | C35: 308800 | E35: 417327 | F35: =SUM(D35:E35) -> 417327 | G35: =(F35/C35) -> 1.3514475
A36: 27 | B36: Zenekarok támogatása | C36: 25000 | D36: 24100 | F36: =SUM(D36:E36) -> 24100 | G36: =(F36/C36) -> 0.964
A37: 28 | B37: MINDÖSSZESEN: | C37: =SUM(C10:C11,C16,C30) -> 3194545 | D37: =SUM(D10:D11,D16,D30) -> 3066627 | E37: =SUM(E10:E11,E16,E30) -> 431087 | F37: =SUM(F10:F11,F16,F30) -> 3497714 | G37: =(F37/C37) -> 1.0949021
B38: * Megjegyzés: A Magyar Államkincstár tájékoztatása szerint a Magyarország 2020. évi központi költségvetéséről szóló 2019. évi LXXI. Törvény 3. melléklet I. 13. e) pontjában szereplő Színházművészeti szervezetek támogatása jogcímen eredeti előirányzatként 0 forintot kell az elemi költségvetésben tervezni. A színművészeti szervezetek finanszírozására VMJV Önkormányzata és Magyrország Kormány között Társműködtetői megállapodás jött létre.

Sheet 2.Onki
B1: 2. melléklet a 5/2020. (II.27.) önkormányzati rendelethez
B2: A rendelet 2. mellékletét módosította a 17/2020. (IV.30.) Ör. 2. melléklete
B3: A rendelet 2. mellékletét módosította a 26/2020. (VI.26.) Ör. 2. melléklete
B4: A rendelet 2. mellékletét módosította a 37/2020. (IX.24.) Ör. 2. melléklete
B5: Veszprém Megyei Jogú Város Önkormányzatának
B6: 2020. évi költségvetési kiadásai
M7: adatok eFt-ban
B8: A | C8: B | D8: C | E8: D | F8: E | G8: F | H8: G | I8: H | J8: I | K8: J | L8: K | M8: L
B9: Cím | C9: Alcím | D9: Előir. csop. | E9: Kie-melt előir. | F9: Megnevezés | G9: 2018. évi tény | H9: 2019. évi eredeti előirányzat | I9: 2019. évi tény | J9: 2020. évi eredeti előirányzat | K9: 2020. évi módosított előirányzat 2. | L9: Módosítás | M9: 2020. évi módosított előirányzat 3.
A10: 1 | B10: 1-17 | F10: Intézményi költségvetési kiadások | G10: =SUM(G11:G12) -> 7353582 | H10: =SUM(H11:H12) -> 7596089 | I10: =SUM(I11:I12) -> 8054296 | J10: =SUM(J11:J12) -> 8038573 | K10: =SUM(K11:K12) -> 8928975 | L10: 56546 | M10: =SUM(M11:M12) -> 8985521
A11: 2 | D11: 1 | F11: Működési költségvetési kiadások | G11: 7197678 | H11: 7431316 | I11: 7776616 | J11: 7971537 | K11: 8780717 | L11: 32949 | M11: =SUM(K11:L11) -> 8813666
A12: 3 | D12: 2 | F12: Felhalmozási költségvetési kiadások | G12: =SUM(G13:G14) -> 155904 | H12: =SUM(H13:H14) -> 164773 | I12: =SUM(I13:I14) -> 277680 | J12: =SUM(J13:J14) -> 67036 | K12: =SUM(K13:K14) -> 148258 | L12: 23597 | M12: =SUM(M13:M14) -> 171855
A13: 4 | E13: 1 | F13: Beruházási kiadások | G13: 155449 | H13: 164773 | I13: 277321 | J13: 67036 | K13: 145103 | L13: 23597 | M13: =SUM(K13:L13) -> 168700
A14: 5 | E14: 2 | F14: Felújítási kiadások | G14: 455 | I14: 359 | K14: 3155 | M14: =SUM(K14:L14) -> 3155
A15: 6 | B15: 18 | F15: VMJV Önkormányzata | G15: =SUM(G16:G17,G28,G29) -> 13225053 | H15: =SUM(H16:H17,H28,H29) -> 19900460 | I15: =SUM(I16:I17,I28,I29) -> 11881117 | J15: =SUM(J16:J17,J28,J29) -> 29513701 | K15: =SUM(K16:K17,K28,K29) -> 29898541 | L15: 713180 | M15: =SUM(M16:M17,M28,M29) -> 30611721
A16: 7 | D16: 1 | F16: Működési költségvetési kiadások | G16: 4718378 | H16: 5579739 | I16: 6400942 | J16: 6655947 | K16: =5993772+15710 -> 6009482 | L16: 154172 | M16: =SUM(K16:L16) -> 6163654
A17: 8 | F17: Céltartalékok | G17: =SUM(G18,G24) -> 0 | H17: =SUM(H18,H24) -> 394518 | I17: =SUM(I18,I24) -> 0 | J17: =SUM(J18,J24) -> 520204 | K17: =SUM(K18,K24) -> 571250 | L17: 0 | M17: =SUM(M18,M24) -> 571250
A18: 9 | D18: 1 | F18: Működési célú céltartalékok | G18: =SUM(G19:G22) -> 0 | H18: =SUM(H19:H22) -> 105109 | I18: =SUM(I19:I23) -> 0 | J18: =SUM(J19:J22) -> 135616 | K18: =SUM(K19:K22) -> 77662 | L18: 0 | M18: =SUM(K18:L18) -> 77662
A19: 10 | F19: - Felmentési idő, jub.jut., végkielégítés | H19: 76368 | J19: 111616 | K19: 77662 | M19: =SUM(K19:L19) -> 77662
A20: 11 | F20: - Képviselői keret | H20: 24000 | J20: 24000 | K20: 0 | M20: =SUM(K20:L20) -> 0
A21: 12 | F21: - Intézményi beruházáshoz kapcsolódó létszámbővítés | H21: 4741 | M21: =SUM(K21:L21) -> 0
A22: 13 | F22: - Működési kiadásokra képzett céltartalék | M22: =SUM(K22:L22) -> 0
A23: 14 | F23: - Adóbevételekkel szembeni kötelezettség | M23: =SUM(K23:L23) -> 0
A24: 15 | D24: 2 | F24: Felhalmozási célú céltartalékok | G24: =SUM(G25:G27) -> 0 | H24: =SUM(H25:H27) -> 289409 | J24: =SUM(J25:J27) -> 384588 | K24: =SUM(K25:K27) -> 493588 | L24: 0 | M24: =SUM(M25:M27) -> 493588
A25: 16 | F25: - Előző évi hitelszerződéshez kapcs. feladat
A26: 17 | F26: - Beruházási kiadásokra képzett céltartalék | H26: 248370 | K26: 109000 | M26: =SUM(K26:L26) -> 109000
A27: 18 | F27: - Viziközmű fejlesztés | H27: 41039 | J27: 384588 | K27: 384588 | M27: =SUM(K27:L27) -> 384588
A28: 19 | F28: Általános tartalék | H28: 150000 | J28: 177471 | K28: 100000 | L28: -36078 | M28: =SUM(K28:L28) -> 63922
A29: 20 | D29: 2 | F29: Felhalmozási költségvetési kiadások | G29: =SUM(G30:G32) -> 8506675 | H29: =SUM(H30:H32) -> 13776203 | I29: =SUM(I30:I32) -> 5480175 | J29: =SUM(J30:J32) -> 22160079 | K29: =SUM(K30:K32) -> 23217809 | L29: 595086 | M29: =SUM(M30:M32) -> 23812895
A30: 21 | E30: 1 | F30: Beruházási kiadások | G30: 7792799 | H30: 13014190 | I30: 5000126 | J30: 21222147 | K30: =22246140-15710 -> 22230430 | L30: -859839 | M30: =SUM(K30:L30) -> 21370591
A31: 22 | E31: 2 | F31: Egyéb felhalmozási célú kiadások | G31: 502120 | H31: 197022 | I31: 55982 | J31: 549493 | K31: 622304 | L31: 1449925 | M31: =SUM(K31:L31) -> 2072229
A32: 23 | E32: 3 | F32: Felújítási kiadások | G32: 211756 | H32: 564991 | I32: 424067 | J32: 388439 | K32: 365075 | L32: 5000 | M32: =SUM(K32:L32) -> 370075
A33: 24 | B33: 18 | F33: Lakásalap kiadása | G33: =SUM(G34:G35) -> 0 | H33: =SUM(H34:H35) -> 0 | I33: =SUM(I34:I35) -> 0 | J33: =SUM(J34:J35) -> 0 | K33: =SUM(K34:K35) -> 0 | L33: 0 | M33: =SUM(M34:M35) -> 0
A34: 25 | D34: 1 | F34: Működési költségvetési kiadások
A35: 26 | D35: 2 | F35: Felhalmozási költségvetési kiadások
A36: 27 | F36: Költségvetési kiadások összesen | G36: =SUM(G10,G15,G33) -> 20578635 | H36: =SUM(H10,H15,H33) -> 27496549 | I36: =SUM(I10,I15,I33) -> 19935413 | J36: =SUM(J10,J15,J33) -> 37552274 | K36: =SUM(K10,K15,K33) -> 38827516 | L36: 769726 | M36: =SUM(M10,M15,M33) -> 39597242
A37: 28 | B37: 18 | F37: Finanszírozási kiadások | G37: =SUM(G41:G42,G38:G39) -> 215713 | H37: =SUM(H41:H42,H38:H39) -> 209635 | I37: =SUM(I41:I42,I38:I39) -> 241248 | J37: =SUM(J41:J42,J38:J39) -> 219771 | K37: =SUM(K41:K42,K38:K39) -> 219771 | L37: =SUM(L41:L42,L38:L39) -> 0 | M37: =SUM(M41:M42,M38:M39) -> 219771
A38: 29 | D38: 1 | F38: Működési finanszírozási kiadások
A39: 30 | D39: 1 | F39: Államháztartáson belüli megelőlegezések visszafizetése | G39: 108118 | H39: 96040 | I39: 127653 | J39: 111267 | K39: 111267 | M39: =SUM(K39:L39) -> 111267
A40: 31 | D40: 2 | F40: Felhalmozási finanszírozási kiadások
...

Sheet 3.Inbe 
B1: 3. melléklet a 5/2020. (II.27.) önkormányzati rendelethez
B2: A rendelet 3. mellékletét módosította a 17/2020. (IV.30.) Ör. 3. melléklete
B3: A rendelet 3. mellékletét módosította a 26/2020. (VI.26.) Ör. 3. melléklete
B4: A rendelet 3. mellékletét módosította a 37/2020. (IX.24.) Ör. 3. melléklete
B5: Veszprém Megyei Jogú Város Önkormányzata Intézményei
B6: 2020. évi költségvetési bevételei
N7: adatok eFt-ban
B8: A | C8: B | D8: C | F8: D | G8: E | H8: F | I8: G | J8: H | K8: I | L8: J | M8: K | N8: L | O8: M
B9: Cím | C9: Alcím | D9: Megnevezés | F9: Működési költségvetési bevételek | I9: Felhalmozási költségvetési bevételek | L9: Előző évi költségvetési maradvány | M9: Irányító szervtől kapott támogatás | O9: 2020. évi bevételi előirányzat
F10: Működési bevételek | G10: Működési célú támogatás Áht-on belülről | H10: Működési célú átvett pénzeszköz | I10: Felhalmozási bevétel | J10: Felhalmozási célú támogatás Áht.-on belülről | K10: Felhalmozási célú átvett pénzeszköz | M10: Összesen | N10: Ebből: költségvetési támogatás
A11: 1 | B11: 1 | D11: Veszprémi Vadvirág Körzeti Óvoda
A12: 2 | D12: (Csillagvár Waldorf Tagóvoda, Vadvirág Óvoda)
A13: 3 | E13: eredeti előirányzat | F13: 4940 | L13: 710 | M13: 207975 | N13: 142608 | O13: =SUM(F13:M13) -> 213625
A14: 4 | E14: módosított előirányzat 2. | F14: 4940 | L14: 6146 | M14: 209170 | N14: 142612 | O14: =SUM(F14:M14) -> 220256
A15: 5 | E15: módosítás- köznevelési feladatok kiegészítő támogatása (min.bér, gar.bérmin. támog) | N15: 10552 | O15: =SUM(F15:M15) -> 0
A16: 6 | E16: intézményi gyermekétkeztetés kiegészítő bértámogatás (min.bér, gar.bérmin. támog) | N16: 493 | O16: =SUM(F16:M16) -> 0
A17: 7 | E17: minősített pedagógusok támogatása | N17: 727 | O17: =SUM(F17:M17) -> 0
A18: 8 | E18: Bérkompenzáció (2020. május hó - 2020. július hó) | M18: 1 | N18: 1 | O18: =SUM(F18:M18) -> 1
A19: 9 | E19: módosított előirányzat 3. | F19: =SUM(F14:F18) -> 4940 | L19: =SUM(L14:L18) -> 6146 | M19: =SUM(M14:M18) -> 209171 | N19: =SUM(N14:N18) -> 154385 | O19: =SUM(F19:M19) -> 220257
A20: 10 | B20: 2 | D20: Veszprémi Bóbita Körzeti Óvoda
A21: 11 | D21: (Hársfa Tagóvoda, Bóbita Óvoda)
A22: 12 | E22: eredeti előirányzat | F22: 9516 | L22: 700 | M22: 356874 | N22: 277977 | O22: =SUM(F22:M22) -> 367090
A23: 13 | E23: módosított előirányzat 2. | F23: 7516 | L23: 28037 | M23: 358733 | N23: 278006 | O23: =SUM(F23:M23) -> 394286
A24: 14 | E24: módosítás- köznevelési feladatok kiegészítő támogatása (min.bér, gar.bérmin. támog) | N24: 17374 | O24: =SUM(F24:M24) -> 0
A25: 15 | E25: intézményi gyermekétkeztetés kiegészítő bértámogatás (min.bér, gar.bérmin. támog) | N25: 873 | O25: =SUM(F25:M25) -> 0
A26: 16 | E26: Bérkompenzáció (2020. május hó - 2020. július hó) | M26: 7 | N26: 7 | O26: =SUM(F26:M26) -> 7
A27: 17 | E27: módosított előirányzat 3. | F27: =SUM(F23:F26) -> 7516 | L27: =SUM(L23:L26) -> 28037 | M27: =SUM(M23:M26) -> 358740 | N27: =SUM(N23:N26) -> 296260 | O27: =SUM(F27:M27) -> 394293
A28: 18 | B28: 3 | D28: Veszprémi Ringató Körzeti Óvoda
A29: 19 | D29: (Ringató Óvoda, Erdei Tagóvoda, Kuckó Tagóvoda)
A30: 20 | E30: eredeti előirányzat | F30: 17581 | M30: 411379 | N30: 365584 | O30: =SUM(F30:M30) -> 428960
A31: 21 | E31: módosított előirányzat 2. | F31: 12581 | L31: 14688 | M31: 417705 | N31: 365584 | O31: =SUM(F31:M31) -> 444974
A32: 22 | E32: módosítás- köznevelési feladatok kiegészítő támogatása (min.bér, gar.bérmin. támog) | N32: 21218 | O32: =SUM(F32:M32) -> 0
A33: 23 | E33: intézményi gyermekétkeztetés kiegészítő bértámogatás (min.bér, gar.bérmin. támog) | N33: 1079 | O33: =SUM(F33:M33) -> 0
A34: 24 | E34: minősített pedagógusok támogatása | N34: 1454 | O34: =SUM(F34:M34) -> 0
A35: 25 | E35: módosított előirányzat 3. | F35: =SUM(F31:F34) -> 12581 | L35: =SUM(L31:L34) -> 14688 | M35: =SUM(M31:M34) -> 417705 | N35: =SUM(N31:N34) -> 389335 | O35: =SUM(F35:M35) -> 444974
A36: 26 | B36: 4 | D36: Veszprémi Egry úti Körzeti Óvoda
A37: 27 | D37: (Egry ltp. Óvoda, Nárcisz Tagóvoda)
A38: 28 | E38: eredeti előirányzat | F38: 10020 | M38: 309492 | N38: 193144 | O38: =SUM(F38:M38) -> 319512
A39: 29 | E39: módosított előirányzat 2. | F39: 7133 | L39: 18600 | M39: 309505 | N39: 193157 | O39: =SUM(F39:M39) -> 335238
A40: 30 | E40: módosítás- köznevelési feladatok kiegészítő támogatása (min.bér, gar.bérmin. támog) | N40: 14718 | O40: =SUM(F40:M40) -> 0
...

Sheet 3.A Inbe
B1: 3.A. melléklet a 5/2020. (II.27.) önkormányzati rendelethez
B2: A rendelet 3.A mellékletét módosította a 17/2020. (IV.30.) Ör. 3.A melléklete
B3: a rendelet 3.A mellékletét módosította a 26/2020. (VI.26.) Ör. 3.A melléklete
B4: A rendelet 3.A mellékletét módosította a 37/2020. (IX.24.) Ör. 3.A melléklete
B5: Veszprém Megyei Jogú Város Önkormányzata Intézményei
B6: 2020. évi saját bevételei
H7: adatok eFt-ban
B8: A | C8: B | D8: C | E8: D | F8: E | G8: F | H8: G
B9: Cím | C9: Alcím | D9: Megnevezés | E9: 2018. évi tény | F9: 2019. évi eredeti előirányzat | G9: 2019. évi tény | H9: 2020. évi előirányzat
A11: 1 | B11: 1 | D11: Veszprémi Vadvirág Körzeti Óvoda (Csillagvár Waldorf Tagóvoda, Vadvirág Óvoda) | E11: 4241 | F11: 4458 | G11: 4440 | H11: 4940
A12: 2 | B12: 2 | D12: Veszprémi Bóbita Körzeti Óvoda (Hársfa Tagóvoda, Bóbita Óvoda) | E12: 8290 | F12: 10813 | G12: 8462 | H12: 7516
A13: 3 | B13: 3 | D13: Veszprémi Ringató Körzeti Óvoda (Ringató Óvoda, Erdei Tagóvoda, Kuckó Tagóvoda) | E13: 16663 | F13: 17490 | G13: 15398 | H13: 12581
A14: 4 | B14: 4 | D14: Veszprémi Egry úti Körzeti Óvoda (Egry ltp. Óvoda, Nárcisz Tagóvoda) | E14: 12417 | F14: 13993 | G14: 10994 | H14: 7133
A15: 5 | B15: 5 | D15: Veszprémi Csillag úti Körzeti Óvoda (Csillag úti Óvoda, Cholnoky ltp. Óvoda) | E15: 14656 | F15: 15663 | G15: 17279 | H15: 18635
A16: 6 | B16: 6 | D16: Veszprémi Kastélykert Körzeti Óvoda (Kastélykert Óvoda, Ficánka Óvoda) | E16: 3862 | F16: 3794 | G16: 4464 | H16: 2968
A17: 7 | D17: Óvodák összesen: | E17: =SUM(E11:E16) -> 60129 | F17: =SUM(F11:F16) -> 66211 | G17: =SUM(G11:G16) -> 61037 | H17: =SUM(H11:H16) -> 53773
A18: 8 | B18: 7 | D18: Veszprémi Bölcsődei és Egészségügyi Alapellátási Integrált Intézmény | E18: 43118 | F18: 19344 | G18: 23407 | H18: 15700
A19: 9 | B19: 8 | D19: Göllesz Viktor Fogyatékos Személyek Nappali Intézménye | E19: 15040 | F19: 13500 | G19: 15109 | H19: 10425
A20: 10 | B20: 9 | D20: Veszprémi Családsegítő és Gyermekjóléti Integrált Intézmény | F20: 1800 | G20: 2909 | H20: 1800
A21: 11 | D21: Egészségügyi és szociális intézmények összesen: | E21: =SUM(E18:E20) -> 58158 | F21: =SUM(F18:F20) -> 34644 | G21: =SUM(G18:G20) -> 41425 | H21: =SUM(H18:H20) -> 27925
A22: 12 | B22: 10 | D22: Agóra Veszprém Kulturális Központ | E22: 39591 | F22: 39584 | G22: 43824 | H22: 23539
A23: 13 | B23: 11 | D23: Művészetek Háza Veszprém Művelődési Ház és Kiállítóhely | E23: 4063 | F23: 7001 | G23: 8889 | H23: 6527
A24: 14 | B24: 12 | D24: Eötvös Károly Megyei Könyvtár | E24: 36291 | F24: 21200 | G24: 31157 | H24: 17914
A25: 15 | B25: 13 | D25: Laczkó Dezső Múzeum | E25: 129584 | F25: =113894+11447 -> 125341 | G25: 200194 | H25: 209389
A26: 16 | B26: 14 | D26: Kabóca Bábszínház | E26: 29609 | F26: 33854 | G26: 25393 | H26: =15414+228 -> 15642
A27: 17 | B27: 15 | D27: Veszprémi Petőfi Színház | E27: 273726 | F27: 203000 | G27: 303830 | H27: 139433
A28: 18 | D28: Kulturális és közművelődési intézmények összesen: | E28: =SUM(E22:E27) -> 512864 | F28: =SUM(F22:F27) -> 429980 | G28: =SUM(G22:G27) -> 613287 | H28: =SUM(H22:H27) -> 412444
A29: 19 | B29: 16 | D29: Veszprémi Intézményi Szolgáltató Szervezet | E29: 362984 | F29: 379059 | G29: 386604 | H29: 381102
A30: 20 | B30: INTÉZMÉNYEK ÖSSZESEN: | E30: =SUM(E17,E21,E28,E29) -> 994135 | F30: =SUM(F17,F21,F28,F29) -> 909894 | G30: =SUM(G17,G21,G28,G29) -> 1102353 | H30: =SUM(H17,H21,H28,H29) -> 875244
A31: 21 | B31: 17 | D31: VMJV Polgármesteri Hivatal által ellátott kötelező és önként vállalt feladatok | E31: 4845 | G31: 9526 | H31: 4543
A32: 22 | B32: MINDÖSSZESEN: | E32: =SUM(E30,E31) -> 998980 | F32: =SUM(F30,F31) -> 909894 | G32: =SUM(G30,G31) -> 1111879 | H32: =SUM(H30,H31) -> 879787

Sheet 4.Inki
B1: 4. melléklet a 5/2020. (II.27.) önkormányzati rendelethez
B2: A rendelet 4. mellékletét módosította a 17/2020. (IV.30.) Ör. 4. melléklete
B3: A rendelet 4. mellékletét módosította a 26/2020. (VI.26.) Ör. 4. melléklete
B4: A rendelet 4. mellékletét módosította a 37/2020. (IX.24.) Ör. 4. melléklete
B5: Veszprém Megyei Jogú Város Önkormányzata Intézményei
B6: 2020. évi költségvetési kiadásai
Q7: adatok eFt-ban
B8: A | C8: B | D8: C | F8: D | G8: E | H8: F | I8: G | J8: H | K8: I | L8: J | M8: K | N8: L | O8: M | P8: N | Q8: O | R8: P
B9: Cím | C9: Alcím | D9: Megnevezés | F9: Feladatellátás jellege* | G9: 2018. évi tény | H9: 2019. évi eredeti előirányzat | I9: 2019. évi tény | J9: 2020. évi kiadási előirányzat | K9: Működési költségvetési kiadások | P9: Felhalmozási költségvetési kiadások
K10: Személyi juttatások | L10: Munk.a. terh. jár. és szoc.hj.adó | M10: Dologi kiadások | N10: Ellátottak pénzbeli juttatásai | O10: Egyéb működési kiadások | P10: Beruházási kiadások | Q10: Felújítási kiadások | R10: Egyéb felhalmozási célú kiadások
A11: 1 | B11: 1 | D11: Veszprémi Vadvirág Körzeti Óvoda | F11: K | G11: 206614 | H11: 209393 | I11: 212753
A12: 2 | D12: (Csillagvár Waldorf Tagóvoda, Vadvirág Óvoda)
A13: 3 | E13: eredeti előirányzat | J13: =SUM(K13:R13) -> 213625 | K13: 134372 | L13: 26600 | M13: 51943 | P13: 710
A14: 4 | E14: módosított előirányzat 2. | J14: =SUM(K14:R14) -> 220256 | K14: 135799 | L14: 27417 | M14: 56310 | P14: 522 | Q14: 208
A15: 5 | E15: módosítás- Bérkompenzáció (2020. május hó - 2020. július hó) | J15: =SUM(K15:R15) -> 1 | K15: 1
A16: 6 | E16: átcsoportosítás | J16: =SUM(K16:R16) -> 0 | K16: -1500 | M16: 1500
A17: 7 | E17: módosított előirányzat 3. | J17: =SUM(K17:R17) -> 220257 | K17: =SUM(K14:K16) -> 134300 | L17: =SUM(L14:L16) -> 27417 | M17: =SUM(M14:M16) -> 57810 | P17: =SUM(P14:P16) -> 522 | Q17: =SUM(Q14:Q16) -> 208
A18: 8 | B18: 2 | D18: Veszprémi Bóbita Körzeti Óvoda | F18: K | G18: 351654 | H18: 356328 | I18: 358902
A19: 9 | D19: (Hársfa Tagóvoda, Bóbita Óvoda)
A20: 10 | E20: eredeti előirányzat | J20: =SUM(K20:R20) -> 367090 | K20: 241291 | L20: 48109 | M20: 76990 | P20: 700
A21: 11 | E21: módosított előirányzat 2. | J21: =SUM(K21:R21) -> 394286 | K21: 241279 | L21: 48163 | M21: 92443 | P21: 9454 | Q21: 2947
A22: 12 | E22: módosítás- Bérkompenzáció (2020. május hó - 2020. július hó) | J22: =SUM(K22:R22) -> 7 | K22: 6 | L22: 1
A23: 13 | E23: átcsoportosítás | J23: =SUM(K23:R23) -> 0 | M23: -2190 | P23: 2190
A24: 14 | E24: módosított előirányzat 3. | J24: =SUM(K24:R24) -> 394293 | K24: =SUM(K21:K23) -> 241285 | L24: =SUM(L21:L23) -> 48164 | M24: =SUM(M21:M23) -> 90253 | P24: =SUM(P21:P23) -> 11644 | Q24: =SUM(Q21:Q23) -> 2947
A25: 15 | B25: 3 | D25: Veszprémi Ringató Körzeti Óvoda | F25: K | G25: 431588 | H25: 425240 | I25: 431030
A26: 16 | D26: (Ringató Óvoda, Erdei Tagóvoda, Kuckó Tagóvoda)
A27: 17 | E27: eredeti előirányzat | J27: =SUM(K27:R27) -> 428960 | K27: 291221 | L27: 57361 | M27: 80378
A28: 18 | E28: módosított előirányzat 2. | J28: =SUM(K28:R28) -> 444974 | K28: 299510 | L28: 58873 | M28: 85931 | P28: 660
A29: 19 | E29: módosítás- átcsoportosítás | J29: =SUM(K29:R29) -> 0 | M29: -660 | P29: 660
A30: 20 | E30: módosított előirányzat 3. | J30: =SUM(K30:R30) -> 444974 | K30: =SUM(K28:K29) -> 299510 | L30: =SUM(L28:L29) -> 58873 | M30: =SUM(M28:M29) -> 85271 | P30: =SUM(P28:P29) -> 1320
A31: 21 | B31: 4 | D31: Veszprémi Egry úti Körzeti Óvoda | F31: K | G31: 302390 | H31: 310528 | I31: 318994
A32: 22 | D32: (Egry ltp. Óvoda, Nárcisz Tagóvoda)
A33: 23 | E33: eredeti előirányzat | J33: =SUM(K33:R33) -> 319512 | K33: 213322 | L33: 42437 | M33: 63753
A34: 24 | E34: módosított előirányzat 2. | J34: =SUM(K34:R34) -> 335238 | K34: 213706 | L34: 42572 | M34: 78960
A35: 25 | E35: módosítás- Bérkompenzáció (2020. május hó - 2020. július hó) | J35: =SUM(K35:R35) -> 7 | K35: 6 | L35: 1
A36: 26 | E36: módosított előirányzat 3. | J36: =SUM(K36:R36) -> 335245 | K36: =SUM(K34:K35) -> 213712 | L36: =SUM(L34:L35) -> 42573 | M36: =SUM(M34:M35) -> 78960
A37: 27 | B37: 5 | D37: Veszprémi Csillag úti Körzeti Óvoda | F37: K | G37: 336173 | H37: 339061 | I37: 350092
A38: 28 | D38: (Csillag úti Óvoda, Cholnoky ltp. Óvoda)
A39: 29 | E39: eredeti előirányzat | J39: =SUM(K39:R39) -> 341538 | K39: 213361 | L39: 42331 | M39: 85846
A40: 30 | E40: módosított előirányzat 2. | J40: =SUM(K40:R40) -> 364506 | K40: 223592 | L40: 44860 | M40: 95654 | P40: 400
...

Sheet 5.Infelhki
B1: 5. melléklet a 5/2020. (II.27.) önkormányzati rendelethez
B2: A rendelet 5. mellékletét módosította a 17/2020. (IV.30.) Ör. 5. melléklete
B3: A rendelet 5. mellékletét módosította a 26/2020. (VI.26.) Ör. 5. melléklete
B4: A rendelet 5. mellékletét módosította a 37/2020. (IX.24.) Ör. 5. melléklete
B5: Veszprém Megyei Jogú Város Önkormányzata Intézményei
B6: 2020. évi felhalmozási költségvetési kiadások előirányzata
L7: adatok eFt-ban
B8: A | C8: B | D8: C | E8: D | F8: E | G8: F | H8: G | I8: H | J8: I | K8: J | L8: K
B9: Cím | C9: Alcím | D9: Megnevezés | E9: Feladatellátás jellege | F9: 2018. évi tény | G9: 2019. évi eredeti előirányzat | H9: 2019. évi tény | I9: 2020. évi eredeti előirányzat | J9: 2020. évi módosított előirányzat 2. | K9: Módosítás | L9: 2020. évi módosított előirányzat 3.
A11: 1 | C11: Beruházási kiadások
A12: 2 | B12: 1 | C12: Veszprémi Vadvirág Körzeti Óvoda | E12: K | F12: 1695 | G12: 1800 | H12: 3100
A13: 3 | C13: 1 | D13: Bábos raktár nyitott bútorzat befejezése | I13: 510 | J13: 502 | L13: =SUM(J13:K13) -> 502
A14: 4 | C14: 2 | D14: Vákuumfóliázó (védőmaszkok varrása utáni csomagoláshoz) | J14: 20 | L14: =SUM(J14:K14) -> 20
A15: 5 | C15: Csillagvár Waldorf Tagóvoda | F15: 217 | G15: 900 | H15: 1294
A16: 6 | C16: 3 | D16: Mosókonyha bejárati ajtó csere | I16: 200 | J16: 0 | L16: =SUM(J16:K16) -> 0
A17: 7 | B17: 2 | C17: Veszprémi Bóbita Körzeti Óvoda | E17: K | F17: 2509 | G17: 3300 | H17: 3496
A18: 8 | C18: 1 | D18: Asztali számítógép, laptop beszerzése | I18: 700 | J18: 700 | L18: =SUM(J18:K18) -> 700
A19: 9 | C19: 2 | D19: Udvari játékok (Bóbita és Hársfa Tagóvoda) | J19: 4137 | L19: =SUM(J19:K19) -> 4137
A20: 10 | C20: 3 | D20: Kisértékű tárgyi eszközök (mosógép, porszívó, mobiltelefon, gyermekszék, gyermekfektető és tartó, függöny, redőny, szúnyogháló, roló, konyhai kisgép) | J20: 1100 | K20: =450+500+100+250+150 -> 1450 | L20: =SUM(J20:K20) -> 2550
A21: 11 | C21: Hársfa Tagóvoda | F21: 1162 | H21: 1094
A22: 12 | C22: 4 | D22: Udvari játékok | J22: 2817 | L22: =SUM(J22:K22) -> 2817
A23: 13 | C23: 5 | D23: Kisértékű tárgyi eszközök (mosógép, porszívó, mobiltelefon, gyermekszék, szőnyeg, redőny, roló, szúnyogháló, konyhai kisgép) | J23: 700 | K23: =225+50+250+15 -> 540 | L23: =SUM(J23:K23) -> 1240
A24: 14 | C24: 6 | D24: Bútorzat főzőkonyhára | K24: 200 | L24: =SUM(J24:K24) -> 200
A25: 15 | B25: 3 | C25: Veszprémi Ringató Körzeti Óvoda | E25: K | F25: 5920 | G25: 1500 | H25: 6208
A26: 16 | C26: 1 | D26: Tárgyi eszközök beszerzésére (Mobiltelefon, laptop, irodai székek, mosógép) | J26: 400 | K26: =180+200 -> 380 | L26: =SUM(J26:K26) -> 780
A27: 17 | C27: 2 | D27: Fa kerti tároló | K27: 220 | L27: =SUM(J27:K27) -> 220
A28: 18 | C28: Erdei és Kuckó Tagóvoda | F28: 7972 | G28: 1500 | H28: 3386 | L28: =SUM(J28:K28) -> 0
A29: 19 | C29: 3 | D29: Kisértékű tárgyi eszközök (Hűtőszekrény főzőkonyhába, irodai székek) | J29: 260 | K29: 60 | L29: =SUM(J29:K29) -> 320
A30: 20 | B30: 4 | C30: Veszprémi Egry úti Körzeti Óvoda | E30: K | F30: 3926 | G30: 1000 | H30: 1347 | L30: =SUM(J30:K30) -> 0
A31: 21 | C31: 1 | D31: Tárgyi eszközök beszerzésére | L31: =SUM(J31:K31) -> 0
A32: 22 | C32: Nárcisz Tagóvoda | F32: 2560 | G32: 900 | H32: 2216 | L32: =SUM(J32:K32) -> 0
A33: 23 | C33: 2 | D33: Tárgyi eszközök beszerzésére | L33: =SUM(J33:K33) -> 0
A34: 24 | B34: 5 | C34: Veszprémi Csillag úti Körzeti Óvoda | E34: K | F34: 4964 | G34: 2400 | H34: 6273 | L34: =SUM(J34:K34) -> 0
A35: 25 | C35: 1 | D35: Kézfertőtlenítő adagolók | J35: 200 | L35: =SUM(J35:K35) -> 200
A36: 26 | C36: Cholnoky Jenő Ltp. Tagóvoda | F36: 4686 | G36: 2900 | H36: 6233 | L36: =SUM(J36:K36) -> 0
A37: 27 | C37: 2 | D37: Kézfertőtlenítő adagolók | J37: 200 | L37: =SUM(J37:K37) -> 200
A38: 28 | B38: 6 | C38: Veszprémi Kastélykert Körzeti Óvoda | E38: K | F38: 527 | G38: 500 | H38: 6174 | L38: =SUM(J38:K38) -> 0
A39: 29 | C39: 1 | D39: Tárgyi eszközök beszerzésére (Katica csoport: polcos szekrény, babakonyha szekrény, tálaló szekrény, foglalkoztató szekrény, játéktároló, ágyazó, tükrök, élősarokpolc, teakonyha polc, ágyazó polc, szőnyegek, konyhai eszközök, étel-ital szállító badellák, botmixer, serpenyő, érintésmentes kézfertőtlenítő) | J39: 964 | K39: 496 | L39: =SUM(J39:K39) -> 1460
A40: 30 | C40: 2 | D40: Laptop | K40: 200 | L40: =SUM(J40:K40) -> 200
A41: 31 | C41: Ficánka Tagóvoda | F41: 15 | G41: 600 | H41: 324 | L41: =SUM(J41:K41) -> 0
...

Sheet 6.Önk.műk.
B1: 6. melléklet a 5/2020. (II.27.) önkormányzati rendelethez
B2: A rendelet 6. mellékletét módosította a 17/2020. (IV.30.) Ör. 6. melléklete
B3: A rendelet 6. mellékletét módosította a 26/2020. (VI.26.) Ör. 6. melléklete
B4: A rendelet 6. mellékletét módosította a 37/2020. (IX.24.) Ör. 6. melléklete
B5: Veszprém Megyei Jogú Város Önkormányzata
B6: Önkormányzati feladatok és egyéb kötelezettségek 2020. évi működési költségvetési kiadásai
M7: adatok eFt-ban
B8: A | C8: B | D8: C | E8: D | F8: E | G8: F | H8: G | I8: H | J8: I | K8: J | L8: K | M8: L | N8: M
B9: Cím | C9: Alcím | D9: Megnevezés | E9: 2018. évi tény | F9: 2019. évi eredeti előirányzat | G9: 2019. évi tény | H9: Feladatellátás jellege* | I9: 2020. évi előirányzat | J9: Működési költségvetési kiadások
J10: Személyi juttatások | K10: Munk.a. terh. jár. és szoc.hj.adó | L10: Dologi kiadások | M10: Ellátottak pénzbeli juttatásai | N10: Egyéb működési kiadások
A11: 1 | B11: 18 | C11: Önkormányzati működési kiadások
A12: 2 | C12: 1 | D12: Nemzeti ünnepek kiadásaira | E12: 6918 | F12: 7000 | G12: 1779 | H12: K
A13: 3 | D13: módosított előirányzat 2. | I13: =SUM(J13:N13) -> 296 | L13: 296
A14: 4 | D14: módosítás- | I14: =SUM(J14:N14) -> 0
A15: 5 | D15: módosított előirányzat 3. | I15: =SUM(J15:N15) -> 296 | L15: =SUM(L13:L14) -> 296
A16: 6 | C16: 2 | D16: Közművelődési szolgált. | E16: 4298 | F16: 5000 | G16: 3685 | H16: NK
A17: 7 | D17: módosított előirányzat 2. | I17: =SUM(J17:N17) -> 4000 | J17: 22 | K17: 12 | L17: 3966
A18: 8 | D18: módosítás- | I18: =SUM(J18:N18) -> 0
A19: 9 | D19: módosított előirányzat 3. | I19: =SUM(J19:N19) -> 4000 | J19: =SUM(J17:J18) -> 22 | K19: =SUM(K17:K18) -> 12 | L19: =SUM(L17:L18) -> 3966
A20: 10 | C20: 3 | D20: Nemzetközi kapcsolatok | E20: 15651 | F20: 10000 | G20: 7056 | H20: NK
A21: 11 | D21: eredeti előirányzat | I21: =SUM(J21:N21) -> 3000 | L21: 3000
A22: 12 | D22: módosított előirányzat 2. | I22: =SUM(J22:N22) -> 3737 | J22: 30 | K22: 42 | L22: 3665
A23: 13 | D23: módosítás- | I23: =SUM(J23:N23) -> 0
A24: 14 | D24: módosított előirányzat 3. | I24: =SUM(J24:N24) -> 3737 | J24: =SUM(J22:J23) -> 30 | K24: =SUM(K22:K23) -> 42 | L24: =SUM(L22:L23) -> 3665
A25: 15 | C25: 4 | D25: Marketing tevékenység, marketing stratégia | E25: 12950 | F25: 11000 | G25: 13218 | H25: NK
A26: 16 | D26: módosított előirányzat 2. | I26: =SUM(J26:N26) -> 11235 | L26: 11235
A27: 17 | D27: módosítás- | I27: =SUM(J27:N27) -> 0
A28: 18 | D28: módosított előirányzat 3. | I28: =SUM(J28:N28) -> 11235 | L28: =SUM(L26:L27) -> 11235
A29: 19 | C29: 5 | D29: Kitüntetések | E29: 8243 | F29: 10167 | G29: 9366 | H29: NK
A30: 20 | D30: eredeti előirányzat | I30: =SUM(J30:N30) -> 9601 | J30: 3800 | K30: 1100 | L30: 4701
A31: 21 | D31: módosított előirányzat 2. | I31: =SUM(J31:N31) -> 9601 | J31: 3800 | K31: 1100 | L31: 4701
A32: 22 | D32: módosítás- átcsoportosítás | I32: =SUM(J32:N32) -> 0 | J32: -300 | K32: -39 | N32: 339
A33: 23 | D33: módosított előirányzat 3. | I33: =SUM(J33:N33) -> 9601 | J33: =SUM(J31:J32) -> 3500 | K33: =SUM(K31:K32) -> 1061 | L33: =SUM(L31:L32) -> 4701 | N33: =SUM(N32) -> 339
A34: 24 | C34: 6 | D34: Mihály-napi búcsú | E34: 1000 | F34: 1000 | H34: NK
A35: 25 | C35: 7 | D35: Városi kiemelt fesztiválok | E35: =SUM(E36,E37,E38,E39,E41,E40) -> 72000 | F35: =SUM(F36,F37,F38,F39,F41,F40) -> 74000 | G35: =SUM(G36,G37,G38,G39,G41,G40) -> 74000 | H35: NK
A36: 26 | D36: ebből: - Veszprémi Ünnepi Játékok | E36: 30000 | F36: 30000 | G36: 30000
A37: 27 | D37: - Gizella Napok | E37: 15000 | F37: 15000 | G37: 15000
A38: 28 | D38: - Tánc Fesztivál | E38: 5000 | F38: 2000 | G38: 2000
A39: 29 | D39: - Veszprémi Utcazene Fesztivál | E39: 15000 | F39: 15000 | G39: 15000
A40: 30 | D40: - Auer Hegedűfesztivál | E40: 5000 | F40: 10000 | G40: 10000
...

Sheet 6.A Alapítv
B1: 6.A. melléklet a 5/2020. (II.27.) önkormányzati rendelethez
B2: A rendelet 6.A mellékletét módosította a 17/2020. (IV.30.) Ör. 6.A melléklete
B3: A rendelet 6.A mellékletét módosította a 26/2020. (VI.26.) Ör. 6.A melléklete
B4: A rendelet 6.A mellékletét módosította a 37/2020. (IX.24.) Ör. 6.A melléklete
B5: KIMUTATÁS
B6: Veszprém Megyei Jogú Város Önkormányzata által
B7: alapítványoknak, egyesületeknek, civil szervezeteknek, társadalmi szervezeteknek nyújtott támogatásokról 2020. évben
B8: adatok eFt-ban
B9: A | C9: B
B10: Alapítvány / egyesület / civil szervezet / társadalmi szervezet megnevezése | C10: Támogatás összege
A12: 1 | B12: Alkohol-Drogsegély Ambulancia/Szenvedélybetegek ellátásnak működési kiadásaihoz támogatás | C12: 10200
A13: 2 | B13: Közösség Kádártáért Egyesület | C13: =2550-1550 -> 1000
A14: 3 | B14: Virágzó Veszprém Egyesület | C14: =2550-1550 -> 1000
A15: 4 | B15: Lokálpatrióták a Városért Egyesület | C15: =850-400 -> 450
A16: 5 | B16: Brusznyai Árpád Alapítvány támogatása | C16: =553-553+500 -> 500
A17: 6 | B17: Mendelssohn Kamarazenekar | C17: =25975+4880 -> 30855
A18: 7 | B18: Veszprém Város Vegyeskara | C18: =6460-5994 -> 466
A19: 8 | B19: Veszprémi Ifjúsági Közalapítvány | C19: =11900-1900-4445 -> 5555
A20: 9 | B20: Máltai Szeretetszolgálat | C20: 60000
A21: 10 | B21: Pszichiátriai betegek nappali ellátása ("Horgony" Pszichiátriai Betegekért Közhasznú Alapítvány) | C21: 1275
A22: 11 | B22: 8.vk. Városi Nyilvánosságért Alapítvány - karácsonyi ajándékcsomagok beszerzésére | C22: 50
A23: 12 | B23: Kórház Bébi Koraszülött Mentő Alapítványa részére - echocardiograf eszközbeszerzésre | C23: 10000
A24: 13 | B24: Veszprémi Táncegyüttesért Alapítvány | C24: 375
A25: 14 | B25: Liszt F. Kórus | C25: 83
A26: 15 | B26: Gizella Kórus/Dowland Alapítvány | C26: 250
A27: 16 | B27: Közbiztonsági feladatok / Gyulafirátóti Polgárőrség | C27: 1375
A28: 17 | B28: Verseny és élsport - működési támogatások
A29: 18 | B29: Veszprém Foci Centrum Utánpótlás SE | C29: =17000-8500 -> 8500
A30: 19 | B30: Veszprémi Egyetemi és Diák Atlétikai Club | C30: =28000-15500 -> 12500
A31: 20 | B31: Futsal Club Veszprém | C31: =30000-15000 -> 15000
A32: 21 | B32: Pannon SE női kézilabda | C32: 3000
A33: 22 | B33: Veszprémi Úszó Klub | C33: 1500
A34: 23 | B34: Balaton Úszó Klub | C34: 1750
A35: 24 | B35: Veszprémi Torna Club | C35: 3000
A36: 25 | B36: VESC női röplabda | C36: 2500
A37: 26 | B37: Szilágyi DSE | C37: 1600
A38: 27 | B38: Dózsavárosi DSE | C38: 500
A39: 28 | B39: Sportolj Velünk SE | C39: 4750
A40: 29 | B40: Gyulafirátót SE | C40: 1500
A41: 30 | B41: Veszprémi Jégkorong SE | C41: 700
...

Sheet 7.Beruh.
B1: 7. melléklet a 5/2020. (II.27.) önkormányzati rendelethez
B2: A rendelet 7. mellékletét módosította a 17/2020. (IV.30.) Ör. 7. melléklete
B3: A rendelet 7. mellékletét módosította a 26/2020. (VI.26.) Ör. 7. melléklete
B4: A rendelet 7. mellékletét módosította a 37/2020. (IX.24.) Ör. 7. melléklete
B5: Veszprém Megyei Jogú Város Önkormányzata
B6: 2020. évi beruházási és egyéb felhalmozási célú kiadások előirányzata
M7: adatok eFt-ban
B8: A | C8: B | D8: C | E8: D | F8: E | G8: F | H8: G | I8: H | J8: I | K8: J | L8: K | M8: L
B9: Cím | C9: Alcím | D9: Megnevezés | E9: Teljes költség | F9: Teljesítés 2018. 12.31.-ig | G9: 2019. évi tény | H9: Feladatellátás jellege | I9: 2020. évi előirányzat | M9: 2020. év utáni javaslat
I10: Működési költségvetési kiadások | J10: Felhalmozási költségvetési kiadások | L10: Összesen
I11: Dologi kiadások | J11: Beruházási kiadások | K11: Egyéb felhalmozási célú kiadások
A12: 1 | B12: 18 | C12: Önkormányzati beruházási kiadások
A13: 2 | C13: 1 | D13: Önkormányzati érdekeket érintő településrendezése eszközök módosítása | E13: =F13+G13+L17+M14 -> 11906 | G13: 5652 | H13: NK
A14: 3 | D14: eredeti előirányzat | J14: 4554 | L14: =SUM(I14:K14) -> 4554
A15: 4 | D15: módosított előirányzat 2. | J15: 4554 | L15: =SUM(I15:K15) -> 4554
A16: 5 | D16: módosítás- átcsoportosítás | J16: 1700 | L16: =SUM(I16:K16) -> 1700
A17: 6 | D17: módosított előirányzat 3. | J17: =SUM(J15:J16) -> 6254 | K17: =SUM(K14:K16) -> 0 | L17: =SUM(I17:K17) -> 6254
A18: 7 | C18: 2 | D18: Petőfi Sándor utca rekonstrukciója I-III. ütem | E18: =F18+G18+L22+M19 -> 218705 | F18: =83462 -> 83462 | G18: =134105 -> 134105 | H18: NK
A19: 8 | D19: eredeti előirányzat | I19: 500 | J19: 638 | L19: =SUM(I19:K19) -> 1138
A20: 9 | D20: módosított előirányzat 2. | I20: 500 | J20: 638 | L20: =SUM(I20:K20) -> 1138
A21: 10 | D21: módosítás- | L21: =SUM(I21:K21) -> 0
A22: 11 | D22: módosított előirányzat 3. | I22: =SUM(I20:I21) -> 500 | J22: =SUM(J20:J21) -> 638 | K22: =SUM(K20:K21) -> 0 | L22: =SUM(I22:K22) -> 1138
A23: 12 | C23: 3 | D23: Vörösmarty tér tömbbelső fejlesztés, I. ütem (csapadékvíz elvezetés kiépítése) + II. ütem | E23: =F23+G23+L27+M24 -> 74702 | F23: 18391 | G23: =26497+3 -> 26500 | H23: NK
A24: 13 | D24: eredeti előirányzat | I24: 327 | J24: 29484 | L24: =SUM(I24:K24) -> 29811
A25: 14 | D25: módosított előirányzat 2. | I25: 327 | J25: 29484 | L25: =SUM(I25:K25) -> 29811
A26: 15 | D26: módosítás- | L26: =SUM(I26:K26) -> 0
A27: 16 | D27: módosított előirányzat 3. | I27: =SUM(I25:I26) -> 327 | J27: =SUM(J25:J26) -> 29484 | K27: =SUM(K25:K26) -> 0 | L27: =SUM(I27:K27) -> 29811
A28: 17 | C28: 4 | D28: Kulturális negyed tervezése II. ütem | E28: =F28+G28+L32+M29 -> 3175 | H28: NK
A29: 18 | D29: eredeti előirányzat | J29: 3175 | L29: =SUM(I29:K29) -> 3175
A30: 19 | D30: módosított előirányzat 2. | J30: 3175 | L30: =SUM(I30:K30) -> 3175
A31: 20 | D31: módosítás- | L31: =SUM(I31:K31) -> 0
A32: 21 | D32: módosított előirányzat 3. | J32: =SUM(J30:J31) -> 3175 | K32: =SUM(K30:K31) -> 0 | L32: =SUM(I32:K32) -> 3175
A33: 22 | C33: 5 | D33: Bolgár Mihály utcai híd áteresz kapacitás bővítés, tervezés, engedélyezés, kivitelezés | E33: =F33+G33+L37+M34 -> 1905 | H33: NK
A34: 23 | D34: eredeti előirányzat | J34: 2000 | L34: =SUM(I34:K34) -> 2000
A35: 24 | D35: módosított előirányzat 2. | J35: 1905 | L35: =SUM(I35:K35) -> 1905
A36: 25 | D36: módosítás- | L36: =SUM(I36:K36) -> 0
A37: 26 | D37: módosított előirányzat 3. | J37: =SUM(J35:J36) -> 1905 | K37: =SUM(K35:K36) -> 0 | L37: =SUM(I37:K37) -> 1905
A38: 27 | C38: 6 | D38: Egry utcai óvoda új villamos és gáz betáp vezeték tervezése és kiépítése, villamos kapacitásbővítés | E38: =F38+G38+L42+M39 -> 4260 | G38: 305 | H38: NK
A39: 28 | D39: eredeti előirányzat | J39: 3955 | L39: =SUM(I39:K39) -> 3955
A40: 29 | D40: módosított előirányzat 2. | J40: 3955 | L40: =SUM(I40:K40) -> 3955
...

Sheet 8.Felúj.
B1: 8. melléklet a 5/2020. (II.27.) önkormányzati rendelethez
B2: A rendelet 8. mellékletét módosította a 17/2020. (IV.30.) Ör. 8. melléklete
B3: A rendelet 8. mellékletét módosította a 26/2020. (VI.26.) Ör. 8. melléklete
B4: A rendelet 8. mellékletét módosította a 37/2020. (IX.24.) Ör. 8. melléklete
B5: Veszprém Megyei Jogú Város Önkormányzata
B6: 2020. évi felújítási kiadások előirányzata
L7: adatok eFt-ban
B8: A | C8: B | D8: C | E8: D | F8: E | G8: F | H8: G | I8: H | J8: I | K8: J | L8: K
B9: Cím | C9: Alcím | D9: Megnevezés | E9: Teljes költség | F9: 2018. évi tény | G9: 2019. évi tény | H9: Feladatellátás jellege | I9: 2020. évi előirányzat | L9: 2020. év utáni javaslat
I10: Működési költségvetési kiadások | J10: Felhalmozási költségvetési kiadások | K10: Összesen
I11: Dologi kiadások | J11: Felújítási kiadások
A12: 1 | B12: 18 | C12: Önkormányzati felújítási kiadások
A13: 2 | C13: 1 | D13: Játszóeszközök felújítása (78/2003 GKM rendelet) | E13: =F13+G13+K17+L14 -> 21500 | F13: 10000 | G13: 9000 | H13: K
A14: 3 | D14: eredeti előirányzat | J14: 5000 | K14: =SUM(I14:J14) -> 5000
A15: 4 | D15: módosított előirányzat 2. | J15: 2500 | K15: =SUM(I15:J15) -> 2500
A16: 5 | D16: módosítás- | K16: =SUM(I16:J16) -> 0
A17: 6 | D17: módosított előirányzat 3. | J17: =SUM(J15:J16) -> 2500 | K17: =SUM(I17:J17) -> 2500
A18: 7 | C18: 2 | D18: Nagyfelületű út- és járdafelújítások | E18: =F18+G18+K22+L19 -> 310601 | F18: 127108 | G18: 129978 | H18: NK
A19: 8 | D19: eredeti előirányzat | J19: 158122 | K19: =SUM(I19:J19) -> 158122
A20: 9 | D20: módosított előirányzat 2. | J20: 53515 | K20: =SUM(I20:J20) -> 53515
A21: 10 | D21: módosítás- | K21: =SUM(I21:J21) -> 0
A22: 11 | D22: módosított előirányzat 3. | J22: =SUM(J20:J21) -> 53515 | K22: =SUM(I22:J22) -> 53515
A23: 12 | C23: 3 | D23: Vízrendezési feladatok, árkok felújítása | E23: =F23+G23+K27+L24 -> 50000 | G23: 450 | H23: K
A24: 13 | D24: eredeti előirányzat | J24: 49550 | K24: =SUM(I24:J24) -> 49550
A25: 14 | D25: módosított előirányzat 2. | J25: 49550 | K25: 49550
A26: 15 | D26: módosítás- | K26: =SUM(I26:J26) -> 0
A27: 16 | D27: módosított előirányzat 3. | J27: =SUM(J25:J26) -> 49550 | K27: =SUM(I27:J27) -> 49550
A28: 17 | C28: 4 | D28: Védett sírok felújítása az Alsóvárosi temetőben | E28: =F28+G28+K32+L29 -> 11252 | F28: 9999 | H28: NK
A29: 18 | D29: eredeti előirányzat | J29: 1235 | K29: =SUM(I29:J29) -> 1235
A30: 19 | D30: módosított előirányzat 2. | I30: 18 | J30: 1235 | K30: =SUM(I30:J30) -> 1253
A31: 20 | D31: módosítás- | K31: =SUM(I31:J31) -> 0
A32: 21 | D32: módosított előirányzat 3. | I32: =SUM(I30:I31) -> 18 | J32: =SUM(J30:J31) -> 1235 | K32: =SUM(I32:J32) -> 1253
A33: 22 | C33: 5 | D33: Polgármesteri Hivatal felújítási munkák | E33: =F33+G33+K37+L34 -> 3085 | F33: 2350 | G33: 735 | H33: NK
A34: 23 | D34: eredeti előirányzat | J34: 95 | K34: =SUM(I34:J34) -> 95
A35: 24 | D35: módosított előirányzat 2. | J35: 0 | K35: =SUM(I35:J35) -> 0
A36: 25 | D36: módosítás-
A37: 26 | D37: módosított előirányzat 3. | J37: =SUM(J35:J36) -> 0 | K37: =SUM(I37:J37) -> 0
A38: 27 | C38: 6 | D38: Kertészeti felújítások | E38: =F38+G38+K42+L39 -> 28500 | G38: 20000 | H38: NK
A39: 28 | D39: eredeti előirányzat | J39: 8500 | K39: =SUM(I39:J39) -> 8500
A40: 29 | D40: módosított előirányzat 2. | J40: 8500 | K40: =SUM(I40:J40) -> 8500
...

Sheet 9.Projekt
A1: 9. melléklet a 5/2020. (II.27.) önkormányzati rendelethez
A2: A rendelet 9. mellékletét módosította a 17/2020. (IV.30.) Ör. 9. melléklete
A3: a rendelet 9. mellékletét módosította a 26/2020. (VI.26.) Ör. 9. melléklete
A4: A rendelet 9. mellékletét módosította a 37/2020. (IX.24.) Ör. 9. melléklete
A5: Veszprém Megyei Jogú Város Önkormányzata
A6: Európai Uniós forrásból finanszírozott támogatással megvalósuló programok, projektek 2020. évi költségvetési kiadásainak előirányzata
P7: adatok eFt-ban
B8: A | C8: B | D8: C | E8: D | F8: E | G8: F | H8: G | I8: H | J8: I | K8: J | L8: K | M8: L | N8: M | O8: N | P8: O
B9: Cím | C9: Alcím | D9: Megnevezés | E9: Teljes költség* | F9: Teljesítés 2018. 12.31.-ig* | G9: 2019. évi tény* | H9: Feladatellátás jellege* | I9: 2020. évi előirányzat | P9: 2020. év utáni javaslat
I10: Működési költségvetési kiadások | M10: Felhalmozási költségvetési kiadások | O10: Összesen
I11: Személyi juttatások | J11: Munk.a. terh. Jár. És szoc.hj.adó | K11: Dologi kiadások | L11: Egyéb működési célú kiadások | M11: Beruházási kiadások | N11: Egyéb felhalmozási célú kiadások
A12: 1 | B12: 18 | C12: Veszprém Megyei Jogú Város Önkormányzata
A13: 2 | C13: 1 | D13: TOP-6.2.1-16-VP1-2018-00002 Egry úti óvoda újjáépítése | H13: NK
A14: 3 | D14: eredeti előirányzat | E14: =F14+G14+O17+P17 -> 1119735 | G14: 237 | K14: 1398 | M14: =201554+916546 -> 1118100 | O14: =SUM(I14:N14) -> 1119498
A15: 4 | D15: módosított előirányzat 2. | K15: 1398 | M15: 1118100 | O15: =SUM(I15:N15) -> 1119498
A16: 5 | D16: módosítás- átcsoportosítás | K16: 300 | M16: -300 | O16: =SUM(I16:N16) -> 0
A17: 6 | D17: módosított előirányzat 3. | K17: =SUM(K15:K16) -> 1698 | M17: =SUM(M15:M16) -> 1117800 | O17: =SUM(I17:N17) -> 1119498
A18: 7 | C18: 2 | D18: EFOP-1.9.9-17-2017-00004 Még jobb kezekben - Veszprémben | H18: NK
A19: 8 | D19: eredeti előirányzat | E19: =F19+G19+O22+P22 -> 25975 | F19: =6208+6205 -> 12413 | G19: =2345+10041 -> 12386 | I19: 73 | J19: 73 | K19: 509 | O19: =SUM(I19:N19) -> 655
A20: 9 | D20: módosított előirányzat 2. | I20: 74 | J20: 40 | K20: 302 | L20: 760 | O20: =SUM(I20:N20) -> 1176
A21: 10 | D21: módosítás- | O21: =SUM(I21:N21) -> 0
A22: 11 | D22: módosított előirányzat 3. | I22: =SUM(I20:I21) -> 74 | J22: =SUM(J20:J21) -> 40 | K22: =SUM(K20:K21) -> 302 | L22: =SUM(L20:L21) -> 760 | O22: =SUM(I22:N22) -> 1176
A23: 12 | C23: 3 | D23: TOP-6.5.1-16-VP1-2018-00004 Aprófalvi bölcsőde energetikai korszerűsítése | H23: NK
A24: 13 | D24: eredeti előirányzat | E24: =F24+G24+O27+P27 -> 282576 | F24: 6699 | K24: 278 | M24: =52777+222822 -> 275599 | O24: =SUM(I24:N24) -> 275877
A25: 14 | D25: módosított előirányzat 2. | K25: 278 | M25: 275599 | O25: =SUM(I25:N25) -> 275877
A26: 15 | D26: módosítás- | O26: =SUM(I26:N26) -> 0
A27: 16 | D27: módosított előirányzat 3. | K27: =SUM(K25:K26) -> 278 | M27: =SUM(M25:M26) -> 275599 | O27: =SUM(I27:N27) -> 275877
A28: 17 | C28: 4 | D28: TOP-6.6.1-16-VP1-2017-00002 Kádártai rendelő kialakítása | H28: NK
A29: 18 | D29: eredeti előirányzat | E29: =F29+G29+O32+P32 -> 66636 | F29: 143 | G29: =196+62988+1540 -> 64724 | K29: 61 | M29: 1708 | O29: =SUM(I29:N29) -> 1769
A30: 19 | D30: módosított előirányzat 2. | K30: 61 | M30: 1708 | O30: =SUM(I30:N30) -> 1769
A31: 20 | D31: módosítás- | O31: =SUM(I31:N31) -> 0
A32: 21 | D32: módosított előirányzat 3. | K32: =SUM(K30:K31) -> 61 | M32: =SUM(M30:M31) -> 1708 | O32: =SUM(I32:N32) -> 1769
A33: 22 | C33: 5 | D33: TOP-6.5.1-16-VP1-2018-00002 Völgyikút utca 2. szám alatti épület energetikai megújítása | H33: NK
A34: 23 | D34: eredeti előirányzat | E34: =F34+G34+O37+P37+3250 -> 175747 | F34: 6541 | K34: 382 | M34: =34933+130641 -> 165574 | O34: =SUM(I34:N34) -> 165956
A35: 24 | D35: módosított előirányzat 2. | K35: 382 | M35: 165574 | O35: =SUM(I35:N35) -> 165956
A36: 25 | D36: módosítás- | O36: =SUM(I36:N36) -> 0
A37: 26 | D37: módosított előirányzat 3. | K37: =SUM(K35:K36) -> 382 | M37: =SUM(M35:M36) -> 165574 | O37: =SUM(I37:N37) -> 165956
A38: 27 | C38: 6 | D38: TOP-6.6.1-16-VP1-2018-00004 Vilonyai utca 2/B szám alatti orvosi rendelő megújítása | H38: NK
A39: 28 | D39: eredeti előirányzat | E39: =F39+G39+O42+P42 -> 50792 | F39: 1956 | K39: 270 | M39: =7068+41498 -> 48566 | O39: =SUM(I39:N39) -> 48836
A40: 29 | D40: módosított előirányzat 2. | K40: 270 | M40: 48566 | O40: =SUM(I40:N40) -> 48836
...

Sheet 10.MVP és hazai
A1: 10. melléklet a 5/2020. (II.27.) önkormányzati rendelethez
A2: A rendelet 10. mellékletét módosította a 17/2020. (IV.30.) Ör. 10. melléklete
A3: A rendelet 10. mellékletét módosította a 26/2020. (VI.26.) Ör. 10. melléklete
A4: A rendelet 10. mellékletét módosította a 37/2020. (IX.24.) Ör. 10. melléklete
A5: Veszprém Megyei Jogú Város Önkormányzata
A6: Modern Városok Program és más hazai finanszírozásból megvalósuló feladatok 2020. évi költségvetési kiadásainak előirányzata
P7: adatok eFt-ban
B8: A | C8: B | D8: C | E8: D | F8: E | G8: F | H8: G | I8: H | J8: I | K8: J | L8: K | M8: L | N8: M | O8: N | P8: O
B9: Cím | C9: Alcím | D9: Megnevezés | E9: Teljes költség* | F9: Teljesítés 2018. 12.31.-ig** | G9: 2019. évi tény* | H9: Feladatellátás jellege* | I9: 2020. évi előirányzat | P9: 2020. év utáni javaslat
I10: Működési költségvetési kiadások | M10: Felhalmozási költségvetési kiadások | O10: Összesen
I11: Személyi juttatások | J11: Munk.a. terh. Jár. És szoc.hj.adó | K11: Dologi kiadások | L11: Egyéb működési célú kiadások | M11: Beruházási kiadások | N11: Egyéb felhalmozási célú kiadások
A12: 1 | B12: 18 | C12: Veszprém Megyei Jogú Város Önkormányzata
A13: 2 | C13: 1 | D13: Iparos Park | H13: NK
A14: 3 | D14: eredeti előirányzat | E14: =F14+G14+O17+P14 -> 8822998 | G14: =106200 -> 106200 | K14: 34384 | M14: 694452 | O14: =SUM(I14:N14) -> 728836 | P14: 4397322
A15: 4 | D15: módosított előirányzat 2. | K15: 97709 | M15: 4221767 | O15: =SUM(I15:N15) -> 4319476
A16: 5 | D16: módosítás- | O16: =SUM(I16:N16) -> 0
A17: 6 | D17: módosított előirányzat 3. | K17: =SUM(K15:K16) -> 97709 | M17: =SUM(M15:M16) -> 4221767 | O17: =SUM(I17:N17) -> 4319476
A18: 7 | C18: 2 | D18: Veszprémi Petőfi Színház komplex fejlesztése | H18: NK
A19: 8 | D19: eredeti előirányzat | E19: =F19+G19+O22+P19 -> 14460580 | F19: 324476 | G19: =2834+481562 -> 484396 | K19: 499 | M19: 3870629 | O19: =SUM(I19:N19) -> 3871128 | P19: 9780580
A20: 9 | D20: módosított előirányzat 2. | K20: 5715 | M20: 3865413 | O20: =SUM(I20:N20) -> 3871128
A21: 10 | D21: módosítás- | O21: =SUM(I21:N21) -> 0
A22: 11 | D22: módosított előirányzat 3. | K22: =SUM(K20:K21) -> 5715 | M22: =SUM(M20:M21) -> 3865413 | O22: =SUM(I22:N22) -> 3871128
A23: 12 | C23: 3 | D23: Kittenberger Kálmán Növény- és Vadaspark fejlesztése és bővítése | H23: NK
A24: 13 | D24: eredeti előirányzat | E24: =F24+G24+O27+P24 -> 1793189 | F24: 1281902 | G24: =1692 -> 1692 | K24: 658 | M24: =371256+137681 -> 508937 | O24: =SUM(I24:N24) -> 509595
A25: 14 | D25: módosított előirányzat 2. | K25: 658 | M25: 508937 | O25: =SUM(I25:N25) -> 509595
A26: 15 | D26: módosítás- | O26: =SUM(I26:N26) -> 0
A27: 16 | D27: módosított előirányzat 3. | K27: =SUM(K25:K26) -> 658 | M27: =SUM(M25:M26) -> 508937 | O27: =SUM(I27:N27) -> 509595
A28: 17 | C28: 4 | D28: Veszprémi Zeneművészeti Szakgimnázium és Alapfokú Művészeti Iskola intézményegysége, a Csermák Antal Zeneiskola felújításának megvalósítása | H28: NK
A29: 18 | D29: eredeti előirányzat | E29: =F29+G29+O32+P29 -> 1658925 | F29: 7043 | G29: =15189+980 -> 16169 | M29: =78617+738788 -> 817405 | O29: =SUM(I29:N29) -> 817405 | P29: =818308 -> 818308
A30: 19 | D30: módosított előirányzat 2. | K30: 15710 | M30: =817405-15710 -> 801695 | O30: =SUM(I30:N30) -> 817405
A31: 20 | D31: módosítás- | O31: =SUM(I31:N31) -> 0
A32: 21 | D32: módosított előirányzat 3. | K32: =SUM(K30:K31) -> 15710 | M32: =SUM(M30:M31) -> 801695 | O32: =SUM(I32:N32) -> 817405
A33: 22 | C33: 5 | D33: Veszprémi új Városi Jégcsarnok építése | H33: NK
A34: 23 | D34: eredeti előirányzat | E34: =F34+G34+O37+P34 -> 76282 | F34: 10737 | G34: 25052 | N34: 40493 | O34: =SUM(I34:N34) -> 40493
A35: 24 | D35: módosított előirányzat 2. | N35: 40493 | O35: =SUM(I35:N35) -> 40493
A36: 25 | D36: módosítás- | O36: =SUM(I36:N36) -> 0
A37: 26 | D37: módosított előirányzat 3. | N37: =SUM(N35:N36) -> 40493 | O37: =SUM(I37:N37) -> 40493
A38: 27 | C38: 6 | D38: Veszprémi Atlétikai Stadion felújítása - I. ütem (BMSK) | H38: NK
A39: 28 | D39: eredeti előirányzat | E39: =F39+G39+O42+P39 -> 250000 | K39: 500 | M39: 249500 | O39: =SUM(I39:N39) -> 250000
A40: 29 | D40: módosított előirányzat 2. | K40: 500 | M40: 249500 | O40: =SUM(I40:N40) -> 250000
...

Sheet 11.EKF
A1: 11. melléklet a 5/2020. (II.27.) önkormányzati rendelethez
A2: A rendelet 11. mellékletét módosította a 17/2020. (IV.30.) Ör. 11. melléklete
A3: A rendelet 11. mellékletét módosította a 26/2020. (VI.26.) Ör. 11. melléklete
A4: A rendelet 11. mellékletét módosította a 37/2020. (IX.24.) Ör. 11. melléklete
A5: Veszprém Megyei Jogú Város Önkormányzata
A6: Európa Kulturális Főváros 2020. évi költségvetési kiadásainak előirányzata
Q7: adatok eFt-ban
B8: A | C8: B | D8: C | E8: D | F8: E | G8: F | H8: G | I8: H | J8: I | K8: J | L8: K | M8: L | N8: M | O8: N | P8: O | Q8: P
B9: Cím | C9: Alcím | D9: Megnevezés | E9: Teljes költség* | F9: Teljesítés 2018. 12.31.-ig** | G9: 2019. évi tény* | H9: Feladatellátás jellege* | I9: 2020. évi előirányzat | Q9: 2020. év utáni javaslat
I10: Működési költségvetési kiadások | M10: Felhalmozási költségvetési kiadások | P10: Összesen
I11: Személyi juttatások | J11: Munk.a. terh. Jár. És szoc.hj.adó | K11: Dologi kiadások | L11: Egyéb működési célú kiadások | M11: Beruházási kiadások | N11: Felújítási kiadások | O11: Egyéb felhalmozási célú kiadások
A12: 1 | B12: 18 | C12: Veszprém Megyei Jogú Város Önkormányzata
A13: 2 | C13: 1 | D13: Európa Kulturális Fővárosa I. ütem | H13: NK
A14: 3 | D14: Működési kiadások
A15: 4 | D15: eredeti előirányzat | E15: =F15+G15+P18+2261 -> 335640 | G15: =50667+10996+4445+8177+635-1891 -> 73029 | I15: 1000 | J15: 500 | K15: =320196-4230-1500 -> 314466 | P15: =SUM(I15:O15) -> 315966
A16: 5 | D16: módosított előirányzat 2. | I16: 1000 | J16: 500 | K16: 303872 | P16: 305372
A17: 6 | D17: módosítás- | K17: -45022 | P17: =SUM(I17:O17) -> -45022
A18: 7 | D18: módosított előirányzat 3. | I18: =SUM(I16:I17) -> 1000 | J18: =SUM(J16:J17) -> 500 | K18: =SUM(K16:K17) -> 258850 | P18: =SUM(P16:P17) -> 260350
A19: 8 | D19: Felhalmozási kiadások
A20: 9 | D20: Dózsa György u. 2sz. Alatti épület felújítása (tervezés-előkészítés)
A21: 10 | D21: eredeti előirányzat | E21: =F21+G21+P24 -> 0 | N21: 68500 | P21: =SUM(I21:O21) -> 68500
A22: 11 | D22: módosított előirányzat 2. | N22: 0 | P22: =SUM(I22:O22) -> 0
