Workbook
Name onev: [1]kod!$BT$34:$BT$3186
Name onev: [2]kod!$BT$34:$BT$3186
Name onev: [2]kod!$BT$34:$BT$3186
Name onev: [1]kod!$BT$34:$BT$3186

Sheet 1.sz.tábla   (2)
A1: AZ ÖNKORMÁNYZAT 2018. ÉVI KÖLTSÉGVETÉSÉNEK FŐÖSSZESÍTŐJE
A5: MEGNEVEZÉS | B5: 2018. évi eredeti ei. | C5: 2018. évi módosított ei. I. | D5: Eltérés
A6: I. Működési célú támogatások államháztartáson belülről | B6: ='2.sz.tábla (2)'!K7 -> 1311563771 | C6: ='2.sz.tábla (2)'!L7 -> 1334532099 | D6: =C6-B6 -> 22968328
A7: II. Felhalmozási célú támogatások államháztartáson belülről | B7: ='2.sz.tábla (2)'!K22 -> 1808340761 | C7: ='2.sz.tábla (2)'!L22 -> 2042262550 | D7: =C7-B7 -> 233921789
A8: III. Közhatalmi bevételek | B8: ='2.sz.tábla (2)'!K30 -> 1755525000 | C8: ='2.sz.tábla (2)'!L30 -> 1755525000 | D8: =C8-B8 -> 0
A9: IV. Működési bevételek | B9: ='2.sz.tábla (2)'!K43 -> 1130562963 | C9: ='2.sz.tábla (2)'!L43 -> 1129378897 | D9: =C9-B9 -> -1184066
A10: V. Felhalmozási bevételek | B10: ='2.sz.tábla (2)'!K58 -> 509250000 | C10: ='2.sz.tábla (2)'!L58 -> 509461023 | D10: =C10-B10 -> 211023
A11: VI. Működési célú átvett pénzeszközök | B11: ='2.sz.tábla (2)'!K66 -> 0 | C11: ='2.sz.tábla (2)'!L66 -> 16578317 | D11: =C11-B11 -> 16578317
A12: VII. Felhalmozási célú átvett pénzeszközök | B12: ='2.sz.tábla (2)'!K70 -> 625906935 | C12: ='2.sz.tábla (2)'!L70 -> 625906935 | D12: =C12-B12 -> 0
A13: Költségvetési bevételek összesen: | B13: =SUM(B6:B12) -> 7141149430 | C13: =SUM(C6:C12) -> 7413644821 | D13: =C13-B13 -> 272495391
A14: VIII. Finanszírozási bevételek
A15: 1. Költségvetési hiány belső finanszírozására szolgáló finanszírozási bevételek | B15: ='2.sz.tábla (2)'!K76 -> 1354551579 | C15: ='2.sz.tábla (2)'!L76 -> 1691378713 | D15: =C15-B15 -> 336827134
A16: 2. Költségvetési hiány külső finanszírozására szolgáló finanszírozási célú pénzügyi műveletek bevételei | B16: ='2.sz.tábla (2)'!K79 -> 1012800000 | C16: ='2.sz.tábla (2)'!L79 -> 1669499723 | D16: =C16-B16 -> 656699723
A17: Finanszírozási bevételek összesen: | B17: =SUM(B15:B16) -> 2367351579 | C17: =SUM(C15:C16) -> 3360878436 | D17: =C17-B17 -> 993526857
A18: Bevételek összesen: | B18: =B13+B17 -> 9508501009 | C18: =C13+C17 -> 10774523257 | D18: =C18-B18 -> 1266022248
D19: =C19-B19 -> 0
A20: Működési kiadások | B20: =SUM(B21:B23) -> 2934091574 | C20: =SUM(C21:C23) -> 3044820393 | D20: =C20-B20 -> 110728819
A21: Önkormányzat | B21: ='5.tábla (2)'!B121 -> 2167234646 | C21: ='5.tábla (2)'!C121 -> 2236846938 | D21: =C21-B21 -> 69612292
A22: Önkormányzati Hivatal | B22: ='5.tábla (2)'!B20 -> 427144569 | C22: ='5.tábla (2)'!C20 -> 453694859 | D22: =C22-B22 -> 26550290
A23: Intézmények | B23: ='4.sz.tábla '!AL9-'4.sz.tábla '!V9 -> 339712359 | C23: ='4.sz.tábla '!AM9-'4.sz.tábla '!W9 -> 354278596 | D23: =C23-B23 -> 14566237
D24: =C24-B24 -> 0
A25: Felhalmozási kiadások | B25: =SUM(B26:B28) -> 5012051133 | C25: =SUM(C26:C28) -> 5869120373 | D25: =C25-B25 -> 857069240
A26: Fejlesztési kiadások | B26: ='7. sz. tábla 1'!B182 -> 4915470643 | C26: ='7. sz. tábla 1'!C182 -> 5765224468 | D26: =C26-B26 -> 849753825
A27: Intézm saját hatásk fejl | B27: ='4.sz.tábla '!V11 -> 23431060 | C27: ='4.sz.tábla '!W11 -> 30746475 | D27: =C27-B27 -> 7315415
A28: Felújítás | B28: ='6.sz.tábla '!B116 -> 73149430 | C28: ='6.sz.tábla '!C116 -> 73149430 | D28: =C28-B28 -> 0
D29: =C29-B29 -> 0
A30: Tartalékok | B30: =SUM(B31:B32) -> 442264102 | C30: =SUM(C31:C32) -> 280488291 | D30: =C30-B30 -> -161775811
A31: Általános | B31: =389744292+800000+6500000 -> 397044292 | C31: 162835115 | D31: =C31-B31 -> -234209177
A32: Cél | B32: =B39 -> 45219810 | C32: =C39 -> 117653176 | D32: =C32-B32 -> 72433366
A33: Költségvetési kiadások összesen: | B33: =SUM(B30,B25,B20) -> 8388406809 | C33: =SUM(C30,C25,C20) -> 9194429057 | D33: =C33-B33 -> 806022248
A34: Hiteltörlesztés | B34: ='7. sz. tábla 1'!B184 -> 74242424 | C34: ='7. sz. tábla 1'!C184 -> 74242424 | D34: =C34-B34 -> 0
A35: Államháztartáson belüli megelőlegezés visszafizetés | B35: ='7. sz. tábla 1'!B186 -> 45851776 | C35: ='7. sz. tábla 1'!C186 -> 45851776 | D35: =C35-B35 -> 0
A36: Forgatási célú értékpapír vásárlása | B36: ='7. sz. tábla 1'!B185 -> 1000000000 | C36: ='7. sz. tábla 1'!C185 -> 1460000000 | D36: =C36-B36 -> 460000000
A37: Finanszírozási kiadások összesen: | B37: =SUM(B34:B36) -> 1120094200 | C37: =SUM(C34:C36) -> 1580094200 | D37: =C37-B37 -> 460000000
A38: Kiadások összesen: | B38: =SUM(B33,B37) -> 9508501009 | C38: =SUM(C33,C37) -> 10774523257 | D38: =C38-B38 -> 1266022248 | F38: =D18-D38 -> 0
A39: Céltartalék: | B39: =SUM(B40:B52) -> 45219810 | C39: =SUM(C40:C52) -> 117653176 | D39: =C39-B39 -> 72433366
A40: MÁK forgótőke | B40: 660000 | C40: 660000 | D40: =C40-B40 -> 0
A41: környezetvédelmi alap | B41: 8412487 | C41: 8412487 | D41: =C41-B41 -> 0
A42: Polgármester saját hatáskörű keret | B42: 5000000 | C42: 2483000 | D42: =C42-B42 -> -2517000
A43: Népház, posta pénzügyi alap | B43: 20904901 | C43: 20107122 | D43: =C43-B43 -> -797779
...

Sheet 2.sz.tábla   (2)
A3: BEVÉTELEK ELŐIRÁNYZATA 2018. ÉV
A5: MEGNEVEZÉS | B5: ÖNKORMÁNYZAT | E5: BALATONFÜREDI KÖZÖS ÖNKORMÁNYZATI HIVATAL | H5: KÖLTSÉGVETÉSI SZERVEK | K5: ÖNKORMÁNYZAT ÖSSZESEN
B6: 2018. évi eredeti ei. | C6: 2018. évi módosított ei. I. | D6: Eltérés | E6: 2018. évi eredeti ei. | F6: 2018. évi módosított ei. I. | G6: Eltérés | H6: 2018. évi eredeti ei. | I6: 2018. évi módosított ei. I. | J6: Eltérés | K6: 2018. évi eredeti ei. | L6: 2018. évi módosított ei. I. | M6: Eltérés
A7: I. Működési célú támogatások államháztartáson belülről | B7: =B8+B16+B17+B18+B19+B20 -> 1166764644 | C7: =C8+C16+C17+C18+C19+C20 -> 1181437317 | D7: =C7-B7 -> 14672673 | E7: =E8+E16+E17+E18+E19+E20 -> 22871493 | F7: =F8+F16+F17+F18+F19+F20 -> 28474773 | G7: =F7-E7 -> 5603280 | H7: =H8+H16+H17+H18+H19+H20 -> 121927634 | I7: =I8+I16+I17+I18+I19+I20 -> 124620009 | J7: =I7-H7 -> 2692375 | K7: =K8+K16+K17+K18+K19+K20 -> 1311563771 | L7: =L8+L16+L17+L18+L19+L20 -> 1334532099 | M7: =L7-K7 -> 22968328
A8: 1. Önkormányzat működési támogatásai | B8: =SUM(B9:B15) -> 913185557 | C8: =SUM(C9:C15) -> 930171338 | D8: =C8-B8 -> 16985781 | E8: =SUM(E9:E15) -> 0 | F8: =SUM(F9:F15) -> 0 | G8: =F8-E8 -> 0 | H8: =SUM(H9:H15) -> 0 | I8: =SUM(I9:I15) -> 0 | J8: =I8-H8 -> 0 | K8: =SUM(K9:K15) -> 913185557 | L8: =SUM(L9:L15) -> 930171338 | M8: =L8-K8 -> 16985781
A9: 1.1. Helyi önk. működésének ált. támogatása | B9: ='2b. tábla 2018'!E5 -> 465551718 | C9: ='2b. tábla 2018'!H5 -> 466084248 | D9: =C9-B9 -> 532530 | K9: =SUM(B9+E9+H9) -> 465551718 | L9: =SUM(C9+F9+I9) -> 466084248 | M9: =L9-K9 -> 532530
A10: 1.2. Települési önk. egyes köznev. feladatainak támogatása | B10: ='2b. tábla 2018'!E30 -> 248514968 | C10: ='2b. tábla 2018'!H30 -> 248315735 | D10: =C10-B10 -> -199233 | K10: =SUM(B10+E10+H10) -> 248514968 | L10: =SUM(C10+F10+I10) -> 248315735 | M10: =L10-K10 -> -199233
A11: 1.3. Települési önk. szoc. és gyermekjóléti feladatainak tám. | B11: ='2b. tábla 2018'!E42 -> 182314391 | C11: ='2b. tábla 2018'!H42 -> 194146642 | D11: =C11-B11 -> 11832251 | K11: =SUM(B11+E11+H11) -> 182314391 | L11: =SUM(C11+F11+I11) -> 194146642 | M11: =L11-K11 -> 11832251
A12: 1.4. Települési önk. kult. feladatainak támogatása | B12: ='2b. tábla 2018'!E67 -> 16804480 | C12: ='2b. tábla 2018'!H67 -> 19634671 | D12: =C12-B12 -> 2830191 | K12: =SUM(B12+E12+H12) -> 16804480 | L12: =SUM(C12+F12+I12) -> 19634671 | M12: =L12-K12 -> 2830191
A13: 1.5. Működési célú költségvetési támogatások és kiegészítő támogatások | B13: ='2b. tábla 2018'!E72 -> 0 | C13: ='2b. tábla 2018'!H72 -> 1990042 | D13: =C13-B13 -> 1990042 | K13: =SUM(B13+E13+H13) -> 0 | L13: =SUM(C13+F13+I13) -> 1990042 | M13: =L13-K13 -> 1990042
A14: 1.6. Elszámolásból származó bevételek | K14: =SUM(B14+E14+H14) -> 0 | L14: =SUM(C14+F14+I14) -> 0 | M14: =L14-K14 -> 0
A15: 1.7. Vis major | M15: =L15-K15 -> 0
A16: 2. Elvonások, befizetések | M16: =L16-K16 -> 0
A17: 3. Működési célú garancia- és kezességvállalásból származó megtérülések áh-n belülről | M17: =L17-K17 -> 0
A18: 4. Működési célú visszatérítendő támogatások, kölcsönök visszatérülése áh-n belülről | M18: =L18-K18 -> 0
A19: 5. Működési célú visszatérítendő támogatások, kölcsönök igénybevétele áh-n belülről | M19: =L19-K19 -> 0
A20: 6. Egyéb működési célú támogatások bevételei államháztartáson belülről | B20: 253579087 | C20: 251265979 | D20: =C20-B20 -> -2313108 | E20: ='2.a tábla ÚJ '!O13 -> 22871493 | F20: ='2.a tábla ÚJ '!P13 -> 28474773 | G20: =F20-E20 -> 5603280 | H20: ='2.a tábla ÚJ '!K13 -> 121927634 | I20: ='2.a tábla ÚJ '!L13 -> 124620009 | J20: =I20-H20 -> 2692375 | K20: =B20+E20+H20 -> 398378214 | L20: =C20+F20+I20 -> 404360761 | M20: =L20-K20 -> 5982547
A21: ebből működési célú támogatás társadalombiztosítási alapból | H21: ='2.a tábla ÚJ '!K14 -> 117000000 | I21: ='2.a tábla ÚJ '!L14 -> 119692376 | J21: =I21-H21 -> 2692376 | K21: =B21+E21+H21 -> 117000000 | L21: =C21+F21+I21 -> 119692376 | M21: =L21-K21 -> 2692376
A22: II. Felhalmozási célú támogatások államháztartáson belülről | B22: =B23+B24+B25+B26+B27 -> 1808340761 | C22: =C23+C24+C25+C26+C27 -> 2041827011 | D22: =C22-B22 -> 233486250 | E22: =E23+E24+E25+E26+E27 -> 0 | H22: =H23+H24+H25+H26+H27 -> 0 | I22: =I23+I24+I25+I26+I27 -> 435539 | J22: =I22-H22 -> 435539 | K22: =K23+K24+K25+K26+K27 -> 1808340761 | L22: =L23+L24+L25+L26+L27 -> 2042262550 | M22: =L22-K22 -> 233921789
A23: 1. Felhalmozási célú önkormányzati támogatások | B23: 0 | K23: =B23+E23+H23 -> 0 | L23: =C23+F23+I23 -> 0 | M23: =L23-K23 -> 0
A24: 2. Felhalmozási célú garancia- és kezességvállalásból származó megtérülések áh-n belülről | K24: =B24+E24+H24 -> 0 | L24: =C24+F24+I24 -> 0 | M24: =L24-K24 -> 0
A25: 3. Felhalmozási célú visszatérítendő támogatások, kölcsönök visszatérülése áh-n belülről | K25: =B25+E25+H25 -> 0 | L25: =C25+F25+I25 -> 0 | M25: =L25-K25 -> 0
A26: 4. Felhalmozási célú visszatérítendő támogatások, kölcsönök igénybevétele áh-n belülről | K26: =B26+E26+H26 -> 0 | L26: =C26+F26+I26 -> 0 | M26: =L26-K26 -> 0
A27: 5. Egyéb felhalmozási célú támogatások államháztartáson belülről | B27: 1808340761 | C27: 2041827011 | D27: =C27-B27 -> 233486250 | H27: ='2.a tábla ÚJ '!K16 -> 0 | I27: ='2.a tábla ÚJ '!L16 -> 435539 | J27: ='2.a tábla ÚJ '!M16 -> 435539 | K27: =B27+E27+H27 -> 1808340761 | L27: =C27+F27+I27 -> 2042262550 | M27: =L27-K27 -> 233921789
A28: MEGNEVEZÉS | B28: ÖNKORMÁNYZAT | E28: BALATONFÜREDI KÖZÖS ÖNKORMÁNYZATI HIVATAL | H28: KÖLTSÉGVETÉSI SZERVEK | K28: ÖNKORMÁNYZAT ÖSSZESEN
B29: 2018. évi eredeti ei. | C29: 2018. évi módosított ei. I. | D29: Eltérés | E29: 2018. évi eredeti ei. | F29: 2018. évi módosított ei. I. | G29: Eltérés | H29: 2018. évi eredeti ei. | I29: 2018. évi módosított ei. I. | J29: Eltérés | K29: 2018. évi eredeti ei. | L29: 2018. évi módosított ei. I. | M29: Eltérés
A30: III. Közhatalmi bevételek | B30: =B31+B34+B42 -> 1754525000 | C30: =C31+C34+C42 -> 1754525000 | D30: =C30-B30 -> 0 | E30: =E31+E34+E42 -> 1000000 | F30: =F31+F34+F42 -> 1000000 | G30: =F30-E30 -> 0 | H30: =H31+H34+H42 -> 0 | I30: =I31+I34+I42 -> 0 | J30: =I30-H30 -> 0 | K30: =SUM(B30+E30+H30) -> 1755525000 | L30: =SUM(C30+F30+I30) -> 1755525000 | M30: =L30-K30 -> 0
A31: 1. Vagyoni típusú adók | B31: =SUM(B32:B33) -> 447000000 | C31: =SUM(C32:C33) -> 447000000 | D31: =C31-B31 -> 0 | E31: =SUM(E32:E33) -> 0 | F31: =SUM(F32:F33) -> 0 | G31: =F31-E31 -> 0 | H31: =SUM(H32:H33) -> 0 | I31: =SUM(I32:I33) -> 0 | J31: =I31-H31 -> 0 | K31: =SUM(B31+E31+H31) -> 447000000 | L31: =SUM(C31+F31+I31) -> 447000000 | M31: =L31-K31 -> 0
A32: 1.1. Építményadó | B32: 420000000 | C32: 420000000 | D32: =C32-B32 -> 0 | G32: =F32-E32 -> 0 | J32: =I32-H32 -> 0 | K32: =SUM(B32+E32+H32) -> 420000000 | L32: =SUM(C32+F32+I32) -> 420000000 | M32: =L32-K32 -> 0
A33: 1.2. Telekadó | B33: 27000000 | C33: 27000000 | D33: =C33-B33 -> 0 | G33: =F33-E33 -> 0 | J33: =I33-H33 -> 0 | K33: =SUM(B33+E33+H33) -> 27000000 | L33: =SUM(C33+F33+I33) -> 27000000 | M33: =L33-K33 -> 0
A34: 2. Termékek és szolgáltatások adói | B34: =B35+B37+B38 -> 1276000000 | C34: =C35+C37+C38 -> 1276000000 | D34: =C34-B34 -> 0 | E34: =E35+E37+E38 -> 0 | F34: =F35+F37+F38 -> 0 | G34: =F34-E34 -> 0 | H34: =H35+H37+H38 -> 0 | I34: =I35+I37+I38 -> 0 | J34: =I34-H34 -> 0 | K34: =SUM(B34+E34+H34) -> 1276000000 | L34: =SUM(C34+F34+I34) -> 1276000000 | M34: =L34-K34 -> 0
A35: 2.1. Értékesítési és forgalmi adók | B35: =SUM(B36) -> 840000000 | C35: =SUM(C36) -> 840000000 | D35: =C35-B35 -> 0 | G35: =F35-E35 -> 0 | J35: =I35-H35 -> 0 | K35: =SUM(B35+E35+H35) -> 840000000 | L35: =SUM(C35+F35+I35) -> 840000000 | M35: =L35-K35 -> 0
A36: 2.1. 1. Iparűzési adó | B36: 840000000 | C36: 840000000 | D36: =C36-B36 -> 0 | G36: =F36-E36 -> 0 | J36: =I36-H36 -> 0 | K36: =SUM(B36+E36+H36) -> 840000000 | L36: =SUM(C36+F36+I36) -> 840000000 | M36: =L36-K36 -> 0
A37: 2.2. Gépjárműadók | B37: 52000000 | C37: 52000000 | D37: =C37-B37 -> 0 | G37: =F37-E37 -> 0 | J37: =I37-H37 -> 0 | K37: =SUM(B37+E37+H37) -> 52000000 | L37: =SUM(C37+F37+I37) -> 52000000 | M37: =L37-K37 -> 0
A38: 2.3. Egyéb áruhasználati és szolgáltatási adók | B38: =SUM(B39:B41) -> 384000000 | C38: =SUM(C39:C41) -> 384000000 | D38: =C38-B38 -> 0 | E38: =SUM(E39:E41) -> 0 | F38: =SUM(F39:F41) -> 0 | G38: =F38-E38 -> 0 | H38: =SUM(H39:H41) -> 0 | I38: =SUM(I39:I41) -> 0 | J38: =I38-H38 -> 0 | K38: =SUM(B38+E38+H38) -> 384000000 | L38: =SUM(C38+F38+I38) -> 384000000 | M38: =L38-K38 -> 0
A39: 2.3.1. Ifa személyek u. | B39: 384000000 | C39: 384000000 | D39: =C39-B39 -> 0 | G39: =F39-E39 -> 0 | J39: =I39-H39 -> 0 | K39: =SUM(B39+E39+H39) -> 384000000 | L39: =SUM(C39+F39+I39) -> 384000000 | M39: =L39-K39 -> 0
A40: 2.3.2. Talajterhelési díj | D40: =C40-B40 -> 0 | G40: =F40-E40 -> 0 | J40: =I40-H40 -> 0 | K40: =SUM(B40+E40+H40) -> 0 | L40: =SUM(C40+F40+I40) -> 0 | M40: =L40-K40 -> 0
A41: 2.3.3. Települési adó | D41: =C41-B41 -> 0 | G41: =F41-E41 -> 0 | J41: =I41-H41 -> 0 | K41: =SUM(B41+E41+H41) -> 0 | L41: =SUM(C41+F41+I41) -> 0 | M41: =L41-K41 -> 0
A42: 3. Egyéb közhatalmi bevételek (bírság, pótlék, településrendezési szerz.) | B42: 31525000 | C42: 31525000 | D42: =C42-B42 -> 0 | E42: ='2.a tábla ÚJ '!O20 -> 1000000 | F42: ='2.a tábla ÚJ '!P20 -> 1000000 | G42: =F42-E42 -> 0 | J42: =I42-H42 -> 0 | K42: =SUM(B42+E42+H42) -> 32525000 | L42: =SUM(C42+F42+I42) -> 32525000 | M42: =L42-K42 -> 0
A43: IV. Működési bevételek | B43: =B44+B45+B47+B48+B51+B52+B53+B54+B57+B55+B56 -> 1057959432 | C43: =C44+C45+C47+C48+C51+C52+C53+C54+C57+C55+C56 -> 1052444839 | D43: =C43-B43 -> -5514593 | E43: =E44+E45+E47+E48+E51+E52+E53+E54+E57+E55+E56 -> 25146000 | F43: =F44+F45+F47+F48+F51+F52+F53+F54+F57+F55+F56 -> 29476527 | G43: =F43-E43 -> 4330527 | H43: =H44+H45+H47+H48+H51+H52+H53+H54+H57+H55+H56 -> 47457531 | I43: =I44+I45+I47+I48+I51+I52+I53+I54+I57+I55+I56 -> 47457531 | J43: =I43-H43 -> 0 | K43: =SUM(B43+E43+H43) -> 1130562963 | L43: =SUM(C43+F43+I43) -> 1129378897 | M43: =L43-K43 -> -1184066
...

Sheet 2.a tábla ÚJ 
A6: BEVÉTELEK ELŐIRÁNYZATA INTÉZMÉNYEK SZERINTI BONTÁSBAN 2018. ÉV
A10: MEGNEVEZÉS | B10: LIPTÁK GÁBOR VÁROSI KÖNYVTÁR | E10: BALATONFÜREDI VÁROSI SZAKORVOSI RENDELŐINTÉZET | H10: BALATONFÜREDI VÁROSI BÖLCSŐDE | K10: KÖLTSÉGVETÉSI SZERVEK ÖSSZESEN | O10: BALATONFÜREDI KÖZÖS ÖNKORMÁNYZATI HIVATAL
B11: 2018. évi eredeti ei. | C11: 2018. évi módosított ei. I. | D11: Eltérés | E11: 2018. évi eredeti ei. | F11: 2018. évi módosított ei. I. | G11: Eltérés | H11: 2018. évi eredeti ei. | I11: 2018. évi módosított ei. I. | J11: Eltérés | K11: 2018. évi eredeti ei. | L11: 2018. évi módosított ei. I. | M11: Eltérés | O11: 2018. évi eredeti ei. | P11: 2018. évi módosított ei. I. | Q11: Eltérés
A12: I. Működési célú támogatások államházatartáson belülről | B12: =B13 -> 984271 | C12: =C13 -> 984271 | D12: =C12-B12 -> 0 | E12: =E13 -> 118878941 | F12: =F13 -> 121571316 | G12: =F12-E12 -> 2692375 | H12: =H13 -> 2064422 | I12: =I13 -> 2064422 | J12: =I12-H12 -> 0 | K12: =K13 -> 121927634 | L12: =L13 -> 124620009 | M12: =L12-K12 -> 2692375 | N12: =N13+N16 -> 0 | O12: =O13+O16 -> 22871493 | P12: =P13+P16 -> 28474773 | Q12: =P12-O12 -> 5603280
A13: 6. Egyéb működési célú támogatások bevételei államháztartáson belülről | B13: 984271 | C13: 984271 | D13: =C13-B13 -> 0 | E13: 118878941 | F13: 121571316 | G13: =F13-E13 -> 2692375 | H13: 2064422 | I13: 2064422 | J13: =I13-H13 -> 0 | K13: =B13+E13+H13 -> 121927634 | L13: =C13+F13+I13 -> 124620009 | M13: =L13-K13 -> 2692375 | O13: 22871493 | P13: 28474773 | Q13: =P13-O13 -> 5603280
A14: ebből működési célú támogatás társadalombiztosítási alapból | D14: =C14-B14 -> 0 | E14: 117000000 | F14: 119692376 | G14: =F14-E14 -> 2692376 | J14: =I14-H14 -> 0 | K14: =B14+E14+H14 -> 117000000 | L14: =C14+F14+I14 -> 119692376 | M14: =L14-K14 -> 2692376 | Q14: =P14-O14 -> 0
A15: II. Felhalmozási célú támogatások államháztartáson belülről | B15: =B16 -> 0 | C15: =C16 -> 0 | D15: =C15-B15 -> 0 | E15: =E16 -> 0 | F15: =F16 -> 435539 | G15: =F15-E15 -> 435539 | H15: =H16 -> 0 | I15: =I16 -> 0 | J15: =I15-H15 -> 0 | K15: =B15+E15+H15 -> 0 | L15: =C15+F15+I15 -> 435539 | M15: =L15-K15 -> 435539 | N15: =N16 -> 0 | Q15: =P15-O15 -> 0
A16: 4. Egyéb felhalmozási célú támogatások államháztartáson belülről | D16: =C16-B16 -> 0 | F16: 435539 | G16: =F16-E16 -> 435539 | J16: =I16-H16 -> 0 | K16: =B16+E16+H16 -> 0 | L16: =C16+F16+I16 -> 435539 | M16: =L16-K16 -> 435539 | Q16: =P16-O16 -> 0
A17: II. Közhatalmi bevételek | D17: =C17-B17 -> 0 | G17: =F17-E17 -> 0 | J17: =I17-H17 -> 0 | K17: =B17+E17+H17 -> 0 | L17: =C17+F17+I17 -> 0 | M17: =L17-K17 -> 0 | N17: =#REF!+#REF!+#REF!+#REF!+#REF! -> #REF! | O17: =SUM(O18:O20) -> 1000000 | P17: =SUM(P18:P20) -> 1000000 | Q17: =P17-O17 -> 0
A18: 1. Vagyoni típusú adók | D18: =C18-B18 -> 0 | G18: =F18-E18 -> 0 | J18: =I18-H18 -> 0 | K18: =B18+E18+H18 -> 0 | L18: =C18+F18+I18 -> 0 | M18: =L18-K18 -> 0 | N18: =#REF!+#REF!+#REF!+#REF!+#REF!+#REF!+#REF!+#REF!+#REF!+#REF!+#REF!+#REF!+#REF!+#REF!+#REF! -> #REF! | Q18: =P18-O18 -> 0
A19: 2. Termékek és szolgáltatások adói | D19: =C19-B19 -> 0 | G19: =F19-E19 -> 0 | J19: =I19-H19 -> 0 | K19: =B19+E19+H19 -> 0 | L19: =C19+F19+I19 -> 0 | M19: =L19-K19 -> 0 | Q19: =P19-O19 -> 0
A20: 3. Egyéb közhatalmi bevételek (bírság, pótlék,) | D20: =C20-B20 -> 0 | G20: =F20-E20 -> 0 | J20: =I20-H20 -> 0 | K20: =B20+E20+H20 -> 0 | L20: =C20+F20+I20 -> 0 | M20: =L20-K20 -> 0 | O20: 1000000 | P20: 1000000 | Q20: =P20-O20 -> 0
A21: 1V. Működési bevételek | B21: =B22+B23+B25+B26+B27+B28+B29+B30+B33 -> 12134000 | C21: =C22+C23+C25+C26+C27+C28+C29+C30+C33 -> 12134000 | D21: =C21-B21 -> 0 | E21: =E22+E23+E25+E26+E27+E28+E29+E30+E33 -> 34560000 | F21: =F22+F23+F25+F26+F27+F28+F29+F30+F33 -> 34560000 | G21: =F21-E21 -> 0 | H21: =H22+H23+H25+H26+H27+H28+H29+H30+H33 -> 763531 | I21: =I22+I23+I25+I26+I27+I28+I29+I30+I33 -> 763531 | J21: =I21-H21 -> 0 | K21: =K22+K23+K25+K26+K27+K28+K29+K30+K33 -> 47457531 | L21: =L22+L23+L25+L26+L27+L28+L29+L30+L33 -> 47457531 | M21: =L21-K21 -> 0 | N21: =N22+N23+N25+N26+N27+N28+N29+N30+N33 -> #REF! | O21: =O22+O23+O25+O26+O27+O28+O29+O30+O33 -> 25146000 | P21: =P22+P23+P25+P26+P27+P28+P29+P30+P33 -> 29476527 | Q21: =P21-O21 -> 4330527
A22: 1. Készletértékesítés bevétele | D22: =C22-B22 -> 0 | G22: =F22-E22 -> 0 | J22: =I22-H22 -> 0 | K22: =B22+E22+H22 -> 0 | L22: =C22+F22+I22 -> 0 | M22: =L22-K22 -> 0 | N22: =#REF!+#REF!+#REF!+#REF!+#REF! -> #REF! | Q22: =P22-O22 -> 0
A23: 2. Szolgáltatások ellenértéke | B23: =2319000+6068000 -> 8387000 | C23: 8387000 | D23: =C23-B23 -> 0 | E23: 34560000 | F23: 34560000 | G23: =F23-E23 -> 0 | J23: =I23-H23 -> 0 | K23: =B23+E23+H23 -> 42947000 | L23: =C23+F23+I23 -> 42947000 | M23: =L23-K23 -> 0 | N23: =#REF!+#REF!+#REF!+#REF!+#REF! -> #REF! | O23: 17850000 | P23: 17850000 | Q23: =P23-O23 -> 0
A24: Ebből: bérleti díj | D24: =C24-B24 -> 0 | G24: =F24-E24 -> 0 | J24: =I24-H24 -> 0 | K24: =B24+E24+H24 -> 0 | L24: =C24+F24+I24 -> 0 | M24: =L24-K24 -> 0 | N24: =#REF!+#REF!+#REF!+#REF!+#REF! -> #REF! | O24: 6500000 | P24: 6500000 | Q24: =P24-O24 -> 0
A25: 3. Közvetített szolgáltatások ellenértéke | D25: =C25-B25 -> 0 | G25: =F25-E25 -> 0 | J25: =I25-H25 -> 0 | K25: =B25+E25+H25 -> 0 | L25: =C25+F25+I25 -> 0 | M25: =L25-K25 -> 0 | N25: =#REF!+#REF!+#REF!+#REF!+#REF! -> #REF! | O25: 1950000 | P25: 6223550 | Q25: =P25-O25 -> 4273550
A26: 4. Tulajdonosi bevételek | D26: =C26-B26 -> 0 | G26: =F26-E26 -> 0 | J26: =I26-H26 -> 0 | K26: =B26+E26+H26 -> 0 | L26: =C26+F26+I26 -> 0 | M26: =L26-K26 -> 0 | N26: =#REF!+#REF!+#REF!+#REF!+#REF! -> #REF! | Q26: =P26-O26 -> 0
A27: 5. Ellátási díjak | D27: =C27-B27 -> 0 | G27: =F27-E27 -> 0 | H27: 601205 | I27: 601205 | J27: =I27-H27 -> 0 | K27: =B27+E27+H27 -> 601205 | L27: =C27+F27+I27 -> 601205 | M27: =L27-K27 -> 0 | N27: =#REF!+#REF!+#REF!+#REF!+#REF! -> #REF! | Q27: =P27-O27 -> 0
A28: 6. Kiszámlázott Áfa | B28: =451000+1638000 -> 2089000 | C28: 2089000 | D28: =C28-B28 -> 0 | G28: =F28-E28 -> 0 | H28: 162326 | I28: 162326 | J28: =I28-H28 -> 0 | K28: =B28+E28+H28 -> 2251326 | L28: =C28+F28+I28 -> 2251326 | M28: =L28-K28 -> 0 | N28: =#REF!+#REF!+#REF!+#REF!+#REF! -> #REF! | O28: 5346000 | P28: 5402977 | Q28: =P28-O28 -> 56977
A29: 7. Áfa visszatérítés | B29: 1638000 | C29: 1638000 | D29: =C29-B29 -> 0 | G29: =F29-E29 -> 0 | J29: =I29-H29 -> 0 | K29: =B29+E29+H29 -> 1638000 | L29: =C29+F29+I29 -> 1638000 | M29: =L29-K29 -> 0 | N29: =#REF!+#REF!+#REF!+#REF!+#REF! -> #REF! | Q29: =P29-O29 -> 0
A30: 8. Kamatbevétel | D30: =C30-B30 -> 0 | G30: =F30-E30 -> 0 | J30: =I30-H30 -> 0 | K30: =B30+E30+H30 -> 0 | L30: =C30+F30+I30 -> 0 | M30: =L30-K30 -> 0 | N30: =#REF!+#REF!+#REF!+#REF!+#REF! -> #REF! | Q30: =P30-O30 -> 0
A31: 9. Egyéb pénzügyi műveletek bevételei | D31: =C31-B31 -> 0 | G31: =F31-E31 -> 0 | J31: =I31-H31 -> 0 | K31: =B31+E31+H31 -> 0 | L31: =C31+F31+I31 -> 0 | M31: =L31-K31 -> 0 | Q31: =P31-O31 -> 0
A32: 10. Biztosító által fizetett kártérítés | D32: =C32-B32 -> 0 | G32: =F32-E32 -> 0 | J32: =I32-H32 -> 0 | K32: =B32+E32+H32 -> 0 | L32: =C32+F32+I32 -> 0 | M32: =L32-K32 -> 0 | Q32: =P32-O32 -> 0
A33: 11. Egyéb működési bevételek | B33: 20000 | C33: 20000 | D33: =C33-B33 -> 0 | G33: =F33-E33 -> 0 | J33: =I33-H33 -> 0 | K33: =B33+E33+H33 -> 20000 | L33: =C33+F33+I33 -> 20000 | M33: =L33-K33 -> 0 | N33: =#REF!+#REF!+#REF!+#REF!+#REF! -> #REF! | Q33: =P33-O33 -> 0
A34: V. Felhalmozási bevételek | B34: =SUM(B35:B39) -> 0 | C34: =SUM(C35:C39) -> 0 | D34: =C34-B34 -> 0 | E34: =SUM(E35:E39) -> 0 | F34: =SUM(F35:F39) -> 0 | G34: =F34-E34 -> 0 | H34: =SUM(H35:H39) -> 0 | I34: =SUM(I35:I39) -> 0 | J34: =I34-H34 -> 0 | K34: =SUM(K35:K39) -> 0 | L34: =SUM(L35:L39) -> 0 | M34: =L34-K34 -> 0 | N34: =#REF!+#REF!+#REF!+#REF!+#REF! -> #REF! | O34: =SUM(O35:O39) -> 0 | P34: =SUM(P35:P39) -> 211023 | Q34: =P34-O34 -> 211023
A35: 1. Immateriális javak értékesítése | D35: =C35-B35 -> 0 | G35: =F35-E35 -> 0 | J35: =I35-H35 -> 0 | K35: =B35+E35+H35 -> 0 | L35: =C35+F35+I35 -> 0 | M35: =L35-K35 -> 0 | Q35: =P35-O35 -> 0
A36: 2. Ingatlanok értékesítése | D36: =C36-B36 -> 0 | G36: =F36-E36 -> 0 | J36: =I36-H36 -> 0 | K36: =B36+E36+H36 -> 0 | L36: =C36+F36+I36 -> 0 | M36: =L36-K36 -> 0 | Q36: =P36-O36 -> 0
A37: 3. Egyéb tárgyi eszközök értékesítése | D37: =C37-B37 -> 0 | G37: =F37-E37 -> 0 | J37: =I37-H37 -> 0 | K37: =B37+E37+H37 -> 0 | L37: =C37+F37+I37 -> 0 | M37: =L37-K37 -> 0 | P37: 211023 | Q37: =P37-O37 -> 211023
A38: 4. Részesedések értékesítése | D38: =C38-B38 -> 0 | G38: =F38-E38 -> 0 | J38: =I38-H38 -> 0 | K38: =B38+E38+H38 -> 0 | L38: =C38+F38+I38 -> 0 | M38: =L38-K38 -> 0 | Q38: =P38-O38 -> 0
A39: 5. Részesedések megszűnéséhez kapcsolódó bevételek | D39: =C39-B39 -> 0 | G39: =F39-E39 -> 0 | J39: =I39-H39 -> 0 | K39: =B39+E39+H39 -> 0 | L39: =C39+F39+I39 -> 0 | M39: =L39-K39 -> 0 | Q39: =P39-O39 -> 0
A40: VI. Működési célú átvett pénzeszközök | D40: =C40-B40 -> 0 | G40: =F40-E40 -> 0 | J40: =I40-H40 -> 0 | K40: =SUM(K41) -> 0 | L40: =SUM(L41) -> 0 | M40: =L40-K40 -> 0 | N40: =#REF!+#REF!+#REF!+#REF!+#REF! -> #REF! | O40: =SUM(O41) -> 0 | P40: =SUM(P41) -> 0 | Q40: =P40-O40 -> 0
A41: 3. Egyéb működési célú átvett pénzeszközök | D41: =C41-B41 -> 0 | G41: =F41-E41 -> 0 | J41: =I41-H41 -> 0 | K41: =B41+E41+H41 -> 0 | L41: =C41+F41+I41 -> 0 | M41: =L41-K41 -> 0 | Q41: =P41-O41 -> 0
A42: VII. Felhalmozási célú átvett pénzeszközök | D42: =C42-B42 -> 0 | G42: =F42-E42 -> 0 | J42: =I42-H42 -> 0 | K42: =B42+E42+H42 -> 0 | L42: =C42+F42+I42 -> 0 | M42: =L42-K42 -> 0 | N42: =#REF!+#REF!+#REF!+#REF!+#REF! -> #REF! | O42: =SUM(O43) -> 0 | P42: =SUM(P43) -> 0 | Q42: =P42-O42 -> 0
A43: 3. Egyéb felhalmozási célú átvett pénzeszközök | D43: =C43-B43 -> 0 | G43: =F43-E43 -> 0 | J43: =I43-H43 -> 0 | K43: =B43+E43+H43 -> 0 | L43: =C43+F43+I43 -> 0 | M43: =L43-K43 -> 0 | Q43: =P43-O43 -> 0
A44: Költségvetési bevételek összesen: | B44: =B42+B40+B34+B21+B17+B15+B12 -> 13118271 | C44: =C42+C40+C34+C21+C17+C15+C12 -> 13118271 | D44: =C44-B44 -> 0 | E44: =E42+E40+E34+E21+E17+E15+E12 -> 153438941 | F44: =F42+F40+F34+F21+F17+F15+F12 -> 156566855 | G44: =F44-E44 -> 3127914 | H44: =H42+H40+H34+H21+H17+H15+H12 -> 2827953 | I44: =I42+I40+I34+I21+I17+I15+I12 -> 2827953 | J44: =I44-H44 -> 0 | K44: =B44+E44+H44 -> 169385165 | L44: =C44+F44+I44 -> 172513079 | M44: =L44-K44 -> 3127914 | N44: =N42+N40+N34+N21+N17+N15+N12 -> #REF! | O44: =O42+O40+O34+O21+O17+O15+O12 -> 49017493 | P44: =P42+P40+P34+P21+P17+P15+P12 -> 59162323 | Q44: =P44-O44 -> 10144830
A45: VIII. Finanszírozási bevételek | B45: =B46+B49+B50 -> 70038732 | C45: =C46+C49+C50 -> 74270537 | D45: =C45-B45 -> 4231805 | E45: =E46+E49+E50 -> 47762059 | F45: =F46+F49+F50 -> 53253237 | G45: =F45-E45 -> 5491178 | H45: =H46+H49+H50 -> 61957463 | I45: =I46+I49+I50 -> 65351238 | J45: =I45-H45 -> 3393775 | K45: =B45+E45+H45 -> 179758254 | L45: =C45+F45+I45 -> 192875012 | M45: =L45-K45 -> 13116758 | N45: =N46+N49+N50 -> #REF! | O45: =O46+O49+O50 -> 392127076 | P45: =P46+P49+P50 -> 414169516 | Q45: =P45-O45 -> 22042440
A46: 1. Költségvetési hiány belső finanszírozására szolgáló bevételek | B46: =SUM(B47:B48) -> 90498 | C46: =SUM(C47:C48) -> 2938295 | D46: =C46-B46 -> 2847797 | E46: =SUM(E47:E48) -> 271494 | F46: =SUM(F47:F48) -> 9314574 | G46: =F46-E46 -> 9043080 | H46: =SUM(H47:H48) -> 90498 | I46: =SUM(I47:I48) -> 5011083 | J46: =I46-H46 -> 4920585 | K46: =SUM(K47:K48) -> 452490 | L46: =SUM(L47:L48) -> 17263952 | M46: =L46-K46 -> 16811462 | O46: =SUM(O47:O48) -> 0 | P46: =SUM(P47:P48) -> 36290988 | Q46: =P46-O46 -> 36290988
A47: 1.1. Előző év költségvetési maradványának igénybevétele működési célra | B47: 90498 | C47: 2938295 | D47: =C47-B47 -> 2847797 | E47: 271494 | F47: 9014574 | G47: =F47-E47 -> 8743080 | H47: 90498 | I47: 4870093 | J47: =I47-H47 -> 4779595 | K47: =B47+E47+H47 -> 452490 | L47: =C47+F47+I47 -> 16822962 | M47: =L47-K47 -> 16370472 | P47: 31465031 | Q47: =P47-O47 -> 31465031
A48: 1.2. Előző év költségvetési maradványának igénybevétele felhalmozási célra | D48: =C48-B48 -> 0 | F48: 300000 | G48: =F48-E48 -> 300000 | I48: 140990 | J48: =I48-H48 -> 140990 | K48: =B48+E48+H48 -> 0 | L48: =C48+F48+I48 -> 440990 | M48: =L48-K48 -> 440990 | P48: 4825957 | Q48: =P48-O48 -> 4825957
...

Sheet 2b. tábla 2018
A1: ÁLLAMI TÁMOGATÁSOK 2018. ÉV
A3: MEGNEVEZÉS | B3: LÉTSZÁM | C3: MUTATÓ | D3: FAJLAGOS | E3: ELŐIRÁNYZAT | F3: LÉTSZÁM | G3: I. MÓDOSÍTÁS | H3: MÓDOSÍTOTT ELŐIRÁNYZAT I.
A5: I. HELYI ÖNKORMÁNYZATOK MŰKÖDÉSÉNEK ÁLT.TÁMOGATÁSA | E5: =E6+E28 -> 465551718 | G5: =G6+G28 -> 532530 | H5: =H6+H28 -> 466084248
A6: 1. Települési önkormányzatok működésének támogatása | E6: =E7+E10+E20+E21+E23+E24+E26+E27 -> 465551718 | G6: =G7+G10+G20+G21+G23+G24+G26+G27 -> 0 | H6: =H7+H10+H20+H21+H23+H24+H26+H27 -> 465551718
A7: Önkormányzati hivatal működtetésének támogatás (beszámítás után) | E7: =E8 -> 180406200 | G7: =G8 -> 0 | H7: =H8 -> 180406200
A8: Önkormányzati hivatal működtetésének támogatás elismert hivatali létsz. | C8: 39.39 | D8: 4580000 | E8: =C8*D8 -> 180406200 | H8: =E8+G8 -> 180406200
A9: Beszámítás összege | E9: 0 | H9: =E9+G9 -> 0
A10: Település üzemeltetéséhez kapcsolódó feladatellát.támog.(beszámítás után) | E10: =E11+E12+E13+E14+E15+E16+E17+E18 -> 0 | H10: =E10+G10 -> 0
A11: Zöldterület-gazdálk-al kapcsolatos feladatok ellátásának támog. (HA) | D11: 22300 | E11: 15719270 | H11: =E11+G11 -> 15719270
A12: Beszámítás összege | E12: -15719270 | H12: =E12+G12 -> -15719270
A13: Közvilágítás fenntartásának támogatás | E13: 58360000 | H13: =E13+G13 -> 58360000
A14: Beszámítás összege | E14: -58360000 | H14: =E14+G14 -> -58360000
A15: Köztemető fenntartással kapcsolatos feladatok támog. | E15: 2176616 | H15: =E15+G15 -> 2176616
A16: Beszámítás összege | E16: -2176616 | H16: =E16+G16 -> -2176616
A17: Közutak fenntartásának támogatás | E17: 22310850 | H17: =E17+G17 -> 22310850
A18: Beszámítás összege | E18: -22310850 | H18: =E18+G18 -> -22310850
A19: Egyéb önkormányzati feladatok támogatása (beszámítás után) | E19: =E20+E21 -> 0 | H19: =E19+G19 -> 0
A20: Egyéb önkormányzati feladatok támogatása | D20: 2700 | E20: 37497600 | H20: =E20+G20 -> 37497600 | J20: Beszámítás összege
A21: Beszámítás összege | E21: -37497600 | H21: =E21+G21 -> -37497600 | J21: =E21+E24+E27+E18+E16+E14+E12 -> -179376397
A22: Lakott külterületekkel kapcsolatos feladatok támogatása(beszámítás után) | E22: =E23+E24 -> 0 | H22: =E22+G22 -> 0
A23: Lakott külterületekkel kapcsolatos feladatok támogatása | E23: 316200 | H23: =E23+G23 -> 316200
A24: Beszámítás összege | E24: -316200 | H24: =E24+G24 -> -316200
A25: Üdülőhelyi feladatok támogatása (beszámitás után) | E25: =SUM(E26:E27) -> 285145518 | H25: =E25+G25 -> 285145518
A26: Üdülőhelyi feladatok támogatása | E26: 328141379 | H26: =E26+G26 -> 328141379
A27: Beszámítás összege | E27: -42995861 | H27: =E27+G27 -> -42995861
A28: 2. 2017. évről áthúzódó bérkompenzáció támogatása | E28: 0 | G28: 532530 | H28: =E28+G28 -> 532530
A30: II. EGYES KÖZNEVELÉSI FELADATOK TÁMOGATÁSA | E30: =SUM(E31:E39) -> 248514968 | G30: =SUM(G31:G39) -> -199233 | H30: =SUM(H31:H39) -> 248315735
A31: Óvodapedagógusok elismert létszáma (8 hó) | B31: 34.9 | C31: =E31/D31 -> 23.266667 | D31: 4419000 | E31: 102815400 | F31: 35 | G31: 294600 | H31: =E31+G31 -> 103110000
A32: Óvodapedagógusok munkáját kvetlenül segítők (8 hó) | B32: 26 | C32: =E32/D32 -> 17.333333 | D32: 2205000 | E32: 38220000 | F32: 26 | H32: =E32+G32 -> 38220000
A33: Óvodapedagógusok elismert létszáma (4 hó) | B33: 34.5 | C33: =E33/D33 -> 11.5 | D33: 4419000 | E33: 50818500 | F33: 34.4 | G33: -147300 | H33: =E33+G33 -> 50671200
A34: Óvodapedagógusok munkáját kvetlenül segítők (4 hó) | B34: 26 | C34: =E34/D34 -> 8.6666667 | D34: 2205000 | E34: 19110000 | F34: 26 | H34: =E34+G34 -> 19110000
A35: Óvodapedagógusok elismert létszáma (4 hó) (pótlólagos összeg) | B35: 36.6 | C35: =E35/D35 -> 0 | D35: 38200 | E35: 0 | F35: 36.6 | H35: =E35+G35 -> 0
A36: Gyermeklétszám (8 hó) | B36: 378 | C36: =E36/D36 -> 252 | D36: 81700 | E36: 20588400 | F36: 379 | G36: 54467 | H36: =E36+G36 -> 20642867
A37: Gyermeklétszám (4 hó) | B37: 375 | C37: =E37/D37 -> 127.65625 | D37: 80000 | E37: 10212500 | F37: 375 | H37: =E37+G37 -> 10212500
A38: Pedagógus II. kat. sorolt óvodapedag. kieg. támog.-minősítés 2016. dec.31-ig szerezték meg | B38: 15 | C38: 15 | D38: 401000 | E38: =D38*C38 -> 6015000 | F38: 14 | G38: -401000 | H38: =E38+G38 -> 5614000
A39: Pedagógus II. kat. sorolt óvodapedag. kieg. támog.-minősítés 2018. jan.1-jei átsorolással szerezték meg | B39: 2 | C39: 2 | D39: 367584 | E39: 735168 | F39: 2 | H39: =E39+G39 -> 735168
A40: MEGNEVEZÉS | B40: LÉTSZÁM | C40: MUTATÓ | D40: FAJLAGOS | E40: ELŐIRÁNYZAT | F40: LÉTSZÁM | G40: I. MÓDOSÍTÁS | H40: MÓDOSÍTOTT ELŐIRÁNYZAT I.
A42: III. SZOCIÁLIS, GYERMEKJÓLÉTI ÉS GYERMEKÉTKEZTETÉSI FELADATAI | E42: =E43+E46+E57 -> 182314391 | G42: =G43+G46+G57 -> 11832251 | H42: =H43+H46+H57 -> 194146642
A43: Pénzbeli szociális juttatások | E43: =SUM(E44:E45) -> 0
A44: Pénzbeli szociális ellátások kiegészítése
...

Sheet 2c. tábla 2018.
C1: ÁLLAMI TÁMOGATÁSOK INTÉZMÉNYENKÉNT 2018. ÉV
A3: Mell. | B3: Sorszám | C3: MEGNEVEZÉS | D3: LÉTSZÁM | E3: MUTATÓ | F3: FAJLAGOS | G3: ELŐIRÁNYZAT | H3: LÉTSZÁM | I3: I. MÓDOSÍTÁS | J3: MÓDOSÍTOTT ELŐIRÁNYZAT I.
A5: 2 | B5: II.1. | C5: Óvodapedagógusok elismert létszáma (8 hó) | D5: 13.7 | E5: 17.2 | F5: 4419000 | G5: 40360200 | H5: 13.8 | I5: 294600 | J5: =G5+I5 -> 40654800 | L5: =G5+G18+G30+G42 -> 102815400
A6: 2 | B6: II.1. | C6: Óvodapedagógusok munkáját kvetlenül segítők (8 hó) | D6: 10 | E6: 14 | F6: 2205000 | G6: 14700000 | H6: 10 | J6: =G6+I6 -> 14700000 | L6: =G6+G19+G31+G43 -> 38220000
A7: 2 | B7: II.1. | C7: Óvodapedagógusok elismert létszáma (4 hó) | D7: 13.7 | E7: 16.9 | F7: 4419000 | G7: 20180100 | H7: 13.8 | I7: 147300 | J7: =G7+I7 -> 20327400 | L7: =G7+G20+G32+G44 -> 50818500
A8: 2 | B8: II.1. | C8: Óvodapedagógusok munkáját kvetlenül segítők (4 hó) | D8: 10 | E8: =D8/3 -> 3.3333333 | F8: 2205000 | G8: 7350000 | H8: 10 | J8: =G8+I8 -> 7350000 | L8: =G8+G21+G33+G45 -> 19110000
A9: 2 | B9: II.2. | C9: Óvodaműködtetési támogatás (8 hó) | D9: 154 | E9: =G9/F9 -> 102.66667 | F9: 81700 | G9: 8387867 | H9: 154 | J9: =G9+I9 -> 8387867 | L9: =G9+G22+G34+G46 -> 20588400
A10: 2 | B10: II.2. | C10: Óvodaműködtetési támogatás (4 hó) | D10: 154 | E10: =G10/F10 -> 51.333329 | F10: 81700 | G10: 4193933 | H10: 154 | J10: =G10+I10 -> 4193933 | L10: =G10+G23+G35+G47 -> 10212500
A11: 2 | B11: II.4.a | C11: Pedagógus II. kategóriába sorolt óvodapedagógusok kieg. támog. | E11: 5 | F11: 401000 | G11: =E11*F11 -> 2005000 | J11: =G11+I11 -> 2005000 | L11: =G11+G24+G36+G48 -> 6015000
A12: 2 | B12: II.4.b | C12: Pedagógus II. kategóriába sorolt óvodapedagógusok kieg. támog. | E12: 1 | F12: 367584 | G12: 367584 | J12: =G12+I12 -> 367584
A13: 2 | B13: III. 5.a | C13: Gyermekétkeztetés támogatása (bértámogatás) | E13: =G13/F13 -> 3.4322028 | F13: 1632000 | G13: 5601355 | J13: =G13+I13 -> 5601355 | L13: =G13+G25+G37+G50+G59+G105 -> 48146000
A14: 2 | B14: III. 5.b | C14: Gyermekétkeztetés üzemeltetési támogatása | G14: 6256495 | J14: =G14+I14 -> 6256495 | L14: =G14+G26+G38+G51+G60+G106 -> 30205647
C15: Bérkompenzáció | I15: 15372 | J15: =G15+I15 -> 15372
C16: Balatonfüredi Kiserdei óvoda összesen: | G16: =SUM(G5:G15) -> 109402534 | I16: =SUM(I5:I15) -> 457272 | J16: =G16+I16 -> 109859806
M17: =G15+G27+G39+G52+G61+G86+G81+G90+G76 -> 0
A18: 2 | B18: II.1. | C18: Óvodapedagógusok elismert létszáma (8 hó) | D18: 11 | E18: 10.1 | F18: 4419000 | G18: 32406000 | H18: 10.9 | I18: -294600 | J18: =I18+G18 -> 32111400 | L18: =J15+J27+J39+J52+J61+J76+J81+J86+J90 -> 2522572
A19: 2 | B19: II.1. | C19: Óvodapedagógusok munkáját kvetlenül segítők (8 hó) | D19: 9 | E19: =G19/F19 -> 6 | F19: 2205000 | G19: 13230000 | H19: 9 | J19: =I19+G19 -> 13230000
A20: 2 | B20: II.1. | C20: Óvodapedagógusok elismert létszáma (4 hó) | D20: 11.2 | E20: 10.1 | F20: 4419000 | G20: 16497600 | H20: 11 | I20: -294600 | J20: =I20+G20 -> 16203000
A21: 2 | B21: II.1. | C21: Óvodapedagógusok munkáját kvetlenül segítők (4 hó) | D21: 9 | E21: =G21/F21 -> 3 | F21: 2205000 | G21: 6615000 | H21: 9 | J21: =I21+G21 -> 6615000
A22: 2 | B22: II.2. | C22: Gyermeklétszám (8 hó) | D22: 117 | E22: =G22/F22 -> 78 | F22: 81700 | G22: 6372600 | H22: 118 | I22: 54467 | J22: =G22+I22 -> 6427067
A23: 2 | B23: II.2. | C23: Gyermeklétszám (4 hó) | D23: 120 | E23: =G23/F23 -> 40 | F23: 81700 | G23: 3268000 | H23: 120 | J23: =G23+I23 -> 3268000
A24: 2 | B24: II.4.a | C24: Pedagógus II. kategóriába sorolt óvodapedagógusok kieg. támog. | E24: 5 | F24: 401000 | G24: =E24*F24 -> 2005000 | J24: =G24+I24 -> 2005000
A25: 2 | B25: III. 5.a | C25: Gyermekétkeztetés támogatása (bértámogatás) | E25: =G25/F25 -> 2.7510025 | F25: 1632000 | G25: 4489636 | J25: =G25+I25 -> 4489636
A26: 2 | B26: III. 5.b | C26: Gyermekétkeztetés üzemeltetési támogatása | G26: 5920495 | J26: =G26+I26 -> 5920495
C27: Bérkompenzáció | I27: =14152+12189+12189+12189+12189+12189 -> 75097 | J27: =G27+I27 -> 75097
C28: Balatonfüredi Óvárosi óvoda összesen: | G28: =SUM(G18:G27) -> 90804331 | I28: =SUM(I18:I27) -> -459636 | J28: =G28+I28 -> 90344695
A30: 2 | B30: II.1. | C30: Óvodapedagógusok elismert létszáma (8 hó) | D30: 6.9 | E30: 6.8 | F30: 4419000 | G30: 20327400 | H30: 7 | I30: 294600 | J30: =G30+I30 -> 20622000 | K30: =I30+I18+I20+I22+I5+I7 -> 201767
A31: 2 | B31: II.1. | C31: Óvodapedagógusok munkáját kvetlenül segítők (8 hó) | D31: 5 | E31: =G31/F31 -> 3.3333333 | F31: 2205000 | G31: 7350000 | H31: 5 | J31: =G31+I31 -> 7350000
A32: 2 | B32: II.1. | C32: Óvodapedagógusok elismert létszáma (4 hó) | D32: 6.3 | E32: 6.2 | F32: 4419000 | G32: 9279900 | H32: 6.3 | J32: =G32+I32 -> 9279900
A33: 2 | B33: II.1. | C33: Óvodapedagógusok munkáját kvetlenül segítők (4 hó) | D33: 5 | E33: =G33/F33 -> 1.6666667 | F33: 2205000 | G33: 3675000 | H33: 5 | J33: =G33+I33 -> 3675000
A34: 2 | B34: II.2. | C34: Gyermeklétszám (8 hó) | D34: 73 | E34: =G34/F34 -> 48.666659 | F34: 81700 | G34: 3976066 | H34: 73 | J34: =G34+I34 -> 3976066
A35: 2 | B35: II.2. | C35: Gyermeklétszám (4 hó) | D35: 66 | E35: =G35/F35 -> 22 | F35: 81700 | G35: 1797400 | H35: 66 | J35: =G35+I35 -> 1797400
A36: 2 | B36: II.4.a | C36: Pedagógus II. kategóriába sorolt óvodapedagógusok kieg. támog. | E36: 4 | F36: 401000 | G36: =E36*F36 -> 1604000 | J36: =G36+I36 -> 1604000
A37: 2 | B37: III. 5.a | C37: Gyermekétkeztetés támogatása (bértámogatás) | E37: =G37/F37 -> 1.6768015 | F37: 1632000 | G37: 2736540 | J37: =G37+I37 -> 2736540
A38: 2 | B38: III. 5.b | C38: Gyermekétkeztetés üzemeltetési támogatása | G38: 3106356 | J38: =G38+I38 -> 3106356
C39: Bérkompenzáció | I39: =40271+2 -> 40273 | J39: =G39+I39 -> 40273
C40: Balatonfüredi Tündérkert óvoda összesen: | G40: =SUM(G30:G39) -> 53852662 | I40: =SUM(I30:I39) -> 334873 | J40: =G40+I40 -> 54187535
A42: 2 | B42: II.1. | C42: Óvodapedagógusok elismert létszáma (8 hó) | D42: 3.3 | E42: 3.9 | F42: 4419000 | G42: 9721800 | H42: 3.3 | J42: =G42+I42 -> 9721800
A43: 2 | B43: II.1. | C43: Óvodapedagógusok munkáját kvetlenül segítők (8 hó) | D43: 2 | E43: =G43/F43 -> 1.3333333 | F43: 2205000 | G43: 2940000 | H43: 2 | J43: =G43+I43 -> 2940000
A44: 2 | B44: II.1. | C44: Óvodapedagógusok elismert létszáma (4 hó) | D44: 3.3 | E44: 3.2 | F44: 4419000 | G44: 4860900 | H44: 3.3 | J44: =G44+I44 -> 4860900
...

Sheet 3.sz. tábla  (2)
A3: BALATONFÜRED VÁROS ÖNKORMÁNYZAT BEVÉTELI ELŐIRÁNYZATAI KÖLTSÉGVETÉSI SZERVEK SZERINTI BONTÁSBAN 2018. ÉV
A6: MEGNEVEZÉS | B6: ÁLLAMI TÁMOGATÁS | E6: ÖNKORMÁNYZATI TÁMOGATÁS | H6: IRÁNYÍTÓ SZERVTŐL KAPOTT TÁMOGATÁS | K6: SAJÁT BEVÉTEL | N6: MEGNEVEZÉS | O6: MARADVÁNY IGÉNYBEVÉTEL | R6: FINANSZÍROZÁSI CÉLÚ BEVÉTELEK | U6: BEVÉTELEK ÖSSZESEN | X6: 2018. ÉV
W7: Eltérés | X7: Kötelező feladatok | Y7: Önként vállalt feladatok | AA7: Államigazgatási feladatok
B8: 2018. évi eredeti ei. | C8: 2018. évi módosított ei. I. | D8: Eltérés | E8: 2018. évi eredeti ei. | F8: 2018. évi módosított ei. I. | G8: Eltérés | H8: 2018. évi eredeti ei. | I8: 2018. évi módosított ei. I. | J8: Eltérés | K8: 2018. évi eredeti ei. | L8: 2018. évi módosított ei. I. | M8: Eltérés | O8: 2018. évi eredeti ei. | P8: 2018. évi módosított ei. I. | Q8: Eltérés | R8: 2018. évi eredeti ei. | S8: 2018. évi módosított ei. I. | T8: Eltérés | U8: 2018. évi eredeti ei. | V8: 2018. évi módosított ei. I. | Y8: Saját bevétel és költségvetési maradvány | Z8: Intézményfinan-szírozás | AA8: Saját bevétel és költségvetési maradvány | AB8: Intézményfinan-szírozás
A9: Lipták Gábor Városi Könyvtár | B9: ='2c. tábla 2018.'!G88 -> 16804480 | C9: ='2c. tábla 2018.'!J88 -> 19870124 | D9: =C9-B9 -> 3065644 | E9: ='2.a tábla ÚJ '!B50-'3.sz. tábla (2)'!B9 -> 53143754 | F9: ='2.a tábla ÚJ '!C50-'3.sz. tábla (2)'!C9 -> 51462118 | G9: =F9-E9 -> -1681636 | H9: =B9+E9 -> 69948234 | I9: =C9+F9 -> 71332242 | J9: =I9-H9 -> 1384008 | K9: ='2.a tábla ÚJ '!B44 -> 13118271 | L9: ='2.a tábla ÚJ '!C44 -> 13118271 | M9: =L9-K9 -> 0 | N9: Lipták Gábor Városi Könyvtár | O9: ='2.a tábla ÚJ '!B46 -> 90498 | P9: ='2.a tábla ÚJ '!C46 -> 2938295 | Q9: =P9-O9 -> 2847797 | U9: =H9+K9+O9+R9 -> 83157003 | V9: =I9+L9+P9+S9 -> 87388808 | W9: =V9-U9 -> 4231805 | X9: =V9-Y9-Z9 -> 57933806 | Y9: =9344000+705300 -> 10049300 | Z9: ='4.sz.tábla '!AP6-'3.sz. tábla (2)'!Y9 -> 19405702 | AC9: =SUM(X9:AB9) -> 87388808
A10: Balatonfüredi Városi Szakorvosi Rendelőintézet | B10: ='2c. tábla 2018.'!G91 -> 0 | C10: ='2c. tábla 2018.'!J91 -> 566064 | D10: =C10-B10 -> 566064 | E10: ='2.a tábla ÚJ '!E50-'3.sz. tábla (2)'!B10 -> 47490565 | F10: ='2.a tábla ÚJ '!F50-'3.sz. tábla (2)'!C10 -> 43372599 | G10: =F10-E10 -> -4117966 | H10: =B10+E10 -> 47490565 | I10: =C10+F10 -> 43938663 | J10: =I10-H10 -> -3551902 | K10: ='2.a tábla ÚJ '!E44 -> 153438941 | L10: 156566855 | M10: =L10-K10 -> 3127914 | N10: Balatonfüredi Városi Szakorvosi Rendelőintézet | O10: ='2.a tábla ÚJ '!E46 -> 271494 | P10: ='2.a tábla ÚJ '!F46 -> 9314574 | Q10: =P10-O10 -> 9043080 | U10: =H10+K10+O10+R10 -> 201201000 | V10: =I10+L10+P10+S10 -> 209820092 | W10: =V10-U10 -> 8619092 | X10: =V10-Y10-Z10 -> 108955801 | Y10: =53893000+22769000+176762+157878+700000 -> 77696640 | Z10: ='4.sz.tábla '!AP7-'3.sz. tábla (2)'!Y10 -> 23167651 | AC10: =SUM(X10:AB10) -> 209820092
A11: Balatonfüredi Városi Bölcsőde | B11: ='2c. tábla 2018.'!G63 -> 30247213 | C11: ='2c. tábla 2018.'!J63 -> 32089822 | D11: =C11-B11 -> 1842609 | E11: ='2.a tábla ÚJ '!H50-'3.sz. tábla (2)'!B11 -> 31619752 | F11: ='2.a tábla ÚJ '!I50-'3.sz. tábla (2)'!C11 -> 28250333 | G11: =F11-E11 -> -3369419 | H11: =SUM(B11+E11) -> 61866965 | I11: =SUM(C11+F11) -> 60340155 | J11: =I11-H11 -> -1526810 | K11: ='2.a tábla ÚJ '!H44 -> 2827953 | L11: ='2.a tábla ÚJ '!I44 -> 2827953 | M11: =L11-K11 -> 0 | N11: Balatonfüredi Városi Bölcsőde | O11: ='2.a tábla ÚJ '!H46 -> 90498 | P11: ='2.a tábla ÚJ '!I46 -> 5011083 | Q11: =P11-O11 -> 4920585 | U11: =H11+K11+O11+R11 -> 64785416 | V11: =I11+L11+P11+S11 -> 68179191 | W11: =V11-U11 -> 3393775 | X11: =V11-Y11-Z11 -> 64183513 | Y11: 0 | Z11: ='4.sz.tábla '!AP8-'3.sz. tábla (2)'!Y11 -> 3995678 | AC11: =SUM(X11:AB11) -> 68179191
A12: Intézmények összesen: | B12: =B9+B10+B11 -> 47051693 | C12: =C9+C10+C11 -> 52526010 | D12: =C12-B12 -> 5474317 | E12: =E9+E10+E11 -> 132254071 | F12: =F9+F10+F11 -> 123085050 | G12: =F12-E12 -> -9169021 | H12: =H9+H10+H11 -> 179305764 | I12: =I9+I10+I11 -> 175611060 | J12: =I12-H12 -> -3694704 | K12: =K9+K10+K11 -> 169385165 | L12: =L9+L10+L11 -> 172513079 | M12: =L12-K12 -> 3127914 | N12: Intézmények összesen: | O12: =O9+O10+O11 -> 452490 | P12: =P9+P10+P11 -> 17263952 | Q12: =P12-O12 -> 16811462 | U12: =U9+U10+U11 -> 349143419 | V12: =V9+V10+V11 -> 365388091 | W12: =V12-U12 -> 16244672 | X12: =SUM(X9:X11) -> 231073120 | Y12: =SUM(Y9:Y11) -> 87745940 | Z12: =SUM(Z9:Z11) -> 46569031 | AB12: =SUM(AB9:AB11) -> 0 | AC12: =SUM(X12:AB12) -> 365388091
A13: Balatonfüredi Közös Önkormányzati Hivatal | B13: ='2c. tábla 2018.'!G82 -> 180406200 | C13: ='2c. tábla 2018.'!J82 -> 180741767 | D13: =C13-B13 -> 335567 | E13: ='2.a tábla ÚJ '!O50-'3.sz. tábla (2)'!B13 -> 211720876 | F13: ='2.a tábla ÚJ '!P50-'3.sz. tábla (2)'!C13 -> 197136761 | G13: =F13-E13 -> -14584115 | H13: =B13+E13 -> 392127076 | I13: =C13+F13 -> 377878528 | J13: =I13-H13 -> -14248548 | K13: ='2.a tábla ÚJ '!O44 -> 49017493 | L13: ='2.a tábla ÚJ '!P44 -> 59162323 | M13: =L13-K13 -> 10144830 | N13: Balatonfüredi Közös Önkormányzati Hivatal | O13: ='2.a tábla ÚJ '!O46 -> 0 | P13: ='2.a tábla ÚJ '!P46 -> 36290988 | Q13: =P13-O13 -> 36290988 | U13: =H13+K13+O13+R13 -> 441144569 | V13: =I13+L13+P13+S13 -> 473331839 | W13: =V13-U13 -> 32187270 | X13: =V13-Y13-Z13-AA13-AB13 -> 358532756 | AA13: ='9. sz. tábla (2)'!C84+'9. sz. tábla (2)'!C93 -> 67293581 | AB13: ='4.sz.tábla '!AQ10-'3.sz. tábla (2)'!AA13 -> 47505502 | AC13: =SUM(X13:AB13) -> 473331839
A14: Költségvetési szervek összesen: | B14: =SUM(B12:B13) -> 227457893 | C14: =SUM(C12:C13) -> 233267777 | D14: =C14-B14 -> 5809884 | E14: =SUM(E12:E13) -> 343974947 | F14: =SUM(F12:F13) -> 320221811 | G14: =F14-E14 -> -23753136 | H14: =SUM(H12:H13) -> 571432840 | I14: =SUM(I12:I13) -> 553489588 | J14: =I14-H14 -> -17943252 | K14: =SUM(K12:K13) -> 218402658 | L14: =SUM(L12:L13) -> 231675402 | M14: =L14-K14 -> 13272744 | N14: Költségvetési szervek összesen: | O14: =SUM(O12:O13) -> 452490 | P14: =SUM(P12:P13) -> 53554940 | Q14: =P14-O14 -> 53102450 | U14: =SUM(U12:U13) -> 790287988 | V14: =SUM(V12:V13) -> 838719930 | W14: =V14-U14 -> 48431942 | X14: =SUM(X12:X13) -> 589605876 | Y14: =SUM(Y12:Y13) -> 87745940 | Z14: =SUM(Z12:Z13) -> 46569031 | AA14: =SUM(AA12:AA13) -> 67293581 | AB14: =SUM(AB12:AB13) -> 47505502 | AC14: =SUM(X14:AB14) -> 838719930
A15: Önkormányzat | B15: =B18-B14 -> 685727664 | C15: =C18-C14 -> 696903561 | D15: =C15-B15 -> 11175897 | E15: =-E14 -> -343974947 | F15: =-F14 -> -320221811 | G15: =F15-E15 -> 23753136 | J15: =I15-H15 -> 0 | K15: ='2.sz.tábla (2)'!B92-'2.sz.tábla (2)'!B79-'2.sz.tábla (2)'!B76-'2.sz.tábla (2)'!B8-'2.sz.tábla (2)'!B23 -> 6009561215 | L15: ='2.sz.tábla (2)'!C92-'2.sz.tábla (2)'!C79-'2.sz.tábla (2)'!C76-'2.sz.tábla (2)'!C8-'2.sz.tábla (2)'!C23 -> 6251798081 | M15: =L15-K15 -> 242236866 | N15: Önkormányzat | O15: ='2.sz.tábla (2)'!B76 -> 1354099089 | P15: ='2.sz.tábla (2)'!C76 -> 1637823773 | Q15: =P15-O15 -> 283724684 | R15: ='2.sz.tábla (2)'!B79 -> 1012800000 | S15: ='2.sz.tábla (2)'!C79 -> 1669499723 | T15: =S15-R15 -> 656699723 | U15: =H15+K15+O15+R15+E15+B15 -> 8718213021 | V15: =I15+L15+P15+S15+F15+C15 -> 9935803327 | W15: =V15-U15 -> 1217590306 | AC15: =SUM(X15:AB15) -> 0
A16: Mindösszesen: | B16: =SUM(B14:B15) -> 913185557 | C16: =SUM(C14:C15) -> 930171338 | D16: =C16-B16 -> 16985781 | E16: =SUM(E14:E15) -> 0 | F16: =SUM(F14:F15) -> 0 | G16: =F16-E16 -> 0 | H16: =SUM(H14:H15) -> 571432840 | I16: =SUM(I14:I15) -> 553489588 | J16: =I16-H16 -> -17943252 | K16: =SUM(K14:K15) -> 6227963873 | L16: =SUM(L14:L15) -> 6483473483 | M16: =L16-K16 -> 255509610 | N16: Mindösszesen: | O16: =SUM(O14:O15) -> 1354551579 | P16: =SUM(P14:P15) -> 1691378713 | Q16: =P16-O16 -> 336827134 | R16: =SUM(R14:R15) -> 1012800000 | S16: =SUM(S14:S15) -> 1669499723 | T16: =S16-R16 -> 656699723 | U16: =SUM(U14:U15) -> 9508501009 | V16: =SUM(V14:V15) -> 10774523257 | W16: =V16-U16 -> 1266022248 | AC16: =SUM(X16:AB16) -> 0
W17: ='2.sz.tábla (2)'!K92-'3.sz. tábla (2)'!U16 -> 0
B18: 913185557 | C18: ='2c. tábla 2018.'!J119 -> 930171338 | D18: ='2c. tábla 2018.'!I119 -> 16985781

Sheet 4.sz.tábla 
A1: BALATONFÜRED VÁROS ÖNKORMÁNYZAT BEVÉTELI ELŐIRÁNYZATAI KÖLTSÉGVETÉSI SZERVEK SZERINTI BONTÁSBAN
A2: AZ ÖNKORMÁNYZAT KIADÁSI ELŐIRÁNYZATAI INTÉZMÉNYEK SZERINTI BONTÁSBAN KIEMELT ELŐIRÁNYZATONKÉNT 2018. ÉV | R2: AZ ÖNKORMÁNYZAT KIADÁSI ELŐIRÁNYZATAI INTÉZMÉNYEK SZERINTI BONTÁSBAN KIEMELT ELŐIRÁNYZATONKÉNT 2018. ÉV | AE2: AZ ÖNKORMÁNYZAT KIADÁSI ELŐIRÁNYZATAI INTÉZMÉNYEK SZERINTI BONTÁSBAN KIEMELT ELŐIRÁNYZATONKÉNT 2018. ÉV
A4: MEGNEVEZÉS | B4: SZEMÉLYI JUTTATÁS | E4: MUNKAADÓKAT TERH. JÁRULÉKOK ÉS SZOCIÁLIS HOZZÁJÁRULÁSI ADÓ | H4: DOLOGI KIADÁSOK | K4: ELLÁTOTTAK PÉNZBELI JUTTATÁSAI | R4: MEGNEVEZÉS | S4: EGYÉB MŰKÖDÉSI CÉLÚ KIADÁSOK | V4: BERUHÁZÁSOK | Y4: FELÚJÍTÁSOK | AB4: EGYÉB FELHALMOZÁSI KIADÁSOK | AE4: MEGNEVEZÉS | AF4: FINANSZÍROZÁSI KIADÁSOK | AI4: TARTALÉKOK | AL4: ÖSSZESEN | AO4: 2018. ÉV
B5: 2018. évi eredeti ei. | C5: 2018. évi módosított ei. I. | D5: Eltérés | E5: 2018. évi eredeti ei. | F5: 2018. évi módosított ei. I. | G5: Eltérés | H5: 2018. évi eredeti ei. | I5: 2018. évi módosított ei. I. | J5: Eltérés | K5: 2018. évi eredeti ei. | L5: 2018. évi módosított ei. I. | M5: Eltérés | S5: 2018. évi eredeti ei. | T5: 2018. évi módosított ei. I. | U5: Eltérés | V5: 2018. évi eredeti ei. | W5: 2018. évi módosított ei. I. | X5: Eltérés | Y5: 2018. évi eredeti ei. | Z5: 2018. évi módosított ei. I. | AA5: Eltérés | AB5: 2018. évi eredeti ei. | AC5: 2018. évi módosított ei. I. | AD5: Eltérés | AF5: 2018. évi eredeti ei. | AG5: 2018. évi módosított ei. I. | AH5: Eltérés | AI5: 2018. évi eredeti ei. | AJ5: 2018. évi módosított ei. I. | AK5: Eltérés | AL5: 2018. évi eredeti ei. | AM5: 2018. évi módosított ei. I. | AN5: Eltérés | AO5: Kötelező feladatok | AP5: Önként vállalt feladatok | AQ5: Államigazgatási feladatok
A6: Lipták Gábor Városi Könyvtár | B6: 43132335 | C6: 44397635 | D6: =C6-B6 -> 1265300 | E6: 8555608 | F6: 8804321 | G6: =F6-E6 -> 248713 | H6: 22838000 | I6: 24753886 | J6: =I6-H6 -> 1915886 | R6: Lipták Gábor Városi Könyvtár | V6: ='4a. sz. tábla (3)'!C5 -> 8631060 | W6: 9432966 | X6: =W6-V6 -> 801906 | AA6: =Z6-Y6 -> 0 | AD6: =AC6-AB6 -> 0 | AE6: Lipták Gábor Városi Könyvtár | AH6: =AG6-AF6 -> 0 | AK6: =AJ6-AI6 -> 0 | AL6: =SUM(Y6,AB6,AF6,V6,S6,K6,H6,E6,B6) -> 83157003 | AM6: =SUM(Z6,AC6,AG6,W6,T6,L6,I6,F6,C6) -> 87388808 | AN6: =AM6-AL6 -> 4231805 | AO6: =AM6-AP6 -> 57933806 | AP6: =28749702+600000+105300 -> 29455002 | AR6: =SUM(AO6:AQ6) -> 87388808
A7: Balatonfüredi Városi Szakorvosi Rendelőintézet | B7: 100634000 | C7: 104269050 | D7: =C7-B7 -> 3635050 | E7: 20145000 | F7: 20884604 | G7: =F7-E7 -> 739604 | H7: 79922000 | I7: 83430899 | J7: =I7-H7 -> 3508899 | R7: Balatonfüredi Városi Szakorvosi Rendelőintézet | V7: ='4a. sz. tábla (3)'!C33 -> 500000 | W7: 1235539 | X7: =W7-V7 -> 735539 | AA7: =Z7-Y7 -> 0 | AD7: =AC7-AB7 -> 0 | AE7: Balatonfüredi Városi Szakorvosi Rendelőintézet | AH7: =AG7-AF7 -> 0 | AK7: =AJ7-AI7 -> 0 | AL7: =SUM(Y7,AB7,AF7,V7,S7,K7,H7,E7,B7) -> 201201000 | AM7: =SUM(Z7,AC7,AG7,W7,T7,L7,I7,F7,C7) -> 209820092 | AN7: =AM7-AL7 -> 8619092 | AO7: =AM7-AP7 -> 108955801 | AP7: =100164291+700000 -> 100864291 | AR7: =SUM(AO7:AQ7) -> 209820092
A8: Balatonfüredi Városi Bölcsőde | B8: 42708000 | C8: 44369582 | D8: =C8-B8 -> 1661582 | E8: 8935000 | F8: 9000287 | G8: =F8-E8 -> 65287 | H8: 12842416 | I8: 14368332 | J8: =I8-H8 -> 1525916 | R8: Balatonfüredi Városi Bölcsőde | V8: 300000 | W8: 440990 | X8: =W8-V8 -> 140990 | AA8: =Z8-Y8 -> 0 | AD8: =AC8-AB8 -> 0 | AE8: Balatonfüredi Városi Bölcsőde | AH8: =AG8-AF8 -> 0 | AK8: =AJ8-AI8 -> 0 | AL8: =SUM(Y8,AB8,AF8,V8,S8,K8,H8,E8,B8) -> 64785416 | AM8: =SUM(Z8,AC8,AG8,W8,T8,L8,I8,F8,C8) -> 68179191 | AN8: =AM8-AL8 -> 3393775 | AO8: =AM8-AP8 -> 64183513 | AP8: 3995678 | AR8: =SUM(AO8:AQ8) -> 68179191
A9: Intézmények összesen: | B9: =B6+B7+B8 -> 186474335 | C9: =C6+C7+C8 -> 193036267 | D9: =C9-B9 -> 6561932 | E9: =E6+E7+E8 -> 37635608 | F9: =F6+F7+F8 -> 38689212 | G9: =F9-E9 -> 1053604 | H9: =H6+H7+H8 -> 115602416 | I9: =I6+I7+I8 -> 122553117 | J9: =I9-H9 -> 6950701 | K9: =K6+K7+K8 -> 0 | L9: =L6+L7+L8 -> 0 | M9: =L9-K9 -> 0 | N9: =#REF!+N6+N7+N8 -> #REF! | O9: =#REF!+O6+O7+O8 -> #REF! | P9: =#REF!+P6+P7+P8 -> #REF! | Q9: =#REF!+Q6+Q7+Q8 -> #REF! | R9: Intézmények összesen: | S9: =S6+S7+S8 -> 0 | T9: =T6+T7+T8 -> 0 | U9: =T9-S9 -> 0 | V9: =V6+V7+V8 -> 9431060 | W9: =W6+W7+W8 -> 11109495 | X9: =W9-V9 -> 1678435 | Y9: =Y6+Y7+Y8 -> 0 | Z9: =Z6+Z7+Z8 -> 0 | AA9: =Z9-Y9 -> 0 | AB9: =AB6+AB7+AB8 -> 0 | AC9: =AC6+AC7+AC8 -> 0 | AD9: =AC9-AB9 -> 0 | AE9: Intézmények összesen: | AF9: =AF6+AF7+AF8 -> 0 | AG9: =AG6+AG7+AG8 -> 0 | AH9: =AG9-AF9 -> 0 | AI9: =AI6+AI7+AI8 -> 0 | AJ9: =AJ6+AJ7+AJ8 -> 0 | AK9: =AJ9-AI9 -> 0 | AL9: =AL6+AL7+AL8 -> 349143419 | AM9: =AM6+AM7+AM8 -> 365388091 | AN9: =AM9-AL9 -> 16244672 | AO9: =SUM(AO6:AO8) -> 231073120 | AP9: =SUM(AP6:AP8) -> 134314971 | AQ9: =SUM(AQ6:AQ8) -> 0 | AR9: =SUM(AO9:AQ9) -> 365388091
A10: Balatonfüredi Közös Önkormányzati Hivatal | B10: ='5.tábla (2)'!B7 -> 289638993 | C10: ='5.tábla (2)'!C7 -> 299056678 | D10: =C10-B10 -> 9417685 | E10: ='5.tábla (2)'!B8 -> 62845576 | F10: ='5.tábla (2)'!C8 -> 65542144 | G10: =F10-E10 -> 2696568 | H10: ='5.tábla (2)'!B9 -> 72986000 | I10: ='5.tábla (2)'!C9 -> 87100069 | J10: =I10-H10 -> 14114069 | K10: ='5.tábla (2)'!B15+'5.tábla (2)'!B17 -> 1674000 | L10: ='5.tábla (2)'!C15+'5.tábla (2)'!C17 -> 1674000 | M10: =L10-K10 -> 0 | R10: Balatonfüredi Közös Önkormányzati Hivatal | S10: ='5.tábla (2)'!B19 -> 0 | T10: ='5.tábla (2)'!C19 -> 321968 | U10: =T10-S10 -> 321968 | V10: ='5.tábla (2)'!B21 -> 14000000 | W10: ='5.tábla (2)'!C21 -> 19636980 | X10: =W10-V10 -> 5636980 | AA10: =Z10-Y10 -> 0 | AD10: =AC10-AB10 -> 0 | AE10: Balatonfüredi Közös Önkormányzati Hivatal | AH10: =AG10-AF10 -> 0 | AK10: =AJ10-AI10 -> 0 | AL10: =SUM(Y10,AB10,AF10,V10,S10,K10,H10,E10,B10) -> 441144569 | AM10: =SUM(Z10,AC10,AG10,W10,T10,L10,I10,F10,C10) -> 473331839 | AN10: =AM10-AL10 -> 32187270 | AO10: =AM10-AP10-AQ10 -> 358532756 | AQ10: ='9. sz. tábla (2)'!H84+'9. sz. tábla (2)'!H93 -> 114799083 | AR10: =SUM(AO10:AQ10) -> 473331839
A11: Költségvetési szervek összesen: | B11: =SUM(B9:B10) -> 476113328 | C11: =SUM(C9:C10) -> 492092945 | D11: =C11-B11 -> 15979617 | E11: =SUM(E9:E10) -> 100481184 | F11: =SUM(F9:F10) -> 104231356 | G11: =F11-E11 -> 3750172 | H11: =SUM(H9:H10) -> 188588416 | I11: =SUM(I9:I10) -> 209653186 | J11: =I11-H11 -> 21064770 | K11: =SUM(K9:K10) -> 1674000 | L11: =SUM(L9:L10) -> 1674000 | M11: =L11-K11 -> 0 | N11: =SUM(N9:N10) -> #REF! | O11: =SUM(O9:O10) -> #REF! | P11: =SUM(P9:P10) -> #REF! | Q11: =SUM(Q9:Q10) -> #REF! | R11: Költségvetési szervek összesen: | S11: =SUM(S9:S10) -> 0 | T11: =SUM(T9:T10) -> 321968 | U11: =T11-S11 -> 321968 | V11: =SUM(V9:V10) -> 23431060 | W11: =SUM(W9:W10) -> 30746475 | X11: =W11-V11 -> 7315415 | Y11: =SUM(Y9:Y10) -> 0 | Z11: =SUM(Z9:Z10) -> 0 | AA11: =Z11-Y11 -> 0 | AB11: =SUM(AB9:AB10) -> 0 | AC11: =SUM(AC9:AC10) -> 0 | AD11: =AC11-AB11 -> 0 | AE11: Költségvetési szervek összesen: | AF11: =SUM(AF9:AF10) -> 0 | AG11: =SUM(AG9:AG10) -> 0 | AH11: =AG11-AF11 -> 0 | AI11: =SUM(AI9:AI10) -> 0 | AJ11: =SUM(AJ9:AJ10) -> 0 | AK11: =AJ11-AI11 -> 0 | AL11: =SUM(AL9:AL10) -> 790287988 | AM11: =SUM(AM9:AM10) -> 838719930 | AN11: =AM11-AL11 -> 48431942 | AO11: =SUM(AO9:AO10) -> 589605876 | AP11: =SUM(AP9:AP10) -> 134314971 | AQ11: =SUM(AQ9:AQ10) -> 114799083 | AR11: =SUM(AO11:AQ11) -> 838719930
A12: Önkormányzat | B12: ='5.tábla (2)'!B30 -> 129569315 | C12: ='5.tábla (2)'!C30 -> 138018414 | D12: =C12-B12 -> 8449099 | E12: ='5.tábla (2)'!B45 -> 23634119 | F12: ='5.tábla (2)'!C45 -> 27331842 | G12: =F12-E12 -> 3697723 | H12: ='5.tábla (2)'!B60 -> 813964964 | I12: ='5.tábla (2)'!C60 -> 859756680 | J12: =I12-H12 -> 45791716 | K12: ='5.tábla (2)'!B101 -> 28100000 | L12: ='5.tábla (2)'!C101 -> 28100000 | M12: =L12-K12 -> 0 | R12: Önkormányzat | S12: ='5.tábla (2)'!B110 -> 1171966248 | T12: ='5.tábla (2)'!C110 -> 1183640002 | U12: =T12-S12 -> 11673754 | V12: ='7. sz. tábla 1'!B108 -> 4396480479 | W12: ='7. sz. tábla 1'!C108 -> 5206434304 | X12: =W12-V12 -> 809953825 | Y12: ='7. sz. tábla 1'!B192 -> 73149430 | Z12: ='7. sz. tábla 1'!C192 -> 73149430 | AA12: =Z12-Y12 -> 0 | AB12: ='7. sz. tábla 1'!B181 -> 518990164 | AC12: ='7. sz. tábla 1'!C181 -> 558790164 | AD12: =AC12-AB12 -> 39800000 | AE12: Önkormányzat | AF12: ='7. sz. tábla 1'!B187 -> 1120094200 | AG12: ='7. sz. tábla 1'!C187 -> 1580094200 | AH12: =AG12-AF12 -> 460000000 | AI12: ='1.sz.tábla (2)'!B30 -> 442264102 | AJ12: ='1.sz.tábla (2)'!C30 -> 280488291 | AK12: =AJ12-AI12 -> -161775811 | AL12: =SUM(Y12,AB12,AF12,V12,S12,K12,H12,E12,B12,AI12) -> 8718213021 | AM12: =SUM(Z12,AC12,AG12,W12,T12,L12,I12,F12,C12,AJ12) -> 9935803327 | AN12: =AM12-AL12 -> 1217590306 | AR12: =SUM(AO12:AQ12) -> 0
A13: Mindösszesen: | B13: =SUM(B11:B12) -> 605682643 | C13: =SUM(C11:C12) -> 630111359 | D13: =C13-B13 -> 24428716 | E13: =SUM(E11:E12) -> 124115303 | F13: =SUM(F11:F12) -> 131563198 | G13: =F13-E13 -> 7447895 | H13: =SUM(H11:H12) -> 1002553380 | I13: =SUM(I11:I12) -> 1069409866 | J13: =I13-H13 -> 66856486 | K13: =SUM(K11:K12) -> 29774000 | L13: =SUM(L11:L12) -> 29774000 | M13: =L13-K13 -> 0 | N13: =SUM(N11:N12) -> #REF! | O13: =SUM(O11:O12) -> #REF! | P13: =SUM(P11:P12) -> #REF! | Q13: =SUM(Q11:Q12) -> #REF! | R13: Mindösszesen: | S13: =SUM(S11:S12) -> 1171966248 | T13: =SUM(T11:T12) -> 1183961970 | U13: =T13-S13 -> 11995722 | V13: =SUM(V11:V12) -> 4419911539 | W13: =SUM(W11:W12) -> 5237180779 | X13: =W13-V13 -> 817269240 | Y13: =SUM(Y11:Y12) -> 73149430 | Z13: =SUM(Z11:Z12) -> 73149430 | AA13: =Z13-Y13 -> 0 | AB13: =SUM(AB11:AB12) -> 518990164 | AC13: =SUM(AC11:AC12) -> 558790164 | AD13: =AC13-AB13 -> 39800000 | AE13: Mindösszesen: | AF13: =SUM(AF11:AF12) -> 1120094200 | AG13: =SUM(AG11:AG12) -> 1580094200 | AH13: =AG13-AF13 -> 460000000 | AI13: =SUM(AI11:AI12) -> 442264102 | AJ13: =SUM(AJ11:AJ12) -> 280488291 | AK13: =AJ13-AI13 -> -161775811 | AL13: =SUM(AL11:AL12) -> 9508501009 | AM13: =SUM(AM11:AM12) -> 10774523257 | AN13: =AM13-AL13 -> 1266022248 | AR13: =SUM(AO13:AQ13) -> 0
Y39: =X39-#REF! -> #REF!
Y40: =X40-#REF! -> #REF!

Sheet 4a. sz. tábla  (3)
A2: INTÉZMÉNYI SAJÁTHATÁSKÖRŰ FEJLESZTÉSEK 2018. ÉV
A3: Intézmény | B3: Megnevezés | C3: 2018. évi eredeti ei. | D3: 2018. évi módosított ei. I. | E3: Eltérés
A5: LIPTÁK GÁBOR VÁROSI KÖNYVTÁR | C5: =SUM(C6:C24) -> 8631060 | D5: =SUM(D6:D24) -> 9432966 | E5: =D5-C5 -> 801906
B6: Dokumentumbeszerzés (könyvtár) | C6: 2544000 | D6: 3175334 | E6: =D6-C6 -> 631334
B7: Vetítővászon, projektor (zsinagóga) | C7: 1569720 | D7: 1343406 | E7: =D7-C7 -> -226314
B8: Gurulós padló állvány (zsinagóga) | D8: 19990 | E8: =D8-C8 -> 19990
B9: Pénztárgép (zsinagóga) | C9: 165100 | D9: 177800 | E9: =D9-C9 -> 12700
B10: Belépőkártyák (zsinagóga) | C10: 482600 | D10: 482600 | E10: =D10-C10 -> 0
B11: Fülhallgatók (zsinagóga) | C11: 304800 | D11: 304800 | E11: =D11-C11 -> 0
B12: 10 db audio készülék (zsinagóga) | C12: 615950 | D12: 615950 | E12: =D12-C12 -> 0
B13: 2 db telefonkészülék (zsinagóga) | C13: 40640 | D13: 40640 | E13: =D13-C13 -> 0
B14: Mobiltelefon vezető részére (zsinagóga) | C14: 82550 | D14: 82550 | E14: =D14-C14 -> 0
B15: Gépek és felszerelés a büfétérbe (zsinagóga) | C15: 292100 | D15: 87996 | E15: =D15-C15 -> -204104
B16: Porszívó (zsinagóga) | D16: 32991 | E16: =D16-C16 -> 32991
B17: Postaláda (zsinagóga) | D17: 7999 | E17: =D17-C17 -> 7999
B18: Hengeres, műanyag kuka (zsinagóga) | D18: 7475 | E18: =D18-C18 -> 7475
B19: Kiadványtároló, megállítótábla (zsinagóga) | C19: 76200 | D19: 114300 | E19: =D19-C19 -> 38100
B20: Bútor (zsinagóga) | C20: 1879600 | D20: 1879600 | E20: =D20-C20 -> 0
B21: Egyéb kisértékű eszközök (zsinagóga) | C21: 50800 | D21: 261963 | E21: =D21-C21 -> 211163
B22: Egyéb kisértékű eszközök (könyvtár) | C22: 527000 | D22: 527000 | E22: =D22-C22 -> 0
B23: Informatikai eszközök | D23: 270572 | E23: =D23-C23 -> 270572
B24: Bútor
A26: BALATONFÜREDI VÁROSI BÖLCSÖDE | C26: =SUM(C27:C31) -> 300000 | D26: =SUM(D27:D31) -> 440990 | E26: =D26-C26 -> 140990
B27: fűnyíró
B28: hűtő
B29: játékok
B30: egyéb kisértékű eszközök | C30: 300000 | D30: ='4.sz.tábla '!W8 -> 440990 | E30: =D30-C30 -> 140990
B31: microhullámú
A33: BALATONFÜREDI VÁROSI SZAKORVOSI RENDELŐINTÉZET | C33: =SUM(C34:C37) -> 500000 | D33: =SUM(D34:D37) -> 1235539 | E33: =D33-C33 -> 735539
B34: informatikai eszközök
B35: Orvosi műszerek
B36: telefon központ
B37: egyéb kisértékű eszközök | C37: 500000 | D37: 1235539 | E37: =D37-C37 -> 735539
A38: BALATONFÜREDI KÖZÖS ÖNKORMÁNYZATI HIVATAL | C38: =SUM(C39:C42) -> 14000000 | D38: =SUM(D39:D42) -> 19636980 | E38: =D38-C38 -> 5636980
B39: Informatikai eszközök | C39: 8000000 | D39: ='5.tábla (2)'!C22 -> 11767242 | E39: =D39-C39 -> 3767242
B40: Gépjármű beszerzés | C40: 5000000 | D40: ='5.tábla (2)'!C23 -> 5269738 | E40: =D40-C40 -> 269738
B41: Velux rolók tetőablakokra | D41: ='5.tábla (2)'!C25 -> 600000 | E41: =D41-C41 -> 600000
B42: egyéb kisértékű eszközök | C42: 1000000 | D42: ='5.tábla (2)'!C24 -> 2000000 | E42: =D42-C42 -> 1000000
A43: ÖSSZESEN: | C43: =SUM(C5+C26+C33+C38) -> 23431060 | D43: =SUM(D5+D26+D33+D38) -> 30746475 | E43: =D43-C43 -> 7315415

Sheet 5.tábla (2)
A3: MŰKÖDÉSI KIADÁSOK ÖNKORMÁNYZAT, HIVATAL BONTÁSBAN 2018. ÉV
A5: MEGNEVEZÉS | B5: 2018. évi eredeti ei. | C5: 2018. évi módosított ei. I. | D5: Eltérés
A6: I. Balatonfüredi Közös Önkormányzati Hivatal költségvetése
A7: 1. Személyi juttatás | B7: 289638993 | C7: 299056678 | D7: =C7-B7 -> 9417685
A8: 2. Munkaadót terhelő járulékok | B8: 62845576 | C8: 65542144 | D8: =C8-B8 -> 2696568
A9: 3. Dologi kiadások | B9: =SUM(B10:B14) -> 72986000 | C9: =SUM(C10:C14) -> 87100069 | D9: =C9-B9 -> 14114069
