Workbook
Name onev: [1]kod!$BT$34:$BT$3186
Name onev: [2]kod!$BT$34:$BT$3186
Name onev: [2]kod!$BT$34:$BT$3186
Name onev: [1]kod!$BT$34:$BT$3186

Sheet 1.sz.tábla   (2)
A1: AZ ÖNKORMÁNYZAT 2018. ÉVI KÖLTSÉGVETÉSÉNEK FŐÖSSZESÍTŐJE
A5: MEGNEVEZÉS | B5: 2018. évi eredeti ei. | C5: 2018. évi módosított ei. I. | D5: Eltérés
A6: I. Működési célú támogatások államháztartáson belülről | B6: ='2.sz.tábla (2)'!K7 -> 1311563771 | C6: ='2.sz.tábla (2)'!L7 -> 1334532099 | D6: =C6-B6 -> 22968328
A7: II. Felhalmozási célú támogatások államháztartáson belülről | B7: ='2.sz.tábla (2)'!K22 -> 1808340761 | C7: ='2.sz.tábla (2)'!L22 -> 2042262550 | D7: =C7-B7 -> 233921789
A8: III. Közhatalmi bevételek | B8: ='2.sz.tábla (2)'!K30 -> 1755525000 | C8: ='2.sz.tábla (2)'!L30 -> 1755525000 | D8: =C8-B8 -> 0
A9: IV. Működési bevételek | B9: ='2.sz.tábla (2)'!K43 -> 1130562963 | C9: ='2.sz.tábla (2)'!L43 -> 1129378897 | D9: =C9-B9 -> -1184066
A10: V. Felhalmozási bevételek | B10: ='2.sz.tábla (2)'!K58 -> 509250000 | C10: ='2.sz.tábla (2)'!L58 -> 509461023 | D10: =C10-B10 -> 211023
A11: VI. Működési célú átvett pénzeszközök | B11: ='2.sz.tábla (2)'!K66 -> 0 | C11: ='2.sz.tábla (2)'!L66 -> 16578317 | D11: =C11-B11 -> 16578317
A12: VII. Felhalmozási célú átvett pénzeszközök | B12: ='2.sz.tábla (2)'!K70 -> 625906935 | C12: ='2.sz.tábla (2)'!L70 -> 625906935 | D12: =C12-B12 -> 0
A13: Költségvetési bevételek összesen: | B13: =SUM(B6:B12) -> 7141149430 | C13: =SUM(C6:C12) -> 7413644821 | D13: =C13-B13 -> 272495391
A14: VIII. Finanszírozási bevételek
A15: 1. Költségvetési hiány belső finanszírozására szolgáló finanszírozási bevételek | B15: ='2.sz.tábla (2)'!K76 -> 1354551579 | C15: ='2.sz.tábla (2)'!L76 -> 1691378713 | D15: =C15-B15 -> 336827134
A16: 2. Költségvetési hiány külső finanszírozására szolgáló finanszírozási célú pénzügyi műveletek bevételei | B16: ='2.sz.tábla (2)'!K79 -> 1012800000 | C16: ='2.sz.tábla (2)'!L79 -> 1669499723 | D16: =C16-B16 -> 656699723
A17: Finanszírozási bevételek összesen: | B17: =SUM(B15:B16) -> 2367351579 | C17: =SUM(C15:C16) -> 3360878436 | D17: =C17-B17 -> 993526857
A18: Bevételek összesen: | B18: =B13+B17 -> 9508501009 | C18: =C13+C17 -> 10774523257 | D18: =C18-B18 -> 1266022248
D19: =C19-B19 -> 0
A20: Működési kiadások | B20: =SUM(B21:B23) -> 2934091574 | C20: =SUM(C21:C23) -> 3044820393 | D20: =C20-B20 -> 110728819
A21: Önkormányzat | B21: ='5.tábla (2)'!B121 -> 2167234646 | C21: ='5.tábla (2)'!C121 -> 2236846938 | D21: =C21-B21 -> 69612292
A22: Önkormányzati Hivatal | B22: ='5.tábla (2)'!B20 -> 427144569 | C22: ='5.tábla (2)'!C20 -> 453694859 | D22: =C22-B22 -> 26550290
A23: Intézmények | B23: ='4.sz.tábla '!AL9-'4.sz.tábla '!V9 -> 339712359 | C23: ='4.sz.tábla '!AM9-'4.sz.tábla '!W9 -> 354278596 | D23: =C23-B23 -> 14566237
D24: =C24-B24 -> 0
A25: Felhalmozási kiadások | B25: =SUM(B26:B28) -> 5012051133 | C25: =SUM(C26:C28) -> 5869120373 | D25: =C25-B25 -> 857069240
A26: Fejlesztési kiadások | B26: ='7. sz. tábla 1'!B182 -> 4915470643 | C26: ='7. sz. tábla 1'!C182 -> 5765224468 | D26: =C26-B26 -> 849753825
A27: Intézm saját hatásk fejl | B27: ='4.sz.tábla '!V11 -> 23431060 | C27: ='4.sz.tábla '!W11 -> 30746475 | D27: =C27-B27 -> 7315415
A28: Felújítás | B28: ='6.sz.tábla '!B116 -> 73149430 | C28: ='6.sz.tábla '!C116 -> 73149430 | D28: =C28-B28 -> 0
D29: =C29-B29 -> 0
A30: Tartalékok | B30: =SUM(B31:B32) -> 442264102 | C30: =SUM(C31:C32) -> 280488291 | D30: =C30-B30 -> -161775811
A31: Általános | B31: =389744292+800000+6500000 -> 397044292 | C31: 162835115 | D31: =C31-B31 -> -234209177
A32: Cél | B32: =B39 -> 45219810 | C32: =C39 -> 117653176 | D32: =C32-B32 -> 72433366
A33: Költségvetési kiadások összesen: | B33: =SUM(B30,B25,B20) -> 8388406809 | C33: =SUM(C30,C25,C20) -> 9194429057 | D33: =C33-B33 -> 806022248
A34: Hiteltörlesztés | B34: ='7. sz. tábla 1'!B184 -> 74242424 | C34: ='7. sz. tábla 1'!C184 -> 74242424 | D34: =C34-B34 -> 0
A35: Államháztartáson belüli megelőlegezés visszafizetés | B35: ='7. sz. tábla 1'!B186 -> 45851776 | C35: ='7. sz. tábla 1'!C186 -> 45851776 | D35: =C35-B35 -> 0
A36: Forgatási célú értékpapír vásárlása | B36: ='7. sz. tábla 1'!B185 -> 1000000000 | C36: ='7. sz. tábla 1'!C185 -> 1460000000 | D36: =C36-B36 -> 460000000
A37: Finanszírozási kiadások összesen: | B37: =SUM(B34:B36) -> 1120094200 | C37: =SUM(C34:C36) -> 1580094200 | D37: =C37-B37 -> 460000000
A38: Kiadások összesen: | B38: =SUM(B33,B37) -> 9508501009 | C38: =SUM(C33,C37) -> 10774523257 | D38: =C38-B38 -> 1266022248 | F38: =D18-D38 -> 0
A39: Céltartalék: | B39: =SUM(B40:B52) -> 45219810 | C39: =SUM(C40:C52) -> 117653176 | D39: =C39-B39 -> 72433366
A40: MÁK forgótőke | B40: 660000 | C40: 660000 | D40: =C40-B40 -> 0
A41: környezetvédelmi alap | B41: 8412487 | C41: 8412487 | D41: =C41-B41 -> 0
A42: Polgármester saját hatáskörű keret | B42: 5000000 | C42: 2483000 | D42: =C42-B42 -> -2517000
A43: Népház, posta pénzügyi alap | B43: 20904901 | C43: 20107122 | D43: =C43-B43 -> -797779
A44: Helyi védelem | B44: 3000000 | C44: 3000000 | D44: =C44-B44 -> 0
A45: Közhasznú foglalkoztatás | B45: 4000000 | C45: 4000000 | D45: =C45-B45 -> 0
A46: Zsinagóga felújítási alap | B46: 2186838 | C46: 2186838 | D46: =C46-B46 -> 0
A47: Tájház pályázati önerő Lóczy u. 101.103. (82/2018. (III.29.)) | B47: 0 | C47: 20000000 | D47: =C47-B47 -> 20000000
A48: Vissza nem térítendő tám. TFC-1.1.2-2018 pályázat érdekében (105/2018.(IV.13.)) | C48: 54709790 | D48: =C48-B48 -> 54709790
A49: Intézményi elkülönített keret | B49: 0 | C49: 1405939 | D49: =C49-B49 -> 1405939
A50: Társulásoknak átadott intézmények kv-i maradványa | B50: 78000 | C50: 78000 | D50: =C50-B50 -> 0
A51: óvodákban évközben jelentkező SNI többletktg. | B51: 610000 | C51: 610000 | D51: =C51-B51 -> 0
A52: Pedagógus II. kategóriába sorolt óvodapedagógusok kieg. támog. (lemodás) | B52: 367584 | C52: 0 | D52: =C52-B52 -> -367584

Sheet 2.sz.tábla   (2)
A3: BEVÉTELEK ELŐIRÁNYZATA 2018. ÉV
A5: MEGNEVEZÉS | B5: ÖNKORMÁNYZAT | E5: BALATONFÜREDI KÖZÖS ÖNKORMÁNYZATI HIVATAL | H5: KÖLTSÉGVETÉSI SZERVEK | K5: ÖNKORMÁNYZAT ÖSSZESEN
B6: 2018. évi eredeti ei. | C6: 2018. évi módosított ei. I. | D6: Eltérés | E6: 2018. évi eredeti ei. | F6: 2018. évi módosított ei. I. | G6: Eltérés | H6: 2018. évi eredeti ei. | I6: 2018. évi módosított ei. I. | J6: Eltérés | K6: 2018. évi eredeti ei. | L6: 2018. évi módosított ei. I. | M6: Eltérés
A7: I. Működési célú támogatások államháztartáson belülről | B7: =B8+B16+B17+B18+B19+B20 -> 1166764644 | C7: =C8+C16+C17+C18+C19+C20 -> 1181437317 | D7: =C7-B7 -> 14672673 | E7: =E8+E16+E17+E18+E19+E20 -> 22871493 | F7: =F8+F16+F17+F18+F19+F20 -> 28474773 | G7: =F7-E7 -> 5603280 | H7: =H8+H16+H17+H18+H19+H20 -> 121927634 | I7: =I8+I16+I17+I18+I19+I20 -> 124620009 | J7: =I7-H7 -> 2692375 | K7: =K8+K16+K17+K18+K19+K20 -> 1311563771 | L7: =L8+L16+L17+L18+L19+L20 -> 1334532099 | M7: =L7-K7 -> 22968328
A8: 1. Önkormányzat működési támogatásai | B8: =SUM(B9:B15) -> 913185557 | C8: =SUM(C9:C15) -> 930171338 | D8: =C8-B8 -> 16985781 | E8: =SUM(E9:E15) -> 0 | F8: =SUM(F9:F15) -> 0 | G8: =F8-E8 -> 0 | H8: =SUM(H9:H15) -> 0 | I8: =SUM(I9:I15) -> 0 | J8: =I8-H8 -> 0 | K8: =SUM(K9:K15) -> 913185557 | L8: =SUM(L9:L15) -> 930171338 | M8: =L8-K8 -> 16985781
A9: 1.1. Helyi önk. működésének ált. támogatása | B9: ='2b. tábla 2018'!E5 -> 465551718 | C9: ='2b. tábla 2018'!H5 -> 466084248 | D9: =C9-B9 -> 532530 | K9: =SUM(B9+E9+H9) -> 465551718 | L9: =SUM(C9+F9+I9) -> 466084248 | M9: =L9-K9 -> 532530
A10: 1.2. Települési önk. egyes köznev. feladatainak támogatása | B10: ='2b. tábla 2018'!E30 -> 248514968 | C10: ='2b. tábla 2018'!H30 -> 248315735 | D10: =C10-B10 -> -199233 | K10: =SUM(B10+E10+H10) -> 248514968 | L10: =SUM(C10+F10+I10) -> 248315735 | M10: =L10-K10 -> -199233
A11: 1.3. Települési önk. szoc. és gyermekjóléti feladatainak tám. | B11: ='2b. tábla 2018'!E42 -> 182314391 | C11: ='2b. tábla 2018'!H42 -> 194146642 | D11: =C11-B11 -> 11832251 | K11: =SUM(B11+E11+H11) -> 182314391 | L11: =SUM(C11+F11+I11) -> 194146642 | M11: =L11-K11 -> 11832251
A12: 1.4. Települési önk. kult. feladatainak támogatása | B12: ='2b. tábla 2018'!E67 -> 16804480 | C12: ='2b. tábla 2018'!H67 -> 19634671 | D12: =C12-B12 -> 2830191 | K12: =SUM(B12+E12+H12) -> 16804480 | L12: =SUM(C12+F12+I12) -> 19634671 | M12: =L12-K12 -> 2830191
A13: 1.5. Működési célú költségvetési támogatások és kiegészítő támogatások | B13: ='2b. tábla 2018'!E72 -> 0 | C13: ='2b. tábla 2018'!H72 -> 1990042 | D13: =C13-B13 -> 1990042 | K13: =SUM(B13+E13+H13) -> 0 | L13: =SUM(C13+F13+I13) -> 1990042 | M13: =L13-K13 -> 1990042
A14: 1.6. Elszámolásból származó bevételek | K14: =SUM(B14+E14+H14) -> 0 | L14: =SUM(C14+F14+I14) -> 0 | M14: =L14-K14 -> 0
A15: 1.7. Vis major | M15: =L15-K15 -> 0
A16: 2. Elvonások, befizetések | M16: =L16-K16 -> 0
A17: 3. Működési célú garancia- és kezességvállalásból származó megtérülések áh-n belülről | M17: =L17-K17 -> 0
A18: 4. Működési célú visszatérítendő támogatások, kölcsönök visszatérülése áh-n belülről | M18: =L18-K18 -> 0
A19: 5. Működési célú visszatérítendő támogatások, kölcsönök igénybevétele áh-n belülről | M19: =L19-K19 -> 0
A20: 6. Egyéb működési célú támogatások bevételei államháztartáson belülről | B20: 253579087 | C20: 251265979 | D20: =C20-B20 -> -2313108 | E20: ='2.a tábla ÚJ '!O13 -> 22871493 | F20: ='2.a tábla ÚJ '!P13 -> 28474773 | G20: =F20-E20 -> 5603280 | H20: ='2.a tábla ÚJ '!K13 -> 121927634 | I20: ='2.a tábla ÚJ '!L13 -> 124620009 | J20: =I20-H20 -> 2692375 | K20: =B20+E20+H20 -> 398378214 | L20: =C20+F20+I20 -> 404360761 | M20: =L20-K20 -> 5982547
A21: ebből működési célú támogatás társadalombiztosítási alapból | H21: ='2.a tábla ÚJ '!K14 -> 117000000 | I21: ='2.a tábla ÚJ '!L14 -> 119692376 | J21: =I21-H21 -> 2692376 | K21: =B21+E21+H21 -> 117000000 | L21: =C21+F21+I21 -> 119692376 | M21: =L21-K21 -> 2692376
A22: II. Felhalmozási célú támogatások államháztartáson belülről | B22: =B23+B24+B25+B26+B27 -> 1808340761 | C22: =C23+C24+C25+C26+C27 -> 2041827011 | D22: =C22-B22 -> 233486250 | E22: =E23+E24+E25+E26+E27 -> 0 | H22: =H23+H24+H25+H26+H27 -> 0 | I22: =I23+I24+I25+I26+I27 -> 435539 | J22: =I22-H22 -> 435539 | K22: =K23+K24+K25+K26+K27 -> 1808340761 | L22: =L23+L24+L25+L26+L27 -> 2042262550 | M22: =L22-K22 -> 233921789
A23: 1. Felhalmozási célú önkormányzati támogatások | B23: 0 | K23: =B23+E23+H23 -> 0 | L23: =C23+F23+I23 -> 0 | M23: =L23-K23 -> 0
A24: 2. Felhalmozási célú garancia- és kezességvállalásból származó megtérülések áh-n belülről | K24: =B24+E24+H24 -> 0 | L24: =C24+F24+I24 -> 0 | M24: =L24-K24 -> 0
A25: 3. Felhalmozási célú visszatérítendő támogatások, kölcsönök visszatérülése áh-n belülről | K25: =B25+E25+H25 -> 0 | L25: =C25+F25+I25 -> 0 | M25: =L25-K25 -> 0
A26: 4. Felhalmozási célú visszatérítendő támogatások, kölcsönök igénybevétele áh-n belülről | K26: =B26+E26+H26 -> 0 | L26: =C26+F26+I26 -> 0 | M26: =L26-K26 -> 0
A27: 5. Egyéb felhalmozási célú támogatások államháztartáson belülről | B27: 1808340761 | C27: 2041827011 | D27: =C27-B27 -> 233486250 | H27: ='2.a tábla ÚJ '!K16 -> 0 | I27: ='2.a tábla ÚJ '!L16 -> 435539 | J27: ='2.a tábla ÚJ '!M16 -> 435539 | K27: =B27+E27+H27 -> 1808340761 | L27: =C27+F27+I27 -> 2042262550 | M27: =L27-K27 -> 233921789
A28: MEGNEVEZÉS | B28: ÖNKORMÁNYZAT | E28: BALATONFÜREDI KÖZÖS ÖNKORMÁNYZATI HIVATAL | H28: KÖLTSÉGVETÉSI SZERVEK | K28: ÖNKORMÁNYZAT ÖSSZESEN
B29: 2018. évi eredeti ei. | C29: 2018. évi módosított ei. I. | D29: Eltérés | E29: 2018. évi eredeti ei. | F29: 2018. évi módosított ei. I. | G29: Eltérés | H29: 2018. évi eredeti ei. | I29: 2018. évi módosított ei. I. | J29: Eltérés | K29: 2018. évi eredeti ei. | L29: 2018. évi módosított ei. I. | M29: Eltérés
A30: III. Közhatalmi bevételek | B30: =B31+B34+B42 -> 1754525000 | C30: =C31+C34+C42 -> 1754525000 | D30: =C30-B30 -> 0 | E30: =E31+E34+E42 -> 1000000 | F30: =F31+F34+F42 -> 1000000 | G30: =F30-E30 -> 0 | H30: =H31+H34+H42 -> 0 | I30: =I31+I34+I42 -> 0 | J30: =I30-H30 -> 0 | K30: =SUM(B30+E30+H30) -> 1755525000 | L30: =SUM(C30+F30+I30) -> 1755525000 | M30: =L30-K30 -> 0
A31: 1. Vagyoni típusú adók | B31: =SUM(B32:B33) -> 447000000 | C31: =SUM(C32:C33) -> 447000000 | D31: =C31-B31 -> 0 | E31: =SUM(E32:E33) -> 0 | F31: =SUM(F32:F33) -> 0 | G31: =F31-E31 -> 0 | H31: =SUM(H32:H33) -> 0 | I31: =SUM(I32:I33) -> 0 | J31: =I31-H31 -> 0 | K31: =SUM(B31+E31+H31) -> 447000000 | L31: =SUM(C31+F31+I31) -> 447000000 | M31: =L31-K31 -> 0
A32: 1.1. Építményadó | B32: 420000000 | C32: 420000000 | D32: =C32-B32 -> 0 | G32: =F32-E32 -> 0 | J32: =I32-H32 -> 0 | K32: =SUM(B32+E32+H32) -> 420000000 | L32: =SUM(C32+F32+I32) -> 420000000 | M32: =L32-K32 -> 0
A33: 1.2. Telekadó | B33: 27000000 | C33: 27000000 | D33: =C33-B33 -> 0 | G33: =F33-E33 -> 0 | J33: =I33-H33 -> 0 | K33: =SUM(B33+E33+H33) -> 27000000 | L33: =SUM(C33+F33+I33) -> 27000000 | M33: =L33-K33 -> 0
A34: 2. Termékek és szolgáltatások adói | B34: =B35+B37+B38 -> 1276000000 | C34: =C35+C37+C38 -> 1276000000 | D34: =C34-B34 -> 0 | E34: =E35+E37+E38 -> 0 | F34: =F35+F37+F38 -> 0 | G34: =F34-E34 -> 0 | H34: =H35+H37+H38 -> 0 | I34: =I35+I37+I38 -> 0 | J34: =I34-H34 -> 0 | K34: =SUM(B34+E34+H34) -> 1276000000 | L34: =SUM(C34+F34+I34) -> 1276000000 | M34: =L34-K34 -> 0
A35: 2.1. Értékesítési és forgalmi adók | B35: =SUM(B36) -> 840000000 | C35: =SUM(C36) -> 840000000 | D35: =C35-B35 -> 0 | G35: =F35-E35 -> 0 | J35: =I35-H35 -> 0 | K35: =SUM(B35+E35+H35) -> 840000000 | L35: =SUM(C35+F35+I35) -> 840000000 | M35: =L35-K35 -> 0
A36: 2.1. 1. Iparűzési adó | B36: 840000000 | C36: 840000000 | D36: =C36-B36 -> 0 | G36: =F36-E36 -> 0 | J36: =I36-H36 -> 0 | K36: =SUM(B36+E36+H36) -> 840000000 | L36: =SUM(C36+F36+I36) -> 840000000 | M36: =L36-K36 -> 0
A37: 2.2. Gépjárműadók | B37: 52000000 | C37: 52000000 | D37: =C37-B37 -> 0 | G37: =F37-E37 -> 0 | J37: =I37-H37 -> 0 | K37: =SUM(B37+E37+H37) -> 52000000 | L37: =SUM(C37+F37+I37) -> 52000000 | M37: =L37-K37 -> 0
A38: 2.3. Egyéb áruhasználati és szolgáltatási adók | B38: =SUM(B39:B41) -> 384000000 | C38: =SUM(C39:C41) -> 384000000 | D38: =C38-B38 -> 0 | E38: =SUM(E39:E41) -> 0 | F38: =SUM(F39:F41) -> 0 | G38: =F38-E38 -> 0 | H38: =SUM(H39:H41) -> 0 | I38: =SUM(I39:I41) -> 0 | J38: =I38-H38 -> 0 | K38: =SUM(B38+E38+H38) -> 384000000 | L38: =SUM(C38+F38+I38) -> 384000000 | M38: =L38-K38 -> 0
A39: 2.3.1. Ifa személyek u. | B39: 384000000 | C39: 384000000 | D39: =C39-B39 -> 0 | G39: =F39-E39 -> 0 | J39: =I39-H39 -> 0 | K39: =SUM(B39+E39+H39) -> 384000000 | L39: =SUM(C39+F39+I39) -> 384000000 | M39: =L39-K39 -> 0
A40: 2.3.2. Talajterhelési díj | D40: =C40-B40 -> 0 | G40: =F40-E40 -> 0 | J40: =I40-H40 -> 0 | K40: =SUM(B40+E40+H40) -> 0 | L40: =SUM(C40+F40+I40) -> 0 | M40: =L40-K40 -> 0
A41: 2.3.3. Települési adó | D41: =C41-B41 -> 0 | G41: =F41-E41 -> 0 | J41: =I41-H41 -> 0 | K41: =SUM(B41+E41+H41) -> 0 | L41: =SUM(C41+F41+I41) -> 0 | M41: =L41-K41 -> 0
A42: 3. Egyéb közhatalmi bevételek (bírság, pótlék, településrendezési szerz.) | B42: 31525000 | C42: 31525000 | D42: =C42-B42 -> 0 | E42: ='2.a tábla ÚJ '!O20 -> 1000000 | F42: ='2.a tábla ÚJ '!P20 -> 1000000 | G42: =F42-E42 -> 0 | J42: =I42-H42 -> 0 | K42: =SUM(B42+E42+H42) -> 32525000 | L42: =SUM(C42+F42+I42) -> 32525000 | M42: =L42-K42 -> 0
A43: IV. Működési bevételek | B43: =B44+B45+B47+B48+B51+B52+B53+B54+B57+B55+B56 -> 1057959432 | C43: =C44+C45+C47+C48+C51+C52+C53+C54+C57+C55+C56 -> 1052444839 | D43: =C43-B43 -> -5514593 | E43: =E44+E45+E47+E48+E51+E52+E53+E54+E57+E55+E56 -> 25146000 | F43: =F44+F45+F47+F48+F51+F52+F53+F54+F57+F55+F56 -> 29476527 | G43: =F43-E43 -> 4330527 | H43: =H44+H45+H47+H48+H51+H52+H53+H54+H57+H55+H56 -> 47457531 | I43: =I44+I45+I47+I48+I51+I52+I53+I54+I57+I55+I56 -> 47457531 | J43: =I43-H43 -> 0 | K43: =SUM(B43+E43+H43) -> 1130562963 | L43: =SUM(C43+F43+I43) -> 1129378897 | M43: =L43-K43 -> -1184066
A44: 1. Készletértékesítés bevétele | B44: 0 | D44: =C44-B44 -> 0 | G44: =F44-E44 -> 0 | J44: =I44-H44 -> 0 | K44: =SUM(B44+E44+H44) -> 0 | L44: =SUM(C44+F44+I44) -> 0 | M44: =L44-K44 -> 0
A45: 2. Szolgáltatások ellenértéke | B45: 443139755 | C45: 443139755 | D45: =C45-B45 -> 0 | E45: ='2.a tábla ÚJ '!O23 -> 17850000 | F45: ='2.a tábla ÚJ '!P23 -> 17850000 | G45: =F45-E45 -> 0 | H45: ='2.a tábla ÚJ '!K23 -> 42947000 | I45: ='2.a tábla ÚJ '!L23 -> 42947000 | J45: =I45-H45 -> 0 | K45: =SUM(B45+E45+H45) -> 503936755 | L45: =SUM(C45+F45+I45) -> 503936755 | M45: =L45-K45 -> 0
A46: Ebből: bérleti díjak | B46: 440739755 | C46: 440739755 | D46: =C46-B46 -> 0 | E46: ='2.a tábla ÚJ '!O24 -> 6500000 | F46: ='2.a tábla ÚJ '!P24 -> 6500000 | G46: =F46-E46 -> 0 | H46: ='2.a tábla ÚJ '!K24 -> 0 | I46: ='2.a tábla ÚJ '!L24 -> 0 | J46: =I46-H46 -> 0 | K46: =SUM(B46+E46+H46) -> 447239755 | L46: =SUM(C46+F46+I46) -> 447239755 | M46: =L46-K46 -> 0
A47: 3. Közvetített szolgáltatások ellenértéke | B47: 4300946 | C47: 4300946 | D47: =C47-B47 -> 0 | E47: ='2.a tábla ÚJ '!O25 -> 1950000 | F47: ='2.a tábla ÚJ '!P25 -> 6223550 | G47: =F47-E47 -> 4273550 | H47: ='2.a tábla ÚJ '!K25 -> 0 | I47: ='2.a tábla ÚJ '!L25 -> 0 | J47: =I47-H47 -> 0 | K47: =SUM(B47+E47+H47) -> 6250946 | L47: =SUM(C47+F47+I47) -> 10524496 | M47: =L47-K47 -> 4273550
A48: 4. Tulajdonosi bevételek | B48: =SUM(B49:B50) -> 19109000 | C48: =SUM(C49:C50) -> 19109000 | D48: =C48-B48 -> 0 | H48: ='2.a tábla ÚJ '!K26 -> 0 | I48: ='2.a tábla ÚJ '!L26 -> 0 | K48: =SUM(B48+E48+H48) -> 19109000 | L48: =SUM(C48+F48+I48) -> 19109000
A49: 4.1. Üzemeltetési díjak | B49: 5109000 | C49: 5109000 | D49: =C49-B49 -> 0 | K49: =SUM(B49+E49+H49) -> 5109000 | L49: =SUM(C49+F49+I49) -> 5109000
A50: 4.2. Részesedés után kapott osztalék | B50: 14000000 | C50: 14000000 | D50: =C50-B50 -> 0 | K50: =SUM(B50+E50+H50) -> 14000000 | L50: =SUM(C50+F50+I50) -> 14000000
A51: 5. Ellátási díjak | B51: 35188439 | C51: 35188439 | D51: =C51-B51 -> 0 | H51: ='2.a tábla ÚJ '!K27 -> 601205 | I51: ='2.a tábla ÚJ '!L27 -> 601205 | K51: =SUM(B51+E51+H51) -> 35789644 | L51: =SUM(C51+F51+I51) -> 35789644
A52: 6. Kiszámlázott Áfa | B52: 126812288 | C52: 126812288 | D52: =C52-B52 -> 0 | E52: ='2.a tábla ÚJ '!O28 -> 5346000 | F52: ='2.a tábla ÚJ '!P28 -> 5402977 | G52: =F52-E52 -> 56977 | H52: ='2.a tábla ÚJ '!K28 -> 2251326 | I52: ='2.a tábla ÚJ '!L28 -> 2251326 | J52: =I52-H52 -> 0 | K52: =SUM(B52+E52+H52) -> 134409614 | L52: =SUM(C52+F52+I52) -> 134466591 | M52: =L52-K52 -> 56977
A53: 7. Áfa visszatérítés | B53: 387734004 | C53: 382219411 | D53: =C53-B53 -> -5514593 | H53: ='2.a tábla ÚJ '!K29 -> 1638000 | I53: ='2.a tábla ÚJ '!L29 -> 1638000 | K53: =SUM(B53+E53+H53) -> 389372004 | L53: =SUM(C53+F53+I53) -> 383857411
A54: 8. Kamatbevétel | B54: 40175000 | C54: 40175000 | D54: =C54-B54 -> 0 | H54: ='2.a tábla ÚJ '!K30 -> 0 | I54: ='2.a tábla ÚJ '!L30 -> 0 | K54: =SUM(B54+E54+H54) -> 40175000 | L54: =SUM(C54+F54+I54) -> 40175000
A55: 9. Egyéb pénzügyi műveletek bevételei | D55: =C55-B55 -> 0 | H55: ='2.a tábla ÚJ '!K31 -> 0 | I55: ='2.a tábla ÚJ '!L31 -> 0 | K55: =SUM(B55+E55+H55) -> 0 | L55: =SUM(C55+F55+I55) -> 0
A56: 10. Biztosító által fizetett kártérítés | D56: =C56-B56 -> 0 | H56: ='2.a tábla ÚJ '!K32 -> 0 | I56: ='2.a tábla ÚJ '!L32 -> 0 | K56: =SUM(B56+E56+H56) -> 0 | L56: =SUM(C56+F56+I56) -> 0
A57: 11. Egyéb működési bevételek | B57: 1500000 | C57: 1500000 | D57: =C57-B57 -> 0 | H57: ='2.a tábla ÚJ '!K33 -> 20000 | I57: ='2.a tábla ÚJ '!L33 -> 20000 | K57: =SUM(B57+E57+H57) -> 1520000 | L57: =SUM(C57+F57+I57) -> 1520000
A58: V. Felhalmozási bevételek | B58: =SUM(B59:B63) -> 509250000 | C58: =SUM(C59:C63) -> 509250000 | D58: =C58-B58 -> 0 | E58: =SUM(E59:E63) -> 0 | F58: =SUM(F59:F63) -> 211023 | G58: =F58-E58 -> 211023 | H58: =SUM(H59:H63) -> 0 | I58: =SUM(I59:I63) -> 0 | J58: =I58-H58 -> 0 | K58: =SUM(K59:K63) -> 509250000 | L58: =SUM(L59:L63) -> 509461023 | M58: =L58-K58 -> 211023
A59: 1. Immateriális javak értékesítése | D59: =C59-B59 -> 0
A60: 2. Ingatlanok értékesítése | B60: 509250000 | C60: 509250000 | D60: =C60-B60 -> 0 | K60: =B60+H60+E60 -> 509250000 | L60: =C60+I60+F60 -> 509250000
A61: 3. Egyéb tárgyi eszközök értékesítése | D61: =C61-B61 -> 0 | F61: ='2.a tábla ÚJ '!P37 -> 211023 | G61: =F61-E61 -> 211023 | K61: =B61+H61+E61 -> 0 | L61: =C61+I61+F61 -> 211023
A62: 4. Részesedések értékesítése | D62: =C62-B62 -> 0 | K62: =B62+H62+E62 -> 0 | L62: =C62+I62+F62 -> 0
A63: 5. Részesedések megszűnéséhez kapcsolódó bevételek | D63: =C63-B63 -> 0 | K63: =B63+H63+E63 -> 0 | L63: =C63+I63+F63 -> 0
A64: MEGNEVEZÉS | B64: ÖNKORMÁNYZAT | E64: BALATONFÜREDI KÖZÖS ÖNKORMÁNYZATI HIVATAL | H64: KÖLTSÉGVETÉSI SZERVEK | K64: ÖNKORMÁNYZAT ÖSSZESEN
B65: 2018. évi eredeti ei. | C65: 2018. évi módosított ei. I. | D65: Eltérés | E65: 2018. évi eredeti ei. | F65: 2018. évi módosított ei. I. | G65: Eltérés | H65: 2018. évi eredeti ei. | I65: 2018. évi módosított ei. I. | J65: Eltérés | K65: 2018. évi eredeti ei. | L65: 2018. évi módosított ei. I. | M65: Eltérés
A66: VI. Működési célú átvett pénzeszközök | B66: =SUM(B67:B69) -> 0 | C66: =SUM(C67:C69) -> 16578317 | D66: =C66-B66 -> 16578317 | E66: =SUM(E67:E69) -> 0 | F66: =SUM(F67:F69) -> 0 | G66: =F66-E66 -> 0 | H66: =SUM(H67:H69) -> 0 | I66: =SUM(I67:I69) -> 0 | J66: =I66-H66 -> 0 | K66: =SUM(K67:K69) -> 0 | L66: =SUM(L67:L69) -> 16578317 | M66: =L66-K66 -> 16578317
A67: 1. Működési célú garancia- és kezességvállalásból származó megtérülések áh-n kívülről | K67: =B67+E67+H67 -> 0 | L67: =C67+F67+I67 -> 0
A68: 2. Működési célú visszatérítendő támogatások, kölcsönök visszatérülése államháztartáson kívülről | C68: 15000000 | D68: =C68-B68 -> 15000000 | K68: =B68+E68+H68 -> 0 | L68: =C68+F68+I68 -> 15000000
A69: 3. Egyéb működési célú átvett pénzeszközök | C69: 1578317 | D69: =C69-B69 -> 1578317 | K69: =SUM(B69+E69+H69) -> 0 | L69: =SUM(C69+F69+I69) -> 1578317
A70: VII. Felhalmozási célú átvett pénzeszközök | B70: =SUM(B71:B73) -> 625906935 | C70: =SUM(C71:C73) -> 625906935 | D70: =C70-B70 -> 0 | E70: =SUM(E71:E73) -> 0 | F70: =SUM(F71:F73) -> 0 | G70: =F70-E70 -> 0 | H70: =SUM(H71:H73) -> 0 | I70: =SUM(I71:I73) -> 0 | J70: =I70-H70 -> 0 | K70: =SUM(K71:K73) -> 625906935 | L70: =SUM(L71:L73) -> 625906935 | M70: =L70-K70 -> 0
A71: 1. Felhalmozási célú garancia- és kezességvállalásból származó megtérülések áh-n kívülről | K71: =B71+E71+H71 -> 0 | L71: =C71+F71+I71 -> 0
A72: 2. Felhalmozási célú visszatérítendő támogatások, kölcsönök visszatérülése államháztartáson kívülről | B72: 608906935 | C72: 608906935 | D72: =C72-B72 -> 0 | G72: =F72-E72 -> 0 | J72: =I72-H72 -> 0 | K72: =B72+E72+H72 -> 608906935 | L72: =C72+F72+I72 -> 608906935 | M72: =L72-K72 -> 0
A73: 3. Egyéb felhalmozási célú átvett pénzeszközök | B73: 17000000 | C73: 17000000 | D73: =C73-B73 -> 0 | G73: =F73-E73 -> 0 | J73: =I73-H73 -> 0 | K73: =B73+E73+H73 -> 17000000 | L73: =C73+F73+I73 -> 17000000 | M73: =L73-K73 -> 0
A74: Költségvetési bevételek összesen: | B74: =B70+B66+B58+B43+B30+B22+B7 -> 6922746772 | C74: =C70+C66+C58+C43+C30+C22+C7 -> 7181969419 | D74: =C74-B74 -> 259222647 | E74: =E70+E66+E58+E43+E30+E22+E7 -> 49017493 | F74: =F70+F66+F58+F43+F30+F22+F7 -> 59162323 | G74: =F74-E74 -> 10144830 | H74: =H70+H66+H58+H43+H30+H22+H7 -> 169385165 | I74: =I70+I66+I58+I43+I30+I22+I7 -> 172513079 | J74: =I74-H74 -> 3127914 | K74: =K70+K66+K58+K43+K30+K22+K7 -> 7141149430 | L74: =L70+L66+L58+L43+L30+L22+L7 -> 7413644821 | M74: =L74-K74 -> 272495391 | N74: =B74+E74+H74 -> 7141149430
A75: VIII. Finanszírozási bevételek | B75: =B76+B79 -> 2366899089 | C75: =C76+C79 -> 3307323496 | D75: =C75-B75 -> 940424407 | E75: =E76+E79 -> 0 | F75: =F76+F79 -> 36290988 | G75: =F75-E75 -> 36290988 | H75: =H76+H79 -> 452490 | I75: =I76+I79 -> 17263952 | J75: =I75-H75 -> 16811462 | K75: =K76+K79 -> 2367351579 | L75: =L76+L79 -> 3360878436 | M75: =L75-K75 -> 993526857
A76: 1. Költségvetési hiány belső finanszírozására szolgáló bevételek | B76: =SUM(B77:B78) -> 1354099089 | C76: =SUM(C77:C78) -> 1637823773 | D76: =C76-B76 -> 283724684 | E76: =SUM(E77:E78) -> 0 | F76: =SUM(F77:F78) -> 36290988 | G76: =F76-E76 -> 36290988 | H76: =SUM(H77:H78) -> 452490 | I76: =SUM(I77:I78) -> 17263952 | J76: =I76-H76 -> 16811462 | K76: =B76+H76+E76 -> 1354551579 | L76: =C76+I76+F76 -> 1691378713 | M76: =L76-K76 -> 336827134
A77: 1.1. Előző év költségvetési maradványának igénybevétele működési célra | B77: 176681574 | C77: 454730120 | D77: =C77-B77 -> 278048546 | E77: ='2.a tábla ÚJ '!O47 -> 0 | F77: ='2.a tábla ÚJ '!P47 -> 31465031 | G77: =F77-E77 -> 31465031 | H77: ='2.a tábla ÚJ '!K47 -> 452490 | I77: ='2.a tábla ÚJ '!L47 -> 16822962 | J77: =I77-H77 -> 16370472 | K77: =B77+E77+H77 -> 177134064 | L77: =C77+F77+I77 -> 503018113 | M77: =L77-K77 -> 325884049
A78: 1.2. Előző év költségvetési maradványának igénybevétele felhalmozási célra | B78: 1177417515 | C78: 1183093653 | D78: =C78-B78 -> 5676138 | E78: ='2.a tábla ÚJ '!O48 -> 0 | F78: ='2.a tábla ÚJ '!P48 -> 4825957 | G78: =F78-E78 -> 4825957 | H78: ='2.a tábla ÚJ '!K48 -> 0 | I78: ='2.a tábla ÚJ '!L48 -> 440990 | J78: =I78-H78 -> 440990 | K78: =B78+E78+H78 -> 1177417515 | L78: =C78+F78+I78 -> 1188360600 | M78: =L78-K78 -> 10943085
A79: 2. Költségvetési hiány külső finanszírozására szolgáló finanszírozási bevételek | B79: =B80+B84+B89+B90 -> 1012800000 | C79: =C80+C84+C89+C90 -> 1669499723 | D79: =C79-B79 -> 656699723 | E79: =E80+E84+E89+E90 -> 0 | F79: =F80+F84+F89+F90 -> 0 | G79: =F79-E79 -> 0 | H79: =H80+H84+H89+H90 -> 0 | I79: =I80+I84+I89+I90 -> 0 | J79: =I79-H79 -> 0 | K79: =K80+K84+K89+K90 -> 1012800000 | L79: =L80+L84+L89+L90 -> 1669499723 | M79: =L79-K79 -> 656699723
A80: 1. Hitel, kölcsön felvétele áh-n kívülről | B80: =SUM(B81:B83) -> 0 | C80: =SUM(C81:C83) -> 0 | D80: =C80-B80 -> 0 | E80: =SUM(E81:E83) -> 0 | F80: =SUM(F81:F83) -> 0 | G80: =F80-E80 -> 0 | H80: =SUM(H81:H83) -> 0 | I80: =SUM(I81:I83) -> 0 | J80: =I80-H80 -> 0 | K80: =SUM(K81:K83) -> 0 | L80: =SUM(L81:L83) -> 0 | M80: =L80-K80 -> 0
A81: 1.1. Hosszú lejáratú hitelek, kölcsönök felvétele | D81: =C81-B81 -> 0 | G81: =F81-E81 -> 0 | J81: =I81-H81 -> 0 | K81: =B81+H81 -> 0 | L81: =C81+I81 -> 0 | M81: =L81-K81 -> 0
A82: 1.2. Likviditási célú hitelek, kölcsönök felvétele pénzügyi vállalkozástól | D82: =C82-B82 -> 0 | G82: =F82-E82 -> 0 | J82: =I82-H82 -> 0 | K82: =B82+H82 -> 0 | L82: =C82+I82 -> 0 | M82: =L82-K82 -> 0
A83: 1.3. Rövid lejáratú hitelek, kölcsönök felvétele | D83: =C83-B83 -> 0 | G83: =F83-E83 -> 0 | J83: =I83-H83 -> 0 | K83: =B83+H83 -> 0 | L83: =C83+I83 -> 0 | M83: =L83-K83 -> 0
A84: 2. Belföldi értékpapírok bevételei | B84: =SUM(B85:B88) -> 1000000000 | C84: =SUM(C85:C88) -> 1656699723 | D84: =C84-B84 -> 656699723 | E84: =SUM(E85:E88) -> 0 | F84: =SUM(F85:F88) -> 0 | G84: =F84-E84 -> 0 | H84: =SUM(H85:H88) -> 0 | I84: =SUM(I85:I88) -> 0 | J84: =I84-H84 -> 0 | K84: =B84+H84 -> 1000000000 | L84: =C84+I84 -> 1656699723 | M84: =L84-K84 -> 656699723
A85: 2.1. Forgatási célú értékpapírok beváltása, értékesítéseű | B85: 1000000000 | C85: 1656699723 | D85: =C85-B85 -> 656699723 | K85: =B85+H85 -> 1000000000 | L85: =C85+I85 -> 1656699723 | M85: =L85-K85 -> 656699723
A86: 2.2. Forgatási célú értékpapírok kibocsátása | D86: =C86-B86 -> 0 | K86: =B86+H86 -> 0 | L86: =C86+I86 -> 0 | M86: =L86-K86 -> 0
A87: 2.3. Befektetési célú belföldi értékpapírok beváltása, értékesítése | D87: =C87-B87 -> 0 | K87: =B87+H87 -> 0 | L87: =C87+I87 -> 0 | M87: =L87-K87 -> 0
A88: 2.4. Befektetési célú belföldi értékpapírok kibocsátása | D88: =C88-B88 -> 0 | K88: =B88+H88 -> 0 | L88: =C88+I88 -> 0 | M88: =L88-K88 -> 0
A89: 3. Betét bevonás | D89: =C89-B89 -> 0 | K89: =B89+H89 -> 0 | L89: =C89+I89 -> 0 | M89: =L89-K89 -> 0
A90: 4. Államháztartáson belüli megelőlegezések | B90: 12800000 | C90: 12800000 | D90: =C90-B90 -> 0 | K90: =B90+H90 -> 12800000 | L90: =C90+I90 -> 12800000 | M90: =L90-K90 -> 0
A91: Finanszírozási bevételek összesen: | B91: =B79+B76 -> 2366899089 | C91: =C79+C76 -> 3307323496 | D91: =C91-B91 -> 940424407 | E91: =E79+E76 -> 0 | F91: =F79+F76 -> 36290988 | G91: =F91-E91 -> 36290988 | H91: =H79+H76 -> 452490 | I91: =I79+I76 -> 17263952 | J91: =I91-H91 -> 16811462 | K91: =B91+H91+E91:E94 -> 2367351579 | L91: =C91+I91+F91:F94 -> 3360878436 | M91: =L91-K91 -> 993526857
A92: Összes bevétel: | B92: =B74+B91 -> 9289645861 | C92: =C74+C91 -> 10489292915 | D92: =C92-B92 -> 1199647054 | E92: =E74+E91 -> 49017493 | F92: =F74+F91 -> 95453311 | G92: =F92-E92 -> 46435818 | H92: =H74+H91 -> 169837655 | I92: =I74+I91 -> 189777031 | J92: =I92-H92 -> 19939376 | K92: =B92+H92+E92 -> 9508501009 | L92: =C92+I92+F92 -> 10774523257 | M92: =L92-K92 -> 1266022248 | N92: =K91+K74 -> 9508501009
A93: Intézményi létszámok: | B93: ='2.a tábla ÚJ '!O58+'2.a tábla ÚJ '!O60 -> 23 | C93: ='2.a tábla ÚJ '!P58+'2.a tábla ÚJ '!P60 -> 23 | D93: =C93-B93 -> 0 | E93: ='2.a tábla ÚJ '!O57 -> 76 | F93: ='2.a tábla ÚJ '!P57 -> 75 | G93: =F93-E93 -> -1 | H93: ='2.a tábla ÚJ '!K57 -> 63.5 | I93: ='2.a tábla ÚJ '!L57 -> 63.5 | J93: =I93-H93 -> 0 | K93: =B93+H93+E93 -> 162.5 | L93: =C93+I93+F93 -> 161.5 | M93: =L93-K93 -> -1
A94: ebből közfoglalkoztatott | B94: ='2.a tábla ÚJ '!O60 -> 20 | C94: ='2.a tábla ÚJ '!P60 -> 20 | D94: =C94-B94 -> 0 | E94: ='2.a tábla ÚJ '!O56 -> 0 | F94: ='2.a tábla ÚJ '!P56 -> 0 | G94: =F94-E94 -> 0 | H94: ='2.a tábla ÚJ '!K56 -> 5 | I94: ='2.a tábla ÚJ '!L56 -> 5 | J94: =I94-H94 -> 0 | K94: =B94+H94 -> 25 | L94: =C94+I94 -> 25 | M94: =L94-K94 -> 0

Sheet 2.a tábla ÚJ 
A6: BEVÉTELEK ELŐIRÁNYZATA INTÉZMÉNYEK SZERINTI BONTÁSBAN 2018. ÉV
A10: MEGNEVEZÉS | B10: LIPTÁK GÁBOR VÁROSI KÖNYVTÁR | E10: BALATONFÜREDI VÁROSI SZAKORVOSI RENDELŐINTÉZET | H10: BALATONFÜREDI VÁROSI BÖLCSŐDE | K10: KÖLTSÉGVETÉSI SZERVEK ÖSSZESEN | O10: BALATONFÜREDI KÖZÖS ÖNKORMÁNYZATI HIVATAL
B11: 2018. évi eredeti ei. | C11: 2018. évi módosított ei. I. | D11: Eltérés | E11: 2018. évi eredeti ei. | F11: 2018. évi módosított ei. I. | G11: Eltérés | H11: 2018. évi eredeti ei. | I11: 2018. évi módosított ei. I. | J11: Eltérés | K11: 2018. évi eredeti ei. | L11: 2018. évi módosított ei. I. | M11: Eltérés | O11: 2018. évi eredeti ei. | P11: 2018. évi módosított ei. I. | Q11: Eltérés
A12: I. Működési célú támogatások államházatartáson belülről | B12: =B13 -> 984271 | C12: =C13 -> 984271 | D12: =C12-B12 -> 0 | E12: =E13 -> 118878941 | F12: =F13 -> 121571316 | G12: =F12-E12 -> 2692375 | H12: =H13 -> 2064422 | I12: =I13 -> 2064422 | J12: =I12-H12 -> 0 | K12: =K13 -> 121927634 | L12: =L13 -> 124620009 | M12: =L12-K12 -> 2692375 | N12: =N13+N16 -> 0 | O12: =O13+O16 -> 22871493 | P12: =P13+P16 -> 28474773 | Q12: =P12-O12 -> 5603280
A13: 6. Egyéb működési célú támogatások bevételei államháztartáson belülről | B13: 984271 | C13: 984271 | D13: =C13-B13 -> 0 | E13: 118878941 | F13: 121571316 | G13: =F13-E13 -> 2692375 | H13: 2064422 | I13: 2064422 | J13: =I13-H13 -> 0 | K13: =B13+E13+H13 -> 121927634 | L13: =C13+F13+I13 -> 124620009 | M13: =L13-K13 -> 2692375 | O13: 22871493 | P13: 28474773 | Q13: =P13-O13 -> 5603280
A14: ebből működési célú támogatás társadalombiztosítási alapból | D14: =C14-B14 -> 0 | E14: 117000000 | F14: 119692376 | G14: =F14-E14 -> 2692376 | J14: =I14-H14 -> 0 | K14: =B14+E14+H14 -> 117000000 | L14: =C14+F14+I14 -> 119692376 | M14: =L14-K14 -> 2692376 | Q14: =P14-O14 -> 0
A15: II. Felhalmozási célú támogatások államháztartáson belülről | B15: =B16 -> 0 | C15: =C16 -> 0 | D15: =C15-B15 -> 0 | E15: =E16 -> 0 | F15: =F16 -> 435539 | G15: =F15-E15 -> 435539 | H15: =H16 -> 0 | I15: =I16 -> 0 | J15: =I15-H15 -> 0 | K15: =B15+E15+H15 -> 0 | L15: =C15+F15+I15 -> 435539 | M15: =L15-K15 -> 435539 | N15: =N16 -> 0 | Q15: =P15-O15 -> 0
A16: 4. Egyéb felhalmozási célú támogatások államháztartáson belülről | D16: =C16-B16 -> 0 | F16: 435539 | G16: =F16-E16 -> 435539 | J16: =I16-H16 -> 0 | K16: =B16+E16+H16 -> 0 | L16: =C16+F16+I16 -> 435539 | M16: =L16-K16 -> 435539 | Q16: =P16-O16 -> 0
A17: II. Közhatalmi bevételek | D17: =C17-B17 -> 0 | G17: =F17-E17 -> 0 | J17: =I17-H17 -> 0 | K17: =B17+E17+H17 -> 0 | L17: =C17+F17+I17 -> 0 | M17: =L17-K17 -> 0 | N17: =#REF!+#REF!+#REF!+#REF!+#REF! -> #REF! | O17: =SUM(O18:O20) -> 1000000 | P17: =SUM(P18:P20) -> 1000000 | Q17: =P17-O17 -> 0
A18: 1. Vagyoni típusú adók | D18: =C18-B18 -> 0 | G18: =F18-E18 -> 0 | J18: =I18-H18 -> 0 | K18: =B18+E18+H18 -> 0 | L18: =C18+F18+I18 -> 0 | M18: =L18-K18 -> 0 | N18: =#REF!+#REF!+#REF!+#REF!+#REF!+#REF!+#REF!+#REF!+#REF!+#REF!+#REF!+#REF!+#REF!+#REF!+#REF! -> #REF! | Q18: =P18-O18 -> 0
A19: 2. Termékek és szolgáltatások adói | D19: =C19-B19 -> 0 | G19: =F19-E19 -> 0 | J19: =I19-H19 -> 0 | K19: =B19+E19+H19 -> 0 | L19: =C19+F19+I19 -> 0 | M19: =L19-K19 -> 0 | Q19: =P19-O19 -> 0
A20: 3. Egyéb közhatalmi bevételek (bírság, pótlék,) | D20: =C20-B20 -> 0 | G20: =F20-E20 -> 0 | J20: =I20-H20 -> 0 | K20: =B20+E20+H20 -> 0 | L20: =C20+F20+I20 -> 0 | M20: =L20-K20 -> 0 | O20: 1000000 | P20: 1000000 | Q20: =P20-O20 -> 0
A21: 1V. Működési bevételek | B21: =B22+B23+B25+B26+B27+B28+B29+B30+B33 -> 12134000 | C21: =C22+C23+C25+C26+C27+C28+C29+C30+C33 -> 12134000 | D21: =C21-B21 -> 0 | E21: =E22+E23+E25+E26+E27+E28+E29+E30+E33 -> 34560000 | F21: =F22+F23+F25+F26+F27+F28+F29+F30+F33 -> 34560000 | G21: =F21-E21 -> 0 | H21: =H22+H23+H25+H26+H27+H28+H29+H30+H33 -> 763531 | I21: =I22+I23+I25+I26+I27+I28+I29+I30+I33 -> 763531 | J21: =I21-H21 -> 0 | K21: =K22+K23+K25+K26+K27+K28+K29+K30+K33 -> 47457531 | L21: =L22+L23+L25+L26+L27+L28+L29+L30+L33 -> 47457531 | M21: =L21-K21 -> 0 | N21: =N22+N23+N25+N26+N27+N28+N29+N30+N33 -> #REF! | O21: =O22+O23+O25+O26+O27+O28+O29+O30+O33 -> 25146000 | P21: =P22+P23+P25+P26+P27+P28+P29+P30+P33 -> 29476527 | Q21: =P21-O21 -> 4330527
A22: 1. Készletértékesítés bevétele | D22: =C22-B22 -> 0 | G22: =F22-E22 -> 0 | J22: =I22-H22 -> 0 | K22: =B22+E22+H22 -> 0 | L22: =C22+F22+I22 -> 0 | M22: =L22-K22 -> 0 | N22: =#REF!+#REF!+#REF!+#REF!+#REF! -> #REF! | Q22: =P22-O22 -> 0
A23: 2. Szolgáltatások ellenértéke | B23: =2319000+6068000 -> 8387000 | C23: 8387000 | D23: =C23-B23 -> 0 | E23: 34560000 | F23: 34560000 | G23: =F23-E23 -> 0 | J23: =I23-H23 -> 0 | K23: =B23+E23+H23 -> 42947000 | L23: =C23+F23+I23 -> 42947000 | M23: =L23-K23 -> 0 | N23: =#REF!+#REF!+#REF!+#REF!+#REF! -> #REF! | O23: 17850000 | P23: 17850000 | Q23: =P23-O23 -> 0
A24: Ebből: bérleti díj | D24: =C24-B24 -> 0 | G24: =F24-E24 -> 0 | J24: =I24-H24 -> 0 | K24: =B24+E24+H24 -> 0 | L24: =C24+F24+I24 -> 0 | M24: =L24-K24 -> 0 | N24: =#REF!+#REF!+#REF!+#REF!+#REF! -> #REF! | O24: 6500000 | P24: 6500000 | Q24: =P24-O24 -> 0
A25: 3. Közvetített szolgáltatások ellenértéke | D25: =C25-B25 -> 0 | G25: =F25-E25 -> 0 | J25: =I25-H25 -> 0 | K25: =B25+E25+H25 -> 0 | L25: =C25+F25+I25 -> 0 | M25: =L25-K25 -> 0 | N25: =#REF!+#REF!+#REF!+#REF!+#REF! -> #REF! | O25: 1950000 | P25: 6223550 | Q25: =P25-O25 -> 4273550
A26: 4. Tulajdonosi bevételek | D26: =C26-B26 -> 0 | G26: =F26-E26 -> 0 | J26: =I26-H26 -> 0 | K26: =B26+E26+H26 -> 0 | L26: =C26+F26+I26 -> 0 | M26: =L26-K26 -> 0 | N26: =#REF!+#REF!+#REF!+#REF!+#REF! -> #REF! | Q26: =P26-O26 -> 0
A27: 5. Ellátási díjak | D27: =C27-B27 -> 0 | G27: =F27-E27 -> 0 | H27: 601205 | I27: 601205 | J27: =I27-H27 -> 0 | K27: =B27+E27+H27 -> 601205 | L27: =C27+F27+I27 -> 601205 | M27: =L27-K27 -> 0 | N27: =#REF!+#REF!+#REF!+#REF!+#REF! -> #REF! | Q27: =P27-O27 -> 0
A28: 6. Kiszámlázott Áfa | B28: =451000+1638000 -> 2089000 | C28: 2089000 | D28: =C28-B28 -> 0 | G28: =F28-E28 -> 0 | H28: 162326 | I28: 162326 | J28: =I28-H28 -> 0 | K28: =B28+E28+H28 -> 2251326 | L28: =C28+F28+I28 -> 2251326 | M28: =L28-K28 -> 0 | N28: =#REF!+#REF!+#REF!+#REF!+#REF! -> #REF! | O28: 5346000 | P28: 5402977 | Q28: =P28-O28 -> 56977
A29: 7. Áfa visszatérítés | B29: 1638000 | C29: 1638000 | D29: =C29-B29 -> 0 | G29: =F29-E29 -> 0 | J29: =I29-H29 -> 0 | K29: =B29+E29+H29 -> 1638000 | L29: =C29+F29+I29 -> 1638000 | M29: =L29-K29 -> 0 | N29: =#REF!+#REF!+#REF!+#REF!+#REF! -> #REF! | Q29: =P29-O29 -> 0
A30: 8. Kamatbevétel | D30: =C30-B30 -> 0 | G30: =F30-E30 -> 0 | J30: =I30-H30 -> 0 | K30: =B30+E30+H30 -> 0 | L30: =C30+F30+I30 -> 0 | M30: =L30-K30 -> 0 | N30: =#REF!+#REF!+#REF!+#REF!+#REF! -> #REF! | Q30: =P30-O30 -> 0
A31: 9. Egyéb pénzügyi műveletek bevételei | D31: =C31-B31 -> 0 | G31: =F31-E31 -> 0 | J31: =I31-H31 -> 0 | K31: =B31+E31+H31 -> 0 | L31: =C31+F31+I31 -> 0 | M31: =L31-K31 -> 0 | Q31: =P31-O31 -> 0
A32: 10. Biztosító által fizetett kártérítés | D32: =C32-B32 -> 0 | G32: =F32-E32 -> 0 | J32: =I32-H32 -> 0 | K32: =B32+E32+H32 -> 0 | L32: =C32+F32+I32 -> 0 | M32: =L32-K32 -> 0 | Q32: =P32-O32 -> 0
A33: 11. Egyéb működési bevételek | B33: 20000 | C33: 20000 | D33: =C33-B33 -> 0 | G33: =F33-E33 -> 0 | J33: =I33-H33 -> 0 | K33: =B33+E33+H33 -> 20000 | L33: =C33+F33+I33 -> 20000 | M33: =L33-K33 -> 0 | N33: =#REF!+#REF!+#REF!+#REF!+#REF! -> #REF! | Q33: =P33-O33 -> 0
A34: V. Felhalmozási bevételek | B34: =SUM(B35:B39) -> 0 | C34: =SUM(C35:C39) -> 0 | D34: =C34-B34 -> 0 | E34: =SUM(E35:E39) -> 0 | F34: =SUM(F35:F39) -> 0 | G34: =F34-E34 -> 0 | H34: =SUM(H35:H39) -> 0 | I34: =SUM(I35:I39) -> 0 | J34: =I34-H34 -> 0 | K34: =SUM(K35:K39) -> 0 | L34: =SUM(L35:L39) -> 0 | M34: =L34-K34 -> 0 | N34: =#REF!+#REF!+#REF!+#REF!+#REF! -> #REF! | O34: =SUM(O35:O39) -> 0 | P34: =SUM(P35:P39) -> 211023 | Q34: =P34-O34 -> 211023
A35: 1. Immateriális javak értékesítése | D35: =C35-B35 -> 0 | G35: =F35-E35 -> 0 | J35: =I35-H35 -> 0 | K35: =B35+E35+H35 -> 0 | L35: =C35+F35+I35 -> 0 | M35: =L35-K35 -> 0 | Q35: =P35-O35 -> 0
A36: 2. Ingatlanok értékesítése | D36: =C36-B36 -> 0 | G36: =F36-E36 -> 0 | J36: =I36-H36 -> 0 | K36: =B36+E36+H36 -> 0 | L36: =C36+F36+I36 -> 0 | M36: =L36-K36 -> 0 | Q36: =P36-O36 -> 0
A37: 3. Egyéb tárgyi eszközök értékesítése | D37: =C37-B37 -> 0 | G37: =F37-E37 -> 0 | J37: =I37-H37 -> 0 | K37: =B37+E37+H37 -> 0 | L37: =C37+F37+I37 -> 0 | M37: =L37-K37 -> 0 | P37: 211023 | Q37: =P37-O37 -> 211023
A38: 4. Részesedések értékesítése | D38: =C38-B38 -> 0 | G38: =F38-E38 -> 0 | J38: =I38-H38 -> 0 | K38: =B38+E38+H38 -> 0 | L38: =C38+F38+I38 -> 0 | M38: =L38-K38 -> 0 | Q38: =P38-O38 -> 0
A39: 5. Részesedések megszűnéséhez kapcsolódó bevételek | D39: =C39-B39 -> 0 | G39: =F39-E39 -> 0 | J39: =I39-H39 -> 0 | K39: =B39+E39+H39 -> 0 | L39: =C39+F39+I39 -> 0 | M39: =L39-K39 -> 0 | Q39: =P39-O39 -> 0
A40: VI. Működési célú átvett pénzeszközök | D40: =C40-B40 -> 0 | G40: =F40-E40 -> 0 | J40: =I40-H40 -> 0 | K40: =SUM(K41) -> 0 | L40: =SUM(L41) -> 0 | M40: =L40-K40 -> 0 | N40: =#REF!+#REF!+#REF!+#REF!+#REF! -> #REF! | O40: =SUM(O41) -> 0 | P40: =SUM(P41) -> 0 | Q40: =P40-O40 -> 0
A41: 3. Egyéb működési célú átvett pénzeszközök | D41: =C41-B41 -> 0 | G41: =F41-E41 -> 0 | J41: =I41-H41 -> 0 | K41: =B41+E41+H41 -> 0 | L41: =C41+F41+I41 -> 0 | M41: =L41-K41 -> 0 | Q41: =P41-O41 -> 0
A42: VII. Felhalmozási célú átvett pénzeszközök | D42: =C42-B42 -> 0 | G42: =F42-E42 -> 0 | J42: =I42-H42 -> 0 | K42: =B42+E42+H42 -> 0 | L42: =C42+F42+I42 -> 0 | M42: =L42-K42 -> 0 | N42: =#REF!+#REF!+#REF!+#REF!+#REF! -> #REF! | O42: =SUM(O43) -> 0 | P42: =SUM(P43) -> 0 | Q42: =P42-O42 -> 0
A43: 3. Egyéb felhalmozási célú átvett pénzeszközök | D43: =C43-B43 -> 0 | G43: =F43-E43 -> 0 | J43: =I43-H43 -> 0 | K43: =B43+E43+H43 -> 0 | L43: =C43+F43+I43 -> 0 | M43: =L43-K43 -> 0 | Q43: =P43-O43 -> 0
A44: Költségvetési bevételek összesen: | B44: =B42+B40+B34+B21+B17+B15+B12 -> 13118271 | C44: =C42+C40+C34+C21+C17+C15+C12 -> 13118271 | D44: =C44-B44 -> 0 | E44: =E42+E40+E34+E21+E17+E15+E12 -> 153438941 | F44: =F42+F40+F34+F21+F17+F15+F12 -> 156566855 | G44: =F44-E44 -> 3127914 | H44: =H42+H40+H34+H21+H17+H15+H12 -> 2827953 | I44: =I42+I40+I34+I21+I17+I15+I12 -> 2827953 | J44: =I44-H44 -> 0 | K44: =B44+E44+H44 -> 169385165 | L44: =C44+F44+I44 -> 172513079 | M44: =L44-K44 -> 3127914 | N44: =N42+N40+N34+N21+N17+N15+N12 -> #REF! | O44: =O42+O40+O34+O21+O17+O15+O12 -> 49017493 | P44: =P42+P40+P34+P21+P17+P15+P12 -> 59162323 | Q44: =P44-O44 -> 10144830
A45: VIII. Finanszírozási bevételek | B45: =B46+B49+B50 -> 70038732 | C45: =C46+C49+C50 -> 74270537 | D45: =C45-B45 -> 4231805 | E45: =E46+E49+E50 -> 47762059 | F45: =F46+F49+F50 -> 53253237 | G45: =F45-E45 -> 5491178 | H45: =H46+H49+H50 -> 61957463 | I45: =I46+I49+I50 -> 65351238 | J45: =I45-H45 -> 3393775 | K45: =B45+E45+H45 -> 179758254 | L45: =C45+F45+I45 -> 192875012 | M45: =L45-K45 -> 13116758 | N45: =N46+N49+N50 -> #REF! | O45: =O46+O49+O50 -> 392127076 | P45: =P46+P49+P50 -> 414169516 | Q45: =P45-O45 -> 22042440
A46: 1. Költségvetési hiány belső finanszírozására szolgáló bevételek | B46: =SUM(B47:B48) -> 90498 | C46: =SUM(C47:C48) -> 2938295 | D46: =C46-B46 -> 2847797 | E46: =SUM(E47:E48) -> 271494 | F46: =SUM(F47:F48) -> 9314574 | G46: =F46-E46 -> 9043080 | H46: =SUM(H47:H48) -> 90498 | I46: =SUM(I47:I48) -> 5011083 | J46: =I46-H46 -> 4920585 | K46: =SUM(K47:K48) -> 452490 | L46: =SUM(L47:L48) -> 17263952 | M46: =L46-K46 -> 16811462 | O46: =SUM(O47:O48) -> 0 | P46: =SUM(P47:P48) -> 36290988 | Q46: =P46-O46 -> 36290988
A47: 1.1. Előző év költségvetési maradványának igénybevétele működési célra | B47: 90498 | C47: 2938295 | D47: =C47-B47 -> 2847797 | E47: 271494 | F47: 9014574 | G47: =F47-E47 -> 8743080 | H47: 90498 | I47: 4870093 | J47: =I47-H47 -> 4779595 | K47: =B47+E47+H47 -> 452490 | L47: =C47+F47+I47 -> 16822962 | M47: =L47-K47 -> 16370472 | P47: 31465031 | Q47: =P47-O47 -> 31465031
A48: 1.2. Előző év költségvetési maradványának igénybevétele felhalmozási célra | D48: =C48-B48 -> 0 | F48: 300000 | G48: =F48-E48 -> 300000 | I48: 140990 | J48: =I48-H48 -> 140990 | K48: =B48+E48+H48 -> 0 | L48: =C48+F48+I48 -> 440990 | M48: =L48-K48 -> 440990 | P48: 4825957 | Q48: =P48-O48 -> 4825957
A49: 2. Költségvetési hiány külső finanszírozására szolgáló finanszírozási bevételek | D49: =C49-B49 -> 0 | G49: =F49-E49 -> 0 | J49: =I49-H49 -> 0 | K49: =B49+E49+H49 -> 0 | L49: =C49+F49+I49 -> 0 | M49: =L49-K49 -> 0 | Q49: =P49-O49 -> 0
A50: 3. Irányító szervi támogatások | B50: =52309931+17238303+400000 -> 69948234 | C50: 71332242 | D50: =C50-B50 -> 1384008 | E50: =46120144+1370421 -> 47490565 | F50: =43372599+566064 -> 43938663 | G50: =F50-E50 -> -3551902 | H50: =31797628+30069337 -> 61866965 | I50: 60340155 | J50: =I50-H50 -> -1526810 | K50: =B50+E50+H50 -> 179305764 | L50: =C50+F50+I50 -> 175611060 | M50: =L50-K50 -> -3694704 | N50: =SUM(#REF!) -> #REF! | O50: =199079253+181441917-1394094+13000000 -> 392127076 | P50: =199079253+181441917-1394094+13000000+3883750-18732298+600000 -> 377878528 | Q50: =P50-O50 -> -14248548
A51: Összes bevétel: | B51: =B45+B44 -> 83157003 | C51: =C45+C44 -> 87388808 | D51: =C51-B51 -> 4231805 | E51: =E45+E44 -> 201201000 | F51: =F45+F44 -> 209820092 | G51: =F51-E51 -> 8619092 | H51: =H45+H44 -> 64785416 | I51: =I45+I44 -> 68179191 | J51: =I51-H51 -> 3393775 | K51: =K45+K44 -> 349143419 | L51: =L45+L44 -> 365388091 | M51: =L51-K51 -> 16244672 | N51: =N45+N44 -> #REF! | O51: =O45+O44 -> 441144569 | P51: =P45+P44 -> 473331839 | Q51: =P51-O51 -> 32187270
A52: Létszámadatok intézményenként | D52: =C52-B52 -> 0 | G52: =F52-E52 -> 0 | J52: =I52-H52 -> 0 | K52: =B52+E52+H52 -> 0 | L52: =C52+F52+I52 -> 0 | M52: =L52-K52 -> 0 | Q52: =P52-O52 -> 0
A53: technikai állomány (fő) | B53: 2 | C53: 2 | D53: =C53-B53 -> 0 | E53: 12 | F53: 12 | G53: =F53-E53 -> 0 | H53: 5 | I53: 5 | J53: =I53-H53 -> 0 | K53: =B53+E53+H53 -> 19 | L53: =C53+F53+I53 -> 19 | M53: =L53-K53 -> 0 | N53: =#REF!+#REF!+#REF!+#REF!+#REF!+#REF!+#REF!+#REF!+#REF!+#REF! -> #REF! | O53: 5 | P53: 6 | Q53: =P53-O53 -> 1 | R53: =L53+P53 -> 25
A54: szakmai állomány (fő) | B54: 12.5 | C54: 12.5 | D54: =C54-B54 -> 0 | E54: 18 | F54: 18 | G54: =F54-E54 -> 0 | H54: 9 | I54: 9 | J54: =I54-H54 -> 0 | K54: =B54+E54+H54 -> 39.5 | L54: =C54+F54+I54 -> 39.5 | M54: =L54-K54 -> 0 | N54: =#REF!+#REF!+#REF!+#REF!+#REF!+#REF!+#REF!+#REF!+#REF!+#REF! -> #REF! | O54: 71 | P54: 69 | Q54: =P54-O54 -> -2 | R54: =L54+P54 -> 108.5
A55: határozott idejű (fő | D55: =C55-B55 -> 0 | E55: 0 | F55: 0 | G55: =F55-E55 -> 0 | J55: =I55-H55 -> 0 | K55: =B55+E55+H55 -> 0 | L55: =C55+F55+I55 -> 0 | M55: =L55-K55 -> 0 | N55: =#REF!+#REF!+#REF!+#REF!+#REF!+#REF!+#REF!+#REF!+#REF!+#REF! -> #REF! | Q55: =P55-O55 -> 0 | R55: =L55+P55 -> 0
A56: közfoglalkoztatott (fő) | B56: 1 | C56: 1 | D56: =C56-B56 -> 0 | E56: 2 | F56: 2 | G56: =F56-E56 -> 0 | H56: 2 | I56: 2 | J56: =I56-H56 -> 0 | K56: =B56+E56+H56 -> 5 | L56: =C56+F56+I56 -> 5 | M56: =L56-K56 -> 0 | N56: =#REF!+#REF!+#REF!+#REF!+#REF!+#REF!+#REF!+#REF!+#REF!+#REF! -> #REF! | Q56: =P56-O56 -> 0 | R56: =L56+P56 -> 5
A57: Összesen (fő): | B57: =SUM(B53:B56) -> 15.5 | C57: =SUM(C53:C56) -> 15.5 | D57: =C57-B57 -> 0 | E57: =SUM(E53:E56) -> 32 | F57: =SUM(F53:F56) -> 32 | G57: =F57-E57 -> 0 | H57: =SUM(H53:H56) -> 16 | I57: =SUM(I53:I56) -> 16 | J57: =I57-H57 -> 0 | K57: =SUM(K53:K56) -> 63.5 | L57: =SUM(L53:L56) -> 63.5 | M57: =L57-K57 -> 0 | N57: =SUM(N53:N56) -> #REF! | O57: =SUM(O53:O56) -> 76 | P57: =SUM(P53:P56) -> 75 | Q57: =P57-O57 -> -1 | R57: =L57+P57 -> 138.5
A58: Önkormányzat engedélyezett létszám | D58: =C58-B58 -> 0 | G58: =F58-E58 -> 0 | J58: =I58-H58 -> 0 | M58: =L58-K58 -> 0 | N58: =#REF!+#REF!+#REF!+#REF!+#REF!+#REF!+#REF!+#REF!+#REF!+#REF! -> #REF! | O58: 3 | P58: 3 | Q58: =P58-O58 -> 0 | R58: =L58+P58 -> 3
A59: ebből: támogatott projektek | D59: =C59-B59 -> 0 | G59: =F59-E59 -> 0 | J59: =I59-H59 -> 0 | M59: =L59-K59 -> 0 | O59: 1 | P59: 1 | Q59: =P59-O59 -> 0
A60: Önkormányzat közfoglalkoztatott (fő) | D60: =C60-B60 -> 0 | G60: =F60-E60 -> 0 | J60: =I60-H60 -> 0 | M60: =L60-K60 -> 0 | N60: =#REF!+#REF!+#REF!+#REF!+#REF!+#REF!+#REF!+#REF!+#REF!+#REF! -> #REF! | O60: 20 | P60: 20 | Q60: =P60-O60 -> 0 | R60: =L60+P60 -> 20
R61: =SUM(R57:R60) -> 161.5

Sheet 2b. tábla 2018
A1: ÁLLAMI TÁMOGATÁSOK 2018. ÉV
A3: MEGNEVEZÉS | B3: LÉTSZÁM | C3: MUTATÓ | D3: FAJLAGOS | E3: ELŐIRÁNYZAT | F3: LÉTSZÁM | G3: I. MÓDOSÍTÁS | H3: MÓDOSÍTOTT ELŐIRÁNYZAT I.
A5: I. HELYI ÖNKORMÁNYZATOK MŰKÖDÉSÉNEK ÁLT.TÁMOGATÁSA | E5: =E6+E28 -> 465551718 | G5: =G6+G28 -> 532530 | H5: =H6+H28 -> 466084248
A6: 1. Települési önkormányzatok működésének támogatása | E6: =E7+E10+E20+E21+E23+E24+E26+E27 -> 465551718 | G6: =G7+G10+G20+G21+G23+G24+G26+G27 -> 0 | H6: =H7+H10+H20+H21+H23+H24+H26+H27 -> 465551718
A7: Önkormányzati hivatal működtetésének támogatás (beszámítás után) | E7: =E8 -> 180406200 | G7: =G8 -> 0 | H7: =H8 -> 180406200
A8: Önkormányzati hivatal működtetésének támogatás elismert hivatali létsz. | C8: 39.39 | D8: 4580000 | E8: =C8*D8 -> 180406200 | H8: =E8+G8 -> 180406200
A9: Beszámítás összege | E9: 0 | H9: =E9+G9 -> 0
A10: Település üzemeltetéséhez kapcsolódó feladatellát.támog.(beszámítás után) | E10: =E11+E12+E13+E14+E15+E16+E17+E18 -> 0 | H10: =E10+G10 -> 0
A11: Zöldterület-gazdálk-al kapcsolatos feladatok ellátásának támog. (HA) | D11: 22300 | E11: 15719270 | H11: =E11+G11 -> 15719270
A12: Beszámítás összege | E12: -15719270 | H12: =E12+G12 -> -15719270
A13: Közvilágítás fenntartásának támogatás | E13: 58360000 | H13: =E13+G13 -> 58360000
A14: Beszámítás összege | E14: -58360000 | H14: =E14+G14 -> -58360000
A15: Köztemető fenntartással kapcsolatos feladatok támog. | E15: 2176616 | H15: =E15+G15 -> 2176616
A16: Beszámítás összege | E16: -2176616 | H16: =E16+G16 -> -2176616
A17: Közutak fenntartásának támogatás | E17: 22310850 | H17: =E17+G17 -> 22310850
A18: Beszámítás összege | E18: -22310850 | H18: =E18+G18 -> -22310850
A19: Egyéb önkormányzati feladatok támogatása (beszámítás után) | E19: =E20+E21 -> 0 | H19: =E19+G19 -> 0
A20: Egyéb önkormányzati feladatok támogatása | D20: 2700 | E20: 37497600 | H20: =E20+G20 -> 37497600 | J20: Beszámítás összege
A21: Beszámítás összege | E21: -37497600 | H21: =E21+G21 -> -37497600 | J21: =E21+E24+E27+E18+E16+E14+E12 -> -179376397
A22: Lakott külterületekkel kapcsolatos feladatok támogatása(beszámítás után) | E22: =E23+E24 -> 0 | H22: =E22+G22 -> 0
A23: Lakott külterületekkel kapcsolatos feladatok támogatása | E23: 316200 | H23: =E23+G23 -> 316200
A24: Beszámítás összege | E24: -316200 | H24: =E24+G24 -> -316200
A25: Üdülőhelyi feladatok támogatása (beszámitás után) | E25: =SUM(E26:E27) -> 285145518 | H25: =E25+G25 -> 285145518
A26: Üdülőhelyi feladatok támogatása | E26: 328141379 | H26: =E26+G26 -> 328141379
A27: Beszámítás összege | E27: -42995861 | H27: =E27+G27 -> -42995861
A28: 2. 2017. évről áthúzódó bérkompenzáció támogatása | E28: 0 | G28: 532530 | H28: =E28+G28 -> 532530
A30: II. EGYES KÖZNEVELÉSI FELADATOK TÁMOGATÁSA | E30: =SUM(E31:E39) -> 248514968 | G30: =SUM(G31:G39) -> -199233 | H30: =SUM(H31:H39) -> 248315735
A31: Óvodapedagógusok elismert létszáma (8 hó) | B31: 34.9 | C31: =E31/D31 -> 23.266667 | D31: 4419000 | E31: 102815400 | F31: 35 | G31: 294600 | H31: =E31+G31 -> 103110000
A32: Óvodapedagógusok munkáját kvetlenül segítők (8 hó) | B32: 26 | C32: =E32/D32 -> 17.333333 | D32: 2205000 | E32: 38220000 | F32: 26 | H32: =E32+G32 -> 38220000
A33: Óvodapedagógusok elismert létszáma (4 hó) | B33: 34.5 | C33: =E33/D33 -> 11.5 | D33: 4419000 | E33: 50818500 | F33: 34.4 | G33: -147300 | H33: =E33+G33 -> 50671200
A34: Óvodapedagógusok munkáját kvetlenül segítők (4 hó) | B34: 26 | C34: =E34/D34 -> 8.6666667 | D34: 2205000 | E34: 19110000 | F34: 26 | H34: =E34+G34 -> 19110000
A35: Óvodapedagógusok elismert létszáma (4 hó) (pótlólagos összeg) | B35: 36.6 | C35: =E35/D35 -> 0 | D35: 38200 | E35: 0 | F35: 36.6 | H35: =E35+G35 -> 0
A36: Gyermeklétszám (8 hó) | B36: 378 | C36: =E36/D36 -> 252 | D36: 81700 | E36: 20588400 | F36: 379 | G36: 54467 | H36: =E36+G36 -> 20642867
A37: Gyermeklétszám (4 hó) | B37: 375 | C37: =E37/D37 -> 127.65625 | D37: 80000 | E37: 10212500 | F37: 375 | H37: =E37+G37 -> 10212500
A38: Pedagógus II. kat. sorolt óvodapedag. kieg. támog.-minősítés 2016. dec.31-ig szerezték meg | B38: 15 | C38: 15 | D38: 401000 | E38: =D38*C38 -> 6015000 | F38: 14 | G38: -401000 | H38: =E38+G38 -> 5614000
A39: Pedagógus II. kat. sorolt óvodapedag. kieg. támog.-minősítés 2018. jan.1-jei átsorolással szerezték meg | B39: 2 | C39: 2 | D39: 367584 | E39: 735168 | F39: 2 | H39: =E39+G39 -> 735168
A40: MEGNEVEZÉS | B40: LÉTSZÁM | C40: MUTATÓ | D40: FAJLAGOS | E40: ELŐIRÁNYZAT | F40: LÉTSZÁM | G40: I. MÓDOSÍTÁS | H40: MÓDOSÍTOTT ELŐIRÁNYZAT I.
A42: III. SZOCIÁLIS, GYERMEKJÓLÉTI ÉS GYERMEKÉTKEZTETÉSI FELADATAI | E42: =E43+E46+E57 -> 182314391 | G42: =G43+G46+G57 -> 11832251 | H42: =H43+H46+H57 -> 194146642
A43: Pénzbeli szociális juttatások | E43: =SUM(E44:E45) -> 0
A44: Pénzbeli szociális ellátások kiegészítése
A45: Települési önkormányzatok szociális feladatainak egyéb támogatása
A46: Egyes szoc.és gyermekjólétii felad.támog. | E46: =E47+E48+E49+E50+E52+E53+E61+E51+E64 -> 103131000 | F46: =F47+F48+F49+F50+F52+F53+F61+F51+F64 -> 171 | G46: =G47+G48+G49+G50+G52+G53+G61+G51+G64 -> 11832251 | H46: =H47+H48+H49+H50+H52+H53+H61+H51+H64 -> 114963251
A47: család- és gyermekjóléti szolgálat | C47: =E47/D47 -> 7.6 | D47: 3400000 | E47: 25840000 | H47: =E47+G47 -> 25840000
A48: család- és gyermekjóléti központ | C48: =E48/D48 -> 3.7 | D48: 3300000 | E48: 12210000 | H48: =E48+G48 -> 12210000
A49: szociális étkeztetés | B49: 100 | C49: 100 | D49: 55360 | E49: =C49*D49 -> 5536000 | F49: 100 | H49: =E49+G49 -> 5536000
A50: házi segítségnyújtás - szociális segítés | B50: 6 | C50: 6 | D50: 25000 | E50: =C50*D50 -> 150000 | F50: 6 | H50: =E50+G50 -> 150000
A51: házi segítségnyújtás - személyi gondozás - társuál által történő feladatellátás | B51: 22 | C51: 22 | D51: 429000 | E51: =D51*C51 -> 9438000 | F51: 22 | H51: =E51+G51 -> 9438000
A52: időskorúak nappali intézényi ellátása - társulás által történő feladatellátás | B52: 43 | C52: 43 | D52: 163500 | E52: =C52*D52 -> 7030500 | F52: 43 | H52: =E52+G52 -> 7030500
A53: Fogyatékos és demens személyek nappali intézményi ellátása | E53: =E54+E55+E56 -> 16060000 | H53: =E53+G53 -> 16060000
A54: fogyatékos személyek nappali intézményi ellátása társulás általi feladatellátás | B54: 13 | C54: 13 | D54: 550000 | E54: =C54*D54 -> 7150000 | F54: 13 | H54: =E54+G54 -> 7150000
A55: foglalkoztatási támog-ban részesülő fogyatékos nappali intézményben ellátottak | B55: 23 | C55: 23 | D55: 220000 | E55: =C55*D55 -> 5060000 | F55: 23 | H55: =E55+G55 -> 5060000
A56: demens személyek nappali intézményi ellátása - társulás által történő feladatellátás | B56: 7 | C56: 7 | D56: 550000 | E56: =C56*D56 -> 3850000 | F56: 7 | H56: =E56+G56 -> 3850000
A57: Gyermekétkeztetés támogatása | D57: 1632000 | E57: =E58+E59+E60 -> 79183391 | H57: =E57+G57 -> 79183391
A58: Finanszírozás szempontjábol elismert dolgozók bértámogatása | C58: 25.34 | D58: 1900000 | E58: 48146000 | H58: =E58+G58 -> 48146000
A59: Gyermekétkeztetés üzemeltetési támogatása | C59: 1126 | E59: 30205647 | H59: =E59+G59 -> 30205647
A60: A rászoruló gyermekek intézményen kívüli szünidei étkeztetésének támogatása | B60: 2432 | C60: 2432 | D60: 342 | E60: 831744 | F60: 2432 | H60: =E60+G60 -> 831744
A61: Gyermekek napközbeni ellátása | E61: =E62+E63 -> 26866500 | H61: =E61+G61 -> 26866500
A62: finansz.szempontjából elismert szakmai dolgozók bértámogatása: felsőfokú végzettségű kisgyermeknevelők,szaktanácsadók | C62: 1 | D62: 4419000 | E62: =C62*D62 -> 4419000 | H62: =E62+G62 -> 4419000
A63: finansz.szempontjából elismert szakmai dolgozók bértámogatása: bölcsödei dajkák, középfokú végzettségű kisgyermeknevelők, szaktanácsadók | C63: 7.5 | D63: 2993000 | E63: =C63*D63 -> 22447500 | H63: =E63+G63 -> 22447500
A64: Ágazati összevont pótlék | G64: ='[3]2c. tábla 2018.'!I61+'[3]2c. tábla 2018.'!I76 -> 11832251 | H64: =E64+G64 -> 11832251
A67: Kulturális feladatok támogatása | E67: =E68 -> 16804480 | G67: =G68+G69+G70 -> 2830191 | H67: =E67+G67 -> 19634671
A68: Nyilvános könyvtári és közművelődési feladatok támogatása | C68: =E68/D68 -> 13888 | D68: 1210 | E68: 16804480 | H68: 16804480
A69: Könyvtári érdekeltségnövelő támogatás | G69: ='[3]2c. tábla 2018.'!I84 -> 901906 | H69: =E69+G69 -> 901906
A70: Kulturális illetménypótlék | G70: ='[3]2c. tábla 2018.'!I86 -> 1928285 | H70: =E70+G70 -> 1928285
H71: =E71+G71 -> 0
A72: Helyi Önkormányzatok kiegészítő támogatásai (működési) | E72: =E73+E74+E75 -> 0 | G72: =G73+G74+G75 -> 1990042 | H72: =E72+G72 -> 1990042
A73: 2018. évi bérkompenzáció | E73: 0 | G73: ='[3]2c. tábla 2018.'!I14+'[3]2c. tábla 2018.'!I26+'[3]2c. tábla 2018.'!I38+'[3]2c. tábla 2018.'!I51+'[3]2c. tábla 2018.'!I60+'[3]2c. tábla 2018.'!I75+'[3]2c. tábla 2018.'!I80+'[3]2c. tábla 2018.'!I85+'[3]2c. tábla 2018.'!I89-G28 -> 1990042 | H73: =E73+G73 -> 1990042
A74: 2018. évi lakosssági víz- és csatornatámogatás
A75: Közösségi közlekedés támogatása
A77: Elszámolásból származó bevételek
A79: Vis maior támogatás
A81: Felhalmozási célú önormányzati támogatások | E81: =SUM(E82:E83) -> 0
A87: Összesen | E87: =E67+E42+E30+E5+E81+E72 -> 913185557 | G87: =G67+G42+G30+G5+G81+G72 -> 16985781 | H87: =H67+H42+H30+H5+H81+H72 -> 930171338

Sheet 2c. tábla 2018.
C1: ÁLLAMI TÁMOGATÁSOK INTÉZMÉNYENKÉNT 2018. ÉV
A3: Mell. | B3: Sorszám | C3: MEGNEVEZÉS | D3: LÉTSZÁM | E3: MUTATÓ | F3: FAJLAGOS | G3: ELŐIRÁNYZAT | H3: LÉTSZÁM | I3: I. MÓDOSÍTÁS | J3: MÓDOSÍTOTT ELŐIRÁNYZAT I.
A5: 2 | B5: II.1. | C5: Óvodapedagógusok elismert létszáma (8 hó) | D5: 13.7 | E5: 17.2 | F5: 4419000 | G5: 40360200 | H5: 13.8 | I5: 294600 | J5: =G5+I5 -> 40654800 | L5: =G5+G18+G30+G42 -> 102815400
A6: 2 | B6: II.1. | C6: Óvodapedagógusok munkáját kvetlenül segítők (8 hó) | D6: 10 | E6: 14 | F6: 2205000 | G6: 14700000 | H6: 10 | J6: =G6+I6 -> 14700000 | L6: =G6+G19+G31+G43 -> 38220000
A7: 2 | B7: II.1. | C7: Óvodapedagógusok elismert létszáma (4 hó) | D7: 13.7 | E7: 16.9 | F7: 4419000 | G7: 20180100 | H7: 13.8 | I7: 147300 | J7: =G7+I7 -> 20327400 | L7: =G7+G20+G32+G44 -> 50818500
A8: 2 | B8: II.1. | C8: Óvodapedagógusok munkáját kvetlenül segítők (4 hó) | D8: 10 | E8: =D8/3 -> 3.3333333 | F8: 2205000 | G8: 7350000 | H8: 10 | J8: =G8+I8 -> 7350000 | L8: =G8+G21+G33+G45 -> 19110000
A9: 2 | B9: II.2. | C9: Óvodaműködtetési támogatás (8 hó) | D9: 154 | E9: =G9/F9 -> 102.66667 | F9: 81700 | G9: 8387867 | H9: 154 | J9: =G9+I9 -> 8387867 | L9: =G9+G22+G34+G46 -> 20588400
A10: 2 | B10: II.2. | C10: Óvodaműködtetési támogatás (4 hó) | D10: 154 | E10: =G10/F10 -> 51.333329 | F10: 81700 | G10: 4193933 | H10: 154 | J10: =G10+I10 -> 4193933 | L10: =G10+G23+G35+G47 -> 10212500
A11: 2 | B11: II.4.a | C11: Pedagógus II. kategóriába sorolt óvodapedagógusok kieg. támog. | E11: 5 | F11: 401000 | G11: =E11*F11 -> 2005000 | J11: =G11+I11 -> 2005000 | L11: =G11+G24+G36+G48 -> 6015000
A12: 2 | B12: II.4.b | C12: Pedagógus II. kategóriába sorolt óvodapedagógusok kieg. támog. | E12: 1 | F12: 367584 | G12: 367584 | J12: =G12+I12 -> 367584
A13: 2 | B13: III. 5.a | C13: Gyermekétkeztetés támogatása (bértámogatás) | E13: =G13/F13 -> 3.4322028 | F13: 1632000 | G13: 5601355 | J13: =G13+I13 -> 5601355 | L13: =G13+G25+G37+G50+G59+G105 -> 48146000
A14: 2 | B14: III. 5.b | C14: Gyermekétkeztetés üzemeltetési támogatása | G14: 6256495 | J14: =G14+I14 -> 6256495 | L14: =G14+G26+G38+G51+G60+G106 -> 30205647
C15: Bérkompenzáció | I15: 15372 | J15: =G15+I15 -> 15372
C16: Balatonfüredi Kiserdei óvoda összesen: | G16: =SUM(G5:G15) -> 109402534 | I16: =SUM(I5:I15) -> 457272 | J16: =G16+I16 -> 109859806
M17: =G15+G27+G39+G52+G61+G86+G81+G90+G76 -> 0
A18: 2 | B18: II.1. | C18: Óvodapedagógusok elismert létszáma (8 hó) | D18: 11 | E18: 10.1 | F18: 4419000 | G18: 32406000 | H18: 10.9 | I18: -294600 | J18: =I18+G18 -> 32111400 | L18: =J15+J27+J39+J52+J61+J76+J81+J86+J90 -> 2522572
A19: 2 | B19: II.1. | C19: Óvodapedagógusok munkáját kvetlenül segítők (8 hó) | D19: 9 | E19: =G19/F19 -> 6 | F19: 2205000 | G19: 13230000 | H19: 9 | J19: =I19+G19 -> 13230000
A20: 2 | B20: II.1. | C20: Óvodapedagógusok elismert létszáma (4 hó) | D20: 11.2 | E20: 10.1 | F20: 4419000 | G20: 16497600 | H20: 11 | I20: -294600 | J20: =I20+G20 -> 16203000
A21: 2 | B21: II.1. | C21: Óvodapedagógusok munkáját kvetlenül segítők (4 hó) | D21: 9 | E21: =G21/F21 -> 3 | F21: 2205000 | G21: 6615000 | H21: 9 | J21: =I21+G21 -> 6615000
A22: 2 | B22: II.2. | C22: Gyermeklétszám (8 hó) | D22: 117 | E22: =G22/F22 -> 78 | F22: 81700 | G22: 6372600 | H22: 118 | I22: 54467 | J22: =G22+I22 -> 6427067
A23: 2 | B23: II.2. | C23: Gyermeklétszám (4 hó) | D23: 120 | E23: =G23/F23 -> 40 | F23: 81700 | G23: 3268000 | H23: 120 | J23: =G23+I23 -> 3268000
A24: 2 | B24: II.4.a | C24: Pedagógus II. kategóriába sorolt óvodapedagógusok kieg. támog. | E24: 5 | F24: 401000 | G24: =E24*F24 -> 2005000 | J24: =G24+I24 -> 2005000
A25: 2 | B25: III. 5.a | C25: Gyermekétkeztetés támogatása (bértámogatás) | E25: =G25/F25 -> 2.7510025 | F25: 1632000 | G25: 4489636 | J25: =G25+I25 -> 4489636
A26: 2 | B26: III. 5.b | C26: Gyermekétkeztetés üzemeltetési támogatása | G26: 5920495 | J26: =G26+I26 -> 5920495
C27: Bérkompenzáció | I27: =14152+12189+12189+12189+12189+12189 -> 75097 | J27: =G27+I27 -> 75097
C28: Balatonfüredi Óvárosi óvoda összesen: | G28: =SUM(G18:G27) -> 90804331 | I28: =SUM(I18:I27) -> -459636 | J28: =G28+I28 -> 90344695
A30: 2 | B30: II.1. | C30: Óvodapedagógusok elismert létszáma (8 hó) | D30: 6.9 | E30: 6.8 | F30: 4419000 | G30: 20327400 | H30: 7 | I30: 294600 | J30: =G30+I30 -> 20622000 | K30: =I30+I18+I20+I22+I5+I7 -> 201767
A31: 2 | B31: II.1. | C31: Óvodapedagógusok munkáját kvetlenül segítők (8 hó) | D31: 5 | E31: =G31/F31 -> 3.3333333 | F31: 2205000 | G31: 7350000 | H31: 5 | J31: =G31+I31 -> 7350000
A32: 2 | B32: II.1. | C32: Óvodapedagógusok elismert létszáma (4 hó) | D32: 6.3 | E32: 6.2 | F32: 4419000 | G32: 9279900 | H32: 6.3 | J32: =G32+I32 -> 9279900
A33: 2 | B33: II.1. | C33: Óvodapedagógusok munkáját kvetlenül segítők (4 hó) | D33: 5 | E33: =G33/F33 -> 1.6666667 | F33: 2205000 | G33: 3675000 | H33: 5 | J33: =G33+I33 -> 3675000
A34: 2 | B34: II.2. | C34: Gyermeklétszám (8 hó) | D34: 73 | E34: =G34/F34 -> 48.666659 | F34: 81700 | G34: 3976066 | H34: 73 | J34: =G34+I34 -> 3976066
A35: 2 | B35: II.2. | C35: Gyermeklétszám (4 hó) | D35: 66 | E35: =G35/F35 -> 22 | F35: 81700 | G35: 1797400 | H35: 66 | J35: =G35+I35 -> 1797400
A36: 2 | B36: II.4.a | C36: Pedagógus II. kategóriába sorolt óvodapedagógusok kieg. támog. | E36: 4 | F36: 401000 | G36: =E36*F36 -> 1604000 | J36: =G36+I36 -> 1604000
A37: 2 | B37: III. 5.a | C37: Gyermekétkeztetés támogatása (bértámogatás) | E37: =G37/F37 -> 1.6768015 | F37: 1632000 | G37: 2736540 | J37: =G37+I37 -> 2736540
A38: 2 | B38: III. 5.b | C38: Gyermekétkeztetés üzemeltetési támogatása | G38: 3106356 | J38: =G38+I38 -> 3106356
C39: Bérkompenzáció | I39: =40271+2 -> 40273 | J39: =G39+I39 -> 40273
C40: Balatonfüredi Tündérkert óvoda összesen: | G40: =SUM(G30:G39) -> 53852662 | I40: =SUM(I30:I39) -> 334873 | J40: =G40+I40 -> 54187535
A42: 2 | B42: II.1. | C42: Óvodapedagógusok elismert létszáma (8 hó) | D42: 3.3 | E42: 3.9 | F42: 4419000 | G42: 9721800 | H42: 3.3 | J42: =G42+I42 -> 9721800
A43: 2 | B43: II.1. | C43: Óvodapedagógusok munkáját kvetlenül segítők (8 hó) | D43: 2 | E43: =G43/F43 -> 1.3333333 | F43: 2205000 | G43: 2940000 | H43: 2 | J43: =G43+I43 -> 2940000
A44: 2 | B44: II.1. | C44: Óvodapedagógusok elismert létszáma (4 hó) | D44: 3.3 | E44: 3.2 | F44: 4419000 | G44: 4860900 | H44: 3.3 | J44: =G44+I44 -> 4860900
A45: 2 | B45: II.1. | C45: Óvodapedagógusok munkáját kvetlenül segítők (4 hó) | D45: 2 | E45: =G45/F45 -> 0.66666667 | F45: 2205000 | G45: 1470000 | H45: 2 | J45: =G45+I45 -> 1470000
A46: 2 | B46: II.2. | C46: Gyermeklétszám (8 hó) | D46: 34 | E46: =G46/F46 -> 22.666671 | F46: 81700 | G46: 1851867 | H46: 34 | J46: =G46+I46 -> 1851867
A47: 2 | B47: II.2. | C47: Gyermeklétszám (4 hó) | D47: 35 | E47: =G47/F47 -> 11.666671 | F47: 81700 | G47: 953167 | H47: 35 | J47: =G47+I47 -> 953167
A48: 2 | B48: II.4.a | C48: Pedagógus II. kategóriába sorolt óvodapedagógusok kieg. támog.akik a minősítést 2016.dec.31-ig szerezték meg | E48: 1 | F48: 401000 | G48: =E48*F48 -> 401000 | I48: -401000 | J48: =G48+I48 -> 0
A49: 2 | B49: II.4.B | C49: Pedagógus II. kategóriába sorolt óvodapedagógusok kieg. támog.akik a minősítést 2016.dec.31-ig szerezték meg | H49: 1 | I49: 367584 | J49: =G49+I49 -> 367584 | K49: =I49+I48+I30+I22+I20+I18+I7+I5 -> 168351
A50: 2 | B50: III. 5.a | C50: Gyermekétkeztetés támogatása (bértámogatás) | E50: =G50/F50 -> 0.8646011 | F50: 1632000 | G50: 1411029 | J50: =G50+I50 -> 1411029
A51: 2 | B51: III. 5.b | C51: Gyermekétkeztetés üzemeltetési támogatása | G51: 1871899 | J51: =G51+I51 -> 1871899
C52: Bérkompenzáció | I52: 14906 | J52: =G52+I52 -> 14906
C53: Kökörcsin Tagóvoda összesen: | G53: =SUM(G42:G52) -> 25481662 | I53: =SUM(I42:I52) -> -18510 | J53: =G53+I53 -> 25463152
A55: Mell. | B55: Sorszám | C55: MEGNEVEZÉS | D55: LÉTSZÁM | E55: MUTATÓ | F55: FAJLAGOS | G55: ELŐIRÁNYZAT | H55: LÉTSZÁM | I55: I. MÓDOSÍTÁS | J55: MÓDOSÍTOTT ELŐIRÁNYZAT I.
B57: III.7. a (1) | C57: Finansz.szempontjából elismert szakmai dolgozók bértámogatása: felsőfokú végzettségű kisgyermeknevelők,szaktanácsadók | E57: 1 | F57: ='[4]2b. tábla (3)'!D60 -> 4419000 | G57: =F57*E57 -> 4419000 | J57: =G57+I57 -> 4419000
B58: III.7. a (2) | C58: Finansz.szempontjából elismert szakmai dolgozók bértámogatása: bölcsödei dajkák, középfokú végzettségű kisgyermeknevelők, szaktanácsadók | E58: 7.5 | F58: ='[4]2b. tábla (3)'!D61 -> 2993000 | G58: =F58*E58 -> 22447500 | J58: =G58+I58 -> 22447500
A59: 2 | B59: III. 5.a | C59: Gyermekétkeztetés támogatása (bértámogatás) | G59: 1368270 | J59: =G59+I59 -> 1368270
A60: 2 | B60: III. 5.b | C60: Gyermekétkeztetés üzemeltetési támogatása | G60: 2012443 | J60: =G60+I60 -> 2012443
A61: 2 | C61: Bérkompenzáció | I61: =57340+50668+50668+50669+50669+50669 -> 310683 | J61: =G61+I61 -> 310683
A62: 2 | C62: Ágazati pótlék, kiegészítő ágazati pótlék | I62: =1213318+318608 -> 1531926 | J62: =G62+I62 -> 1531926
C63: Balatonfüredi Városi Bölcsőde | G63: =SUM(G57:G62) -> 30247213 | I63: =I57+I58+I59+I60+I61+I62 -> 1842609 | J63: =G63+I63 -> 32089822
B65: III.3. | C65: Egyes szociális és gyermekjóléti feladatok támog.
B66: III.3. a. | C66: család- és gyermekjóléti szolgálat | E66: =G66/F66 -> 7.6 | F66: 3400000 | G66: 25840000 | J66: =I66+G66 -> 25840000
B67: III.3. b. | C67: család- és gyermekjóléti központ | E67: =G67/F67 -> 3.7 | F67: 3300000 | G67: 12210000 | J67: =I67+G67 -> 12210000
B68: III.3. c. | C68: szociális étkeztetés | E68: 100 | F68: 55360 | G68: 5536000 | J68: =I68+G68 -> 5536000
A69: 2 | B69: III.3. da | C69: házi segítségnyújtás - szociális segítés | E69: 6 | F69: 25000 | G69: =F69*E69 -> 150000 | J69: =I69+G69 -> 150000
A70: 2 | B70: III.3. db | C70: házi segítségnyújtás - személyi gondozás - társuál által történő feladatellátás | E70: 22 | F70: 429000 | G70: =F70*E70 -> 9438000 | J70: =I70+G70 -> 9438000
A71: 2 | B71: III.3. f. | C71: időskorúak nappali intézényi ellátása - társulás által történő feladatellátás | E71: 43 | F71: 163500 | G71: =F71*E71 -> 7030500 | J71: =I71+G71 -> 7030500
A72: 2 | B72: III.3. g. | C72: Fogyatékos és demens személyek nappali intézményi ellátása | G72: =G73+G74+G75 -> 16060000 | J72: =I72+G72 -> 16060000
A73: 2 | B73: III.3. g(2) | C73: fogyatékos személyek nappali intézményi ellátása | E73: 13 | F73: 550000 | G73: =F73*E73 -> 7150000 | J73: =I73+G73 -> 7150000
B74: III.3. g (4) | C74: foglalkoztatási támog-ban részesülő fogyatékos nappali intézményben ellátottak | E74: 23 | F74: 220000 | G74: =F74*E74 -> 5060000 | J74: =I74+G74 -> 5060000
A75: 2 | B75: III.3. g (6) | C75: demens személyek nappali int-i ellát - társulás által történő feladatellátás | E75: 7 | F75: 550000 | G75: =F75*E75 -> 3850000 | J75: =I75+G75 -> 3850000
A76: 2 | C76: Bérkompenzáció | I76: =188734+153915+151407+151408+141846+141847 -> 929157 | J76: =I76+G76 -> 929157
A77: 2 | C77: Ágazati pótlék, kiegészítő ágazati pótlék | I77: =8555852+1744473 -> 10300325 | J77: =I77+G77 -> 10300325
A78: 2 | C78: Balatonfüredi Szociális Alapszolgáltatási Központ összesen: | G78: =G66+G67+G68+G69+G71+G72+G70+G76+G77 -> 76264500 | I78: =I66+I67+I68+I69+I71+I72+I70+I76+I77 -> 11229482 | J78: =I78+G78 -> 87493982
A80: 2 | B80: I.1.a. | C80: Önkormányzati hivatal működtetésének támogatás | E80: 39.39 | F80: 4580000 | G80: ='[4]2b. tábla (3)'!E8 -> 180406200 | J80: =I80+G80 -> 180406200
C81: Bérkompenzáció | I81: =87962+83171+44215+44215+38001+38003 -> 335567 | J81: =I81+G81 -> 335567
C82: Balatonfüredi Közös Önkormányzati Hivatal összesen: | G82: =G80+G81 -> 180406200 | I82: =I80+I81 -> 335567 | J82: =I82+G82 -> 180741767
A84: 2 | B84: IV. 1.d. | C84: Nyilvános könyvtári feladatok támogatása | E84: 13888 | F84: 1210 | G84: =E84*F84 -> 16804480 | J84: =G84+I84 -> 16804480
B85: IV.1.i. | C85: Könyvtári érdekeltségnövelő | I85: 901906 | J85: 901906
C86: Bérkompenzáció | I86: =36844+39913+39674+39674+39674+39674 -> 235453 | J86: =G86+I86 -> 235453
B87: IV.3. | C87: Kulturális illetménypótlék | I87: =297010+277953+305299+339237+350479+358307 -> 1928285 | J87: =G87+I87 -> 1928285
C88: Lipták Gábor Városi Könyvtár összesen: | G88: =G84+G85+G86 -> 16804480 | I88: =I84+I85+I86+I87 -> 3065644 | J88: =G88+I88 -> 19870124
A90: 2. | C90: Bérkompenzáció | I90: =116388+95480+91417+87593+87593+87593 -> 566064 | J90: =I90+G90 -> 566064
C91: Balatonfüredi Városi Szakorvosi Rendelőintézet | G91: =G90 -> 0 | I91: =I90 -> 566064 | J91: =I91+G91 -> 566064
A93: Mell. | B93: Sorszám | C93: MEGNEVEZÉS | D93: LÉTSZÁM | E93: MUTATÓ | F93: FAJLAGOS | G93: ELŐIRÁNYZAT | H93: LÉTSZÁM | I93: I. MÓDOSÍTÁS | J93: MÓDOSÍTOTT ELŐIRÁNYZAT I.
B95: III.2. | C95: Települési önkormányzatok szociális feladatainak egyéb támogatása
B96: I.b. | C96: Település üz-hez kapcsolódó feladatellát.támog. | G96: =G97+G98+G99+G100 -> 0 | J96: =G96+I96 -> 0
B97: I.ba. | C97: Zöldterület-gazdálk-al kapcsolatos feladatok ellátásának támog. | G97: 0 | J97: =G97+I97 -> 0
A98: Mell. | B98: I.bb. | C98: Közvilágítás fenntartásának támogatás | G98: 0 | J98: =G98+I98 -> 0
A99: 2 | B99: I.bc. | C99: Köztemető fenntartással kapcsolatos feladatok támog. | G99: 0 | J99: =G99+I99 -> 0
A100: 2 | B100: I.bd. | C100: Közutak fenntartásának támogatás | G100: 0 | J100: =G100+I100 -> 0
A101: 2 | B101: I.c. | C101: Egyéb önkormányzati feladatok támogatása | G101: 0 | J101: =G101+I101 -> 0
A102: 2 | B102: I.d. | C102: Lakott külterületekkel kapcsolatos feladatok támogatása | G102: 0 | J102: =G102+I102 -> 0
A103: 2 | B103: I.e. | C103: Üdülőhelyi feladatok támogatása | G103: ='[4]2b. tábla (3)'!E25 -> 285145518 | J103: =G103+I103 -> 285145518
A104: 2 | B104: II.4.b. | C104: Pedagógus II. kategóriába sorolt óvodapedagógusok kieg. támog. | G104: 367584 | I104: -367584 | J104: =G104+I104 -> 0
A105: 2 | B105: III. 5.a | C105: Iskolai étkeztetés támogatása (bértámogatás) | G105: 32539170 | J105: =G105+I105 -> 32539170
A106: 2 | B106: III. 5.b | C106: Gyermekétkeztetés üzemeltetési támogatása | G106: 11037959 | J106: =G106+I106 -> 11037959
A107: 2 | B107: III. 6. | C107: A rászoruló gyermekek int. kívüli szünidei étk. támogatása | E107: 2128 | F107: 342 | G107: ='[4]2b. tábla (3)'!E58 -> 831744 | J107: =G107+I107 -> 831744
A108: 2 | B108: I.6. | C108: 2015. évről áthúzódó bérkompenzáció támogatása | J108: =G108+I108 -> 0
B109: I.1. | C109: 2016. évi lakosssági víz- és csatornatámogatás | J109: =G109+I109 -> 0
B110: I.5. | C110: Közösségi közlekedés támogatása | J110: =G110+I110 -> 0
A111: 2 | C111: .../2015. Korm. határozat alapján támogatás (járdafelújítás, kollégium) | J111: =G111+I111 -> 0
A112: 2 | C112: Közművelődési támogatás Muzeális intézmények szakmai támogatása | J112: =G112+I112 -> 0
...

Sheet 3.sz. tábla  (2)
A3: BALATONFÜRED VÁROS ÖNKORMÁNYZAT BEVÉTELI ELŐIRÁNYZATAI KÖLTSÉGVETÉSI SZERVEK SZERINTI BONTÁSBAN 2018. ÉV
A6: MEGNEVEZÉS | B6: ÁLLAMI TÁMOGATÁS | E6: ÖNKORMÁNYZATI TÁMOGATÁS | H6: IRÁNYÍTÓ SZERVTŐL KAPOTT TÁMOGATÁS | K6: SAJÁT BEVÉTEL | N6: MEGNEVEZÉS | O6: MARADVÁNY IGÉNYBEVÉTEL | R6: FINANSZÍROZÁSI CÉLÚ BEVÉTELEK | U6: BEVÉTELEK ÖSSZESEN | X6: 2018. ÉV
W7: Eltérés | X7: Kötelező feladatok | Y7: Önként vállalt feladatok | AA7: Államigazgatási feladatok
B8: 2018. évi eredeti ei. | C8: 2018. évi módosított ei. I. | D8: Eltérés | E8: 2018. évi eredeti ei. | F8: 2018. évi módosított ei. I. | G8: Eltérés | H8: 2018. évi eredeti ei. | I8: 2018. évi módosított ei. I. | J8: Eltérés | K8: 2018. évi eredeti ei. | L8: 2018. évi módosított ei. I. | M8: Eltérés | O8: 2018. évi eredeti ei. | P8: 2018. évi módosított ei. I. | Q8: Eltérés | R8: 2018. évi eredeti ei. | S8: 2018. évi módosított ei. I. | T8: Eltérés | U8: 2018. évi eredeti ei. | V8: 2018. évi módosított ei. I. | Y8: Saját bevétel és költségvetési maradvány | Z8: Intézményfinan-szírozás | AA8: Saját bevétel és költségvetési maradvány | AB8: Intézményfinan-szírozás
A9: Lipták Gábor Városi Könyvtár | B9: ='2c. tábla 2018.'!G88 -> 16804480 | C9: ='2c. tábla 2018.'!J88 -> 19870124 | D9: =C9-B9 -> 3065644 | E9: ='2.a tábla ÚJ '!B50-'3.sz. tábla (2)'!B9 -> 53143754 | F9: ='2.a tábla ÚJ '!C50-'3.sz. tábla (2)'!C9 -> 51462118 | G9: =F9-E9 -> -1681636 | H9: =B9+E9 -> 69948234 | I9: =C9+F9 -> 71332242 | J9: =I9-H9 -> 1384008 | K9: ='2.a tábla ÚJ '!B44 -> 13118271 | L9: ='2.a tábla ÚJ '!C44 -> 13118271 | M9: =L9-K9 -> 0 | N9: Lipták Gábor Városi Könyvtár | O9: ='2.a tábla ÚJ '!B46 -> 90498 | P9: ='2.a tábla ÚJ '!C46 -> 2938295 | Q9: =P9-O9 -> 2847797 | U9: =H9+K9+O9+R9 -> 83157003 | V9: =I9+L9+P9+S9 -> 87388808 | W9: =V9-U9 -> 4231805 | X9: =V9-Y9-Z9 -> 57933806 | Y9: =9344000+705300 -> 10049300 | Z9: ='4.sz.tábla '!AP6-'3.sz. tábla (2)'!Y9 -> 19405702 | AC9: =SUM(X9:AB9) -> 87388808
A10: Balatonfüredi Városi Szakorvosi Rendelőintézet | B10: ='2c. tábla 2018.'!G91 -> 0 | C10: ='2c. tábla 2018.'!J91 -> 566064 | D10: =C10-B10 -> 566064 | E10: ='2.a tábla ÚJ '!E50-'3.sz. tábla (2)'!B10 -> 47490565 | F10: ='2.a tábla ÚJ '!F50-'3.sz. tábla (2)'!C10 -> 43372599 | G10: =F10-E10 -> -4117966 | H10: =B10+E10 -> 47490565 | I10: =C10+F10 -> 43938663 | J10: =I10-H10 -> -3551902 | K10: ='2.a tábla ÚJ '!E44 -> 153438941 | L10: 156566855 | M10: =L10-K10 -> 3127914 | N10: Balatonfüredi Városi Szakorvosi Rendelőintézet | O10: ='2.a tábla ÚJ '!E46 -> 271494 | P10: ='2.a tábla ÚJ '!F46 -> 9314574 | Q10: =P10-O10 -> 9043080 | U10: =H10+K10+O10+R10 -> 201201000 | V10: =I10+L10+P10+S10 -> 209820092 | W10: =V10-U10 -> 8619092 | X10: =V10-Y10-Z10 -> 108955801 | Y10: =53893000+22769000+176762+157878+700000 -> 77696640 | Z10: ='4.sz.tábla '!AP7-'3.sz. tábla (2)'!Y10 -> 23167651 | AC10: =SUM(X10:AB10) -> 209820092
A11: Balatonfüredi Városi Bölcsőde | B11: ='2c. tábla 2018.'!G63 -> 30247213 | C11: ='2c. tábla 2018.'!J63 -> 32089822 | D11: =C11-B11 -> 1842609 | E11: ='2.a tábla ÚJ '!H50-'3.sz. tábla (2)'!B11 -> 31619752 | F11: ='2.a tábla ÚJ '!I50-'3.sz. tábla (2)'!C11 -> 28250333 | G11: =F11-E11 -> -3369419 | H11: =SUM(B11+E11) -> 61866965 | I11: =SUM(C11+F11) -> 60340155 | J11: =I11-H11 -> -1526810 | K11: ='2.a tábla ÚJ '!H44 -> 2827953 | L11: ='2.a tábla ÚJ '!I44 -> 2827953 | M11: =L11-K11 -> 0 | N11: Balatonfüredi Városi Bölcsőde | O11: ='2.a tábla ÚJ '!H46 -> 90498 | P11: ='2.a tábla ÚJ '!I46 -> 5011083 | Q11: =P11-O11 -> 4920585 | U11: =H11+K11+O11+R11 -> 64785416 | V11: =I11+L11+P11+S11 -> 68179191 | W11: =V11-U11 -> 3393775 | X11: =V11-Y11-Z11 -> 64183513 | Y11: 0 | Z11: ='4.sz.tábla '!AP8-'3.sz. tábla (2)'!Y11 -> 3995678 | AC11: =SUM(X11:AB11) -> 68179191
A12: Intézmények összesen: | B12: =B9+B10+B11 -> 47051693 | C12: =C9+C10+C11 -> 52526010 | D12: =C12-B12 -> 5474317 | E12: =E9+E10+E11 -> 132254071 | F12: =F9+F10+F11 -> 123085050 | G12: =F12-E12 -> -9169021 | H12: =H9+H10+H11 -> 179305764 | I12: =I9+I10+I11 -> 175611060 | J12: =I12-H12 -> -3694704 | K12: =K9+K10+K11 -> 169385165 | L12: =L9+L10+L11 -> 172513079 | M12: =L12-K12 -> 3127914 | N12: Intézmények összesen: | O12: =O9+O10+O11 -> 452490 | P12: =P9+P10+P11 -> 17263952 | Q12: =P12-O12 -> 16811462 | U12: =U9+U10+U11 -> 349143419 | V12: =V9+V10+V11 -> 365388091 | W12: =V12-U12 -> 16244672 | X12: =SUM(X9:X11) -> 231073120 | Y12: =SUM(Y9:Y11) -> 87745940 | Z12: =SUM(Z9:Z11) -> 46569031 | AB12: =SUM(AB9:AB11) -> 0 | AC12: =SUM(X12:AB12) -> 365388091
A13: Balatonfüredi Közös Önkormányzati Hivatal | B13: ='2c. tábla 2018.'!G82 -> 180406200 | C13: ='2c. tábla 2018.'!J82 -> 180741767 | D13: =C13-B13 -> 335567 | E13: ='2.a tábla ÚJ '!O50-'3.sz. tábla (2)'!B13 -> 211720876 | F13: ='2.a tábla ÚJ '!P50-'3.sz. tábla (2)'!C13 -> 197136761 | G13: =F13-E13 -> -14584115 | H13: =B13+E13 -> 392127076 | I13: =C13+F13 -> 377878528 | J13: =I13-H13 -> -14248548 | K13: ='2.a tábla ÚJ '!O44 -> 49017493 | L13: ='2.a tábla ÚJ '!P44 -> 59162323 | M13: =L13-K13 -> 10144830 | N13: Balatonfüredi Közös Önkormányzati Hivatal | O13: ='2.a tábla ÚJ '!O46 -> 0 | P13: ='2.a tábla ÚJ '!P46 -> 36290988 | Q13: =P13-O13 -> 36290988 | U13: =H13+K13+O13+R13 -> 441144569 | V13: =I13+L13+P13+S13 -> 473331839 | W13: =V13-U13 -> 32187270 | X13: =V13-Y13-Z13-AA13-AB13 -> 358532756 | AA13: ='9. sz. tábla (2)'!C84+'9. sz. tábla (2)'!C93 -> 67293581 | AB13: ='4.sz.tábla '!AQ10-'3.sz. tábla (2)'!AA13 -> 47505502 | AC13: =SUM(X13:AB13) -> 473331839
A14: Költségvetési szervek összesen: | B14: =SUM(B12:B13) -> 227457893 | C14: =SUM(C12:C13) -> 233267777 | D14: =C14-B14 -> 5809884 | E14: =SUM(E12:E13) -> 343974947 | F14: =SUM(F12:F13) -> 320221811 | G14: =F14-E14 -> -23753136 | H14: =SUM(H12:H13) -> 571432840 | I14: =SUM(I12:I13) -> 553489588 | J14: =I14-H14 -> -17943252 | K14: =SUM(K12:K13) -> 218402658 | L14: =SUM(L12:L13) -> 231675402 | M14: =L14-K14 -> 13272744 | N14: Költségvetési szervek összesen: | O14: =SUM(O12:O13) -> 452490 | P14: =SUM(P12:P13) -> 53554940 | Q14: =P14-O14 -> 53102450 | U14: =SUM(U12:U13) -> 790287988 | V14: =SUM(V12:V13) -> 838719930 | W14: =V14-U14 -> 48431942 | X14: =SUM(X12:X13) -> 589605876 | Y14: =SUM(Y12:Y13) -> 87745940 | Z14: =SUM(Z12:Z13) -> 46569031 | AA14: =SUM(AA12:AA13) -> 67293581 | AB14: =SUM(AB12:AB13) -> 47505502 | AC14: =SUM(X14:AB14) -> 838719930
A15: Önkormányzat | B15: =B18-B14 -> 685727664 | C15: =C18-C14 -> 696903561 | D15: =C15-B15 -> 11175897 | E15: =-E14 -> -343974947 | F15: =-F14 -> -320221811 | G15: =F15-E15 -> 23753136 | J15: =I15-H15 -> 0 | K15: ='2.sz.tábla (2)'!B92-'2.sz.tábla (2)'!B79-'2.sz.tábla (2)'!B76-'2.sz.tábla (2)'!B8-'2.sz.tábla (2)'!B23 -> 6009561215 | L15: ='2.sz.tábla (2)'!C92-'2.sz.tábla (2)'!C79-'2.sz.tábla (2)'!C76-'2.sz.tábla (2)'!C8-'2.sz.tábla (2)'!C23 -> 6251798081 | M15: =L15-K15 -> 242236866 | N15: Önkormányzat | O15: ='2.sz.tábla (2)'!B76 -> 1354099089 | P15: ='2.sz.tábla (2)'!C76 -> 1637823773 | Q15: =P15-O15 -> 283724684 | R15: ='2.sz.tábla (2)'!B79 -> 1012800000 | S15: ='2.sz.tábla (2)'!C79 -> 1669499723 | T15: =S15-R15 -> 656699723 | U15: =H15+K15+O15+R15+E15+B15 -> 8718213021 | V15: =I15+L15+P15+S15+F15+C15 -> 9935803327 | W15: =V15-U15 -> 1217590306 | AC15: =SUM(X15:AB15) -> 0
A16: Mindösszesen: | B16: =SUM(B14:B15) -> 913185557 | C16: =SUM(C14:C15) -> 930171338 | D16: =C16-B16 -> 16985781 | E16: =SUM(E14:E15) -> 0 | F16: =SUM(F14:F15) -> 0 | G16: =F16-E16 -> 0 | H16: =SUM(H14:H15) -> 571432840 | I16: =SUM(I14:I15) -> 553489588 | J16: =I16-H16 -> -17943252 | K16: =SUM(K14:K15) -> 6227963873 | L16: =SUM(L14:L15) -> 6483473483 | M16: =L16-K16 -> 255509610 | N16: Mindösszesen: | O16: =SUM(O14:O15) -> 1354551579 | P16: =SUM(P14:P15) -> 1691378713 | Q16: =P16-O16 -> 336827134 | R16: =SUM(R14:R15) -> 1012800000 | S16: =SUM(S14:S15) -> 1669499723 | T16: =S16-R16 -> 656699723 | U16: =SUM(U14:U15) -> 9508501009 | V16: =SUM(V14:V15) -> 10774523257 | W16: =V16-U16 -> 1266022248 | AC16: =SUM(X16:AB16) -> 0
W17: ='2.sz.tábla (2)'!K92-'3.sz. tábla (2)'!U16 -> 0
B18: 913185557 | C18: ='2c. tábla 2018.'!J119 -> 930171338 | D18: ='2c. tábla 2018.'!I119 -> 16985781

Sheet 4.sz.tábla 
A1: BALATONFÜRED VÁROS ÖNKORMÁNYZAT BEVÉTELI ELŐIRÁNYZATAI KÖLTSÉGVETÉSI SZERVEK SZERINTI BONTÁSBAN
A2: AZ ÖNKORMÁNYZAT KIADÁSI ELŐIRÁNYZATAI INTÉZMÉNYEK SZERINTI BONTÁSBAN KIEMELT ELŐIRÁNYZATONKÉNT 2018. ÉV | R2: AZ ÖNKORMÁNYZAT KIADÁSI ELŐIRÁNYZATAI INTÉZMÉNYEK SZERINTI BONTÁSBAN KIEMELT ELŐIRÁNYZATONKÉNT 2018. ÉV | AE2: AZ ÖNKORMÁNYZAT KIADÁSI ELŐIRÁNYZATAI INTÉZMÉNYEK SZERINTI BONTÁSBAN KIEMELT ELŐIRÁNYZATONKÉNT 2018. ÉV
A4: MEGNEVEZÉS | B4: SZEMÉLYI JUTTATÁS | E4: MUNKAADÓKAT TERH. JÁRULÉKOK ÉS SZOCIÁLIS HOZZÁJÁRULÁSI ADÓ | H4: DOLOGI KIADÁSOK | K4: ELLÁTOTTAK PÉNZBELI JUTTATÁSAI | R4: MEGNEVEZÉS | S4: EGYÉB MŰKÖDÉSI CÉLÚ KIADÁSOK | V4: BERUHÁZÁSOK | Y4: FELÚJÍTÁSOK | AB4: EGYÉB FELHALMOZÁSI KIADÁSOK | AE4: MEGNEVEZÉS | AF4: FINANSZÍROZÁSI KIADÁSOK | AI4: TARTALÉKOK | AL4: ÖSSZESEN | AO4: 2018. ÉV
B5: 2018. évi eredeti ei. | C5: 2018. évi módosított ei. I. | D5: Eltérés | E5: 2018. évi eredeti ei. | F5: 2018. évi módosított ei. I. | G5: Eltérés | H5: 2018. évi eredeti ei. | I5: 2018. évi módosított ei. I. | J5: Eltérés | K5: 2018. évi eredeti ei. | L5: 2018. évi módosított ei. I. | M5: Eltérés | S5: 2018. évi eredeti ei. | T5: 2018. évi módosított ei. I. | U5: Eltérés | V5: 2018. évi eredeti ei. | W5: 2018. évi módosított ei. I. | X5: Eltérés | Y5: 2018. évi eredeti ei. | Z5: 2018. évi módosított ei. I. | AA5: Eltérés | AB5: 2018. évi eredeti ei. | AC5: 2018. évi módosított ei. I. | AD5: Eltérés | AF5: 2018. évi eredeti ei. | AG5: 2018. évi módosított ei. I. | AH5: Eltérés | AI5: 2018. évi eredeti ei. | AJ5: 2018. évi módosított ei. I. | AK5: Eltérés | AL5: 2018. évi eredeti ei. | AM5: 2018. évi módosított ei. I. | AN5: Eltérés | AO5: Kötelező feladatok | AP5: Önként vállalt feladatok | AQ5: Államigazgatási feladatok
A6: Lipták Gábor Városi Könyvtár | B6: 43132335 | C6: 44397635 | D6: =C6-B6 -> 1265300 | E6: 8555608 | F6: 8804321 | G6: =F6-E6 -> 248713 | H6: 22838000 | I6: 24753886 | J6: =I6-H6 -> 1915886 | R6: Lipták Gábor Városi Könyvtár | V6: ='4a. sz. tábla (3)'!C5 -> 8631060 | W6: 9432966 | X6: =W6-V6 -> 801906 | AA6: =Z6-Y6 -> 0 | AD6: =AC6-AB6 -> 0 | AE6: Lipták Gábor Városi Könyvtár | AH6: =AG6-AF6 -> 0 | AK6: =AJ6-AI6 -> 0 | AL6: =SUM(Y6,AB6,AF6,V6,S6,K6,H6,E6,B6) -> 83157003 | AM6: =SUM(Z6,AC6,AG6,W6,T6,L6,I6,F6,C6) -> 87388808 | AN6: =AM6-AL6 -> 4231805 | AO6: =AM6-AP6 -> 57933806 | AP6: =28749702+600000+105300 -> 29455002 | AR6: =SUM(AO6:AQ6) -> 87388808
A7: Balatonfüredi Városi Szakorvosi Rendelőintézet | B7: 100634000 | C7: 104269050 | D7: =C7-B7 -> 3635050 | E7: 20145000 | F7: 20884604 | G7: =F7-E7 -> 739604 | H7: 79922000 | I7: 83430899 | J7: =I7-H7 -> 3508899 | R7: Balatonfüredi Városi Szakorvosi Rendelőintézet | V7: ='4a. sz. tábla (3)'!C33 -> 500000 | W7: 1235539 | X7: =W7-V7 -> 735539 | AA7: =Z7-Y7 -> 0 | AD7: =AC7-AB7 -> 0 | AE7: Balatonfüredi Városi Szakorvosi Rendelőintézet | AH7: =AG7-AF7 -> 0 | AK7: =AJ7-AI7 -> 0 | AL7: =SUM(Y7,AB7,AF7,V7,S7,K7,H7,E7,B7) -> 201201000 | AM7: =SUM(Z7,AC7,AG7,W7,T7,L7,I7,F7,C7) -> 209820092 | AN7: =AM7-AL7 -> 8619092 | AO7: =AM7-AP7 -> 108955801 | AP7: =100164291+700000 -> 100864291 | AR7: =SUM(AO7:AQ7) -> 209820092
A8: Balatonfüredi Városi Bölcsőde | B8: 42708000 | C8: 44369582 | D8: =C8-B8 -> 1661582 | E8: 8935000 | F8: 9000287 | G8: =F8-E8 -> 65287 | H8: 12842416 | I8: 14368332 | J8: =I8-H8 -> 1525916 | R8: Balatonfüredi Városi Bölcsőde | V8: 300000 | W8: 440990 | X8: =W8-V8 -> 140990 | AA8: =Z8-Y8 -> 0 | AD8: =AC8-AB8 -> 0 | AE8: Balatonfüredi Városi Bölcsőde | AH8: =AG8-AF8 -> 0 | AK8: =AJ8-AI8 -> 0 | AL8: =SUM(Y8,AB8,AF8,V8,S8,K8,H8,E8,B8) -> 64785416 | AM8: =SUM(Z8,AC8,AG8,W8,T8,L8,I8,F8,C8) -> 68179191 | AN8: =AM8-AL8 -> 3393775 | AO8: =AM8-AP8 -> 64183513 | AP8: 3995678 | AR8: =SUM(AO8:AQ8) -> 68179191
A9: Intézmények összesen: | B9: =B6+B7+B8 -> 186474335 | C9: =C6+C7+C8 -> 193036267 | D9: =C9-B9 -> 6561932 | E9: =E6+E7+E8 -> 37635608 | F9: =F6+F7+F8 -> 38689212 | G9: =F9-E9 -> 1053604 | H9: =H6+H7+H8 -> 115602416 | I9: =I6+I7+I8 -> 122553117 | J9: =I9-H9 -> 6950701 | K9: =K6+K7+K8 -> 0 | L9: =L6+L7+L8 -> 0 | M9: =L9-K9 -> 0 | N9: =#REF!+N6+N7+N8 -> #REF! | O9: =#REF!+O6+O7+O8 -> #REF! | P9: =#REF!+P6+P7+P8 -> #REF! | Q9: =#REF!+Q6+Q7+Q8 -> #REF! | R9: Intézmények összesen: | S9: =S6+S7+S8 -> 0 | T9: =T6+T7+T8 -> 0 | U9: =T9-S9 -> 0 | V9: =V6+V7+V8 -> 9431060 | W9: =W6+W7+W8 -> 11109495 | X9: =W9-V9 -> 1678435 | Y9: =Y6+Y7+Y8 -> 0 | Z9: =Z6+Z7+Z8 -> 0 | AA9: =Z9-Y9 -> 0 | AB9: =AB6+AB7+AB8 -> 0 | AC9: =AC6+AC7+AC8 -> 0 | AD9: =AC9-AB9 -> 0 | AE9: Intézmények összesen: | AF9: =AF6+AF7+AF8 -> 0 | AG9: =AG6+AG7+AG8 -> 0 | AH9: =AG9-AF9 -> 0 | AI9: =AI6+AI7+AI8 -> 0 | AJ9: =AJ6+AJ7+AJ8 -> 0 | AK9: =AJ9-AI9 -> 0 | AL9: =AL6+AL7+AL8 -> 349143419 | AM9: =AM6+AM7+AM8 -> 365388091 | AN9: =AM9-AL9 -> 16244672 | AO9: =SUM(AO6:AO8) -> 231073120 | AP9: =SUM(AP6:AP8) -> 134314971 | AQ9: =SUM(AQ6:AQ8) -> 0 | AR9: =SUM(AO9:AQ9) -> 365388091
A10: Balatonfüredi Közös Önkormányzati Hivatal | B10: ='5.tábla (2)'!B7 -> 289638993 | C10: ='5.tábla (2)'!C7 -> 299056678 | D10: =C10-B10 -> 9417685 | E10: ='5.tábla (2)'!B8 -> 62845576 | F10: ='5.tábla (2)'!C8 -> 65542144 | G10: =F10-E10 -> 2696568 | H10: ='5.tábla (2)'!B9 -> 72986000 | I10: ='5.tábla (2)'!C9 -> 87100069 | J10: =I10-H10 -> 14114069 | K10: ='5.tábla (2)'!B15+'5.tábla (2)'!B17 -> 1674000 | L10: ='5.tábla (2)'!C15+'5.tábla (2)'!C17 -> 1674000 | M10: =L10-K10 -> 0 | R10: Balatonfüredi Közös Önkormányzati Hivatal | S10: ='5.tábla (2)'!B19 -> 0 | T10: ='5.tábla (2)'!C19 -> 321968 | U10: =T10-S10 -> 321968 | V10: ='5.tábla (2)'!B21 -> 14000000 | W10: ='5.tábla (2)'!C21 -> 19636980 | X10: =W10-V10 -> 5636980 | AA10: =Z10-Y10 -> 0 | AD10: =AC10-AB10 -> 0 | AE10: Balatonfüredi Közös Önkormányzati Hivatal | AH10: =AG10-AF10 -> 0 | AK10: =AJ10-AI10 -> 0 | AL10: =SUM(Y10,AB10,AF10,V10,S10,K10,H10,E10,B10) -> 441144569 | AM10: =SUM(Z10,AC10,AG10,W10,T10,L10,I10,F10,C10) -> 473331839 | AN10: =AM10-AL10 -> 32187270 | AO10: =AM10-AP10-AQ10 -> 358532756 | AQ10: ='9. sz. tábla (2)'!H84+'9. sz. tábla (2)'!H93 -> 114799083 | AR10: =SUM(AO10:AQ10) -> 473331839
A11: Költségvetési szervek összesen: | B11: =SUM(B9:B10) -> 476113328 | C11: =SUM(C9:C10) -> 492092945 | D11: =C11-B11 -> 15979617 | E11: =SUM(E9:E10) -> 100481184 | F11: =SUM(F9:F10) -> 104231356 | G11: =F11-E11 -> 3750172 | H11: =SUM(H9:H10) -> 188588416 | I11: =SUM(I9:I10) -> 209653186 | J11: =I11-H11 -> 21064770 | K11: =SUM(K9:K10) -> 1674000 | L11: =SUM(L9:L10) -> 1674000 | M11: =L11-K11 -> 0 | N11: =SUM(N9:N10) -> #REF! | O11: =SUM(O9:O10) -> #REF! | P11: =SUM(P9:P10) -> #REF! | Q11: =SUM(Q9:Q10) -> #REF! | R11: Költségvetési szervek összesen: | S11: =SUM(S9:S10) -> 0 | T11: =SUM(T9:T10) -> 321968 | U11: =T11-S11 -> 321968 | V11: =SUM(V9:V10) -> 23431060 | W11: =SUM(W9:W10) -> 30746475 | X11: =W11-V11 -> 7315415 | Y11: =SUM(Y9:Y10) -> 0 | Z11: =SUM(Z9:Z10) -> 0 | AA11: =Z11-Y11 -> 0 | AB11: =SUM(AB9:AB10) -> 0 | AC11: =SUM(AC9:AC10) -> 0 | AD11: =AC11-AB11 -> 0 | AE11: Költségvetési szervek összesen: | AF11: =SUM(AF9:AF10) -> 0 | AG11: =SUM(AG9:AG10) -> 0 | AH11: =AG11-AF11 -> 0 | AI11: =SUM(AI9:AI10) -> 0 | AJ11: =SUM(AJ9:AJ10) -> 0 | AK11: =AJ11-AI11 -> 0 | AL11: =SUM(AL9:AL10) -> 790287988 | AM11: =SUM(AM9:AM10) -> 838719930 | AN11: =AM11-AL11 -> 48431942 | AO11: =SUM(AO9:AO10) -> 589605876 | AP11: =SUM(AP9:AP10) -> 134314971 | AQ11: =SUM(AQ9:AQ10) -> 114799083 | AR11: =SUM(AO11:AQ11) -> 838719930
A12: Önkormányzat | B12: ='5.tábla (2)'!B30 -> 129569315 | C12: ='5.tábla (2)'!C30 -> 138018414 | D12: =C12-B12 -> 8449099 | E12: ='5.tábla (2)'!B45 -> 23634119 | F12: ='5.tábla (2)'!C45 -> 27331842 | G12: =F12-E12 -> 3697723 | H12: ='5.tábla (2)'!B60 -> 813964964 | I12: ='5.tábla (2)'!C60 -> 859756680 | J12: =I12-H12 -> 45791716 | K12: ='5.tábla (2)'!B101 -> 28100000 | L12: ='5.tábla (2)'!C101 -> 28100000 | M12: =L12-K12 -> 0 | R12: Önkormányzat | S12: ='5.tábla (2)'!B110 -> 1171966248 | T12: ='5.tábla (2)'!C110 -> 1183640002 | U12: =T12-S12 -> 11673754 | V12: ='7. sz. tábla 1'!B108 -> 4396480479 | W12: ='7. sz. tábla 1'!C108 -> 5206434304 | X12: =W12-V12 -> 809953825 | Y12: ='7. sz. tábla 1'!B192 -> 73149430 | Z12: ='7. sz. tábla 1'!C192 -> 73149430 | AA12: =Z12-Y12 -> 0 | AB12: ='7. sz. tábla 1'!B181 -> 518990164 | AC12: ='7. sz. tábla 1'!C181 -> 558790164 | AD12: =AC12-AB12 -> 39800000 | AE12: Önkormányzat | AF12: ='7. sz. tábla 1'!B187 -> 1120094200 | AG12: ='7. sz. tábla 1'!C187 -> 1580094200 | AH12: =AG12-AF12 -> 460000000 | AI12: ='1.sz.tábla (2)'!B30 -> 442264102 | AJ12: ='1.sz.tábla (2)'!C30 -> 280488291 | AK12: =AJ12-AI12 -> -161775811 | AL12: =SUM(Y12,AB12,AF12,V12,S12,K12,H12,E12,B12,AI12) -> 8718213021 | AM12: =SUM(Z12,AC12,AG12,W12,T12,L12,I12,F12,C12,AJ12) -> 9935803327 | AN12: =AM12-AL12 -> 1217590306 | AR12: =SUM(AO12:AQ12) -> 0
A13: Mindösszesen: | B13: =SUM(B11:B12) -> 605682643 | C13: =SUM(C11:C12) -> 630111359 | D13: =C13-B13 -> 24428716 | E13: =SUM(E11:E12) -> 124115303 | F13: =SUM(F11:F12) -> 131563198 | G13: =F13-E13 -> 7447895 | H13: =SUM(H11:H12) -> 1002553380 | I13: =SUM(I11:I12) -> 1069409866 | J13: =I13-H13 -> 66856486 | K13: =SUM(K11:K12) -> 29774000 | L13: =SUM(L11:L12) -> 29774000 | M13: =L13-K13 -> 0 | N13: =SUM(N11:N12) -> #REF! | O13: =SUM(O11:O12) -> #REF! | P13: =SUM(P11:P12) -> #REF! | Q13: =SUM(Q11:Q12) -> #REF! | R13: Mindösszesen: | S13: =SUM(S11:S12) -> 1171966248 | T13: =SUM(T11:T12) -> 1183961970 | U13: =T13-S13 -> 11995722 | V13: =SUM(V11:V12) -> 4419911539 | W13: =SUM(W11:W12) -> 5237180779 | X13: =W13-V13 -> 817269240 | Y13: =SUM(Y11:Y12) -> 73149430 | Z13: =SUM(Z11:Z12) -> 73149430 | AA13: =Z13-Y13 -> 0 | AB13: =SUM(AB11:AB12) -> 518990164 | AC13: =SUM(AC11:AC12) -> 558790164 | AD13: =AC13-AB13 -> 39800000 | AE13: Mindösszesen: | AF13: =SUM(AF11:AF12) -> 1120094200 | AG13: =SUM(AG11:AG12) -> 1580094200 | AH13: =AG13-AF13 -> 460000000 | AI13: =SUM(AI11:AI12) -> 442264102 | AJ13: =SUM(AJ11:AJ12) -> 280488291 | AK13: =AJ13-AI13 -> -161775811 | AL13: =SUM(AL11:AL12) -> 9508501009 | AM13: =SUM(AM11:AM12) -> 10774523257 | AN13: =AM13-AL13 -> 1266022248 | AR13: =SUM(AO13:AQ13) -> 0
Y39: =X39-#REF! -> #REF!
Y40: =X40-#REF! -> #REF!

Sheet 4a. sz. tábla  (3)
A2: INTÉZMÉNYI SAJÁTHATÁSKÖRŰ FEJLESZTÉSEK 2018. ÉV
A3: Intézmény | B3: Megnevezés | C3: 2018. évi eredeti ei. | D3: 2018. évi módosított ei. I. | E3: Eltérés
A5: LIPTÁK GÁBOR VÁROSI KÖNYVTÁR | C5: =SUM(C6:C24) -> 8631060 | D5: =SUM(D6:D24) -> 9432966 | E5: =D5-C5 -> 801906
B6: Dokumentumbeszerzés (könyvtár) | C6: 2544000 | D6: 3175334 | E6: =D6-C6 -> 631334
B7: Vetítővászon, projektor (zsinagóga) | C7: 1569720 | D7: 1343406 | E7: =D7-C7 -> -226314
B8: Gurulós padló állvány (zsinagóga) | D8: 19990 | E8: =D8-C8 -> 19990
B9: Pénztárgép (zsinagóga) | C9: 165100 | D9: 177800 | E9: =D9-C9 -> 12700
B10: Belépőkártyák (zsinagóga) | C10: 482600 | D10: 482600 | E10: =D10-C10 -> 0
B11: Fülhallgatók (zsinagóga) | C11: 304800 | D11: 304800 | E11: =D11-C11 -> 0
B12: 10 db audio készülék (zsinagóga) | C12: 615950 | D12: 615950 | E12: =D12-C12 -> 0
B13: 2 db telefonkészülék (zsinagóga) | C13: 40640 | D13: 40640 | E13: =D13-C13 -> 0
B14: Mobiltelefon vezető részére (zsinagóga) | C14: 82550 | D14: 82550 | E14: =D14-C14 -> 0
B15: Gépek és felszerelés a büfétérbe (zsinagóga) | C15: 292100 | D15: 87996 | E15: =D15-C15 -> -204104
B16: Porszívó (zsinagóga) | D16: 32991 | E16: =D16-C16 -> 32991
B17: Postaláda (zsinagóga) | D17: 7999 | E17: =D17-C17 -> 7999
B18: Hengeres, műanyag kuka (zsinagóga) | D18: 7475 | E18: =D18-C18 -> 7475
B19: Kiadványtároló, megállítótábla (zsinagóga) | C19: 76200 | D19: 114300 | E19: =D19-C19 -> 38100
B20: Bútor (zsinagóga) | C20: 1879600 | D20: 1879600 | E20: =D20-C20 -> 0
B21: Egyéb kisértékű eszközök (zsinagóga) | C21: 50800 | D21: 261963 | E21: =D21-C21 -> 211163
B22: Egyéb kisértékű eszközök (könyvtár) | C22: 527000 | D22: 527000 | E22: =D22-C22 -> 0
B23: Informatikai eszközök | D23: 270572 | E23: =D23-C23 -> 270572
B24: Bútor
A26: BALATONFÜREDI VÁROSI BÖLCSÖDE | C26: =SUM(C27:C31) -> 300000 | D26: =SUM(D27:D31) -> 440990 | E26: =D26-C26 -> 140990
B27: fűnyíró
B28: hűtő
B29: játékok
B30: egyéb kisértékű eszközök | C30: 300000 | D30: ='4.sz.tábla '!W8 -> 440990 | E30: =D30-C30 -> 140990
B31: microhullámú
A33: BALATONFÜREDI VÁROSI SZAKORVOSI RENDELŐINTÉZET | C33: =SUM(C34:C37) -> 500000 | D33: =SUM(D34:D37) -> 1235539 | E33: =D33-C33 -> 735539
B34: informatikai eszközök
B35: Orvosi műszerek
B36: telefon központ
B37: egyéb kisértékű eszközök | C37: 500000 | D37: 1235539 | E37: =D37-C37 -> 735539
A38: BALATONFÜREDI KÖZÖS ÖNKORMÁNYZATI HIVATAL | C38: =SUM(C39:C42) -> 14000000 | D38: =SUM(D39:D42) -> 19636980 | E38: =D38-C38 -> 5636980
B39: Informatikai eszközök | C39: 8000000 | D39: ='5.tábla (2)'!C22 -> 11767242 | E39: =D39-C39 -> 3767242
B40: Gépjármű beszerzés | C40: 5000000 | D40: ='5.tábla (2)'!C23 -> 5269738 | E40: =D40-C40 -> 269738
B41: Velux rolók tetőablakokra | D41: ='5.tábla (2)'!C25 -> 600000 | E41: =D41-C41 -> 600000
B42: egyéb kisértékű eszközök | C42: 1000000 | D42: ='5.tábla (2)'!C24 -> 2000000 | E42: =D42-C42 -> 1000000
A43: ÖSSZESEN: | C43: =SUM(C5+C26+C33+C38) -> 23431060 | D43: =SUM(D5+D26+D33+D38) -> 30746475 | E43: =D43-C43 -> 7315415

Sheet 5.tábla (2)
A3: MŰKÖDÉSI KIADÁSOK ÖNKORMÁNYZAT, HIVATAL BONTÁSBAN 2018. ÉV
A5: MEGNEVEZÉS | B5: 2018. évi eredeti ei. | C5: 2018. évi módosított ei. I. | D5: Eltérés
A6: I. Balatonfüredi Közös Önkormányzati Hivatal költségvetése
A7: 1. Személyi juttatás | B7: 289638993 | C7: 299056678 | D7: =C7-B7 -> 9417685
A8: 2. Munkaadót terhelő járulékok | B8: 62845576 | C8: 65542144 | D8: =C8-B8 -> 2696568
A9: 3. Dologi kiadások | B9: =SUM(B10:B14) -> 72986000 | C9: =SUM(C10:C14) -> 87100069 | D9: =C9-B9 -> 14114069
A10: Igazgatás dologi Balatonfüred | B10: 57000000 | C10: 71057092 | D10: =C10-B10 -> 14057092
A11: Telephelyek dologi | B11: 1400000 | C11: 1400000 | D11: =C11-B11 -> 0
A12: Családi iroda | B12: 403000 | C12: 403000 | D12: =C12-B12 -> 0
A13: Közösségi Ház | B13: 9000000 | C13: 9000000 | D13: =C13-B13 -> 0
A14: Befizetendő áfa | B14: 5183000 | C14: 5239977 | D14: =C14-B14 -> 56977
A15: 4.1. Ellátottak pénzbeli juttatásai Balatonfüred | B15: =B16 -> 1500000 | C15: =C16 -> 1500000 | D15: =C15-B15 -> 0
A16: Rendszeres gyermekvédelmi támogatás | B16: 1500000 | C16: 1500000 | D16: =C16-B16 -> 0
A17: 4.2. Ellátottak pénzbeli juttatásai telephelyek | B17: =SUM(B18:B18) -> 174000 | C17: =SUM(C18:C18) -> 174000 | D17: =C17-B17 -> 0
A18: Rendszeres gyermekvédelmi támogatás | B18: 174000 | C18: 174000 | D18: =C18-B18 -> 0
A19: 5. Egyéb működési célú kiadások áh-n belülre | C19: 321968 | D19: =C19-B19 -> 321968
A20: Hivatal működési kiadások összesen: | B20: =B19+B17+B15+B9+B8+B7 -> 427144569 | C20: =C19+C17+C15+C9+C8+C7 -> 453694859 | D20: =C20-B20 -> 26550290
A21: 6. Saját hatáskörű fejlesztések | B21: =SUM(B22:B24) -> 14000000 | C21: =SUM(C22:C25) -> 19636980 | D21: =C21-B21 -> 5636980
A22: Informatikai fejlesztések (kisértékű, nagyértékű) | B22: 8000000 | C22: 11767242 | D22: =C22-B22 -> 3767242
A23: Gépkocsi beszerzés | B23: 5000000 | C23: 5269738 | D23: =C23-B23 -> 269738
A24: Kisértékű tárgyi eszközök | B24: 1000000 | C24: 2000000 | D24: =C24-B24 -> 1000000
A25: Velux rolók beszerzése tetőablakokra | C25: 600000 | D25: =C25-B25 -> 600000
A26: I. Balatonfüredi Közös Önkormányzati Hivatal összesen: | B26: =B21+B20 -> 441144569 | C26: =C21+C20 -> 473331839 | D26: =C26-B26 -> 32187270
A28: MEGNEVEZÉS | B28: 2018. évi eredeti ei. | C28: 2018. évi módosított ei. I. | D28: Eltérés
A29: II. Balatonfüred Város Önkormányzat költségvetése
A30: 1. Személyi juttatások | B30: =SUM(B31:B44) -> 129569315 | C30: =SUM(C31:C44) -> 138018414 | D30: =C30-B30 -> 8449099
A31: Képviselő-testület személyi juttatásai | B31: 29066342 | C31: 29076342 | D31: =C31-B31 -> 10000
A32: Közfoglalkoztatás +diákmunka | B32: 18676843 | C32: 18676843 | D32: =C32-B32 -> 0
A33: Megbízási díjak | B33: 10318600 | C33: 10570500 | D33: =C33-B33 -> 251900
A34: Városi Kitüntetések | B34: 1120000 | C34: 1040000 | D34: =C34-B34 -> -80000
A35: Ösztöndíjak | B35: 5800000 | C35: 5800000 | D35: =C35-B35 -> 0
A36: Rendezvényekhez kapcsolódó személyi | B36: 2900000 | C36: =11167199 -> 11167199 | D36: =C36-B36 -> 8267199
A37: KÖFOP-1.2.1. ASP központhoz való csatlakozás | B37: 553278 | C37: 553278 | D37: =C37-B37 -> 0
A38: TOP-1.2.1-15 Széchényi Strand turisztikai infrastruktúra fejlesztés | B38: 393701 | C38: 393701 | D38: =C38-B38 -> 0
A39: TOP-4.1.1-15 Egészségügyi alapellátás fejlesztése | B39: 1023622 | C39: 1023622 | D39: =C39-B39 -> 0
A40: TOP-1.1.2-15 Balatonfüred és Balatonalmádi közös helyi foglalkoztatási együttműködés | B40: 16623043 | C40: 16623043 | D40: =C40-B40 -> 0
A41: EFOP-1.5.2-16-2017-00016 Humán közszolgáltatások fejlesztése az Észak-Balatoni térségben | B41: 37337600 | C41: 37337600 | D41: =C41-B41 -> 0
A42: EFOP-4.1.8-16-2017-00140 A könyvtárral a tudásért - megújult épületben, korszerű technikával Balatonfüreden | B42: 1676286 | C42: 1676286 | D42: =C42-B42 -> 0
A43: GINOP-7.1.9-17-2017-0001 Gyógyhelyfejlesztés Balatonfüred Városában | B43: 2880000 | C43: 2880000 | D43: =C43-B43 -> 0
A44: TOP-3.2.1-16-VE2-2017-00001 Fenntartható Energia és Klíma Akcióterv (SECAP) kidolgozása Veszprém megyében | B44: 1200000 | C44: 1200000 | D44: =C44-B44 -> 0
A45: 2. Munkaadót terhelő járulékok és szociális hozzájárulási adó | B45: =SUM(B46:B58) -> 23634119 | C45: =SUM(C46:C58) -> 27331842 | D45: =C45-B45 -> 3697723
A46: Képviselő-testület személyi juttatásai | B46: 5745921 | C46: 5749343 | D46: =C46-B46 -> 3422
A47: Közfoglalkoztatás +diákmunka | B47: 1836372 | C47: 1836372 | D47: =C47-B47 -> 0
A48: Megbízási díjak | B48: 1854071 | C48: 1893071 | D48: =C48-B48 -> 39000
A49: Városi Kitüntetések | B49: 234000 | C49: 234000 | D49: =C49-B49 -> 0
A50: Rendezvényekhez kapcsolódó járulék és kifizetői adó | B50: 1180590 | C50: 4835891 | D50: =C50-B50 -> 3655301
A51: KÖFOP-1.2.1. ASP központhoz való csatlakozás | B51: 121721 | C51: 121721 | D51: =C51-B51 -> 0
A52: TOP-1.2.1-15 Széchényi Strand turisztikai infrastruktúra fejlesztés | B52: 106299 | C52: 106299 | D52: =C52-B52 -> 0
A53: TOP-4.1.1-15 Egészségügyi alapellátás fejlesztése | B53: 276378 | C53: 276378 | D53: =C53-B53 -> 0
A54: TOP-1.1.2-15 Balatonfüred és Balatonalmádi közös helyi foglalkoztatási együttműködés | B54: 4659049 | C54: 4659049 | D54: =C54-B54 -> 0
A55: EFOP-1.5.2-16-2017-00016 Humán közszolgáltatások fejlesztése az Észak-Balatoni térségben | B55: 6353334 | C55: 6353334 | D55: =C55-B55 -> 0
A56: EFOP-4.1.8-16-2017-00140 A könyvtárral a tudásért - megújult épületben, korszerű technikával Balatonfüreden | B56: 368784 | C56: 368784 | D56: =C56-B56 -> 0
A57: GINOP-7.1.9-17-2017-0001 Gyógyhelyfejlesztés Balatonfüred Városában | B57: 633600 | C57: 633600 | D57: =C57-B57 -> 0
A58: TOP-3.2.1-16-VE2-2017-00001 Fenntartható Energia és Klíma Akcióterv (SECAP) kidolgozása Veszprém megyében | B58: 264000 | C58: 264000 | D58: =C58-B58 -> 0
A59: MEGNEVEZÉS | B59: 2018. évi eredeti ei. | C59: 2018. évi módosított ei. I. | D59: Eltérés
A60: 3. Dologi kiadások | B60: =SUM(B61:B100) -> 813964964 | C60: =SUM(C61:C100) -> 859756680 | D60: =C60-B60 -> 45791716
A61: Építés és településfejlesztés | B61: 4000000 | C61: 5688300 | D61: =C61-B61 -> 1688300
A62: Városüzemeltetés | B62: 175922000 | C62: 206301874 | D62: =C62-B62 -> 30379874
A63: Idegenforgalmi feladatok | B63: 30740000 | C63: 25730420 | D63: =C63-B63 -> -5009580
A64: Oktatás, nevelés | B64: 2500000 | C64: 1627287 | D64: =C64-B64 -> -872713
A65: Közművelődés | B65: 22701850 | C65: 20145218 | D65: =C65-B65 -> -2556632
A66: Sport | B66: 4930000 | C66: 3798000 | D66: =C66-B66 -> -1132000
A67: TV és újság | B67: 800000 | C67: 844247 | D67: =C67-B67 -> 44247
A68: Lakásgazdálkodás | B68: 11000000 | C68: 11000000 | D68: =C68-B68 -> 0
A69: Vagyonhasznosítás | B69: 43867150 | C69: 48053948 | D69: =C69-B69 -> 4186798
A70: Zákonyi u. mélygarázs fenntartási ktg. | B70: 18545480 | C70: 18545480 | D70: =C70-B70 -> 0
A71: ÁFA befizetés | B71: 109397995 | C71: 105824545 | D71: =C71-B71 -> -3573450
A72: Munkaegészségügyi ellát | B72: 1200000 | C72: 1486080 | D72: =C72-B72 -> 286080
... A82: KÖFOP-1.2.1. ASP központhoz való csatlakozás | B82: 6165001 | C82: 6165001 | D82: =C82-B82 -> 0
A83: TOP-1.1.1.-15 Ipari parkok, iparterületek fejlesztése pályázat előkészítés | B83: =19423879+5244447 -> 24668326 | C83: =19423879+5244447 -> 24668326 | D83: =C83-B83 -> 0
A84: TOP-1.1.2-15 Balatonfüred és Balatonalmádi közös helyi foglalkoztatási együttműködés | B84: 29803501 | C84: 29803501 | D84: =C84-B84 -> 0
A85: TOP-2.1.3.-16 Csapadékcsatorna hálózat fejlesztése pályázat előkészítés | B85: 0 | C85: 0 | D85: =C85-B85 -> 0
A86: TOP-1.2.1-15 Széchenyi strand fejlesztése pályázat előkészítés | B86: 11292001 | C86: 11292001 | D86: =C86-B86 -> 0
A87: TOP-2.1.2-15 Zöld város kialakítása pályázat előkészítés | B87: 1016000 | C87: 1016000 | D87: =C87-B87 -> 0
A88: HU07-0037-A1-2013 Zsinagóga pályázat dologi kiadások (nyilvánosság, könyvvizsgálat, projektmenedzsment) | B88: 635000 | C88: 635000 | D88: =C88-B88 -> 0
A89: EFOP-1.5.2-16-2017-00016 Humán közszolgáltatások fejlesztése az Észak-Balatoni térségben | B89: 106773776 | C89: 106773776 | D89: =C89-B89 -> 0
A90: TOP-3.2.2-15-VE1-2016-00002 Biomassza alapú ORC erőmű Balatonfüred | B90: =12000000+3240000 -> 15240000 | C90: =12000000+3240000 -> 15240000 | D90: =C90-B90 -> 0
A91: EFOP-4.1.8-16-2017-00140 A könyvtárral a tudásért - megújult épületben, korszerű technikával Balatonfüreden | B91: 298450 | C91: 298450 | D91: =C91-B91 -> 0
A92: TOP-2.1.3-16-VE1-2017-00008 Balatonfüred csapadékcsatorna hálózatának fejlesztése | B92: 2984500 | C92: 2984500 | D92: =C92-B92 -> 0
A93: MEGNEVEZÉS | B93: 2018. évi eredeti ei. | C93: 2018. évi módosított ei. I. | D93: Eltérés
A94: GINOP-7.1.9-17-2017-0001 Gyógyhelyfejlesztés Balatonfüred Városában | B94: 20500000 | C94: 20500000 | D94: =C94-B94 -> 0
A95: GINOP-7.1.6.16-2017-00004 Balaton-felvidéki Kultúrtáj Világörökség várományos helyszín turisztikai célú fejlesztése | B95: =5700000+1539000 -> 7239000 | C95: =5700000+1539000 -> 7239000 | D95: =C95-B95 -> 0
A96: TOP-3.2.1-16-VE2-2017-00001 Fenntartható Energia és Klíma Akcióterv (SECAP) kidolgozása Veszprém megyében | B96: 3810000 | C96: 3810000 | D96: =C96-B96 -> 0
A97: TOP-2.1.2-16-VE1-2017-00009 azonosítószámú, Balatonfüred Ófalu fejlesztése dologi kiadás 2018. | B97: 0 | C97: 13970000 | D97: =C97-B97 -> 13970000
A98: KEHOP-1.2.1. Helyi klímastratégiák kidolgozása, előzetes tanulmány elkészítése | B98: 0 | C98: 500000 | D98: =C98-B98 -> 500000
A99: Beruházásokhoz kapcsolódó dologi kiadások | B99: 5190500 | C99: 5190500 | D99: =C99-B99 -> 0
A100: Arácsi Népház karbantartás felújítási alap terhére | B100: 1010059 | C100: 1807838 | D100: =C100-B100 -> 797779
A101: 4. Ellátottak pénzbeli juttatásai | B101: =SUM(B102:B109) -> 28100000 | C101: =SUM(C102:C109) -> 28100000 | D101: =C101-B101 -> 0
A102: Rendkívüli gyermekvédelmi támogatás | B102: 17500000 | C102: 17500000 | D102: =C102-B102 -> 0
A103: Átm szociális segély (kölcsön) | B103: 3500000 | C103: 3500000 | D103: =C103-B103 -> 0
A104: Települési ápolási támogatás | B104: 1000000 | C104: 1000000 | D104: =C104-B104 -> 0
A105: Temetési segély | B105: 600000 | C105: 600000 | D105: =C105-B105 -> 0
A106: Köztemetés | B106: 500000 | C106: 500000 | D106: =C106-B106 -> 0
A107: Rendkívüli települési támogatás | B107: 1000000 | C107: 1000000 | D107: =C107-B107 -> 0
A108: Települési gyógyszertámogatás | B108: 2200000 | C108: 2200000 | D108: =C108-B108 -> 0
A109: Települési lakhatási támogatás | B109: 1800000 | C109: 1800000 | D109: =C109-B109 -> 0
A110: 5. Egyéb működési célú kiadások | B110: =B111+B112+B113+B114+B115+B116+B117+B119+B120 -> 1171966248 | C110: =C111+C112+C113+C114+C115+C116+C117+C119+C120 -> 1183640002 | D110: =C110-B110 -> 11673754
A111: 1. Elvonások, befizetések | C111: 2877449 | D111: =C111-B111 -> 2877449
A112: 2. Működési célú garancia- és kezességvállalásból származó kifizetés államháztartáson belülre
A113: 3. Működési célú visszatérítendő támogatások, kölcsönök nyújtása áh-n belülre
...

Sheet 5b. sz. tábla  (2)
A2: TÁMOGATÁSOK 2018. ÉV
A4: MEGNEVEZÉS | B4: 2018. évi eredeti ei. | C4: 2018. évi módosított ei. I. | D4: Eltérés
A5: Működési célú támogatások áh-n belülre: | B5: =SUM(B6:B12) -> 492708414 | C5: =SUM(C6:C12) -> 485791385 | D5: =C5-B5 -> -6917029
A6: Országos Mentőszolgálat támogatás
A7: Veszprém Megyei Rendőr-főkapitányság | B7: 1000000 | C7: 1674005 | D7: =C7-B7 -> 674005
A8: BURSA Hungarica ösztöndíj | B8: 1350000 | C8: 1350000 | D8: =C8-B8 -> 0
A9: Balatonfüredi Többcélú Társulás BSZAK | B9: 141190939 | C9: 135033444 | D9: =C9-B9 -> -6157495
A10: Közoktatási Intézményfenntartó Társulás Óvodák | B10: 349167475 | C10: 346511463 | D10: =C10-B10 -> -2656012
A11: EMMI elszámolásból adódó visszafizetés | C11: 238161 | D11: =C11-B11 -> 238161
A12: Szociális foglalkoztató miatti visszafizetési kötelezettség | C12: 984312 | D12: =C12-B12 -> 984312
A13: Működési célú támogatások áh-n kívülre: | B13: =SUM(B14:B47,B51:B81) -> 679257834 | C13: =SUM(C14:C81) -> 694971168 | D13: =C13-B13 -> 15713334
A14: Önkéntes Tűzoltóság | B14: 0 | C14: 0 | D14: =C14-B14 -> 0
A15: Vagyonvédelmi Alapítvány | B15: 2000000 | C15: 2000000 | D15: =C15-B15 -> 0
A16: Váll. Fejl. Közalapítvány | B16: 1500000 | C16: 1500000 | D16: =C16-B16 -> 0
A17: ÉNYKK (Balaton Volán jogutódja) | B17: 38656200 | C17: 38656200 | D17: =C17-B17 -> 0
A18: Városért Közalapítvány | B18: 1200000 | C18: 1200000 | D18: =C18-B18 -> 0
A19: Balatonfüred Város Közalapítvány Tempevölgy | B19: 2500000 | C19: 2500000 | D19: =C19-B19 -> 0
A20: Kovászna Testvérvárosi Egyesület | B20: 200000 | C20: 200000 | D20: =C20-B20 -> 0
A21: Opatija Testvérvárosi Egyesület | B21: 200000 | C21: 200000 | D21: =C21-B21 -> 0
A22: Kouvala Testvérvárosi Egyesület | B22: 200000 | C22: 200000 | D22: =C22-B22 -> 0
A23: Germering Testvérvárosi Egyesület | B23: 0 | C23: 0 | D23: =C23-B23 -> 0
A24: QUASIMODO Alapítvány | B24: 2000000 | C24: 2000000 | D24: =C24-B24 -> 0
A25: Fordítóház Alapítvány | B25: 2100000 | C25: 2100000 | D25: =C25-B25 -> 0
... A47: Probio Zrt. Virágos Füred | B47: 3452000 | C47: 3452000 | D47: =C47-B47 -> 0
A48: TÁMOGATÁSOK 2018. ÉV
A50: MEGNEVEZÉS | B50: 2018. évi eredeti ei. | C50: 2018. évi módosított ei. I. | D50: Eltérés
A51: Probio Zrt közszolgáltatási feladatok | B51: 170574000 | C51: 170574000 | D51: =C51-B51 -> 0
A52: Sportesemények támogatása: Magyar Vitorlás Szövetség Kékszalag Fesztivál | B52: 2000000 | C52: 2000000 | D52: =C52-B52 -> 0
A53: Sportesemények támogatása: Nemzetközi ultramaraton | B53: 0 | C53: 0 | D53: =C53-B53 -> 0
A54: Sportesemények támogatása: Úszó Világkupa | B54: 0 | C54: 0 | D54: =C54-B54 -> 0
A55: Balatonfüred Kulturális Nonprofit Kft. | B55: 167537000 | C55: 184537000 | D55: =C55-B55 -> 17000000
A56: Múzsák Egyesülete Sirály táncfesztivál | B56: 800000 | C56: 800000 | D56: =C56-B56 -> 0
A57: Múzsa Egyesület "Balatonfüred Kultúrájáért" kitüntetés | B57: 80000 | C57: 80000 | D57: =C57-B57 -> 0
A58: Balatonfüredi Néptánc Egyesület | B58: 1200000 | C58: 1200000 | D58: =C58-B58 -> 0
A59: Rákóczy Szövetség | B59: 200000 | C59: 200000 | D59: =C59-B59 -> 0
A60: MVM Sportegyesület Riói olimpia felkészülés | B60: 0 | C60: 0 | D60: =C60-B60 -> 0
A61: Füred Studió Kft. | B61: 34800000 | C61: 34800000 | D61: =C61-B61 -> 0
A62: Balatonfüredi Református Egyház (Református Iskola) | B62: 0 | C62: 0 | D62: =C62-B62 -> 0
... A75: Arácsi Református Egyházközség (óvoda) | B75: 7544662 | C75: 7544662 | D75: =C75-B75 -> 0
A76: Magyar Ökölvívó Szakszövetség Nemzetközi Ifjúsági Ökölvívó Balaton Bajnokság | C76: 1000000 | D76: =C76-B76 -> 1000000
A77: Maros Megye Cserkészeiért Egyesület (Petőfi szobor állítása) | B77: 100000 | C77: 100000 | D77: =C77-B77 -> 0
A78: Füred Dixiland Band támogatása | B78: 1000000 | C78: 1000000 | D78: =C78-B78 -> 0
A79: Cimbora Alapítvány az Egészséges és Kulturált Gyermekekért | B79: 2000000 | C79: 2000000 | D79: =C79-B79 -> 0
A80: Szent Benedek Gimnázium | B80: 0 | C80: 0 | D80: =C80-B80 -> 0
A81: Balaton Vívóklub | B81: 150000 | C81: 300000 | D81: =C81-B81 -> 150000
A82: Összesen: | B82: =B13+B5 -> 1171966248 | C82: =C13+C5 -> 1180762553 | D82: =C82-B82 -> 8796305

Sheet 6.sz.tábla 
A2: INTÉZMÉNYI FELÚJÍTÁSOK 2018. ÉV
A4: Intézmény / munkanemek | B4: 2018. évi eredeti ei. | C4: 2018. évi módosított ei. I. | D4: Eltérés
A5: 1. Kiserdei Óvoda Park u.
A6: Udvari betonfelület eltakarása (előző évi kötelezettségvállalás) | B6: 650001 | C6: 650001 | D6: =C6-B6 -> 0
A7: ÉK-i csoportszoba beázás javítása, tető javítása | B7: 500000 | C7: 500000 | D7: =C7-B7 -> 0
A8: Konyhában régi tűzhely eltávolítása, burkolás | B8: 400000 | C8: 400000 | D8: =C8-B8 -> 0
A9: Összesen: | B9: =SUM(B6:B8) -> 1550001 | C9: =SUM(C6:C8) -> 1550001 | D9: =SUM(D6:D8) -> 0
D10: =C10-B10 -> 0
A11: 2. Arácsi óvoda - Iskolalépcső u. | D11: =C11-B11 -> 0
A12: Posta épület helyének tereprendezése, öntözési lehetőséggel 2016. évről | D12: =C12-B12 -> 0
A13: Udvari fajátékok felújítása, festése 2016. évről | D13: =C13-B13 -> 0
A14: Összesen: | B14: =SUM(B12:B13) -> 0 | C14: =SUM(C12:C13) -> 0 | D14: =C14-B14 -> 0
D15: =C15-B15 -> 0
A16: 3. Hunyadi u. óvoda | D16: =C16-B16 -> 0
A17: NÉBIH által jelzett hiányosságok rendezése (előző évi kötelezettségvállalás) | B17: 999999 | C17: 999999 | D17: =C17-B17 -> 0
A18: Épület DNY-i sarok helyreállítása | B18: 600000 | C18: 1500000 | D18: =C18-B18 -> 900000
A19: Csúszda megerősítése, stabilizálása | B19: 100000 | C19: 100000 | D19: =C19-B19 -> 0
A20: Összesen: | B20: =SUM(B17:B19) -> 1699999 | C20: =SUM(C17:C19) -> 2599999 | D20: =SUM(D17:D19) -> 900000
D21: =C21-B21 -> 0
A22: 4. Tündérkert Óvoda | D22: =C22-B22 -> 0
A23: vizlágyító berendezés és vízszűrő beépítése (előző évi kötelezettségvállalás) | B23: 299999 | C23: 299999 | D23: =C23-B23 -> 0
A24: NÉBIH által jelzett hiányosságok rendezése (előző évi kötelezettségvállalás) | B24: 200000 | C24: 200000 | D24: =C24-B24 -> 0
A25: Villamos elosztó szekrény felújítása (előző évi kötelezettségvállalás) | B25: 2500005 | C25: 2500005 | D25: =C25-B25 -> 0
A26: Keverőszelepek cseréje (előző évi kötelezettségvállalás) | B26: 180000 | C26: 180000 | D26: =C26-B26 -> 0
A27: Hőközponti vez. beüzemelése | B27: 299526 | C27: 299526 | D27: =C27-B27 -> 0
A28: Világítótestek cseréje | B28: 2700000 | C28: 2600000 | D28: =C28-B28 -> -100000
A29: Folyosó PVC padló felújítása | B29: 3000000 | C29: 3000000 | D29: =C29-B29 -> 0
A30: Balesetveszélyes udvari játékok cseréje | B30: 1500000 | C30: 1500000 | D30: =C30-B30 -> 0
A31: Zsámoly (konyhai sütő) betáp kábel átépítése | B31: 200000 | C31: 200000 | D31: =C31-B31 -> 0
A32: Irodák PVC padló felújítása | B32: 900000 | C32: 900000 | D32: =C32-B32 -> 0
A33: Füvesítés három szakaszban | B33: 2500000 | C33: 2500000 | D33: =C33-B33 -> 0
A34: Solar rendszer beüzemelése | B34: 2500000 | C34: 2500000 | D34: =C34-B34 -> 0
A35: Összesen: | B35: =SUM(B23:B34) -> 16779530 | C35: =SUM(C23:C34) -> 16679530 | D35: =SUM(D23:D34) -> -100000
D36: =C36-B36 -> 0
A37: Intézmény / munkanemek | B37: 2018. évi eredeti ei. | C37: 2018. évi módosított ei. I. | D37: Eltérés
A38: 5. Városi Bölcsőde
A39: 2 db játszóeszköz szabvány szerinti esési felület kialakítása (előző évi kötelezettségvállalás) | B39: 2210001 | C39: 2210001 | D39: =C39-B39 -> 0
A40: Füvesítés három szakaszban | B40: 2500000 | C40: 2500000 | D40: =C40-B40 -> 0
A41: Összesen: | B41: =SUM(B39:B40) -> 4710001 | C41: =SUM(C39:C40) -> 4710001 | D41: =SUM(D39:D40) -> 0
A43: 6. Óvárosi Óvoda
A44: Bejárati ajtóportál felújítása (előző évi kötelezettségvállalás) | B44: 2500000 | C44: 2500000 | D44: =C44-B44 -> 0
A45: Kossuth utcai külső homlokzat javítás, falfestés | B45: 2000000 | C45: 2000000 | D45: =C45-B45 -> 0
A46: Kossuth utcai homlokzat eresz csatorna felújítása | B46: 4000000 | C46: 4000000 | D46: =C46-B46 -> 0
A47: Világítás felújítása | B47: 2500000 | C47: 2500000 | D47: =C47-B47 -> 0
A48: Összesen: | B48: =SUM(B44:B47) -> 11000000 | C48: =SUM(C44:C47) -> 11000000 | D48: =SUM(D44:D47) -> 0
A50: 7. Mogyoró u. Óvoda
A51: Arácsi Óvoda költözése miatti munkálatok ( 3 fázisú mosogató, gázboyler beüzemelése, duguláselhárítás) (előző évi kötelezettségvállalás) | B51: 599999 | C51: 599999 | D51: =C51-B51 -> 0
A52: világítás felújítása (előző évi kötelezettségvállalás) | B52: 1534000 | C52: 1534000 | D52: =C52-B52 -> 0
A53: földszinti konyha felújítása (előző évi kötelezettségvállalás) | B53: 618043 | C53: 618043 | D53: =C53-B53 -> 0
A54: Összesen: | B54: =SUM(B51:B53) -> 2752042 | C54: =SUM(C51:C53) -> 2752042 | D54: =SUM(D51:D53) -> 0
A56: 8. Eötvös Loránd Általános Iskola
A57: tornaterem festés (előző évi kötelezettségvállalás) | B57: 3199999 | C57: 3199999 | D57: =C57-B57 -> 0
A58: Összesen: | B58: =SUM(B57:B57) -> 3199999 | C58: =SUM(C57:C57) -> 3199999 | D58: =C58-B58 -> 0
A60: 9. Református Általános Iskola
A61: Összesen: | B61: 0 | C61: 0 | D61: 0
A63: 10. Radnóti Miklós Általános Iskola
A64: Összesen: | B64: 0 | C64: 0 | D64: 0
A66: 11. Fekete István Általános Iskola
A67: Összesen: | B67: 0 | C67: 0 | D67: 0
A68: 12. Ferencsik János Zeneiskola
A69: Összesen: | B69: 0 | C69: 0 | D69: 0
A71: 13. Szent Benedek Gimnázium
A72: üvegházak felújítása (előző évi kötelezettségvállalás) | B72: 1066381 | C72: 1066381 | D72: =C72-B72 -> 0
A73: Összesen | B73: =SUM(B72) -> 1066381 | C73: =SUM(C72) -> 1066381 | D73: =C73-B73 -> 0
A74: Intézmény / munkanemek | B74: 2018. évi eredeti ei. | C74: 2018. évi módosított ei. I. | D74: Eltérés
A76: 14. Lóczy Lajos Gimnázium
A77: Labdafogó háló felszerelése (előző évi kötelezettségvállalás) | B77: 1216000 | C77: 1216000 | D77: =C77-B77 -> 0
A78: Összesen | B78: =SUM(B77:B77) -> 1216000 | C78: =SUM(C77:C77) -> 1216000 | D78: =C78-B78 -> 0
A80: 15. Közösségi Ház
A81: Hőközpont kering. sziv. csere (előző évi kötelezettségvállalás) | B81: 226000 | C81: 226000 | D81: =C81-B81 -> 0
A82: Összesen: | B82: =SUM(B81) -> 226000 | C82: =SUM(C81) -> 226000 | D82: =C82-B82 -> 0
A84: 16. BSZAK
A85: Kert renedzés, felújítás | B85: 2000000 | C85: 2000000 | D85: =C85-B85 -> 0
A86: Összesen: | B86: =SUM(B85) -> 2000000 | C86: =SUM(C85) -> 2000000 | D86: =SUM(D85) -> 0
A88: 17. Szakorvosi Rendelőintézet
A89: Folyadékhűtő berendezés csere (előző évi kötelezettségvállalás) | B89: 1840230 | C89: 1840230 | D89: =C89-B89 -> 0
A90: Viharkár miatti homlokzat felújítás (előző évi kötelezettségvállalás) | B90: 3376346 | C90: 3376346 | D90: =C90-B90 -> 0
A91: Összesen: | B91: =SUM(B89:B90) -> 5216576 | C91: =SUM(C89:C90) -> 5216576 | D91: =C91-B91 -> 0
A93: 18. Lipták Gábor Városi Könyvtár
A94: Összesen:
A97: 22. Hivatali épület
A98: Viharkár miatti homlokzat felújítás (előző évi kötelezettségvállalás) | B98: 2339619 | C98: 2339619 | D98: =C98-B98 -> 0
A99: Velux roló csere, felújítása (előző évi kötelezettségvállalás) | B99: 200000 | C99: 200000 | D99: =C99-B99 -> 0
A100: Viharkár miatti homlokzat felújítás (K., ÉK. oldal) | C100: 2044484 | D100: =C100-B100 -> 2044484
A101: B épület iroda felújítás (padló, villany, klíma) | B101: 0 | C101: 1000000 | D101: =C101-B101 -> 1000000
A102: Összesen: | B102: =SUM(B98:B101) -> 2539619 | C102: =SUM(C98:C101) -> 5584103 | D102: =SUM(D98:D101) -> 3044484
A104: 23. Arácsi Népház
A105: Viharkár miatti homlokzat felújítás (előző évi kötelezettségvállalás) | B105: 910400 | C105: 910400 | D105: =C105-B105 -> 0
A106: villanyszerelési munkák (előző évi kötelezettségvállalás) | B106: 73355 | C106: 73355 | D106: =C106-B106 -> 0
A107: Összesen: | B107: =SUM(B105:B106) -> 983755 | C107: =SUM(C105:C106) -> 983755 | D107: =SUM(D105:D106) -> 0
A109: 24. Konferencia Központ
A110: Összesen:
A112: 25. Tartalék | B112: =31750000-F118 -> 3850000 | C112: 5516 | D112: =C112-B112 -> -3844484
A113: 26. Lakásfelújítás 2018 évi | B113: 9000000 | C113: 9000000 | D113: =C113-B113 -> 0
A114: 27.Egyéb épület: Astória homlokzat felújítás (előző évi kötelezettségvállalás) | B114: 5359527 | C114: 5359527 | D114: =C114-B114 -> 0 | F114: =B114+B113+B112+B110+B107+B102+B94+B91+B82+B78+B73+B69+B64+B61+B58+B54+B48+B41+B35+B20+B14+B9+B86 -> 73149430
A115: 28.Kossuth u. 24. tetőfelújítás | B115: 0 | D115: =C115-B115 -> 0
A116: Mindösszesen: | B116: =B113+B102+B94+B91+B86+B82+B78+B64+B61+B58+B54+B48+B41+B35+B20+B14+B9+B69+B112+B110+B107+B67+B114+B73+B115 -> 73149430 | C116: =C113+C102+C94+C91+C86+C82+C78+C64+C61+C58+C54+C48+C41+C35+C20+C14+C9+C69+C112+C110+C107+C67+C114+C73 -> 73149430 | D116: =C116-B116 -> 0
A117: Kötelezettségek | B117: =B114+B106+B105+B99+B98+B90+B89+B81+B77+B72+B57+B53+B52+B51+B44+B39+B26+B25+B24+B23+B17+B6+B27 -> 32399430 | C117: =C114+C106+C105+C99+C98+C90+C89+C81+C77+C72+C57+C53+C52+C51+C44+C39+C26+C25+C24+C23+C17+C6+C27 -> 32399430 | D117: =D114+D106+D105+D99+D98+D90+D89+D81+D77+D72+D57+D53+D52+D51+D44+D39+D26+D25+D24+D23+D17+D6+D27 -> 0
A118: 2018. évi ei. | B118: =B112+B85+B47+B46+B45+B40+B34+B33+B32+B31+B30+B29+B28+B19+B18+B8+B7 -> 31750000 | C118: =C112+C85+C47+C46+C45+C40+C34+C33+C32+C31+C30+C29+C28+C19+C18+C8+C7+C101+C100 -> 31750000 | D118: =D112+D85+D47+D46+D45+D40+D34+D33+D32+D31+D30+D29+D28+D19+D18+D8+D7+D101+D100 -> 0 | F118: =B85+B47+B46+B45+B40+B34+B33+B32+B31+B30+B29+B28+B19+B18+B8+B7 -> 27900000
A119: lakásfelújítás | B119: 9000000 | C119: 9000000 | D119: =C119-B119 -> 0
...

Sheet 7. sz. tábla 1
A1: FELHALMOZÁSI KIADÁSOK 2018. ÉV
A3: Megnevezés | B3: 2018. évi eredeti ei. | C3: 2018. évi módosított ei. I. | D3: Eltérés
A4: I. Kötelezettséggel terhelt fejlesztések
A5: Savanyúvizes kutak védterület kijelőlése (340/2007 sz. hat.) hidrogeológiai geodéziai anyag készítése | B5: 635000 | C5: 635000 | D5: =C5-B5 -> 0
A6: Tervek, megvalósítási tanulmányok, pályázatok | B6: 2921000 | C6: 2921000 | D6: =C6-B6 -> 0
A7: Útépítések 2016. évi I. ütem | B7: 27392622 | C7: 27392622 | D7: =C7-B7 -> 0
A8: Zsinagóga építés | B8: 7020182 | C8: 7020182 | D8: =C8-B8 -> 0
A9: Horváth Mihály u. közmű kiváltás | B9: 3193289 | C9: 3193289 | D9: =C9-B9 -> 0
A10: 072 hrsz-ú ingatlan megvásárlása 2016. évi ütem | B10: 45111110 | C10: 45111110 | D10: =C10-B10 -> 0
A11: Morvai J. u. ivóvíz házlózat tervezése | B11: 349250 | C11: 349250 | D11: =C11-B11 -> 0
A12: 5477. hrsz-ú ingatlan vásárlás 306/2015. (XII.17.) | B12: 4465584 | C12: 4465584 | D12: =C12-B12 -> 0
A13: 139 hrsz-ú ingatlan (szálloda) megvásárlása 210/2015. (VIII.26.) | B13: 49000000 | C13: 49000000 | D13: =C13-B13 -> 0
A14: Vizes VB parkolófejlesztés Zákonyi mélygarázs | B14: 1492248 | C14: 1492248 | D14: =C14-B14 -> 0
A15: KÖFOP-1.2.1. ASP központhoz való csatlakozás | B15: 2160000 | C15: 2160000 | D15: =C15-B15 -> 0
A16: TOP-1.2.1.-15 Széchenyi strand fejlesztése | B16: 203384150 | C16: 203384150 | D16: =C16-B16 -> 0
... A42: játszóterek felújítása, bővítése 2017. | B42: 764300 | C42: 764300 | D42: =C42-B42 -> 0
A43: I. összesen: | B43: =SUM(B5:B42) -> 1333670252 | C43: =SUM(C5:C42) -> 1350315655 | D43: =C43-B43 -> 16645403
A44: Megnevezés | B44: 2018. évi eredeti ei. | C44: 2018. évi módosított ei. I. | D44: Eltérés
A45: II. Javasolt fejlesztések
A46: Beruházás előkészítő kiadások | B46: 10000000 | C46: 11809821 | D46: =C46-B46 -> 1809821
A47: Útépítések 2018. év | B47: 140000000 | C47: 191368650 | D47: =C47-B47 -> 51368650
A48: közvilágítás bővítés | B48: 20000000 | C48: 20000000 | D48: =C48-B48 -> 0
A49: Szent Benedek iskola alatti útrendezés ,murvás út kialakítása, kerítés bontás , temető északi kerítés rendbetétel | B49: 5000000 | C49: 5000000 | D49: =C49-B49 -> 0
A50: Tervezési feladatok: - útépítési tervek készítése(Déry T.utca, Balaton utca , Mészöly G.utca,Illyés Gy. Utca - légvezeték hálózatok kiváltásának tervezése I. ütem (Öreghegyi út, Völgy utca alsó szakasza , Régi temető utca, Déry T. utca) - környezetrendezési terv készítése Aranyhíd sétány - gyepmesteri telep áthelyezésének tervezése ( Aszófői úti iparterületen) | B50: 30000000 | C50: 30000000 | D50: =C50-B50 -> 0
A51: Papsoka felhagyott temetők felújítása II. ütem | B51: 30894000 | C51: 30894000 | D51: =C51-B51 -> 0
A52: Papsoka környezetrendezés III. ütem | B52: 15000000 | C52: 15000000 | D52: =C52-B52 -> 0
A53: Aszófői útnál belterületbe vont ingatlanok közművesítése | B53: 40000000 | C53: 40000000 | D53: =C53-B53 -> 0
A54: Játszótéri eszközök pótlása, korszerűsítése, bővítése | B54: 14000000 | C54: 14000000 | D54: =C54-B54 -> 0
A55: Hulladékgyűjtők, kutyapiszok gyűjtők cseréje, szóróanyagtároló beszerzése | B55: 4000000 | C55: 4000000 | D55: =C55-B55 -> 0
A56: Információs táblák | B56: 5000000 | C56: 5000000 | D56: =C56-B56 -> 0
A57: Autóbusz várók | B57: 6000000 | C57: 6000000 | D57: =C57-B57 -> 0
... A72: EFOP-1.5.2-16-2017-00016 Humán közszolgáltatások fejlesztése az Észak-Balatoni térségben | B72: 10036000 | C72: 10036000 | D72: =C72-B72 -> 0
A73: TOP-3.2.2-15-VE1-2016-00002 Biomassza alapú ORC erőmű Balatonfüred | B73: 456308500 | C73: 456308500 | D73: =C73-B73 -> 0 | F73: =B72+B73+B75+B76+B77+B78+B18+B17+B16+B15 -> 3222364511
A74: Megnevezés | B74: 2018. évi eredeti ei. | C74: 2018. évi módosított ei. I. | D74: Eltérés
A75: EFOP-4.1.8-16-2017-00140 A könyvtárral a tudásért - megújult épületben, korszerű technikával Balatonfüreden | B75: 14474878 | C75: 14474878 | D75: =C75-B75 -> 0
A76: TOP-2.1.3-16-VE1-2017-00008 Balatonfüred csapadékcsatorna hálózatának fejlesztése | B76: 62865000 | C76: 62865000 | D76: =C76-B76 -> 0
A77: GINOP-7.1.9-17-2017-0001 Gyógyhelyfejlesztés Balatonfüred Városában | B77: 994139838 | C77: 1469477315 | D77: =C77-B77 -> 475337477 | E77: =B72+B73+B75+B76+B77-132770435-137448017+B78 -> 2039011909
A78: GINOP-7.1.6.16-2017-00004 Balaton-felvidéki Kultúrtáj Világörökség várományos helyszín turisztikai célú fejlesztése | B78: =730033678+41372467 -> 771406145 | C78: =730033678+41372467 -> 771406145 | D78: =C78-B78 -> 0
A79: Könyvtár bővítés | B79: 40000000 | C79: 40000000 | D79: =C79-B79 -> 0 | E79: =B79+B80+B46+B83-142240000+B85+B86+B87+B88+B89+B101+B140+B146+B151+B155+B156+B157+B158+137448017 -> 359568017
A80: Horgász Klubház | B80: 30000000 | C80: 30000000 | D80: =C80-B80 -> 0
A81: Ingatlanok vásárlása közpark részére (071/76,069/27-069/30,071/68,071/70,071/101,071/102 | B81: 32000000 | C81: 32000000 | D81: =C81-B81 -> 0
A82: 2627/2 és 2625/4 hrsz-ú ingatlanokból terület vásárlás (P.Horváth Á. u.) | B82: 230000 | C82: 230000 | D82: =C82-B82 -> 0
A83: 116/1 hrsz-ú ingatlanon épülő mélygarázsban 56 db parkoló megvásárlása 2018. évi | B83: 38100000 | C83: 38100000 | D83: =C83-B83 -> 0
A84: településrendezési eszközök | B84: 3048000 | C84: 3048000 | D84: =C84-B84 -> 0
A85: területszerzés, kisajátítás (városrehab, stb…) | B85: 150000000 | C85: 142761000 | D85: =C85-B85 -> -7239000
A86: Bejárható Magyarország kikötő fejlesztés | B86: 40000000 | C86: 0 | D86: =C86-B86 -> -40000000
A87: Elkerülő út II. ütem (Lapostelki u. épületbontás) | B87: 4000000 | C87: 4000000 | D87: =C87-B87 -> 0
A88: BSZAK gépkocsi beszerzés | B88: 5000000 | C88: 5000000 | D88: =C88-B88 -> 0
A89: Arácsi tájház tervezés (Lóczy Lajos u. 101.) | B89: 655000 | C89: 655000 | D89: =C89-B89 -> 0
A90: Bfüred Kemping Vizisí pálya 1/3 rész | C90: 13970000 | D90: =C90-B90 -> 13970000
A91: Balatonfüredi Református Iskola energiahatékonysági felújítás kiegészítő műszaki tartalom kivitelezése | C91: 6604000 | D91: =C91-B91 -> 6604000
A92: TOP-2.1.2-16-VE1-2017-00009 azonosítószámú, Balatonfüred Ófalu fejlesztése | C92: 277525000 | D92: =C92-B92 -> 277525000
A93: Kisfaludy üzletház előtti közterület reklámfelirat terv | C93: 340000 | D93: =C93-B93 -> 340000
A94: Kisértékű eszköz beszerzés (városüzemeltetés) | C94: 74990 | D94: =C94-B94 -> 74990
A95: Vitorlás téri szökőkút világítás | C95: 277120 | D95: =C95-B95 -> 277120
A96: Öreghegyi u. érintő útbővítés kisajátítás | C96: 7239000 | D96: =C96-B96 -> 7239000
D97: =C97-B97 -> 0
A98: Meglévő részesedések növeléséhez kapcsolódó kiadások: törzstőke emelés | B98: =SUM(B99:B102) -> 20000000 | C98: =SUM(C99:C102) -> 26000000 | D98: =C98-B98 -> 6000000
A99: Konferencia Központ | C99: 6000000 | D99: =C99-B99 -> 6000000
A100: Füredkult Kft. | D100: =C100-B100 -> 0
A101: Gótika Kft. | B101: 20000000 | C101: 20000000 | D101: =C101-B101 -> 0
A102: BVSZK Balatonfüredi Vizisport és Szabadidő Központ Nonprofit Kft. | D102: =C102-B102 -> 0
A103: BAHART tőkejuttatás | D103: =C103-B103 -> 0
A104: Részesedések beszerzése: | B104: =SUM(B105:B106) -> 16000000 | C104: =SUM(C105:C106) -> 16000000 | D104: =C104-B104 -> 0
A105: Aranyhíd Patika Bt. Részesedés | D105: =C105-B105 -> 0
A106: Üzletrész vásárlás részletek | B106: 16000000 | C106: 16000000 | D106: =C106-B106 -> 0
A107: II. összesen: | B107: =SUM(B46:B98,B104) -> 3062810227 | C107: =SUM(C46:C98,C104) -> 3856118649 | D107: =C107-B107 -> 793308422
A108: I+II. összesen: | B108: =B107+B43 -> 4396480479 | C108: =C107+C43 -> 5206434304 | D108: =C108-B108 -> 809953825
A109: Megnevezés | B109: 2018. évi eredeti ei. | C109: 2018. évi módosított ei. I. | D109: Eltérés
A110: III. Egyéb felhalmozási kiadások
A111: Felhalmozási célú visszatérítendő támogatások, kölcsönök nyújtása áh-n kívülre | B111: =SUM(B112:B118) -> 305599200 | C111: =SUM(C112:C118) -> 305599200 | D111: =C111-B111 -> 0
A112: - tagi hitel Probio Zrt. | B112: 17685000 | C112: 17685000 | D112: =C112-B112 -> 0
A113: - tagi hitel Gótika Kft. | B113: 250000000 | C113: 250000000 | D113: =C113-B113 -> 0
A114: - Lakásépítés, -vásárlás kölcsön (dolgozói + lakáshoz jutás tám.) | B114: 10401829 | C114: 10401829 | D114: =C114-B114 -> 0
A115: - Balatonfüred, Csárda u. 11. Társasház (330/2017.(X.26.) | B115: 10000000 | C115: 10000000 | D115: =C115-B115 -> 0
A116: -Balatonfüred Hárs köz 1. (331/2017.(X.26.) | B116: 15000000 | C116: 15000000 | D116: =C116-B116 -> 0
A117: -Balatonfüred Móra F. u. 5. (332/2017.(X.26.) | B117: 1860000 | C117: 1860000 | D117: =C117-B117 -> 0
A118: Füred Stúdió Kft. Fejlesztési célú visszatérítendő támogatás (357/2017.(X.26.) | B118: 652371 | C118: 652371 | D118: =C118-B118 -> 0
A119: Felhalmozási célú visszatérítendő támogatások, kölcsönök nyújtása áh-n belülre | D119: =C119-B119 -> 0
A120: Egyéb felhalmozási célú támogatások áh-n belülre | B120: =SUM(B121:B124) -> 3235539 | C120: =SUM(C121:C124) -> 27035539 | D120: =C120-B120 -> 23800000
A121: - Rendelőintézet műszerbeszerzés támogatása (orvos pályázati alap) | B121: 435539 | C121: 435539 | D121: =C121-B121 -> 0
A122: -Többcélú Társulás (BSZAK fejlesztési tám.) | B122: 800000 | C122: 800000 | D122: =C122-B122 -> 0
A123: - Közoktatási Társulás (óvodák fejlesztési tám.) | B123: 2000000 | C123: 1800000 | D123: =C123-B123 -> -200000
A124: -Állami Szívkórház | C124: 24000000 | D124: =C124-B124 -> 24000000
A125: Egyéb felhalmozási célú támogatások áh-n kívülre | B125: =SUM(B126:B166) -> 210155425 | C125: =SUM(C126:C166) -> 226155425 | D125: =C125-B125 -> 16000000
A126: - Veszprém Kereszténységért Közhasznú Alapítvány Horváth Balázs broznz dombormű | B126: 100000 | C126: 100000 | D126: =C126-B126 -> 0
A127: - Kurutz Károly helyi védettség alatt álló épület felújítása (300/2010.és 39/2013.(II.07.)) | B127: 1500000 | C127: 1500000 | D127: =C127-B127 -> 0
A128: -Andrew John Prest Koloska u. 8. helyi védettség alatt álló épület felújítása 311/2015.(XII.17.) | B128: 500000 | C128: 500000 | D128: =C128-B128 -> 0
A129: -Hegyi Rita Dózsa György u. 1/a helyi védettség alatt álló épület felújítása 312/2015.(XII.17.) | B129: 340000 | C129: 340000 | D129: =C129-B129 -> 0
A130: -Pósvári Gábor Arácsi út 94. helyi védett épület felújítása tám. 314/2015. (XII.17.) | B130: 900000 | C130: 900000 | D130: =C130-B130 -> 0
A131: -Elmar Karl Schmitz Bajcsy-Zs. U. 7. helyi védett épüle felújítása tám. 359/2017.(X.26.) | B131: 337000 | C131: 337000 | D131: =C131-B131 -> 0
A132: -Fülöpné Kántás Tímea Major u. 1. helyi védett épüle felújítása tám. 360/2017.(X.26.) | B132: 201000 | C132: 201000 | D132: =C132-B132 -> 0
A133: -Gács Béla Bfüred Kossuth u. 2/A. helyi védett épüle felújítása tám. 361/2017.(X.26.) | B133: 1000000 | C133: 1000000 | D133: =C133-B133 -> 0
A134: -Kripta Csaba Bfüred Itató köz 5. helyi védett épüle felújítása tám. 411/2017.(XII.14.) | B134: 1000000 | C134: 1000000 | D134: =C134-B134 -> 0
A135: - Infrastruktúrális fejlesztések | D135: =C135-B135 -> 0
A136: - BYC infrastruktúrális fejlesztések | B136: 1200000 | C136: 1200000 | D136: =C136-B136 -> 0
A137: - Balatonfüredi Futball Club infrastruktúrális fejlesztések | B137: 3800000 | C137: 3800000 | D137: =C137-B137 -> 0
A138: -Balatonfüredi Utánpótlás Sport Club infrastruktúrális fejlesztések | B138: 3200000 | C138: 3200000 | D138: =C138-B138 -> 0
A139: - Orvosok pályázati alap (műszer beszerzés) | B139: 2564461 | C139: 2564461 | D139: =C139-B139 -> 0
A140: -Balatonfüred-Dörgicse Evangélikus Egyházközség fejlesztési támogatás | B140: 1000000 | C140: 1000000 | D140: =C140-B140 -> 0
...

Sheet 8. sz. tábla  (3)
A4: Az Önkormányzat működési bevételei és kiadásai 2018. év
A6: 1. Működési bevételek | B6: 2018. évi eredeti ei. | C6: 2018. évi módosított ei. I. | D6: Eltérés | E6: 2. Működési kiadások | F6: 2018. évi eredeti ei. | G6: 2018. évi módosított ei. I. | H6: Eltérés
A7: 1. Működési célú támogatások államháztartáson belülről | B7: ='2.sz.tábla (2)'!K7 -> 1311563771 | C7: ='2.sz.tábla (2)'!L7 -> 1334532099 | D7: =C7-B7 -> 22968328 | E7: 1. Személyi juttatások | F7: ='4.sz.tábla '!B13 -> 605682643 | G7: ='4.sz.tábla '!C13 -> 630111359 | H7: =G7-F7 -> 24428716
A8: 2. Közhatalmi bevételek | B8: ='2.sz.tábla (2)'!K30 -> 1755525000 | C8: ='2.sz.tábla (2)'!L30 -> 1755525000 | D8: =C8-B8 -> 0 | E8: 2. Munkaadót terhelő járulékok és szoc.hj. Adó | F8: ='4.sz.tábla '!E13 -> 124115303 | G8: ='4.sz.tábla '!F13 -> 131563198 | H8: =G8-F8 -> 7447895
A9: 3. Működési bevételek | B9: ='2.sz.tábla (2)'!K43-B33 -> 755253068 | C9: ='2.sz.tábla (2)'!L43-C33 -> 759583595 | D9: =C9-B9 -> 4330527 | E9: 3. Dologi kiadások | F9: ='4.sz.tábla '!H13 -> 1002553380 | G9: ='4.sz.tábla '!I13 -> 1069409866 | H9: =G9-F9 -> 66856486
A10: 4. Működési célú átvett pénzeszközök államháztartáson kivülről | B10: ='2.sz.tábla (2)'!K66 -> 0 | C10: ='2.sz.tábla (2)'!L66 -> 16578317 | D10: =C10-B10 -> 16578317 | E10: 4. Ellátottak pénzbeli juttatásai | F10: ='4.sz.tábla '!K13 -> 29774000 | G10: ='4.sz.tábla '!L13 -> 29774000 | H10: =G10-F10 -> 0
E11: 5. Egyéb működési célú kiadások | F11: =SUM(F12:F15) -> 1171966248 | G11: =SUM(G12:G15) -> 1183961970 | H11: =G11-F11 -> 11995722
E12: 5.1. Elvonások, befizetések | F12: ='5.tábla (2)'!B111 -> 0 | G12: ='5.tábla (2)'!C111 -> 2877449 | H12: =G12-F12 -> 2877449
E13: 5.2. Egyéb működési célú támogatások áh-n belülre | F13: ='5.tábla (2)'!B115+'5.tábla (2)'!B19 -> 492708414 | G13: ='5.tábla (2)'!C115+'5.tábla (2)'!C19 -> 486113353 | H13: =G13-F13 -> -6595061
E14: 5.4. Egyéb működési célú támogatások áh-n kívülre | F14: ='5.tábla (2)'!B119 -> 679257834 | G14: ='5.tábla (2)'!C119 -> 694971168 | H14: =G14-F14 -> 15713334
E15: 5.5. Működési célú visszatérítendő támogatások, kölcsönök nyújtása áh-n kívülre | F15: ='5.tábla (2)'!B117 -> 0 | G15: ='5.tábla (2)'!C117 -> 0 | H15: =G15-F15 -> 0
E16: 6. Pénzforgalom nélküli kiadások (tartalék) | F16: ='1.sz.tábla (2)'!B30-'8. sz. tábla (3)'!F38 -> 407759876 | G16: ='1.sz.tábla (2)'!C30-'8. sz. tábla (3)'!G38 -> 172072054 | H16: =G16-F16 -> -235687822
A17: Összes költségvetési működési bevétel: | B17: =SUM(B7:B16) -> 3822341839 | C17: =SUM(C7:C16) -> 3866219011 | D17: =C17-B17 -> 43877172 | E17: Összes költségvetési működési kiadás: | F17: =F7+F8+F9+F10+F11+F16 -> 3341851450 | G17: =G7+G8+G9+G10+G11+G16 -> 3216892447 | H17: =G17-F17 -> -124959003
A18: Működési többlet: | B18: =B17-F17 -> 480490389 | C18: =C17-G17 -> 649326564 | D18: =C18-B18 -> 168836175 | E18: Működési hiány: | H18: =G18-F18 -> 0
A19: Költségvetési hiány belső finanszírozása működési célú | B19: =SUM(B20) -> 177134064 | C19: =SUM(C20) -> 503018113 | D19: =C19-B19 -> 325884049 | E19: Finanszírozási célú műveletek kiadásai működési célú | F19: =SUM(F20:F23) -> 45851776 | G19: =SUM(G20:G23) -> 1505851776 | H19: =G19-F19 -> 1460000000
A20: 5. Költségvetési Maradvány | B20: ='2.sz.tábla (2)'!K77 -> 177134064 | C20: ='2.sz.tábla (2)'!L77 -> 503018113 | D20: =C20-B20 -> 325884049 | E20: 7. Államháztartáson belüli megelőlegezés visszafizetése | F20: ='7. sz. tábla 1'!B186 -> 45851776 | G20: ='7. sz. tábla 1'!C186 -> 45851776 | H20: =G20-F20 -> 0
A21: Költségvetési hiány külső finanszírozása működési célú | B21: =SUM(B22:B24) -> 12800000 | C21: =SUM(C22:C24) -> 1472800000 | D21: =C21-B21 -> 1460000000 | E21: 8. Hitelek törlesztése | H21: =G21-F21 -> 0
A22: 6. Értékpapír kibocsátás, értékesítés | C22: ='2.sz.tábla (2)'!C85-'8. sz. tábla (3)'!C44 -> 1460000000 | D22: =C22-B22 -> 1460000000 | E22: 9. Betét vásárlás | H22: =G22-F22 -> 0
A23: 7. Hitelfelvétel | D23: =C23-B23 -> 0 | E23: 10. Forgatási célú értékpapír vásárlás | G23: ='7. sz. tábla 1'!C185-G42 -> 1460000000 | H23: =G23-F23 -> 1460000000
A24: 8. Állami támogatás megelőlegezés visszafizetése | B24: ='2.sz.tábla (2)'!K90 -> 12800000 | C24: ='2.sz.tábla (2)'!L90 -> 12800000 | D24: =C24-B24 -> 0 | H24: =G24-F24 -> 0
A25: Összes működési bevétel: | B25: =B17+B19+B21 -> 4012275903 | C25: =C17+C19+C21 -> 5842037124 | D25: =C25-B25 -> 1829761221 | E25: Összes működési kiadás | F25: =F19+F17 -> 3387703226 | G25: =G19+G17 -> 4722744223 | H25: =G25-F25 -> 1335040997
A27: Az Önkormányzat felhalmozási bevételei és kiadásai 2018. év
A29: 1. Felhalmozási bevételek | B29: 2018. évi eredeti ei. | C29: 2018. évi módosított ei. I. | D29: Eltérés | E29: 2. Felhalmozási kiadások | F29: 2018. évi eredeti ei. | G29: 2018. évi módosított ei. I. | H29: Eltérés
A30: 1. Felhalmozási célú támogatások államháztartáson belülről | B30: ='2.sz.tábla (2)'!K22 -> 1808340761 | C30: ='2.sz.tábla (2)'!L22 -> 2042262550 | D30: =C30-B30 -> 233921789 | E30: 1.1. Beruházások | F30: ='7. sz. tábla 1'!B108 -> 4396480479 | G30: ='7. sz. tábla 1'!C108 -> 5206434304 | H30: =G30-F30 -> 809953825
A31: 2. Felhalmozási bev. | B31: ='2.sz.tábla (2)'!K58 -> 509250000 | C31: ='2.sz.tábla (2)'!L58 -> 509461023 | D31: =C31-B31 -> 211023 | E31: 1.2. Int.saját hatáskörű fejlesztések | F31: ='4.sz.tábla '!V11 -> 23431060 | G31: ='4.sz.tábla '!W11 -> 30746475 | H31: =G31-F31 -> 7315415
A32: 3. Felhalmozási célú átvett pénzeszközök | B32: ='2.sz.tábla (2)'!K70 -> 625906935 | C32: ='2.sz.tábla (2)'!L70 -> 625906935 | D32: =C32-B32 -> 0 | E32: 2. Felújítások | F32: ='7. sz. tábla 1'!B192 -> 73149430 | G32: ='7. sz. tábla 1'!C192 -> 73149430 | H32: =G32-F32 -> 0
A33: 4. Működési bevételek áfa visszatérülés (felhalm.) | B33: 375309895 | C33: =375309896-5514594 -> 369795302 | D33: =C33-B33 -> -5514593 | E33: 3. Egyéb felhalmozási kiadások | F33: =SUM(F34:F37) -> 518990164 | G33: =SUM(G34:G37) -> 558790164 | H33: =G33-F33 -> 39800000
E34: 3.1. Egyéb felhalmozási célú támogatások áh-n kívülre | F34: ='7. sz. tábla 1'!B125 -> 210155425 | G34: ='7. sz. tábla 1'!C125 -> 226155425 | H34: =G34-F34 -> 16000000
E35: 3.2. Egyéb felhalmozási célú támogatások áh-n belülre | F35: ='7. sz. tábla 1'!B120 -> 3235539 | G35: ='7. sz. tábla 1'!C120 -> 27035539 | H35: =G35-F35 -> 23800000
E36: 3.3. Felhalmozási célú visszatérítendő támogatások, kölcsönök nyújtása áh-n belülre | F36: ='7. sz. tábla 1'!B119 -> 0 | G36: ='7. sz. tábla 1'!C119 -> 0 | H36: =G36-F36 -> 0
E37: 3.3. Felhalmozási célú visszatérítendő támogatások, kölcsönök nyújtása áh-n kívülre | F37: ='7. sz. tábla 1'!B111 -> 305599200 | G37: ='7. sz. tábla 1'!C111 -> 305599200 | H37: =G37-F37 -> 0
E38: 4. Pénzforgalom nélküli kiadások (tartalék) | F38: ='1.sz.tábla (2)'!B41+'1.sz.tábla (2)'!B43+'1.sz.tábla (2)'!B44+'1.sz.tábla (2)'!B46 -> 34504226 | G38: ='1.sz.tábla (2)'!C41+'1.sz.tábla (2)'!C43+'1.sz.tábla (2)'!C44+'1.sz.tábla (2)'!C46+'1.sz.tábla (2)'!C47+'1.sz.tábla (2)'!C48 -> 108416237 | H38: =G38-F38 -> 73912011
A39: Összes költségvetési felhalmozási bevétel: | B39: =SUM(B30:B36) -> 3318807591 | C39: =SUM(C30:C36) -> 3547425810 | D39: =C39-B39 -> 228618219 | E39: Összes költségvetési felhalmozási kiadás: | F39: =F30+F31+F32+F33+F38 -> 5046555359 | G39: =G30+G31+G32+G33+G38 -> 5977536610 | H39: =G39-F39 -> 930981251
A40: Felhalmozási többlet: | E40: Felhalmozási hiány: | F40: =B39-F39 -> -1727747768 | G40: =C39-G39 -> -2430110800 | H40: =G40-F40 -> -702363032
A41: Költségvetési hiány belső finanszírozása felhalmozási célú | B41: =SUM(B42) -> 1177417515 | C41: =SUM(C42) -> 1188360600 | D41: =C41-B41 -> 10943085 | E41: Finanszírozási célú műveletek kiadásai felhalmozási célú | F41: =SUM(F42:F43) -> 1074242424 | G41: =SUM(G42:G43) -> 74242424 | H41: =G41-F41 -> -1000000000
A42: 4.Költségvetési maradvány | B42: ='2.sz.tábla (2)'!K78 -> 1177417515 | C42: ='2.sz.tábla (2)'!L78 -> 1188360600 | D42: =C42-B42 -> 10943085 | E42: 4. Értékpapírok vásárlása | F42: ='7. sz. tábla 1'!B185 -> 1000000000 | G42: 0 | H42: =G42-F42 -> -1000000000
A43: Költségvetési hiány külső finanszírozása felhalmozási célú | B43: =SUM(B44:B45) -> 1000000000 | C43: =SUM(C44:C45) -> 196699723 | D43: =C43-B43 -> -803300277 | E43: 5. Hitelek törlesztése | F43: ='7. sz. tábla 1'!B184 -> 74242424 | G43: ='7. sz. tábla 1'!C184 -> 74242424 | H43: =G43-F43 -> 0
A44: 5. Értékpapír kibocsátás, értékesítés | B44: ='2.sz.tábla (2)'!K85 -> 1000000000 | C44: 196699723 | D44: =C44-B44 -> -803300277 | E44: 6. Államháztartáson belüli megelőlegezés visszafizetése | H44: =G44-F44 -> 0
A45: 6. Hitelfelvétel | H45: =G45-F45 -> 0
A46: Összes felhalmozási bevétel: | B46: =B39+B41+B43 -> 5496225106 | C46: =C39+C41+C43 -> 4932486133 | D46: =C46-B46 -> -563738973 | E46: Összes felhalmozási kiadás | F46: =F39+F41 -> 6120797783 | G46: =G39+G41 -> 6051779034 | H46: =G46-F46 -> -69018749
A48: Bevétele és kiadások mérlege 2018. év
A50: BEVÉTELEK | B50: 2018. évi eredeti ei. | C50: 2018. évi módosított ei. I. | D50: Eltérés | E50: KIADÁSOK | F50: 2018. évi eredeti ei. | G50: 2018. évi módosított ei. I. | H50: Eltérés
A51: Költségvetési működési bevételek | B51: =B17 -> 3822341839 | C51: =C17 -> 3866219011 | D51: =C51-B51 -> 43877172 | E51: Költségvetési működési kiadások | F51: =F17 -> 3341851450 | G51: =G17 -> 3216892447 | H51: =G51-F51 -> -124959003
A52: Költségvetési felhalmozási bevételek | B52: =B39 -> 3318807591 | C52: =C39 -> 3547425810 | D52: =C52-B52 -> 228618219 | E52: Költségvetési felhalmozási kiadások | F52: =F39 -> 5046555359 | G52: =G39 -> 5977536610 | H52: =G52-F52 -> 930981251
A53: Költségvetési bevételek összesen: | B53: =SUM(B51:B52) -> 7141149430 | C53: =SUM(C51:C52) -> 7413644821 | D53: =C53-B53 -> 272495391 | E53: Költségvetési kiadások összesen: | F53: =SUM(F51:F52) -> 8388406809 | G53: =SUM(G51:G52) -> 9194429057 | H53: =G53-F53 -> 806022248
A54: Költségvetési többlet: | D54: =C54-B54 -> 0 | E54: Költségvetési hiány / többlet: | F54: =B53-F53 -> -1247257379 | G54: =C53-G53 -> -1780784236 | H54: =G54-F54 -> -533526857
A55: Költségvetési hiány belső finanszírozása: | B55: =SUM(B56:B57) -> 1354551579 | C55: =SUM(C56:C57) -> 1691378713 | D55: =C55-B55 -> 336827134 | E55: Finanszírozási célú műveletek kiadásai összesen: | F55: =SUM(F56:F57) -> 1120094200 | G55: =SUM(G56:G57) -> 1580094200 | H55: =G55-F55 -> 460000000
A56: Költségvetési hiány belső finanszírozása működési célú | B56: =B19 -> 177134064 | C56: =C19 -> 503018113 | D56: =C56-B56 -> 325884049 | E56: Finanszírozási célú műveletek működési kiadásai | F56: =F19 -> 45851776 | G56: =G19 -> 1505851776 | H56: =G56-F56 -> 1460000000
A57: Költségvetési hiány belső finanszírozása felhalmozási célú | B57: =B41 -> 1177417515 | C57: =C41 -> 1188360600 | D57: =C57-B57 -> 10943085 | E57: Finanszírozási célú műveletek felhalmozási kiadásai | F57: =F41 -> 1074242424 | G57: =G41 -> 74242424 | H57: =G57-F57 -> -1000000000
A58: Költségvetési hiány külső finanszírozása: | B58: =SUM(B59:B60) -> 1012800000 | C58: =SUM(C59:C60) -> 1669499723 | D58: =C58-B58 -> 656699723 | H58: =G58-F58 -> 0
A59: Költségvetési hiány külső finanszírozása működési célú | B59: =B21 -> 12800000 | C59: =C21 -> 1472800000 | D59: =C59-B59 -> 1460000000 | H59: =G59-F59 -> 0
A60: Költségvetési hiány külső finanszírozása felhalmozási célú | B60: =B43 -> 1000000000 | C60: =C43 -> 196699723 | D60: =C60-B60 -> -803300277 | H60: =G60-F60 -> 0
A61: Összes bevétel: | B61: =B53+B55+B58 -> 9508501009 | C61: =C53+C55+C58 -> 10774523257 | D61: =C61-B61 -> 1266022248 | E61: Összes kiadás: | F61: =F53+F55 -> 9508501009 | G61: =G53+G55 -> 10774523257 | H61: =G61-F61 -> 1266022248
A62: TÖBBLET | F62: =B61-F61 -> 0 | G62: =C61-G61 -> 0

Sheet 8a. sz. tábla  (4)
A3: AZ ÖNKORMÁNYZAT MŰKÖDÉSI ÉS FELHALMOZÁSI MÉRLEGE KÖLTSÉGVETÉSI SZERVEK ÉS ÖNKORMÁNYZAT BONTÁSBAN 2018. ÉV
A5: Az Önkormányzat működési bevételei és kiadásai 2018. év
A7: 1. Működési bevételek | B7: Költségve-tési szervek | C7: Önkormányzat | D7: Önkormányzat összesen | E7: 2. Működési kiadások | F7: Költségve-tési szervek | G7: Önkormányzat | H7: Önkormányzat összesen
A8: 1. Működési célú támogatások államháztartáson belülről | B8: ='2.sz.tábla (2)'!F7+'2.sz.tábla (2)'!I7+'3.sz. tábla (2)'!C14 -> 386362559 | C8: ='2.sz.tábla (2)'!C7-'3.sz. tábla (2)'!C14 -> 948169540 | D8: =SUM(B8:C8) -> 1334532099 | E8: 1. Személyi juttatások | F8: ='4.sz.tábla '!C11 -> 492092945 | G8: ='4.sz.tábla '!C12 -> 138018414 | H8: =SUM(F8:G8) -> 630111359
A9: 2. Közhatalmi bevételek | B9: ='2.sz.tábla (2)'!F30+'2.sz.tábla (2)'!I30 -> 1000000 | C9: ='2.sz.tábla (2)'!C30 -> 1754525000 | D9: =SUM(B9:C9) -> 1755525000 | E9: 2. Munkaadót terhelő járulékok és szoc.hj. Adó | F9: ='4.sz.tábla '!F11 -> 104231356 | G9: ='4.sz.tábla '!F12 -> 27331842 | H9: =SUM(F9:G9) -> 131563198
A10: 3. Működési bevételek | B10: ='2.sz.tábla (2)'!F43+'2.sz.tábla (2)'!I43 -> 76934058 | C10: ='2.sz.tábla (2)'!C43-C34 -> 682649537 | D10: =SUM(B10:C10) -> 759583595 | E10: 3. Dologi kiadások | F10: ='4.sz.tábla '!I11 -> 209653186 | G10: ='4.sz.tábla '!I12 -> 859756680 | H10: =SUM(F10:G10) -> 1069409866
A11: 4. Működési célú átvett pénzeszközök államháztartáson kivülről | B11: ='2.sz.tábla (2)'!E66+'2.sz.tábla (2)'!H66 -> 0 | C11: ='2.sz.tábla (2)'!C66 -> 16578317 | D11: =SUM(B11:C11) -> 16578317 | E11: 4. Ellátottak pénzbeli juttatásai | F11: ='4.sz.tábla '!L11 -> 1674000 | G11: ='4.sz.tábla '!L12 -> 28100000 | H11: =SUM(F11:G11) -> 29774000
D12: =SUM(B12:C12) -> 0 | E12: 5. Egyéb működési célú kiadások
D13: =SUM(B13:C13) -> 0 | E13: 5.1. Elvonások, befizetések | G13: ='5.tábla (2)'!C111 -> 2877449 | H13: =SUM(F13:G13) -> 2877449
D14: =SUM(B14:C14) -> 0 | E14: 5.2. Egyéb működési célú támogatások áh-n belülre | F14: ='4.sz.tábla '!T10 -> 321968 | G14: ='5.tábla (2)'!C115 -> 485791385 | H14: =SUM(F14:G14) -> 486113353
E15: 5.4. Egyéb működési célú támogatások áh-n kívülre | G15: ='5.tábla (2)'!C119 -> 694971168 | H15: =SUM(F15:G15) -> 694971168
E16: 5.5. Működési célú visszatérítendő támogatások, kölcsönök nyújtása áh-n kívülre | G16: ='5.tábla (2)'!C117 -> 0 | H16: =SUM(F16:G16) -> 0
E17: 6. Pénzforgalom nélküli kiadások (tartalék) | G17: ='8. sz. tábla (3)'!G16 -> 172072054 | H17: =SUM(F17:G17) -> 172072054
A18: Összes költségvetési működési bevétel: | B18: =SUM(B8:B17) -> 464296617 | C18: =SUM(C8:C17) -> 3401922394 | D18: =SUM(D8:D17) -> 3866219011 | E18: Összes költségvetési működési kiadás: | F18: =F8+F9+F10+F11+F12+F17+F14 -> 807973455 | G18: =SUM(G8:G17) -> 2408918992 | H18: =H8+H9+H10+H11+H14+H15+H16+H17+H13 -> 3216892447 | I18: =F18+G18 -> 3216892447
A19: Működési többlet/ hiány: | B19: =B18-F18 -> -343676838 | C19: =C18-G18 -> 993003402 | D19: =D18-H18 -> 649326564 | E19: Működési hiány:
A20: Költségvetési hiány belső finanszírozása működési célú | B20: =SUM(B21) -> 48287993 | C20: =SUM(C21) -> 454730120 | D20: =SUM(B20:C20) -> 503018113 | E20: Finanszírozási célú műveletek kiadásai működési célú | F20: =SUM(F21:F21) -> 0 | G20: =SUM(G21:G25) -> 1505851776 | H20: =G20-F20 -> 1505851776
A21: 5. Költségvetési Maradvány | B21: ='2.sz.tábla (2)'!F77+'2.sz.tábla (2)'!I77 -> 48287993 | C21: ='2.sz.tábla (2)'!C77 -> 454730120 | D21: =SUM(B21:C21) -> 503018113 | E21: 7. Államháztartáson belüli megelőlegezés visszafizetése | G21: ='7. sz. tábla 1'!C186 -> 45851776 | H21: =SUM(F21:G21) -> 45851776
A22: Költségvetési hiány külső finanszírozása működési célú | C22: =SUM(C23:C25) -> 1472800000 | D22: =SUM(B22:C22) -> 1472800000 | E22: 8. Hitelek törlesztése | H22: =SUM(F22:G22) -> 0
A23: 6. Értékpapír kibocsátás, értékesítés | C23: ='2.sz.tábla (2)'!C85-C45 -> 1460000000 | D23: =SUM(B23:C23) -> 1460000000 | E23: 9. Betét vásárlás | H23: =SUM(F23:G23) -> 0
A24: 7. Hitelfelvétel | E24: 10. Forgatási célú értékpapír vásárlás | G24: ='7. sz. tábla 1'!C185 -> 1460000000 | H24: =SUM(F24:G24) -> 1460000000
A25: 8. Állami támogatás megelőlegezés visszafizetése | C25: ='2.sz.tábla (2)'!C90 -> 12800000 | D25: =SUM(B25:C25) -> 12800000
A26: Összes működési bevétel: | B26: =B18+B20+B22 -> 512584610 | C26: =C18+C20+C22 -> 5329452514 | D26: =D18+D20+D22 -> 5842037124 | E26: Összes működési kiadás | F26: =F18+F20 -> 807973455 | G26: =G18+G20 -> 3914770768 | H26: =H18+H20 -> 4722744223
A28: Az Önkormányzat felhalmozási bevételei és kiadásai 2018. év
A30: 1. Felhalmozási bevételek | B30: Költségve-tési szervek | C30: Önkormányzat | D30: Önkormányzat összesen | E30: 2. Felhalmozási kiadások | F30: Költségve-tési szervek | G30: Önkormányzat | H30: Önkormányzat összesen
A31: 1. Felhalmozási célú támogatások államháztartáson belülről | B31: ='2.sz.tábla (2)'!I22+'2.sz.tábla (2)'!F22 -> 435539 | C31: ='2.sz.tábla (2)'!C22 -> 2041827011 | D31: =SUM(B31:C31) -> 2042262550 | E31: 1.1. Beruházások | G31: ='7. sz. tábla 1'!C108 -> 5206434304 | H31: =SUM(F31:G31) -> 5206434304
A32: 2. Felhalmozási bev. | B32: ='2.sz.tábla (2)'!F58+'2.sz.tábla (2)'!I58 -> 211023 | C32: ='2.sz.tábla (2)'!C58 -> 509250000 | D32: =SUM(B32:C32) -> 509461023 | E32: 1.2. Int.saját hatáskörű fejlesztések | F32: ='4a. sz. tábla (3)'!D43 -> 30746475 | H32: =SUM(F32:G32) -> 30746475
A33: 3. Felhalmozási célú átvett pénzeszközök | B33: ='2.sz.tábla (2)'!F70+'2.sz.tábla (2)'!I70 -> 0 | C33: ='2.sz.tábla (2)'!C70 -> 625906935 | D33: =SUM(B33:C33) -> 625906935 | E33: 2. Felújítások | G33: ='6.sz.tábla '!C116 -> 73149430 | H33: =SUM(F33:G33) -> 73149430
A34: 4. Működési bevételek áfa visszatérülés (felhalm.) | C34: =375309895-5514593 -> 369795302 | D34: =SUM(B34:C34) -> 369795302 | E34: 3. Egyéb felhalmozási kiadások
E35: 3.1. Egyéb felhalmozási célú támogatások áh-n kívülre | G35: ='7. sz. tábla 1'!C125 -> 226155425 | H35: =SUM(F35:G35) -> 226155425
E36: 3.2. Egyéb felhalmozási célú támogatások áh-n belülre | G36: ='7. sz. tábla 1'!C120 -> 27035539 | H36: =SUM(F36:G36) -> 27035539
E37: 3.3. Felhalmozási célú visszatérítendő támogatások, kölcsönök nyújtása áh-n belülre | G37: ='7. sz. tábla 1'!C119 -> 0 | H37: =SUM(F37:G37) -> 0
E38: 3.4. Felhalmozási célú visszatérítendő támogatások, kölcsönök nyújtása áh-n kívülre | G38: ='7. sz. tábla 1'!C111 -> 305599200 | H38: =SUM(F38:G38) -> 305599200
E39: 4. Pénzforgalom nélküli kiadások (tartalék) | G39: ='8. sz. tábla (3)'!G38 -> 108416237 | H39: =SUM(F39:G39) -> 108416237
A40: Összes költségvetési felhalmozási bevétel: | B40: =SUM(B31:B37) -> 646562 | C40: =SUM(C31:C37) -> 3546779248 | D40: =SUM(D31:D37) -> 3547425810 | E40: Összes költségvetési felhalmozási kiadás: | F40: =SUM(F31:F34) -> 30746475 | G40: =SUM(G31:G39) -> 5946790135 | H40: =H31+H32+H33+H35+H36+H37+H38+H39 -> 5977536610
A41: Felhalmozási többlet: | E41: Felhalmozási hiány: | F41: =B40-F40 -> -30099913 | G41: =C40-G40 -> -2400010887 | H41: =D40-H40 -> -2430110800
A42: Költségvetési hiány belső finanszírozása felhalmozási célú | B42: =SUM(B43) -> 5266947 | C42: =SUM(C43) -> 1183093653 | D42: =SUM(D43) -> 1188360600 | E42: Finanszírozási célú műveletek kiadásai felhalmozási célú | F42: =SUM(F43:F44) -> 0 | G42: =SUM(G43:G44) -> 74242424 | H42: =SUM(H43:H45) -> 74242424
A43: 4.Költségvetési maradvány | B43: ='2.sz.tábla (2)'!F78+'2.sz.tábla (2)'!I78 -> 5266947 | C43: ='2.sz.tábla (2)'!C78 -> 1183093653 | D43: =SUM(B43:C43) -> 1188360600 | E43: 4. Értékpapírok visszavásárlása | G43: 0 | H43: =SUM(F43:G43) -> 0
A44: Költségvetési hiány külső finanszírozása felhalmozási célú | B44: =SUM(B45:B46) -> 0 | C44: =SUM(C45:C46) -> 196699723 | D44: =SUM(D45:D46) -> 196699723 | E44: 5. Hitelek törlesztése | G44: ='7. sz. tábla 1'!C184 -> 74242424 | H44: =SUM(F44:G44) -> 74242424
A45: 5. Értékpapír kibocsátás, értékesítés | C45: 196699723 | D45: =SUM(B45:C45) -> 196699723 | E45: 6. Államháztartáson belüli megelőlegezés visszafizetése
A46: 6. Hitelfelvétel
A47: Összes felhalmozási bevétel: | B47: =B40+B42+B44 -> 5913509 | C47: =C40+C42+C44 -> 4926572624 | D47: =D40+D42+D44 -> 4932486133 | E47: Összes felhalmozási kiadás | F47: =F40+F42 -> 30746475 | G47: =G40+G42 -> 6021032559 | H47: =H40+H42 -> 6051779034
A49: Bevétele és kiadások mérlege 2018. év
A51: BEVÉTELEK | B51: Költségve-tési szervek | C51: Önkormányzat | D51: Önkormányzat összesen | E51: KIADÁSOK | F51: Költségve-tési szervek | G51: Önkormányzat | H51: Önkormányzat összesen
A52: Költségvetési működési bevételek | B52: =B18 -> 464296617 | C52: =C18 -> 3401922394 | D52: =D18 -> 3866219011 | E52: Költségvetési működési kiadások | F52: =F18 -> 807973455 | G52: =G18 -> 2408918992 | H52: =H18 -> 3216892447
A53: Költségvetési felhalmozási bevételek | B53: =B40 -> 646562 | C53: =C40 -> 3546779248 | D53: =D40 -> 3547425810 | E53: Költségvetési felhalmozási kiadások | F53: =F40 -> 30746475 | G53: =G40 -> 5946790135 | H53: =H40 -> 5977536610
A54: Költségvetési bevételek összesen: | B54: =SUM(B52:B53) -> 464943179 | C54: =SUM(C52:C53) -> 6948701642 | D54: =SUM(D52:D53) -> 7413644821 | E54: Költségvetési kiadások összesen: | F54: =SUM(F52:F53) -> 838719930 | G54: =SUM(G52:G53) -> 8355709127 | H54: =SUM(H52:H53) -> 9194429057
A55: Költségvetési többlet: | E55: Költségvetési hiány: | F55: =B54-F54 -> -373776751 | G55: =C54-G54 -> -1407007485 | H55: =D54-H54 -> -1780784236
A56: Költségvetési hiány belső finanszírozása: | B56: =SUM(B57:B58) -> 53554940 | C56: =SUM(C57:C58) -> 1637823773 | D56: =SUM(D57:D58) -> 1691378713 | E56: Finanszírozási célú műveletek kiadásai összesen: | F56: =SUM(F57:F58) -> 0 | G56: =SUM(G57:G58) -> 1580094200 | H56: =SUM(H57:H58) -> 1580094200
A57: Költségvetési hiány belső finanszírozása működési célú | B57: =B20 -> 48287993 | C57: =C20 -> 454730120 | D57: =D20 -> 503018113 | E57: Finanszírozási célú műveletek működési kiadásai | F57: =F20 -> 0 | G57: =G20 -> 1505851776 | H57: =H20 -> 1505851776
A58: Költségvetési hiány belső finanszírozása felhalmozási célú | B58: =B42 -> 5266947 | C58: =C42 -> 1183093653 | D58: =D42 -> 1188360600 | E58: Finanszírozási célú műveletek felhalmozási kiadásai | F58: =F42 -> 0 | G58: =G42 -> 74242424 | H58: =H42 -> 74242424
A59: Költségvetési hiány külső finanszírozása: | B59: =SUM(B60:B61) -> 0 | C59: =SUM(C60:C61) -> 1669499723 | D59: =SUM(D60:D61) -> 1669499723
A60: Költségvetési hiány külső finanszírozása működési célú | B60: =B22 -> 0 | C60: =C22 -> 1472800000 | D60: =D22 -> 1472800000
A61: Költségvetési hiány külső finanszírozása felhalmozási célú | B61: =B44 -> 0 | C61: =C44 -> 196699723 | D61: =D44 -> 196699723
A62: Összes bevétel: | B62: =B54+B56+B59 -> 518498119 | C62: =C54+C56+C59 -> 10256025138 | D62: =D54+D56+D59 -> 10774523257 | E62: Összes kiadás: | F62: =F54+F56 -> 838719930 | G62: =G54+G56 -> 9935803327 | H62: =H54+H56 -> 10774523257 | I62: =SUM(F62:G62) -> 10774523257
A63: Intézményfinanszírozás | B63: =B62-F62 -> -320221811 | C63: =C62-G62 -> 320221811 | D63: =D62-H62 -> 0
D64: =SUM(B62:C62) -> 10774523257

Sheet 9. sz. tábla (2)
A1: Az önkormányzat működési bevételei és kiadásai, a felhalmozási bevételei és kiadásai kiemelt előirányzatok, és kötelező feladatok, önként vállalt feladatok és államigazgatási feladatok bontásban 2018. év
A5: Az Önkormányzat kötelező feladatok bevételei és kiadásai 2018. év
A7: 1. Működési bevételek | B7: Intézmények | C7: Önkormányzati Hivatal | D7: Önkormányzat | E7: Önkormányzat összesen | F7: 2. Működési kiadások | G7: Intézmények | H7: Önkormányzati Hivatal | I7: Önkormányzat | J7: Önkormányzat összesen
A8: Működési bevételek | F8: Működési kiadások
A9: 1. Működési támogatások államháztartáson belülről | B9: ='3.sz. tábla (2)'!C12+'2.sz.tábla (2)'!I7-'9. sz. tábla (2)'!B39 -> 121513079 | C9: ='3.sz. tábla (2)'!C13+'2.sz.tábla (2)'!F7-'9. sz. tábla (2)'!C72 -> 1.5663088e+08 | D9: ='3.sz. tábla (2)'!C15+'2.sz.tábla (2)'!C20-'9. sz. tábla (2)'!D39 -> 912155940 | E9: =SUM(B9:D9) -> 1.1902999e+09 | F9: 1. Személyi juttatások | G9: ='4.sz.tábla '!C9-'9. sz. tábla (2)'!G39 -> 138903179 | H9: ='5.tábla (2)'!C7-'9. sz. tábla (2)'!H72 -> 225110169 | I9: ='5.tábla (2)'!C30-'9. sz. tábla (2)'!I39 -> 112848614 | J9: =SUM(G9:I9) -> 476861962 | K9: =I9+I39 -> 138018414
A10: 2. Közhatalmi bevételek | D10: ='2.sz.tábla (2)'!C30 -> 1754525000 | E10: =SUM(B10:D10) -> 1754525000 | F10: 2. Munkaadót terhelő járulékok | G10: ='4.sz.tábla '!F9-'9. sz. tábla (2)'!G40 -> 27779883 | H10: ='5.tábla (2)'!C8-'9. sz. tábla (2)'!H73 -> 49335809 | I10: ='5.tábla (2)'!C45-'9. sz. tábla (2)'!I40 -> 20792285 | J10: =SUM(G10:I10) -> 97907977 | K10: =I10+I40 -> 27331842
A11: 3. Működési bevételek | B11: ='2.sz.tábla (2)'!I43-'9. sz. tábla (2)'!B41 -> 15344531 | C11: ='2.sz.tábla (2)'!F43-'9. sz. tábla (2)'!C74 -> 24383080 | D11: ='2.sz.tábla (2)'!C43-'9. sz. tábla (2)'!D41-D26-D56 -> 322578194 | E11: =SUM(B11:D11) -> 3.6230581e+08 | F11: 3. Dologi kiadások | G11: ='4.sz.tábla '!I9-'9. sz. tábla (2)'!G41 -> 59198501 | H11: ='5.tábla (2)'!C9-'9. sz. tábla (2)'!H74 -> 67188547 | I11: ='5.tábla (2)'!C60-'9. sz. tábla (2)'!I41 -> 775031736 | J11: =SUM(G11:I11) -> 901418784 | K11: =I11+I41 -> 859756680
A12: 4. Működési célú átvett pénzeszközök államháztartáson kivülről | D12: ='2.sz.tábla (2)'!C66-'9. sz. tábla (2)'!D42 -> 15984312 | E12: =SUM(B12:D12) -> 15984312 | F12: 4. Ellátottak pénzbeli juttatásai | H12: ='5.tábla (2)'!C15+'5.tábla (2)'!B17 -> 1674000 | I12: ='5.tábla (2)'!C101-'9. sz. tábla (2)'!I42 -> 28100000 | J12: =SUM(G12:I12) -> 29774000 | K12: =I12+I42 -> 28100000
F13: 5. Egyéb működési célú kiadások | J13: =SUM(G13:I13) -> 0 | K13: =I13+I43 -> 0
F14: 5.1. Elvonások, befizetések | I14: ='5.tábla (2)'!C111 -> 2877449 | J14: =SUM(G14:I14) -> 2877449 | K14: =I14+I44 -> 2877449
F15: 5.2. Egyéb működési célú támogatások áh-n belülre | H15: ='5.tábla (2)'!C19-H76 -> 221578 | I15: ='5.tábla (2)'!C115-'9. sz. tábla (2)'!I45 -> 465789340 | J15: =SUM(G15:I15) -> 466010918 | K15: =I15+I45 -> 485791385
F16: 5.4. Egyéb működési célú támogatások áh-n kívülre | I16: ='5.tábla (2)'!C119-'9. sz. tábla (2)'!I46 -> 345659787 | J16: =SUM(G16:I16) -> 345659787 | K16: =I16+I46 -> 694971168
F17: 5.5. Működési célú visszatérítendő támogatások, kölcsönök nyújtása áh-n kívülre | I17: ='5.tábla (2)'!C117-'9. sz. tábla (2)'!I47 -> 0 | J17: =SUM(G17:I17) -> 0 | K17: =I17+I47 -> 0
F18: 6. Pénzforgalom nélküli kiadások (tartalék) | I18: ='1.sz.tábla (2)'!C30-'9. sz. tábla (2)'!I30 -> 172072054 | J18: =SUM(G18:I18) -> 172072054 | K18: =I18+I48 -> 172072054
A19: Költségvetési működési bevételek kötelező feladatok szerinti bontásban | B19: =SUM(B9:B18) -> 136857610 | C19: =SUM(C9:C18) -> 1.8101396e+08 | D19: =SUM(D9:D18) -> 3005243446 | E19: =SUM(E9:E18) -> 3.323115e+09 | F19: Költségvetési működési kiadások kötelező feladatok szerinti bontásban | G19: =SUM(G9:G18) -> 225881563 | H19: =SUM(H9:H18) -> 343530103 | I19: =SUM(I9:I18) -> 1923171265 | J19: =SUM(J9:J18) -> 2492582931 | K19: =I19+I49 -> 2408918992
A20: Finanszírozási bevételek | B20: ='2.sz.tábla (2)'!I76-B50 -> 17263952 | C20: ='2.sz.tábla (2)'!F77-'9. sz. tábla (2)'!C83 -> 24039284 | D20: ='8a. sz. tábla (4)'!C20+'8a. sz. tábla (4)'!C22-'9. sz. tábla (2)'!D50 -> 1811861173 | E20: =SUM(B20:D20) -> 1.8531644e+09 | F20: Finanszírozási kiadások | I20: ='8. sz. tábla (3)'!G19 -> 1505851776 | J20: =SUM(G20:I20) -> 1505851776 | K20: =I20+I50+I32 -> 1505851776
A21: Működési bevételek kiemelt előirányzatonként kötelező feladatok szerinti bontásban | B21: =B19+B20 -> 154121562 | C21: =C19+C20 -> 2.0505324e+08 | D21: =D19+D20 -> 4817104619 | E21: =E19+E20 -> 5.1762794e+09 | F21: Működési kiadások kiemelt előirányzatonként kötelező feladatok szerinti bontásban | G21: =G19+G20 -> 225881563 | H21: =H19+H20 -> 343530103 | I21: =I19+I20 -> 3429023041 | J21: =J19+J20 -> 3998434707
A22: Felhalmozási bevételek | F22: Felhalmozási kiadások
A23: 1. Felhalmozási célú támogatások államháztartáson belülről | B23: ='2.sz.tábla (2)'!I22-'9. sz. tábla (2)'!B53 -> 435539 | C23: ='2.sz.tábla (2)'!F22 -> 0 | D23: ='2.sz.tábla (2)'!C22-'9. sz. tábla (2)'!D53 -> 1080891806 | E23: =SUM(B23:D23) -> 1081327345 | F23: 1.1. Beruházások | I23: ='7. sz. tábla 1'!C108-'9. sz. tábla (2)'!I53 -> 2142197224 | J23: =SUM(G23:I23) -> 2142197224 | K23: =I23+I53 -> 5206434304
A24: 2. Felhalmozási bevételek | C24: ='2.sz.tábla (2)'!F58-C87 -> 161221.57 | D24: ='2.sz.tábla (2)'!B58-'9. sz. tábla (2)'!D54 -> 0 | E24: =SUM(B24:D24) -> 161221.57 | F24: 1.2. Int.saját hatáskörű fejlesztések | G24: ='4.sz.tábla '!W9-G54 -> 5191557 | H24: ='5.tábla (2)'!C21-'9. sz. tábla (2)'!H87 -> 15002653 | J24: =SUM(G24:I24) -> 20194210 | K24: =I24+I54 -> 0
A25: 3. Felhalmozási célú átvett pénzeszközök áh-n kívülről | D25: ='2.sz.tábla (2)'!C70-'9. sz. tábla (2)'!D55 -> 17000000 | E25: =SUM(B25:D25) -> 17000000 | F25: 2. Felújítások | I25: ='6.sz.tábla '!C116-'9. sz. tábla (2)'!I55 -> 67789903 | J25: =SUM(G25:I25) -> 67789903 | K25: =I25+I55 -> 73149430
A26: 4. Működési bevételek áfa visszatérülés (felhalm.) | F26: 3. Egyéb felhalmozási célú kiadások | J26: =SUM(G26:I26) -> 0 | K26: =I26+I56 -> 0
F27: 3.1. Egyéb felhalmozási célú pénzeszköz átadás áh-n kívülre | I27: ='7. sz. tábla 1'!C125-'9. sz. tábla (2)'!I57 -> 60635000 | J27: =SUM(G27:I27) -> 60635000 | K27: =I27+I57 -> 226155425
F28: 3.2. Egyéb felhalmozási célú pénzeszköz átadás áh-n belülre | I28: ='7. sz. tábla 1'!C120-'9. sz. tábla (2)'!I58 -> 2532500 | J28: =SUM(G28:I28) -> 2532500 | K28: =I28+I58 -> 27035539
F29: 3.4. Felhalmozási célú visszatérítendő támogatások, kölcsönök nyújtása áh-n kívülre | I29: ='7. sz. tábla 1'!C111-'9. sz. tábla (2)'!I60 -> 0 | J29: =SUM(G29:I29) -> 0 | K29: =I29+I60 -> 305599200
F30: 4. Pénzforgalom nélküli kiadások (tartalék) | I30: ='8. sz. tábla (3)'!G38 -> 108416237 | J30: =SUM(G30:I30) -> 108416237 | K30: =I30 -> 108416237
A31: Költségvetési felhalmozási bevételek kötelező feladatok szerinti bontásban | B31: =SUM(B23:B29) -> 435539 | C31: =SUM(C23:C29) -> 161221.57 | D31: =SUM(D23:D29) -> 1097891806 | E31: =SUM(E23:E29) -> 1.0984886e+09 | F31: Költségvetési felhalmozási kiadások kötelező feladatok szerinti bontásban | G31: =SUM(G23:G29) -> 5191557 | H31: =SUM(H23:H29) -> 15002653 | I31: =SUM(I23:I30) -> 2381570864 | J31: =SUM(J23:J30) -> 2401765074 | K31: =SUM(K23:K30) -> 5946790135
A32: Finanszírozási bevételek | B32: ='2.sz.tábla (2)'!H78-'9. sz. tábla (2)'!B62 -> 0 | C32: ='2.sz.tábla (2)'!F78-'9. sz. tábla (2)'!C91 -> 3687031.1 | D32: ='8a. sz. tábla (4)'!C42+'8a. sz. tábla (4)'!C44-'9. sz. tábla (2)'!D62 -> 329177709 | E32: =SUM(B32:D32) -> 3.3286474e+08 | F32: Finanszírozási kiadások | I32: ='7. sz. tábla 1'!C184-I62 -> 0 | J32: =SUM(G32:I32) -> 0
A33: Felhalmozási bevételek kiemelt előirányzatonként kötelező feladatok szerinti bontásban | B33: =B31+B32 -> 435539 | C33: =C31+C32 -> 3848252.7 | D33: =D31+D32 -> 1427069515 | E33: =E31+E32 -> 1.4313533e+09 | F33: Felhalmozási kiadások kiemelt előirányzatonként kötelező feladatok szerinti bontásban | G33: =G31+G32 -> 5191557 | H33: =H31+H32 -> 15002653 | I33: =I31+I32 -> 2381570864 | J33: =J31+J32 -> 2401765074
B34: =B33+B21 -> 154557101 | C34: =C33+C21 -> 2.089015e+08 | D34: =D33+D21 -> 6244174134 | E34: =E33+E21 -> 6.6076327e+09 | G34: =G33+G21 -> 231073120 | H34: =H33+H21 -> 358532756 | I34: =I33+I21 -> 5810593905 | J34: =J33+J21 -> 6400199781
A35: Az Önkormányzat önként vállalt feladatok bevételei és kiadásai 2018. év
A37: 1. Működési bevételek | B37: Intézmények | C37: Önkormányzati Hivatal | D37: Önkormányzat | E37: Önkormányzat összesen | F37: 2. Működési kiadások | G37: Intézmények | H37: Önkormányzati Hivatal | I37: Önkormányzat | J37: Önkormányzat összesen
A38: Működési bevételek | F38: Működési kiadások
A39: 1. Működési támogatások államháztartáson belülről | B39: =53893000+705300+176762+157878+700000 -> 55632940 | D39: 36013600 | E39: =SUM(B39:D39) -> 91646540 | F39: 1. Személyi juttatások | G39: =8851908+3327015+39931665+600000+1422500 -> 54133088 | I39: 25169800 | J39: =SUM(G39:I39) -> 79302888
A40: 2. Közhatalmi bevételek | E40: =SUM(B40:D40) -> 0 | F40: 2. Munkaadót terhelő járulékok | G40: =1837734+668663+8020132+105300+277500 -> 10909329 | I40: 6539557 | J40: =SUM(G40:I40) -> 17448886
A41: 3. Működési bevételek | B41: =9344000+22769000 -> 32113000 | D41: 729866645 | E41: =SUM(B41:D41) -> 761979645 | F41: 3. Dologi kiadások | G41: =12500000+49544109+610507+700000 -> 63354616 | I41: 84724944 | J41: =SUM(G41:I41) -> 148079560
A42: 4. Működési célú átvett pénzeszközök államháztartáson kivülről | D42: 594005 | E42: =SUM(B42:D42) -> 594005 | F42: 4. Ellátottak pénzbeli juttatásai | J42: =SUM(G42:I42) -> 0
E43: =SUM(B43:D43) -> 0 | F43: 5. Egyéb működési célú kiadások | J43: =SUM(G43:I43) -> 0
F44: 5.1. Elvonások, befizetések | J44: =SUM(G44:I44) -> 0
F45: 5.2. Egyéb működési célú támogatások áh-n belülre | I45: 20002045 | J45: =SUM(G45:I45) -> 20002045
F46: 5.4. Egyéb működési célú támogatások áh-n kívülre | I46: 349311381 | J46: =SUM(G46:I46) -> 349311381
F47: 5.5. Működési célú visszatérítendő támogatások, kölcsönök nyújtása áh-n kívülre | I47: 0 | J47: =SUM(G47:I47) -> 0
F48: 6. Pénzforgalom nélküli kiadások (tartalék)
A49: Költségvetési működési bevételek önként vállalt feladatok szerinti bontásban | B49: =SUM(B39:B48) -> 87745940 | C49: =SUM(C39:C48) -> 0 | D49: =SUM(D39:D48) -> 766474250 | E49: =SUM(E39:E48) -> 854220190 | F49: Költségvetési működési kiadások önként vállalt feladatok szerinti bontásban | G49: =SUM(G39:G48) -> 128397033 | H49: =SUM(H39:H48) -> 0 | I49: =SUM(I39:I48) -> 485747727 | J49: =SUM(J39:J48) -> 614144760
A50: Finanszírozási bevételek | D50: =115668947 -> 115668947 | E50: =SUM(B50:D50) -> 115668947 | F50: Finanszírozási kiadások | I50: ='8a. sz. tábla (4)'!G43 -> 0 | J50: =SUM(G50:I50) -> 0
A51: Működési bevételek kiemelt előirányzatonként önként vállalt feladatok szerinti bontásban | B51: =B49+B50 -> 87745940 | C51: =C49+C50 -> 0 | D51: =D49+D50 -> 882143197 | E51: =E49+E50 -> 969889137 | F51: Működési kiadások kiemelt előirányzatonként önként vállalt feladatok szerinti bontásban | G51: =G49+G50 -> 128397033 | H51: =H49+H50 -> 0 | I51: =I49+I50 -> 485747727 | J51: =J49+J50 -> 614144760
A52: Felhalmozási bevételek | F52: Felhalmozási kiadások
A53: 1. Felhalmozási célú támogatások államháztartáson belülről | D53: 960935205 | E53: =SUM(B53:D53) -> 960935205 | F53: 1.1. Beruházások | I53: 3064237080 | J53: =SUM(G53:I53) -> 3064237080
A54: 2. Felhalmozási bevételek | D54: 509250000 | E54: =SUM(B54:D54) -> 509250000 | F54: 1.2. Int.saját hatáskörű fejlesztések | G54: =5560060+200000+157878 -> 5917938 | J54: =SUM(G54:I54) -> 5917938
A55: 3. Felhalmozási célú átvett pénzeszközök áh-n kívülről | D55: 608906935 | E55: =SUM(B55:D55) -> 608906935 | F55: 2. Felújítások | I55: 5359527 | J55: =SUM(G55:I55) -> 5359527
A56: 4. Működési bevételek áfa visszatérülés (felhalm.) | F56: 3. Egyéb felhalmozási célú kiadások | J56: =SUM(G56:I56) -> 0
F57: 3.1. Egyéb felhalmozási célú pénzeszköz átadás áh-n kívülre | I57: 165520425 | J57: =SUM(G57:I57) -> 165520425
F58: 3.2. Egyéb felhalmozási célú pénzeszköz átadás áh-n belülre | I58: 24503039 | J58: =SUM(G58:I58) -> 24503039
F59: 3.3. Felhalmozási célú visszatérítendő támogatások, kölcsönök nyújtása áh-n belülre | I59: 0 | J59: =SUM(G59:I59) -> 0
F60: 3.4. Felhalmozási célú visszatérítendő támogatások, kölcsönök nyújtása áh-n kívülre | I60: 305599200 | J60: =SUM(G60:I60) -> 305599200
A61: Költségvetési felhalmozási bevételek önként vállalt feladatok szerinti bontásban | B61: =SUM(B53:B59) -> 0 | C61: =SUM(C53:C59) -> 0 | D61: =SUM(D53:D59) -> 2079092140 | E61: =SUM(E53:E59) -> 2079092140 | F61: Költségvetési felhalmozási kiadások önként vállalt feladatok szerinti bontásban | G61: =SUM(G53:G59) -> 5917938 | H61: =SUM(H53:H59) -> 0 | I61: =SUM(I53:I60) -> 3565219271 | J61: =SUM(J53:J60) -> 3571137209
A62: Finanszírozási bevételek | D62: =853915944+196699723 -> 1050615667 | E62: =SUM(B62:D62) -> 1050615667 | F62: Finanszírozási kiadások | I62: 74242424 | J62: =SUM(G62:I62) -> 74242424
A64: Felhalmozási bevételek kiemelt előirányzatonként önként vállalt feladatok szerinti bontásban | B64: =B61+B62 -> 0 | C64: =C61+C62 -> 0 | D64: =D61+D62 -> 3129707807 | E64: =E61+E62 -> 3129707807 | F64: Felhalmozási kiadások kiemelt előirányzatonként önként vállalt feladatok szerinti bontásban | G64: =G61+G62 -> 5917938 | H64: =H61+H62 -> 0 | I64: =I61+I62 -> 3639461695 | J64: =J61+J62 -> 3645379633
B65: =B64+B51 -> 87745940 | C65: =C64+C51 -> 0 | D65: =D64+D51 -> 4011851004 | E65: =E64+E51 -> 4099596944 | G65: =G64+G51 -> 134314971 | H65: =H64+H51 -> 0 | I65: =I64+I51 -> 4125209422 | J65: =J64+J51 -> 4259524393
A68: Az Önkormányzat államigazgatási feladatok bevételei és kiadásai 2018. év
A70: 1. Működési bevételek | B70: Intézmények | C70: Önkormányzati Hivatal | D70: Önkormányzat | E70: Önkormányzat összesen | F70: 2. Működési kiadások | G70: Intézmények | H70: Önkormányzati Hivatal | I70: Önkormányzat | J70: Önkormányzat összesen
A71: Működési bevételek | F71: Működési kiadások
A72: 1. Működési támogatások államháztartáson belülről | C72: =159523832*0.2435+20882368*0.3139+22871493*0.3139+23317*0.3118 -> 52585660 | E72: =SUM(B72:D72) -> 52585660 | F72: 1. Személyi juttatások | H72: 73946509 | J72: =SUM(G72:I72) -> 73946509
A73: 2. Közhatalmi bevételek | C73: ='2.sz.tábla (2)'!E30 -> 1000000 | E73: =SUM(B73:D73) -> 1000000 | F73: 2. Munkaadót terhelő járulékok | H73: 16206335 | J73: =SUM(G73:I73) -> 16206335
A74: 3. Működési bevételek | B74: 0 | C74: =5080000+56977*0.236 -> 5093446.6 | E74: =SUM(B74:D74) -> 5093446.6 | F74: 3. Dologi kiadások | H74: 19911522 | J74: =SUM(G74:I74) -> 19911522
A75: 4. Működési célú átvett pénzeszközök államháztartáson kivülről | F75: 4. Ellátottak pénzbeli juttatásai | J75: =SUM(G75:I75) -> 0
F76: 5. Egyéb működési célú kiadások | H76: 100390 | J76: =SUM(G76:I76) -> 100390
F77: 5.1. Elvonások, befizetések | J77: =SUM(G77:I77) -> 0
F78: 5.2. Egyéb működési célú támogatások áh-n belülre | J78: =SUM(G78:I78) -> 0
F79: 5.4. Egyéb működési célú támogatások áh-n kívülre
F80: 5.5. Működési célú visszatérítendő támogatások, kölcsönök nyújtása áh-n kívülre
F81: 6. Pénzforgalom nélküli kiadások (tartalék)
A82: Költségvetési működési bevételek állami (államigazgatási) feladatok szerinti bontásban | B82: =SUM(B72:B81) -> 0 | C82: =SUM(C72:C81) -> 58679107 | D82: =SUM(D72:D81) -> 0 | E82: =SUM(E72:E81) -> 58679107 | F82: Költségvetési működési kiadások állami (államigazgatási) feladatok szerinti bontásban | G82: =SUM(G72:G81) -> 0 | H82: =SUM(H72:H81) -> 110164756 | I82: =SUM(I72:I81) -> 0 | J82: =SUM(J72:J81) -> 110164756
A83: Finanszírozási bevételek | C83: =31465031*0.236 -> 7425747.3 | E83: =SUM(B83:D83) -> 7425747.3 | F83: Finanszírozási kiadások
A84: Működési bevételek kiemelt előirányzatonként állami (államigazgatási) feladatok szerinti bontásban | B84: =B82+B83 -> 0 | C84: =C82+C83 -> 66104854 | D84: =D82+D83 -> 0 | E84: =E82+E83 -> 66104854 | F84: Működési kiadások kiemelt előirányzatonként állami (államigazgatási) feladatok szerinti bontásban | G84: =G82+G83 -> 0 | H84: =H82+H83 -> 110164756 | I84: =I82+I83 -> 0 | J84: =J82+J83 -> 110164756
A85: Felhalmozási bevételek | F85: Felhalmozási kiadások
A86: 1. Felhalmozási célú támogatások államháztartáson belülről | F86: 1.1. Beruházások | J86: =SUM(G86:I86) -> 0
A87: 2. Felhalmozási bevételek | C87: =211023*0.236 -> 49801.428 | E87: =SUM(B87:D87) -> 49801.428 | F87: 1.2. Int.saját hatáskörű fejlesztések | H87: 4634327 | J87: =SUM(G87:I87) -> 4634327
A88: 3. Felhalmozási célú átvett pénzeszközök áh-n kívülről | F88: 2. Felújítások | J88: =SUM(G88:I88) -> 0
F89: 3. Egyéb felhalmozási célú kiadások | J89: =SUM(G89:I89) -> 0
A90: Költségvetési felhalmozási bevételek önként vállalt feladatok szerinti bontásban | B90: =SUM(B86:B88) -> 0 | C90: =SUM(C86:C88) -> 49801.428 | D90: =SUM(D86:D88) -> 0 | E90: =SUM(E86:E88) -> 49801.428 | F90: 3.1. Egyéb felhalmozási célú pénzeszköz átadás áh-n kívülre | J90: =SUM(G90:I90) -> 0
A91: Finanszírozási bevételek | C91: =4825957*0.236 -> 1138925.9 | E91: =SUM(B91:D91) -> 1138925.9 | F91: 3.2. Egyéb felhalmozási célú pénzeszköz átadás áh-n belülre | J91: =SUM(G91:I91) -> 0
F92: 3.3. Felhalmozási célú visszatérítendő támogatások, kölcsönök nyújtása áh-n kívülre
A93: Felhalmozási bevételek kiemelt előirányzatonként államigazgatási feladatok szerinti bontásban | B93: =SUM(B86:B92) -> 0 | C93: =C90+C91 -> 1188727.3 | D93: =D90+D91 -> 0 | E93: =E90+E91 -> 1188727.3 | F93: Felhalmozási kiadások kiemelt előirányzatonként államigazgatási feladatok szerinti bontásban | G93: =SUM(G86:G92) -> 0 | H93: =SUM(H86:H92) -> 4634327 | I93: =SUM(I86:I92) -> 0 | J93: =SUM(J86:J92) -> 4634327
B94: =B93+B84+B64+B51+B33+B21 -> 242303041 | C94: =C93+C84+C64+C51+C33+C21 -> 276195078 | D94: =D93+D84+D64+D51+D33+D21 -> 10256025138 | E94: =E93+E84+E64+E51+E33+E21 -> 10774523257 | G94: =G93+G84+G64+G51+G33+G21 -> 365388091 | H94: =H93+H84+H64+H51+H33+H21 -> 473331839 | I94: =I93+I84+I64+I51+I33+I21 -> 9935803327 | J94: =SUM(G94:I94) -> 10774523257 | K94: =J93+J84+J64+J51+J33+J21 -> 10774523257
A95: Önkormányzati támogatás | B95: =B94-G94 -> -123085050 | C95: =C94-H94 -> -197136761 | D95: =D94-I94 -> 320221811 | E95: =J94-E94 -> 0
C96: =SUM(B95:C95) -> -320221811 | E96: =SUM(B94:D94) -> 10774523257

Sheet 10 melléklet
A2: TÖBBÉVES KIHATÁSSAL JÁRÓ DÖNTÉSEK SZÁMSZERŰSÍTVE ÉVENKÉNTI BONTÁSBAN ÉS ÖSSZESÍTVE
B4: Kötelezettség jogcíme | C4: Kötelezett-ségvállalás | D4: 2017.12.31-ig kifizetés | E4: 2017. évi költségvetést terhelő | F4: 2018. | G4: 2019. | H4: 2020. | I4: 2021. | J4: 2021. után | K4: Tárgyéven túli köt. Összesen (7+8+9+10) | L4: Összesen (4+5+6+11)
C5: éve
D6: (aktuális kv-i év)
A7: 1. | B7: 2. | C7: 3. | D7: 4. | E7: 5. | F7: 6. | G7: 7. | H7: 8. | I7: 9. | J7: 10. | K7: 11. | L7: 12.
A8: 1 | B8: Működési célú hitel-törlesztés
A9: 2 | B9: (tőke + kamat )
A10: 3
A11: 4 | B11: Felhalmozási célú hitel-törlesztés
A12: 5 | B12: (tőke + kamat) | D12: =D14+D16+D18+D20 -> 391690713 | E12: =SUM(E13) -> 0 | F12: =F14+F16+F18+F20 -> 90872521 | G12: =G14+G16+G18+G20 -> 88915408 | H12: =H14+H16+H18+H20 -> 86995829 | I12: =I14+I16+I18+I20 -> 85001182 | J12: =J14+J16+J18+J20 -> 397145207 | K12: =K14+K16+K18+K20 -> 658057626 | L12: =D12+E12+F12+K12 -> 1140620860
A13: 6 | B13: Füred Kemping vásárlása hitel | C13: 2014 | D13: 331818182 | F13: 74242424 | G13: 74242424 | H13: 74242424 | I13: 74242424 | J13: 371212122 | K13: =G13+H13+I13+J13 -> 593939394 | L13: =D13+E13+F13+K13 -> 1000000000
A14: 7 | B14: hitel összesen | D14: =SUM(D13:D13) -> 331818182 | E14: =SUM(E13:E13) -> 0 | F14: =SUM(F13:F13) -> 74242424 | G14: =SUM(G13:G13) -> 74242424 | H14: =SUM(H13:H13) -> 74242424 | I14: =SUM(I13:I13) -> 74242424 | J14: =SUM(J13:J13) -> 371212122 | K14: =SUM(K13:K13) -> 593939394 | L14: =SUM(L13:L13) -> 1000000000
A15: 8 | B15: Füred Kemping vásárlása hitel kamat | C15: 2014 | D15: 59872531 | E15: 0 | F15: 16630097 | G15: 14672984 | H15: 12753405 | I15: 10758758 | J15: 25933085 | K15: =G15+H15+I15+J15 -> 64118232 | L15: =D15+E15+F15+K15 -> 140620860
A16: 9 | B16: kamat összesen | D16: =SUM(D15:D15) -> 59872531 | E16: =SUM(E15:E15) -> 0 | F16: =SUM(F15:F15) -> 16630097 | G16: =SUM(G15:G15) -> 14672984 | H16: =SUM(H15:H15) -> 12753405 | I16: =SUM(I15:I15) -> 10758758 | J16: =SUM(J15:J15) -> 25933085 | K16: =SUM(K15:K15) -> 64118232 | L16: =SUM(L15:L15) -> 140620860
A17: 10
A18: 11 | B18: kezességvállalás: hitelek összesen | D18: =SUM(D17) -> 0 | E18: =SUM(E17) -> 0 | F18: =SUM(F17) -> 0 | G18: =SUM(G17) -> 0 | J18: =SUM(J17) -> 0 | K18: =SUM(K17) -> 0 | L18: =SUM(L17) -> 0
A19: 12
A20: 13 | B20: kezességvállalás: hitelkamatok össz. | D20: =SUM(D19) -> 0 | E20: =SUM(E19) -> 0 | F20: =SUM(F19) -> 0 | G20: =SUM(G19) -> 0 | J20: =SUM(J19) -> 0 | K20: =SUM(K19) -> 0 | L20: =SUM(L19) -> 0
A21: 14 | B21: Fejlesztés feladatonként | D21: =SUM(D22:D87) -> 1102273331 | E21: =SUM(E22:E87) -> 61690116 | F21: =SUM(F22:F87) -> 1005132069 | G21: =SUM(G22:G87) -> 326761094 | H21: =SUM(H22:H87) -> 82687326 | I21: =SUM(I22:I87) -> 54184491 | J21: =SUM(J22:J87) -> 255504693 | K21: =SUM(K22:K87) -> 719137604 | L21: =D21+E21+F21+K21 -> 2888233120
A22: 15 | B22: Panelprogram tám.: Csárda u. 2. (290/2006) | C22: 2006. | D22: 3600000 | E22: 400000 | F22: 0 | G22: 0 | K22: =G22+H22+I22+J22 -> 0 | L22: =D22+E22+F22+K22 -> 4000000
A23: 16 | B23: Panelprogram tám.: Kéki u. 5. (292/2006) | C23: 2006. | D23: 3780000 | E23: 420000 | F23: 0 | G23: 0 | K23: =G23+H23+I23+J23 -> 0 | L23: =D23+E23+F23+K23 -> 4200000
A24: 17 | B24: Panelprogram tám.: Köztársaság u. 7. (293/2006) | C24: 2006. | D24: 8986752 | E24: 998528 | F24: 0 | G24: 0 | K24: =G24+H24+I24+J24 -> 0 | L24: =D24+E24+F24+K24 -> 9985280
A25: 18 | B25: Panelprogram tám.: Csárda u. 19. (294/2006) | C25: 2006. | D25: 2160000 | E25: 240000 | F25: 0 | G25: 0 | J25: 0 | K25: =G25+H25+I25+J25 -> 0 | L25: =D25+E25+F25+K25 -> 2400000
A26: 19 | B26: Népház és posta rekonstrukciója pályázathoz kapcsolódó ingatlan karbantartás és fenntartás költségeire pénzügyi alap (220/2008) | C26: 2008. | D26: 19230960 | E26: 0 | F26: 2747280 | G26: 2747280 | H26: 2747280 | I26: 0 | J26: 0 | K26: =G26+H26+I26+J26 -> 5494560 | L26: =D26+E26+F26+K26 -> 27472800
A27: 1. | B27: 2. | C27: 3. | D27: 4. | E27: 5. | F27: 6. | G27: 7. | H27: 8. | I27: 9. | J27: 10. | K27: 11. | L27: 12.
A28: 20 | B28: Balatoni Hajózási Zrt részvénycsomagjának átvételével kapcsolatos kötváll (tőkeemelés és tőkejuttatás) (285/2008) | C28: 2008. | D28: 51820000 | E28: 128160000 | F28: 0 | G28: 0 | H28: 0 | I28: 0 | J28: 0 | K28: =G28+H28+I28+J28 -> 0 | L28: =D28+E28+F28+K28 -> 179980000
A29: 21 | B29: 347/2017.(XI.3.) BAHART tőkejuttatás átütemezés | C29: 2017. | E29: -128160000 | F29: 128160000 | G29: 0 | K29: =G29+H29+I29+J29 -> 0 | L29: =D29+E29+F29+K29 -> 0
A30: 22 | B30: Mederhasználati díjra megkötött szerződés (lejár 2067.09.17) | C30: 2008. | D30: 18561737 | E30: 0 | F30: 2324317 | G30: 2324317 | H30: 2324317 | I30: 2324317 | J30: 104594265 | K30: =G30+H30+I30+J30 -> 111567216 | L30: =D30+E30+F30+K30 -> 132453270
A31: 23 | B31: Panelprogram Köztársaság u. 19. tám (8/2009) | C31: 2009 | D31: 10474810 | E31: 1496398 | F31: 1496398 | G31: 1496398 | J31: 0 | K31: =G31+H31+I31+J31 -> 1496398 | L31: =D31+E31+F31+K31 -> 14964004
A32: 24 | B32: Panelpromram Köztársaság u. 17. tám (9/2009) | C32: 2009 | D32: 12714094 | F32: 1589260 | G32: 1589260 | H32: 0 | J32: 0 | K32: =G32+H32+I32+J32 -> 1589260 | L32: =D32+E32+F32+K32 -> 15892614
A33: 25 | B33: Panelprogram Köztársaság u.15.tám. (10/2009) | C33: 2009. | D33: 9733229 | E33: 1390460 | F33: 1390460 | G33: 1390460 | H33: 0 | J33: 0 | K33: =G33+H33+I33+J33 -> 1390460 | L33: =D33+E33+F33+K33 -> 13904609
A34: 26 | B34: Panelprogram Köztársaság u.11.tám. (11/2009) | C34: 2009. | D34: 16236345 | E34: 2319470 | F34: 2319470 | G34: 2319470 | H34: 0 | J34: 0 | K34: =G34+H34+I34+J34 -> 2319470 | L34: =D34+E34+F34+K34 -> 23194755
A35: 27 | B35: Panelprogram Köztársaság u.1. tám. (12/2009) | C35: 2009. | D35: 10491328 | E35: 1498760 | F35: 1498760 | G35: 1498760 | H35: 0 | J35: 0 | K35: =G35+H35+I35+J35 -> 1498760 | L35: =D35+E35+F35+K35 -> 14987608
A36: 28 | B36: TDM pályázat működési támogatás (2+5 évre) (194,201/2009) | C36: 2009 | D36: 157016705 | E36: 1845295 | F36: 0 | K36: =G36+H36+I36+J36 -> 0 | L36: =D36+E36+F36 -> 158862000
A37: 29 | B37: Autóbuszpályaudvar pm költség, közbeszerzés 339/2011 (IX.15) | C37: 2011 | D37: 9510000 | E37: 254000 | K37: =G37+H37+I37+J37 -> 0 | L37: =D37+E37+F37 -> 9764000
A38: 30 | B38: Balaton Mozi támogatása (53/2011) | C38: 2011 | D38: 2400000 | E38: 6000000 | F38: 1200000 | G38: 1200000 | H38: 1200000 | I38: 0 | J38: 0 | K38: =G38+H38+I38+J38 -> 2400000 | L38: =D38+E38+F38+K38 -> 12000000
A39: 31 | B39: 2 TDM projekt 2017-2018 évi támogatása (124/2011) | C39: 2011 | F39: 12000000 | G39: 12000000 | H39: 0 | J39: 0 | K39: =G39+H39+I39+J39 -> 12000000 | L39: =D39+E39+F39+K39 -> 24000000
A40: 32 | B40: Annagóra Park Társasház tulajdonjog szerzés 339/2012. (XII.13.) | C40: 2012 | F40: 33600000 | K40: =G40+H40+I40+J40 -> 0 | L40: =D40+E40+F40+K40 -> 33600000
A41: 33 | B41: Balatonfüredi Yacht Club éves működési támogatásának biztosítása 10 éven keresztül 231/2013. (VII.05.) | C41: 2013 | D41: 4800000 | F41: 1200000 | G41: 1200000 | H41: 1200000 | I41: 1200000 | J41: 2400000 | K41: =G41+H41+I41+J41 -> 6000000 | L41: =D41+E41+F41+K41 -> 12000000
A42: 1. | B42: 2. | C42: 3. | D42: 4. | E42: 5. | F42: 6. | G42: 7. | H42: 8. | I42: 9. | J42: 10. | K42: 11. | L42: 12.
A43: 34 | B43: KMF Közép-magyarországi Fejlesztési Zrt. Konferencia Központ üzletrész részletek | C43: 2014 | D43: 36000000 | E43: 0 | F43: 10000000 | G43: 10000000 | H43: 4000000 | I43: 0 | J43: 0 | K43: =G43+H43+I43+J43 -> 14000000 | L43: =D43+E43+F43+K43 -> 60000000
A44: 35 | B44: KMF Közép-magyarországi Fejlesztési Zrt. Konferencia Központ üzletrész részletek | C44: 2015 | D44: 18000000 | F44: 6000000 | G44: 6000000 | H44: 6000000 | I44: 8000000 | J44: 42000000 | K44: =G44+H44+I44+J44 -> 62000000 | L44: =D44+E44+F44+K44 -> 86000000
A45: 36 | B45: 300/2014.(XII.18.) intézményi felújítások közbeszerzési kiírásához fedezet biztosítása | C45: 2014 | D45: 79402661 | E45: 26510205 | F45: 0 | G45: 0 | K45: =G45+H45+I45+J45 -> 0 | L45: =D45+E45+F45+K45 -> 105912866
A46: 37 | B46: 163/2015.(VI.25.) SOS Együtt Egymásért Alapítvánnyal együttműködési megállapodás városüzemeltetés szakfeladat terhére üzemanyagköltségekre | C46: 2015 | D46: 1016000 | F46: 254000 | G46: 0 | H46: 0 | K46: =G46+H46+I46+J46 -> 0 | L46: =D46+E46+F46+K46 -> 1270000
A47: 38 | B47: 210/2015.(VIII.26.) 139 hrsz-ú ingatlan megvásárlása | C47: 2015 | D47: 257000000 | F47: 69000000 | G47: 0 | H47: 0 | K47: =G47+H47+I47+J47 -> 0 | L47: =D47+E47+F47+K47 -> 326000000
A48: 39 | B48: 201/2016.(VI.23.) 139 hrsz-ú ingatlan megvásárlása ütemezés módosítása | C48: 2016. | D48: 28861781 | E48: -20000000 | F48: -10000000 | G48: 0 | K48: =G48+H48+I48+J48 -> 0 | L48: =D48+E48+F48+K48 -> -1138219
A49: 40 | B49: 271/2016.(VI.23.) 139 hrsz-ú ingatlan megvásárlása ütemezés módosítása | C49: 2016. | D49: 28861781 | E49: -20000000 | F49: -10000000 | G49: 0 | K49: =G49+H49+I49+J49 -> 0 | L49: =D49+E49+F49+K49 -> -1138219
A50: 41 | B50: 306/2015.(XII.17.) 5477 hrsz-ú ingatlan megvásárlása | C50: 2015. | D50: 10931166 | E50: 0 | F50: 4465584 | G50: 0 | K50: =G50+H50+I50+J50 -> 0 | L50: =D50+E50+F50+K50 -> 15396750
A51: 42 | B51: 30/2016.(II.25.) helyi TDM szervezet GINOP pályázathoz önerő | C51: 2016. | D51: 0 | E51: 2867000 | F51: 0 | K51: =G51+H51+I51+J51 -> 0 | L51: =D51+E51+F51+K51 -> 2867000
A52: 43 | B52: 30/2016.(II.25.) térségi TDM szervezet GINOP pályázathoz önerő | C52: 2016. | D52: 0 | E52: 21700000 | F52: 0 | K52: =G52+H52+I52+J52 -> 0 | L52: =D52+E52+F52+K52 -> 21700000
A53: 44 | B53: 54/2016.(III.17.) Állami Szívkórház ingatlan bérleti szerződés a 403/15 hrsz-ú ingatlanra 25 éves időtartamra 3 MFt/év | C53: 2016. | D53: 3000000 | E53: 0 | F53: 3000000 | G53: 3000000 | H53: 3000000 | I53: 3000000 | J53: 60000000 | K53: =G53+H53+I53+J53 -> 69000000 | L53: =D53+E53+F53+K53 -> 75000000
A54: 45 | B54: 54/2016.(III.17.) Állami Szívkórház éves támogatás biztosítása 2017-2021. évekre | C54: 2016. | D54: 0 | E54: 12000000 | F54: 12000000 | G54: 12000000 | H54: 12000000 | I54: 12000000 | J54: 0 | K54: =G54+H54+I54+J54 -> 36000000 | L54: =D54+E54+F54+K54 -> 60000000
A55: 1. | B55: 2. | C55: 3. | D55: 4. | E55: 5. | F55: 6. | G55: 7. | H55: 8. | I55: 9. | J55: 10. | K55: 11. | L55: 12.
A56: 46 | B56: 55/2016.(III.17.) Balatonfüredi Horgász Egyesület 403/16 hrsz-ú ingatlan bérleti szerződés 25 éves időtartamra 2 MFt/év | C56: 2016. | D56: 2666667 | F56: 2000000 | G56: 2000000 | H56: 2000000 | I56: 2000000 | J56: 39333333 | K56: =G56+H56+I56+J56 -> 45333333 | L56: =D56+E56+F56+K56 -> 50000000
A57: 47 | B57: 55/2016.(III.17.) Balatonfüredi Horgász Egyesület csónak vételár | C57: 2016. | D57: 0 | E57: 6000000 | F57: 0 | K57: =G57+H57+I57+J57 -> 0 | L57: =D57+E57+F57+K57 -> 6000000
A58: 48 | B58: 146/2016.(V.06.) 072 hrsz-ú ingatlan megvásárlása | C58: 2016. | D58: 77100000 | F58: 50750000 | G58: 50750000 | H58: 50750000 | I58: 0 | J58: 0 | K58: =G58+H58+I58+J58 -> 101500000 | L58: =D58+E58+F58+K58 -> 229350000
A59: 49 | B59: 86/2017. (III.30.) 072 hrsz-ú ingatlan megvásárlása átütemezés | C59: 2017. | D59: -5638885 | F59: -5638890 | G59: -5638890 | H59: -5638890 | I59: 22555555 | J59: 0 | K59: =G59+H59+I59+J59 -> 11277775 | L59: =D59+E59+F59+K59 -> 0
A60: 50 | B60: 282/2016.(X.222.) 1543/2 hrsz-ú Kossuth u. 24.ingatlan megvásárlása ütemezés módosítása | C60: 2016. | D60: 90000000 | F60: 12140110 | G60: 0 | K60: =G60+H60+I60+J60 -> 0 | L60: =D60+E60+F60+K60 -> 102140110
A61: 51 | B61: 299/2016.(X.27.) Annagóra Park Bevásárlóközpont Társasház 41,11 % tulajdoni hányad megvásárlása ütemezés módosítása | C61: 2016. | D61: 128400000 | F61: 63000000 | G61: 0 | K61: =G61+H61+I61+J61 -> 0 | L61: =D61+E61+F61+K61 -> 191400000
A62: 52 | B62: 145/2017.(IV.27.) Pillér Takarékszövetkezet ingatlan vásárlás átütemezése (Annagóra Park) | C62: 2017. | D62: -21000000 | F62: -21000000 | G62: 42000000 | H62: 0 | K62: =G62+H62+I62+J62 -> 42000000 | L62: =D62+E62+F62+K62 -> 0
A63: 53 | B63: 316/2016.(X.27.) 0118/61 ingatlanra vonatkozó megállapodás megállapodásból eredő fiz. Köt. | F63: 6706000 | K63: =G63+H63+I63+J63 -> 0 | L63: =D63+E63+F63+K63 -> 6706000
A64: 54 | B64: 378/2016. (XII.15.) BFT és NFM Településfejlesztési beruházások támogatására kiírt pályázat önrész | C64: 2016. | D64: 0 | E64: 15000000 | F64: 0 | K64: =G64+H64+I64+J64 -> 0 | L64: =D64+E64+F64+K64 -> 15000000
A65: 55 | B65: 6/2017.(I.20.) Parkolóhelyek megvásárlása előszerződés | C65: 2017. | F65: 38100000 | G65: 104140000 | K65: =G65+H65+I65+J65 -> 104140000 | L65: =D65+E65+F65+K65 -> 142240000
A66: 1. | B66: 2. | C66: 3. | D66: 4. | E66: 5. | F66: 6. | G66: 7. | H66: 8. | I66: 9. | J66: 10. | K66: 11. | L66: 12.
A67: 56 | B67: 17/2017. (II.10.) ÉNYKK Zrt. 2014. évi veszteség rendezés | C67: 2017. | D67: 1156200 | F67: 1156200 | G67: 1156200 | H67: 1156200 | I67: 1156200 | J67: 0 | K67: =G67+H67+I67+J67 -> 3468600 | L67: =D67+E67+F67+K67 -> 5781000
A68: 57 | B68: 87/2017.(III.30.) Füred Kemping műszaki felújítási munkák megtérítése (2018. március 31-ig) | C68: 2017. | F68: 3318860 | G68: 0 | K68: =G68+H68+I68+J68 -> 0 | L68: =D68+E68+F68+K68 -> 3318860
A69: 58 | B69: 211/2017. (VI.27.) Balatonfüred, Tamási Áron u. 27. Társasház külső felújítás vissza nem térítendő támogatás | C69: 2017. | F69: 135000 | G69: 135000 | H69: 135000 | I69: 135000 | J69: 270000 | K69: =G69+H69+I69+J69 -> 675000 | L69: =D69+E69+F69+K69 -> 810000
A70: 59 | B70: 212/2017.(VI.27.) GINOP-7.1.2-15. önrész biztosítása | C70: 2017. | F70: 200000000 | G70: 0 | K70: =G70+H70+I70+J70 -> 0 | L70: =D70+E70+F70+K70 -> 200000000
A71: 60 | B71: 247/2017.(VII.27.) Bfüred, Arad u. 16. támogatása | C71: 2017. | F71: 210000 | G71: 210000 | H71: 210000 | I71: 210000 | J71: 420000 | K71: =G71+H71+I71+J71 -> 1050000 | L71: =D71+E71+F71+K71 -> 1260000
A72: 61 | B72: 247/2017.(VII.27.) Bfüred, Arad u. 22. támogatása | C72: 2017. | F72: 210000 | G72: 210000 | H72: 210000 | I72: 210000 | J72: 420000 | K72: =G72+H72+I72+J72 -> 1050000 | L72: =D72+E72+F72+K72 -> 1260000
A73: 62 | B73: 253/2017.(VII.27.) 282/2017. (VIII.24.) TOP 2.1.2-16 Zold város pályázat önrész | C73: 2017. | F73: 88077500 | G73: 0 | K73: =G73+H73+I73+J73 -> 0 | L73: =D73+E73+F73+K73 -> 88077500
A74: 63 | B74: 283/2017. (VIII.24.) GINOP 7.1.9-17 pályázat Gyógyhelyfejlesztés Balatonfüred Városban önrész | C74: 2017. | F74: 132770435 | G74: 0 | K74: =G74+H74+I74+J74 -> 0 | L74: =D74+E74+F74+K74 -> 132770435
A75: 64 | B75: 299/2017.(IX.29.) Bfüred, Kéki u. 1. Társasház támogatása | C75: 2017. | F75: 315000 | G75: 315000 | H75: 0 | K75: =G75+H75+I75+J75 -> 315000 | L75: =D75+E75+F75+K75 -> 630000
A76: 65 | B76: 300/2017.(IX.29.) Dunántúli Református Egyházkerület támogatása a Balatonfüredi Református Ált. Iskola energiahatékonysági felújításához | C76: 2017. | D76: 25000000 | E76: 0 | F76: 25000000 | G76: 20000000 | H76: 0 | K76: =G76+H76+I76+J76 -> 20000000 | L76: =D76+E76+F76+K76 -> 70000000
A77: 66 | B77: 309/2017.(IX.28.) Papsoka felhagyott temetők (katolikus) önrész BFT támogatáshoz | C77: 2017. | F77: 15000000 | G77: 0 | K77: =G77+H77+I77+J77 -> 0 | L77: =D77+E77+F77+K77 -> 15000000
A78: 1. | B78: 2. | C78: 3. | D78: 4. | E78: 5. | F78: 6. | G78: 7. | H78: 8. | I78: 9. | J78: 10. | K78: 11. | L78: 12.
A79: 67 | B79: 312/2017.(IX.28.) Balatonfüred Város Sportjáért Közhasznú Alapítvány 5454/2 hrsz-ú ingatlanon homokos technikai pálya TAO önrész | C79: 2017. | F79: 1175067 | G79: 0 | K79: =G79+H79+I79+J79 -> 0 | L79: =D79+E79+F79+K79 -> 1175067
A80: 68 | B80: 330/2017. (X.26.) Bfüred, Csárda u. 11. Társasház támogatás | C80: 2017. | F80: 180000 | G80: 180000 | H80: 180000 | I80: 180000 | J80: 360000 | K80: =G80+H80+I80+J80 -> 900000 | L80: =D80+E80+F80+K80 -> 1080000
A81: 69 | B81: 330/2017. (X.26.) Bfüred, Hárs köz 1.. Társasház támogatás | C81: 2017. | F81: 120000 | G81: 120000 | H81: 120000 | I81: 120000 | J81: 240000 | K81: =G81+H81+I81+J81 -> 600000 | L81: =D81+E81+F81+K81 -> 720000
A82: 70 | B82: 340/2017.(X.26.) Balaton Vívóklub támogatása az Eötvös L. Ált. Iskola kis tornaterem padlóburkolat felújításához | C82: 2017. | E82: 750000 | F82: 750000 | G82: 0 | K82: =G82+H82+I82+J82 -> 0 | L82: =D82+E82+F82+K82 -> 1500000
A83: 71 | B83: 366/2017.(XI.23.) 071/76, 069/27-069/30, 071/68,071/70,071/101,071/102 hrsz-ú ingatlanok vás. Közpark céljára | C83: 2017 | F83: 32000000 | G83: 0 | K83: =G83+H83+I83+J83 -> 0 | L83: =D83+E83+F83+K83 -> 32000000
A84: 72 | B84: Zsinagóga Felújítási Alap létrehozása | C84: 2017 | F84: 2186838 | G84: 1093419 | H84: 1093419 | I84: 1093419 | J84: 5467095 | K84: =G84+H84+I84+J84 -> 8747352 | L84: =D84+E84+F84+K84 -> 10934190
A85: 73 | B85: 4/2018 (I.30) GINOP-7.1.9-17 pályázat további saját forrás biztosítása | C85: 2018 | F85: 82224420 | G85: 51324420 | K85: =G85+H85+I85+J85 -> 51324420 | L85: =D85+E85+F85+K85 -> 133548840
A86: 74 | K86: =G86+H86+I86+J86 -> 0 | L86: =D86+E86+F86+K86 -> 0
A87: 75 | K87: =G87+H87+I87+J87 -> 0 | L87: =D87+E87+F87+K87 -> 0
B88: Összesen: (1+4+9) | D88: =D21+D12 -> 1493964044 | E88: =E21+E12 -> 61690116 | F88: =F21+F12 -> 1096004590 | G88: =G21+G12 -> 415676502 | H88: =H21+H12 -> 169683155 | I88: =I21+I12 -> 139185673 | J88: =J21+J12 -> 652649900 | K88: =K21+K12 -> 1377195230 | L88: =L21+L12 -> 4028853980

Sheet 11. melléklet
A5: Az Önkormányzat adósságállományának alakulása
A6: lejárat, eszközök bel- és külföldi hitelezők szerinti bontásban (Ft-ban)
A9: Sorszám | C9: Felvétel | D9: Lejárat | E9: Állomány január 1-én (FT)
B10: Hitel jellege | C10: éve | D10: éve | E10: 2018 | F10: 2019 | G10: 2020 | H10: 2020. után
A12: 1. | B12: 2. | C12: 3. | D12: 4. | E12: 5. | F12: 6. | G12: 7. | H12: 8.
B13: BELFÖLDI HITELEZŐK
A14: 1. | B14: Működési célú hitel állomány + kamat
A15: 2.
A16: 3. | B16: Hitel összesen
A17: 4.
A18: 5. | B18: Kamat összesen
A19: 6. | B19: Felhalmozási célú hitel állomány+kamat | E19: =E21+E23 -> 747450248 | F19: =F21+F23 -> 656577728 | G19: =G21+G23 -> 567662320 | H19: =H21+H23 -> 480666491
A20: 7. | B20: Füred Kemping vásárlása hitel | C20: 2014 | D20: 2026 | E20: 668181818 | F20: =E20-74242424 -> 593939394 | G20: =F20-74242424 -> 519696970 | H20: =G20-74242424 -> 445454546
A21: 8. | B21: Hitel összesen (7-10) | E21: =SUM(E20:E20) -> 668181818 | F21: =SUM(F20:F20) -> 593939394 | G21: =SUM(G20:G20) -> 519696970 | H21: =SUM(H20:H20) -> 445454546
A22: 9. | B22: Füred Kemping vásárlása hitel kamat | C22: 2014 | D22: 2026 | E22: 79268430 | F22: 62638334 | G22: 47965350 | H22: 35211945
A23: 10. | B23: Kamat összesen (12-15) | E23: =SUM(E22:E22) -> 79268430 | F23: =SUM(F22:F22) -> 62638334 | G23: =SUM(G22:G22) -> 47965350 | H23: =SUM(H22:H22) -> 35211945
A24: 11. | B24: Összesen: (1+6) | E24: =E19+E14 -> 747450248 | F24: =F19+F14 -> 656577728 | G24: =G19+G14 -> 567662320 | H24: =H19+H14 -> 480666491
A25: 12. | B25: a szerződésben kapott, legalább háromszázhatvanöt nap időtartamú halasztott fizetés, részletfizetés, és a még ki nem fizetett ellenérték,
A26: 13. | B26: DRV környezetvédelmi beruházások megvalósítása | C26: 2005. | D26: 2015. | E26: 0 | F26: 0 | G26: 0 | H26: 0
A27: 14. | B27: Balatoni Hajózási Zrt. részvények átvét. Tőkejuttatás | C27: 2008. | D27: 2018. | E27: 128160000 | G27: 0 | H27: 0
A28: 15. | B28: Konferencia Központ üzletrész megvásárlása | C28: 2003. | D28: 2020. | E28: 92000000 | F28: 76000000 | G28: 60000000 | H28: 50000000
A29: 16. | B29: Panelprogram támogatás | C29: 2005-2009. | D29: 2017-2019 | E29: 25352312 | F29: 8294348
A30: 17. | B30: Összesen (13-16) | E30: =SUM(E26:E29) -> 245512312 | F30: =SUM(F26:F29) -> 84294348 | G30: =SUM(G26:G29) -> 60000000 | H30: =SUM(H26:H29) -> 50000000
A31: 18. | B31: KÜLFÖLDI HITELEZŐK
A32: 19. | B32: Működési célú hitel állomány + kamat
A33: 20.
A34: 21. | B34: Hitel összesen
A35: 22.
A36: 23. | B36: Kamat összesen
A37: 24. | B37: Felhalmozási célú hitel állomány+kamat
A38: 25.
A39: 26. | B39: Hitel összesen
A40: 27.
A41: 28. | B41: Kamat összesen
A42: 29. | B42: Összesen: (19+24)
A43: 30. | B43: Összesen: (11+17+29) | E43: =E24+E30 -> 992962560 | F43: =F24+F30 -> 740872076 | G43: =G24+G30 -> 627662320 | H43: =H24+H30 -> 530666491

Sheet 12. melléklet
A4: Az önkormányzat által nyújtott közvetett támogatások jogcímenként
A5: (kedvezmények) 2018. év
A7: Sorszám | B7: Bevételi jogcím | C7: Intézmények, | D7: Kedvezmény nélkül | E7: Kedvezmények
C8: adónemek | D8: elérhető | E8: összege
D9: bevétel Ft | E9: Ft
A10: 1. | B10: 2. | C10: 3. | D10: 4. | E10: 5.
A11: 2. | B11: Ellátottak térítési díjának ill. kártérítésének méltányossági alapon történő elengedésének összege | D11: =SUM(D12:D13) -> 35789644 | E11: =SUM(E12:E12) -> 0
C12: Bölcsőde | D12: ='[5]2.a tábla ÚJ '!J27 -> 601205 | E12: 0
C13: Iskolák | D13: ='[5]2.sz.tábla (2)'!D51 -> 35188439 | E13: 0
A14: 3. | B14: Lakosság részére nyújtott lakásépítéshez, lakásfelújításhoz nyújtott kölcsönök elengedésének összege | E14: 0
B15: Helyi adónál, gépjárműadónál biztosított kedvezmény, mentesség összege | D15: =SUM(D16:D21) -> 2227962710 | E15: =SUM(E16:E22) -> 548999173
C16: Építményadó | D16: =F16+E16 -> 624660580 | E16: 204660580 | F16: ='[5]2.sz.tábla (2)'!D32 -> 420000000
C17: Iparűzési adó | D17: =F17+E17 -> 878763568 | E17: 38763568 | F17: ='[5]2.sz.tábla (2)'!D36 -> 840000000
C18: IFA személyek után | D18: =F18+E18 -> 486672560 | E18: 102672560 | F18: ='[5]2.sz.tábla (2)'!D39 -> 384000000
C19: Telekadó | D19: =F19+E19 -> 29180640 | E19: 2180640 | F19: ='[5]2.sz.tábla (2)'!D33 -> 27000000
C20: Gépjárműadó | D20: =F20+E20 -> 70308862 | E20: 18308862 | F20: ='[5]2.sz.tábla (2)'!D37 -> 52000000
C21: Települési adó/termőföldadó | D21: =F21+E21 -> 138376500 | E21: 138376500 | F21: 0
C22: Települési adó/külterületi | D22: =F22+E22 -> 48036463 | E22: 44036463 | F22: 4000000
A23: 4. | B23: Helyiségek, eszközök hasznosításából származó bevételből nyújtott kedvezmény, mentesség összege | D23: =F23+E23 -> 460809584 | E23: =7777541+5792288 -> 13569829 | F23: ='[5]2.sz.tábla (2)'!M46 -> 447239755
A24: 5. | B24: egyéb nyújtott kedvezmény vagy kölcsön elengedésének összege | D24: =F24+E24 -> 608906935 | E24: 0 | F24: ='[5]2.sz.tábla (2)'!M72+'[5]2.sz.tábla (2)'!M68 -> 608906935
B25: Összesen : | D25: =D24+D23+D14+D15+D11 -> 3333468873 | E25: =E24+E23+E14+E15+E11 -> 562569002

Sheet 13. melléklet
A2: EURÓPAI UNIÓS TÁMOGATÁSSAL MEGVALÓSULÓ PROGRAMOK BEVÉTELEI ÉS KIADÁSAI 2018. ÉV
B4: EFOP-1.5.2-16-2017-00016
A5: EU Projekt megnevezése: | B5: Humán közszolgáltatások fejlesztése az Észak-Balatoni térségben
A8: Bevételek | B8: 2018 év | C8: 2019 év | D8: 2020 év | E8: Következő évek | F8: Összesen
A9: EU forrás | B9: 160500710 | C9: 112578757 | D9: 42609333 | F9: =SUM(B9:E9) -> 315688800
A10: Egyéb forrás | F10: 0
A11: Saját forrás
A12: Összesen | B12: =SUM(B9:B11) -> 160500710 | C12: =SUM(C9:C11) -> 112578757 | D12: =SUM(D9:D11) -> 42609333 | E12: =SUM(E9:E11) -> 0 | F12: =SUM(F9:F11) -> 315688800
A14: Kiadások | B14: 2018 év | C14: 2019 év | D14: 2020 év | E14: Következő évek | F14: Összesen
A15: személyi juttatások (bérköltség) | B15: 26480000 | C15: 26480000 | D15: 26480000 | F15: =SUM(B15:D15) -> 79440000
A16: személyi juttatások járulékai | B16: 6353334 | C16: 6353333 | D16: 6353333 | F16: =SUM(B16:D16) -> 19060000
A17: egyéb személyi kiadások | B17: 10857600 | C17: 5846400 | D17: 4176000 | F17: =SUM(B17:D17) -> 20880000
A18: dologi kiadások | B18: 106773776 | C18: 64635024 | D18: 5600000 | F18: =SUM(B18:D18) -> 177008800
A19: felújítások | F19: =SUM(B19:D19) -> 0
A20: beruházások | B20: 10036000 | C20: 9264000 | F20: =SUM(B20:D20) -> 19300000
A21: átadott pénzeszközök | F21: =SUM(B21:D21) -> 0
A22: Összesen | B22: =SUM(B15:B21) -> 160500710 | C22: =SUM(C15:C21) -> 112578757 | D22: =SUM(D15:D21) -> 42609333 | E22: =SUM(E15:E21) -> 0 | F22: =SUM(F15:F21) -> 315688800
B25: TOP-3.2.2-15-VE1-2016-00002
A26: EU Projekt megnevezése: | B26: Biomassza alapú ORC erőmű Balatonfüred
A29: Bevételek | B29: 2018 év | C29: 2019 év | D29: 2020 év | E29: Következő évek | F29: Összesen
A30: EU forrás | B30: 375550000 | C30: 242500000 | F30: =SUM(B30:E30) -> 618050000
A31: Egyéb forrás | F31: =SUM(B31:E31) -> 0
A32: Saját forrás | B32: 0 | F32: =SUM(B32:E32) -> 0
A33: visszaigényelhető ÁFA | B33: 95998500 | C33: 65475000 | F33: =SUM(B33:E33) -> 161473500
A34: Összesen | B34: =SUM(B30:B33) -> 471548500 | C34: =SUM(C30:C33) -> 307975000 | D34: =SUM(D30:D33) -> 0 | E34: =SUM(E30:E33) -> 0 | F34: =SUM(F30:F33) -> 779523500
A36: Kiadások | B36: 2018 év | C36: 2019 év | D36: 2020 év | E36: Következő évek | F36: Összesen
A37: személyi juttatások
A38: személyi juttatások járulékai
A39: dologi kiadások | B39: 12000000 | C39: 8000000 | F39: =SUM(B39:E39) -> 20000000
A40: felújítások | F40: =SUM(B40:E40) -> 0
A41: beruházások | B41: 363550000 | C41: 234500000 | F41: =SUM(B41:E41) -> 598050000
A42: visszaigényelhető ÁFA | B42: 95998500 | C42: 65475000 | F42: =SUM(B42:E42) -> 161473500
A43: Összesen | B43: =SUM(B37:B42) -> 471548500 | C43: =SUM(C37:C42) -> 307975000 | D43: =SUM(D37:D42) -> 0 | E43: =SUM(E37:E42) -> 0 | F43: =SUM(F37:F42) -> 779523500
B46: EFOP-4.1.8-16-2017-00140
A47: EU Projekt megnevezése: | B47: A könyvtárral a tudásért - megújult épületben, korszerű technikával Balatonfüreden
A50: Bevételek | B50: 2018 év | C50: 2019 év | D50: 2020 év | E50: Következő évek | F50: Összesen
A51: EU forrás | B51: 16818398 | C51: 22981547 | F51: =SUM(B51:E51) -> 39799945
A52: Egyéb forrás | F52: 0
A53: Saját forrás | B53: 0 | C53: 17642800 | F53: 17642800
A54: Összesen | B54: =SUM(B51:B53) -> 16818398 | C54: =SUM(C51:C53) -> 40624347 | D54: =SUM(D51:D53) -> 0 | E54: =SUM(E51:E53) -> 0 | F54: =SUM(F51:F53) -> 57442745
A56: Kiadások | B56: 2018 év | C56: 2019 év | D56: 2020 év | E56: Következő évek | F56: Összesen
A57: személyi juttatások | B57: 1676286 | C57: 936274 | F57: =SUM(B57:E57) -> 2612560
A58: személyi juttatások járulékai | B58: 368784 | C58: 205980 | D58: 0 | F58: =SUM(B58:E58) -> 574764
A59: dologi kiadások | B59: 298450 | C59: 127000 | F59: =SUM(B59:E59) -> 425450
A60: felújítások | F60: =SUM(B60:E60) -> 0
A61: beruházások | B61: 14474878 | C61: 39355093 | F61: =SUM(B61:E61) -> 53829971
A62: átadott pénzeszközök | F62: 0
A63: Összesen | B63: =SUM(B57:B62) -> 16818398 | C63: =SUM(C57:C62) -> 40624347 | D63: =SUM(D57:D62) -> 0 | E63: =SUM(E57:E62) -> 0 | F63: =SUM(F57:F62) -> 57442745
B66: TOP-2.1.3-16-VE1-2017-00008
A67: EU Projekt megnevezése: | B67: Balatonfüred csapadékcsatorna hálózatának fejlesztése
A70: Bevételek | B70: 2018 év | C70: 2019 év | D70: 2020 év | E70: Következő évek | F70: Összesen
A71: EU forrás | B71: 65849500 | C71: 61658500 | F71: =SUM(B71:E71) -> 127508000
A72: Egyéb forrás | F72: 0
A73: Saját forrás | B73: 0 | F73: 0
A74: Összesen | B74: =SUM(B71:B73) -> 65849500 | C74: =SUM(C71:C73) -> 61658500 | D74: =SUM(D71:D73) -> 0 | E74: =SUM(E71:E73) -> 0 | F74: =SUM(F71:F73) -> 127508000
A76: Kiadások | B76: 2018 év | C76: 2019 év | D76: 2020 év | E76: Következő évek | F76: Összesen
A77: személyi juttatások
A78: személyi juttatások járulékai | F78: =SUM(B78:E78) -> 0
A79: dologi kiadások | B79: 2984500 | C79: 2603500 | F79: =SUM(B79:E79) -> 5588000
A80: felújítások | F80: =SUM(B80:E80) -> 0
A81: beruházások | B81: 62865000 | C81: 59055000 | F81: =SUM(B81:E81) -> 121920000
A82: átadott pénzeszközök | F82: 0
A83: Összesen | B83: =SUM(B77:B82) -> 65849500 | C83: =SUM(C77:C82) -> 61658500 | D83: =SUM(D77:D82) -> 0 | E83: =SUM(E77:E82) -> 0 | F83: =SUM(F77:F82) -> 127508000
B87: GINOP-7.1.9-17-2017-0001
A88: EU Projekt megnevezése: | B88: Gyógyhelyfejlesztés Balatonfüred Városában
A91: Bevételek | B91: 2018 év | C91: 2019 év | D91: 2020 év | E91: Következő évek | F91: Összesen
A92: EU forrás | B92: 615398805 | C92: 374781136 | F92: =SUM(B92:E92) -> 990179941
A93: Egyéb forrás | F93: =SUM(B93:E93) -> 0
A94: Saját forrás | B94: =294994855+480852070 -> 775846925 | C94: 51324420 | F94: =SUM(B94:E94) -> 827171345
A95: visszaigényelhető ÁFA | B95: =107759778-5514593 -> 102245185 | C95: 35128375 | F95: =SUM(B95:E95) -> 137373560
A96: Összesen | B96: =SUM(B92:B95) -> 1493490915 | C96: =SUM(C92:C95) -> 461233931 | D96: =SUM(D92:D95) -> 0 | E96: =SUM(E92:E95) -> 0 | F96: =SUM(F92:F95) -> 1954724846
A98: Kiadások | B98: 2018 év | C98: 2019 év | D98: 2020 év | E98: Következő évek | F98: Összesen
A99: személyi juttatások | B99: 2880000 | C99: 1440000 | F99: =SUM(B99:E99) -> 4320000
A100: személyi juttatások járulékai | B100: 633600 | C100: 316800 | F100: =SUM(B100:E100) -> 950400
A101: dologi kiadások | B101: 20500000 | C101: 8000000 | F101: =SUM(B101:E101) -> 28500000
A102: felújítások | F102: =SUM(B102:E102) -> 0
A103: beruházások | B103: =886380060+480852070 -> 1367232130 | C103: 416348756 | F103: =SUM(B103:E103) -> 1783580886
A104: visszaigényelhető ÁFA | B104: =107759778-5514593 -> 102245185 | C104: 35128375 | F104: =SUM(B104:E104) -> 137373560
A105: Összesen | B105: =SUM(B99:B104) -> 1493490915 | C105: =SUM(C99:C104) -> 461233931 | D105: =SUM(D99:D104) -> 0 | E105: =SUM(E99:E104) -> 0 | F105: =SUM(F99:F104) -> 1954724846
B108: GINOP-7.1.6.16-2017-00004
A109: EU Projekt megnevezése: | B109: Balaton-felvidéki Kultúrtáj Világörökség várományos helyszín turisztikai célú fejlesztése
A112: Bevételek | B112: 2018 év | C112: 2019 év | D112: 2020 év | E112: Következő évek | F112: Összesen
A113: EU forrás | B113: 735733678 | C113: 34529178 | F113: =SUM(B113:E113) -> 770262856
A114: Egyéb forrás | F114: =SUM(B114:E114) -> 0
A115: Saját forrás | F115: =SUM(B115:E115) -> 0
A116: visszaigényelhető ÁFA | B116: 42911467 | C116: 9322878 | F116: =SUM(B116:E116) -> 52234345
A117: Összesen | B117: =SUM(B113:B116) -> 778645145 | C117: =SUM(C113:C116) -> 43852056 | D117: =SUM(D113:D116) -> 0 | E117: =SUM(E113:E116) -> 0 | F117: =SUM(F113:F116) -> 822497201
A119: Kiadások | B119: 2018 év | C119: 2019 év | D119: 2020 év | E119: Következő évek | F119: Összesen
A120: személyi juttatások | F120: =SUM(B120:E120) -> 0
A121: személyi juttatások járulékai | F121: =SUM(B121:E121) -> 0
A122: dologi kiadások | B122: 5700000 | C122: 0 | F122: =SUM(B122:E122) -> 5700000
A123: felújítások | F123: =SUM(B123:E123) -> 0
A124: beruházások | B124: 730033678 | C124: 34529178 | F124: =SUM(B124:E124) -> 764562856
A125: visszaigényelhető ÁFA | B125: 42911467 | C125: 9322878 | F125: =SUM(B125:E125) -> 52234345
A126: Összesen | B126: =SUM(B120:B125) -> 778645145 | C126: =SUM(C120:C125) -> 43852056 | D126: =SUM(D120:D125) -> 0 | E126: =SUM(E120:E125) -> 0 | F126: =SUM(F120:F125) -> 822497201
B130: TOP-3.2.1-16-VE2-2017-00001
A131: EU Projekt megnevezése: | B131: Fenntartható Energia és Klíma Akcióterv (SECAP) kidolgozása Veszprém megyében
A134: Bevételek | B134: 2018 év | C134: 2019 év | D134: 2020 év | E134: Következő évek | F134: Összesen
A135: EU forrás | B135: 5274000 | F135: =SUM(B135:E135) -> 5274000
A136: Egyéb forrás | F136: =SUM(B136:E136) -> 0
...

Sheet 14. melléklet
A4: Az önkormányzat adósságot keletkeztető ügyletből származó tárgyévi összes fizetési kötelezettsége az adósságot keletkeztető ügylet futamidejének végéig egyik évben sem haladja meg az önkormányzat adott évi saját bevételeinek 50%-át.
A7: megnevezés | C7: 2018. | D7: 2019. | E7: 2020. | F7: 2021.
A8: 1. Helyi adó és települési adó bevétel | C8: ='[5]2.sz.tábla (2)'!M31+'[5]2.sz.tábla (2)'!M35+'[5]2.sz.tábla (2)'!M38 -> 1671000000 | D8: 1671000000 | E8: 1671000000 | F8: 1671000000
A9: 2. Vagyon és vagyonértékű jog értékesítéséből származó bevétel | C9: ='[5]2.sz.tábla (2)'!M60 -> 509250000
A10: 3. Osztalék, koncessziós díj és hozambevétel, | C10: ='[5]2.sz.tábla (2)'!M50 -> 14000000 | D10: 14000000 | E10: 14000000 | F10: 14000000
A11: 4. tárgyi eszköz és immateriális jószág, részvény, részesedés, vállalalat értékesítésből vagy privatizációból származó bevétel | C11: ='[5]2.sz.tábla (2)'!M61 -> 0
A12: 5. Bírság, pótlék- és díjbevétel | C12: 4300000 | D12: 4300000 | E12: 4300000 | F12: 4300000
A13: 6. Kezességvállalással kapcsolatos megtérülés
A14: Összesen: | C14: =SUM(C8:C13) -> 2198550000 | D14: =SUM(D8:D13) -> 1689300000 | E14: =SUM(E8:E13) -> 1689300000 | F14: =SUM(F8:F13) -> 1689300000
A15: az önkormányzat adott évi saját bevételeinek 50%-a (Eft) | C15: =C14*0.5 -> 1099275000 | D15: =D14*0.5 -> 844650000 | E15: =E14*0.5 -> 844650000 | F15: =F14*0.5 -> 844650000
A19: adósságot keletkeztető ügyletekből és kezességvállalásokból fennálló kötelezettségek | B19: futamidő kezdete | C19: 2018. | D19: 2019. | E19: 2020. | F19: 2021.
A20: Balatonfüred Kemping ingatlan vásárlás felvett hitel | B20: 2014 | C20: 74242424 | D20: 74242424 | E20: 74242424 | F20: 74242424
A21: Balatonfüred Kemping ingatlan vásárlás hitel kamata | B21: 2014 | C21: 16630097 | D21: 14672984 | E21: 12753405 | F21: 10758758
A22: Balatoni Hajózási Zrt. részvények átvét. Tőkejuttatás | B22: 2008. | C22: 128160000 | D22: 0
A23: Konferencia Központ üzletrész megvásárlása | B23: 2003. | C23: 16000000 | D23: 16000000 | E23: 10000000 | F23: 8000000
A24: Panelprogram támogatás | B24: 2005-2009. | C24: 17057964 | D24: 8294348
