Workbook
Name _pr232: GÖRDÜLŐ!#REF!
Name _pr232: KÖZVETETT!$A$11
Name _pr232: 'MÉRLEG '!$A$17
Name _pr232: 'TÖBB ÉVES'!$A$17
Name _pr233: GÖRDÜLŐ!#REF!
Name _pr233: KÖZVETETT!$A$16
Name _pr233: 'MÉRLEG '!$A$18
Name _pr233: 'TÖBB ÉVES'!$A$18
Name _pr234: GÖRDÜLŐ!#REF!
Name _pr234: KÖZVETETT!$A$35
Name _pr234: 'MÉRLEG '!$A$19
Name _pr234: 'TÖBB ÉVES'!$A$19
Name _pr235: GÖRDÜLŐ!#REF!
Name _pr235: KÖZVETETT!$A$40
Name _pr235: 'MÉRLEG '!$A$20
Name _pr235: 'TÖBB ÉVES'!$A$20
Name _pr236: GÖRDÜLŐ!#REF!
Name _pr236: KÖZVETETT!$A$45
Name _pr236: 'MÉRLEG '!$A$21
Name _pr236: 'TÖBB ÉVES'!$A$21
Name _pr312: GÖRDÜLŐ!#REF!
Name _pr312: KÖZVETETT!#REF!
Name _pr312: 'MÉRLEG '!$A$8
Name _pr312: 'TÖBB ÉVES'!$A$8
Name _pr313: GÖRDÜLŐ!#REF!
Name _pr313: KÖZVETETT!#REF!
Name _pr313: 'MÉRLEG '!$A$9
Name _pr313: 'TÖBB ÉVES'!$A$3
Name _pr314: GÖRDÜLŐ!#REF!
Name _pr314: KÖZVETETT!$A$3
Name _pr314: 'MÉRLEG '!$A$10
Name _pr314: 'TÖBB ÉVES'!$A$10
Name _pr315: GÖRDÜLŐ!#REF!
Name _pr315: KÖZVETETT!#REF!
Name _pr315: 'MÉRLEG '!$A$11
Name _pr315: 'TÖBB ÉVES'!$A$11
Name foot_4_place: '10 melléklet'!$A$20
Name foot_5_place: '10 melléklet'!#REF!
Name foot_53_place: '10 melléklet'!$A$65

Sheet 1. melléklet
A2: 1. melléklet a 7/2021. (V.25.) önkormányzati rendelethez
A3: Nemeskolta Község Önkormányzat 2020. évi zárszámadása
A4: Az egységes rovatrend szerint a kiemelt kiadási és bevételi jogcímek
A7: K1. Személyi juttatások
A8: K2. Munkaadókat terhelő járulékok és szociális hozzájárulási adó
A9: K3. Dologi kiadások
A10: K4. Ellátottak pénzbeli juttatásai
A11: K5. Egyéb működési célú kiadások
A12: K6. Beruházási kiadások
A13: K7. Felújítások
A14: K8. Egyéb felhalmozási célú kiadások
A15: K1-8. Költségvetési kiadások
... A27: BEVÉTELEK ÖSSZESEN (B1-8)

Sheet 2. melléklet
B1: 2. melléklet a 7/2021. (V.25.) önkormányzati rendelethez
A3: Nemeskolta Község Önkormányzat 2020. évi zárszámadása
A4: Bevételek (Ft)
A6: ÖNKORMÁNYZATI ELŐIRÁNYZATOK
A7: Rovat megnevezése | B7: Rovat- szám | C7: eredeti ei. | D7: módosított ei. | E7: teljesítés
A8: Helyi önkormányzatok működésének általános támogatása | B8: B111 | C8: ='3. melléklet'!C9 -> 13232915 | D8: ='3. melléklet'!D9 -> 13249396 | E8: ='3. melléklet'!E9 -> 13249396
A9: Települési önkormányzatok egyes köznevelési feladatainak támogatása | B9: B112 | C9: ='3. melléklet'!C10 -> 0 | D9: ='3. melléklet'!D10 -> 0 | E9: ='3. melléklet'!E10 -> 0
A10: Települési önkormányzatok szociális, gyermekjóléti feladatainak támogatása | B10: B1131 | C10: ='3. melléklet'!C11 -> 7624000 | D10: ='3. melléklet'!D11 -> 8134135 | E10: ='3. melléklet'!E11 -> 8134135
A11: Települési önkormányzatok gyermekétkeztetési feladatainak támogatása | B11: B1132 | C11: ='3. melléklet'!C12 -> 0 | D11: ='3. melléklet'!D12 -> 123120 | E11: ='3. melléklet'!E12 -> 123120
A12: Települési önkormányzatok kulturális feladatainak támogatása | B12: B114 | C12: ='3. melléklet'!C13 -> 1800000 | D12: ='3. melléklet'!D13 -> 2000000 | E12: ='3. melléklet'!E13 -> 2000000
A13: Működési célú költségvetési támogatások és kiegészítő támogatások | B13: B115 | C13: ='3. melléklet'!C14 -> 0 | D13: ='3. melléklet'!D14 -> 0 | E13: ='3. melléklet'!E14 -> 0
A14: Elszámolásból származó bevételek | B14: B116 | C14: ='3. melléklet'!C15 -> 0 | D14: ='3. melléklet'!D15 -> 0 | E14: ='3. melléklet'!E15 -> 0
A15: Önkormányzatok működési támogatásai | B15: B11 | C15: ='3. melléklet'!C16 -> 22656915 | D15: ='3. melléklet'!D16 -> 23506651 | E15: ='3. melléklet'!E16 -> 23506651
A16: Elvonások és befizetések bevételei | B16: B12 | C16: ='3. melléklet'!C17 -> 0 | D16: ='3. melléklet'!D17 -> 0 | E16: ='3. melléklet'!E17 -> 0
A17: Működési célú garancia- és kezességvállalásból származó megtérülések államháztartáson belülről | B17: B13 | C17: ='3. melléklet'!C18 -> 0 | D17: ='3. melléklet'!D18 -> 0 | E17: ='3. melléklet'!E18 -> 0
A18: Működési célú visszatérítendő támogatások, kölcsönök visszatérülése államháztartáson belülről | B18: B14 | C18: ='3. melléklet'!C19 -> 0 | D18: ='3. melléklet'!D19 -> 0 | E18: ='3. melléklet'!E19 -> 0
A19: Működési célú visszatérítendő támogatások, kölcsönök igénybevétele államháztartáson belülről | B19: B15 | C19: ='3. melléklet'!C20 -> 0 | D19: ='3. melléklet'!D20 -> 0 | E19: ='3. melléklet'!E20 -> 0
... A53: Működési célú átvett pénzeszközök | B53: B6 | C53: ='3. melléklet'!C54 -> 0 | D53: ='3. melléklet'!D54 -> 0 | E53: ='3. melléklet'!E54 -> 0
A54: Működési költségvetés előirányzat csoport | C54: =C21+C35+C47+C53 -> 29263915 | D54: =D21+D35+D47+D53 -> 37084416 | E54: =E21+E35+E47+E53 -> 37076116
A55: Felhalmozási célú önkormányzati támogatások | B55: B21 | C55: ='3. melléklet'!C56 -> 0 | D55: ='3. melléklet'!D56 -> 0 | E55: ='3. melléklet'!E56 -> 0
A56: Felhalmozási célú garancia- és kezességvállalásból származó megtérülések államháztartáson belülről | B56: B22 | C56: ='3. melléklet'!C57 -> 0 | D56: ='3. melléklet'!D57 -> 0 | E56: ='3. melléklet'!E57 -> 0
A57: Felhalmozási célú visszatérítendő támogatások, kölcsönök visszatérülése államháztartáson belülről | B57: B23 | C57: ='3. melléklet'!C58 -> 0 | D57: ='3. melléklet'!D58 -> 0 | E57: ='3. melléklet'!E58 -> 0
A58: Felhalmozási célú visszatérítendő támogatások, kölcsönök igénybevétele államháztartáson belülről | B58: B24 | C58: ='3. melléklet'!C59 -> 0 | D58: ='3. melléklet'!D59 -> 0 | E58: ='3. melléklet'!E59 -> 0
A59: Egyéb felhalmozási célú támogatások bevételei államháztartáson belülről | B59: B25 | C59: ='3. melléklet'!C60 -> 38510992 | D59: ='3. melléklet'!D60 -> 42071788 | E59: ='3. melléklet'!E60 -> 42071788
A60: Felhalmozási célú támogatások államháztartáson belülről | B60: B2 | C60: ='3. melléklet'!C61 -> 38510992 | D60: ='3. melléklet'!D61 -> 42071788 | E60: ='3. melléklet'!E61 -> 42071788
A61: Immateriális javak értékesítése | B61: B51 | C61: ='3. melléklet'!C62 -> 0 | D61: ='3. melléklet'!D62 -> 0 | E61: ='3. melléklet'!E62 -> 0
A62: Ingatlanok értékesítése | B62: B52 | C62: ='3. melléklet'!C63 -> 0 | D62: ='3. melléklet'!D63 -> 0 | E62: ='3. melléklet'!E63 -> 0
A63: Egyéb tárgyi eszközök értékesítése | B63: B53 | C63: ='3. melléklet'!C64 -> 0 | D63: ='3. melléklet'!D64 -> 0 | E63: ='3. melléklet'!E64 -> 0
A64: Részesedések értékesítése | B64: B54 | C64: ='3. melléklet'!C65 -> 0 | D64: ='3. melléklet'!D65 -> 0 | E64: ='3. melléklet'!E65 -> 0
A65: Részesedések megszűnéséhez kapcsolódó bevételek | B65: B55 | C65: ='3. melléklet'!C66 -> 0 | D65: ='3. melléklet'!D66 -> 0 | E65: ='3. melléklet'!E66 -> 0
A66: Felhalmozási bevételek | B66: B5 | C66: ='3. melléklet'!C67 -> 0 | D66: ='3. melléklet'!D67 -> 0 | E66: ='3. melléklet'!E67 -> 0
... A72: Felhalmozási célú átvett pénzeszközök | B72: B7 | C72: ='3. melléklet'!C73 -> 0 | D72: ='3. melléklet'!D73 -> 0 | E72: ='3. melléklet'!E73 -> 0
A73: Felhalmozási költségvetés előirányzat csoport | C73: =C60+C66+C72 -> 38510992 | D73: =D60+D66+D72 -> 42071788 | E73: =E60+E66+E72 -> 42071788
A74: Költségvetési bevételek | B74: B1-B7 | C74: =C21+C35+C47+C53+C60+C66+C72 -> 67774907 | D74: =D21+D35+D47+D53+D60+D66+D72 -> 79156204 | E74: =E21+E35+E47+E53+E60+E66+E72 -> 79147904
A75: Hosszú lejáratú hitelek, kölcsönök felvétele pénzügyi vállalkozástól | B75: B8111 | C75: ='3. melléklet'!C76 -> 0 | D75: ='3. melléklet'!D76 -> 0 | E75: ='3. melléklet'!E76 -> 0
A76: Likviditási célú hitelek, kölcsönök felvétele pénzügyi vállalkozástól | B76: B8112 | C76: ='3. melléklet'!C77 -> 0 | D76: ='3. melléklet'!D77 -> 0 | E76: ='3. melléklet'!E77 -> 0
A77: Rövid lejáratú hitelek, kölcsönök felvétele pénzügyi vállalkozástól | B77: B8113 | C77: ='3. melléklet'!C78 -> 0 | D77: ='3. melléklet'!D78 -> 0 | E77: ='3. melléklet'!E78 -> 0
A78: Hitel-, kölcsönfelvétel pénzügyi vállalkozástól | B78: B811 | C78: =SUM(C75:C77) -> 0 | D78: =SUM(D75:D77) -> 0 | E78: =SUM(E75:E77) -> 0
A79: Forgatási célú belföldi értékpapírok beváltása, értékesítése | B79: B8121 | C79: ='3. melléklet'!C80 -> 0 | D79: ='3. melléklet'!D80 -> 0 | E79: ='3. melléklet'!E80 -> 0
A80: Éven belüli lejáratú belföldi értékpapírok kibocsátása | B80: B8122 | C80: ='3. melléklet'!C81 -> 0 | D80: ='3. melléklet'!D81 -> 0 | E80: ='3. melléklet'!E81 -> 0
A81: Befektetési célú belföldi értékpapírok beváltása, értékesítése | B81: B8123 | C81: ='3. melléklet'!C82 -> 0 | D81: ='3. melléklet'!D82 -> 0 | E81: ='3. melléklet'!E82 -> 0
A82: Éven túli lejáratú belföldi értékpapírok kibocsátása | B82: B8124 | C82: ='3. melléklet'!C83 -> 0 | D82: ='3. melléklet'!D83 -> 0 | E82: ='3. melléklet'!E83 -> 0
A83: Belföldi értékpapírok bevételei | B83: B812 | C83: =SUM(C79:C82) -> 0 | D83: =SUM(D79:D82) -> 0 | E83: 0
A84: Előző év költségvetési maradványának igénybevétele | B84: B8131 | C84: ='3. melléklet'!C85 -> 3082239 | D84: ='3. melléklet'!D85 -> 1302988 | E84: ='3. melléklet'!E85 -> 1302988
A85: Előző év vállalkozási maradványának igénybevétele | B85: B8132 | C85: ='3. melléklet'!C86 -> 0 | D85: ='3. melléklet'!D86 -> 0 | E85: ='3. melléklet'!E86 -> 0
A86: Maradvány igénybevétele | B86: B813 | C86: =SUM(C84:C85) -> 3082239 | D86: =SUM(D84:D85) -> 1302988 | E86: =SUM(E84:E85) -> 1302988
A87: Államháztartáson belüli megelőlegezések | B87: B814 | C87: ='3. melléklet'!C88 -> 0 | D87: ='3. melléklet'!D88 -> 930271 | E87: ='3. melléklet'!E88 -> 930271
A88: Államháztartáson belüli megelőlegezések törlesztése | B88: B815 | C88: ='3. melléklet'!C89 -> 0 | D88: ='3. melléklet'!D89 -> 0 | E88: ='3. melléklet'!E89 -> 0
A89: Központi, irányító szervi támogatás | B89: B816 | C89: ='3. melléklet'!C90 -> 0 | D89: ='3. melléklet'!D90 -> 0 | E89: ='3. melléklet'!E90 -> 0
A90: Lekötött bankbetétek megszüntetése | B90: B817 | C90: ='3. melléklet'!C91 -> 0 | D90: ='3. melléklet'!D91 -> 0 | E90: ='3. melléklet'!E91 -> 0
A91: Központi költségvetés sajátos finanszírozási bevételei | B91: B818 | C91: ='3. melléklet'!C92 -> 0 | D91: ='3. melléklet'!D92 -> 0 | E91: ='3. melléklet'!E92 -> 0
A92: Tulajdonosi kölcsönök bevételei | B92: B819 | C92: ='3. melléklet'!C93 -> 0 | D92: ='3. melléklet'!D93 -> 0 | E92: ='3. melléklet'!E93 -> 0
A93: Belföldi finanszírozás bevételei | B93: B81 | C93: =SUM(C86:C92) -> 3082239 | D93: =SUM(D86:D92) -> 2233259 | E93: =SUM(E86:E92) -> 2233259
A94: Forgatási célú külföldi értékpapírok beváltása, értékesítése | B94: B821 | C94: ='3. melléklet'!C95 -> 0 | D94: ='3. melléklet'!D95 -> 0 | E94: ='3. melléklet'!E95 -> 0
A95: Befektetési célú külföldi értékpapírok beváltása, értékesítése | B95: B822 | C95: ='3. melléklet'!C96 -> 0 | D95: ='3. melléklet'!D96 -> 0 | E95: ='3. melléklet'!E96 -> 0
A96: Külföldi értékpapírok kibocsátása | B96: B823 | C96: ='3. melléklet'!C97 -> 0 | D96: ='3. melléklet'!D97 -> 0 | E96: ='3. melléklet'!E97 -> 0
A97: Hitelek, kölcsönök felvétele külföldi kormányoktól és nemzetközi szervezetektől | B97: B824 | C97: ='3. melléklet'!C98 -> 0 | D97: ='3. melléklet'!D98 -> 0 | E97: ='3. melléklet'!E98 -> 0
A98: Hitelek, kölcsönök felvétele külföldi pénzintézetektől | B98: B825 | C98: ='3. melléklet'!C99 -> 0 | D98: ='3. melléklet'!D99 -> 0 | E98: ='3. melléklet'!E99 -> 0
A99: Külföldi finanszírozás bevételei | B99: B82 | C99: =SUM(C94:C98) -> 0 | D99: =SUM(D94:D98) -> 0 | E99: =SUM(E94:E98) -> 0
A100: Adóssághoz nem kapcsolódó származékos ügyletek bevételei | B100: B83 | C100: ='3. melléklet'!C101 -> 0 | D100: ='3. melléklet'!D101 -> 0 | E100: ='3. melléklet'!E101 -> 0
A101: Váltóbevételek | B101: B84 | C101: ='3. melléklet'!C102 -> 0 | D101: ='3. melléklet'!D102 -> 0 | E101: ='3. melléklet'!E102 -> 0
A102: Finanszírozási bevételek | B102: B8 | C102: =C93+C99+C100+C101 -> 3082239 | D102: =D93+D99+D100+D101 -> 2233259 | E102: =E93+E99+E100+E101 -> 2233259
A103: Bevételek összesen | B103: B1-B8 | C103: =C74+C102 -> 70857146 | D103: =D74+D102 -> 81389463 | E103: =E74+E102 -> 81381163

Sheet 3. melléklet
H1: 3. melléklet a 7/2021. (V.25.) önkormányzati rendelethez
A3: Nemeskolta Község Önkormányzata 2020. évi zárszámadása
A4: Bevételek (Ft)
A6: ÖNKORMÁNYZATI ELŐIRÁNYZATOK
A7: Rovat megnevezése | B7: Rovat-szám | C7: kötelező feladatok | F7: önként vállalt feladatok | I7: állami (államigazgatási) feladatok | L7: ÖSSZESEN
C8: eredeti ei. | D8: módosított ei. | E8: teljesítés | F8: eredeti ei. | G8: módosított ei. | H8: teljesítés | I8: eredeti ei. | J8: módosított ei. | K8: teljesítés | L8: eredeti ei. | M8: módosított ei. | N8: teljesítés
A9: Helyi önkormányzatok működésének általános támogatása | B9: B111 | C9: 13232915 | D9: 13249396 | E9: 13249396 | L9: 13232915 | M9: 13249396 | N9: 13249396
A10: Települési önkormányzatok egyes köznevelési feladatainak támogatása | B10: B112 | C10: 0 | D10: 0 | E10: 0 | L10: 0 | M10: 0 | N10: 0
A11: Települési önkormányzatok szociális, gyermekjóléti feladatainak támogatása | B11: B1131 | C11: 7624000 | D11: 8134135 | E11: 8134135 | L11: 7624000 | M11: 8134135 | N11: 8134135
A12: Települési önkormányzatok gyermekétkeztetési feladatainak támogatása | B12: B1132 | C12: 0 | D12: 123120 | E12: 123120 | L12: 0 | M12: 123120 | N12: 123120
A13: Települési önkormányzatok kulturális feladatainak támogatása | B13: B114 | C13: 1800000 | D13: 2000000 | E13: 2000000 | L13: 1800000 | M13: 2000000 | N13: 2000000
A14: Működési célú költségvetési támogatások és kiegészítő támogatások | B14: B115 | C14: 0 | D14: 0 | E14: 0 | L14: 0 | M14: 0 | N14: 0
A15: Elszámolásból származó bevételek | B15: B116 | C15: 0 | D15: 0 | E15: 0 | L15: 0 | M15: 0 | N15: 0
A16: Önkormányzatok működési támogatásai | B16: B11 | C16: 22656915 | D16: 23506651 | E16: 23506651 | L16: 22656915 | M16: 23506651 | N16: 23506651
A17: Elvonások és befizetések bevételei | B17: B12 | C17: 0 | D17: 0 | E17: 0 | L17: 0 | M17: 0 | N17: 0
A18: Működési célú garancia- és kezességvállalásból származó megtérülések államháztartáson belülről | B18: B13 | C18: 0 | D18: 0 | E18: 0 | L18: 0 | M18: 0 | N18: 0
A19: Működési célú visszatérítendő támogatások, kölcsönök visszatérülése államháztartáson belülről | B19: B14 | C19: 0 | D19: 0 | E19: 0 | L19: 0 | M19: 0 | N19: 0
A20: Működési célú visszatérítendő támogatások, kölcsönök igénybevétele államháztartáson belülről | B20: B15 | C20: 0 | D20: 0 | E20: 0 | L20: 0 | M20: 0 | N20: 0
... A54: Működési célú átvett pénzeszközök | B54: B6 | C54: 0 | D54: 0 | E54: 0 | L54: 0 | M54: 0 | N54: 0
A55: Működési költségvetés előirányzat csoport | C55: =C22+C36+C48+C54 -> 29263915 | D55: =D22+D36+D48+D54 -> 37084416 | E55: =E22+E36+E48+E54 -> 37076116 | L55: =L22+L36+L48+L54 -> 29263915 | M55: =M22+M36+M48+M54 -> 37084416 | N55: =N22+N36+N48+N54 -> 37076116
A56: Felhalmozási célú önkormányzati támogatások | B56: B21 | C56: 0 | D56: 0 | E56: 0 | L56: 0 | M56: 0 | N56: 0
A57: Felhalmozási célú garancia- és kezességvállalásból származó megtérülések államháztartáson belülről | B57: B22 | C57: 0 | D57: 0 | E57: 0 | L57: 0 | M57: 0 | N57: 0
A58: Felhalmozási célú visszatérítendő támogatások, kölcsönök visszatérülése államháztartáson belülről | B58: B23 | C58: 0 | D58: 0 | E58: 0 | L58: 0 | M58: 0 | N58: 0
A59: Felhalmozási célú visszatérítendő támogatások, kölcsönök igénybevétele államháztartáson belülről | B59: B24 | C59: 0 | D59: 0 | E59: 0 | L59: 0 | M59: 0 | N59: 0
A60: Egyéb felhalmozási célú támogatások bevételei államháztartáson belülről | B60: B25 | C60: 38510992 | D60: 42071788 | E60: 42071788 | L60: 38510992 | M60: 42071788 | N60: 42071788
A61: Felhalmozási célú támogatások államháztartáson belülről | B61: B2 | C61: 38510992 | D61: 42071788 | E61: 42071788 | L61: 38510992 | M61: 42071788 | N61: 42071788
A62: Immateriális javak értékesítése | B62: B51 | C62: 0 | D62: 0 | E62: 0 | L62: 0 | M62: 0 | N62: 0
A63: Ingatlanok értékesítése | B63: B52 | C63: 0 | D63: 0 | E63: 0 | L63: 0 | M63: 0 | N63: 0
A64: Egyéb tárgyi eszközök értékesítése | B64: B53 | C64: 0 | D64: 0 | E64: 0 | L64: 0 | M64: 0 | N64: 0
A65: Részesedések értékesítése | B65: B54 | C65: 0 | D65: 0 | E65: 0 | L65: 0 | M65: 0 | N65: 0
A66: Részesedések megszűnéséhez kapcsolódó bevételek | B66: B55 | C66: 0 | D66: 0 | E66: 0 | L66: 0 | M66: 0 | N66: 0
A67: Felhalmozási bevételek | B67: B5 | C67: 0 | D67: 0 | E67: 0 | L67: 0 | M67: 0 | N67: 0
... A70: Felhalmozási célú visszatérítendő támogatások, kölcsönök visszatérülése kormányoktól és más nemzetközi szervezetektől | B70: B73 | C70: 0 | D70: 0 | E70: 0 | L70: 0 | M70: 0 | N70: 0
A71: Felhalmozási célú visszatérítendő támogatások, kölcsönök visszatérülése államháztartáson kívülről | B71: B74
A72: Egyéb felhalmozási célú átvett pénzeszközök | B72: B75
A73: Felhalmozási célú átvett pénzeszközök | B73: B7 | C73: 0 | D73: 0 | E73: 0 | L73: 0 | M73: 0 | N73: 0
A74: Felhalmozási költségvetés előirányzat csoport | C74: =C61+C67+C73 -> 38510992 | D74: =D61+D67+D73 -> 42071788 | E74: =E61+E67+E73 -> 42071788 | L74: =L61+L67+L73 -> 38510992 | M74: =M61+M67+M73 -> 42071788 | N74: =N61+N67+N73 -> 42071788
A75: Költségvetési bevételek | B75: B1-B7 | C75: =C22+C36+C48+C54+C61+C67+C73 -> 67774907 | D75: =D22+D36+D48+D54+D61+D67+D73 -> 79156204 | E75: =E22+E36+E48+E54+E61+E67+E73 -> 79147904 | L75: =L22+L36+L48+L54+L61+L67+L73 -> 67774907 | M75: =M22+M36+M48+M54+M61+M67+M73 -> 79156204 | N75: =N22+N36+N48+N54+N61+N67+N73 -> 79147904
A76: Hosszú lejáratú hitelek, kölcsönök felvétele pénzügyi vállalkozástól | B76: B8111 | C76: 0 | D76: 0 | E76: 0 | L76: 0 | M76: 0 | N76: 0
A77: Likviditási célú hitelek, kölcsönök felvétele pénzügyi vállalkozástól | B77: B8112 | C77: 0 | D77: 0 | E77: 0 | L77: 0 | M77: 0 | N77: 0
A78: Rövid lejáratú hitelek, kölcsönök felvétele pénzügyi vállalkozástól | B78: B8113 | C78: 0 | D78: 0 | E78: 0 | L78: 0 | M78: 0 | N78: 0
A79: Hitel-, kölcsönfelvétel pénzügyi vállalkozástól | B79: B811 | C79: 0 | D79: 0 | E79: 0 | L79: 0 | M79: 0 | N79: 0
A80: Forgatási célú belföldi értékpapírok beváltása, értékesítése | B80: B8121 | C80: 0 | D80: 0 | E80: 0 | L80: 0 | M80: 0 | N80: 0
A81: Éven belüli lejáratú belföldi értékpapírok kibocsátása | B81: B8122 | C81: 0 | D81: 0 | E81: 0 | L81: 0 | M81: 0 | N81: 0
A82: Befektetési célú belföldi értékpapírok beváltása, értékesítése | B82: B8123 | C82: 0 | D82: 0 | E82: 0 | L82: 0 | M82: 0 | N82: 0
A83: Éven túli lejáratú belföldi értékpapírok kibocsátása | B83: B8124 | C83: 0 | D83: 0 | E83: 0 | L83: 0 | M83: 0 | N83: 0
A84: Belföldi értékpapírok bevételei | B84: B812 | C84: 0 | D84: 0 | E84: 0 | L84: 0 | M84: 0 | N84: 0
A85: Előző év költségvetési maradványának igénybevétele | B85: B8131 | C85: 3082239 | D85: 1302988 | E85: 1302988 | L85: 3082239 | M85: 1302988 | N85: 1302988
A86: Előző év vállalkozási maradványának igénybevétele | B86: B8132 | C86: 0 | D86: 0 | E86: 0 | L86: 0 | M86: 0 | N86: 0
A87: Maradvány igénybevétele | B87: B813 | C87: 3082239 | D87: 1302988 | E87: 1302988 | L87: 3082239 | M87: 1302988 | N87: 1302988
... A93: Tulajdonosi kölcsönök bevételei | B93: B819 | C93: 0 | D93: 0 | E93: 0 | L93: 0 | M93: 0 | N93: 0
A94: Belföldi finanszírozás bevételei | B94: B81 | C94: =SUM(C87:C93) -> 3082239 | D94: =SUM(D87:D93) -> 2233259 | E94: =SUM(E87:E93) -> 2233259 | L94: =SUM(L87:L93) -> 3082239 | M94: =SUM(M87:M93) -> 2233259 | N94: =SUM(N87:N93) -> 2233259
A95: Forgatási célú külföldi értékpapírok beváltása, értékesítése | B95: B821 | C95: 0 | D95: 0 | E95: 0 | L95: 0 | M95: 0 | N95: 0
A96: Befektetési célú külföldi értékpapírok beváltása, értékesítése | B96: B822 | C96: 0 | D96: 0 | E96: 0 | L96: 0 | M96: 0 | N96: 0
A97: Külföldi értékpapírok kibocsátása | B97: B823 | C97: 0 | D97: 0 | E97: 0 | L97: 0 | M97: 0 | N97: 0
A98: Hitelek, kölcsönök felvétele külföldi kormányoktól és nemzetközi szervezetektől | B98: B824 | C98: 0 | D98: 0 | E98: 0 | L98: 0 | M98: 0 | N98: 0
A99: Hitelek, kölcsönök felvétele külföldi pénzintézetektől | B99: B825 | C99: 0 | D99: 0 | E99: 0 | L99: 0 | M99: 0 | N99: 0
A100: Külföldi finanszírozás bevételei | B100: B82 | C100: 0 | D100: 0 | E100: 0 | L100: 0 | M100: 0 | N100: 0
A101: Adóssághoz nem kapcsolódó származékos ügyletek bevételei | B101: B83 | C101: 0 | D101: 0 | E101: 0 | L101: 0 | M101: 0 | N101: 0
A102: Váltóbevételek | B102: B84 | C102: 0 | D102: 0 | E102: 0 | L102: 0 | M102: 0 | N102: 0
A103: Finanszírozási bevételek | B103: B8 | C103: =C94+C100+C101+C102 -> 3082239 | D103: =D94+D100+D101+D102 -> 2233259 | E103: =E94+E100+E101+E102 -> 2233259 | L103: =L94+L100+L101+L102 -> 3082239 | M103: =M94+M100+M101+M102 -> 2233259 | N103: =N94+N100+N101+N102 -> 2233259
A104: Bevételek összesen | B104: B1-B8 | C104: =C75+C103 -> 70857146 | D104: =D75+D103 -> 81389463 | E104: =E75+E103 -> 81381163 | L104: =L75+L103 -> 70857146 | M104: =M75+M103 -> 81389463 | N104: =N75+N103 -> 81381163

Sheet 4. melléklet
C1: 4. melléklet a 7/2021. (V.25.) önkormányzati rendelethez
A3: Nemeskolta Község Önkormányzata 2020. évi zárszámadása
A4: Kiadások (Ft)
A6: ÖNKORMÁNYZATI ELŐIRÁNYZATOK
A7: Rovat megnevezése | B7: Rovat-szám | C7: ÖSSZESEN
C8: eredeti ei. | D8: módosított ei. | E8: teljesítés
A9: Törvény szerinti illetmények, munkabérek | B9: K1101 | C9: ='5. melléklet'!L9 -> 6991000 | D9: ='5. melléklet'!M9 -> 8359907 | E9: ='5. melléklet'!N9 -> 8359907
A10: Normatív jutalmak | B10: K1102 | C10: ='5. melléklet'!L10 -> 100000 | D10: ='5. melléklet'!M10 -> 0 | E10: ='5. melléklet'!N10 -> 0
A11: Céljuttatás, projektprémium | B11: K1103 | C11: ='5. melléklet'!L11 -> 0 | D11: ='5. melléklet'!M11 -> 104479 | E11: ='5. melléklet'!N11 -> 104479
A12: Készenléti, ügyeleti, helyettesítési díj, túlóra, túlszolgálat | B12: K1104 | C12: ='5. melléklet'!L12 -> 0 | D12: ='5. melléklet'!M12 -> 0 | E12: ='5. melléklet'!N12 -> 0
A13: Végkielégítés | B13: K1105 | C13: ='5. melléklet'!L13 -> 0 | D13: ='5. melléklet'!M13 -> 0 | E13: ='5. melléklet'!N13 -> 0
A14: Jubileumi jutalom | B14: K1106 | C14: ='5. melléklet'!L14 -> 0 | D14: ='5. melléklet'!M14 -> 0 | E14: ='5. melléklet'!N14 -> 0
A15: Béren kívüli juttatások | B15: K1107 | C15: ='5. melléklet'!L15 -> 0 | D15: ='5. melléklet'!M15 -> 0 | E15: ='5. melléklet'!N15 -> 0
A16: Ruházati költségtérítés | B16: K1108 | C16: ='5. melléklet'!L16 -> 0 | D16: ='5. melléklet'!M16 -> 0 | E16: ='5. melléklet'!N16 -> 0
A17: Közlekedési költségtérítés | B17: K1109 | C17: ='5. melléklet'!L17 -> 0 | D17: ='5. melléklet'!M17 -> 0 | E17: ='5. melléklet'!N17 -> 0
A18: Egyéb költségtérítések | B18: K1110 | C18: ='5. melléklet'!L18 -> 0 | D18: ='5. melléklet'!M18 -> 0 | E18: ='5. melléklet'!N18 -> 0
A19: Lakhatási támogatások | B19: K1111 | C19: ='5. melléklet'!L19 -> 0 | D19: ='5. melléklet'!M19 -> 0 | E19: ='5. melléklet'!N19 -> 0
A20: Szociális támogatások | B20: K1112 | C20: ='5. melléklet'!L20 -> 0 | D20: ='5. melléklet'!M20 -> 0 | E20: ='5. melléklet'!N20 -> 0
A21: Foglalkoztatottak egyéb személyi juttatásai | B21: K1113 | C21: ='5. melléklet'!L21 -> 90000 | D21: ='5. melléklet'!M21 -> 14100 | E21: ='5. melléklet'!N21 -> 14100
A22: Foglalkoztatottak személyi juttatásai | B22: K11 | C22: =SUM(C9:C21) -> 7181000 | D22: =SUM(D9:D21) -> 8478486 | E22: =SUM(E9:E21) -> 8478486
A23: Választott tisztségviselők juttatásai | B23: K121 | C23: ='5. melléklet'!L23 -> 2065000 | D23: ='5. melléklet'!M23 -> 2064480 | E23: ='5. melléklet'!N23 -> 2064480
A24: Munkavégzésre irányuló egyéb jogviszonyban nem saját foglalkoztatottnak fizetett juttatások | B24: K122 | C24: ='5. melléklet'!L24 -> 360000 | D24: ='5. melléklet'!M24 -> 360000 | E24: ='5. melléklet'!N24 -> 360000
A25: Egyéb külső személyi juttatások | B25: K123 | C25: ='5. melléklet'!L25 -> 500000 | D25: ='5. melléklet'!M25 -> 375363 | E25: ='5. melléklet'!N25 -> 375363
A26: Külső személyi juttatások | B26: K12 | C26: =SUM(C23:C25) -> 2925000 | D26: =SUM(D23:D25) -> 2799843 | E26: =SUM(E23:E25) -> 2799843
A27: Személyi juttatások | B27: K1 | C27: =SUM(C26,C22) -> 10106000 | D27: =SUM(D26,D22) -> 11278329 | E27: =SUM(E26,E22) -> 11278329
A28: Munkaadókat terhelő járulékok és szociális hozzájárulási adó | B28: K2 | C28: ='5. melléklet'!L28 -> 1873000 | D28: ='5. melléklet'!M28 -> 1796725 | E28: ='5. melléklet'!N28 -> 1796725
A29: Szakmai anyagok beszerzése | B29: K311 | C29: ='5. melléklet'!L29 -> 40000 | D29: ='5. melléklet'!M29 -> 31943 | E29: ='5. melléklet'!N29 -> 31943
A30: Üzemeltetési anyagok beszerzése | B30: K312 | C30: ='5. melléklet'!L30 -> 2949000 | D30: ='5. melléklet'!M30 -> 4374736 | E30: ='5. melléklet'!N30 -> 4374736
A31: Árubeszerzés | B31: K313 | C31: ='5. melléklet'!L31 -> 0 | D31: ='5. melléklet'!M31 -> 0 | E31: ='5. melléklet'!N31 -> 0
A32: Készletbeszerzés | B32: K31 | C32: =SUM(C29:C31) -> 2989000 | D32: =SUM(D29:D31) -> 4406679 | E32: =SUM(E29:E31) -> 4406679
A33: Informatikai szolgáltatások igénybevétele | B33: K321 | C33: ='5. melléklet'!L33 -> 65000 | D33: ='5. melléklet'!M33 -> 68910 | E33: ='5. melléklet'!N33 -> 68910
A34: Egyéb kommunikációs szolgáltatások | B34: K322 | C34: ='5. melléklet'!L34 -> 205000 | D34: ='5. melléklet'!M34 -> 173062 | E34: ='5. melléklet'!N34 -> 173062
A35: Kommunikációs szolgáltatások | B35: K32 | C35: =SUM(C33:C34) -> 270000 | D35: =SUM(D33:D34) -> 241972 | E35: =SUM(E33:E34) -> 241972
A36: Közüzemi díjak | B36: K331 | C36: ='5. melléklet'!L36 -> 1850000 | D36: ='5. melléklet'!M36 -> 1850000 | E36: ='5. melléklet'!N36 -> 1718351
A37: Vásárolt élelmezés | B37: K332 | C37: ='5. melléklet'!L37 -> 0 | D37: ='5. melléklet'!M37 -> 127136 | E37: ='5. melléklet'!N37 -> 127136
A38: Bérleti és lízing díjak | B38: K333 | C38: ='5. melléklet'!L38 -> 0 | D38: ='5. melléklet'!M38 -> 0 | E38: ='5. melléklet'!N38 -> 0
A39: Karbantartási, kisjavítási szolgáltatások | B39: K334 | C39: ='5. melléklet'!L39 -> 550000 | D39: ='5. melléklet'!M39 -> 244722 | E39: ='5. melléklet'!N39 -> 244722
A40: Közvetített szolgáltatások | B40: K335 | C40: ='5. melléklet'!L40 -> 0 | D40: ='5. melléklet'!M40 -> 0 | E40: ='5. melléklet'!N40 -> 0
A41: Szakmai tevékenységet segítő szolgáltatások | B41: K336 | C41: ='5. melléklet'!L41 -> 200000 | D41: ='5. melléklet'!M41 -> 1593900 | E41: ='5. melléklet'!N41 -> 1593900
A42: Egyéb szolgáltatások | B42: K337 | C42: ='5. melléklet'!L42 -> 1955000 | D42: ='5. melléklet'!M42 -> 2777207 | E42: ='5. melléklet'!N42 -> 2163350
A43: Szolgáltatási kiadások | B43: K33 | C43: =SUM(C36:C42) -> 4555000 | D43: =SUM(D36:D42) -> 6592965 | E43: =SUM(E36:E42) -> 5847459
A44: Kiküldetések kiadásai | B44: K341 | C44: ='5. melléklet'!L44 -> 0 | D44: ='5. melléklet'!M44 -> 0 | E44: ='5. melléklet'!N44 -> 0
A45: Reklám- és propagandakiadások | B45: K342 | C45: ='5. melléklet'!L45 -> 0 | D45: ='5. melléklet'!M45 -> 0 | E45: ='5. melléklet'!N45 -> 0
A46: Kiküldetések, reklám- és propagandakiadások | B46: K34 | C46: =SUM(C44:C45) -> 0 | D46: =SUM(D44:D45) -> 0 | E46: =SUM(E44:E45) -> 0
A47: Működési célú előzetesen felszámított általános forgalmi adó | B47: K351 | C47: ='5. melléklet'!L47 -> 1922000 | D47: ='5. melléklet'!M47 -> 2617414 | E47: ='5. melléklet'!N47 -> 2429227
A48: Fizetendő általános forgalmi adó | B48: K352 | C48: ='5. melléklet'!L48 -> 0 | D48: ='5. melléklet'!M48 -> 0 | E48: ='5. melléklet'!N48 -> 0
A49: Kamatkiadások | B49: K353 | C49: ='5. melléklet'!L49 -> 0 | D49: ='5. melléklet'!M49 -> 0 | E49: ='5. melléklet'!N49 -> 0
A50: Egyéb pénzügyi műveletek kiadásai | B50: K354 | C50: ='5. melléklet'!L50 -> 0 | D50: ='5. melléklet'!M50 -> 0 | E50: ='5. melléklet'!N50 -> 0
A51: Egyéb dologi kiadások | B51: K355 | C51: ='5. melléklet'!L51 -> 15000 | D51: ='5. melléklet'!M51 -> 13353 | E51: ='5. melléklet'!N51 -> 13353
A52: Különféle befizetések és egyéb dologi kiadások | B52: K35 | C52: =SUM(C47:C51) -> 1937000 | D52: =SUM(D47:D51) -> 2630767 | E52: =SUM(E47:E51) -> 2442580
A53: Dologi kiadások | B53: K3 | C53: =SUM(C52,C46,C43,C35,C32) -> 9751000 | D53: =SUM(D52,D46,D43,D35,D32) -> 13872383 | E53: =SUM(E52,E46,E43,E35,E32) -> 12938690
A54: Társadalombiztosítási ellátások | B54: K41 | C54: ='5. melléklet'!L54 -> 0 | D54: ='5. melléklet'!M54 -> 0 | E54: ='5. melléklet'!N54 -> 0
A55: Családi támogatások | B55: K42 | C55: ='5. melléklet'!L55 -> 0 | D55: ='5. melléklet'!M55 -> 0 | E55: ='5. melléklet'!N55 -> 0
A56: Pénzbeli kárpótlások, kártérítések | B56: K43 | C56: ='5. melléklet'!L56 -> 0 | D56: ='5. melléklet'!M56 -> 0 | E56: ='5. melléklet'!N56 -> 0
A57: Betegséggel kapcsolatos (nem társadalombiztosítási) ellátások | B57: K44 | C57: ='5. melléklet'!L57 -> 0 | D57: ='5. melléklet'!M57 -> 0 | E57: ='5. melléklet'!N57 -> 0
A58: Foglalkoztatással, munkanélküliséggel kapcsolatos ellátások | B58: K45 | C58: ='5. melléklet'!L58 -> 0 | D58: ='5. melléklet'!M58 -> 0 | E58: ='5. melléklet'!N58 -> 0
A59: Lakhatással kapcsolatos ellátások | B59: K46 | C59: ='5. melléklet'!L59 -> 0 | D59: ='5. melléklet'!M59 -> 0 | E59: ='5. melléklet'!N59 -> 0
A60: Intézményi ellátottak pénzbeli juttatásai | B60: K47 | C60: ='5. melléklet'!L60 -> 0 | D60: ='5. melléklet'!M60 -> 0 | E60: ='5. melléklet'!N60 -> 0
A61: Egyéb nem intézményi ellátások | B61: K48 | C61: ='5. melléklet'!L61 -> 2600000 | D61: ='5. melléklet'!M61 -> 1522000 | E61: ='5. melléklet'!N61 -> 1522000
A62: Ellátottak pénzbeli juttatásai | B62: K4 | C62: =SUM(C54:C61) -> 2600000 | D62: =SUM(D54:D61) -> 1522000 | E62: =SUM(E54:E61) -> 1522000
A63: Nemzetközi kötelezettségek | B63: K501 | C63: ='5. melléklet'!L63 -> 0 | D63: ='5. melléklet'!M63 -> 0 | E63: ='5. melléklet'!N63 -> 0
A64: Elvonások és befizetések | B64: K502 | C64: ='5. melléklet'!L64 -> 0 | D64: ='5. melléklet'!M64 -> 36000 | E64: ='5. melléklet'!N64 -> 36000
A65: Működési célú garancia- és kezességvállalásból származó kifizetés államháztartáson belülre | B65: K503 | C65: ='5. melléklet'!L65 -> 0 | D65: ='5. melléklet'!M65 -> 0 | E65: ='5. melléklet'!N65 -> 0
A66: Működési célú visszatérítendő támogatások, kölcsönök nyújtása államháztartáson belülre | B66: K504 | C66: ='5. melléklet'!L66 -> 0 | D66: ='5. melléklet'!M66 -> 0 | E66: ='5. melléklet'!N66 -> 0
A67: Működési célú visszatérítendő támogatások, kölcsönök törlesztése államháztartáson belülre | B67: K505 | C67: ='5. melléklet'!L67 -> 0 | D67: ='5. melléklet'!M67 -> 0 | E67: ='5. melléklet'!N67 -> 0
A68: Egyéb működési célú támogatások államháztartáson belülre | B68: K506 | C68: ='5. melléklet'!L68 -> 2550663 | D68: ='5. melléklet'!M68 -> 5778140 | E68: ='5. melléklet'!N68 -> 5778140
A69: Működési célú garancia- és kezességvállalásból származó kifizetés államháztartáson kívülre | B69: K507 | C69: ='5. melléklet'!L69 -> 0 | D69: ='5. melléklet'!M69 -> 0 | E69: ='5. melléklet'!N69 -> 0
A70: Működési célú visszatérítendő támogatások, kölcsönök nyújtása államháztartáson kívülre | B70: K508 | C70: ='5. melléklet'!L70 -> 0 | D70: ='5. melléklet'!M70 -> 0 | E70: ='5. melléklet'!N70 -> 0
A71: Árkiegészítések, ártámogatások | B71: K509 | C71: ='5. melléklet'!L71 -> 0 | D71: ='5. melléklet'!M71 -> 0 | E71: ='5. melléklet'!N71 -> 0
A72: Kamattámogatások | B72: K510 | C72: ='5. melléklet'!L72 -> 0 | D72: ='5. melléklet'!M72 -> 0 | E72: ='5. melléklet'!N72 -> 0
A73: Működési célú támogatások az Európai Uniónak | B73: K511 | C73: ='5. melléklet'!L73 -> 0 | D73: ='5. melléklet'!M73 -> 0 | E73: ='5. melléklet'!N73 -> 0
A74: Egyéb működési célú támogatások államháztartáson kívülre | B74: K512 | C74: ='5. melléklet'!L74 -> 1020000 | D74: ='5. melléklet'!M74 -> 370000 | E74: ='5. melléklet'!N74 -> 370000
A75: Tartalékok | B75: K513 | C75: ='5. melléklet'!L75 -> 6180207 | D75: ='5. melléklet'!M75 -> 45367369 | E75: ='5. melléklet'!N75 -> 0
A76: Egyéb működési célú kiadások | B76: K5 | C76: =SUM(C63:C75) -> 9750870 | D76: =SUM(D63:D75) -> 51551509 | E76: =SUM(E63:E75) -> 6184140
A77: Működési költségvetés előirányzat csoport | C77: =C27+C28+C53+C62+C76 -> 34080870 | D77: =D27+D28+D53+D62+D76 -> 80020946 | E77: =E27+E28+E53+E62+E76 -> 33719884
A78: Immateriális javak beszerzése, létesítése | B78: K61 | C78: ='5. melléklet'!L78 -> 0 | D78: ='5. melléklet'!M78 -> 0 | E78: ='5. melléklet'!N78 -> 0
A79: Ingatlanok beszerzése, létesítése | B79: K62 | C79: ='5. melléklet'!L79 -> 0 | D79: ='5. melléklet'!M79 -> 0 | E79: ='5. melléklet'!N79 -> 0
A80: Informatikai eszközök beszerzése, létesítése | B80: K63 | C80: ='5. melléklet'!L80 -> 0 | D80: ='5. melléklet'!M80 -> 0 | E80: ='5. melléklet'!N80 -> 0
A81: Egyéb tárgyi eszközök beszerzése, létesítése | B81: K64 | C81: ='5. melléklet'!L81 -> 200000 | D81: ='5. melléklet'!M81 -> 363970 | E81: ='5. melléklet'!N81 -> 363970
A82: Részesedések beszerzése | B82: K65 | C82: ='5. melléklet'!L82 -> 0 | D82: ='5. melléklet'!M82 -> 0 | E82: ='5. melléklet'!N82 -> 0
A83: Meglévő részesedések növeléséhez kapcsolódó kiadások | B83: K66 | C83: ='5. melléklet'!L83 -> 0 | D83: ='5. melléklet'!M83 -> 0 | E83: ='5. melléklet'!N83 -> 0
A84: Beruházási célú előzetesen felszámított általános forgalmi adó | B84: K67 | C84: ='5. melléklet'!L84 -> 110000 | D84: ='5. melléklet'!M84 -> 98270 | E84: ='5. melléklet'!N84 -> 98270
A85: Beruházások | B85: K6 | C85: =SUM(C78:C84) -> 310000 | D85: =SUM(D78:D84) -> 462240 | E85: =SUM(E78:E84) -> 462240
A86: Ingatlanok felújítása | B86: K71 | C86: ='5. melléklet'!L86 -> 28000000 | D86: ='5. melléklet'!M86 -> 0 | E86: ='5. melléklet'!N86 -> 0
A87: Informatikai eszközök felújítása | B87: K72 | C87: ='5. melléklet'!L87 -> 0 | D87: ='5. melléklet'!M87 -> 0 | E87: ='5. melléklet'!N87 -> 0
A88: Egyéb tárgyi eszközök felújítása | B88: K73 | C88: ='5. melléklet'!L88 -> 0 | D88: ='5. melléklet'!M88 -> 0 | E88: ='5. melléklet'!N88 -> 0
A89: Felújítási célú előzetesen felszámított általános forgalmi adó | B89: K74 | C89: ='5. melléklet'!L89 -> 7559999 | D89: ='5. melléklet'!M89 -> 0 | E89: ='5. melléklet'!N89 -> 0
A90: Felújítások | B90: K7 | C90: =SUM(C86:C89) -> 35559999 | D90: =SUM(D86:D89) -> 0 | E90: =SUM(E86:E89) -> 0
A91: Felhalmozási célú garancia- és kezességvállalásból származó kifizetés államháztartáson belülre | B91: K81 | C91: ='5. melléklet'!L91 -> 0 | D91: ='5. melléklet'!M91 -> 0 | E91: ='5. melléklet'!N91 -> 0
A92: Felhalmozási célú visszatérítendő támogatások, kölcsönök nyújtása államháztartáson belülre | B92: K82 | C92: ='5. melléklet'!L92 -> 0 | D92: ='5. melléklet'!M92 -> 0 | E92: ='5. melléklet'!N92 -> 0
A93: Felhalmozási célú visszatérítendő támogatások, kölcsönök törlesztése államháztartáson belülre | B93: K83 | C93: ='5. melléklet'!L93 -> 0 | D93: ='5. melléklet'!M93 -> 0 | E93: ='5. melléklet'!N93 -> 0
A94: Egyéb felhalmozási célú támogatások államháztartáson belülre | B94: K84 | C94: ='5. melléklet'!L94 -> 0 | D94: ='5. melléklet'!M94 -> 0 | E94: ='5. melléklet'!N94 -> 0
A95: Felhalmozási célú garancia- és kezességvállalásból származó kifizetés államháztartáson kívülre | B95: K85 | C95: ='5. melléklet'!L95 -> 0 | D95: ='5. melléklet'!M95 -> 0 | E95: ='5. melléklet'!N95 -> 0
A96: Felhalmozási célú visszatérítendő támogatások, kölcsönök nyújtása államháztartáson kívülre | B96: K86 | C96: ='5. melléklet'!L96 -> 0 | D96: ='5. melléklet'!M96 -> 0 | E96: ='5. melléklet'!N96 -> 0
A97: Lakástámogatás | B97: K87 | C97: ='5. melléklet'!L97 -> 0 | D97: ='5. melléklet'!M97 -> 0 | E97: ='5. melléklet'!N97 -> 0
A98: Felhalmozási célú támogatások az Európai Uniónak | B98: K88 | C98: ='5. melléklet'!L98 -> 0 | D98: ='5. melléklet'!M98 -> 0 | E98: ='5. melléklet'!N98 -> 0
A99: Egyéb felhalmozási célú támogatások államháztartáson kívülre | B99: K89 | C99: ='5. melléklet'!L99 -> 0 | D99: ='5. melléklet'!M99 -> 0 | E99: ='5. melléklet'!N99 -> 0
A100: Egyéb felhalmozási célú kiadások | B100: K8 | C100: =SUM(C91:C99) -> 0 | D100: =SUM(D91:D99) -> 0 | E100: =SUM(E91:E99) -> 0
A101: Felhalmozási költségvetés előirányzat csoport | C101: ='5. melléklet'!L101 -> 35869999 | D101: ='5. melléklet'!M101 -> 462240 | E101: ='5. melléklet'!N101 -> 462240
A102: Költségvetési kiadások | B102: K1-K8 | C102: =SUM(C100,C90,C85,C76,C62,C53,C28,C27) -> 69950869 | D102: =SUM(D100,D90,D85,D76,D62,D53,D28,D27) -> 80483186 | E102: =SUM(E100,E90,E85,E76,E62,E53,E28,E27) -> 34182124
...

Sheet 5. melléklet
J2: 5. melléklet a 7/2021. (V.25.) önkormányzati rendelethez
A3: Nemeskolta Község Önkormányzata 2020. évi zárszámadása
A4: Kiadások ( Ft)
A6: ÖNKORMÁNYZATI ELŐIRÁNYZATOK
A7: Rovat megnevezése | B7: Rovat-szám | C7: kötelező feladatok | F7: önként vállalt feladatok | I7: állami (államigazgatási) feladatok | L7: ÖSSZESEN
C8: eredeti ei. | D8: módosított ei. | E8: teljesítés | F8: eredeti ei. | G8: módosított ei. | H8: teljesítés | I8: eredeti ei. | J8: módosított ei. | K8: teljesítés | L8: eredeti ei. | M8: módosított ei. | N8: teljesítés
A9: Törvény szerinti illetmények, munkabérek | B9: K1101 | C9: 6991000 | D9: 8359907 | E9: 8359907 | F9: 0 | G9: 0 | H9: 0 | I9: 0 | J9: 0 | K9: 0 | L9: 6991000 | M9: 8359907 | N9: 8359907
A10: Normatív jutalmak | B10: K1102 | C10: 100000 | D10: 0 | E10: 0 | F10: 0 | G10: 0 | H10: 0 | I10: 0 | J10: 0 | K10: 0 | L10: 100000 | M10: 0 | N10: 0
A11: Céljuttatás, projektprémium | B11: K1103 | C11: 0 | D11: 104479 | E11: 104479 | F11: 0 | G11: 0 | H11: 0 | I11: 0 | J11: 0 | K11: 0 | L11: 0 | M11: 104479 | N11: 104479
A12: Készenléti, ügyeleti, helyettesítési díj, túlóra, túlszolgálat | B12: K1104 | C12: 0 | D12: 0 | E12: 0 | F12: 0 | G12: 0 | H12: 0 | I12: 0 | J12: 0 | K12: 0 | L12: 0 | M12: 0 | N12: 0
A13: Végkielégítés | B13: K1105 | C13: 0 | D13: 0 | E13: 0 | F13: 0 | G13: 0 | H13: 0 | I13: 0 | J13: 0 | K13: 0 | L13: 0 | M13: 0 | N13: 0
A14: Jubileumi jutalom | B14: K1106 | C14: 0 | D14: 0 | E14: 0 | F14: 0 | G14: 0 | H14: 0 | I14: 0 | J14: 0 | K14: 0 | L14: 0 | M14: 0 | N14: 0
A15: Béren kívüli juttatások | B15: K1107 | C15: 0 | D15: 0 | E15: 0 | F15: 0 | G15: 0 | H15: 0 | I15: 0 | J15: 0 | K15: 0 | L15: 0 | M15: 0 | N15: 0
A16: Ruházati költségtérítés | B16: K1108 | C16: 0 | D16: 0 | E16: 0 | F16: 0 | G16: 0 | H16: 0 | I16: 0 | J16: 0 | K16: 0 | L16: 0 | M16: 0 | N16: 0
A17: Közlekedési költségtérítés | B17: K1109 | C17: 0 | D17: 0 | E17: 0 | F17: 0 | G17: 0 | H17: 0 | I17: 0 | J17: 0 | K17: 0 | L17: 0 | M17: 0 | N17: 0
A18: Egyéb költségtérítések | B18: K1110 | C18: 0 | D18: 0 | E18: 0 | F18: 0 | G18: 0 | H18: 0 | I18: 0 | J18: 0 | K18: 0 | L18: 0 | M18: 0 | N18: 0
A19: Lakhatási támogatások | B19: K1111 | C19: 0 | D19: 0 | E19: 0 | F19: 0 | G19: 0 | H19: 0 | I19: 0 | J19: 0 | K19: 0 | L19: 0 | M19: 0 | N19: 0
A20: Szociális támogatások | B20: K1112 | C20: 0 | D20: 0 | E20: 0 | F20: 0 | G20: 0 | H20: 0 | I20: 0 | J20: 0 | K20: 0 | L20: 0 | M20: 0 | N20: 0
... A76: Egyéb működési célú kiadások | B76: K5 | C76: 9750870 | D76: 51551509 | E76: 6184140 | F76: 0 | G76: 0 | H76: 0 | I76: 0 | J76: 0 | K76: 0 | L76: 9750870 | M76: 51551509 | N76: 6184140
A77: Működési költségvetés előirányzat csoport | C77: =C27+C28+C53+C62+C76 -> 34080870 | D77: =D27+D28+D53+D62+D76 -> 80020946 | E77: =E27+E28+E53+E62+E76 -> 33719884 | F77: =F27+F28+F53+F62+F76 -> 0 | G77: =G27+G28+G53+G62+G76 -> 0 | H77: =H27+H28+H53+H62+H76 -> 0 | I77: =I27+I28+I53+I62+I76 -> 0 | J77: =J27+J28+J53+J62+J76 -> 0 | ... N77: =N27+N28+N53+N62+N76 -> 33719884
A78: Immateriális javak beszerzése, létesítése | B78: K61 | C78: 0 | D78: 0 | E78: 0 | F78: 0 | G78: 0 | H78: 0 | I78: 0 | J78: 0 | K78: 0 | L78: 0 | M78: 0 | N78: 0
A79: Ingatlanok beszerzése, létesítése | B79: K62 | C79: 0 | D79: 0 | E79: 0 | F79: 0 | G79: 0 | H79: 0 | I79: 0 | J79: 0 | K79: 0 | L79: 0 | M79: 0 | N79: 0
A80: Informatikai eszközök beszerzése, létesítése | B80: K63 | C80: 0 | D80: 0 | E80: 0 | F80: 0 | G80: 0 | H80: 0 | I80: 0 | J80: 0 | K80: 0 | L80: 0 | M80: 0 | N80: 0
A81: Egyéb tárgyi eszközök beszerzése, létesítése | B81: K64 | C81: 200000 | D81: 363970 | E81: 363970 | F81: 0 | G81: 0 | H81: 0 | I81: 0 | J81: 0 | K81: 0 | L81: 200000 | M81: 363970 | N81: 363970
A82: Részesedések beszerzése | B82: K65 | C82: 0 | D82: 0 | E82: 0 | F82: 0 | G82: 0 | H82: 0 | I82: 0 | J82: 0 | K82: 0 | L82: 0 | M82: 0 | N82: 0
A83: Meglévő részesedések növeléséhez kapcsolódó kiadások | B83: K66 | C83: 0 | D83: 0 | E83: 0 | F83: 0 | G83: 0 | H83: 0 | I83: 0 | J83: 0 | K83: 0 | L83: 0 | M83: 0 | N83: 0
A84: Beruházási célú előzetesen felszámított általános forgalmi adó | B84: K67 | C84: 110000 | D84: 98270 | E84: 98270 | F84: 0 | G84: 0 | H84: 0 | I84: 0 | J84: 0 | K84: 0 | L84: 110000 | M84: 98270 | N84: 98270
A85: Beruházások | B85: K6 | C85: 310000 | D85: 462240 | E85: 462240 | F85: 0 | G85: 0 | H85: 0 | I85: 0 | J85: 0 | K85: 0 | L85: 310000 | M85: 462240 | N85: 462240
A86: Ingatlanok felújítása | B86: K71 | C86: 28000000 | D86: 0 | E86: 0 | F86: 0 | G86: 0 | H86: 0 | I86: 0 | J86: 0 | K86: 0 | L86: 28000000 | M86: 0 | N86: 0
A87: Informatikai eszközök felújítása | B87: K72 | C87: 0 | D87: 0 | E87: 0 | F87: 0 | G87: 0 | H87: 0 | I87: 0 | J87: 0 | K87: 0 | L87: 0 | M87: 0 | N87: 0
A88: Egyéb tárgyi eszközök felújítása | B88: K73 | C88: 0 | D88: 0 | E88: 0 | F88: 0 | G88: 0 | H88: 0 | I88: 0 | J88: 0 | K88: 0 | L88: 0 | M88: 0 | N88: 0
A89: Felújítási célú előzetesen felszámított általános forgalmi adó | B89: K74 | C89: 7559999 | D89: 0 | E89: 0 | F89: 0 | G89: 0 | H89: 0 | I89: 0 | J89: 0 | K89: 0 | L89: 7559999 | M89: 0 | N89: 0
... A96: Felhalmozási célú visszatérítendő támogatások, kölcsönök nyújtása államháztartáson kívülre | B96: K86 | C96: 0 | D96: 0 | E96: 0 | F96: 0 | G96: 0 | H96: 0 | I96: 0 | J96: 0 | K96: 0 | L96: 0 | M96: 0 | N96: 0
A97: Lakástámogatás | B97: K87 | F97: 0 | G97: 0 | H97: 0 | I97: 0 | J97: 0 | K97: 0
A98: Felhalmozási célú támogatások az Európai Uniónak | B98: K88 | F98: 0 | G98: 0 | H98: 0 | I98: 0 | J98: 0 | K98: 0
A99: Egyéb felhalmozási célú támogatások államháztartáson kívülre | B99: K89 | C99: 0 | D99: 0 | E99: 0 | F99: 0 | G99: 0 | H99: 0 | I99: 0 | J99: 0 | K99: 0 | L99: 0 | M99: 0 | N99: 0
A100: Egyéb felhalmozási célú kiadások | B100: K8 | C100: 0 | D100: 0 | E100: 0 | F100: 0 | G100: 0 | H100: 0 | I100: 0 | J100: 0 | K100: 0 | L100: 0 | M100: 0 | N100: 0
A101: Felhalmozási költségvetés előirányzat csoport | C101: =C85+C90+C100 -> 35869999 | D101: =D85+D90+D100 -> 462240 | E101: =E85+E90+E100 -> 462240 | F101: =F85+F90+F100 -> 0 | G101: =G85+G90+G100 -> 0 | H101: =H85+H90+H100 -> 0 | I101: =I85+I90+I100 -> 0 | J101: =J85+J90+J100 -> 0 | ... N101: =N85+N90+N100 -> 462240
A102: Költségvetési kiadások | B102: K1-K8 | C102: =C27+C28+C53+C62+C76+C85+C90+C100 -> 69950869 | D102: =D27+D28+D53+D62+D76+D85+D90+D100 -> 80483186 | E102: =E27+E28+E53+E62+E76+E85+E90+E100 -> 34182124 | F102: 0 | G102: 0 | H102: 0 | I102: 0 | J102: 0 | K102: 0 | L102: =L27+L28+L53+L62+L76+L85+L90+L100 -> 69950869 | M102: =M27+M28+M53+M62+M76+M85+M90+M100 -> 80483186 | N102: =N27+N28+N53+N62+N76+N85+N90+N100 -> 34182124
A103: Hosszú lejáratú hitelek, kölcsönök törlesztése pénzügyi vállalkozásnak | B103: K9111 | C103: 0 | D103: 0 | E103: 0 | F103: 0 | G103: 0 | H103: 0 | I103: 0 | J103: 0 | K103: 0 | L103: 0 | M103: 0 | N103: 0
A104: Likviditási célú hitelek, kölcsönök törlesztése pénzügyi vállalkozásnak | B104: K9112 | C104: 0 | D104: 0 | E104: 0 | F104: 0 | G104: 0 | H104: 0 | I104: 0 | J104: 0 | K104: 0 | L104: 0 | M104: 0 | N104: 0
A105: Rövid lejáratú hitelek, kölcsönök törlesztése pénzügyi vállalkozásnak | B105: K9113 | C105: 0 | D105: 0 | E105: 0 | F105: 0 | G105: 0 | H105: 0 | I105: 0 | J105: 0 | K105: 0 | L105: 0 | M105: 0 | N105: 0
A106: Hitel-, kölcsöntörlesztés államháztartáson kívülre | B106: K911 | C106: 0 | D106: 0 | E106: 0 | F106: 0 | G106: 0 | H106: 0 | I106: 0 | J106: 0 | K106: 0 | L106: 0 | M106: 0 | N106: 0
A107: Forgatási célú belföldi értékpapírok vásárlása | B107: K9121 | C107: 0 | D107: 0 | E107: 0 | F107: 0 | G107: 0 | H107: 0 | I107: 0 | J107: 0 | K107: 0 | L107: 0 | M107: 0 | N107: 0
A108: Befektetési célú belföldi értékpapírok vásárlása | B108: K9122 | C108: 0 | D108: 0 | E108: 0 | F108: 0 | G108: 0 | H108: 0 | I108: 0 | J108: 0 | K108: 0 | L108: 0 | M108: 0 | N108: 0
A109: Kincstárjegyek beváltása | B109: K9123 | C109: 0 | D109: 0 | E109: 0 | F109: 0 | G109: 0 | H109: 0 | I109: 0 | J109: 0 | K109: 0 | L109: 0 | M109: 0 | N109: 0
A110: Éven belüli lejáratú belföldi értékpapírok beváltása | B110: K9124 | C110: 0 | D110: 0 | E110: 0 | F110: 0 | G110: 0 | H110: 0 | I110: 0 | J110: 0 | K110: 0 | L110: 0 | M110: 0 | N110: 0
A111: Belföldi kötvények beváltása | B111: K9125 | C111: 0 | D111: 0 | E111: 0 | F111: 0 | G111: 0 | H111: 0 | I111: 0 | J111: 0 | K111: 0 | L111: 0 | M111: 0 | N111: 0
A112: Éven túli lejáratú belföldi értékpapírok beváltása | B112: K9126 | C112: 0 | D112: 0 | E112: 0 | F112: 0 | G112: 0 | H112: 0 | I112: 0 | J112: 0 | K112: 0 | L112: 0 | M112: 0 | N112: 0
A113: Belföldi értékpapírok kiadásai | B113: K912 | C113: 0 | D113: 0 | E113: 0 | F113: 0 | G113: 0 | H113: 0 | I113: 0 | J113: 0 | K113: 0 | L113: 0 | M113: 0 | N113: 0
A114: Államháztartáson belüli megelőlegezések folyósítása | B114: K913 | C114: 0 | D114: 0 | E114: 0 | F114: 0 | G114: 0 | H114: 0 | I114: 0 | J114: 0 | K114: 0 | L114: 0 | M114: 0 | N114: 0
... A129: Váltókiadások | B129: K94 | C129: 0 | D129: 0 | E129: 0 | F129: 0 | G129: 0 | H129: 0 | I129: 0 | J129: 0 | K129: 0 | L129: 0 | M129: 0 | N129: 0
A130: Finanszírozási kiadások | B130: K9 | C130: =C121+C127+C128+C129 -> 906277 | D130: =D121+D127+D128+D129 -> 906277 | E130: =E121+E127+E128+E129 -> 906277 | F130: 0 | G130: 0 | H130: 0 | I130: 0 | J130: 0 | K130: 0 | L130: =L121+L127+L128+L129 -> 906277 | M130: =M121+M127+M128+M129 -> 906277 | N130: =N121+N127+N128+N129 -> 906277
A131: Kiadások összesen | B131: K1-K9 | C131: =C102+C130 -> 70857146 | D131: =D102+D130 -> 81389463 | E131: =E102+E130 -> 35088401 | F131: 0 | G131: 0 | H131: 0 | I131: 0 | J131: 0 | K131: 0 | L131: =L102+L130 -> 70857146 | M131: =M102+M130 -> 81389463 | N131: =N102+N130 -> 35088401

Sheet 6. melléklet
B1: 6. melléklet a 7/2021. (V.25.) önkormányzati rendelethez
A3: Nemeskolta Község Önkormányzata 2020. évi zárszámadása
A4: Beruházások és felújítások (Ft)
A6: Megnevezés | B6: Rovat-szám | C6: ÖNKORMÁNYZATI ELŐIRÁNYZATOK
C7: eredeti ei. | D7: módosított ei. | E7: teljesítés
A9: Immateriális javak beszerzése, létesítése | B9: K61 | C9: ='5. melléklet'!L78 -> 0 | D9: ='5. melléklet'!M78 -> 0 | E9: ='5. melléklet'!N78 -> 0
A11: Ingatlanok beszerzése, létesítése | B11: K62 | C11: ='5. melléklet'!L79 -> 0 | D11: ='5. melléklet'!M79 -> 0 | E11: ='5. melléklet'!N79 -> 0
A13: Informatikai eszközök beszerzése, létesítése | B13: K63 | C13: ='5. melléklet'!L80 -> 0 | D13: ='5. melléklet'!M80 -> 0 | E13: ='5. melléklet'!N80 -> 0
A15: Egyéb tárgyi eszközök beszerzése, létesítése | B15: K64 | C15: ='5. melléklet'!L81 -> 200000 | D15: ='5. melléklet'!M81 -> 363970 | E15: ='5. melléklet'!N81 -> 363970
A17: Részesedések beszerzése | B17: K65 | C17: ='5. melléklet'!L82 -> 0 | D17: ='5. melléklet'!M82 -> 0 | E17: ='5. melléklet'!N82 -> 0
A19: Meglévő részesedések növeléséhez kapcsolódó kiadások | B19: K66 | C19: ='5. melléklet'!L83 -> 0 | D19: ='5. melléklet'!M83 -> 0 | E19: ='5. melléklet'!N83 -> 0
A21: Beruházási célú előzetesen felszámított általános forgalmi adó | B21: K67 | C21: ='5. melléklet'!L84 -> 110000 | D21: ='5. melléklet'!M84 -> 98270 | E21: ='5. melléklet'!N84 -> 98270
A22: Beruházások | B22: K6 | C22: =SUM(C21,C19,C17,C15,C13,C11,C9) -> 310000 | D22: =D9+D11+D13+D15+D17+D19+D21 -> 462240 | E22: =E9+E11+E13+E15+E17+E19+E21 -> 462240
A24: Ingatlanok felújítása | B24: K71 | C24: ='5. melléklet'!L86 -> 28000000 | D24: ='5. melléklet'!M86 -> 0 | E24: ='5. melléklet'!N86 -> 0
A26: Informatikai eszközök felújítása | B26: K72 | C26: ='5. melléklet'!L87 -> 0 | D26: ='5. melléklet'!M87 -> 0 | E26: ='5. melléklet'!N87 -> 0
A28: Egyéb tárgyi eszközök felújítása | B28: K73 | C28: ='5. melléklet'!L88 -> 0 | D28: ='5. melléklet'!M88 -> 0 | E28: ='5. melléklet'!N88 -> 0
A30: Felújítási célú előzetesen felszámított általános forgalmi adó | B30: K74 | C30: ='5. melléklet'!L89 -> 7559999 | D30: ='5. melléklet'!M89 -> 0 | E30: ='5. melléklet'!N89 -> 0
A31: Felújítások | B31: K7 | C31: =C24+C26+C28+C30 -> 35559999 | D31: =D24+D26+D28+D30 -> 0 | E31: =E24+E26+E28+E30 -> 0

Sheet 7. melléklet
A1: 7. melléklet a 7/2021. (V.25.) önkormányzati rendelethez
A3: Nemeskolta Község Önkormányzata 2020. évi zárszámadása
A4: Foglalkoztatottak létszáma (fő)
A7: MEGNEVEZÉS | B7: Költségvetési engedélyezett létszámkeret (álláshely) (fő) ÖNKORMÁNYZAT
A8: főjegyző, jegyző, aljegyző, címzetes főjegyző, körjegyző | B8: 0
A9: I. besorolási osztály összesen | B9: 0
A10: II. besorolási osztály összesen | B10: 0
A11: III. besorolási osztály összesen | B11: 0
A12: KÖZTISZTVISELŐK, KORMÁNYTISZTVISELŐK ÖSSZESEN | B12: =SUM(B8:B11) -> 0
A13: igazgató (főigazgató), igazgatóhelyettes (főigazgató-helyettes) | B13: 0
A14: főosztályvezető, főosztályvezető-helyettes, osztályvezető, ügykezelő osztályvezető, további vezető | B14: 0
A15: főtanácsos, főmunkatárs, tanácsos, munkatárs | B15: 0
A16: "A", "B" fizetési osztály összesen | B16: 1
A17: "C", "D" fizetési osztály összesen | B17: 1
A18: "E"-"J" fizetési osztály összesen | B18: 0
A19: kutató, felsőoktatásban oktató | B19: 0
A20: KÖZALKALMAZOTTAK ÖSSZESEN | B20: =SUM(B13:B19) -> 2
A21: fizikai alkalmazott, a költségvetési szerveknél foglalkoztatott egyéb munkavállaló (fizikai alkalmazott) | B21: 0
A22: ösztöndíjas foglalkoztatott | B22: 0
A23: közfoglalkoztatott | B23: 2
A24: EGYÉB BÉRRENDSZER ÖSSZESEN | B24: =SUM(B21:B23) -> 2
A25: polgármester, főpolgármester | B25: 1
A26: helyi önkormányzati képviselő-testület tagja, megyei közgyűlés tagja | B26: 3
A27: alpolgármester, főpolgármester-helyettes, megyei közgyűlés elnöke, alelnöke | B27: 1
A28: VÁLASZTOTT TISZTSÉGVISELŐK ÖSSZESEN | B28: =SUM(B25:B27) -> 5
A29: KÖLTSÉGVETÉSI ENGEDÉLYEZETT LÉTSZÁMKERETBE TARTOZÓ FOGLALKOZTATOTTAK LÉTSZÁMA MINDÖSSZESEN | B29: =SUM(B28,B24,B20,B12) -> 9
A30: prémiumévek programról és a különleges foglalkoztatási állományról szóló 2004. évi CXXII. törvény alapján foglalkoztatott prémiumévesek | B30: 0
A31: prémiumévek programról és a különleges foglalkoztatási állományról szóló 2004. évi CXXII. törvény alapján foglalkoztatott különleges foglalkoztatási állományba helyezettek létszáma | B31: 0
A32: ösztöndíjas foglalkoztatottak (Pftv, illetve Magyar Közigazgatási Ösztöndíjról szóló 228/2011. (X. 28.) Korm. rendelet) | B32: 0
A33: munkaerőpiactól tartósan távol lévő személyek | B33: 0
A34: KÖLTSÉGVETÉSI ENGEDÉLYEZETT LÉTSZÁMKERETBE NEM TARTOZÓ FOGLALKOZTATOTTAK LÉTSZÁMA AZ IDŐSZAK VÉGÉN ÖSSZESEN | B34: =SUM(B30:B33) -> 0

Sheet 8 melléklet
C1: 8. melléklet a 7/2021. (V.25.) önkormányzati rendelethez
A3: Nemeskolta Község Önkormányzata 2020. évi zárszámadása
A4: Általános- és céltartalékok (Ft)
A7: Rovat megnevezése | B7: Rovat-szám | C7: ÖNKORMÁNYZATI ELŐIRÁNYZATOK
C8: eredeti ei. | D8: módosított ei.
A10: Tartalékok | B10: K513 | C10: ='5. melléklet'!L75 -> 6180207 | D10: ='5. melléklet'!M75 -> 45367369

Sheet 9 melléklet
H1: 9. melléklet a 7/2021. (V.25.) önkormányzati rendelethez
A3: Nemeskolta Község Önkormányzata 2020. évi zárszámadása
A4: A költségvetési év azon fejlesztései, amelyek megvalósításához a Gst. 3. § (1) bekezdése szerinti adósságot keletkeztető ügylet megkötése vált szükségessé (Ft)
A6: ÖNKORMÁNYZATI ELŐIRÁNYZATOK
A7: Rovat megnevezése | B7: Rovat-szám | C7: kiadási eredeti előirányzat | D7: kiadási módosított előirányzat | E7: teljesített kiadás | F7: ebből teljesített kiadás fedezete-saját forrás | G7: ebből teljesített kiadás fedezete-adósságot keletkeztető ügylet | H7: adósságot keletkeztető ügylet fajtája | I7: adósságot keletkeztető ügylet fajtája | J7: adósságot keletkeztető ügylet rovatszáma (B8) | K7: adósságot keletkeztető ügylet kezdő időpontja | L7: adósságot keletkeztető ügylet lejárati időpontja | M7: adósságot keletkeztető ügylet- várható visszatérítendő összege (kamattal) leáratig mindösszesen
H8: hitel/lízing/kölcsön/értékpapír | I8: bel- vagy külföldi irányú kötelezettség
A12: Immateriális javak beszerzése, létesítése | B12: K61
A17: Ingatlanok beszerzése, létesítése | B17: K62
A22: Informatikai eszközök beszerzése, létesítése | B22: K63
A25: Egyéb tárgyi eszközök beszerzése, létesítése | B25: K64
A28: Részesedések beszerzése | B28: K65
A31: Meglévő részesedések növeléséhez kapcsolódó kiadások | B31: K66
A32: Beruházási célú előzetesen felszámított általános forgalmi adó | B32: K67
A33: Beruházások | B33: K6
A38: Ingatlanok felújítása | B38: K71
A43: Informatikai eszközök felújítása | B43: K72
A48: Egyéb tárgyi eszközök felújítása | B48: K73
A49: Felújítási célú előzetesen felszámított általános forgalmi adó | B49: K74
A50: Felújítások | B50: K7

Sheet 10 melléklet
E1: 10. melléklet a 7/2021. (V.25.) önkormányzati rendelethez
A3: Nemeskolta Község Önkormányzat 2020. évi zárszámadása
A4: A Gst. 3. § (1) bekezdése szerinti adósságot keletkeztető ügyletekből és kezességvállalásokból fennálló kötelezettségek az adósságot keletkeztető ügyletek futamidejének végéig, illetve a kezesség érvényesíthetőségéig, és a Gst. 45. § (1) bekezdés a) pontja felhatalmazása alapján kiadott jogszabályban meghatározottak szerinti saját bevételek (Ft)
A6: ÖNKORMÁNYZATI ELŐIRÁNYZATOK
A7: Rovat megnevezése | B7: Rovat-szám | C7: adósságot keletkeztető ügylet kezdő időpontja | D7: adósságot keletkeztető ügylet lejárati időpontja | E7: adósságot keletkeztető ügyletekből és kezességvállalásokból fennálló kötelezettségek | F7: saját bevételek 2019. | G7: saját bevételek 2020. | H7: saját bevételek 2021. | I7: saját bevételek 2022.
A8: Hosszú lejáratú hitelek, kölcsönök felvétele | B8: B8111
A9: ebből: pénzügyi vállalkozás | B9: B8111
A10: Likviditási célú hitelek, kölcsönök felvétele pénzügyi vállalkozástól | B10: B8112
A11: Rövid lejáratú hitelek, kölcsönök felvétele | B11: B8113
A12: ebből: pénzügyi vállalkozás | B12: B8113
A13: Hitel-, kölcsönfelvétel államháztartáson kívülről | B13: B811
A14: Forgatási célú belföldi értékpapírok beváltása, értékesítése | B14: B8121
A15: ebből: befektetési jegyek | B15: B8121
A16: Forgatási célú belföldi értékpapírok kibocsátása | B16: B8122
A17: Befektetési célú belföldi értékpapírok beváltása, értékesítése | B17: B8123
A18: ebből: kárpótlási jegyek | B18: B8123
A19: Befektetési célú belföldi értékpapírok kibocsátása | B19: B8124
... A30: Rovat megnevezése | B30: Rovat-szám
A31: 353/2011. (XII. 30.) Korm. Rendelet értelmében az önkormányzat saját bevételének minősül
A32: 1. a helyi adóból származó bevétel,
A33: 2. az önkormányzati vagyon és az önkormányzatot megillető vagyoni értékű jog értékesítéséből és hasznosításából származó bevétel,
A34: 3. az osztalék, a koncessziós díj és a hozambevétel,
A35: 4. a tárgyi eszköz és az immateriális jószág, részvény, részesedés, vállalat értékesítéséből vagy privatizációból származó bevétel,
A36: 5. bírság-, pótlék- és díjbevétel, valamint
A37: 6. a kezességvállalással kapcsolatos megtérülés.
A38: ÖSSZESEN:
A50: a)4 hitel, kölcsön felvétele, átvállalása a folyósítás, átvállalás napjától a végtörlesztés napjáig, és annak aktuális tőketartozása,
A51: b) a számvitelről szóló törvény (a továbbiakban: Szt.) szerinti hitelviszonyt megtestesítő értékpapír forgalomba hozatala a forgalomba hozatal napjától a beváltás napjáig, kamatozó értékpapír esetén annak névértéke, egyéb értékpapír esetén annak vételára,
A52: c) váltó kibocsátása a kibocsátás napjától a beváltás napjáig, és annak a váltóval kiváltott kötelezettséggel megegyező, kamatot nem tartalmazó értéke,
A53: d) az Szt. szerint pénzügyi lízing lízingbevevői félként történő megkötése a lízing futamideje alatt, és a lízingszerződésben kikötött tőkerész hátralévő összege,
... A75: 6. a kezességvállalással kapcsolatos megtérülés.

Sheet 11 melléklet
D1: 11. melléklet a 7/2021. (V.25.) önkormányzati rendelethez
A3: Nemeskolta Község Önkormányzata 2020. évi zárszámadása
A4: A költségvetési hiány külső finanszírozására vagy a költségvetési többlet felhasználására szolgáló finanszírozási bevételek és kiadások működési és felhalmozási cél szerinti tagolásban (Ft)
A6: ÖNKORMÁNYZATI ELŐIRÁNYZATOK
A7: Megnevezés | B7: Rovat-szám | C7: eredeti ei. Működési célú | D7: eredeti ei. Felhalmozási célú | E7: módosított ei. Működési célú | F7: módosított ei. Felhalmozási célú | G7: Teljesítés Működési célú | H7: Teljesítés Felhalmozási célú
A8: Hosszú lejáratú hitelek, kölcsönök törlesztése | B8: K9111 | C8: ='5. melléklet'!L103 -> 0 | E8: ='5. melléklet'!M103 -> 0 | G8: ='5. melléklet'!N103 -> 0
A9: ebből: pénzügyi vállalkozás | B9: K9111
A10: ebből: fedezeti ügyletek nettó kiadásai | B10: K9111
A11: Likviditási célú hitelek, kölcsönök törlesztése pénzügyi vállalkozásnak | B11: K9112 | C11: ='5. melléklet'!L104 -> 0 | E11: ='5. melléklet'!M104 -> 0 | G11: ='5. melléklet'!N104 -> 0
A12: Rövid lejáratú hitelek, kölcsönök törlesztése | B12: K9113 | C12: ='5. melléklet'!L105 -> 0 | E12: ='5. melléklet'!M105 -> 0 | G12: ='5. melléklet'!N105 -> 0
A13: ebből: pénzügyi vállalkozás | B13: K9113
A14: ebből: fedezeti ügyletek nettó kiadásai | B14: K9113
A15: Hitel-, kölcsöntörlesztés államháztartáson kívülre | B15: K911 | C15: =SUM(C8,C11,C12) -> 0 | D15: =SUM(D8,D11,D12) -> 0 | E15: =SUM(E8,E11,E12) -> 0 | F15: =SUM(F8,F11,F12) -> 0 | G15: =SUM(G8,G11,G12) -> 0 | H15: =SUM(H8,H11,H12) -> 0
A16: Forgatási célú belföldi értékpapírok vásárlása | B16: K9121 | C16: ='5. melléklet'!L107 -> 0 | E16: ='5. melléklet'!M107 -> 0 | G16: ='5. melléklet'!N107 -> 0
A17: ebből: befektetési jegyek | B17: K9121
A18: ebből: kárpótlási jegyek | B18: K9121
A19: Forgatási célú belföldi értékpapírok beváltása | B19: K9122 | C19: ='5. melléklet'!L108 -> 0 | E19: ='5. melléklet'!M108 -> 0 | G19: ='5. melléklet'!N108 -> 0
A20: ebből: fedezeti ügyletek nettó kiadásai | B20: K9122
A21: Befektetési célú belföldi értékpapírok vásárlása | B21: K9123 | C21: ='5. melléklet'!L109 -> 0 | E21: ='5. melléklet'!M109 -> 0 | G21: ='5. melléklet'!N109 -> 0
A22: Befektetési célú belföldi értékpapírok beváltása | B22: K9124 | C22: ='5. melléklet'!L110 -> 0 | E22: ='5. melléklet'!M110 -> 0 | G22: ='5. melléklet'!N110 -> 0
A23: ebből: kárpótlási jegyek | B23: K9124
A24: ebből: fedezeti ügyletek nettó kiadásai | B24: K9124
A25: Belföldi értékpapírok kiadásai | B25: K912 | C25: =SUM(C16,C19,C21:C22) -> 0 | D25: =SUM(D16,D19,D21:D22) -> 0 | E25: =SUM(E16,E19,E21:E22) -> 0 | F25: =SUM(F16,F19,F21:F22) -> 0 | G25: =SUM(G16,G19,G21:G22) -> 0 | H25: =SUM(H16,H19,H21:H22) -> 0
A26: Államháztartáson belüli megelőlegezések folyósítása | B26: K913 | C26: ='5. melléklet'!L114 -> 0 | E26: ='5. melléklet'!M114 -> 0 | G26: ='5. melléklet'!N114 -> 0
A27: Államháztartáson belüli megelőlegezések visszafizetése | B27: K914 | C27: ='5. melléklet'!L115 -> 906277 | D27: 0 | E27: ='5. melléklet'!M115 -> 906277 | F27: 0 | G27: ='5. melléklet'!N115 -> 906277 | H27: 0
A28: Pénzeszközök betétként elhelyezése | B28: K916 | C28: ='5. melléklet'!L117 -> 0 | E28: ='5. melléklet'!M117 -> 0 | G28: ='5. melléklet'!N117 -> 0
A29: Pénzügyi lízing kiadásai | B29: K917 | C29: ='5. melléklet'!L118 -> 0 | E29: ='5. melléklet'!M118 -> 0 | G29: ='5. melléklet'!N118 -> 0
A30: Központi költségvetés sajátos finanszírozási kiadásai | B30: K918 | C30: ='5. melléklet'!L119 -> 0 | E30: ='5. melléklet'!M119 -> 0 | G30: ='5. melléklet'!N119 -> 0
A31: Belföldi finanszírozás kiadásai | B31: K91 | C31: =SUM(C30,C29,C28,C27,C26,C25,C15) -> 906277 | D31: =SUM(D30,D29,D28,D27,D26,D25,D15) -> 0 | E31: =SUM(E30,E29,E28,E27,E26,E25,E15) -> 906277 | F31: =SUM(F30,F29,F28,F27,F26,F25,F15) -> 0 | G31: =SUM(G30,G29,G28,G27,G26,G25,G15) -> 906277 | H31: =SUM(H30,H29,H28,H27,H26,H25,H15) -> 0
A32: Forgatási célú külföldi értékpapírok vásárlása | B32: K921 | C32: ='5. melléklet'!L122 -> 0 | E32: ='5. melléklet'!M122 -> 0 | G32: ='5. melléklet'!N122 -> 0
A33: Befektetési célú külföldi értékpapírok vásárlása | B33: K922 | C33: ='5. melléklet'!L123 -> 0 | E33: ='5. melléklet'!M123 -> 0 | G33: ='5. melléklet'!N123 -> 0
A34: Külföldi értékpapírok beváltása | B34: K923 | C34: ='5. melléklet'!L124 -> 0 | E34: ='5. melléklet'!M124 -> 0 | G34: ='5. melléklet'!N124 -> 0
A35: ebből: fedezeti ügyletek nettó kiadásai | B35: K923
A36: Külföldi hitelek, kölcsönök törlesztése | B36: K924 | C36: ='5. melléklet'!L125 -> 0 | E36: ='5. melléklet'!M125 -> 0 | G36: ='5. melléklet'!N125 -> 0
A37: ebből: nemzetközi fejlesztési szervezetek | B37: K924
A38: ebből: más kormányok | B38: K924
A39: ebből: külföldi pénzintézetek | B39: K924
A40: ebből: fedezeti ügyletek nettó kiadásai | B40: K924
A41: Külföldi finanszírozás kiadásai | B41: K92 | C41: =SUM(C36,C34,C33,C32) -> 0 | D41: =SUM(D36,D34,D33,D32) -> 0 | E41: =SUM(E36,E34,E33,E32) -> 0 | F41: =SUM(F36,F34,F33,F32) -> 0 | G41: =SUM(G36,G34,G33,G32) -> 0 | H41: =SUM(H36,H34,H33,H32) -> 0
A44: Megnevezés | B44: Rovat-szám | C44: eredeti ei. Működési célú | D44: eredeti ei. Felhalmozási célú | E44: módosított ei. Működési célú | F44: módosított ei. Felhalmozási célú | G44: Teljesítés Működési célú | H44: Teljesítés Felhalmozási célú
A45: Hosszú lejáratú hitelek, kölcsönök felvétele | B45: B8111 | C45: ='3. melléklet'!L76 -> 0 | E45: ='3. melléklet'!M76 -> 0 | G45: ='3. melléklet'!N76 -> 0
A46: ebből: pénzügyi vállalkozás | B46: B8111
A47: Likviditási célú hitelek, kölcsönök felvétele pénzügyi vállalkozástól | B47: B8112 | C47: ='3. melléklet'!L77 -> 0 | E47: ='3. melléklet'!M77 -> 0 | G47: ='3. melléklet'!N77 -> 0
A48: Rövid lejáratú hitelek, kölcsönök felvétele | B48: B8113 | C48: ='3. melléklet'!L78 -> 0 | E48: ='3. melléklet'!M78 -> 0 | G48: ='3. melléklet'!N78 -> 0
A49: ebből: pénzügyi vállalkozás | B49: B8113
A50: Hitel-, kölcsönfelvétel államháztartáson kívülről | B50: B811 | C50: =SUM(C45,C47,C48) -> 0 | D50: =SUM(D45,D47,D48) -> 0 | E50: =SUM(E45,E47,E48) -> 0 | F50: =SUM(F45,F47,F48) -> 0 | G50: =SUM(G45,G47,G48) -> 0 | H50: =SUM(H45,H47,H48) -> 0
A51: Forgatási célú belföldi értékpapírok beváltása, értékesítése | B51: B8121 | C51: ='3. melléklet'!L80 -> 0 | E51: ='3. melléklet'!M80 -> 0 | G51: ='3. melléklet'!N80 -> 0
A52: ebből: befektetési jegyek | B52: B8121
A53: Forgatási célú belföldi értékpapírok kibocsátása | B53: B8122 | C53: ='3. melléklet'!L81 -> 0 | E53: ='3. melléklet'!M81 -> 0 | G53: ='3. melléklet'!N81 -> 0
A54: Befektetési célú belföldi értékpapírok beváltása, értékesítése | B54: B8123 | C54: ='3. melléklet'!L82 -> 0 | E54: ='3. melléklet'!M82 -> 0 | G54: ='3. melléklet'!N82 -> 0
A55: ebből: kárpótlási jegyek | B55: B8123
A56: Befektetési célú belföldi értékpapírok kibocsátása | B56: B8124 | C56: ='3. melléklet'!L83 -> 0 | E56: ='3. melléklet'!M83 -> 0 | G56: ='3. melléklet'!N83 -> 0
A57: Belföldi értékpapírok bevételei | B57: B812 | C57: =SUM(C56,C54,C53,C51) -> 0 | D57: =SUM(D56,D54,D53,D51) -> 0 | E57: =SUM(E56,E54,E53,E51) -> 0 | F57: =SUM(F56,F54,F53,F51) -> 0 | G57: =SUM(G56,G54,G53,G51) -> 0 | H57: =SUM(H56,H54,H53,H51) -> 0
A58: Államháztartáson belüli megelőlegezések | B58: B814 | C58: ='3. melléklet'!L88 -> 0 | D58: 0 | E58: ='3. melléklet'!M88 -> 930271 | F58: 0 | G58: ='3. melléklet'!N88 -> 930271 | H58: 0
A59: Államháztartáson belüli megelőlegezések törlesztése | B59: B815 | C59: ='3. melléklet'!L89 -> 0 | E59: ='3. melléklet'!M89 -> 0 | G59: ='3. melléklet'!N89 -> 0
A60: Betétek megszüntetése | B60: B817 | C60: ='3. melléklet'!L91 -> 0 | E60: ='3. melléklet'!M91 -> 0 | G60: ='3. melléklet'!N91 -> 0
A61: Központi költségvetés sajátos finanszírozási bevételei | B61: B818 | C61: ='3. melléklet'!L92 -> 0 | E61: ='3. melléklet'!M92 -> 0 | G61: ='3. melléklet'!N92 -> 0
A62: ebből: tulajdonosi kölcsönök visszatérülése | B62: B818
A63: Belföldi finanszírozás bevételei | B63: B81 | C63: ='3. melléklet'!L94 -> 3082239 | D63: 0 | E63: ='3. melléklet'!M94 -> 2233259 | F63: 0 | G63: ='3. melléklet'!N94 -> 2233259 | H63: 0
A64: Forgatási célú külföldi értékpapírok beváltása, értékesítése | B64: B821 | C64: ='3. melléklet'!L95 -> 0 | E64: ='3. melléklet'!M95 -> 0 | G64: ='3. melléklet'!M95 -> 0
A65: Befektetési célú külföldi értékpapírok beváltása, értékesítése | B65: B822 | C65: ='3. melléklet'!L96 -> 0 | E65: ='3. melléklet'!M96 -> 0 | G65: ='3. melléklet'!M96 -> 0
A66: Külföldi értékpapírok kibocsátása | B66: B823 | C66: ='3. melléklet'!L97 -> 0 | E66: ='3. melléklet'!M97 -> 0 | G66: ='3. melléklet'!M97 -> 0
A67: Külföldi hitelek, kölcsönök felvétele | B67: B824 | C67: ='3. melléklet'!L98 -> 0 | E67: ='3. melléklet'!M98 -> 0 | G67: ='3. melléklet'!M98 -> 0
A68: ebből: nemzetközi fejlesztési szervezetek | B68: B824
A69: ebből: más kormányok | B69: B824
A70: ebből: külföldi pénzintézetek | B70: B824
A71: Külföldi finanszírozás bevételei | B71: B82 | C71: =SUM(C64:C67) -> 0 | D71: =SUM(D64:D67) -> 0 | E71: =SUM(E64:E67) -> 0 | F71: =SUM(F64:F67) -> 0 | G71: =SUM(G64:G67) -> 0 | H71: =SUM(H64:H67) -> 0

Sheet 12 melléklet
B1: 12 melléklet a 7/2021. (V.25.) önkormányzati rendelethez
A3: Nemeskolta Község Önkormányzata 2020. évi zárszámadása
A4: Lakosságnak juttatott támogatások, szociális, rászorultsági jellegű ellátások (Ft)
A6: ÖNKORMÁNYZATI ELŐIRÁNYZATOK
A7: Megnevezés | B7: Rovat-szám | C7: eredeti ei. | D7: módosított ei. | E7: teljesítés
A8: ebből: ápolási díj | B8: K44
A9: ebből: fogyatékossági támogatás és vakok személyi járadéka | B9: K44
A10: ebből: kivételes rokkantsági ellátás | B10: K44
A11: ebből: mozgáskorlátozottak szerzési és átalakítási támogatása | B11: K44
A12: ebből: megváltozott munkaképességűek illetve egészségkárosodottak kereset-kiegészítése | B12: K44
A13: ebből: közgyógyellátás [Szoctv.50.§ (1)-(2) bekezdése] | B13: K44
A14: ebből: cukorbetegek támogatása | B14: K44
A15: ebből: egészségügyi szolgáltatási jogosultságra való jogosultság szociális rászorultság alapján [Szoctv. 54. §-a] | B15: K44
A16: Betegséggel kapcsolatos (nem társadalombiztosítási) ellátások | B16: K44 | C16: ='4. melléklet'!C57 -> 0 | D16: ='4. melléklet'!D57 -> 0 | E16: ='4. melléklet'!E57 -> 0
A17: ebből: a Nemzeti Foglalkoztatási Alalpból folyósított passzív, ellátási típusú támogatások, így különösen az álláskeresési járadék, a nyugdíj előtti álláskeresési segély, valamint az ellátások megállapításával kapcsolatos utiköltség-térítés | B17: K45
A18: ebből: korhatár előtti ellátás és a fegyveres testületek volt tagjai szolgálati járandósága | B18: K45
A19: ebből: átmeneti bányászjáradék | B19: K45
A20: ebből: szénjárandóság pénzbeli megváltása | B20: K45
A21: ebből: mecseki bányászatban munkát végzők bányászati kereset-kiegészítése | B21: K45
A22: ebből: mezőgazdasági járadék | B22: K45
A23: ebből: foglalkoztatást helyettesítő támogatás [Szoctv. 35. § (1) bek.] | B23: K45
A24: ebből: polgármesterek korhatár előtti ellátása | B24: K45
A25: Foglalkoztatással, munkanélküliséggel kapcsolatos ellátások | B25: K45
A26: ebből: hozzájárulás a lakossági energiaköltségekhez | B26: K46
A27: ebből: lakbértámogatás | B27: K46
A28: Lakhatással kapcsolatos ellátások | B28: K46 | C28: ='4. melléklet'!C59 -> 0 | D28: ='4. melléklet'!D59 -> 0 | E28: ='4. melléklet'!E59 -> 0
A29: ebből: házastársi pótlék (K48) | B29: K48
A30: ebből: Hadigondozottak Közalapítványát terhelő hadigondozotti ellátások (K48) | B30: K48
A31: ebből: tudományos fokozattal rendelkezők nyugdíjkiegészítése (K48) | B31: K48
A32: ebből: nemzeti gondozotti ellátások (K48) | B32: K48
A33: ebből: nemzeti helytállásért pótlék (K48) | B33: K48
A34: ebből: egyes nyugdíjjogi hátrányok enyhítése miatti (közszolgálati idő után járó) nyugdíj-kiegészítés (K48) | B34: K48
A35: ebből: egyes, tartós időtartamú szabadságelvonást elszenvedettek részére járó juttatás (K48) | B35: K48
A36: ebből: a Nemzet Színésze címet viselő színészek havi életjáradéka, művészeti nyugdíjsegélyek, művészjáradék, balettművészeti életjáradék (K48) | B36: K48
A37: ebből: az elhunyt akadémikusok hozzátartozóinak folyósított özvegyi- és árvaellátás (K48) | B37: K48
A38: ebből: a Nemzet Sportolója címmel járó járadék, olimpiai járadék, idős sportolók szociális támogatása (K48) | B38: K48
A39: ebből: életjáradék termőföldért (K48) | B39: K48
A40: ebből: Bevándorlási és Állampolgársági Hivatal által folyósított ellátások (K48) | B40: K48
... A43: ebből: egyéb, az önkormányzat rendeletében megállapított juttatás (K48) | B43: K48
A44: ebből: köztemetés [Szoctv. 48.§] (K48) | B44: K48 | C44: 0 | D44: 0 | E44: 0
A45: ebből: települési támogatás [Szoctv. 45. §], (K48) | B45: K48 | C45: 0 | D45: 0 | E45: 1522000
A46: ebből: egészségkárosodási és gyermekfelügyeleti támogatás [Szoctv. 37.§ (1) bekezdés a) és b) pontja] (K48) | B46: K48
A47: ebből: önkormányzat által saját hatáskörben (nem szociális és gyermekvédelmi előírások alapján) adott más ellátás (K48) | B47: K48 | C47: 0 | D47: 0 | E47: 0
A48: Egyéb nem intézményi ellátások(K48) | B48: K48 | C48: ='4. melléklet'!C61 -> 2600000 | D48: ='4. melléklet'!D61 -> 1522000 | E48: ='4. melléklet'!E61 -> 1522000
A49: Ellátottak pénzbeli juttatásai (K4) | B49: K4 | C49: ='4. melléklet'!C62 -> 2600000 | D49: ='4. melléklet'!D62 -> 1522000 | E49: ='4. melléklet'!E62 -> 1522000

Sheet 13A melléklet
A1: 13A. melléklet a 7/2021. (V.25.) önkormányzati rendelethez
A3: Nemeskolta Község Önkormányzata 2020. évi zárszámadása
A4: Támogatások, kölcsönök nyújtása és törlesztése (Ft)
A6: ÖNKORMÁNYZATI ELŐIRÁNYZATOK
A7: Megnevezés | B7: Rovat-szám | C7: eredeti ei. | D7: módosított ei. | E7: teljesítés
A8: központi költségvetési szervek részére | B8: K504
A9: központi kezelésű előirányzatok részére | B9: K504
A10: fejezeti kezelésű előirányzatok EU-s programokra és azok hazai társfinanszírozása részére | B10: K504
A11: egyéb fejezeti kezelésű előirányzatok részére | B11: K504
A12: társadalombiztosítás pénzügyi alapjai részére | B12: K504
A13: elkülönített állami pénzalapok részére | B13: K504
A14: helyi önkormányzatok és költségvetési szerveik részére | B14: K504
A15: társulások és költségvetési szerveik részére | B15: K504
A16: nemzetiségi önkormányzatok és költségvetési szerveik részére | B16: K504
A17: térségi fejlesztési tanácsok és költségvetési szerveik részére | B17: K504
A18: Működési célú visszatérítendő támogatások, kölcsönök nyújtása államháztartáson belülre | B18: K504 | C18: ='4. melléklet'!C66 -> 0 | D18: ='4. melléklet'!D66 -> 0 | E18: ='4. melléklet'!E66 -> 0
A19: központi költségvetési szervek részére | B19: K505
A20: központi kezelésű előirányzatok részére | B20: K505
A21: fejezeti kezelésű előirányzatok EU-s programokra és azok hazai társfinanszírozása részére | B21: K505
A22: egyéb fejezeti kezelésű előirányzatok részére | B22: K505
A23: társadalombiztosítás pénzügyi alapjai részére | B23: K505
A24: elkülönített állami pénzalapok részére | B24: K505
A25: helyi önkormányzatok és költségvetési szerveik részére | B25: K505
A26: társulások és költségvetési szerveik részére | B26: K505
A27: nemzetiségi önkormányzatok és költségvetési szerveik részére | B27: K505
A28: térségi fejlesztési tanácsok és költségvetési szerveik részére | B28: K505
A29: Működési célú visszatérítendő támogatások, kölcsönök törlesztése államháztartáson belülre | B29: K505 | C29: ='4. melléklet'!C67 -> 0 | D29: ='4. melléklet'!D67 -> 0 | E29: ='4. melléklet'!E67 -> 0
A30: központi költségvetési szervek részére | B30: K506 | E30: 0
A31: központi kezelésű előirányzatok részére | B31: K506
A32: fejezeti kezelésű előirányzatok EU-s programokra és azok hazai társfinanszírozása részére | B32: K506
A33: egyéb fejezeti kezelésű előirányzatok részére | B33: K506 | C33: 0 | D33: 0 | E33: 0
A34: társadalombiztosítás pénzügyi alapjai részére | B34: K506
A35: elkülönített állami pénzalapok részére | B35: K506
A36: helyi önkormányzatok és költségvetési szerveik részére | B36: K506 | C36: 0 | D36: 0 | E36: 5362798
A37: társulások és költségvetési szerveik részére | B37: K506 | C37: 0 | D37: 0 | E37: 415342
A38: nemzetiségi önkormányzatok és költségvetési szerveik részére | B38: K506
A39: térségi fejlesztési tanácsok és költségvetési szerveik részére | B39: K506
A40: Egyéb működési célú támogatások államháztartáson belülre | B40: K506 | C40: ='4. melléklet'!C68 -> 2550663 | D40: ='4. melléklet'!D68 -> 5778140 | E40: ='4. melléklet'!E68 -> 5778140
A41: egyházi jogi személyek részére | B41: K508
A42: nonprofit gazdasági társaságok | B42: K508
A43: egyéb civil szervezetek részére
A44: háztartások részére | B44: K508
A45: pénzügyi vállalkozások részére | B45: K508
A46: állami többségi tulajdonú nem pénzügyi vállalkozások részére | B46: K508
A47: önkormányzati többségi tulajdonú nem pénzügyi vállalkozások részére | B47: K508
A48: egyéb vállalkozások részére | B48: K508
A49: Európai Unió részére | B49: K508
A50: kormányok és nemzetközi szervezetek részére | B50: K508
A51: egyéb külföldiek részére | B51: K508
A52: Működési célú visszatérítendő támogatások, kölcsönök nyújtása államháztartáson kívülre | B52: K508 | C52: ='4. melléklet'!C70 -> 0 | D52: ='4. melléklet'!D70 -> 0 | E52: ='4. melléklet'!E70 -> 0
A53: egyházi jogi személyek részére | B53: K512
A54: nonprofit gazdasági társaságok | B54: K512
A55: egyéb civil szervezetek részére | B55: K512 | C55: 0 | D55: 0 | E55: 0
A56: háztartások részére | B56: K512 | C56: 0 | D56: 0 | E56: 370000
A57: pénzügyi vállalkozások részére | B57: K512
A58: állami többségi tulajdonú nem pénzügyi vállalkozások részére | B58: K512
A59: önkormányzati többségi tulajdonú nem pénzügyi vállalkozások részére | B59: K512
A60: egyéb vállalkozások részére | B60: K512
A61: kormányok és nemzetközi szervezetek részére | B61: K512
A62: egyéb külföldiek részére | B62: K512
A63: Egyéb működési célú támogatások államháztartáson kívülre | B63: K512 | C63: ='4. melléklet'!C74 -> 1020000 | D63: ='4. melléklet'!D74 -> 370000 | E63: ='4. melléklet'!E74 -> 370000
A64: központi költségvetési szervek részére | B64: K82
A65: központi kezelésű előirányzatok részére | B65: K82
A66: fejezeti kezelésű előirányzatok EU-s programokra és azok hazai társfinanszírozása részére | B66: K82
A67: egyéb fejezeti kezelésű előirányzatok részére | B67: K82
A68: társadalombiztosítás pénzügyi alapjai részére | B68: K82
A69: elkülönített állami pénzalapok részére | B69: K82
A70: helyi önkormányzatok és költségvetési szerveik részére | B70: K82
A71: társulások és költségvetési szerveik részére | B71: K82
A72: nemzetiségi önkormányzatok és költségvetési szerveik részére | B72: K82
A73: térségi fejlesztési tanácsok és költségvetési szerveik részére | B73: K82
A74: Felhalmozási célú visszatérítendő támogatások, kölcsönök nyújtása államháztartáson belülre | B74: K82 | C74: ='4. melléklet'!C92 -> 0 | D74: ='4. melléklet'!D92 -> 0 | E74: ='4. melléklet'!E92 -> 0
A75: központi költségvetési szervek részére | B75: K83
A76: központi kezelésű előirányzatok részére | B76: K83
A77: fejezeti kezelésű előirányzatok EU-s programokra és azok hazai társfinanszírozása részére | B77: K83
A78: egyéb fejezeti kezelésű előirányzatok részére | B78: K83
A79: társadalombiztosítás pénzügyi alapjai részére | B79: K83
A80: elkülönített állami pénzalapok részére | B80: K83
A81: helyi önkormányzatok és költségvetési szerveik részére | B81: K83
A82: társulások és költségvetési szerveik részére | B82: K83
A83: nemzetiségi önkormányzatok és költségvetési szerveik részére | B83: K83
A84: térségi fejlesztési tanácsok és költségvetési szerveik részére | B84: K83
A85: Felhalmozási célú visszatérítendő támogatások, kölcsönök törlesztése államháztartáson belülre | B85: K83 | C85: ='4. melléklet'!C93 -> 0 | D85: ='4. melléklet'!D93 -> 0 | E85: ='4. melléklet'!E93 -> 0
A86: központi költségvetési szervek részére | B86: K84
A87: központi kezelésű előirányzatok részére | B87: K84
A88: fejezeti kezelésű előirányzatok EU-s programokra és azok hazai társfinanszírozása részére | B88: K84
A89: egyéb fejezeti kezelésű előirányzatok részére | B89: K84
A90: társadalombiztosítás pénzügyi alapjai részére | B90: K84
A91: elkülönített állami pénzalapok részére | B91: K84
A92: helyi önkormányzatok és költségvetési szerveik részére | B92: K84
A93: társulások és költségvetési szerveik részére | B93: K84
A94: nemzetiségi önkormányzatok és költségvetési szerveik részére | B94: K84
A95: térségi fejlesztési tanácsok és költségvetési szerveik részére | B95: K84
A96: Egyéb felhalmozási célú támogatások államháztartáson belülre | B96: K84 | C96: =SUM(C86:C95) -> 0 | D96: =SUM(D86:D95) -> 0 | E96: =SUM(E86:E95) -> 0
A97: egyházi jogi személyek részére | B97: K86
A98: egyéb civil szervezetek részére | B98: K86
A99: háztartások részére | B99: K86
A100: pénzügyi vállalkozások részére | B100: K86
A101: állami többségi tulajdonú nem pénzügyi vállalkozások részére | B101: K86
A102: önkormányzati többségi tulajdonú nem pénzügyi vállalkozások részére | B102: K86
...

Sheet 13B melléklet
A1: 13B. melléklet a 7/2021. (V.25.) önkormányzati rendelethez
A3: Nemeskolta Község Önkormányzata 2020. évi zárszámadása
A4: Támogatások, kölcsönök bevételei (Ft)
A6: ÖNKORMÁNYZATI ELŐIRÁNYZATOK
A7: Megnevezés | B7: Rovat-szám | C7: eredeti ei. | D7: módosított ei. | E7: teljesítés
A8: központi költségvetési szervektől | B8: B14
A9: központi kezelésű előirányzatoktól | B9: B14
A10: fejezeti kezelésű előirányzatok EU-s programokra és azok hazai társfinanszírozásától | B10: B14
A11: egyéb fejezeti kezelésű előirányzatoktól | B11: B14
A12: társadalombiztosítás pénzügyi alapjaitól | B12: B14
A13: elkülönített állami pénzalapoktól | B13: B14
A14: helyi önkormányzatok és költségvetési szerveiktől | B14: B14
A15: társulások és költségvetési szerveiktől | B15: B14
A16: nemzetiségi önkormányzatok és költségvetési szerveiktől | B16: B14
A17: térségi fejlesztési tanácsok és költségvetési szerveiktől | B17: B14
A18: Működési célú visszatérítendő támogatások, kölcsönök visszatérülése államháztartáson belülről | B18: B14 | C18: ='2. melléklet'!C18 -> 0 | D18: ='2. melléklet'!D18 -> 0 | E18: ='2. melléklet'!E18 -> 0
A19: központi költségvetési szervektől | B19: B15
A20: központi kezelésű előirányzatoktól | B20: B15
A21: fejezeti kezelésű előirányzatok EU-s programokra és azok hazai társfinanszírozásától | B21: B15
A22: egyéb fejezeti kezelésű előirányzatoktól | B22: B15
A23: társadalombiztosítás pénzügyi alapjaitól | B23: B15
A24: elkülönített állami pénzalapoktól | B24: B15
A25: helyi önkormányzatok és költségvetési szerveiktől | B25: B15
A26: társulások és költségvetési szerveiktől | B26: B15
A27: nemzetiségi önkormányzatok és költségvetési szerveiktől | B27: B15
A28: térségi fejlesztési tanácsok és költségvetési szerveiktől | B28: B15
A29: Működési célú visszatérítendő támogatások, kölcsönök igénybevétele államháztartáson belülről | B29: B15 | C29: ='2. melléklet'!C19 -> 0 | D29: ='2. melléklet'!D19 -> 0 | E29: ='2. melléklet'!E19 -> 0
A30: központi költségvetési szervektől | B30: B16
A31: központi kezelésű előirányzatoktól | B31: B16
A32: fejezeti kezelésű előirányzatok EU-s programokra és azok hazai társfinanszírozásától | B32: B16
A33: egyéb fejezeti kezelésű előirányzatoktól | B33: B16
A34: társadalombiztosítás pénzügyi alapjaitól | B34: B16
A35: elkülönített állami pénzalapoktól | B35: B16 | E35: 1483342
A36: helyi önkormányzatok és költségvetési szerveiktől | B36: B16 | E36: 254452
A37: társulások és költségvetési szerveiktől | B37: B16
A38: nemzetiségi önkormányzatok és költségvetési szerveiktől | B38: B16
A39: térségi fejlesztési tanácsok és költségvetési szerveiktől | B39: B16
A40: Egyéb működési célú támogatások bevételei államháztartáson belülről | B40: B16 | C40: ='2. melléklet'!C20 -> 532000 | D40: ='2. melléklet'!D20 -> 1737794 | E40: ='2. melléklet'!E20 -> 1737794
A41: központi költségvetési szervektől | B41: B23
A42: központi kezelésű előirányzatoktól | B42: B23
A43: fejezeti kezelésű előirányzatok EU-s programokra és azok hazai társfinanszírozásától | B43: B23
A44: egyéb fejezeti kezelésű előirányzatoktól | B44: B23
A45: társadalombiztosítás pénzügyi alapjaitól | B45: B23
A46: elkülönített állami pénzalapoktól | B46: B23
A47: helyi önkormányzatok és költségvetési szerveiktől | B47: B23
A48: társulások és költségvetési szerveiktől | B48: B23
A49: nemzetiségi önkormányzatok és költségvetési szerveiktől | B49: B23
A50: térségi fejlesztési tanácsok és költségvetési szerveiktől | B50: B23
A51: Felhalmozási célú visszatérítendő támogatások, kölcsönök visszatérülése államháztartáson belülről | B51: B23 | C51: ='2. melléklet'!C57 -> 0 | D51: ='2. melléklet'!D57 -> 0 | E51: ='2. melléklet'!E57 -> 0
A52: központi költségvetési szervektől | B52: B24
A53: központi kezelésű előirányzatoktól | B53: B24
A54: fejezeti kezelésű előirányzatok EU-s programokra és azok hazai társfinanszírozásától | B54: B24
A55: egyéb fejezeti kezelésű előirányzatoktól | B55: B24
A56: társadalombiztosítás pénzügyi alapjaitól | B56: B24
A57: elkülönített állami pénzalapoktól | B57: B24
A58: helyi önkormányzatok és költségvetési szerveiktől | B58: B24
A59: társulások és költségvetési szerveiktől | B59: B24
A60: nemzetiségi önkormányzatok és költségvetési szerveiktől | B60: B24
A61: térségi fejlesztési tanácsok és költségvetési szerveiktől | B61: B24
A62: Felhalmozási célú visszatérítendő támogatások, kölcsönök igénybevétele államháztartáson belülről | B62: B24 | C62: ='2. melléklet'!C58 -> 0 | D62: ='2. melléklet'!D58 -> 0 | E62: ='2. melléklet'!E58 -> 0
A63: központi költségvetési szervektől | B63: B25
A64: központi kezelésű előirányzatoktól | B64: B25
A65: fejezeti kezelésű előirányzatok EU-s programokra és azok hazai társfinanszírozásától | B65: B25 | E65: 37071848
A66: egyéb fejezeti kezelésű előirányzatoktól | B66: B25 | E66: 4999940
A67: társadalombiztosítás pénzügyi alapjaitól | B67: B25
A68: elkülönített állami pénzalapoktól | B68: B25
A69: helyi önkormányzatok és költségvetési szerveiktől | B69: B25
A70: társulások és költségvetési szerveiktől | B70: B25
A71: nemzetiségi önkormányzatok és költségvetési szerveiktől | B71: B25
A72: térségi fejlesztési tanácsok és költségvetési szerveiktől | B72: B25
A73: Egyéb felhalmozási célú támogatások bevételei államháztartáson belülről | B73: B25 | C73: ='2. melléklet'!C59 -> 38510992 | D73: ='2. melléklet'!D59 -> 42071788 | E73: ='2. melléklet'!E59 -> 42071788
A74: egyházi jogi személyektől | B74: B62
A75: egyéb civil szervezetektől | B75: B62
A76: háztartásoktól | B76: B62
A77: pénzügyi vállalkozásoktól | B77: B62
A78: állami többségi tulajdonú nem pénzügyi vállalkozásoktól | B78: B62
A79: önkormányzati többségi tulajdonú nem pénzügyi vállalkozásoktól | B79: B62
A80: egyéb vállalkozásoktól | B80: B62
A81: Európai Uniótól | B81: B62
A82: kormányok és nemzetközi szervezetektől | B82: B62
A83: egyéb külföldiektől | B83: B62
A84: Működési célú visszatérítendő támogatások, kölcsönök visszatérülése államháztartáson kívülről | B84: B62 | C84: ='2. melléklet'!C49 -> 0 | D84: ='2. melléklet'!D49 -> 0 | E84: ='2. melléklet'!E49 -> 0
A85: egyházi jogi személyektől | B85: B65
A86: egyéb civil szervezetektől | B86: B65
A87: háztartásoktól | B87: B65
A88: pénzügyi vállalkozásoktól | B88: B65
A89: állami többségi tulajdonú nem pénzügyi vállalkozásoktól | B89: B65
A90: önkormányzati többségi tulajdonú nem pénzügyi vállalkozásoktól | B90: B65
A91: egyéb vállalkozásoktól | B91: B65
A92: Európai Uniótól | B92: B65
A93: kormányok és nemzetközi szervezetektől | B93: B65
A94: egyéb külföldiektől | B94: B65
A95: Egyéb működési célú átvett pénzeszközök | B95: B65 | C95: ='2. melléklet'!C52 -> 0 | D95: ='2. melléklet'!D52 -> 0 | E95: ='2. melléklet'!E52 -> 0
A96: egyházi jogi személyektől | B96: B72
A97: egyéb civil szervezetektől | B97: B72
A98: háztartásoktól | B98: B72
A99: pénzügyi vállalkozásoktól | B99: B72
A100: állami többségi tulajdonú nem pénzügyi vállalkozásoktól | B100: B72
A101: önkormányzati többségi tulajdonú nem pénzügyi vállalkozásoktól | B101: B72
A102: egyéb vállalkozásoktól | B102: B72
...

Sheet 14 melléklet
A1: 14. melléklet a 7/2021. (V.25.) önkormányzati rendelethez
A3: Nemeskolta Község Önkormányzata 2020. évi zárszámadása
A4: Helyi adó és egyéb közhatalmi bevételek (Ft)
A6: Megnevezés | B6: Rovat-szám | C6: eredeti ei. | D6: módosított ei. | E6: teljesítés
A7: építményadó | B7: B34
A8: épület után fizetett idegenforgalmi adó | B8: B34
A9: magánszemélyek kommunális adója | B9: B34 | C9: ='3. melléklet'!L28 -> 350000 | D9: ='3. melléklet'!M28 -> 350000 | E9: ='3. melléklet'!N28 -> 341700
A10: telekadó | B10: B34
A11: Vagyoni tipusú adók | B11: B34 | C11: =SUM(C7:C10) -> 350000 | D11: =SUM(D7:D10) -> 350000 | E11: =SUM(E7:E10) -> 341700
A12: Értékesítési és forgalmi adók | B12: B351 | C12: ='3. melléklet'!L29 -> 4000000 | D12: ='3. melléklet'!M29 -> 5608450 | E12: ='3. melléklet'!N29 -> 5608450
A13: ebből: állandó jeleggel végzett iparűzési tevékenység után fizetett helyi iparűzési adó | B13: B351 | C13: ='3. melléklet'!L29 -> 4000000 | D13: ='3. melléklet'!M29 -> 5608450 | E13: ='3. melléklet'!N29 -> 5608450
A14: ebből: ideiglenes jeleggel végzett tevékenység után fizetett helyi iparűzési adó | B14: B351 | C14: 0 | D14: 0 | E14: 0
A15: Gépjárműadók | B15: B354 | C15: ='3. melléklet'!L32 -> 1000000 | D15: ='3. melléklet'!M32 -> 0 | E15: ='3. melléklet'!N32 -> 0
A16: ebből: belföldi gépjárművek adójának a központi költségvetést megillető része | B16: B354
A17: ebből: belföldi gépjárművek adójának a helyi önkormányzatot megillető része | B17: B354 | C17: ='3. melléklet'!L32 -> 1000000 | D17: ='3. melléklet'!M32 -> 0 | E17: ='3. melléklet'!N32 -> 0
A18: ebből: külföldi gépjárművek adója | B18: B354
A19: ebből: gépjármű túlsúlydíj | B19: B354
A20: Egyéb áruhasználati és szolgáltatási adók | B20: B355
A21: ebből: tartózkodás után fizetett idegenforgalmi adó | B21: B355
A22: ebből: talajterhelési díj | B22: B355
A23: Termékek és szolgáltatások adói | B23: B35 | C23: =SUM(C20,C15,C13) -> 5000000 | D23: =SUM(D20,D15,D13) -> 5608450 | E23: =SUM(E20,E15,E13) -> 5608450
A24: eljárási illetékek | B24: B36
A25: igazgatási szolgáltatási díjak | B25: B36
A26: felügyeleti díjak | B26: B36
A27: ebrendészeti hozzájárulás | B27: B36
A28: környezetvédelmi bírság | B28: B36
A29: természetvédelmi bírság | B29: B36
A30: műemlékvédelmi bírság | B30: B36
A31: építésügyi bírság | B31: B36
A32: szabálysértési pénz- és helyszíni mbírság és a közlekedési szabályszegések után kiszabott közigazgatási bírság helyi önkormányzatot megillető része | B32: B36
A33: késedelmi pótlék, talajterhelési díj | B33: B36 | C33: ='3. melléklet'!L35 -> 75000 | D33: ='3. melléklet'!M35 -> 618130 | E33: ='3. melléklet'!N35 -> 618130
A34: Egyéb közhatalmi bevételek | B34: B36 | C34: =SUM(C24:C33) -> 75000 | D34: =SUM(D24:D33) -> 618130 | E34: =SUM(E24:E33) -> 618130

Sheet 15. melléklet
B1: 15. melléklet a 7/2021. (V.25.) önkormányzati rendelethez
A3: Nemeskolta Község Önkormányzata 2020. évi zárszámadása
A4: A helyi önkormányzat vagyonkimutatása (Ft)
A6: ÖNKORMÁNYZAT
A7: Megnevezés | B7: Forgalom-képtelen törzsvagyon | C7: Nemzetgazdasági szempontból kiemelt jelentőségű törzsvagyon | D7: Korlátozottan forgalomképes vagyon | E7: Üzleti vagyon | F7: Mindösszesen
A8: ESZKÖZÖK | B8: =SUM(B26+B41+B55+B56+B61+B62+B63) -> 132379761 | C8: =SUM(C26+C41+C55+C56+C61+C62+C63) -> 0 | D8: =SUM(D26+D41+D55+D56+D61+D62+D63) -> 286382171 | E8: =SUM(E26+E41+E55+E56+E61+E62+E63) -> 54684238 | F8: =SUM(B8:E8) -> 473446170
A9: A/I/1 Vagyoni értékű jogok | F9: =SUM(B9:E9) -> 0
A10: A/I/2 Szellemi termékek | F10: =SUM(B10:E10) -> 0
A11: A/I/3 Immateriális javak értékhelyesbítése | F11: =SUM(B11:E11) -> 0
A12: A/I Immateriális javak | B12: =SUM(B9:B11) -> 0 | C12: =SUM(C9:C11) -> 0 | D12: =SUM(D9:D11) -> 0 | E12: =SUM(E9:E11) -> 0 | F12: =SUM(B12:E12) -> 0
A13: A/II/1 Ingatlanok és a kapcsolódó vagyoni értékű jogok | B13: 132379761 | D13: 286382171 | E13: 4417550 | F13: =SUM(B13:E13) -> 423179482
A14: A/II/2 Gépek, berendezések, felszerelések, járművek | B14: 0 | D14: 0 | E14: 1203683 | F14: =SUM(B14:E14) -> 1203683
A15: A/II/3 Tenyészállatok | F15: =SUM(B15:E15) -> 0
A16: A/II/4 Beruházások, felújítások | E16: 0 | F16: =SUM(B16:E16) -> 0
A17: A/II/5 Tárgyi eszközök értékhelyesbítése | F17: =SUM(B17:E17) -> 0
A18: A/II Tárgyi eszközök | B18: =SUM(B13:B17) -> 132379761 | C18: =SUM(C13:C17) -> 0 | D18: =SUM(D13:D17) -> 286382171 | E18: =SUM(E13:E17) -> 5621233 | F18: =SUM(B18:E18) -> 424383165
A19: A/III/1 Tartós részesedések | B19: 0 | E19: 420660 | F19: =SUM(B19:E19) -> 420660
A20: A/III/2 Tartós hitelviszonyt megtestesítő értékpapírok | F20: =SUM(B20:E20) -> 0
A21: A/III/3 Befektetett pénzügyi eszközök értékhelyesbítése | F21: =SUM(B21:E21) -> 0
A22: A/III Befektetett pénzügyi eszközök | B22: =SUM(B19:B21) -> 0 | C22: =SUM(C19:C21) -> 0 | D22: =SUM(D19:D21) -> 0 | E22: =SUM(E19:E21) -> 420660 | F22: =SUM(B22:E22) -> 420660
A23: A/IV/1 Koncesszióba, vagyonkezelésbe adott eszközök | F23: =SUM(B23:E23) -> 0
A24: A/IV/2 Koncesszióba, vagyonkezelésbe adott eszközök értékhelyesbítése | F24: =SUM(B24:E24) -> 0
A25: A/IV Koncesszióba, vagyonkezelésbe adott eszközök | B25: =SUM(B23:B24) -> 0 | C25: =SUM(C23:C24) -> 0 | D25: =SUM(D23:D24) -> 0 | E25: =SUM(E23:E24) -> 0 | F25: =SUM(B25:E25) -> 0
A26: A) NEMZETI VAGYONBA TARTOZÓ BEFEKTETETT ESZKÖZÖK | B26: =SUM(B25,B22,B18,B12) -> 132379761 | C26: =SUM(C25,C22,C18,C12) -> 0 | D26: =SUM(D25,D22,D18,D12) -> 286382171 | E26: =SUM(E25,E22,E18,E12) -> 6041893 | F26: =SUM(B26:E26) -> 424803825
A27: B/I/1 Vásárolt készletek | F27: =SUM(B27:E27) -> 0
A28: B/I/2 Átsorolt, követelés fejében átvett készletek | F28: =SUM(B28:E28) -> 0
A29: B/I/3 Egyéb készletek | F29: =SUM(B29:E29) -> 0
A30: B/I/4 Befejezetlen termelés, félkész termékek, késztermékek | F30: =SUM(B30:E30) -> 0
A31: B/I/5 Növendék-, hízó és egyéb állatok | F31: =SUM(B31:E31) -> 0
A32: B/I Készletek | B32: =SUM(B27:B31) -> 0 | C32: =SUM(C27:C31) -> 0 | D32: =SUM(D27:D31) -> 0 | E32: =SUM(E27:E31) -> 0 | F32: =SUM(B32:E32) -> 0
A33: B/II/1 Nem tartós részesedések | F33: =SUM(B33:E33) -> 0
A34: B/II/2 Forgatási célú hitelviszonyt megtestesítő értékpapírok | F34: =SUM(B34:E34) -> 0
A35: B/II/2a - ebből: kárpótlási jegyek | F35: =SUM(B35:E35) -> 0
A36: B/II/2b - ebből: kincstárjegyek | F36: =SUM(B36:E36) -> 0
A37: B/II/2c - ebből: államkötvények | F37: =SUM(B37:E37) -> 0
A38: B/II/2d - ebből: helyi önkormányzatok kötvényei | F38: =SUM(B38:E38) -> 0
A39: B/II/2e - ebből: befektetési jegyek | F39: =SUM(B39:E39) -> 0
A40: B/II Értékpapírok | B40: =SUM(B33:B39) -> 0 | C40: =SUM(C33:C39) -> 0 | D40: =SUM(D33:D39) -> 0 | E40: =SUM(E33:E39) -> 0 | F40: =SUM(B40:E40) -> 0
A41: B) NEMZETI VAGYONBA TARTOZÓ FORGÓESZKÖZÖK | B41: =SUM(B40,B32) -> 0 | C41: =SUM(C40,C32) -> 0 | D41: =SUM(D40,D32) -> 0 | E41: =SUM(E40,E32) -> 0 | F41: =SUM(B41:E41) -> 0
A42: C/I/1. Éven túli lejáratú forint lekötött bankbetétek | F42: =SUM(B42:E42) -> 0
A43: C/I/2. Éven túli lejáratú deviza lekötött bankbetétek | F43: =SUM(B43:E43) -> 0
A44: C/I Hosszú lejáratú betétek | B44: =SUM(B42:B43) -> 0 | C44: =SUM(C42:C43) -> 0 | D44: =SUM(D42:D43) -> 0 | E44: =SUM(E42:E43) -> 0 | F44: =SUM(B44:E44) -> 0
A45: C/II/1. Forintpénztár | E45: 42085 | F45: =SUM(B45:E45) -> 42085
A46: C/II/2. Valutapénztár | F46: =SUM(B46:E46) -> 0
A47: C/II/3. Betétkönyvek, csekkek, elektronikus pénzeszközök | F47: =SUM(B47:E47) -> 0
A48: C/II Pénztárak, csekkek, betétkönyvek | B48: =SUM(B45:B47) -> 0 | C48: =SUM(C45:C47) -> 0 | D48: =SUM(D45:D47) -> 0 | E48: =SUM(E45:E47) -> 42085 | F48: =SUM(B48:E48) -> 42085
A49: C/III/1. Kincstáron kívüli forintszámlák | E49: 48600260 | F49: =SUM(B49:E49) -> 48600260
A50: C/III/2. Kincstárban vezetett forintszámlák | F50: =SUM(B50:E50) -> 0
A51: C/III Forintszámlák | B51: =SUM(B49:B50) -> 0 | C51: =SUM(C49:C50) -> 0 | D51: =SUM(D49:D50) -> 0 | E51: =SUM(E49:E50) -> 48600260 | F51: =SUM(B51:E51) -> 48600260
A52: C/ IV/1. Kincstáron kívüli devizaszámlák | F52: =SUM(B52:E52) -> 0
A53: C/IV/2. Kincstárban vezetett devizaszámlák | F53: =SUM(B53:E53) -> 0
A54: C/IV Devizaszámlák | B54: =SUM(B52:B53) -> 0 | C54: =SUM(C52:C53) -> 0 | D54: =SUM(D52:D53) -> 0 | E54: =SUM(E52:E53) -> 0 | F54: =SUM(B54:E54) -> 0
A55: C) PÉNZESZKÖZÖK | B55: =SUM(B54,B51,B48,B44) -> 0 | C55: =SUM(C54,C51,C48,C44) -> 0 | D55: =SUM(D54,D51,D48,D44) -> 0 | E55: =SUM(E54,E51,E48,E44) -> 48642345 | F55: =SUM(B55:E55) -> 48642345
A56: D) " 0"-ra leírt eszközök | F56: 37270819
A57: E/I. Használatban lévő kisértékű immateriális javak | F57: =SUM(B57:E57) -> 0
A58: E/II. Használatban lévő tárgyi eszközök | F58: 1872370
A59: E/III. Használatban lévő tárgyi eszközök | F59: =SUM(B59:E59) -> 0
A60: E/IV. Használatban lévő készletek | F60: =SUM(B60:E60) -> 0
A61: E) Használatban lévő eszközök | B61: =SUM(B57:B60) -> 0 | C61: =SUM(C57:C60) -> 0 | D61: =SUM(D57:D60) -> 0 | E61: =SUM(E57:E60) -> 0 | F61: 0
A62: F) 01.-02. számlacsoportban nyilvántartott eszközök | F62: 25090850
A63: G) Kulturális javak és régészeti leletek | F63: =SUM(B63:E63) -> 0

Sheet 16 melléklet
A1: 16. melléklet a 7/2021. (V.25.) önkormányzati rendelethez
A3: Nemeskolta Község Önkormányzata 2020 évi zárszámadása
A4: A helyi önkormányzat pénzmaradvány kimutatása (Ft)
A7: Megnevezés | B7: Összesen
A8: 01 Alaptevékenység költségvetési bevételei | B8: 79147904
A9: 02 Alaptevékenység költségvetési kiadásai | B9: 34182124
A10: I Alaptevékenység költségvetési egyenlege (=01-02) | B10: 44965780
A11: 03 Alaptevékenység finanszírozási bevételei | B11: 2233259
A12: 04 Alaptevékenység finanszírozási kiadásai | B12: 906277
A13: II Alaptevékenység finanszírozási egyenlege (=03-04) | B13: 1326982
A14: A) Alaptevékenység maradványa (=±I±II) | B14: 46292762
A15: 05 Vállalkozási tevékenység költségvetési bevételei | B15: 0
A16: 06 Vállalkozási tevékenység költségvetési kiadásai | B16: 0
A17: III Vállalkozási tevékenység költségvetési egyenlege (=05-06) | B17: 0
A18: 07 Vállalkozási tevékenység finanszírozási bevételei | B18: 0
A19: 08 Vállalkozási tevékenység finanszírozási kiadásai | B19: 0
... A26: G) Vállalkozási tevékenység felhasználható maradványa (=B-F) | B26: 0

Sheet 17 melléklet
A1: 17. melléklet a 7/2021. (V.25.) önkormányzati rendelethez
A3: Nemeskolta Község Önkormányzata 2020. évi zárszámadása
A4: A helyi önkormányzat eredménykimutatása (Ft)
A6: ÖNKORMÁNYZAT
A7: Megnevezés | B7: Előző időszak (2019. év) | C7: Módosítások | D7: Tárgyi időszak (2020. év)
A8: 01 Közhatalmi eredményszemléletű bevételek | B8: 4063494 | C8: 0 | D8: 7417326
A9: 02 Eszközök és szolgáltatások értékesítése nettó eredményszemléletű bevételei | B9: 98960 | C9: 0 | D9: 0
A10: 03 Tevékenység egyéb nettó eredményszemléletű bevételei | B10: 430893 | C10: 0 | D10: 1003152
A11: I Tevékenység nettó eredményszemléletű bevétele (=01+02+03) | B11: 4593347 | C11: 0 | D11: 8420478
A12: 04 Saját termelésű készletek állományváltozása | B12: 0 | C12: 0 | D12: 0
A13: 05 Saját előállítású eszközök aktivált értéke | B13: 0 | C13: 0 | D13: 0
A14: II Aktivált saját teljesítmények értéke (=±04+05) | B14: 0 | C14: 0 | D14: 0
A15: 06 Központi működési célú támogatások eredményszemléletű bevételei | B15: 21017790 | C15: 0 | D15: 23506651
A16: 07 Egyéb működési célú támogatások eredményszemléletű bevételei | B16: 1691624 | C16: 0 | D16: 1737794
A17: 08 Felhalmozási célú támogatások eredményszemléletű bevételei | B17: 1392321 | C17: 0 | D17: 42071788
A18: 09 Különféle egyéb eredményszemléletű bevételek | B18: 804451 | C18: 0 | D18: 6618191
A19: III Egyéb eredményszemléletű bevételek (=06+07+08+09) | B19: 24906186 | C19: 0 | D19: 73934424
... A51: C) MÉRLEG SZERINTI EREDMÉNY (=±A±B) | B51: -22612394 | C51: 0 | D51: 30025073

Sheet 18. melléklet
B1: 18. melléklet a 7/2021. (V.25.) önkormányzati rendelethez
A3: Nemeskolta Község Önkormányzata 2020. évi zárszámadása
A4: Irányító szervi támogatások folyósítása (Ft)
A6: ÖNKORMÁNYZATI ELŐIRÁNYZATOK
A7: Megnevezés | B7: Rovat-szám | C7: Költségvetési szerv
C8: eredeti ei. | D8: módosított ei. | E8: teljesítés
A9: Központi, irányító szervi támogatások folyósítása működési célra | B9: K915 | C9: ='5. melléklet'!L116 -> 0 | D9: ='5. melléklet'!M116 -> 0 | E9: ='5. melléklet'!N116 -> 0
A10: Központi, irányító szervi támogatások folyósítása felhalmozási célra | B10: K915 | C10: 0 | D10: 0 | E10: 0
A11: ÖSSZESEN: | C11: =SUM(C9:C10) -> 0 | D11: =SUM(D9:D10) -> 0 | E11: =SUM(E9:E10) -> 0

Sheet GÖRDÜLŐ
A1: A zárszámadási rendelettervezet előterjesztésekor a képviselő-testület részére tájékoztatásul az előterjesztlésben kell bemutatni-nem a rendelet része
A2: Nemeskolta Község Önkormányzata 2020. évi zárszámadása
A3: A költségvetési évet követő három év tervezett bevételi előirányzatainak és kiadási előirányzatainak keretszámai (Ft)
A5: ÖNKORMÁNYZAT ÉS KÖLTSÉGVETÉSI SZERVEI ELŐIRÁNYZATA MINDÖSSZESEN
A6: Rovat megnevezése | B6: Rovat-szám | C6: 2019. évi tény (teljesítés) | D6: 2020. évi eredeti ei. | E6: 2020. évi módosított ei. | F6: 2020. évi tény (teljesítés) | G6: 2021. évi eredeti ei. | H6: 2022. évi eredeti ei. | I6: 2023. évi eredeti ei.
A7: Személyi juttatások | B7: K1 | C7: ='[1]MÉRLEG '!C9 -> 10885239 | D7: ='4. melléklet'!C27 -> 10106000 | E7: ='4. melléklet'!D27 -> 11278329 | F7: ='4. melléklet'!E27 -> 11278329 | G7: 11375000 | H7: =G7*1.05 -> 11943750 | I7: =H7*1.05 -> 12540938
A8: Munkaadókat terhelő járulékok és szociális hozzájárulási adó | B8: K2 | C8: ='[1]MÉRLEG '!C10 -> 2030972 | D8: ='4. melléklet'!C28 -> 1873000 | E8: ='4. melléklet'!D28 -> 1796725 | F8: ='4. melléklet'!E28 -> 1796725 | G8: 2160000 | H8: =G8*1.05 -> 2268000 | I8: =H8*1.05 -> 2381400
A9: Dologi kiadások | B9: K3 | C9: ='[1]MÉRLEG '!C16 -> 10969146 | D9: ='4. melléklet'!C53 -> 9751000 | E9: ='4. melléklet'!D53 -> 13872383 | F9: ='4. melléklet'!E53 -> 12938690 | G9: 8716000 | H9: =G9*1.05 -> 9151800 | I9: =H9*1.05 -> 9609390
A10: Ellátottak pénzbeli juttatásai | B10: K4 | C10: ='[1]MÉRLEG '!C25 -> 2632196 | D10: ='4. melléklet'!C62 -> 2600000 | E10: ='4. melléklet'!D62 -> 1522000 | F10: ='4. melléklet'!E62 -> 1522000 | G10: 2200000 | H10: =G10*1.05 -> 2310000 | I10: =H10*1.05 -> 2425500
A11: Egyéb működési célú kiadások | B11: K5 | C11: ='[1]MÉRLEG '!C39 -> 2086603 | D11: ='4. melléklet'!C76 -> 9750870 | E11: ='4. melléklet'!D76 -> 51551509 | F11: ='4. melléklet'!E76 -> 6184140 | G11: 2835138 | H11: =G11*1.05 -> 2976894.9 | I11: =H11*1.05 -> 3125739.6
A12: Működési költségvetés előirányzat csoport | C12: =SUM(C7:C11) -> 28604156 | D12: =SUM(D7:D11) -> 34080870 | E12: =SUM(E7:E11) -> 80020946 | F12: =SUM(F7:F11) -> 33719884 | G12: =SUM(G7:G11) -> 27286138
A13: Beruházások | B13: K6 | C13: ='[1]MÉRLEG '!C48 -> 4606039 | D13: ='4. melléklet'!C85 -> 310000 | E13: ='4. melléklet'!D85 -> 462240 | F13: ='4. melléklet'!E85 -> 462240 | G13: 595000 | H13: =G13*1.05 -> 624750 | I13: =H13*1.05 -> 655987.5
A14: Felújítások | B14: K7 | C14: ='[1]MÉRLEG '!C53 -> 21660640 | D14: ='4. melléklet'!C90 -> 35559999 | E14: ='4. melléklet'!D90 -> 0 | F14: ='4. melléklet'!E90 -> 0 | G14: 45885000 | H14: =G14*1.05 -> 48179250 | I14: =H14*1.05 -> 50588212
A15: Egyéb felhalmozási célú kiadások | B15: K8 | C15: 0 | D15: ='4. melléklet'!C100 -> 0 | E15: ='4. melléklet'!D100 -> 0 | F15: ='4. melléklet'!E100 -> 0 | G15: 0 | H15: =G15*1.05 -> 0 | I15: =H15*1.05 -> 0
A16: Felhalmozási költségvetés előirányzat csoport | C16: =SUM(C13:C15) -> 26266679 | D16: =SUM(D13:D15) -> 35869999 | E16: =SUM(E13:E15) -> 462240 | F16: =SUM(F13:F15) -> 462240 | G16: =SUM(G13:G15) -> 46480000
A17: Költségvetési kiadások | B17: K1-K8 | C17: =C7+C8+C9+C10+C11+C13+C14+C15 -> 54870835 | D17: ='4. melléklet'!C102 -> 69950869 | E17: ='4. melléklet'!D102 -> 80483186 | F17: ='4. melléklet'!E102 -> 34182124 | G17: =G7+G8+G9+G10+G11+G13+G14+G15 -> 73766138 | H17: =SUM(H7:H16) -> 77454445 | I17: =SUM(I7:I15) -> 81327167
A18: Hitel-, kölcsöntörlesztés államháztartáson kívülre | B18: K911 | C18: ='[1]MÉRLEG '!C65 -> 0 | D18: ='4. melléklet'!C106 -> 0 | E18: ='4. melléklet'!D106 -> 0 | F18: ='4. melléklet'!E106 -> 0 | G18: 0 | H18: 0 | I18: 0
A19: Belföldi értékpapírok kiadásai | B19: K912 | C19: ='[1]MÉRLEG '!C66 -> 0 | D19: ='4. melléklet'!C113 -> 0 | E19: ='4. melléklet'!D113 -> 0 | F19: ='4. melléklet'!E113 -> 0 | G19: 0 | H19: 0 | I19: 0
A20: Államháztartáson belüli megelőlegezések folyósítása | B20: K913 | C20: ='[1]MÉRLEG '!C67 -> 0 | D20: ='4. melléklet'!C114 -> 0 | E20: ='4. melléklet'!D114 -> 0 | F20: ='4. melléklet'!E114 -> 0 | G20: 0 | H20: 0 | I20: 0
A21: Államháztartáson belüli megelőlegezések visszafizetése | B21: K914 | C21: ='[1]MÉRLEG '!C68 -> 876479 | D21: ='4. melléklet'!C115 -> 906277 | E21: ='4. melléklet'!D115 -> 906277 | F21: ='4. melléklet'!E115 -> 906277 | G21: 930271 | H21: 786000 | I21: 786000
A22: Központi, irányító szervi támogatások folyósítása | B22: K915 | C22: 0 | D22: ='4. melléklet'!C116 -> 0 | E22: ='4. melléklet'!D116 -> 0 | F22: ='4. melléklet'!E116 -> 0 | G22: 0 | H22: 0 | I22: 0
A23: Pénzeszközök betétként elhelyezése | B23: K916 | C23: 0 | D23: ='4. melléklet'!C117 -> 0 | E23: ='4. melléklet'!D117 -> 0 | F23: ='4. melléklet'!E117 -> 0 | G23: 0 | H23: 0 | I23: 0
A24: Pénzügyi lízing kiadásai | B24: K917 | C24: 0 | D24: ='4. melléklet'!C118 -> 0 | E24: ='4. melléklet'!D118 -> 0 | F24: ='4. melléklet'!E118 -> 0 | G24: 0 | H24: 0 | I24: 0
A25: Központi költségvetés sajátos finanszírozási kiadásai | B25: K918 | C25: 0 | D25: ='4. melléklet'!C119 -> 0 | E25: ='4. melléklet'!D119 -> 0 | F25: ='4. melléklet'!E119 -> 0 | G25: 0 | H25: 0 | I25: 0
A26: Belföldi finanszírozás kiadásai | B26: K91 | C26: ='[1]MÉRLEG '!C73 -> 876479 | D26: ='4. melléklet'!C121 -> 906277 | E26: ='4. melléklet'!D121 -> 906277 | F26: ='4. melléklet'!E121 -> 906277 | G26: 930271 | H26: 786000 | I26: 786000
A27: Külföldi finanszírozás kiadásai | B27: K92 | C27: ='[1]MÉRLEG '!C78 -> 0 | D27: ='4. melléklet'!C127 -> 0 | E27: ='4. melléklet'!D127 -> 0 | F27: ='4. melléklet'!E127 -> 0 | G27: 0 | H27: 0 | I27: 0
A28: Adóssághoz nem kapcsolódó származékos ügyletek kiadásai | B28: K93 | C28: ='[1]MÉRLEG '!C79 -> 0 | D28: ='4. melléklet'!C128 -> 0 | E28: ='4. melléklet'!D128 -> 0 | F28: ='4. melléklet'!E128 -> 0 | G28: 0 | H28: 0 | I28: 0
A29: Finanszírozási kiadások | B29: K9 | C29: =C26+C27+C28 -> 876479 | D29: ='4. melléklet'!C130 -> 906277 | E29: ='4. melléklet'!D130 -> 906277 | F29: ='4. melléklet'!E130 -> 906277 | G29: =G26+G27+G28 -> 930271 | H29: =H26+H27+H28 -> 786000 | I29: =I26+I27+I28 -> 786000
A30: KIADÁSOK ÖSSZESEN (K1-9) | C30: =C17+C29 -> 55747314 | D30: ='4. melléklet'!C131 -> 70857146 | E30: ='4. melléklet'!D131 -> 81389463 | F30: ='4. melléklet'!E131 -> 35088401 | G30: =G17+G29 -> 74696409 | H30: =H17+H29 -> 78240445 | I30: =I17+I29 -> 82113167
A31: Rovat megnevezése | B31: Rovat- szám | C31: 2019. évi tény (teljesítés) | D31: 2020. évi eredeti ei. | E31: 2020. évi módosított ei. | F31: 2020. évi tény (teljesítés) | G31: 2021. évi eredeti ei. | H31: 2022. évi eredeti ei. | I31: 2023. évi eredeti ei.
A32: Működési célú támogatások államháztartáson belülről | B32: B1 | C32: ='[1]MÉRLEG '!C89 -> 25849163 | D32: ='2. melléklet'!C21 -> 23188915 | E32: ='2. melléklet'!D21 -> 25244445 | F32: ='2. melléklet'!E21 -> 25244445 | G32: 23856775 | H32: =G32*1.05 -> 25049614 | I32: =H32*1.05 -> 26302094
A33: Közhatalmi bevételek | B33: B3 | C33: ='[1]MÉRLEG '!C96 -> 6856630 | D33: ='2. melléklet'!C35 -> 5425000 | E33: ='2. melléklet'!D35 -> 6576580 | F33: ='2. melléklet'!E35 -> 6568280 | G33: 1575000 | H33: =G33*1.05 -> 1653750 | I33: =H33*1.05 -> 1736437.5
A34: Működési bevételek | B34: B4 | C34: ='[1]MÉRLEG '!C108 -> 1211333 | D34: ='2. melléklet'!C47 -> 650000 | E34: ='2. melléklet'!D47 -> 5263391 | F34: ='2. melléklet'!E47 -> 5263391 | G34: 650000 | H34: =G34*1.05 -> 682500 | I34: =H34*1.05 -> 716625
A35: Működési célú átvett pénzeszközök | B35: B6 | C35: ='[1]MÉRLEG '!C114 -> 75000 | D35: ='2. melléklet'!C53 -> 0 | E35: ='2. melléklet'!D53 -> 0 | F35: ='2. melléklet'!E53 -> 0 | G35: 0 | H35: =G35*1.05 -> 0 | I35: =H35*1.05 -> 0
A36: Működési költségvetés előirányzat csoport | C36: =SUM(C32:C35) -> 33992126 | D36: =SUM(D32:D35) -> 29263915 | E36: =SUM(E32:E35) -> 37084416 | F36: =SUM(F32:F35) -> 37076116 | G36: =SUM(G32:G35) -> 26081775
A37: Felhalmozási célú támogatások államháztartáson belülről | B37: B2 | C37: ='[1]MÉRLEG '!C121 -> 15360239 | D37: ='2. melléklet'!C60 -> 38510992 | E37: ='2. melléklet'!D60 -> 42071788 | F37: ='2. melléklet'!E60 -> 42071788 | G37: 4614634 | H37: =G37*1.05 -> 4845365.7 | I37: =H37*1.05 -> 5087634
A38: Felhalmozási bevételek | B38: B5 | C38: ='[1]MÉRLEG '!C127 -> 0 | D38: ='3. melléklet'!C67 -> 0 | E38: ='3. melléklet'!D67 -> 0 | F38: ='3. melléklet'!E67 -> 0 | G38: 0 | H38: =G38*1.05 -> 0 | I38: =H38*1.05 -> 0
A39: Felhalmozási célú átvett pénzeszközök | B39: B7 | C39: ='[1]MÉRLEG '!C133 -> 0 | D39: ='2. melléklet'!C72 -> 0 | E39: ='2. melléklet'!D72 -> 0 | F39: ='2. melléklet'!E72 -> 0 | G39: 0 | H39: =G39*1.05 -> 0 | I39: =H39*1.05 -> 0
A40: Felhalmozási költségvetés előirányzat csoport | C40: =SUM(C37:C39) -> 15360239 | D40: =SUM(D37:D39) -> 38510992 | E40: =SUM(E37:E39) -> 42071788 | F40: =SUM(F37:F39) -> 42071788 | G40: =SUM(G37:G39) -> 4614634
A41: Költségvetési bevételek | B41: B1-B7 | C41: =C32+C33+C34+C35+C37+C38+C39 -> 49352365 | D41: ='2. melléklet'!C74 -> 67774907 | E41: ='2. melléklet'!D74 -> 79156204 | F41: ='2. melléklet'!E74 -> 79147904 | G41: =G32+G33+G34+G35+G37+G38+G39 -> 30696409 | H41: =SUM(H32:H39) -> 32231229 | I41: =SUM(I32:I39) -> 33842791
A42: költségvetési egyenleg MŰKÖDÉSI | C42: ='[1]MÉRLEG '!C136 -> 5387970 | D42: -4038468 | E42: -4135080 | F42: 1788245 | G42: =G36-G12 -> -1204363
A43: költségvetési egyenleg FELHALMOZÁSI | C43: ='[1]MÉRLEG '!C137 -> -10906440 | D43: -3672692 | E43: -4192139 | F43: -4192139 | G43: =G40-G16 -> -41865366
A44: Hitel-, kölcsönfelvétel államháztartáson kívülről | B44: B811 | C44: ='[1]MÉRLEG '!C138 -> 0 | D44: ='2. melléklet'!C75 -> 0 | E44: ='2. melléklet'!D75 -> 0 | F44: ='2. melléklet'!E75 -> 0 | G44: 0 | H44: 0 | I44: 0
A45: Belföldi értékpapírok bevételei | B45: B812 | C45: ='[1]MÉRLEG '!C139 -> 0 | D45: ='2. melléklet'!C76 -> 0 | E45: ='2. melléklet'!D76 -> 0 | F45: ='2. melléklet'!E76 -> 0 | G45: 0 | H45: 0 | I45: 0
A46: Előző év költségvetési maradványának igénybevétele MŰKÖDÉSRE | B46: B8131 | C46: ='[1]MÉRLEG '!C140 -> 14024712 | D46: ='2. melléklet'!C84 -> 3082239 | E46: ='2. melléklet'!D84 -> 1302988 | F46: ='2. melléklet'!E84 -> 1302988 | G46: 44000000 | H46: 46009216 | I46: 48270376
A47: Előző év költségvetési maradványának igénybevétele FELHALMOZÁSRA | B47: B8131 | C47: 0 | D47: 0 | E47: 0 | F47: 0 | G47: 0 | H47: 0 | I47: 0
A48: Előző év vállalkozási maradványának igénybevétele MŰKÖDÉSRE | B48: B8132 | C48: 0 | D48: ='2. melléklet'!C85 -> 0 | E48: 0 | F48: 0 | G48: 0 | H48: 0 | I48: 0
A49: Előző év vállalkozási maradványának igénybevétele FELHALMOZÁSRA | B49: B8132 | C49: 0 | D49: 0 | E49: 0 | F49: 0 | G49: 0 | H49: 0 | I49: 0
A50: Maradvány igénybevétele | B50: B813 | C50: =SUM(C46:C49) -> 14024712 | D50: ='2. melléklet'!C86 -> 3082239 | E50: ='2. melléklet'!D86 -> 1302988 | F50: ='2. melléklet'!E86 -> 1302988 | G50: 44000000 | H50: =H46 -> 46009216 | I50: =I46 -> 48270376
A51: Belföldi finanszírozás bevételei | B51: B81 | C51: ='[1]MÉRLEG '!C150 -> 14811505 | D51: ='2. melléklet'!C93 -> 3082239 | E51: ='2. melléklet'!D93 -> 2233259 | F51: ='2. melléklet'!E93 -> 2233259 | G51: 44000000 | H51: =H50 -> 46009216 | I51: =I50 -> 48270376
A52: Külföldi finanszírozás bevételei | B52: B82 | C52: ='[1]MÉRLEG '!C155 -> 0 | D52: ='2. melléklet'!C99 -> 0 | E52: ='2. melléklet'!D99 -> 0 | F52: ='2. melléklet'!E99 -> 0 | G52: 0 | H52: 0 | I52: 0
A53: Adóssághoz nem kapcsolódó származékos ügyletek bevételei | B53: B83 | C53: ='[1]MÉRLEG '!C156 -> 0 | D53: ='2. melléklet'!C100 -> 0 | E53: ='2. melléklet'!D100 -> 0 | F53: ='2. melléklet'!E100 -> 0 | G53: 0 | H53: 0 | I53: 0
A54: Finanszírozási bevételek | B54: B8 | C54: =C51+C52+C53 -> 14811505 | D54: ='2. melléklet'!C102 -> 3082239 | E54: ='2. melléklet'!D102 -> 2233259 | F54: ='2. melléklet'!E102 -> 2233259 | G54: =SUM(G51:G53) -> 44000000 | H54: =H51 -> 46009216 | I54: =I51 -> 48270376
A55: BEVÉTELEK ÖSSZESEN (B1-8) | C55: =C41+C54 -> 64163870 | D55: ='2. melléklet'!C103 -> 70857146 | E55: ='2. melléklet'!D103 -> 81389463 | F55: ='2. melléklet'!E103 -> 81381163 | G55: =G41+G54 -> 74696409 | H55: =H41+H54 -> 78240445 | I55: =I41+I54 -> 82113167

Sheet MÉRLEG 
A1: A zárszámadási rendelettervezet előterjesztésekor a képviselő-testület részére tájékoztatásul az előterjesztlésben kell bemutatni-nem a rendelet része
A2: Nemeskolta Község Önkormányzata 2020. évi zárszámadása
A3: A helyi önkormányzat költségvetési mérlege közgazdasági tagolásban (Ft)
A5: ÖNKORMÁNYZATI ELŐIRÁNYZATOK
A6: Rovat megnevezése | B6: Rovat-szám | C6: 2019. évi tény (teljesítés) | D6: 2020. évi eredeti ei. | E6: 2020. évi módosított ei. | F6: 2020. évi tény (teljesítés)
A7: Foglalkoztatottak személyi juttatásai | B7: K11 | C7: 7719044 | D7: ='4. melléklet'!C22 -> 7181000 | E7: ='4. melléklet'!D22 -> 8478486 | F7: ='4. melléklet'!E22 -> 8478486
A8: Külső személyi juttatások | B8: K12 | C8: 3381393 | D8: ='4. melléklet'!C26 -> 2925000 | E8: ='4. melléklet'!D26 -> 2799843 | F8: ='4. melléklet'!E26 -> 2799843
A9: Személyi juttatások | B9: K1 | C9: 11100437 | D9: ='4. melléklet'!C27 -> 10106000 | E9: ='4. melléklet'!D27 -> 11278329 | F9: ='4. melléklet'!E27 -> 11278329
A10: Munkaadókat terhelő járulékok és szociális hozzájárulási adó | B10: K2 | C10: 2006540 | D10: ='4. melléklet'!C28 -> 1873000 | E10: ='4. melléklet'!D28 -> 1796725 | F10: ='4. melléklet'!E28 -> 1796725
A11: Készletbeszerzés | B11: K31 | C11: 4188715 | D11: ='4. melléklet'!C32 -> 2989000 | E11: ='4. melléklet'!D32 -> 4406679 | F11: ='4. melléklet'!E32 -> 4406679
A12: Kommunikációs szolgáltatások | B12: K32 | C12: 238457 | D12: ='4. melléklet'!C35 -> 270000 | E12: ='4. melléklet'!D35 -> 241972 | F12: ='4. melléklet'!E35 -> 241972
A13: Szolgáltatási kiadások | B13: K33 | C13: 5637763 | D13: ='4. melléklet'!C43 -> 4555000 | E13: ='4. melléklet'!D43 -> 6592965 | F13: ='4. melléklet'!E43 -> 5847459
A14: Kiküldetések, reklám- és propagandakiadások | B14: K34 | C14: 250000 | D14: ='4. melléklet'!C46 -> 0 | E14: ='4. melléklet'!D46 -> 0 | F14: ='4. melléklet'!E46 -> 0
A15: Különféle befizetések és egyéb dologi kiadások | B15: K35 | C15: 2170476 | D15: ='4. melléklet'!C52 -> 1937000 | E15: ='4. melléklet'!D52 -> 2630767 | F15: ='4. melléklet'!E52 -> 2442580
A16: Dologi kiadások | B16: K3 | C16: 12485411 | D16: ='4. melléklet'!C53 -> 9751000 | E16: ='4. melléklet'!D53 -> 13872383 | F16: ='4. melléklet'!E53 -> 12938690
A17: Társadalombiztosítási ellátások | B17: K41 | C17: 0 | D17: ='4. melléklet'!C54 -> 0 | E17: ='4. melléklet'!D54 -> 0 | F17: ='4. melléklet'!E54 -> 0
A18: Családi támogatások | B18: K42 | C18: 0 | D18: ='4. melléklet'!C55 -> 0 | E18: ='4. melléklet'!D55 -> 0 | F18: ='4. melléklet'!E55 -> 0
A19: Pénzbeli kárpótlások, kártérítések | B19: K43 | C19: 0 | D19: ='4. melléklet'!C56 -> 0 | E19: ='4. melléklet'!D56 -> 0 | F19: ='4. melléklet'!E56 -> 0
A20: Betegséggel kapcsolatos (nem társadalombiztosítási) ellátások | B20: K44 | C20: 0 | D20: ='4. melléklet'!C57 -> 0 | E20: ='4. melléklet'!D57 -> 0 | F20: ='4. melléklet'!E57 -> 0
A21: Foglalkoztatással, munkanélküliséggel kapcsolatos ellátások | B21: K45 | C21: 0 | D21: ='4. melléklet'!C58 -> 0 | E21: ='4. melléklet'!D58 -> 0 | F21: ='4. melléklet'!E58 -> 0
A22: Lakhatással kapcsolatos ellátások | B22: K46 | C22: 0 | D22: ='4. melléklet'!C59 -> 0 | E22: ='4. melléklet'!D59 -> 0 | F22: ='4. melléklet'!E59 -> 0
A23: Intézményi ellátottak pénzbeli juttatásai | B23: K47 | C23: 0 | D23: ='4. melléklet'!C60 -> 0 | E23: ='4. melléklet'!D60 -> 0 | F23: ='4. melléklet'!E60 -> 0
A24: Egyéb nem intézményi ellátások | B24: K48 | C24: 1992000 | D24: ='4. melléklet'!C61 -> 2600000 | E24: ='4. melléklet'!D61 -> 1522000 | F24: ='4. melléklet'!E61 -> 1522000
A25: Ellátottak pénzbeli juttatásai | B25: K4 | C25: 1992000 | D25: ='4. melléklet'!C62 -> 2600000 | E25: ='4. melléklet'!D62 -> 1522000 | F25: ='4. melléklet'!E62 -> 1522000
A26: Nemzetközi kötelezettségek | B26: K501 | C26: 0 | D26: ='4. melléklet'!C63 -> 0 | E26: ='4. melléklet'!D63 -> 0 | F26: ='4. melléklet'!E63 -> 0
... A35: Kamattámogatások | B35: K510 | C35: 0 | D35: ='4. melléklet'!C72 -> 0 | E35: ='4. melléklet'!D72 -> 0 | F35: ='4. melléklet'!E72 -> 0
A36: Egyéb működési célú támogatások államháztartáson kívülre | B36: K512 | C36: 0 | D36: ='4. melléklet'!C74 -> 1020000 | E36: ='4. melléklet'!D74 -> 370000 | F36: ='4. melléklet'!E74 -> 370000
A37: Tartalékok-általános | B37: K513 | C37: 1805000 | D37: ='4. melléklet'!C75 -> 6180207 | E37: ='4. melléklet'!D75 -> 45367369 | F37: ='4. melléklet'!E75 -> 0
A38: Egyéb működési célú kiadások | B38: K5 | C38: 0 | D38: ='4. melléklet'!C76 -> 9750870 | E38: ='4. melléklet'!D76 -> 51551509 | F38: ='4. melléklet'!E76 -> 6184140
A39: Működési költségvetés előirányzat csoport | C39: 4353845 | D39: ='4. melléklet'!C77 -> 34080870 | E39: ='4. melléklet'!D77 -> 80020946 | F39: ='4. melléklet'!E77 -> 33719884
A40: Immateriális javak beszerzése, létesítése | B40: K61 | C40: 31938233 | D40: ='4. melléklet'!C78 -> 0 | E40: ='4. melléklet'!D78 -> 0 | F40: ='4. melléklet'!E78 -> 0
A41: Ingatlanok beszerzése, létesítése | B41: K62 | C41: 0 | D41: ='4. melléklet'!C79 -> 0 | E41: ='4. melléklet'!D79 -> 0 | F41: ='4. melléklet'!E79 -> 0
A42: Informatikai eszközök beszerzése, létesítése | B42: K63 | C42: 3479938 | D42: ='4. melléklet'!C80 -> 0 | E42: ='4. melléklet'!D80 -> 0 | F42: ='4. melléklet'!E80 -> 0
A43: Egyéb tárgyi eszközök beszerzése, létesítése | B43: K64 | C43: 0 | D43: ='4. melléklet'!C81 -> 200000 | E43: ='4. melléklet'!D81 -> 363970 | F43: ='4. melléklet'!E81 -> 363970
A44: Részesedések beszerzése | B44: K65 | C44: 373226 | D44: ='4. melléklet'!C82 -> 0 | E44: ='4. melléklet'!D82 -> 0 | F44: ='4. melléklet'!E82 -> 0
A45: Meglévő részesedések növeléséhez kapcsolódó kiadások | B45: K66 | C45: 0 | D45: ='4. melléklet'!C83 -> 0 | E45: ='4. melléklet'!D83 -> 0 | F45: ='4. melléklet'!E83 -> 0
A46: Beruházási célú előzetesen felszámított általános forgalmi adó | B46: K67 | C46: 0 | D46: ='4. melléklet'!C84 -> 110000 | E46: ='4. melléklet'!D84 -> 98270 | F46: ='4. melléklet'!E84 -> 98270
A47: Beruházások | B47: K6 | C47: 1040355 | D47: ='4. melléklet'!C85 -> 310000 | E47: ='4. melléklet'!D85 -> 462240 | F47: ='4. melléklet'!E85 -> 462240
A48: Ingatlanok felújítása | B48: K71 | C48: 4893519 | D48: 14074495 | E48: 14074649 | F48: 14074649
A49: Informatikai eszközök felújítása | B49: K72 | C49: 0 | D49: 0 | E49: 0 | F49: 0
A50: Egyéb tárgyi eszközök felújítása | B50: K73 | C50: 0 | D50: 0 | E50: 0 | F50: 0
A51: Felújítási célú előzetesen felszámított általános forgalmi adó | B51: K74 | C51: 0 | D51: 3800114 | E51: 3800155 | F51: 3800155
A52: Felújítások | B52: K7 | C52: 0 | D52: =SUM(D48:D51) -> 17874609 | E52: =SUM(E48:E51) -> 17874804 | F52: =SUM(F48:F51) -> 17874804
A53: Felhalmozási célú garancia- és kezességvállalásból származó kifizetés államháztartáson belülre | B53: K81 | C53: 0 | D53: ='4. melléklet'!C91 -> 0 | E53: ='4. melléklet'!D91 -> 0 | F53: ='4. melléklet'!E91 -> 0
A54: Felhalmozási célú visszatérítendő támogatások, kölcsönök nyújtása államháztartáson belülre | B54: K82 | C54: 0 | D54: ='4. melléklet'!C92 -> 0 | E54: ='4. melléklet'!D92 -> 0 | F54: ='4. melléklet'!E92 -> 0
A55: Felhalmozási célú visszatérítendő támogatások, kölcsönök törlesztése államháztartáson belülre | B55: K83 | C55: 0 | D55: ='4. melléklet'!C93 -> 0 | E55: ='4. melléklet'!D93 -> 0 | F55: ='4. melléklet'!E93 -> 0
A56: Egyéb felhalmozási célú támogatások államháztartáson belülre | B56: K84 | C56: 0 | D56: ='4. melléklet'!C94 -> 0 | E56: ='4. melléklet'!D94 -> 0 | F56: ='4. melléklet'!E94 -> 0
A57: Felhalmozási célú garancia- és kezességvállalásból származó kifizetés államháztartáson kívülre | B57: K85 | C57: 0 | D57: ='4. melléklet'!C95 -> 0 | E57: ='4. melléklet'!D95 -> 0 | F57: ='4. melléklet'!E95 -> 0
A58: Felhalmozási célú visszatérítendő támogatások, kölcsönök nyújtása államháztartáson kívülre | B58: K86 | C58: 0 | D58: ='4. melléklet'!C96 -> 0 | E58: ='4. melléklet'!D96 -> 0 | F58: ='4. melléklet'!E96 -> 0
A59: Lakástámogatás | B59: K87 | C59: 0 | D59: ='4. melléklet'!C97 -> 0 | E59: ='4. melléklet'!D97 -> 0 | F59: ='4. melléklet'!E97 -> 0
A60: Egyéb felhalmozási célú támogatások államháztartáson kívülre | B60: K88 | C60: 0 | D60: ='4. melléklet'!C98 -> 0 | E60: ='4. melléklet'!D98 -> 0 | F60: ='4. melléklet'!E98 -> 0
A61: Egyéb felhalmozási célú kiadások | B61: K8 | C61: 0 | D61: ='4. melléklet'!C100 -> 0 | E61: ='4. melléklet'!D100 -> 0 | F61: ='4. melléklet'!E100 -> 0
A62: Felhalmozási költségvetés előirányzat csoport | C62: 0 | D62: =D47+D52+D61 -> 18184609 | E62: =E47+E52+E61 -> 18337044 | F62: =F47+F52+F61 -> 18337044
A63: Költségvetési kiadások | B63: K1-K8 | C63: 4893519 | D63: ='4. melléklet'!C102 -> 69950869 | E63: ='4. melléklet'!D102 -> 80483186 | F63: ='4. melléklet'!E102 -> 34182124
A64: Hitel-, kölcsöntörlesztés államháztartáson kívülre | B64: K911 | C64: 36831752 | D64: ='4. melléklet'!C106 -> 0 | E64: ='4. melléklet'!D106 -> 0 | F64: ='4. melléklet'!E106 -> 0
A65: Belföldi értékpapírok kiadásai | B65: K912 | C65: 0 | D65: ='4. melléklet'!C113 -> 0 | E65: ='4. melléklet'!D113 -> 0 | F65: ='4. melléklet'!E113 -> 0
A66: Államháztartáson belüli megelőlegezések folyósítása | B66: K913 | C66: 0 | D66: ='4. melléklet'!C114 -> 0 | E66: ='4. melléklet'!D114 -> 0 | F66: ='4. melléklet'!E114 -> 0
A67: Államháztartáson belüli megelőlegezések visszafizetése | B67: K914 | C67: 0 | D67: ='4. melléklet'!C115 -> 906277 | E67: ='4. melléklet'!D115 -> 906277 | F67: ='4. melléklet'!E115 -> 906277
A68: Központi, irányító szervi támogatások folyósítása | B68: K915 | C68: 786793 | D68: ='4. melléklet'!C116 -> 0 | E68: ='4. melléklet'!D116 -> 0 | F68: ='4. melléklet'!E116 -> 0
A69: Pénzeszközök betétként elhelyezése | B69: K916 | C69: 0 | D69: ='4. melléklet'!C117 -> 0 | E69: ='4. melléklet'!D117 -> 0 | F69: ='4. melléklet'!E117 -> 0
A70: Pénzügyi lízing kiadásai | B70: K917 | C70: 0 | D70: ='4. melléklet'!C118 -> 0 | E70: ='4. melléklet'!D118 -> 0 | F70: ='4. melléklet'!E118 -> 0
A71: Központi költségvetés sajátos finanszírozási kiadásai | B71: K918 | C71: 0 | D71: ='4. melléklet'!C119 -> 0 | E71: ='4. melléklet'!D119 -> 0 | F71: ='4. melléklet'!E119 -> 0
A72: Belföldi finanszírozás kiadásai | B72: K91 | C72: 0 | D72: ='4. melléklet'!C121 -> 906277 | E72: ='4. melléklet'!D121 -> 906277 | F72: ='4. melléklet'!E121 -> 906277
A73: Forgatási célú külföldi értékpapírok vásárlása | B73: K921 | C73: 786793 | D73: ='4. melléklet'!C122 -> 0 | E73: ='4. melléklet'!D122 -> 0 | F73: ='4. melléklet'!E122 -> 0
A74: Befektetési célú külföldi értékpapírok vásárlása | B74: K922 | C74: 0 | D74: ='4. melléklet'!C123 -> 0 | E74: ='4. melléklet'!D123 -> 0 | F74: ='4. melléklet'!E123 -> 0
A75: Külföldi értékpapírok beváltása | B75: K923 | C75: 0 | D75: ='4. melléklet'!C124 -> 0 | E75: ='4. melléklet'!D124 -> 0 | F75: ='4. melléklet'!E124 -> 0
A76: Külföldi hitelek, kölcsönök törlesztése | B76: K924 | C76: 0 | D76: ='4. melléklet'!C125 -> 0 | E76: ='4. melléklet'!D125 -> 0 | F76: ='4. melléklet'!E125 -> 0
A77: Külföldi finanszírozás kiadásai | B77: K92 | C77: 0 | D77: ='4. melléklet'!C127 -> 0 | E77: ='4. melléklet'!D127 -> 0 | F77: ='4. melléklet'!E127 -> 0
A78: Adóssághoz nem kapcsolódó származékos ügyletek kiadásai | B78: K93 | C78: 0 | D78: ='4. melléklet'!C128 -> 0 | E78: ='4. melléklet'!D128 -> 0 | F78: ='4. melléklet'!E128 -> 0
A79: Finanszírozási kiadások | B79: K9 | C79: 0 | D79: ='4. melléklet'!C130 -> 906277 | E79: ='4. melléklet'!D130 -> 906277 | F79: ='4. melléklet'!E130 -> 906277
A80: KIADÁSOK ÖSSZESEN (K1-9) | C80: 786793 | D80: ='4. melléklet'!C131 -> 70857146 | E80: ='4. melléklet'!D131 -> 81389463 | F80: ='4. melléklet'!E131 -> 35088401
A81: Rovat megnevezése | B81: Rovat- szám | C81: 37618545 | D81: 2020. évi eredeti ei. | E81: 2020. évi módosított ei. | F81: 2020. évi tény (teljesítés)
A82: Önkormányzatok működési támogatásai | B82: B11 | C82: 2019. évi tény (teljesítés) | D82: ='2. melléklet'!C14 -> 0 | E82: ='2. melléklet'!D14 -> 0 | F82: ='2. melléklet'!E14 -> 0
A83: Elvonások és befizetések bevételei | B83: B12 | C83: 21017790 | D83: ='2. melléklet'!C16 -> 0 | E83: ='2. melléklet'!D16 -> 0 | F83: ='2. melléklet'!E16 -> 0
A84: Működési célú garancia- és kezességvállalásból származó megtérülések államháztartáson belülről | B84: B13 | C84: 0 | D84: ='2. melléklet'!C17 -> 0 | E84: ='2. melléklet'!D17 -> 0 | F84: ='2. melléklet'!E17 -> 0
A85: Működési célú visszatérítendő támogatások, kölcsönök visszatérülése államháztartáson belülről | B85: B14 | C85: 0 | D85: ='2. melléklet'!C18 -> 0 | E85: ='2. melléklet'!D18 -> 0 | F85: ='2. melléklet'!E18 -> 0
A86: Működési célú visszatérítendő támogatások, kölcsönök igénybevétele államháztartáson belülről | B86: B15 | C86: 0 | D86: ='2. melléklet'!C19 -> 0 | E86: ='2. melléklet'!D19 -> 0 | F86: ='2. melléklet'!E19 -> 0
A87: Egyéb működési célú támogatások bevételei államháztartáson belülről | B87: B16 | C87: 0 | D87: ='2. melléklet'!C20 -> 532000 | E87: ='2. melléklet'!D20 -> 1737794 | F87: ='2. melléklet'!E20 -> 1737794
A88: Működési célú támogatások államháztartáson belülről | B88: B1 | C88: 1691624 | D88: ='2. melléklet'!C21 -> 23188915 | E88: ='2. melléklet'!D21 -> 25244445 | F88: ='2. melléklet'!E21 -> 25244445
A89: Jövedelemadók | B89: B31 | C89: 22709414 | D89: ='2. melléklet'!C24 -> 0 | E89: ='2. melléklet'!D24 -> 0 | F89: ='2. melléklet'!E24 -> 0
A90: Szociális hozzájárulási adó és járulékok | B90: B32 | C90: 0 | D90: ='2. melléklet'!C25 -> 0 | E90: ='2. melléklet'!D25 -> 0 | F90: ='2. melléklet'!E25 -> 0
A91: Bérhez és foglalkoztatáshoz kapcsolódó adók | B91: B33 | C91: 0 | D91: ='2. melléklet'!C26 -> 0 | E91: ='2. melléklet'!D26 -> 0 | F91: ='2. melléklet'!E26 -> 0
A92: Vagyoni tipusú adók | B92: B34 | C92: 0 | D92: ='2. melléklet'!C27 -> 350000 | E92: ='2. melléklet'!D27 -> 350000 | F92: ='2. melléklet'!E27 -> 341700
A93: Termékek és szolgáltatások adói | B93: B35 | C93: 389000 | D93: ='2. melléklet'!C33 -> 5000000 | E93: ='2. melléklet'!D33 -> 5608450 | F93: ='2. melléklet'!E33 -> 5608450
A94: Egyéb közhatalmi bevételek | B94: B36 | C94: 4638760 | D94: ='2. melléklet'!C34 -> 75000 | E94: ='2. melléklet'!D34 -> 618130 | F94: ='2. melléklet'!E34 -> 618130
A95: Közhatalmi bevételek | B95: B3 | C95: 66925 | D95: ='2. melléklet'!C35 -> 5425000 | E95: ='2. melléklet'!D35 -> 6576580 | F95: ='2. melléklet'!E35 -> 6568280
A96: Áru- és készletértékesítés ellenértéke | B96: B401 | C96: 5094685 | D96: ='2. melléklet'!C36 -> 0 | E96: ='2. melléklet'!D36 -> 0 | F96: ='2. melléklet'!E36 -> 0
A97: Szolgáltatások ellenértéke | B97: B402 | C97: 0 | D97: ='2. melléklet'!C37 -> 0 | E97: ='2. melléklet'!D37 -> 0 | F97: ='2. melléklet'!E37 -> 0
A98: Közvetített szolgáltatások értéke | B98: B403 | C98: 98960 | D98: ='2. melléklet'!C38 -> 0 | E98: ='2. melléklet'!D38 -> 0 | F98: ='2. melléklet'!E38 -> 0
A99: Tulajdonosi bevételek | B99: B404 | C99: 0 | D99: ='2. melléklet'!C39 -> 550000 | E99: ='2. melléklet'!D39 -> 1003152 | F99: ='2. melléklet'!E39 -> 1003152
A100: Ellátási díjak | B100: B405 | C100: 430893 | D100: ='2. melléklet'!C40 -> 0 | E100: ='2. melléklet'!D40 -> 0 | F100: ='2. melléklet'!E40 -> 0
A101: Kiszámlázott általános forgalmi adó | B101: B406 | C101: 0 | D101: ='2. melléklet'!C41 -> 0 | E101: ='2. melléklet'!D41 -> 0 | F101: ='2. melléklet'!E41 -> 0
A102: Általános forgalmi adó visszatérítése | B102: B407 | C102: 0 | D102: ='2. melléklet'!C42 -> 0 | E102: ='2. melléklet'!D42 -> 0 | F102: ='2. melléklet'!E42 -> 0
A103: Kamatbevételek | B103: B408 | C103: 0 | D103: ='2. melléklet'!C43 -> 0 | E103: ='2. melléklet'!D43 -> 31 | F103: ='2. melléklet'!E43 -> 31
A104: Egyéb pénzügyi műveletek bevételei | B104: B409 | C104: 8 | D104: ='2. melléklet'!C44 -> 0 | E104: ='2. melléklet'!D44 -> 0 | F104: ='2. melléklet'!E44 -> 0
... A109: Működési célú visszatérítendő támogatások, kölcsönök visszatérülése államháztartáson kívülről | B109: B62 | C109: 0 | D109: ='2. melléklet'!C49 -> 0 | E109: ='2. melléklet'!D49 -> 0 | F109: ='2. melléklet'!E49 -> 0
A110: Egyéb működési célú átvett pénzeszközök | B110: B65 | C110: 0 | D110: ='2. melléklet'!C52 -> 0 | E110: ='2. melléklet'!D52 -> 0 | F110: ='2. melléklet'!E52 -> 0
A111: Működési célú átvett pénzeszközök | B111: B6 | C111: 0 | D111: ='2. melléklet'!C53 -> 0 | E111: ='2. melléklet'!D53 -> 0 | F111: ='2. melléklet'!E53 -> 0
A112: Működési költségvetés előirányzat csoport | C112: 0 | D112: ='2. melléklet'!C54 -> 29263915 | E112: ='2. melléklet'!D54 -> 37084416 | F112: ='2. melléklet'!E54 -> 37076116
A113: Felhalmozási célú önkormányzati támogatások | B113: B21 | C113: 0 | D113: ='2. melléklet'!C55 -> 0 | E113: ='2. melléklet'!D55 -> 0 | F113: ='2. melléklet'!E55 -> 0
...

Sheet TÖBB ÉVES
A1: A zárszámadási rendelettervezet előterjesztésekor a képviselő-testület részére tájékoztatásul az előterjesztlésben kell bemutatni-nem a rendelet része
A2: Nemeskolta Község Önkormányzata 2020. évi zárszámadása
A3: A többéves kihatással járó döntések számszerűsítése évenkénti bontásban és összesítve (Ft)
A5: ÖNKORMÁNYZATI ELŐIRÁNYZATOK
A6: Kötelezettségek megnevezése | B6: Köt.vállalás éve | C6: Tárgyév előtti kifizetés | D6: Tárgyévi kifizetés (2018. évi ei.) | E6: Tárgyévi kifizetés (2018. évi mód. ei.) | F6: Tárgyévi kifizetés (2018. évi teljesítés) | G6: 2019. évi kifizetés | H6: 2020. évi kifizetés | I6: 2021. évi kifizetés | J6: 2022. év utáni kifizetések | K6: Összesen
A11: Működési célú hiteltörlesztések összesen:
A16: Felhalmozási célú hiteltörlesztések
A21: Beruházások összesen:
A26: Felújítások összesen:
A31: MINDÖSSZESEN:

Sheet KÖZVETETT
A1: A zárszámadási rendelettervezet előterjesztésekor a képviselő-testület részére tájékoztatásul az előterjesztlésben kell bemutatni-nem a rendelet része
A2: Nemeskolta Község Önkormányzata 2020. évi zárszámadása
A3: A közvetett támogatások (Ft)
A5: ÖNKORMÁNYZATI ELŐIRÁNYZATOK
A6: Rovat megnevezése | B6: Rovat-szám | C6: teljesített bevétel | D6: közvetett támogatás | E6: elvárt bevétel
A11: az ellátottak térítési díjának, kártérítésének méltányossági alapon történő elengedésének összege | B11: B405
A16: a lakosság részére lakásépítéshez, lakásfelújításhoz nyújtott kölcsönök elengedésének összege | B16: B72
A17: építményadó | B17: B34
A18: ebből adóelengedés
A19: ebből adókedvezmény
A20: épület után fizetett idegenforgalmi adó | B20: B34
A21: ebből adóelengedés
A22: ebből adókedvezmény
A23: magánszemélyek kommunális adója | B23: B34
A24: ebből adóelengedés
A25: ebből adókedvezmény
A26: telekadó | B26: B34
A27: ebből adóelengedés
A28: ebből adókedvezmény
A29: Gépjárműadók | B29: B354
A30: ebből adóelengedés
A31: ebből adókedvezmény
A32: Értékesítési és forgalmi adók | B32: B351
A33: ebből adóelengedés
A34: ebből adókedvezmény
A35: a helyi adónál, gépjárműadónál biztosított kedvezmény, mentesség összege adónemenként | B35: B3, B7
B36: B402
B37: B5
A40: a helyiségek, eszközök hasznosításából származó bevételből nyújtott kedvezmény, mentesség összege | B40: B4, B5
A45: az egyéb nyújtott kedvezmény vagy kölcsön elengedésének összege

Sheet VAGYON
A1: A zárszámadási rendelettervezet előterjesztésekor a képviselő-testület részére tájékoztatásul az előterjesztlésben kell bemutatni-nem a rendelet része
A2: Nemeskolta Község Önkormányzat 2020. évi zárszámadása
A3: A helyi önkormányzat vagyonkimutatása (Ft)
A5: ÖNKORMÁNYZAT ÉS KÖLTSÉGVETÉSI SZERVEK ÖSSZESEN
A7: Megnevezés | B7: Sorszám | C7: Előző év | D7: Tárgyév
A8: ESZKÖZÖK
A9: A/ NEMZETI VAGYONBA TARTOZÓ BEFEKTETETT ESZKÖZÖK | B9: A | C9: 441598343 | D9: 424803825
A10: I. IMMATERIÁLIS JAVAK | B10: A/I | C10: 0 | D10: 0
A11: 1. Vagyoni értékű jogok | B11: A/I/1 | C11: 0 | D11: 0
A12: a) Forgalomképtelen törzsvagyon | B12: A/I/1/a
A13: b) Nemzetgazdasági szempontból kiemelt jelentőségű törzsvagyon | B13: A/I/1/b
A14: c) Korlátozottan forgalomképes vagyon | B14: A/I/1/c | C14: 0 | D14: 0
A15: d) Üzleti vagyon | B15: A/I/1/d | C15: 0 | D15: 0
A16: 2. Szellemi termékek | B16: A/I/2 | C16: 0 | D16: 0
A17: a) Forgalomképtelen törzsvagyon | B17: A/I/2/a
A18: b) Nemzetgazdasági szempontból kiemelt jelentőségű törzsvagyon | B18: A/I/2/b
A19: c) Korlátozottan forgalomképes vagyon | B19: A/I/2/c | C19: 0 | D19: 0
A20: d) Üzleti vagyon | B20: A/I/2/d | C20: 0 | D20: 0
A21: 3. Immateriális javak értékhelyesbítése | B21: A/I/3 | C21: 0 | D21: 0
A22: a) Forgalomképtelen törzsvagyon | B22: A/I/3/a
A23: b) Nemzetgazdasági szempontból kiemelt jelentőségű törzsvagyon | B23: A/I/3/b
A24: c) Korlátozottan forgalomképes vagyon | B24: A/I/3/c | C24: 0 | D24: 0
A25: d) Üzleti vagyon | B25: A/I/3/d | C25: 0 | D25: 0
A26: II. TÁRGYI ESZKÖZÖK | B26: A/II | C26: 441177683 | D26: 424383165
A27: 1. Ingatlanok és kapcsolódó vagyoni értékű jogok | B27: A/II/1 | C27: 437972958 | D27: 423179482
A28: a) Forgalomképtelen törzsvagyon | B28: A/II/1/a | C28: 137220993 | D28: 132379761
A29: b) Nemzetgazdasági szempontból kiemelt jelentőségű törzsvagyon | B29: A/II/1/b | C29: 0 | D29: 0
A30: c) Korlátozottan forgalomképes vagyon | B30: A/II/1/c | C30: 296334415 | D30: 286382171
A31: d) Üzleti vagyon | B31: A/II/1/d | C31: 4417550 | D31: 4417550
A32: 2. Gépek, berendezések, felszerelések, járművek | B32: A/II/2 | C32: 3204725 | D32: 1203683
A33: a) Forgalomképtelen törzsvagyon | B33: A/II/2/a | C33: 0 | D33: 0
A34: b) Nemzetgazdasági szempontból kiemelt jelentőségű törzsvagyon | B34: A/II/2/b | C34: 0 | D34: 0
A35: c) Korlátozottan forgalomképes vagyon | B35: A/II/2/c | C35: 1249296 | D35: 0
... A37: 3. Tenyészállatok | B37: A/II/3 | C37: 0 | D37: 0
A38: a) Forgalomképtelen törzsvagyon | B38: A/II/3/a
A39: b) Nemzetgazdasági szempontból kiemelt jelentőségű törzsvagyon | B39: A/II/3/b
A40: c) Korlátozottan forgalomképes vagyon | B40: A/II/3/c
A41: d) Üzleti vagyon | B41: A/II/3/d | C41: 0 | D41: 0
A42: 4. Beruházások, felújítások | B42: A/II/4 | C42: 0 | D42: 0
A43: a) Forgalomképtelen törzsvagyon | B43: A/II/4/a
A44: b) Nemzetgazdasági szempontból kiemelt jelentőségű törzsvagyon | B44: A/II/4/b
A45: c) Korlátozottan forgalomképes vagyon | B45: A/II/4/c
A46: d) Üzleti vagyon | B46: A/II/4/d | C46: 0 | D46: 0
A47: 5. Tárgyi eszközök értékhelyesbítése | B47: A/II/5 | C47: 0 | D47: 0
A48: a) Forgalomképtelen törzsvagyon | B48: A/II/5/a | C48: 0 | D48: 0
A49: b) Nemzetgazdasági szempontból kiemelt jelentőségű törzsvagyon | B49: A/II/5/b | C49: 0 | D49: 0
A50: c) Korlátozottan forgalomképes vagyon | B50: A/II/5/c | C50: 0 | D50: 0
A51: d) Üzleti vagyon | B51: A/II/5/d | C51: 0 | D51: 0
A52: III. BEFEKTETETT PÉNZÜGYI ESZKÖZÖK | B52: A/III | C52: 420660 | D52: 420660
A53: 1. Tartós részesedések | B53: A/III/1 | C53: 420660 | D53: 420660
A54: a) Forgalomképtelen törzsvagyon | B54: A/III/1/a | C54: 0 | D54: 0
A55: b) Nemzetgazdasági szempontból kiemelt jelentőségű törzsvagyon | B55: A/III/1/b | C55: 0 | D55: 0
A56: c) Korlátozottan forgalomképes vagyon | B56: A/III/1/c | C56: 420660 | D56: 420660
A57: d) Üzleti vagyon | B57: A/III/1/d | C57: 0 | D57: 0
A58: 2. Tartós hitelviszonyt megtestesítő értékpapírok | B58: A/III/2 | C58: 0 | D58: 0
A59: a) Forgalomképtelen törzsvagyon | B59: A/III/2/a
A60: b) Nemzetgazdasági szempontból kiemelt jelentőségű törzsvagyon | B60: A/III/2/b
A61: c) Korlátozottan forgalomképes vagyon | B61: A/III/2/c
A62: d) Üzleti vagyon | B62: A/III/2/d | C62: 0 | D62: 0
A63: 3. Befektetett pénzügyi eszközök értékhelyesbítése | B63: A/III/3 | C63: 0 | D63: 0
A64: a) Forgalomképtelen törzsvagyon | B64: A/III/3/a
A65: b) Nemzetgazdasági szempontból kiemelt jelentőségű törzsvagyon | B65: A/III/3/b
A66: c) Korlátozottan forgalomképes vagyon | B66: A/III/3/c
A67: d) Üzleti vagyon | B67: A/III/3/d | C67: 0 | D67: 0
A68: IV. KONCESSZIÓBA, VAGYONKEZELÉSBE ADOTT ESZKÖZÖK | B68: A/IV | C68: 0 | D68: 0
A69: 1.Koncesszióba, vagyonkezelésbe adott eszközök | B69: A/IV/1 | C69: 0 | D69: 0
A70: a) Forgalomképtelen törzsvagyon | B70: A/IV/1/a | C70: 0 | D70: 0
A71: b) Nemzetgazdasági szempontból kiemelt jelentőségű törzsvagyon | B71: A/IV/1/b | C71: 0 | D71: 0
A72: c) Korlátozottan forgalomképes vagyon | B72: A/IV/1/c | C72: 0 | D72: 0
A73: d) Üzleti vagyon | B73: A/IV/1/d | C73: 0 | D73: 0
A74: 2. Koncesszióba, vagyonkezelésbe adott eszközök értékhelyesbítése | B74: A/IV/2 | C74: 0 | D74: 0
A75: a) Forgalomképtelen törzsvagyon | B75: A/IV/2/a
A76: b) Nemzetgazdasági szempontból kiemelt jelentőségű törzsvagyon | B76: A/IV/2/b
A77: c) Korlátozottan forgalomképes vagyon | B77: A/IV/2/c | C77: 0 | D77: 0
A78: d) Üzleti vagyon | B78: A/IV/2/d | C78: 0 | D78: 0
A79: B/ NEMZETI VAGYONBA TARTOZÓ FORGÓESZKÖZÖK | B79: B | C79: 0 | D79: 0
A80: I. Készletek | B80: B/I | C80: 0 | D80: 0
A81: II. Értékpapírok | B81: B/II | C81: 0 | D81: 0
A82: C/ PÉNZESZKÖZÖK | B82: C | C82: 3121559 | D82: 48642345
A83: I. Lekötött bankbetétek | B83: C/I | C83: 0 | D83: 0
A84: II. Pénztárak, csekkek, betétkönyvek | B84: C/II | C84: 39320 | D84: 42085
A85: III. Forintszámlák | B85: C/III | C85: 3082239 | D85: 48600260
A86: IV. Devizaszámlák | B86: C/IV | C86: 0 | D86: 0
A87: D/ KÖVETELÉSEK | B87: D | C87: 2510484 | D87: 3953960
A88: I. Költségvetési évben esedékes követelések | B88: D/I | C88: 2426604 | D88: 3890941
... A93: ESZKÖZÖK ÖSSZESEN | B93: A+..+F | C93: 447230386 | D93: 477400130
A95: FORRÁSOK
A96: G/ SAJÁT TŐKE | B96: G | C96: 426831463 | D96: 456856536
A97: I. Nemzeti vagyon induláskori értéke | B97: G/I | C97: 464131541 | D97: 464131541
A98: II. Nemzeti vagyon változásai | B98: G/II | C98: -25090850 | D98: -25090850
A99: III. Egyéb eszközök induláskori értéke és változásai | B99: G/III | C99: 1506029 | D99: 1506029
A100: IV. Felhalmozott eredmény | B100: G/IV | C100: 8897137 | D100: -13715257
A101: V. Eszközök értékhelyesbítésének forrása | B101: G/V | C101: 0 | D101: 0
A102: VI. Mérleg szerinti eredmény | B102: G/VI | C102: -22612394 | D102: 30025073
A103: H/ KÖTELEZETTSÉGEK | B103: H | C103: 3734095 | D103: 4227948
A104: I. Költségvetési évben esedékes kötelezettségek | B104: H/I | C104: 925367 | D104: 885075
A105: II. Költségvetési évet követően esedékes kötelezettségek | B105: H/II | C105: 906277 | D105: 930271
A106: III. Kötelezettség jellegű sajátos elszámolások | B106: H/III | C106: 1902451 | D106: 2412602
A107: I/ KINCSTÁRI SZÁMLAVEZETÉSSEL KAPCSOLATOS ELSZÁMOLÁSOK | B107: I | C107: 0 | D107: 0
... A109: FORRÁSOK ÖSSZESEN | B109: G+...+J | C109: 447230386 | D109: 477400130
...

Sheet PÉNZESZKÖZ VÁLTOZÁS
A1: A zárszámadási rendelettervezet előterjesztésekor a képviselő-testület részére tájékoztatásul az előterjesztlésben kell bemutatni-nem a rendelet része
A2: Nemeskolta Község Önkormányzata 2020. évi zárszámadása
A3: A pénzeszközök változása (Ft)
A5: Megnevezés | B5: (E Ft)
A6: I. Az Áhsz. 17. számú melléklet 4. a) pontja szerinti kötelező egyezőség levezetése:
A7: A. 32-33. számlák nyitó tárgyidőszaki egyenlege összesen ( =2+3) | B7: 3121559
A8: 32. számlák nyitó tárgyidőszaki egyenlege [+32] | B8: 39320
A9: 33. számlák nyitó tárgyidőszaki egyenlege [+(331-3318) + (332-3328)] | B9: 3082239
A10: B. Korrekciós tételek összesen: (5+6+7+8-9-10-11-12-13-14+15-16-23-30-31-32-33-34-35-36+39+42+43+44+45+46+47-50+51-52) | B10: 45520786
A11: Kiadások nyilvántartási ellenszámla tárgyidőszaki egyenlege [-003] | B11: -35088401
A12: Bevételek nyilvántartási ellenszámla tárgyidőszaki egyenlege [+005] | B12: 81381163
A13: Előző év költségvetési maradványának igénybevétele teljesítése tárgyidőszaki egyenlege [-0981313] | B13: -1302988
A14: Előző év vállalkozási maradványának igénybevétele teljesítése tárgyidőszaki egyenlege [-0981323] | B14: 0
A15: Kincstáron kívüli forintszámlák értékvesztése és annak visszaírása tárgyidőszaki forgalma [+/-3318] | B15: 0
A16: Kincstáron kívül devizaszámlák értékvesztése és annak visszaírása tárgyidőszaki forgalma [+/-3328] | B16: 0
A17: Pénzeszközök átvezetési számla forgalma [+/-361] | B17: 0
A18: Azonosítás alatt álló tételek forgalma [+/-363] | B18: 0
... A61: E. Eltérés (C - D) | B61: 0
A62: II. A lekötött bankbetétek pénzforgalmának egyeztetése az Áhsz. 17. számú melléklet 4. b) pontja szerinti kötelező egyezőség alapján:
A63: A. 31. számla nyitó tárgyidőszaki egyenlege [+ (311-3181)+ (312-3182)] | B63: 0
A64: B. Korrekciós tételek összesen: (+58+59-60) | B64: 0
A65: Pénzeszközök lekötött bankbetétként elhelyezése teljesítése tárgyidőszaki egyenlege [+059163] | B65: 0
A66: Lekötött bankbetétek megszüntetése teljesítése tárgyidőszaki egyenlege [- 098173] | B66: 0
A67: Lekötött bankbetétek értékvesztése és annak visszaírása tárgyidőszaki forgalma [+/-318] | B67: 0
A68: C. 31. számla számított tárgyidőszaki záróegyenlege (A + B) | B68: 0
A69: D. 31. számla főkönyvi kivonat szerinti záró tárgyidőszaki egyenlege [+ (311-3181) + (312-3182)] | B69: 0
A70: E. Eltérés (C - D) | B70: 0

Sheet Cofog kiadás
C1: Nemeskolta Község Önkormányzata 2020. évi zárszámadása
A4: Megnevezés | B4: Összesen | C4: 011130 Önkormányzatok és önkormányzati hivatalok jogalkotó és általános igazgatási tevékenysége | D4: 013320 Köztemető-fenntartás és -működtetés | E4: 018010 Önkormányzatok elszámolásai a központi költségvetéssel | F4: 018030 Támogatási célú finanszírozási műveletek | G4: 041233 Hosszabb időtartamú közfoglalkoztatás | H4: 053010 Környezetszennyezés csökkentésének igazgatása | I4: 062020 Településfejlesztési projektek és támogatásuk | J4: 064010 Közvilágítás | K4: 066020 Város-, községgazdálkodási egyéb szolgáltatások | L4: 074040 Fertőző megbetegedések megelőzése, járványügyi ellátás | M4: 081041 Versenysport- és utánpótlás-nevelési tevékenység és támogatása | N4: 082091 Közművelődés - közösségi és társadalmi részvétel fejlesztése | O4: 082092 Közművelődés - hagyományos közösségi kulturális értékek gondozása | P4: 094260 Hallgatói és oktatói ösztöndíjak, egyéb juttatások | Q4: 104037 Intézményen kívüli gyermekétkeztetés | R4: 107055 Falugondnoki, tanyagondnoki szolgáltatás | S4: 107060 Egyéb szociális pénzbeli és természetbeni ellátások, támogatások
A5: Törvény szerinti illetmények, munkabérek (K1101) | B5: 8359907 | C5: 0 | D5: 0 | E5: 0 | F5: 0 | G5: 1732425 | H5: 0 | I5: 0 | J5: 0 | K5: 2511600 | L5: 0 | M5: 0 | N5: 0 | O5: 0 | P5: 0 | Q5: 0 | R5: 4115882 | S5: 0
A6: Normatív jutalmak (K1102) | B6: 0 | C6: 0 | D6: 0 | E6: 0 | F6: 0 | G6: 0 | H6: 0 | I6: 0 | J6: 0 | K6: 0 | L6: 0 | M6: 0 | N6: 0 | O6: 0 | P6: 0 | Q6: 0 | R6: 0 | S6: 0
A7: Céljuttatás, projektprémium (K1103) | B7: 104479 | C7: 0 | D7: 0 | E7: 0 | F7: 0 | G7: 22556 | H7: 0 | I7: 0 | J7: 0 | K7: 36810 | L7: 0 | M7: 0 | N7: 0 | O7: 0 | P7: 0 | Q7: 0 | R7: 45113 | S7: 0
A8: Készenléti, ügyeleti, helyettesítési díj, túlóra, túlszolgálat (K1104) | B8: 0 | C8: 0 | D8: 0 | E8: 0 | F8: 0 | G8: 0 | H8: 0 | I8: 0 | J8: 0 | K8: 0 | L8: 0 | M8: 0 | N8: 0 | O8: 0 | P8: 0 | Q8: 0 | R8: 0 | S8: 0
A9: Végkielégítés (K1105) | B9: 0 | C9: 0 | D9: 0 | E9: 0 | F9: 0 | G9: 0 | H9: 0 | I9: 0 | J9: 0 | K9: 0 | L9: 0 | M9: 0 | N9: 0 | O9: 0 | P9: 0 | Q9: 0 | R9: 0 | S9: 0
A10: Jubileumi jutalom (K1106) | B10: 0 | C10: 0 | D10: 0 | E10: 0 | F10: 0 | G10: 0 | H10: 0 | I10: 0 | J10: 0 | K10: 0 | L10: 0 | M10: 0 | N10: 0 | O10: 0 | P10: 0 | Q10: 0 | R10: 0 | S10: 0
A11: Béren kívüli juttatások (K1107) | B11: 0 | C11: 0 | D11: 0 | E11: 0 | F11: 0 | G11: 0 | H11: 0 | I11: 0 | J11: 0 | K11: 0 | L11: 0 | M11: 0 | N11: 0 | O11: 0 | P11: 0 | Q11: 0 | R11: 0 | S11: 0
A12: Ruházati költségtérítés (K1108) | B12: 0 | C12: 0 | D12: 0 | E12: 0 | F12: 0 | G12: 0 | H12: 0 | I12: 0 | J12: 0 | K12: 0 | L12: 0 | M12: 0 | N12: 0 | O12: 0 | P12: 0 | Q12: 0 | R12: 0 | S12: 0
A13: Közlekedési költségtérítés (K1109) | B13: 0 | C13: 0 | D13: 0 | E13: 0 | F13: 0 | G13: 0 | H13: 0 | I13: 0 | J13: 0 | K13: 0 | L13: 0 | M13: 0 | N13: 0 | O13: 0 | P13: 0 | Q13: 0 | R13: 0 | S13: 0
A14: Egyéb költségtérítések (K1110) | B14: 0 | C14: 0 | D14: 0 | E14: 0 | F14: 0 | G14: 0 | H14: 0 | I14: 0 | J14: 0 | K14: 0 | L14: 0 | M14: 0 | N14: 0 | O14: 0 | P14: 0 | Q14: 0 | R14: 0 | S14: 0
A15: Lakhatási támogatások (K1111) | B15: 0 | C15: 0 | D15: 0 | E15: 0 | F15: 0 | G15: 0 | H15: 0 | I15: 0 | J15: 0 | K15: 0 | L15: 0 | M15: 0 | N15: 0 | O15: 0 | P15: 0 | Q15: 0 | R15: 0 | S15: 0
A16: Szociális támogatások (K1112) | B16: 0 | C16: 0 | D16: 0 | E16: 0 | F16: 0 | G16: 0 | H16: 0 | I16: 0 | J16: 0 | K16: 0 | L16: 0 | M16: 0 | N16: 0 | O16: 0 | P16: 0 | Q16: 0 | R16: 0 | S16: 0
... A313: Átlagos statisztikai állományi létszám | B313: 5 | C313: 1 | D313: 0 | E313: 0 | F313: 0 | G313: 2 | H313: 0 | I313: 0 | J313: 0 | K313: 1 | L313: 0 | M313: 0 | N313: 0 | O313: 0 | P313: 0 | Q313: 0 | R313: 1 | S313: 0

Sheet Cofog bevétel
A1: Nemeskolta Község Önkormányzata 2020. évi zárszámadása
A4: Megnevezés | B4: Összesen | C4: 011130 Önkormányzatok és önkormányzati hivatalok jogalkotó és általános igazgatási tevékenysége | D4: 018010 Önkormányzatok elszámolásai a központi költségvetéssel | E4: 018030 Támogatási célú finanszírozási műveletek | F4: 062020 Településfejlesztési projektek és támogatásuk | G4: 900020 Önkormányzatok funkcióra nem sorolható bevételei államháztartáson kívülről
A5: Helyi önkormányzatok működésének általános támogatása (B111) | B5: 13249396 | C5: 0 | D5: 13249396 | E5: 0 | F5: 0 | G5: 0
A6: Települési önkormányzatok egyes köznevelési feladatainak támogatása (B112) | B6: 0 | C6: 0 | D6: 0 | E6: 0 | F6: 0 | G6: 0
A7: Települési önkormányzatok egyes szociális és gyermekjóléti feladatainak támogatása (B1131) | B7: 8134135 | C7: 0 | D7: 8134135 | E7: 0 | F7: 0 | G7: 0
A8: Települési önkormányzatok gyermekétkeztetési feladatainak támogatása (B1132) | B8: 123120 | C8: 0 | D8: 123120 | E8: 0 | F8: 0 | G8: 0
A9: Települési önkormányzatok szociális, gyermekjóléti és gyermekétkeztetési feladatainak támogatása (03+04) (B113) | B9: 8257255 | C9: 0 | D9: 8257255 | E9: 0 | F9: 0 | G9: 0
A10: Települési önkormányzatok kulturális feladatainak támogatása (B114) | B10: 2000000 | C10: 0 | D10: 2000000 | E10: 0 | F10: 0 | G10: 0
A11: Működési célú költségvetési támogatások és kiegészítő támogatások (B115) | B11: 0 | C11: 0 | D11: 0 | E11: 0 | F11: 0 | G11: 0
A12: Elszámolásból származó bevételek (B116) | B12: 0 | C12: 0 | D12: 0 | E12: 0 | F12: 0 | G12: 0
A13: Önkormányzatok működési támogatásai (=01+02+05+06+07+08) (B11) | B13: 23506651 | C13: 0 | D13: 23506651 | E13: 0 | F13: 0 | G13: 0
A14: Elvonások és befizetések bevételei (B12) | B14: 0 | C14: 0 | D14: 0 | E14: 0 | F14: 0 | G14: 0
A15: Működési célú garancia- és kezességvállalásból származó megtérülések államháztartáson belülről (B13) | B15: 0 | C15: 0 | D15: 0 | E15: 0 | F15: 0 | G15: 0
A16: Működési célú visszatérítendő támogatások, kölcsönök visszatérülése államháztartáson belülről (=13+…+22) (B14) | B16: 0 | C16: 0 | D16: 0 | E16: 0 | F16: 0 | G16: 0
... A319: Bevételek összesen (282+314) (B1-B8) | B319: 81381163 | C319: 38293434 | D319: 30216521 | E319: 1302988 | F319: 4999940 | G319: 6568280
