Workbook
Name _pr232: GÖRDÜLŐ!#REF!
Name _pr232: KÖZVETETT!$A$11
Name _pr232: 'MÉRLEG '!$A$17
Name _pr232: 'TÖBB ÉVES'!$A$17
Name _pr233: GÖRDÜLŐ!#REF!
Name _pr233: KÖZVETETT!$A$16
Name _pr233: 'MÉRLEG '!$A$18
Name _pr233: 'TÖBB ÉVES'!$A$18
Name _pr234: GÖRDÜLŐ!#REF!
Name _pr234: KÖZVETETT!$A$35
Name _pr234: 'MÉRLEG '!$A$19
Name _pr234: 'TÖBB ÉVES'!$A$19
Name _pr235: GÖRDÜLŐ!#REF!
Name _pr235: KÖZVETETT!$A$40
Name _pr235: 'MÉRLEG '!$A$20
Name _pr235: 'TÖBB ÉVES'!$A$20
Name _pr236: GÖRDÜLŐ!#REF!
Name _pr236: KÖZVETETT!$A$45
Name _pr236: 'MÉRLEG '!$A$21
Name _pr236: 'TÖBB ÉVES'!$A$21
Name _pr312: GÖRDÜLŐ!#REF!
Name _pr312: KÖZVETETT!#REF!
Name _pr312: 'MÉRLEG '!$A$8
Name _pr312: 'TÖBB ÉVES'!$A$8
Name _pr313: GÖRDÜLŐ!#REF!
Name _pr313: KÖZVETETT!#REF!
Name _pr313: 'MÉRLEG '!$A$9
Name _pr313: 'TÖBB ÉVES'!$A$3
Name _pr314: GÖRDÜLŐ!#REF!
Name _pr314: KÖZVETETT!$A$3
Name _pr314: 'MÉRLEG '!$A$10
Name _pr314: 'TÖBB ÉVES'!$A$10
Name _pr315: GÖRDÜLŐ!#REF!
Name _pr315: KÖZVETETT!#REF!
Name _pr315: 'MÉRLEG '!$A$11
Name _pr315: 'TÖBB ÉVES'!$A$11
Name foot_4_place: '10 melléklet'!$A$20
Name foot_5_place: '10 melléklet'!#REF!
Name foot_53_place: '10 melléklet'!$A$65

Sheet 1. melléklet
A2: 1. melléklet a 7/2021. (V.25.) önkormányzati rendelethez
A3: Nemeskolta Község Önkormányzat 2020. évi zárszámadása
A4: Az egységes rovatrend szerint a kiemelt kiadási és bevételi jogcímek
A7: K1. Személyi juttatások
A8: K2. Munkaadókat terhelő járulékok és szociális hozzájárulási adó
A9: K3. Dologi kiadások
A10: K4. Ellátottak pénzbeli juttatásai
A11: K5. Egyéb működési célú kiadások
A12: K6. Beruházási kiadások
A13: K7. Felújítások
A14: K8. Egyéb felhalmozási célú kiadások
A15: K1-8. Költségvetési kiadások
... A27: BEVÉTELEK ÖSSZESEN (B1-8)

Sheet 2. melléklet
B1: 2. melléklet a 7/2021. (V.25.) önkormányzati rendelethez
A3: Nemeskolta Község Önkormányzat 2020. évi zárszámadása
A4: Bevételek (Ft)
A6: ÖNKORMÁNYZATI ELŐIRÁNYZATOK
A7: Rovat megnevezése | B7: Rovat- szám | C7: eredeti ei. | D7: módosított ei. | E7: teljesítés
A8: Helyi önkormányzatok működésének általános támogatása | B8: B111 | C8: ='3. melléklet'!C9 -> 13232915 | D8: ='3. melléklet'!D9 -> 13249396 | E8: ='3. melléklet'!E9 -> 13249396
A9: Települési önkormányzatok egyes köznevelési feladatainak támogatása | B9: B112 | C9: ='3. melléklet'!C10 -> 0 | D9: ='3. melléklet'!D10 -> 0 | E9: ='3. melléklet'!E10 -> 0
A10: Települési önkormányzatok szociális, gyermekjóléti feladatainak támogatása | B10: B1131 | C10: ='3. melléklet'!C11 -> 7624000 | D10: ='3. melléklet'!D11 -> 8134135 | E10: ='3. melléklet'!E11 -> 8134135
A11: Települési önkormányzatok gyermekétkeztetési feladatainak támogatása | B11: B1132 | C11: ='3. melléklet'!C12 -> 0 | D11: ='3. melléklet'!D12 -> 123120 | E11: ='3. melléklet'!E12 -> 123120
A12: Települési önkormányzatok kulturális feladatainak támogatása | B12: B114 | C12: ='3. melléklet'!C13 -> 1800000 | D12: ='3. melléklet'!D13 -> 2000000 | E12: ='3. melléklet'!E13 -> 2000000
A13: Működési célú költségvetési támogatások és kiegészítő támogatások | B13: B115 | C13: ='3. melléklet'!C14 -> 0 | D13: ='3. melléklet'!D14 -> 0 | E13: ='3. melléklet'!E14 -> 0
A14: Elszámolásból származó bevételek | B14: B116 | C14: ='3. melléklet'!C15 -> 0 | D14: ='3. melléklet'!D15 -> 0 | E14: ='3. melléklet'!E15 -> 0
A15: Önkormányzatok működési támogatásai | B15: B11 | C15: ='3. melléklet'!C16 -> 22656915 | D15: ='3. melléklet'!D16 -> 23506651 | E15: ='3. melléklet'!E16 -> 23506651
A16: Elvonások és befizetések bevételei | B16: B12 | C16: ='3. melléklet'!C17 -> 0 | D16: ='3. melléklet'!D17 -> 0 | E16: ='3. melléklet'!E17 -> 0
A17: Működési célú garancia- és kezességvállalásból származó megtérülések államháztartáson belülről | B17: B13 | C17: ='3. melléklet'!C18 -> 0 | D17: ='3. melléklet'!D18 -> 0 | E17: ='3. melléklet'!E18 -> 0
A18: Működési célú visszatérítendő támogatások, kölcsönök visszatérülése államháztartáson belülről | B18: B14 | C18: ='3. melléklet'!C19 -> 0 | D18: ='3. melléklet'!D19 -> 0 | E18: ='3. melléklet'!E19 -> 0
A19: Működési célú visszatérítendő támogatások, kölcsönök igénybevétele államháztartáson belülről | B19: B15 | C19: ='3. melléklet'!C20 -> 0 | D19: ='3. melléklet'!D20 -> 0 | E19: ='3. melléklet'!E20 -> 0
... A53: Működési célú átvett pénzeszközök | B53: B6 | C53: ='3. melléklet'!C54 -> 0 | D53: ='3. melléklet'!D54 -> 0 | E53: ='3. melléklet'!E54 -> 0
A54: Működési költségvetés előirányzat csoport | C54: =C21+C35+C47+C53 -> 29263915 | D54: =D21+D35+D47+D53 -> 37084416 | E54: =E21+E35+E47+E53 -> 37076116
A55: Felhalmozási célú önkormányzati támogatások | B55: B21 | C55: ='3. melléklet'!C56 -> 0 | D55: ='3. melléklet'!D56 -> 0 | E55: ='3. melléklet'!E56 -> 0
A56: Felhalmozási célú garancia- és kezességvállalásból származó megtérülések államháztartáson belülről | B56: B22 | C56: ='3. melléklet'!C57 -> 0 | D56: ='3. melléklet'!D57 -> 0 | E56: ='3. melléklet'!E57 -> 0
A57: Felhalmozási célú visszatérítendő támogatások, kölcsönök visszatérülése államháztartáson belülről | B57: B23 | C57: ='3. melléklet'!C58 -> 0 | D57: ='3. melléklet'!D58 -> 0 | E57: ='3. melléklet'!E58 -> 0
A58: Felhalmozási célú visszatérítendő támogatások, kölcsönök igénybevétele államháztartáson belülről | B58: B24 | C58: ='3. melléklet'!C59 -> 0 | D58: ='3. melléklet'!D59 -> 0 | E58: ='3. melléklet'!E59 -> 0
A59: Egyéb felhalmozási célú támogatások bevételei államháztartáson belülről | B59: B25 | C59: ='3. melléklet'!C60 -> 38510992 | D59: ='3. melléklet'!D60 -> 42071788 | E59: ='3. melléklet'!E60 -> 42071788
A60: Felhalmozási célú támogatások államháztartáson belülről | B60: B2 | C60: ='3. melléklet'!C61 -> 38510992 | D60: ='3. melléklet'!D61 -> 42071788 | E60: ='3. melléklet'!E61 -> 42071788
A61: Immateriális javak értékesítése | B61: B51 | C61: ='3. melléklet'!C62 -> 0 | D61: ='3. melléklet'!D62 -> 0 | E61: ='3. melléklet'!E62 -> 0
A62: Ingatlanok értékesítése | B62: B52 | C62: ='3. melléklet'!C63 -> 0 | D62: ='3. melléklet'!D63 -> 0 | E62: ='3. melléklet'!E63 -> 0
A63: Egyéb tárgyi eszközök értékesítése | B63: B53 | C63: ='3. melléklet'!C64 -> 0 | D63: ='3. melléklet'!D64 -> 0 | E63: ='3. melléklet'!E64 -> 0
A64: Részesedések értékesítése | B64: B54 | C64: ='3. melléklet'!C65 -> 0 | D64: ='3. melléklet'!D65 -> 0 | E64: ='3. melléklet'!E65 -> 0
A65: Részesedések megszűnéséhez kapcsolódó bevételek | B65: B55 | C65: ='3. melléklet'!C66 -> 0 | D65: ='3. melléklet'!D66 -> 0 | E65: ='3. melléklet'!E66 -> 0
A66: Felhalmozási bevételek | B66: B5 | C66: ='3. melléklet'!C67 -> 0 | D66: ='3. melléklet'!D67 -> 0 | E66: ='3. melléklet'!E67 -> 0
... A72: Felhalmozási célú átvett pénzeszközök | B72: B7 | C72: ='3. melléklet'!C73 -> 0 | D72: ='3. melléklet'!D73 -> 0 | E72: ='3. melléklet'!E73 -> 0
A73: Felhalmozási költségvetés előirányzat csoport | C73: =C60+C66+C72 -> 38510992 | D73: =D60+D66+D72 -> 42071788 | E73: =E60+E66+E72 -> 42071788
A74: Költségvetési bevételek | B74: B1-B7 | C74: =C21+C35+C47+C53+C60+C66+C72 -> 67774907 | D74: =D21+D35+D47+D53+D60+D66+D72 -> 79156204 | E74: =E21+E35+E47+E53+E60+E66+E72 -> 79147904
A75: Hosszú lejáratú hitelek, kölcsönök felvétele pénzügyi vállalkozástól | B75: B8111 | C75: ='3. melléklet'!C76 -> 0 | D75: ='3. melléklet'!D76 -> 0 | E75: ='3. melléklet'!E76 -> 0
A76: Likviditási célú hitelek, kölcsönök felvétele pénzügyi vállalkozástól | B76: B8112 | C76: ='3. melléklet'!C77 -> 0 | D76: ='3. melléklet'!D77 -> 0 | E76: ='3. melléklet'!E77 -> 0
A77: Rövid lejáratú hitelek, kölcsönök felvétele pénzügyi vállalkozástól | B77: B8113 | C77: ='3. melléklet'!C78 -> 0 | D77: ='3. melléklet'!D78 -> 0 | E77: ='3. melléklet'!E78 -> 0
A78: Hitel-, kölcsönfelvétel pénzügyi vállalkozástól | B78: B811 | C78: =SUM(C75:C77) -> 0 | D78: =SUM(D75:D77) -> 0 | E78: =SUM(E75:E77) -> 0
A79: Forgatási célú belföldi értékpapírok beváltása, értékesítése | B79: B8121 | C79: ='3. melléklet'!C80 -> 0 | D79: ='3. melléklet'!D80 -> 0 | E79: ='3. melléklet'!E80 -> 0
A80: Éven belüli lejáratú belföldi értékpapírok kibocsátása | B80: B8122 | C80: ='3. melléklet'!C81 -> 0 | D80: ='3. melléklet'!D81 -> 0 | E80: ='3. melléklet'!E81 -> 0
...

Sheet 3. melléklet
H1: 3. melléklet a 7/2021. (V.25.) önkormányzati rendelethez
A3: Nemeskolta Község Önkormányzata 2020. évi zárszámadása
A4: Bevételek (Ft)
A6: ÖNKORMÁNYZATI ELŐIRÁNYZATOK
A7: Rovat megnevezése | B7: Rovat-szám | C7: kötelező feladatok | F7: önként vállalt feladatok | I7: állami (államigazgatási) feladatok | L7: ÖSSZESEN
C8: eredeti ei. | D8: módosított ei. | E8: teljesítés | F8: eredeti ei. | G8: módosított ei. | H8: teljesítés | I8: eredeti ei. | J8: módosított ei. | K8: teljesítés | L8: eredeti ei. | M8: módosított ei. | N8: teljesítés
A9: Helyi önkormányzatok működésének általános támogatása | B9: B111 | C9: 13232915 | D9: 13249396 | E9: 13249396 | L9: 13232915 | M9: 13249396 | N9: 13249396
A10: Települési önkormányzatok egyes köznevelési feladatainak támogatása | B10: B112 | C10: 0 | D10: 0 | E10: 0 | L10: 0 | M10: 0 | N10: 0
A11: Települési önkormányzatok szociális, gyermekjóléti feladatainak támogatása | B11: B1131 | C11: 7624000 | D11: 8134135 | E11: 8134135 | L11: 7624000 | M11: 8134135 | N11: 8134135
A12: Települési önkormányzatok gyermekétkeztetési feladatainak támogatása | B12: B1132 | C12: 0 | D12: 123120 | E12: 123120 | L12: 0 | M12: 123120 | N12: 123120
A13: Települési önkormányzatok kulturális feladatainak támogatása | B13: B114 | C13: 1800000 | D13: 2000000 | E13: 2000000 | L13: 1800000 | M13: 2000000 | N13: 2000000
A14: Működési célú költségvetési támogatások és kiegészítő támogatások | B14: B115 | C14: 0 | D14: 0 | E14: 0 | L14: 0 | M14: 0 | N14: 0
A15: Elszámolásból származó bevételek | B15: B116 | C15: 0 | D15: 0 | E15: 0 | L15: 0 | M15: 0 | N15: 0
A16: Önkormányzatok működési támogatásai | B16: B11 | C16: 22656915 | D16: 23506651 | E16: 23506651 | L16: 22656915 | M16: 23506651 | N16: 23506651
A17: Elvonások és befizetések bevételei | B17: B12 | C17: 0 | D17: 0 | E17: 0 | L17: 0 | M17: 0 | N17: 0
A18: Működési célú garancia- és kezességvállalásból származó megtérülések államháztartáson belülről | B18: B13 | C18: 0 | D18: 0 | E18: 0 | L18: 0 | M18: 0 | N18: 0
A19: Működési célú visszatérítendő támogatások, kölcsönök visszatérülése államháztartáson belülről | B19: B14 | C19: 0 | D19: 0 | E19: 0 | L19: 0 | M19: 0 | N19: 0
A20: Működési célú visszatérítendő támogatások, kölcsönök igénybevétele államháztartáson belülről | B20: B15 | C20: 0 | D20: 0 | E20: 0 | L20: 0 | M20: 0 | N20: 0
... A54: Működési célú átvett pénzeszközök | B54: B6 | C54: 0 | D54: 0 | E54: 0 | L54: 0 | M54: 0 | N54: 0
A55: Működési költségvetés előirányzat csoport | C55: =C22+C36+C48+C54 -> 29263915 | D55: =D22+D36+D48+D54 -> 37084416 | E55: =E22+E36+E48+E54 -> 37076116 | L55: =L22+L36+L48+L54 -> 29263915 | M55: =M22+M36+M48+M54 -> 37084416 | N55: =N22+N36+N48+N54 -> 37076116
A56: Felhalmozási célú önkormányzati támogatások | B56: B21 | C56: 0 | D56: 0 | E56: 0 | L56: 0 | M56: 0 | N56: 0
A57: Felhalmozási célú garancia- és kezességvállalásból származó megtérülések államháztartáson belülről | B57: B22 | C57: 0 | D57: 0 | E57: 0 | L57: 0 | M57: 0 | N57: 0
A58: Felhalmozási célú visszatérítendő támogatások, kölcsönök visszatérülése államháztartáson belülről | B58: B23 | C58: 0 | D58: 0 | E58: 0 | L58: 0 | M58: 0 | N58: 0
A59: Felhalmozási célú visszatérítendő támogatások, kölcsönök igénybevétele államháztartáson belülről | B59: B24 | C59: 0 | D59: 0 | E59: 0 | L59: 0 | M59: 0 | N59: 0
A60: Egyéb felhalmozási célú támogatások bevételei államháztartáson belülről | B60: B25 | C60: 38510992 | D60: 42071788 | E60: 42071788 | L60: 38510992 | M60: 42071788 | N60: 42071788
A61: Felhalmozási célú támogatások államháztartáson belülről | B61: B2 | C61: 38510992 | D61: 42071788 | E61: 42071788 | L61: 38510992 | M61: 42071788 | N61: 42071788
A62: Immateriális javak értékesítése | B62: B51 | C62: 0 | D62: 0 | E62: 0 | L62: 0 | M62: 0 | N62: 0
A63: Ingatlanok értékesítése | B63: B52 | C63: 0 | D63: 0 | E63: 0 | L63: 0 | M63: 0 | N63: 0
A64: Egyéb tárgyi eszközök értékesítése | B64: B53 | C64: 0 | D64: 0 | E64: 0 | L64: 0 | M64: 0 | N64: 0
A65: Részesedések értékesítése | B65: B54 | C65: 0 | D65: 0 | E65: 0 | L65: 0 | M65: 0 | N65: 0
A66: Részesedések megszűnéséhez kapcsolódó bevételek | B66: B55 | C66: 0 | D66: 0 | E66: 0 | L66: 0 | M66: 0 | N66: 0
A67: Felhalmozási bevételek | B67: B5 | C67: 0 | D67: 0 | E67: 0 | L67: 0 | M67: 0 | N67: 0
... A70: Felhalmozási célú visszatérítendő támogatások, kölcsönök visszatérülése kormányoktól és más nemzetközi szervezetektől | B70: B73 | C70: 0 | D70: 0 | E70: 0 | L70: 0 | M70: 0 | N70: 0
A71: Felhalmozási célú visszatérítendő támogatások, kölcsönök visszatérülése államháztartáson kívülről | B71: B74
A72: Egyéb felhalmozási célú átvett pénzeszközök | B72: B75
A73: Felhalmozási célú átvett pénzeszközök | B73: B7 | C73: 0 | D73: 0 | E73: 0 | L73: 0 | M73: 0 | N73: 0
A74: Felhalmozási költségvetés előirányzat csoport | C74: =C61+C67+C73 -> 38510992 | D74: =D61+D67+D73 -> 42071788 | E74: =E61+E67+E73 -> 42071788 | L74: =L61+L67+L73 -> 38510992 | M74: =M61+M67+M73 -> 42071788 | N74: =N61+N67+N73 -> 42071788
A75: Költségvetési bevételek | B75: B1-B7 | C75: =C22+C36+C48+C54+C61+C67+C73 -> 67774907 | D75: =D22+D36+D48+D54+D61+D67+D73 -> 79156204 | E75: =E22+E36+E48+E54+E61+E67+E73 -> 79147904 | L75: =L22+L36+L48+L54+L61+L67+L73 -> 67774907 | M75: =M22+M36+M48+M54+M61+M67+M73 -> 79156204 | N75: =N22+N36+N48+N54+N61+N67+N73 -> 79147904
A76: Hosszú lejáratú hitelek, kölcsönök felvétele pénzügyi vállalkozástól | B76: B8111 | C76: 0 | D76: 0 | E76: 0 | L76: 0 | M76: 0 | N76: 0
A77: Likviditási célú hitelek, kölcsönök felvétele pénzügyi vállalkozástól | B77: B8112 | C77: 0 | D77: 0 | E77: 0 | L77: 0 | M77: 0 | N77: 0
...

Sheet 4. melléklet
C1: 4. melléklet a 7/2021. (V.25.) önkormányzati rendelethez
A3: Nemeskolta Község Önkormányzata 2020. évi zárszámadása
A4: Kiadások (Ft)
A6: ÖNKORMÁNYZATI ELŐIRÁNYZATOK
A7: Rovat megnevezése | B7: Rovat-szám | C7: ÖSSZESEN
C8: eredeti ei. | D8: módosított ei. | E8: teljesítés
A9: Törvény szerinti illetmények, munkabérek | B9: K1101 | C9: ='5. melléklet'!L9 -> 6991000 | D9: ='5. melléklet'!M9 -> 8359907 | E9: ='5. melléklet'!N9 -> 8359907
A10: Normatív jutalmak | B10: K1102 | C10: ='5. melléklet'!L10 -> 100000 | D10: ='5. melléklet'!M10 -> 0 | E10: ='5. melléklet'!N10 -> 0
A11: Céljuttatás, projektprémium | B11: K1103 | C11: ='5. melléklet'!L11 -> 0 | D11: ='5. melléklet'!M11 -> 104479 | E11: ='5. melléklet'!N11 -> 104479
A12: Készenléti, ügyeleti, helyettesítési díj, túlóra, túlszolgálat | B12: K1104 | C12: ='5. melléklet'!L12 -> 0 | D12: ='5. melléklet'!M12 -> 0 | E12: ='5. melléklet'!N12 -> 0
A13: Végkielégítés | B13: K1105 | C13: ='5. melléklet'!L13 -> 0 | D13: ='5. melléklet'!M13 -> 0 | E13: ='5. melléklet'!N13 -> 0
A14: Jubileumi jutalom | B14: K1106 | C14: ='5. melléklet'!L14 -> 0 | D14: ='5. melléklet'!M14 -> 0 | E14: ='5. melléklet'!N14 -> 0
A15: Béren kívüli juttatások | B15: K1107 | C15: ='5. melléklet'!L15 -> 0 | D15: ='5. melléklet'!M15 -> 0 | E15: ='5. melléklet'!N15 -> 0
A16: Ruházati költségtérítés | B16: K1108 | C16: ='5. melléklet'!L16 -> 0 | D16: ='5. melléklet'!M16 -> 0 | E16: ='5. melléklet'!N16 -> 0
A17: Közlekedési költségtérítés | B17: K1109 | C17: ='5. melléklet'!L17 -> 0 | D17: ='5. melléklet'!M17 -> 0 | E17: ='5. melléklet'!N17 -> 0
A18: Egyéb költségtérítések | B18: K1110 | C18: ='5. melléklet'!L18 -> 0 | D18: ='5. melléklet'!M18 -> 0 | E18: ='5. melléklet'!N18 -> 0
A19: Lakhatási támogatások | B19: K1111 | C19: ='5. melléklet'!L19 -> 0 | D19: ='5. melléklet'!M19 -> 0 | E19: ='5. melléklet'!N19 -> 0
A20: Szociális támogatások | B20: K1112 | C20: ='5. melléklet'!L20 -> 0 | D20: ='5. melléklet'!M20 -> 0 | E20: ='5. melléklet'!N20 -> 0
A21: Foglalkoztatottak egyéb személyi juttatásai | B21: K1113 | C21: ='5. melléklet'!L21 -> 90000 | D21: ='5. melléklet'!M21 -> 14100 | E21: ='5. melléklet'!N21 -> 14100
A22: Foglalkoztatottak személyi juttatásai | B22: K11 | C22: =SUM(C9:C21) -> 7181000 | D22: =SUM(D9:D21) -> 8478486 | E22: =SUM(E9:E21) -> 8478486
A23: Választott tisztségviselők juttatásai | B23: K121 | C23: ='5. melléklet'!L23 -> 2065000 | D23: ='5. melléklet'!M23 -> 2064480 | E23: ='5. melléklet'!N23 -> 2064480
A24: Munkavégzésre irányuló egyéb jogviszonyban nem saját foglalkoztatottnak fizetett juttatások | B24: K122 | C24: ='5. melléklet'!L24 -> 360000 | D24: ='5. melléklet'!M24 -> 360000 | E24: ='5. melléklet'!N24 -> 360000
A25: Egyéb külső személyi juttatások | B25: K123 | C25: ='5. melléklet'!L25 -> 500000 | D25: ='5. melléklet'!M25 -> 375363 | E25: ='5. melléklet'!N25 -> 375363
A26: Külső személyi juttatások | B26: K12 | C26: =SUM(C23:C25) -> 2925000 | D26: =SUM(D23:D25) -> 2799843 | E26: =SUM(E23:E25) -> 2799843
A27: Személyi juttatások | B27: K1 | C27: =SUM(C26,C22) -> 10106000 | D27: =SUM(D26,D22) -> 11278329 | E27: =SUM(E26,E22) -> 11278329
A28: Munkaadókat terhelő járulékok és szociális hozzájárulási adó | B28: K2 | C28: ='5. melléklet'!L28 -> 1873000 | D28: ='5. melléklet'!M28 -> 1796725 | E28: ='5. melléklet'!N28 -> 1796725
A29: Szakmai anyagok beszerzése | B29: K311 | C29: ='5. melléklet'!L29 -> 40000 | D29: ='5. melléklet'!M29 -> 31943 | E29: ='5. melléklet'!N29 -> 31943
A30: Üzemeltetési anyagok beszerzése | B30: K312 | C30: ='5. melléklet'!L30 -> 2949000 | D30: ='5. melléklet'!M30 -> 4374736 | E30: ='5. melléklet'!N30 -> 4374736
A31: Árubeszerzés | B31: K313 | C31: ='5. melléklet'!L31 -> 0 | D31: ='5. melléklet'!M31 -> 0 | E31: ='5. melléklet'!N31 -> 0
A32: Készletbeszerzés | B32: K31 | C32: =SUM(C29:C31) -> 2989000 | D32: =SUM(D29:D31) -> 4406679 | E32: =SUM(E29:E31) -> 4406679
A33: Informatikai szolgáltatások igénybevétele | B33: K321 | C33: ='5. melléklet'!L33 -> 65000 | D33: ='5. melléklet'!M33 -> 68910 | E33: ='5. melléklet'!N33 -> 68910
A34: Egyéb kommunikációs szolgáltatások | B34: K322 | C34: ='5. melléklet'!L34 -> 205000 | D34: ='5. melléklet'!M34 -> 173062 | E34: ='5. melléklet'!N34 -> 173062
A35: Kommunikációs szolgáltatások | B35: K32 | C35: =SUM(C33:C34) -> 270000 | D35: =SUM(D33:D34) -> 241972 | E35: =SUM(E33:E34) -> 241972
A36: Közüzemi díjak | B36: K331 | C36: ='5. melléklet'!L36 -> 1850000 | D36: ='5. melléklet'!M36 -> 1850000 | E36: ='5. melléklet'!N36 -> 1718351
A37: Vásárolt élelmezés | B37: K332 | C37: ='5. melléklet'!L37 -> 0 | D37: ='5. melléklet'!M37 -> 127136 | E37: ='5. melléklet'!N37 -> 127136
A38: Bérleti és lízing díjak | B38: K333 | C38: ='5. melléklet'!L38 -> 0 | D38: ='5. melléklet'!M38 -> 0 | E38: ='5. melléklet'!N38 -> 0
A39: Karbantartási, kisjavítási szolgáltatások | B39: K334 | C39: ='5. melléklet'!L39 -> 550000 | D39: ='5. melléklet'!M39 -> 244722 | E39: ='5. melléklet'!N39 -> 244722
A40: Közvetített szolgáltatások | B40: K335 | C40: ='5. melléklet'!L40 -> 0 | D40: ='5. melléklet'!M40 -> 0 | E40: ='5. melléklet'!N40 -> 0
A41: Szakmai tevékenységet segítő szolgáltatások | B41: K336 | C41: ='5. melléklet'!L41 -> 200000 | D41: ='5. melléklet'!M41 -> 1593900 | E41: ='5. melléklet'!N41 -> 1593900
A42: Egyéb szolgáltatások | B42: K337 | C42: ='5. melléklet'!L42 -> 1955000 | D42: ='5. melléklet'!M42 -> 2777207 | E42: ='5. melléklet'!N42 -> 2163350
...

Sheet 5. melléklet
J2: 5. melléklet a 7/2021. (V.25.) önkormányzati rendelethez
A3: Nemeskolta Község Önkormányzata 2020. évi zárszámadása
A4: Kiadások ( Ft)
A6: ÖNKORMÁNYZATI ELŐIRÁNYZATOK
A7: Rovat megnevezése | B7: Rovat-szám | C7: kötelező feladatok | F7: önként vállalt feladatok | I7: állami (államigazgatási) feladatok | L7: ÖSSZESEN
C8: eredeti ei. | D8: módosított ei. | E8: teljesítés | F8: eredeti ei. | G8: módosított ei. | H8: teljesítés | I8: eredeti ei. | J8: módosított ei. | K8: teljesítés | L8: eredeti ei. | M8: módosított ei. | N8: teljesítés
A9: Törvény szerinti illetmények, munkabérek | B9: K1101 | C9: 6991000 | D9: 8359907 | E9: 8359907 | F9: 0 | G9: 0 | H9: 0 | I9: 0 | J9: 0 | K9: 0 | L9: 6991000 | M9: 8359907 | N9: 8359907
A10: Normatív jutalmak | B10: K1102 | C10: 100000 | D10: 0 | E10: 0 | F10: 0 | G10: 0 | H10: 0 | I10: 0 | J10: 0 | K10: 0 | L10: 100000 | M10: 0 | N10: 0
A11: Céljuttatás, projektprémium | B11: K1103 | C11: 0 | D11: 104479 | E11: 104479 | F11: 0 | G11: 0 | H11: 0 | I11: 0 | J11: 0 | K11: 0 | L11: 0 | M11: 104479 | N11: 104479
A12: Készenléti, ügyeleti, helyettesítési díj, túlóra, túlszolgálat | B12: K1104 | C12: 0 | D12: 0 | E12: 0 | F12: 0 | G12: 0 | H12: 0 | I12: 0 | J12: 0 | K12: 0 | L12: 0 | M12: 0 | N12: 0
A13: Végkielégítés | B13: K1105 | C13: 0 | D13: 0 | E13: 0 | F13: 0 | G13: 0 | H13: 0 | I13: 0 | J13: 0 | K13: 0 | L13: 0 | M13: 0 | N13: 0
A14: Jubileumi jutalom | B14: K1106 | C14: 0 | D14: 0 | E14: 0 | F14: 0 | G14: 0 | H14: 0 | I14: 0 | J14: 0 | K14: 0 | L14: 0 | M14: 0 | N14: 0
A15: Béren kívüli juttatások | B15: K1107 | C15: 0 | D15: 0 | E15: 0 | F15: 0 | G15: 0 | H15: 0 | I15: 0 | J15: 0 | K15: 0 | L15: 0 | M15: 0 | N15: 0
A16: Ruházati költségtérítés | B16: K1108 | C16: 0 | D16: 0 | E16: 0 | F16: 0 | G16: 0 | H16: 0 | I16: 0 | J16: 0 | K16: 0 | L16: 0 | M16: 0 | N16: 0
A17: Közlekedési költségtérítés | B17: K1109 | C17: 0 | D17: 0 | E17: 0 | F17: 0 | G17: 0 | H17: 0 | I17: 0 | J17: 0 | K17: 0 | L17: 0 | M17: 0 | N17: 0
A18: Egyéb költségtérítések | B18: K1110 | C18: 0 | D18: 0 | E18: 0 | F18: 0 | G18: 0 | H18: 0 | I18: 0 | J18: 0 | K18: 0 | L18: 0 | M18: 0 | N18: 0
A19: Lakhatási támogatások | B19: K1111 | C19: 0 | D19: 0 | E19: 0 | F19: 0 | G19: 0 | H19: 0 | I19: 0 | J19: 0 | K19: 0 | L19: 0 | M19: 0 | N19: 0
A20: Szociális támogatások | B20: K1112 | C20: 0 | D20: 0 | E20: 0 | F20: 0 | G20: 0 | H20: 0 | I20: 0 | J20: 0 | K20: 0 | L20: 0 | M20: 0 | N20: 0
... A76: Egyéb működési célú kiadások | B76: K5 | C76: 9750870 | D76: 51551509 | E76: 6184140 | F76: 0 | G76: 0 | H76: 0 | I76: 0 | J76: 0 | K76: 0 | L76: 9750870 | M76: 51551509 | N76: 6184140
A77: Működési költségvetés előirányzat csoport | C77: =C27+C28+C53+C62+C76 -> 34080870 | D77: =D27+D28+D53+D62+D76 -> 80020946 | E77: =E27+E28+E53+E62+E76 -> 33719884 | F77: =F27+F28+F53+F62+F76 -> 0 | G77: =G27+G28+G53+G62+G76 -> 0 | H77: =H27+H28+H53+H62+H76 -> 0 | I77: =I27+I28+I53+I62+I76 -> 0 | J77: =J27+J28+J53+J62+J76 -> 0 | ... N77: =N27+N28+N53+N62+N76 -> 33719884
A78: Immateriális javak beszerzése, létesítése | B78: K61 | C78: 0 | D78: 0 | E78: 0 | F78: 0 | G78: 0 | H78: 0 | I78: 0 | J78: 0 | K78: 0 | L78: 0 | M78: 0 | N78: 0
A79: Ingatlanok beszerzése, létesítése | B79: K62 | C79: 0 | D79: 0 | E79: 0 | F79: 0 | G79: 0 | H79: 0 | I79: 0 | J79: 0 | K79: 0 | L79: 0 | M79: 0 | N79: 0
A80: Informatikai eszközök beszerzése, létesítése | B80: K63 | C80: 0 | D80: 0 | E80: 0 | F80: 0 | G80: 0 | H80: 0 | I80: 0 | J80: 0 | K80: 0 | L80: 0 | M80: 0 | N80: 0
A81: Egyéb tárgyi eszközök beszerzése, létesítése | B81: K64 | C81: 200000 | D81: 363970 | E81: 363970 | F81: 0 | G81: 0 | H81: 0 | I81: 0 | J81: 0 | K81: 0 | L81: 200000 | M81: 363970 | N81: 363970
A82: Részesedések beszerzése | B82: K65 | C82: 0 | D82: 0 | E82: 0 | F82: 0 | G82: 0 | H82: 0 | I82: 0 | J82: 0 | K82: 0 | L82: 0 | M82: 0 | N82: 0
A83: Meglévő részesedések növeléséhez kapcsolódó kiadások | B83: K66 | C83: 0 | D83: 0 | E83: 0 | F83: 0 | G83: 0 | H83: 0 | I83: 0 | J83: 0 | K83: 0 | L83: 0 | M83: 0 | N83: 0
A84: Beruházási célú előzetesen felszámított általános forgalmi adó | B84: K67 | C84: 110000 | D84: 98270 | E84: 98270 | F84: 0 | G84: 0 | H84: 0 | I84: 0 | J84: 0 | K84: 0 | L84: 110000 | M84: 98270 | N84: 98270
A85: Beruházások | B85: K6 | C85: 310000 | D85: 462240 | E85: 462240 | F85: 0 | G85: 0 | H85: 0 | I85: 0 | J85: 0 | K85: 0 | L85: 310000 | M85: 462240 | N85: 462240
A86: Ingatlanok felújítása | B86: K71 | C86: 28000000 | D86: 0 | E86: 0 | F86: 0 | G86: 0 | H86: 0 | I86: 0 | J86: 0 | K86: 0 | L86: 28000000 | M86: 0 | N86: 0
A87: Informatikai eszközök felújítása | B87: K72 | C87: 0 | D87: 0 | E87: 0 | F87: 0 | G87: 0 | H87: 0 | I87: 0 | J87: 0 | K87: 0 | L87: 0 | M87: 0 | N87: 0
A88: Egyéb tárgyi eszközök felújítása | B88: K73 | C88: 0 | D88: 0 | E88: 0 | F88: 0 | G88: 0 | H88: 0 | I88: 0 | J88: 0 | K88: 0 | L88: 0 | M88: 0 | N88: 0
A89: Felújítási célú előzetesen felszámított általános forgalmi adó | B89: K74 | C89: 7559999 | D89: 0 | E89: 0 | F89: 0 | G89: 0 | H89: 0 | I89: 0 | J89: 0 | K89: 0 | L89: 7559999 | M89: 0 | N89: 0
... A96: Felhalmozási célú visszatérítendő támogatások, kölcsönök nyújtása államháztartáson kívülre | B96: K86 | C96: 0 | D96: 0 | E96: 0 | F96: 0 | G96: 0 | H96: 0 | I96: 0 | J96: 0 | K96: 0 | L96: 0 | M96: 0 | N96: 0
A97: Lakástámogatás | B97: K87 | F97: 0 | G97: 0 | H97: 0 | I97: 0 | J97: 0 | K97: 0
A98: Felhalmozási célú támogatások az Európai Uniónak | B98: K88 | F98: 0 | G98: 0 | H98: 0 | I98: 0 | J98: 0 | K98: 0
A99: Egyéb felhalmozási célú támogatások államháztartáson kívülre | B99: K89 | C99: 0 | D99: 0 | E99: 0 | F99: 0 | G99: 0 | H99: 0 | I99: 0 | J99: 0 | K99: 0 | L99: 0 | M99: 0 | N99: 0
A100: Egyéb felhalmozási célú kiadások | B100: K8 | C100: 0 | D100: 0 | E100: 0 | F100: 0 | G100: 0 | H100: 0 | I100: 0 | J100: 0 | K100: 0 | L100: 0 | M100: 0 | N100: 0
A101: Felhalmozási költségvetés előirányzat csoport | C101: =C85+C90+C100 -> 35869999 | D101: =D85+D90+D100 -> 462240 | E101: =E85+E90+E100 -> 462240 | F101: =F85+F90+F100 -> 0 | G101: =G85+G90+G100 -> 0 | H101: =H85+H90+H100 -> 0 | I101: =I85+I90+I100 -> 0 | J101: =J85+J90+J100 -> 0 | ... N101: =N85+N90+N100 -> 462240
A102: Költségvetési kiadások | B102: K1-K8 | C102: =C27+C28+C53+C62+C76+C85+C90+C100 -> 69950869 | D102: =D27+D28+D53+D62+D76+D85+D90+D100 -> 80483186 | E102: =E27+E28+E53+E62+E76+E85+E90+E100 -> 34182124 | F102: 0 | G102: 0 | H102: 0 | I102: 0 | J102: 0 | K102: 0 | L102: =L27+L28+L53+L62+L76+L85+L90+L100 -> 69950869 | M102: =M27+M28+M53+M62+M76+M85+M90+M100 -> 80483186 | N102: =N27+N28+N53+N62+N76+N85+N90+N100 -> 34182124
A103: Hosszú lejáratú hitelek, kölcsönök törlesztése pénzügyi vállalkozásnak | B103: K9111 | C103: 0 | D103: 0 | E103: 0 | F103: 0 | G103: 0 | H103: 0 | I103: 0 | J103: 0 | K103: 0 | L103: 0 | M103: 0 | N103: 0
...

Sheet 6. melléklet
B1: 6. melléklet a 7/2021. (V.25.) önkormányzati rendelethez
A3: Nemeskolta Község Önkormányzata 2020. évi zárszámadása
A4: Beruházások és felújítások (Ft)
A6: Megnevezés | B6: Rovat-szám | C6: ÖNKORMÁNYZATI ELŐIRÁNYZATOK
C7: eredeti ei. | D7: módosított ei. | E7: teljesítés
A9: Immateriális javak beszerzése, létesítése | B9: K61 | C9: ='5. melléklet'!L78 -> 0 | D9: ='5. melléklet'!M78 -> 0 | E9: ='5. melléklet'!N78 -> 0
A11: Ingatlanok beszerzése, létesítése | B11: K62 | C11: ='5. melléklet'!L79 -> 0 | D11: ='5. melléklet'!M79 -> 0 | E11: ='5. melléklet'!N79 -> 0
A13: Informatikai eszközök beszerzése, létesítése | B13: K63 | C13: ='5. melléklet'!L80 -> 0 | D13: ='5. melléklet'!M80 -> 0 | E13: ='5. melléklet'!N80 -> 0
A15: Egyéb tárgyi eszközök beszerzése, létesítése | B15: K64 | C15: ='5. melléklet'!L81 -> 200000 | D15: ='5. melléklet'!M81 -> 363970 | E15: ='5. melléklet'!N81 -> 363970
A17: Részesedések beszerzése | B17: K65 | C17: ='5. melléklet'!L82 -> 0 | D17: ='5. melléklet'!M82 -> 0 | E17: ='5. melléklet'!N82 -> 0
A19: Meglévő részesedések növeléséhez kapcsolódó kiadások | B19: K66 | C19: ='5. melléklet'!L83 -> 0 | D19: ='5. melléklet'!M83 -> 0 | E19: ='5. melléklet'!N83 -> 0
A21: Beruházási célú előzetesen felszámított általános forgalmi adó | B21: K67 | C21: ='5. melléklet'!L84 -> 110000 | D21: ='5. melléklet'!M84 -> 98270 | E21: ='5. melléklet'!N84 -> 98270
A22: Beruházások | B22: K6 | C22: =SUM(C21,C19,C17,C15,C13,C11,C9) -> 310000 | D22: =D9+D11+D13+D15+D17+D19+D21 -> 462240 | E22: =E9+E11+E13+E15+E17+E19+E21 -> 462240
A24: Ingatlanok felújítása | B24: K71 | C24: ='5. melléklet'!L86 -> 28000000 | D24: ='5. melléklet'!M86 -> 0 | E24: ='5. melléklet'!N86 -> 0
A26: Informatikai eszközök felújítása | B26: K72 | C26: ='5. melléklet'!L87 -> 0 | D26: ='5. melléklet'!M87 -> 0 | E26: ='5. melléklet'!N87 -> 0
A28: Egyéb tárgyi eszközök felújítása | B28: K73 | C28: ='5. melléklet'!L88 -> 0 | D28: ='5. melléklet'!M88 -> 0 | E28: ='5. melléklet'!N88 -> 0
A30: Felújítási célú előzetesen felszámított általános forgalmi adó | B30: K74 | C30: ='5. melléklet'!L89 -> 7559999 | D30: ='5. melléklet'!M89 -> 0 | E30: ='5. melléklet'!N89 -> 0
A31: Felújítások | B31: K7 | C31: =C24+C26+C28+C30 -> 35559999 | D31: =D24+D26+D28+D30 -> 0 | E31: =E24+E26+E28+E30 -> 0

Sheet 7. melléklet
A1: 7. melléklet a 7/2021. (V.25.) önkormányzati rendelethez
A3: Nemeskolta Község Önkormányzata 2020. évi zárszámadása
A4: Foglalkoztatottak létszáma (fő)
A7: MEGNEVEZÉS | B7: Költségvetési engedélyezett létszámkeret (álláshely) (fő) ÖNKORMÁNYZAT
A8: főjegyző, jegyző, aljegyző, címzetes főjegyző, körjegyző | B8: 0
A9: I. besorolási osztály összesen | B9: 0
A10: II. besorolási osztály összesen | B10: 0
A11: III. besorolási osztály összesen | B11: 0
A12: KÖZTISZTVISELŐK, KORMÁNYTISZTVISELŐK ÖSSZESEN | B12: =SUM(B8:B11) -> 0
A13: igazgató (főigazgató), igazgatóhelyettes (főigazgató-helyettes) | B13: 0
A14: főosztályvezető, főosztályvezető-helyettes, osztályvezető, ügykezelő osztályvezető, további vezető | B14: 0
A15: főtanácsos, főmunkatárs, tanácsos, munkatárs | B15: 0
A16: "A", "B" fizetési osztály összesen | B16: 1
A17: "C", "D" fizetési osztály összesen | B17: 1
A18: "E"-"J" fizetési osztály összesen | B18: 0
A19: kutató, felsőoktatásban oktató | B19: 0
A20: KÖZALKALMAZOTTAK ÖSSZESEN | B20: =SUM(B13:B19) -> 2
A21: fizikai alkalmazott, a költségvetési szerveknél foglalkoztatott egyéb munkavállaló (fizikai alkalmazott) | B21: 0
A22: ösztöndíjas foglalkoztatott | B22: 0
A23: közfoglalkoztatott | B23: 2
A24: EGYÉB BÉRRENDSZER ÖSSZESEN | B24: =SUM(B21:B23) -> 2
A25: polgármester, főpolgármester | B25: 1
A26: helyi önkormányzati képviselő-testület tagja, megyei közgyűlés tagja | B26: 3
A27: alpolgármester, főpolgármester-helyettes, megyei közgyűlés elnöke, alelnöke | B27: 1
A28: VÁLASZTOTT TISZTSÉGVISELŐK ÖSSZESEN | B28: =SUM(B25:B27) -> 5
A29: KÖLTSÉGVETÉSI ENGEDÉLYEZETT LÉTSZÁMKERETBE TARTOZÓ FOGLALKOZTATOTTAK LÉTSZÁMA MINDÖSSZESEN | B29: =SUM(B28,B24,B20,B12) -> 9
A30: prémiumévek programról és a különleges foglalkoztatási állományról szóló 2004. évi CXXII. törvény alapján foglalkoztatott prémiumévesek | B30: 0
A31: prémiumévek programról és a különleges foglalkoztatási állományról szóló 2004. évi CXXII. törvény alapján foglalkoztatott különleges foglalkoztatási állományba helyezettek létszáma | B31: 0
A32: ösztöndíjas foglalkoztatottak (Pftv, illetve Magyar Közigazgatási Ösztöndíjról szóló 228/2011. (X. 28.) Korm. rendelet) | B32: 0
A33: munkaerőpiactól tartósan távol lévő személyek | B33: 0
A34: KÖLTSÉGVETÉSI ENGEDÉLYEZETT LÉTSZÁMKERETBE NEM TARTOZÓ FOGLALKOZTATOTTAK LÉTSZÁMA AZ IDŐSZAK VÉGÉN ÖSSZESEN | B34: =SUM(B30:B33) -> 0

Sheet 8 melléklet
C1: 8. melléklet a 7/2021. (V.25.) önkormányzati rendelethez
A3: Nemeskolta Község Önkormányzata 2020. évi zárszámadása
A4: Általános- és céltartalékok (Ft)
A7: Rovat megnevezése | B7: Rovat-szám | C7: ÖNKORMÁNYZATI ELŐIRÁNYZATOK
C8: eredeti ei. | D8: módosított ei.
A10: Tartalékok | B10: K513 | C10: ='5. melléklet'!L75 -> 6180207 | D10: ='5. melléklet'!M75 -> 45367369

Sheet 9 melléklet
H1: 9. melléklet a 7/2021. (V.25.) önkormányzati rendelethez
A3: Nemeskolta Község Önkormányzata 2020. évi zárszámadása
A4: A költségvetési év azon fejlesztései, amelyek megvalósításához a Gst. 3. § (1) bekezdése szerinti adósságot keletkeztető ügylet megkötése vált szükségessé (Ft)
A6: ÖNKORMÁNYZATI ELŐIRÁNYZATOK
A7: Rovat megnevezése | B7: Rovat-szám | C7: kiadási eredeti előirányzat | D7: kiadási módosított előirányzat | E7: teljesített kiadás | F7: ebből teljesített kiadás fedezete-saját forrás | G7: ebből teljesített kiadás fedezete-adósságot keletkeztető ügylet | H7: adósságot keletkeztető ügylet fajtája | I7: adósságot keletkeztető ügylet fajtája | J7: adósságot keletkeztető ügylet rovatszáma (B8) | K7: adósságot keletkeztető ügylet kezdő időpontja | L7: adósságot keletkeztető ügylet lejárati időpontja | M7: adósságot keletkeztető ügylet- várható visszatérítendő összege (kamattal) leáratig mindösszesen
H8: hitel/lízing/kölcsön/értékpapír | I8: bel- vagy külföldi irányú kötelezettség
A12: Immateriális javak beszerzése, létesítése | B12: K61
A17: Ingatlanok beszerzése, létesítése | B17: K62
A22: Informatikai eszközök beszerzése, létesítése | B22: K63
A25: Egyéb tárgyi eszközök beszerzése, létesítése | B25: K64
A28: Részesedések beszerzése | B28: K65
A31: Meglévő részesedések növeléséhez kapcsolódó kiadások | B31: K66
A32: Beruházási célú előzetesen felszámított általános forgalmi adó | B32: K67
A33: Beruházások | B33: K6
A38: Ingatlanok felújítása | B38: K71
A43: Informatikai eszközök felújítása | B43: K72
A48: Egyéb tárgyi eszközök felújítása | B48: K73
A49: Felújítási célú előzetesen felszámított általános forgalmi adó | B49: K74
A50: Felújítások | B50: K7

Sheet 10 melléklet
E1: 10. melléklet a 7/2021. (V.25.) önkormányzati rendelethez
A3: Nemeskolta Község Önkormányzat 2020. évi zárszámadása
A4: A Gst. 3. § (1) bekezdése szerinti adósságot keletkeztető ügyletekből és kezességvállalásokból fennálló kötelezettségek az adósságot keletkeztető ügyletek futamidejének végéig, illetve a kezesség érvényesíthetőségéig, és a Gst. 45. § (1) bekezdés a) pontja felhatalmazása alapján kiadott jogszabályban meghatározottak szerinti saját bevételek (Ft)
A6: ÖNKORMÁNYZATI ELŐIRÁNYZATOK
A7: Rovat megnevezése | B7: Rovat-szám | C7: adósságot keletkeztető ügylet kezdő időpontja | D7: adósságot keletkeztető ügylet lejárati időpontja | E7: adósságot keletkeztető ügyletekből és kezességvállalásokból fennálló kötelezettségek | F7: saját bevételek 2019. | G7: saját bevételek 2020. | H7: saját bevételek 2021. | I7: saját bevételek 2022.
A8: Hosszú lejáratú hitelek, kölcsönök felvétele | B8: B8111
A9: ebből: pénzügyi vállalkozás | B9: B8111
A10: Likviditási célú hitelek, kölcsönök felvétele pénzügyi vállalkozástól | B10: B8112
A11: Rövid lejáratú hitelek, kölcsönök felvétele | B11: B8113
A12: ebből: pénzügyi vállalkozás | B12: B8113
A13: Hitel-, kölcsönfelvétel államháztartáson kívülről | B13: B811
A14: Forgatási célú belföldi értékpapírok beváltása, értékesítése | B14: B8121
A15: ebből: befektetési jegyek | B15: B8121
A16: Forgatási célú belföldi értékpapírok kibocsátása | B16: B8122
A17: Befektetési célú belföldi értékpapírok beváltása, értékesítése | B17: B8123
A18: ebből: kárpótlási jegyek | B18: B8123
A19: Befektetési célú belföldi értékpapírok kibocsátása | B19: B8124
... A30: Rovat megnevezése | B30: Rovat-szám
A31: 353/2011. (XII. 30.) Korm. Rendelet értelmében az önkormányzat saját bevételének minősül
A32: 1. a helyi adóból származó bevétel,
A33: 2. az önkormányzati vagyon és az önkormányzatot megillető vagyoni értékű jog értékesítéséből és hasznosításából származó bevétel,
A34: 3. az osztalék, a koncessziós díj és a hozambevétel,
A35: 4. a tárgyi eszköz és az immateriális jószág, részvény, részesedés, vállalat értékesítéséből vagy privatizációból származó bevétel,
A36: 5. bírság-, pótlék- és díjbevétel, valamint
A37: 6. a kezességvállalással kapcsolatos megtérülés.
A38: ÖSSZESEN:
A50: a)4 hitel, kölcsön felvétele, átvállalása a folyósítás, átvállalás napjától a végtörlesztés napjáig, és annak aktuális tőketartozása,
A51: b) a számvitelről szóló törvény (a továbbiakban: Szt.) szerinti hitelviszonyt megtestesítő értékpapír forgalomba hozatala a forgalomba hozatal napjától a beváltás napjáig, kamatozó értékpapír esetén annak névértéke, egyéb értékpapír esetén annak vételára,
A52: c) váltó kibocsátása a kibocsátás napjától a beváltás napjáig, és annak a váltóval kiváltott kötelezettséggel megegyező, kamatot nem tartalmazó értéke,
A53: d) az Szt. szerint pénzügyi lízing lízingbevevői félként történő megkötése a lízing futamideje alatt, és a lízingszerződésben kikötött tőkerész hátralévő összege,
... A75: 6. a kezességvállalással kapcsolatos megtérülés.

Sheet 11 melléklet
D1: 11. melléklet a 7/2021. (V.25.) önkormányzati rendelethez
A3: Nemeskolta Község Önkormányzata 2020. évi zárszámadása
A4: A költségvetési hiány külső finanszírozására vagy a költségvetési többlet felhasználására szolgáló finanszírozási bevételek és kiadások működési és felhalmozási cél szerinti tagolásban (Ft)
A6: ÖNKORMÁNYZATI ELŐIRÁNYZATOK
A7: Megnevezés | B7: Rovat-szám | C7: eredeti ei. Működési célú | D7: eredeti ei. Felhalmozási célú | E7: módosított ei. Működési célú | F7: módosított ei. Felhalmozási célú | G7: Teljesítés Működési célú | H7: Teljesítés Felhalmozási célú
A8: Hosszú lejáratú hitelek, kölcsönök törlesztése | B8: K9111 | C8: ='5. melléklet'!L103 -> 0 | E8: ='5. melléklet'!M103 -> 0 | G8: ='5. melléklet'!N103 -> 0
A9: ebből: pénzügyi vállalkozás | B9: K9111
A10: ebből: fedezeti ügyletek nettó kiadásai | B10: K9111
A11: Likviditási célú hitelek, kölcsönök törlesztése pénzügyi vállalkozásnak | B11: K9112 | C11: ='5. melléklet'!L104 -> 0 | E11: ='5. melléklet'!M104 -> 0 | G11: ='5. melléklet'!N104 -> 0
A12: Rövid lejáratú hitelek, kölcsönök törlesztése | B12: K9113 | C12: ='5. melléklet'!L105 -> 0 | E12: ='5. melléklet'!M105 -> 0 | G12: ='5. melléklet'!N105 -> 0
A13: ebből: pénzügyi vállalkozás | B13: K9113
A14: ebből: fedezeti ügyletek nettó kiadásai | B14: K9113
A15: Hitel-, kölcsöntörlesztés államháztartáson kívülre | B15: K911 | C15: =SUM(C8,C11,C12) -> 0 | D15: =SUM(D8,D11,D12) -> 0 | E15: =SUM(E8,E11,E12) -> 0 | F15: =SUM(F8,F11,F12) -> 0 | G15: =SUM(G8,G11,G12) -> 0 | H15: =SUM(H8,H11,H12) -> 0
A16: Forgatási célú belföldi értékpapírok vásárlása | B16: K9121 | C16: ='5. melléklet'!L107 -> 0 | E16: ='5. melléklet'!M107 -> 0 | G16: ='5. melléklet'!N107 -> 0
A17: ebből: befektetési jegyek | B17: K9121
A18: ebből: kárpótlási jegyek | B18: K9121
A19: Forgatási célú belföldi értékpapírok beváltása | B19: K9122 | C19: ='5. melléklet'!L108 -> 0 | E19: ='5. melléklet'!M108 -> 0 | G19: ='5. melléklet'!N108 -> 0
A20: ebből: fedezeti ügyletek nettó kiadásai | B20: K9122
A21: Befektetési célú belföldi értékpapírok vásárlása | B21: K9123 | C21: ='5. melléklet'!L109 -> 0 | E21: ='5. melléklet'!M109 -> 0 | G21: ='5. melléklet'!N109 -> 0
A22: Befektetési célú belföldi értékpapírok beváltása | B22: K9124 | C22: ='5. melléklet'!L110 -> 0 | E22: ='5. melléklet'!M110 -> 0 | G22: ='5. melléklet'!N110 -> 0
A23: ebből: kárpótlási jegyek | B23: K9124
A24: ebből: fedezeti ügyletek nettó kiadásai | B24: K9124
A25: Belföldi értékpapírok kiadásai | B25: K912 | C25: =SUM(C16,C19,C21:C22) -> 0 | D25: =SUM(D16,D19,D21:D22) -> 0 | E25: =SUM(E16,E19,E21:E22) -> 0 | F25: =SUM(F16,F19,F21:F22) -> 0 | G25: =SUM(G16,G19,G21:G22) -> 0 | H25: =SUM(H16,H19,H21:H22) -> 0
A26: Államháztartáson belüli megelőlegezések folyósítása | B26: K913 | C26: ='5. melléklet'!L114 -> 0 | E26: ='5. melléklet'!M114 -> 0 | G26: ='5. melléklet'!N114 -> 0
A27: Államháztartáson belüli megelőlegezések visszafizetése | B27: K914 | C27: ='5. melléklet'!L115 -> 906277 | D27: 0 | E27: ='5. melléklet'!M115 -> 906277 | F27: 0 | G27: ='5. melléklet'!N115 -> 906277 | H27: 0
A28: Pénzeszközök betétként elhelyezése | B28: K916 | C28: ='5. melléklet'!L117 -> 0 | E28: ='5. melléklet'!M117 -> 0 | G28: ='5. melléklet'!N117 -> 0
A29: Pénzügyi lízing kiadásai | B29: K917 | C29: ='5. melléklet'!L118 -> 0 | E29: ='5. melléklet'!M118 -> 0 | G29: ='5. melléklet'!N118 -> 0
A30: Központi költségvetés sajátos finanszírozási kiadásai | B30: K918 | C30: ='5. melléklet'!L119 -> 0 | E30: ='5. melléklet'!M119 -> 0 | G30: ='5. melléklet'!N119 -> 0
A31: Belföldi finanszírozás kiadásai | B31: K91 | C31: =SUM(C30,C29,C28,C27,C26,C25,C15) -> 906277 | D31: =SUM(D30,D29,D28,D27,D26,D25,D15) -> 0 | E31: =SUM(E30,E29,E28,E27,E26,E25,E15) -> 906277 | F31: =SUM(F30,F29,F28,F27,F26,F25,F15) -> 0 | G31: =SUM(G30,G29,G28,G27,G26,G25,G15) -> 906277 | H31: =SUM(H30,H29,H28,H27,H26,H25,H15) -> 0
A32: Forgatási célú külföldi értékpapírok vásárlása | B32: K921 | C32: ='5. melléklet'!L122 -> 0 | E32: ='5. melléklet'!M122 -> 0 | G32: ='5. melléklet'!N122 -> 0
A33: Befektetési célú külföldi értékpapírok vásárlása | B33: K922 | C33: ='5. melléklet'!L123 -> 0 | E33: ='5. melléklet'!M123 -> 0 | G33: ='5. melléklet'!N123 -> 0
A34: Külföldi értékpapírok beváltása | B34: K923 | C34: ='5. melléklet'!L124 -> 0 | E34: ='5. melléklet'!M124 -> 0 | G34: ='5. melléklet'!N124 -> 0
A35: ebből: fedezeti ügyletek nettó kiadásai | B35: K923
A36: Külföldi hitelek, kölcsönök törlesztése | B36: K924 | C36: ='5. melléklet'!L125 -> 0 | E36: ='5. melléklet'!M125 -> 0 | G36: ='5. melléklet'!N125 -> 0
A37: ebből: nemzetközi fejlesztési szervezetek | B37: K924
A38: ebből: más kormányok | B38: K924
A39: ebből: külföldi pénzintézetek | B39: K924
A40: ebből: fedezeti ügyletek nettó kiadásai | B40: K924
A41: Külföldi finanszírozás kiadásai | B41: K92 | C41: =SUM(C36,C34,C33,C32) -> 0 | D41: =SUM(D36,D34,D33,D32) -> 0 | E41: =SUM(E36,E34,E33,E32) -> 0 | F41: =SUM(F36,F34,F33,F32) -> 0 | G41: =SUM(G36,G34,G33,G32) -> 0 | H41: =SUM(H36,H34,H33,H32) -> 0
A44: Megnevezés | B44: Rovat-szám | C44: eredeti ei. Működési célú | D44: eredeti ei. Felhalmozási célú | E44: módosított ei. Működési célú | F44: módosított ei. Felhalmozási célú | G44: Teljesítés Működési célú | H44: Teljesítés Felhalmozási célú
...

Sheet 12 melléklet
B1: 12 melléklet a 7/2021. (V.25.) önkormányzati rendelethez
A3: Nemeskolta Község Önkormányzata 2020. évi zárszámadása
A4: Lakosságnak juttatott támogatások, szociális, rászorultsági jellegű ellátások (Ft)
A6: ÖNKORMÁNYZATI ELŐIRÁNYZATOK
A7: Megnevezés | B7: Rovat-szám | C7: eredeti ei. | D7: módosított ei. | E7: teljesítés
A8: ebből: ápolási díj | B8: K44
A9: ebből: fogyatékossági támogatás és vakok személyi járadéka | B9: K44
A10: ebből: kivételes rokkantsági ellátás | B10: K44
A11: ebből: mozgáskorlátozottak szerzési és átalakítási támogatása | B11: K44
A12: ebből: megváltozott munkaképességűek illetve egészségkárosodottak kereset-kiegészítése | B12: K44
A13: ebből: közgyógyellátás [Szoctv.50.§ (1)-(2) bekezdése] | B13: K44
A14: ebből: cukorbetegek támogatása | B14: K44
A15: ebből: egészségügyi szolgáltatási jogosultságra való jogosultság szociális rászorultság alapján [Szoctv. 54. §-a] | B15: K44
A16: Betegséggel kapcsolatos (nem társadalombiztosítási) ellátások | B16: K44 | C16: ='4. melléklet'!C57 -> 0 | D16: ='4. melléklet'!D57 -> 0 | E16: ='4. melléklet'!E57 -> 0
A17: ebből: a Nemzeti Foglalkoztatási Alalpból folyósított passzív, ellátási típusú támogatások, így különösen az álláskeresési járadék, a nyugdíj előtti álláskeresési segély, valamint az ellátások megállapításával kapcsolatos utiköltség-térítés | B17: K45
A18: ebből: korhatár előtti ellátás és a fegyveres testületek volt tagjai szolgálati járandósága | B18: K45
A19: ebből: átmeneti bányászjáradék | B19: K45
A20: ebből: szénjárandóság pénzbeli megváltása | B20: K45
A21: ebből: mecseki bányászatban munkát végzők bányászati kereset-kiegészítése | B21: K45
A22: ebből: mezőgazdasági járadék | B22: K45
A23: ebből: foglalkoztatást helyettesítő támogatás [Szoctv. 35. § (1) bek.] | B23: K45
A24: ebből: polgármesterek korhatár előtti ellátása | B24: K45
A25: Foglalkoztatással, munkanélküliséggel kapcsolatos ellátások | B25: K45
A26: ebből: hozzájárulás a lakossági energiaköltségekhez | B26: K46
A27: ebből: lakbértámogatás | B27: K46
A28: Lakhatással kapcsolatos ellátások | B28: K46 | C28: ='4. melléklet'!C59 -> 0 | D28: ='4. melléklet'!D59 -> 0 | E28: ='4. melléklet'!E59 -> 0
A29: ebből: házastársi pótlék (K48) | B29: K48
A30: ebből: Hadigondozottak Közalapítványát terhelő hadigondozotti ellátások (K48) | B30: K48
A31: ebből: tudományos fokozattal rendelkezők nyugdíjkiegészítése (K48) | B31: K48
A32: ebből: nemzeti gondozotti ellátások (K48) | B32: K48
A33: ebből: nemzeti helytállásért pótlék (K48) | B33: K48
A34: ebből: egyes nyugdíjjogi hátrányok enyhítése miatti (közszolgálati idő után járó) nyugdíj-kiegészítés (K48) | B34: K48
A35: ebből: egyes, tartós időtartamú szabadságelvonást elszenvedettek részére járó juttatás (K48) | B35: K48
A36: ebből: a Nemzet Színésze címet viselő színészek havi életjáradéka, művészeti nyugdíjsegélyek, művészjáradék, balettművészeti életjáradék (K48) | B36: K48
A37: ebből: az elhunyt akadémikusok hozzátartozóinak folyósított özvegyi- és árvaellátás (K48) | B37: K48
A38: ebből: a Nemzet Sportolója címmel járó járadék, olimpiai járadék, idős sportolók szociális támogatása (K48) | B38: K48
A39: ebből: életjáradék termőföldért (K48) | B39: K48
A40: ebből: Bevándorlási és Állampolgársági Hivatal által folyósított ellátások (K48) | B40: K48
... A43: ebből: egyéb, az önkormányzat rendeletében megállapított juttatás (K48) | B43: K48
A44: ebből: köztemetés [Szoctv. 48.§] (K48) | B44: K48 | C44: 0 | D44: 0 | E44: 0
...

Sheet 13A melléklet
A1: 13A. melléklet a 7/2021. (V.25.) önkormányzati rendelethez
A3: Nemeskolta Község Önkormányzata 2020. évi zárszámadása
A4: Támogatások, kölcsönök nyújtása és törlesztése (Ft)
A6: ÖNKORMÁNYZATI ELŐIRÁNYZATOK
A7: Megnevezés | B7: Rovat-szám | C7: eredeti ei. | D7: módosított ei. | E7: teljesítés
A8: központi költségvetési szervek részére | B8: K504
A9: központi kezelésű előirányzatok részére | B9: K504
A10: fejezeti kezelésű előirányzatok EU-s programokra és azok hazai társfinanszírozása részére | B10: K504
A11: egyéb fejezeti kezelésű előirányzatok részére | B11: K504
A12: társadalombiztosítás pénzügyi alapjai részére | B12: K504
A13: elkülönített állami pénzalapok részére | B13: K504
A14: helyi önkormányzatok és költségvetési szerveik részére | B14: K504
A15: társulások és költségvetési szerveik részére | B15: K504
A16: nemzetiségi önkormányzatok és költségvetési szerveik részére | B16: K504
A17: térségi fejlesztési tanácsok és költségvetési szerveik részére | B17: K504
A18: Működési célú visszatérítendő támogatások, kölcsönök nyújtása államháztartáson belülre | B18: K504 | C18: ='4. melléklet'!C66 -> 0 | D18: ='4. melléklet'!D66 -> 0 | E18: ='4. melléklet'!E66 -> 0
A19: központi költségvetési szervek részére | B19: K505
A20: központi kezelésű előirányzatok részére | B20: K505
A21: fejezeti kezelésű előirányzatok EU-s programokra és azok hazai társfinanszírozása részére | B21: K505
A22: egyéb fejezeti kezelésű előirányzatok részére | B22: K505
A23: társadalombiztosítás pénzügyi alapjai részére | B23: K505
A24: elkülönített állami pénzalapok részére | B24: K505
A25: helyi önkormányzatok és költségvetési szerveik részére | B25: K505
A26: társulások és költségvetési szerveik részére | B26: K505
A27: nemzetiségi önkormányzatok és költségvetési szerveik részére | B27: K505
A28: térségi fejlesztési tanácsok és költségvetési szerveik részére | B28: K505
A29: Működési célú visszatérítendő támogatások, kölcsönök törlesztése államháztartáson belülre | B29: K505 | C29: ='4. melléklet'!C67 -> 0 | D29: ='4. melléklet'!D67 -> 0 | E29: ='4. melléklet'!E67 -> 0
A30: központi költségvetési szervek részére | B30: K506 | E30: 0
A31: központi kezelésű előirányzatok részére | B31: K506
A32: fejezeti kezelésű előirányzatok EU-s programokra és azok hazai társfinanszírozása részére | B32: K506
A33: egyéb fejezeti kezelésű előirányzatok részére | B33: K506 | C33: 0 | D33: 0 | E33: 0
A34: társadalombiztosítás pénzügyi alapjai részére | B34: K506
A35: elkülönített állami pénzalapok részére | B35: K506
A36: helyi önkormányzatok és költségvetési szerveik részére | B36: K506 | C36: 0 | D36: 0 | E36: 5362798
A37: társulások és költségvetési szerveik részére | B37: K506 | C37: 0 | D37: 0 | E37: 415342
A38: nemzetiségi önkormányzatok és költségvetési szerveik részére | B38: K506
A39: térségi fejlesztési tanácsok és költségvetési szerveik részére | B39: K506
A40: Egyéb működési célú támogatások államháztartáson belülre | B40: K506 | C40: ='4. melléklet'!C68 -> 2550663 | D40: ='4. melléklet'!D68 -> 5778140 | E40: ='4. melléklet'!E68 -> 5778140
A41: egyházi jogi személyek részére | B41: K508
A42: nonprofit gazdasági társaságok | B42: K508
...

Sheet 13B melléklet
A1: 13B. melléklet a 7/2021. (V.25.) önkormányzati rendelethez
A3: Nemeskolta Község Önkormányzata 2020. évi zárszámadása
A4: Támogatások, kölcsönök bevételei (Ft)
A6: ÖNKORMÁNYZATI ELŐIRÁNYZATOK
A7: Megnevezés | B7: Rovat-szám | C7: eredeti ei. | D7: módosított ei. | E7: teljesítés
A8: központi költségvetési szervektől | B8: B14
A9: központi kezelésű előirányzatoktól | B9: B14
A10: fejezeti kezelésű előirányzatok EU-s programokra és azok hazai társfinanszírozásától | B10: B14
A11: egyéb fejezeti kezelésű előirányzatoktól | B11: B14
A12: társadalombiztosítás pénzügyi alapjaitól | B12: B14
A13: elkülönített állami pénzalapoktól | B13: B14
A14: helyi önkormányzatok és költségvetési szerveiktől | B14: B14
A15: társulások és költségvetési szerveiktől | B15: B14
A16: nemzetiségi önkormányzatok és költségvetési szerveiktől | B16: B14
A17: térségi fejlesztési tanácsok és költségvetési szerveiktől | B17: B14
A18: Működési célú visszatérítendő támogatások, kölcsönök visszatérülése államháztartáson belülről | B18: B14 | C18: ='2. melléklet'!C18 -> 0 | D18: ='2. melléklet'!D18 -> 0 | E18: ='2. melléklet'!E18 -> 0
A19: központi költségvetési szervektől | B19: B15
A20: központi kezelésű előirányzatoktól | B20: B15
A21: fejezeti kezelésű előirányzatok EU-s programokra és azok hazai társfinanszírozásától | B21: B15
A22: egyéb fejezeti kezelésű előirányzatoktól | B22: B15
A23: társadalombiztosítás pénzügyi alapjaitól | B23: B15
A24: elkülönített állami pénzalapoktól | B24: B15
A25: helyi önkormányzatok és költségvetési szerveiktől | B25: B15
A26: társulások és költségvetési szerveiktől | B26: B15
A27: nemzetiségi önkormányzatok és költségvetési szerveiktől | B27: B15
A28: térségi fejlesztési tanácsok és költségvetési szerveiktől | B28: B15
A29: Működési célú visszatérítendő támogatások, kölcsönök igénybevétele államháztartáson belülről | B29: B15 | C29: ='2. melléklet'!C19 -> 0 | D29: ='2. melléklet'!D19 -> 0 | E29: ='2. melléklet'!E19 -> 0
A30: központi költségvetési szervektől | B30: B16
A31: központi kezelésű előirányzatoktól | B31: B16
A32: fejezeti kezelésű előirányzatok EU-s programokra és azok hazai társfinanszírozásától | B32: B16
A33: egyéb fejezeti kezelésű előirányzatoktól | B33: B16
A34: társadalombiztosítás pénzügyi alapjaitól | B34: B16
A35: elkülönített állami pénzalapoktól | B35: B16 | E35: 1483342
A36: helyi önkormányzatok és költségvetési szerveiktől | B36: B16 | E36: 254452
A37: társulások és költségvetési szerveiktől | B37: B16
A38: nemzetiségi önkormányzatok és költségvetési szerveiktől | B38: B16
A39: térségi fejlesztési tanácsok és költségvetési szerveiktől | B39: B16
A40: Egyéb működési célú támogatások bevételei államháztartáson belülről | B40: B16 | C40: ='2. melléklet'!C20 -> 532000 | D40: ='2. melléklet'!D20 -> 1737794 | E40: ='2. melléklet'!E20 -> 1737794
A41: központi költségvetési szervektől | B41: B23
A42: központi kezelésű előirányzatoktól | B42: B23
...

Sheet 14 melléklet
A1: 14. melléklet a 7/2021. (V.25.) önkormányzati rendelethez
A3: Nemeskolta Község Önkormányzata 2020. évi zárszámadása
A4: Helyi adó és egyéb közhatalmi bevételek (Ft)
A6: Megnevezés | B6: Rovat-szám | C6: eredeti ei. | D6: módosított ei. | E6: teljesítés
A7: építményadó | B7: B34
A8: épület után fizetett idegenforgalmi adó | B8: B34
A9: magánszemélyek kommunális adója | B9: B34 | C9: ='3. melléklet'!L28 -> 350000 | D9: ='3. melléklet'!M28 -> 350000 | E9: ='3. melléklet'!N28 -> 341700
A10: telekadó | B10: B34
A11: Vagyoni tipusú adók | B11: B34 | C11: =SUM(C7:C10) -> 350000 | D11: =SUM(D7:D10) -> 350000 | E11: =SUM(E7:E10) -> 341700
A12: Értékesítési és forgalmi adók | B12: B351 | C12: ='3. melléklet'!L29 -> 4000000 | D12: ='3. melléklet'!M29 -> 5608450 | E12: ='3. melléklet'!N29 -> 5608450
A13: ebből: állandó jeleggel végzett iparűzési tevékenység után fizetett helyi iparűzési adó | B13: B351 | C13: ='3. melléklet'!L29 -> 4000000 | D13: ='3. melléklet'!M29 -> 5608450 | E13: ='3. melléklet'!N29 -> 5608450
A14: ebből: ideiglenes jeleggel végzett tevékenység után fizetett helyi iparűzési adó | B14: B351 | C14: 0 | D14: 0 | E14: 0
A15: Gépjárműadók | B15: B354 | C15: ='3. melléklet'!L32 -> 1000000 | D15: ='3. melléklet'!M32 -> 0 | E15: ='3. melléklet'!N32 -> 0
A16: ebből: belföldi gépjárművek adójának a központi költségvetést megillető része | B16: B354
A17: ebből: belföldi gépjárművek adójának a helyi önkormányzatot megillető része | B17: B354 | C17: ='3. melléklet'!L32 -> 1000000 | D17: ='3. melléklet'!M32 -> 0 | E17: ='3. melléklet'!N32 -> 0
A18: ebből: külföldi gépjárművek adója | B18: B354
A19: ebből: gépjármű túlsúlydíj | B19: B354
A20: Egyéb áruhasználati és szolgáltatási adók | B20: B355
A21: ebből: tartózkodás után fizetett idegenforgalmi adó | B21: B355
A22: ebből: talajterhelési díj | B22: B355
A23: Termékek és szolgáltatások adói | B23: B35 | C23: =SUM(C20,C15,C13) -> 5000000 | D23: =SUM(D20,D15,D13) -> 5608450 | E23: =SUM(E20,E15,E13) -> 5608450
A24: eljárási illetékek | B24: B36
A25: igazgatási szolgáltatási díjak | B25: B36
A26: felügyeleti díjak | B26: B36
A27: ebrendészeti hozzájárulás | B27: B36
A28: környezetvédelmi bírság | B28: B36
A29: természetvédelmi bírság | B29: B36
A30: műemlékvédelmi bírság | B30: B36
A31: építésügyi bírság | B31: B36
A32: szabálysértési pénz- és helyszíni mbírság és a közlekedési szabályszegések után kiszabott közigazgatási bírság helyi önkormányzatot megillető része | B32: B36
A33: késedelmi pótlék, talajterhelési díj | B33: B36 | C33: ='3. melléklet'!L35 -> 75000 | D33: ='3. melléklet'!M35 -> 618130 | E33: ='3. melléklet'!N35 -> 618130
A34: Egyéb közhatalmi bevételek | B34: B36 | C34: =SUM(C24:C33) -> 75000 | D34: =SUM(D24:D33) -> 618130 | E34: =SUM(E24:E33) -> 618130

Sheet 15. melléklet
B1: 15. melléklet a 7/2021. (V.25.) önkormányzati rendelethez
A3: Nemeskolta Község Önkormányzata 2020. évi zárszámadása
A4: A helyi önkormányzat vagyonkimutatása (Ft)
A6: ÖNKORMÁNYZAT
A7: Megnevezés | B7: Forgalom-képtelen törzsvagyon | C7: Nemzetgazdasági szempontból kiemelt jelentőségű törzsvagyon | D7: Korlátozottan forgalomképes vagyon | E7: Üzleti vagyon | F7: Mindösszesen
A8: ESZKÖZÖK | B8: =SUM(B26+B41+B55+B56+B61+B62+B63) -> 132379761 | C8: =SUM(C26+C41+C55+C56+C61+C62+C63) -> 0 | D8: =SUM(D26+D41+D55+D56+D61+D62+D63) -> 286382171 | E8: =SUM(E26+E41+E55+E56+E61+E62+E63) -> 54684238 | F8: =SUM(B8:E8) -> 473446170
A9: A/I/1 Vagyoni értékű jogok | F9: =SUM(B9:E9) -> 0
A10: A/I/2 Szellemi termékek | F10: =SUM(B10:E10) -> 0
A11: A/I/3 Immateriális javak értékhelyesbítése | F11: =SUM(B11:E11) -> 0
A12: A/I Immateriális javak | B12: =SUM(B9:B11) -> 0 | C12: =SUM(C9:C11) -> 0 | D12: =SUM(D9:D11) -> 0 | E12: =SUM(E9:E11) -> 0 | F12: =SUM(B12:E12) -> 0
A13: A/II/1 Ingatlanok és a kapcsolódó vagyoni értékű jogok | B13: 132379761 | D13: 286382171 | E13: 4417550 | F13: =SUM(B13:E13) -> 423179482
A14: A/II/2 Gépek, berendezések, felszerelések, járművek | B14: 0 | D14: 0 | E14: 1203683 | F14: =SUM(B14:E14) -> 1203683
A15: A/II/3 Tenyészállatok | F15: =SUM(B15:E15) -> 0
A16: A/II/4 Beruházások, felújítások | E16: 0 | F16: =SUM(B16:E16) -> 0
A17: A/II/5 Tárgyi eszközök értékhelyesbítése | F17: =SUM(B17:E17) -> 0
A18: A/II Tárgyi eszközök | B18: =SUM(B13:B17) -> 132379761 | C18: =SUM(C13:C17) -> 0 | D18: =SUM(D13:D17) -> 286382171 | E18: =SUM(E13:E17) -> 5621233 | F18: =SUM(B18:E18) -> 424383165
A19: A/III/1 Tartós részesedések | B19: 0 | E19: 420660 | F19: =SUM(B19:E19) -> 420660
A20: A/III/2 Tartós hitelviszonyt megtestesítő értékpapírok | F20: =SUM(B20:E20) -> 0
A21: A/III/3 Befektetett pénzügyi eszközök értékhelyesbítése | F21: =SUM(B21:E21) -> 0
A22: A/III Befektetett pénzügyi eszközök | B22: =SUM(B19:B21) -> 0 | C22: =SUM(C19:C21) -> 0 | D22: =SUM(D19:D21) -> 0 | E22: =SUM(E19:E21) -> 420660 | F22: =SUM(B22:E22) -> 420660
A23: A/IV/1 Koncesszióba, vagyonkezelésbe adott eszközök | F23: =SUM(B23:E23) -> 0
A24: A/IV/2 Koncesszióba, vagyonkezelésbe adott eszközök értékhelyesbítése | F24: =SUM(B24:E24) -> 0
A25: A/IV Koncesszióba, vagyonkezelésbe adott eszközök | B25: =SUM(B23:B24) -> 0 | C25: =SUM(C23:C24) -> 0 | D25: =SUM(D23:D24) -> 0 | E25: =SUM(E23:E24) -> 0 | F25: =SUM(B25:E25) -> 0
A26: A) NEMZETI VAGYONBA TARTOZÓ BEFEKTETETT ESZKÖZÖK | B26: =SUM(B25,B22,B18,B12) -> 132379761 | C26: =SUM(C25,C22,C18,C12) -> 0 | D26: =SUM(D25,D22,D18,D12) -> 286382171 | E26: =SUM(E25,E22,E18,E12) -> 6041893 | F26: =SUM(B26:E26) -> 424803825
A27: B/I/1 Vásárolt készletek | F27: =SUM(B27:E27) -> 0
A28: B/I/2 Átsorolt, követelés fejében átvett készletek | F28: =SUM(B28:E28) -> 0
A29: B/I/3 Egyéb készletek | F29: =SUM(B29:E29) -> 0
A30: B/I/4 Befejezetlen termelés, félkész termékek, késztermékek | F30: =SUM(B30:E30) -> 0
A31: B/I/5 Növendék-, hízó és egyéb állatok | F31: =SUM(B31:E31) -> 0
A32: B/I Készletek | B32: =SUM(B27:B31) -> 0 | C32: =SUM(C27:C31) -> 0 | D32: =SUM(D27:D31) -> 0 | E32: =SUM(E27:E31) -> 0 | F32: =SUM(B32:E32) -> 0
A33: B/II/1 Nem tartós részesedések | F33: =SUM(B33:E33) -> 0
A34: B/II/2 Forgatási célú hitelviszonyt megtestesítő értékpapírok | F34: =SUM(B34:E34) -> 0
A35: B/II/2a - ebből: kárpótlási jegyek | F35: =SUM(B35:E35) -> 0
A36: B/II/2b - ebből: kincstárjegyek | F36: =SUM(B36:E36) -> 0
A37: B/II/2c - ebből: államkötvények | F37: =SUM(B37:E37) -> 0
A38: B/II/2d - ebből: helyi önkormányzatok kötvényei | F38: =SUM(B38:E38) -> 0
A39: B/II/2e - ebből: befektetési jegyek | F39: =SUM(B39:E39) -> 0
A40: B/II Értékpapírok | B40: =SUM(B33:B39) -> 0 | C40: =SUM(C33:C39) -> 0 | D40: =SUM(D33:D39) -> 0 | E40: =SUM(E33:E39) -> 0 | F40: =SUM(B40:E40) -> 0
A41: B) NEMZETI VAGYONBA TARTOZÓ FORGÓESZKÖZÖK | B41: =SUM(B40,B32) -> 0 | C41: =SUM(C40,C32) -> 0 | D41: =SUM(D40,D32) -> 0 | E41: =SUM(E40,E32) -> 0 | F41: =SUM(B41:E41) -> 0
A42: C/I/1. Éven túli lejáratú forint lekötött bankbetétek | F42: =SUM(B42:E42) -> 0
...

Sheet 16 melléklet
A1: 16. melléklet a 7/2021. (V.25.) önkormányzati rendelethez
A3: Nemeskolta Község Önkormányzata 2020 évi zárszámadása
A4: A helyi önkormányzat pénzmaradvány kimutatása (Ft)
A7: Megnevezés | B7: Összesen
A8: 01 Alaptevékenység költségvetési bevételei | B8: 79147904
A9: 02 Alaptevékenység költségvetési kiadásai | B9: 34182124
A10: I Alaptevékenység költségvetési egyenlege (=01-02) | B10: 44965780
A11: 03 Alaptevékenység finanszírozási bevételei | B11: 2233259
A12: 04 Alaptevékenység finanszírozási kiadásai | B12: 906277
A13: II Alaptevékenység finanszírozási egyenlege (=03-04) | B13: 1326982
A14: A) Alaptevékenység maradványa (=±I±II) | B14: 46292762
A15: 05 Vállalkozási tevékenység költségvetési bevételei | B15: 0
A16: 06 Vállalkozási tevékenység költségvetési kiadásai | B16: 0
A17: III Vállalkozási tevékenység költségvetési egyenlege (=05-06) | B17: 0
A18: 07 Vállalkozási tevékenység finanszírozási bevételei | B18: 0
A19: 08 Vállalkozási tevékenység finanszírozási kiadásai | B19: 0
... A26: G) Vállalkozási tevékenység felhasználható maradványa (=B-F) | B26: 0

Sheet 17 melléklet
A1: 17. melléklet a 7/2021. (V.25.) önkormányzati rendelethez
A3: Nemeskolta Község Önkormányzata 2020. évi zárszámadása
A4: A helyi önkormányzat eredménykimutatása (Ft)
A6: ÖNKORMÁNYZAT
A7: Megnevezés | B7: Előző időszak (2019. év) | C7: Módosítások | D7: Tárgyi időszak (2020. év)
A8: 01 Közhatalmi eredményszemléletű bevételek | B8: 4063494 | C8: 0 | D8: 7417326
A9: 02 Eszközök és szolgáltatások értékesítése nettó eredményszemléletű bevételei | B9: 98960 | C9: 0 | D9: 0
A10: 03 Tevékenység egyéb nettó eredményszemléletű bevételei | B10: 430893 | C10: 0 | D10: 1003152
A11: I Tevékenység nettó eredményszemléletű bevétele (=01+02+03) | B11: 4593347 | C11: 0 | D11: 8420478
A12: 04 Saját termelésű készletek állományváltozása | B12: 0 | C12: 0 | D12: 0
A13: 05 Saját előállítású eszközök aktivált értéke | B13: 0 | C13: 0 | D13: 0
A14: II Aktivált saját teljesítmények értéke (=±04+05) | B14: 0 | C14: 0 | D14: 0
A15: 06 Központi működési célú támogatások eredményszemléletű bevételei | B15: 21017790 | C15: 0 | D15: 23506651
A16: 07 Egyéb működési célú támogatások eredményszemléletű bevételei | B16: 1691624 | C16: 0 | D16: 1737794
