Workbook

Sheet 1
A1: 1. melléklet Csabrendek Nagyközség Önkormányzata Képviselő-testületének 1/2019. (I.28.) rendeletéhez
A2: "1. melléklet Csabrendek Nagyközség Önkormányzata Képviselő-testületének 1/2019. (I. 30.) rendeletéhez"
A4: 2019. évi Költségvetési kiadások
A5: 1 | B5: 2 | C5: 3 | D5: 4 | E5: 5 | F5: 6 | G5: 7
C6: Eredeti előirányzat
C7: Önkormányzat összesen | D7: Csabrendek Nagyközség Önkormányzata | E7: Csabrendeki Közös Önkormányzati Hivatal | F7: Mese-domb Óvoda és Bölcsőde | G7: KÖZSZER
A8: 1 | B8: Törvény szerinti illetmények, munkabérek (K1101) | C8: =SUM(D8:G8) -> 181163000 | D8: 38504000 | E8: 53236000 | F8: 46337000 | G8: 43086000
A9: 2 | B9: Normatív jutalmak (K1102) | C9: =SUM(D9:G9) -> 12906000 | D9: 1117000 | E9: 4223000 | F9: 4000000 | G9: 3566000
A10: 3 | B10: Céljuttatás, projektprémium (K1103) | C10: =SUM(D10:G10) -> 0 | E10: 0 | F10: 0
A11: 4 | B11: Készenléti, ügyeleti, helyettesítési díj, túlóra, túlszolgálat (K1104) | C11: =SUM(D11:G11) -> 0 | E11: 0 | F11: 0
A12: 5 | B12: Végkielégítés (K1105) | C12: =SUM(D12:G12) -> 0 | E12: 0 | F12: 0
A13: 6 | B13: Jubileumi jutalom (K1106) | C13: =SUM(D13:G13) -> 3911000 | D13: 0 | E13: 750000 | F13: 3161000
A14: 7 | B14: Béren kívüli juttatások (K1107) | C14: =SUM(D14:G14) -> 1950000 | D14: 0 | E14: 1950000 | F14: 0
A15: 8 | B15: Ruházati költségtérítés (K1108) | C15: =SUM(D15:G15) -> 0 | E15: 0 | F15: 0
A16: 9 | B16: Közlekedési költségtérítés (K1109) | C16: =SUM(D16:G16) -> 812000 | D16: 160000 | E16: 282000 | F16: 270000 | G16: 100000
A17: 10 | B17: Egyéb költségtérítések (K1110) | C17: =SUM(D17:G17) -> 0 | E17: 0 | F17: 0
A18: 11 | B18: Lakhatási támogatások (K1111) | C18: =SUM(D18:G18) -> 0 | E18: 0 | F18: 0
A19: 12 | B19: Szociális támogatások (K1112) | C19: =SUM(D19:G19) -> 0 | E19: 0 | F19: 0
A20: 13 | B20: Foglalkoztatottak egyéb személyi juttatásai (>=14) (K1113) | C20: =SUM(D20:G20) -> 2348000 | D20: 610000 | E20: 558000 | F20: 450000 | G20: 730000
A21: 14 | B21: ebből:biztosítási díjak (K1113) | C21: =SUM(D21:G21) -> 0 | E21: 0 | F21: 0
A22: 15 | B22: Foglalkoztatottak személyi juttatásai (=01+...+13) (K11) | C22: =SUM(D22:G22) -> 203090000 | D22: =SUM(D8:D21) -> 40391000 | E22: =SUM(E8:E21) -> 60999000 | F22: =SUM(F8:F21) -> 54218000 | G22: =SUM(G8:G21) -> 47482000
A23: 16 | B23: Választott tisztségviselők juttatásai (K121) | C23: =SUM(D23:G23) -> 16800000 | D23: 16800000 | E23: 0
A24: 17 | B24: Munkavégzésre irányuló egyéb jogviszonyban nem saját foglalkoztatottnak fizetett juttatások (K122) | C24: =SUM(D24:G24) -> 8713000 | D24: 3980000 | E24: 4440000 | F24: 293000
A25: 18 | B25: Egyéb külső személyi juttatások (K123) | C25: =SUM(D25:G25) -> 7180000 | D25: 6820000 | E25: 250000 | F25: 70000 | G25: 40000
A26: 19 | B26: Külső személyi juttatások (=16+17+18) (K12) | C26: =SUM(D26:G26) -> 32693000 | D26: =SUM(D23:D25) -> 27600000 | E26: =SUM(E23:E25) -> 4690000 | F26: =SUM(F23:F25) -> 363000 | G26: =SUM(G23:G25) -> 40000
A27: 20 | B27: Személyi juttatások összesen (=15+19) (K1) | C27: =SUM(D27:G27) -> 235783000 | D27: =SUM(D26,D22) -> 67991000 | E27: =SUM(E26,E22) -> 65689000 | F27: =F22+F26 -> 54581000 | G27: =SUM(G26,G22) -> 47522000
A28: 21 | B28: Munkaadókat terhelő járulékok és szociális hozzájárulási adó (=22+...+27) (K2) | C28: =SUM(D28:G28) -> 41871700 | D28: =SUM(D29:D34) -> 10372700 | E28: =SUM(E29:E34) -> 12500000 | F28: =SUM(F29:F34) -> 10097000 | G28: =SUM(G29:G34) -> 8902000
A29: 22 | B29: ebből: szociális hozzájárulási adó (K2) | C29: =SUM(D29:G29) -> 39506300 | D29: 9006300 | E29: 11586000 | F29: 10012000 | G29: 8902000
A30: 23 | B30: ebből: rehabilitációs hozzájárulás (K2) | C30: =SUM(D30:G30) -> 0 | D30: 0 | E30: 0 | F30: 0
A31: 24 | B31: ebből: egészségügyi hozzájárulás (K2) | C31: =SUM(D31:G31) -> 1133200 | D31: 605200 | E31: 513000 | F31: 15000
A32: 25 | B32: ebből: táppénz hozzájárulás (K2) | C32: =SUM(D32:G32) -> 455000 | D32: 345000 | E32: 50000 | F32: 60000
A33: 26 | B33: ebből: munkaadót a foglalkoztatottak részére történő kifizetésekkel kapcsolatban terhelő más járulék jellegű kötelezettségek (K2) | C33: =SUM(D33:G33) -> 0 | D33: 0 | E33: 0 | F33: 0
A34: 27 | B34: ebből: munkáltatót terhelő személyi jövedelemadó (K2) | C34: =SUM(D34:G34) -> 777200 | D34: 416200 | E34: 351000 | F34: 10000
A35: 28 | B35: Szakmai anyagok beszerzése (K311) | C35: =SUM(D35:G35) -> 1082000 | D35: 490000 | E35: 30000 | F35: 550000 | G35: 12000
A36: 29 | B36: Üzemeltetési anyagok beszerzése (K312) | C36: =SUM(D36:G36) -> 45358000 | D36: 20586000 | E36: 1147000 | F36: 500000 | G36: 23125000
A37: 30 | B37: Árubeszerzés (K313) | C37: =SUM(D37:G37) -> 0 | D37: 0 | E37: 0 | F37: 0 | G37: 0
A38: 31 | B38: Készletbeszerzés (=28+29+30) (K31) | C38: =SUM(D38:G38) -> 46440000 | D38: =SUM(D35:D37) -> 21076000 | E38: =SUM(E35:E37) -> 1177000 | F38: =SUM(F35:F37) -> 1050000 | G38: =SUM(G35:G37) -> 23137000
A39: 32 | B39: Informatikai szolgáltatások igénybevétele (K321) | C39: =SUM(D39:G39) -> 2275000 | D39: 345000 | E39: 1592000 | F39: 70000 | G39: 268000
A40: 33 | B40: Egyéb kommunikációs szolgáltatások (K322) | C40: =SUM(D40:G40) -> 1075000 | D40: 468000 | E40: 255000 | F40: 80000 | G40: 272000
A41: 34 | B41: Kommunikációs szolgáltatások (=32+33) (K32) | C41: =SUM(D41:G41) -> 3350000 | D41: =SUM(D39:D40) -> 813000 | E41: =SUM(E39:E40) -> 1847000 | F41: =SUM(F39:F40) -> 150000 | G41: =SUM(G39:G40) -> 540000
A42: 35 | B42: Közüzemi díjak (K331) | C42: =SUM(D42:G42) -> 9000000 | D42: 5000000 | E42: 1050000 | F42: 1100000 | G42: 1850000
A43: 36 | B43: Vásárolt élelmezés (K332) | C43: =SUM(D43:G43) -> 100000 | D43: 0 | E43: 0 | F43: 0 | G43: 100000
A44: 37 | B44: Bérleti és lízing díjak (>=38) (K333) | C44: =SUM(D44:G44) -> 2330000 | D44: 2330000 | E44: 0 | F44: 0 | G44: 0
A45: 38 | B45: ebből: a közszféra és a magánszféra együttműködésén (PPP) alapuló szerződéses konstrukció (K333) | C45: =SUM(D45:G45) -> 0 | D45: 0 | E45: 0 | F45: 0 | G45: 0
A46: 39 | B46: Karbantartási, kisjavítási szolgáltatások (K334) | C46: =SUM(D46:G46) -> 3532000 | D46: 2051000 | E46: 30000 | F46: 210000 | G46: 1241000
A47: 40 | B47: Közvetített szolgáltatások (>=41) (K335) | C47: =SUM(D47:G47) -> 8115000 | D47: 7250000 | E47: 50000 | F47: 315000 | G47: 500000
A48: 41 | B48: ebből: államháztartáson belül (K335) | C48: =SUM(D48:G48) -> 0 | D48: 0 | E48: 0 | F48: 0 | G48: 0
A49: 42 | B49: Szakmai tevékenységet segítő szolgáltatások (K336) | C49: =SUM(D49:G49) -> 1816000 | D49: 1245000 | E49: 130000 | F49: 350000 | G49: 91000
A50: 43 | B50: Egyéb szolgáltatások (K337) | C50: =SUM(D50:G50) -> 31825000 | D50: 27884000 | E50: 2232000 | F50: 500000 | G50: 1209000
A51: 44 | B51: ebből: biztosítási díjak (K337) | C51: =SUM(D51:G51) -> 0 | D51: 0 | E51: 0 | F51: 0
A52: 45 | B52: Szolgáltatási kiadások (=35+36+37+39+40+42+43) (K33) | C52: =SUM(D52:G52) -> 56718000 | D52: =SUM(D42:D47,D49:D50) -> 45760000 | E52: =SUM(E42:E47,E49:E50) -> 3492000 | F52: =SUM((F42:F44),(F46:F47),(F49:F50)) -> 2475000 | G52: =SUM(G42:G51) -> 4991000
A53: 46 | B53: Kiküldetések kiadásai (K341) | C53: =SUM(D53:G53) -> 865000 | D53: 300000 | E53: 510000 | F53: 50000 | G53: 5000
A54: 47 | B54: Reklám- és propagandakiadások (K342) | C54: =SUM(D54:G54) -> 0 | D54: 0 | E54: 0 | F54: 0
A55: 48 | B55: Kiküldetések, reklám- és propagandakiadások (=46+47) (K34) | C55: =SUM(D55:G55) -> 865000 | D55: =SUM(D53:D54) -> 300000 | E55: =SUM(E53:E54) -> 510000 | F55: =SUM(F53:F54) -> 50000 | G55: =SUM(G53:G54) -> 5000
A56: 49 | B56: Működési célú előzetesen felszámított általános forgalmi adó (K351) | C56: =SUM(D56:G56) -> 28169000 | D56: 19700000 | E56: 1214000 | F56: 750000 | G56: 6505000
A57: 50 | B57: Fizetendő általános forgalmi adó (K352) | C57: =SUM(D57:G57) -> 39477000 | D57: 35110000 | E57: 0 | F57: 0 | G57: 4367000
A58: 51 | B58: Kamatkiadások (>=52+53) (K353) | C58: =SUM(D58:G58) -> 1000000 | D58: 1000000 | E58: =SUM(E59:E60) -> 0 | F58: =SUM(F59:F60) -> 0 | G58: 0
A59: 52 | B59: ebből: államháztartáson belül (K353) | C59: =SUM(D59:G59) -> 0 | D59: 0 | E59: 0 | F59: 0 | G59: 0
A60: 53 | B60: ebből: fedezeti ügyletek kamatkiadásai (K353) | C60: =SUM(D60:G60) -> 0 | D60: 0 | E60: 0 | F60: 0 | G60: 0
A61: 54 | B61: Egyéb pénzügyi műveletek kiadásai (>=55+...+57) (K354) | C61: =SUM(D61:G61) -> 4000 | D61: 4000 | E61: =SUM(E62:E64) -> 0 | F61: =SUM(F62:F64) -> 0 | G61: 0
A62: 55 | B62: ebből: valuta, deviza eszközök realizált árfolyamvesztesége (K354) | C62: =SUM(D62:G62) -> 0 | D62: 0 | E62: 0 | F62: 0 | G62: 0
A63: 56 | B63: ebből: hitelviszonyt megtestesítő értékpapírok árfolyamkülönbözete (K354) | C63: =SUM(D63:G63) -> 0 | D63: 0 | E63: 0 | F63: 0 | G63: 0
A64: 57 | B64: ebből: deviza kötelezettségek realizált árfolyamvesztesége (K354) | C64: =SUM(D64:G64) -> 0 | D64: 0 | E64: 0 | F64: 0 | G64: 0
A65: 58 | B65: Egyéb dologi kiadások (K355) | C65: =SUM(D65:G65) -> 1204000 | D65: 893000 | E65: 290000 | F65: 8000 | G65: 13000
A66: 59 | B66: Különféle befizetések és egyéb dologi kiadások (=49+50+51+54+58) (K35) | C66: =SUM(D66:G66) -> 69854000 | D66: =SUM(D56,D57,D58,D61,D65) -> 56707000 | E66: =SUM(E56,E57,E58,E61,E65) -> 1504000 | F66: =SUM((F56:F58),(F61,F65)) -> 758000 | G66: =SUM(G56,G57,G58,G61,G65) -> 10885000
A67: 60 | B67: Dologi kiadások (=31+34+45+48+59) (K3) | C67: =SUM(C38,C41,C52,C55,C66) -> 177227000 | D67: =SUM(D38,D41,D52,D55,D66) -> 124656000 | E67: =SUM(E38,E41,E52,E55,E66) -> 8530000 | F67: =SUM(F38,F41,F52,F55,F66) -> 4483000 | G67: =SUM(G38,G41,G52,G55,G66) -> 39558000
A68: 61 | B68: Társadalombiztosítási ellátások (K41) | C68: =SUM(D68:G68) -> 0 | D68: 0 | E68: 0 | F68: 0 | G68: 0
A69: 62 | B69: Családi támogatások (=63+...+72) (K42) | C69: =SUM(D69:G69) -> 843000 | D69: =SUM(D70:D79) -> 843000 | E69: =SUM(E70:E79) -> 0 | F69: =SUM(F70:F79) -> 0 | G69: =SUM(G70:G79) -> 0
A70: 63 | B70: ebből: családi pótlék (K42) | C70: =SUM(D70:G70) -> 0 | D70: 0 | E70: 0 | F70: 0 | G70: 0
A71: 64 | B71: ebből: anyasági támogatás (K42) | C71: =SUM(D71:G71) -> 0 | D71: 0 | E71: 0 | F71: 0 | G71: 0
A72: 65 | B72: ebből: gyermekgondozást segítő ellátás (K42) | C72: =SUM(D72:G72) -> 0 | D72: 0 | E72: 0 | F72: 0 | G72: 0
A73: 66 | B73: ebből: gyermeknevelési támogatás (K42) | C73: =SUM(D73:G73) -> 0 | D73: 0 | E73: 0 | F73: 0 | G73: 0
A74: 67 | B74: ebből: gyermekek születésével kapcsolatos szabadság megtérítése (K42) | C74: =SUM(D74:G74) -> 0 | D74: 0 | E74: 0 | F74: 0 | G74: 0
A75: 68 | B75: ebből: életkezdési támogatás (K42) | C75: =SUM(D75:G75) -> 0 | D75: 0 | E75: 0 | F75: 0 | G75: 0
A76: 69 | B76: ebből: otthonteremtési támogatás (K42) | C76: =SUM(D76:G76) -> 0 | D76: 0 | E76: 0 | F76: 0 | G76: 0
A77: 70 | B77: ebből: gyermektartásdíj megelőlegezése (K42) | C77: =SUM(D77:G77) -> 0 | D77: 0 | E77: 0 | F77: 0 | G77: 0
A78: 71 | B78: ebből: GYES-en és GYED-en lévők hallgatói hitelének célzott támogatása (K42) | C78: =SUM(D78:G78) -> 0 | D78: 0 | E78: 0 | F78: 0 | G78: 0
A79: 72 | B79: ebből: az egyéb pénzbeli és természetbeni gyermekvédelmi támogatások (K42) | C79: =SUM(D79:G79) -> 843000 | D79: 843000 | E79: 0 | F79: 0 | G79: 0
A80: 73 | B80: Pénzbeli kárpótlások, kártérítések (K43) | C80: =SUM(D80:G80) -> 0 | D80: 0 | E80: 0 | F80: 0 | G80: 0
A81: 74 | B81: Betegséggel kapcsolatos (nem társadalombiztosítási) ellátások (=75+...+82) (K44) | C81: =SUM(D81:G81) -> 0 | D81: 0 | E81: =SUM(E82:E89) -> 0 | F81: =SUM(F82:F89) -> 0 | G81: =SUM(G82:G89) -> 0
A82: 75 | B82: ebből: ápolási díj (K44) | C82: =SUM(D82:G82) -> 0 | D82: 0 | E82: 0 | F82: 0 | G82: 0
A83: 76 | B83: ebből: fogyatékossági támogatás és vakok személyi járadéka (K44) | C83: =SUM(D83:G83) -> 0 | D83: 0 | E83: 0 | F83: 0 | G83: 0
A84: 77 | B84: ebből: kivételes rokkantsági ellátás (K44) | D84: 0 | E84: 0 | F84: 0 | G84: 0
A85: 78 | B85: ebből: mozgáskorlátozottak szerzési és átalakítási támogatása (K44) | C85: =SUM(D85:G85) -> 0 | D85: 0 | E85: 0 | F85: 0 | G85: 0
A86: 79 | B86: ebből: megváltozott munkaképességűek illetve egészségkárosodottak kereset-kiegészítése (K44) | C86: =SUM(D86:G86) -> 0 | D86: 0 | E86: 0 | F86: 0 | G86: 0
A87: 80 | B87: ebből: közgyógyellátás [Szoctv.50.§ (1)-(2) bekezdése] (K44) | C87: =SUM(D87:G87) -> 0 | D87: 0 | E87: 0 | F87: 0 | G87: 0
A88: 81 | B88: ebből: cukorbetegek támogatása (K44) | C88: =SUM(D88:G88) -> 0 | D88: 0 | E88: 0 | F88: 0 | G88: 0
A89: 82 | B89: ebből: egészségügyi szolgáltatásra való jogosultság szociális rászorultság alapján [Szoctv.54.§-a] (K44) | C89: =SUM(D89:G89) -> 0 | D89: 0 | E89: 0 | F89: 0 | G89: 0
A90: 83 | B90: Foglalkoztatással, munkanélküliséggel kapcsolatos ellátások (=84+...+91) (K45) | C90: =SUM(D90:G90) -> 0 | D90: 0 | E90: =SUM(E91:E98) -> 0 | F90: =SUM(F91:F98) -> 0 | G90: =SUM(G91:G98) -> 0
A91: 84 | B91: ebből: a Nemzeti Foglalkoztatási Alapból folyósított passzív, ellátási típusú támogatások, így különösen az álláskeresési járadék, a nyugdíj előtti álláskeresési segély, valamint az ellátások megállapításával kapcsolatos utiköltség-térítés (K45) | C91: =SUM(D91:G91) -> 0 | D91: 0 | E91: 0 | F91: 0 | G91: 0
A92: 85 | B92: ebből: korhatár előtti ellátás és a fegyveres testületek volt tagjai szolgálati járandósága (K45) | C92: =SUM(D92:G92) -> 0 | D92: 0 | E92: 0 | F92: 0 | G92: 0
A93: 86 | B93: ebből: átmeneti bányászjáradék (K45) | C93: =SUM(D93:G93) -> 0 | D93: 0 | E93: 0 | F93: 0 | G93: 0
A94: 87 | B94: ebből: szénjárandóság pénzbeli megváltása (K45) | C94: =SUM(D94:G94) -> 0 | D94: 0 | E94: 0 | F94: 0 | G94: 0
A95: 88 | B95: ebből: mecseki bányászatban munkát végzők bányászati kereset-kiegészítése (K45) | C95: =SUM(D95:G95) -> 0 | D95: 0 | E95: 0 | F95: 0 | G95: 0
A96: 89 | B96: ebből: mezőgazdasági járadék (K45) | C96: =SUM(D96:G96) -> 0 | D96: 0 | E96: 0 | F96: 0 | G96: 0
A97: 90 | B97: ebből: foglalkoztatást helyettesítő támogatás [Szoctv. 35. § (1) bek.] (K45) | C97: =SUM(D97:G97) -> 0 | D97: 0 | E97: 0 | F97: 0 | G97: 0
A98: 91 | B98: ebből: polgármesterek korhatár előtti ellátása (K45) | C98: =SUM(D98:G98) -> 0 | D98: 0 | E98: 0 | F98: 0 | G98: 0
A99: 92 | B99: Lakhatással kapcsolatos ellátások (=93+94) (K46) | C99: =SUM(D99:G99) -> 0 | D99: 0 | E99: =SUM(E100:E101) -> 0 | F99: =SUM(F100:F101) -> 0 | G99: =SUM(G100:G101) -> 0
A100: 93 | B100: ebből: hozzájárulás a lakossági energiaköltségekhez (K46) | C100: =SUM(D100:G100) -> 0 | D100: 0 | E100: 0 | F100: 0 | G100: 0
A101: 94 | B101: ebből: lakbértámogatás (K46) | C101: =SUM(D101:G101) -> 0 | D101: 0 | E101: 0 | F101: 0 | G101: 0
...

Sheet 2
A1: 2. melléklet Csabrendek Nagyközség Önkormányzata Képviselő-testületének 1/2019. (I.28.) rendeletéhez
A2: "2. melléklet Csabrendek Nagyközség Önkormányzata Képviselő-testületének 1/2019. (I. 30.) rendeletéhez"
A4: 2019. évi Költségvetési bevételek
A5: 1 | B5: 2 | C5: 3 | D5: 4 | E5: 5 | F5: 6 | G5: 7
C6: Eredeti előirányzat
C7: Önkormányzat összesen | D7: Csabrendek Nagyközség Önkormányzata | E7: Csabrendeki Közös Önkormányzati Hivatal | F7: Mese-domb Óvoda és Bölcsőde | G7: KÖZSZER
A8: 1 | B8: Helyi önkormányzatok működésének általános támogatása (B111) | C8: =SUM(D8,E8,F8,G8) -> 119908558 | D8: 119908558 | E8: 0 | F8: 0 | G8: 0
A9: 2 | B9: Települési önkormányzatok egyes köznevelési feladatainak támogatása (B112) | C9: =SUM(D9,E9,F9,G9) -> 57386666 | D9: 57386666 | E9: 0 | F9: 0 | G9: 0
A10: 3 | B10: Települési önkormányzatok szociális, gyermekjóléti és gyermekétkeztetési feladatainak támogatása (B113) | C10: =SUM(D10,E10,F10,G10) -> 81562984 | D10: 81562984 | E10: 0 | F10: 0 | G10: 0
A11: 4 | B11: Települési önkormányzatok kulturális feladatainak támogatása (B114) | C11: =SUM(D11,E11,F11,G11) -> 3701390 | D11: 3701390 | E11: 0 | F11: 0 | G11: 0
A12: 5 | B12: Működési célú költségvetési támogatások és kiegészítő támogatások (B115) | C12: =SUM(D12,E12,F12,G12) -> 0 | D12: 0 | E12: 0 | F12: 0 | G12: 0
A13: 6 | B13: Elszámolásból származó bevételek (B116) | C13: =SUM(D13,E13,F13,G13) -> 0 | D13: 0 | E13: 0 | F13: 0 | G13: 0
A14: 7 | B14: Önkormányzatok működési támogatásai (=01+...+06) (B11) | C14: =SUM(D14,E14,F14,G14) -> 262559598 | D14: =SUM(D8:D13) -> 262559598 | E14: =SUM(E8:E13) -> 0 | F14: =SUM(F8:F13) -> 0 | G14: =SUM(G8:G13) -> 0
A15: 8 | B15: Elvonások és befizetések bevételei (B12) | C15: =SUM(D15,E15,F15,G15) -> 0 | D15: 0 | E15: 0 | F15: 0 | G15: 0
A16: 9 | B16: Működési célú garancia- és kezességvállalásból származó megtérülések államháztartáson belülről (B13) | C16: =SUM(D16,E16,F16,G16) -> 0 | D16: 0 | E16: 0 | F16: 0 | G16: 0
A17: 10 | B17: Működési célú visszatérítendő támogatások, kölcsönök visszatérülése államháztartáson belülről (=11+...+20) (B14) | C17: =SUM(D17,E17,F17,G17) -> 0 | D17: =SUM(D18:D27) -> 0 | E17: =SUM(E18:E27) -> 0 | F17: =SUM(F18:F27) -> 0 | G17: =SUM(G18:G27) -> 0
A18: 11 | B18: ebből: központi költségvetési szervek (B14) | C18: =SUM(D18,E18,F18,G18) -> 0 | D18: 0 | E18: 0 | F18: 0 | G18: 0
A19: 12 | B19: ebből: központi kezelésű előirányzatok (B14) | C19: =SUM(D19,E19,F19,G19) -> 0 | D19: 0 | E19: 0 | F19: 0 | G19: 0
A20: 13 | B20: ebből: fejezeti kezelésű előirányzatok EU-s programokra és azok hazai társfinanszírozása (B14) | C20: =SUM(D20,E20,F20,G20) -> 0 | D20: 0 | E20: 0 | F20: 0 | G20: 0
A21: 14 | B21: ebből: egyéb fejezeti kezelésű előirányzatok (B14) | C21: =SUM(D21,E21,F21,G21) -> 0 | D21: 0 | E21: 0 | F21: 0 | G21: 0
A22: 15 | B22: ebből: társadalombiztosítás pénzügyi alapjai (B14) | C22: =SUM(D22,E22,F22,G22) -> 0 | D22: 0 | E22: 0 | F22: 0 | G22: 0
A23: 16 | B23: ebből: elkülönített állami pénzalapok (B14) | C23: =SUM(D23,E23,F23,G23) -> 0 | D23: 0 | E23: 0 | F23: 0 | G23: 0
A24: 17 | B24: ebből: helyi önkormányzatok és költségvetési szerveik (B14) | C24: =SUM(D24,E24,F24,G24) -> 0 | D24: 0 | E24: 0 | F24: 0 | G24: 0
A25: 18 | B25: ebből: társulások és költségvetési szerveik (B14) | C25: =SUM(D25,E25,F25,G25) -> 0 | D25: 0 | E25: 0 | F25: 0 | G25: 0
A26: 19 | B26: ebből: nemzetiségi önkormányzatok és költségvetési szerveik (B14) | C26: =SUM(D26,E26,F26,G26) -> 0 | D26: 0 | E26: 0 | F26: 0 | G26: 0
A27: 20 | B27: ebből: térségi fejlesztési tanácsok és költségvetési szerveik (B14) | C27: =SUM(D27,E27,F27,G27) -> 0 | D27: 0 | E27: 0 | F27: 0 | G27: 0
A28: 21 | B28: Működési célú visszatérítendő támogatások, kölcsönök igénybevétele államháztartáson belülről (=22+...+31) (B15) | C28: =SUM(D28,E28,F28,G28) -> 0 | D28: =SUM(D29:D38) -> 0 | E28: =SUM(E29:E38) -> 0 | F28: =SUM(F29:F38) -> 0 | G28: =SUM(G29:G38) -> 0
A29: 22 | B29: ebből: központi költségvetési szervek (B15) | C29: =SUM(D29,E29,F29,G29) -> 0 | D29: 0 | E29: 0 | F29: 0 | G29: 0
A30: 23 | B30: ebből: központi kezelésű előirányzatok (B15) | C30: =SUM(D30,E30,F30,G30) -> 0 | D30: 0 | E30: 0 | F30: 0 | G30: 0
A31: 24 | B31: ebből: fejezeti kezelésű előirányzatok EU-s programokra és azok hazai társfinanszírozása (B15) | C31: =SUM(D31,E31,F31,G31) -> 0 | D31: 0 | E31: 0 | F31: 0 | G31: 0
A32: 25 | B32: ebből: egyéb fejezeti kezelésű előirányzatok (B15) | C32: =SUM(D32,E32,F32,G32) -> 0 | D32: 0 | E32: 0 | F32: 0 | G32: 0
A33: 26 | B33: ebből: társadalombiztosítás pénzügyi alapjai (B15) | C33: =SUM(D33,E33,F33,G33) -> 0 | D33: 0 | E33: 0 | F33: 0 | G33: 0
A34: 27 | B34: ebből: elkülönített állami pénzalapok (B15) | C34: =SUM(D34,E34,F34,G34) -> 0 | D34: 0 | E34: 0 | F34: 0 | G34: 0
A35: 28 | B35: ebből: helyi önkormányzatok és költségvetési szerveik (B15) | C35: =SUM(D35,E35,F35,G35) -> 0 | D35: 0 | E35: 0 | F35: 0 | G35: 0
A36: 29 | B36: ebből: társulások és költségvetési szerveik (B15) | C36: =SUM(D36,E36,F36,G36) -> 0 | D36: 0 | E36: 0 | F36: 0 | G36: 0
A37: 30 | B37: ebből: nemzetiségi önkormányzatok és költségvetési szerveik (B15) | C37: =SUM(D37,E37,F37,G37) -> 0 | D37: 0 | E37: 0 | F37: 0 | G37: 0
A38: 31 | B38: ebből: térségi fejlesztési tanácsok és költségvetési szerveik (B15) | C38: =SUM(D38,E38,F38,G38) -> 0 | D38: 0 | E38: 0 | F38: 0 | G38: 0
A39: 32 | B39: Egyéb működési célú támogatások bevételei államháztartáson belülről (=33+...+42) (B16) | C39: =SUM(D39,E39,F39,G39) -> 137086800 | D39: =SUM(D40:D49) -> 129152800 | E39: =SUM(E40:E49) -> 7582000 | F39: =SUM(F40:F49) -> 0 | G39: =SUM(G40,G41,G42,G43,G44,G45,G46,G47,G48,G49) -> 352000
A40: 33 | B40: ebből: központi költségvetési szervek (B16) | C40: =SUM(D40,E40,F40,G40) -> 0 | D40: 0 | E40: 0 | F40: 0 | G40: 0
A41: 34 | B41: ebből: központi kezelésű előirányzatok (B16) | C41: =SUM(D41,E41,F41,G41) -> 843000 | D41: 843000 | E41: 0 | F41: 0 | G41: 0
A42: 35 | B42: ebből: fejezeti kezelésű előirányzatok EU-s programokra és azok hazai társfinanszírozása (B16) | C42: =SUM(D42,E42,F42,G42) -> 42400000 | D42: 42400000 | E42: 0 | F42: 0 | G42: 0
A43: 36 | B43: ebből: egyéb fejezeti kezelésű előirányzatok (B16) | C43: =SUM(D43,E43,F43,G43) -> 51912800 | D43: 45560800 | E43: 6000000 | F43: 0 | G43: 352000
A44: 37 | B44: ebből: társadalombiztosítás pénzügyi alapjai (B16) | C44: =SUM(D44,E44,F44,G44) -> 5035200 | D44: 5035200 | E44: 0 | F44: 0 | G44: 0
A45: 38 | B45: ebből: elkülönített állami pénzalapok (B16) | C45: =SUM(D45,E45,F45,G45) -> 32063800 | D45: 30481800 | E45: 1582000 | F45: 0 | G45: 0
A46: 39 | B46: ebből: helyi önkormányzatok és költségvetési szerveik (B16) | C46: =SUM(D46,E46,F46,G46) -> 4832000 | D46: 4832000 | E46: 0 | F46: 0 | G46: 0
A47: 40 | B47: ebből: társulások és költségvetési szerveik (B16) | C47: =SUM(D47,E47,F47,G47) -> 0 | D47: 0 | E47: 0 | F47: 0 | G47: 0
A48: 41 | B48: ebből: nemzetiségi önkormányzatok és költségvetési szerveik (B16) | C48: =SUM(D48,E48,F48,G48) -> 0 | D48: 0 | E48: 0 | F48: 0 | G48: 0
A49: 42 | B49: ebből: térségi fejlesztési tanácsok és költségvetési szerveik (B16) | C49: =SUM(D49,E49,F49,G49) -> 0 | D49: 0 | E49: 0 | F49: 0 | G49: 0
A50: 43 | B50: Működési célú támogatások államháztartáson belülről (=07+...+10+21+32) (B1) | C50: =SUM(D50,E50,F50,G50) -> 399646398 | D50: =SUM(D14,D15,D16,D17,D28,D39) -> 391712398 | E50: =SUM(E14,E15,E16,E17,E28,E39) -> 7582000 | F50: =SUM(F14,F15,F16,F17,F28,F39) -> 0 | G50: =SUM(G14,G15,G16,G17,G28,G39) -> 352000
A51: 44 | B51: Felhalmozási célú önkormányzati támogatások (B21) | C51: =SUM(D51,E51,F51,G51) -> 0 | D51: 0 | E51: 0 | F51: 0 | G51: 0
A52: 45 | B52: Felhalmozási célú garancia- és kezességvállalásból származó megtérülések államháztartáson belülről (B22) | C52: =SUM(D52,E52,F52,G52) -> 0 | D52: 0 | E52: 0 | F52: 0 | G52: 0
A53: 46 | B53: Felhalmozási célú visszatérítendő támogatások, kölcsönök visszatérülése államháztartáson belülről (=47+...+56) (B23) | C53: =SUM(D53,E53,F53,G53) -> 0 | D53: =SUM(D54:D63) -> 0 | E53: =SUM(E54:E63) -> 0 | F53: =SUM(F54:F63) -> 0 | G53: =SUM(G54:G63) -> 0
A54: 47 | B54: ebből: központi költségvetési szervek (B23) | C54: =SUM(D54,E54,F54,G54) -> 0 | D54: 0 | E54: 0 | F54: 0 | G54: 0
A55: 48 | B55: ebből: központi kezelésű előirányzatok (B23) | C55: =SUM(D55,E55,F55,G55) -> 0 | D55: 0 | E55: 0 | F55: 0 | G55: 0
A56: 49 | B56: ebből: fejezeti kezelésű előirányzatok EU-s programokra és azok hazai társfinanszírozása (B23) | C56: =SUM(D56,E56,F56,G56) -> 0 | D56: 0 | E56: 0 | F56: 0 | G56: 0
A57: 50 | B57: ebből: egyéb fejezeti kezelésű előirányzatok (B23) | C57: =SUM(D57,E57,F57,G57) -> 0 | D57: 0 | E57: 0 | F57: 0 | G57: 0
A58: 51 | B58: ebből: társadalombiztosítás pénzügyi alapjai (B23) | C58: =SUM(D58,E58,F58,G58) -> 0 | D58: 0 | E58: 0 | F58: 0 | G58: 0
A59: 52 | B59: ebből: elkülönített állami pénzalapok (B23) | C59: =SUM(D59,E59,F59,G59) -> 0 | D59: 0 | E59: 0 | F59: 0 | G59: 0
A60: 53 | B60: ebből: helyi önkormányzatok és költségvetési szerveik (B23) | C60: =SUM(D60,E60,F60,G60) -> 0 | D60: 0 | E60: 0 | F60: 0 | G60: 0
A61: 54 | B61: ebből: társulások és költségvetési szerveik (B23) | C61: =SUM(D61,E61,F61,G61) -> 0 | D61: 0 | E61: 0 | F61: 0 | G61: 0
A62: 55 | B62: ebből: nemzetiségi önkormányzatok és költségvetési szerveik (B23) | C62: =SUM(D62,E62,F62,G62) -> 0 | D62: 0 | E62: 0 | F62: 0 | G62: 0
A63: 56 | B63: ebből: térségi fejlesztési tanácsok és költségvetési szerveik (B23) | C63: =SUM(D63,E63,F63,G63) -> 0 | D63: 0 | E63: 0 | F63: 0 | G63: 0
A64: 57 | B64: Felhalmozási célú visszatérítendő támogatások, kölcsönök igénybevétele államháztartáson belülről (=58+...+67) (B24) | C64: =SUM(D64,E64,F64,G64) -> 0 | D64: =SUM(D65:D74) -> 0 | E64: =SUM(E65:E74) -> 0 | F64: =SUM(F65:F74) -> 0 | G64: =SUM(G65:G74) -> 0
A65: 58 | B65: ebből: központi költségvetési szervek (B24) | C65: =SUM(D65,E65,F65,G65) -> 0 | D65: 0 | E65: 0 | F65: 0 | G65: 0
A66: 59 | B66: ebből: központi kezelésű előirányzatok (B24) | C66: =SUM(D66,E66,F66,G66) -> 0 | D66: 0 | E66: 0 | F66: 0 | G66: 0
A67: 60 | B67: ebből: fejezeti kezelésű előirányzatok EU-s programokra és azok hazai társfinanszírozása (B24) | C67: =SUM(D67,E67,F67,G67) -> 0 | D67: 0 | E67: 0 | F67: 0 | G67: 0
A68: 61 | B68: ebből: egyéb fejezeti kezelésű előirányzatok (B24) | C68: =SUM(D68,E68,F68,G68) -> 0 | D68: 0 | E68: 0 | F68: 0 | G68: 0
A69: 62 | B69: ebből: társadalombiztosítás pénzügyi alapjai (B24) | C69: =SUM(D69,E69,F69,G69) -> 0 | D69: 0 | E69: 0 | F69: 0 | G69: 0
A70: 63 | B70: ebből: elkülönített állami pénzalapok (B24) | C70: =SUM(D70,E70,F70,G70) -> 0 | D70: 0 | E70: 0 | F70: 0 | G70: 0
A71: 64 | B71: ebből: helyi önkormányzatok és költségvetési szerveik (B24) | C71: =SUM(D71,E71,F71,G71) -> 0 | D71: 0 | E71: 0 | F71: 0 | G71: 0
A72: 65 | B72: ebből: társulások és költségvetési szerveik (B24) | C72: =SUM(D72,E72,F72,G72) -> 0 | D72: 0 | E72: 0 | F72: 0 | G72: 0
A73: 66 | B73: ebből: nemzetiségi önkormányzatok és költségvetési szerveik (B24) | C73: =SUM(D73,E73,F73,G73) -> 0 | D73: 0 | E73: 0 | F73: 0 | G73: 0
A74: 67 | B74: ebből: térségi fejlesztési tanácsok és költségvetési szerveik (B24) | C74: =SUM(D74,E74,F74,G74) -> 0 | D74: 0 | E74: 0 | F74: 0 | G74: 0
A75: 68 | B75: Egyéb felhalmozási célú támogatások bevételei államháztartáson belülről (=69+...+78) (B25) | C75: =SUM(D75,E75,F75,G75) -> 73090000 | D75: =SUM(D76:D85) -> 73090000 | E75: =SUM(E76:E85) -> 0 | F75: =SUM(F76:F85) -> 0 | G75: =SUM(G76:G85) -> 0
A76: 69 | B76: ebből: központi költségvetési szervek (B25) | C76: =SUM(D76,E76,F76,G76) -> 0 | D76: 0 | E76: 0 | F76: 0 | G76: 0
A77: 70 | B77: ebből: központi kezelésű előirányzatok (B25) | C77: =SUM(D77,E77,F77,G77) -> 0 | D77: 0 | E77: 0 | F77: 0 | G77: 0
A78: 71 | B78: ebből: fejezeti kezelésű előirányzatok EU-s programokra és azok hazai társfinanszírozása (B25) | C78: =SUM(D78,E78,F78,G78) -> 72905000 | D78: 72905000 | E78: 0 | F78: 0 | G78: 0
A79: 72 | B79: ebből: egyéb fejezeti kezelésű előirányzatok (B25) | C79: =SUM(D79,E79,F79,G79) -> 0 | D79: 0 | E79: 0 | F79: 0 | G79: 0
A80: 73 | B80: ebből: társadalombiztosítás pénzügyi alapjai (B25) | C80: =SUM(D80,E80,F80,G80) -> 0 | D80: 0 | E80: 0 | F80: 0 | G80: 0
A81: 74 | B81: ebből: elkülönített állami pénzalapok (B25) | C81: =SUM(D81,E81,F81,G81) -> 185000 | D81: 185000 | E81: 0 | F81: 0 | G81: 0
A82: 75 | B82: ebből: helyi önkormányzatok és költségvetési szerveik (B25) | C82: =SUM(D82,E82,F82,G82) -> 0 | D82: 0 | E82: 0 | F82: 0 | G82: 0
A83: 76 | B83: ebből: társulások és költségvetési szerveik (B25) | C83: =SUM(D83,E83,F83,G83) -> 0 | D83: 0 | E83: 0 | F83: 0 | G83: 0
A84: 77 | B84: ebből: nemzetiségi önkormányzatok és költségvetési szerveik (B25) | C84: =SUM(D84,E84,F84,G84) -> 0 | D84: 0 | E84: 0 | F84: 0 | G84: 0
A85: 78 | B85: ebből: térségi fejlesztési tanácsok és költségvetési szerveik (B25) | C85: =SUM(D85,E85,F85,G85) -> 0 | D85: 0 | E85: 0 | F85: 0 | G85: 0
A86: 79 | B86: Felhalmozási célú támogatások államháztartáson belülről (=44+45+46+57+68) (B2) | C86: =SUM(D86,E86,F86,G86) -> 73090000 | D86: =SUM(D51,D52,D53,D64,D75) -> 73090000 | E86: =SUM(E51,E52,E53,E64,E75) -> 0 | F86: =SUM(F51,F52,F53,F64,F75) -> 0 | G86: =SUM(G51,G52,G53,G64,G75) -> 0
A87: 80 | B87: Magánszemélyek jövedelemadói (=81+82+83) (B311) | C87: =SUM(D87,E87,F87,G87) -> 0 | D87: =SUM(D88:D90) -> 0 | E87: =SUM(E88:E90) -> 0 | F87: =SUM(F88:F90) -> 0 | G87: =SUM(G88:G90) -> 0
A88: 81 | B88: ebből: személyi jövedelemadó (B311) | C88: =SUM(D88,E88,F88,G88) -> 0 | D88: 0 | E88: 0 | F88: 0 | G88: 0
A89: 82 | B89: ebből: magánszemély jogviszonyának megszűnéséhez kapcsolódó egyes jövedelmek különadója (B311) | C89: =SUM(D89,E89,F89,G89) -> 0 | D89: 0 | E89: 0 | F89: 0 | G89: 0
A90: 83 | B90: ebből: termőföld bérbeadásából származó jövedelem utáni személyi jövedelemadó (B311) | C90: =SUM(D90,E90,F90,G90) -> 0 | D90: 0 | E90: 0 | F90: 0 | G90: 0
A91: 84 | B91: Társaságok jövedelemadói (=85+...+92) (B312) | C91: =SUM(D91,E91,F91,G91) -> 0 | D91: =SUM(D92:D99) -> 0 | E91: =SUM(E92:E99) -> 0 | F91: =SUM(F92:F99) -> 0 | G91: =SUM(G92:G99) -> 0
A92: 85 | B92: ebből: társasági adó (B312) | C92: =SUM(D92,E92,F92,G92) -> 0 | D92: 0 | E92: 0 | F92: 0 | G92: 0
A93: 86 | B93: ebből: társas vállalkozások különadója (B312) | C93: =SUM(D93,E93,F93,G93) -> 0 | D93: 0 | E93: 0 | F93: 0 | G93: 0
A94: 87 | B94: ebből: hitelintézetek és pénzügyi vállalkozások különadója (B312) | C94: =SUM(D94,E94,F94,G94) -> 0 | D94: 0 | E94: 0 | F94: 0 | G94: 0
A95: 88 | B95: ebből: hiteintézeti járadék (B312) | C95: =SUM(D95,E95,F95,G95) -> 0 | D95: 0 | E95: 0 | F95: 0 | G95: 0
A96: 89 | B96: ebből: pénzügyi szervezetek különadója (B312) | C96: =SUM(D96,E96,F96,G96) -> 0 | D96: 0 | E96: 0 | F96: 0 | G96: 0
A97: 90 | B97: ebből: energiaellátók jövedelemadója (B312) | C97: =SUM(D97,E97,F97,G97) -> 0 | D97: 0 | E97: 0 | F97: 0 | G97: 0
A98: 91 | B98: ebből: kisvállalati adó (B312) | C98: =SUM(D98,E98,F98,G98) -> 0 | D98: 0 | E98: 0 | F98: 0 | G98: 0
A99: 92 | B99: ebből: kisadózó vállalkozások tételes adója (B312) | C99: =SUM(D99,E99,F99,G99) -> 0 | D99: 0 | E99: 0 | F99: 0 | G99: 0
A100: 93 | B100: Jövedelemadók (=80+84) (B31) | C100: =SUM(D100,E100,F100,G100) -> 0 | D100: =SUM(D87,D91) -> 0 | E100: =SUM(E87,E91) -> 0 | F100: =SUM(F87,F91) -> 0 | G100: =SUM(G87,G91) -> 0
A101: 94 | B101: Szociális hozzájárulási adó és járulékok (=95+...+103) (B32) | C101: =SUM(D101,E101,F101,G101) -> 0 | D101: =SUM(D102:D110) -> 0 | E101: =SUM(E102:E110) -> 0 | F101: =SUM(F102:F110) -> 0 | G101: =SUM(G102:G110) -> 0
...

Sheet 3
A1: 3. melléklet Csabrendek Nagyközség Önkormányzata Képviselő-testületének 1/2019. (I.28.) rendeletéhez
A2: "3. melléklet Csabrendek Nagyközség Önkormányzata Képviselő-testületének 1/2018. (I. 30.) rendeletéhez"
A4: 2019. évi Finanszírozási kiadások
A5: 1 | B5: 2 | C5: 3 | D5: 4 | E5: 5 | F5: 6 | G5: 7
C6: Eredeti előirányzat
C7: Önkormányzat összesen | D7: Csabrendek Nagyközség Önkormányzata | E7: Csabrendeki Közös Önkormányzati Hivatal | F7: Mese-domb Óvoda és Bölcsőde | G7: KÖZSZER
A8: 1 | B8: Hosszú lejáratú hitelek, kölcsönök törlesztése pénzügyi vállalkozásnak (>=02) (K9111) | C8: =SUM(D8:G8) -> 8000000 | D8: 8000000 | E8: 0 | F8: 0 | G8: 0
A9: 2 | B9: ebből: fedezeti ügyletek nettó kiadásai (K9111) | C9: =SUM(D9:G9) -> 0 | D9: ----
A10: 3 | B10: Likviditási célú hitelek, kölcsönök törlesztése pénzügyi vállalkozásnak (K9112) | C10: =SUM(D10:G10) -> 0 | D10: 0
A11: 4 | B11: Rövid lejáratú hitelek, kölcsönök törlesztése pénzügyi vállalkozásnak (>=05) (K9113) | C11: =SUM(D11:G11) -> 0 | D11: 0
A12: 5 | B12: ebből: fedezeti ügyletek nettó kiadásai (K9113) | C12: =SUM(D12:G12) -> 0 | D12: ----
A13: 6 | B13: Hitel-, kölcsöntörlesztés államháztartáson kívülre (=01+03+04) (K911) | C13: =SUM(D13:G13) -> 8000000 | D13: =D8+D10+D11 -> 8000000 | E13: =SUM(E8,E10,E11) -> 0 | F13: =SUM(F8,F10,F11) -> 0 | G13: =SUM(G8,G10,G11) -> 0
A14: 7 | B14: Forgatási célú belföldi értékpapírok vásárlása (>=08+09) (K9121) | C14: =SUM(D14:G14) -> 0 | D14: 0
A15: 8 | B15: ebből: befektetési jegyek (K9121) | C15: =SUM(D15:G15) -> 0 | D15: ----
A16: 9 | B16: ebből: kárpótlási jegyek (K9121) | C16: =SUM(D16:G16) -> 0 | D16: ----
A17: 10 | B17: Befektetési célú belföldi értékpapírok vásárlása (K9122) | C17: =SUM(D17:G17) -> 0 | D17: 0
A18: 11 | B18: Kincstárjegyek beváltása (K9123) | C18: =SUM(D18:G18) -> 0 | D18: 0
A19: 12 | B19: Éven belüli lejáratú belföldi értékpapírok beváltása (>=13+14+15) (K9124) | C19: =SUM(D19:G19) -> 0 | D19: 0
A20: 13 | B20: ebből: fedezeti ügyletek nettó kiadásai (K9124) | C20: =SUM(D20:G20) -> 0 | D20: ----
A21: 14 | B21: ebből: befektetési jegyek (K9124) | C21: =SUM(D21:G21) -> 0 | D21: ----
A22: 15 | B22: ebből: kárpótlási jegyek (K9124) | C22: =SUM(D22:G22) -> 0 | D22: ----
A23: 16 | B23: Belföldi kötvények beváltása (K9125) | C23: =SUM(D23:G23) -> 0 | D23: 0
A24: 17 | B24: Éven túli lejáratú belföldi értékpapírok beváltása (>=18) (K9126) | C24: =SUM(D24:G24) -> 0 | D24: 0
A25: 18 | B25: ebből: fedezeti ügyletek nettó kiadásai (K9126) | C25: =SUM(D25:G25) -> 0 | D25: ----
A26: 19 | B26: Belföldi értékpapírok kiadásai (=07+10+11+12+16+17) (K912) | C26: =SUM(D26:G26) -> 0 | D26: =D14+D17+D18+D19+D23+D24 -> 0
A27: 20 | B27: Államháztartáson belüli megelőlegezések folyósítása (K913) | C27: =SUM(D27:G27) -> 0 | D27: 0
A28: 21 | B28: Államháztartáson belüli megelőlegezések visszafizetése (K914) | C28: =SUM(D28:G28) -> 20000000 | D28: 20000000 | E28: 0 | F28: 0 | G28: 0
A29: 22 | B29: Központi, irányító szervi támogatások folyósítása (K915) | C29: =SUM(D29:G29) -> 218602898 | D29: 218602898 | E29: 0 | F29: 0 | G29: 0
A30: 23 | B30: Pénzeszközök lekötött bankbetétként elhelyezése (K916) | C30: =SUM(D30:G30) -> 0 | D30: 0
A31: 24 | B31: Pénzügyi lízing kiadásai (K917) | C31: =SUM(D31:G31) -> 0 | D31: 0
A32: 25 | B32: Központi költségvetés sajátos finanszírozási kiadásai (K918) | C32: =SUM(D32:G32) -> 0 | D32: 0
A33: 26 | B33: Hosszú lejáratú tulajdonosi kölcsönök kiadásai (K9191) | C33: =SUM(D33:G33) -> 0 | D33: 0
A34: 27 | B34: Rövid lejáratú tulajdonosi kölcsönök kiadásai (K9192) | C34: =SUM(D34:G34) -> 0 | D34: 0
A35: 28 | B35: Tulajdonosi kölcsönök kiadásai (=26+27) (K919) | C35: =SUM(D35:G35) -> 0 | D35: =SUM(D33:D34) -> 0
A36: 29 | B36: Belföldi finanszírozás kiadásai (=06+19+...+25+28) (K91) | C36: =SUM(D36:G36) -> 246602898 | D36: =D13+D26+D27+D28+D29+D30+D31+D32+D35 -> 246602898 | E36: =E13+E26+E27+E28+E29+E30+E31+E32+E35 -> 0 | F36: =F13+F26+F27+F28+F29+F30+F31+F32+F35 -> 0 | G36: =G13+G26+G27+G28+G29+G30+G31+G32+G35 -> 0
A37: 30 | B37: Forgatási célú külföldi értékpapírok vásárlása (K921) | C37: =SUM(D37:G37) -> 0 | D37: 0 | E37: 0 | F37: 0 | G37: 0
A38: 31 | B38: Befektetési célú külföldi értékpapírok vásárlása (K922) | C38: =SUM(D38:G38) -> 0 | D38: 0 | E38: 0 | F38: 0 | G38: 0
A39: 32 | B39: Külföldi értékpapírok beváltása (>=33) (K923) | C39: =SUM(D39:G39) -> 0 | D39: 0 | E39: 0 | F39: 0 | G39: 0
A40: 33 | B40: ebből: fedezeti ügyletek nettó kiadásai (K923) | C40: =SUM(D40:G40) -> 0 | D40: 0 | E40: 0 | F40: 0 | G40: 0
A41: 34 | B41: Hitelek, kölcsönök törlesztése külföldi kormányoknak és nemzetközi szervezeteknek (K924) | C41: =SUM(D41:G41) -> 0 | D41: 0 | E41: 0 | F41: 0 | G41: 0
A42: 35 | B42: Hitelek, kölcsönök törlesztése külföldi pénzintézeteknek (>=36) (K925) | C42: =SUM(D42:G42) -> 0 | D42: 0 | E42: 0 | F42: 0 | G42: 0
A43: 36 | B43: ebből: fedezeti ügyletek nettó kiadásai (K925) | C43: =SUM(D43:G43) -> 0 | D43: 0 | E43: 0 | F43: 0 | G43: 0
A44: 37 | B44: Külföldi finanszírozás kiadásai (=30+31+32+34+35) (K92) | C44: =SUM(D44:G44) -> 0 | D44: 0 | E44: 0 | F44: 0 | G44: 0
A45: 38 | B45: Adóssághoz nem kapcsolódó származékos ügyletek kiadásai (K93) | C45: =SUM(D45:G45) -> 0 | D45: 0 | E45: 0 | F45: 0 | G45: 0
A46: 39 | B46: Váltókiadások (K94) | C46: =SUM(D46:G46) -> 0 | D46: 0 | E46: 0 | F46: 0 | G46: 0
A47: 40 | B47: Finanszírozási kiadások (=29+37+38+39) (K9) | C47: =SUM(D47:G47) -> 246602898 | D47: =D36+D44+D45+D46 -> 246602898 | E47: =E36+E44+E45+E46 -> 0 | F47: =F36+F44+F45+F46 -> 0 | G47: =G36+G44+G45+G46 -> 0

Sheet 4
A1: 4. melléklet Csabrendek Nagyközség Önkormányzata Képviselő-testületének 1/2019. (I.28.) rendeletéhez
A2: "4. melléklet Csabrendek Nagyközség Önkormányzata Képviselő-testületének 1/2019. (I. 30.) rendeletéhez"
A4: 2019. évi Finanszírozási bevételek
A5: 1 | B5: 2 | C5: 3 | D5: 4 | E5: 5 | F5: 6 | G5: 7
C6: Eredeti előirányzat
C7: Önkormányzat összesen | D7: Csabrendek Nagyközség Önkormányzata | E7: Csabrendeki Közös Önkormányzati Hivatal | F7: Mese-domb Óvoda és Bölcsőde | G7: KÖZSZER
A8: 1 | B8: Hosszú lejáratú hitelek, kölcsönök felvétele pénzügyi vállalkozástól (B8111) | C8: =SUM(D8:G8) -> 21745000 | D8: 21745000 | E8: 0 | F8: 0 | G8: 0
A9: 2 | B9: Likviditási célú hitelek, kölcsönök felvétele pénzügyi vállalkozástól (B8112) | C9: =SUM(D9:G9) -> 0 | D9: 0 | E9: 0 | F9: 0 | G9: 0
A10: 3 | B10: Rövid lejáratú hitelek, kölcsönök felvétele pénzügyi vállalkozástól (B8113) | C10: =SUM(D10:G10) -> 0 | D10: 0 | E10: 0 | F10: 0 | G10: 0
A11: 4 | B11: Hitel-, kölcsönfelvétel pénzügyi vállalkozástól (=01+02+03) (B811) | C11: =SUM(D11:G11) -> 21745000 | D11: =SUM(D8:D10) -> 21745000 | E11: 0 | F11: 0 | G11: 0
A12: 5 | B12: Forgatási célú belföldi értékpapírok beváltása, értékesítése (>=06+07) (B8121) | C12: =SUM(D12:G12) -> 0 | D12: =SUM(D13:D14) -> 0 | E12: =SUM(E13:E14) -> 0 | F12: 0 | G12: 0
A13: 6 | B13: ebből: befektetési jegyek (B8121) | C13: =SUM(D13:G13) -> 0 | D13: ---- | E13: ---- | F13: 0 | G13: 0
A14: 7 | B14: ebből: kárpótlási jegyek (B8121) | C14: =SUM(D14:G14) -> 0 | D14: ---- | E14: ---- | F14: 0 | G14: 0
A15: 8 | B15: Éven belüli lejáratú belföldi értékpapírok kibocsátása (B8122) | C15: =SUM(D15:G15) -> 0 | D15: 0 | E15: 0 | F15: 0 | G15: 0
A16: 9 | B16: Befektetési célú belföldi értékpapírok beváltása, értékesítése (B8123) | C16: =SUM(D16:G16) -> 0 | D16: 0 | E16: 0 | F16: 0 | G16: 0
A17: 10 | B17: Éven túli lejáratú belföldi értékpapírok kibocsátása (B8124) | C17: =SUM(D17:G17) -> 0 | D17: 0 | E17: 0 | F17: 0 | G17: 0
A18: 11 | B18: Belföldi értékpapírok bevételei (=05+08+09+10) (B812) | C18: =SUM(D18:G18) -> 0 | D18: =SUM(D12,D15,D16,D17) -> 0 | E18: =SUM(E12,E15,E16,E17) -> 0 | F18: 0 | G18: 0
A19: 12 | B19: Előző év költségvetési maradványának igénybevétele (B8131) | C19: =SUM(D19:G19) -> 188308118 | D19: 186726016 | E19: 658972 | F19: 494832 | G19: 428298
A20: 13 | B20: Előző év vállalkozási maradványának igénybevétele (B8132) | C20: =SUM(D20:G20) -> 0 | D20: 0 | E20: 0 | F20: 0 | G20: 0
A21: 14 | B21: Maradvány igénybevétele (=12+13) (B813) | C21: =SUM(D21:G21) -> 188308118 | D21: =SUM(D19:D20) -> 186726016 | E21: =SUM(E19:E20) -> 658972 | F21: =SUM(F19:F20) -> 494832 | G21: =SUM(G19,G20) -> 428298
A22: 15 | B22: Államháztartáson belüli megelőlegezések (B814) | C22: =SUM(D22:G22) -> 20000000 | D22: 20000000 | E22: 0 | F22: 0 | G22: 0
A23: 16 | B23: Államháztartáson belüli megelőlegezések törlesztése (B815) | C23: =SUM(D23:G23) -> 0 | D23: 0 | E23: 0 | F23: 0 | G23: 0
A24: 17 | B24: Központi, irányító szervi támogatás (B816) | C24: =SUM(D24:G24) -> 218602898 | D24: 0 | E24: 78797028 | F24: 68314168 | G24: 71491702
A25: 18 | B25: Lekötött bankbetétek megszüntetése (B817) | C25: =SUM(D25:G25) -> 0 | D25: 0 | E25: 0 | F25: 0 | G25: 0
A26: 19 | B26: Központi költségvetés sajátos finanszírozási bevételei (B818) | C26: =SUM(D26:G26) -> 0 | D26: 0 | E26: 0 | F26: 0 | G26: 0
A27: 20 | B27: Hosszú lejáratú tulajdonosi kölcsönök bevételei (B8191) | C27: =SUM(D27:G27) -> 0 | D27: 0 | E27: 0 | F27: 0 | G27: 0
A28: 21 | B28: Rövid lejáratú tulajdonosi kölcsönök bevételei (B8192) | C28: =SUM(D28:G28) -> 0 | D28: 0 | E28: 0 | F28: 0 | G28: 0
A29: 22 | B29: Tulajdonosi kölcsönök bevételei (=20+21) (B819) | C29: =SUM(D29:G29) -> 0 | D29: =SUM(D27:D28) -> 0 | E29: =SUM(E27:E28) -> 0 | F29: =SUM(F27:F28) -> 0 | G29: =SUM(G27:G28) -> 0
A30: 23 | B30: Belföldi finanszírozás bevételei (=04+11+14+...+19+22) (B81) | C30: =SUM(D30:G30) -> 448656016 | D30: =D11+D18+D21+D22+D23+D24+D25+D26+D29 -> 228471016 | E30: 79456000 | F30: =SUM(F11,F18,F21,F22,F23,F24,F25,F26,F29) -> 68809000 | G30: =SUM(G11,G18,G21,G22,G23,G24,G25,G26,G29) -> 71920000
A31: 24 | B31: Forgatási célú külföldi értékpapírok beváltása, értékesítése (B821) | C31: =SUM(D31:G31) -> 0 | D31: 0 | E31: 0 | F31: 0 | G31: 0
A32: 25 | B32: Befektetési célú külföldi értékpapírok beváltása, értékesítése (B822) | C32: =SUM(D32:G32) -> 0 | D32: 0 | E32: 0 | F32: 0 | G32: 0
A33: 26 | B33: Külföldi értékpapírok kibocsátása (B823) | C33: =SUM(D33:G33) -> 0 | D33: 0 | E33: 0 | F33: 0 | G33: 0
A34: 27 | B34: Hitelek, kölcsönök felvétele külföldi kormányoktól és nemzetközi szervezetektől (B824) | C34: =SUM(D34:G34) -> 0 | D34: 0 | E34: 0 | F34: 0 | G34: 0
A35: 28 | B35: Hitelek, kölcsönök felvétele külföldi pénzintézetektől (B825) | C35: =SUM(D35:G35) -> 0 | D35: 0 | E35: 0 | F35: 0 | G35: 0
A36: 29 | B36: Külföldi finanszírozás bevételei (=24+...+28) (B82) | C36: =SUM(D36:G36) -> 0 | D36: =SUM(D31:D35) -> 0 | E36: =SUM(E31:E35) -> 0 | F36: =SUM(F31:F35) -> 0 | G36: =SUM(G31:G35) -> 0
A37: 30 | B37: Adóssághoz nem kapcsolódó származékos ügyletek bevételei (B83) | C37: =SUM(D37:G37) -> 0 | D37: 0 | E37: 0 | F37: 0 | G37: 0
A38: 31 | B38: Váltóbevételek (B84) | C38: =SUM(D38:G38) -> 0 | D38: 0 | E38: 0 | F38: 0 | G38: 0
A39: 32 | B39: Finanszírozási bevételek (=23+29+30+31) (B8) | C39: =SUM(D39:G39) -> 448656016 | D39: =SUM(D37:D38,D30,D36) -> 228471016 | E39: =SUM(E37:E38,E30,E36) -> 79456000 | F39: =SUM(F30,F36,F37,F38) -> 68809000 | G39: =SUM(G30,G36,G37,G38) -> 71920000

Sheet 5
A1: 5. melléklet
A2: Csabrendek Nagyközség Önkormányzata Képviselő-testületének 1/2019. (I.28. ) rendeletéhez
A3: "5 melléklet
A4: Csabrendek Nagyközség Önkormányzata Képviselő-testületének 1/2019. (I. 30.) rendeletéhez"
A5: 2019. évi költségvetési mérlege
A6: E: | B6: Eredeti előirányzat | O6: adatok forintban
A7: M: | B7: Módosított előirányzat
A8: T | B8: Teljesítés
B10: A | C10: B | E10: C | F10: D | G10: E | H10: F | I10: G | J10: H | L10: I | M10: J | N10: K | O10: L
B11: Előir. csop név és szám | C11: Kiemelt előírányzatok név és szám | F11: Kötelező feladatok | G11: Önként vállalt feladatok | I11: Előir. csop név és szám | J11: Kiemelt előírányzatok név és szám | M11: Kötelező feladatok | N11: Önként vállalt feladatok
A12: 1 | B12: 1. Működési bevételek | E12: E | F12: =SUM(F24,F21,F15,F18,F27) -> 498176398 | G12: =SUM(G24,G21,G15,G18,G27) -> 0 | H12: =SUM(H24,H21,H15,H18,H27) -> 498176398 | I12: 6. Működési kiadások | L12: E | M12: =SUM(M15,M18,M21,M24,M27) -> 544586500 | N12: =SUM(N15,N18,N21,N24,N27) -> 0 | O12: =SUM(O15,O18,O21,O24,O27) -> 544586500
E13: M | F13: =SUM(F25,F22,F16,F19,F28) -> #REF! | G13: =SUM(G25,G22,G16,G19,G28) -> 0 | H13: =SUM(H25,H22,H16,H19,H28) -> #REF! | L13: M | M13: =SUM(M16,M19,M22,M25,M28) -> #REF! | N13: =SUM(N16,N19,N22,N25,N28) -> 0 | O13: =SUM(O16,O19,O22,O25,O28) -> #REF!
E14: T | L14: T
A15: 2 | C15: B11 | D15: Önkormányzatok működési támogatásai | E15: E | F15: =H15-G15 -> 262559598 | H15: ='2'!C14 -> 262559598 | J15: K1 | K15: Személyi juttatások | L15: E | M15: =O15-N15 -> 235783000 | O15: ='1'!C27 -> 235783000
E16: M | F16: =H16-G16 -> #REF! | H16: ='2'!#REF! -> #REF! | L16: M | M16: =O16-N16 -> #REF! | O16: ='1'!#REF! -> #REF!
E17: T | L17: T
A18: 3 | C18: B16 | D18: Egyéb működési célú támogatások bevételei államháztartáson belülről | E18: E | F18: =H18-G18 -> 137086800 | H18: ='2'!C39 -> 137086800 | J18: K2 | K18: Munkaadókat terhelő járulékok és szociális hozzájárulási adó | L18: E | M18: =O18-N18 -> 41871700 | O18: ='1'!C28 -> 41871700
E19: M | F19: =H19-G19 -> #REF! | H19: ='2'!#REF! -> #REF! | L19: M | M19: =O19-N19 -> #REF! | O19: ='1'!#REF! -> #REF!
E20: T | L20: T
A21: 4 | C21: B3-B34 | D21: Közhatalmi bevételek | E21: E | F21: =H21-G21 -> 40550000 | H21: ='2'!C193-'2'!C116 -> 40550000 | J21: K3 | K21: Dologi kiadások | L21: E | M21: =O21-N21 -> 177227000 | O21: ='1'!C67 -> 177227000
E22: M | F22: =H22-G22 -> #REF! | H22: ='2'!#REF!-'2'!#REF! -> #REF! | L22: M | M22: =O22-N22 -> #REF! | O22: ='1'!#REF! -> #REF!
E23: T | L23: T
A24: 5 | C24: B4 | D24: Működési bevételek | E24: E | F24: =H24-G24 -> 57896000 | H24: ='2'!C229 -> 57896000 | J24: K4 | K24: Ellátottak pénzbeni juttatásai | L24: E | M24: =O24-N24 -> 8443000 | O24: ='1'!C125 -> 8443000
E25: M | F25: =H25-G25 -> #REF! | H25: ='2'!#REF! -> #REF! | L25: M | M25: =O25-N25 -> #REF! | O25: ='1'!#REF! -> #REF!
E26: T | F26: =H26-G26 -> #REF! | H26: =SUM(#REF!) -> #REF! | L26: T
A27: 6 | C27: B6 | D27: Működési célú átvett pénzeszközök | E27: E | F27: =H27-G27 -> 84000 | H27: ='2'!C264 -> 84000 | J27: K5-K513 | K27: Egyébb működési célú kiadások | L27: E | M27: =O27-N27 -> 81261800 | O27: ='1'!C195-'1'!C194 -> 81261800
E28: M | F28: =H28-G28 -> #REF! | H28: ='2'!#REF! -> #REF! | L28: M | M28: =O28-N28 -> #REF! | O28: ='1'!#REF!-'1'!#REF! -> #REF!
E29: T | L29: T
A30: 7 | B30: 2. Felhalmozási bevételek | E30: E | F30: =SUM(F36,F33,F39,F42,F45) -> 130215000 | G30: =SUM(G36,G33,G39,G42,G45) -> 0 | H30: =SUM(H36,H33,H39,H42,H45) -> 130215000 | I30: 7. Felhalmozási célú kiadások | L30: E | M30: =SUM(,M33,M36,M39) -> 251501626 | N30: =SUM(,N33,N36,N39) -> 0 | O30: =SUM(,O33,O36,O39) -> 251501626
E31: M | F31: =SUM(F37,F34,F40,F43,F46) -> #REF! | G31: =SUM(G37,G34,G40,G43,G46) -> 0 | H31: =SUM(H37,H34,H40,H43,H46) -> #REF! | L31: M | M31: =SUM(,M34,M37,M40) -> #REF! | N31: =SUM(,N34,N37,N40) -> 0 | O31: =SUM(,O34,O37,O40) -> #REF!
E32: T | L32: T
A33: 8 | C33: B21 | D33: Önkormányzatok felhalmozási támogatásai | E33: E | F33: =H33-G33 -> 0 | H33: ='2'!C51 -> 0 | J33: K6 | K33: Felhalmozási költségvetés beruházások | L33: E | M33: =O33-N33 -> 23973941 | O33: ='1'!C204 -> 23973941
E34: M | F34: =H34-G34 -> #REF! | H34: ='2'!#REF! -> #REF! | L34: M | M34: =O34-N34 -> #REF! | O34: ='1'!#REF! -> #REF!
E35: T | L35: T
A36: 9 | C36: B2-B21 | D36: Egyéb felhalmozási célú támogatások bevételei államháztartáson belülről | E36: E | F36: =H36-G36 -> 73090000 | H36: ='2'!C75 -> 73090000 | J36: K7 | K36: Felújítások | L36: E | M36: =O36-N36 -> 227464685 | O36: ='1'!C209 -> 227464685
E37: M | F37: =H37-G37 -> #REF! | H37: ='2'!#REF! -> #REF! | L37: M | M37: =O37-N37 -> #REF! | O37: ='1'!#REF! -> #REF!
E38: T | L38: T
A39: 10 | C39: B34 | D39: Közhatalmi bevételek | E39: E | F39: =H39-G39 -> 22750000 | H39: ='2'!C116 -> 22750000 | J39: K8 | K39: Egyéb felhalmozási kiadások | L39: E | M39: =O39-N39 -> 63000 | O39: ='1'!C271 -> 63000
E40: M | F40: =H40-G40 -> #REF! | H40: ='2'!#REF! -> #REF! | L40: M | M40: =O40-N40 -> #REF! | O40: ='1'!#REF! -> #REF!
E41: T | L41: T
A42: 11 | C42: B5 | D42: Felhalmozási bevétel | E42: E | F42: =H42-G42 -> 33500000 | H42: ='2'!C238 -> 33500000 | I42: 8. Tartalék | L42: E | M42: =O42-N42 -> 34356390 | O42: ='1'!C194 -> 34356390
E43: M | F43: =H43-G43 -> #REF! | H43: ='2'!#REF! -> #REF! | L43: M | M43: =O43-N43 -> #REF! | O43: ='1'!#REF! -> #REF!
E44: T | L44: T
A45: 12 | C45: B7 | D45: Felhalmozási célú átvett pénzeszköz | E45: E | F45: =H45-G45 -> 875000 | H45: ='2'!C290 -> 875000
E46: M | F46: =H46-G46 -> #REF! | H46: ='2'!#REF! -> #REF!
E47: T
A48: 13 | B48: Pénzforgalmi bevételek | E48: E | F48: =SUM(F12,F30,) -> 628391398 | G48: =SUM(G12,G30,) -> 0 | H48: =SUM(H12,H30,) -> 628391398 | I48: Pénzforgalmi kiadások | L48: E | M48: =SUM(M12,M30,M42) -> 830444516 | N48: =SUM(N12,N30,N42) -> 0 | O48: =SUM(O12,O30,O42) -> 830444516
E49: M | F49: =SUM(F13,F31,) -> #REF! | G49: =SUM(G13,G31,) -> 0 | H49: =SUM(H13,H31,) -> #REF! | L49: M | M49: =SUM(M13,M31,M43) -> #REF! | N49: =SUM(N13,N31,N43) -> 0 | O49: =SUM(O13,O31,O43) -> #REF!
E50: T | L50: T | M50: =SUM(M14,M32,M44) -> 0 | N50: =SUM(N14,N32,N44) -> 0 | O50: =SUM(O14,O32,O44) -> 0
A51: 14 | B51: 3. Maradvány igénybevétele | E51: E | F51: =H51-G51 -> 188308118 | H51: ='4'!C21 -> 188308118
E52: M | F52: =H52-G52 -> #REF! | H52: ='4'!#REF! -> #REF!
E53: T
A54: 15 | B54: 4. Államháztartáson belüli megelőlegezések | E54: E | F54: =H54-G54 -> 20000000 | H54: ='4'!C22 -> 20000000 | I54: 9. Államháztartáson belüli megelőlegezések visszafizetése | L54: E | M54: =O54-N54 -> 20000000 | O54: ='3'!C28 -> 20000000
E55: M | F55: =H55-G55 -> #REF! | H55: ='4'!#REF! -> #REF! | L55: M | M55: =O55-N55 -> #REF! | O55: ='3'!#REF! -> #REF!
E56: T | L56: T
A57: 16 | B57: Lekötött bankbetétek megszüntetése | E57: E | F57: =H57-G57 -> 0 | H57: ='4'!C25 -> 0 | I57: Bankbetétek lekötése | L57: E | M57: =O57-N57 -> 0 | O57: ='3'!C30 -> 0
E58: M | F58: =H58-G58 -> #REF! | H58: ='4'!#REF! -> #REF! | L58: M | M58: =O58-N58 -> #REF! | O58: ='3'!#REF! -> #REF!
E59: T | L59: T
A60: 17 | B60: Belföldi értékpapírok bevételei | E60: E | F60: =H60-G60 -> 0 | H60: ='4'!C18 -> 0 | I60: Belföldi értékpapírok kiadásai | L60: E | M60: =O60-N60 -> 0 | O60: =SUM('3'!C26) -> 0
E61: M | F61: =H61-G61 -> #REF! | H61: ='4'!#REF! -> #REF! | L61: M | M61: =O61-N61 -> #REF! | O61: =SUM('3'!#REF!) -> #REF!
E62: T | L62: T
A63: 18 | B63: 5. Hitel-, kölcsönfelvétel pénzügyi vállalkozástól | E63: E | F63: =H63-G63 -> 21745000 | H63: ='4'!C11 -> 21745000 | I63: 10. Hitel-, kölcsönfelvétel pénzügyi vállalkozástól | L63: E | M63: =O63-N63 -> 8000000 | O63: ='3'!C13 -> 8000000
E64: M | F64: =H64-G64 -> #REF! | H64: ='4'!#REF! -> #REF! | L64: M | M64: =O64-N64 -> #REF! | O64: ='4'!#REF! -> #REF!
E65: T | L65: T
A66: 19 | B66: BEVÉTELEK ÖSSZESEN | E66: E | F66: =SUM(F48,F51,F54,F57,F60,F63) -> 858444516 | G66: =SUM(G48,G51,G54,G57,G60,G63) -> 0 | H66: =SUM(H48,H51,H54,H57,H60,H63) -> 858444516 | I66: KIADÁSOK ÖSSZESEN | L66: E | M66: =SUM(M48,M54,M57,M60,M63) -> 858444516 | N66: =SUM(N48,N54,N57,N60,N63) -> 0 | O66: =SUM(O48,O54,O57,O60,O63) -> 858444516
E67: M | F67: =SUM(F49,F52,F55,F58,F61,F64) -> #REF! | G67: =SUM(G49,G52,G55,G58,G61,G64) -> 0 | H67: =SUM(H49,H52,H55,H58,H61,H64) -> #REF! | L67: M | M67: =SUM(M49,M43,M55,M58,M61,) -> #REF! | N67: =SUM(N49,N43,N55,N58,N61,) -> 0 | O67: =SUM(O49,O43,O55,O58,O61,) -> #REF!
E68: T | F68: =SUM(F50,F53,F56,F59) -> 0 | G68: =SUM(G50,G53,G56,G59) -> 0 | H68: =SUM(H50,H53,H56,H59) -> 0 | L68: T | M68: =SUM(M50,M44,M56,M59,M62,) -> 0 | N68: =SUM(N50,N44,N56,N59,N62,) -> 0 | O68: =SUM(O50,O44,O56,O59,O62,) -> 0

Sheet 6
A1: 6. melléklet
A2: Csabrendek Nagyközség Önkormányzata Képviselő-testületének 1/2019. (I.28.) rendeletéhez
A3: "6. melléklet
A4: Csabrendek Nagyközség Önkormányzata Képviselő-testületének 1/2019. (1.30.) rendeletéhez"
A5: Önkormányzatok működési támogatásai kiemelt előirányzat részletezése
A6: E: | B6: Eredeti előirányzat | L6: adatok forintban
A7: M: | B7: Módosított előírányzat
A8: T: | B8: Teljesítés
B10: A | C10: B | D10: C | L10: D | M10: F
B11: Cím név és szám | C11: Kiemelt előirányzat név és szám | D11: Jogcím csoport, jogcím név és szám | L11: 2019. évi előirányzat | M11: 2018. évi teljesítés
A14: 1 | B14: 1 ÖNKORMÁNYZAT ÖSSZESEN | L14: =L15 -> 2.625596e+08 | M14: =M15 -> 0
A15: 2 | C15: Önkormányzatok működési támogatásai | L15: =SUM(L16,L41,L50,L78,L84,L93) -> 2.625596e+08 | M15: =SUM(M16,M41,M50,M78,M35,M84,M93) -> 0
A16: 3 | D16: 1 | E16: A helyi önkormányzatok működésének általános támogatása | L16: =SUM(L37,L17,L39,) -> 1.1990856e+08 | M16: =SUM(M37,M17,M39) -> 0
A17: 4 | E17: 1 | F17: A települési önkormányzatok működésének támogatása | L17: =SUM(L18,L20,L29,,L31,L33,L35) -> 1.1893616e+08 | M17: =SUM(M18,M20,M29,,M31,M33) -> 0
A18: 5 | F18: 1 | G18: Önkormányzati hivatal működésének támogatása | L18: =J19 -> 52670000
G19: 11,5 fő x 4 580 000 Ft | J19: =11.5*4580000 -> 52670000
A20: 6 | F20: 2 | G20: Település-üzemeltetéshez kapcsolódó feladatellátás támogatása | L20: =SUM(L21,L23,L27,L25) -> 19460480 | M20: =SUM(M21,M23,M27,M25) -> 0
A21: 7 | G21: 1 | H21: A zöldterület-gazdálkodással kapcsolatos feladatok ellátásának támogatása | L21: =J22 -> 6076750
H22: 272,5 ha x 22 300 Ft/ha | J22: =272.5*22300 -> 6076750
A23: 8 | G23: 2 | H23: Közvilágítás fenntartásának támogatása | L23: =J24 -> 7168000
H24: 22,4 km x 320 000 Ft/km | J24: =22.4*320000 -> 7168000
A25: 9 | G25: 3 | H25: Köztemető fenntartással kapcsolatos feladatok támogatása | L25: =J26 -> 488520
H26: 7 080 m2 x 69 ft/m2 | J26: =7080*69 -> 488520
A27: 10 | G27: 4 | H27: Közutak fenntartásának támogatása | L27: =J28 -> 5727210
H28: 25,23 km x 227 000 Ft/km | J28: =25.23*227000 -> 5727210
A29: 11 | F29: 3 | G29: Egyéb önkormányzati feladatok támogatása | L29: =J30 -> 8259300
G30: 3 059 fő x 2 700 Ft/fő | J30: =3059*2700 -> 8259300
A31: 12 | F31: 4 | G31: Lakott külterülettel kapcsolatos támogatás | L31: =J32 -> 1415250
G32: 555 fő x 2 550 Ft/fő | J32: =555*2550 -> 1415250
A33: 13 | F33: 5 | G33: Üdülőhelyi feladatok támogatása | L33: =J34 -> 119700
G34: 119 700 Ft x 1 Ft | J34: =119700*1 -> 119700
A35: 14 | F35: 6 | G35: Beszámítás kiegészítés | L35: =J36 -> 37011428
J36: =0.451773573*SUM(J19,J22,J24,J26,J28,J30,J32,J34) -> 37011428
A37: 14 | E37: 2 | F37: A 2017. évről áthúzódó bérkompenzáció támogatása | L37: =J38 -> 0
J38: 0
A39: 15 | E39: 2 | F39: Polgármesteri illetmény támogatása | L39: =J40 -> 972400
J40: 972400
A41: 16 | D41: 2 | E41: A települési önkormányzatok egyes köznevelési feladatainak támogatása | L41: =SUM(L42,L46,L48) -> 57386666 | M41: =SUM(M42,M46,) -> 0
A42: 17 | E42: 1 | F42: Óvodapedagógusok, és az óvodapedagógusok nevelő munkáját közvetlenül segítők bértámogatása | L42: =SUM(J44:J45) -> 48328466
F44: (8,5 fő x 8/12 + 8,6 fő 4/12 ) x 4 371 500 Ft/fő | J44: =ROUNDDOWN(8.5*4371500*8/12+8.6*4371500*4/12,0) -> 37303466
F45: (5 fő x 8/12+5 fő 4/12) x 2 205 000 Ft | J45: =+(5*0.666666666666667+5*0.333333333333333)*2205000 -> 11025000
A46: 18 | E46: 2 | F46: Óvodaműködtetési alaptámogatás | L46: =J47 -> 9058200
F47: 92 fő x 8/12 + 95 fő 4/12) x 97 400 Ft/fő | J47: =(92+92+95)/3*97400 -> 9058200
A48: 18 | E48: 3 | F48: Óvoda bér kiegézítő támogatás
A50: 19 | D50: 3 | E50: A települési önkormányzatok szociális, gyermekjóléti és gyermekétkeztetési feladatainak támogatása | L50: =SUM(L67,L52,L54,L76,L74) -> 81562984 | M50: =SUM(M67,M52,M54,M76,M74) -> 0
A52: 20 | E52: 1 | F52: A települési önkormányzatok szociális feladatainak egyéb támogatása | L52: =J53 -> 13795000
J53: 13795000
A54: 21 | E54: 2 | F54: Egyes szociális és gyermekjóléti feladatok támogatása | L54: =SUM(L57,L59,L61,L63,L55) -> 39188656 | M54: =SUM(M57,M59,M61,M63,M55) -> 0
A55: 22 | F55: 1 | G55: Szociális és gyermekjóléti alapszolgáltatások általános feladatai | L55: =J56 -> 5100000
G56: 1,5 fő x 3 400 000 Ft/fő | J56: =1.5*3400000 -> 5100000
A57: 23 | F57: 2 | G57: Szociális étkeztetés | L57: =J58 -> 3714656
G58: 61 fő x 55 360 Ft/fő x 110% | J58: =61*55360*1.1 -> 3714656
A59: 24 | F59: 3 | G59: Házi segítségnyújtás | L59: =J60 -> 24174000
G60: 56 fő x 330 000 Ft/fő x 130% + 6 fő x 25 000 Ft | J60: =56*330000*1.3+6*25000 -> 24174000
A61: 25 | F61: 4 | G61: Falugondnoki vagy tanyagondnoki szolgáltatás | L61: =J62 -> 6200000
G62: 2 szolgálat x 3 100 000 Ft/szolgálat | J62: =2*3100000 -> 6200000
F63: 5 | G63: Gyermekek napközbeni ellátása | L63: =SUM(L65,) -> 0 | M63: =SUM(M65,) -> 0
G65: 1 | H65: Bölcsődei ellátás | L65: 0
H66: 5 fő x 494 100 Ft/fő | J66: =0*494100 -> 0
A67: 26 | E67: 3 | F67: Gyermekétkeztetés támogatása | L67: =SUM(L70,L68,L72) -> 28579328 | M67: =SUM(M70,M68,M72) -> 0
A68: 27 | F68: 1 | G68: A finanszírozás szempontjából elismert dolgozók bértámogatása | L68: =J69 -> 9747000
G69: 5,13 fő x 1 900 000 Ft/fő | J69: =5.13*1900000 -> 9747000
A70: 28 | F70: 2 | G70: Gyermekétkeztetés üzemeltetési támogatása | L70: =J71 -> 17646158
J71: 17646158
A72: 29 | F72: 2 | G72: Gyermekétkeztetés üzemeltetési támogatása | L72: =J73 -> 1186170
G73: 2081 adag x 570 Ft/fő | J73: =2081*570 -> 1186170
A74: 31 | E74: 4 | F74: Szociális ágazati összevont pótlék | L74: =J75 -> 0
J75: 0
A76: 32 | E76: 5 | F76: Bölcsődei kiegészítő ágazati pótlék | L76: =J77 -> 0
J77: 0 | K77: 0
A78: 30 | D78: 4 | E78: A települési önkormányzatok kulturális feladatainak támogatása | L78: =L79+L82 -> 3701390 | M78: =M79 -> 0
A79: 31 | E79: 1 | F79: Települési önkormányzatok nyilvános könyvtári és közművelődési feladatainak támogatása | L79: =J81 -> 3701390
F81: 3059 fő x 1210 Ft/fő = | J81: =3059*1210 -> 3701390
A82: 33 | E82: 2 | F82: Kúltúrális illetménypótlék | L82: =J83 -> 0
J83: 0
A84: 35 | D84: 6 | E84: Működési célú költségvetési támogatások és kiegészítő támogatások | L84: =SUM(L85:L92) -> 0 | M84: =SUM(M85:M92) -> 0
A85: 36 | E85: 1 | F85: 2018. évi bérkompenzáció | J85: 0 | L85: =J85 -> 0
A86: 37 | E86: 2 | F86: ASP rendszer működtetésének támogatása | J86: 0 | L86: =J86 -> 0
A87: 38 | E87: 3 | F87: Lakossági víz- és csatornaszolgáltatás támogatása | J87: 0 | L87: =J87 -> 0
A88: 39 | E88: 4 | F88: Önkormányzati adatszolgáltatás minőségének javítása | J88: 0 | L88: =J88 -> 0
A89: 40 | E89: 5 | F89: Szociális célú tüzelőanyag vásárláshoz kapcsolódó kiegészítő támogatás | J89: 0 | L89: =J89 -> 0
A90: 40 | E90: 6 | F90: Rendkívüli önkormányzati támogatás
A91: 41 | E91: 7 | F91: Rendkívüli szociális támogatás
A92: 42 | E92: 8 | F92: Garantált bérminimum emelés támogatása
A93: 43 | D93: 7 | E93: Elszámolásból származó bevételek
A94: 40

Sheet 7
A1: 7. melléklet
A2: Csabrendek Nagyközség Önkormányzata Képviselő-testületének 1/2019. (I.28.) rendeletéhez
B3: "4. melléklet
B4: Csabrendek Nagyközség Önkormányzata Képviselő-testületének ……./2017. (…....) rendeletéhez"
A5: 2019.évi költségvetés Fejlesztési Kiadások
A7: E: | B7: Eredeti előirányzat | F7: adatok forintban
A9: 1 | B9: 2 | C9: 3 | D9: 4 | E9: 5 | F9: 6
B10: megnevezés | C10: Immateriális javak | D10: Tárgyi eszköz beszerzés | E10: Felújítás | F10: összes kiadás
A11: 1 | B11: Óvoda bővítés | E11: 123688685 | F11: =SUM(C11:E11) -> 123688685
A12: 2 | B12: Egészségház felújítástárgyi eszköz | D12: 150000 | E12: 991000 | F12: =SUM(C12:E12) -> 1141000
A13: 3 | B13: Bel-és csapadékvíz elvezetés | E13: 2748000 | F13: =SUM(C13:E13) -> 2748000
A14: 4 | B14: Belterületi utak | E14: 59435000 | F14: =SUM(C14:E14) -> 59435000
A15: 5 | B15: Belterületi utak | E15: 21076000 | F15: =SUM(C15:E15) -> 21076000
A16: 6 | B16: Óvoda- konyha eszközbeszerzés | D16: 13309141 | F16: =SUM(C16:E16) -> 13309141
A17: 7 | B17: Iskola napelem | E17: 7851000 | F17: =SUM(C17:E17) -> 7851000
A18: 8 | B18: Művelődési Ház.tárgyi eszközök | D18: 1828800 | F18: =SUM(C18:E18) -> 1828800
A19: 9 | B19: Szenyvíztelepi eszközök | D19: 3785000 | E19: 5135000 | F19: =SUM(C19:E19) -> 8920000
A20: 10 | B20: Igazgatás-eszközök(házasságkötő) | D20: 500000 | F20: =SUM(C20:E20) -> 500000
A21: 11 | B21: Könyvtár-eszközbeszerzés | D21: 155000 | F21: =SUM(C21:E21) -> 155000
A22: 12 | B22: Közfoglalkoztatásra | D22: 184000 | F22: =SUM(C22:E22) -> 184000
A23: 13 | B23: Egyéb tárgyi eszköz | D23: 800000 | F23: =SUM(C23:E23) -> 800000
A24: 13 | B24: Egyéb informatikai eszköz | D24: 200000 | F24: =SUM(C25:E25) -> 1610000
A25: 14 | B25: Útsószóró | D25: 1610000
A26: 15 | B26: Víztisztító készülék | D26: 380000
A27: 16 | B27: Színpad fedés | E27: 4000000
A28: 17 | B28: Közvilágítás bővítése | E28: 1270000
A29: 18 | B29: Ár-és belvízvédelem | E29: 1270000
A30: 19 | B30: Összesen | C30: =SUM(C11:C25) -> 0 | D30: =SUM(D11:D26) -> 22901941 | E30: =SUM(E11:E29) -> 227464685 | F30: =SUM(C30:E30) -> 250366626
