Workbook

Sheet 1
B1: Berhida Város Önkormányzata | C1: 1. melléklet
B2: 2017. évi költségvetés | C2: a 2/2017. (II. 24 .) önkormányzati rendelethez
B4: Bevételek | C4: Ft-ban
C5: Összesen | D5: Önkormányzat | E5: Hivatal | F5: TESZ | G5: Kultúr | H5: Süni
A6: Sor- szám | B6: Rovat megnevezése | C6: Eredeti előirányzat | D6: Eredeti előirányzat | E6: Eredeti előirányzat | F6: Eredeti előirányzat | G6: Eredeti előirányzat | H6: Eredeti előirányzat
A7: 1 | B7: Helyi önkormányzatok működésének általános támogatása (B1111) | C7: =SUM(D7:H7) -> 106085367 | D7: 106085367
A8: 2 | B8: Települési önkormányzatok egyes köznevelési feladatainak támogatása (B1121) | C8: =SUM(D8:H8) -> 127904640 | D8: 127904640
A9: 3 | B9: Települési önkormányzatok szociális, gyermekjóléti és gyermekétkeztetési feladatainak támogatása (B1131) | C9: =SUM(D9:H9) -> 90729626 | D9: 90729626
A10: 4 | B10: Települési önkormányzatok kulturális feladatainak támogatása (B1141) | C10: =SUM(D10:H10) -> 6854820 | D10: 6854820
A11: 5 | B11: Működési célú költségvetési támogatások és kiegészítő támogatások (B1151) | C11: =SUM(D11:H11) -> 0
A12: 6 | B12: Önkormányzatok működési támogatásai (B11) | C12: =SUM(D12:H12) -> 331574453 | D12: =SUM(D7:D11) -> 331574453 | E12: =SUM(E7:E11) -> 0 | F12: =SUM(F7:F11) -> 0 | G12: =SUM(G7:G11) -> 0 | H12: =SUM(H7:H11) -> 0
A13: 7 | B13: Egyéb működési célú támogatások bevételei államháztartáson belülről (B16) | C13: =SUM(D13:H13) -> 84703526 | D13: =SUM(D14:D17) -> 22667022 | E13: =SUM(E14:E17) -> 0 | F13: =SUM(F14:F17) -> 62036504 | G13: =SUM(G14:G17) -> 0 | H13: =SUM(H14:H17) -> 0
A14: 8 | B14: ebből: egyéb fejezeti kezelésű előirányzatok (B16132) | C14: =SUM(D14:H14) -> 8237022 | D14: 8237022
A15: 9 | B15: ebből: társadalombiztosítás pénzügyi alapjai (B1614) | C15: =SUM(D15:H15) -> 14430000 | D15: 14430000
A16: 10 | B16: ebből: elkülönített állami pénzal (B1615) | C16: =SUM(D16:H16) -> 62036504 | F16: 62036504
A17: 11 | B17: ebből: önkormányzat és kv-i szerveik (B 1616) | C17: =SUM(D17:H17) -> 0
A18: 12 | B18: Működési célú támogatások államháztartáson belülről (B1) | C18: =SUM(D18:H18) -> 416277979 | D18: =D12+D13 -> 354241475 | E18: =E12+E13 -> 0 | F18: =F12+F13 -> 62036504 | G18: =G12+G13 -> 0 | H18: =H12+H13 -> 0
A19: 13 | B19: Felhalmozási célú önkormányzati támogatások (B21) | C19: =SUM(D19:H19) -> 0 | D19: =SUM(D20:D23) -> 0 | E19: =SUM(E20:E23) -> 0 | F19: =SUM(F20:F23) -> 0 | G19: =SUM(G20:G23) -> 0 | H19: =SUM(H20:H23) -> 0
A20: 14 | B20: ebből egyéb központi fc tám (B2119) | C20: =SUM(D20:H20) -> 0
A21: 15 | B21: ebből: egyéb fejezeti kezelésű előirányzatok fc (B2513) | C21: =SUM(D21:H21) -> 0
A22: 16 | B22: ebből: elkülönített állami pénzal fc (B2515) | C22: =SUM(D22:H22) -> 0
A23: 17 | B23: ebből: önkorm és kv-i szervek fc tám (B2516) | C23: =SUM(D23:H23) -> 0
A24: 18 | B24: Felhalmozási célú támogatások államháztartáson belülről (B2) | C24: =SUM(D24:H24) -> 0 | D24: =D19 -> 0 | E24: =E19 -> 0 | F24: =F19 -> 0 | G24: =G19 -> 0 | H24: =H19 -> 0
A25: 19 | B25: Vagyoni tipusú adók (B34) | C25: =SUM(D25:H25) -> 102150639 | D25: =SUM(D26:D27) -> 102150639 | E25: =SUM(E26:E27) -> 0 | F25: =SUM(F26:F27) -> 0 | G25: =SUM(G26:G27) -> 0 | H25: =SUM(H26:H27) -> 0
A26: 20 | B26: ebből: építményadó (B34111) | C26: =SUM(D26:H26) -> 84512950 | D26: 84512950
A27: 21 | B27: ebből: magánszemélyek kommunális adója (B34114) | C27: =SUM(D27:H27) -> 17637689 | D27: 17637689
A28: 22 | B28: Értékesítési és forgalmi adók iparűzési adó (B351121) | C28: =SUM(D28:H28) -> 189265417 | D28: 189265417
A29: 23 | B29: Gépjárműadó (B354121) | C29: =SUM(D29:H29) -> 11678757 | D29: 11678757
A30: 24 | B30: Egyéb áruhasználati és szolgáltatási adók, környezetterh díj (B355122) | C30: =SUM(D30:H30) -> 110000 | D30: 110000
A31: 25 | B31: Termékek és szolgáltatások adói (B35) | C31: =SUM(D31:H31) -> 201054174 | D31: =SUM(D28:D30) -> 201054174 | E31: =SUM(E28:E30) -> 0 | F31: =SUM(F28:F30) -> 0 | G31: =SUM(G28:G30) -> 0 | H31: =SUM(H28:H30) -> 0
A32: 26 | B32: Egyéb közhatalmi bevételek (B36) | C32: =SUM(D32:H32) -> 0 | D32: =SUM(D33:D35) -> 0 | E32: =SUM(E33:E35) -> 0 | F32: =SUM(F33:F35) -> 0 | G32: =SUM(G33:G35) -> 0 | H32: =SUM(H33:H35) -> 0
A33: 27 | B33: ebből: szabálysértési pénz- és helyszíni bírság és a közlekedési szabályszegések után kiszabott közigazgatási bírság helyi önkormányzatot megillető része (B361225) | C33: =SUM(D33:H33) -> 0
A34: 28 | B34: ebből: egyéb bírság (B361229) | C34: =SUM(D34:H34) -> 0
A35: 29 | B35: ebből: egyéb települési adók (B36128) | C35: =SUM(D35:H35) -> 0
A36: 30 | B36: Közhatalmi bevételek (B3) | C36: =SUM(D36:H36) -> 303204813 | D36: =D25+D31+D32 -> 303204813 | E36: =E25+E31+E32 -> 0 | F36: =F25+F31+F32 -> 0 | G36: =G25+G31+G32 -> 0 | H36: =H25+H31+H32 -> 0
A37: 31 | B37: Szolgáltatások (B4021) | C37: =SUM(D37:H37) -> 6922704 | D37: =SUM(D38:D40) -> 0 | E37: =SUM(E38:E40) -> 335000 | F37: =SUM(F38:F40) -> 400000 | G37: =SUM(G38:G40) -> 920000 | H37: =SUM(H38:H40) -> 5267704
A38: 32 | B38: ebből: alkalmazottak térítési díj (B40211) | C38: =SUM(D38:H38) -> 562880 | H38: 562880
A39: 33 | B39: ebből: bérleti díj bev (B40212) | C39: =SUM(D39:H39) -> 1475000 | E39: 335000 | F39: 400000 | G39: 740000
A40: 34 | B40: ebből: egyéb szolgáltatás (40214) | C40: =SUM(D40:H40) -> 4884824 | G40: 180000 | H40: 4704824
A41: 35 | B41: Közvetített szolgáltatások ellenértéke (B403) | C41: =SUM(D41:H41) -> 3772000 | D41: =SUM(D42:D43) -> 1330000 | E41: =SUM(E42:E43) -> 1200000 | F41: =SUM(F42:F43) -> 1242000 | G41: =SUM(G42:G43) -> 0 | H41: =SUM(H42:H43) -> 0
...

Sheet 1a
A1: Berhida Város Önkormányzata | E1: 1.a melléklet
A2: állami támogatások részletezése | E2: a 2/2017. (II.24.) önkormányzati rendelethez
E3: 2015 | I3: 2016 | M3: 2017
D4: IPA alap | F4: 6444418912 | G4: IPA alap | J4: 8925457446 | K4: IPA alap | N4: 9676175196
D5: elvonás | E5: 0,55 %-nak | F5: =F4*0.0055 -> 35444304 | G5: elvonás | H5: 0,55 %-nak | J5: =J4*0.0055 -> 49090016 | K5: elvonás | L5: 0,55 %-nak | N5: =N4*0.0055 -> 53218964
A6: 2017. évi költségvetés | E6: 30 %-a | F6: =F5*0.3 -> 10633291 | H6: 75 %-a | J6: =J5*0.75 -> 36817512 | L6: 75 %-a | N6: 39914222
D7: 1 lakosra jutó adóerőképesség | F7: =F4*0.014/6072 -> 14858.673 | G7: 1 lakosra jutó adóerőképesség | J7: =J4*0.014/6038 -> 20694.999 | K7: 1 lakosra jutó adóerőképesség | N7: =N4*0.014/6013 -> 22528.929 | P7: Önkorm | Q7: Hivatal | R7: TESZ | S7: Süni | T7: Hétszín | U7: Vilonyai Óvoda | V7: Csal.Szolg | W7: Kultúr
D8: 6072 | E8: fő | H8: 6038 | I8: fő | J8: beszámítás | L8: 6013 | M8: fő | N8: beszámítás | O8: 2017 tényl
B9: Rovatrend | E9: Forint | I9: Forint | M9: Forint
A10: Önkormányzatok működési támogatásai | E10: =E11+E21+E34+E53 -> 383440798 | I10: =I11+I21+I34+I53 -> 345704732 | J10: =J11+J21+J34+J53 -> -61642905 | M10: =M11+M21+M34+M53+M56 -> 4.1458666e+08 | N10: =N11+N21+N34+N53+N56 -> -60984222 | O10: =O11+O21+O34+O53+O56 -> 3.5360243e+08 | P10: =P11+P21+P34+P53+P56 -> 18336879 | Q10: =Q11+Q21+Q34+Q53+Q56 -> 101584400 | R10: =R11+R21+R34+R53+R56 -> 8070967 | S10: =S11+S21+S34+S53+S56 -> 1.0876091e+08 | T10: =T11+T21+T34+T53+T56 -> 76689149 | ... W10: =W11+W21+W34+W53+W56 -> 7914773 | X10: =SUM(P10:W10) -> 353602434
A11: 1.)Helyi önkormányzatok működésének általános támogatása | B11: B111 | E11: =SUM(E12:E20) -> 139174406 | F11: =SUM(F12:F20) -> -10633291 | I11: =SUM(I12:I20) -> 114837274 | J11: =SUM(J12:J20) -> -36817510 | M11: =SUM(M12:M20) -> 146999589 | N11: =SUM(N12:N20) -> -39914222 | O11: =SUM(O12:O20) -> 107085367 | P11: =SUM(P12:P20) -> 1000000 | Q11: =SUM(Q12:Q20) -> 101584400 | R11: =SUM(R12:R20) -> 4500967 | S11: =SUM(S12:S20) -> 0 | T11: =SUM(T12:T20) -> 0 | ... W11: =SUM(W12:W20) -> 0 | X11: =SUM(P11:W11) -> 107085367
A12: Önkormányzati hivatal működésének támogatása | C12: 4580000 | D12: 22.3 | E12: 102134000 | G12: 4580000 | H12: 22.24 | I12: =G12*H12 -> 101859200 | K12: 4580000 | L12: 22.18 | M12: =K12*L12 -> 101584400 | O12: =M12+N12 -> 101584400 | Q12: 101584400 | X12: =SUM(P12:W12) -> 101584400
A13: Település üzemeltetés: zöldterület-gazdálkodás | C13: 22300 | E13: 8964553 | G13: 22300 | H13: 402 | I13: 0 | J13: -8964600 | K13: 22300 | L13: 402 | M13: 8984670 | N13: =-M13 -> -8984670 | O13: =M13+N13 -> 0 | X13: =SUM(P13:W13) -> 0
A14: közvilágítás fenntartása | C14: 320000 | E14: 14880000 | G14: 320000 | H14: 46.5 | I14: 3520940 | J14: -11359060 | K14: 320000 | L14: 46.5 | M14: 9888000 | N14: =-M14 -> -9888000 | O14: =M14+N14 -> 0 | X14: =SUM(P14:W14) -> 0
A15: köztemető fenntartással kapcs fel | C15: 69 | E15: 1775094 | G15: 69 | H15: 53051 | I15: 3660519 | K15: 69 | L15: 53051 | M15: =K15*L15 -> 3660519 | N15: =-M15 -> -3660519 | O15: =M15+N15 -> 0 | X15: =SUM(P15:W15) -> 0
A16: közutak fenntartásának támog | C16: 227000 | E16: 5448000 | G16: 227000 | H16: 24 | I16: 5448000 | K16: 227000 | L16: 24 | M16: =K16*L16 -> 5448000 | N16: -947033 | O16: =M16+N16 -> 4500967 | R16: 4500967 | X16: =SUM(P16:W16) -> 4500967
A17: Egyéb kötelező önkormányzati feladatok | C17: 2700 | E17: 5761109 | F17: -10633291 | G17: 2700 | H17: 6038 | I17: 0 | J17: -16302600 | K17: 2700 | L17: 6013 | M17: =K17*L17 -> 16235100 | N17: =-M17 -> -16235100 | O17: =M17+N17 -> 0 | X17: =SUM(P17:W17) -> 0
A18: Lakott külterülettel kapcs feladatok | E18: 211650 | I18: 0 | J18: -191250 | K18: 2550 | L18: 78 | M18: =K18*L18 -> 198900 | N18: =-M18 -> -198900 | O18: =M18+N18 -> 0 | X18: =SUM(P18:W18) -> 0
A19: 2015. évről áthúzódó bérkompenzáció | I19: 348615 | O19: =M19+N19 -> 0 | X19: =SUM(P19:W19) -> 0
A20: Településarculati kézikkönyv készítésének támogatása | M20: 1000000 | O20: =M20+N20 -> 1000000 | P20: 1000000 | X20: =SUM(P20:W20) -> 1000000
A21: 2.)Települési önkorm. Egyes köznevelési feladatainak támoga | B21: B112 | E21: =SUM(E22:E33) -> 122000800 | I21: =SUM(I22:I33) -> 130351320 | J21: =SUM(J22:J33) -> 0 | M21: =SUM(M22:M33) -> 1.3713495e+08 | N21: =SUM(N22:N33) -> 0 | O21: =SUM(O22:O33) -> 1.3713495e+08 | P21: =SUM(P22:P33) -> 0 | Q21: =SUM(Q22:Q33) -> 0 | R21: =SUM(R22:R33) -> 0 | S21: =SUM(S22:S33) -> 77636145 | T21: =SUM(T22:T33) -> 46424373 | ... W21: =SUM(W22:W33) -> 0 | X21: =SUM(P21:W21) -> 137134950
A22: óvodapedagógusok bértámogatása 8 hó | C22: 4152000 | D22: 20.1 | E22: 55636800 | G22: 4308000 | H22: 20.2 | I22: =G22*H22*8/12 -> 58014400 | K22: 4469900 | L22: 19.6 | M22: =K22*L22*8/12 -> 58406693 | O22: =M22+N22 -> 58406693 | S22: 31587293 | T22: 20859533 | U22: 5959867 | X22: =SUM(P22:W22) -> 58406693
A23: óvodaped munkáját közvetlenül segítők bértámogatása 8 hó | C23: 1800000 | D23: 11 | E23: 13200000 | G23: 1800000 | H23: 11 | I23: 13200000 | K23: 1800000 | L23: 11.5 | M23: =K23*L23/12*8 -> 13800000 | O23: =M23+N23 -> 13800000 | S23: 9000000 | T23: 3600000 | U23: 1200000 | X23: =SUM(P23:W23) -> 13800000
A24: óvodapedagógusok bértámogatása 4 hó | C24: 4152000 | D24: 20 | E24: 27680000 | G24: 4308000 | H24: 19.6 | I24: =G24*H24*4/12 -> 28145600 | K24: 4469900 | L24: 20.1 | M24: =K24*L24*4/12 -> 29948330 | O24: =M24+N24 -> 29948330 | S24: 16538630 | T24: 10429767 | U24: 2979933 | X24: =SUM(P24:W24) -> 29948330
A25: óvodaped munkáját közvetlenül segítők bértámogatása 4 hó | C25: 1800000 | D25: 11 | E25: 6600000 | G25: 1800000 | H25: 11 | I25: 6600000 | K25: 1800000 | L25: 11 | M25: =K25*L25/12*4 -> 6600000 | O25: =M25+N25 -> 6600000 | S25: 4200000 | T25: 1800000 | U25: 600000 | X25: =SUM(P25:W25) -> 6600000
A26: óvodapedagógusok bértámog KIEGÉSZÍTÉS 3 hó | C26: 35000 | D26: 20 | E26: 700000 | G26: 35000 | H26: 19.6 | I26: =G26*H26 -> 686000 | K26: 38200 | L26: 20.1 | M26: =K26*L26 -> 767820 | O26: =M26+N26 -> 767820 | S26: 424020 | T26: 267400 | U26: 76400 | X26: =SUM(P26:W26) -> 767820
A27: Óvoda működtetési támogatás 8 hó | C27: 70000 | D27: 218 | E27: 10173333 | G27: 80000 | H27: 216 | I27: =G27*H27*8/12 -> 11520000 | K27: 81700 | L27: 208 | M27: =K27*L27*8/12 -> 11329067 | O27: =M27+N27 -> 11329067 | S27: =K27*124/12*8 -> 6753866.7 | T27: =K27*61/12*8 -> 3322466.7 | U27: =K27*23/12*8 -> 1252733.3 | X27: =SUM(P27:W27) -> 11329067
A28: Óvoda működtetési támogatás 4 hó | C28: 70000 | D28: 218 | E28: 5086667 | G28: 80000 | H28: 213 | I28: =G28*H28*4/12 -> 5680000 | K28: 81700 | L28: 217 | M28: =K28*L28*4/12 -> 5909633.3 | O28: =M28+N28 -> 5909633.3 | S28: =K28*124/12*4 -> 3376933.3 | T28: =K28*70/12*4 -> 1906333.3 | U28: =K28*23/12*4 -> 626366.67 | X28: =SUM(P28:W28) -> 5909633.3
A29: Kieg tám. Óv pedag minősítéséhez II. kategóriába sorolt 2015-ben | D29: 1 | E29: 352000 | G29: 418900 | H29: 2 | I29: 768000 | K29: 418900 | L29: 2 | M29: =K29*L29 -> 837800 | O29: =M29+N29 -> 837800 | S29: 418900 | T29: 418900 | X29: =SUM(P29:W29) -> 837800
A30: Mesterped kategóriába sorolt | D30: 2 | E30: 2572000 | G30: 1530600 | H30: 2 | I30: 2805820 | K30: 1530600 | L30: 2 | M30: =K30*L30 -> 3061200 | O30: =M30+N30 -> 3061200 | S30: 1530600 | T30: 1530600 | X30: =SUM(P30:W30) -> 3061200
A31: Kieg tám. Óv pedag minősítéséhez II. kategóriába sorolt 2016-ben min | I31: =G31*H31/12*4 -> 0 | K31: 383992 | L31: 6 | M31: =K31*L31 -> 2303952 | O31: =M31+N31 -> 2303952 | S31: =K31*3 -> 1151976 | T31: =K31*3 -> 1151976 | X31: =SUM(P31:W31) -> 2303952
A32: Óvodapedagógus munkát közvetlenül segítők kiegészítő támog | M32: 4170455 | O32: =M32+N32 -> 4170455 | S32: =M32/11*7 -> 2653925.9 | T32: =M32/11*3 -> 1137396.8 | U32: =M32/11 -> 379132.27 | X32: =SUM(P32:W32) -> 4170455
A33: Köznevelési intézmények m űködt kapcs támogatás | I33: 2931500 | O33: =M33+N33 -> 0 | X33: =SUM(P33:W33) -> 0
A34: 3.) Tel önk szociális, gyermekjóléti és gyermekétk fel tám | B34: B113 | E34: =SUM(E36:E52) -> 115343512 | I34: =SUM(I36:I52) -> 93632818 | J34: =SUM(J36:J52) -> -24825395 | M34: =SUM(M36:M52) -> 117200465 | N34: =SUM(N36:N52) -> -21070000 | O34: =SUM(O36:O52) -> 96130465 | P34: =SUM(P36:P52) -> 12000000 | Q34: =SUM(Q36:Q52) -> 0 | R34: =SUM(R36:R52) -> 3570000 | S34: =SUM(S36:S52) -> 31124762 | T34: =SUM(T36:T52) -> 30264776 | ... W34: =SUM(W36:W52) -> 0 | X34: =SUM(P34:W34) -> 96130465
X35: =SUM(P35:W35) -> 0
A36: gyermekétkeztetés szempontjából elismert dolgozók bértámog | C36: 1632000 | D36: 11.48 | E36: 18735360 | G36: 1632000 | H36: 11.48 | I36: 18245760 | K36: 1632000 | L36: 11.3 | M36: =K36*L36 -> 18441600 | O36: =M36+N36 -> 18441600 | S36: 9497424 | T36: 7727030 | U36: 1217146 | X36: =SUM(P36:W36) -> 18441600
A37: gyermekétkeztetés üzemeltetési támogatása | E37: 31817928 | I37: 32815395 | M37: 34890352 | O37: =M37+N37 -> 34890352 | S37: 17968531 | T37: 14619058 | U37: 2302763 | X37: =SUM(P37:W37) -> 34890352
A38: szünidei gyermekétkeztetés | I38: 4818380 | M38: 4954041 | O38: =M38+N38 -> 4954041 | S38: 3658807 | T38: 1295234 | X38: =SUM(P38:W38) -> 4954041
A39: Hozzájárulás pénzbeli szociális ellátásokhoz | E39: 47687090 | I39: 24825395 | J39: -24825395 | M39: 42140000 | N39: =-21070000 -> -21070000 | O39: =M39+N39 -> 21070000 | P39: 12000000 | R39: 3570000 | V39: 5500000 | X39: =SUM(P39:W39) -> 21070000
A40: Bölcsődei ellátás | C40: 494100 | D40: 8 | E40: 3952800 | G40: 494100 | H40: 8 | I40: 3952800 | K40: 494100 | L40: 8 | M40: =K40*L40 -> 3952800 | O40: =M40+N40 -> 3952800 | T40: =M40 -> 3952800 | X40: =SUM(P40:W40) -> 3952800
...

Sheet 1b
B1: Berhida Város Önkormányzata | C1: 1.b. melléklet
B2: 2017. évi költségvetés | C2: a 2/2017. (II.24.) önkormányzati rendelethez
B4: Bevételek | C4: Ft-ban
C5: Összesen | D5: Önkormányzat | E5: Hivatal | F5: TESZ | G5: Kultúr | H5: Süni
A6: Sor- szám | B6: Rovat megnevezése | C6: Módosított Előirányzat | D6: Módosított Előirányzat | E6: Módosított Előirányzat | F6: Módosított Előirányzat | G6: Módosított Előirányzat | H6: Módosított Előirányzat
A7: 1 | B7: Helyi önkormányzatok működésének általános támogatása (B1111) | C7: =SUM(D7:H7) -> 107085367 | D7: 107085367
A8: 2 | B8: Települési önkormányzatok egyes köznevelési feladatainak támogatása (B1121) | C8: =SUM(D8:H8) -> 137134950 | D8: 137134950
A9: 3 | B9: Települési önkormányzatok szociális, gyermekjóléti és gyermekétkeztetési feladatainak támogatása (B1131) | C9: =SUM(D9:H9) -> 96130465 | D9: 96130465
A10: 4 | B10: Települési önkormányzatok kulturális feladatainak támogatása (B1141) | C10: =SUM(D10:H10) -> 7914773 | D10: 7914773
A11: 5 | B11: Működési célú költségvetési támogatások és kiegészítő támogatások (B1151) | C11: =SUM(D11:H11) -> 5336879 | D11: 5336879
A12: 6 | B12: Önkormányzatok működési támogatásai (B11) | C12: =SUM(D12:H12) -> 353602434 | D12: =SUM(D7:D11) -> 353602434 | E12: =SUM(E7:E11) -> 0 | F12: =SUM(F7:F11) -> 0 | G12: =SUM(G7:G11) -> 0 | H12: =SUM(H7:H11) -> 0
A13: 7 | B13: Egyéb működési célú támogatások bevételei államháztartáson belülről (B16) | C13: =SUM(D13:H13) -> 86040297 | D13: =SUM(D14:D17) -> 24003793 | E13: =SUM(E14:E17) -> 0 | F13: =SUM(F14:F17) -> 62036504 | G13: =SUM(G14:G17) -> 0 | H13: =SUM(H14:H17) -> 0
A14: 8 | B14: ebből: egyéb fejezeti kezelésű előirányzatok (B16132) | C14: =SUM(D14:H14) -> 9573793 | D14: 9573793
A15: 9 | B15: ebből: társadalombiztosítás pénzügyi alapjai (B1614) | C15: =SUM(D15:H15) -> 14430000 | D15: 14430000
A16: 10 | B16: ebből: elkülönített állami pénzal (B1615) | C16: =SUM(D16:H16) -> 62036504 | F16: 62036504
A17: 11 | B17: ebből: önkormányzat és kv-i szerveik (B 1616) | C17: =SUM(D17:H17) -> 0
A18: 12 | B18: Működési célú támogatások államháztartáson belülről (B1) | C18: =SUM(D18:H18) -> 439642731 | D18: =D12+D13 -> 377606227 | E18: =E12+E13 -> 0 | F18: =F12+F13 -> 62036504 | G18: =G12+G13 -> 0 | H18: =H12+H13 -> 0
A19: 13 | B19: Felhalmozási célú önkormányzati támogatások (B21) | C19: =SUM(D19:H19) -> 3150000 | D19: =SUM(D20:D23) -> 3150000 | E19: =SUM(E20:E23) -> 0 | F19: =SUM(F20:F23) -> 0 | G19: =SUM(G20:G23) -> 0 | H19: =SUM(H20:H23) -> 0
A20: 14 | B20: ebből egyéb központi fc tám (B2119) | C20: =SUM(D20:H20) -> 0
A21: 15 | B21: ebből: egyéb fejezeti kezelésű előirányzatok fc (B2513) | C21: =SUM(D21:H21) -> 3150000 | D21: 3150000
A22: 16 | B22: ebből: elkülönített állami pénzal fc (B2515) | C22: =SUM(D22:H22) -> 0
A23: 17 | B23: ebből: önkorm és kv-i szervek fc tám (B2516) | C23: =SUM(D23:H23) -> 0
A24: 18 | B24: Felhalmozási célú támogatások államháztartáson belülről (B2) | C24: =SUM(D24:H24) -> 3150000 | D24: =D19 -> 3150000 | E24: =E19 -> 0 | F24: =F19 -> 0 | G24: =G19 -> 0 | H24: =H19 -> 0
A25: 19 | B25: Vagyoni tipusú adók (B34) | C25: =SUM(D25:H25) -> 102150639 | D25: =SUM(D26:D27) -> 102150639 | E25: =SUM(E26:E27) -> 0 | F25: =SUM(F26:F27) -> 0 | G25: =SUM(G26:G27) -> 0 | H25: =SUM(H26:H27) -> 0
A26: 20 | B26: ebből: építményadó (B34111) | C26: =SUM(D26:H26) -> 84512950 | D26: 84512950
A27: 21 | B27: ebből: magánszemélyek kommunális adója (B34114) | C27: =SUM(D27:H27) -> 17637689 | D27: 17637689
A28: 22 | B28: Értékesítési és forgalmi adók iparűzési adó (B351121) | C28: =SUM(D28:H28) -> 189265417 | D28: 189265417
A29: 23 | B29: Gépjárműadó (B354121) | C29: =SUM(D29:H29) -> 11678757 | D29: 11678757
A30: 24 | B30: Egyéb áruhasználati és szolgáltatási adók, környezetterh díj (B355122) | C30: =SUM(D30:H30) -> 110000 | D30: 110000
A31: 25 | B31: Termékek és szolgáltatások adói (B35) | C31: =SUM(D31:H31) -> 201054174 | D31: =SUM(D28:D30) -> 201054174 | E31: =SUM(E28:E30) -> 0 | F31: =SUM(F28:F30) -> 0 | G31: =SUM(G28:G30) -> 0 | H31: =SUM(H28:H30) -> 0
A32: 26 | B32: Egyéb közhatalmi bevételek (B36) | C32: =SUM(D32:H32) -> 0 | D32: =SUM(D33:D35) -> 0 | E32: =SUM(E33:E35) -> 0 | F32: =SUM(F33:F35) -> 0 | G32: =SUM(G33:G35) -> 0 | H32: =SUM(H33:H35) -> 0
A33: 27 | B33: ebből: szabálysértési pénz- és helyszíni bírság és a közlekedési szabályszegések után kiszabott közigazgatási bírság helyi önkormányzatot megillető része (B361225) | C33: =SUM(D33:H33) -> 0
A34: 28 | B34: ebből: egyéb bírság (B361229) | C34: =SUM(D34:H34) -> 0
A35: 29 | B35: ebből: egyéb települési adók (B36128) | C35: =SUM(D35:H35) -> 0
A36: 30 | B36: Közhatalmi bevételek (B3) | C36: =SUM(D36:H36) -> 303204813 | D36: =D25+D31+D32 -> 303204813 | E36: =E25+E31+E32 -> 0 | F36: =F25+F31+F32 -> 0 | G36: =G25+G31+G32 -> 0 | H36: =H25+H31+H32 -> 0
A37: 31 | B37: Áru- és készletértékesítés ellenértéke (B401) | C37: =SUM(D37:H37) -> 28500 | G37: 28500
A38: 32 | B38: Szolgáltatások (B4021) | C38: =SUM(D38:H38) -> 6942704 | D38: =SUM(D39:D41) -> 0 | E38: =SUM(E39:E41) -> 335000 | F38: =SUM(F39:F41) -> 400000 | G38: =SUM(G39:G41) -> 940000 | H38: =SUM(H39:H41) -> 5267704
A39: 33 | B39: ebből: alkalmazottak térítési díj (B40211) | C39: =SUM(D39:H39) -> 562880 | H39: 562880
A40: 34 | B40: ebből: bérleti díj bev (B40212) | C40: =SUM(D40:H40) -> 1495000 | E40: 335000 | F40: 400000 | G40: 760000
A41: 35 | B41: ebből: egyéb szolgáltatás (40214) | C41: =SUM(D41:H41) -> 4884824 | G41: 180000 | H41: 4704824
...

Sheet 1c
B1: Berhida Város Önkormányzata | C1: 1.c. melléklet
B2: 2017. évi költségvetés | C2: a 2/2017. (II.24.) önkormányzati rendelethez
B4: Bevételek | C4: Ft-ban
C5: Összesen | D5: Önkormányzat | E5: Hivatal | F5: TESZ | G5: Kultúr | H5: Süni
A6: Sor- szám | B6: Rovat megnevezése | C6: Teljesítés 06.30 | D6: Teljesítés | E6: Teljesítés | F6: Teljesítés | G6: Teljesítés | H6: Teljesítés
A7: 1 | B7: Helyi önkormányzatok működésének általános támogatása (B1111) | C7: =SUM(D7:H7) -> 55404546 | D7: 55404546
A8: 2 | B8: Települési önkormányzatok egyes köznevelési feladatainak támogatása (B1121) | C8: =SUM(D8:H8) -> 67857614 | D8: 67857614
A9: 3 | B9: Települési önkormányzatok szociális, gyermekjóléti és gyermekétkeztetési feladatainak támogatása (B1131) | C9: =SUM(D9:H9) -> 49665002 | D9: 49665002
A10: 4 | B10: Települési önkormányzatok kulturális feladatainak támogatása (B1141) | C10: =SUM(D10:H10) -> 4312126 | D10: 4312126
A11: 5 | B11: Működési célú költségvetési támogatások és kiegészítő támogatások (B1151) | C11: =SUM(D11:H11) -> 3385870 | D11: 3385870
A12: 6 | B12: Önkormányzatok működési támogatásai (B11) | C12: =SUM(D12:H12) -> 180625158 | D12: =SUM(D7:D11) -> 180625158 | E12: =SUM(E7:E11) -> 0 | F12: =SUM(F7:F11) -> 0 | G12: =SUM(G7:G11) -> 0 | H12: =SUM(H7:H11) -> 0
A13: 7 | B13: Egyéb működési célú támogatások bevételei államháztartáson belülről (B16) | C13: =SUM(D13:H13) -> 39130626 | D13: =SUM(D14:D17) -> 7186500 | E13: =SUM(E14:E17) -> 0 | F13: =SUM(F14:F17) -> 31701904 | G13: =SUM(G14:G17) -> 0 | H13: =SUM(H14:H17) -> 242222
A14: 8 | B14: ebből: egyéb fejezeti kezelésű előirányzatok (B16132) | C14: =SUM(D14:H14) -> 0
A15: 9 | B15: ebből: társadalombiztosítás pénzügyi alapjai (B1614) | C15: =SUM(D15:H15) -> 7186500 | D15: 7186500
A16: 10 | B16: ebből: elkülönített állami pénzal (B1615) | C16: =SUM(D16:H16) -> 31944126 | F16: 31701904 | H16: 242222
A17: 11 | B17: ebből: önkormányzat és kv-i szerveik (B 1616) | C17: =SUM(D17:H17) -> 0
A18: 12 | B18: Működési célú támogatások államháztartáson belülről (B1) | C18: =SUM(D18:H18) -> 219755784 | D18: =D12+D13 -> 187811658 | E18: =E12+E13 -> 0 | F18: =F12+F13 -> 31701904 | G18: =G12+G13 -> 0 | H18: =H12+H13 -> 242222
A19: 13 | B19: Felhalmozási célú önkormányzati támogatások (B21) | C19: =SUM(D19:H19) -> 2879814 | D19: 2879814 | E19: =SUM(E20:E23) -> 0 | F19: =SUM(F20:F23) -> 0 | G19: =SUM(G20:G23) -> 0 | H19: =SUM(H20:H23) -> 0
A20: 14 | B20: ebből egyéb központi fc tám (B2119) | C20: =SUM(D20:H20) -> 0
A21: 15 | B21: ebből: egyéb fejezeti kezelésű előirányzatok fc (B2513) | C21: =SUM(D21:H21) -> 0
A22: 16 | B22: ebből: elkülönített állami pénzal fc (B2515) | C22: =SUM(D22:H22) -> 0
A23: 17 | B23: ebből: önkorm és kv-i szervek fc tám (B2516) | C23: =SUM(D23:H23) -> 0
A24: 18 | B24: Felhalmozási célú támogatások államháztartáson belülről (B2) | C24: =SUM(D24:H24) -> 2879814 | D24: =D19 -> 2879814 | E24: =E19 -> 0 | F24: =F19 -> 0 | G24: =G19 -> 0 | H24: =H19 -> 0
A25: 19 | B25: Vagyoni tipusú adók (B34) | C25: =SUM(D25:H25) -> 56459709 | D25: 56459709 | E25: =SUM(E26:E27) -> 0 | F25: =SUM(F26:F27) -> 0 | G25: =SUM(G26:G27) -> 0 | H25: =SUM(H26:H27) -> 0
A26: 20 | B26: ebből: építményadó (B34111) | C26: =SUM(D26:H26) -> 47502394 | D26: 47502394
A27: 21 | B27: ebből: magánszemélyek kommunális adója (B34114) | C27: =SUM(D27:H27) -> 8957315 | D27: 8957315
A28: 22 | B28: Értékesítési és forgalmi adók iparűzési adó (B351121) | C28: =SUM(D28:H28) -> 92404463 | D28: 92404463
A29: 23 | B29: Gépjárműadó (B354121) | C29: =SUM(D29:H29) -> 5931585 | D29: 5931585
A30: 24 | B30: Egyéb áruhasználati és szolgáltatási adók, környezetterh díj (B355122) | C30: =SUM(D30:H30) -> 0
A31: 25 | B31: Termékek és szolgáltatások adói (B35) | C31: =SUM(D31:H31) -> 98336048 | D31: =SUM(D28:D30) -> 98336048 | E31: =SUM(E28:E30) -> 0 | F31: =SUM(F28:F30) -> 0 | G31: =SUM(G28:G30) -> 0 | H31: =SUM(H28:H30) -> 0
A32: 26 | B32: Egyéb közhatalmi bevételek (B36) | C32: =SUM(D32:H32) -> 483374 | D32: 438374 | E32: 45000 | F32: =SUM(F33:F35) -> 0 | G32: =SUM(G33:G35) -> 0 | H32: =SUM(H33:H35) -> 0
A33: 27 | B33: ebből: szabálysértési pénz- és helyszíni bírság és a közlekedési szabályszegések után kiszabott közigazgatási bírság helyi önkormányzatot megillető része (B361225) | C33: =SUM(D33:H33) -> 64251 | D33: 64251
A34: 28 | B34: ebből: egyéb bírság (B361229) | C34: =SUM(D34:H34) -> 112430 | D34: 102430 | E34: 10000
A35: 29 | B35: ebből: egyéb települési adók (B36128) | C35: =SUM(D35:H35) -> 271693 | D35: 271693
A36: 30 | B36: Közhatalmi bevételek (B3) | C36: =SUM(D36:H36) -> 155279131 | D36: =D25+D31+D32 -> 155234131 | E36: =E25+E31+E32 -> 45000 | F36: =F25+F31+F32 -> 0 | G36: =G25+G31+G32 -> 0 | H36: =H25+H31+H32 -> 0
A37: 31 | B37: Áru- és készletértékesítés ellenértéke (B401) | C37: =SUM(D37:H37) -> 37950 | F37: 3100 | G37: 34850
A38: 31 | B38: Szolgáltatások (B4021) | C38: =SUM(D38:H38) -> 5001693 | D38: 23622 | E38: 196732 | F38: 698625 | G38: 890115 | H38: 3192599
A39: 32 | B39: ebből: alkalmazottak térítési díj (B40211) | C39: =SUM(D39:H39) -> 0
A40: 33 | B40: ebből: bérleti díj bev (B40212) | C40: =SUM(D40:H40) -> 947107 | E40: 196732 | G40: 750375
A41: 34 | B41: ebből: egyéb szolgáltatás (40214) | C41: =SUM(D41:H41) -> 0
...

Sheet 2
B1: Berhida Város Önkormányzata | D1: 2. melléklet
B2: 2017. évi költségvetés | D2: a 2/2017. (II. 24 .) önkormányzati rendelethez
B3: Kiadások | C3: Ft-ban
C4: Összesen | D4: Önkormányzat | E4: Hivatal | F4: TESZ | G4: Kultúr | H4: Süni
A5: Sor- szám | B5: Rovat megnevezése | C5: Eredeti előirányzat | D5: Eredeti előirányzat | E5: Eredeti előirányzat | F5: Eredeti előirányzat | G5: Eredeti előirányzat | H5: Eredeti előirányzat
A6: 1 | B6: Személyi juttatások (K1) | C6: =SUM(D6:H6) -> 342026944 | D6: 34011835 | E6: 108619319 | F6: 101391038 | G6: 21160374 | H6: 76844378
A7: 2 | B7: Munkaadókat terhelő járulékok és szociális hozzájárulási adó (K2) | C7: =SUM(D7:H7) -> 73806915 | D7: 8573314 | E7: 26070315 | F7: 15853042 | G7: 4736256 | H7: 18573988
A8: 3 | B8: Dologi kiadások (K3) | C8: =SUM(D8:H8) -> 213722834 | D8: 40495573 | E8: 31903460 | F8: 68271434 | G8: 28198640 | H8: 44853727
A9: 4 | B9: Családi támogatások (K42) | C9: =SUM(D9:H9) -> 0 | D9: =D10 -> 0 | E9: =E10 -> 0 | F9: =F10 -> 0 | G9: =G10 -> 0 | H9: =H10 -> 0
A10: 5 | B10: ebből: az egyéb pénzbeli és természetbeni gyermekvédelmi támogatások (K42132) | C10: =SUM(D10:H10) -> 0
A11: 6 | B11: Intézményi ellátottak pénzbeli juttatásai (K47) | C11: =SUM(D11:H11) -> 2700000 | D11: =D12 -> 2700000 | E11: =E12 -> 0 | F11: =F12 -> 0 | G11: =G12 -> 0 | H11: =H12 -> 0
A12: 7 | B12: ebből: oktatásban résztvevők pénzbeli juttatásai (K471) | C12: =SUM(D12:H12) -> 2700000 | D12: 2700000
A13: 8 | B13: Egyéb nem intézményi ellátások (K48) | C13: =SUM(D13:H13) -> 9300000 | D13: =SUM(D14:D16) -> 9300000 | E13: =SUM(E14:E16) -> 0 | F13: =SUM(F14:F16) -> 0 | G13: =SUM(G14:G16) -> 0 | H13: =SUM(H14:H16) -> 0
A14: 9 | B14: ebből: köztemetés [Szoctv. 48.§] (K48123) | C14: =SUM(D14:H14) -> 900000 | D14: 900000
A15: 10 | B15: ebből: települési támogatás [Szoctv. 45. §], (K48122) | C15: =SUM(D15:H15) -> 8400000 | D15: 8400000
A16: 11 | B16: ebből: önkorm. Saját hatáskörben adott (K48139) | C16: =SUM(D16:H16) -> 0
A17: 12 | B17: Ellátottak pénzbeli juttatásai (K4) | C17: =SUM(D17:H17) -> 12000000 | D17: =D9+D11+D13 -> 12000000 | E17: =E9+E11+E13 -> 0 | F17: =F9+F11+F13 -> 0 | G17: =G9+G11+G13 -> 0 | H17: =H9+H11+H13 -> 0
A18: 13 | B18: Elvonások és befizetések (K5023) | C18: =SUM(D18:H18) -> 780000 | D18: 780000
A19: 14 | B19: Egyéb működési célú támogatások államháztartáson belülre (K506) | C19: =SUM(D19:H19) -> 149600192 | D19: =SUM(D20:D23) -> 148857492 | E19: =SUM(E20:E23) -> 0 | F19: =SUM(F20:F23) -> 742700 | G19: =SUM(G20:G23) -> 0 | H19: =SUM(H20:H23) -> 0
A20: 15 | B20: ebből: egyéb fejezeti kezelésű előirányzatok (K506132) | C20: =SUM(D20:H20) -> 500000 | D20: 500000
A21: 16 | B21: ebből: elkülönített állami pénzalap (K50615) | C21: =SUM(D21:H21) -> 742700 | F21: 742700
A22: 17 | B22: ebből: önkormányzatok és költségv-i szerveik K50616) | C22: =SUM(D22:H22) -> 0
A23: 18 | B23: ebből: társulások és költségvetési szerveik (K50617) | C23: =SUM(D23:H23) -> 148357492 | D23: 148357492
A24: 19 | B24: Egyéb működési célú támogatások államháztartáson kívülre non-profit szervezet (K512142) | C24: =SUM(D24:H24) -> 6360000 | D24: 6360000
A25: 20 | B25: Tartalékok (K51311) | C25: =SUM(D25:H25) -> 126096387 | D25: 126096387
A26: 21 | B26: Egyéb működési célú kiadások (K5) | C26: =SUM(D26:H26) -> 282836579 | D26: =D18+D19+D24+D25 -> 282093879 | E26: =E18+E19+E24+E25 -> 0 | F26: =F18+F19+F24+F25 -> 742700 | G26: =G18+G19+G24+G25 -> 0 | H26: =H18+H19+H24+H25 -> 0
A27: 22 | B27: Immateriális javak beszerzése, lét (K611) | C27: =SUM(D27:H27) -> 2381102 | D27: 1181102 | E27: 1000000 | F27: 200000
A28: 23 | B28: Ingatlanok beszerzése, létesítése (K621) | C28: =SUM(D28:H28) -> 11101574 | D28: 11101574
A29: 24 | B29: Informatikai eszközök beszerzése, létesítése (K631) | C29: =SUM(D29:H29) -> 3350000 | D29: 90000 | E29: 3000000 | F29: 260000
A30: 25 | B30: Egyéb tárgyi eszközök beszerzése, létesítése (K641) | C30: =SUM(D30:H30) -> 5052333 | D30: 1861333 | E30: 200000 | F30: 1820000 | G30: 791000 | H30: 380000
A31: 26 | B31: Beruházási célú előzetesen felszámított általános forgalmi adó (K671) | C31: =SUM(D31:H31) -> 5778935 | D31: 3843185 | E31: 1134000 | F31: =(SUM(F27:F30)*0.27) -> 615600 | G31: 83550 | H31: 102600
A32: 27 | B32: Beruházások (K6) | C32: =SUM(D32:H32) -> 27663944 | D32: =SUM(D27:D31) -> 18077194 | E32: =SUM(E27:E31) -> 5334000 | F32: =SUM(F27:F31) -> 2895600 | G32: =SUM(G27:G31) -> 874550 | H32: =SUM(H27:H31) -> 482600
A33: 28 | B33: Ingatlanok felújítása (K711) | C33: =SUM(D33:H33) -> 200188081 | D33: 200188081
A34: 29 | B34: Informatikai eszköz felújítása (K7211) | C34: =SUM(D34:H34) -> 100000 | E34: 100000
A35: 30 | B35: Egyéb tárgyi eszközök felújítása (K731) | C35: =SUM(D35:H35) -> 320000 | F35: 200000 | H35: 120000
A36: 31 | B36: Felújítási célú előzetesen felszámított általános forgalmi adó (K741) | C36: =SUM(D36:H36) -> 53904982 | D36: 53791582 | E36: 27000 | F36: 54000 | G36: =(SUM(G33:G35))*0.27 -> 0 | H36: 32400
A37: 32 | B37: Felújítások (K7) | C37: =SUM(D37:H37) -> 254513063 | D37: =SUM(D33:D36) -> 253979663 | E37: =SUM(E33:E36) -> 127000 | F37: =SUM(F33:F36) -> 254000 | G37: =SUM(G33:G36) -> 0 | H37: =SUM(H33:H36) -> 152400
A38: 33 | B38: Egyéb felhalmozási célú támogatások államháztartáson kívülre (K89) | C38: =SUM(D38:H38) -> 0 | D38: =SUM(D39:D41) -> 0 | E38: =SUM(E39:E41) -> 0 | F38: =SUM(F39:F41) -> 0 | G38: =SUM(G39:G41) -> 0 | H38: =SUM(H39:H41) -> 0
A39: 34 | B39: ebből: egyházi jogi személyek (K89) | C39: =SUM(D39:H39) -> 0
A40: 35 | B40: ebből: nonprofit gazdasági társaságok (K89) | C40: =SUM(D40:H40) -> 0
...

Sheet 2a
B1: Berhida Város Önkormányzata | C1: 2/a. melléklet
B2: 2017. évi költségvetés | C2: a 2/2017. (II.24.) önkormányzati rendelethez
B3: Kiadások | C3: adatok Ft-ban
A5: Felújítások | C5: Eredeti előir | D5: Mód előir | E5: változás | F5: Mód jav előir | G5: Teljesítés 06.30.
A6: 1 | B6: ÖNK út-járda felújítások+műsz ell kv-i m ad. Konsz II.pály | C6: 194762848 | D6: 186652866 | F6: =D6+E6 -> 186652866 | G6: 21268004
A7: 2 | B7: ÖNK Süni óvoda tető felújítás adósságkonsz pály+kieg kv-i m | C7: 49983339 | D7: 63314274 | E7: 4838339 | F7: =D7+E7 -> 68152613 | G7: 0
A8: 3 | B8: ÖNK Önk Hivatal vizesblokk felújítás kv-i mar | C8: 416162 | D8: 416162 | F8: =D8+E8 -> 416162 | G8: 399125
A9: 4 | B9: TESZ jármű felújítás | C9: 254000 | D9: 254000 | E9: 660400 | F9: =D9+E9 -> 914400 | G9: 0
A10: 5 | B10: ÖNK Hunyadi tér orvosi rendelő felújítás | C10: 203200 | D10: 319515 | F10: =D10+E10 -> 319515 | G10: 279515
A11: 6 | B11: ÖH informatikai eszköz felújítás | C11: 127000 | D11: 127000 | F11: =D11+E11 -> 127000 | G11: 0
A12: 7 | B12: ÖNK Ady régi isk vizesblokk felújítás áthúzódó (tanári+konyhai) | C12: 774446 | D12: 1094445 | F12: =D12+E12 -> 1094445 | G12: 1094445
A13: 8 | B13: ÖNK Jázmin 1.. szolg. Lakás ablakcsere | C13: 340000 | D13: 340000 | F13: =D13+E13 -> 340000 | G13: 333756
A14: 9 | B14: ÖNK Jázmin u. 2 db garázsajtó | C14: 304800 | D14: 304800 | F14: =D14+E14 -> 304800 | G14: 304800
A15: 10 | B15: ÖNK Pgytp 1848-49 emlékmű felújítás | C15: 1987093 | D15: 2087093 | F15: =D15+E15 -> 2087093 | G15: 1987093
A16: 11 | B16: ÖNK pályázatokhoz kapcsolódó tervek | C16: 3000000 | D16: 3890000 | E16: -3531402 | F16: =D16+E16 -> 358598 | G16: 0
A17: 12 | B17: ÖNK közvilágítás korszerűsítés kiviteli terv | C17: 1247775 | D17: 1247775 | F17: =D17+E17 -> 1247775 | G17: 0
A18: 13 | B18: ÖNK külterületi utak pályázat tervek | C18: 960000 | D18: 960000 | F18: =D18+E18 -> 960000 | G18: 320000
A19: 14 | B19: Süni egyéb tárgyi eszköz felújítás | C19: 152400 | D19: 152400 | F19: =D19+E19 -> 152400
A20: 15 | B20: ÖNK Kultúrház homlokzat felújítás, nyílászáró csere | D20: 5015000 | E20: 100000 | F20: =D20+E20 -> 5115000
A21: 16 | B21: ÖNK Petőfi műv ház lapostető szigetelés, javítás | D21: 480038 | F21: =D21+E21 -> 480038
A22: 17 | B22: ÖNK Petőfi Műv ház színpadi kapcsoló szekrény cseréje | D22: 1682750 | E22: 690499 | F22: =D22+E22 -> 2373249
A23: 18 | B23: ÖNK Hivatal Keleti szárny tetőszigetelés, kapcsolódó munkák | D23: 3810000 | E23: -145000 | F23: =D23+E23 -> 3665000
A24: 19 | B24: ÖNK Péti úti temető ravatalozó utcai homlokzat felújítás | D24: 370000 | F24: =D24+E24 -> 370000
A25: 20 | B25: ÖNK Hunyadi tér orvosi rendelő felújítás | D25: 0 | F25: =D25+E25 -> 0
A26: 21 | B26: ÖNK Sportöltöző villamosszekrény felújítása | D26: 320000 | F26: =D26+E26 -> 320000
A27: 22 | B27: ÖNK. Erkel F. u. forg.rend. terv. kivitelezés | E27: 1444500 | F27: =D27+E27 -> 1444500 | G27: 444500
A28: 23 | B28: ÖNK Süni parketta anyag költség | E28: 280000 | F28: =D28+E28 -> 280000
A29: 24 | B29: ÖNK Orgona u.1. ABC nyílászárók cseréje | E29: 2764840 | F29: =D29+E29 -> 2764840
A30: 25 | B30: ÖNK Hősök tere, Pgytp zászlótér térkövezés | E30: 986790 | F30: =D30+E30 -> 986790
A31: 26 | B31: ÖNK Orgona u. 1/3. fittnes felújítás vásárlás | E31: 1409613 | F31: =D31+E31 -> 1409613
A32: 27 | F32: =D32+E32 -> 0
A33: 28 | B33: Összesen | C33: =SUM(C6:C32) -> 254513063 | D33: =SUM(D6:D32) -> 272838118 | E33: =SUM(E6:E32) -> 9498579 | F33: =SUM(F6:F32) -> 282336697 | G33: =SUM(G6:G32) -> 26431238

Sheet 2b
B1: Berhida Város Önkormányzata | C1: 2/b. melléklet
B2: 2017. évi költségvetés | C2: a 2/2017. (II.24.) önkormányzati rendelethez
B3: Kiadások | C3: adatok Ft-ban
A5: Beruházások | C5: Eredeti előir | D5: Mód előir | E5: változás | F5: mód javaslat | G5: Teljesítés 06.30.
A6: 1 | B6: ÖNK intézményi beruházásokhoz kapcs tervek kv-i m | C6: 3000000 | D6: 2000000 | E6: -488694 | F6: =D6+E6 -> 1511306 | G6: 0
A7: 2 | B7: ÖNK Veszprémi-Orgona út között telkek villamosterv kv-i m | C7: 499000 | D7: 499000 | F7: =D7+E7 -> 499000 | G7: 0
A8: 3 | B8: ÖNK védőnői szolg. Egyéb eszközbeszerzés | C8: 127000 | D8: 327000 | F8: =D8+E8 -> 327000 | G8: 17980
A9: 4 | B9: ÖNK TESZ telephely vásárlás | C9: 10000000 | D9: 10000000 | F9: =D9+E9 -> 10000000 | G9: 0
A10: 5 | B10: ÖNK inform eszköz modem | C10: 114300 | D10: 114300 | F10: =D10+E10 -> 114300 | G10: 0
A11: 6 | B11: ÖNK egyéb tárgyi eszköz (vérszáll. hűtőtáska) | C11: 36894 | D11: 36894 | F11: =D11+E11 -> 36894 | G11: 29048
A12: 7 | B12: ÖNK önkormányzati WEB lap készítés | C12: 1500000 | D12: 1500000 | E12: -1500000 | F12: =D12+E12 -> 0 | G12: 0
A13: 8 | B13: ÖNK Péti úti temető urnafal építés | C13: 1500000 | D13: 1500000 | F13: =D13+E13 -> 1500000 | G13: 0
A14: 9 | B14: ÖNK közvilágítási lámpatestek beszerzése (napelemes stb…) | C14: 600000 | D14: 949250 | F14: =D14+E14 -> 949250 | G14: 0
A15: 10 | B15: ÖNK közkutak vízmérő kialakítási munkák HKA | C15: 700000 | D15: 848151 | F15: =D15+E15 -> 848151 | G15: 148151
A16: 11 | B16: TESZ imm javak +áfa | C16: 254000 | D16: 254000 | F16: =D16+E16 -> 254000 | G16: 69850
A17: 12 | B17: TESZ egyéb tárgyi eszközök beszerz út-híd | C17: 762000 | D17: 887000 | F17: =D17+E17 -> 887000 | G17: 162027
A18: 13 | B18: TESZ informatikai eszközök+áfa | C18: 330200 | D18: 330200 | F18: =D18+E18 -> 330200 | G18: 5600
A19: 14 | B19: TESZ egyéb te+áfa zöldterület (padok, kerékgumi stb) | C19: 254000 | D19: 449000 | F19: =D19+E19 -> 449000 | G19: 0
A20: 15 | B20: TESZ egyéb gép, berendezés szekrények + áfa | C20: 317500 | D20: 317500 | F20: =D20+E20 -> 317500 | G20: 200000
A21: 16 | B21: TESZ padok, kuka köztemető | C21: 342900 | D21: 342900 | F21: =D21+E21 -> 342900 | G21: 190500
A22: 17 | B22: TESZ hosszú közfoglalkoztatás eszközbeszerzés | C22: 635000 | D22: 635000 | F22: =D22+E22 -> 635000 | G22: 518757
A23: 18 | B23: Kultúrház egyéb tárgyi eszköz pály-hoz önrész | C23: 254000 | D23: 514000 | F23: =D23+E23 -> 514000 | G23: 0
A24: 19 | B24: Kultúrház könyv beszerzés (éven túli) | C24: 620550 | D24: 620550 | E24: 70500 | F24: =D24+E24 -> 691050 | G24: 259515
A25: 20 | B25: Süni Óvoda konyhai eszközök | C25: 254000 | D25: 254000 | F25: =D25+E25 -> 254000 | G25: 0
A26: 21 | B26: Süni egyéb óvodai tárgyi eszköz + áfa | C26: 228600 | D26: 369600 | F26: =D26+E26 -> 369600 | G26: 21998
A27: 22 | B27: ÖH informatikai eszközök + áfa | C27: 3810000 | D27: 3409950 | F27: =D27+E27 -> 3409950 | G27: 0
A28: 23 | B28: ÖH egyéb gép, berend + áfa | C28: 254000 | D28: 1672290 | F28: =D28+E28 -> 1672290 | G28: 603248
A29: 24 | B29: ÖH imm javak + áfa | C29: 1270000 | D29: 1000760 | F29: =D29+E29 -> 1000760 | G29: 0
A30: 25 | B30: ÖNK Péti úti temetőnél útöböl térkövezés | D30: 2000000 | F30: =D30+E30 -> 2000000 | G30: 0
A31: 26 | B31: ÖNK Péti úti temető új kapu Csokonai u. | D31: 300000 | F31: =D31+E31 -> 300000 | G31: 0
A32: 27 | B32: ÖNK Kiskovácsi temető múrvázott útépítés | D32: 925000 | F32: =D32+E32 -> 925000 | G32: 0
A33: 28 | B33: ÖNK Kiskovácsi temető ravatalozó bővítés | D33: 2470000 | F33: =D33+E33 -> 2470000 | G33: 0
A34: 29 | B34: ÖNK urnafal, temetkezési hely kialakítás | D34: 303267 | F34: =D34+E34 -> 303267 | G34: 0
A35: 30 | B35: ÖNK Iskola szék, asztal, egyéb eszköz vásárlás | D35: 300000 | F35: =D35+E35 -> 300000 | G35: 141785
A36: 31 | B36: ÖNK Péti uton buszmegálló beszerzés+ alépítmény | D36: 1070000 | F36: =D36+E36 -> 1070000 | G36: 0
A37: 32 | B37: TESZ vagyongazdálkodás egyéb tárgyi eszköz beszerzés+áfa | D37: 80000 | F37: =D37+E37 -> 80000 | G37: 19998
A38: 33 | B38: Kultúrház mikrofonok, egyéb gép, eszköz beszerzés+áfa | D38: 806820 | E38: 210500 | F38: =D38+E38 -> 1017320 | G38: 35000
A39: 34 | B39: Kultúrház szakkörök kisértékű tárgyi eszk beszerz | D39: 550510 | E39: -12140 | F39: =D39+E39 -> 538370 | G39: 239970
A40: 35 | B40: ÖNK Süni Óvoda beépített szekrény 7 db | E40: 1622694 | F40: =D40+E40 -> 1622694
A41: 36 | B41: ÖNK Rezeda u. 19. redőny, szunyogháló beszerz | E41: 184347 | F41: =D41+E41 -> 184347
...

Sheet 2c
A1: BERHIDA VÁROS ÖNKORMÁNYZATA
A2: 2017. évi költségvetési tervben a költségvetési maradvány igénybevétel és hiány részletezése
E3: 2/c melléklet
E4: a 2/2017. (II. 24 .) önkormányzati rendelethez
E5: adatok Ft-ban
A6: kv-i maradvány | C6: céltart | D6: Műk célú Tám | E6: Felújítás | F6: Felhalm | G6: dologi | H6: állami megel | I6: személyi | J6: járulék
A7: HKA | B7: =SUM(C7:J7) -> 70775642 | C7: 70775642
A8: tc társulási 2016 | B8: =SUM(C8:J8) -> 1217323 | D8: 1217323
A9: külterületi utak önrész céltartba | B9: =SUM(C9:J9) -> 11120745 | C9: 11120745
A10: Süni Óvoda tető felúj | B10: =SUM(C10:J10) -> 49983339 | E10: 49983339
A11: Adósságkonsz pály út-járda felúj+műsz ell | B11: =SUM(C11:J11) -> 194581765 | E11: 194581765
A12: állami támogatás elszám. Étkeztetés | B12: =SUM(C12:J12) -> 3200000 | C12: 3200000
A13: ingatlan havaria céltartalékba | B13: =SUM(C13:J13) -> 5000000 | C13: 5000000
A14: iskola egészségügy Dankáné 2016 | B14: =SUM(C14:J14) -> 348000 | G14: 348000
A15: Hivatal vizesblokk felúk | B15: =SUM(C15:J15) -> 416162 | E15: 416162
A16: Hunyaditér orvosi rendelő felúj | B16: =SUM(C16:J16) -> 203200 | E16: 203200
A17: Ady vizesblokk felúj | B17: =SUM(C17:J17) -> 774446 | E17: 774446
A18: Jázmin u. szolg. Lakás ablakcsere | B18: =SUM(C18:J18) -> 340000 | E18: 340000
A19: Jázmin u. 2 db garázs ajtó csere | B19: =SUM(C19:J19) -> 304800 | E19: 304800
A20: Pgytp emlékmű felúj | B20: =SUM(C20:J20) -> 1987093 | E20: 1987093
A21: felújítás tervek | B21: =SUM(C21:J21) -> 3000000 | E21: 3000000
A22: beruházás tervek | B22: =SUM(C22:J22) -> 3000000 | F22: 3000000
A23: közvilágítás kiviteli tervek | B23: =SUM(C23:J23) -> 1247775 | E23: 1247775
A24: külterületi utak felúj pály tervek | B24: =SUM(C24:J24) -> 960000 | E24: 960000
A25: telkek villamosterv | B25: =SUM(C25:J25) -> 499000 | F25: 499000
A26: TESZ telephely vásárlás | B26: =SUM(C26:J26) -> 10000000 | F26: 10000000
A27: betegség megel inf modem | B27: =SUM(C27:J27) -> 114300 | F27: 114300
A28: betegség megel hűtőtáska | B28: =SUM(C28:J28) -> 36894 | F28: 36894
A29: WEB lap készítés | B29: =SUM(C29:J29) -> 1500000 | F29: 1500000
A30: urnafal készítés | B30: =SUM(C30:J30) -> 1500000 | F30: 1500000
A31: TOPOS pályázat Megyei önk díj | B31: =SUM(C31:J31) -> 4860594 | G31: 4860594
A32: ÖNK közvilágítási lámpatestek beszerzése (napelemes stb…) | B32: =SUM(C32:J32) -> 600000 | F32: 600000
A33: ÖNK közkutak vízmérő kialakítási munkák HKA | B33: =SUM(C33:J33) -> 700000 | F33: 700000
A34: TESZ imm javak +áfa | B34: =SUM(C34:J34) -> 254000 | F34: 254000
A35: TESZ egyéb tárgyi eszközök beszerz út-híd | B35: =SUM(C35:J35) -> 762000 | F35: 762000
A36: TESZ informatikai eszközök+áfa | B36: =SUM(C36:J36) -> 330200 | F36: 330200
A37: TESZ egyéb te+áfa zöldterület (padok, kerékgumi stb) | B37: =SUM(C37:J37) -> 254000 | F37: 254000
A38: TESZ egyéb gép, berendezés szekrények + áfa | B38: =SUM(C38:J38) -> 317500 | F38: 317500
A39: TESZ padok, kuka köztemető | B39: =SUM(C39:J39) -> 342900 | F39: 342900
A40: TESZ hosszú közfoglalkoztatás eszközbeszerzés | B40: =SUM(C40:J40) -> 635000 | F40: 635000
...

Sheet 2d
B1: Berhida Város Önkormányzata | D1: 2.d melléklet
B2: 2017. évi költségvetés | D2: a 2/2017. (II.24.) önkormányzati rendelethez
B3: Kiadások | C3: Ft-ban
C4: Összesen | D4: Önkormányzat | E4: Hivatal | F4: TESZ | G4: Kultúr | H4: Süni
A5: Sor- szám | B5: Rovat megnevezése | C5: Módosított Előirányzat | D5: Módosított Előirányzat | E5: Módosított Előirányzat | F5: Módosított Előirányzat | G5: Módosított Előirányzat | H5: Módosított Előirányzat
A6: 1 | B6: Személyi juttatások (K1) | C6: =SUM(D6:H6) -> 368716874 | D6: 34016851 | E6: 118439276 | F6: 108757038 | G6: 24908395 | H6: 82595314
A7: 2 | B7: Munkaadókat terhelő járulékok és szociális hozzájárulási adó (K2) | C7: =SUM(D7:H7) -> 80433713 | D7: 8861058 | E7: 28588065 | F7: 17473562 | G7: 5659390 | H7: 19851638
A8: 3 | B8: Dologi kiadások (K3) | C8: =SUM(D8:H8) -> 258319323 | D8: 60956949 | E8: 34456509 | F8: 81487925 | G8: 33087293 | H8: 48330647
A9: 4 | B9: Családi támogatások (K42) | C9: =SUM(D9:H9) -> 2542000 | D9: =D10 -> 2542000 | F9: =F10 -> 0 | G9: =G10 -> 0 | H9: =H10 -> 0
A10: 5 | B10: ebből: az egyéb pénzbeli és természetbeni gyermekvédelmi támogatások (K42132) | C10: =SUM(D10:H10) -> 2542000 | D10: 2542000
A11: 6 | B11: Intézményi ellátottak pénzbeli juttatásai (K47) | C11: =SUM(D11:H11) -> 2700000 | D11: =D12 -> 2700000 | E11: =E12 -> 0 | F11: =F12 -> 0 | G11: =G12 -> 0 | H11: =H12 -> 0
A12: 7 | B12: ebből: oktatásban résztvevők pénzbeli juttatásai (K471) | C12: =SUM(D12:H12) -> 2700000 | D12: 2700000
A13: 8 | B13: Egyéb nem intézményi ellátások (K48) | C13: =SUM(D13:H13) -> 9300000 | D13: =SUM(D14:D16) -> 9300000 | E13: =SUM(E14:E16) -> 0 | F13: =SUM(F14:F16) -> 0 | G13: =SUM(G14:G16) -> 0 | H13: =SUM(H14:H16) -> 0
A14: 9 | B14: ebből: köztemetés [Szoctv. 48.§] (K48123) | C14: =SUM(D14:H14) -> 900000 | D14: 900000
A15: 10 | B15: ebből: települési támogatás [Szoctv. 45. §], (K48122) | C15: =SUM(D15:H15) -> 8400000 | D15: 8400000
A16: 11 | B16: ebből: önkorm. Saját hatáskörben adott (K48139) | C16: =SUM(D16:H16) -> 0
A17: 12 | B17: Ellátottak pénzbeli juttatásai (K4) | C17: =SUM(D17:H17) -> 14542000 | D17: =D9+D11+D13 -> 14542000 | E17: =E9+E11+E13 -> 0 | F17: =F9+F11+F13 -> 0 | G17: =G9+G11+G13 -> 0 | H17: =H9+H11+H13 -> 0
A18: 13 | B18: Elvonások és befizetések (K5023) | C18: =SUM(D18:H18) -> 822459 | D18: 822459
A19: 14 | B19: Egyéb működési célú támogatások államháztartáson belülre (K506) | C19: =SUM(D19:H19) -> 157984520 | D19: =SUM(D20:D23) -> 157241820 | E19: =SUM(E20:E23) -> 0 | F19: =SUM(F20:F23) -> 742700 | G19: =SUM(G20:G23) -> 0 | H19: =SUM(H20:H23) -> 0
A20: 15 | B20: ebből: egyéb fejezeti kezelésű előirányzatok (K506132) | C20: =SUM(D20:H20) -> 500000 | D20: 500000
A21: 16 | B21: ebből: elkülönített állami pénzalap (K50615) | C21: =SUM(D21:H21) -> 742700 | F21: 742700
A22: 17 | B22: ebből: önkormányzatok és költségv-i szerveik K50616) | C22: =SUM(D22:H22) -> 0
A23: 18 | B23: ebből: társulások és költségvetési szerveik (K50617) | C23: =SUM(D23:H23) -> 156741820 | D23: 156741820
A24: 19 | B24: Egyéb működési célú támogatások államháztartáson kívülre non-profit szervezet (K512142) | C24: =SUM(D24:H24) -> 4861520 | D24: 4861520
A25: 20 | B25: Tartalékok (K51311) | C25: =SUM(D25:H25) -> 91783069 | D25: 91783069
A26: 21 | B26: Egyéb működési célú kiadások (K5) | C26: =SUM(D26:H26) -> 255451568 | D26: =D18+D19+D24+D25 -> 254708868 | E26: =E18+E19+E24+E25 -> 0 | F26: =F18+F19+F24+F25 -> 742700 | G26: =G18+G19+G24+G25 -> 0 | H26: =H18+H19+H24+H25 -> 0
A27: 22 | B27: Immateriális javak beszerzése, lét (K611) | C27: =SUM(D27:H27) -> 930760 | E27: 730760 | F27: 200000
A28: 23 | B28: Ingatlanok beszerzése, létesítése (K621) | C28: =SUM(D28:H28) -> 18306594 | D28: 18306594
A29: 24 | B29: Informatikai eszközök beszerzése, létesítése (K631) | C29: =SUM(D29:H29) -> 5430265 | D29: 2570315 | E29: 2599950 | F29: 260000
A30: 25 | B30: Egyéb tárgyi eszközök beszerzése, létesítése (K641) | C30: =SUM(D30:H30) -> 10370698 | D30: 3952900 | E30: 1459050 | F30: 2134960 | G30: 2332764 | H30: 491024
A31: 26 | B31: Beruházási célú előzetesen felszámított általános forgalmi adó (K671) | C31: =SUM(D31:H31) -> 9119432 | D31: 6565000 | E31: 1293240 | F31: 700640 | G31: 427976 | H31: 132576
A32: 27 | B32: Beruházások (K6) | C32: =SUM(D32:H32) -> 44157749 | D32: =SUM(D27:D31) -> 31394809 | E32: =SUM(E27:E31) -> 6083000 | F32: =SUM(F27:F31) -> 3295600 | G32: =SUM(G27:G31) -> 2760740 | H32: =SUM(H27:H31) -> 623600
A33: 28 | B33: Ingatlanok felújítása (K711) | C33: =SUM(D33:H33) -> 226956074 | D33: 226956074
A34: 29 | B34: Informatikai eszköz felújítása (K7211) | C34: =SUM(D34:H34) -> 100000 | E34: 100000
A35: 30 | B35: Egyéb tárgyi eszközök felújítása (K731) | C35: =SUM(D35:H35) -> 840000 | F35: 720000 | H35: 120000
A36: 31 | B36: Felújítási célú előzetesen felszámított általános forgalmi adó (K741) | C36: =SUM(D36:H36) -> 54440623 | D36: 54186823 | E36: 27000 | F36: 194400 | G36: =(SUM(G33:G35))*0.27 -> 0 | H36: 32400
A37: 32 | B37: Felújítások (K7) | C37: =SUM(D37:H37) -> 282336697 | D37: =SUM(D33:D36) -> 281142897 | E37: =SUM(E33:E36) -> 127000 | F37: =SUM(F33:F36) -> 914400 | G37: =SUM(G33:G36) -> 0 | H37: =SUM(H33:H36) -> 152400
A38: 33 | B38: Egyéb felhalmozási célú támogatások államháztartáson kívülre (K89) | C38: =SUM(D38:H38) -> 1500000 | D38: =SUM(D39:D41) -> 1500000 | E38: =SUM(E39:E41) -> 0 | F38: =SUM(F39:F41) -> 0 | G38: =SUM(G39:G41) -> 0 | H38: =SUM(H39:H41) -> 0
A39: 34 | B39: ebből: egyházi jogi személyek (K89) | C39: =SUM(D39:H39) -> 0
A40: 35 | B40: ebből: nonprofit | C40: =SUM(D40:H40) -> 1500000 | D40: 1500000
...

Sheet 2e
B1: Berhida Város Önkormányzata | D1: 2.e. melléklet
B2: 2017. évi költségvetés | D2: a 2/2017. (II.24.) önkormányzati rendelethez
B3: Kiadások | C3: Ft-ban
C4: Összesen | D4: Önkormányzat | E4: Hivatal | F4: TESZ | G4: Kultúr | H4: Süni
A5: Sor- szám | B5: Rovat megnevezése | C5: Teljesítés 06.30 | D5: Teljesítés | E5: Teljesítés | F5: Teljesítés | G5: Teljesítés | H5: Teljesítés
A6: 1 | B6: Személyi juttatások (K1) | C6: =SUM(D6:H6) -> 155328780 | D6: 12138412 | E6: 52106114 | F6: 47926969 | G6: 9719345 | H6: 33437940
A7: 2 | B7: Munkaadókat terhelő járulékok és szociális hozzájárulási adó (K2) | C7: =SUM(D7:H7) -> 33781044 | D7: 2808374 | E7: 13192194 | F7: 7552910 | G7: 2228061 | H7: 7999505
A8: 3 | B8: Dologi kiadások (K3) | C8: =SUM(D8:H8) -> 90766949 | D8: 18814002 | E8: 11518288 | F8: 31385254 | G8: 13514132 | H8: 15535273
A9: 4 | B9: Családi támogatások (K42) | C9: =SUM(D9:H9) -> 0 | D9: =D10 -> 0 | E9: =E10 -> 0 | F9: =F10 -> 0 | G9: =G10 -> 0 | H9: =H10 -> 0
A10: 5 | B10: ebből: az egyéb pénzbeli és természetbeni gyermekvédelmi támogatások (K42132) | C10: =SUM(D10:H10) -> 0
A11: 6 | B11: Intézményi ellátottak pénzbeli juttatásai (K47) | C11: =SUM(D11:H11) -> 1240000 | D11: 1240000 | E11: =E12 -> 0 | F11: =F12 -> 0 | G11: =G12 -> 0 | H11: =H12 -> 0
A12: 7 | B12: ebből: oktatásban résztvevők pénzbeli juttatásai (K471) | C12: =SUM(D12:H12) -> 1240000 | D12: 1240000
A13: 8 | B13: Egyéb nem intézményi ellátások (K48) | C13: =SUM(D13:H13) -> 2449773 | D13: 2449773 | E13: =SUM(E14:E16) -> 0 | F13: =SUM(F14:F16) -> 0 | G13: =SUM(G14:G16) -> 0 | H13: =SUM(H14:H16) -> 0
A14: 9 | B14: ebből: köztemetés [Szoctv. 48.§] (K48123) | C14: =SUM(D14:H14) -> 404589 | D14: 404589
A15: 10 | B15: ebből: települési támogatás [Szoctv. 45. §], (K48122) | C15: =SUM(D15:H15) -> 2017000 | D15: 2017000
A16: 11 | B16: ebből: önkorm. Saját hatáskörben adott (K48139) | C16: =SUM(D16:H16) -> 28184 | D16: 28184
A17: 12 | B17: Ellátottak pénzbeli juttatásai (K4) | C17: =SUM(D17:H17) -> 3689773 | D17: =D9+D11+D13 -> 3689773 | E17: =E9+E11+E13 -> 0 | F17: =F9+F11+F13 -> 0 | G17: =G9+G11+G13 -> 0 | H17: =H9+H11+H13 -> 0
A18: 13 | B18: Elvonások és befizetések (K5023) | C18: =SUM(D18:H18) -> 780000 | D18: 780000
A19: 14 | B19: Egyéb működési célú támogatások államháztartáson belülre (K506) | C19: =SUM(D19:H19) -> 62967270 | D19: 62938476 | E19: =SUM(E20:E23) -> 0 | F19: 28794 | G19: =SUM(G20:G23) -> 0 | H19: =SUM(H20:H23) -> 0
A20: 15 | B20: ebből: egyéb fejezeti kezelésű előirányzatok (K506132) | C20: =SUM(D20:H20) -> 0
A21: 16 | B21: ebből: elkülönített állami pénzalap (K50615) | C21: =SUM(D21:H21) -> 0
A22: 17 | B22: ebből: önkormányzatok és költségv-i szerveik K50616) | C22: =SUM(D22:H22) -> 0
A23: 18 | B23: ebből: társulások és költségvetési szerveik (K50617) | C23: =SUM(D23:H23) -> 62938476 | D23: 62938476
A24: 19 | B24: Egyéb működési célú támogatások államháztartáson kívülre non-profit szervezet (K512142) | C24: =SUM(D24:H24) -> 4802820 | D24: 4802820
A25: 20 | B25: Tartalékok (K51311) | C25: =SUM(D25:H25) -> 0
A26: 21 | B26: Egyéb működési célú kiadások (K5) | C26: =SUM(D26:H26) -> 68550090 | D26: =D18+D19+D24+D25 -> 68521296 | E26: =E18+E19+E24+E25 -> 0 | F26: =F18+F19+F24+F25 -> 28794 | G26: =G18+G19+G24+G25 -> 0 | H26: =H18+H19+H24+H25 -> 0
A27: 22 | B27: Immateriális javak beszerzése, lét (K611) | C27: =SUM(D27:H27) -> 55000 | F27: 55000
A28: 23 | B28: Ingatlanok beszerzése, létesítése (K621) | C28: =SUM(D28:H28) -> 116654 | D28: 116654
A29: 24 | B29: Informatikai eszközök beszerzése, létesítése (K631) | C29: =SUM(D29:H29) -> 4409 | F29: 4409
A30: 25 | B30: Egyéb tárgyi eszközök beszerzése, létesítése (K641) | C30: =SUM(D30:H30) -> 2033412 | D30: 148671 | E30: 474999 | F30: 901370 | G30: 490243 | H30: 18129
A31: 26 | B31: Beruházási célú előzetesen felszámított általános forgalmi adó (K671) | C31: =SUM(D31:H31) -> 453952 | D31: 71639 | E31: 128249 | F31: 205953 | G31: 44242 | H31: 3869
A32: 27 | B32: Beruházások (K6) | C32: =SUM(D32:H32) -> 2663427 | D32: =SUM(D27:D31) -> 336964 | E32: =SUM(E27:E31) -> 603248 | F32: =SUM(F27:F31) -> 1166732 | G32: =SUM(G27:G31) -> 534485 | H32: =SUM(H27:H31) -> 21998
A33: 28 | B33: Ingatlanok felújítása (K711) | C33: =SUM(D33:H33) -> 21050106 | D33: 21050106
A34: 29 | B34: Informatikai eszköz felújítása (K7211) | C34: =SUM(D34:H34) -> 0
A35: 30 | B35: Egyéb tárgyi eszközök felújítása (K731) | C35: =SUM(D35:H35) -> 0
A36: 31 | B36: Felújítási célú előzetesen felszámított általános forgalmi adó (K741) | C36: =SUM(D36:H36) -> 5381132 | D36: 5381132
A37: 32 | B37: Felújítások (K7) | C37: =SUM(D37:H37) -> 26431238 | D37: =SUM(D33:D36) -> 26431238 | E37: =SUM(E33:E36) -> 0 | F37: =SUM(F33:F36) -> 0 | G37: =SUM(G33:G36) -> 0 | H37: =SUM(H33:H36) -> 0
A38: 33 | B38: Egyéb felhalmozási célú támogatások államháztartáson kívülre (K89) | C38: =SUM(D38:H38) -> 392852 | D38: 392852 | E38: =SUM(E39:E41) -> 0 | F38: =SUM(F39:F41) -> 0 | G38: =SUM(G39:G41) -> 0 | H38: =SUM(H39:H41) -> 0
A39: 34 | B39: ebből: egyházi jogi személyek (K89) | C39: =SUM(D39:H39) -> 0
A40: 35 | B40: ebből: nonprofit | C40: =SUM(D40:H40) -> 0
...

Sheet 3 mell.
D1: Berhida Város Önkormányzata | H1: 3. melléklet
C2: Költségvetési szervek engedélyezett létszám kerete | H2: a 2/2017. (II.24.) önkormányzati rendelethez
E4: 2017. évi költségvetés
B5: A | C5: B | D5: C | E5: D | F5: E | G5: F | H5: G | I5: H
A6: 1 | B6: BEVÉTELI JOGCÍMEK | C6: Süni | D6: Kultúrház | E6: Műv.ház | F6: TESZ, közf. | G6: Köz Önk.Hiv. | H6: Önkormányzat | I6: ÖSSZESEN
A7: 2 | B7: Intézm.létszámkeret fő: | C7: 27 | D7: 4.5 | E7: 2 | F7: 13 | G7: 26.88 | H7: 12 | I7: =SUM(C7:H7) -> 85.38
B8: 2017.03.20-10.31-ig párhuz fogl | D8: 1 | I8: =SUM(C8:H8) -> 1
A9: 3 | B9: + 6-8 órás közfoglalk létsz | C9: 2 | F9: 120 | I9: =SUM(C9:H9) -> 122
A10: 4 | B10: LÉTSZÁMKERET összesen: | C10: =SUM(C7:C9) -> 29 | D10: =SUM(D7:D9) -> 5.5 | E10: =SUM(E7:E9) -> 2 | F10: =SUM(F7:F9) -> 133 | G10: =SUM(G7:G9) -> 26.88 | H10: =SUM(H7:H9) -> 12 | I10: =SUM(I7:I9) -> 208.38
B12: Önkormányzati létszámkeret | C12: a.) polgármester | F12: 1 | G12: fő
C13: b.) alpolgármester | F13: 1 | G13: fő
C14: c.) önkormányzati képviselők | F14: 7 | G14: fő
C15: d.) védőnők | F15: 3 | G15: fő
D16: Összesen: | F16: =SUM(F12:F15) -> 12 | G16: fő

Sheet 4 mell.
C1: BERHIDA VÁROS ÖNKORMÁNYZATA | G1: 4. melléklet
D2: 2017.évi MÉRLEGTERV | G2: a 2/2017. (II.24.) önkormányzati rendelethez
C3: a működési és felhalmozási célú bevételi és kiadási előirányzatokról | G3: adatok Ft-ban
B5: A | C5: B | D5: C | E5: D | F5: E | G5: F
A6: 1 | B6: BEVÉTELI TERV | E6: KIADÁSI TERV
A7: 2 | B7: I. | C7: Működési célú bevételi terv | E7: I. | F7: Működési célú kiadási terv
A8: 3 | B8: a.) | C8: Műk c támogatások áht belülről | D8: ='[1]1b'!C18 -> 439642731 | E8: a.) | F8: Személyi juttatások | G8: ='[1]2d'!C6 -> 368716874
A9: 4 | B9: b.) | C9: Közhatalmi bevételek | D9: ='[1]1b'!C36 -> 303204813 | E9: b.) | F9: Munkaadókat t járulékok | G9: ='[1]2d'!C7 -> 80433713
A10: 5 | B10: c.) | C10: Működési bevételek | D10: ='[1]1b'!C60 -> 39110587 | E10: c.) | F10: Dologi kiadások | G10: ='[1]2d'!C8 -> 258319323
A11: 6 | B11: d.) | C11: Működési átvett pénzeszközök | D11: ='[1]1b'!C64 -> 445000 | E11: d.) | F11: Ellátottak pénzbeli jutt | G11: ='[1]2d'!C17 -> 14542000
A12: 7 | B12: e.) | C12: Műk. C. maradvány igénybevét. | D12: 93659690 | E12: e.) | F12: Egyéb műk c kiadások | G12: ='[1]2d'!C26 -> 255451568
A13: 8 | B13: f.) | E13: f.)
A14: 9 | E14: g.)
A15: 10
A16: 11 | C16: I. Bevételek: | D16: =SUM(D8:D15) -> 876062821 | F16: I. Kiadások együtt: | G16: =SUM(G8:G14) -> 977463478
A17: 12 | F17: Működési célú bevételek: | G17: =D16 -> 876062821
A18: 13 | F18: Működési egyenleg: | G18: =G16-G17 -> 101400657
A19: 14
A20: 15 | B20: II. | C20: Felhalmozási célú bevételi terv | E20: II. | F20: Felhalmozási célú kiadások:
A21: 16 | B21: 1.) | C21: Felhalmozási c támog. Áht-n bel | D21: ='[1]1b'!C19 -> 3150000 | E21: 1.) | F21: Beruházások | G21: ='[1]2d'!C32 -> 44157749
A22: 17 | B22: 2.) | C22: Felhalmozási bevételek | D22: ='[1]1b'!C62 -> 180000 | E22: 2.) | F22: Felújítások | G22: ='[1]2d'!C37 -> 282336697
A23: 18 | B23: 3.) | C23: Egyéb felhalmozási c átvett pe | D23: ='[1]1b'!C68 -> 435500 | E23: 3.) | F23: Egyéb felhalm c kiadások | G23: ='[1]2d'!C42 -> 1500000
A24: 19 | B24: 4.) | C24: Felhalm c maradvány igénybev | D24: 472867708 | E24: 4.)
A25: 20 | B25: 5.) | E25: 5.)
A26: 21 | B26: 6.)
A27: 22 | B27: 7.)
A28: 23 | B28: 8.)
A29: 24 | C29: II. Bevételek: | D29: =SUM(D21:D28) -> 476633208 | F29: II. Kiadások: | G29: =SUM(G21:G26) -> 327994446
A30: 25 | F30: Felhalm.célú bevételek: | G30: =D29 -> 476633208
A31: 26 | F31: Felhalm. egyenleg: | G31: =G29-G30 -> -148638762
A32: 27
A33: 28 | C33: Bevételek összesen (I+II): | D33: =D16+D29 -> 1352696029 | F33: Kiadások összesen (I+II): | G33: =SUM(G16+G29) -> 1305457924
C34: iránítószervi támogatás | D34: ='[1]1b'!C72 -> 505919713 | F34: iránítószervi támogatás | G34: ='[1]2d'!C46 -> 505919713
C35: Áht megelőleg | D35: ='[1]1b'!C71 -> 11473636 | F35: befek. Célő értékp vásárl | G35: 60000000
C36: kv-i mar finansz célú | D36: 24195743 | F36: Áht megelőleg visszafiz | G36: ='[1]2d'!C44 -> 22907484
C37: Össz bevétel | D37: =SUM(D33:D36) -> 1894285121 | F37: Össz Kiadás | G37: =SUM(G33:G36) -> 1894285121

Sheet 5 mell.
B1: 2017 évi költségvetés
B2: Berhida Város Önkormányzata | C2: 5. melléklet
B3: Közösségi szolgáltatások támogatása | C3: a 2/2017. (II.24.) önkormányzati rendelethez
B5: A | C5: B | D5: adatok Ft-ban
A6: 1 | B6: I.) Sporttámogatás működési célú | C6: 2016. Év
A7: 2
A8: 3
A9: 4 | B9: Sporttámogatás összesen működési célú: | C9: 2510000
A10: 5 | B10: II.) Egyéb támogatás összesen működési célú | C10: 1851520
A11: 6
A12: 7 | B12: III.) Polgárőrség Berhida | C12: 500000
A13: 8 | B13: Támogatások összesen működési célú: | C13: =SUM(C9+C10+C12) -> 4861520
B15: A támogatások összege a megállapodásokban foglaltak szerint használhatók fel.

Sheet 6 mell.
C1: Berhida Város Önkormányzata
C2: ellátottak pénzbeli juttatásai | F2: 6. melléklet
C3: 2017. év | F3: a 2/2017. (II.24.) önkormányzati rendelethez
F4: adatok ezer Ft-ban
B5: A | C5: B | D5: C | E5: D | F5: E | G5: F
B6: Szociális jogcímek | C6: átruházott hatáskört gyakorló | E6: Képvis.test.jogk. | F6: Jegyzői jogk. | G6: Összes
C7: polgármester | D7: Humán Biz. | G7: előirányzat
A8: 1 | B8: Pénzbeli ellátások összesen | C8: =SUM(C9:C18) -> 2400000 | D8: =SUM(D9:D18) -> 6900000 | E8: =SUM(E9:E18) -> 2700000 | F8: =SUM(F9:F18) -> 2542000 | G8: =SUM(G9:G18) -> 14542000
A9: 2 | B9: Települési támogatás
A10: 3 | B10: Nem intézményi ell. Ebből
A11: 4 | B11: Gyermekvéd.támog. | D11: 600000 | F11: 2542000 | G11: =SUM(C11:F11) -> 3142000
A12: 5 | B12: Lakhatási támog | D12: 5300000 | G12: =SUM(C12:F12) -> 5300000
A13: 6 | B13: Temetési segély | C13: 1500000 | G13: =SUM(C13:F13) -> 1500000
A14: 7 | B14: Átmeneti segély | D14: 1000000 | G14: =SUM(C14:F14) -> 1000000
A15: 8 | B15: Köztemetés | C15: 900000 | G15: =SUM(C15:F15) -> 900000
A16: 9 | B16: Intézményi ell., oktatásban részt vevők | G16: =SUM(C16:F16) -> 0
B17: Arany János ösztöndíj | E17: 100000 | G17: =SUM(C17:F17) -> 100000
A18: 10 | B18: Bursa Hung. (ösztöndíj tám) | E18: 2600000 | G18: =SUM(C18:F18) -> 2600000

Sheet 7 mell
B1: Berhida Város Önkormányzatának
B2: 2017. Évi költségvetéséhez
A3: Az önkormányzat által adott közvetett támogatások, kedvezmények
C4: 7. melléklet
C5: a 2/2017. (II. 24 .) önkormányzati rendelethez
C6: adatok ezer Ft-ban
A8: A | B8: B | C8: C | D8: D
A9: Sorszám | B9: Bevételi jogcím | C9: Kedvezmény nélkül | D9: Kedvezmények
C10: elérhető | D10: összege
C11: bevétel e/Ft | D11: e/Ft
A12: 1. | B12: 2. | C12: 3. | D12: 4.
A13: 1. | B13: házi gondozás térítési díj | C13: 1827 | D13: 667
