Workbook

Sheet ÖSSZEFÜGGÉSEK
A2: Költségvetési rendelet űrlapjainak összefüggései:
A5: 2016. évi előirányzat BEVÉTELEK
A7: 1.1. sz. melléklet Bevételek táblázat C. oszlop 9 sora = | B7: 2.1. számú melléklet C. oszlop 13. sor + 2.2. számú melléklet C. oszlop 12. sor
A8: 1.1. sz. melléklet Bevételek táblázat C. oszlop 17 sora = | B8: 2.1. számú melléklet C. oszlop 24. sor + 2.2. számú melléklet C. oszlop 25. sor
A9: 1.1. sz. melléklet Bevételek táblázat C. oszlop 18 sora = | B9: 2.1. számú melléklet C. oszlop 25. sor + 2.2. számú melléklet C. oszlop 26. sor
A12: =+CONCATENATE(LEFT(A5,4),". évi előirányzat KIADÁSOK") -> 2016. évi előirányzat KIADÁSOK
A14: 1.1. sz. melléklet Kiadások táblázat C. oszlop 3 sora = | B14: 2.1. számú melléklet E. oszlop 13. sor + 2.2. számú melléklet E. oszlop 12. sor
A15: 1.1. sz. melléklet Kiadások táblázat C. oszlop 10 sora = | B15: 2.1. számú melléklet E. oszlop 24. sor + 2.2. számú melléklet E. oszlop 25. sor
A16: 1.1. sz. melléklet Kiadások táblázat C. oszlop 11 sora = | B16: 2.1. számú melléklet E. oszlop 25. sor + 2.2. számú melléklet E. oszlop 26. sor

Sheet 1.sz.mell.
A1: B E V É T E L E K
A2: 1. sz. táblázat | C2: forintban
A3: Sor- szám | B3: Bevételi jogcím | C3: =+CONCATENATE(LEFT(ÖSSZEFÜGGÉSEK!A5,4),". évi előirányzat") -> 2016. évi előirányzat
B4: A | C4: B
A5: 1. | B5: Önkormányzat működési támogatásai (1.1.+…+.1.6.) | C5: =+C6+C7+C8+C9+C10+C11 -> 53845921
A6: 1.1. | B6: Helyi önkormányzatok működésének általános támogatása | C6: 11378508
A7: 1.2. | B7: Önkormányzatok egyes köznevelési feladatainak támogatása | C7: 29835966
A8: 1.3. | B8: Önkormányzatok szociális és gyermekjóléti, étkeztetési feladatainak támogatása | C8: 10790214
A9: 1.4. | B9: Önkormányzatok kulturális feladatainak támogatása | C9: 1200000
A10: 1.5. | B10: Működési célú kvi támogatások és kiegészítő támogatások | C10: 641233
A11: 1.6. | B11: Elszámolásból származó bevételek
A12: 2. | B12: Működési célú támogatások államháztartáson belülről (2.1.+…+.2.5.) | C12: =+C13+C14+C15+C16+C17 -> 14228958
A13: 2.1. | B13: Elvonások és befizetések bevételei
A14: 2.2. | B14: Működési célú garancia- és kezességvállalásból megtérülések
A15: 2.3. | B15: Működési célú visszatérítendő támogatások, kölcsönök visszatérülése
A16: 2.4. | B16: Működési célú visszatérítendő támogatások, kölcsönök igénybevétele
A17: 2.5. | B17: Egyéb működési célú támogatások bevételei | C17: 14228958
A18: 2.6. | B18: 2.5.-ből EU-s támogatás
A19: 3. | B19: Felhalmozási célú támogatások államháztartáson belülről (3.1.+…+3.5.) | C19: =+C20+C21+C22+C23+C24 -> 9732698
A20: 3.1. | B20: Felhalmozási célú önkormányzati támogatások | C20: 9732698
A21: 3.2. | B21: Felhalmozási célú garancia- és kezességvállalásból megtérülések
A22: 3.3. | B22: Felhalmozási célú visszatérítendő támogatások, kölcsönök visszatérülése
A23: 3.4. | B23: Felhalmozási célú visszatérítendő támogatások, kölcsönök igénybevétele
A24: 3.5. | B24: Egyéb felhalmozási célú támogatások bevételei
A25: 3.6. | B25: 3.5.-ből EU-s támogatás
A26: 4. | B26: Közhatalmi bevételek (4.1.+…+4.7.) | C26: =SUM(C27:C33) -> 4570894
A27: 4.1. | B27: Építményadó
A28: 4.2. | B28: Idegenforgalmi adó
A29: 4.3. | B29: Iparűzési adó | C29: 3515198
A30: 4.4. | B30: Talajterhelési díj | C30: 70000
A31: 4.5. | B31: Gépjárműadó | C31: 976293
A32: 4.6. | B32: Egyéb áruhasználati és szolgáltatási adók | C32: 6603
A33: 4.7. | B33: Egyéb közhatalmi bevételek | C33: 2800
A34: 5. | B34: Működési bevételek (5.1.+…+ 5.11.) | C34: =SUM(C35:C45) -> 5302650
A35: 5.1. | B35: Készletértékesítés ellenértéke | C35: 378000
A36: 5.2. | B36: Szolgáltatások ellenértéke
A37: 5.3. | B37: Közvetített szolgáltatások értéke
A38: 5.4. | B38: Tulajdonosi bevételek | C38: 2364000
A39: 5.5. | B39: Ellátási díjak | C39: 2560000
A40: 5.6. | B40: Kiszámlázott általános forgalmi adó
...

Sheet 2.sz.mell.
A1: B E V É T E L E K
A2: 1. sz. táblázat | C2: forintban
A3: Sor- szám | B3: Bevételi jogcím | C3: =+CONCATENATE(LEFT(ÖSSZEFÜGGÉSEK!A5,4),". évi előirányzat") -> 2016. évi előirányzat
B4: A | C4: B
A5: 1. | B5: Önkormányzat működési támogatásai (1.1.+…+.1.6.) | C5: =+C6+C7+C8+C9+C10+C11 -> 53845921
A6: 1.1. | B6: Helyi önkormányzatok működésének általános támogatása | C6: 11378508
A7: 1.2. | B7: Önkormányzatok egyes köznevelési feladatainak támogatása | C7: 29835966
A8: 1.3. | B8: Önkormányzatok szociális és gyermekjóléti, étkeztetési feladatainak támogatása | C8: 10790214
A9: 1.4. | B9: Önkormányzatok kulturális feladatainak támogatása | C9: 1200000
A10: 1.5. | B10: Működési célú kvi támogatások és kiegészítő támogatások | C10: 641233
A11: 1.6. | B11: Elszámolásból származó bevételek
A12: 2. | B12: Működési célú támogatások államháztartáson belülről (2.1.+…+.2.5.) | C12: =+C13+C14+C15+C16+C17 -> 14228958
A13: 2.1. | B13: Elvonások és befizetések bevételei
A14: 2.2. | B14: Működési célú garancia- és kezességvállalásból megtérülések
A15: 2.3. | B15: Működési célú visszatérítendő támogatások, kölcsönök visszatérülése
A16: 2.4. | B16: Működési célú visszatérítendő támogatások, kölcsönök igénybevétele
A17: 2.5. | B17: Egyéb működési célú támogatások bevételei | C17: 14228958
A18: 2.6. | B18: 2.5.-ből EU-s támogatás
A19: 3. | B19: Felhalmozási célú támogatások államháztartáson belülről (3.1.+…+3.5.) | C19: =+C20+C21+C22+C23+C24 -> 9732698
A20: 3.1. | B20: Felhalmozási célú önkormányzati támogatások | C20: 9732698
A21: 3.2. | B21: Felhalmozási célú garancia- és kezességvállalásból megtérülések
A22: 3.3. | B22: Felhalmozási célú visszatérítendő támogatások, kölcsönök visszatérülése
A23: 3.4. | B23: Felhalmozási célú visszatérítendő támogatások, kölcsönök igénybevétele
A24: 3.5. | B24: Egyéb felhalmozási célú támogatások bevételei
A25: 3.6. | B25: 3.5.-ből EU-s támogatás
A26: 4. | B26: Közhatalmi bevételek (4.1.+...+4.7.) | C26: =SUM(C27:C33) -> 4570894
A27: 4.1. | B27: Építményadó
A28: 4.2. | B28: Idegenforgalmi adó
A29: 4.3. | B29: Iparűzési adó | C29: 3515198
A30: 4.4. | B30: Talajterhelési díj | C30: 70000
A31: 4.5. | B31: Gépjárműadó | C31: 976293
A32: 4.6. | B32: Egyéb áruhasználati és szolgáltatási adók | C32: 6603
A33: 4.7. | B33: Egyéb közhatalmi bevételek | C33: 2800
A34: 5. | B34: Működési bevételek (5.1.+…+ 5.11.) | C34: =SUM(C35:C45) -> 5302600
A35: 5.1. | B35: Készletértékesítés ellenértéke | C35: 378000
A36: 5.2. | B36: Szolgáltatások ellenértéke
A37: 5.3. | B37: Közvetített szolgáltatások értéke
A38: 5.4. | B38: Tulajdonosi bevételek | C38: 2364000
A39: 5.5. | B39: Ellátási díjak | C39: 2560000
A40: 5.6. | B40: Kiszámlázott általános forgalmi adó
...

Sheet 3.sz.mell  
B1: I. Működési célú bevételek és kiadások mérlege (Önkormányzati szinten) | F1: 3. melléklet a 3/2017. (V.30.) önkormányzati rendelethez
E2: forintban
A3: Sor- szám | B3: Bevételek | D3: Kiadások
B4: Megnevezés | C4: =+'1.sz.mell.'!C3 -> 2016. évi előirányzat | D4: Megnevezés | E4: =+C4 -> 2016. évi előirányzat
B5: A | C5: B | D5: C | E5: D
A6: 1. | B6: Önkormányzatok működési támogatásai | C6: 53845921 | D6: Személyi juttatások | E6: 13952802
A7: 2. | B7: Működési célú támogatások államháztartáson belülről | C7: 14228958 | D7: Munkaadókat terhelő járulékok és szociális hozzájárulási adó | E7: 3422079
A8: 3. | B8: 2.-ból EU-s támogatás | D8: Dologi kiadások | E8: 9778459
A9: 4. | B9: Közhatalmi bevételek | C9: 4570894 | D9: Ellátottak pénzbeli juttatásai | E9: 3861800
A10: 5. | B10: Működési bevételek | C10: 5302650 | D10: Egyéb működési célú kiadások | E10: 49901062
A11: 6. | B11: Működési célú átvett pénzeszközök | D11: Tartalékok | E11: 6925001
A12: 7. | B12: 6.-ból EU-s támogatás (közvetlen)
A13: 8.
A14: 9.
A15: 10.
A16: 11.
A17: 12.
A18: 13. | B18: Költségvetési bevételek összesen (1.+2.+4.+5.+6.+8.+…+12.) | C18: =SUM(C6:C17) -> 77948423 | D18: Költségvetési kiadások összesen (1.+...+12.) | E18: =SUM(E6:E17) -> 87841203
A19: 14. | B19: Hiány belső finanszírozásának bevételei (15.+…+18. ) | C19: =+C20+C21+C22+C23 -> 12475520 | D19: Értékpapír vásárlása, visszavásárlása
A20: 15. | B20: Költségvetési maradvány igénybevétele | C20: 9982180 | D20: Likviditási célú hitelek törlesztése
A21: 16. | B21: Vállalkozási maradvány igénybevétele | D21: Rövid lejáratú hitelek törlesztése
A22: 17. | B22: Betét visszavonásából származó bevétel | D22: Hosszú lejáratú hitelek törlesztése
A23: 18. | B23: Egyéb belső finanszírozási bevételek | C23: 2493340 | D23: Kölcsön törlesztése
A24: 19. | B24: Hiány külső finanszírozásának bevételei (20.+…+21.) | C24: =+C25+C26 -> 0 | D24: Forgatási célú belföldi, külföldi értékpapírok vásárlása
A25: 20. | B25: Likviditási célú hitelek, kölcsönök felvétele | D25: Pénzeszközök lekötött betétként elhelyezése
A26: 21. | B26: Értékpapírok bevételei | D26: Adóssághoz nem kapcsolódó származékos ügyletek
A27: 22. | B27: Váltóbevételek | D27: Váltókiadások
A28: 23. | B28: Adóssághoz nem kapcsolódó származékos ügyletek bevételei | D28: Belföldi finanszírozás kiadásai | E28: 2582740
A29: 24. | B29: Működési célú finanszírozási bevételek összesen (14.+19.+22.+23.) | C29: =+C19+C24+C27+C28 -> 12475520 | D29: Működési célú finanszírozási kiadások összesen (14.+...+23.) | E29: =SUM(E19:E28) -> 2582740
A30: 25. | B30: BEVÉTEL ÖSSZESEN (13.+24.) | C30: =+C18+C29 -> 90423943 | D30: KIADÁSOK ÖSSZESEN (13.+24.) | E30: =+E18+E29 -> 90423943
A31: 26. | B31: Költségvetési hiány: | C31: =IF(C18-E18<0,E18-C18,"-") -> 9892780 | D31: Költségvetési többlet: | E31: =IF(C18-E18>0,C18-E18,"-") -> -
A32: 27. | B32: Tárgyévi hiány: | C32: =IF(C18+C29-E30<0,E30-(C18+C29),"-") -> - | D32: Tárgyévi többlet: | E32: =IF(C18+C29-E30>0,C18+C29-E30,"-") -> -

Sheet 4.sz.mell  
B1: II. Felhalmozási célú bevételek és kiadások mérlege (Önkormányzati szinten) | F1: 4. melléklet a 3/2017. (V.30.) önkormányzati rendelethez
E2: forintban
A3: Sor- szám | B3: Bevételek | D3: Kiadások
B4: Megnevezés | C4: =+'3.sz.mell '!C4 -> 2016. évi előirányzat | D4: Megnevezés | E4: =+'3.sz.mell '!C4 -> 2016. évi előirányzat
B5: A | C5: B | D5: C | E5: D
A6: 1. | B6: Felhalmozási célú támogatások államháztartáson belülről | C6: 9732698 | D6: Beruházások
A7: 2. | B7: 1.-ből EU-s támogatás | D7: 1.-ből EU-s forrásból megvalósuló beruházás
A8: 3. | B8: Felhalmozási bevételek | D8: Felújítások
A9: 4. | B9: Felhalmozási célú átvett pénzeszközök átvétele | D9: 3.-ból EU-s forrásból megvalósuló felújítás
A10: 5. | B10: 4.-ből EU-s támogatás (közvetlen) | D10: Egyéb felhalmozási kiadások
A11: 6. | B11: Egyéb felhalmozási célú bevételek
A12: 7.
A13: 8.
A14: 9.
A15: 10.
A16: 11. | D16: Tartalékok | E16: 9732698
A17: 12. | B17: Költségvetési bevételek összesen: (1.+3.+4.+6.+…+11.) | C17: =+C6+C8+C9+C11+C12+C13+C14+C15+C16 -> 9732698 | D17: Költségvetési kiadások összesen: (1.+3.+5.+...+11.) | E17: =+E6+E8+E10+E11+E12+E13+E14+E15+E16 -> 9732698
A18: 13. | B18: Hiány belső finanszírozás bevételei ( 14+…+18) | C18: =+C19+C20+C21+C22+C23 -> 0 | D18: Értékpapír vásárlása, visszavásárlása
A19: 14. | B19: Költségvetési maradvány igénybevétele | D19: Hitelek törlesztése
A20: 15. | B20: Vállalkozási maradvány igénybevétele | D20: Rövid lejáratú hitelek törlesztése
A21: 16. | B21: Betét visszavonásából származó bevétel | D21: Hosszú lejáratú hitelek törlesztése
A22: 17. | B22: Értékpapír értékesítése | D22: Kölcsön törlesztése
A23: 18. | B23: Egyéb belső finanszírozási bevételek | D23: Befektetési célú belföldi, külföldi értékpapírok vásárlása
A24: 19. | B24: Hiány külső finanszírozásának bevételei (20+…+24 ) | C24: =+C25+C26+C27+C28+C29 -> 0 | D24: Betét elhelyezése
A25: 20. | B25: Hosszú lejáratú hitelek, kölcsönök felvétele | D25: Pénzügyi lízing kiadásai
A26: 21. | B26: Likviditási célú hitelek, kölcsönök felvétele
A27: 22. | B27: Rövid lejáratú hitelek, kölcsönök felvétele
A28: 23. | B28: Értékpapírok kibocsátása
A29: 24. | B29: Egyéb külső finanszírozási bevételek
A30: 25. | B30: Felhalmozási célú finanszírozási bevételek összesen (13.+19.) | C30: =+C18+C24 -> 0 | D30: Felhalmozási célú finanszírozási kiadások összesen (13.+...+24.) | E30: =SUM(E18:E29) -> 0
A31: 26. | B31: BEVÉTEL ÖSSZESEN (12+25) | C31: =+C17+C30 -> 9732698 | D31: KIADÁSOK ÖSSZESEN (12+25) | E31: =+E17+E30 -> 9732698
A32: 27. | B32: Költségvetési hiány: | C32: =IF(C17-E17<0,E17-C17,"-") -> - | D32: Költségvetési többlet: | E32: =IF(C17-E17>0,C17-E17,"-") -> -
A33: 28. | B33: Tárgyévi hiány: | C33: =IF(C17+C30-E26<0,E26-(C17+C30),"-") -> - | D33: Tárgyévi többlet: | E33: =IF(C17+C30-E26>0,C17+C30-E26,"-") -> 9732698

Sheet ELLENŐRZÉS-1.sz.2.a.sz.2.b.sz.
A1: Költségvetési rendelet űrlapjainak összefüggései: | E1: ELTÉRÉS
A4: =+ÖSSZEFÜGGÉSEK!A5 -> 2016. évi előirányzat BEVÉTELEK
A6: 1.1. sz. melléklet Bevételek táblázat C. oszlop 9 sora = | B6: =+'1.sz.mell.'!C62 -> 87681121 | C6: 2.1. számú melléklet C. oszlop 13. sor + 2.2. számú melléklet C. oszlop 12. sor | D6: =+'3.sz.mell '!C18+'4.sz.mell '!C17 -> 87681121 | E6: =+B6-D6 -> 0
A7: 1.1. sz. melléklet Bevételek táblázat C. oszlop 17 sora = | B7: =+'1.sz.mell.'!C86 -> 12475520 | C7: 2.1. számú melléklet C. oszlop 24. sor + 2.2. számú melléklet C. oszlop 25. sor | D7: =+'3.sz.mell '!C29+'4.sz.mell '!C30 -> 12475520 | E7: =+B7-D7 -> 0
A8: 1.1. sz. melléklet Bevételek táblázat C. oszlop 18 sora = | B8: =+'1.sz.mell.'!C87 -> 100156641 | C8: 2.1. számú melléklet C. oszlop 25. sor + 2.2. számú melléklet C. oszlop 26. sor | D8: =+'3.sz.mell '!C30+'4.sz.mell '!C31 -> 100156641 | E8: =+B8-D8 -> 0
A11: =+ÖSSZEFÜGGÉSEK!A12 -> 2016. évi előirányzat KIADÁSOK
A13: 1.1. sz. melléklet Kiadások táblázat C. oszlop 3 sora = | B13: =+'1.sz.mell.'!C128 -> 97573901 | C13: 2.1. számú melléklet E. oszlop 13. sor + 2.2. számú melléklet E. oszlop 12. sor | D13: =+'3.sz.mell '!E18+'4.sz.mell '!E17 -> 97573901 | E13: =+B13-D13 -> 0
A14: 1.1. sz. melléklet Kiadások táblázat C. oszlop 10 sora = | B14: =+'1.sz.mell.'!C153 -> 2582740 | C14: 2.1. számú melléklet E. oszlop 24. sor + 2.2. számú melléklet E. oszlop 25. sor | D14: =+'3.sz.mell '!E29+'4.sz.mell '!E30 -> 2582740 | E14: =+B14-D14 -> 0
A15: 1.1. sz. melléklet Kiadások táblázat C. oszlop 11 sora = | B15: =+'1.sz.mell.'!C154 -> 100156641 | C15: 2.1. számú melléklet E. oszlop 25. sor + 2.2. számú melléklet E. oszlop 26. sor | D15: =+'3.sz.mell '!E30+'4.sz.mell '!E31 -> 100156641 | E15: =+B15-D15 -> 0

Sheet 5. sz. mell
C1: 5. melléklet a 3/2017. (V.30.) önkormányzati rendelethez
A2: Megnevezés | B2: Önkormányzat | C2: 01
A3: Feladat megnevezése | B3: Összes bevétel, kiadás | C3: 01
C4: forintban
A5: Száma | B5: Kiemelt előirányzat, előirányzat megnevezése | C5: Előirányzat
B6: A | C6: B
B7: Bevételek
A8: 1. | B8: Önkormányzat működési támogatásai (1.1.+…+.1.6.) | C8: =+C9+C10+C11+C12+C13+C14 -> 53845921
A9: 1.1. | B9: Helyi önkormányzatok működésének általános támogatása | C9: 11378508
A10: 1.2. | B10: Önkormányzatok egyes köznevelési feladatainak támogatása | C10: 29835966
A11: 1.3. | B11: Önkormányzatok szociális és gyermekjóléti, étkeztetési feladatainak támogatása | C11: 10790214
A12: 1.4. | B12: Önkormányzatok kulturális feladatainak támogatása | C12: 1200000
A13: 1.5. | B13: Működési célú kvi támogatások és kiegészítő támogatások | C13: 641233
A14: 1.6. | B14: Elszámolásból származó bevételek
A15: 2. | B15: Működési célú támogatások államháztartáson belülről (2.1.+…+.2.5.) | C15: =+C16+C17+C18+C19+C20 -> 14228958
A16: 2.1. | B16: Elvonások és befizetések bevételei
A17: 2.2. | B17: Működési célú garancia- és kezességvállalásból megtérülések
A18: 2.3. | B18: Működési célú visszatérítendő támogatások, kölcsönök visszatérülése
A19: 2.4. | B19: Működési célú visszatérítendő támogatások, kölcsönök igénybevétele
A20: 2.5. | B20: Egyéb működési célú támogatások bevételei | C20: 14228958
A21: 2.6. | B21: 2.5.-ből EU-s támogatás
A22: 3. | B22: Felhalmozási célú támogatások államháztartáson belülről (3.1.+…+3.5.) | C22: =+C23+C24+C25+C26+C27 -> 0
A23: 3.1. | B23: Felhalmozási célú önkormányzati támogatások
A24: 3.2. | B24: Felhalmozási célú garancia- és kezességvállalásból megtérülések
A25: 3.3. | B25: Felhalmozási célú visszatérítendő támogatások, kölcsönök visszatérülése
A26: 3.4. | B26: Felhalmozási célú visszatérítendő támogatások, kölcsönök igénybevétele
A27: 3.5. | B27: Egyéb felhalmozási célú támogatások bevételei
A28: 3.6. | B28: 3.5.-ből EU-s támogatás
A29: 4. | B29: Közhatalmi bevételek (4.1.+...+4.7.) | C29: 4570894
A30: 4.1. | B30: Építményadó
A31: 4.2. | B31: Idegenforgalmi adó
A32: 4.3. | B32: Iparűzési adó | C32: 3515198
A33: 4.4. | B33: Talajterhelési díj | C33: 70000
A34: 4.5. | B34: Gépjárműadó | C34: 976293
A35: 4.6. | B35: Egyéb áruhasználati és szolgáltatási adók | C35: 6603
A36: 4.7. | B36: Egyéb közhatalmi bevételek | C36: 2800
A37: 5. | B37: Működési bevételek (5.1.+…+ 5.11.) | C37: =SUM(C38:C48) -> 5302650
A38: 5.1. | B38: Készletértékesítés ellenértéke | C38: 378000
A39: 5.2. | B39: Szolgáltatások ellenértéke
A40: 5.3. | B40: Közvetített szolgáltatások értéke
...

Sheet 6. sz. mell 
C1: 6. melléklet a 3/2017. (V.30.) önkormányzati rendelethez
A2: Megnevezés | B2: Önkormányzat | C2: 01
A3: Feladat megnevezése | B3: Kötelező feladatok bevételei, kiadása | C3: 02
C4: forintban
A5: Száma | B5: Kiemelt előirányzat, előirányzat megnevezése | C5: Előirányzat
B6: A | C6: B
B7: Bevételek
A8: 1. | B8: Önkormányzat működési támogatásai (1.1.+…+.1.6.) | C8: =+C9+C10+C11+C12+C13+C14 -> 53845921
A9: 1.1. | B9: Helyi önkormányzatok működésének általános támogatása | C9: 11378508
A10: 1.2. | B10: Önkormányzatok egyes köznevelési feladatainak támogatása | C10: 29835966
A11: 1.3. | B11: Önkormányzatok szociális és gyermekjóléti, étkeztetési feladatainak támogatása | C11: 10790214
A12: 1.4. | B12: Önkormányzatok kulturális feladatainak támogatása | C12: 1200000
A13: 1.5. | B13: Működési célú kvi támogatások és kiegészítő támogatások | C13: 641233
A14: 1.6. | B14: Elszámolásból származó bevételek
A15: 2. | B15: Működési célú támogatások államháztartáson belülről (2.1.+…+.2.5.) | C15: =+C16+C17+C18+C19+C20 -> 14228958
A16: 2.1. | B16: Elvonások és befizetések bevételei
A17: 2.2. | B17: Működési célú garancia- és kezességvállalásból megtérülések
A18: 2.3. | B18: Működési célú visszatérítendő támogatások, kölcsönök visszatérülése
A19: 2.4. | B19: Működési célú visszatérítendő támogatások, kölcsönök igénybevétele
A20: 2.5. | B20: Egyéb működési célú támogatások bevételei | C20: 14228958
A21: 2.6. | B21: 2.5.-ből EU-s támogatás
A22: 3. | B22: Felhalmozási célú támogatások államháztartáson belülről (3.1.+…+3.5.) | C22: =+C23+C24+C25+C26+C27 -> 0
A23: 3.1. | B23: Felhalmozási célú önkormányzati támogatások
A24: 3.2. | B24: Felhalmozási célú garancia- és kezességvállalásból megtérülések
A25: 3.3. | B25: Felhalmozási célú visszatérítendő támogatások, kölcsönök visszatérülése
A26: 3.4. | B26: Felhalmozási célú visszatérítendő támogatások, kölcsönök igénybevétele
A27: 3.5. | B27: Egyéb felhalmozási célú támogatások bevételei
A28: 3.6. | B28: 3.5.-ből EU-s támogatás
A29: 4. | B29: Közhatalmi bevételek (4.1.+...+4.7.) | C29: =SUM(C30:C36) -> 4570894
A30: 4.1. | B30: Építményadó
A31: 4.2. | B31: Idegenforgalmi adó
A32: 4.3. | B32: Iparűzési adó | C32: 3515198
A33: 4.4. | B33: Talajterhelési díj | C33: 70000
A34: 4.5. | B34: Gépjárműadó | C34: 976293
A35: 4.6. | B35: Egyéb áruhasználati és szolgáltatási adók | C35: 6603
A36: 4.7. | B36: Egyéb közhatalmi bevételek | C36: 2800
A37: 5. | B37: Működési bevételek (5.1.+…+ 5.11.) | C37: =SUM(C38:C48) -> 5302650
A38: 5.1. | B38: Készletértékesítés ellenértéke | C38: 378000
A39: 5.2. | B39: Szolgáltatások ellenértéke
A40: 5.3. | B40: Közvetített szolgáltatások értéke
...

Sheet Munka1
