Workbook
Name onev: [1]kod!$BT$34:$BT$3186

Sheet 1.tábla 
A4: AZ ÖNKORMÁNYZAT FŐÖSSZESÍTŐJE
A5: MEGNEVEZÉS | B5: 2018. évi eredeti | C5: 2018. évi várható | D5: 2019. évi eredeti előirányzat
A6: I. Működési célú támogatások államháztartáson belülről | B6: ='2.tábla'!B5 -> 31474348 | C6: ='2.tábla'!C5 -> 45282961 | D6: ='2.tábla'!D5 -> 41568251
A7: II. Felhalmozási célú támogatások államháztartáson belülről | B7: ='2.tábla'!B21 -> 5000000 | C7: ='2.tábla'!C21 -> 13956854 | D7: ='2.tábla'!D21 -> 0
A8: III. Közhatalmi bevételek | B8: ='2.tábla'!B30 -> 11333000 | C8: ='2.tábla'!C30 -> 11333000 | D8: ='2.tábla'!D30 -> 11383000
A9: IV. Működési bevételek | B9: ='2.tábla'!B43 -> 3140000 | C9: ='2.tábla'!C43 -> 4350000 | D9: ='2.tábla'!D43 -> 3308110
A10: V. Felhalmozási bevételek | B10: ='2.tábla'!B56 -> 0 | C10: ='2.tábla'!C56 -> 0 | D10: ='2.tábla'!D56 -> 0
A11: VI. Működési célú átvett pénzeszközök | B11: ='2.tábla'!B61 -> 0 | C11: ='2.tábla'!C61 -> 0 | D11: ='2.tábla'!D61 -> 0
A12: VII. Felhalmozási célú átvett pénzeszközök | B12: ='2.tábla'!B65 -> 0 | C12: ='2.tábla'!C65 -> 3000000 | D12: ='2.tábla'!D65 -> 0
A13: Költségvetési bevételek összesen: | B13: =SUM(B6:B12) -> 50947348 | C13: =SUM(C6:C12) -> 77922815 | D13: =SUM(D6:D12) -> 56259361
A14: 1. Költségvetési hiány belső finanszírozására szolgáló finanszírozási bevételek | B14: ='2.tábla'!B71 -> 20000000 | C14: ='2.tábla'!C71 -> 28648541 | D14: ='2.tábla'!D71 -> 35000000
A15: 2. Költségvetési hiány külső finanszírozására szolgáló finanszírozási célú pénzügyi műveletek bevételei | B15: ='2.tábla'!B74 -> 907476 | C15: ='2.tábla'!C74 -> 963239 | D15: ='2.tábla'!D74 -> 1044244
A16: VIII. Finanszírozási bevételek | B16: =B14+B15 -> 20907476 | C16: =C14+C15 -> 29611780 | D16: =D14+D15 -> 36044244
A17: Bevételek összesen: | B17: =B13+B16 -> 71854824 | C17: =C13+C16 -> 107534595 | D17: =D13+D16 -> 92303605
A19: Működési kiadások | B19: =B20 -> 47582807 | C19: =C20 -> 63607373 | D19: =D20 -> 65058469
A20: Önkormányzati feladatok | B20: ='3.tábla '!B42 -> 47582807 | C20: ='3.tábla '!C42 -> 63607373 | D20: ='3.tábla '!D42 -> 65058469
A21: Felhalmozási kiadások | B21: =SUM(B22:B24) -> 14466956 | C21: =SUM(C22:C24) -> 31751416 | D21: =SUM(D22:D24) -> 19184951
A22: Beruházások | B22: ='5.tábla'!B3 -> 9119196 | C22: ='5.tábla'!C3 -> 14402020 | D22: ='5.tábla'!D3 -> 8604620
A23: Felújítások | B23: ='5.tábla'!B23 -> 5316875 | C23: ='5.tábla'!C23 -> 17318511 | D23: ='5.tábla'!D23 -> 10537476
A24: Egyéb felhalmozási kiadások | B24: ='5.tábla'!B33 -> 30885 | C24: ='5.tábla'!C33 -> 30885 | D24: ='5.tábla'!D33 -> 42855
A26: Tartalékok | B26: =B27+B28 -> 7405470 | C26: =C27+C28 -> 9720452 | D26: =D27+D28 -> 5773950
A27: Általános | B27: 7405470 | C27: 8949690 | D27: 5773950
A28: Cél | C28: 770762 | D28: 0
A29: Költségvetési kiadások összesen: | B29: =SUM(B26,B21,B19) -> 69455233 | C29: =SUM(C26,C21,C19) -> 105079241 | D29: =SUM(D26,D21,D19) -> 90017370
A30: Állami támogatás megelőlegezés visszafizetés | B30: ='5.tábla'!B38 -> 2399591 | C30: ='5.tábla'!C38 -> 2455354 | D30: ='5.tábla'!D38 -> 2286235
A31: Finanszírozási kiadások összesen: | B31: =SUM(B30:B30) -> 2399591 | C31: =SUM(C30:C30) -> 2455354 | D31: =SUM(D30:D30) -> 2286235
A32: Kiadások összesen: | B32: =B29+B31 -> 71854824 | C32: =C29+C31 -> 107534595 | D32: =D29+D31 -> 92303605
C33: =C17-C32 -> 0 | D33: =D17-D32 -> 0

Sheet 2.tábla
A3: BEVÉTELEK ELŐIRÁNYZATA
A4: MEGNEVEZÉS | B4: 2018. évi eredeti előirányzat | C4: 2018. évi várható | D4: 2019. évi eredeti előirányzat
A5: I. Működési célú támogatások államháztartáson belülről | B5: =B6+B12+B13+B14+B15+B16 -> 31474348 | C5: =C6+C12+C13+C14+C15+C16 -> 45282961 | D5: =D6+D12+D13+D14+D15+D16 -> 41568251
A6: 1. Önkormányzat működési támogatásai | B6: 28253068 | C6: 28340548 | D6: ='2a. tábla'!E48 -> 31049766
A7: 1.1. Helyi önk. működésének ált. támogatása | B7: 19558068 | C7: 19558068 | D7: ='2a. tábla'!E5 -> 24101266
A8: 1.3. Települési önk. szoc. és gyermekjóléti feladatainak tám. | B8: 6895000 | C8: 6982480 | D8: ='2a. tábla'!E33 -> 5148500
A9: 1.4. Települési önk. kult. feladatainak támogatása | B9: ='2a. tábla'!E43 -> 1800000 | C9: 1800000 | D9: ='2a. tábla'!E43 -> 1800000
A10: 1.5. Helyi önk. Működési célú költségvetési támogatásai és kiegészítő támogatásai
A11: 1.6. Elszámolásból származó bevételek
A12: 2. Elvonások, befizetések
A13: 3. Működési célú garancia- és kezességvállalásból származó megtérülések áh-n belülről
A14: 4. Működési célú visszatérítendő támogatások, kölcsönök visszatérülése áh-n belülről
A15: 5. Működési célú visszatérítendő támogatások, kölcsönök igénybevétele áh-n belülről
A16: 6. Egyéb működési célú támogatások bevételei államháztartáson belülről | B16: =B17 -> 3221280 | C16: 16942413 | D16: =D17+D18+77600 -> 10518485
A17: Közfoglalkoztatottak támogatás | B17: 3221280 | C17: =3221280+770762+476667 -> 4468709 | D17: 2615889
A18: EFOP-5.1.2-16-2017 Humán szolgáltatások fejlesztése | C18: 11040004 | D18: 7824996
A19: Tüzifa támogatás | C19: 622300
A20: Bakonykarszt | C20: 811400
A21: II. Felhalmozási célú támogatások államháztartáson belülről | B21: =B22+B26+B27+B28+B29+B25 -> 5000000 | C21: =C22+C26+C27+C28+C29+C25 -> 13956854 | D21: =D22+D26+D27+D28+D29+D25 -> 0
A22: 1. Felhalmozási célú önkormányzati támogatások | B22: =B23+B24 -> 5000000 | C22: =C23+C24 -> 5000000 | D22: =D23+D24 -> 0
A23: Mosó pályázat támogatás | B23: 5000000 | C23: 5000000
A24: Sportöltöző és sportpálya felújítása pályázat támogatása
A25: Önkormányzati fejlesztések 2018 támogatása | C25: 8956854
A26: 2. Felhalmozási célú garancia- és kezességvállalásból származó megtérülések áh-n belülről
A27: 3. Felhalmozási célú visszatérítendő támogatások, kölcsönök visszatérülése áh-n belülről
A28: 4. Felhalmozási célú visszatérítendő támogatások, kölcsönök igénybevétele áh-n belülről
A29: 5. Egyéb felhalmozási célú támogatások államháztartáson belülről
A30: III. Közhatalmi bevételek | B30: =B31+B34+B42 -> 11333000 | C30: =C31+C34+C42 -> 11333000 | D30: =D31+D34+D42 -> 11383000
A31: 1. Vagyoni típusú adók | B31: =SUM(B32:B33) -> 5883000 | C31: =SUM(C32:C33) -> 5883000 | D31: =SUM(D32:D33) -> 5883000
A32: 1.1. Magánszemélyek kommunális adója | B32: 5583000 | C32: 5583000 | D32: 5583000
A33: 1.2. Telekadó | B33: 300000 | C33: 300000 | D33: 300000
A34: 2. Termékek és szolgáltatások adói | B34: =B35+B37+B38 -> 5350000 | C34: =C35+C37+C38 -> 5350000 | D34: =D35+D37+D38 -> 5400000
A35: 2.1. Értékesítési és forgalmi adók | B35: =SUM(B36) -> 3500000 | C35: =SUM(C36) -> 3500000 | D35: =SUM(D36) -> 3500000
A36: 2.1. 1. Iparűzési adó | B36: 3500000 | C36: 3500000 | D36: 3500000
A37: 2.2. Gépjárműadók | B37: 1800000 | C37: 1800000 | D37: 1800000
A38: 2.3. Egyéb áruhasználati és szolgáltatási adók | B38: =SUM(B39:B41) -> 50000 | C38: =SUM(C39:C41) -> 50000 | D38: =SUM(D39:D41) -> 100000
A39: 2.3.1. Ifa személyek u. | B39: 50000 | C39: 50000 | D39: 100000
A40: 2.3.2. Talajterhelési díj
A41: 2.3.3. Települési adó
A42: 3. Egyéb közhatalmi bevételek (bírság, pótlék,) | B42: 100000 | C42: 100000 | D42: 100000
A43: IV. Működési bevételek | B43: =B44+B45+B48+B49+B51+B52+B53+B54+B55 -> 3140000 | C43: =C44+C45+C48+C49+C51+C52+C53+C54+C55+C46 -> 4350000 | D43: =D44+D45+D48+D49+D51+D52+D53+D54+D55+D46 -> 3308110
A44: 1. Áru- és készletértékesítés bevétele
A45: 2. Nyújtott szolgáltatások ellenértéke | B45: 20000 | C45: 20000 | D45: 20000
A46: 2.1 Öreg Gella útfelújítás | C46: 1060000
A47: 2.2 bérleti díjak
A48: 3. Közvetített szolgáltatások ellenértéke | B48: 20000 | C48: =20000+118110 -> 138110 | D48: =20000+118110 -> 138110
A49: 4. Tulajdonosi bevételek | B49: =B50 -> 2400000 | C49: 2400000 | D49: 2400000
A50: 4.1. Üzemeltetési díjak | B50: 2400000 | C50: 2400000 | D50: 2400000
A51: 5. Ellátási díjak
A52: 6. Kiszámlázott Áfa | B52: 700000 | C52: =700000+31890 -> 731890 | D52: 750000
A53: 7. Áfa visszatérítés
A54: 8. Kamatbevétel
A55: 9. Egyéb működési bevételek (kártérítés, kötbér, stb.)
A56: V. Felhalmozási bevételek | B56: =SUM(B57:B60) -> 0 | C56: =SUM(C57:C60) -> 0
A57: 1. Immateriális javak értékesítése
A58: 2. Ingatlanok értékesítése
A59: 3. Egyéb tárgyi eszközök értékesítése
A60: 4. Részesedések értékesítése
A61: VI. Működési célú átvett pénzeszközök | B61: =SUM(B62:B64) -> 0 | C61: =SUM(C62:C64) -> 0
A62: 1. Működési célú garancia- és kezességvállalásból származó megtérülések áhk
A63: 2. Működési célú visszatérítendő támogatások, kölcsönök visszatérülése államháztartáson kívülről
A64: 3. Egyéb működési célú átvett pénzeszközök
A65: VII. Felhalmozási célú átvett pénzeszközök | B65: =B66+B67+B68 -> 0 | C65: =C66+C67+C68 -> 3000000
A66: 1. Felhalmozási célú garancia- és kezességvállalásból származó megtérülések áh-n kívülről
A67: 2. Felhalmozási célú visszatérítendő támogatások, kölcsönök visszatérülése államháztartáson kívülről
A68: 3. Egyéb felhalmozási célú átvett pénzeszközök | C68: 3000000
A69: 3.1 LEADER Közösségi tér | C69: 3000000
A70: Költségvetési bevételek összesen: | B70: =B65+B61+B56+B43+B30+B21+B5 -> 50947348 | C70: =C65+C61+C56+C43+C30+C21+C5 -> 77922815 | D70: =D65+D61+D56+D43+D30+D21+D5 -> 56259361
A71: 1. Költségvetési hiány belső finanszírozására szolgáló bevételek | B71: =SUM(B72:B73) -> 20000000 | C71: =SUM(C72:C73) -> 28648541 | D71: =SUM(D72:D73) -> 35000000
A72: 1.1. Előző év költségvetési maradványának igénybevétele működési célra | B72: 20000000 | C72: 28648541 | D72: =1965416+5545071+366313+1241991+19016209 -> 28135000
A73: 1.2. Előző év költségvetési maradványának igénybevétele felhalmozási célra | D73: =365000+6500000 -> 6865000
A74: 2. Költségvetési hiány külső finanszírozására szolgáló finanszírozási bevételek | B74: =B76+B75 -> 907476 | C74: =C76+C75 -> 963239 | D74: =D76+D75 -> 1044244
A75: 2.1. Forgatási célú értékpapír beváltása
A76: 2.4. Államháztartáson belüli megelőlegezések | B76: 907476 | C76: =907476+55763 -> 963239 | D76: 1044244
A77: 2.5. Lekötött bankbetét megszüntetése
A78: VIII. Finanszírozási bevételek | B78: =B74+B71 -> 20907476 | C78: =C74+C71 -> 29611780 | D78: =D74+D71 -> 36044244
A79: Összes bevétel: | B79: =B70+B78 -> 71854824 | C79: =C70+C78 -> 107534595 | D79: =D70+D78 -> 92303605
A80: Intézményi létszámok: | B80: 6 | C80: 7 | D80: 6
A81: ebből közfoglalkoztatott | B81: 3 | C81: 4 | D81: 3

Sheet 2a. tábla
A2: ÁLLAMI TÁMOGATÁSOK 2019. ÉV
A3: MEGNEVEZÉS | B3: LÉTSZÁM | C3: MUTATÓ | D3: FAJLAGOS | E3: 2019. évi eredeti előirányzat
A5: I. HELYI ÖNKORMÁNYZATOK MŰKÖDÉSÉNEK ÁLT.TÁMOGATÁSA | E5: =E6+E29 -> 24101266
A6: 1. Települési önkormányzatok működésének támogatása | E6: 22980766
A7: Önkormányzati hivatal működtetésének támogatás (beszámítás után) | E7: =E8 -> 0
A8: Önkormányzati hivatal működtetésének támogatás elismert hivatali létsz. | E8: =C8*D8 -> 0
A9: Beszámítás összege | E9: 0
A10: Település üzemeltetéséhez kapcsolódó feladatellát.támog.(beszámítás után) | E10: =E11+E12+E13+E14+E15+E16+E17+E18 -> 10594400
A11: Zöldterület-gazdálk-al kapcsolatos feladatok ellátásának támog. | D11: 22300 | E11: 985660
A12: Beszámítás összege
A13: Közvilágítás fenntartásának támogatás | E13: 4928000
A14: Beszámítás összege
A15: Köztemető fenntartással kapcsolatos feladatok támog. | E15: 0
A16: Beszámítás összege
A17: Közutak fenntartásának támogatás | E17: 4680740
A18: Beszámítás összege
A19: Egyéb önkormányzati feladatok támogatása (beszámítás után) | E19: =E20+E21 -> 5000000
A20: Egyéb önkormányzati feladatok támogatása | D20: 2700 | E20: 5000000
A21: Beszámítás összege
A22: Lakott külterületekkel kapcsolatos feladatok támogatása(beszámítás után) | E22: =E23+E24 -> 114750
A23: Lakott külterületekkel kapcsolatos feladatok támogatása | D23: 2550 | E23: 114750
A24: Beszámítás összege
A25: Üdülőhelyi feladatok támogatása (beszámitás után) | E25: =E26 -> 99600
A26: Üdülőhelyi feladatok támogatása | E26: 99600
A27: Beszámítás összege
A28: 2018. évről áthúzódó bérkompenzáció támogatása
A29: Polgármesteri illetmény támogatása | E29: 1120500
A30: Kiegészítés összege | E30: 5706518
A31: II. EGYES KÖZNEVELÉSI FELADATOK TÁMOGATÁSA
A33: III. SZOCIÁLIS, GYERMEKJÓLÉTI ÉS GYERMEKÉTKEZTETÉSI FELADATAI | E33: =E34+E37+E39+E41+E35 -> 5148500
A34: 1. Szociális ágazati pótlék 2018
A35: 2.Települési önkormányzatok szociális feladatainak egyéb támogatása | E35: 2048500
A36: 3.Egyéb szociális és gyermekjólétii feladatok támogatása | E36: 3100000
A37: e) Falugondnoki vagy tanyagondnoki gszolgáltaás | E37: 3100000
A38: Gyermekétkeztetés támogatása
A39: a)Finanszírozás szempontjából eloismert dolgozók bértámogatása
A40: b)Gyeremekétkeztetés üzemeltetési támogatása
A42: IV. A TELEPÜLÉSI ÖNKORMÁNYZATOK KULTURÁLIS FELADATAINAK TÁMOGATÁSA
A43: 1.d )Településo önkormányzatok nyilvános könyvtári és közművelődési feladatok támogatása | E43: =E44 -> 1800000
E44: 1800000
A46: Helyi önkormányzat működési célú költségvetési támogatási és kiegészítő támogatásai
A48: Összesen | E48: =E43+E33+E31+E5 -> 31049766

Sheet 3.tábla 
A3: MŰKÖDÉSI KIADÁSOK 2019. ÉV
A4: MEGNEVEZÉS | B4: 2018. évi eredeti | C4: 2018.évi várható | D4: 2019. évi eredeti előirányzat
A5: I. Önkormányzati Hivatal költségvetése
A6: 1. Személyi juttatás | B6: =8933820+1935080+149009+149009+185000 -> 11351918 | C6: 13590461 | D6: =D7+D8 -> 22269078
A7: 1.1 Személyi juttatások | B7: 11351918 | C7: 13590461 | D7: 17195238
A8: 1.2 EFOP-5.1.2-16-2017 Humán szolgáltatások személyi juttatások | B8: 0 | C8: 0 | D8: 5073840
A9: 2. Munkaadót terhelő járulékok | B9: 2307565 | C9: 2561314 | D9: =D10+D11 -> 3645209
A10: Munakadói járulék | B10: 2307565 | C10: 2561314 | D10: 2985209
A11: 2.1 EFOP-5.1.2-16-2017 Humán szolgáltatások munkaadói járulék | B11: 0 | C11: 0 | D11: 660000
A12: 3. Dologi kiadások | B12: =SUM(B13:B28) -> 17032982 | C12: =SUM(C13:C28) -> 30647470 | D12: =SUM(D13:D29) -> 22864333
A13: Szakmai anyagok beszerzése | B13: 35000 | C13: 35000 | D13: 35000
A14: Üzemeltetési anyagok beszerzése | B14: 1960000 | C14: 2992536 | D14: 2000000
A15: Informatikai szolg.igénybevétele | B15: 501000 | C15: =501000+5000+150000 -> 656000 | D15: 550000
A16: Egyéb kommunikációs szolg. | B16: 705000 | C16: 705000 | D16: 650000
A17: Közüzemi díjak | B17: 2105000 | C17: 2105000 | D17: 2000000
A18: Vásárolt élelmezés | B18: 20000 | C18: 20000 | D18: 20000
A19: Bérleti és lizing díjak | B19: 460000 | C19: =460000+20000 -> 480000 | D19: 480000
A20: Karbantartási szolg. | B20: 1773982 | C20: =1773982-5000 -> 1768982 | D20: 400000
A21: Közvetített szolgáltatások | B21: 20000 | C21: =20000+150000 -> 170000 | D21: 200000
A22: Szakmai tevékenységet segítő szolg. | B22: 1494000 | C22: 2180220 | D22: 1800000
A23: Egyéb szolgáltatások | B23: 4000000 | C23: =4000000+30294+500000-20000-100000 -> 4410294 | D23: 3500000
A24: 2.1 EFOP-5.1.2-16-2017 Humán szolgáltatások egyéb szolgáltatás | C24: 11040004 | D24: 5954333
A25: Reklám és propaganda | B25: 60000 | C25: 60000 | D25: 40000
A26: Működési célú előzetesen felsz.áfa | B26: 2121000 | C26: 2214544 | D26: 2700000
A27: Fizetendő áfa | B27: 700000 | C27: =700000+31890 -> 731890 | D27: 750000
A28: Egyéb dologi kiadások | B28: 1078000 | C28: =1078000 -> 1078000 | D28: 1250000
A29: EFOP-5.1.2-16-2017 Humán szolgáltatés anyagköltség | C29: 0 | D29: 535000
A30: 4. Ellátottak pénzbeli juttatásai | B30: =B31 -> 3795000 | C30: =C31 -> 3795000 | D30: =D31 -> 2048500
A31: Települési támogatás | B31: 3795000 | C31: 3795000 | D31: 2048500
A32: 5. Egyéb működési célú kiadások | B32: =B33+B35+B36+B37+B38+B39+B40 -> 13095342 | C32: =C33+C35+C36+C37+C38+C39+C40+C41 -> 13013128 | D32: =D33+D35+D36+D37+D38+D39+D40 -> 14231349
A33: 1. Működési célú garancia- és kezességvállalásból származó kifizetés áhb
A34: 2. Elvonások, befizetések
A35: 3. Működési célú visszatérítendő támogatások, kölcsönök nyújtása áh-n belülre
A36: 4. Működési célú visszatérítendő támogatások, kölcsönök törlesztése áh-n belülre
A37: 5. Egyéb működési célú támogatások áhb | B37: 12335342 | C37: ='4.tábla'!C3 -> 11331288 | D37: ='4.tábla'!D3 -> 13371349
A38: 6. Működési célú garancia- és kezességvállalásból származó kifizetés államháztartáson kívülre
A39: 7. Működési célú visszatérítendő támogatások, kölcsönök nyújtása áh-n kívülre
A40: 8. Egyéb működési célú támogatások áhk | B40: ='4.tábla'!B9 -> 760000 | C40: ='4.tábla'!C9 -> 1571400 | D40: ='4.tábla'!D9 -> 860000
A41: 9. Állami támogatás visszafizetési kötelezettség | C41: 110440
A42: Önkormányzati működési kiadások összesen: | B42: =B6+B9+B12+B30+B32 -> 47582807 | C42: =C6+C9+C12+C30+C32 -> 63607373 | D42: =D6+D9+D12+D30+D32 -> 65058469

Sheet 4.tábla
A1: MŰKÖDÉSI KIADÁSOK 2019. ÉV
A2: Megnevezés | B2: 2018. évi eredeti | C2: 2018.évi várható | D2: 2019. évi eredeti előirányzat
A3: 1. Működési célú támogatások államháztartáson belülre | B3: =SUM(B4:B7) -> 12335342 | C3: =SUM(C4:C7) -> 11331288 | D3: =SUM(D4:D7) -> 13371349
A4: Közoktatási Intézményfenntartó Társulás Pécsely Óvoda fenntart támogatás | B4: 4863153 | C4: 3859099 | D4: =5221029-42855 -> 5178174
A5: Balatonfüredi közös Önkorm Hivatal | B5: 6117300 | C5: 6117300 | D5: 6988286
A6: Bf. Többcélú Társulás | B6: 954889 | C6: 954889 | D6: 954889
A7: BURSA Hungarica ösztöndíj (Wekerle Sándor Alapkezelő) | B7: 400000 | C7: 400000 | D7: 250000
A8: Egyéb
A9: 2. Működési célú támogatások államháztartáson kívülre | B9: =SUM(B10:B17) -> 760000 | C9: =SUM(C10:C17) -> 1571400 | D9: =SUM(D10:D18) -> 860000
A10: Református egyház | B10: 0 | C10: 0
A11: Mosoly Alapítány | B11: 0 | C11: 0
A12: Bfüredi Önk Tűzoltóságnak | B12: 0 | C12: 0
A13: Balatonszőlős Darts egyesület | B13: 150000 | C13: 150000 | D13: 150000
A14: Balatonszőlős Sport egyesület | B14: 500000 | C14: 500000 | D14: 500000
A15: Tihany Iskoláért Alapítvány | B15: 100000 | C15: 100000 | D15: 100000
A16: Bakonykarszt-Víz és csatorna támogatás | C16: 811400
A17: Falugondnokok egyesülete támogatás | B17: 10000 | C17: 10000 | D17: 10000
A18: Faluházért Alapítvány | D18: 100000
A19: 3. Működési célú visszatérítendő támogatások, kölcsönök nyújtása, törlesztése | B19: 0 | C19: 0 | D19: 0
A21: Egyéb működési célú kiadások összesen:
A25: Összesen: | B25: =B9+B3 -> 13095342 | C25: =C9+C3 -> 12902688 | D25: =D9+D3 -> 14231349

Sheet 5.tábla
A1: FELHALMOZÁSI KIADÁSOK 2019. ÉV
A2: Megnevezés | B2: 2018. évi eredeti | C2: 2018.évi várható | D2: 2019. évi eredeti előirányzat
A3: I. BERUHÁZÁSOK | B3: =B4+B6+B15+B14 -> 9119196 | C3: =C4+C6+C15+C14 -> 14402020 | D3: =D4+D6+D15+D14 -> 8604620
A4: Immateriális javak beszerzése | B4: =SUM(B5:B5) -> 2500000 | C4: =SUM(C5:C5) -> 2500000 | D4: =SUM(D5:D5) -> 2500000
A5: Rendezési terv felülvizsgálat önrész | B5: 2500000 | C5: 2500000 | D5: 2500000
A6: Ingatlanok beszerzése, létesítése | B6: =B7+B8+B10+B11+B13 -> 4569196 | C6: =C7+C8+C9+C11+C13 -> 8672019 | D6: =D7+D8+D9+D11+D13 -> 4004620
A7: Közösségi Ház féltető | B7: 0 | C7: 0
A8: LEADER pályázat Közösségi tér önrész 75/2018.(VIII.28.) | B8: 0 | C8: 1004620 | D8: 1004620
A9: LEADER pályázat Közösségi tér munkálatok 75/2018.(VIII.28.) | C9: 3000000 | D9: 3000000
A10: Közösségi Ház nyitott szintere | B10: 0 | C10: 0
A11: Mosó pályázat önrésze | B11: 3228076 | C11: 3228076
A12: Mosó pályázat munkálatok | B12: 0 | C12: 0
A13: MLSZ futballpály körbekerítés | B13: 1341120 | C13: 1439323
A14: Informatikai eszközök beszerzése, létesítése | B14: 50000 | C14: 50000 | D14: 50000
A15: Egyéb tárgyi eszköz beszerzése | B15: =B16+B17+B18+B19+B20 -> 2000000 | C15: =C16+C17+C18+C19+C20 -> 3180001 | D15: =D16+D17+D18+D19+D20 -> 2050000
A16: Mobil lemezgarázs | B16: 0 | C16: 180000
A17: Nyomtató vásárlás | B17: 0 | C17: 0 | D17: 250000
A18: RZ kaszsa | B18: 0 | C18: 0 | D18: 300000
A19: Fűnyíró | B19: 0 | C19: 1000001
A20: Kisértékű tárgyi eszközök | B20: 2000000 | C20: 2000000 | D20: 1500000
A21: Részesedések beszerzése
A22: 2.1 EFOP-5.1.2-16-2017 Humán szolgáltatások eszközbeszerzés | D22: 1200000
A23: II. FELÚJÍTÁSOK | B23: =B24 -> 5316875 | C23: =C24 -> 17318511 | D23: =D24 -> 10537476
A24: Ingatlanok Felújítása | B24: =B25+B26+B27+B28+B32 -> 5316875 | C24: =SUM(C25:C32) -> 17318511 | D24: =SUM(D25:D32) -> 10537476
A25: Pécselyi iskola tető felújítása tulajdonarányosan | B25: 314112 | C25: 314112
A26: Önkormányzati fejlesztések 2018 önrész | B26: 0 | C26: 1580622 | D26: 1580622
A27: Önkormányzati fejlesztések 2018 munkálatok | B27: 0 | C27: 8956854 | D27: 8956854
A28: Sportöltöző és sportpálya felújítása pályázat önrész | B28: 4034832 | C28: 4034832
A29: Sportöltöző és sportpálya felújítása pályázat munkálatok | B29: 0 | C29: 0
A30: Öreg Gella Útfelújítás önrész | C30: 393000
A31: Öreg Gella Útfelújítás munkálatok | C31: 1060000
A32: "Önkormányzati feladatellátást szolgáló fejlesztések támogatása" pályázat, utak felújítása önrész | B32: 967931 | C32: =967931+11160 -> 979091
A33: III. EGYÉB FELHALMOZÁSI KIADÁSOK | B33: =B34 -> 30885 | C33: =C34 -> 30885 | D33: =D34 -> 42855
A34: Egyéb felhalmozási kiadások | B34: 30885 | C34: 30885 | D34: 42855
A35: IV. Finanszírozási kiadások | B35: =B36+B37+B38 -> 2399591 | C35: =C36+C37+C38 -> 2455354 | D35: =D36+D37+D38 -> 2286235
A36: Lekötött bankbetét beváltása
A37: Forgatási célú értékpapír vásárlás
A38: Állami támogatás megelőlegezés visszafizetés | B38: 2399591 | C38: =2399591+55763 -> 2455354 | D38: 2286235
A39: Felhalmozási kiadások összesen: | B39: =B3+B23+B35+B33 -> 16866547 | C39: =C3+C23+C35+C33 -> 34206770 | D39: =D3+D23+D35+D33 -> 21471186 | E39: =D3+D23+D33+D35 -> 21471186

Sheet 6.tábla 
A2: Az Önkormányzat működési bevételei és kiadásai 2019. év
A4: 1. Működési bevételek | B4: 2018. évi eredeti | C4: 2018.évi várható | D4: 2019. évi eredeti előirányzat | E4: 2. Működési kiadások | F4: 2018. évi eredeti | G4: 2018.évi várható | H4: 2019. évi eredeti előirányzat
A5: 1. Működési célú támogatások államháztartáson belülről | B5: ='1.tábla '!B6 -> 31474348 | C5: ='1.tábla '!C6 -> 45282961 | D5: ='1.tábla '!D6 -> 41568251 | E5: 1. Személyi juttatások | F5: ='3.tábla '!B6 -> 11351918 | G5: ='3.tábla '!C6 -> 13590461 | H5: ='3.tábla '!D6 -> 22269078
A6: 2. Közhatalmi bevételek | B6: ='1.tábla '!B8 -> 11333000 | C6: ='1.tábla '!C8 -> 11333000 | D6: ='1.tábla '!D8 -> 11383000 | E6: 2. Munkaadót terhelő járulékok | F6: ='3.tábla '!B9 -> 2307565 | G6: ='3.tábla '!C9 -> 2561314 | H6: ='3.tábla '!D9 -> 3645209
A7: 3. Működési bevételek | B7: ='1.tábla '!B9 -> 3140000 | C7: ='1.tábla '!C9 -> 4350000 | D7: ='1.tábla '!D9 -> 3308110 | E7: 3. Dologi kiadások | F7: ='3.tábla '!B12 -> 17032982 | G7: ='3.tábla '!C12 -> 30647470 | H7: ='3.tábla '!D12 -> 22864333
A8: 4. Működési célú átvett pénzeszközök államháztartáson kivülről | E8: 4. Ellátottak pénzbeli juttatásai | F8: ='3.tábla '!B30 -> 3795000 | G8: ='3.tábla '!C30 -> 3795000 | H8: ='3.tábla '!D30 -> 2048500
E9: 5. Egyéb működési célú kiadások | F9: =F10+F11+F12+F13 -> 13095342 | G9: =G10+G11+G12+G13 -> 12902688 | H9: =H10+H11+H12+H13 -> 14231349
E10: 5.1. Elvonások, befizetések
E11: 5.2. Egyéb működési célú támogatások áhb | F11: ='4.tábla'!B3 -> 12335342 | G11: ='4.tábla'!C3 -> 11331288 | H11: ='4.tábla'!D3 -> 13371349
E12: 5.4. Egyéb működési célú támogatások áhk | F12: ='4.tábla'!B9 -> 760000 | G12: ='4.tábla'!C9 -> 1571400 | H12: ='4.tábla'!D9 -> 860000
E13: 5.5. Működési célú visszatérítendő tám.-k, kölcsönök nyújtása áhk
E14: 6. Pénzforgalom nélküli kiadások (tartalék) | F14: ='1.tábla '!B26 -> 7405470 | G14: ='1.tábla '!C26 -> 9720452 | H14: ='1.tábla '!D26 -> 5773950
A15: Összes költségvetési működési bevétel: | B15: =SUM(B5:B14) -> 45947348 | C15: =SUM(C5:C14) -> 60965961 | D15: =SUM(D5:D14) -> 56259361 | E15: Összes költségvetési működési kiadás: | F15: =F5+F6+F7+F8+F9+F14 -> 54988277 | G15: =G5+G6+G7+G8+G9+G14 -> 73217385 | H15: =H5+H6+H7+H8+H9+H14 -> 70832419
A16: Működési többlet: | E16: Működési hiány: | F16: =F15-B15 -> 9040929 | G16: =G15-C15 -> 12251424 | H16: =H15-D15 -> 14573058
A17: Költségvetési hiány belső finanszírozása működési célú | B17: =SUM(B18) -> 20000000 | C17: =SUM(C18) -> 28648541 | D17: =SUM(D18) -> 28135000 | E17: Finanszírozási célú műveletek kiadásai működési célú | F17: =F18+F19+F20+F21 -> 2399591 | G17: =G18+G19+G20+G21 -> 2455354 | H17: =H18+H19+H20+H21 -> 2286235
A18: 5. Költségvetési Maradvány | B18: ='2.tábla'!B72 -> 20000000 | C18: ='2.tábla'!C72 -> 28648541 | D18: ='2.tábla'!D72 -> 28135000 | E18: 7. Állami támogatás megelőlegezés visszafizetése | F18: ='5.tábla'!B38 -> 2399591 | G18: ='5.tábla'!C38 -> 2455354 | H18: ='5.tábla'!D38 -> 2286235
A19: Költségvetési hiány külső finanszírozása működési célú | B19: =SUM(B20:B22) -> 907476 | C19: =SUM(C20:C22) -> 963239 | D19: =SUM(D20:D22) -> 1044244 | E19: 8. Lekötött bankbetét megszüntetése
A20: 6. Értékpapír beváltása | B20: ='2.tábla'!B75 -> 0 | E20: 9. Betét vásárlás
A21: 7. Lekötött bankbetét megszüntetése | E21: 10. Forgatási célú értékpapír vás. | F21: ='5.tábla'!B37 -> 0
A22: 8. Állami támogatás megelőlegezés visszafizetése | B22: ='2.tábla'!B76 -> 907476 | C22: ='2.tábla'!C76 -> 963239 | D22: ='2.tábla'!D76 -> 1044244
A23: Összes működési bevétel: | B23: =B15+B17+B19 -> 66854824 | C23: =C15+C17+C19 -> 90577741 | D23: =D15+D17+D19 -> 85438605 | E23: Összes működési kiadás | F23: =F17+F15 -> 57387868 | G23: =G17+G15 -> 75672739 | H23: =H17+H15 -> 73118654
C24: =C16+C18+C20 -> 28648541
A25: Az Önkormányzat felhalmozási bevételei és kiadásai 2017. év
A27: 1. Felhalmozási bevételek | B27: 2018. ÉVI EREDETI | D27: ELTÉRÉS | E27: 2. Felhalmozási kiadások | F27: 2018. ÉVI EREDETI | H27: ELTÉRÉS
A28: 1. Felhalmozási célú támogatások államháztartáson belülről | B28: ='2.tábla'!B21 -> 5000000 | C28: ='2.tábla'!C21 -> 13956854 | D28: ='2.tábla'!D21 -> 0 | E28: 1.1. Beruházások | F28: ='5.tábla'!B3 -> 9119196 | G28: ='5.tábla'!C3 -> 14402020 | H28: ='5.tábla'!D3 -> 8604620
A29: 2. Felhalmozási bev. | B29: ='2.tábla'!B56 -> 0 | C29: ='2.tábla'!C56 -> 0 | D29: ='2.tábla'!D56 -> 0 | E29: 1.2. Int.saját hatáskörű fejlesztések
A30: 3. Felhalmozási célú átvett pénzeszközök | B30: ='2.tábla'!B65 -> 0 | C30: ='2.tábla'!C65 -> 3000000 | D30: ='2.tábla'!D65 -> 0 | E30: 2. Felújítások | F30: ='5.tábla'!B23 -> 5316875 | G30: ='5.tábla'!C23 -> 17318511 | H30: ='5.tábla'!D23 -> 10537476
E31: 3. Egyéb felhalmozási kiadások | F31: =F32+F33+F34+F35 -> 30885 | G31: =G32+G33+G34+G35 -> 30885 | H31: =H32+H33+H34+H35 -> 42855
E32: 3.1. Egyéb felhalmozási célú támogatások áh-n kívülre
E33: 3.2. Egyéb felhalmozási célú támogatások áh-n belülre | F33: ='5.tábla'!B34 -> 30885 | G33: ='5.tábla'!C34 -> 30885 | H33: ='5.tábla'!D34 -> 42855
E34: 3.3. Felhalmozási célú visszatérítendő támogatások, kölcsönök nyújtása áh-n belülre
E35: 3.3. Felhalmozási célú visszatérítendő támogatások, kölcsönök nyújtása áh-n kívülre
A36: Összes költségvetési felhalmozási bevétel: | B36: =SUM(B28:B34) -> 5000000 | C36: =SUM(C28:C34) -> 16956854 | D36: =SUM(D28:D34) -> 0 | E36: Összes költségvetési felhalmozási kiadás: | F36: =SUM(F28:F31) -> 14466956 | G36: =SUM(G28:G31) -> 31751416 | H36: =SUM(H28:H31) -> 19184951
A37: Felhalmozási többlet: | B37: -9466956 | C37: -9466956 | D37: -9466956 | E37: Felhalmozási hiány: | F37: =F36-B36 -> 9466956 | G37: =G36-C36 -> 14794562 | H37: =H36-D36 -> 19184951
A38: Költségvetési hiány belső finanszírozása felhalmozási célú | B38: =SUM(B39) -> 0 | C38: =SUM(C39) -> 0 | D38: =SUM(D39) -> 6865000 | E38: Finanszírozási célú műveletek kiadásai felhalmozási célú | F38: =SUM(F39:F41) -> 0 | G38: =SUM(G39:G41) -> 0 | H38: =SUM(H39:H41) -> 0
A39: 4.Költségvetési maradvány | B39: ='2.tábla'!B73 -> 0 | C39: ='2.tábla'!C73 -> 0 | D39: ='2.tábla'!D73 -> 6865000 | E39: 4. Értékpapírok visszavásárlása
A40: Költségvetési hiány külső finanszírozása felhalmozási célú | B40: =SUM(B41:B42) -> 0 | C40: =SUM(C41:C42) -> 0 | D40: =SUM(D41:D42) -> 0 | E40: 5. Hitelek törlesztése
A41: 5. Értékpapír kibocsátás, értékesítés | E41: 6. Állami támogatás megelőlegezés visszafizetése
A42: 6. Hitelfelvétel
A43: Összes felhalmozási bevétel: | B43: =B36+B38+B40 -> 5000000 | C43: =C36+C38+C40 -> 16956854 | D43: =D36+D38+D40 -> 6865000 | E43: Összes felhalmozási kiadás | F43: =F36+F38 -> 14466956 | G43: =G36+G38 -> 31751416 | H43: =H36+H38 -> 19184951
A46: Bevétele és kiadások mérlege 2017. év
A48: BEVÉTELEK | B48: 2017. ÉVI EREDETI | D48: ELTÉRÉS | E48: KIADÁSOK | F48: 2017. ÉVI EREDETI | H48: ELTÉRÉS
A49: Költségvetési működési bevételek | B49: =B15 -> 45947348 | C49: =C15 -> 60965961 | D49: =D15 -> 56259361 | E49: Költségvetési működési kiadások | F49: =F15 -> 54988277 | G49: =G15 -> 73217385 | H49: =H15 -> 70832419
A50: Költségvetési felhalmozási bevételek | B50: =B36 -> 5000000 | C50: =C36 -> 16956854 | D50: =D36 -> 0 | E50: Költségvetési felhalmozási kiadások | F50: =F36 -> 14466956 | G50: =G36 -> 31751416 | H50: =H36 -> 19184951
A51: Költségvetési bevételek összesen: | B51: =SUM(B49:B50) -> 50947348 | C51: =SUM(C49:C50) -> 77922815 | D51: =SUM(D49:D50) -> 56259361 | E51: Költségvetési kiadások összesen: | F51: =SUM(F49:F50) -> 69455233 | G51: =SUM(G49:G50) -> 104968801 | H51: =SUM(H49:H50) -> 90017370
A52: Költségvetési többlet: | E52: Költségvetési hiány: | F52: =F51-B51 -> 18507885 | G52: =G51-C51 -> 27045986 | H52: =H51-D51 -> 33758009
A53: Költségvetési hiány belső finanszírozása: | B53: =SUM(B54:B55) -> 20000000 | C53: =SUM(C54:C55) -> 28648541 | D53: =SUM(D54:D55) -> 35000000 | E53: Finanszírozási célú műveletek kiadásai összesen: | F53: =SUM(F54:F55) -> 2399591 | G53: =SUM(G54:G55) -> 2455354 | H53: =SUM(H54:H55) -> 2286235
A54: Költségvetési hiány belső finanszírozása működési célú | B54: =B17 -> 20000000 | C54: =C17 -> 28648541 | D54: =D17 -> 28135000 | E54: Finanszírozási célú műveletek működési kiadásai | F54: =F17 -> 2399591 | G54: =G17 -> 2455354 | H54: =H17 -> 2286235
A55: Költségvetési hiány belső finanszírozása felhalmozási célú | B55: =B38 -> 0 | C55: =C38 -> 0 | D55: =D38 -> 6865000 | E55: Finanszírozási célú műveletek felhalmozási kiadásai | F55: =F38 -> 0 | G55: =G38 -> 0 | H55: =H38 -> 0
A56: Költségvetési hiány külső finanszírozása: | B56: =SUM(B57:B58) -> 907476 | C56: =SUM(C57:C58) -> 963239 | D56: =SUM(D57:D58) -> 1044244
A57: Költségvetési hiány külső finanszírozása működési célú | B57: =B19 -> 907476 | C57: =C19 -> 963239 | D57: =D19 -> 1044244
A58: Költségvetési hiány külső finanszírozása felhalmozási célú | B58: =B40 -> 0 | C58: =C40 -> 0 | D58: =D40 -> 0
A59: Összes bevétel: | B59: =B51+B53+B56 -> 71854824 | C59: =C51+C53+C56 -> 107534595 | D59: =D51+D53+D56 -> 92303605 | E59: Összes kiadás: | F59: =F51+F53 -> 71854824 | G59: =G51+G53 -> 107424155 | H59: =H51+H53 -> 92303605
A60: TÖBBLET

Sheet 7.tábla
A1: Az Önkormányzat kötelező feladatok bevételei és kiadásai 2019. év
A2: 1. Működési bevételek | B2: 2018. évi eredeti | C2: 2018.évi várható | D2: 2019. évi eredeti előirányzat | E2: 2. Működési kiadások | F2: 2018. évi eredeti | G2: 2018.évi várható | H2: 2019. évi eredeti előirányzat
A3: Működési bevételek | E3: Működési kiadások
A4: 1. Működési támogatások államháztartáson belülről | B4: ='6.tábla '!B5 -> 31474348 | C4: ='6.tábla '!C5 -> 45282961 | D4: ='6.tábla '!D5 -> 41568251 | E4: 1. Személyi juttatások | F4: ='6.tábla '!F5 -> 11351918 | G4: ='6.tábla '!G5 -> 13590461 | H4: ='6.tábla '!H5 -> 22269078
A5: 2. Közhatalmi bevételek | B5: ='6.tábla '!B6 -> 11333000 | C5: ='6.tábla '!C6 -> 11333000 | D5: ='6.tábla '!D6 -> 11383000 | E5: 2. Munkaadót terhelő járulékok | F5: ='6.tábla '!F6 -> 2307565 | G5: ='6.tábla '!G6 -> 2561314 | H5: ='6.tábla '!H6 -> 3645209
A6: 3. Működési bevételek | B6: ='6.tábla '!B7-B34 -> 3140000 | C6: ='6.tábla '!C7-C34 -> 4350000 | D6: ='6.tábla '!D7-D34 -> 3308110 | E6: 3. Dologi kiadások | F6: ='6.tábla '!F7-F34 -> 17032982 | G6: ='6.tábla '!G7-G34 -> 30647470 | H6: ='6.tábla '!H7-H34 -> 22864333
A7: 4. Működési célú átvett pénzeszközök áhk | B7: ='6.tábla '!B8 -> 0 | C7: ='6.tábla '!C8 -> 0 | E7: 4. Ellátottak pénzbeli juttatásai | F7: ='6.tábla '!F8 -> 3795000 | G7: ='6.tábla '!G8 -> 3795000 | H7: ='6.tábla '!H8 -> 2048500
E8: 5. Egyéb működési célú kiadások | F8: =F10+F11+F12 -> 12335342 | G8: =G10+G11+G12 -> 11331288 | H8: =H10+H11+H12 -> 13371349
E9: 5.1. Elvonások, befizetések | F9: ='6.tábla '!F10 -> 0 | G9: ='6.tábla '!G10 -> 0 | H9: ='6.tábla '!H10 -> 0
E10: 5.2. Egyéb működési célú támogatások áh-n belülre | F10: ='6.tábla '!F11 -> 12335342 | G10: ='6.tábla '!G11 -> 11331288 | H10: ='6.tábla '!H11 -> 13371349
E11: 5.4. Egyéb működési célú támogatások áh-n kívülre | F11: ='6.tábla '!F12-F40 -> 0 | G11: ='6.tábla '!G12-G40 -> 0 | H11: ='6.tábla '!H12-H40 -> 0
E12: 5.5. Működési célú visszatérítendő támogatások, kölcsönök nyújtása áh-n kívülre | F12: ='6.tábla '!F13 -> 0 | G12: ='6.tábla '!G13 -> 0 | H12: ='6.tábla '!H13 -> 0
E13: 6. Pénzforgalom nélküli kiadások (tartalék) | F13: ='6.tábla '!F14 -> 7405470 | G13: ='6.tábla '!G14 -> 9720452 | H13: ='6.tábla '!H14 -> 5773950
A14: Költségvetési működési bevételek kötelező feladatok szerinti bontásban | B14: =SUM(B4:B13) -> 45947348 | C14: =SUM(C4:C13) -> 60965961 | D14: =SUM(D4:D13) -> 56259361 | E14: Költségvetési felhalmozási kiadások kötelező feladatok szerinti bontásban | F14: =F4+F5+F6+F7+F8+F13 -> 54228277 | G14: =G4+G5+G6+G7+G8+G13 -> 71645985 | H14: =H4+H5+H6+H7+H8+H13 -> 69972419
A15: Finanszírozási bevételek | B15: ='6.tábla '!B53 -> 20000000 | C15: ='6.tábla '!C53 -> 28648541 | D15: ='6.tábla '!D53 -> 35000000 | E15: Finanszírozási kiadások | F15: ='6.tábla '!F17-F55 -> 2399591 | G15: ='6.tábla '!G17-G55 -> 2455354 | H15: ='6.tábla '!H17-H55 -> 2286235
A16: Működési bevételek kiemelt előirányzatonként kötelező feladatok szerinti bontásban | B16: =B14+B15 -> 65947348 | C16: =C14+C15 -> 89614502 | D16: =D14+D15 -> 91259361 | E16: Működési kiadások kiemelt előirányzatonként kötelező feladatok szerinti bontásban | F16: =F14+F15 -> 56627868 | G16: =G14+G15 -> 74101339 | H16: =H14+H15 -> 72258654
A17: Felhalmozási bevételek | E17: Felhalmozási kiadások
A18: 1. Felhalmozási célú támogatások áhb | B18: ='1.tábla '!B7 -> 5000000 | C18: ='1.tábla '!C7 -> 13956854 | D18: ='1.tábla '!D7 -> 0 | E18: 1.1. Beruházások | F18: ='6.tábla '!F28-F46 -> 9119196 | G18: ='6.tábla '!G28-G46 -> 14402020 | H18: ='6.tábla '!H28-H46 -> 8604620
A19: 2. Felhalmozási bevételek | B19: ='6.tábla '!B29-B47 -> 0 | E19: 1.2. Int.saját hatáskörű fejlesztések
A20: 3. Felhalmozási célú átvett pénzeszközök áhk | B20: ='6.tábla '!B30-B48 -> 0 | C20: ='6.tábla '!C30 -> 3000000 | D20: ='6.tábla '!D30 -> 0 | E20: 2. Felújítások | F20: ='6.tábla '!F30 -> 5316875 | G20: ='6.tábla '!G30 -> 17318511 | H20: ='6.tábla '!H30 -> 10537476
E21: 3. Egyéb felhalmozási célú kiadások | F21: ='6.tábla '!F31 -> 30885 | G21: ='6.tábla '!G31 -> 30885 | H21: ='6.tábla '!H31 -> 42855
E22: 3.1. Egyéb felhalmozási célú pénzeszköz átadás áhk
E23: 3.2. Egyéb felhalmozási célú pénzeszköz átadás áh-n belülre
E24: 3.4. Felhalmozási célú visszatérítendő támogatások, kölcsönök nyújtása áh-n kívülre
A25: Költségvetési felhalmozási bevételek kötelező feladatok szerinti bontásban | B25: =SUM(B18:B24) -> 5000000 | C25: =SUM(C18:C24) -> 16956854 | D25: =SUM(D18:D24) -> 0 | E25: Költségvetési felhalmozási kiadások kötelező feladatok szerinti bontásban | F25: =SUM(F18:F24) -> 14466956 | G25: =SUM(G18:G24) -> 31751416 | H25: =SUM(H18:H24) -> 19184951
A26: Finanszírozási bevételek | B26: ='6.tábla '!B19-B55 -> 907476 | C26: ='6.tábla '!C19-C55 -> 963239 | D26: ='6.tábla '!D19-D55 -> 1044244 | E26: Finanszírozási kiadások | F26: ='6.tábla '!F38 -> 0 | G26: ='6.tábla '!G38 -> 0 | H26: ='6.tábla '!H38 -> 0
A27: Felhalmozási bevételek kiemelt előirányzatonként kötelező feladatok szerinti bontásban | B27: =B25+B26 -> 5907476 | C27: =C25+C26 -> 17920093 | D27: =D25+D26 -> 1044244 | E27: Felhalmozási kiadások kiemelt előirányzatonként kötelező feladatok szerinti bontásban | F27: =F25+F26 -> 14466956 | G27: =G25+G26 -> 31751416 | H27: =H25+H26 -> 19184951
B28: =B27+B16 -> 71854824 | C28: =C27+C16 -> 107534595 | D28: =D27+D16 -> 92303605 | F28: =F27+F16 -> 71094824 | G28: =G27+G16 -> 105852755 | H28: =H27+H16 -> 91443605
A29: Az Önkormányzat önként vállalt feladatok bevételei és kiadásai 2017. év
A30: 1. Működési bevételek | B30: 2018. ÉVI EREDETI | D30: ELTÉRÉS | E30: 2. Működési kiadások | F30: 2018. ÉVI EREDETI | H30: ELTÉRÉS
A31: Működési bevételek | E31: Működési kiadások
A32: 1. Működési támogatások államháztartáson belülről | E32: 1. Személyi juttatások
A33: 2. Közhatalmi bevételek | E33: 2. Munkaadót terhelő járulékok
A34: 3. Működési bevételek | B34: ='2.tábla'!B47 -> 0 | E34: 3. Dologi kiadások
A35: 4. Működési célú átvett pénzeszközök államháztartáson kivülről | E35: 4. Ellátottak pénzbeli juttatásai
E36: 5. Egyéb működési célú kiadások
E37: 5.1. Elvonások, befizetések
E38: 5.2. Egyéb működési célú támogatások áhb
E39: 5.4. Egyéb működési célú támogatások áhk
E40: 5.5. Működési célú visszatérítendő támogatások, kölcsönök nyújtása áh-n kívülre | F40: ='4.tábla'!B9 -> 760000 | G40: ='4.tábla'!C9 -> 1571400 | H40: ='4.tábla'!D9 -> 860000
E41: 6. Pénzforgalom nélküli kiadások (tartalék)
A42: Költségvetési működési bevételek önként vállalt feladatok szerinti bontásban | B42: =SUM(B32:B41) -> 0 | E42: Költségvetési működési kiadások önként vállalt feladatok szerinti bontásban | F42: =SUM(F32:F41) -> 760000 | G42: =SUM(G32:G41) -> 1571400 | H42: =SUM(H32:H41) -> 860000
A43: Finanszírozási bevételek | E43: Finanszírozási kiadások
A44: Működési bevételek kiemelt előirányzatonként önként vállalt feladatok szerinti bontásban | B44: =B42+B43 -> 0 | E44: Működési kiadások kiemelt előirányzatonként önként vállalt feladatok szerinti bontásban | F44: =F42+F43 -> 760000 | G44: =G42+G43 -> 1571400 | H44: =H42+H43 -> 860000
A45: Felhalmozási bevételek | E45: Felhalmozási kiadások
A46: 1. Felhalmozási célú támogatások államháztartáson belülről | E46: 1.1. Beruházások
A47: 2. Felhalmozási bevételek | B47: ='2.tábla'!B58 -> 0 | E47: 1.2. Int.saját hatáskörű fejlesztések
A48: 3. Felhalmozási célú átvett pénzeszközök áh-n kívülről | B48: ='2.tábla'!B67 -> 0 | E48: 2. Felújítások
E49: 3. Egyéb felhalmozási célú kiadások
E50: 3.1. Egyéb felhalmozási célú pénzeszköz átadás áh-n kívülre
E51: 3.2. Egyéb felhalmozási célú pénzeszköz átadás áh-n belülre
E52: 3.3. Felhalmozási célú visszatérítendő támogatások, kölcsönök nyújtása áh-n belülre
E53: 3.4. Felhalmozási célú visszatérítendő támogatások, kölcsönök nyújtása áh-n kívülre
A54: Költségvetési felhalmozási bevételek önként vállalt feladatok szerinti bontásban | B54: =SUM(B46:B52) -> 0 | E54: Költségvetési felhalmozási kiadások önként vállalt feladatok szerinti bontásban | F54: =SUM(F46:F53) -> 0
A55: Finanszírozási bevételek | B55: ='2.tábla'!B75 -> 0 | E55: Finanszírozási kiadások
A56: Felhalmozási bevételek kiemelt előirányzatonként önként vállalt feladatok szerinti bontásban | B56: =B54+B55 -> 0 | E56: Felhalmozási kiadások kiemelt előirányzatonként önként vállalt feladatok szerinti bontásban | F56: =F54+F55 -> 0
A57: Az Önkormányzat állami (államigazgatási) feladatok bevételei és kiadásai 2017. év
A59: 1. Működési bevételek | B59: 2018. ÉVI EREDETI | D59: ELTÉRÉS | E59: 2. Működési kiadások | F59: 2018. ÉVI EREDETI | H59: ELTÉRÉS
A60: Működési bevételek
A61: 1. Működési támogatások államháztartáson belülről | E61: 1. Személyi juttatások
A62: 2. Közhatalmi bevételek | E62: 2. Munkaadót terhelő járulékok
A63: 3. Működési bevételek | E63: 3. Dologi kiadások
A64: 4. Működési célú átvett pénzeszközök államháztartáson kivülről | E64: 4. Ellátottak pénzbeli juttatásai
E65: 5. Egyéb működési célú kiadások
E66: 5.1. Elvonások, befizetések
E67: 5.2. Egyéb működési célú támogatások áh-n belülre
E68: 5.4. Egyéb működési célú támogatások áh-n kívülre
E69: 5.5. Működési célú visszatérítendő támogatások, kölcsönök nyújtása áh-n kívülre
E70: 6. Pénzforgalom nélküli kiadások (tartalék)
A71: Költségvetési működési bevételek állami (államigazgatási) feladatok szerinti bontásban | E71: Költségvetési működési kiadások állami (államigazgatási) feladatok szerinti bontásban | F71: =SUM(F61:F70) -> 0
A72: Finanszírozási bevételek | E72: Finanszírozási kiadások
A73: Működési bevételek kiemelt előirányzatonként állami (államigazgatási) feladatok szerinti bontásban | E73: Működési kiadások kiemelt előirányzatonként állami (államigazgatási) feladatok szerinti bontásban | F73: =F71+F72 -> 0
A74: Felhalmozási bevételek | E74: Felhalmozási kiadások
A75: 1. Felhalmozási célú támogatások államháztartáson belülről | E75: 1.1. Beruházások
A76: 2. Felhalmozási bevételek | E76: 1.2. Int.saját hatáskörű fejlesztések
A77: 3. Felhalmozási célú átvett pénzeszközök áh-n kívülről | E77: 2. Felújítások
E78: 3. Egyéb felhalmozási célú kiadások
A79: Költségvetési felhalmozási bevételek önként vállalt feladatok szerinti bontásban | E79: 3.1. Egyéb felhalmozási célú pénzeszköz átadás áh-n kívülre
A80: Finanszírozási bevételek | E80: 3.2. Egyéb felhalmozási célú pénzeszköz átadás áh-n belülre
E81: 3.3. Felhalmozási célú visszatérítendő támogatások, kölcsönök nyújtása áh-n kívülre
A82: Felhalmozási bevételek kiemelt előirányzatonként állami (államigazgatási) feladatok szerinti bontásban | E82: Felhalmozási kiadások kiemelt előirányzatonként állami (államigazgatási) feladatok szerinti bontásban | F82: =SUM(F75:F81) -> 0 | G82: =SUM(G75:G81) -> 0 | H82: =SUM(H75:H81) -> 0
B83: =B82+B73+B56+B44+B27+B16 -> 71854824 | C83: =C82+C73+C56+C44+C27+C16 -> 107534595 | D83: =D82+D73+D56+D44+D27+D16 -> 92303605 | F83: =F82+F73+F56+F44+F27+F16 -> 71854824 | G83: =G82+G73+G56+G44+G27+G16 -> 107424155 | H83: =H82+H73+H56+H44+H27+H16 -> 92303605
A84: Önkormányzati támogatás | B84: =F83-B83 -> 0

Sheet 8.tábla
A3: BEVÉTELEK ÉS KIADÁSOK ELŐIRÁNYZATÁNAK HAVI ÜTEMEZÉSE 2019.
A5: Megnevezés | B5: Január | C5: Február | D5: Március | E5: Április | F5: Május | G5: Június | H5: Július | I5: Augusztus | J5: Szeptem-ber | K5: Október | L5: November | M5: December | N5: Összesen
A6: Nyitó pénzkészlet | B6: 42502993 | C6: =B36 -> 35227143 | D6: =C36 -> 32213300 | E6: =D36 -> 27478749 | F6: =E36 -> 22369347 | G6: =F36 -> 18556701 | H6: =G36 -> 17954636 | I6: =H36 -> 16369183 | J6: =I36 -> 15815321 | ... M6: =L36 -> 9529637.9 | N6: 34515214
A7: Működési célú támogatások államháztartáson belülről | B7: =N7/12 -> 3464020.9 | C7: 3464021 | D7: 3464021 | E7: 3464021 | F7: 3464021 | G7: 3464021 | H7: 3464021 | I7: 3464021 | J7: 3464021 | K7: 3464021 | L7: 3464021 | M7: 3464020 | N7: 41568251 | O7: ='1.tábla '!#REF! -> #REF! | P7: =N7-O7 -> #REF!
A8: Működési bevételek | B8: 275676 | C8: 275676 | D8: 275676 | E8: 275676 | F8: 275676 | G8: 275676 | H8: 275676 | I8: 275676 | J8: 275676 | K8: 275676 | L8: 275676 | M8: 275674 | N8: 3308110 | O8: ='1.tábla '!#REF! -> #REF! | P8: =N8-O8 -> #REF!
A9: Közhatalmi bevételek | B9: 948583 | C9: 948583 | D9: 948583 | E9: 948583 | F9: 948583 | G9: 948583 | H9: 948583 | I9: 948583 | J9: 948583 | K9: 948583 | L9: 948583 | M9: 948587 | N9: 11383000 | O9: ='1.tábla '!#REF! -> #REF! | P9: =N9-O9 -> #REF!
A10: Működési célú átvett pénzeszk. Áh-n kívülről | N10: =SUM(B10:M10) -> 0 | O10: ='1.tábla '!#REF! -> #REF! | P10: =N10-O10 -> #REF!
A11: Működési bevételek összesen: | B11: =SUM(B7:B10) -> 4688279.9 | C11: =SUM(C7:C10) -> 4688280 | D11: =SUM(D7:D10) -> 4688280 | E11: =SUM(E7:E10) -> 4688280 | F11: =SUM(F7:F10) -> 4688280 | G11: =SUM(G7:G10) -> 4688280 | H11: =SUM(H7:H10) -> 4688280 | I11: =SUM(I7:I10) -> 4688280 | ... M11: =SUM(M7:M10) -> 4688281 | N11: =SUM(B11:M11) -> 56259361 | O11: =SUM(O7:O10) -> #REF! | P11: =N11-O11 -> #REF!
A12: Felhalmozási célú támogatások államháztartáson belülről | G12: 0 | K12: 0 | N12: =SUM(B12:M12) -> 0 | O12: ='1.tábla '!#REF! -> #REF! | P12: =N12-O12 -> #REF!
A13: Felhalmozási bevételek | N13: =SUM(B13:M13) -> 0 | O13: ='1.tábla '!#REF! -> #REF! | P13: =N13-O13 -> #REF!
A14: Felhalm. célú átvett pénzeszk. Áh-n kívülről | N14: =SUM(B14:M14) -> 0 | O14: 0 | P14: =N14-O14 -> 0
A15: Felhalmozási bevételek összesen | B15: =SUM(B12:B14) -> 0 | C15: =SUM(C12:C14) -> 0 | D15: =SUM(D12:D14) -> 0 | E15: =SUM(E12:E14) -> 0 | F15: =SUM(F12:F14) -> 0 | G15: =SUM(G12:G14) -> 0 | H15: =SUM(H12:H14) -> 0 | I15: =SUM(I12:I14) -> 0 | ... M15: =SUM(M12:M14) -> 0 | N15: =SUM(B15:M15) -> 0 | O15: =SUM(O12:O14) -> #REF! | P15: =N15-O15 -> #REF!
A16: Költségvetési bevételek összesen: | B16: =SUM(B11,B15) -> 4688279.9 | C16: =SUM(C11,C15) -> 4688280 | D16: =SUM(D11,D15) -> 4688280 | E16: =SUM(E11,E15) -> 4688280 | F16: =SUM(F11,F15) -> 4688280 | G16: =SUM(G11,G15) -> 4688280 | H16: =SUM(H11,H15) -> 4688280 | I16: =SUM(I11,I15) -> 4688280 | ... M16: =SUM(M11,M15) -> 4688281 | N16: =SUM(B16:M16) -> 56259361 | O16: =O11+O15 -> #REF! | P16: =N16-O16 -> #REF!
A17: Finanszírozási bevételek (hitel, kötvény, értékpapír, állami tám.megelőlegezés) | B17: 87020 | C17: 87020 | D17: 87020 | E17: 87020 | F17: 87020 | G17: 87020 | H17: 87020 | I17: 87020 | J17: 87020 | K17: 87020 | L17: 87020 | M17: 87020 | N17: 1044244 | O17: ='1.tábla '!#REF! -> #REF! | P17: =N17-O17 -> #REF!
A18: Költségvetési maradvány igénybevétele | B18: 35000000 | N18: =SUM(B18:M18) -> 35000000 | O18: ='1.tábla '!#REF! -> #REF! | P18: =N18-O18 -> #REF!
A19: Bevételek összesen: | B19: =SUM(B16:B18) -> 39775300 | C19: =SUM(C16:C18) -> 4775300 | D19: =SUM(D16:D18) -> 4775300 | E19: =SUM(E16:E18) -> 4775300 | F19: =SUM(F16:F18) -> 4775300 | G19: =SUM(G16:G18) -> 4775300 | H19: =SUM(H16:H18) -> 4775300 | I19: =SUM(I16:I18) -> 4775300 | ... N19: =SUM(N16:N18) -> 92303605 | O19: =O16+O17+O18 -> #REF! | P19: =N19-O19 -> #REF!
A20: Személyi juttatások | B20: 1855755 | C20: 1855755 | D20: 1855755 | E20: 1855755 | F20: 1855755 | G20: 1855755 | H20: 1855755 | I20: 1855755 | J20: 1855755 | K20: 1855755 | L20: 1855755 | M20: =1855755+18 -> 1855773 | N20: ='3.tábla '!D6 -> 22269078 | O20: ='3.tábla '!#REF! -> #REF! | P20: =N20-O20 -> #REF!
A21: Munkaadót terhelő járulékok és szoc. hj. adó | B21: 303767 | C21: 303767 | D21: 303767 | E21: 303767 | F21: 303767 | G21: 303767 | H21: 303767 | I21: 303767 | J21: 303767 | K21: 303767 | L21: 303767 | M21: 303772 | N21: ='3.tábla '!D9 -> 3645209 | O21: ='3.tábla '!#REF! -> #REF! | P21: =N21-O21 -> #REF!
A22: Dologi kiadások | B22: 1905361 | C22: 1905361 | D22: 1905361 | E22: 1905361 | F22: 1905361 | G22: 1905361 | H22: 1905361 | I22: 1905361 | J22: 1905361 | K22: 1905361 | L22: 1905361 | M22: 1905362 | N22: 22864333 | O22: ='3.tábla '!#REF! -> #REF! | P22: =N22-O22 -> #REF!
A23: Ellátottak pénzbeli juttatásai | B23: 0 | C23: 0 | D23: 170708 | E23: 170708 | F23: 170708 | G23: 0 | H23: 0 | I23: 0 | J23: 768188 | K23: 0 | L23: 0 | M23: 768188 | N23: 2048500 | O23: ='3.tábla '!#REF! -> #REF! | P23: =N23-O23 -> #REF!
A24: Egyéb működési célú támogatások áh-n kívülre | E24: 500000 | F24: 10000 | G24: 100000 | H24: 100000 | I24: 150000 | J24: 0 | M24: 0 | N24: 860000 | O24: ='4.tábla'!#REF! -> #REF! | P24: =N24-O24 -> #REF!
A25: Egyéb működési célú támogatások áh-n belülre | B25: 1114279 | C25: 1114279 | D25: 1114279 | E25: 1114279 | F25: 1114279 | G25: 1114279 | H25: 1114279 | I25: 1114279 | J25: 1114279 | K25: 1114279 | L25: 1114279 | M25: 1114280 | N25: 13371349 | O25: ='4.tábla'!#REF! -> #REF! | P25: =N25-O25 -> #REF!
A26: Tartalékok | B26: 5773950 | N26: =SUM(B26:M26) -> 5773950 | O26: ='1.tábla '!#REF! -> #REF! | P26: =N26-O26 -> #REF!
A27: Működési kiadások összesen: | B27: =SUM(B20:B26) -> 10953112 | C27: =SUM(C20:C26) -> 5179162 | D27: =SUM(D20:D26) -> 5349870 | E27: =SUM(E20:E26) -> 5849870 | F27: =SUM(F20:F26) -> 5359870 | G27: =SUM(G20:G26) -> 5279162 | H27: =SUM(H20:H26) -> 5279162 | I27: =SUM(I20:I26) -> 5329162 | ... M27: =SUM(M20:M26) -> 5947375 | N27: =SUM(B27:M27) -> 70832419 | O27: =SUM(O20:O26) -> #REF! | P27: =N27-O27 -> #REF!
A28: Beruházások | C28: 2500000 | D28: 50000 | F28: 3228076 | G28: 98203 | L28: 2728341 | N28: 8604620 | O28: ='5.tábla'!#REF! -> #REF! | P28: =N28-O28 -> #REF!
A29: Felújítások | D29: 4000000 | E29: 4034832 | K29: 1534713 | N29: 10537476 | O29: ='5.tábla'!#REF! -> #REF! | P29: =N29-O29 -> #REF!
A30: Egyéb felhalmozási kiadások | K30: 42855 | N30: 42855 | O30: ='5.tábla'!#REF! -> #REF! | P30: =N30-O30 -> #REF!
A31: Felhalmozási célú kiadások összesen | B31: =B28+B29+B30 -> 0 | C31: =SUM(C28:C30) -> 2500000 | D31: =SUM(D28:D30) -> 4050000 | E31: =SUM(E28:E30) -> 4034832 | F31: =SUM(F28:F30) -> 3228076 | G31: =SUM(G28:G30) -> 98203 | H31: =SUM(H28:H30) -> 0 | I31: =SUM(I28:I30) -> 0 | J31: =SUM(J28:J30) -> 0 | ... M31: =SUM(M28:M30) -> 0 | N31: 21471186 | O31: =SUM(O28:O30) -> #REF! | P31: =N31-O31 -> #REF!
A32: Költségvetési kiadások összesen: | B32: =SUM(B31,B27) -> 10953112 | C32: =SUM(C31,C27) -> 7679162 | D32: =SUM(D31,D27) -> 9399870 | E32: =SUM(E31,E27) -> 9884702 | F32: =SUM(F31,F27) -> 8587946 | G32: =SUM(G31,G27) -> 5377365 | H32: =SUM(H31,H27) -> 5279162 | I32: =SUM(I31,I27) -> 5329162 | ... M32: =SUM(M31,M27) -> 5947375 | N32: =SUM(B32:M32) -> 89049439 | O32: =O27+O31 -> #REF! | P32: =N32-O32 -> #REF!
A33: Finanszírozási kiadások (hitel törlesztés, értékpapír visszavásárlás) | B33: =988057+109981 -> 1098038 | C33: =329943/3 -> 109981 | D33: =329943/3 -> 109981 | H33: 1081591 | N33: =SUM(B33:M33) -> 2399591 | O33: ='5.tábla'!#REF! -> #REF! | P33: =N33-O33 -> #REF!
A34: Kiadások összesen: | B34: =SUM(B32:B33) -> 12051150 | C34: =SUM(C32:C33) -> 7789143 | D34: =SUM(D32:D33) -> 9509851 | E34: =SUM(E32:E33) -> 9884702 | F34: =SUM(F32:F33) -> 8587946 | G34: =SUM(G32:G33) -> 5377365 | H34: =SUM(H32:H33) -> 6360753 | I34: =SUM(I32:I33) -> 5329162 | ... M34: =SUM(M32:M33) -> 5947375 | N34: =SUM(B34:M34) -> 91449030 | O34: =O32+O33 -> #REF! | P34: =N34-O34 -> #REF!
A35: Korrekció (előző évi kifizetés miatt)
A36: Záró pénzkészlet | B36: =B6+B16+B17-B34 -> 35227143 | C36: =C6+C16+C17-C34 -> 32213300 | D36: =D6+D16+D17-D34 -> 27478749 | E36: =E6+E16+E17-E34 -> 22369347 | F36: =F6+F16+F17-F34 -> 18556701 | G36: =G6+G16+G17-G34 -> 17954636 | H36: =H6+H16+H17-H34 -> 16369183 | I36: =I6+I16+I17-I34 -> 15815321 | ... N36: =N6+N16+N17-N34 -> 369788.92

Sheet 9.tábla
A4: Az önkormányzat adósságot keletkeztető ügyletből származó tárgyévi összes fizetési kötelezettsége az adósságot keletkeztető ügylet futamidejének végéig egyik évben sem haladja meg az önkormányzat adott évi saját bevételeinek 50%-át.
A7: megnevezés | C7: 2019 | D7: 2020 | E7: 2021 | F7: 2022
A8: 1. Helyi adó bevétel | C8: 11383000 | D8: 11000000 | E8: 11000000 | F8: 11000000
A9: 2. Vagyon és vagyonértékű jog értékesítéséből származó bevétel | C9: ='[2]2.sz.tábla'!D53 -> 0
A10: 3. Osztalék, koncessziós díj és hozambevétel,
A11: 4. tárgyi eszköz és immateriális jószág, részvény, részesedés, vállalalat értékesítésből vagy privatizációból származó bevétel
A12: 5. Bírság, pótlék- és díjbevétel | C12: ='[2]2.sz.tábla'!D40 -> 100000 | D12: 100000 | E12: 100000 | F12: 100000
A13: 6. Kezességvállalással kapcsolatos megtérülés
A14: Összesen: | C14: =SUM(C8:C13) -> 11483000 | D14: =SUM(D8:D13) -> 11100000 | E14: =SUM(E8:E13) -> 11100000 | F14: =SUM(F8:F13) -> 11100000 | G14: ='[2]2.sz.tábla'!D30-'[2]2.sz.tábla'!D37 -> 9533000
A15: az önkormányzat adott évi saját bevételeinek 50%-a | C15: =C14*0.5 -> 5741500 | D15: =D14*0.5 -> 5550000 | E15: =E14*0.5 -> 5550000 | F15: =F14*0.5 -> 5550000
A17: adósságot keletkeztető ügyletekből és kezességvállalásokból fennálló kötelezettségek | B17: futamidő kezdete | C17: 2019 | D17: 2020 | E17: 2021 | F17: 2022
A18: Összesen: | C18: 0 | D18: 0 | E18: 0 | F18: 0

Sheet 10.tábla
A4: Az önkormányzat által adott közvetett támogatások
A5: (kedvezmények) 2019. év
A7: Sorszám | B7: Bevételi jogcím | C7: Intézmények, | D7: Kedvezmény nélkül | E7: Kedvezmények
C8: adónemek | D8: elérhető | E8: összege
D9: bevétel e/Ft | E9: e/Ft
A10: 1. | B10: 2. | C10: 3. | D10: 4. | E10: 5.
A11: 2. | B11: Ellátottak térítési díjának ill. kártérítésének méltányossági alapon történő elengedésének összege
A12: 3. | B12: Lakosság részére nyújtott lakásépítéshez, lakásfelújításhoz nyújtott kölcsönök elengedésének összege | E12: 0
B13: Helyi adónál, gépjárműadónál biztosított kedvezmény, mentesség összege | D13: =SUM(D14:D20) -> 12704000 | E13: =SUM(E14:E20) -> 1321000 | F13: =SUM(F14:F20) -> 11383000
C14: Kommunális adó | D14: =F14+E14 -> 6517000 | E14: 934000 | F14: ='2.tábla'!D32 -> 5583000
C15: Iparűzési adó | D15: =F15+E15 -> 3546000 | E15: 46000 | F15: ='2.tábla'!D36 -> 3500000
C16: IFA személyek után | D16: =F16+E16 -> 144000 | E16: 44000 | F16: ='2.tábla'!D39 -> 100000
C17: Telekadó | D17: =F17+E17 -> 300000 | E17: 0 | F17: ='2.tábla'!D33 -> 300000
C18: Talajterhelési díj | D18: =F18+E18 -> 0 | E18: 0 | F18: 0
C19: Gépjárműadó | D19: =F19+E19 -> 2097000 | E19: 297000 | F19: ='2.tábla'!D37 -> 1800000
C20: Bírság | D20: =F20+E20 -> 100000 | E20: 0 | F20: ='2.tábla'!D42 -> 100000
A21: 4. | B21: Helyiségek, eszközök hasznosításából származó bevételből nyújtott kedvezmény, mentesség összege
A22: 5. | B22: egyéb nyújtott kedvezmény vagy kölcsön elengedésének összege | E22: 0
B23: Összesen : | D23: =D22+D21+D12+D13+D11 -> 12704000 | E23: =E22+E21+E12+E13+E11 -> 1321000

Sheet 11.tábla
A3: AZ ÖNKORMÁNYZAT 2019-2022. ÉVEK
A4: TERVEZETT ELŐIRÁNYZATAINAK KERETSZÁMAI
A5: MEGNEVEZÉS | B5: 2019. évi eredeti ei. | C5: 2020. évi várható előirányzatok | D5: 2021. évi várható előirányzatok | E5: 2022. évi várható előirányzatok
A6: I. Működési támogatások államháztartáson belülről | B6: 41568251 | C6: 22000000 | D6: 22000000 | E6: 22000000
A7: II. Felhalmozási támogatások államháztartáson belülről | B7: 0
A8: III. Közhatalmi bevételek | B8: 11383000 | C8: 10000000 | D8: 10000000 | E8: 10000000
A9: IV. Működési bevételek | B9: 3308110 | C9: 2000000 | D9: 2000000 | E9: 2000000
A10: V. Felhalmozási bevételek | B10: ='[2]2.sz.tábla'!D53 -> 0
A11: VI. Működési célú átvett pénzeszközök
A12: VII. Felhalmozási célú átvett pénzeszközök | B12: ='[2]2.sz.tábla'!D63 -> 0
A13: Költségvetési bevételek összesen: | B13: =SUM(B6:B12) -> 56259361 | C13: =SUM(C6:C11) -> 34000000 | D13: =SUM(D6:D11) -> 34000000 | E13: =SUM(E6:E12) -> 34000000
A14: VIII. Finanszírozási bevételek
A15: 1. Költségvetési hiány belső finanszírozására szolgáló finanszírozási bevételek | B15: 35000000 | C15: 10000000 | D15: 10000000 | E15: 10000000
A16: 2. Költségvetési hiány külső finanszírozására, vagy költségvetési többlet felhasználására szolgáló finanszírozási bevételek | B16: 1044244 | C16: 250000 | D16: 250000 | E16: 250000
A17: Finanszírozási bevételek összesen: | B17: 36044244 | C17: =SUM(C15:C16) -> 10250000 | D17: =SUM(D15:D16) -> 10250000 | E17: =SUM(E15:E16) -> 10250000
A18: Bevételek összesen: | B18: =B13+B17 -> 92303605 | C18: =C13+C17 -> 44250000 | D18: =D13+D17 -> 44250000 | E18: =E13+E17 -> 44250000
A20: I. Működési kiadások | B20: =SUM(B21:B25) -> 65058469 | C20: =SUM(C21:C25) -> 36800000 | D20: =SUM(D21:D25) -> 36800000 | E20: =SUM(E21:E25) -> 36800000
A21: 1. Személyi juttatások | B21: 22269078 | C21: 8000000 | D21: 8000000 | E21: 8000000
A22: 2. Munkaadót terhelő járulék és szociális hozzájárulási adó | B22: 3645209 | C22: 2500000 | D22: 2500000 | E22: 2500000
A23: 3. Dologi kiadások | B23: 22864333 | C23: 17000000 | D23: 17000000 | E23: 17000000
A24: 4. Ellátottak pénzbeli juttatásai | B24: 2048500 | C24: 1800000 | D24: 1800000 | E24: 1800000
A25: 5. Egyéb működési célú kiadások | B25: 14231349 | C25: 7500000 | D25: 7500000 | E25: 7500000
A26: II. Felhalmozási kiadások | B26: =SUM(B27:B29) -> 19184951 | C26: =SUM(C27:C28) -> 2000000 | D26: =SUM(D27:D28) -> 2000000 | E26: =SUM(E27:E28) -> 2000000
A27: 1. Beruházások | B27: 8604620 | C27: 1000000 | D27: 1000000 | E27: 1000000
A28: 3. Felújítás | B28: 10537476 | C28: 1000000 | D28: 1000000 | E28: 1000000
A29: 4. Egyéb felhalmozási célú kiadások | B29: 42855
A30: Tartalékok | B30: 5773950 | C30: 5200000 | D30: 5200000 | E30: 5200000
A31: Általános | B31: 5773950 | C31: 5200000 | D31: 5200000 | E31: 5200000
A32: Cél
A33: Költségvetési kiadások összesen: | B33: =SUM(B30,B26,B20) -> 90017370 | C33: =SUM(C30,C26,C20) -> 44000000 | D33: =SUM(D30,D26,D20) -> 44000000 | E33: =SUM(E30,E26,E20) -> 44000000
A34: Hiteltörlesztés
A35: Forgatási célú értékpapír vásárlás | B35: ='[2]1.sz.tábla '!D29 -> 0
A36: Állami támogatás megelőlegezés visszafiz. | B36: 2286235 | C36: 250000 | D36: 250000 | E36: 250000
A37: Finanszírozási kiadások összesen: | B37: =SUM(B34:B36) -> 2286235 | C37: =SUM(C34:C36) -> 250000 | D37: =SUM(D34:D36) -> 250000 | E37: =SUM(E34:E36) -> 250000
A38: Kiadások összesen: | B38: =SUM(B33,B37) -> 92303605 | C38: =SUM(C33,C37) -> 44250000 | D38: =SUM(D33,D37) -> 44250000 | E38: =SUM(E33,E37) -> 44250000

Sheet 12.tábla
A3: EURÓPAI UNIÓS TÁMOGATÁSSAL MEGVALÓSULÓ PROGRAMOK BEVÉTELEI ÉS KIADÁSAI 2018-2019. ÉV
B5: EFOP-1.5.2-16-2017-00016
A6: EU Projekt megnevezése: | B6: Humán közszolgáltatások fejlesztése az Észak-Balatoni térségben
A9: Bevételek | B9: 2018 év | C9: 2019 év | D9: 2020 év | E9: Következő évek | F9: Összesen
A10: EU forrás | B10: 11040004 | C10: 6605000 | D10: 1220000 | F10: =SUM(B10:E10) -> 18865004
A11: Egyéb forrás | F11: 0
A12: Saját forrás
A13: Összesen | B13: =SUM(B10:B12) -> 11040004 | C13: =SUM(C10:C12) -> 6605000 | D13: =SUM(D10:D12) -> 1220000 | E13: =SUM(E10:E12) -> 0 | F13: =SUM(F10:F12) -> 18865004
A15: Kiadások | B15: 2018 év | C15: 2019 év | D15: 2020 év | E15: Következő évek | F15: Összesen
A16: személyi juttatások (bérköltség) | B16: 3000000 | C16: 1220004 | D16: 1220000 | F16: =SUM(B16:E16) -> 5440004
A17: személyi juttatások járulékai | B17: 660000 | C17: 0 | D17: 0 | E17: 0 | F17: =SUM(B17:E17) -> 660000
A18: egyéb személyi kiadások | B18: 2945000 | C18: 5385000 | D18: 0 | E18: 0 | F18: =SUM(B18:E18) -> 8330000
A19: anyagköltség | B19: 535000 | C19: 0 | D19: 0 | E19: 0 | F19: =SUM(B19:E19) -> 535000
A20: felújítások | C20: 0 | E20: 0 | F20: =SUM(B20:D20) -> 0
A21: beruházások | B21: 3900000 | C21: 0 | E21: 0 | F21: =SUM(B21:D21) -> 3900000
A22: átadott pénzeszközök | F22: =SUM(B22:D22) -> 0
A23: Összesen | B23: =SUM(B16:B22) -> 11040000 | C23: =SUM(C16:C22) -> 6605004 | D23: =SUM(D16:D22) -> 1220000 | E23: =SUM(E16:E22) -> 0 | F23: =SUM(F16:F22) -> 18865004
