Workbook
Name onev: [1]kod!$BT$34:$BT$3186
Name onev: [2]kod!$BT$34:$BT$3186
Name onev: [2]kod!$BT$34:$BT$3186
Name onev: [1]kod!$BT$34:$BT$3186

Sheet 1.sz.tábla   (2)
A1: AZ ÖNKORMÁNYZAT 2020. ÉVI KÖLTSÉGVETÉSÉNEK FŐÖSSZESÍTŐJE
A5: MEGNEVEZÉS | B5: 2020. évi eredeti ei. | C5: 2020. évi módosított ei. II. | D5: 2020. évi módosított ei. III. | E5: Eltérés
A6: I. Működési célú támogatások államháztartáson belülről | B6: ='2.sz.tábla (2)'!N7 -> 1518232816 | C6: ='2.sz.tábla (2)'!O7 -> 1618441584 | D6: ='2.sz.tábla (2)'!P7 -> 1644002138 | E6: =D6-C6 -> 25560554
A7: II. Felhalmozási célú támogatások államháztartáson belülről | B7: ='2.sz.tábla (2)'!N22 -> 4751248431 | C7: ='2.sz.tábla (2)'!O22 -> 6804835830 | D7: ='2.sz.tábla (2)'!P22 -> 6286599318 | E7: =D7-C7 -> -518236512
A8: III. Közhatalmi bevételek | B8: ='2.sz.tábla (2)'!N30 -> 2058240000 | C8: ='2.sz.tábla (2)'!O30 -> 1627117610 | D8: ='2.sz.tábla (2)'!P30 -> 1627117610 | E8: =D8-C8 -> 0
A9: IV. Működési bevételek | B9: ='2.sz.tábla (2)'!N43 -> 849595329 | C9: ='2.sz.tábla (2)'!O43 -> 834109167 | D9: ='2.sz.tábla (2)'!P43 -> 897670682 | E9: =D9-C9 -> 63561515
A10: V. Felhalmozási bevételek | B10: ='2.sz.tábla (2)'!N58 -> 270196741 | C10: ='2.sz.tábla (2)'!O58 -> 270196741 | D10: ='2.sz.tábla (2)'!P58 -> 270523434 | E10: =D10-C10 -> 326693
A11: VI. Működési célú átvett pénzeszközök | B11: ='2.sz.tábla (2)'!N66 -> 3000000 | C11: ='2.sz.tábla (2)'!O66 -> 3720754 | D11: ='2.sz.tábla (2)'!P66 -> 19720754 | E11: =D11-C11 -> 16000000
A12: VII. Felhalmozási célú átvett pénzeszközök | B12: ='2.sz.tábla (2)'!N70 -> 227000542 | C12: ='2.sz.tábla (2)'!O70 -> 227000542 | D12: ='2.sz.tábla (2)'!P70 -> 223000542 | E12: =D12-C12 -> -4000000
A13: Költségvetési bevételek összesen: | B13: =SUM(B6:B12) -> 9677513859 | C13: =SUM(C6:C12) -> 11385422228 | D13: =SUM(D6:D12) -> 10968634478 | E13: =D13-C13 -> -416787750
A14: VIII. Finanszírozási bevételek | E14: =D14-C14 -> 0
A15: 1. Költségvetési hiány belső finanszírozására szolgáló finanszírozási bevételek | B15: ='2.sz.tábla (2)'!N76 -> 2874497034 | C15: ='2.sz.tábla (2)'!O76 -> 3119095564 | D15: ='2.sz.tábla (2)'!P76 -> 3119095564 | E15: =D15-C15 -> 0
A16: 2. Költségvetési hiány külső finanszírozására szolgáló finanszírozási célú pénzügyi műveletek bevételei | B16: ='2.sz.tábla (2)'!N79 -> 438387185 | C16: ='2.sz.tábla (2)'!O79 -> 2302112000 | D16: ='2.sz.tábla (2)'!P79 -> 2302112000 | E16: =D16-C16 -> 0
A17: Finanszírozási bevételek összesen: | B17: =SUM(B15:B16) -> 3312884219 | C17: =SUM(C15:C16) -> 5421207564 | D17: =SUM(D15:D16) -> 5421207564 | E17: =D17-C17 -> 0
A18: Bevételek összesen: | B18: =B13+B17 -> 12990398078 | C18: =C13+C17 -> 16806629792 | D18: =D13+D17 -> 16389842042 | E18: =D18-C18 -> -416787750 | G18: =C18-B18 -> 3816231714
A20: Működési kiadások | B20: =SUM(B21:B23) -> 3507700980 | C20: =SUM(C21:C23) -> 3467999127 | D20: =SUM(D21:D23) -> 3402347445 | E20: =D20-C20 -> -65651682
A21: Önkormányzat | B21: ='5.tábla (2)'!B146 -> 2646223479 | C21: ='5.tábla (2)'!C146 -> 2580200511 | D21: ='5.tábla (2)'!D146 -> 2517832654 | E21: =D21-C21 -> -62367857
A22: Önkormányzati Hivatal | B22: ='5.tábla (2)'!B36 -> 470004034 | C22: ='5.tábla (2)'!C36 -> 476048653 | D22: ='5.tábla (2)'!D36 -> 470439171 | E22: =D22-C22 -> -5609482
A23: Intézmények | B23: ='4.sz.tábla '!AS9-'4.sz.tábla '!W9 -> 391473467 | C23: ='4.sz.tábla '!AT9-'4.sz.tábla '!X9 -> 411749963 | D23: ='4.sz.tábla '!AU9-'4.sz.tábla '!Y9 -> 414075620 | E23: =D23-C23 -> 2325657
E24: =D24-C24 -> 0
A25: Felhalmozási kiadások | B25: =SUM(B26:B28) -> 9114060198 | C25: =SUM(C26:C28) -> 12038286307 | D25: =SUM(D26:D28) -> 11724754523 | E25: =D25-C25 -> -313531784
A26: Fejlesztési kiadások | B26: ='7. sz. tábla 1'!B230 -> 8975675571 | C26: ='7. sz. tábla 1'!C230 -> 11887243038 | D26: ='7. sz. tábla 1'!D230 -> 11570288004 | E26: =D26-C26 -> -316955034
A27: Intézm saját hatásk fejl | B27: ='4.sz.tábla '!W11 -> 30976000 | C27: ='4.sz.tábla '!X11 -> 42617642 | D27: ='4.sz.tábla '!Y11 -> 42465272 | E27: =D27-C27 -> -152370
A28: Felújítás | B28: ='7. sz. tábla 1'!B242 -> 107408627 | C28: ='7. sz. tábla 1'!C242 -> 108425627 | D28: ='7. sz. tábla 1'!D242 -> 112001247 | E28: =D28-C28 -> 3575620
E29: =D29-C29 -> 0
A30: Tartalékok | B30: =SUM(B31:B32) -> 241005271 | C30: =SUM(C31:C32) -> 372712729 | D30: =SUM(D31:D32) -> 335108445 | E30: =D30-C30 -> -37604284
A31: Általános | B31: 33014814 | C31: 156871196 | D31: 124613417 | E31: =D31-C31 -> -32257779
A32: Cél | B32: =B40 -> 207990457 | C32: =C40 -> 215841533 | D32: =D40 -> 210495028 | E32: =D32-C32 -> -5346505
A33: Költségvetési kiadások összesen: | B33: =SUM(B30,B25,B20) -> 12862766449 | C33: =SUM(C30,C25,C20) -> 15878998163 | D33: =SUM(D30,D25,D20) -> 15462210413 | E33: =D33-C33 -> -416787750
A34: Hiteltörlesztés | B34: ='7. sz. tábla 1'!B233 -> 74242424 | C34: ='7. sz. tábla 1'!C233 -> 74242424 | D34: ='7. sz. tábla 1'!D233 -> 74242424 | E34: =D34-C34 -> 0
A35: Rövid lejáratú hitel visszafizetés | C35: ='7. sz. tábla 1'!C234 -> 800000000 | D35: ='7. sz. tábla 1'!D234 -> 800000000 | E35: =D35-C35 -> 0
A36: Államháztartáson belüli megelőlegezés visszafizetés | B36: ='7. sz. tábla 1'!B236 -> 53389205 | C36: ='7. sz. tábla 1'!C236 -> 53389205 | D36: ='7. sz. tábla 1'!D236 -> 53389205 | E36: =D36-C36 -> 0
A37: Forgatási célú értékpapír vásárlása | B37: ='7. sz. tábla 1'!B235 -> 0 | C37: ='7. sz. tábla 1'!C235 -> 0 | D37: ='7. sz. tábla 1'!D235 -> 0 | E37: =D37-C37 -> 0
A38: Finanszírozási kiadások összesen: | B38: =SUM(B34:B37) -> 127631629 | C38: =SUM(C34:C37) -> 927631629 | D38: =SUM(D34:D37) -> 927631629 | E38: =D38-C38 -> 0
A39: Kiadások összesen: | B39: =SUM(B33,B38) -> 12990398078 | C39: =SUM(C33,C38) -> 16806629792 | D39: =SUM(D33,D38) -> 16389842042 | E39: =D39-C39 -> -416787750 | G39: =C39-B39 -> 3816231714
A40: Céltartalék: | B40: =SUM(B41:B54) -> 207990457 | C40: =SUM(C41:C54) -> 215841533 | D40: =SUM(D41:D54) -> 210495028 | E40: =D40-C40 -> -5346505 | G40: =E39-E18 -> 0
A41: MÁK forgótőke | B41: 560000 | C41: 560000 | D41: 560000 | E41: =D41-C41 -> 0
A42: környezetvédelmi alap | B42: 0 | C42: 0 | D42: 0 | E42: =D42-C42 -> 0
A43: Polgármester saját hatáskörű keret | B43: 5000000 | C43: 5000000 | D43: 2632514 | E43: =D43-C43 -> -2367486
A44: Népház, posta pénzügyi alap | B44: =25597170-8600000 -> 16997170 | C44: =25597170-8600000 -> 16997170 | D44: =25597170-8600000 -> 16997170 | E44: =D44-C44 -> 0
A45: Helyi védelem | B45: 3000000 | C45: 3000000 | D45: 1100000 | E45: =D45-C45 -> -1900000
A46: Közhasznú foglalkoztatás | E46: =D46-C46 -> 0
A47: Zsinagóga felújítási alap | B47: 15886278 | C47: 15886278 | D47: 15886278 | E47: =D47-C47 -> 0
A48: Tájház pályázati önerő Lóczy u. 101.103. (203/2019.(VII.19.)) | B48: 12437009 | C48: =12437009+5000000 -> 17437009 | D48: 5000000 | E48: =D48-C48 -> -12437009
A49: Óvodapedagógusok továbbképzésre elkülönített keret | B49: 500000 | C49: 500000 | D49: 500000 | E49: =D49-C49 -> 0
A50: Intézményi elkülönített keret | B50: 0 | C50: =5063139-2020627 -> 3042512 | D50: 2400502 | E50: =D50-C50 -> -642010
A51: óvodákban évközben jelentkező SNI többletktg. | B51: 610000 | C51: =610000-191436 -> 418564 | D51: =610000-191436 -> 418564 | E51: =D51-C51 -> 0
A52: Kulturális többlettámogatás (színház) | B52: 100000000 | C52: 100000000 | D52: 100000000 | E52: =D52-C52 -> 0
A53: Szobor támogatás | B53: 53000000 | C53: 53000000 | D53: 53000000 | E53: =D53-C53 -> 0
A54: Fejlesztési célú támogatás Passuth u. útfelújítás | D54: 12000000 | E54: =D54-C54 -> 12000000

Sheet 2.sz.tábla   (2)
A3: BEVÉTELEK ELŐIRÁNYZATA 2020. ÉV
A5: MEGNEVEZÉS | B5: ÖNKORMÁNYZAT | F5: BALATONFÜREDI KÖZÖS ÖNKORMÁNYZATI HIVATAL | J5: KÖLTSÉGVETÉSI SZERVEK | N5: ÖNKORMÁNYZAT ÖSSZESEN
B6: 2020. évi eredeti ei. | C6: 2020. évi módosított ei. II. | D6: 2020. évi módosított ei. III. | E6: Eltérés | F6: 2020. évi eredeti ei. | G6: 2020. évi módosított ei. II. | H6: 2020. évi módosított ei. III. | I6: Eltérés | J6: 2020. évi eredeti ei. | K6: 2020. évi módosított ei. II. | L6: 2020. évi módosított ei. III. | M6: Eltérés | N6: 2020. évi eredeti ei. | O6: 2020. évi módosított ei. II. | P6: 2020. évi módosított ei. III. | Q6: Eltérés
A7: I. Működési célú támogatások államháztartáson belülről | B7: =B8+B16+B17+B18+B19+B20 -> 1348157274 | C7: =C8+C16+C17+C18+C19+C20 -> 1425878267 | D7: =D8+D16+D17+D18+D19+D20 -> 1450338821 | E7: =E8+E16+E17+E18+E19+E20 -> 24460554 | F7: =F8+F16+F17+F18+F19+F20 -> 30078809 | G7: =G8+G16+G17+G18+G19+G20 -> 23886635 | H7: =H8+H16+H17+H18+H19+H20 -> 23886635 | I7: =I8+I16+I17+I18+I19+I20 -> 0 | ... Q7: =Q8+Q16+Q17+Q18+Q19+Q20 -> 25560554
A8: 1. Önkormányzat működési támogatásai | B8: =SUM(B9:B15) -> 1014730134 | C8: =SUM(C9:C15) -> 1131376499 | D8: =SUM(D9:D15) -> 1141487230 | E8: =SUM(E9:E15) -> 10110731 | G8: =SUM(G9:G15) -> 0 | H8: =SUM(H9:H15) -> 0 | I8: =SUM(I9:I15) -> 0 | J8: =SUM(J9:J15) -> 0 | K8: =SUM(K9:K15) -> 0 | L8: =SUM(L9:L15) -> 0 | M8: =SUM(M9:M15) -> 0 | N8: =SUM(N9:N15) -> 1014730134 | ... Q8: =SUM(Q9:Q15) -> 10110731
A9: 1.1. Helyi önk. működésének ált. támogatása | B9: ='2b. tábla 2020. (2)'!E5 -> 508615472 | C9: ='2b. tábla 2020. (2)'!I5 -> 330712990 | D9: ='2b. tábla 2020. (2)'!K5 -> 330712990 | E9: =D9-C9 -> 0 | N9: =SUM(B9+F9+J9) -> 508615472 | O9: =SUM(C9+G9+K9) -> 330712990 | P9: =SUM(D9+H9+L9) -> 330712990 | Q9: =SUM(E9+I9+M9) -> 0
A10: 1.2. Települési önk. egyes köznev. feladatainak támogatása | B10: ='2b. tábla 2020. (2)'!E31 -> 258054470 | C10: ='2b. tábla 2020. (2)'!I31 -> 261996150 | D10: ='2b. tábla 2020. (2)'!K31 -> 268389980 | E10: =D10-C10 -> 6393830 | N10: =SUM(B10+F10+J10) -> 258054470 | O10: =SUM(C10+G10+K10) -> 261996150 | P10: =SUM(D10+H10+L10) -> 268389980 | Q10: =SUM(E10+I10+M10) -> 6393830
A11: 1.3. Települési önk. szoc. és gyermekjóléti feladatainak tám. | B11: ='2b. tábla 2020. (2)'!E39 -> 231000305 | C11: ='2b. tábla 2020. (2)'!I39 -> 213491349 | D11: ='2b. tábla 2020. (2)'!K39 -> 212951179 | E11: =D11-C11 -> -540170 | N11: =SUM(B11+F11+J11) -> 231000305 | O11: =SUM(C11+G11+K11) -> 213491349 | P11: =SUM(D11+H11+L11) -> 212951179 | Q11: =SUM(E11+I11+M11) -> -540170
A12: 1.4. Települési önk. kult. feladatainak támogatása | B12: ='2b. tábla 2020. (2)'!E70 -> 17059887 | C12: ='2b. tábla 2020. (2)'!I70 -> 22923797 | D12: ='2b. tábla 2020. (2)'!K70 -> 22923797 | E12: =D12-C12 -> 0 | N12: =SUM(B12+F12+J12) -> 17059887 | O12: =SUM(C12+G12+K12) -> 22923797 | P12: =SUM(D12+H12+L12) -> 22923797 | Q12: =SUM(E12+I12+M12) -> 0
A13: 1.5. Működési célú költségvetési támogatások és kiegészítő támogatások | B13: 0 | C13: ='2b. tábla 2020. (2)'!I76 -> 302252213 | D13: ='2b. tábla 2020. (2)'!K76 -> 306509284 | E13: =D13-C13 -> 4257071 | N13: =SUM(B13+F13+J13) -> 0 | O13: =SUM(C13+G13+K13) -> 302252213 | P13: =SUM(D13+H13+L13) -> 306509284 | Q13: =SUM(E13+I13+M13) -> 4257071
A14: 1.6. Elszámolásból származó bevételek | N14: =SUM(B14+F14+J14) -> 0
A15: 1.7. Vis major
A16: 2. Elvonások, befizetések
A17: 3. Működési célú garancia- és kezességvállalásból származó megtérülések áh-n belülről
A18: 4. Működési célú visszatérítendő támogatások, kölcsönök visszatérülése áh-n belülről
A19: 5. Működési célú visszatérítendő támogatások, kölcsönök igénybevétele áh-n belülről
A20: 6. Egyéb működési célú támogatások bevételei államháztartáson belülről | B20: 333427140 | C20: 294501768 | D20: 308851591 | E20: =D20-C20 -> 14349823 | F20: ='2.a tábla ÚJ '!S13 -> 30078809 | G20: ='2.a tábla ÚJ '!T13 -> 23886635 | H20: ='2.a tábla ÚJ '!U13 -> 23886635 | I20: =H20-G20 -> 0 | J20: ='2.a tábla ÚJ '!N13 -> 139996733 | K20: ='2.a tábla ÚJ '!O13 -> 168676682 | L20: ='2.a tábla ÚJ '!P13 -> 169776682 | M20: ='2.a tábla ÚJ '!Q13 -> 1100000 | N20: =SUM(B20+F20+J20) -> 503502682 | O20: =C20+G20+K20 -> 487065085 | P20: =D20+H20+L20 -> 502514908 | Q20: =E20+I20+M20 -> 15449823
A21: ebből működési célú támogatás társadalombiztosítási alapból | J21: ='2.a tábla ÚJ '!N14 -> 135000000 | K21: ='2.a tábla ÚJ '!O14 -> 153679949 | L21: ='2.a tábla ÚJ '!P14 -> 154779949 | M21: ='2.a tábla ÚJ '!Q14 -> 1100000 | N21: =SUM(B21+F21+J21) -> 135000000 | O21: =C21+G21+K21 -> 153679949 | P21: =D21+H21+L21 -> 154779949 | Q21: =E21+I21+M21 -> 1100000
A22: II. Felhalmozási célú támogatások államháztartáson belülről | B22: =B23+B24+B25+B26+B27 -> 4747780431 | C22: =C23+C24+C25+C26+C27 -> 6801367830 | D22: =D23+D24+D25+D26+D27 -> 6283131318 | E22: =E23+E24+E25+E26+E27 -> -518236512 | F22: =F23+F24+F25+F26+F27 -> 0 | G22: =G23+G24+G25+G26+G27 -> 0 | H22: =H23+H24+H25+H26+H27 -> 0 | I22: =I23+I24+I25+I26+I27 -> 0 | ... M22: =M23+M24+M25+M26+M27 -> 0 | N22: =SUM(B22+F22+J22) -> 4751248431 | O22: =O23+O24+O25+O26+O27 -> 6804835830 | P22: =P23+P24+P25+P26+P27 -> 6286599318 | Q22: =Q23+Q24+Q25+Q26+Q27 -> -518236512
A23: 1. Felhalmozási célú önkormányzati támogatások | D23: ='2b. tábla 2020. (2)'!K88 -> 43215050 | E23: =D23 -> 43215050 | N23: =SUM(B23+F23+J23) -> 0 | O23: =SUM(C23+G23+K23) -> 0 | P23: =SUM(D23+H23+L23) -> 43215050 | Q23: =SUM(E23+I23+M23) -> 43215050
A24: 2. Felhalmozási célú garancia- és kezességvállalásból származó megtérülések áh-n belülről | N24: =SUM(B24+F24+J24) -> 0
A25: 3. Felhalmozási célú visszatérítendő támogatások, kölcsönök visszatérülése áh-n belülről | N25: =SUM(B25+F25+J25) -> 0
A26: 4. Felhalmozási célú visszatérítendő támogatások, kölcsönök igénybevétele áh-n belülről | N26: =SUM(B26+F26+J26) -> 0
A27: 5. Egyéb felhalmozási célú támogatások államháztartáson belülről | B27: 4747780431 | C27: 6801367830 | D27: 6239916268 | E27: =D27-C27 -> -561451562 | J27: ='2.a tábla ÚJ '!N16 -> 3468000 | K27: ='2.a tábla ÚJ '!O16 -> 3468000 | L27: ='2.a tábla ÚJ '!P16 -> 3468000 | M27: ='2.a tábla ÚJ '!Q16 -> 0 | N27: =SUM(B27+F27+J27) -> 4751248431 | O27: =C27+G27+K27 -> 6804835830 | P27: =D27+H27+L27 -> 6243384268 | Q27: =E27+I27+M27 -> -561451562
A28: MEGNEVEZÉS | B28: ÖNKORMÁNYZAT | F28: BALATONFÜREDI KÖZÖS ÖNKORMÁNYZATI HIVATAL | J28: KÖLTSÉGVETÉSI SZERVEK | N28: ÖNKORMÁNYZAT ÖSSZESEN
B29: 2020. évi eredeti ei. | C29: 2020. évi módosított ei. II. | D29: 2020. évi módosított ei. III. | E29: Eltérés | F29: 2020. évi eredeti ei. | G29: 2020. évi módosított ei. II. | H29: 2020. évi módosított ei. III. | I29: Eltérés | J29: 2020. évi eredeti ei. | K29: 2020. évi módosított ei. II. | L29: 2020. évi módosított ei. III. | M29: Eltérés | N29: 2020. évi eredeti ei. | O29: 2020. évi módosított ei. II. | P29: 2020. évi módosított ei. III. | Q29: Eltérés
A30: III. Közhatalmi bevételek | B30: =B31+B34+B42 -> 2058240000 | C30: =C31+C34+C42 -> 1627117610 | D30: =D31+D34+D42 -> 1627117610 | E30: =E31+E34+E42 -> 0 | F30: =F31+F34+F42 -> 0 | G30: =G31+G34+G42 -> 0 | H30: =H31+H34+H42 -> 0 | I30: =I31+I34+I42 -> 0 | K30: =K31+K34+K42 -> 0 | L30: =L31+L34+L42 -> 0 | M30: =M31+M34+M42 -> 0 | N30: =SUM(B30+F30+J30) -> 2058240000 | O30: =SUM(C30+G30+K30) -> 1627117610 | P30: =SUM(D30+H30+L30) -> 1627117610 | Q30: =SUM(E30+I30+M30) -> 0 | R30: =E30-E37-E42 -> -10000000
A31: 1. Vagyoni típusú adók | B31: =SUM(B32:B33) -> 475000000 | C31: =SUM(C32:C33) -> 475000000 | D31: =SUM(D32:D33) -> 495000000 | E31: =SUM(E32:E33) -> 20000000 | F31: =SUM(F32:F33) -> 0 | N31: =SUM(B31+F31+J31) -> 475000000 | O31: =SUM(C31+G31+K31) -> 475000000 | P31: =SUM(D31+H31+L31) -> 495000000 | Q31: =SUM(E31+I31+M31) -> 20000000
A32: 1.1. Építményadó | B32: 450000000 | C32: 450000000 | D32: 479000000 | E32: =D32-C32 -> 29000000 | N32: =SUM(B32+F32+J32) -> 450000000 | O32: =SUM(C32+G32+K32) -> 450000000 | P32: =SUM(D32+H32+L32) -> 479000000 | Q32: =SUM(E32+I32+M32) -> 29000000
A33: 1.2. Telekadó | B33: 25000000 | C33: 25000000 | D33: 16000000 | E33: =D33-C33 -> -9000000 | N33: =SUM(B33+F33+J33) -> 25000000 | O33: =SUM(C33+G33+K33) -> 25000000 | P33: =SUM(D33+H33+L33) -> 16000000 | Q33: =SUM(E33+I33+M33) -> -9000000
A34: 2. Termékek és szolgáltatások adói | B34: =B35+B37+B38 -> 1573840000 | C34: =C35+C37+C38 -> 1142717610 | D34: =D35+D37+D38 -> 1112717610 | E34: =E35+E37+E38 -> -30000000 | N34: =SUM(B34+F34+J34) -> 1573840000 | O34: =SUM(C34+G34+K34) -> 1142717610 | P34: =SUM(D34+H34+L34) -> 1112717610 | Q34: =SUM(E34+I34+M34) -> -30000000
A35: 2.1. Értékesítési és forgalmi adók | B35: =SUM(B36) -> 1100000000 | C35: =SUM(C36) -> 1100000000 | D35: =SUM(D36) -> 1064000000 | E35: =SUM(E36) -> -36000000 | N35: =SUM(B35+F35+J35) -> 1100000000 | O35: =SUM(C35+G35+K35) -> 1100000000 | P35: =SUM(D35+H35+L35) -> 1064000000 | Q35: =SUM(E35+I35+M35) -> -36000000
A36: 2.1. 1. Iparűzési adó | B36: 1100000000 | C36: 1100000000 | D36: 1064000000 | E36: =D36-C36 -> -36000000 | N36: =SUM(B36+F36+J36) -> 1100000000 | O36: =SUM(C36+G36+K36) -> 1100000000 | P36: =SUM(D36+H36+L36) -> 1064000000 | Q36: =SUM(E36+I36+M36) -> -36000000
A37: 2.2. Gépjárműadók | B37: 58840000 | E37: =D37-C37 -> 0 | N37: =SUM(B37+F37+J37) -> 58840000 | O37: =SUM(C37+G37+K37) -> 0 | P37: =SUM(D37+H37+L37) -> 0 | Q37: =SUM(E37+I37+M37) -> 0
A38: 2.3. Egyéb áruhasználati és szolgáltatási adók | B38: =SUM(B39:B41) -> 415000000 | C38: =SUM(C39:C41) -> 42717610 | D38: =SUM(D39:D41) -> 48717610 | E38: =SUM(E39:E41) -> 6000000 | N38: =SUM(B38+F38+J38) -> 415000000 | O38: =SUM(C38+G38+K38) -> 42717610 | P38: =SUM(D38+H38+L38) -> 48717610 | Q38: =SUM(E38+I38+M38) -> 6000000
A39: 2.3.1. Ifa személyek u. | B39: 415000000 | C39: 42717610 | D39: 45717610 | E39: =D39-C39 -> 3000000 | N39: =SUM(B39+F39+J39) -> 415000000 | O39: =SUM(C39+G39+K39) -> 42717610 | P39: =SUM(D39+H39+L39) -> 45717610 | Q39: =SUM(E39+I39+M39) -> 3000000
A40: 2.3.2. Korábbi évek megszűnt adóiból befolyt bevétel | D40: 3000000 | E40: =D40-C40 -> 3000000 | N40: =SUM(B40+F40+J40) -> 0 | O40: =SUM(C40+G40+K40) -> 0 | P40: =SUM(D40+H40+L40) -> 3000000 | Q40: =SUM(E40+I40+M40) -> 3000000
A41: 2.3.3. Települési adó | E41: =D41-C41 -> 0 | N41: =SUM(B41+F41+J41) -> 0 | O41: =SUM(C41+G41+K41) -> 0 | P41: =SUM(D41+H41+L41) -> 0 | Q41: =SUM(E41+I41+M41) -> 0
A42: 3. Egyéb közhatalmi bevételek (bírság, pótlék, településrendezési szerz.) | B42: 9400000 | C42: 9400000 | D42: 19400000 | E42: =D42-C42 -> 10000000 | F42: ='2.a tábla ÚJ '!S20 -> 0 | G42: ='2.a tábla ÚJ '!T20 -> 0 | H42: ='2.a tábla ÚJ '!U20 -> 0 | I42: ='2.a tábla ÚJ '!V20 -> 0 | N42: =SUM(B42+F42+J42) -> 9400000 | O42: =SUM(C42+G42+K42) -> 9400000 | P42: =SUM(D42+H42+L42) -> 19400000 | Q42: =SUM(E42+I42+M42) -> 10000000
A43: IV. Működési bevételek | B43: =B44+B45+B47+B48+B51+B52+B53+B54+B57+B55+B56 -> 765981293 | C43: =C44+C45+C47+C48+C51+C52+C53+C54+C57+C55+C56 -> 751305131 | D43: =D44+D45+D47+D48+D51+D52+D53+D54+D57+D55+D56 -> 815067339 | E43: =E44+E45+E47+E48+E51+E52+E53+E54+E57+E55+E56 -> 63762208 | F43: =F44+F45+F47+F48+F51+F52+F53+F54+F57+F55+F56 -> 33410443 | G43: =G44+G45+G47+G48+G51+G52+G53+G54+G57+G55+G56 -> 33410443 | H43: =H44+H45+H47+H48+H51+H52+H53+H54+H57+H55+H56 -> 33209750 | I43: =I44+I45+I47+I48+I51+I52+I53+I54+I57+I55+I56 -> 578693 | ... M43: =M44+M45+M47+M48+M51+M52+M53+M54+M57+M55+M56 -> 0 | N43: =SUM(B43+F43+J43) -> 849595329 | O43: =SUM(C43+G43+K43) -> 834109167 | P43: =SUM(D43+H43+L43) -> 897670682 | Q43: =SUM(E43+I43+M43) -> 64340901
A44: 1. Készletértékesítés bevétele | I44: =I45+I46+I48+I49+I52+I53+I54+I55+I58+I56+I57 -> 452693 | N44: =SUM(B44+F44+J44) -> 0 | O44: =SUM(C44+G44+K44) -> 0 | P44: =SUM(D44+H44+L44) -> 0 | Q44: =SUM(E44+I44+M44) -> 452693
A45: 2. Szolgáltatások ellenértéke | B45: 346357351 | C45: 346357351 | D45: 346357351 | E45: =D45-C45 -> 0 | F45: ='2.a tábla ÚJ '!S23 -> 23800000 | G45: ='2.a tábla ÚJ '!T23 -> 23800000 | H45: ='2.a tábla ÚJ '!U23 -> 23800000 | I45: =I46+I47+I49+I50+I53+I54+I55+I56+I59+I57+I58 -> 326693 | J45: ='2.a tábla ÚJ '!N23 -> 47159213 | K45: ='2.a tábla ÚJ '!O23 -> 46734016 | L45: ='2.a tábla ÚJ '!P23 -> 46734016 | M45: ='2.a tábla ÚJ '!Q23 -> 0 | N45: =SUM(B45+F45+J45) -> 417316564 | O45: =SUM(C45+G45+K45) -> 416891367 | P45: =SUM(D45+H45+L45) -> 416891367 | Q45: =SUM(E45+I45+M45) -> 326693
A46: Ebből: bérleti díjak | B46: 346357351 | C46: 346357351 | D46: 346357351 | E46: =D46-C46 -> 0 | F46: ='2.a tábla ÚJ '!S24 -> 8200000 | G46: ='2.a tábla ÚJ '!T24 -> 8200000 | H46: ='2.a tábla ÚJ '!U24 -> 8200000 | I46: ='2.a tábla ÚJ '!V24 -> 0 | N46: =SUM(B46+F46+J46) -> 354557351 | O46: =SUM(C46+G46+K46) -> 354557351 | P46: =SUM(D46+H46+L46) -> 354557351 | Q46: =SUM(E46+I46+M46) -> 0
A47: 3. Közvetített szolgáltatások ellenértéke | B47: 4700000 | C47: 4700000 | D47: 4700000 | E47: =D47-C47 -> 0 | F47: ='2.a tábla ÚJ '!S25 -> 3625000 | G47: ='2.a tábla ÚJ '!T25 -> 3625000 | H47: ='2.a tábla ÚJ '!U25 -> 3625000 | I47: ='2.a tábla ÚJ '!V25 -> 0 | J47: ='2.a tábla ÚJ '!N25 -> 228346 | K47: ='2.a tábla ÚJ '!O25 -> 228346 | L47: ='2.a tábla ÚJ '!P25 -> 228346 | M47: ='2.a tábla ÚJ '!Q25 -> 0 | N47: =SUM(B47+F47+J47) -> 8553346 | O47: =SUM(C47+G47+K47) -> 8553346 | P47: =SUM(D47+H47+L47) -> 8553346 | Q47: =SUM(E47+I47+M47) -> 0
A48: 4. Tulajdonosi bevételek | B48: 22235544 | C48: 22235544 | D48: 22235544 | E48: =D48-C48 -> 0 | J48: 0 | K48: 0 | L48: 0 | M48: =L48-K48 -> 0 | N48: =SUM(B48+F48+J48) -> 22235544 | O48: =SUM(C48+G48+K48) -> 22235544 | P48: =SUM(D48+H48+L48) -> 22235544 | Q48: =SUM(E48+I48+M48) -> 0
A49: 4.1. Üzemeltetési díjak | B49: 6235544 | C49: 6235544 | D49: 6235544 | E49: =D49-C49 -> 0 | N49: =SUM(B49+F49+J49) -> 6235544 | O49: =SUM(C49+G49+K49) -> 6235544 | P49: =SUM(D49+H49+L49) -> 6235544 | Q49: =SUM(E49+I49+M49) -> 0
A50: 4.2. Részesedés után kapott osztalék | B50: 16000000 | C50: 16000000 | D50: 16000000 | E50: =D50-C50 -> 0 | J50: 0 | K50: 0 | L50: 0 | M50: =L50-K50 -> 0 | N50: =SUM(B50+F50+J50) -> 16000000 | O50: =SUM(C50+G50+K50) -> 16000000 | P50: =SUM(D50+H50+L50) -> 16000000 | Q50: =SUM(E50+I50+M50) -> 0
A51: 5. Ellátási díjak | B51: 33915588 | C51: 20295198 | D51: 20295198 | E51: =D51-C51 -> 0 | J51: ='2.a tábla ÚJ '!N27 -> 1216215 | K51: ='2.a tábla ÚJ '!O27 -> 1216215 | L51: ='2.a tábla ÚJ '!P27 -> 1216215 | M51: ='2.a tábla ÚJ '!Q27 -> 0 | N51: =SUM(B51+F51+J51) -> 35131803 | O51: =SUM(C51+G51+K51) -> 21511413 | P51: =SUM(D51+H51+L51) -> 21511413 | Q51: =SUM(E51+I51+M51) -> 0
A52: 6. Kiszámlázott Áfa | B52: 165289733 | C52: 161612228 | D52: 128402228 | E52: =D52-C52 -> -33210000 | F52: ='2.a tábla ÚJ '!S28 -> 5985443 | G52: ='2.a tábla ÚJ '!T28 -> 5985443 | H52: ='2.a tábla ÚJ '!U28 -> 5784750 | I52: ='2.a tábla ÚJ '!V28 -> -200693 | J52: ='2.a tábla ÚJ '!N28 -> 929819 | K52: ='2.a tábla ÚJ '!O28 -> 815016 | L52: ='2.a tábla ÚJ '!P28 -> 815016 | M52: ='2.a tábla ÚJ '!Q28 -> 0 | N52: =SUM(B52+F52+J52) -> 172204995 | O52: =SUM(C52+G52+K52) -> 168412687 | P52: =SUM(D52+H52+L52) -> 135001994 | Q52: =SUM(E52+I52+M52) -> -33410693
A53: 7. Áfa visszatérítés | B53: 160353154 | C53: 162974887 | D53: 259947095 | E53: =D53-C53 -> 96972208 | J53: ='2.a tábla ÚJ '!N29 -> 650000 | K53: ='2.a tábla ÚJ '!O29 -> 380000 | L53: ='2.a tábla ÚJ '!P29 -> 380000 | M53: ='2.a tábla ÚJ '!Q29 -> 0 | N53: =SUM(B53+F53+J53) -> 161003154 | O53: =SUM(C53+G53+K53) -> 163354887 | P53: =SUM(D53+H53+L53) -> 260327095 | Q53: =SUM(E53+I53+M53) -> 96972208
A54: 8. Kamatbevétel | B54: 30000000 | C54: 30000000 | D54: 30000000 | E54: =D54-C54 -> 0 | J54: 0 | K54: 0 | L54: 0 | M54: =L54-K54 -> 0 | N54: =SUM(B54+F54+J54) -> 30000000 | O54: =SUM(C54+G54+K54) -> 30000000 | P54: =SUM(D54+H54+L54) -> 30000000 | Q54: =SUM(E54+I54+M54) -> 0
A55: 9. Egyéb pénzügyi műveletek bevételei | E55: =D55-C55 -> 0 | J55: ='[3]2.a tábla ÚJ '!K31 -> 0 | N55: =SUM(B55+F55+J55) -> 0 | O55: =SUM(C55+G55+K55) -> 0 | P55: =SUM(D55+H55+L55) -> 0 | Q55: =SUM(E55+I55+M55) -> 0
A56: 10. Biztosító által fizetett kártérítés | B56: 0 | E56: =D56-C56 -> 0 | J56: ='[3]2.a tábla ÚJ '!K32 -> 0 | N56: =SUM(B56+F56+J56) -> 0 | O56: =SUM(C56+G56+K56) -> 0 | P56: =SUM(D56+H56+L56) -> 0 | Q56: =SUM(E56+I56+M56) -> 0
A57: 11. Egyéb működési bevételek | B57: 3129923 | C57: 3129923 | D57: 3129923 | E57: =D57-C57 -> 0 | J57: ='2.a tábla ÚJ '!N33 -> 20000 | K57: ='2.a tábla ÚJ '!O33 -> 20000 | L57: ='2.a tábla ÚJ '!P33 -> 20000 | M57: ='2.a tábla ÚJ '!Q33 -> 0 | N57: =SUM(B57+F57+J57) -> 3149923 | O57: =SUM(C57+G57+K57) -> 3149923 | P57: =SUM(D57+H57+L57) -> 3149923 | Q57: =SUM(E57+I57+M57) -> 0
A58: V. Felhalmozási bevételek | B58: =SUM(B59:B63) -> 269453434 | C58: =SUM(C59:C63) -> 269453434 | D58: =SUM(D59:D63) -> 269453434 | E58: =SUM(E59:E63) -> 0 | F58: =SUM(F59:F63) -> 743307 | G58: =SUM(G59:G63) -> 743307 | H58: =SUM(H59:H63) -> 1070000 | I58: =SUM(I59:I63) -> 326693 | ... Q58: =SUM(Q59:Q63) -> 326693
A59: 1. Immateriális javak értékesítése
A60: 2. Ingatlanok értékesítése | B60: 269453434 | C60: 269453434 | D60: 269453434 | E60: =D60-C60 -> 0 | N60: =B60+J60+F60 -> 269453434 | O60: =C60+K60+G60 -> 269453434 | P60: =D60+L60+H60 -> 269453434 | Q60: =E60+M60+I60 -> 0
A61: 3. Egyéb tárgyi eszközök értékesítése | F61: ='2.a tábla ÚJ '!S37 -> 743307 | G61: ='2.a tábla ÚJ '!T37 -> 743307 | H61: ='2.a tábla ÚJ '!U37 -> 1070000 | I61: ='2.a tábla ÚJ '!V37 -> 326693 | J61: ='2.a tábla ÚJ '!N37 -> 0 | K61: ='2.a tábla ÚJ '!O37 -> 0 | L61: ='2.a tábla ÚJ '!P37 -> 0 | M61: ='2.a tábla ÚJ '!Q37 -> 0 | N61: =B61+J61+F61 -> 743307 | O61: =C61+K61+G61 -> 743307 | P61: =D61+L61+H61 -> 1070000 | Q61: =E61+M61+I61 -> 326693
A62: 4. Részesedések értékesítése | N62: =B62+J62+F62 -> 0 | O62: =C62+K62+G62 -> 0 | P62: =D62+L62+H62 -> 0 | Q62: =E62+M62+I62 -> 0
A63: 5. Részesedések megszűnéséhez kapcsolódó bevételek | N63: =B63+J63+F63 -> 0 | O63: =C63+K63+G63 -> 0 | P63: =D63+L63+H63 -> 0 | Q63: =E63+M63+I63 -> 0
A64: MEGNEVEZÉS | B64: ÖNKORMÁNYZAT | F64: BALATONFÜREDI KÖZÖS ÖNKORMÁNYZATI HIVATAL | J64: KÖLTSÉGVETÉSI SZERVEK | N64: ÖNKORMÁNYZAT ÖSSZESEN
B65: 2020. évi eredeti ei. | C65: 2020. évi módosított ei. II. | D65: 2020. évi módosított ei. III. | E65: Eltérés | F65: 2020. évi eredeti ei. | G65: 2020. évi módosított ei. II. | H65: 2020. évi módosított ei. III. | I65: Eltérés | J65: 2020. évi eredeti ei. | K65: 2020. évi módosított ei. II. | L65: 2020. évi módosított ei. III. | M65: Eltérés | N65: 2020. évi eredeti ei. | O65: 2020. évi módosított ei. II. | P65: 2020. évi módosított ei. III. | Q65: Eltérés
A66: VI. Működési célú átvett pénzeszközök | B66: =SUM(B67:B69) -> 3000000 | C66: =SUM(C67:C69) -> 3720754 | D66: =SUM(D67:D69) -> 19720754 | E66: =SUM(E67:E69) -> 16000000 | F66: =SUM(F67:F69) -> 0 | G66: =SUM(G67:G69) -> 0 | H66: =SUM(H67:H69) -> 0 | I66: =SUM(I67:I69) -> 0 | ... Q66: =SUM(Q67:Q69) -> 16000000
A67: 1. Működési célú garancia- és kezességvállalásból származó megtérülések áh-n kívülről | N67: =B67+F67+J67 -> 0 | O67: =C67+G67+K67 -> 0 | P67: =D67+H67+L67 -> 0 | Q67: =E67+I67+M67 -> 0
A68: 2. Működési célú visszatérítendő támogatások, kölcsönök visszatérülése államháztartáson kívülről | B68: 3000000 | C68: 3000000 | D68: 19000000 | E68: =D68-C68 -> 16000000 | N68: =B68+F68+J68 -> 3000000 | O68: =C68+G68+K68 -> 3000000 | P68: =D68+H68+L68 -> 19000000 | Q68: =E68+I68+M68 -> 16000000
A69: 3. Egyéb működési célú átvett pénzeszközök | B69: 0 | C69: 720754 | D69: 720754 | E69: =D69-C69 -> 0 | J69: ='2.a tábla ÚJ '!N41 -> 0 | K69: ='2.a tábla ÚJ '!O41 -> 0 | L69: ='2.a tábla ÚJ '!P41 -> 0 | M69: ='2.a tábla ÚJ '!Q41 -> 0 | N69: =SUM(B69+F69+J69) -> 0 | O69: =SUM(C69+G69+K69) -> 720754 | P69: =SUM(D69+H69+L69) -> 720754 | Q69: =SUM(E69+I69+M69) -> 0
A70: VII. Felhalmozási célú átvett pénzeszközök | B70: =SUM(B71:B73) -> 227000542 | C70: =SUM(C71:C73) -> 227000542 | D70: =SUM(D71:D73) -> 223000542 | E70: =SUM(E71:E73) -> -4000000 | F70: =SUM(F71:F73) -> 0 | G70: =SUM(G71:G73) -> 0 | H70: =SUM(H71:H73) -> 0 | I70: =SUM(I71:I73) -> 0 | N70: =SUM(N71:N73) -> 227000542 | O70: =SUM(O71:O73) -> 227000542 | P70: =SUM(P71:P73) -> 223000542 | Q70: =SUM(Q71:Q73) -> -4000000
A71: 1. Felhalmozási célú garancia- és kezességvállalásból származó megtérülések áh-n kívülről | N71: =B71+F71+J71 -> 0 | O71: =C71+G71+K71 -> 0 | P71: =D71+H71+L71 -> 0 | Q71: =E71+I71+M71 -> 0
A72: 2. Felhalmozási célú visszatérítendő támogatások, kölcsönök visszatérülése államháztartáson kívülről | B72: 227000542 | C72: 227000542 | D72: 211000542 | E72: =D72-C72 -> -16000000 | N72: =B72+F72+J72 -> 227000542 | O72: =C72+G72+K72 -> 227000542 | P72: =D72+H72+L72 -> 211000542 | Q72: =E72+I72+M72 -> -16000000
A73: 3. Egyéb felhalmozási célú átvett pénzeszközök | D73: 12000000 | E73: =D73-C73 -> 12000000 | N73: =B73+F73+J73 -> 0 | O73: =C73+G73+K73 -> 0 | P73: =D73+H73+L73 -> 12000000 | Q73: =E73+I73+M73 -> 12000000
A74: Költségvetési bevételek összesen: | B74: =B70+B66+B58+B43+B30+B22+B7 -> 9419612974 | C74: =C70+C66+C58+C43+C30+C22+C7 -> 11105843568 | D74: =D70+D66+D58+D43+D30+D22+D7 -> 10687829818 | E74: =E70+E66+E58+E43+E30+E22+E7 -> -418013750 | F74: =F70+F66+F58+F43+F30+F22+F7 -> 64232559 | G74: =G70+G66+G58+G43+G30+G22+G7 -> 58040385 | H74: =H70+H66+H58+H43+H30+H22+H7 -> 58166385 | I74: =I70+I66+I58+I43+I30+I22+I7 -> 905386 | ... Q74: =Q70+Q66+Q58+Q43+Q30+Q22+Q7 -> -416008364 | R74: =M74+I74+E74 -> -416008364
A75: VIII. Finanszírozási bevételek | B75: =B76+B79 -> 3302178782 | C75: =C76+C79 -> 5356753190 | D75: =D76+D79 -> 5356753190 | E75: =E76+E79 -> 0 | F75: =F76+F79 -> 0 | G75: =G76+G79 -> 35572714 | H75: =H76+H79 -> 35572714 | I75: =I76+I79 -> 0 | ... Q75: =Q76+Q79 -> 0
A76: 1. Költségvetési hiány belső finanszírozására szolgáló bevételek | B76: =SUM(B77:B78) -> 2863791597 | C76: =SUM(C77:C78) -> 3054641190 | D76: =SUM(D77:D78) -> 3054641190 | E76: =SUM(E77:E78) -> 0 | F76: =SUM(F77:F78) -> 0 | G76: =SUM(G77:G78) -> 35572714 | H76: =SUM(H77:H78) -> 35572714 | I76: =SUM(I77:I78) -> 0 | ... M76: =SUM(M77:M78) -> 0 | N76: =B76+J76+F76 -> 2874497034 | O76: =C76+K76+G76 -> 3119095564 | P76: =D76+L76+H76 -> 3119095564 | Q76: =E76+M76+I76 -> 0
A77: 1.1. Előző év költségvetési maradványának igénybevétele működési célra | B77: 169496533 | C77: 358994676 | D77: 121031215 | E77: =D77-C77 -> -237963461 | F77: ='2.a tábla ÚJ '!S47 -> 0 | G77: ='2.a tábla ÚJ '!T47 -> 27144823 | H77: ='2.a tábla ÚJ '!U47 -> 27144823 | I77: ='2.a tábla ÚJ '!V47 -> 0 | J77: ='2.a tábla ÚJ '!N47 -> 268437 | K77: ='2.a tábla ÚJ '!O47 -> 14588409 | L77: ='2.a tábla ÚJ '!P47 -> 14588409 | M77: ='2.a tábla ÚJ '!Q47 -> 0 | N77: =B77+F77+J77 -> 169764970 | O77: =C77+G77+K77 -> 400727908 | P77: =D77+H77+L77 -> 162764447 | Q77: =E77+I77+M77 -> -237963461
A78: 1.2. Előző év költségvetési maradványának igénybevétele felhalmozási célra | B78: 2694295064 | C78: 2695646514 | D78: 2933609975 | E78: =D78-C78 -> 237963461 | F78: ='2.a tábla ÚJ '!S48 -> 0 | G78: ='2.a tábla ÚJ '!T48 -> 8427891 | H78: ='2.a tábla ÚJ '!U48 -> 8427891 | I78: ='2.a tábla ÚJ '!V48 -> 0 | J78: ='2.a tábla ÚJ '!N48 -> 10437000 | K78: ='2.a tábla ÚJ '!O48 -> 14293251 | L78: ='2.a tábla ÚJ '!P48 -> 14293251 | M78: ='2.a tábla ÚJ '!Q48 -> 0 | N78: =B78+F78+J78 -> 2704732064 | O78: =C78+G78+K78 -> 2718367656 | P78: =D78+H78+L78 -> 2956331117 | Q78: =E78+I78+M78 -> 237963461
A79: 2. Költségvetési hiány külső finanszírozására szolgáló finanszírozási bevételek | B79: =B80+B84+B89+B90 -> 438387185 | C79: =C80+C84+C89+C90 -> 2302112000 | D79: =D80+D84+D89+D90 -> 2302112000 | E79: =E80+E84+E89+E90 -> 0 | F79: =F80+F84+F89+F90 -> 0 | G79: =G80+G84+G89+G90 -> 0 | H79: =H80+H84+H89+H90 -> 0 | I79: =I80+I84+I89+I90 -> 0 | ... Q79: =Q80+Q84+Q89+Q90 -> 0
A80: 1. Hitel, kölcsön felvétele áh-n kívülről | C80: =SUM(C81:C83) -> 1520000000 | D80: =SUM(D81:D83) -> 1520000000 | E80: =D80-C80 -> 0 | F80: =SUM(F81:F83) -> 0 | G80: =SUM(G81:G83) -> 0 | H80: =SUM(H81:H83) -> 0 | I80: =SUM(I81:I83) -> 0 | J80: =SUM(J81:J83) -> 0 | N80: =SUM(N81:N83) -> 0 | O80: =SUM(O81:O83) -> 1520000000 | P80: =SUM(P81:P83) -> 1520000000 | Q80: =E80+I80+M80 -> 0
A81: 1.1. Hosszú lejáratú hitelek, kölcsönök felvétele | C81: 720000000 | D81: 720000000 | E81: =D81-C81 -> 0 | N81: =B81+J81 -> 0 | O81: =C81+K81 -> 720000000 | P81: =D81+L81 -> 720000000 | Q81: =E81+I81+M81 -> 0
A82: 1.2. Likviditási célú hitelek, kölcsönök felvétele pénzügyi vállalkozástól | C82: 800000000 | D82: 800000000 | E82: =D82-C82 -> 0 | N82: =B82+J82 -> 0 | O82: =C82+K82 -> 800000000 | P82: =D82+L82 -> 800000000 | Q82: =E82+I82+M82 -> 0
A83: 1.3. Rövid lejáratú hitelek, kölcsönök felvétele | E83: =D83-C83 -> 0 | N83: =B83+J83 -> 0 | O83: =C83+K83 -> 0 | P83: =D83+L83 -> 0
A84: 2. Belföldi értékpapírok bevételei | B84: =SUM(B85:B88) -> 425587185 | C84: =SUM(C85:C88) -> 769312000 | D84: =SUM(D85:D88) -> 769312000 | E84: =SUM(E85:E88) -> 0 | N84: =B84+J84 -> 425587185 | O84: =C84+K84 -> 769312000 | P84: =D84+L84 -> 769312000 | Q84: =E84+M84 -> 0
A85: 2.1. Forgatási célú értékpapírok beváltása, értékesítése | B85: 425587185 | C85: 769312000 | D85: 769312000 | E85: =D85-C85 -> 0 | N85: =B85+J85 -> 425587185 | O85: =C85+K85 -> 769312000 | P85: =D85+L85 -> 769312000 | Q85: =E85+M85 -> 0
A86: 2.2. Forgatási célú értékpapírok kibocsátása | N86: =B86+J86 -> 0 | O86: =C86+K86 -> 0 | P86: =D86+L86 -> 0
A87: 2.3. Befektetési célú belföldi értékpapírok beváltása, értékesítése | N87: =B87+J87 -> 0 | O87: =C87+K87 -> 0 | P87: =D87+L87 -> 0
A88: 2.4. Befektetési célú belföldi értékpapírok kibocsátása | N88: =B88+J88 -> 0 | O88: =C88+K88 -> 0 | P88: =D88+L88 -> 0
A89: 3. Betét bevonás | N89: =B89+J89 -> 0 | O89: =C89+K89 -> 0 | P89: =D89+L89 -> 0
A90: 4. Államháztartáson belüli megelőlegezések | B90: 12800000 | C90: 12800000 | D90: 12800000 | E90: =C90-C90 -> 0 | N90: =B90+J90 -> 12800000 | O90: =C90+K90 -> 12800000 | P90: =D90+L90 -> 12800000 | Q90: =E90+M90 -> 0
A91: Finanszírozási bevételek összesen: | B91: =B79+B76 -> 3302178782 | C91: =C79+C76 -> 5356753190 | D91: =D79+D76 -> 5356753190 | E91: =E79+E76 -> 0 | F91: =F79+F76 -> 0 | G91: =G79+G76 -> 35572714 | H91: =H79+H76 -> 35572714 | I91: =I79+I76 -> 0 | ... M91: =M79+M76 -> 0 | N91: =B91+J91+F91:F94 -> 3312884219 | O91: =C91+K91+G91:G94 -> 5421207564 | P91: =D91+L91+H91:H94 -> 5421207564 | Q91: =E91+M91+I91 -> 0
A92: Összes bevétel: | B92: =B74+B91 -> 12721791756 | C92: =C74+C91 -> 16462596758 | D92: =D74+D91 -> 16044583008 | E92: =E74+E91 -> -418013750 | F92: =F74+F91 -> 64232559 | G92: =G74+G91 -> 93613099 | H92: =H74+H91 -> 93739099 | I92: =I74+I91 -> 905386 | ... M92: =M74+M91 -> 1100000 | N92: =B92+J92+F92 -> 12990398078 | O92: =C92+K92+G92 -> 16806629792 | P92: =D92+L92+H92 -> 16389842042 | Q92: =E92+M92+I92 -> -416008364 | R92: =Q91+Q74 -> -416008364
A93: Intézményi létszámok: | B93: ='2.a tábla ÚJ '!S58+'2.a tábla ÚJ '!S60 -> 23 | C93: ='2.a tábla ÚJ '!T58+'2.a tábla ÚJ '!T60 -> 23 | D93: ='2.a tábla ÚJ '!U58+'2.a tábla ÚJ '!U60 -> 23 | E93: ='2.a tábla ÚJ '!V58+'2.a tábla ÚJ '!V60 -> 0 | F93: ='2.a tábla ÚJ '!S57 -> 73.5 | G93: ='2.a tábla ÚJ '!T57 -> 72.5 | H93: ='2.a tábla ÚJ '!U57 -> 68.5 | I93: ='2.a tábla ÚJ '!V57 -> -4 | J93: ='2.a tábla ÚJ '!N57 -> 60 | K93: ='2.a tábla ÚJ '!O57 -> 60 | L93: ='2.a tábla ÚJ '!P57 -> 60 | M93: ='2.a tábla ÚJ '!Q57 -> 0 | N93: =B93+J93+F93 -> 156.5 | O93: =C93+K93+G93 -> 155.5 | P93: =D93+L93+H93 -> 151.5 | Q93: =E93+M93+I93 -> -4
A94: ebből közfoglalkoztatott | B94: ='2.a tábla ÚJ '!S60 -> 15 | C94: ='2.a tábla ÚJ '!T60 -> 15 | D94: ='2.a tábla ÚJ '!U60 -> 15 | E94: ='2.a tábla ÚJ '!V60 -> 0 | F94: ='2.a tábla ÚJ '!S56 -> 0 | G94: ='2.a tábla ÚJ '!T56 -> 0 | H94: ='2.a tábla ÚJ '!U56 -> 0 | I94: ='2.a tábla ÚJ '!V56 -> 0 | J94: ='2.a tábla ÚJ '!N56 -> 5 | K94: ='2.a tábla ÚJ '!O56 -> 5 | L94: ='2.a tábla ÚJ '!P56 -> 5 | M94: ='2.a tábla ÚJ '!Q56 -> 0 | N94: =B94+J94 -> 20 | O94: =C94+K94 -> 20 | P94: =D94+L94 -> 20 | Q94: =E94+M94+I94 -> 0

Sheet 2.a tábla ÚJ 
A6: BEVÉTELEK ELŐIRÁNYZATA KÖLTSÉGVETÉSI SZERVEK SZERINTI BONTÁSBAN 2020. ÉV
A10: MEGNEVEZÉS | B10: LIPTÁK GÁBOR VÁROSI KÖNYVTÁR | F10: BALATONFÜREDI VÁROSI SZAKORVOSI RENDELŐINTÉZET | J10: BALATONFÜREDI VÁROSI BÖLCSŐDE | N10: KÖLTSÉGVETÉSI SZERVEK ÖSSZESEN | S10: BALATONFÜREDI KÖZÖS ÖNKORMÁNYZATI HIVATAL
B11: 2020. évi eredeti ei. | C11: 2020. évi módosított ei. II. | D11: 2020. évi módosított ei. III. | E11: Eltérés | F11: 2020. évi eredeti ei. | G11: 2020. évi módosított ei. II. | H11: 2020. évi módosított ei. III. | I11: Eltérés | J11: 2020. évi eredeti ei. | K11: 2020. évi módosított ei. II. | L11: 2020. évi módosított ei. III. | M11: Eltérés | N11: 2020. évi eredeti ei. | O11: 2020. évi módosított ei. II. | P11: 2020. évi módosított ei. III. | Q11: Eltérés | S11: 2020. évi eredeti ei. | T11: 2020. évi módosított ei. II. | U11: 2020. évi módosított ei. III. | V11: Eltérés
A12: I. Működési célú támogatások államházatartáson belülről | B12: =B13 -> 1274488 | C12: =C13 -> 11274488 | D12: =D13 -> 11274488 | E12: =E13 -> 0 | F12: =F13 -> 136773270 | G12: =G13 -> 155453219 | H12: =H13 -> 156553219 | I12: =I13 -> 1100000 | ... Q12: =Q13 -> 1100000 | R12: =R13+R16 -> 0 | S12: =S13+S16 -> 30078809 | T12: =T13+T16 -> 23886635 | U12: =U13+U16 -> 23886635 | V12: =V13+V16 -> 0
A13: 6. Egyéb működési célú támogatások bevételei államháztartáson belülről | B13: =300000+974488 -> 1274488 | C13: 11274488 | D13: 11274488 | E13: =D13-C13 -> 0 | F13: =135000000+1773270 -> 136773270 | G13: 155453219 | H13: 156553219 | I13: =H13-G13 -> 1100000 | J13: 1948975 | K13: 1948975 | L13: 1948975 | M13: =L13-K13 -> 0 | N13: =B13+F13+J13 -> 139996733 | O13: =C13+G13+K13 -> 168676682 | P13: =D13+H13+L13 -> 169776682 | Q13: =E13+I13+M13 -> 1100000 | S13: 30078809 | T13: 23886635 | U13: 23886635 | V13: =U13-T13 -> 0
A14: ebből működési célú támogatás társadalombiztosítási alapból | F14: 135000000 | G14: 153679949 | H14: 154779949 | I14: =H14-G14 -> 1100000 | N14: =B14+F14+J14 -> 135000000 | O14: =C14+G14+K14 -> 153679949 | P14: =D14+H14+L14 -> 154779949 | Q14: =E14+I14+M14 -> 1100000
A15: II. Felhalmozási célú támogatások államháztartáson belülről | B15: =SUM(B16) -> 3468000 | C15: =SUM(C16) -> 3468000 | D15: =SUM(D16) -> 3468000 | E15: =SUM(E16) -> 0 | F15: =F16 -> 0 | G15: =SUM(G16) -> 0 | H15: =SUM(H16) -> 0 | I15: =SUM(I16) -> 0 | K15: =K16 -> 0 | L15: =L16 -> 0 | M15: =M16 -> 0 | N15: =B15+F15+J15 -> 3468000 | O15: =C15+G15+K15 -> 3468000 | P15: =D15+H15+L15 -> 3468000 | Q15: =E15+I15+M15 -> 0 | R15: =R16 -> 0
A16: 4. Egyéb felhalmozási célú támogatások államháztartáson belülről | B16: 3468000 | C16: 3468000 | D16: 3468000 | E16: =D16-C16 -> 0 | I16: =H16-G16 -> 0 | N16: =B16+F16+J16 -> 3468000 | O16: =C16+G16+K16 -> 3468000 | P16: =D16+H16+L16 -> 3468000 | Q16: =E16+I16+M16 -> 0
A17: II. Közhatalmi bevételek | N17: =B17+F17+J17 -> 0 | R17: =#REF!+#REF!+#REF!+#REF!+#REF! -> #REF! | S17: =SUM(S18:S20) -> 0 | T17: =SUM(T18:T20) -> 0 | U17: =SUM(U18:U20) -> 0 | V17: =SUM(V18:V20) -> 0
A18: 1. Vagyoni típusú adók | N18: =B18+F18+J18 -> 0 | R18: =#REF!+#REF!+#REF!+#REF!+#REF!+#REF!+#REF!+#REF!+#REF!+#REF!+#REF!+#REF!+#REF!+#REF!+#REF! -> #REF!
A19: 2. Termékek és szolgáltatások adói | N19: =B19+F19+J19 -> 0
A20: 3. Egyéb közhatalmi bevételek (bírság, pótlék,) | N20: =B20+F20+J20 -> 0 | V20: =U20-T20 -> 0
A21: 1V. Működési bevételek | B21: =B22+B23+B25+B26+B27+B28+B29+B30+B33 -> 2559000 | C21: =C22+C23+C25+C26+C27+C28+C29+C30+C33 -> 2019000 | D21: =D22+D23+D25+D26+D27+D28+D29+D30+D33 -> 2019000 | E21: =E22+E23+E25+E26+E27+E28+E29+E30+E33 -> 0 | F21: =F22+F23+F25+F26+F27+F28+F29+F30+F33 -> 45160000 | G21: =G22+G23+G25+G26+G27+G28+G29+G30+G33 -> 45160000 | H21: =H22+H23+H25+H26+H27+H28+H29+H30+H33 -> 45160000 | I21: =I22+I23+I25+I26+I27+I28+I29+I30+I33 -> 0 | ... V21: =V22+V23+V25+V26+V27+V28+V29+V30+V33 -> -200693
A22: 1. Készletértékesítés bevétele | N22: =B22+F22+J22 -> 0 | R22: =#REF!+#REF!+#REF!+#REF!+#REF! -> #REF!
A23: 2. Szolgáltatások ellenértéke | B23: 1999213 | C23: 1574016 | D23: 1574016 | E23: =D23-C23 -> 0 | F23: =40560000+550000+4050000 -> 45160000 | G23: 45160000 | H23: 45160000 | I23: =H23-G23 -> 0 | N23: =B23+F23+J23 -> 47159213 | O23: =C23+G23+K23 -> 46734016 | P23: =D23+H23+L23 -> 46734016 | Q23: =E23+I23+M23 -> 0 | R23: =#REF!+#REF!+#REF!+#REF!+#REF! -> #REF! | S23: 23800000 | T23: 23800000 | U23: 23800000 | V23: =U23-T23 -> 0
A24: Ebből: bérleti díj | N24: =B24+F24+J24 -> 0 | O24: =C24+G24+K24 -> 0 | P24: =D24+H24+L24 -> 0 | Q24: =E24+I24+M24 -> 0 | R24: =#REF!+#REF!+#REF!+#REF!+#REF! -> #REF! | S24: 8200000 | T24: 8200000 | U24: 8200000 | V24: =U24-T24 -> 0
A25: 3. Közvetített szolgáltatások ellenértéke | J25: 228346 | K25: 228346 | L25: 228346 | M25: =L25-K25 -> 0 | N25: =B25+F25+J25 -> 228346 | O25: =C25+G25+K25 -> 228346 | P25: =D25+H25+L25 -> 228346 | Q25: =E25+I25+M25 -> 0 | R25: =#REF!+#REF!+#REF!+#REF!+#REF! -> #REF! | S25: =2250000+1375000 -> 3625000 | T25: 3625000 | U25: 3625000 | V25: =U25-T25 -> 0
A26: 4. Tulajdonosi bevételek | M26: =L26-K26 -> 0 | N26: =B26+F26+J26 -> 0 | O26: =C26+G26+K26 -> 0 | P26: =D26+H26+L26 -> 0 | Q26: =E26+I26+M26 -> 0 | R26: =#REF!+#REF!+#REF!+#REF!+#REF! -> #REF! | V26: =U26-T26 -> 0
A27: 5. Ellátási díjak | J27: 1216215 | K27: 1216215 | L27: 1216215 | M27: =L27-K27 -> 0 | N27: =B27+F27+J27 -> 1216215 | O27: =C27+G27+K27 -> 1216215 | P27: =D27+H27+L27 -> 1216215 | Q27: =E27+I27+M27 -> 0 | R27: =#REF!+#REF!+#REF!+#REF!+#REF! -> #REF! | V27: =U27-T27 -> 0
A28: 6. Kiszámlázott Áfa | B28: 539787 | C28: 424984 | D28: 424984 | E28: =D28-C28 -> 0 | J28: =328378+61654 -> 390032 | K28: 390032 | L28: 390032 | M28: =L28-K28 -> 0 | N28: =B28+F28+J28 -> 929819 | O28: =C28+G28+K28 -> 815016 | P28: =D28+H28+L28 -> 815016 | Q28: =E28+I28+M28 -> 0 | R28: =#REF!+#REF!+#REF!+#REF!+#REF! -> #REF! | S28: =5413500+371250+200693 -> 5985443 | T28: =5413500+371250+200693 -> 5985443 | U28: 5784750 | V28: =U28-T28 -> -200693
A29: 7. Áfa visszatérítés | E29: =D29-C29 -> 0 | J29: 650000 | K29: 380000 | L29: 380000 | M29: =L29-K29 -> 0 | N29: =B29+F29+J29 -> 650000 | O29: =C29+G29+K29 -> 380000 | P29: =D29+H29+L29 -> 380000 | Q29: =E29+I29+M29 -> 0 | R29: =#REF!+#REF!+#REF!+#REF!+#REF! -> #REF! | V29: =U29-T29 -> 0
A30: 8. Kamatbevétel | E30: =D30-C30 -> 0 | N30: =B30+F30+J30 -> 0 | O30: =C30+G30+K30 -> 0 | P30: =D30+H30+L30 -> 0 | Q30: =E30+I30+M30 -> 0 | R30: =#REF!+#REF!+#REF!+#REF!+#REF! -> #REF! | V30: =U30-T30 -> 0
A31: 9. Egyéb pénzügyi műveletek bevételei | E31: =D31-C31 -> 0 | N31: =B31+F31+J31 -> 0 | O31: =C31+G31+K31 -> 0 | P31: =D31+H31+L31 -> 0 | Q31: =E31+I31+M31 -> 0 | V31: =U31-T31 -> 0
A32: 10. Biztosító által fizetett kártérítés | E32: =D32-C32 -> 0 | N32: =B32+F32+J32 -> 0 | O32: =C32+G32+K32 -> 0 | P32: =D32+H32+L32 -> 0 | Q32: =E32+I32+M32 -> 0 | V32: =U32-T32 -> 0
A33: 11. Egyéb működési bevételek | B33: 20000 | C33: 20000 | D33: 20000 | E33: =D33-C33 -> 0 | N33: =B33+F33+J33 -> 20000 | O33: =C33+G33+K33 -> 20000 | P33: =D33+H33+L33 -> 20000 | Q33: =E33+I33+M33 -> 0 | R33: =#REF!+#REF!+#REF!+#REF!+#REF! -> #REF! | V33: =U33-T33 -> 0
A34: V. Felhalmozási bevételek | C34: =SUM(C35:C39) -> 0 | D34: =SUM(D35:D39) -> 0 | E34: =SUM(E35:E39) -> 0 | F34: =SUM(F35:F39) -> 0 | G34: =SUM(G35:G39) -> 0 | H34: =SUM(H35:H39) -> 0 | I34: =SUM(I35:I39) -> 0 | J34: =SUM(J35:J39) -> 0 | ... Q34: =SUM(Q35:Q39) -> 0 | R34: =#REF!+#REF!+#REF!+#REF!+#REF! -> #REF! | S34: =SUM(S35:S39) -> 743307 | T34: =SUM(T35:T39) -> 743307 | U34: =SUM(U35:U39) -> 1070000 | V34: =U34-T34 -> 326693
A35: 1. Immateriális javak értékesítése | N35: =B35+F35+J35 -> 0 | V35: =U35-T35 -> 0
A36: 2. Ingatlanok értékesítése | N36: =B36+F36+J36 -> 0 | V36: =U36-T36 -> 0
A37: 3. Egyéb tárgyi eszközök értékesítése | N37: =B37+F37+J37 -> 0 | O37: =C37+G37+K37 -> 0 | P37: =D37+H37+L37 -> 0 | Q37: =E37+I37+M37 -> 0 | S37: 743307 | T37: 743307 | U37: 1070000 | V37: =U37-T37 -> 326693
A38: 4. Részesedések értékesítése | N38: =B38+F38+J38 -> 0
A39: 5. Részesedések megszűnéséhez kapcsolódó bevételek | N39: =B39+F39+J39 -> 0
A40: VI. Működési célú átvett pénzeszközök | F40: =F41 -> 0 | G40: =G41 -> 0 | H40: =H41 -> 0 | I40: =I41 -> 0 | K40: =K41 -> 0 | L40: =L41 -> 0 | M40: =M41 -> 0 | N40: =SUM(N41) -> 0 | O40: =SUM(O41) -> 0 | P40: =SUM(P41) -> 0 | Q40: =SUM(Q41) -> 0 | R40: =#REF!+#REF!+#REF!+#REF!+#REF! -> #REF!
A41: 3. Egyéb működési célú átvett pénzeszközök | F41: 0 | G41: 0 | H41: 0 | I41: =H41-G41 -> 0 | N41: =B41+F41+J41 -> 0 | O41: =C41+G41+K41 -> 0 | P41: =D41+H41+L41 -> 0 | Q41: =E41+I41+M41 -> 0
A42: VII. Felhalmozási célú átvett pénzeszközök | N42: =B42+F42+J42 -> 0 | O42: =C42+G42+K42 -> 0 | P42: =D42+H42+L42 -> 0 | Q42: =E42+I42+M42 -> 0 | R42: =#REF!+#REF!+#REF!+#REF!+#REF! -> #REF!
A43: 3. Egyéb felhalmozási célú átvett pénzeszközök | N43: =B43+F43+J43 -> 0 | O43: =C43+G43+K43 -> 0 | P43: =D43+H43+L43 -> 0 | Q43: =E43+I43+M43 -> 0
A44: Költségvetési bevételek összesen: | B44: =B42+B40+B34+B21+B17+B15+B12 -> 7301488 | C44: =C42+C40+C34+C21+C17+C15+C12 -> 16761488 | D44: =D42+D40+D34+D21+D17+D15+D12 -> 16761488 | E44: =E42+E40+E34+E21+E17+E15+E12 -> 0 | F44: =F42+F40+F34+F21+F17+F15+F12 -> 181933270 | G44: =G42+G40+G34+G21+G17+G15+G12 -> 200613219 | H44: =H42+H40+H34+H21+H17+H15+H12 -> 201713219 | I44: =I42+I40+I34+I21+I17+I15+I12 -> 1100000 | ... M44: =M42+M40+M34+M21+M17+M15+M12 -> 0 | N44: =B44+F44+J44 -> 193668326 | O44: =C44+G44+K44 -> 221538275 | P44: =D44+H44+L44 -> 222638275 | Q44: =E44+I44+M44 -> 1100000 | R44: =R42+R40+R34+R21+R17+R15+R12 -> #REF! | S44: =S42+S40+S34+S21+S17+S15+S12 -> 64232559 | T44: =T42+T40+T34+T21+T17+T15+T12 -> 58040385 | U44: =U42+U40+U34+U21+U17+U15+U12 -> 58166385 | V44: =V42+V40+V34+V21+V17+V15+V12 -> 126000
A45: VIII. Finanszírozási bevételek | B45: =B46+B49+B50 -> 67666747 | C45: =C46+C49+C50 -> 59284012 | D45: =D46+D49+D50 -> 60626400 | E45: =E46+E49+E50 -> 1342388 | F45: =F46+F49+F50 -> 79366730 | G45: =G46+G49+G50 -> 82929434 | H45: =H46+H49+H50 -> 82575422 | I45: =I46+I49+I50 -> -354012 | ... M45: =M46+M49+M50 -> 84911 | N45: =B45+F45+J45 -> 216181141 | O45: =C45+G45+K45 -> 211801439 | P45: =D45+H45+L45 -> 212874726 | Q45: =E45+I45+M45 -> 1073287 | R45: =R46+R49+R50 -> #REF! | S45: =S46+S49+S50 -> 418371475 | T45: =T46+T49+T50 -> 439036159 | U45: =U46+U49+U50 -> 433300677 | V45: =V46+V49+V50 -> -5735482
A46: 1. Költségvetési hiány belső finanszírozására szolgáló bevételek | B46: =SUM(B47:B48) -> 10526479 | C46: =SUM(C47:C48) -> 12932260 | D46: =SUM(D47:D48) -> 12932260 | E46: =SUM(E47:E48) -> 0 | F46: =SUM(F47:F48) -> 0 | G46: =SUM(G47:G48) -> 11085110 | H46: =SUM(H47:H48) -> 11085110 | I46: =SUM(I47:I48) -> 0 | ... Q46: =SUM(Q47:Q48) -> 0 | S46: =SUM(S47:S48) -> 0 | T46: =SUM(T47:T48) -> 35572714 | U46: =SUM(U47:U48) -> 35572714 | V46: =SUM(V47:V48) -> 0
A47: 1.1. Előző év költségvetési maradványának igénybevétele működési célra | B47: 89479 | C47: 89479 | D47: 89479 | E47: =D47-C47 -> 0 | G47: 9634640 | H47: 9634640 | I47: =H47-G47 -> 0 | J47: 178958 | K47: 4864290 | L47: 4864290 | M47: =L47-K47 -> 0 | N47: =B47+F47+J47 -> 268437 | O47: =C47+G47+K47 -> 14588409 | P47: =D47+H47+L47 -> 14588409 | Q47: =E47+I47+M47 -> 0 | T47: 27144823 | U47: 27144823 | V47: =U47-T47 -> 0
A48: 1.2. Előző év költségvetési maradványának igénybevétele felhalmozási célra | B48: 10437000 | C48: 12842781 | D48: 12842781 | E48: =D48-C48 -> 0 | G48: 1450470 | H48: 1450470 | I48: =H48-G48 -> 0 | M48: =L48-K48 -> 0 | N48: =B48+F48+J48 -> 10437000 | O48: =C48+G48+K48 -> 14293251 | P48: =D48+H48+L48 -> 14293251 | Q48: =E48+I48+M48 -> 0 | T48: 8427891 | U48: 8427891 | V48: =U48-T48 -> 0
A49: 2. Költségvetési hiány külső finanszírozására szolgáló finanszírozási bevételek | N49: =B49+F49+J49 -> 0
A50: 3. Irányító szervi támogatások | B50: ='4.sz.tábla '!AS6-'2.a tábla ÚJ '!B44-'2.a tábla ÚJ '!B46 -> 57140268 | C50: ='4.sz.tábla '!AT6-'2.a tábla ÚJ '!C44-'2.a tábla ÚJ '!C46 -> 46351752 | D50: ='4.sz.tábla '!AU6-'2.a tábla ÚJ '!D44-'2.a tábla ÚJ '!D46 -> 47694140 | E50: =D50-C50 -> 1342388 | F50: ='4.sz.tábla '!AS7-'2.a tábla ÚJ '!F44-'2.a tábla ÚJ '!F46 -> 79366730 | G50: ='4.sz.tábla '!AT7-'2.a tábla ÚJ '!G44-'2.a tábla ÚJ '!G46 -> 71844324 | H50: ='4.sz.tábla '!AU7-'2.a tábla ÚJ '!H44-'2.a tábla ÚJ '!H46 -> 71490312 | I50: =H50-G50 -> -354012 | J50: ='4.sz.tábla '!AS8-'2.a tábla ÚJ '!J44-'2.a tábla ÚJ '!J46 -> 68968706 | K50: ='4.sz.tábla '!AT8-'2.a tábla ÚJ '!K44-'2.a tábla ÚJ '!K46 -> 64723703 | L50: ='4.sz.tábla '!AU8-'2.a tábla ÚJ '!L44-'2.a tábla ÚJ '!L46 -> 64808614 | M50: =L50-K50 -> 84911 | N50: =B50+F50+J50 -> 205475704 | O50: =C50+G50+K50 -> 182919779 | P50: =D50+H50+L50 -> 183993066 | Q50: =E50+I50+M50 -> 1073287 | R50: =SUM(#REF!) -> #REF! | S50: ='5.tábla (2)'!B42-'2.a tábla ÚJ '!S44-'2.a tábla ÚJ '!S46 -> 418371475 | T50: ='5.tábla (2)'!C42-'2.a tábla ÚJ '!T44-'2.a tábla ÚJ '!T46 -> 403463445 | U50: ='5.tábla (2)'!D42-'2.a tábla ÚJ '!U44-'2.a tábla ÚJ '!U46 -> 397727963 | V50: ='5.tábla (2)'!E42-'2.a tábla ÚJ '!V44-'2.a tábla ÚJ '!V46 -> -5735482
A51: Összes bevétel: | B51: =B45+B44 -> 74968235 | C51: =C45+C44 -> 76045500 | D51: =D45+D44 -> 77387888 | E51: =E45+E44 -> 1342388 | F51: =F45+F44 -> 261300000 | G51: =G45+G44 -> 283542653 | H51: =H45+H44 -> 284288641 | I51: =H51-G51 -> 745988 | J51: =J45+J44 -> 73581232 | K51: =K45+K44 -> 73751561 | L51: =L45+L44 -> 73836472 | M51: =L51-K51 -> 84911 | N51: =N45+N44 -> 409849467 | O51: =O45+O44 -> 433339714 | P51: =P45+P44 -> 435513001 | Q51: =Q45+Q44 -> 2173287 | R51: =R45+R44 -> #REF! | S51: =S45+S44 -> 482604034 | T51: =T45+T44 -> 497076544 | U51: =U45+U44 -> 491467062 | V51: =V45+V44 -> -5609482
A52: Létszámadatok intézményenként
A53: technikai állomány (fő) | B53: 1.5 | C53: 1.5 | D53: 1.5 | E53: =D53-C53 -> 0 | F53: 12 | G53: 12 | H53: 12 | I53: =H53-G53 -> 0 | J53: 5 | K53: 5 | L53: 5 | M53: =L53-K53 -> 0 | N53: =B53+F53+J53 -> 18.5 | O53: =C53+G53+K53 -> 18.5 | P53: =D53+H53+L53 -> 18.5 | Q53: =E53+I53+M53 -> 0 | R53: =#REF!+#REF!+#REF!+#REF!+#REF!+#REF!+#REF!+#REF!+#REF!+#REF! -> #REF! | S53: 7 | T53: 7 | U53: 7 | V53: =U53-T53 -> 0
A54: szakmai állomány (fő) | B54: 9.5 | C54: 9.5 | D54: 9.5 | E54: =D54-C54 -> 0 | F54: 18 | G54: 18 | H54: 18 | I54: =H54-G54 -> 0 | J54: 9 | K54: 9 | L54: 9 | M54: =L54-K54 -> 0 | N54: =B54+F54+J54 -> 36.5 | O54: =C54+G54+K54 -> 36.5 | P54: =D54+H54+L54 -> 36.5 | Q54: =E54+I54+M54 -> 0 | R54: =#REF!+#REF!+#REF!+#REF!+#REF!+#REF!+#REF!+#REF!+#REF!+#REF! -> #REF! | S54: 66 | T54: =66-1 -> 65 | U54: 61 | V54: =U54-T54 -> -4
A55: pályázati projekthez kapcsolódó határozott idejű (fő) | F55: 0 | G55: 0 | H55: 0 | N55: =B55+F55+J55 -> 0 | O55: =C55+G55+K55 -> 0 | P55: =D55+H55+L55 -> 0 | Q55: =E55+I55+M55 -> 0 | R55: =#REF!+#REF!+#REF!+#REF!+#REF!+#REF!+#REF!+#REF!+#REF!+#REF! -> #REF! | S55: 0.5 | T55: 0.5 | U55: 0.5 | V55: =U55-T55 -> 0
A56: közfoglalkoztatott (fő) | B56: 1 | C56: 1 | D56: 1 | E56: =D56-C56 -> 0 | F56: 2 | G56: 2 | H56: 2 | I56: =H56-G56 -> 0 | J56: 2 | K56: 2 | L56: 2 | M56: =L56-K56 -> 0 | N56: =B56+F56+J56 -> 5 | O56: =C56+G56+K56 -> 5 | P56: =D56+H56+L56 -> 5 | Q56: =E56+I56+M56 -> 0 | R56: =#REF!+#REF!+#REF!+#REF!+#REF!+#REF!+#REF!+#REF!+#REF!+#REF! -> #REF! | V56: =U56-T56 -> 0
A57: Összesen (fő): | B57: =SUM(B53:B56) -> 12 | C57: =SUM(C53:C56) -> 12 | D57: =SUM(D53:D56) -> 12 | E57: =D57-C57 -> 0 | F57: =SUM(F53:F56) -> 32 | G57: =SUM(G53:G56) -> 32 | H57: =SUM(H53:H56) -> 32 | I57: =H57-G57 -> 0 | J57: =SUM(J53:J56) -> 16 | K57: =SUM(K53:K56) -> 16 | L57: =SUM(L53:L56) -> 16 | M57: =L57-K57 -> 0 | N57: =SUM(N53:N56) -> 60 | O57: =C57+G57+K57 -> 60 | P57: =D57+H57+L57 -> 60 | Q57: =SUM(Q53:Q56) -> 0 | R57: =SUM(R53:R56) -> #REF! | S57: =SUM(S53:S56) -> 73.5 | T57: =SUM(T53:T56) -> 72.5 | U57: =SUM(U53:U56) -> 68.5 | V57: =U57-T57 -> -4
A58: Önkormányzat engedélyezett létszám | R58: =#REF!+#REF!+#REF!+#REF!+#REF!+#REF!+#REF!+#REF!+#REF!+#REF! -> #REF! | S58: 8 | T58: 8 | U58: 8 | V58: =U58-T58 -> 0
A59: ebből: támogatott projektek | S59: 2 | T59: 2 | U59: 2 | V59: =U59-T59 -> 0
A60: Önkormányzat közfoglalkoztatott (fő) | R60: =#REF!+#REF!+#REF!+#REF!+#REF!+#REF!+#REF!+#REF!+#REF!+#REF! -> #REF! | S60: 15 | T60: 15 | U60: 15 | V60: =U60-T60 -> 0

Sheet 2b. tábla 2020. (2)
A1: ÁLLAMI TÁMOGATÁSOK 2020. ÉV
A3: MEGNEVEZÉS | B3: LÉTSZÁM | C3: MUTATÓ | D3: FAJLAGOS | E3: ELŐIRÁNYZAT | F3: I. módosítás | G3: Módosított ei. I. | H3: II. módosítás | I3: Módosított ei. II. | J3: III. módosítás | K3: Módosított ei. III.
A5: I. HELYI ÖNKORMÁNYZATOK MŰKÖDÉSÉNEK ÁLT.TÁMOGATÁSA | E5: =E6+E28 -> 508615472 | F5: =F6+F28 -> -178887517 | G5: =E5+F5 -> 329727955 | H5: =H6+H28 -> 985035 | I5: =G5+H5 -> 330712990 | J5: =J6+J28 -> 0 | K5: =I5+J5 -> 330712990
A6: 1. Települési önkormányzatok működésének támogatása | E6: =E7+E10+E20+E21+E23+E24+E26+E27 -> 508615472 | F6: =F7+F10+F20+F21+F23+F24+F26+F27 -> -178887517 | G6: =E6+F6 -> 329727955 | H6: =H7+H10+H20+H21+H23+H24+H26+H27 -> 985035 | I6: =G6+H6 -> 330712990 | J6: =J7+J10+J20+J21+J23+J24+J26+J27 -> 0 | K6: =I6+J6 -> 330712990
A7: Önkormányzati hivatal működtetésének támogatás (beszámítás után) | E7: =E8 -> 179444400 | F7: =F8 -> 35293127 | G7: =E7+F7 -> 214737527 | H7: =H8 -> 0 | I7: =G7+H7 -> 214737527 | J7: =J8 -> 0 | K7: =I7+J7 -> 214737527
A8: Önkormányzati hivatal működtetésének támogatás elismert hivatali létsz. | C8: 39.18 | D8: 4580000 | E8: =C8*D8 -> 179444400 | F8: 35293127 | G8: =E8+F8 -> 214737527 | I8: =G8+H8 -> 214737527 | K8: =I8+J8 -> 214737527
A9: Beszámítás összege | E9: 0 | I9: =G9+H9 -> 0 | K9: =I9+J9 -> 0
A10: Kiegészítő támogatás | E10: =E11+E12+E13+E14+E15+E16+E17+E18 -> 0 | H10: 985035 | I10: =G10+H10 -> 985035 | K10: =I10+J10 -> 985035
A11: Település üzemeltetéséhez kapcsolódó feladatellát.támog.(beszámítás után) | C11: 705.7 | D11: 25200 | E11: =C11*D11 -> 17783640 | G11: =E11*F11 -> 0 | I11: =G11*H11 -> 0 | K11: =I11*J11 -> 0
A12: Zöldterület-gazdálk-al kapcsolatos feladatok ellátásának támog. (HA) | E12: =-E11 -> -17783640 | G12: =-G11 -> 0 | I12: =-I11 -> 0 | K12: =-K11 -> 0
A13: Beszámítás összege | E13: 58760000 | G13: 58760000 | I13: 58760000 | K13: 58760000
A14: Közvilágítás fenntartásának támogatás | E14: =-E13 -> -58760000 | G14: =-G13 -> -58760000 | I14: =-I13 -> -58760000 | K14: =-K13 -> -58760000
A15: Beszámítás összege | E15: 2176616 | G15: 2176616 | I15: 2176616 | K15: 2176616
A16: Köztemető fenntartással kapcsolatos feladatok támog. | E16: =-E15 -> -2176616 | G16: =-G15 -> -2176616 | I16: =-I15 -> -2176616 | K16: =-K15 -> -2176616
A17: Beszámítás összege | E17: 22310850 | G17: 22310850 | I17: 22310850 | K17: 22310850
A18: Közutak fenntartásának támogatás | E18: =-E17 -> -22310850 | G18: =-G17 -> -22310850 | I18: =-I17 -> -22310850 | K18: =-K17 -> -22310850
A19: Beszámítás összege | E19: =E20+E21 -> 0 | G19: =G20+G21 -> 0 | I19: =I20+I21 -> 0 | K19: =K20+K21 -> 0
A20: Egyéb önkormányzati feladatok támogatása (beszámítás után) | C20: 13637 | D20: 2700 | E20: 36819900 | G20: 36819900 | I20: 36819900 | K20: 36819900
A21: Egyéb önkormányzati feladatok támogatása | E21: =-E20 -> -36819900 | G21: =-G20 -> -36819900 | I21: =-I20 -> -36819900 | K21: =-K20 -> -36819900
A22: Beszámítás összege | E22: =E23+E24 -> 0 | G22: =G23+G24 -> 0 | I22: =I23+I24 -> 0 | K22: =K23+K24 -> 0
A23: Lakott külterületekkel kapcsolatos feladatok támogatása(beszámítás után) | C23: 114 | D23: 2550 | E23: 290700 | G23: 290700 | I23: 290700 | K23: 290700
A24: Lakott külterületekkel kapcsolatos feladatok támogatása | E24: =-E23 -> -290700 | G24: =-G23 -> -290700 | I24: =-I23 -> -290700 | K24: =-K23 -> -290700
A25: Beszámítás összege | E25: =SUM(E26:E27) -> 329171072 | F25: =SUM(F26:F27) -> -214180644 | G25: =E25+F25 -> 114990428 | I25: =G25+H25 -> 114990428 | K25: =I25+J25 -> 114990428
A26: Üdülőhelyi feladatok támogatása (beszámitás után) | E26: 398121613 | F26: -214180644 | G26: =E26+F26 -> 183940969 | I26: =G26+H26 -> 183940969 | K26: =I26+J26 -> 183940969
A27: Üdülőhelyi feladatok támogatása | E27: -68950541 | G27: =E27+F27 -> -68950541 | I27: =G27+H27 -> -68950541 | K27: =I27+J27 -> -68950541
A28: Beszámítás összege | E28: 0
A29: 2. 2018. évről áthúzódó és 2019. évi bérkompenzáció támogatása
A31: II. EGYES KÖZNEVELÉSI FELADATOK TÁMOGATÁSA | E31: =SUM(E32:E36) -> 258054470 | F31: =SUM(F32:F36) -> -14344836 | G31: =SUM(G32:G36) -> 243709634 | H31: =SUM(H32:H38) -> 18286516 | I31: =SUM(I32:I38) -> 261996150 | J31: =SUM(J32:J37) -> 6393830 | K31: =SUM(K32:K38) -> 268389980
A32: Óvodapedagógusok elismert létszáma | B32: 34.9 | C32: 34.9 | D32: 4371500 | E32: =B32*D32 -> 152565350 | F32: -4371500 | G32: =E32+F32 -> 148193850 | I32: =G32+H32 -> 148193850 | J32: 437150 | K32: =I32+J32 -> 148631000
A33: Óvodapedagógusok munkáját kvetlenül segítők | B33: 26 | C33: 26 | D33: 2400000 | E33: =B33*D33 -> 62400000 | F33: -9600000 | G33: =E33+F33 -> 52800000 | I33: =G33+H33 -> 52800000 | J33: 6480000 | K33: =I33+J33 -> 59280000
A34: Óvodaműködtetési támogatás | B34: 381.3 | C34: 391.3 | D34: 97400 | E34: =B34*D34 -> 37138620 | F34: -1100620 | G34: =E34+F34 -> 36038000 | I34: =G34+H34 -> 36038000 | J34: -126620 | K34: =I34+J34 -> 35911380
A35: Pedagógus II. kat. sorolt óvodapedag. kieg. támog.-minősítés 2019. jan. 1-ig szerezték meg | B35: 15 | C35: 15 | D35: 396700 | E35: =C35*D35 -> 5950500 | G35: =E35+F35 -> 5950500 | I35: =G35+H35 -> 5950500 | J35: -396700 | K35: =I35+J35 -> 5553800
A36: Pedagógus II. kat. sorolt óvodapedag. kieg. támog.-minősítés 2020. jan. 1-ig szerezték meg | B36: 0 | C36: 0 | D36: 363642 | E36: =C36*D36 -> 0 | F36: 727284 | G36: =E36+F36 -> 727284 | I36: =G36+H36 -> 727284 | K36: =I36+J36 -> 727284
A37: Kiegészítő támogatás | H37: 18286516 | I37: =G37+H37 -> 18286516 | K37: =I37+J37 -> 18286516
A39: III. SZOCIÁLIS, GYERMEKJÓLÉTI ÉS GYERMEKÉTKEZTETÉSI FELADATAI | E39: =E40+E43+E57+E62 -> 231000305 | F39: =F40+F43+F57+F62 -> -32404376 | G39: =G40+G43+G57+G62 -> 198595929 | H39: =H40+H43+H57+H62 -> 14895420 | I39: =I40+I43+I57+I62 -> 213491349 | J39: =J40+J43+J57+J62 -> -540170 | K39: =K40+K43+K57+K62 -> 212951179
A40: Pénzbeli szociális juttatások
A41: Pénzbeli szociális ellátások kiegészítése
A42: Települési önkormányzatok szociális feladatainak egyéb támogatása
A43: Egyes szoc.és gyermekjólétii felad.támog. | E43: =E44+E45+E47+E48+E50+E51+E49+E56 -> 109193010 | F43: =F44+F45+F47+F48+F50+F51+F49+F56 -> -8679780 | G43: =G44+G45+G47+G48+G50+G51+G49+G56 -> 100513230 | H43: =H44+H45+H47+H48+H50+H51+H49+H56+H46+H55 -> 7759300 | I43: =I44+I45+I47+I48+I50+I51+I49+I56+I46+I55 -> 108272530 | J43: =J44+J45+J47+J48+J50+J51+J49+J56+J46+J55 -> -457520 | K43: =K44+K45+K47+K48+K50+K51+K49+K56+K46+K55 -> 107815010
A44: család- és gyermekjóléti szolgálat | C44: =E44/D44 -> 7.6 | D44: 3400000 | E44: 25840000 | F44: 2132000 | G44: =E44+F44 -> 27972000 | I44: =G44+H44 -> 27972000 | K44: =I44+J44 -> 27972000
A45: család- és gyermekjóléti központ | C45: 4.7 | D45: 3300000 | E45: 15510000 | G45: =E45+F45 -> 15510000 | I45: =G45+H45 -> 15510000 | K45: =I45+J45 -> 15510000
A46: család- és gyermekjóléti szolgálat és központ kieg.támogatása | H46: 4013000 | I46: =G46+H46 -> 4013000 | K46: =I46+J46 -> 4013000
A47: szociális étkeztetés | B47: 79 | C47: 79 | D47: 65360 | E47: =C47*D47 -> 5163440 | G47: =E47+F47 -> 5163440 | I47: =G47+H47 -> 5163440 | J47: -457520 | K47: =I47+J47 -> 4705920
A48: házi segítségnyújtás - szociális segítés | B48: 2 | C48: 2 | D48: 25000 | E48: =C48*D48 -> 50000 | F48: -25000 | G48: =E48+F48 -> 25000 | I48: =G48+H48 -> 25000 | K48: =I48+J48 -> 25000
A49: házi segítségnyújtás - személyi gondozás - társuál által történő feladatellátás | B49: 28 | C49: 28 | D49: 429000 | E49: =D49*C49 -> 12012000 | F49: -3432000 | G49: =E49+F49 -> 8580000 | I49: =G49+H49 -> 8580000 | K49: =I49+J49 -> 8580000
A50: időskorúak nappali intézényi ellátása - társulás által történő feladatellátás | B50: 43 | C50: 43 | D50: 285000 | E50: =C50*D50 -> 12255000 | F50: -1140000 | G50: =E50+F50 -> 11115000 | I50: =G50+H50 -> 11115000 | K50: =I50+J50 -> 11115000
A51: Fogyatékos és demens személyek nappali intézményi ellátása | E51: =E52+E53+E54 -> 25920180 | F51: -6214780 | G51: =E51+F51 -> 19705400 | I51: =G51+H51 -> 19705400 | K51: =I51+J51 -> 19705400
A52: fogyatékos személyek nappali intézményi ellátása társulás általi feladatellátás | B52: 20 | C52: 20 | D52: 757900 | E52: =C52*D52 -> 15158000 | F52: -3789500 | G52: =E52+F52 -> 11368500 | I52: =G52+H52 -> 11368500 | K52: =I52+J52 -> 11368500
A53: foglalkoztatási támog-ban részesülő fogyatékos nappali intézményben ellátottak | B53: 17 | C53: 17 | D53: 454740 | E53: =C53*D53 -> 7730580 | F53: -909480 | G53: =E53+F53 -> 6821100 | I53: =G53+H53 -> 6821100 | K53: =I53+J53 -> 6821100
A54: demens személyek nappali intézményi ellátása - társulás által történő feladatellátás | B54: 4 | C54: 4 | D54: 757900 | E54: =C54*D54 -> 3031600 | F54: -1515800 | G54: =E54+F54 -> 1515800 | I54: =G54+H54 -> 1515800 | K54: =I54+J54 -> 1515800
A55: Szoc. És gyeermekjóléti feladatok kieg. támogatás | H55: 3746300 | I55: =G55+H55 -> 3746300 | K55: =I55+J55 -> 3746300
A56: Óvodai és iskolai szociális segítő tevékenység | E56: 12442390 | G56: =E56+F56 -> 12442390 | I56: =G56+H56 -> 12442390 | K56: =I56+J56 -> 12442390
A57: Gyermekétkeztetés támogatása | E57: =E58+E59+E60 -> 80567795 | F57: =F58+F59+F60 -> -21617596 | G57: =E57+F57 -> 58950199 | H57: =H58+H59+H60+H61 -> 3013120 | I57: =G57+H57 -> 61963319 | J57: =J58+J59+J60+J61 -> -82650 | K57: =I57+J57 -> 61880669
A58: Finanszírozás szempontjábol elismert dolgozók bértámogatása | C58: 23.9 | D58: 2200000 | E58: =C58*D58 -> 52580000 | F58: -14916000 | G58: =E58+F58 -> 37664000 | I58: =G58+H58 -> 37664000 | K58: =I58+J58 -> 37664000
A59: Gyermekétkeztetés üzemeltetési támogatása | C59: 1043 | E59: 27819645 | F59: -6701596 | G59: =E59+F59 -> 21118049 | I59: =G59+H59 -> 21118049 | K59: =I59+J59 -> 21118049
A60: A rászoruló gyermekek intézményen kívüli szünidei étkeztetésének támogatása | C60: 590 | D60: 285 | E60: =C60*D60 -> 168150 | G60: =E60+F60 -> 168150 | I60: =G60+H60 -> 168150 | J60: -82650 | K60: =I60+J60 -> 85500
A61: Kiegészítő támogatás | H61: 3013120 | I61: =G61+H61 -> 3013120 | K61: =I61+J61 -> 3013120
A62: Gyermekek napközbeni ellátása | E62: =E64+E65+E63 -> 41239500 | F62: =F64+F65+F63 -> -2107000 | G62: =E62+F62 -> 39132500 | H62: =H63+H64+H65+H66+H67+H68 -> 4123000 | I62: =G62+H62 -> 43255500 | J62: =J63+J64+J65+J66+J67+J68 -> 0 | K62: =I62+J62 -> 43255500
A63: finansz.szempontjából elismert szakmai dolgozók bértámogatása: felsőfokú végzettségű kisgyermeknevelők,szaktanácsadók | C63: 3 | D63: 4419000 | E63: =C63*D63 -> 13257000 | G63: =E63+F63 -> 13257000 | I63: =G63+H63 -> 13257000 | K63: =I63+J63 -> 13257000
A64: finansz.szempontjából elismert szakmai dolgozók bértámogatása: bölcsödei dajkák, középfokú végzettségű kisgyermeknevelők, szaktanácsadók | C64: 5.5 | D64: 2993000 | E64: =C64*D64 -> 16461500 | G64: =E64+F64 -> 16461500 | I64: =G64+H64 -> 16461500 | K64: =I64+J64 -> 16461500
A65: bölcsődei üzemeltetési támogatás | E65: 11521000 | F65: -2107000 | G65: =E65+F65 -> 9414000 | I65: =G65+H65 -> 9414000 | K65: =I65+J65 -> 9414000
A66: Szociális ágazati összevont pótlék | G66: =E66+F66 -> 0 | I66: =G66+H66 -> 0 | K66: =I66+J66 -> 0
A67: Bölcsőde kiegészítő támogatása - bértámogatás | H67: 1252000 | I67: =H67+G67 -> 1252000 | K67: =J67+I67 -> 1252000
A68: Kiegészítő támogatás bölcsődei pótlékra | G68: =E68+F68 -> 0 | H68: 2871000 | I68: =G68+H68 -> 2871000 | K68: =I68+J68 -> 2871000
A70: Kulturális feladatok támogatása | E70: =E71 -> 17059887 | G70: =E70+F70 -> 17059887 | H70: =H71+H72+H73+H74 -> 5863910 | I70: =G70+H70 -> 22923797 | J70: =J71+J72+J73+J74 -> 0 | K70: =I70+J70 -> 22923797
A71: Nyilvános könyvtári és közművelődési feladatok támogatása | C71: =E71/D71 -> 13637 | D71: 1251 | E71: 17059887 | G71: =E71+F71 -> 17059887 | I71: =G71+H71 -> 17059887 | K71: =I71+J71 -> 17059887
A72: Kulturális illetménypótlék | I72: =G72+H72 -> 0 | K72: =I72+J72 -> 0
A73: Könyvtári érdekeltségnövelő támogatás | I73: =G73+H73 -> 0 | K73: =I73+J73 -> 0
A74: Nyilvános könyvtári és közművelődési feladatok kiegészítő támogatása | H74: 5863910 | I74: =G74+H74 -> 5863910 | K74: =I74+J74 -> 5863910
A76: Helyi Önkormányzatok kiegészítő támogatásai (működési) | E76: =SUM(E77:E82) -> 0 | F76: =SUM(F77:F82) -> 20269925 | G76: =SUM(G77:G82) -> 20269925 | H76: =H77+H78+H79+H80+H81+H82+H83 -> 281982288 | I76: =SUM(I77:I83) -> 302252213 | J76: =J77+J78+J79+J80+J81+J82+J83 -> 4257071 | K76: =SUM(K77:K83) -> 306509284
A77: Bérkompenzáció | F77: 1201800 | G77: =F77+E77 -> 1201800 | H77: =357664+176831 -> 534495 | I77: =H77+G77 -> 1736295 | J77: 511326 | K77: =J77+I77 -> 2247621
A78: Kulturális illetménypótlék | F78: 1755855 | G78: =F78+E78 -> 1755855 | H78: =579715+300993 -> 880708 | I78: =H78+G78 -> 2636563 | J78: 870707 | K78: =J78+I78 -> 3507270
A79: Könyvtári érdekeltségnövelő támogatás | F79: 1278000 | G79: =F79+E79 -> 1278000 | I79: =H79+G79 -> 1278000 | K79: =J79+I79 -> 1278000
A80: Szociális ágazati összevont pótlék | F80: 16034270 | G80: =F80+E80 -> 16034270 | H80: =5620003+2664692 -> 8284695 | I80: =H80+G80 -> 24318965 | J80: 8561858 | K80: =J80+I80 -> 32880823
A81: 2019. évi lakosssági víz- és csatornatámogatás | G81: =F81+E81 -> 0 | I81: =H81+G81 -> 0 | J81: 17278800 | K81: =J81+I81 -> 17278800
A82: Közösségi közlekedés támogatása
A83: Idegenforgalmi adóhoz kapcsolódó kiegészítő támogatás | H83: =28282390+244000000 -> 272282390 | I83: =G83+H83 -> 272282390 | J83: -22965620 | K83: =I83+J83 -> 249316770
A85: Elszámolásból származó bevételek
A88: Felhalmozási célú önormányzati támogatások | E88: =SUM(E89:E89) -> 0 | J88: =J89+J90+J91 -> 43215050 | K88: =I88+J88 -> 43215050
A89: Belterületi utak, járdák, hidak felújítása | J89: 39999050 | K89: =I89+J89 -> 39999050
A90: Közművelődési érdekeltségnövelő támogatás | J90: 216000 | K90: =I90+J90 -> 216000
A91: Muzeális intézmények szakmai támogatása (Kubinyi Ágoston Program) | J91: 3000000 | K91: =I91+J91 -> 3000000
A93: Összesen | E93: =E70+E39+E30+E5+E88+E76 -> 756675664 | F93: =F70+F39+F30+F5+F88+F76 -> -191021968 | G93: =G70+G39+G30+G5+G88+G76 -> 565653696 | H93: =H70+H39+H31+H5+H88+H76 -> 322013169 | I93: =I70+I39+I31+I5+I88+I76 -> 1131376499 | J93: =J70+J39+J31+J5+J88+J76 -> 53325781 | K93: =K70+K39+K31+K5+K88+K76 -> 1184702280
K94: =I93-K93 -> -53325781

Sheet 2c. tábla 2020. (2)
C1: ÁLLAMI TÁMOGATÁSOK KÖLTSÉGVETÉSI SZERVENKÉNT 2020 ÉV
A3: Mell. | B3: Sorszám | C3: Megnevezés | D3: Létszám | E3: MUTATÓ | F3: FAJLAGOS | G3: EREDETI EI. | H3: Mutató | I3: I. módosítás | J3: Módosított ei. I. | K3: II. módosítás | L3: Módosított ei. II. | M3: III. módosítás | N3: Módosított ei. III.
A4: 2 | B4: II.1. | C4: Óvodapedagógusok elismert létszáma | D4: 14.2 | E4: 14.2 | F4: 4371500 | G4: =E4*F4 -> 62075300 | H4: 14.1 | I4: -437150 | J4: =I4+G4 -> 61638150 | L4: =J4+K4 -> 61638150 | N4: =L4+M4 -> 61638150
A5: 2 | B5: II.1. | C5: Óvodapedagógusok munkáját kvetlenül segítők | D5: 10 | E5: 10 | F5: 2400000 | G5: =E5*F5 -> 24000000 | H5: 10 | J5: =I5+G5 -> 24000000 | L5: =J5+K5 -> 24000000 | N5: =L5+M5 -> 24000000
A6: 2 | B6: II.2. | C6: Óvodaműködtetési támogatás | D6: =((163*8)+(154*4))/12 -> 160 | E6: 160 | F6: 97400 | G6: =E6*F6 -> 15584000 | H6: 158 | I6: -194800 | J6: =I6+G6 -> 15389200 | L6: =J6+K6 -> 15389200 | M6: -97400 | N6: =L6+M6 -> 15291800
A7: 2 | B7: II.4.a | C7: Pedagógus II. kategóriába sorolt óvodapedagógusok kieg. támog. | E7: 6 | F7: 396700 | G7: =E7*F7 -> 2380200 | H7: 6 | J7: =I7+G7 -> 2380200 | L7: =J7+K7 -> 2380200 | M7: -396700 | N7: =L7+M7 -> 1983500
A8: 2 | B8: II.4.b | C8: Pedagógus II. kategóriába sorolt óvodapedagógusok kieg. támog. | E8: 0 | F8: 363642 | G8: =E8*F8 -> 0 | H8: 2 | I8: 727284 | J8: =I8+G8 -> 727284 | L8: =J8+K8 -> 727284 | N8: =L8+M8 -> 727284
A9: 2 | B9: III. 5.aa | C9: Gyermekétkeztetés támogatása (bértámogatás) | E9: =139/1043*23.9 -> 3.185139 | F9: 2200000 | G9: =E9*F9 -> 7007305.8 | H9: 2.56 | I9: -1367478 | J9: =I9+G9 -> 5639827.8 | L9: =J9+K9 -> 5639827.8 | N9: =L9+M9 -> 5639827.8
A10: 2 | B10: III. 5.ab | C10: Gyermekétkeztetés üzemeltetési támogatása | G10: 6518216 | I10: =J10-G10 -> -1554289 | J10: 4963927 | L10: =J10+K10 -> 4963927 | N10: =L10+M10 -> 4963927
A11: 2 | B11: I.5. | C11: 2019. évről áthúzódó és 2020. évi bérkompenzáció támogatása | J11: =I11+G11 -> 0 | L11: =J11+K11 -> 0 | N11: =L11+M11 -> 0
A12: 2 | B12: II.1. | C12: Kiegészítő támogatás | K12: 8034353 | L12: =J12+K12 -> 8034353 | N12: =L12+M12 -> 8034353
A13: 2 | B13: III. 5.aa | C13: Kiegészítő támogatás intézményi gyermekétkeztetés | K13: =H9*176000 -> 450560 | L13: =J13+K13 -> 450560 | N13: =L13+M13 -> 450560
C14: Balatonfüredi Kiserdei óvoda összesen: | G14: =SUM(G4:G11) -> 1.1756502e+08 | I14: =SUM(I4:I11) -> -2826433 | J14: =I14+G14 -> 1.1473859e+08 | K14: =SUM(K4:K13) -> 8484913 | L14: =J14+K14 -> 1.232235e+08 | M14: =SUM(M4:M13) -> -494100 | N14: =L14+M14 -> 1.227294e+08
A16: 2 | B16: II.1. | C16: Óvodapedagógusok elismert létszáma | D16: 11 | E16: 11 | F16: 4371500 | G16: =E16*F16 -> 48086500 | H16: 10 | I16: -4371500 | J16: =G16+I16 -> 43715000 | L16: =J16+K16 -> 43715000 | M16: 437150 | N16: =L16+M16 -> 44152150
A17: 2 | B17: II.1. | C17: Óvodapedagógusok munkáját kvetlenül segítők | D17: 9 | E17: 9 | F17: 2400000 | G17: =E17*F17 -> 21600000 | H17: 5 | I17: -9600000 | J17: =G17+I17 -> 12000000 | L17: =J17+K17 -> 12000000 | M17: 6480000 | N17: =L17+M17 -> 18480000
A18: 2 | B18: II.2. | C18: Óvodaműködtetési támogatás | D18: 118.65 | E18: 118.65 | F18: 97400 | G18: =E18*F18 -> 11556510 | H18: 108.7 | I18: -969130 | J18: =G18+I18 -> 10587380 | L18: =J18+K18 -> 10587380 | M18: 33116 | N18: =L18+M18 -> 10620496
A19: 2 | B19: II.4.a | C19: Pedagógus II. kategóriába sorolt óvodapedagógusok kieg. támog. | E19: 5 | F19: 396700 | G19: =E19*F19 -> 1983500 | H19: 5 | J19: =G19+I19 -> 1983500 | L19: =J19+K19 -> 1983500 | N19: =L19+M19 -> 1983500
A20: 2 | B20: III. 5.aa | C20: Gyermekétkeztetés támogatása (bértámogatás) | E20: =100/1043*23.9 -> 2.2914669 | F20: 2200000 | G20: =E20*F20 -> 5041227.2 | H20: 2.03 | I20: -560076 | J20: =G20+I20 -> 4481151.2 | L20: =J20+K20 -> 4481151.2 | N20: =L20+M20 -> 4481151.2
A21: 2 | B21: III. 5.ab | C21: Gyermekétkeztetés üzemeltetési támogatása | G21: 5509565 | I21: =J21-G21 -> -893197 | J21: 4616368 | L21: =J21+K21 -> 4616368 | N21: =L21+M21 -> 4616368
A22: 2 | B22: I.5. | C22: 2019. évről áthúzódó és 2020. évi bérkompenzáció támogatása | I22: 34075 | J22: =G22+I22 -> 34075 | K22: =15334 -> 15334 | L22: =J22+K22 -> 49409 | M22: 15246 | N22: =L22+M22 -> 64655
A23: 2 | B23: II.1. | C23: Kiegészítő támogatás | K23: 4659706 | L23: =J23+K23 -> 4659706 | N23: =L23+M23 -> 4659706
A24: 2 | B24: III. 5.aa | C24: Kiegészítő támogatás | K24: =H20*176000 -> 357280 | L24: =J24+K24 -> 357280 | N24: =L24+M24 -> 357280
C25: Balatonfüredi Óvárosi óvoda összesen: | G25: =SUM(G16:G22) -> 93777302 | I25: =SUM(I16:I22) -> -16359828 | J25: =G25+I25 -> 77417474 | K25: =SUM(K16:K24) -> 5032320 | L25: =J25+K25 -> 82449794 | M25: =SUM(M16:M24) -> 6965512 | N25: =L25+M25 -> 89415306
L26: =J26+K26 -> 0 | N26: =L26+M26 -> 0
A27: 2 | B27: II.1. | C27: Óvodapedagógusok elismert létszáma | D27: 6.5 | E27: 6.5 | F27: 4371500 | G27: =(E27*F27) -> 28414750 | H27: 6.5 | J27: =I27+G27 -> 28414750 | L27: =J27+K27 -> 28414750 | N27: =L27+M27 -> 28414750
A28: 2 | B28: II.1. | C28: Óvodapedagógusok munkáját kvetlenül segítők | D28: 5 | E28: 5 | F28: 2400000 | G28: =E28*F28 -> 12000000 | H28: 5 | J28: =I28+G28 -> 12000000 | L28: =J28+K28 -> 12000000 | N28: =L28+M28 -> 12000000
A29: 2 | B29: II.2. | C29: Óvodaműködtetési támogatás | D29: 68.65 | E29: 68.65 | F29: 97400 | G29: =E29*F29 -> 6686510 | H29: 68.7 | J29: =I29+G29 -> 6686510 | L29: =J29+K29 -> 6686510 | M29: -63310 | N29: =L29+M29 -> 6623200
A30: 2 | B30: II.4.a | C30: Pedagógus II. kategóriába sorolt óvodapedagógusok kieg. támog. | E30: 3 | F30: 396700 | G30: =E30*F30 -> 1190100 | H30: 3 | J30: =I30+G30 -> 1190100 | L30: =J30+K30 -> 1190100 | N30: =L30+M30 -> 1190100
A31: 2 | B31: III. 5.aa | C31: Gyermekétkeztetés támogatása (bértámogatás) | E31: =58/1043*23.9 -> 1.3290508 | F31: 2200000 | G31: =E31*F31 -> 2923911.8 | H31: 1.34 | I31: 7682 | J31: =I31+G31 -> 2931593.8 | L31: =J31+K31 -> 2931593.8 | N31: =L31+M31 -> 2931593.8
A32: 2 | B32: III. 5.ab | C32: Gyermekétkeztetés üzemeltetési támogatása | G32: 2753521 | I32: =J32-G32 -> 45796 | J32: 2799317 | L32: =J32+K32 -> 2799317 | N32: =L32+M32 -> 2799317
A33: 2 | B33: I.5. | C33: 2019. évről áthúzódó és 2020. évi bérkompenzáció támogatása | J33: =I33+G33 -> 0 | L33: =J33+K33 -> 0 | N33: =L33+M33 -> 0
A34: 2 | B34: II.1. | C34: Kiegészítő támogatás | K34: 3892975 | L34: =J34+K34 -> 3892975 | N34: =L34+M34 -> 3892975
A35: 2 | B35: III. 5.aa | K35: =H31*176000 -> 235840 | L35: =J35+K35 -> 235840 | N35: =L35+M35 -> 235840
C36: Balatonfüredi Tündérkert óvoda összesen: | G36: =SUM(G27:G33) -> 53968793 | I36: =SUM(I27:I33) -> 53478 | J36: =I36+G36 -> 54022271 | K36: =SUM(K27:K35) -> 4128815 | L36: =J36+K36 -> 58151086 | M36: =SUM(M27:M35) -> -63310 | N36: =L36+M36 -> 58087776
L37: =J37+K37 -> 0 | N37: =L37+M37 -> 0
A38: 2 | B38: II.1. | C38: Óvodapedagógusok elismert létszáma (8 hó) | D38: 3.2 | E38: 3.2 | F38: 4371500 | G38: =E38*F38 -> 13988800 | H38: 3.3 | I38: 437150 | J38: =G38+I38 -> 14425950 | L38: =J38+K38 -> 14425950 | N38: =L38+M38 -> 14425950
A39: 2 | B39: II.1. | C39: Óvodapedagógusok munkáját kvetlenül segítők (8 hó) | D39: 2 | E39: 2 | F39: 2400000 | G39: =E39*F39 -> 4800000 | H39: 2 | J39: =G39+I39 -> 4800000 | L39: =J39+K39 -> 4800000 | N39: =L39+M39 -> 4800000
A40: 2 | B40: II.2. | C40: Óvodaműködtetési támogatás | D40: 34 | E40: 34 | F40: 97400 | G40: =E40*F40 -> 3311600 | H40: 34.7 | I40: 63310 | J40: =G40+I40 -> 3374910 | L40: =J40+K40 -> 3374910 | M40: 974 | N40: =L40+M40 -> 3375884
A41: 2 | B41: II.4.a | C41: Pedagógus II. kategóriába sorolt óvodapedagógusok kieg. támog. | E41: 1 | F41: 396700 | G41: =E41*F41 -> 396700 | H41: 1 | J41: =G41+I41 -> 396700 | L41: =J41+K41 -> 396700 | N41: =L41+M41 -> 396700
A42: 2 | B42: II.4.b | C42: Pedagógus II. kategóriába sorolt óvodapedagógusok kieg. támog. | E42: 0 | F42: 363642 | G42: =E42*F42 -> 0 | J42: =G42+I42 -> 0 | L42: =J42+K42 -> 0 | N42: =L42+M42 -> 0
A43: 2 | B43: III. 5.aa | C43: Gyermekétkeztetés támogatása (bértámogatás) | E43: =29/1043*23.9 -> 0.66452541 | F43: 2200000 | G43: =E43*F43 -> 1461955.9 | H43: 0.61 | I43: -135759 | J43: =G43+I43 -> 1326196.9 | L43: =J43+K43 -> 1326196.9 | N43: =L43+M43 -> 1326196.9
A44: 2 | B44: III. 5.ab | C44: Gyermekétkeztetés üzemeltetési támogatása | G44: 1661233 | I44: =J44-G44 -> -239763 | J44: 1421470 | L44: =J44+K44 -> 1421470 | N44: =L44+M44 -> 1421470
A45: 2 | B45: I.5. | C45: 2019. évről áthúzódó és 2020. évi bérkompenzáció támogatása | J45: =G45+I45 -> 0 | L45: =J45+K45 -> 0 | N45: =L45+M45 -> 0
A46: 2 | B46: II.1. | C46: Kiegészítő támogatás | K46: 1699482 | L46: =J46+K46 -> 1699482 | N46: =L46+M46 -> 1699482
A47: 2 | B47: III. 5.aa | C47: Kiegészítő támogatás | K47: =H43*176000 -> 107360 | L47: =J47+K47 -> 107360 | N47: =L47+M47 -> 107360
C48: Kökörcsin Tagóvoda összesen: | G48: =SUM(G38:G45) -> 25620289 | I48: =SUM(I38:I45) -> 124938 | J48: =G48+I48 -> 25745227 | K48: =SUM(K38:K47) -> 1806842 | L48: =J48+K48 -> 27552069 | M48: =SUM(M38:M47) -> 974 | N48: =L48+M48 -> 27553043
L49: =J49+K49 -> 0 | N49: =L49+M49 -> 0
A50: Mell. | B50: Sorszám | C50: Megnevezés | E50: MUTATÓ | F50: FAJLAGOS | G50: EREDETI EI. | H50: Mutató | I50: I. módosítás | J50: Módosított ei. I. | K50: II. módosítás | L50: Módosított ei. II. | M50: III. módosítás | N50: Módosított ei. III.
A51: 2 | B51: III.6. a (1) | C51: Finansz.szempontjából elismert szakmai dolgozók bértámogatása: felsőfokú végzettségű kisgyermeknevelők,szaktanácsadók | E51: 3 | F51: ='[4]2b. tábla (3)'!D60 -> 4419000 | G51: =F51*E51 -> 13257000 | H51: 3 | J51: =G51+I51 -> 13257000 | L51: =J51+K51 -> 13257000 | N51: =L51+M51 -> 13257000
A52: 2 | B52: III.6. a (2) | C52: Finansz.szempontjából elismert szakmai dolgozók bértámogatása: bölcsödei dajkák, középfokú végzettségű kisgyermeknevelők, szaktanácsadók | E52: 5.5 | F52: ='[4]2b. tábla (3)'!D61 -> 2993000 | G52: =F52*E52 -> 16461500 | H52: 5.5 | J52: =G52+I52 -> 16461500 | L52: =J52+K52 -> 16461500 | N52: =L52+M52 -> 16461500
A53: 2 | B53: III.6. b. | C53: bölcsődei üzemeltetési támogatás | G53: 11521000 | I53: -2107000 | J53: =G53+I53 -> 9414000 | L53: =J53+K53 -> 9414000 | N53: =L53+M53 -> 9414000
A54: 2 | B54: III. 5.aa | C54: Gyermekétkeztetés támogatása (bértámogatás) | E54: =37/1043*23.9 -> 0.84784276 | F54: 2200000 | G54: =E54*F54 -> 1865254.1 | H54: 0.79 | I54: -134218 | J54: =G54+I54 -> 1731036.1 | L54: =J54+K54 -> 1731036.1 | N54: =L54+M54 -> 1731036.1
A55: 2 | B55: III. 5.ab | C55: Gyermekétkeztetés üzemeltetési támogatása | G55: 2060701 | I55: =J55-G55 -> -239439 | J55: 1821262 | L55: =J55+K55 -> 1821262 | N55: =L55+M55 -> 1821262
A56: 2 | B56: I.5. | C56: 2019. évről áthúzódó és 2020. évi bérkompenzáció támogatása | I56: 80136 | J56: =G56+I56 -> 80136 | K56: =24232+12012 -> 36244 | L56: =J56+K56 -> 116380 | M56: 36036 | N56: =L56+M56 -> 152416
A57: 2 | B57: III.1. | C57: Szociális ágazati összevont pótlék | I57: 192551 | J57: =G57+I57 -> 192551 | K57: =44260+21940 -> 66200 | L57: =J57+K57 -> 258751 | M57: 65820 | N57: =L57+M57 -> 324571
C58: Kiegészítő támogatás | K58: 1252000 | L58: =J58+K58 -> 1252000 | N58: =L58+M58 -> 1252000
C59: Kiegészítő támogatás | K59: 2871000 | L59: =J59+K59 -> 2871000 | N59: =L59+M59 -> 2871000
A60: 2 | B60: III. 5.aa | C60: Kiegészítő támogatás | K60: =H54*176000 -> 139040 | L60: =J60+K60 -> 139040 | N60: =L60+M60 -> 139040
C61: Balatonfüredi Városi Bölcsőde | G61: =SUM(G51:G57) -> 45165455 | I61: =SUM(I51:I57) -> -2207970 | J61: =G61+I61 -> 42957485 | K61: =SUM(K51:K60) -> 4364484 | L61: =J61+K61 -> 47321969 | M61: =SUM(M51:M60) -> 101856 | N61: =L61+M61 -> 47423825
L62: =J62+K62 -> 0 | N62: =L62+M62 -> 0
B63: III.3. | C63: Egyes szociális és gyermekjóléti feladatok támog. | L63: =J63+K63 -> 0 | N63: =L63+M63 -> 0
A64: 2 | B64: III.3. a. | C64: család- és gyermekjóléti szolgálat | E64: 7.6 | F64: 3400000 | G64: 25840000 | H64: 7.4 | I64: 2132000 | J64: =I64+G64 -> 27972000 | L64: =J64+K64 -> 27972000 | N64: =L64+M64 -> 27972000
A65: 2 | B65: III.3. b. | C65: család- és gyermekjóléti központ | E65: 4.7 | F65: 3300000 | G65: =E65*F65 -> 15510000 | H65: 4.7 | J65: =I65+G65 -> 15510000 | L65: =J65+K65 -> 15510000 | N65: =L65+M65 -> 15510000
A66: 2 | B66: III.3. c. | C66: szociális étkeztetés | E66: 79 | F66: 65360 | G66: =E66*F66 -> 5163440 | H66: 79 | J66: =I66+G66 -> 5163440 | L66: =J66+K66 -> 5163440 | M66: -457520 | N66: =L66+M66 -> 4705920
A67: 2 | B67: III.3. da | C67: házi segítségnyújtás - szociális segítés | E67: 2 | F67: 25000 | G67: =E67*F67 -> 50000 | H67: 1 | I67: -25000 | J67: =I67+G67 -> 25000 | L67: =J67+K67 -> 25000 | N67: =L67+M67 -> 25000
A68: 2 | B68: III.3. db | C68: házi segítségnyújtás - személyi gondozás - társuál által történő feladatellátás | E68: 28 | F68: 429000 | G68: =F68*E68 -> 12012000 | H68: 20 | I68: -3432000 | J68: =I68+G68 -> 8580000 | L68: =J68+K68 -> 8580000 | N68: =L68+M68 -> 8580000
A69: 2 | B69: III.3. f. | C69: időskorúak nappali intézényi ellátása - társulás által történő feladatellátás | E69: 43 | F69: 285000 | G69: =F69*E69 -> 12255000 | H69: 39 | I69: -1140000 | J69: =I69+G69 -> 11115000 | L69: =J69+K69 -> 11115000 | N69: =L69+M69 -> 11115000
A70: 2 | B70: III.3. g. | C70: Fogyatékos és demens személyek nappali intézményi ellátása | G70: =G71+G72+G73 -> 25920180 | H70: =H71+H72+H73 -> 32 | I70: =I71+I72+I73 -> -6214780 | J70: =I70+G70 -> 19705400 | L70: =J70+K70 -> 19705400 | N70: =L70+M70 -> 19705400
A71: 2 | B71: III.3. g(2) | C71: fogyatékos személyek nappali intézményi ellátása | E71: 20 | F71: 757900 | G71: =F71*E71 -> 15158000 | H71: 15 | I71: -3789500 | J71: =I71+G71 -> 11368500 | L71: =J71+K71 -> 11368500 | N71: =L71+M71 -> 11368500
B72: III.3. g (4) | C72: foglalkoztatási támog-ban részesülő fogyatékos nappali intézményben ellátottak | E72: 17 | F72: 454740 | G72: =F72*E72 -> 7730580 | H72: 15 | I72: -909480 | J72: =I72+G72 -> 6821100 | L72: =J72+K72 -> 6821100 | N72: =L72+M72 -> 6821100
A73: 2 | B73: III.3. g (6) | C73: demens személyek nappali int-i ellát - társulás által történő feladatellátás | E73: 4 | F73: 757900 | G73: =F73*E73 -> 3031600 | H73: 2 | I73: -1515800 | J73: =I73+G73 -> 1515800 | L73: =J73+K73 -> 1515800 | N73: =L73+M73 -> 1515800
A74: 2 | B74: III.3. n. | C74: Óvodai és iskolai szociális segítő tevékenység | G74: 12442390 | J74: =I74+G74 -> 12442390 | L74: =J74+K74 -> 12442390 | N74: =L74+M74 -> 12442390
A75: 2 | B75: I.5. | C75: 2019. évről áthúzódó és 2020. évi bérkompenzáció támogatása | I75: 651658 | J75: =I75+G75 -> 651658 | K75: =206204+102217 -> 308421 | L75: =J75+K75 -> 960079 | M75: 287840 | N75: =L75+M75 -> 1247919
A76: 2 | B76: III.1. | C76: Szociális ágazati összevont pótlék | I76: 15841719 | J76: =I76+G76 -> 15841719 | K76: =5575743+2642752 -> 8218495 | L76: =J76+K76 -> 24060214 | M76: 8496038 | N76: =L76+M76 -> 32556252
C77: Kiegészítő támogatás | K77: 7759300 | L77: =J77+K77 -> 7759300 | N77: =L77+M77 -> 7759300
A78: 2 | C78: Balatonfüredi Szociális Alapszolgáltatási Központ összesen: | G78: =G64+G65+G66+G67+G69+G70+G68+G75+G76+G74 -> 109193010 | I78: =I64+I65+I66+I67+I69+I70+I68+I75+I76+I74 -> 7813597 | J78: =I78+G78 -> 117006607 | K78: =K64+K65+K66+K67+K69+K70+K68+K75+K76+K74+K77 -> 16286216 | L78: =J78+K78 -> 133292823 | M78: =M64+M65+M66+M67+M69+M70+M68+M75+M76+M74+M77 -> 8326358 | N78: =L78+M78 -> 141619181
J79: =I79+G79 -> 0 | L79: =J79+K79 -> 0 | N79: =L79+M79 -> 0
A80: 2 | B80: I.1.a. | C80: Önkormányzati hivatal működtetésének támogatás | E80: 39.18 | F80: 4580000 | G80: =E80*F80 -> 179444400 | I80: 35293127 | J80: =I80+G80 -> 214737527 | L80: =J80+K80 -> 214737527 | N80: =L80+M80 -> 214737527
B81: I.5. | C81: 2019. évről áthúzódó és 2020. évi bérkompenzáció támogatása | I81: 41361 | J81: =I81+G81 -> 41361 | L81: =J81+K81 -> 41361 | N81: =L81+M81 -> 41361
C82: Kiegészítő támogatás | K82: 985035 | L82: =J82+K82 -> 985035 | N82: =L82+M82 -> 985035
C83: Balatonfüredi Közös Önkormányzati Hivatal összesen: | G83: =G80+G81 -> 179444400 | H83: =H80+H81 -> 0 | I83: =I80+I81 -> 35334488 | J83: =I83+G83 -> 214778888 | K83: =K80+K81+K82 -> 985035 | L83: =J83+K83 -> 215763923 | M83: =M80+M81+M82 -> 0 | N83: =L83+M83 -> 215763923
L84: =J84+K84 -> 0 | N84: =L84+M84 -> 0
A85: 2 | B85: IV. 1.b. | C85: Nyilvános könyvtári feladatok támogatása | E85: 13637 | F85: 1251 | G85: =E85*F85 -> 17059887 | H85: 1251 | J85: =I85+G85 -> 17059887 | L85: =J85+K85 -> 17059887 | N85: =L85+M85 -> 17059887
A86: 2 | B86: IV.1.i. | C86: Könyvtári érdekeltségnövelő | I86: 1278000 | J86: =I86+G86 -> 1278000 | L86: =J86+K86 -> 1278000 | N86: =L86+M86 -> 1278000
A87: 2 | B87: I.5. | C87: 2019. évről áthúzódó és 2020. évi bérkompenzáció támogatása | I87: 31491 | J87: =I87+G87 -> 31491 | K87: =7464+3234 -> 10698 | L87: =J87+K87 -> 42189 | M87: 9698 | N87: =L87+M87 -> 51887
A88: 2 | B88: IV.3. | C88: Kulturális illetménypótlék | I88: 1755855 | J88: =I88+G88 -> 1755855 | K88: =579715+300993 -> 880708 | L88: =J88+K88 -> 2636563 | M88: 870707 | N88: =L88+M88 -> 3507270
C89: Kiegészítő támogatás | K89: 5863910 | L89: =J89+K89 -> 5863910 | N89: =L89+M89 -> 5863910
C90: Lipták Gábor Városi Könyvtár összesen: | G90: =G85+G86+G87+G88 -> 17059887 | I90: =I85+I86+I87+I88 -> 3065346 | J90: =I90+G90 -> 20125233 | K90: =K85+K86+K87+K88+K89 -> 6755316 | L90: =J90+K90 -> 26880549 | M90: =M85+M86+M87+M88+M89 -> 880405 | N90: =L90+M90 -> 27760954
L91: =J91+K91 -> 0 | N91: =L91+M91 -> 0
A92: 2. | B92: I.5. | C92: 2019. évről áthúzódó és 2020. évi bérkompenzáció támogatása | I92: 363079 | J92: =I92+G92 -> 363079 | K92: =109512+54286 -> 163798 | L92: =J92+K92 -> 526877 | M92: =54286+54286+53939 -> 162511 | N92: =L92+M92 -> 689388
C93: Balatonfüredi Városi Szakorvosi Rendelőintézet | G93: =G92 -> 0 | H93: =H92 -> 0 | I93: =I92 -> 363079 | J93: =J92 -> 363079 | K93: =K92 -> 163798 | L93: =J93+K93 -> 526877 | M93: =M92 -> 162511 | N93: =L93+M93 -> 689388
L94: =J94+K94 -> 0 | N94: =L94+M94 -> 0
A95: Mell. | B95: Sorszám | C95: Megnevezés | E95: MUTATÓ | F95: FAJLAGOS | G95: EREDETI EI. | H95: Mutató | I95: I. módosítás | J95: Módosított ei. I. | K95: II. módosítás | L95: Módosított ei. II. | M95: III. módosítás | N95: Módosított ei. III.
C96: Települési önkormányzatok szociális feladatainak egyéb támogatása
A97: 2 | B97: I.1.b. | C97: Település üz-hez kapcsolódó feladatellát.támog. | G97: =G98+G99+G100+G101 -> 0
A98: 2 | B98: I.1.ba. | C98: Zöldterület-gazdálk-al kapcsolatos feladatok ellátásának támog. | G98: 0
A99: 2 | B99: I.1.bb. | C99: Közvilágítás fenntartásának támogatás | G99: 0
A100: 2 | B100: I.1.bc. | C100: Köztemető fenntartással kapcsolatos feladatok támog. | G100: 0
A101: 2 | B101: I.1.bd. | C101: Közutak fenntartásának támogatás | G101: 0
A102: 2 | B102: I.1.c. | C102: Egyéb önkormányzati feladatok támogatása | G102: 0
...

Sheet 3.sz. tábla  (2)
A3: BALATONFÜRED VÁROS ÖNKORMÁNYZAT BEVÉTELI ELŐIRÁNYZATAI KÖLTSÉGVETÉSI SZERVEK SZERINTI BONTÁSBAN 2020. ÉV | R3: BALATONFÜRED VÁROS ÖNKORMÁNYZAT BEVÉTELI ELŐIRÁNYZATAI KÖLTSÉGVETÉSI SZERVEK SZERINTI BONTÁSBAN 2020. ÉV
A6: MEGNEVEZÉS | B6: ÁLLAMI TÁMOGATÁS | F6: ÖNKORMÁNYZATI TÁMOGATÁS | J6: IRÁNYÍTÓ SZERVTŐL KAPOTT TÁMOGATÁS | N6: SAJÁT BEVÉTEL | R6: MEGNEVEZÉS | S6: MARADVÁNY IGÉNYBEVÉTEL | W6: FINANSZÍROZÁSI CÉLÚ BEVÉTELEK | AA6: BEVÉTELEK ÖSSZESEN | AE6: 2020. ÉV
AE7: Kötelező feladatok | AF7: Önként vállalt feladatok | AH7: Államigazgatási feladatok
B8: 2020. évi eredeti ei. | C8: 2020. évi módosított ei. II. | D8: 2020. évi módosított ei. III. | E8: Eltérés | F8: 2020. évi eredeti ei. | G8: 2020. évi módosított ei. II. | H8: 2020. évi módosított ei. III. | I8: Eltérés | J8: 2020. évi eredeti ei. | K8: 2020. évi módosított ei. II. | L8: 2020. évi módosított ei. III. | M8: Eltérés | N8: 2020. évi eredeti ei. | O8: 2020. évi módosított ei. II. | P8: 2020. évi módosított ei. III. | Q8: Eltérés | S8: 2020. évi eredeti ei. | T8: 2020. évi módosított ei. II. | U8: 2020. évi módosított ei. III. | V8: Eltérés | W8: 2020. évi eredeti ei. | X8: 2020. évi módosított ei. II. | Y8: 2020. évi módosított ei. III. | Z8: Eltérés | AA8: 2020. évi eredeti ei. | AB8: 2020. évi módosított ei. II. | AC8: 2020. évi módosított ei. III. | AD8: Eltérés | AF8: Állami támogatás, saját bevétel és költségvetési maradvány | AG8: Önkormányzati támogatás | AH8: Állami támogatás, saját bevétel és költségvetési maradvány | AI8: Önkormányzati támogatás
A9: Lipták Gábor Városi Könyvtár | B9: 17059887 | C9: ='2c. tábla 2020. (2)'!L90 -> 26880549 | D9: ='2c. tábla 2020. (2)'!N90 -> 27760954 | E9: =D9-C9 -> 880405 | F9: 40080381 | G9: 19471203 | H9: 19933186 | I9: =H9-G9 -> 461983 | J9: =B9+F9 -> 57140268 | K9: =C9+G9 -> 46351752 | L9: =D9+H9 -> 47694140 | M9: =L9-K9 -> 1342388 | N9: ='2.a tábla ÚJ '!B44 -> 7301488 | O9: ='2.a tábla ÚJ '!C44 -> 16761488 | P9: ='2.a tábla ÚJ '!D44 -> 16761488 | Q9: =P9-O9 -> 0 | R9: Lipták Gábor Városi Könyvtár | S9: ='2.a tábla ÚJ '!B46 -> 10526479 | T9: ='2.a tábla ÚJ '!C46 -> 12932260 | U9: ='2.a tábla ÚJ '!D46 -> 12932260 | V9: =U9-T9 -> 0 | AA9: =J9+N9+S9+W9 -> 74968235 | AB9: =K9+O9+T9+X9 -> 76045500 | AC9: =L9+P9+U9+Y9 -> 77387888 | AD9: =AC9-AB9 -> 1342388 | AE9: =AC9 -> 77387888 | AJ9: =SUM(AE9:AI9) -> 77387888
A10: Balatonfüredi Városi Szakorvosi Rendelőintézet | B10: 0 | C10: ='2c. tábla 2020. (2)'!L93 -> 526877 | D10: ='2c. tábla 2020. (2)'!N93 -> 689388 | E10: =D10-C10 -> 162511 | F10: 79366730 | G10: 71317447 | H10: 70800924 | I10: =H10-G10 -> -516523 | J10: =B10+F10 -> 79366730 | K10: =C10+G10 -> 71844324 | L10: =D10+H10 -> 71490312 | M10: =L10-K10 -> -354012 | N10: ='2.a tábla ÚJ '!F44 -> 181933270 | O10: ='2.a tábla ÚJ '!G44 -> 200613219 | P10: ='2.a tábla ÚJ '!H44 -> 201713219 | Q10: =P10-O10 -> 1100000 | R10: Balatonfüredi Városi Szakorvosi Rendelőintézet | S10: ='2.a tábla ÚJ '!F46 -> 0 | T10: ='2.a tábla ÚJ '!G46 -> 11085110 | U10: ='2.a tábla ÚJ '!H46 -> 11085110 | V10: =U10-T10 -> 0 | AA10: =J10+N10+S10+W10 -> 261300000 | AB10: =K10+O10+T10+X10 -> 283542653 | AC10: =L10+P10+U10+Y10 -> 284288641 | AD10: =AC10-AB10 -> 745988 | AE10: =155111872+62161+17500000+39753+3062500+1566084+330200-83990+1100000-354012 -> 178334568 | AF10: =86619000-2882551+86128+84015+1000000+83990 -> 84990582 | AG10: =19569128-86128-84015+1564506 -> 20963491 | AJ10: =SUM(AE10:AI10) -> 284288641
A11: Balatonfüredi Városi Bölcsőde | B11: 45165455 | C11: ='2c. tábla 2020. (2)'!L61 -> 47321969 | D11: ='2c. tábla 2020. (2)'!N61 -> 47423825 | E11: =D11-C11 -> 101856 | F11: 23803251 | G11: 17401734 | H11: 17384789 | I11: =H11-G11 -> -16945 | J11: =B11+F11 -> 68968706 | K11: =C11+G11 -> 64723703 | L11: =D11+H11 -> 64808614 | M11: =L11-K11 -> 84911 | N11: ='2.a tábla ÚJ '!J44 -> 4433568 | O11: ='2.a tábla ÚJ '!K44 -> 4163568 | P11: ='2.a tábla ÚJ '!L44 -> 4163568 | Q11: =P11-O11 -> 0 | R11: Balatonfüredi Városi Bölcsőde | S11: ='2.a tábla ÚJ '!J46 -> 178958 | T11: ='2.a tábla ÚJ '!K46 -> 4864290 | U11: ='2.a tábla ÚJ '!L46 -> 4864290 | V11: =U11-T11 -> 0 | AA11: =J11+N11+S11+W11 -> 73581232 | AB11: =K11+O11+T11+X11 -> 73751561 | AC11: =L11+P11+U11+Y11 -> 73836472 | AD11: =AC11-AB11 -> 84911 | AE11: =AC11-AG11 -> 69632558 | AF11: 0 | AG11: ='4.sz.tábla '!AX8 -> 4203914 | AJ11: =SUM(AE11:AI11) -> 73836472
A12: Intézmények összesen: | B12: =B9+B10+B11 -> 62225342 | C12: =C9+C10+C11 -> 74729395 | D12: =D9+D10+D11 -> 75874167 | E12: =D12-C12 -> 1144772 | F12: =F9+F10+F11 -> 143250362 | G12: =G9+G10+G11 -> 108190384 | H12: =H9+H10+H11 -> 108118899 | I12: =H12-G12 -> -71485 | J12: =B12+F12 -> 205475704 | K12: =C12+G12 -> 1.8291978e+08 | L12: =D12+H12 -> 1.8399307e+08 | M12: =L12-K12 -> 1073287 | N12: =N9+N10+N11 -> 193668326 | O12: =O9+O10+O11 -> 221538275 | P12: =P9+P10+P11 -> 222638275 | Q12: =P12-O12 -> 1100000 | R12: Intézmények összesen: | S12: =S9+S10+S11 -> 10705437 | T12: =T9+T10+T11 -> 28881660 | U12: =U9+U10+U11 -> 28881660 | V12: =U12-T12 -> 0 | AA12: =AA9+AA10+AA11 -> 409849467 | AB12: =AB9+AB10+AB11 -> 4.3333971e+08 | AC12: =AC9+AC10+AC11 -> 4.35513e+08 | AD12: =AC12-AB12 -> 2173287 | AE12: =SUM(AE9:AE11) -> 3.2535501e+08 | AF12: =SUM(AF9:AF11) -> 84990582 | AG12: =SUM(AG9:AG11) -> 25167405 | AI12: =SUM(AI9:AI11) -> 0 | AJ12: =SUM(AE12:AI12) -> 4.35513e+08
A13: Balatonfüredi Közös Önkormányzati Hivatal | B13: 179444400 | C13: ='2c. tábla 2020. (2)'!L83 -> 215763923 | D13: ='2c. tábla 2020. (2)'!N83 -> 215763923 | E13: =D13-C13 -> 0 | F13: ='2.a tábla ÚJ '!S50-'3.sz. tábla (2)'!B13 -> 238927075 | G13: ='2.a tábla ÚJ '!T50-'3.sz. tábla (2)'!C13 -> 187699522 | H13: ='2.a tábla ÚJ '!U50-'3.sz. tábla (2)'!D13 -> 181964040 | I13: =H13-G13 -> -5735482 | J13: =B13+F13 -> 418371475 | K13: =C13+G13 -> 403463445 | L13: =D13+H13 -> 397727963 | M13: =L13-K13 -> -5735482 | N13: ='2.a tábla ÚJ '!S44 -> 64232559 | O13: ='2.a tábla ÚJ '!T44 -> 58040385 | P13: ='2.a tábla ÚJ '!U44 -> 58166385 | Q13: =P13-O13 -> 126000 | R13: Balatonfüredi Közös Önkormányzati Hivatal | S13: ='2.a tábla ÚJ '!S46 -> 0 | T13: ='2.a tábla ÚJ '!T46 -> 35572714 | U13: ='2.a tábla ÚJ '!U46 -> 35572714 | V13: =U13-T13 -> 0 | AA13: =J13+N13+S13+W13 -> 482604034 | AB13: =K13+O13+T13+X13 -> 497076544 | AC13: =L13+P13+U13+Y13 -> 491467062 | AD13: =AC13-AB13 -> -5609482 | AE13: ='4.sz.tábla '!AW10 -> 388760646 | AF13: 0 | AG13: ='4.sz.tábla '!AX10 -> 11662924 | AH13: ='9. sz. tábla (2)'!C84+'9. sz. tábla (2)'!C93 -> 58878245 | AI13: ='4.sz.tábla '!AY10-'3.sz. tábla (2)'!AH14 -> 32165247 | AJ13: =SUM(AE13:AI13) -> 491467062
A14: Költségvetési szervek összesen: | B14: =SUM(B12:B13) -> 241669742 | C14: =SUM(C12:C13) -> 2.9049332e+08 | D14: =SUM(D12:D13) -> 2.9163809e+08 | E14: =D14-C14 -> 1144772 | F14: =SUM(F12:F13) -> 382177437 | G14: =SUM(G12:G13) -> 295889906 | H14: =SUM(H12:H13) -> 290082939 | I14: =H14-G14 -> -5806967 | J14: =SUM(J12:J13) -> 623847179 | K14: =SUM(K12:K13) -> 5.8638322e+08 | L14: =SUM(L12:L13) -> 5.8172103e+08 | M14: =L14-K14 -> -4662195 | N14: =SUM(N12:N13) -> 257900885 | O14: =SUM(O12:O13) -> 279578660 | P14: =SUM(P12:P13) -> 280804660 | Q14: =P14-O14 -> 1226000 | R14: Költségvetési szervek összesen: | S14: =SUM(S12:S13) -> 10705437 | T14: =SUM(T12:T13) -> 64454374 | U14: =SUM(U12:U13) -> 64454374 | V14: =U14-T14 -> 0 | AA14: =SUM(AA12:AA13) -> 892453501 | AB14: =SUM(AB12:AB13) -> 9.3041626e+08 | AC14: =SUM(AC12:AC13) -> 9.2698006e+08 | AD14: =AC14-AB14 -> -3436195 | AE14: =SUM(AE12:AE13) -> 7.1411566e+08 | AF14: =SUM(AF12:AF13) -> 84990582 | AG14: =SUM(AG12:AG13) -> 36830329 | AH14: =SUM(AH12:AH13) -> 58878245 | AI14: =SUM(AI12:AI13) -> 32165247 | AJ14: =SUM(AE14:AI14) -> 9.2698006e+08
A15: Önkormányzat | B15: 773060392 | C15: =C18-C14 -> 8.4088318e+08 | D15: =D18-D14 -> 8.9306419e+08 | E15: =D15-C15 -> 52181009 | F15: =-F14 -> -382177437 | G15: =-G14 -> -295889906 | H15: =-H14 -> -290082939 | I15: =H15-G15 -> 5806967 | M15: =L15-K15 -> 0 | N15: ='2.sz.tábla (2)'!B92-'2.sz.tábla (2)'!B75-'2.sz.tábla (2)'!B8 -> 8404882840 | O15: ='2.sz.tábla (2)'!C92-'2.sz.tábla (2)'!C75-'2.sz.tábla (2)'!C8-'2.sz.tábla (2)'!C23 -> 9974467069 | P15: ='2.sz.tábla (2)'!D92-'2.sz.tábla (2)'!D75-'2.sz.tábla (2)'!D8-'2.sz.tábla (2)'!D23 -> 9503127538 | Q15: =P15-O15 -> -471339531 | R15: Önkormányzat | S15: ='2.sz.tábla (2)'!B76 -> 2863791597 | T15: ='2.sz.tábla (2)'!C76 -> 3054641190 | U15: ='2.sz.tábla (2)'!D76 -> 3054641190 | V15: =U15-T15 -> 0 | W15: ='2.sz.tábla (2)'!B79 -> 438387185 | X15: ='2.sz.tábla (2)'!C79 -> 2302112000 | Y15: ='2.sz.tábla (2)'!D79 -> 2302112000 | Z15: =Y15-X15 -> 0 | AA15: =J15+N15+S15+W15+F15+B15 -> 12097944577 | AB15: =K15+O15+T15+X15+G15+C15 -> 1.5876214e+10 | AC15: =L15+P15+U15+Y15+H15+D15 -> 1.5462862e+10 | AD15: =AC15-AB15 -> -413351555
A16: Mindösszesen: | B16: =SUM(B14:B15) -> 1014730134 | C16: =SUM(C14:C15) -> 1131376499 | D16: =SUM(D14:D15) -> 1184702280 | E16: =D16-C16 -> 53325781 | F16: =SUM(F14:F15) -> 0 | J16: =SUM(J14:J15) -> 623847179 | K16: =SUM(K14:K15) -> 5.8638322e+08 | L16: =SUM(L14:L15) -> 5.8172103e+08 | M16: =L16-K16 -> -4662195 | N16: =SUM(N14:N15) -> 8662783725 | O16: =SUM(O14:O15) -> 10254045729 | P16: =SUM(P14:P15) -> 9783932198 | Q16: =P16-O16 -> -470113531 | R16: Mindösszesen: | S16: =SUM(S14:S15) -> 2874497034 | T16: =SUM(T14:T15) -> 3119095564 | U16: =SUM(U14:U15) -> 3119095564 | V16: =U16-T16 -> 0 | W16: =SUM(W14:W15) -> 438387185 | X16: =SUM(X14:X15) -> 2302112000 | Y16: =SUM(Y14:Y15) -> 2302112000 | Z16: =SUM(Z14:Z15) -> 0 | AA16: =SUM(AA14:AA15) -> 12990398078 | AB16: =SUM(AB14:AB15) -> 16806629792 | AC16: =SUM(AC14:AC15) -> 16389842042 | AD16: =AC16-AB16 -> -416787750
AD17: ='2.sz.tábla (2)'!Q92 -> -416008364
B18: 1008634125 | C18: ='2c. tábla 2020. (2)'!L119 -> 1131376499 | D18: 1184702280 | AD18: =AD16-AD17 -> -779386

Sheet 4.sz.tábla 
A2: AZ ÖNKORMÁNYZAT KIADÁSI ELŐIRÁNYZATAI KÖLTSÉGVETÉSI SZERVEK SZERINTI BONTÁSBAN KIEMELT ELŐIRÁNYZATONKÉNT 2020. ÉV | N2: AZ ÖNKORMÁNYZAT KIADÁSI ELŐIRÁNYZATAI KÖLTSÉGVETÉSI SZERVEK SZERINTI BONTÁSBAN KIEMELT ELŐIRÁNYZATONKÉNT 2020. ÉV | AA2: AZ ÖNKORMÁNYZAT KIADÁSI ELŐIRÁNYZATAI KÖLTSÉGVETÉSI SZERVEK SZERINTI BONTÁSBAN KIEMELT ELŐIRÁNYZATONKÉNT 2020. ÉV | AN2: AZ ÖNKORMÁNYZAT KIADÁSI ELŐIRÁNYZATAI KÖLTSÉGVETÉSI SZERVEK SZERINTI BONTÁSBAN KIEMELT ELŐIRÁNYZATONKÉNT 2020. ÉV
A4: MEGNEVEZÉS | B4: SZEMÉLYI JUTTATÁS | F4: MUNKAADÓKAT TERH. JÁRULÉKOK ÉS SZOCIÁLIS HOZZÁJÁRULÁSI ADÓ | J4: DOLOGI KIADÁSOK | N4: MEGNEVEZÉS | O4: ELLÁTOTTAK PÉNZBELI JUTTATÁSAI | S4: EGYÉB MŰKÖDÉSI CÉLÚ KIADÁSOK | W4: BERUHÁZÁSOK | AA4: MEGNEVEZÉS | AB4: FELÚJÍTÁSOK | AF4: EGYÉB FELHALMOZÁSI KIADÁSOK | AJ4: FINANSZÍROZÁSI KIADÁSOK | AN4: MEGNEVEZÉS | AO4: TARTALÉKOK | AS4: ÖSSZESEN | AW4: 2020. ÉV
B5: 2020. évi eredeti ei. | C5: 2020. évi módosított ei. II. | D5: 2020. évi módosított ei. III. | E5: Eltérés | F5: 2020. évi eredeti ei. | G5: 2020. évi módosított ei. II. | H5: 2020. évi módosított ei. III. | I5: Eltérés | J5: 2020. évi eredeti ei. | K5: 2020. évi módosított ei. II. | L5: 2020. évi módosított ei. III. | M5: Eltérés | O5: 2020. évi eredeti ei. | P5: 2020. évi módosított ei. II. | Q5: 2020. évi módosított ei. III. | R5: Eltérés | S5: 2020. évi eredeti ei. | T5: 2020. évi módosított ei. II. | U5: 2020. évi módosított ei. III. | V5: Eltérés | W5: 2020. évi eredeti ei. | X5: 2020. évi módosított ei. II. | Y5: 2020. évi módosított ei. III. | Z5: Eltérés | AB5: 2020. évi eredeti ei. | AC5: 2020. évi módosított ei. II. | AD5: 2020. évi módosított ei. III. | AE5: Eltérés | AF5: 2020. évi eredeti ei. | AG5: 2020. évi módosított ei. II. | AH5: 2020. évi módosított ei. III. | AI5: Eltérés | AJ5: 2020. évi eredeti ei. | AK5: 2020. évi módosított ei. II. | AL5: 2020. évi módosított ei. III. | AM5: Eltérés | AO5: 2020. évi eredeti ei. | AP5: 2020. évi módosított ei. II. | AQ5: 2020. évi módosított ei. III. | AR5: Eltérés | AS5: 2020. évi eredeti ei. | AT5: 2020. évi módosított ei. II. | AU5: 2020. évi módosított ei. III. | AV5: Eltérés | AW5: Kötelező feladatok | AX5: Önként vállalt feladatok | AY5: Államigazgatási feladatok
A6: Lipták Gábor Városi Könyvtár | B6: 38052298 | C6: 38144119 | D6: 39877985 | E6: =D6-C6 -> 1733866 | F6: 6701937 | G6: 6520637 | H6: 6761529 | I6: =H6-G6 -> 240892 | J6: 12638000 | K6: 12537265 | L6: 12537265 | M6: =L6-K6 -> 0 | N6: Lipták Gábor Városi Könyvtár | T6: 89479 | U6: 89479 | V6: =U6-T6 -> 0 | W6: =16576000+1000000 -> 17576000 | X6: ='4a. sz. tábla (3)'!D5 -> 18754000 | Y6: 18121630 | Z6: =Y6-X6 -> -632370 | AA6: Lipták Gábor Városi Könyvtár | AN6: Lipták Gábor Városi Könyvtár | AS6: =SUM(AB6,AF6,AJ6,W6,S6,O6,J6,F6,B6) -> 74968235 | AT6: =SUM(AC6,AG6,AK6,X6,T6,P6,K6,G6,C6) -> 76045500 | AU6: =SUM(AD6,AH6,AL6,Y6,U6,Q6,L6,H6,D6) -> 77387888 | AV6: =AU6-AT6 -> 1342388 | AW6: =AU6 -> 77387888 | AZ6: =SUM(AW6:AY6) -> 77387888
A7: Balatonfüredi Városi Szakorvosi Rendelőintézet | B7: 135386000 | C7: 151460445 | D7: 151163145 | E7: =D7-C7 -> -297300 | F7: 24038000 | G7: 25665494 | H7: 25208782 | I7: =H7-G7 -> -456712 | J7: 101376000 | K7: 104166244 | L7: 105266244 | M7: =L7-K7 -> 1100000 | N7: Balatonfüredi Városi Szakorvosi Rendelőintézet | V7: =U7-T7 -> 0 | W7: 500000 | X7: ='4a. sz. tábla (3)'!D14 -> 2250470 | Y7: 2650470 | Z7: =Y7-X7 -> 400000 | AA7: Balatonfüredi Városi Szakorvosi Rendelőintézet | AN7: Balatonfüredi Városi Szakorvosi Rendelőintézet | AS7: =SUM(AB7,AF7,AJ7,W7,S7,O7,J7,F7,B7) -> 261300000 | AT7: =SUM(AC7,AG7,AK7,X7,T7,P7,K7,G7,C7) -> 283542653 | AU7: =SUM(AD7,AH7,AL7,Y7,U7,Q7,L7,H7,D7) -> 284288641 | AV7: =AU7-AT7 -> 745988 | AW7: =155111872+62161+17500000+39753+3062500+1566084+330200+1100000-297300-56712 -> 178418558 | AX7: =106188128-2503878+74906-378673+39130+1450470+1000000 -> 105870083 | AZ7: =SUM(AW7:AY7) -> 284288641
A8: Balatonfüredi Városi Bölcsőde | B8: 49624000 | C8: 50365134 | D8: 50439901 | E8: =D8-C8 -> 74767 | F8: 8704000 | G8: 8526741 | H8: 8536885 | I8: =H8-G8 -> 10144 | J8: 14953232 | K8: 14274405 | L8: 14194405 | M8: =L8-K8 -> -80000 | N8: Balatonfüredi Városi Bölcsőde | V8: =U8-T8 -> 0 | W8: 300000 | X8: 585281 | Y8: 665281 | Z8: =Y8-X8 -> 80000 | AA8: Balatonfüredi Városi Bölcsőde | AN8: Balatonfüredi Városi Bölcsőde | AS8: =SUM(AB8,AF8,AJ8,W8,S8,O8,J8,F8,B8) -> 73581232 | AT8: =SUM(AC8,AG8,AK8,X8,T8,P8,K8,G8,C8) -> 73751561 | AU8: =SUM(AD8,AH8,AL8,Y8,U8,Q8,L8,H8,D8) -> 73836472 | AV8: =AU8-AT8 -> 84911 | AW8: =69377318+211356-373657+225281+107349+138567+22348-63800-12204 -> 69632558 | AX8: 4203914 | AZ8: =SUM(AW8:AY8) -> 73836472
A9: Intézmények összesen: | B9: =B6+B7+B8 -> 223062298 | C9: =C6+C7+C8 -> 239969698 | D9: =D6+D7+D8 -> 241481031 | E9: =D9-C9 -> 1511333 | F9: =F6+F7+F8 -> 39443937 | G9: =G6+G7+G8 -> 40712872 | H9: =H6+H7+H8 -> 40507196 | I9: =H9-G9 -> -205676 | J9: =J6+J7+J8 -> 128967232 | K9: =K6+K7+K8 -> 130977914 | L9: =L6+L7+L8 -> 131997914 | M9: =L9-K9 -> 1020000 | N9: Intézmények összesen: | O9: =O6+O7+O8 -> 0 | P9: =P6+P7+P8 -> 0 | Q9: =Q6+Q7+Q8 -> 0 | R9: =R6+R7+R8 -> 0 | S9: =S6+S7+S8 -> 0 | T9: =T6+T7+T8 -> 89479 | U9: =U6+U7+U8 -> 89479 | V9: =U9-T9 -> 0 | W9: =W6+W7+W8 -> 18376000 | X9: =X6+X7+X8 -> 21589751 | Y9: =Y6+Y7+Y8 -> 21437381 | Z9: =Y9-X9 -> -152370 | AA9: Intézmények összesen: | AB9: =AB6+AB7+AB8 -> 0 | AE9: =AE6+AE7+AE8 -> 0 | AF9: =AF6+AF7+AF8 -> 0 | AI9: =AI6+AI7+AI8 -> 0 | AJ9: =AJ6+AJ7+AJ8 -> 0 | AM9: =AM6+AM7+AM8 -> 0 | AN9: Intézmények összesen: | AO9: =AO6+AO7+AO8 -> 0 | AR9: =AR6+AR7+AR8 -> 0 | AS9: =AS6+AS7+AS8 -> 409849467 | AT9: =AT6+AT7+AT8 -> 433339714 | AU9: =AU6+AU7+AU8 -> 435513001 | AV9: =AU9-AT9 -> 2173287 | AW9: =SUM(AW6:AW8) -> 325439004 | AX9: =SUM(AX6:AX8) -> 110073997 | AY9: =SUM(AY6:AY8) -> 0 | AZ9: =SUM(AW9:AY9) -> 435513001
A10: Balatonfüredi Közös Önkormányzati Hivatal | B10: ='5.tábla (2)'!B7 -> 325251408 | C10: ='5.tábla (2)'!C7 -> 323835877 | D10: ='5.tábla (2)'!D7 -> 319488147 | E10: =D10-C10 -> -4347730 | F10: ='5.tábla (2)'!B16 -> 63721683 | G10: ='5.tábla (2)'!C16 -> 63859625 | H10: ='5.tábla (2)'!D16 -> 62798566 | I10: =H10-G10 -> -1061059 | J10: ='5.tábla (2)'!B25 -> 81030943 | K10: ='5.tábla (2)'!C25 -> 85468681 | L10: ='5.tábla (2)'!D25 -> 85267988 | M10: =L10-K10 -> -200693 | N10: Balatonfüredi Közös Önkormányzati Hivatal | O10: ='5.tábla (2)'!B31+'5.tábla (2)'!B33 -> 0 | P10: ='5.tábla (2)'!C31+'5.tábla (2)'!C33 -> 0 | Q10: ='5.tábla (2)'!D31+'5.tábla (2)'!D33 -> 0 | R10: ='5.tábla (2)'!E31+'5.tábla (2)'!E33 -> 0 | S10: ='5.tábla (2)'!B35 -> 0 | T10: ='5.tábla (2)'!C35 -> 2884470 | U10: ='5.tábla (2)'!D35 -> 2884470 | V10: =U10-T10 -> 0 | W10: ='5.tábla (2)'!B37 -> 12600000 | X10: ='5.tábla (2)'!C37 -> 21027891 | Y10: ='5.tábla (2)'!D37 -> 21027891 | Z10: =Y10-X10 -> 0 | AA10: Balatonfüredi Közös Önkormányzati Hivatal | AN10: Balatonfüredi Közös Önkormányzati Hivatal | AS10: =SUM(AB10,AF10,AJ10,W10,S10,O10,J10,F10,B10) -> 482604034 | AT10: =SUM(AC10,AG10,AK10,X10,T10,P10,K10,G10,C10) -> 497076544 | AU10: =SUM(AD10,AH10,AL10,Y10,U10,Q10,L10,H10,D10) -> 491467062 | AV10: =AU10-AT10 -> -5609482 | AW10: =AU10-AX10-AY10 -> 388760646 | AX10: ='9. sz. tábla (2)'!H65 -> 11662924 | AY10: ='9. sz. tábla (2)'!H84+'9. sz. tábla (2)'!H93 -> 91043492 | AZ10: =SUM(AW10:AY10) -> 491467062
A11: Költségvetési szervek összesen: | B11: =SUM(B9:B10) -> 548313706 | C11: =SUM(C9:C10) -> 563805575 | D11: =SUM(D9:D10) -> 560969178 | E11: =D11-C11 -> -2836397 | F11: =SUM(F9:F10) -> 103165620 | G11: =SUM(G9:G10) -> 104572497 | H11: =SUM(H9:H10) -> 103305762 | I11: =H11-G11 -> -1266735 | J11: =SUM(J9:J10) -> 209998175 | K11: =SUM(K9:K10) -> 216446595 | L11: =SUM(L9:L10) -> 217265902 | M11: =L11-K11 -> 819307 | N11: Költségvetési szervek összesen: | O11: =SUM(O9:O10) -> 0 | P11: =SUM(P9:P10) -> 0 | Q11: =SUM(Q9:Q10) -> 0 | R11: =SUM(R9:R10) -> 0 | S11: =SUM(S9:S10) -> 0 | T11: =SUM(T9:T10) -> 2973949 | U11: =SUM(U9:U10) -> 2973949 | V11: =U11-T11 -> 0 | W11: =SUM(W9:W10) -> 30976000 | X11: =SUM(X9:X10) -> 42617642 | Y11: =SUM(Y9:Y10) -> 42465272 | Z11: =Y11-X11 -> -152370 | AA11: Költségvetési szervek összesen: | AB11: =SUM(AB9:AB10) -> 0 | AF11: =SUM(AF9:AF10) -> 0 | AI11: =SUM(AI9:AI10) -> 0 | AJ11: =SUM(AJ9:AJ10) -> 0 | AM11: =SUM(AM9:AM10) -> 0 | AN11: Költségvetési szervek összesen: | AO11: =SUM(AO9:AO10) -> 0 | AR11: =SUM(AR9:AR10) -> 0 | AS11: =SUM(AS9:AS10) -> 892453501 | AT11: =SUM(AT9:AT10) -> 930416258 | AU11: =SUM(AU9:AU10) -> 926980063 | AV11: =AU11-AT11 -> -3436195 | AW11: =SUM(AW9:AW10) -> 714199650 | AX11: =SUM(AX9:AX10) -> 121736921 | AY11: =SUM(AY9:AY10) -> 91043492 | AZ11: =SUM(AW11:AY11) -> 926980063
A12: Önkormányzat | B12: ='5.tábla (2)'!B46 -> 115713271 | C12: ='5.tábla (2)'!C46 -> 122457191 | D12: ='5.tábla (2)'!D46 -> 125848387 | E12: =D12-C12 -> 3391196 | F12: ='5.tábla (2)'!B61 -> 18849518 | G12: ='5.tábla (2)'!C61 -> 19701451 | H12: ='5.tábla (2)'!D61 -> 21158997 | I12: =H12-G12 -> 1457546 | J12: ='5.tábla (2)'!B75 -> 1128251078 | K12: ='5.tábla (2)'!C75 -> 1189014049 | L12: ='5.tábla (2)'!D75 -> 1111068870 | M12: =L12-K12 -> -77945179 | N12: Önkormányzat | O12: ='5.tábla (2)'!B124 -> 27600000 | P12: ='5.tábla (2)'!C124 -> 27600000 | Q12: ='5.tábla (2)'!D124 -> 30600000 | R12: =Q12-P12 -> 3000000 | S12: ='5.tábla (2)'!B134 -> 1355809612 | T12: ='5.tábla (2)'!C134 -> 1221427820 | U12: ='5.tábla (2)'!D134 -> 1229156400 | V12: =U12-T12 -> 7728580 | W12: ='7. sz. tábla 1'!B170 -> 8739294986 | X12: ='7. sz. tábla 1'!C170 -> 10078929594 | Y12: ='7. sz. tábla 1'!D170 -> 9762627560 | Z12: =Y12-X12 -> -316302034 | AA12: Önkormányzat | AB12: ='7. sz. tábla 1'!B242 -> 107408627 | AC12: ='7. sz. tábla 1'!C242 -> 108425627 | AD12: ='7. sz. tábla 1'!D242 -> 112001247 | AE12: =AD12-AC12 -> 3575620 | AF12: ='7. sz. tábla 1'!B229 -> 236380585 | AG12: ='7. sz. tábla 1'!C229 -> 1808313444 | AH12: ='7. sz. tábla 1'!D229 -> 1807660444 | AI12: =AH12-AG12 -> -653000 | AJ12: ='7. sz. tábla 1'!B237 -> 127631629 | AK12: ='7. sz. tábla 1'!C237 -> 927631629 | AL12: ='7. sz. tábla 1'!D237 -> 927631629 | AM12: ='7. sz. tábla 1'!E237 -> 0 | AN12: Önkormányzat | AO12: ='1.sz.tábla (2)'!B30 -> 241005271 | AP12: ='1.sz.tábla (2)'!C30 -> 372712729 | AQ12: ='1.sz.tábla (2)'!D30 -> 335108445 | AR12: =AQ12-AP12 -> -37604284 | AS12: =SUM(AB12,AF12,AJ12,W12,S12,O12,J12,F12,B12,AO12) -> 12097944577 | AT12: =SUM(AC12,AG12,AK12,X12,T12,P12,K12,G12,C12,AP12) -> 15876213534 | AU12: =SUM(AD12,AH12,AL12,Y12,U12,Q12,L12,H12,D12,AQ12) -> 15462861979 | AV12: =AU12-AT12 -> -413351555
A13: Mindösszesen: | B13: =SUM(B11:B12) -> 664026977 | C13: =SUM(C11:C12) -> 686262766 | D13: =SUM(D11:D12) -> 686817565 | E13: =D13-C13 -> 554799 | F13: =SUM(F11:F12) -> 122015138 | G13: =SUM(G11:G12) -> 124273948 | H13: =SUM(H11:H12) -> 124464759 | I13: =H13-G13 -> 190811 | J13: =SUM(J11:J12) -> 1338249253 | K13: =SUM(K11:K12) -> 1405460644 | L13: =SUM(L11:L12) -> 1328334772 | M13: =L13-K13 -> -77125872 | N13: Mindösszesen: | O13: =SUM(O11:O12) -> 27600000 | P13: =SUM(P11:P12) -> 27600000 | Q13: =SUM(Q11:Q12) -> 30600000 | R13: =SUM(R11:R12) -> 3000000 | S13: =SUM(S11:S12) -> 1355809612 | T13: =SUM(T11:T12) -> 1224401769 | U13: =SUM(U11:U12) -> 1232130349 | V13: =U13-T13 -> 7728580 | W13: =SUM(W11:W12) -> 8770270986 | X13: =SUM(X11:X12) -> 10121547236 | Y13: =SUM(Y11:Y12) -> 9805092832 | Z13: =Y13-X13 -> -316454404 | AA13: Mindösszesen: | AB13: =SUM(AB11:AB12) -> 107408627 | AC13: =SUM(AC11:AC12) -> 108425627 | AD13: =SUM(AD11:AD12) -> 112001247 | AE13: =SUM(AE11:AE12) -> 3575620 | AF13: =SUM(AF11:AF12) -> 236380585 | AG13: =SUM(AG11:AG12) -> 1808313444 | AH13: =SUM(AH11:AH12) -> 1807660444 | AI13: =SUM(AI11:AI12) -> -653000 | ... AM13: =SUM(AM11:AM12) -> 0 | AN13: Mindösszesen: | AO13: =SUM(AO11:AO12) -> 241005271 | AP13: =SUM(AP11:AP12) -> 372712729 | AQ13: =SUM(AQ11:AQ12) -> 335108445 | AR13: =SUM(AR11:AR12) -> -37604284 | AS13: =SUM(AS11:AS12) -> 12990398078 | AT13: =SUM(AT11:AT12) -> 16806629792 | AU13: =SUM(AU11:AU12) -> 16389842042 | AV13: =AU13-AT13 -> -416787750
AV14: ='1.sz.tábla (2)'!E39 -> -416787750

Sheet 4a. sz. tábla (3)
A2: KÖLTSÉGVETÉSI SZERVEK SAJÁTHATÁSKÖRŰ FEJLESZTÉSEI 2020. ÉV
A3: Intézmény | B3: Megnevezés | C3: 2020. évi eredeti ei. | D3: 2020. évi módosított ei. II. | E3: 2020. évi módosított ei. III. | F3: Eltérés
A5: LIPTÁK GÁBOR VÁROSI KÖNYVTÁR | C5: =SUM(C6:C9) -> 17576000 | D5: =SUM(D6:D9) -> 18754000 | E5: =SUM(E6:E9) -> 18121630 | F5: =E5-D5 -> -632370
B6: Dokumentumbeszerzés | C6: 2544000 | D6: =2544000+794600 -> 3338600 | E6: =2544000+794600 -> 3338600 | F6: =E6-D6 -> 0
B7: Egyéb kisértékű eszközök | C7: 127000 | D7: =127000+383400 -> 510400 | E7: =127000+383400 -> 510400 | F7: =E7-D7 -> 0
B8: Informatikai eszközök | F8: =E8-D8 -> 0
B9: Bútor | C9: 14905000 | D9: 14905000 | E9: 14272630 | F9: =E9-D9 -> -632370
F10: =E10-D10 -> 0
A11: BALATONFÜREDI VÁROSI BÖLCSÖDE | C11: =SUM(C12:C12) -> 300000 | D11: 585281 | E11: 665281 | F11: =E11-D11 -> 80000
B12: egyéb kisértékű eszközök | C12: 300000 | D12: 585281 | E12: 665281 | F12: =E12-D12 -> 80000
F13: =E13-D13 -> 0
A14: BALATONFÜREDI VÁROSI SZAKORVOSI RENDELŐINTÉZET | C14: =SUM(C15:C19) -> 500000 | D14: =SUM(D15:D19) -> 2250470 | E14: =SUM(E15:E19) -> 2650470 | F14: =SUM(F15:F19) -> 400000
B15: informatikai eszközök | D15: 48000 | E15: 48000 | F15: =E15-D15 -> 0
B16: split klíma | D16: 366400 | E16: 366400 | F16: =E16-D16 -> 0
B17: orvosi műszerek | D17: 1400000 | E17: 1300000 | F17: =E17-D17 -> -100000
B18: vizsgáló ágy | E18: 700000 | F18: =E18-D18 -> 700000
B19: egyéb kisértékű eszközök | C19: 500000 | D19: 436070 | E19: 236070 | F19: =E19-D19 -> -200000
F20: =E20-D20 -> 0
A21: BALATONFÜREDI KÖZÖS ÖNKORMÁNYZATI HIVATAL | C21: =SUM(C22:C26) -> 12600000 | D21: =SUM(D22:D26) -> 21027891 | E21: =SUM(E22:E26) -> 21027891 | F21: =E21-D21 -> 0
B22: Informatikai eszközök | C22: 5000000 | D22: ='5.tábla (2)'!C38 -> 11959994 | E22: ='5.tábla (2)'!D38 -> 11959994 | F22: =E22-D22 -> 0
B23: bútor, egyéb nagyértékű eszközök | F23: =E23-D23 -> 0
B24: egyéb kisértékű eszközök | C24: 1000000 | D24: ='5.tábla (2)'!C39 -> 1747997 | E24: ='5.tábla (2)'!D39 -> 1747997 | F24: =E24-D24 -> 0
B25: robogó beszerzés | D25: ='5.tábla (2)'!C40 -> 719900 | E25: ='5.tábla (2)'!D40 -> 719900 | F25: =E25-D25 -> 0
B26: gépkocsi beszerzés | C26: 6600000 | D26: ='5.tábla (2)'!C41 -> 6600000 | E26: ='5.tábla (2)'!D41 -> 6600000 | F26: =E26-D26 -> 0
A27: ÖSSZESEN: | C27: =SUM(C5+C11+C14+C21) -> 30976000 | D27: =SUM(D5+D11+D14+D21) -> 42617642 | E27: =SUM(E5+E11+E14+E21) -> 42465272 | F27: =E27-D27 -> -152370

Sheet 5.tábla (2)
A3: MŰKÖDÉSI KIADÁSOK ÖNKORMÁNYZAT, HIVATAL BONTÁSBAN 2020. ÉV
A5: MEGNEVEZÉS | B5: 2020. évi eredeti ei. | C5: 2020. évi módosított ei. II. | D5: 2020. évi módosított ei. III. | E5: Eltérés
A6: I. Balatonfüredi Közös Önkormányzati Hivatal költségvetése
A7: 1. Személyi juttatás | B7: =SUM(B8:B9) -> 325251408 | C7: =SUM(C8:C9) -> 323835877 | D7: =SUM(D8:D9) -> 319488147 | E7: =D7-C7 -> -4347730
A8: Kirendeltségek | B8: 37522109 | C8: 37522109 | D8: 37521790 | E8: =D8-C8 -> -319
A9: Balatonfüred Város Önkormányzat | B9: 287729299 | C9: 286313768 | D9: 281966357 | E9: =D9-C9 -> -4347411
A10: ebből: TOP-1.2.1-16-VE1-2019-00017 Balatonfüred Brázay szabadstrand turisztikai attrakció fejlesztése | E10: =D10-C10 -> 0
A11: KEHOP 1.2.1-18-2018-2018-00143 Balatonfüred lakossági klímatudatosság fejlesztése - alkalmazkodása klímaváltozáshoz | D11: 195943 | E11: =D11-C11 -> 195943 | F11: =SUM(E11:E15) -> 1468002
A12: TOP-1.1.2-15 Balatonfüred és Balatonalmádi közös helyi foglalkoztatási együttműködés | B12: 922800 | C12: =922800+922800 -> 1845600 | D12: 2693352 | E12: =D12-C12 -> 847752
A13: GINOP-7.1.9-17-2017-0001 Gyógyhelyfejlesztés Balatonfüred Városában | B13: 1081125 | C13: 1081125 | D13: 1112573 | E13: =D13-C13 -> 31448
A14: EFOP-1.5.2-16-2017-00016 Humán közszolgáltatások fejlesztése az Észak-Balatoni térségben | B14: 5382094 | C14: 5382094 | D14: 5532770 | E14: =D14-C14 -> 150676
A15: TOP-4.1.1-15 Egészségügyi alapellátás fejlesztése | B15: 255061 | C15: 255061 | D15: 497244 | E15: =D15-C15 -> 242183
A16: 2. Munkaadót terhelő járulékok | B16: =SUM(B17:B18) -> 63721683 | C16: =SUM(C17:C18) -> 63859625 | D16: =SUM(D17:D18) -> 62798566 | E16: =D16-C16 -> -1061059
A17: Kirendeltségek | B17: 7369380 | C17: 7369380 | D17: 7303776 | E17: =D17-C17 -> -65604
A18: Balatonfüred Város Önkormányzat | B18: 56352303 | C18: 56490245 | D18: 55494790 | E18: =D18-C18 -> -995455
A19: ebből: TOP-1.2.1-16-VE1-2019-00017 Balatonfüred Brázay szabadstrand turisztikai attrakció fejlesztése
A20: KEHOP 1.2.1-18-2018-2018-00143 Balatonfüred lakossági klímatudatosság fejlesztése - alkalmazkodása klímaváltozáshoz | D20: 34290 | E20: =D20-C20 -> 34290 | F20: =SUM(E20:E24) -> 33274
A21: TOP-1.1.2-15 Balatonfüred és Balatonalmádi közös helyi foglalkoztatási együttműködés | B21: 161490 | C21: =161490+146110 -> 307600 | D21: 447788 | E21: =D21-C21 -> 140188
A22: GINOP-7.1.9-17-2017-0001 Gyógyhelyfejlesztés Balatonfüred Városában | B22: 329156 | C22: 329156 | D22: 297708 | E22: =D22-C22 -> -31448
A23: EFOP-1.5.2-16-2017-00016 Humán közszolgáltatások fejlesztése az Észak-Balatoni térségben | B23: 1499176 | C23: 1499176 | D23: 1348500 | E23: =D23-C23 -> -150676
A24: TOP-4.1.1-15 Egészségügyi alapellátás fejlesztése | B24: 44636 | C24: 44636 | D24: 85556 | E24: =D24-C24 -> 40920
A25: 3. Dologi kiadások | B25: =SUM(B26:B30) -> 81030943 | C25: =SUM(C26:C30) -> 85468681 | D25: =SUM(D26:D30) -> 85267988 | E25: =D25-C25 -> -200693
A26: Balatonfüred dologi | B26: 64371250 | C26: 68808988 | D26: =68808988+1000000 -> 69808988 | E26: =D26-C26 -> 1000000
A27: Telephelyek dologi | B27: 1400000 | C27: 1400000 | D27: 1400000 | E27: =D27-C27 -> 0
A28: Családi iroda | B28: 403000 | C28: 403000 | D28: 403000 | E28: =D28-C28 -> 0
A29: Közösségi Ház | B29: 10000000 | C29: 10000000 | D29: =10000000-1000000 -> 9000000 | E29: =D29-C29 -> -1000000
A30: Befizetendő áfa | B30: 4856693 | C30: 4856693 | D30: 4656000 | E30: =D30-C30 -> -200693
A31: 4.1. Ellátottak pénzbeli juttatásai Balatonfüred | B31: =B32 -> 0 | C31: =C32 -> 0 | D31: =D32 -> 0 | E31: =D31-C31 -> 0
A32: Rendszeres gyermekvédelmi támogatás | B32: 0 | C32: 0 | D32: 0 | E32: =D32-C32 -> 0
A33: 4.2. Ellátottak pénzbeli juttatásai telephelyek | B33: =SUM(B34:B34) -> 0 | C33: =SUM(C34:C34) -> 0 | D33: =SUM(D34:D34) -> 0 | E33: =D33-C33 -> 0
A34: Rendszeres gyermekvédelmi támogatás | B34: 0 | C34: 0 | D34: 0 | E34: =D34-C34 -> 0
A35: 5. Egyéb működési célú kiadások áh-n belülre | B35: 0 | C35: 2884470 | D35: 2884470 | E35: =D35-C35 -> 0
A36: Hivatal működési kiadások összesen: | B36: =B35+B33+B31+B25+B16+B7 -> 470004034 | C36: =C35+C33+C31+C25+C16+C7 -> 476048653 | D36: =D35+D33+D31+D25+D16+D7 -> 470439171 | E36: =D36-C36 -> -5609482
A37: 6. Saját hatáskörű fejlesztések | B37: =SUM(B38:B41) -> 12600000 | C37: =SUM(C38:C41) -> 21027891 | D37: =SUM(D38:D41) -> 21027891 | E37: =D37-C37 -> 0
A38: Informatikai fejlesztések (kisértékű, nagyértékű) | B38: 5000000 | C38: 11959994 | D38: 11959994 | E38: =D38-C38 -> 0
A39: Kisértékű tárgyi eszközök | B39: 1000000 | C39: 1747997 | D39: 1747997 | E39: =D39-C39 -> 0
A40: Robogó beszerzés | B40: 0 | C40: 719900 | D40: 719900 | E40: =D40-C40 -> 0
A41: gépkocsi beszerzés | B41: 6600000 | C41: 6600000 | D41: 6600000 | E41: =D41-C41 -> 0
A42: I. Balatonfüredi Közös Önkormányzati Hivatal összesen: | B42: =B37+B36 -> 482604034 | C42: =C37+C36 -> 497076544 | D42: =D37+D36 -> 491467062 | E42: =D42-C42 -> -5609482
A44: MEGNEVEZÉS | B44: 2020. évi eredeti ei. | C44: 2020. évi módosított ei. II. | D44: 2020. évi módosított ei. III. | E44: Eltérés
A45: II. Balatonfüred Város Önkormányzat költségvetése
A46: 1. Személyi juttatások | B46: =SUM(B47:B58) -> 115713271 | C46: =SUM(C47:C59) -> 122457191 | D46: =SUM(D47:D60) -> 125848387 | E46: =SUM(E47:E59) -> 3238815
A47: Képviselő-testület személyi juttatásai | B47: 29727461 | C47: 29245841 | D47: 29245841 | E47: =D47-C47 -> 0
A48: Foglalkoztatottak személyi juttatásai | B48: 15001920 | C48: 15001920 | D48: 15001920 | E48: =D48-C48 -> 0
A49: Közfoglalkoztatás +diákmunka | B49: 14271456 | C49: 14271456 | D49: 14271456 | E49: =D49-C49 -> 0
A50: Megbízási díjak | B50: 4429000 | C50: 4429000 | D50: 4429000 | E50: =D50-C50 -> 0
A51: Városi Kitüntetések | B51: 1460000 | C51: 1360000 | D51: 1360000 | E51: =D51-C51 -> 0
A52: Ösztöndíjak | B52: 5800000 | C52: 5800000 | D52: 5800000 | E52: =D52-C52 -> 0
A53: Rendezvényekhez kapcsolódó személyi | B53: 3300000 | C53: 4100000 | D53: 6732138 | E53: =D53-C53 -> 2632138
A54: TOP-1.1.2-15 Balatonfüred és Balatonalmádi közös helyi foglalkoztatási együttműködés | B54: 3076963 | C54: 3076963 | D54: 3683640 | E54: =D54-C54 -> 606677
A55: EFOP-1.5.2-16-2017-00016 Humán közszolgáltatások fejlesztése az Észak-Balatoni térségben | B55: 36449743 | C55: 36449743 | D55: 36449743 | E55: =D55-C55 -> 0
A56: EFOP-4.1.8-16-2017-00140 A könyvtárral a tudásért - megújult épületben, korszerű technikával Balatonfüreden | B56: 762000 | C56: 762000 | D56: 762000 | E56: =D56-C56 -> 0
A57: TOP-3.2.1-16-VE1-2018-00033 A Balatonfüredi Lipták Gábor Városi Könyvtár energetikai korszerűsítése | B57: 1434728 | C57: 1434728 | D57: 1434728 | E57: =D57-C57 -> 0
A58: TOP-1.2.1-16-VE1 azonosítószámú, Társadalmi és környezeti szempontból fenntartható turizmusfejlesztés elnevezésű projekt keretében Balatonfüred, Brázay szabad strand turisztikai attrakció fejlesztése” | C58: 425540 | D58: 425540 | E58: =D58-C58 -> 0
A59: TOP-3.2.2-15-VE1-2016-00002 Biomassza alapú ORC erőmű Balatonfüred | C59: 6100000 | D59: 6100000 | E59: =D59-C59 -> 0
A60: TOP-2.1.2-16-VE1-2020-00010 Balatonfüred Ófalu fejlesztése és új közösségi tér kialakítása | D60: 152381 | E60: =D60-C60 -> 152381
A61: 2. Munkaadót terhelő járulékok és szociális hozzájárulási adó | B61: =SUM(B62:B70) -> 18849518 | C61: =SUM(C62:C72) -> 19701451 | D61: =SUM(D62:D73) -> 21158997 | E61: =D61-C61 -> 1457546
A62: Képviselő-testület személyi juttatásai | B62: 5224946 | C62: 5140663 | D62: 5140663 | E62: =D62-C62 -> 0
A63: Közfoglalkoztatás +diákmunka | B63: 1248773 | C63: 1248773 | D63: 1248773 | E63: =D63-C63 -> 0
A64: Megbízási díjak | B64: 697568 | C64: 697568 | D64: 697568 | E64: =D64-C64 -> 0
A65: Városi Kitüntetések | B65: 255500 | C65: 255500 | D65: 255500 | E65: =D65-C65 -> 0
A66: Rendezvényekhez kapcsolódó járulék és kifizetői adó | B66: 1112150 | C66: 1112150 | D66: 2546077 | E66: =D66-C66 -> 1433927
A67: TOP-1.1.2-15 Balatonfüred és Balatonalmádi közös helyi foglalkoztatási együttműködés | B67: 860027 | C67: 860027 | D67: 860027 | E67: =D67-C67 -> 0
A68: EFOP-1.5.2-16-2017-00016 Humán közszolgáltatások fejlesztése az Észak-Balatoni térségben | B68: 9050766 | C68: 9050766 | D68: 9050766 | E68: =D68-C68 -> 0
A69: EFOP-4.1.8-16-2017-00140 A könyvtárral a tudásért - megújult épületben, korszerű technikával Balatonfüreden | B69: 120016 | C69: 120016 | D69: 120016 | E69: =D69-C69 -> 0
A70: TOP-3.2.1-16-VE1-2018-00033 A Balatonfüredi Lipták Gábor Városi Könyvtár energetikai korszerűsítése | B70: 279772 | C70: 279772 | D70: 279772 | E70: =D70-C70 -> 0
A71: TOP-1.2.1-16-VE1 azonosítószámú, Társadalmi és környezeti szempontból fenntartható turizmusfejlesztés elnevezésű projekt keretében Balatonfüred, Brázay szabad strand turisztikai attrakció fejlesztése” | C71: 74286 | D71: 74286 | E71: =D71-C71 -> 0
A72: TOP-3.2.2-15-VE1-2016-00002 Biomassza alapú ORC erőmű Balatonfüred | C72: 861930 | D72: 861930 | E72: =D72-C72 -> 0
A73: TOP-2.1.2-16-VE1-2020-00010 Balatonfüred Ófalu fejlesztése és új közösségi tér kialakítása | D73: 23619 | E73: =D73-C73 -> 23619
A74: MEGNEVEZÉS | B74: 2020. évi eredeti ei. | C74: 2020. évi módosított ei. II. | D74: 2020. évi módosított ei. III. | E74: Eltérés
A75: 3. Dologi kiadások | B75: =SUM(B76:B123) -> 1128251078 | C75: =SUM(C76:C123) -> 1189014049 | D75: =SUM(D76:D123) -> 1111068870 | E75: =D75-C75 -> -77945179
A76: Építés és településfejlesztés | B76: 6640000 | C76: =6919400-500000 -> 6419400 | D76: =6919400-500000 -> 6419400 | E76: =D76-C76 -> 0
A77: Városüzemeltetés | B77: 177219440 | C77: 180118426 | D77: 180118426 | E77: =D77-C77 -> 0
A78: Idegenforgalmi feladatok | B78: 32550000 | C78: =29528720-500000 -> 29028720 | D78: 22937206 | E78: =D78-C78 -> -6091514
A79: Oktatás, nevelés | B79: 3860000 | C79: 3910000 | D79: 3910000 | E79: =D79-C79 -> 0
A80: Közművelődés | B80: 10802032 | C80: =11337969-500000 -> 10837969 | D80: 9561858 | E80: =D80-C80 -> -1276111
A81: Sport | B81: 3880000 | C81: =3880000-500000 -> 3380000 | D81: 2922315 | E81: =D81-C81 -> -457685
A82: TV és újság | B82: 954000 | C82: 1275223 | D82: 1275223 | E82: =D82-C82 -> 0
A83: Lakásgazdálkodás | B83: 11000000 | C83: 8000000 | D83: 8006000 | E83: =D83-C83 -> 6000
A84: Vagyonhasznosítás | B84: 87175427 | C84: 120895396 | D84: 120889396 | E84: =D84-C84 -> -6000
A85: Zákonyi u. mélygarázs fenntartási ktg. | B85: 12700000 | C85: 15700000 | D85: 18100000 | E85: =D85-C85 -> 2400000
A86: ÁFA befizetés | B86: =270272989+28836000 -> 299108989 | C86: 352382095 | D86: 241756440 | E86: =D86-C86 -> -110625655
A87: Munkaegészségügyi ellát | B87: 1200000 | C87: =1200000-500000 -> 700000 | D87: =1200000-500000 -> 700000 | E87: =D87-C87 -> 0
A88: Házi segítségnyújtás | B88: 780000 | C88: =780000-500000 -> 280000 | D88: =780000-500000 -> 280000 | E88: =D88-C88 -> 0
A89: Gyermekétkeztetés iskolákban | B89: 97872652 | C89: 59870620 | D89: 59870620 | E89: =D89-C89 -> 0
A90: Szünidei szociális gyermekétkeztetés | B90: 300000 | C90: 300000 | D90: 217350 | E90: =D90-C90 -> -82650
A91: Egyéb ktg. (bankktg, postai befiz. ktg., tagdíjak, késedelmi kamat, stb.) | B91: 21175000 | C91: 21229053 | D91: 21229053 | E91: =D91-C91 -> 0
A92: Fejlesztési célú hitel kamata | B92: 7200000 | C92: 10246319 | D92: 10246319 | E92: =D92-C92 -> 0
A93: Önkormányzati Tűzoltóság tagdíj | B93: 11500000 | C93: 11500000 | D93: 11500000 | E93: =D93-C93 -> 0
A94: TOP-1.1.1-16 Ipari parkok, iparterületek fejlesztése (Új pályázatként) | B94: 41140000 | C94: 41140000 | D94: 41140000 | E94: =D94-C94 -> 0
A95: GINOP-7.1.9-17-2018-00008 Turisztikailag frekventált térségek integrált termék- és szolgáltatás fejlesztése | B95: 1475232 | C95: 1475232 | D95: 1475232 | E95: =D95-C95 -> 0
A96: TOP-2.1.2-16-VE1-2020-00010 Balatonfüred Ófalu fejlesztése és új közösségi tér kialakítása | D96: 7175499 | E96: =D96-C96 -> 7175499
A97: TOP-3.2.1-16-VE1-2018-00033 A Balatonfüredi Lipták Gábor Városi Könyvtár energetikai korszerűsítése | B97: 142061 | C97: 142061 | D97: 142061 | E97: =D97-C97 -> 0
A98: TOP-4.1.1.-15 VE Egészségügyi alapellátás infrastruktúrális fejlesztése pályázat előkészítés | B98: 1736400 | C98: 1736400 | D98: 1453297 | E98: =D98-C98 -> -283103
A99: TOP-1.1.2-15 Balatonfüred és Balatonalmádi közös helyi foglalkoztatási együttműködés | B99: 22790772 | C99: 22790772 | D99: 20127245 | E99: =D99-C99 -> -2663527
A100: EFOP-1.5.2-16-2017-00016 Humán közszolgáltatások fejlesztése az Észak-Balatoni térségben | B100: 103134170 | C100: 103134170 | D100: 103134170 | E100: =D100-C100 -> 0
A101: TOP-3.2.2-15-VE1-2016-00002 Biomassza alapú ORC erőmű Balatonfüred | B101: 27686000 | C101: 18844349 | D101: 18844349 | E101: =D101-C101 -> 0
A102: EFOP-4.1.8-16-2017-00140 A könyvtárral a tudásért - megújult épületben, korszerű technikával Balatonfüreden | B102: 298450 | C102: 298450 | D102: 298450 | E102: =D102-C102 -> 0
A103: TOP-2.1.3-16-VE1-2017-00008 Balatonfüred csapadékcsatorna hálózatának fejlesztése | B103: 1418200 | C103: 1418200 | D103: 1418200 | E103: =D103-C103 -> 0
A104: MEGNEVEZÉS | B104: 2020. évi eredeti ei. | C104: 2020. évi módosított ei. II. | D104: 2020. évi módosított ei. III. | E104: Eltérés
...

Sheet 5b. sz. tábla  (2)
A2: TÁMOGATÁSOK 2020. ÉV
A4: MEGNEVEZÉS | B4: 2020. évi eredeti ei. | C4: 2020. évi módosított ei. II. | D4: 2020. évi módosított ei. III. | E4: Eltérés
A5: Működési célú támogatások áh-n belülre: | B5: =SUM(B6:B11) -> 535229687 | C5: =SUM(C6:C12) -> 504134916 | D5: =SUM(D6:D12) -> 509783666 | E5: =D5-C5 -> 5648750
A6: Országos Mentőszolgálat támogatás | E6: =D6-C6 -> 0
A7: Veszprém Megyei Rendőr-főkapitányság | C7: 600754 | D7: 600754 | E7: =D7-C7 -> 0
A8: BURSA Hungarica ösztöndíj | B8: 1350000 | C8: 1350000 | D8: 1350000 | E8: =D8-C8 -> 0
A9: Balatonfüredi Többcélú Társulás BSZAK | B9: 165514555 | C9: 146683774 | D9: 153166569 | E9: =D9-C9 -> 6482795
A10: Közoktatási Intézményfenntartó Társulás Óvodák | B10: 368365132 | C10: 354238788 | D10: 353404743 | E10: =D10-C10 -> -834045
A11: Alkony program fel nem használt támogatás visszafizetés | C11: 100000 | D11: 100000 | E11: =D11-C11 -> 0
A12: GINOP-7.1.9-17-2018-00008 Turisztikailag frekventált térségek integrált termék- és szolgáltatás fejlesztése | C12: 1161600 | D12: 1161600 | E12: =D12-C12 -> 0
A13: Működési célú támogatások áh-n kívülre: | B13: =SUM(B14:B77) -> 813396694 | C13: =SUM(C14:C79) -> 710109673 | D13: =SUM(D14:D79) -> 712189503 | E13: =D13-C13 -> 2079830
A14: Önkéntes Tűzoltóság | B14: 0 | C14: 0 | D14: 0 | E14: =D14-C14 -> 0
A15: Vagyonvédelmi Alapítvány | B15: 1000000 | C15: 1300000 | D15: 1300000 | E15: =D15-C15 -> 0
A16: Váll. Fejl. Közalapítvány | B16: 1000000 | C16: 1000000 | D16: 1000000 | E16: =D16-C16 -> 0
A17: Volánbusz Zrt. (helyi közösségi közlekedés) | B17: 50733900 | C17: 50733900 | D17: 50733900 | E17: =D17-C17 -> 0
A18: Városért Közalapítvány | B18: 1400000 | C18: 1400000 | D18: 1400000 | E18: =D18-C18 -> 0
A19: Balatonfüred Város Közalapítvány Tempevölgy | B19: 2500000 | C19: 2500000 | D19: 2500000 | E19: =D19-C19 -> 0
A20: Kovászna Testvérvárosi Egyesület | B20: 200000 | C20: 200000 | D20: 200000 | E20: =D20-C20 -> 0
A21: Opatija Testvérvárosi Egyesület | B21: 200000 | C21: 200000 | D21: 200000 | E21: =D21-C21 -> 0
A22: Kouvala Testvérvárosi Egyesület | B22: 400000 | C22: 400000 | D22: 400000 | E22: =D22-C22 -> 0
A23: QUASIMODO Alapítvány | B23: 2000000 | C23: 2000000 | D23: 2000000 | E23: =D23-C23 -> 0
A24: Fordítóház Alapítvány | B24: 2100000 | C24: 2100000 | D24: 2100000 | E24: =D24-C24 -> 0
A25: Sport támogatási keretösszeg | B25: 82200000 | C25: 70507500 | D25: 62272500 | E25: =D25-C25 -> -8235000
... A36: Érzékeny Gyermekeinkét Alapít. (liszt és szűróvizsgálat is) | B36: 750000 | C36: 750000 | D36: 562500 | E36: =D36-C36 -> -187500
A37: Balatonfüred Polgárőr Egyesület formaruha | D37: 412242 | E37: =D37-C37 -> 412242
A38: Gitár fesztivál-Balatonfüredi Nemzetközi Gitárfesztivál Alapítvány | B38: 3500000 | C38: 3500000 | D38: 3500000 | E38: =D38-C38 -> 0
A39: Renaissance Festiváls Kft. Balaton-Ifjúság-Művészet Nemzetiközi Fesztivál | B39: 500000 | C39: 500000 | D39: 500000 | E39: =D39-C39 -> 0
A40: Balatonfüredi Turisztikai Egyesület (BTE) és Balaton Best Nonprofit Kft. Együtt | B40: 36750000 | C40: 32750000 | D40: 32750000 | E40: =D40-C40 -> 0
A41: Balaton Best Nonprofit Kft. | E41: =D41-C41 -> 0
A42: Művészeti együttesek nemzetközi kapcsolattartás támogatása pályázati alap | B42: 900000 | C42: 100000 | D42: 100000 | E42: =D42-C42 -> 0
A43: Reformkori Hagyományőrzők Egyesülete | B43: 600000 | C43: 600000 | D43: 600000 | E43: =D43-C43 -> 0
A44: Advent fényei | B44: 500000 | C44: 500000 | D44: 0 | E44: =D44-C44 -> -500000
A45: Balatonfüredi Nyugdíjas Pedagógus Egyesület | D45: 60000 | E45: =D45-C45 -> 60000
A46: Művészeti együttesek formaruha támogatás pályázati alap | B46: 645000 | C46: 245000 | D46: 245000 | E46: =D46-C46 -> 0
A47: "S.O.S. és Könyvelő" Szociálisan Rászorultakat Segítő Kft | B47: 1810140 | C47: 1810140 | D47: 1810140 | E47: =D47-C47 -> 0
A48: TÁMOGATÁSOK 2020. ÉV
A50: MEGNEVEZÉS | B50: 2020. évi eredeti ei. | C50: 2020. évi módosított ei. II. | D50: 2020. évi módosított ei. III. | E50: Eltérés
A51: Probio Zrt közszolgáltatási feladatok | B51: 220098335 | C51: 206825723 | D51: 206825723 | E51: =D51-C51 -> 0
A52: Sportesemények támogatása: Magyar Vitorlás Szövetség Kékszalag Fesztivál | B52: 2000000 | C52: 2000000 | D52: 1000000 | E52: =D52-C52 -> -1000000
A53: Sportesemények támogatása: Úszó Világkupa | B53: 0 | C53: 0 | D53: 0 | E53: =D53-C53 -> 0
A54: Balatonfüred Kulturális Nonprofit Kft. | B54: 208455000 | C54: 158033091 | D54: 153429284 | E54: =D54-C54 -> -4603807
A55: Múzsák Egyesülete Sirály táncfesztivál | B55: 800000 | C55: 800000 | D55: 800000 | E55: =D55-C55 -> 0
A56: Balatonfüredi Néptánc Egyesület | B56: 1000000 | C56: 1000000 | D56: 750000 | E56: =D56-C56 -> -250000
A57: Rákóczy Szövetség | B57: 200000 | C57: 200000 | D57: 200000 | E57: =D57-C57 -> 0
A58: Aranycsapat Alapítvány | B58: 100000 | C58: 100000 | D58: 100000 | E58: =D58-C58 -> 0
A59: Füred Studió Kft. | B59: =32887000+1644000 -> 34531000 | C59: 30231000 | D59: 30231000 | E59: =D59-C59 -> 0
A60: Cimbora Alapítvány az Egészséges és Kulturált Gyermekekért | B60: 1000000 | C60: 1000000 | D60: 1000000 | E60: =D60-C60 -> 0
A61: Siloam Református Otthon támogatása | B61: 1100000 | C61: 1100000 | D61: 1100000 | E61: =D61-C61 -> 0
A62: Konferencia Központ Kft. | B62: 95500000 | C62: 90000000 | D62: 90000000 | E62: =D62-C62 -> 0
A63: DRV Zrt. lakossági víz- és csatornaszolgáltatás támogatása | B63: 0 | C63: 0 | D63: 17278800 | E63: =D63-C63 -> 17278800
A64: Borlovagrend támogatása | B64: 800000 | C64: 0 | D64: 0 | E64: =D64-C64 -> 0
A65: Balatonfüredi Kerékpáros Egyesület rendezvények | B65: 800000 | C65: 800000 | D65: 800000 | E65: =D65-C65 -> 0
A66: Bringa Erdő Kft. Kerékpáros rendezvények | B66: 1500000 | C66: 1500000 | D66: 1500000 | E66: =D66-C66 -> 0
A67: ESBA 2020 Senior Kosárlabda EB | B67: 500000 | C67: 500000 | D67: 500000 | E67: =D67-C67 -> 0
A68: Balatonfüred Kézilabda Sportjáért Közhasznú Alapítvány | B68: 1000000 | C68: 1000000 | D68: 1000000 | E68: =D68-C68 -> 0
A69: Balatonfüred Város Sportjáért Közhasznú Alapítvány | B69: 1000000 | C69: 1000000 | D69: 1000000 | E69: =D69-C69 -> 0
A70: Védett szőlők támogatása | B70: 510000 | C70: 510000 | D70: 510000 | E70: =D70-C70 -> 0
A71: Római Katolikus Plébánia 344/2019.(XII.12.) | B71: 8000000 | C71: 0 | D71: 0 | E71: =D71-C71 -> 0
... A75: Magyar Szkander Szövetség magyar bajnokság támogatása | B75: 1000000 | C75: 1000000 | D75: 1000000 | E75: =D75-C75 -> 0
A76: Balatonfüredi Református Egyházegyházközség hittantábor támogatása | E76: =D76-C76 -> 0
A77: Zsidó Kiválóságok Háza Alapítvány | B77: 27500000 | C77: 25100000 | D77: 25100000 | E77: =D77-C77 -> 0
A78: Magyar Fitkid Szövetség XVII. FITKID Európa Kupa támogatása | E78: =D78-C78 -> 0
A79: Kelemen Ház adomány | E79: =D79-C79 -> 0
A80: Összesen: | B80: =B13+B5 -> 1348626381 | C80: =C13+C5 -> 1214244589 | D80: =D13+D5 -> 1221973169 | E80: =D80-C80 -> 7728580

Sheet 6.sz.tábla  (3)
A2: FELÚJÍTÁSOK 2020. ÉV
A4: Intézmény / munkanemek | B4: 2020. évi eredeti ei. | C4: 2020. évi módosított ei. II. | D4: 2020. évi módosított ei. III. | E4: Eltérés
A5: 1. Kiserdei Óvoda Park u.
A6: Konyha ajtó csere | B6: 300000 | C6: 300000 | D6: 300000 | E6: =D6-C6 -> 0
A7: Villamos szekrény felújítása | B7: 2800000 | C7: 2800000 | D7: 2800000 | E7: =D7-C7 -> 0
A8: Melegvíz ellátás kézmosókhoz | B8: 1300000 | C8: 1300000 | D8: 1300000 | E8: =D8-C8 -> 0
A9: Konyha mennyezet gipszkarton | B9: 444500 | C9: 444500 | D9: 444500 | E9: =D9-C9 -> 0
A10: Homokozó ütésgátló cseréje | B10: 250000 | C10: 250000 | D10: 250000 | E10: =D10-C10 -> 0
A11: Új udvari játék | B11: 2500000 | C11: 2500000 | D11: 2500000 | E11: =D11-C11 -> 0
A12: Fészekhinta felújítás | B12: 120000 | C12: 0 | D12: 0 | E12: =D12-C12 -> 0
E13: =D13-C13 -> 0
A14: Összesen: | B14: =SUM(B6:B13) -> 7714500 | C14: =SUM(C6:C13) -> 7594500 | D14: =SUM(D6:D13) -> 7594500 | E14: =SUM(E6:E13) -> 0
A16: 2. Református Óvoda - Iskolalépcső u.
A17: Ivókút kiépítése | B17: 415000 | C17: 415000 | D17: 415000 | E17: =D17-C17 -> 0
A18: Bordás fal és függönytartó | B18: 38100 | C18: 38100 | D18: 38100 | E18: =D18-C18 -> 0
A19: udvari kapu kiépítése | B19: 381000 | C19: 381000 | D19: 381000 | E19: =D19-C19 -> 0
A20: Összesen: | B20: =SUM(B17:B19) -> 834100 | C20: =SUM(C17:C19) -> 834100 | D20: =SUM(D17:D19) -> 834100 | E20: =SUM(E17:E19) -> 0
A22: 3. Hunyadi u. Óvoda
A23: Összesen: | E23: =SUM(E20:E22) -> 0
A25: 4. Tündérkert Óvoda
A26: Füvesítés folytatása következő szakasz | B26: 2500000 | C26: 2500000 | D26: 2500000 | E26: =D26-C26 -> 0
A27: Udvari játékok | B27: 2000000 | C27: 2000000 | D27: 2000000 | E27: =D27-C27 -> 0
A28: Udvari ivókút | B28: 300000 | C28: 300000 | D28: 300000 | E28: =D28-C28 -> 0
A29: Füvesítés folytatása következő szakasz | B29: 2000000 | C29: 0 | D29: 0 | E29: =D29-C29 -> 0
A30: Folyosók és csoportszobák festése | B30: 2500000 | C30: 2500000 | D30: 2500000 | E30: =D30-C30 -> 0
A31: homokcsere | B31: 400000 | C31: 0 | D31: 0 | E31: =D31-C31 -> 0
A32: Összesen: | B32: =SUM(B26:B31) -> 9700000 | C32: =SUM(C26:C31) -> 7300000 | D32: =SUM(D26:D31) -> 7300000 | E32: =SUM(E26:E31) -> 0
A34: Intézmény / munkanemek | B34: 2020. évi eredeti ei. | C34: 2020. évi módosított ei. II. | D34: 2020. évi módosított ei. III. | E34: Eltérés
A35: 5. Városi Bölcsőde
A36: Füvesítés folytatása következő szakasz | B36: 2500000 | C36: 2500000 | D36: 2500000 | E36: =D36-C36 -> 0
A37: Új udvari játékok, meglévők korszerűsítése | B37: 2500000 | C37: 2500000 | D37: 2500000 | E37: =D37-C37 -> 0
A38: Homokcsere, ponyvás lefedés | B38: 1000000 | C38: 0 | D38: 0 | E38: =D38-C38 -> 0
A39: Fürdőszoba átalakítása | D39: 1100000 | E39: =D39-C39 -> 1100000
A40: Összesen: | B40: =SUM(B36:B38) -> 6000000 | C40: =SUM(C36:C38) -> 5000000 | D40: =SUM(D36:D39) -> 6100000 | E40: =SUM(E36:E38) -> 0
A42: 6. Óvárosi Óvoda
A43: Ereszcsatorna felújítása | B43: 2500000 | C43: 2500000 | D43: 2500000 | E43: =D43-C43 -> 0
A44: K-i oldali foglalkoztató menyezet felújítás | B44: 900000 | C44: 900000 | D44: 900000 | E44: =D44-C44 -> 0
A45: Külső falfelület felújítása folytatása | B45: 2000000 | C45: 2000000 | D45: 2000000 | E45: =D45-C45 -> 0
A46: Kazán oldali tető felújítás | B46: 3000000 | C46: 3000000 | D46: 3000000 | E46: =D46-C46 -> 0
A47: Vízelvezetés ÉK-i résznél | B47: 1000000 | C47: 1000000 | D47: 1000000 | E47: =D47-C47 -> 0
A48: Összesen: | B48: =SUM(B43:B47) -> 9400000 | C48: =SUM(C43:C47) -> 9400000 | D48: =SUM(D43:D47) -> 9400000 | E48: =SUM(E43:E47) -> 0
A50: 7. Mogyoró u. Óvoda
A51: Összesen:
A53: 8. Eötvös Loránd Általános Iskola
A54: Összesen:
A56: 9. Református Általános Iskola
A57: tetőfelújítás padlástérben | B57: 500000 | C57: 0 | D57: 0 | E57: =D57-C57 -> 0
A58: tetőhéjazat felújítása | B58: 127000 | C58: 127000 | D58: 127000 | E58: =D58-C58 -> 0
A59: Összesen: | B59: =SUM(B57:B58) -> 627000 | C59: =SUM(C57:C58) -> 127000 | D59: =SUM(D57:D58) -> 127000 | E59: =SUM(E57:E58) -> 0
A61: 10. Radnóti Miklós Általános Iskola
A62: Összesen:
A64: 11. Fekete István Általános Iskola
A65: Összesen:
A67: 12. Ferencsik János Zeneiskola
A68: Összesen:
A70: 13. Szent Benedek Gimnázium
A71: Összesen
A72: Intézmény / munkanemek | B72: 2020. évi eredeti ei. | C72: 2020. évi módosított ei. II. | D72: 2020. évi módosított ei. III. | E72: Eltérés
A74: 14. Lóczy Lajos Gimnázium
A75: belső udvar és lépcső felújítás | B75: 10000000 | C75: 19057620 | D75: 19057620 | E75: =D75-C75 -> 0
A76: Összesen: | B76: =SUM(B75) -> 10000000 | C76: =SUM(C75) -> 19057620 | D76: =SUM(D75) -> 19057620 | E76: =SUM(E75) -> 0
A78: 15. Közösségi Ház
A79: Összesen:
A81: 16. BSZAK
A82: Ereszcsatorna bekötése csapadékaknába | B82: 300000 | C82: 300000 | D82: 300000 | E82: =D82-C82 -> 0
A83: kerti csap kialakítása | B83: 150000 | C83: 150000 | D83: 150000 | E83: =D83-C83 -> 0
A84: épület festése | B84: 2500000 | C84: 2500000 | D84: 2500000 | E84: =D84-C84 -> 0
A85: Összesen: | B85: =SUM(B82:B84) -> 2950000 | C85: =SUM(C82:C84) -> 2950000 | D85: =SUM(D82:D84) -> 2950000 | E85: =SUM(E82:E84) -> 0
A87: 17. Városi Szakorvosi Rendelőintézet
A88: Összesen:
A90: 18. Lipták Gábor Városi Könyvtár
A91: Foglalkoztató-tetősík ablakok szellőztetése | B91: 673000 | C91: 673000 | D91: 673000 | E91: =D91-C91 -> 0
A92: Összesen: | B92: =SUM(B91) -> 673000 | C92: =SUM(C91) -> 673000 | D92: =SUM(D91) -> 673000 | E92: =SUM(E91) -> 0
A94: 22. Balatonfüredi Közös Önkormányzati Hivatal épülete
A95: Tetőfelújítás, tetősík ablakok cseréje nyugati oldal | B95: 15700000 | C95: 15700000 | D95: 15700000 | E95: =D95-C95 -> 0
A96: Tetőfelújítás, tetősík ablakok cseréje keleti oldal | B96: 5970000 | C96: 0 | D96: 0 | E96: =D96-C96 -> 0
A97: Összesen: | B97: =SUM(B95:B96) -> 21670000 | C97: =SUM(C95:C96) -> 15700000 | D97: =SUM(D95:D96) -> 15700000 | E97: =SUM(E95:E96) -> 0
A99: 23. Arácsi Népház, Posta
A100: Vakolat felújítás és szigetelési munkák | B100: 4000000 | C100: 4000000 | D100: 4000000 | E100: =D100-C100 -> 0
A101: Térburkolat felújítása főbejárat előtt és a patak felé | B101: 1700000 | C101: 1700000 | D101: 1700000 | E101: =D101-C101 -> 0
A102: Könyvtár utcafronti belső fal jav. | B102: 700000 | C102: 700000 | D102: 700000 | E102: =D102-C102 -> 0
A103: Konyha fal és lépcsőház fal jav. | B103: 700000 | C103: 700000 | D103: 700000 | E103: =D103-C103 -> 0
A104: Népház főbejárat ajtócsere | B104: 1000000 | C104: 1000000 | D104: 1000000 | E104: =D104-C104 -> 0
A105: Emeleti irodai ablakok felújítása | B105: 500000 | C105: 500000 | D105: 500000 | E105: =D105-C105 -> 0
A106: Összesen: | B106: =SUM(B100:B105) -> 8600000 | C106: =SUM(C100:C105) -> 8600000 | D106: =SUM(D100:D105) -> 8600000 | E106: =SUM(E100:E105) -> 0
A108: 24. Konferencia Központ
A110: Összesen:
A112: 25. Tartalék | C112: 424380 | D112: 0 | E112: =D112-C112 -> -424380
A113: 26. Lakásfelújítás 2019 évi | B113: 9000000 | C113: 9000000 | D113: 9000000 | E113: =D113-C113 -> 0
A114: 27.Egyéb épület: | E114: =D114-C114 -> 0
A115: Astória homlokzat felújítás | B115: 5359527 | C115: 5359527 | D115: 5359527 | E115: =D115-C115 -> 0
A116: Astória homlokzat felújítás folytatása | B116: 5800000 | C116: 5800000 | D116: 5800000 | E116: =D116-C116 -> 0
A117: Bartók B. u. 6. két lakás nyílászárók cseréje és felújítása | B117: 9080500 | C117: 10605500 | D117: 10605500 | E117: =D117-C117 -> 0
A118: Siske u. 7. felújítás | D118: 2900000 | E118: =D118-C118 -> 2900000
A119: Összesen: | B119: =SUM(B115:B117) -> 20240027 | C119: =SUM(C115:C117) -> 21765027 | D119: =SUM(D115:D118) -> 24665027 | E119: =SUM(E115:E118) -> 2900000
A120: Mindösszesen: | B120: =B113+B97+B92+B88+B85+B79+B76+B62+B59+B54+B51+B48+B40+B32+B23+B20+B14+B68+B112+B110+B106+B65+B71+B119 -> 107408627 | C120: =C113+C97+C92+C88+C85+C79+C76+C62+C59+C54+C51+C48+C40+C32+C23+C20+C14+C68+C112+C110+C106+C65+C71+C119 -> 108425627 | D120: =D113+D97+D92+D88+D85+D79+D76+D62+D59+D54+D51+D48+D40+D32+D23+D20+D14+D68+D112+D110+D106+D65+D71+D119 -> 112001247 | E120: =E113+E97+E92+E88+E85+E79+E76+E62+E59+E54+E51+E48+E40+E32+E23+E20+E14+E68+E112+E110+E106+E65+E71+E119 -> 2475620
A121: Kötelezettségek | B121: =B116+B115+B6+B7+B8+B9+B17+B18+B26+B19+B36+B43+B82+B95+B117+B27+B28 -> 51718627 | C121: =C116+C115+C6+C7+C8+C9+C17+C18+C26+C19+C36+C43+C82+C95+B117+C27+C28 -> 51718627 | D121: =D116+D115+D6+D7+D8+D9+D17+D18+D26+D19+D36+D43+D82+D95+B117+D27+D28+D118+D112+D39 -> 55718627
A122: 2019. évi ei. | B122: =B105+B104+B103+B102+B101+B100+B96+B91+B84+B83+B75+B58+B57+B47+B46+B45+B44+B38+B37+B31+B30+B29+B12+B11+B10 -> 46690000 | C122: =C105+C104+C103+C102+C101+C100+C96+C91+C84+C83+C75+C58+C57+C47+C46+C45+C44+C38+C37+C31+C30+C29+C12+C11+C10+C117-B117+C112 -> 47707000 | D122: =D105+D104+D103+D102+D101+D100+D96+D91+D84+D83+D75+D58+D57+D47+D46+D45+D44+D38+D37+D31+D30+D29+D12+D11+D10+D117-B117+D112 -> 47282620
A123: lakásfelújítás | B123: =B113 -> 9000000 | C123: =C113 -> 9000000 | D123: =D113 -> 9000000 | E123: =E113 -> 0
A124: ÖSSZESEN: (a tábla vége) | B124: =SUM(B121:B123) -> 107408627 | C124: =SUM(C121:C123) -> 108425627 | D124: =SUM(D121:D123) -> 112001247 | E124: =SUM(E121:E123) -> 0

Sheet 7. sz. tábla 1
A4: FELHALMOZÁSI KIADÁSOK 2020. ÉV
A6: Megnevezés | B6: 2020. évi eredeti ei. | C6: 2020. évi módosított ei. II. | D6: 2020. évi módosított ei. III. | E6: Eltérés
A7: I. Kötelezettséggel terhelt fejlesztések
A8: Savanyúvizes kutak védterület kijelölése (340/2007 sz. hat.) hidrogeológiai geodéziai anyag készítése
A9: Tervek, megvalósítási tanulmányok, pályázatok | B9: 2921000 | C9: 2921000 | D9: 2921000 | E9: =D9-C9 -> 0
A10: Zsinagóga építés | E10: =D10-C10 -> 0
A11: 072 hrsz-ú ingatlan megvásárlása 2016. évi ütem | B11: 45111110 | C11: 45111110 | D11: 45111110 | E11: =D11-C11 -> 0
A12: Morvai J. u. ivóvíz hálózat tervezése | B12: 349250 | C12: 0 | D12: 0 | E12: =D12-C12 -> 0
A13: Vizes VB parkolófejlesztés Zákonyi mélygarázs | B13: 0 | C13: 0 | D13: 0 | E13: =D13-C13 -> 0
A14: TOP-1.2.1.-15 Széchenyi strand fejlesztése | B14: 0 | C14: 0 | D14: 0 | E14: =D14-C14 -> 0
A15: TOP-1.1.1.-15 Térségi kihatással bíró ipartelepítés infrastrukturálás feltételeinek megteremtése | B15: 0 | C15: 0 | D15: 0 | E15: =D15-C15 -> 0
A16: TOP-4.1.1.-15 Egészségügyi alapellátás fejlesztése Balatonfüreden | B16: 0 | C16: 0 | D16: 0 | E16: =D16-C16 -> 0
A17: Annagóra Park Bevásárlóközpont Társasház 41,11 % tulajdoni hányad megvásárlása | B17: 0 | C17: 0 | D17: 0 | E17: =D17-C17 -> 0
A18: 122/4 hrsz-ú ingatlanon épülő mélygarázsban 58db parkoló megvásárlása | B18: 73660000 | C18: 73660000 | D18: 73660000 | E18: =D18-C18 -> 0
A19: Lóczy L. u. 52. ingatlan felújítás | B19: 1714500 | C19: 1714500 | D19: 1714500 | E19: =D19-C19 -> 0
A20: Forgalomtechnikai feladatok tervezése | B20: 1290320 | C20: 1290320 | D20: 1290320 | E20: =D20-C20 -> 0
A21: településrendezési eszközök | B21: 762000 | C21: 1333500 | D21: 3238500 | E21: =D21-C21 -> 1905000
A22: 71-es út forgalmi rend felülvizsgálat | B22: 0 | C22: 0 | D22: 0 | E22: =D22-C22 -> 0
... A38: Kovászna Parkban vízkivételi mű létesítése | B38: 0 | C38: 0 | D38: 0 | E38: =D38-C38 -> 0
A39: Megnevezés | B39: 2020. évi eredeti ei. | C39: 2020. évi módosított ei. II. | D39: 2020. évi módosított ei. III. | E39: Eltérés
A40: Brázay étterem, csónakkikötő tervezés előkészítés | B40: 0 | C40: 0 | D40: 0 | E40: =D40-C40 -> 0
A41: Horgász Klubház | B41: 0 | C41: 0 | D41: 0 | E41: =D41-C41 -> 0
A42: Ingatlanok vásárlása közpark részére (071/76,069/27-069/30,071/68,071/70,071/101,071/102 | B42: 0 | C42: 0 | D42: 0 | E42: =D42-C42 -> 0
A43: Bajcsy-Zs. U. és Vázsonyi út közötti szakasz útépítési engedélyezési terv felülvizsgálata | B43: 0 | C43: 0 | D43: 0 | E43: =D43-C43 -> 0
A44: P. Horváth Á. U. közművek tervezése | B44: 0 | C44: 0 | D44: 0 | E44: =D44-C44 -> 0
A45: TOP-2.1.2.-16 VE1 Ófalu településrész fejlesztése tanulmányterv | B45: 0 | C45: 0 | D45: 0 | E45: =D45-C45 -> 0
A46: Ófalu településrész fejlesztése ingatlanok megvásárlása | B46: 24000000 | C46: 26733624 | D46: 26733624 | E46: =D46-C46 -> 0
A47: EFOP-1.5.2-16-2017-00016 Humán közszolgáltatások fejlesztése az Észak-Balatoni térségben | B47: 10522996 | C47: 10522996 | D47: 10522996 | E47: =D47-C47 -> 0
A48: TOP-2.1.2-16-VE1-2017-00009 azonosítószámú, Balatonfüred Ófalu fejlesztése | B48: 823375902 | C48: 823375902 | D48: 0 | E48: =D48-C48 -> -823375902
A49: TOP-2.1.3-16-VE1-2017-00008 Balatonfüred csapadékcsatorna hálózatának fejlesztése | B49: 0 | C49: 0 | D49: 0 | E49: =D49-C49 -> 0
A50: GINOP-7.1.9-17-2017-0001 Gyógyhelyfejlesztés Balatonfüred Városában | B50: 12106000 | C50: 12106000 | D50: 12106000 | E50: =D50-C50 -> 0
A51: Zákonyi mélygarázs felett B épület | B51: 0 | C51: 0 | D51: 0 | E51: =D51-C51 -> 0
... A74: Kéki u. II.002. lakásvásárlás | B74: 32980000 | C74: 32980000 | D74: 32980000 | E74: =D74-C74 -> 0
A75: Megnevezés | B75: 2020. évi eredeti ei. | C75: 2020. évi módosított ei. II. | D75: 2020. évi módosított ei. III. | E75: Eltérés
A76: TOP-3.2.1-16-VE1-2018-00033 A Balatonfüredi Lipták Gábor Városi Könyvtár energetikai korszerűsítése | B76: 27535688 | C76: 27535688 | D76: 27535688 | E76: =D76-C76 -> 0
A77: GINOP Balatoni Vízi megállóhelyek létesítése | B77: 321590000 | C77: 321590000 | D77: 321590000 | E77: =D77-C77 -> 0
A78: Tamási Áron és Ferencsik János utcák kereszteződésében a közvilágítási légvezeték hálózat kiváltása földkábelre | B78: 999966 | C78: 999966 | D78: 999966 | E78: =D78-C78 -> 0
A79: Petőfi S. utca- Séta utca csomópont döntés előkészítő terv | B79: 444500 | C79: 444500 | D79: 444500 | E79: =D79-C79 -> 0
A80: Ivópohár gyűjtemény 70 db-os | B80: 2000000 | C80: 2000000 | D80: 2000000 | E80: =D80-C80 -> 0
A81: Városi Bölcsőde faház | B81: 2481115 | C81: 2481115 | D81: 2481115 | E81: =D81-C81 -> 0
A82: 403/27/A hrsz-ú ingatlan "egyéb épület, áruház" megvásárlása tárgyévi | B82: 11000000 | C82: 11000000 | D82: 11000000 | E82: =D82-C82 -> 0
A83: Siske u. 9. 1992 hrsz-ú ingatlan megvásárlása | B83: 20000000 | C83: 20000000 | D83: 20000000 | E83: =D83-C83 -> 0
A84: Aszófői út melletti lakóterület közművesítés (Laki dülő víz, szennyvíz) | B84: 75846433 | C84: 75846433 | D84: 75846433 | E84: =D84-C84 -> 0
A85: Hunyadi utcai óvoda beruházás 2019. évi ütem | B85: 229426923 | C85: 184466256 | D85: 184466256 | E85: =D85-C85 -> 0
A86: Hunyadi utcai óvoda infrastruktúrális fejlesztése hazai forrás | B86: 40000000 | C86: 40000000 | D86: 40000000 | E86: =D86-C86 -> 0
A87: Hunyadi utcai óvoda eszközbeszerzés | B87: 677437 | C87: 677437 | D87: 677437 | E87: =D87-C87 -> 0
... A92: játszóterek felújítása, bővítése 2019. | B92: 11980507 | C92: 11354810 | D92: 11354810 | E92: =D92-C92 -> 0
A93: Információs táblák | C93: 974947 | D93: 974947 | E93: =D93-C93 -> 0
E94: =D94-C94 -> 0
E95: =D95-C95 -> 0
E96: =D96-C96 -> 0
A97: I. összesen: | B97: =SUM(B8:B96) -> 3444241983 | C97: =SUM(C8:C96) -> 3648552995 | D97: =SUM(D8:D96) -> 2839031695 | E97: =SUM(E8:E96) -> -809521300
A98: Megnevezés | B98: 2020. évi eredeti ei. | C98: 2020. évi módosított ei. II. | D98: 2020. évi módosított ei. III. | E98: Eltérés
A99: II. Javasolt fejlesztések
A100: Beruházás előkészítő kiadások | B100: 15000000 | C100: 5346730 | D100: 1466730 | E100: =D100-C100 -> -3880000
A101: Egyéb beruházási kiadások | B101: 10000000 | C101: 5393000 | D101: 166958 | E101: =D101-C101 -> -5226042
A102: Kéki u. I.104. lakásvásárlás | B102: 43650000 | C102: 43650000 | D102: 43650000 | E102: =D102-C102 -> 0
A103: Kéki u. I.204. lakásvásárlás | B103: 43650000 | C103: 43650000 | D103: 43650000 | E103: =D103-C103 -> 0
A104: Kéki u. I.001. lakásvásárlás | B104: 45590000 | C104: 45590000 | D104: 45590000 | E104: =D104-C104 -> 0
A105: ZP-1-2019 zártkeri besorolású földrészletek mg-i hasznosítását segítő, infrastrukturális hátterét biztosító fejlesztések | B105: 14219202 | C105: 14371602 | D105: 14371602 | E105: =D105-C105 -> 0
A106: Légvezeték kiváltás | B106: 30000000 | C106: 20000000 | D106: 20000000 | E106: =D106-C106 -> 0
A107: Hulladékgyűjtők, utcabútorok cseréje 2019. évi | E107: =D107-C107 -> 0
A108: Temető felújítás | B108: 8000000 | C108: 8000000 | D108: 8000000 | E108: =D108-C108 -> 0
A109: Játszóterek felújítása | B109: 6000000 | C109: 6000000 | D109: 6000000 | E109: =D109-C109 -> 0
A110: Hulladékgyűjtő szigetek takarása | B110: 4000000 | C110: 4000000 | D110: 4000000 | E110: =D110-C110 -> 0
A111: Szökőkutak, Berzsenyi kút | B111: 6000000 | C111: 6000000 | D111: 6000000 | E111: =D111-C111 -> 0
A112: Gyalogutak, járdák, lépcsők | B112: 13000000 | C112: 13000000 | D112: 0 | E112: =D112-C112 -> -13000000
A113: Vitorlástér homokkő burkolat cseréje | D113: 3152140 | E113: =D113-C113 -> 3152140
A114: Vásárcsarnok klíma | B114: 8000000 | C114: 8000000 | D114: 0 | E114: =D114-C114 -> -8000000
A115: Útépítés 2020-2021. | B115: 30000000 | C115: 30000000 | D115: 1968500 | E115: =D115-C115 -> -28031500
A116: Belterületi utak, járdák felújítása pályázat (Arad u.) | D116: 62108500 | E116: =D116-C116 -> 62108500
A117: Tervek | B117: 35000000 | C117: 27453400 | D117: 5450650 | E117: =D117-C117 -> -22002750
A118: Buszvárók cseréje | B118: 4000000 | C118: 4000000 | D118: 4000000 | E118: =D118-C118 -> 0
A119: Közvilágítás bővítés 2019. év | B119: 10000000 | C119: 10000000 | D119: 10000000 | E119: =D119-C119 -> 0
A120: Zöldterület fejlesztés 2020. | B120: 17000000 | C120: 8104221 | D120: 449814 | E120: =D120-C120 -> -7654407
A121: Hulladékgyűjtők | C121: 2962021 | D121: 2962021 | E121: =D121-C121 -> 0
A122: Kéki utcai társasházak körüli környezetrendezés | C122: 5933758 | D122: 5933758 | E122: =D122-C122 -> 0
A123: TOP-1.1.1-16 Ipari parkok, iparterületek fejlesztése (Új pályázatként) | B123: 1115435742 | C123: 1115435742 | D123: 1115435742 | E123: =D123-C123 -> 0
A124: TOP-3.2.2-15-VE1-2016-00002 Biomassza alapú ORC erőmű Balatonfüred | B124: 601785000 | C124: 601785000 | D124: 617633330 | E124: =D124-C124 -> 15848330
A125: Siske u. 7. ingatlanrész vásárlás | B125: 25500000 | C125: 25500000 | D125: 25500000 | E125: =D125-C125 -> 0
A126: Könyvtár bútorok | B126: 11000000 | C126: 11000000 | D126: 9800000 | E126: =D126-C126 -> -1200000
A127: Könyvtár környezetrendezés | B127: 4500000 | C127: 4500000 | D127: 7031984 | E127: =D127-C127 -> 2531984
A128: TOP-1.2.1-16-VE1-2019 Társadalmi és környezeti szempontból fenntartható turizmusfejlesztés | B128: 71000000 | C128: 392050306 | D128: 395479306 | E128: =D128-C128 -> 3429000
A129: területszerzés, kisajátítás | B129: 30000000 | C129: 30000000 | D129: 26758000 | E129: =D129-C129 -> -3242000
A130: Megnevezés | B130: 2020. évi eredeti ei. | C130: 2020. évi módosított ei. II. | D130: 2020. évi módosított ei. III. | E130: Eltérés
A131: Völgy u. ingatlanok kisajátítás, területszerzés | D131: 3241000 | E131: =D131-C131 -> 3241000
A132: 1780/99 hrsz-ú ingatlanból területrész vásárlása | D132: 1000 | E132: =D132-C132 -> 1000
A133: Kiserdő felújítás 2020. év | D133: 7654407 | E133: =D133-C133 -> 7654407
A134: Kemping alacsony fénypontú vandálbiztos térvilágítás | C134: 12700000 | D134: 12700000 | E134: =D134-C134 -> 0
A135: KFE-00201-8/2020 Balatonfüred új kulturális negyedének kialakítása II. ütem (Huray mélygarázs) | D135: 257810000 | E135: =D135-C135 -> 257810000
A136: Óváros rehabilitáció | B136: 35000000 | C136: 35000000 | D136: 35000000 | E136: =D136-C136 -> 0
A137: Négy évszakos játszóház garázs | B137: 25000000 | C137: 25000000 | D137: 138446 | E137: =D137-C137 -> -24861554
A138: GINOP-7.1.9-17-2018-00008 Turisztikailag frekventált térségek integrált termék- és szolgáltatás fejlesztése | B138: 49705494 | C138: 49705494 | D138: 49705494 | E138: =D138-C138 -> 0
A139: GINOP Négy évszakos kulturális és rendezvényhelyszín fejlesztése Balatonfüreden | B139: 2864320565 | C139: 2864320565 | D139: 2955565832 | E139: =D139-C139 -> 91245267
A140: KFE-00120-5/2020 Balatonfüred Széchenyi strand fejlesztése | B140: 107950000 | C140: 107950000 | D140: 109093000 | E140: =D140-C140 -> 1143000
A141: Fűkasza és egyéb kisértékű eszköz beszerzés | C141: 239870 | D141: 239870 | E141: =D141-C141 -> 0
A142: Balatonfüred Nagyfenyő dűlő 072 hrsz-ú ingatlan EON hálózatfejlesztés | C142: 1479870 | D142: 1479870 | E142: =D142-C142 -> 0
A143: Vitorlástéri buszváró és környezetének áttervezése | C143: 762000 | D143: 762000 | E143: =D143-C143 -> 0
A144: Széchenyi u. 41. társasház előtti sétány tervezése | C144: 660400 | D144: 660400 | E144: =D144-C144 -> 0
A145: Aranyhíd sétány kiépítése a Kisfaludy strand főbejáratáig | C145: 1727200 | D145: 1727200 | E145: =D145-C145 -> 0
...

Sheet 8. sz. tábla  (3)
A4: Az Önkormányzat működési bevételei és kiadásai 2020. év
A6: 1. Működési bevételek | B6: 2020. évi eredeti ei. | C6: 2020. évi módosított ei. I. | D6: 2020. évi módosított ei. II. | E6: Eltérés | F6: 2. Működési kiadások | G6: 2020. évi eredeti ei. | H6: 2020. évi módosított ei. I. | I6: 2020. évi módosított ei. II. | J6: Eltérés
A7: 1. Működési célú támogatások államháztartáson belülről | B7: ='2.sz.tábla (2)'!N7 -> 1518232816 | C7: ='2.sz.tábla (2)'!O7 -> 1618441584 | D7: ='2.sz.tábla (2)'!P7 -> 1644002138 | E7: =D7-C7 -> 25560554 | F7: 1. Személyi juttatások | G7: ='4.sz.tábla '!B13 -> 664026977 | H7: ='4.sz.tábla '!C13 -> 686262766 | I7: ='4.sz.tábla '!D13 -> 686817565 | J7: =I7-H7 -> 554799
A8: 2. Közhatalmi bevételek | B8: ='2.sz.tábla (2)'!N30 -> 2058240000 | C8: ='2.sz.tábla (2)'!O30 -> 1627117610 | D8: ='2.sz.tábla (2)'!P30 -> 1627117610 | E8: =D8-C8 -> 0 | F8: 2. Munkaadót terhelő járulékok és szoc.hj. Adó | G8: ='4.sz.tábla '!F13 -> 122015138 | H8: ='4.sz.tábla '!G13 -> 124273948 | I8: ='4.sz.tábla '!H13 -> 124464759 | J8: =I8-H8 -> 190811
A9: 3. Működési bevételek | B9: ='2.sz.tábla (2)'!N43-'8. sz. tábla (3)'!B33 -> 716113096 | C9: ='2.sz.tábla (2)'!O43-'8. sz. tábla (3)'!C33 -> 699363334 | D9: ='2.sz.tábla (2)'!P43-'8. sz. tábla (3)'!D33 -> 680347869 | E9: =D9-C9 -> -19015465 | F9: 3. Dologi kiadások | G9: ='4.sz.tábla '!J13 -> 1338249253 | H9: ='4.sz.tábla '!K13 -> 1405460644 | I9: ='4.sz.tábla '!L13 -> 1328334772 | J9: =I9-H9 -> -77125872
A10: 4. Működési célú átvett pénzeszközök államháztartáson kivülről | B10: ='2.sz.tábla (2)'!N66 -> 3000000 | C10: ='2.sz.tábla (2)'!O66 -> 3720754 | D10: ='2.sz.tábla (2)'!P66 -> 19720754 | E10: =D10-C10 -> 16000000 | F10: 4. Ellátottak pénzbeli juttatásai | G10: ='4.sz.tábla '!O13 -> 27600000 | H10: ='4.sz.tábla '!P13 -> 27600000 | I10: ='4.sz.tábla '!Q13 -> 30600000 | J10: =I10-H10 -> 3000000
E11: =D11-C11 -> 0 | F11: 5. Egyéb működési célú kiadások | G11: =SUM(G12:G15) -> 1355809612 | H11: =SUM(H12:H15) -> 1224401769 | I11: =SUM(I12:I15) -> 1232130349 | J11: =I11-H11 -> 7728580
E12: =D12-C12 -> 0 | F12: 5.1. Elvonások, befizetések | G12: ='5.tábla (2)'!B135 -> 7183231 | H12: ='5.tábla (2)'!C135 -> 7183231 | I12: ='5.tábla (2)'!D135 -> 7183231 | J12: =I12-H12 -> 0
E13: =D13-C13 -> 0 | F13: 5.2. Egyéb működési célú támogatások áh-n belülre | G13: ='5.tábla (2)'!B139 -> 535229687 | H13: ='5.tábla (2)'!C139+'5.tábla (2)'!C35+'4.sz.tábla '!T9 -> 507108865 | I13: ='5.tábla (2)'!D139+'5.tábla (2)'!D35+'4.sz.tábla '!U9 -> 512757615 | J13: =I13-H13 -> 5648750
E14: =D14-C14 -> 0 | F14: 5.4. Egyéb működési célú támogatások áh-n kívülre | G14: ='5.tábla (2)'!B144 -> 813396694 | H14: ='5.tábla (2)'!C144 -> 710109673 | I14: ='5.tábla (2)'!D144 -> 712189503 | J14: =I14-H14 -> 2079830
E15: =D15-C15 -> 0 | F15: 5.5. Működési célú visszatérítendő támogatások, kölcsönök nyújtása áh-n kívülre | G15: ='5.tábla (2)'!B141 -> 0 | H15: ='5.tábla (2)'!C141 -> 0 | I15: ='5.tábla (2)'!D141 -> 0 | J15: =I15-H15 -> 0
E16: =D16-C16 -> 0 | F16: 6. Pénzforgalom nélküli kiadások (tartalék) | G16: ='1.sz.tábla (2)'!B30-'8. sz. tábla (3)'!G38 -> 39684814 | H16: ='1.sz.tábla (2)'!C30-'8. sz. tábla (3)'!H38 -> 166392272 | I16: ='1.sz.tábla (2)'!D30-'8. sz. tábla (3)'!I38 -> 131124997 | J16: =I16-H16 -> -35267275
A17: Összes költségvetési működési bevétel: | B17: =SUM(B7:B16) -> 4295585912 | C17: =SUM(C7:C16) -> 3948643282 | D17: =SUM(D7:D16) -> 3971188371 | E17: =D17-C17 -> 22545089 | F17: Összes költségvetési működési kiadás: | G17: =G7+G8+G9+G10+G11+G16 -> 3547385794 | H17: =H7+H8+H9+H10+H11+H16 -> 3634391399 | I17: =I7+I8+I9+I10+I11+I16 -> 3533472442 | J17: =I17-H17 -> -100918957
A18: Működési többlet: | B18: =B17-G17 -> 748200118 | C18: =C17-H17 -> 314251883 | D18: =D17-I17 -> 437715929 | E18: =D18-C18 -> 123464046 | F18: Működési hiány: | J18: =I18-H18 -> 0
A19: Költségvetési hiány belső finanszírozása működési célú | B19: =SUM(B20) -> 169764970 | C19: =SUM(C20) -> 400727908 | D19: =SUM(D20) -> 162764447 | E19: =D19-C19 -> -237963461 | F19: Finanszírozási célú műveletek kiadásai működési célú | G19: =SUM(G20:G23) -> 53389205 | H19: =SUM(H20:H23) -> 53389205 | I19: =SUM(I20:I23) -> 53389205 | J19: =I19-H19 -> 0
A20: 5. Költségvetési Maradvány | B20: ='2.sz.tábla (2)'!N77 -> 169764970 | C20: ='2.sz.tábla (2)'!O77 -> 400727908 | D20: ='2.sz.tábla (2)'!P77 -> 162764447 | E20: =D20-C20 -> -237963461 | F20: 7. Államháztartáson belüli megelőlegezés visszafizetése | G20: ='7. sz. tábla 1'!B236 -> 53389205 | H20: ='7. sz. tábla 1'!C236 -> 53389205 | I20: ='7. sz. tábla 1'!D236 -> 53389205 | J20: =I20-H20 -> 0
A21: Költségvetési hiány külső finanszírozása működési célú | B21: =SUM(B22:B24) -> 12800000 | C21: =SUM(C22:C24) -> 289413683 | D21: =SUM(D22:D24) -> 289413683 | E21: =D21-C21 -> 0 | F21: 8. Hitelek törlesztése | J21: =I21-H21 -> 0
A22: 6. Értékpapír kibocsátás, értékesítés | B22: 0 | C22: 276613683 | D22: 276613683 | E22: =D22-C22 -> 0 | F22: 9. Betét vásárlás | J22: =I22-H22 -> 0
A23: 7. Hitelfelvétel | E23: =D23-C23 -> 0 | F23: 10. Forgatási célú értékpapír vásárlás | G23: ='7. sz. tábla 1'!B235 -> 0 | H23: ='7. sz. tábla 1'!C235 -> 0 | I23: ='7. sz. tábla 1'!D235 -> 0 | J23: =I23-H23 -> 0
A24: 8. Állami támogatás megelőlegezés visszafizetése | B24: ='2.sz.tábla (2)'!N90 -> 12800000 | C24: ='2.sz.tábla (2)'!O90 -> 12800000 | D24: ='2.sz.tábla (2)'!P90 -> 12800000 | E24: =D24-C24 -> 0 | J24: =I24-H24 -> 0
A25: Összes működési bevétel: | B25: =B17+B19+B21 -> 4478150882 | C25: =C17+C19+C21 -> 4638784873 | D25: =D17+D19+D21 -> 4423366501 | E25: =D25-C25 -> -215418372 | F25: Összes működési kiadás | G25: =G19+G17 -> 3600774999 | H25: =H19+H17 -> 3687780604 | I25: =I19+I17 -> 3586861647 | J25: =I25-H25 -> -100918957
A27: Az Önkormányzat felhalmozási bevételei és kiadásai 2020. év
A29: 1. Felhalmozási bevételek | B29: 2020. évi eredeti ei. | C29: 2020. évi módosított ei. I. | D29: 2020. évi módosított ei. II. | E29: Eltérés | F29: 2. Felhalmozási kiadások | G29: 2020. évi eredeti ei. | H29: 2020. évi módosított ei. I. | I29: 2020. évi módosított ei. II. | J29: Eltérés
A30: 1. Felhalmozási célú támogatások államháztartáson belülről | B30: ='2.sz.tábla (2)'!N22 -> 4751248431 | C30: ='2.sz.tábla (2)'!O22 -> 6804835830 | D30: ='2.sz.tábla (2)'!P22 -> 6286599318 | E30: =D30-C30 -> -518236512 | F30: 1.1. Beruházások | G30: ='7. sz. tábla 1'!B170 -> 8739294986 | H30: ='7. sz. tábla 1'!C170 -> 10078929594 | I30: ='7. sz. tábla 1'!D170 -> 9762627560 | J30: =I30-H30 -> -316302034
A31: 2. Felhalmozási bev. | B31: ='2.sz.tábla (2)'!N58 -> 270196741 | C31: ='2.sz.tábla (2)'!O58 -> 270196741 | D31: ='2.sz.tábla (2)'!P58 -> 270523434 | E31: =D31-C31 -> 326693 | F31: 1.2. Int.saját hatáskörű fejlesztések | G31: ='4.sz.tábla '!W11 -> 30976000 | H31: ='4.sz.tábla '!X11 -> 42617642 | I31: ='4.sz.tábla '!Y11 -> 42465272 | J31: =I31-H31 -> -152370
A32: 3. Felhalmozási célú átvett pénzeszközök | B32: ='2.sz.tábla (2)'!N70 -> 227000542 | C32: ='2.sz.tábla (2)'!O70 -> 227000542 | D32: ='2.sz.tábla (2)'!P70 -> 223000542 | E32: =D32-C32 -> -4000000 | F32: 2. Felújítások | G32: ='7. sz. tábla 1'!B242 -> 107408627 | H32: ='7. sz. tábla 1'!C242 -> 108425627 | I32: ='7. sz. tábla 1'!D242 -> 112001247 | J32: =I32-H32 -> 3575620
A33: 4. Működési bevételek áfa visszatérülés (felhalm.) | B33: 133482233 | C33: 134745833 | D33: 217322813 | E33: =D33-C33 -> 82576980 | F33: 3. Egyéb felhalmozási kiadások | G33: =SUM(G34:G37) -> 236380585 | H33: =SUM(H34:H37) -> 1808313444 | I33: =SUM(I34:I37) -> 1807660444 | J33: =I33-H33 -> -653000
E34: =D34-C34 -> 0 | F34: 3.1. Egyéb felhalmozási célú támogatások áh-n kívülre | G34: ='7. sz. tábla 1'!B191 -> 188580486 | H34: ='7. sz. tábla 1'!C191 -> 192580486 | I34: ='7. sz. tábla 1'!D191 -> 191927486 | J34: =I34-H34 -> -653000
E35: =D35-C35 -> 0 | F35: 3.2. Egyéb felhalmozási célú támogatások áh-n belülre | G35: ='7. sz. tábla 1'!B179 -> 37150000 | H35: ='7. sz. tábla 1'!C179 -> 1598001859 | I35: ='7. sz. tábla 1'!D179 -> 1598001859 | J35: =I35-H35 -> 0
E36: =D36-C36 -> 0 | F36: 3.3. Felhalmozási célú visszatérítendő támogatások, kölcsönök nyújtása áh-n belülre | G36: ='7. sz. tábla 1'!B178 -> 0 | H36: ='7. sz. tábla 1'!C178 -> 0 | I36: ='7. sz. tábla 1'!D178 -> 0 | J36: =I36-H36 -> 0
E37: =D37-C37 -> 0 | F37: 3.3. Felhalmozási célú visszatérítendő támogatások, kölcsönök nyújtása áh-n kívülre | G37: ='7. sz. tábla 1'!B173 -> 10650099 | H37: ='7. sz. tábla 1'!C173 -> 17731099 | I37: ='7. sz. tábla 1'!D173 -> 17731099 | J37: =I37-H37 -> 0
E38: =D38-C38 -> 0 | F38: 4. Pénzforgalom nélküli kiadások (tartalék) | G38: ='1.sz.tábla (2)'!B44+'1.sz.tábla (2)'!B45+'1.sz.tábla (2)'!B47+'1.sz.tábla (2)'!B48+'1.sz.tábla (2)'!B52+'1.sz.tábla (2)'!B53 -> 201320457 | H38: ='1.sz.tábla (2)'!C44+'1.sz.tábla (2)'!C45+'1.sz.tábla (2)'!C47+'1.sz.tábla (2)'!C48+'1.sz.tábla (2)'!C52+'1.sz.tábla (2)'!C53 -> 206320457 | I38: ='1.sz.tábla (2)'!D44+'1.sz.tábla (2)'!D45+'1.sz.tábla (2)'!D47+'1.sz.tábla (2)'!D48+'1.sz.tábla (2)'!D52+'1.sz.tábla (2)'!D53+'1.sz.tábla (2)'!D54 -> 203983448 | J38: =I38-H38 -> -2337009
A39: Összes költségvetési felhalmozási bevétel: | B39: =SUM(B30:B36) -> 5381927947 | C39: =SUM(C30:C36) -> 7436778946 | D39: =SUM(D30:D36) -> 6997446107 | E39: =D39-C39 -> -439332839 | F39: Összes költségvetési felhalmozási kiadás: | G39: =G30+G31+G32+G33+G38 -> 9315380655 | H39: =H30+H31+H32+H33+H38 -> 12244606764 | I39: =I30+I31+I32+I33+I38 -> 11928737971 | J39: =I39-H39 -> -315868793
A40: Felhalmozási többlet: | E40: =D40-C40 -> 0 | F40: Felhalmozási hiány: | G40: =B39-G39 -> -3933452708 | H40: =C39-H39 -> -4807827818 | I40: =D39-I39 -> -4931291864 | J40: =I40-H40 -> -123464046
A41: Költségvetési hiány belső finanszírozása felhalmozási célú | B41: =SUM(B42) -> 2704732064 | C41: =SUM(C42) -> 2718367656 | D41: =SUM(D42) -> 2956331117 | E41: =D41-C41 -> 237963461 | F41: Finanszírozási célú műveletek kiadásai felhalmozási célú | G41: =SUM(G42:G43) -> 74242424 | H41: =SUM(H42:H43) -> 874242424 | I41: =SUM(I42:I43) -> 874242424 | J41: =I41-H41 -> 0
A42: 4.Költségvetési maradvány | B42: ='2.sz.tábla (2)'!N78 -> 2704732064 | C42: ='2.sz.tábla (2)'!O78 -> 2718367656 | D42: ='2.sz.tábla (2)'!P78 -> 2956331117 | E42: =D42-C42 -> 237963461 | F42: 4. Értékpapírok vásárlása | J42: =I42-H42 -> 0
A43: Költségvetési hiány külső finanszírozása felhalmozási célú | B43: =SUM(B44:B45) -> 425587185 | C43: =SUM(C44:C45) -> 2012698317 | D43: =SUM(D44:D45) -> 2012698317 | E43: =D43-C43 -> 0 | F43: 5. Hitelek törlesztése | G43: ='[3]6. sz. tábla 1'!B241 -> 74242424 | H43: ='7. sz. tábla 1'!C233+'7. sz. tábla 1'!C234 -> 874242424 | I43: ='7. sz. tábla 1'!D233+'7. sz. tábla 1'!D234 -> 874242424 | J43: =I43-H43 -> 0
A44: 5. Értékpapír kibocsátás, értékesítés | B44: ='2.sz.tábla (2)'!N85-B22 -> 425587185 | C44: ='2.sz.tábla (2)'!O85-C22 -> 492698317 | D44: ='2.sz.tábla (2)'!P85-D22 -> 492698317 | E44: =D44-C44 -> 0 | F44: 6. Államháztartáson belüli megelőlegezés visszafizetése | J44: =I44-H44 -> 0
A45: 6. Hitelfelvétel | C45: ='2.sz.tábla (2)'!O80 -> 1520000000 | D45: ='2.sz.tábla (2)'!P80 -> 1520000000 | E45: =D45-C45 -> 0 | J45: =I45-H45 -> 0
A46: Összes felhalmozási bevétel: | B46: =B39+B41+B43 -> 8512247196 | C46: =C39+C41+C43 -> 12167844919 | D46: =D39+D41+D43 -> 11966475541 | E46: =D46-C46 -> -201369378 | F46: Összes felhalmozási kiadás | G46: =G39+G41 -> 9389623079 | H46: =H39+H41 -> 13118849188 | I46: =I39+I41 -> 12802980395 | J46: =I46-H46 -> -315868793
G47: =B46-G46 -> -877375883 | H47: =C46-H46 -> -951004269 | I47: =D46-I46 -> -836504854 | J47: =I47-H47 -> 114499415
A48: Bevétele és kiadások mérlege 2020. év
A50: BEVÉTELEK | B50: 2020. évi eredeti ei. | C50: 2020. évi módosított ei. I. | D50: 2020. évi módosított ei. II. | E50: Eltérés | F50: KIADÁSOK | G50: 2020. évi eredeti ei. | H50: 2020. évi módosított ei. I. | I50: 2020. évi módosított ei. II. | J50: Eltérés
A51: Költségvetési működési bevételek | B51: =B17 -> 4295585912 | C51: =C17 -> 3948643282 | D51: =D17 -> 3971188371 | E51: =E17 -> 22545089 | F51: Költségvetési működési kiadások | G51: =G17 -> 3547385794 | H51: =H17 -> 3634391399 | I51: =I17 -> 3533472442 | J51: =J17 -> -100918957
A52: Költségvetési felhalmozási bevételek | B52: =B39 -> 5381927947 | C52: =C39 -> 7436778946 | D52: =D39 -> 6997446107 | E52: =E39 -> -439332839 | F52: Költségvetési felhalmozási kiadások | G52: =G39 -> 9315380655 | H52: =H39 -> 12244606764 | I52: =I39 -> 11928737971 | J52: =J39 -> -315868793
A53: Költségvetési bevételek összesen: | B53: =SUM(B51:B52) -> 9677513859 | C53: =SUM(C51:C52) -> 11385422228 | D53: =SUM(D51:D52) -> 10968634478 | E53: =SUM(E51:E52) -> -416787750 | F53: Költségvetési kiadások összesen: | G53: =SUM(G51:G52) -> 12862766449 | H53: =SUM(H51:H52) -> 15878998163 | I53: =SUM(I51:I52) -> 15462210413 | J53: =SUM(J51:J52) -> -416787750
A54: Költségvetési többlet: | F54: Költségvetési hiány / többlet: | G54: =B53-G53 -> -3185252590 | H54: =C53-H53 -> -4493575935 | I54: =D53-I53 -> -4493575935 | J54: =E53-J53 -> 0
A55: Költségvetési hiány belső finanszírozása: | B55: =SUM(B56:B57) -> 2874497034 | C55: =SUM(C56:C57) -> 3119095564 | D55: =SUM(D56:D57) -> 3119095564 | E55: =SUM(E56:E57) -> 0 | F55: Finanszírozási célú műveletek kiadásai összesen: | G55: =SUM(G56:G57) -> 127631629 | H55: =SUM(H56:H57) -> 927631629 | I55: =SUM(I56:I57) -> 927631629 | J55: =SUM(J56:J57) -> 0
A56: Költségvetési hiány belső finanszírozása működési célú | B56: =B19 -> 169764970 | C56: =C19 -> 400727908 | D56: =D19 -> 162764447 | E56: =E19 -> -237963461 | F56: Finanszírozási célú műveletek működési kiadásai | G56: =G19 -> 53389205 | H56: =H19 -> 53389205 | I56: =I19 -> 53389205 | J56: =J19 -> 0
A57: Költségvetési hiány belső finanszírozása felhalmozási célú | B57: =B41 -> 2704732064 | C57: =C41 -> 2718367656 | D57: =D41 -> 2956331117 | E57: =E41 -> 237963461 | F57: Finanszírozási célú műveletek felhalmozási kiadásai | G57: =G41 -> 74242424 | H57: =H41 -> 874242424 | I57: =I41 -> 874242424 | J57: =J41 -> 0
A58: Költségvetési hiány külső finanszírozása: | B58: =SUM(B59:B60) -> 438387185 | C58: =SUM(C59:C60) -> 2302112000 | D58: =SUM(D59:D60) -> 2302112000 | E58: =SUM(E59:E60) -> 0
A59: Költségvetési hiány külső finanszírozása működési célú | B59: =B21 -> 12800000 | C59: =C21 -> 289413683 | D59: =D21 -> 289413683 | E59: =E21 -> 0
A60: Költségvetési hiány külső finanszírozása felhalmozási célú | B60: =B43 -> 425587185 | C60: =C43 -> 2012698317 | D60: =D43 -> 2012698317 | E60: =E43 -> 0
A61: Összes bevétel: | B61: =B53+B55+B58 -> 12990398078 | C61: =C53+C55+C58 -> 16806629792 | D61: =D53+D55+D58 -> 16389842042 | E61: =E53+E55+E58 -> -416787750 | F61: Összes kiadás: | G61: =G53+G55 -> 12990398078 | H61: =H53+H55 -> 16806629792 | I61: =I53+I55 -> 16389842042 | J61: =J53+J55 -> -416787750
G62: =B61-G61 -> 0 | H62: =C61-H61 -> 0 | I62: =D61-I61 -> 0 | J62: =E61-J61 -> 0 | K62: ='1.sz.tábla (2)'!E39 -> -416787750

Sheet 8a. sz. tábla  (4)
A3: AZ ÖNKORMÁNYZAT MŰKÖDÉSI ÉS FELHALMOZÁSI MÉRLEGE KÖLTSÉGVETÉSI SZERVEK ÉS ÖNKORMÁNYZAT BONTÁSBAN 2020. ÉV
A5: Az Önkormányzat működési bevételei és kiadásai 2020. év
A7: 1. Működési bevételek | B7: Költségve-tési szervek | C7: Önkormányzat | D7: Önkormányzat összesen | E7: 2. Működési kiadások | F7: Költségve-tési szervek | G7: Önkormányzat | H7: Önkormányzat összesen
A8: 1. Működési célú támogatások államháztartáson belülről | B8: ='2.sz.tábla (2)'!H7+'2.sz.tábla (2)'!L7+'3.sz. tábla (2)'!D12+'3.sz. tábla (2)'!D13 -> 4.8530141e+08 | C8: ='2.sz.tábla (2)'!D7-'3.sz. tábla (2)'!D14 -> 1.1587007e+09 | D8: =SUM(B8:C8) -> 1644002138 | E8: 1. Személyi juttatások | F8: ='4.sz.tábla '!D11 -> 560969178 | G8: ='5.tábla (2)'!D46 -> 125848387 | H8: =SUM(F8:G8) -> 686817565
A9: 2. Közhatalmi bevételek | B9: ='2.sz.tábla (2)'!H30 -> 0 | C9: ='2.sz.tábla (2)'!D30 -> 1627117610 | D9: =SUM(B9:C9) -> 1627117610 | E9: 2. Munkaadót terhelő járulékok és szoc.hj. Adó | F9: ='4.sz.tábla '!H11 -> 103305762 | G9: ='5.tábla (2)'!D61 -> 21158997 | H9: =SUM(F9:G9) -> 124464759
A10: 3. Működési bevételek | B10: ='2.sz.tábla (2)'!H43+'2.sz.tábla (2)'!L43 -> 82603343 | C10: ='2.sz.tábla (2)'!D43-'8a. sz. tábla (4)'!C34 -> 597744526 | D10: =SUM(B10:C10) -> 680347869 | E10: 3. Dologi kiadások | F10: ='4.sz.tábla '!L11 -> 217265902 | G10: ='5.tábla (2)'!D75 -> 1111068870 | H10: =SUM(F10:G10) -> 1328334772
A11: 4. Működési célú átvett pénzeszközök államháztartáson kivülről | B11: ='2.sz.tábla (2)'!H66+'2.sz.tábla (2)'!L66 -> 0 | C11: ='2.sz.tábla (2)'!D66 -> 19720754 | D11: =SUM(B11:C11) -> 19720754 | E11: 4. Ellátottak pénzbeli juttatásai | F11: ='4.sz.tábla '!S11 -> 0 | G11: ='5.tábla (2)'!D124 -> 30600000 | H11: =SUM(F11:G11) -> 30600000
D12: =SUM(B12:C12) -> 0 | E12: 5. Egyéb működési célú kiadások
D13: =SUM(B13:C13) -> 0 | E13: 5.1. Elvonások, befizetések | G13: ='5.tábla (2)'!D135 -> 7183231 | H13: =SUM(F13:G13) -> 7183231
D14: =SUM(B14:C14) -> 0 | E14: 5.2. Egyéb működési célú támogatások áh-n belülre | F14: ='4.sz.tábla '!U11 -> 2973949 | G14: ='5.tábla (2)'!D139 -> 509783666 | H14: =SUM(F14:G14) -> 512757615
E15: 5.4. Egyéb működési célú támogatások áh-n kívülre | G15: ='5.tábla (2)'!D144 -> 712189503 | H15: =SUM(F15:G15) -> 712189503
E16: 5.5. Működési célú visszatérítendő támogatások, kölcsönök nyújtása áh-n kívülre | G16: ='5.tábla (2)'!D141 -> 0 | H16: =SUM(F16:G16) -> 0
E17: 6. Pénzforgalom nélküli kiadások (tartalék) | G17: ='1.sz.tábla (2)'!D30-'8a. sz. tábla (4)'!G39 -> 131124997 | H17: =SUM(F17:G17) -> 131124997
A18: Összes költségvetési működési bevétel: | B18: =SUM(B8:B17) -> 5.6790475e+08 | C18: =SUM(C8:C17) -> 3.4032836e+09 | D18: =SUM(D8:D17) -> 3971188371 | E18: Összes költségvetési működési kiadás: | F18: =F8+F9+F10+F11+F12+F17+F14 -> 884514791 | G18: =SUM(G8:G17) -> 2648957651 | H18: =H8+H9+H10+H11+H14+H15+H16+H17+H13 -> 3533472442 | I18: =SUM(F18:G18) -> 3533472442
A19: Működési többlet: | B19: =B18-F18 -> -3.1661004e+08 | C19: =C18-G18 -> 7.5432597e+08 | D19: =D18-H18 -> 437715929 | E19: Működési hiány:
A20: Költségvetési hiány belső finanszírozása működési célú | B20: =SUM(B21) -> 41733232 | C20: =SUM(C21) -> 121031215 | D20: =SUM(B20:C20) -> 162764447 | E20: Finanszírozási célú műveletek kiadásai működési célú | F20: =SUM(F21:F21) -> 0 | G20: =SUM(G21:G25) -> 53389205 | H20: =G20-F20 -> 53389205
A21: 5. Költségvetési Maradvány | B21: ='2.sz.tábla (2)'!H77+'2.sz.tábla (2)'!L77 -> 41733232 | C21: ='2.sz.tábla (2)'!D77 -> 121031215 | D21: =SUM(B21:C21) -> 162764447 | E21: 7. Államháztartáson belüli megelőlegezés visszafizetése | G21: ='7. sz. tábla 1'!D236 -> 53389205 | H21: =SUM(F21:G21) -> 53389205
A22: Költségvetési hiány külső finanszírozása működési célú | C22: =SUM(C23:C25) -> 289413683 | D22: =SUM(B22:C22) -> 289413683 | E22: 8. Hitelek törlesztése | H22: =SUM(F22:G22) -> 0
A23: 6. Értékpapír kibocsátás, értékesítés | C23: ='8. sz. tábla (3)'!D22 -> 276613683 | D23: =SUM(B23:C23) -> 276613683 | E23: 9. Betét vásárlás | H23: =SUM(F23:G23) -> 0
A24: 7. Hitelfelvétel | E24: 10. Forgatási célú értékpapír vásárlás | H24: =SUM(F24:G24) -> 0
A25: 8. Állami támogatás megelőlegezés visszafizetése | C25: ='2.sz.tábla (2)'!D90 -> 12800000 | D25: =SUM(B25:C25) -> 12800000
A26: Összes működési bevétel: | B26: =B18+B20+B22 -> 6.0963798e+08 | C26: =C18+C20+C22 -> 3.8137285e+09 | D26: =D18+D20+D22 -> 4423366501 | E26: Összes működési kiadás | F26: =F18+F20 -> 884514791 | G26: =G18+G20 -> 2702346856 | H26: =H18+H20 -> 3586861647
A28: Az Önkormányzat felhalmozási bevételei és kiadásai 2020. év
A30: 1. Felhalmozási bevételek | B30: Költségve-tési szervek | C30: Önkormányzat | D30: Önkormányzat összesen | E30: 2. Felhalmozási kiadások | F30: Költségve-tési szervek | G30: Önkormányzat | H30: Önkormányzat összesen
A31: 1. Felhalmozási célú támogatások államháztartáson belülről | B31: ='2.sz.tábla (2)'!H22+'2.sz.tábla (2)'!L22 -> 3468000 | C31: ='2.sz.tábla (2)'!D22 -> 6283131318 | D31: =SUM(B31:C31) -> 6286599318 | E31: 1.1. Beruházások | G31: ='7. sz. tábla 1'!D170 -> 9762627560 | H31: =SUM(F31:G31) -> 9762627560
A32: 2. Felhalmozási bev. | B32: ='2.sz.tábla (2)'!H58+'2.sz.tábla (2)'!L58 -> 1070000 | C32: ='2.sz.tábla (2)'!D58 -> 269453434 | D32: =SUM(B32:C32) -> 270523434 | E32: 1.2. Int.saját hatáskörű fejlesztések | F32: ='4.sz.tábla '!Y11 -> 42465272 | H32: =SUM(F32:G32) -> 42465272
A33: 3. Felhalmozási célú átvett pénzeszközök | B33: ='2.sz.tábla (2)'!H70+'2.sz.tábla (2)'!L70 -> 0 | C33: ='2.sz.tábla (2)'!D70 -> 223000542 | D33: =SUM(B33:C33) -> 223000542 | E33: 2. Felújítások | G33: ='7. sz. tábla 1'!D242 -> 112001247 | H33: =SUM(F33:G33) -> 112001247
A34: 4. Működési bevételek áfa visszatérülés (felhalm.) | C34: ='8. sz. tábla (3)'!D33 -> 217322813 | D34: =SUM(B34:C34) -> 217322813 | E34: 3. Egyéb felhalmozási kiadások
E35: 3.1. Egyéb felhalmozási célú támogatások áh-n kívülre | G35: ='7. sz. tábla 1'!D191 -> 191927486 | H35: =SUM(F35:G35) -> 191927486
E36: 3.2. Egyéb felhalmozási célú támogatások áh-n belülre | G36: ='7. sz. tábla 1'!D179 -> 1598001859 | H36: =SUM(F36:G36) -> 1598001859
E37: 3.3. Felhalmozási célú visszatérítendő támogatások, kölcsönök nyújtása áh-n belülre | G37: ='7. sz. tábla 1'!D178 -> 0 | H37: =SUM(F37:G37) -> 0
E38: 3.4. Felhalmozási célú visszatérítendő támogatások, kölcsönök nyújtása áh-n kívülre | G38: ='7. sz. tábla 1'!D173 -> 17731099 | H38: =SUM(F38:G38) -> 17731099
E39: 4. Pénzforgalom nélküli kiadások (tartalék) | G39: ='8. sz. tábla (3)'!I38 -> 203983448 | H39: =SUM(F39:G39) -> 203983448
A40: Összes költségvetési felhalmozási bevétel: | B40: =SUM(B31:B37) -> 4538000 | C40: =SUM(C31:C37) -> 6992908107 | D40: =SUM(D31:D37) -> 6997446107 | E40: Összes költségvetési felhalmozási kiadás: | F40: =SUM(F31:F34) -> 42465272 | G40: =SUM(G31:G39) -> 11886272699 | H40: =H31+H32+H33+H35+H36+H37+H38+H39 -> 11928737971 | I40: =SUM(F40:G40) -> 11928737971
A41: Felhalmozási többlet: | E41: Felhalmozási hiány: | F41: =B40-F40 -> -37927272 | G41: =C40-G40 -> -4893364592 | H41: =D40-H40 -> -4931291864
A42: Költségvetési hiány belső finanszírozása felhalmozási célú | B42: =SUM(B43) -> 22721142 | C42: =SUM(C43) -> 2933609975 | D42: =SUM(D43) -> 2956331117 | E42: Finanszírozási célú műveletek kiadásai felhalmozási célú | F42: =SUM(F43:F44) -> 0 | G42: =SUM(G43:G44) -> 874242424 | H42: =SUM(H43:H45) -> 874242424
A43: 4.Költségvetési maradvány | B43: ='2.sz.tábla (2)'!L78+'2.sz.tábla (2)'!H78 -> 22721142 | C43: ='2.sz.tábla (2)'!D78 -> 2933609975 | D43: =SUM(B43:C43) -> 2956331117 | E43: 4. Értékpapírok visszavásárlása | H43: =SUM(F43:G43) -> 0
A44: Költségvetési hiány külső finanszírozása felhalmozási célú | B44: =SUM(B45:B46) -> 0 | C44: =SUM(C45:C46) -> 2012698317 | D44: =SUM(D45:D46) -> 2012698317 | E44: 5. Hitelek törlesztése | G44: ='8. sz. tábla (3)'!I43 -> 874242424 | H44: =SUM(F44:G44) -> 874242424
A45: 5. Értékpapír kibocsátás, értékesítés | C45: ='2.sz.tábla (2)'!D84-C23 -> 492698317 | D45: =SUM(B45:C45) -> 492698317 | E45: 6. Államháztartáson belüli megelőlegezés visszafizetése
A46: 6. Hitelfelvétel | C46: ='8. sz. tábla (3)'!D45 -> 1520000000 | D46: =SUM(B46:C46) -> 1520000000
A47: Összes felhalmozási bevétel: | B47: =B40+B42+B44 -> 27259142 | C47: =C40+C42+C44 -> 11939216399 | D47: =D40+D42+D44 -> 11966475541 | E47: Összes felhalmozási kiadás | F47: =F40+F42 -> 42465272 | G47: =G40+G42 -> 12760515123 | H47: =H40+H42 -> 12802980395
A49: Bevétele és kiadások mérlege 2020. év
A51: BEVÉTELEK | B51: Költségve-tési szervek | C51: Önkormányzat | D51: Önkormányzat összesen | E51: KIADÁSOK | F51: Költségve-tési szervek | G51: Önkormányzat | H51: Önkormányzat összesen
A52: Költségvetési működési bevételek | B52: =B18 -> 5.6790475e+08 | C52: =C18 -> 3.4032836e+09 | D52: =D18 -> 3971188371 | E52: Költségvetési működési kiadások | F52: =F18 -> 884514791 | G52: =G18 -> 2648957651 | H52: =H18 -> 3533472442 | I52: =SUM(F52:G52) -> 3533472442
A53: Költségvetési felhalmozási bevételek | B53: =B40 -> 4538000 | C53: =C40 -> 6992908107 | D53: =D40 -> 6997446107 | E53: Költségvetési felhalmozási kiadások | F53: =F40 -> 42465272 | G53: =G40 -> 11886272699 | H53: =H40 -> 11928737971 | I53: =SUM(F53:G53) -> 11928737971
A54: Költségvetési bevételek összesen: | B54: =SUM(B52:B53) -> 5.7244275e+08 | C54: =SUM(C52:C53) -> 1.0396192e+10 | D54: =SUM(D52:D53) -> 10968634478 | E54: Költségvetési kiadások összesen: | F54: =SUM(F52:F53) -> 926980063 | G54: =SUM(G52:G53) -> 14535230350 | H54: =SUM(H52:H53) -> 15462210413 | I54: =SUM(F54:G54) -> 15462210413
A55: Költségvetési többlet: | E55: Költségvetési hiány: | F55: =B54-F54 -> -3.5453731e+08 | G55: =C54-G54 -> -4.1390386e+09 | H55: =D54-H54 -> -4493575935 | I55: =SUM(F55:G55) -> -4.4935759e+09
A56: Költségvetési hiány belső finanszírozása: | B56: =SUM(B57:B58) -> 64454374 | C56: =SUM(C57:C58) -> 3054641190 | D56: =SUM(D57:D58) -> 3119095564 | E56: Finanszírozási célú műveletek kiadásai összesen: | F56: =SUM(F57:F58) -> 0 | G56: =SUM(G57:G58) -> 927631629 | H56: =SUM(H57:H58) -> 927631629 | I56: =SUM(F56:G56) -> 927631629
A57: Költségvetési hiány belső finanszírozása működési célú | B57: =B20 -> 41733232 | C57: =C20 -> 121031215 | D57: =D20 -> 162764447 | E57: Finanszírozási célú műveletek működési kiadásai | F57: =F20 -> 0 | G57: =G20 -> 53389205 | H57: =H20 -> 53389205 | I57: =SUM(F57:G57) -> 53389205
A58: Költségvetési hiány belső finanszírozása felhalmozási célú | B58: =B42 -> 22721142 | C58: =C42 -> 2933609975 | D58: =D42 -> 2956331117 | E58: Finanszírozási célú műveletek felhalmozási kiadásai | F58: =F42 -> 0 | G58: =G42 -> 874242424 | H58: =H42 -> 874242424 | I58: =SUM(F58:G58) -> 874242424
A59: Költségvetési hiány külső finanszírozása: | B59: =SUM(B60:B61) -> 0 | C59: =SUM(C60:C61) -> 2302112000 | D59: =SUM(D60:D61) -> 2302112000 | I59: =SUM(F59:G59) -> 0
A60: Költségvetési hiány külső finanszírozása működési célú | B60: =B22 -> 0 | C60: =C22 -> 289413683 | D60: =D22 -> 289413683 | I60: =SUM(F60:G60) -> 0
A61: Költségvetési hiány külső finanszírozása felhalmozási célú | B61: =B44 -> 0 | C61: =C44 -> 2012698317 | D61: =D44 -> 2012698317
A62: Összes bevétel: | B62: =B54+B56+B59 -> 6.3689712e+08 | C62: =C54+C56+C59 -> 1.5752945e+10 | D62: =D54+D56+D59 -> 16389842042 | E62: Összes kiadás: | F62: =F54+F56 -> 926980063 | G62: =G54+G56 -> 15462861979 | H62: =H54+H56 -> 16389842042
A63: Intézményfinanszírozás | B63: =B62-F62 -> -2.9008294e+08 | C63: =C62-G62 -> 2.9008294e+08 | D63: =D62-H62 -> 0 | H63: =F62+G62 -> 16389842042
D64: =SUM(B62:C62) -> 16389842042 | H64: ='8. sz. tábla (3)'!I61 -> 16389842042
H65: =H64-H63 -> 0
D66: ='8. sz. tábla (3)'!D61 -> 16389842042
D67: =D66-D64 -> 0

Sheet 9. sz. tábla (2)
A1: Az önkormányzat működési bevételei és kiadásai, a felhalmozási bevételei és kiadásai kiemelt előirányzatok, és kötelező feladatok, önként vállalt feladatok és államigazgatási feladatok bontásban 2020. év
A5: Az Önkormányzat kötelező feladatok bevételei és kiadásai 2020. év
A7: 1. Működési bevételek | B7: Intézmények | C7: Önkormányzati Hivatal | D7: Önkormányzat | E7: Önkormányzat összesen | F7: 2. Működési kiadások | G7: Intézmények | H7: Önkormányzati Hivatal | I7: Önkormányzat | J7: Önkormányzat összesen
A8: Működési bevételek | F8: Működési kiadások
A9: 1. Működési támogatások államháztartáson belülről | B9: ='3.sz. tábla (2)'!D12+'2.a tábla ÚJ '!P12-'9. sz. tábla (2)'!B39 -> 1.8397927e+08 | C9: ='2.sz.tábla (2)'!H7+'3.sz. tábla (2)'!D13-'9. sz. tábla (2)'!C39-'9. sz. tábla (2)'!C72 -> 1.9350835e+08 | D9: ='3.sz. tábla (2)'!D15-'2.sz.tábla (2)'!D23+'2.sz.tábla (2)'!D20-'9. sz. tábla (2)'!D39 -> 9.3654317e+08 | E9: =SUM(B9:D9) -> 1.3140308e+09 | F9: 1. Személyi juttatások | G9: ='4.sz.tábla '!D9-'9. sz. tábla (2)'!G39 -> 196346300 | H9: ='5.tábla (2)'!D7-'9. sz. tábla (2)'!H39-'9. sz. tábla (2)'!H72 -> 250993304 | I9: ='5.tábla (2)'!D46-'9. sz. tábla (2)'!I39 -> 65531834 | J9: =SUM(G9:I9) -> 512871438 | K9: =I9+I39 -> 125848387
A10: 2. Közhatalmi bevételek | C10: ='2.sz.tábla (2)'!H30 -> 0 | D10: ='2.sz.tábla (2)'!D30 -> 1627117610 | E10: =SUM(B10:D10) -> 1627117610 | F10: 2. Munkaadót terhelő járulékok | G10: ='4.sz.tábla '!H9-'9. sz. tábla (2)'!G40 -> 32499613 | H10: ='5.tábla (2)'!D16-'9. sz. tábla (2)'!H40-'9. sz. tábla (2)'!H73 -> 49128397 | I10: ='5.tábla (2)'!D61-'9. sz. tábla (2)'!I40 -> 7551349 | J10: =SUM(G10:I10) -> 89179359 | K10: =I10+I40 -> 21158997
A11: 3. Működési bevételek | B11: ='2.a tábla ÚJ '!P21-'9. sz. tábla (2)'!B41 -> 26074593 | C11: ='2.sz.tábla (2)'!H43-'9. sz. tábla (2)'!C41-'9. sz. tábla (2)'!C74 -> 27209750 | D11: ='2.sz.tábla (2)'!D43-'9. sz. tábla (2)'!D26-'9. sz. tábla (2)'!D41-'9. sz. tábla (2)'!D56 -> 198369562 | E11: =SUM(B11:D11) -> 251653905 | F11: 3. Dologi kiadások | G11: ='4.sz.tábla '!L9-'9. sz. tábla (2)'!G41 -> 76716701 | H11: ='5.tábla (2)'!D25-'9. sz. tábla (2)'!H41-'9. sz. tábla (2)'!H74 -> 69282134 | I11: ='5.tábla (2)'!D75-'9. sz. tábla (2)'!I41 -> 689815094 | J11: =SUM(G11:I11) -> 835813929 | K11: =I11+I41 -> 1111068870
A12: 4. Működési célú átvett pénzeszközök államháztartáson kivülről | B12: ='2.a tábla ÚJ '!O40-'9. sz. tábla (2)'!B42 -> 0 | C12: ='2.sz.tábla (2)'!G66 -> 0 | D12: ='2.sz.tábla (2)'!D66-'9. sz. tábla (2)'!D42 -> 220000 | E12: =SUM(B12:D12) -> 220000 | F12: 4. Ellátottak pénzbeli juttatásai | I12: ='5.tábla (2)'!D124-'9. sz. tábla (2)'!I42 -> 30600000 | J12: =SUM(G12:I12) -> 30600000 | K12: =I12+I42 -> 30600000
F13: 5. Egyéb működési célú kiadások | J13: =SUM(G13:I13) -> 0 | K13: =I13+I43 -> 0
F14: 5.1. Elvonások, befizetések | I14: ='5.tábla (2)'!D135-'9. sz. tábla (2)'!I44 -> 7183231 | J14: =SUM(G14:I14) -> 7183231 | K14: =I14+I44 -> 7183231
F15: 5.2. Egyéb működési célú támogatások áh-n belülre | G15: ='4.sz.tábla '!U9-G45 -> 89479 | H15: ='5.tábla (2)'!D35-H78 -> 2261136 | I15: ='5.tábla (2)'!D139-'9. sz. tábla (2)'!I45 -> 488167299 | J15: =SUM(G15:I15) -> 490517914 | K15: =I15+I45 -> 509783666
F16: 5.4. Egyéb működési célú támogatások áh-n kívülre | I16: ='5.tábla (2)'!D144-'9. sz. tábla (2)'!I46 -> 311104523 | J16: =SUM(G16:I16) -> 311104523 | K16: =I16+I46 -> 712189503
F17: 5.5. Működési célú visszatérítendő támogatások, kölcsönök nyújtása áh-n kívülre | I17: ='5.tábla (2)'!D141-'9. sz. tábla (2)'!I47 -> 0 | J17: =SUM(G17:I17) -> 0 | K17: =I17+I47 -> 0
F18: 6. Pénzforgalom nélküli kiadások (tartalék) | I18: ='8a. sz. tábla (4)'!G17 -> 131124997 | J18: =SUM(G18:I18) -> 131124997 | K18: =I18+I48 -> 131124997
A19: Költségvetési működési bevételek kötelező feladatok szerinti bontásban | B19: =SUM(B9:B18) -> 2.1005386e+08 | C19: =SUM(C9:C18) -> 2.207181e+08 | D19: =SUM(D9:D18) -> 2.7622503e+09 | E19: =SUM(E9:E18) -> 3.1930223e+09 | F19: Költségvetési működési kiadások kötelező feladatok szerinti bontásban | G19: =SUM(G9:G18) -> 305652093 | H19: =SUM(H9:H18) -> 371664971 | I19: =SUM(I9:I18) -> 1731078327 | J19: =SUM(J9:J18) -> 2408395391 | K19: =I19+I49 -> 2648957651
A20: Finanszírozási bevételek | B20: ='2.sz.tábla (2)'!L77-'9. sz. tábla (2)'!B50 -> 14588409 | C20: ='2.sz.tábla (2)'!H77-'9. sz. tábla (2)'!C50-'9. sz. tábla (2)'!C83 -> 21984803 | D20: ='2.sz.tábla (2)'!D77+'2.sz.tábla (2)'!D90+'8a. sz. tábla (4)'!C23-'9. sz. tábla (2)'!D50 -> 306424513 | E20: =SUM(B20:D20) -> 3.4299773e+08 | F20: Finanszírozási kiadások | I20: ='7. sz. tábla 1'!D236 -> 53389205 | J20: =SUM(G20:I20) -> 53389205 | K20: =I20+I50 -> 53389205
A21: Működési bevételek kiemelt előirányzatonként kötelező feladatok szerinti bontásban | B21: =B19+B20 -> 2.2464227e+08 | C21: =C19+C20 -> 2.427029e+08 | D21: =D19+D20 -> 3.0686749e+09 | E21: =E19+E20 -> 3.53602e+09 | F21: Működési kiadások kiemelt előirányzatonként kötelező feladatok szerinti bontásban | G21: =G19+G20 -> 305652093 | H21: =H19+H20 -> 371664971 | I21: =I19+I20 -> 1784467532 | J21: =J19+J20 -> 2461784596 | K21: =SUM(K19:K20) -> 2702346856
A22: Felhalmozási bevételek | F22: Felhalmozási kiadások
A23: 1. Felhalmozási célú támogatások államháztartáson belülről | B23: ='2.sz.tábla (2)'!L27-'9. sz. tábla (2)'!B53 -> 3468000 | C23: ='2.sz.tábla (2)'!H27-'9. sz. tábla (2)'!C53 -> 0 | D23: ='2.sz.tábla (2)'!D22-'9. sz. tábla (2)'!D53 -> 968319208 | E23: =SUM(B23:D23) -> 971787208 | F23: 1.1. Beruházások | I23: ='7. sz. tábla 1'!D170-'9. sz. tábla (2)'!I53 -> 3661761240 | J23: =SUM(G23:I23) -> 3661761240 | K23: =I23+I53 -> 9762627560
A24: 2. Felhalmozási bevételek | B24: ='2.sz.tábla (2)'!L58-'9. sz. tábla (2)'!B54 -> 0 | C24: ='2.sz.tábla (2)'!H58-'9. sz. tábla (2)'!C87 -> 1070000 | D24: ='2.sz.tábla (2)'!D58-'9. sz. tábla (2)'!D54 -> 32917323 | E24: =SUM(B24:D24) -> 33987323 | F24: 1.2. Int.saját hatáskörű fejlesztések | G24: ='4.sz.tábla '!Y9-'9. sz. tábla (2)'!G54 -> 19786911 | H24: ='5.tábla (2)'!D37-'9. sz. tábla (2)'!H54-'9. sz. tábla (2)'!H87 -> 17095675 | J24: =SUM(G24:I24) -> 36882586 | K24: =I24+I54 -> 0
A25: 3. Felhalmozási célú átvett pénzeszközök áh-n kívülről | B25: ='2.sz.tábla (2)'!H70-'9. sz. tábla (2)'!B88 -> 0 | D25: ='2.sz.tábla (2)'!D70-'9. sz. tábla (2)'!D55 -> 12000000 | E25: =SUM(B25:D25) -> 12000000 | F25: 2. Felújítások | I25: ='6.sz.tábla (3)'!D120-'9. sz. tábla (2)'!I55 -> 100841720 | J25: =SUM(G25:I25) -> 100841720 | K25: =I25+I55 -> 112001247
A26: 4. Működési bevételek áfa visszatérülés (felhalm.) | D26: ='8a. sz. tábla (4)'!C34-'9. sz. tábla (2)'!D56 -> 63975117 | E26: =SUM(B26:D26) -> 63975117 | F26: 3. Egyéb felhalmozási célú kiadások | J26: =SUM(G26:I26) -> 0 | K26: =I26+I56 -> 0
F27: 3.1. Egyéb felhalmozási célú pénzeszköz átadás áh-n kívülre | I27: ='7. sz. tábla 1'!D191-'9. sz. tábla (2)'!I57 -> 7606667 | J27: =SUM(G27:I27) -> 7606667 | K27: =I27+I57 -> 191927486
F28: 3.2. Egyéb felhalmozási célú pénzeszköz átadás áh-n belülre | I28: ='7. sz. tábla 1'!D179-'9. sz. tábla (2)'!I58 -> 171191171 | J28: =SUM(G28:I28) -> 171191171 | K28: =I28+I58 -> 1598001859
F29: 3.4. Felhalmozási célú visszatérítendő támogatások, kölcsönök nyújtása áh-n kívülre | I29: ='7. sz. tábla 1'!D173-'9. sz. tábla (2)'!I60 -> 0 | J29: =SUM(G29:I29) -> 0 | K29: =I29+I60 -> 17731099
F30: 4. Pénzforgalom nélküli kiadások (tartalék) | I30: ='8a. sz. tábla (4)'!G39 -> 203983448 | J30: =SUM(G30:I30) -> 203983448 | K30: =I30 -> 203983448
A31: Költségvetési felhalmozási bevételek kötelező feladatok szerinti bontásban | B31: =SUM(B23:B29) -> 3468000 | C31: =SUM(C23:C29) -> 1070000 | D31: =SUM(D23:D29) -> 1077211648 | E31: =SUM(E23:E29) -> 1081749648 | F31: Költségvetési felhalmozási kiadások kötelező feladatok szerinti bontásban | G31: =SUM(G23:G29) -> 19786911 | H31: =SUM(H23:H29) -> 17095675 | I31: =SUM(I23:I30) -> 4145384246 | J31: =SUM(J23:J30) -> 4182266832 | K31: =SUM(K23:K30) -> 11886272699
A32: Finanszírozási bevételek | B32: ='2.sz.tábla (2)'!K78-'9. sz. tábla (2)'!B62 -> 14293251 | C32: ='2.sz.tábla (2)'!G78-'9. sz. tábla (2)'!C62-'9. sz. tábla (2)'!C91 -> 6851875.4 | D32: ='2.sz.tábla (2)'!D78+'2.sz.tábla (2)'!D85-'8a. sz. tábla (4)'!C23+'8a. sz. tábla (4)'!C46-'9. sz. tábla (2)'!D62 -> 2590725964 | E32: =SUM(B32:D32) -> 2.6118711e+09 | F32: Finanszírozási kiadások | I32: ='8a. sz. tábla (4)'!G42-'9. sz. tábla (2)'!I62 -> 874242424 | J32: =SUM(G32:I32) -> 874242424 | K32: =I32+I62 -> 874242424
A33: Felhalmozási bevételek kiemelt előirányzatonként kötelező feladatok szerinti bontásban | B33: =B31+B32 -> 17761251 | C33: =C31+C32 -> 7921875.4 | D33: =D31+D32 -> 3667937612 | E33: =E31+E32 -> 3.6936207e+09 | F33: Felhalmozási kiadások kiemelt előirányzatonként kötelező feladatok szerinti bontásban | G33: =G31+G32 -> 19786911 | H33: =H31+H32 -> 17095675 | I33: =I31+I32 -> 5019626670 | J33: =J31+J32 -> 5056509256 | K33: =SUM(K31:K32) -> 12760515123
B34: =B33+B21 -> 2.4240352e+08 | C34: =C33+C21 -> 2.5062478e+08 | D34: =D33+D21 -> 6.7366125e+09 | E34: =E33+E21 -> 7.2296408e+09 | G34: =G33+G21 -> 325439004 | H34: =H33+H21 -> 388760646 | I34: =I33+I21 -> 6804094202 | J34: =J33+J21 -> 7518293852
A35: Az Önkormányzat önként vállalt feladatok bevételei és kiadásai 2020. év
A37: 1. Működési bevételek | B37: Intézmények | C37: Önkormányzati Hivatal | D37: Önkormányzat | E37: Önkormányzat összesen | F37: 2. Működési kiadások | G37: Intézmények | H37: Önkormányzati Hivatal | I37: Önkormányzat | J37: Önkormányzat összesen
A38: Működési bevételek | F38: Működési kiadások
A39: 1. Működési támogatások államháztartáson belülről | B39: =63300000-2882551+170143+1000000+83990 -> 61671582 | D39: 222157562 | E39: =SUM(B39:D39) -> 283829144 | F39: 1. Személyi juttatások | G39: =43302337+3565757-2503878+74906+127609+568000 -> 45134731 | H39: 9534638 | I39: 60316553 | J39: =SUM(G39:I39) -> 114985922
A40: 2. Közhatalmi bevételek | E40: =SUM(B40:D40) -> 0 | F40: 2. Munkaadót terhelő járulékok | G40: =7748538+638157-378673+39130-127609+88040 -> 8007583 | H40: 2128286 | I40: 13607648 | J40: =SUM(G40:I40) -> 23743517
A41: 3. Működési bevételek | B41: =23319000 -> 23319000 | D41: =552722660-D56 -> 399374964 | E41: =SUM(B41:D41) -> 422693964 | F41: 3. Dologi kiadások | G41: =54937253+343960 -> 55281213 | I41: 421253776 | J41: =SUM(G41:I41) -> 476534989
A42: 4. Működési célú átvett pénzeszközök államháztartáson kivülről | D42: =3500754+16000000 -> 19500754 | E42: =SUM(B42:D42) -> 19500754 | F42: 4. Ellátottak pénzbeli juttatásai | J42: =SUM(G42:I42) -> 0
E43: =SUM(B43:D43) -> 0 | F43: 5. Egyéb működési célú kiadások | J43: =SUM(G43:I43) -> 0
F44: 5.1. Elvonások, befizetések | J44: =SUM(G44:I44) -> 0
F45: 5.2. Egyéb működési célú támogatások áh-n belülre | I45: 21616367 | J45: =SUM(G45:I45) -> 21616367
F46: 5.4. Egyéb működési célú támogatások áh-n kívülre | I46: 401084980 | J46: =SUM(G46:I46) -> 401084980
F47: 5.5. Működési célú visszatérítendő támogatások, kölcsönök nyújtása áh-n kívülre | J47: =SUM(G47:I47) -> 0
F48: 6. Pénzforgalom nélküli kiadások (tartalék)
A49: Költségvetési működési bevételek önként vállalt feladatok szerinti bontásban | B49: =SUM(B39:B48) -> 84990582 | C49: =SUM(C39:C48) -> 0 | D49: =SUM(D39:D48) -> 641033280 | E49: =SUM(E39:E48) -> 726023862 | F49: Költségvetési működési kiadások önként vállalt feladatok szerinti bontásban | G49: =SUM(G39:G48) -> 108423527 | H49: =SUM(H39:H48) -> 11662924 | I49: =SUM(I39:I48) -> 917879324 | J49: =SUM(J39:J48) -> 1037965775
A50: Finanszírozási bevételek | D50: 104020385 | E50: =SUM(B50:D50) -> 104020385 | F50: Finanszírozási kiadások | I50: ='[5]8a. sz. tábla (4)'!G43 -> 0 | J50: =SUM(G50:I50) -> 0
A51: Működési bevételek kiemelt előirányzatonként önként vállalt feladatok szerinti bontásban | B51: =B49+B50 -> 84990582 | C51: =C49+C50 -> 0 | D51: =D49+D50 -> 745053665 | E51: =E49+E50 -> 830044247 | F51: Működési kiadások kiemelt előirányzatonként önként vállalt feladatok szerinti bontásban | G51: =G49+G50 -> 108423527 | H51: =H49+H50 -> 11662924 | I51: =I49+I50 -> 917879324 | J51: =J49+J50 -> 1037965775
A52: Felhalmozási bevételek | F52: Felhalmozási kiadások
A53: 1. Felhalmozási célú támogatások államháztartáson belülről | D53: 5314812110 | E53: =SUM(B53:D53) -> 5314812110 | F53: 1.1. Beruházások | I53: 6100866320 | J53: =SUM(G53:I53) -> 6100866320
A54: 2. Felhalmozási bevételek | D54: 236536111 | E54: =SUM(B54:D54) -> 236536111 | F54: 1.2. Int.saját hatáskörű fejlesztések | G54: =200000+1450470 -> 1650470 | J54: =SUM(G54:I54) -> 1650470
A55: 3. Felhalmozási célú átvett pénzeszközök áh-n kívülről | D55: ='2.sz.tábla (2)'!D72 -> 211000542 | E55: =SUM(B55:D55) -> 211000542 | F55: 2. Felújítások | I55: ='6.sz.tábla (3)'!D116+'6.sz.tábla (3)'!D115 -> 11159527 | J55: =SUM(G55:I55) -> 11159527
A56: 4. Működési bevételek áfa visszatérülés (felhalm.) | D56: 153347696 | E56: =SUM(B56:D56) -> 153347696 | F56: 3. Egyéb felhalmozási célú kiadások | J56: =SUM(G56:I56) -> 0
F57: 3.1. Egyéb felhalmozási célú pénzeszköz átadás áh-n kívülre | I57: 184320819 | J57: =SUM(G57:I57) -> 184320819
F58: 3.2. Egyéb felhalmozási célú pénzeszköz átadás áh-n belülre | I58: 1426810688 | J58: =SUM(G58:I58) -> 1426810688
F59: 3.3. Felhalmozási célú visszatérítendő támogatások, kölcsönök nyújtása áh-n belülre | I59: 0 | J59: =SUM(G59:I59) -> 0
F60: 3.4. Felhalmozási célú visszatérítendő támogatások, kölcsönök nyújtása áh-n kívülre | I60: ='7. sz. tábla 1'!D173 -> 17731099 | J60: =SUM(G60:I60) -> 17731099
A61: Költségvetési felhalmozási bevételek önként vállalt feladatok szerinti bontásban | B61: =SUM(B53:B59) -> 0 | C61: =SUM(C53:C59) -> 0 | D61: =SUM(D53:D59) -> 5915696459 | E61: =SUM(E53:E59) -> 5915696459 | F61: Költségvetési felhalmozási kiadások önként vállalt feladatok szerinti bontásban | G61: =SUM(G53:G59) -> 1650470 | H61: =SUM(H53:H59) -> 0 | I61: =SUM(I53:I60) -> 7740888453 | J61: =SUM(J53:J60) -> 7742538923
A62: Finanszírozási bevételek | D62: =2307867828+47714500 -> 2355582328 | E62: =SUM(B62:D62) -> 2355582328 | F62: Finanszírozási kiadások | I62: 0 | J62: =SUM(G62:I62) -> 0
A64: Felhalmozási bevételek kiemelt előirányzatonként önként vállalt feladatok szerinti bontásban | B64: =B61+B62 -> 0 | C64: =C61+C62 -> 0 | D64: =D61+D62 -> 8271278787 | E64: =E61+E62 -> 8271278787 | F64: Felhalmozási kiadások kiemelt előirányzatonként önként vállalt feladatok szerinti bontásban | G64: =G61+G62 -> 1650470 | H64: =H61+H62 -> 0 | I64: =I61+I62 -> 7740888453 | J64: =J61+J62 -> 7742538923
B65: =B64+B51 -> 84990582 | C65: =C64+C51 -> 0 | D65: =D64+D51 -> 9016332452 | E65: =E64+E51 -> 9101323034 | G65: =G64+G51 -> 110073997 | H65: =H64+H51 -> 11662924 | I65: =I64+I51 -> 8658767777 | J65: =J64+J51 -> 8780504698
A68: Az Önkormányzat államigazgatási feladatok bevételei és kiadásai 2020. év
A70: 1. Működési bevételek | B70: Intézmények | C70: Önkormányzati Hivatal | D70: Önkormányzat | E70: Önkormányzat összesen | F70: 2. Működési kiadások | G70: Intézmények | H70: Önkormányzati Hivatal | I70: Önkormányzat | J70: Önkormányzat összesen
A71: Működési bevételek | F71: Működési kiadások
A72: 1. Működési támogatások államháztartáson belülről | C72: =(158520651+105750)*0.187+(20923749+30078809+71916)*0.2161+29100953*0.187 -> 46142209 | E72: =SUM(B72:D72) -> 46142209 | F72: 1. Személyi juttatások | H72: 58960205 | J72: =SUM(G72:I72) -> 58960205
A73: 2. Közhatalmi bevételek | C73: 0 | E73: =SUM(B73:D73) -> 0 | F73: 2. Munkaadót terhelő járulékok | H73: 11541883 | J73: =SUM(G73:I73) -> 11541883
A74: 3. Működési bevételek | B74: 0 | C74: 6000000 | E74: =SUM(B74:D74) -> 6000000 | F74: 3. Dologi kiadások | H74: 15985854 | J74: =SUM(G74:I74) -> 15985854
A75: 4. Működési célú átvett pénzeszközök államháztartáson kivülről | F75: 4. Ellátottak pénzbeli juttatásai | J75: =SUM(G75:I75) -> 0
F76: 5. Egyéb működési célú kiadások | J76: =SUM(G76:I76) -> 0
F77: 5.1. Elvonások, befizetések | J77: =SUM(G77:I77) -> 0
F78: 5.2. Egyéb működési célú támogatások áh-n belülre | H78: 623334 | J78: =SUM(G78:I78) -> 623334
F79: 5.4. Egyéb működési célú támogatások áh-n kívülre
F80: 5.5. Működési célú visszatérítendő támogatások, kölcsönök nyújtása áh-n kívülre
F81: 6. Pénzforgalom nélküli kiadások (tartalék)
A82: Költségvetési működési bevételek állami (államigazgatási) feladatok szerinti bontásban | B82: =SUM(B72:B81) -> 0 | C82: =SUM(C72:C81) -> 52142209 | D82: =SUM(D72:D81) -> 0 | E82: =SUM(E72:E81) -> 52142209 | F82: Költségvetési működési kiadások állami (államigazgatási) feladatok szerinti bontásban | G82: =SUM(G72:G81) -> 0 | H82: =SUM(H72:H81) -> 87111276 | I82: =SUM(I72:I81) -> 0 | J82: =SUM(J72:J81) -> 87111276
A83: Finanszírozási bevételek | C83: =('2.sz.tábla (2)'!G77-'5.tábla (2)'!C35)*0.187+'5.tábla (2)'!C35*0.2161 -> 5160020 | E83: =SUM(B83:D83) -> 5160020 | F83: Finanszírozási kiadások
A84: Működési bevételek kiemelt előirányzatonként állami (államigazgatási) feladatok szerinti bontásban | B84: =B82+B83 -> 0 | C84: =C82+C83 -> 57302229 | D84: =D82+D83 -> 0 | E84: =E82+E83 -> 57302229 | F84: Működési kiadások kiemelt előirányzatonként állami (államigazgatási) feladatok szerinti bontásban | G84: =G82+G83 -> 0 | H84: =H82+H83 -> 87111276 | I84: =I82+I83 -> 0 | J84: =J82+J83 -> 87111276
A85: Felhalmozási bevételek | F85: Felhalmozási kiadások
A86: 1. Felhalmozási célú támogatások államháztartáson belülről | F86: 1.1. Beruházások | J86: =SUM(G86:I86) -> 0
A87: 2. Felhalmozási bevételek | F87: 1.2. Int.saját hatáskörű fejlesztések | H87: 3932216 | J87: =SUM(G87:I87) -> 3932216
A88: 3. Felhalmozási célú átvett pénzeszközök áh-n kívülről | F88: 2. Felújítások | J88: =SUM(G88:I88) -> 0
F89: 3. Egyéb felhalmozási célú kiadások | J89: =SUM(G89:I89) -> 0
A90: Költségvetési felhalmozási bevételek önként vállalt feladatok szerinti bontásban | B90: =SUM(B86:B88) -> 0 | C90: =SUM(C86:C88) -> 0 | D90: =SUM(D86:D88) -> 0 | E90: =SUM(E86:E88) -> 0 | F90: 3.1. Egyéb felhalmozási célú pénzeszköz átadás áh-n kívülre | J90: =SUM(G90:I90) -> 0
A91: Finanszírozási bevételek | C91: ='2.sz.tábla (2)'!G78*0.187 -> 1576015.6 | E91: =SUM(B91:D91) -> 1576015.6 | F91: 3.2. Egyéb felhalmozási célú pénzeszköz átadás áh-n belülre | J91: =SUM(G91:I91) -> 0
F92: 3.3. Felhalmozási célú visszatérítendő támogatások, kölcsönök nyújtása áh-n kívülre
A93: Felhalmozási bevételek kiemelt előirányzatonként állami (államigazgatási) feladatok szerinti bontásban | B93: =SUM(B86:B92) -> 0 | C93: =SUM(C86:C92) -> 1576015.6 | D93: =SUM(D86:D92) -> 0 | E93: =SUM(E86:E92) -> 1576015.6 | F93: Felhalmozási kiadások kiemelt előirányzatonként állami (államigazgatási) feladatok szerinti bontásban | G93: =SUM(G86:G92) -> 0 | H93: =SUM(H86:H92) -> 3932216 | I93: =SUM(I86:I92) -> 0 | J93: =SUM(J86:J92) -> 3932216
B94: =B93+B84+B64+B51+B33+B21 -> 3.273941e+08 | C94: =C93+C84+C64+C51+C33+C21 -> 309503022 | D94: =D93+D84+D64+D51+D33+D21 -> 1.5752945e+10 | E94: =E93+E84+E64+E51+E33+E21 -> 16389842042 | G94: =G93+G84+G64+G51+G33+G21 -> 435513001 | H94: =H93+H84+H64+H51+H33+H21 -> 491467062 | I94: =I93+I84+I64+I51+I33+I21 -> 15462861979 | J94: =SUM(G94:I94) -> 16389842042 | K94: =J93+J84+J64+J51+J33+J21 -> 16389842042
A95: Önkormányzati támogatás | B95: =B94-G94 -> -1.081189e+08 | C95: =C94-H94 -> -181964040 | D95: =D94-I94 -> 2.9008294e+08 | E95: =J94-E94 -> 0 | J95: =E96-J94 -> 0
C96: =SUM(B95:C95) -> -2.9008294e+08 | E96: ='8a. sz. tábla (4)'!D64 -> 16389842042
H97: =H84+H93 -> 91043492

Sheet 10 tábla  
A2: TÖBBÉVES KIHATÁSSAL JÁRÓ DÖNTÉSEK SZÁMSZERŰSÍTVE ÉVENKÉNTI BONTÁSBAN ÉS ÖSSZESÍTVE
B4: Kötelezettség jogcíme | C4: Kötelezett-ségvállalás | D4: 2019.12.31-ig kifizetés | E4: 2019. évről áthúzódó | F4: 2020. | G4: 2021. | H4: 2022. | I4: 2023. | J4: 2023. után | K4: Tárgyéven túli köt. Összesen (7+8+9+10) | L4: Összesen (4+5+6+11)
C5: éve
D6: (aktuális kv-i év)
A7: 1. | B7: 2. | C7: 3. | D7: 4. | E7: 5. | F7: 6. | G7: 7. | H7: 8. | I7: 9. | J7: 10. | K7: 11. | L7: 12.
A8: 1 | B8: Működési célú hitel-törlesztés
A9: 2 | B9: (tőke + kamat )
A10: 3
A11: 4 | B11: Felhalmozási célú hitel-törlesztés
A12: 5 | B12: (tőke + kamat) | D12: =D14+D16+D18+D20 -> 563334567 | E12: =SUM(E13) -> 0 | F12: =F14+F16+F18+F20 -> 86995829 | G12: =G14+G16+G18+G20 -> 85001182 | H12: =H14+H16+H18+H20 -> 83044070 | I12: =I14+I16+I18+I20 -> 81086957 | J12: =J14+J16+J18+J20 -> 231534282 | K12: =K14+K16+K18+K20 -> 480666491 | L12: =D12+E12+F12+K12 -> 1130996887
A13: 6 | B13: Füred Kemping vásárlása hitel | C13: 2014 | D13: 480303030 | F13: 74242424 | G13: 74242424 | H13: 74242424 | I13: 74242424 | J13: 222727274 | K13: =G13+H13+I13+J13 -> 445454546 | L13: =D13+E13+F13+K13 -> 1000000000 | M13: =F13+K13 -> 519696970
A14: 7 | B14: hitel összesen | D14: =SUM(D13:D13) -> 480303030 | E14: =SUM(E13:E13) -> 0 | F14: =SUM(F13:F13) -> 74242424 | G14: =SUM(G13:G13) -> 74242424 | H14: =SUM(H13:H13) -> 74242424 | I14: =SUM(I13:I13) -> 74242424 | J14: =SUM(J13:J13) -> 222727274 | K14: =SUM(K13:K13) -> 445454546 | L14: =SUM(L13:L13) -> 1000000000
A15: 8 | B15: Füred Kemping vásárlása hitel kamat | C15: 2014 | D15: 83031537 | E15: 0 | F15: 12753405 | G15: 10758758 | H15: 8801646 | I15: 6844533 | J15: 8807008 | K15: =G15+H15+I15+J15 -> 35211945 | L15: =D15+E15+F15+K15 -> 130996887 | N15: =I15+J15 -> 15651541
A16: 9 | B16: kamat összesen | D16: =SUM(D15:D15) -> 83031537 | E16: =SUM(E15:E15) -> 0 | F16: =SUM(F15:F15) -> 12753405 | G16: =SUM(G15:G15) -> 10758758 | H16: =SUM(H15:H15) -> 8801646 | I16: =SUM(I15:I15) -> 6844533 | J16: =SUM(J15:J15) -> 8807008 | K16: =SUM(K15:K15) -> 35211945 | L16: =SUM(L15:L15) -> 130996887 | M16: =SUM(F16+K16) -> 47965350
A17: 10
A18: 11 | B18: kezességvállalás: hitelek összesen | D18: =SUM(D17) -> 0 | E18: =SUM(E17) -> 0 | F18: =SUM(F17) -> 0 | J18: =SUM(J17) -> 0 | K18: =SUM(K17) -> 0 | L18: =SUM(L17) -> 0
A19: 12
A20: 13 | B20: kezességvállalás: hitelkamatok össz. | D20: =SUM(D19) -> 0 | E20: =SUM(E19) -> 0 | F20: =SUM(F19) -> 0 | G20: =SUM(G19) -> 0 | J20: =SUM(J19) -> 0 | K20: =SUM(K19) -> 0 | L20: =SUM(L19) -> 0
A21: 14 | B21: Fejlesztés feladatonként | D21: =SUM(D22:D82) -> 823288059 | E21: =SUM(E22:E82) -> 367132653 | F21: =SUM(F22:F82) -> 897284560 | G21: =SUM(G22:G82) -> 375745508 | H21: =SUM(H22:H82) -> 51843753 | I21: =SUM(I22:I82) -> 26879843 | J21: =SUM(J22:J82) -> 277209032 | K21: =SUM(K22:K82) -> 730478136 | L21: =SUM(L22:L82) -> 2818183408
A22: 15 | B22: Népház és posta rekonstrukciója pályázathoz kapcsolódó ingatlan karbantartás és fenntartás költségeire pénzügyi alap (220/2008) | C22: 2008. | D22: 24725520 | E22: 0 | F22: 2747280 | G22: 0 | H22: 0 | I22: 0 | J22: 0 | K22: =G22+H22+I22+J22 -> 0 | L22: =D22+E22+F22+K22 -> 27472800
A23: 1. | B23: 2. | C23: 3. | D23: 4. | E23: 5. | F23: 6. | G23: 7. | H23: 8. | I23: 9. | J23: 10. | K23: 11. | L23: 12.
A24: 16 | B24: Mederhasználati díjra megkötött szerződés (lejár 2067.09.17) | C24: 2008. | D24: 22015525 | E24: 1307892 | F24: 2380840 | G24: 2380840 | H24: 2380840 | I24: 2380840 | J24: 104756960 | K24: =G24+H24+I24+J24 -> 111899480 | L24: =D24+E24+F24+K24 -> 137603737
A25: 17 | B25: Panelprogram Köztársaság u. 19. tám (8/2009) | C25: 2009 | D25: 13467606 | E25: 1496398 | F25: 0 | G25: 0 | J25: 0 | K25: =G25+H25+I25+J25 -> 0 | L25: =D25+E25+F25+K25 -> 14964004
A26: 18 | B26: Panelpromram Köztársaság u. 17. tám (9/2009) | C26: 2009 | D26: 14303354 | E26: 1589260 | F26: 0 | G26: 0 | H26: 0 | J26: 0 | K26: =G26+H26+I26+J26 -> 0 | L26: =D26+E26+F26+K26 -> 15892614
A27: 19 | B27: Panelprogram Köztársaság u.1. tám. (12/2009) | C27: 2009. | D27: 13488848 | E27: 1498760 | F27: 0 | G27: 0 | H27: 0 | J27: 0 | K27: =G27+H27+I27+J27 -> 0 | L27: =D27+E27+F27+K27 -> 14987608
A28: 20 | B28: Balaton Mozi támogatása (53/2011) | C28: 2011 | D28: 2400000 | E28: 8400000 | F28: 1200000 | G28: 0 | H28: 0 | I28: 0 | J28: 0 | K28: =G28+H28+I28+J28 -> 0 | L28: =D28+E28+F28+K28 -> 12000000
A29: 21 | B29: Balatonfüredi Yacht Club éves működési támogatásának biztosítása 10 éven keresztül 231/2013. (VII.05.) | C29: 2013 | D29: 7200000 | F29: 1200000 | G29: 1200000 | H29: 1200000 | I29: 1200000 | J29: 1200000 | K29: 3600000 | L29: =D29+E29+F29+K29 -> 12000000
