Workbook

Sheet 1.sz. melléklet
G1: 1. melléklet
G2: az 9/2018. (X.04.) önkormányzati rendelethez
A4: Balatonakali Önkormányzat 2018. évi költségvetési összesített konszolidált főösszesítő
E5: adatok Ft-ban
A6: Sor- sz | B6: Megnevezés | C6: 2018. évi előirányzat | D6: 2018. évi mód.előir. (2018.X.04.) | E6: mód./eredeti előirány. (%)
A7: A. | B7: B. | C7: C. | D7: D. | E7: E.
A8: BEVÉTELEK
A9: I. | B9: Működési célú támogatások államháztartáson belülről | C9: =SUM(C10:C11) -> 77936578 | D9: =SUM(D10:D11) -> 79459420 | E9: =D9/C9 -> 1.0195395
A10: 1. | B10: Önkormányzatok működési támogatásai | C10: ='7.sz. melléklet'!D61 -> 62098492 | D10: ='7.sz. melléklet'!E61 -> 62387809 | E10: =D10/C10 -> 1.004659
A11: 2. | B11: Egyéb működési célú támogatások államháztartáson belülről | C11: ='7.sz. melléklet'!D62 -> 15838086 | D11: ='7.sz. melléklet'!E62 -> 17071611 | E11: =D11/C11 -> 1.0778835
A12: II. | B12: Felhalmozási célú támogatások államháztartáson belülről | C12: =SUM(C13:C14) -> 47307491 | D12: =SUM(D13:D14) -> 47307491 | E12: =D12/C12 -> 1
A13: 1. | B13: Felhalmozási célú önkormányzati támogatások | C13: ='7.sz. melléklet'!D64 -> 14476490 | D13: ='7.sz. melléklet'!E64 -> 14476490 | E13: =D13/C13 -> 1
A14: 2. | B14: Egyéb felhalmozási célú támogatások államháztartáson belülről | C14: ='7.sz. melléklet'!D65 -> 32831001 | D14: ='7.sz. melléklet'!E65 -> 32831001
A15: III. | B15: Közhatalmi bevételek | C15: =SUM(C16:C18) -> 84000000 | D15: =SUM(D16:D18) -> 84000000 | E15: =D15/C15 -> 1
A16: 1. | B16: Vagyoni típusú adók | C16: ='7.sz. melléklet'!D67 -> 51000000 | D16: ='7.sz. melléklet'!E67 -> 51000000 | E16: =D16/C16 -> 1
A17: 2. | B17: Termékek és szolgáltatások adói | C17: ='7.sz. melléklet'!D68 -> 32600000 | D17: ='7.sz. melléklet'!E68 -> 32600000 | E17: =D17/C17 -> 1
A18: 3. | B18: Egyéb közhatalmi bevételek | C18: ='7.sz. melléklet'!D72 -> 400000 | D18: ='7.sz. melléklet'!E72 -> 400000 | E18: =D18/C18 -> 1
A19: IV. | B19: Működési bevételek | C19: 70729687 | D19: 70729411 | E19: =D19/C19 -> 0.9999961
A20: V. | B20: Felhalmozási bevételek | C20: ='7.sz. melléklet'!D83 -> 0 | D20: ='7.sz. melléklet'!E83 -> 0
A21: VI. | B21: Működési célú átvett pénzeszköz | C21: ='7.sz. melléklet'!D86 -> 0 | D21: ='7.sz. melléklet'!E86 -> 0
A22: VII. | B22: Felhalmozási célú átvett pénzeszköz | C22: ='7.sz. melléklet'!D88 -> 132000 | D22: ='7.sz. melléklet'!E88 -> 132000 | E22: =D22/C22 -> 1
A23: Költségvetési bevételek | C23: =C19+C15+C9+C20+C12+C21+C22 -> 280105756 | D23: =D19+D15+D9+D20+D12+D21+D22 -> 281628322 | E23: =D23/C23 -> 1.0054357
A24: VIII. | B24: Költségvetési hiány belső finanszírozása | C24: 179039244 | D24: 179039244 | E24: =D24/C24 -> 1
B25: - előző évi pénzmaradvány | E25: =D25/C25 -> #DIV/0!
A26: IX. | B26: Államháztartáson belüli megelőlegezések | C26: ='7.sz. melléklet'!D93 -> 0 | D26: ='7.sz. melléklet'!E93 -> 258434
A27: X. | B27: Költségvetési hiány külső finanszírozása | C27: =SUM(C28:C30) -> 100000000 | D27: =SUM(D28:D30) -> 100000000 | E27: =D27/C27 -> 1
A28: 1. | B28: Hitel, kölcsön felvétele
A29: 2. | B29: Belföldi értékpapírok bevételei | C29: ='7.sz. melléklet'!D91 -> 100000000 | D29: ='7.sz. melléklet'!E91 -> 100000000 | E29: =D29/C29 -> 1
A30: 3. | B30: Külföldi finanszírozás bevételei
A31: Finanszírozási bevételek | C31: =SUM(C24:C27) -> 279039244 | D31: =SUM(D24:D27) -> 279297678 | E31: =D31/C31 -> 1.0009262
A32: BEVÉTELEK mindösszesen | C32: =C31+C23 -> 559145000 | D32: =D31+D23 -> 560926000 | E32: =D32/C32 -> 1.0031852
A34: KIADÁSOK
A35: I. | B35: Működési kiadások | C35: ='4.sz. melléklet'!D18 -> 232666265 | D35: ='4.sz. melléklet'!E18 -> 240799975 | E35: =D35/C35 -> 1.0349587
A36: II. | B36: Felhalmozási kiadások | C36: ='7.sz. melléklet'!D37+'7.sz. melléklet'!D44+'7.sz. melléklet'!D47 -> 249993529 | D36: ='7.sz. melléklet'!E37+'7.sz. melléklet'!E44+'7.sz. melléklet'!E47 -> 251087332 | E36: =D36/C36 -> 1.0043753
A37: III. | B37: Tartalékok | C37: =SUM(C38:C38) -> 74197028 | D37: =SUM(D38:D38) -> 66492081 | E37: =D37/C37 -> 0.89615558
A38: 1. | B38: Általános tartalék | C38: ='7.sz. melléklet'!D36 -> 74197028 | D38: ='7.sz. melléklet'!E36 -> 66492081 | E38: =D38/C38 -> 0.89615558
A39: Költségvetési kiadások | C39: =C35+C36+C37 -> 556856822 | D39: =D35+D36+D37 -> 558379388 | E39: =D39/C39 -> 1.0027342
A40: IV. | B40: Finanszírozási kiadások | C40: ='7.sz. melléklet'!D51+'7.sz. melléklet'!D50 -> 2288178 | D40: ='7.sz. melléklet'!E51+'7.sz. melléklet'!E50 -> 2546612 | E40: =D40/C40 -> 1.1129431
A41: KIADÁSOK mindösszesen | C41: =C39+C40 -> 559145000 | D41: =D39+D40 -> 560926000 | E41: =D41/C41 -> 1.0031852

Sheet 2.sz. melléklet
L1: 2. melléklet
L2: ='1.sz. melléklet'!G2 -> az 9/2018. (X.04.) önkormányzati rendelethez
A4: Balatonakali Önkormányzat összesített konszolidált működési és felhalmozási egyensúlyát bemutató mérleg
H6: adatok Ft-ban
A7: Működési bevételek | C7: 2018. évi előirányzat | D7: 2018. évi mód.előir. (2018.X.04.) | E7: Működési kiadások | G7: 2018. évi előirányzat | H7: 2018. évi mód.előir. (2018.X.04.)
A8: A. | B8: B. | C8: C. | D8: D. | E8: E. | F8: F. | G8: G. | H8: H.
A9: 1. | B9: Működési bevételek | C9: 70729687 | D9: 70729411 | E9: 1. | F9: Személyi juttatások | G9: 60542285 | H9: 61683604
A10: 2. | B10: Vagyoni típusú adók | C10: ='7.sz. melléklet'!D67 -> 51000000 | D10: ='7.sz. melléklet'!E67 -> 51000000 | E10: 2. | F10: Munkaadót terhelő járulékok | G10: 12797496 | H10: 13037679
A11: 3. | B11: Termékek és szolgáltatások adói | C11: ='7.sz. melléklet'!D68 -> 32600000 | D11: ='7.sz. melléklet'!E68 -> 32600000 | E11: 3. | F11: Dologi kiadások | G11: 128026584 | H11: 134187812
A12: 4. | B12: Egyéb közhatalmi bevételek | C12: ='7.sz. melléklet'!D72 -> 400000 | D12: ='7.sz. melléklet'!E72 -> 400000 | E12: 4. | F12: Ellátottak pénzbeli juttatásai | G12: ='7.sz. melléklet'!D31 -> 4990000 | H12: ='7.sz. melléklet'!E31 -> 4990000
A13: 5. | B13: Önkormányzatok működési támogatásai | C13: ='7.sz. melléklet'!D61 -> 62098492 | D13: ='7.sz. melléklet'!E61 -> 62387809 | E13: 5. | F13: Elvonások és befizetések kiadásai | G13: ='7.sz. melléklet'!D33 -> 800000 | H13: ='7.sz. melléklet'!E33 -> 1035980
A14: 6. | B14: Egyéb működési célú támogatások államháztartáson belülről | C14: ='7.sz. melléklet'!D62 -> 15838086 | D14: ='7.sz. melléklet'!E62 -> 17071611 | E14: 6. | F14: Egyéb működési célú támogatások államháztartáson belülre | G14: ='7.sz. melléklet'!D34 -> 17905900 | H14: ='7.sz. melléklet'!E34 -> 18110900
A15: 7. | B15: Működési célú átvett pénzeszközök | C15: ='7.sz. melléklet'!D86 -> 0 | D15: ='7.sz. melléklet'!E86 -> 0 | E15: 7. | F15: Egyéb működési célú támogatások államháztartáson kívülre | G15: ='7.sz. melléklet'!D35 -> 7604000 | H15: ='7.sz. melléklet'!E35 -> 7754000
E16: 8. | F16: Tartalékok | G16: ='7.sz. melléklet'!D36 -> 74197028 | H16: ='7.sz. melléklet'!E36 -> 66492081
A17: Összes költségvetési működési bevétel | C17: =SUM(C9:C16) -> 232666265 | D17: =SUM(D9:D16) -> 234188831
A18: Költségvetési hiány belső finanszírozása | C18: =G19-C17 -> 74197028 | D18: 74197028
A19: Összes működési bevétel | C19: =SUM(C17:C18) -> 306863293 | D19: =SUM(D17:D18) -> 308385859 | E19: Összes működési kiadás | G19: =SUM(G9:G18) -> 306863293 | H19: =SUM(H9:H18) -> 307292056
A20: 1. | B20: Felhalmozási célú önkormányzati támogatások | C20: ='7.sz. melléklet'!D64 -> 14476490 | D20: ='7.sz. melléklet'!E64 -> 14476490 | E20: 1. | F20: Beruházások | G20: ='7.sz. melléklet'!D37 -> 220629529 | H20: ='7.sz. melléklet'!E37 -> 209406332
A21: 2. | B21: Egyéb felhalmozási célú támogatások bevételei államháztartáson belülről | C21: ='7.sz. melléklet'!D65 -> 32831001 | D21: ='7.sz. melléklet'!E65 -> 32831001 | E21: 2. | F21: Felújítások | G21: ='7.sz. melléklet'!D44 -> 27864000 | H21: ='7.sz. melléklet'!E44 -> 40181000
A22: 3. | B22: Felhalmozási bevételek | C22: ='7.sz. melléklet'!D83 -> 0 | D22: ='7.sz. melléklet'!E83 -> 0 | E22: 3. | F22: Egyéb felhamozási célú kiadások | G22: ='7.sz. melléklet'!D47 -> 1500000 | H22: ='7.sz. melléklet'!E47 -> 1500000
A23: 4. | B23: Felhamozási célú átvett pénzeszközök | C23: ='7.sz. melléklet'!D88 -> 132000 | D23: ='7.sz. melléklet'!E88 -> 132000
A24: Összes költségvetési felhalmozási bevétel | C24: =SUM(C20:C23) -> 47439491 | D24: =SUM(D20:D23) -> 47439491
A25: Költségvetési hiány belső finanszírozása | C25: 104842216 | D25: 104842216
A26: Összes felhalmozási bevétel | C26: =SUM(C24:C25) -> 152281707 | D26: =SUM(D24:D25) -> 152281707 | E26: Összes felhalmozási kiadás | G26: =SUM(G20:G24) -> 249993529 | H26: =SUM(H20:H24) -> 251087332
A27: 1. | B27: Finanszírozási bevételek | C27: ='7.sz. melléklet'!D91+'7.sz. melléklet'!D93 -> 100000000 | D27: ='7.sz. melléklet'!E91+'7.sz. melléklet'!E93 -> 100258434 | E27: 1. | F27: Finanszírozási kiadások | G27: ='7.sz. melléklet'!D50+'7.sz. melléklet'!D51 -> 2288178 | H27: ='7.sz. melléklet'!E50+'7.sz. melléklet'!E51 -> 2546612
A28: 1. | B28: Költségvetési hiány belső finanszírozása
A29: Összes finanszírozási bevétel | C29: =SUM(C27:C28) -> 100000000 | D29: =SUM(D27:D28) -> 100258434 | E29: Összes finanszírozási kiadás | G29: =SUM(G27:G28) -> 2288178 | H29: =SUM(H27:H28) -> 2546612
A30: Összesen: | C30: =C19+C26+C29 -> 559145000 | D30: =D19+D26+D29 -> 560926000 | E30: Összesen: | G30: =G19+G26+G29 -> 559145000 | H30: =H19+H26+H29 -> 560926000

Sheet 3. sz. melléklet
G1: 3. melléklet
G2: ='1.sz. melléklet'!G2 -> az 9/2018. (X.04.) önkormányzati rendelethez
A4: Balatonakali Önkormányzat 2018. évi összesített konszolidált működési bevételei
E6: adatok Ft-ban
A7: Sor- sz | B7: Megnevezés | C7: 2018. évi előirányzat | D7: 2018. évi mód.előir. (2018.X.04.) | E7: mód./eredeti előirány. (%)
A8: A. | B8: B. | C8: C. | D8: D. | E8: E.
A9: BEVÉTELEK
A10: I. | B10: Működési célú támogatások államháztartáson belülről | C10: =C11+C26 -> 77936578 | D10: =D11+D26 -> 79459420 | E10: =D10/C10 -> 1.0195395
B11: 1. Önkormányzatok működési támogatásai | C11: =SUM(C12:C25) -> 62098492 | D11: =SUM(D12:D25) -> 62387809 | E11: =D11/C11 -> 1.004659
B12: 1.1 Önkormányzati hivatal működési támogatása
B13: 1.2 Településüzemeltetés támogatása | C13: 16207515 | D13: 16207515
B14: 1.3 Egyéb kötelező feladat ellátása | C14: 3234837 | D14: 3234837
B15: 1.4 Üdülőhelyi feladatok | C15: 19468580 | D15: 19468580
B16: 1.5 Lakott külterülettel kapcsolatos feladatok támogatása | C16: 137700 | D16: 137700
B17: 1.6 Polgármesteri illetmény támogatása | C17: 1170400 | D17: 1170400
B18: 1.7 Önkormányzat egyes köznevelési feladatainak támogatása - óvodapedagógusok bértámogatása | C18: 12327800 | D18: 12327800
B19: 1.8 Önkormányzat egyes köznevelési feladatainak támogatása - óvodaműködtetés támogatása | C19: 1552300 | D19: 1552300
B20: 1.9 Szociális étkeztetés | C20: 55360 | D20: 55360
B21: 1.10 Gyermekétkeztetés támogatása | C21: 1140000 | D21: 1140000
B22: 1.11 Hozzájárulás a pénzbeli szociális ellátáshoz | C22: 5004000 | D22: 5004000
B23: 1.12 Könyvtári,közművelődési feladatok támogatása | C23: 1800000 | D23: 1800000
B24: 1.13 Helyi önkormányzatok kiegészítő támogatásai | C24: 0 | D24: 289317
B25: 1.14 Lakossági víz- és csatornaszolgáltatás támogatása | C25: 0 | D25: 0
B26: 2. Egyéb működési célú támogatások államháztartáson belülről | C26: ='7.sz. melléklet'!D62 -> 15838086 | D26: ='7.sz. melléklet'!E62 -> 17071611 | E26: =D26/C26 -> 1.0778835
A27: II. | B27: Közhatalmi bevételek | C27: =SUM(C28:C30) -> 84000000 | D27: =SUM(D28:D30) -> 84000000 | E27: =D27/C27 -> 1
B28: 2.1 Vagyoni típusú adók | C28: ='7.sz. melléklet'!D67 -> 51000000 | D28: ='7.sz. melléklet'!E67 -> 51000000
B29: 2.2 Termékek és szolgáltatások adói | C29: ='7.sz. melléklet'!D68 -> 32600000 | D29: ='7.sz. melléklet'!E68 -> 32600000
B30: 2.3. Egyéb közhatalmi bevételek | C30: ='7.sz. melléklet'!D72 -> 400000 | D30: ='7.sz. melléklet'!E72 -> 400000
A31: III. | B31: Működési bevételek | C31: 70729687 | D31: 70729411 | E31: =D31/C31 -> 0.9999961
A32: IV. | B32: Működési célú átvett pénzeszközök | C32: ='7.sz. melléklet'!D86 -> 0 | D32: ='7.sz. melléklet'!E86 -> 0
A33: Költségvetési bevétel | C33: =C31+C27+C10+C32 -> 232666265 | D33: =D31+D27+D10+D32 -> 234188831 | E33: =D33/C33 -> 1.006544
A34: V. | B34: Pénzforgalom nélküli bevétel | C34: =SUM(C35) -> 74197028 | D34: =SUM(D35) -> 74197028 | E34: =D34/C34 -> 1
B35: -ebből belső hiányt finansz. pénzmaradvány | C35: ='2.sz. melléklet'!C18 -> 74197028 | D35: ='2.sz. melléklet'!D18 -> 74197028 | E35: =D35/C35 -> 1
A36: Bevételek mindösszesen | C36: =C34+C33 -> 306863293 | D36: =D34+D33 -> 308385859 | E36: =D36/C36 -> 1.0049617

Sheet 4.sz. melléklet
H1: 4. melléklet
H2: ='1.sz. melléklet'!G2 -> az 9/2018. (X.04.) önkormányzati rendelethez
A4: Balatonakali Önkormányzat 2018. évi összesített konszolidált működési kiadásai,
A5: összevont létszámkeret
F7: adatok Ft-ban
A8: Sor- sz | B8: Megnevezés | C8: Rovat száma | D8: 2018. évi előirányzat | E8: 2018. évi mód.előir. (2018.X.04.) | F8: mód./eredeti előirány. (%)
A9: A. | B9: B. | C9: C. | D9: D. | E9: E. | F9: F.
A10: KIADÁSOK
A11: 1. | B11: Személyi juttatások | C11: K1 | D11: ='[1]8.sz. melléklet'!D7+'[1]9.sz. melléklet'!G8 -> 60542285 | E11: ='[1]8.sz. melléklet'!E7+'[1]9.sz. melléklet'!G8 -> 61683604 | F11: =E11/D11 -> 1.0188516
A12: 2. | B12: Munkaadókatt terhelő járulékok | C12: K2 | D12: ='[1]8.sz. melléklet'!D20+'[1]9.sz. melléklet'!G18 -> 12797496 | E12: ='[1]8.sz. melléklet'!E20+'[1]9.sz. melléklet'!G18 -> 13037679 | F12: =E12/D12 -> 1.018768
A13: 3. | B13: Dologi kiadások | C13: K3 | D13: ='[1]8.sz. melléklet'!D21+'[1]9.sz. melléklet'!G19 -> 128026584 | E13: ='[1]8.sz. melléklet'!E21+'[1]9.sz. melléklet'!G19 -> 134187812 | F13: =E13/D13 -> 1.0481246
A14: 4. | B14: Ellátottak pénzbeli juttatásai | C14: K4 | D14: ='7.sz. melléklet'!D31 -> 4990000 | E14: ='7.sz. melléklet'!E31 -> 4990000 | F14: =E14/D14 -> 1
A15: 5. | B15: Elvonások és befizetések kiadásai | C15: K502 | D15: ='7.sz. melléklet'!D33 -> 800000 | E15: ='7.sz. melléklet'!E33 -> 1035980 | F15: =E15/D15 -> 1.294975
A16: 6. | B16: Egyéb működési célú támogatások államháztartáson belülre | C16: K506 | D16: ='7.sz. melléklet'!D34 -> 17905900 | E16: ='7.sz. melléklet'!E34 -> 18110900 | F16: =E16/D16 -> 1.0114487
A17: 7. | B17: Egyéb működési célú támogatások államháztartáson kívülre | C17: K512 | D17: ='7.sz. melléklet'!D35 -> 7604000 | E17: ='7.sz. melléklet'!E35 -> 7754000 | F17: =E17/D17 -> 1.0197265
A18: Működési kiadások | D18: =SUM(D11:D17) -> 232666265 | E18: =SUM(E11:E17) -> 240799975 | F18: =E18/D18 -> 1.0349587
A19: 8. | B19: Tartalékok | C19: K513 | D19: ='7.sz. melléklet'!D36 -> 74197028 | E19: ='7.sz. melléklet'!E36 -> 66492081 | F19: =E19/D19 -> 0.89615558
A20: 9. | B20: Engedélyezett létszámkeret (összevont) | D20: 22 | E20: 22
A21: Működési kiadások mindösszesen | D21: =SUM(D18:D19) -> 306863293 | E21: =SUM(E18:E19) -> 307292056 | F21: =E21/D21 -> 1.0013972

Sheet 5.sz. melléklet
H1: 5. melléklet
H2: ='1.sz. melléklet'!G2 -> az 9/2018. (X.04.) önkormányzati rendelethez
A4: Balatonakali Önkormányzat felhalmozási kiadásai
F6: adatok Ft-ban
A7: Sor- sz | B7: Megnevezés | C7: Rovat száma | D7: 2018. évi előirányzat | E7: 2018. évi mód.előir. (2018.X.04.) | F7: mód./eredeti előirány. (%)
A8: A. | B8: B. | C8: C. | D8: D. | E8: E. | F8: F.
A9: 1. | B9: Felújítások | C9: K7 | D9: ='7.sz. melléklet'!D44 -> 27864000 | E9: ='7.sz. melléklet'!E44 -> 40181000
A10: 2. | B10: Beruházások | C10: K6 | D10: ='7.sz. melléklet'!D37 -> 220629529 | E10: ='7.sz. melléklet'!E37 -> 209406332 | F10: =E10/D10 -> 0.94913103
A11: 3. | B11: Egyéb felhalmozási célú kiadások | C11: K8 | D11: ='7.sz. melléklet'!D47 -> 1500000 | E11: ='7.sz. melléklet'!E47 -> 1500000 | F11: =E11/D11 -> 1
A12: Felhalmozási kiadások mindösszesen | D12: =SUM(D9:D11) -> 249993529 | E12: =SUM(E9:E11) -> 251087332 | F12: =E12/D12 -> 1.0043753

Sheet 6. sz. melléklet 
J1: 6. melléklet
J2: ='1.sz. melléklet'!G2 -> az 9/2018. (X.04.) önkormányzati rendelethez
A4: Balatonakali Önkormányzat 2018. évi összesített költségvetés kormányzati funkciónként
J5: adatok Ft-ban
A6: Sor-szám | B6: Szakfeladat | C6: Bevétel 2018. évi előirányzat | D6: Bevétel 2018. évi mód. előir. | E6: mód./eredeti előirány. (%) | F6: Kiadás 2018. évi előirányzat | G6: Kiadás 2018. évi mód. előir. | H6: mód./eredeti előirány. (%) | I6: Kötelező feladat | J6: Önként vállalt feladat
A7: A. | B7: B. | C7: C. | D7: D. | E7: E. | F7: F. | G7: G. | H7: H. | I7: I. | J7: J.
A8: 1. | B8: 011130 Önkormányzatok és önkormányzati hivatalok jogalkotó és általános igazgatási tevékenysége | C8: 2052985 | D8: 2052709 | E8: =D8/C8 -> 0.99986556 | F8: 43746320 | G8: 44549437 | H8: =G8/F8 -> 1.0183585 | I8: X
A9: 2. | B9: 013320 Köztemető-fenntartás és működtetés | C9: 127000 | D9: 127000 | E9: =D9/C9 -> 1 | F9: 2829169 | G9: 2829169 | H9: =G9/F9 -> 1 | I9: X
A10: 3. | B10: 013350 Az önkormányzati vagyonnal való gazdálkodással kapcsolatos feladatok | C10: 3846000 | D10: 3846000 | E10: =D10/C10 -> 1 | F10: 28594000 | G10: 28594000 | H10: =G10/F10 -> 1 | I10: X
A11: 4. | B11: 016080 Kiemelt állami és önkormányzati rendezvények | C11: 3810000 | D11: 3810000 | E11: =D11/C11 -> 1 | F11: 13264340 | G11: 13264340 | H11: =G11/F11 -> 1 | I11: X
A12: 5. | B12: 018010 Önkormányzatok elszámolásai a központi költségvetéssel | C12: 76574982 | D12: 77122733 | E12: =D12/C12 -> 1.0071531 | F12: 3128178 | G12: 3622592 | H12: =G12/F12 -> 1.1580517 | I12: X
A13: 6. | B13: 018030 Támogatási célú finanszírozási műveletek | F13: 13668900 | G13: 13873900 | H13: =G13/F13 -> 1.0149975 | I13: X
A14: 7. | B14: 031060 Bűnmegelőzés | F14: 258000 | G14: 258000 | H14: =G14/F14 -> 1 | I14: X
A15: 8. | B15: 032020 Tűz- és katasztrófavédelmi tevékenységek | F15: 1070000 | G15: 1070000 | H15: =G15/F15 -> 1 | I15: X
A16: 9. | B16: 041140 Területfejlesztés igazgatása | C16: 26161035 | D16: 26161035 | E16: =D16/C16 -> 1 | F16: 149438902 | G16: 169214316 | H16: =G16/F16 -> 1.1323311 | J16: X
A17: 10. | B17: 041233 Hosszabb időtartamú közfoglalkoztatás | C17: 270475 | D17: 654000 | E17: =D17/C17 -> 2.4179684 | F17: 269457 | G17: 654217 | H17: =G17/F17 -> 2.4279087 | I17: X
A18: 11. | B18: 045160 Közutak, hidak, alagutak üzemeltetése, fenntartása | F18: 74591000 | G18: 47981500 | H18: =G18/F18 -> 0.64326125 | I18: X
A19: 12. | B19: 047320 Turizmusfejlesztési támogatások és tevékenységek | C19: 6669966 | D19: 6669966 | F19: 0 | G19: 0 | J19: X
A20: 13. | B20: 051030 Nem veszélyes hulladék vegyes begyűjtése, szállítása, átrakása | F20: 2540000 | G20: 2540000 | H20: =G20/F20 -> 1 | I20: X
A21: 14. | B21: 052020 Szennyvíz gyűjtése, tisztítása, elhelyezése | C21: 8890000 | D21: 8890000 | E21: =D21/C21 -> 1 | F21: 0 | G21: 0 | I21: X
A22: 15. | B22: 064010 Közvilágítás | F22: 4750000 | G22: 4750000 | H22: =G22/F22 -> 1 | I22: X
A23: 16. | B23: 066010 Zöldterület-kezelés | C23: 0 | D23: 0 | F23: 28160115 | G23: 28409905 | H23: =G23/F23 -> 1.0088703 | I23: X
A24: 17. | B24: 066020 Város és községgazdálkodás | F24: 11281682 | G24: 11281682 | H24: =G24/F24 -> 1 | I24: X
A25: 18. | B25: 072111 Háziorvosi alapellátás | F25: 700000 | G25: 700000 | H25: =G25/F25 -> 1 | I25: X
A26: 19. | B26: 072112 Háziorvosi ügyeleti ellátás | F26: 900000 | G26: 900000 | H26: =G26/F26 -> 1 | I26: X
A29: 20. | B29: 072311 Fogorvosi alapellátás | F29: 850000 | G29: 850000 | H29: =G29/F29 -> 1 | I29: X
A30: 21. | B30: 072450 Fizikoterápiás szolgáltatás | C30: 0 | D30: 0 | F30: 2621000 | G30: 2621000 | H30: =G30/F30 -> 1 | I30: X
A31: 22. | B31: 074011 Foglalkozás-egészségügyi alapellátás | F31: 150000 | G31: 150000 | H31: =G31/F31 -> 1 | I31: X
A32: 23. | B32: 081045 Szabadidősport tevékenység és támogatása | F32: 1283000 | G32: 1283000 | H32: =G32/F32 -> 1 | I32: X
A33: 24. | B33: 081061 Szabadidős park, fürdő és strandszolgáltatás | C33: 49653000 | D33: 49653000 | E33: =D33/C33 -> 1 | F33: 42019973 | G33: 55312925 | H33: =G33/F33 -> 1.3163484 | J33: X
A34: 25. | B34: 081071 Üdülői szálláshely szolgáltatás és étkeztetés | C34: 889000 | D34: 889000 | E34: =D34/C34 -> 1 | F34: 450000 | G34: 450000 | H34: =G34/F34 -> 1 | J34: X
A35: 26. | B35: 082010 Kultúra igazgatása | C35: 15095079 | D35: 15095079 | F35: 9197326 | G35: 9197326 | H35: =G35/F35 -> 1 | J35: X
A36: 27. | B36: 082044 Könyvtári szolgáltatások | F36: 839808 | G36: 839808 | H36: =G36/F36 -> 1 | I36: X
A37: 28. | B37: 082084 Közművelődés - kulturális alapú gazdaságfejlesztés | C37: 381000 | D37: 381000 | E37: =D37/C37 -> 1 | F37: 10053797 | G37: 10053797 | H37: =G37/F37 -> 1 | I37: X
A38: 29. | B38: 083030 Egyéb kiadói tevékenység | C38: 635000 | D38: 635000 | E38: =D38/C38 -> 1 | F38: 1270000 | G38: 1270000 | H38: =G38/F38 -> 1 | J38: X
A39: 30. | B39: 084031 Civil szervezetek működési támogatása | F39: 9004000 | G39: 9154000 | H39: =G39/F39 -> 1.0166593 | J39: X
A40: 31. | B40: 086010 Határon túli magyarok támogatása | C40: 0 | D40: 850000 | F40: 0 | G40: 1050805 | J40: X
A41: 32. | B41: 086030 Nemzetközi kulturális együttműködés | F41: 885005 | G41: 574200 | H41: =G41/F41 -> 0.64880989 | J41: X
A42: 33. | B42: 091110 Óvodai nevelés, ellátás szakmai feladatai | F42: 14773619 | G42: 14773619 | H42: =G42/F42 -> 1 | I42: X
A43: 34. | B43: 091140 Óvodai nevelés, ellátás működtetési feladatai | C43: 1050234 | D43: 1050234 | E43: =D43/C43 -> 1 | F43: 5406381 | G43: 5406381 | H43: =G43/F43 -> 1 | I43: X
A44: 35. | B44: 096010 Óvodai intézményi étkeztetés | C44: 0 | D44: 0 | F44: 1100000 | G44: 1100000 | H44: =G44/F44 -> 1 | I44: X
A45: 36. | B45: 104242 Gyermekjóléti szolgáltatások | F45: 397000 | G45: 397000 | H45: =G45/F45 -> 1 | I45: X
A46: 37. | B46: 107051 Szociális étkeztetés | I46: X
A47: 38. | B47: 107052 Házi segítségnyújtás | F47: 304000 | G47: 304000 | H47: =G47/F47 -> 1 | I47: X
A48: 39. | B48: 107053 Jelzőrendszeres házi segítségnyújtás | F48: 340000 | G48: 340000 | H48: =G48/F48 -> 1 | I48: X
A49: 40. | B49: 107060 Egyéb szociális természetbeni és pénzbeli ellátások | F49: 4813000 | G49: 4813000 | H49: =G49/F49 -> 1 | I49: X
A50: 41. | B50: 900020 Önkormányzatok funkcióra nem sorolható bevételei | C50: 84000000 | D50: 84000000 | E50: =D50/C50 -> 1 | I50: X
A51: 42. | B51: 900060 Forgatási és befektetési célú finanszírozási műveletek | C51: 100000000 | D51: 100000000 | E51: =D51/C51 -> 1 | F51: 0 | G51: 0 | J51: X
A52: Összesen: | C52: =SUM(C8:C51) -> 380105756 | D52: =SUM(D8:D51) -> 381886756 | E52: =D52/C52 -> 1.0046855 | F52: =SUM(F8:F51) -> 484947972 | G52: =SUM(G8:G51) -> 494433919 | H52: =G52/F52 -> 1.0195608
A53: Tartalék: | C53: 179039244 | D53: 179039244 | E53: =D53/C53 -> 1 | F53: ='7.sz. melléklet'!D36 -> 74197028 | G53: ='7.sz. melléklet'!E36 -> 66492081 | H53: =G53/F53 -> 0.89615558
A54: Mindösszesen: | C54: =SUM(C52:C53) -> 559145000 | D54: =SUM(D52:D53) -> 560926000 | E54: =D54/C54 -> 1.0031852 | F54: =SUM(F52:F53) -> 559145000 | G54: =SUM(G52:G53) -> 560926000 | H54: =G54/F54 -> 1.0031852

Sheet 7.sz. melléklet
I1: 7. melléklet
I2: ='1.sz. melléklet'!G2 -> az 9/2018. (X.04.) önkormányzati rendelethez
A3: Balatonakali Önkormányzat kiadásai
F4: adatok Ft-ban
A5: Sor- sz | B5: Megnevezés | C5: Rovat száma | D5: 2018. évi előirányzat | E5: 2018. évi mód.előir. (2018.X.04.) | F5: mód./eredeti előirány. (%)
A6: A. | B6: B. | C6: C. | D6: D. | E6: E. | F6: F.
A7: 1. | B7: Személyi juttatások | C7: K1 | D7: =D8+D16 -> 48217569 | E7: =E8+E16 -> 49358888 | F7: =E7/D7 -> 1.0236702
A8: 1.1 | B8: Foglalkoztatottak személyi juttatásai | C8: K11 | D8: =SUM(D9:D15) -> 32558468 | E8: =SUM(E9:E15) -> 35767187 | F8: =E8/D8 -> 1.0985525
B9: 1.1.1. Törvény szerinti illetmények, munkabérek | C9: K1101 | D9: 29698452 | E9: 32734032 | F9: =E9/D9 -> 1.1022134
B10: 1.1.2. Normatív jutalmak | C10: K1102 | D10: 163000 | E10: 163000
B11: 1.1.3 Készenléti, ügyeleti, helyettesítési díj | C11: K1104 | D11: 62000 | E11: 62000 | F11: =E11/D11 -> 1
B12: 1.1.4. Béren kívüli juttatások | C12: K1107 | D12: 2020176 | E12: 2138415 | F12: =E12/D12 -> 1.0585291
B13: 1.1.5. Közlekedési költségtérítés | C13: K1109 | D13: 93240 | E13: 93240 | F13: =E13/D13 -> 1
B14: 1.1.6. Egyéb költségtérítések | C14: K1110 | D14: 100000 | E14: 100000 | F14: =E14/D14 -> 1
B15: 1.1.7. Foglalkoztatottak egyéb személyi juttatásai | C15: K1113 | D15: 421600 | E15: 476500 | F15: =E15/D15 -> 1.1302182
A16: 1.2 | B16: Külső személyi juttatások | C16: K12 | D16: =SUM(D17:D19) -> 15659101 | E16: =SUM(E17:E19) -> 13591701 | F16: =E16/D16 -> 0.86797454
B17: 1.2.1 Választott tisztségviselők juttatásai | C17: K121 | D17: 8216720 | E17: 8216720 | F17: =E17/D17 -> 1
B18: 1.2.2 Munkavégzésre irányuló egyéb jogviszony | C18: K122 | D18: 5807381 | E18: 3367381 | F18: =E18/D18 -> 0.57984503
B19: 1.2.3 Egyéb külső személyi juttatások | C19: K123 | D19: 1635000 | E19: 2007600 | F19: =E19/D19 -> 1.2278899
A20: 2. | B20: Munkaadókat terhelő járulékok | C20: K2 | D20: 10362093 | E20: 10602276 | F20: =E20/D20 -> 1.023179
A21: 3. | B21: Dologi kiadások | C21: K3 | D21: =SUM(D22:D26) -> 121506703 | E21: =SUM(E22:E26) -> 127667931 | F21: =E21/D21 -> 1.0507069
A22: 3.1 | B22: Készletbeszerzés | C22: K31 | D22: 12249000 | E22: 12249000 | F22: =E22/D22 -> 1
A23: 3.2 | B23: Kommunikációs szolg. | C23: K32 | D23: 2923000 | E23: 3336000 | F23: =E23/D23 -> 1.1412932
A24: 3.3 | B24: Szolgáltatási kiadások | C24: K33 | D24: 63889000 | E24: 65229117 | F24: =E24/D24 -> 1.0209757
A25: 3.4 | B25: Kiküldetés, reklám, propagandakiadások | C25: K34 | D25: 395000 | E25: 395000 | F25: =E25/D25 -> 1
A26: 3.5 | B26: Különféle befizetések és egyéb dologi kiadások | C26: K35 | D26: =SUM(D27:D30) -> 42050703 | E26: =SUM(E27:E30) -> 46458814 | F26: =E26/D26 -> 1.1048285
B27: 3.5.1 Működési célú előzetesen felszámított ÁFA | C27: K351 | D27: 14576000 | E27: 14810500 | F27: =E27/D27 -> 1.0160881
B28: 3.5.2 Fizetendő általános forgalmi adó | C28: K352 | D28: 25965703 | E28: 30139314 | F28: =E28/D28 -> 1.1607355
B29: 3.5.3 Kamatkiadások | C29: K353 | D29: 40000 | E29: 40000 | F29: =E29/D29 -> 1
B30: 3.5.4 Egyéb dologi kiadások | C30: K355 | D30: 1469000 | E30: 1469000 | F30: =E30/D30 -> 1
A31: 4. | B31: Ellátottak pénzbeli juttatásai | C31: K4 | D31: 4990000 | E31: 4990000 | F31: =E31/D31 -> 1
A32: 5. | B32: Egyéb működési célú kiadások | C32: K5 | D32: =SUM(D33:D36) -> 100506928 | E32: =SUM(E33:E36) -> 93392961 | F32: =E32/D32 -> 0.92921914
A33: 5.1 | B33: Elvonások és befizetések | C33: K502 | D33: 800000 | E33: 1035980 | F33: =E33/D33 -> 1.294975
A34: 5.2 | B34: Egyéb működési célú támogatások ÁH-n belülre | C34: K506 | D34: 17905900 | E34: 18110900 | F34: =E34/D34 -> 1.0114487
A35: 5.3 | B35: Egyéb működési célú támogatások ÁH-n kívülre | C35: K512 | D35: 7604000 | E35: 7754000 | F35: =E35/D35 -> 1.0197265
A36: 5.4 | B36: Tartalékok | C36: K513 | D36: 74197028 | E36: 66492081 | F36: =E36/D36 -> 0.89615558
A37: 6. | B37: Beruházások | C37: K6 | D37: =SUM(D38:D43) -> 220629529 | E37: =SUM(E38:E43) -> 209406332 | F37: =E37/D37 -> 0.94913103
A38: 6.1 | B38: Immateriális javak beszerzése, létesítése | C38: K61 | D38: 0 | E38: 274000
A39: 6.2 | B39: Ingatlanok beszerzése, létesítése | C39: K62 | D39: 159058209 | E39: 151007401 | F39: =E39/D39 -> 0.94938452
A40: 6.3 | B40: Informatikai eszközök beszerzése, létesítése | C40: K63 | D40: 1230000 | E40: 1018000 | F40: =E40/D40 -> 0.82764228
A41: 6.4 | B41: Egyéb tárgyi eszközök beszerzése, létesítése | C41: K64 | D41: 22952500 | E41: 25390500 | F41: =E41/D41 -> 1.1062194
A42: 6.5 | B42: Meglévő részesedések növeléséhez kapcs.kiadások | C42: K66 | D42: 14220000 | E42: 14220000 | F42: =E42/D42 -> 1
A43: 6.6 | B43: Beruházási célú előzetesen felszámított ÁFA | C43: K67 | D43: 23168820 | E43: 17496431 | F43: =E43/D43 -> 0.75517143
A44: 7. | B44: Felújítások | C44: K7 | D44: =SUM(D45:D46) -> 27864000 | E44: =SUM(E45:E46) -> 40181000 | F44: =E44/D44 -> 1.4420399
A45: 7.1 | B45: Ingatlanok felújítása | C45: K71 | D45: 21941000 | E45: 31639500 | F45: =E45/D45 -> 1.4420263
A46: 7.2 | B46: Felújítási célú előzetesen felszámított ÁFA | C46: K74 | D46: 5923000 | E46: 8541500 | F46: =E46/D46 -> 1.4420902
A47: 8. | B47: Egyéb felhalmozási célú kiadások | C47: K8 | D47: =SUM(D48:D48) -> 1500000 | E47: =SUM(E48:E48) -> 1500000 | F47: =E47/D47 -> 1
A48: 8.1 | B48: Egyéb felhalmozási célú támogatások ÁH-n kívülre | C48: K89 | D48: 1500000 | E48: 1500000 | F48: =E48/D48 -> 1
A49: 9. | B49: Finanszírozási kiadások | C49: K91 | D49: =SUM(D50:D52) -> 21706178 | E49: =SUM(E50:E52) -> 21964612 | F49: =E49/D49 -> 1.011906
A50: 9.1 | B50: Forgatási célú belföldi értékpapírok vásárlása | C50: K1921 | D50: 0 | E50: 0
A51: 9.2 | B51: ÁH-n belüli megelőlegezések visszafizetése | C51: K914 | D51: 2288178 | E51: 2546612 | F51: =E51/D51 -> 1.1129431
A52: 9.3 | B52: Központi, irányító szervi támogatás | C52: K915 | D52: 19418000 | E52: 19418000 | F52: =E52/D52 -> 1
A53: Kiadás összesen | D53: =D7+D20+D21+D31+D32+D37+D44+D47+D49 -> 557283000 | E53: =E7+E20+E21+E31+E32+E37+E44+E47+E49 -> 559064000 | F53: =E53/D53 -> 1.0031959
I54: 7. melléklet folytatása
I55: ='1.sz. melléklet'!G2 -> az 9/2018. (X.04.) önkormányzati rendelethez
A56: Balatonakali Önkormányzat bevételei
F57: adatok Ft-ban
A58: Sor- sz | B58: Megnevezés | C58: Rovat száma | D58: 2018. évi előirányzat | E58: 2018. évi mód.előir. (2018.X.04.) | F58: mód./eredeti előirány. (%)
A59: A. | B59: B. | C59: C. | D59: D. | E59: E. | F59: F.
A60: 1. | B60: Működési célú támogatások ÁH-n belülről | C60: B1 | D60: =SUM(D61:D62) -> 77936578 | E60: =SUM(E61:E62) -> 79459420 | F60: =E60/D60 -> 1.0195395
A61: 1.1 | B61: Önkormányzatok működési támogatásai | C61: B11 | D61: 62098492 | E61: 62387809 | F61: =E61/D61 -> 1.004659
A62: 1.2 | B62: Egyéb működési célú támogatások ÁH-n belülről | C62: B16 | D62: 15838086 | E62: 17071611 | F62: =E62/D62 -> 1.0778835
A63: 2. | B63: Felhalmozási célú támogatások ÁH-n belülről | C63: B2 | D63: =SUM(D64:D65) -> 47307491 | E63: =SUM(E64:E65) -> 47307491 | F63: =E63/D63 -> 1
A64: 2.1 | B64: Felhalmozási célú önkormányzati támogatások | C64: B21 | D64: 14476490 | E64: 14476490 | F64: =E64/D64 -> 1
A65: 2.2 | B65: Egyéb felhalmozási célú támogatások ÁH-n belülről | C65: B25 | D65: 32831001 | E65: 32831001
A66: 3. | B66: Közhatalmi bevételek | C66: B3 | D66: =D67+D68+D72 -> 84000000 | E66: =E67+E68+E72 -> 84000000 | F66: =E66/D66 -> 1
A67: 3.1 | B67: Vagyoni típusú adók | C67: B34 | D67: 51000000 | E67: 51000000 | F67: =E67/D67 -> 1
A68: 3.2 | B68: Termékek és szolgáltatások adói | C68: B35 | D68: =SUM(D69:D71) -> 32600000 | E68: =SUM(E69:E71) -> 32600000 | F68: =E68/D68 -> 1
B69: 3.2.1 Értékesítési és forgalmi adók | C69: B351 | D69: 14000000 | E69: 14000000 | F69: =E69/D69 -> 1
B70: 3.2.2 Gépjárműadók | C70: B352 | D70: 1600000 | E70: 1600000 | F70: =E70/D70 -> 1
B71: 3.2.3Egyéb áruhasználati és szolgáltatási adók | C71: B355 | D71: 17000000 | E71: 17000000 | F71: =E71/D71 -> 1
A72: 3.3 | B72: Egyéb közhatalmi bevételek | C72: B36 | D72: 400000 | E72: 400000 | F72: =E72/D72 -> 1
A73: 4. | B73: Működési bevételek | C73: B4 | D73: =SUM(D74:D82) -> 69679453 | E73: =SUM(E74:E82) -> 69679177 | F73: =E73/D73 -> 0.99999604
A74: 4.1 | B74: Készletértékesítés ellenértéke | C74: B401 | D74: 300000 | E74: 300000 | F74: =E74/D74 -> 1
A75: 4.2 | B75: Szolgáltatások ellenértéke | C75: B402 | D75: 40028000 | E75: 40028000 | F75: =E75/D75 -> 1
A76: 4.3 | B76: Közvetített szolgáltatások ellenértéke | C76: B403 | D76: 4800000 | E76: 4800000 | F76: =E76/D76 -> 1
A77: 4.4 | B77: Tulajdonosi bevételek | C77: B404 | D77: 7000000 | E77: 7000000 | F77: =E77/D77 -> 1
A78: 4.5 | B78: Kiszámlázott általános forgalmi adó | C78: B406 | D78: 14073000 | E78: 14073000 | F78: =E78/D78 -> 1
A79: 4.6 | B79: Általános forgalmi adó visszatérítése | C79: B407 | D79: 2728000 | E79: 2728000
A80: 4.7 | B80: Kamatbevételek | C80: B408 | D80: 750000 | E80: 750000 | F80: =E80/D80 -> 1
A81: 4.8 | B81: Biztosító által fizetett kártérítés | C81: B410 | D81: 0 | E81: 0
A82: 4.9 | B82: Egyéb működési bevételek | C82: B411 | D82: 453 | E82: 177 | F82: =E82/D82 -> 0.39072848
A83: 5. | B83: Felhalmozási bevételek | C83: B5 | D83: =SUM(D84:D85) -> 0 | E83: =SUM(E84:E85) -> 0
A84: 5.1 | B84: Ingatlanok értékesítése | C84: B52 | D84: 0 | E84: 0
A85: 5.2 | B85: Egyéb tárgyi eszközök értékesítése | C85: B53 | D85: 0 | E85: 0
A86: 6. | B86: Működési célú átvett pénzeszközök | C86: B6 | D86: =SUM(D87:D87) -> 0 | E86: =SUM(E87:E87) -> 0
A87: 6.1 | B87: Egyéb működési célú átvett pénzeszközök | C87: B63 | D87: 0 | E87: 0
A88: 7. | B88: Felhalmozási célú átvett pénzeszközök | C88: B7 | D88: =SUM(D89:D89) -> 132000 | E88: =SUM(E89:E89) -> 132000 | F88: =E88/D88 -> 1
A89: 7.1 | B89: Egyéb felhalmozási célú átvett pénzeszközök | C89: B75 | D89: 132000 | E89: 132000 | F89: =E89/D89 -> 1
A90: 8. | B90: Belföldi finanszírozás bevételei | C90: B81 | D90: =SUM(D91:D93) -> 278227478 | E90: =SUM(E91:E93) -> 278485912 | F90: =E90/D90 -> 1.0009289
A91: 8.1 | B91: Forgatási célú belföldi értékpapírok beváltása | C91: B812 | D91: 100000000 | E91: 100000000 | F91: =E91/D91 -> 1
A92: 8.2 | B92: Maradvány igénybevétele | C92: B813 | D92: 178227478 | E92: 178227478 | F92: =E92/D92 -> 1
A93: 8.3 | B93: ÁH-n belüli megelőlegezések | C93: B814 | D93: 0 | E93: 258434
A94: Bevétel összesen | D94: =D60+D63+D66+D73+D86+D88+D90+D83 -> 557283000 | E94: =E60+E63+E66+E73+E86+E88+E90+E83 -> 559064000 | F94: =E94/D94 -> 1.0031959

Sheet 8.sz. melléklet
F1: 8. melléklet
F2: ='1.sz. melléklet'!G2 -> az 9/2018. (X.04.) önkormányzati rendelethez
A4: Balatonakali Önkormányzat 2018. évi tartaléka
E6: adatok Ft-ban
A7: Sor- sz. | B7: Megnevezés | C7: 2018. évi előirányzat | D7: 2018. évi mód.előir. (2018.X.04.) | E7: mód./eredeti előirány. (%)
A8: A. | B8: B. | C8: C. | D8: D. | E8: E.
A9: 1. | B9: Általános tartalék | C9: ='1.sz. melléklet'!C38 -> 74197028 | D9: ='1.sz. melléklet'!D38 -> 66492081 | E9: =D9/C9 -> 0.89615558
B10: Összesen | C10: =SUM(C9) -> 74197028 | D10: =SUM(D9) -> 66492081 | E10: =D10/C10 -> 0.89615558

Sheet 9.sz. melléklet
F1: 9. melléklet
F2: ='1.sz. melléklet'!G2 -> az 9/2018. (X.04.) önkormányzati rendelethez
A4: Balatonakali Önkormányzat 2018. évi felhalmozási kiadásai feladatonként/célonként
E6: adatok Ft-ban
B7: Sor- sz. | C7: Feladat megnevezése | D7: 2018. évi előirányzat | E7: 2018. évi mód.előir. (2018.X.04.)
B8: A. | C8: B. | D8: C. | E8: D.
B9: I. | C9: Felújítás | D9: =SUM(D10:D15) -> 27864000 | E9: =SUM(E10:E15) -> 40181000
B10: 1. | C10: Temető kerítés | D10: 1047000 | E10: 1047000
B11: 2. | C11: Szennyvízakna rekonstrukció 5 db | D11: 3225000 | E11: 3225000
B12: 3. | C12: Balaton utca | D12: 17032000 | E12: 19978000
B13: 4. | C13: Kőrakat felhúzás, medertisztítás 518 m | D13: 5290000 | E13: 4514000
B14: 5. | C14: Strand kerítés, kapu | D14: 1270000 | E14: 0
B15: 6. | C15: Strandi útépítési és térburkolati munkák | E15: 11417000
B16: II. | C16: Beruházás | D16: =SUM(D17:D45) -> 206409529 | E16: =SUM(E17:E47) -> 195186332
B17: 1. | C17: Üdülő u. ivóvízhálózat tervezése | D17: 80000 | E17: 80000
B18: 2. | C18: Keleti lakópark út- és vízelvezetés tervezése | D18: 3829000 | E18: 3829000
B19: 3. | C19: PH tervezése | D19: 1348000 | E19: 1348000
B20: 4. | C20: Egészségház hőszigetelése | D20: 2754000 | E20: 2754000
B21: 5. | C21: Nagymező u. 1607. szennyvíz gerincvezeték kiépítése | D21: 4953000 | E21: 4953000
B22: 6. | C22: 188/1 hrsz. ivóvíz gerincvezeték, bekötések | D22: 9143000 | E22: 9143000
B23: 7. | C23: Sportöltöző berendezés | D23: 693000 | E23: 693000
B24: 8. | C24: Csapadékvíz elvezetés | D24: 48152273 | E24: 63610085
B25: 9. | C25: Sportöltöző | D25: 531759 | E25: 531759
B26: 10. | C26: Akali Halösvény | D26: 24068000 | E26: 24211991
B27: 11. | C27: MAG-TÁR-HÁZA | D27: 48016997 | E27: 48016997
B28: 12. | C28: Kossuth u. Fő tér kialakítása | D28: 30000000 | E28: 0
... B47: 31. | C47: Szoftver | D47: 0 | E47: 346000
B48: III. | C48: Egyéb felhalmozási célú kiadások | D48: =SUM(D49) -> 14220000 | E48: =SUM(E49) -> 14220000
B49: 1. | C49: Meglévő tartós rész. kapcs. tőkeemelés | D49: 14220000 | E49: 14220000
B50: IV. | C50: Felhalmozási célú pénzeszköz átadás | D50: 1500000 | E50: 1500000
B51: Felhalmozási kiadások összesen | D51: =D9+D16+D48+D50 -> 249993529 | E51: =E9+E16+E48+E50 -> 251087332

Sheet 10.sz. melléklet
H1: 10. melléklet
H2: ='1.sz. melléklet'!G2 -> az 9/2018. (X.04.) önkormányzati rendelethez
A4: Balatonakali Önkormányzat általános működésének és ágazati feladatainak
A5: 2018. évi támogatása
H7: adatok Ft-ban
A8: Sor- sz. | B8: Feladat megnevezése | G8: 2018. évi előirányzat | H8: 2018. évi mód.előir. (2018.X.04.)
A9: A. | B9: B. | G9: C. | H9: D.
A10: 1.1 | B10: Önkormányzati hivatal működésének támogatása
A11: 1.2 | B11: Településüzemeltetéshez kapcsolódó feladatellátás támogatása | G11: =SUM(E12:E15) -> 16207515 | H11: =SUM(E12:E15) -> 16207515
B12: a.) | C12: zöldterület-gazdálkodással kapcs.feladat tám. | E12: 2932450
B13: b.) | C13: közvilágítás fenntartásának támogatása | E13: 9792000
B14: c,) | C14: köztemető fenntart.kapcs.feladatok tám. | E14: 668265
B15: d. ) | C15: közutak fenntartásának támogatása | E15: 2814800
A16: 1.3 | B16: Egyéb kötelező önkormányzati feldadatok támogatása | E16: 5000000 | G16: =SUM(E16:E17) -> 3234837 | H16: =SUM(E16:E17) -> 3234837
C17: Beszámítás összege | E17: -1765163
A18: 1.4 | B18: Lakott külterülettel kapcsolatos feladatok támogatása | G18: 137700 | H18: 137700
A19: 1.5 | B19: Üdülőhelyi feladatok támogatása | G19: 19468580 | H19: 19468580
A20: 1.6 | B20: Polgármesteri illetmény támogatása | G20: 1170400 | H20: 1170400
A21: 1. | B21: Általános feladatok támogatása | G21: =SUM(G11:G20) -> 40219032 | H21: =SUM(H11:H20) -> 40219032
A22: 2.1 | B22: Kistelepülések szociális feladatainak támogatása | G22: 5004000 | H22: 5004000
A23: 2.2 | B23: Gyermekétkeztetés támogatása | G23: 1140000 | H23: 1140000
A24: 2.3 | B24: Szociális étkeztetés | G24: 55360 | H24: 55360
A25: 2.4 | B25: Egyes jövedelem pótló támogatások kiegészítése
A26: 2. | B26: Szociális, gyermekjóléti és gyermekétkeztetési feladatok támogatása | G26: =SUM(G22:G24) -> 6199360 | H26: =SUM(H22:H24) -> 6199360
A27: 3.1 | B27: Könyvtári, közművelődési és múzeumi feladatok | G27: 1800000 | H27: 1800000
A28: 3. | B28: Kulturális feladatok támogatása | G28: =SUM(G27) -> 1800000 | H28: =SUM(H27) -> 1800000
A29: 4.1 | B29: Óvodapedagógusok bértámogatása | G29: =D34+E34+F34 -> 12327800 | H29: =D34+E34+F34 -> 12327800
D30: 8 hónap | E30: 4 hónap
C31: óvoda pedagógusok | D31: 6481200 | E31: 3240600
C32: "nev.munkáját segítők | D32: 1470000 | E32: 735000
C33: pedagógus II. kiegészító támogatá | F33: 401000
C34: összesen | D34: =SUM(D31:D33) -> 7951200 | E34: =SUM(E31:E33) -> 3975600 | F34: =SUM(F31:F33) -> 401000
A35: 4.2 | B35: Óvodaműködtetés támogatása | D35: 8 hónap | E35: 4 hónap | G35: =D36+E36 -> 1552300 | H35: =D36+E36 -> 1552300
D36: 1034867 | E36: 517433
A37: 4. | B37: Köznevelési feladatok támogatása | G37: =SUM(G29:G36) -> 13880100 | H37: =SUM(H29:H36) -> 13880100
A38: 5.1 | B38: Helyi önkormányzatok kiegészítő támogatásai (bérkompenzáció) | H38: 289317
A39: 5. | B39: Működési célú költségvetési támogatások és kiegészítő támogatások | G39: =SUM(G38) -> 0 | H39: =SUM(H38) -> 289317
A40: Helyi önkorm. általános működésének és ágazati feladatainak támogatása összesen: | G40: =G21+G26+G28+G37 -> 62098492 | H40: =H21+H26+H28+H37+H39 -> 62387809

Sheet 11.sz. melléklet
G1: 11. melléklet
G2: ='1.sz. melléklet'!G2 -> az 9/2018. (X.04.) önkormányzati rendelethez
E4: adatok Ft-ban
A5: Sor- sz. | B5: Feladat megnevezése | C5: 2018. évi előirányzat | D5: 2018. évi mód.előir. (2018.X.04.) | E5: mód./eredeti előirány. (%)
A6: A. | B6: B. | C6: C. | D6: D. | E6: E.
A8: Egyéb működési célú támogatások államháztartáson belülre
A9: 1. | B9: Tihanyi Közös Hivatal | C9: 13668900 | D9: 13873900 | E9: =D9/C9 -> 1.0149975
A10: 2. | B10: Óvoda Balatonakali | C10: 19418000 | D10: 19418000 | E10: =D10/C10 -> 1
A11: 3. | B11: Veszprém Megyei Rendőr-főkapitányság | C11: 80000 | D11: 80000 | E11: =D11/C11 -> 1
A12: 4. | B12: Háziorvosi ügyeleti ellátás | C12: 900000 | D12: 900000 | E12: =D12/C12 -> 1
A13: 5. | B13: Tűzoltóság | C13: 715000 | D13: 715000 | E13: =D13/C13 -> 1
A14: 6. | B14: Kistérségi társulatnak | C14: 301000 | D14: 301000 | E14: =D14/C14 -> 1
A15: 7. | B15: Gyermekjóléti szolgáltatás | C15: 397000 | D15: 397000 | E15: =D15/C15 -> 1
A16: 8. | B16: Házi segítségnyújtás | C16: 304000 | D16: 304000 | E16: =D16/C16 -> 1
A17: 9. | B17: Jelzőrendszeres házi segítségnyújtás | C17: 340000 | D17: 340000 | E17: =D17/C17 -> 1
A18: 10. | B18: Bölcsödei ellátás | C18: 1200000 | D18: 1200000 | E18: =D18/C18 -> 1
A19: Összesen: | C19: =SUM(C9:C18) -> 37323900 | D19: =SUM(D9:D18) -> 37528900 | E19: =D19/C19 -> 1.0054925
A21: Egyéb működési és felhalmozási célú támogatások államháztartáson kívülre
A22: 1. | B22: Mozdulj Balaton | C22: 100000 | D22: 100000 | E22: =D22/C22 -> 1
A23: 2. | B23: Balatonakaliért Közalapítvány | C23: 5100000 | D23: 5100000 | E23: =D23/C23 -> 1
A24: 3. | B24: Horgászegyesület Balatonakali | C24: 290000 | D24: 290000 | E24: =D24/C24 -> 1
A25: 4. | B25: Balatonakali Sportegyesület | C25: 2164000 | D25: 2314000 | E25: =D25/C25 -> 1.0693161
A26: 5. | B26: Polgárőrség | C26: 700000 | D26: 700000 | E26: =D26/C26 -> 1
A27: 6. | B27: Erdélyi Kör Egyesület | C27: 200000 | D27: 200000 | E27: =D27/C27 -> 1
A28: 7. | B28: Borút Egyesület Akali | C28: 100000 | D28: 100000 | E28: =D28/C28 -> 1
A29: 8. | B29: Iskolai Alapítványok támogatása | C29: 100000 | D29: 100000 | E29: =D29/C29 -> 1
A30: 9. | B30: Országos Mentőszolgálat Alapítvány | C30: 100000 | D30: 100000 | E30: =D30/C30 -> 1
A31: 10. | B31: BÜTE | C31: 100000 | D31: 100000 | E31: =D31/C31 -> 1
A32: 11. | B32: Kővágóörsi Önkéntes Tűzoltó Egyesület | C32: 25000 | D32: 25000 | E32: =D32/C32 -> 1
A33: 12. | B33: Civil szervezetek tagdíjai | C33: 125000 | D33: 125000 | E33: =D33/C33 -> 1
A34: Összesen: | C34: =SUM(C22:C33) -> 9104000 | D34: =SUM(D22:D33) -> 9254000 | E34: =D34/C34 -> 1.0164763
A36: Vállalkozások támogatása:
A37: 1. | B37: DRV ZRt (lakossági víz- és csat. szolg. tám.) | C37: 0 | D37: 0
A38: Összesen: | C38: =SUM(C37) -> 0 | D38: =SUM(D37) -> 0 | E38: =SUM(E37) -> 0

Sheet 12.sz melléklet
H1: 12. melléklet
H2: ='1.sz. melléklet'!G2 -> az 9/2018. (X.04.) önkormányzati rendelethez
A4: Balatonakali Önkormányzat gördülő tervezés
G6: adatok Ft-ban
A7: Sor- sz. | B7: Megnevezés | C7: 2018. évi eredeti előirányzat | D7: 2018. évi mód.előir. (2018.X.04.) | E7: 2019. évi eredeti előirányzat | F7: 2020. évi eredeti előirányzat | G7: 2021. évi eredeti előirányzat
A8: A. | B8: B. | C8: C. | D8: D. | E8: E. | F8: F. | G8: G.
A9: BEVÉTELEK
A10: I. | B10: Önkormányzatok működési támogatása | C10: ='7.sz. melléklet'!D61 -> 62098492 | D10: ='7.sz. melléklet'!E61 -> 62387809 | E10: 60000000 | F10: 60000000 | G10: 60000000
A11: II. | B11: Működési célú támogatások | C11: ='7.sz. melléklet'!D62 -> 15838086 | D11: ='7.sz. melléklet'!E62 -> 17071611 | E11: 2500000 | F11: 2500000 | G11: 2500000
A12: III. | B12: Közhatalmi bevételek | C12: ='7.sz. melléklet'!D66 -> 84000000 | D12: ='7.sz. melléklet'!E66 -> 84000000 | E12: 84000000 | F12: 84000000 | G12: 84000000
A13: IV. | B13: Működési bevételek | C13: ='1.sz. melléklet'!C19 -> 70729687 | D13: ='1.sz. melléklet'!D19 -> 70729411 | E13: 65000000 | F13: 66500000 | G13: 68000000
A14: V. | B14: Felhalmozási bevételek | C14: ='7.sz. melléklet'!D83 -> 0 | D14: ='7.sz. melléklet'!E83 -> 0 | E14: 2500000 | F14: 3000000 | G14: 3500000
A15: VI. | B15: Felhamozási célú támogatások | C15: ='7.sz. melléklet'!D63+'7.sz. melléklet'!D88 -> 47439491 | D15: ='7.sz. melléklet'!E63+'7.sz. melléklet'!E88 -> 47439491 | E15: 0 | F15: 0 | G15: 0
A16: VII. | B16: ÁH-n belüli megelőlegezések | C16: ='7.sz. melléklet'!D93 -> 0 | D16: ='7.sz. melléklet'!E93 -> 258434 | E16: 0 | F16: 0 | G16: 0
A17: VIII. | B17: Előző évi költségvetési pénzmaradvány | C17: ='[1]8.sz. melléklet'!D92+'[1]9.sz. melléklet'!G40 -> 179039244 | D17: ='[1]8.sz. melléklet'!E92+'[1]9.sz. melléklet'!G40 -> 179039244 | E17: 90000000 | F17: 90000000 | G17: 90000000
A18: IX. | B18: Belföldi értékpapírok bevételei | C18: ='7.sz. melléklet'!D91 -> 100000000 | D18: ='7.sz. melléklet'!E91 -> 100000000 | E18: 0 | F18: 0 | G18: 0
A19: Bevételek mindösszesen: | C19: =SUM(C10:C18) -> 559145000 | D19: =SUM(D10:D18) -> 560926000 | E19: =SUM(E10:E18) -> 304000000 | F19: =SUM(F10:F18) -> 306000000 | G19: =SUM(G10:G18) -> 308000000
A20: KIADÁSOK
A21: I. | B21: Működési kiadások | C21: ='1.sz. melléklet'!C35 -> 232666265 | D21: ='1.sz. melléklet'!D35 -> 240799975 | E21: 203500000 | F21: 205500000 | G21: 207500000
A22: II. | B22: Felhalmozási kiadások | C22: ='7.sz. melléklet'!D37+'7.sz. melléklet'!D44+'7.sz. melléklet'!D47 -> 249993529 | D22: ='7.sz. melléklet'!E37+'7.sz. melléklet'!E44+'7.sz. melléklet'!E47 -> 251087332 | E22: 65000000 | F22: 65000000 | G22: 65000000
A23: III. | B23: Finanszírozási kiadások | C23: ='7.sz. melléklet'!D51 -> 2288178 | D23: ='7.sz. melléklet'!E51 -> 2546612 | E23: 0 | F23: 0 | G23: 0
A24: IV. | B24: Pénzforgalom nélküli kiadások | C24: ='7.sz. melléklet'!D36 -> 74197028 | D24: ='7.sz. melléklet'!E36 -> 66492081 | E24: 35500000 | F24: 35500000 | G24: 35500000
A25: Kiadások mindösszesen: | C25: =SUM(C21:C24) -> 559145000 | D25: =SUM(D21:D24) -> 560926000 | E25: =SUM(E21:E24) -> 304000000 | F25: =SUM(F21:F24) -> 306000000 | G25: =SUM(G21:G24) -> 308000000

Sheet 13.sz. melléklet
A1: 13. melléklet
O2: ='1.sz. melléklet'!G2 -> az 9/2018. (X.04.) önkormányzati rendelethez
A4: Balatonakali Önkormányzat 2018. évi előirányzat felhasználási (likviditási) ütemterve
M6: ezer Ft-ban
A7: Sorsz. | B7: Megnevezés | C7: Jan. | D7: Febr. | E7: Márc. | F7: Ápr. | G7: Máj. | H7: Jún. | I7: Júl. | J7: Aug. | K7: Szept. | L7: Okt. | M7: Nov. | N7: Dec. | O7: Összesen
A8: A. | B8: B. | C8: C. | D8: D. | E8: E. | F8: F. | G8: G. | H8: H. | I8: I. | J8: J. | K8: K. | L8: L. | M8: M. | N8: N. | O8: O.
A9: Bevételek
A10: 1. | B10: Saját bevételek | C10: 2300 | D10: 2380 | E10: 17000 | F10: 16000 | G10: 15000 | H10: 18000 | I10: 20000 | J10: 22000 | K10: 10000 | L10: 15000 | M10: 8000 | N10: 8000 | O10: =SUM(C10:N10) -> 153680
A11: 2. | B11: Átvett pénzeszközök | C11: 11 | D11: 11 | E11: 11 | F11: 11 | G11: 11 | H11: 11 | I11: 11 | J11: 11 | K11: 11 | L11: 11 | M11: 11 | N11: 11 | O11: =SUM(C11:N11) -> 132
A12: 3. | B12: Támogatás | C12: 21013 | D12: 5175 | E12: 11845 | F12: 5175 | G12: 19651 | H12: 6697 | I12: 5175 | J12: 5175 | K12: 5175 | L12: 17209 | M12: 5175 | N12: 19302 | O12: =SUM(C12:N12) -> 126767
A13: 4. | B13: Felhalmozási bevétel | O13: =SUM(C13:N13) -> 0
A14: 5. | B14: Finanszírozási bevétel | D14: 100000 | H14: 258 | O14: =SUM(C14:N14) -> 100258
A15: 6. | B15: Előző havi záró pénzállomány | C15: 178227 | O15: =SUM(C15:N15) -> 178227
A16: 7. | B16: Bevételek összesen (1-5) | C16: =SUM(C10:C15) -> 201551 | D16: =SUM(D10:D15) -> 107566 | E16: =SUM(E10:E15) -> 28856 | F16: =SUM(F10:F15) -> 21186 | G16: =SUM(G10:G15) -> 34662 | H16: =SUM(H10:H15) -> 24966 | I16: =SUM(I10:I15) -> 25186 | J16: =SUM(J10:J15) -> 27186 | ... O16: =SUM(O10:O15) -> 559064
A17: Kiadások
A18: 8. | B18: Működési kiadások | C18: 12850 | D18: 15850 | E18: 12850 | F18: 13850 | G18: 19750 | H18: 27529 | I18: 19750 | J18: 19750 | K18: 12850 | L18: 12850 | M18: 12850 | N18: 12926 | O18: =SUM(C18:N18) -> 193655
A19: 9. | B19: Átadott pénzeszköz | C19: 1239 | D19: 5320 | E19: 1723 | F19: 3079 | G19: 1539 | H19: 2742 | I19: 2779 | J19: 1440 | K19: 1643 | L19: 2779 | M19: 1239 | N19: 1843 | O19: =SUM(C19:N19) -> 27365
A20: 10. | B20: Felújítási kiadások | F20: 4272 | G20: 14884 | K20: 1047 | L20: 19978 | O20: =SUM(C20:N20) -> 40181
A21: 11. | B21: Beruházási kiadások | C21: 1300 | D21: 5200 | E21: 28000 | F21: 15000 | G21: 25000 | H21: 44000 | I21: 14230 | J21: 20000 | K21: 8000 | L21: 30000 | M21: 1900 | N21: 16776 | O21: =SUM(C21:N21) -> 209406
A22: 12. | B22: Finanszírozási kiadások | C22: 3906 | D22: 1618 | E22: 1618 | F22: 1618 | G22: 1618 | H22: 1878 | I22: 1618 | J22: 1618 | K22: 1618 | L22: 1618 | M22: 1618 | N22: 1619 | O22: =SUM(C22:N22) -> 21965
A23: 13. | B23: Tartalék felhasználása | O23: =SUM(C23:N23) -> 0
A24: 14. | B24: Kiadások összesen (7-11) | C24: =SUM(C18:C23) -> 19295 | D24: =SUM(D18:D23) -> 27988 | E24: =SUM(E18:E23) -> 44191 | F24: =SUM(F18:F23) -> 37819 | G24: =SUM(G18:G23) -> 62791 | H24: =SUM(H18:H23) -> 76149 | I24: =SUM(I18:I23) -> 38377 | J24: =SUM(J18:J23) -> 42808 | ... N24: =SUM(N18:N23) -> 33164 | O24: =SUM(C24:N24) -> 492572
A25: 15. | B25: Egyenleg (havi záró pénzállomány | C25: =C16-C24 -> 182256 | D25: =D16-D24 -> 79578 | E25: =E16-E24 -> -15335 | F25: =F16-F24 -> -16633 | G25: =G16-G24 -> -28129 | H25: =H16-H24 -> -51183 | I25: =I16-I24 -> -13191 | J25: =J16-J24 -> -15622 | ... N25: =N16-N24 -> -5851 | O25: =SUM(C25:N25) -> 66492
B26: 6 és 13 különbsége)
