Workbook
Name onev: [1]kod!$BT$34:$BT$3186

Sheet 1.tábla 
A4: AZ ÖNKORMÁNYZAT FŐÖSSZESÍTŐJE
A5: MEGNEVEZÉS | B5: 2018. EREDETI | C5: I.MÓDOSÍTÁS | D5: II.MÓDOSÍTÁS | E5: ELTÉRÉS
A6: I. Működési célú támogatások államháztartáson belülről | B6: ='2.tábla'!B5 -> 31474348 | C6: ='2.tábla'!C5 -> 31561828 | D6: ='2.tábla'!D5 -> 44660661 | E6: =D6-C6 -> 13098833
A7: II. Felhalmozási célú támogatások államháztartáson belülről | B7: ='2.tábla'!B20 -> 5000000 | C7: ='2.tábla'!C20 -> 13956854 | D7: ='2.tábla'!D20 -> 13956854 | E7: =D7-C7 -> 0
A8: III. Közhatalmi bevételek | B8: ='2.tábla'!B29 -> 11333000 | C8: ='2.tábla'!C29 -> 11333000 | D8: ='2.tábla'!D29 -> 11333000 | E8: =D8-C8 -> 0
A9: IV. Működési bevételek | B9: ='2.tábla'!B42 -> 3140000 | C9: ='2.tábla'!C42 -> 3290000 | D9: ='2.tábla'!D42 -> 4350000 | E9: =D9-C9 -> 1060000
A10: V. Felhalmozási bevételek | B10: ='2.tábla'!B55 -> 0 | C10: ='2.tábla'!C55 -> 0 | E10: =D10-C10 -> 0
A11: VI. Működési célú átvett pénzeszközök | B11: ='2.tábla'!B60 -> 0 | C11: ='2.tábla'!C60 -> 0 | E11: =D11-C11 -> 0
A12: VII. Felhalmozási célú átvett pénzeszközök | B12: ='2.tábla'!B64 -> 0 | C12: ='2.tábla'!C64 -> 0 | D12: ='2.tábla'!D64 -> 3000000 | E12: =D12-C12 -> 3000000
A13: Költségvetési bevételek összesen: | B13: =SUM(B6:B12) -> 50947348 | C13: =SUM(C6:C12) -> 60141682 | D13: =SUM(D6:D12) -> 77300515 | E13: =D13-C13 -> 17158833
A14: 1. Költségvetési hiány belső finanszírozására szolgáló finanszírozási bevételek | B14: ='2.tábla'!B70 -> 20000000 | C14: ='2.tábla'!C70 -> 28648541 | D14: ='2.tábla'!D70 -> 28648541 | E14: =D14-C14 -> 0
A15: 2. Költségvetési hiány külső finanszírozására szolgáló finanszírozási célú pénzügyi műveletek bevételei | B15: ='2.tábla'!B73 -> 907476 | C15: ='2.tábla'!C73 -> 907476 | D15: ='2.tábla'!D73 -> 963239 | E15: =D15-C15 -> 55763
A16: VIII. Finanszírozási bevételek | B16: =B14+B15 -> 20907476 | C16: =C14+C15 -> 29556017 | D16: =D14+D15 -> 29611780 | E16: =D16-C16 -> 55763
A17: Bevételek összesen: | B17: =B13+B16 -> 71854824 | C17: =C13+C16 -> 89697699 | D17: =D13+D16 -> 106912295 | E17: =D17-C17 -> 17214596
E18: =D18-C18 -> 0
A19: Működési kiadások | B19: =B20 -> 47582807 | C19: =C20 -> 48919723 | D19: =D20 -> 61574034 | E19: =D19-C19 -> 12654311
A20: Önkormányzati feladatok | B20: ='3.tábla '!B37 -> 47582807 | C20: ='3.tábla '!C37 -> 48919723 | D20: ='3.tábla '!D37 -> 61574034 | E20: =D20-C20 -> 12654311
A21: Felhalmozási kiadások | B21: =SUM(B22:B24) -> 14466956 | C21: =SUM(C22:C24) -> 25113795 | D21: =SUM(D22:D24) -> 31571416 | E21: =D21-C21 -> 6457621
A22: Beruházások | B22: ='5.tábla'!B3 -> 9119196 | C22: ='5.tábla'!C3 -> 9217399 | D22: ='5.tábla'!D3 -> 14222020 | E22: =D22-C22 -> 5004621
A23: Felújítások | B23: ='5.tábla'!B22 -> 5316875 | C23: ='5.tábla'!C22 -> 15865511 | D23: ='5.tábla'!D22 -> 17318511 | E23: =D23-C23 -> 1453000
A24: Egyéb felhalmozási kiadások | B24: ='5.tábla'!B32 -> 30885 | C24: ='5.tábla'!C32 -> 30885 | D24: ='5.tábla'!D32 -> 30885 | E24: =D24-C24 -> 0 | I24: -1134280
E25: =D25-C25 -> 0 | I25: 89694
A26: Tartalékok | B26: =B27+B28 -> 7405470 | C26: =C27+C28 -> 13264590 | D26: =D27+D28 -> 11311491 | E26: =E27+E28 -> -1953099 | I26: 8648541
A27: Általános | B27: 7405470 | C27: =7405470-1134280+89694+8648541-11160-98203-1580622-110440+87480-31890 -> 13264590 | D27: =13264590-1000001-393000-30294-1004620-500000+1004054-150000-350000-300000 -> 10540729 | E27: =D27-C27 -> -2723861 | I27: -11160
A28: Cél | C28: =C29 -> 0 | D28: 770762 | E28: =D28-C28 -> 770762 | I28: -98203
A29: Közfoglalkoztatott támogatás előleg 2018.01-02 hó | E29: =D29-C29 -> 0 | I29: -1580622
A30: Költségvetési kiadások összesen: | B30: =SUM(B26,B21,B19) -> 69455233 | C30: =SUM(C26,C21,C19) -> 87298108 | D30: =SUM(D26,D21,D19) -> 104456941 | E30: =SUM(E26,E21,E19) -> 17158833 | I30: =SUM(I24:I29) -> 5913970
A31: Lekötött bankbetét beváltása | B31: ='5.tábla'!B35 -> 0 | C31: ='5.tábla'!C35 -> 0 | E31: =D31-C31 -> 0
A32: Forgatási célú értékpapír vásárlás | B32: ='5.tábla'!B36 -> 0 | C32: ='5.tábla'!C36 -> 0 | E32: =D32-C32 -> 0
A33: Állami támogatás megelőlegezés visszafizetés | B33: ='5.tábla'!B37 -> 2399591 | C33: ='5.tábla'!C37 -> 2399591 | D33: ='5.tábla'!D37 -> 2455354 | E33: =D33-C33 -> 55763
A34: Finanszírozási kiadások összesen: | B34: =SUM(B31:B33) -> 2399591 | C34: =SUM(C31:C33) -> 2399591 | D34: =SUM(D31:D33) -> 2455354 | E34: =D34-C34 -> 55763
A35: Kiadások összesen: | B35: =B30+B34 -> 71854824 | C35: =C30+C34 -> 89697699 | D35: =D30+D34 -> 106912295 | E35: =D35-C35 -> 17214596
C40: =D35-C35 -> 17214596

Sheet 2.tábla
A3: BEVÉTELEK ELŐIRÁNYZATA
A4: MEGNEVEZÉS | B4: 2018. ÉVI EREDETI | C4: I.MÓDOSÍTÁS | D4: II.MÓDOSÍTÁS | E4: ELTÉRÉS
A5: I. Működési célú támogatások államháztartáson belülről | B5: =B6+B12+B13+B14+B15+B16 -> 31474348 | C5: =C6+C12+C13+C14+C15+C16 -> 31561828 | D5: =D6+D12+D13+D14+D15+D16 -> 44660661 | E5: =D5-C5 -> 13098833
A6: 1. Önkormányzat működési támogatásai | B6: =B7+B8+B9 -> 28253068 | C6: =C7+C8+C9 -> 28340548 | D6: =D7+D8+D9 -> 28340548 | E6: =D6-C6 -> 0
A7: 1.1. Helyi önk. működésének ált. támogatása | B7: ='2a. tábla'!E5 -> 19558068 | C7: ='2a. tábla'!F5 -> 19558068 | D7: ='2a. tábla'!G5 -> 19558068 | E7: =D7-C7 -> 0
A8: 1.3. Települési önk. szoc. és gyermekjóléti feladatainak tám. | B8: ='2a. tábla'!E33 -> 6895000 | C8: ='2a. tábla'!F33 -> 6982480 | D8: ='2a. tábla'!G33 -> 6982480 | E8: =D8-C8 -> 0
A9: 1.4. Települési önk. kult. feladatainak támogatása | B9: ='2a. tábla'!E43 -> 1800000 | C9: ='2a. tábla'!F43 -> 1800000 | D9: ='2a. tábla'!G43 -> 1800000 | E9: =D9-C9 -> 0
A10: 1.5. Helyi önk. Működési célú költségvetési támogatásai és kiegészítő támogatásai | E10: =D10-C10 -> 0
A11: 1.6. Elszámolásból származó bevételek | E11: =D11-C11 -> 0
A12: 2. Elvonások, befizetések | E12: =D12-C12 -> 0
A13: 3. Működési célú garancia- és kezességvállalásból származó megtérülések áh-n belülről | E13: =D13-C13 -> 0
A14: 4. Működési célú visszatérítendő támogatások, kölcsönök visszatérülése áh-n belülről | E14: =D14-C14 -> 0
A15: 5. Működési célú visszatérítendő támogatások, kölcsönök igénybevétele áh-n belülről | E15: =D15-C15 -> 0
A16: 6. Egyéb működési célú támogatások bevételei államháztartáson belülről | B16: =B17 -> 3221280 | C16: =C17 -> 3221280 | D16: =D17+D19+D18 -> 16320113 | E16: =E17+E19+E18 -> 13098833
A17: Közfoglalkoztatottak támogatás | B17: 3221280 | C17: 3221280 | D17: =3221280+770762+476667 -> 4468709 | E17: =D17-C17 -> 1247429
A18: EFOP-5.1.2-16-2017 Humán szolgáltatások fejlesztése | D18: 11040004 | E18: =D18-C18 -> 11040004
A19: Bakonykarszt | D19: 811400 | E19: =D19-C19 -> 811400
A20: II. Felhalmozási célú támogatások államháztartáson belülről | B20: =B21+B25+B26+B27+B28+B24 -> 5000000 | C20: =C21+C25+C26+C27+C28+C24 -> 13956854 | D20: =D21+D25+D26+D27+D28+D24 -> 13956854 | E20: =D20-C20 -> 0
A21: 1. Felhalmozási célú önkormányzati támogatások | B21: =B22+B23 -> 5000000 | C21: =C22+C23 -> 5000000 | D21: =D22+D23 -> 5000000 | E21: =D21-C21 -> 0
A22: Mosó pályázat támogatás | B22: 5000000 | C22: 5000000 | D22: 5000000 | E22: =D22-C22 -> 0
A23: Sportöltöző és sportpálya felújítása pályázat támogatása | E23: =D23-C23 -> 0
A24: Önkormányzati fejlesztések 2018 támogatása | C24: 8956854 | D24: 8956854 | E24: =D24-C24 -> 0
A25: 2. Felhalmozási célú garancia- és kezességvállalásból származó megtérülések áh-n belülről | E25: =D25-C25 -> 0
A26: 3. Felhalmozási célú visszatérítendő támogatások, kölcsönök visszatérülése áh-n belülről | E26: =D26-C26 -> 0
A27: 4. Felhalmozási célú visszatérítendő támogatások, kölcsönök igénybevétele áh-n belülről | E27: =D27-C27 -> 0
A28: 5. Egyéb felhalmozási célú támogatások államháztartáson belülről | E28: =D28-C28 -> 0
A29: III. Közhatalmi bevételek | B29: =B30+B33+B41 -> 11333000 | C29: =C30+C33+C41 -> 11333000 | D29: =D30+D33+D41 -> 11333000 | E29: =D29-C29 -> 0
A30: 1. Vagyoni típusú adók | B30: =SUM(B31:B32) -> 5883000 | C30: =SUM(C31:C32) -> 5883000 | D30: =SUM(D31:D32) -> 5883000 | E30: =D30-C30 -> 0
A31: 1.1. Magánszemélyek kommunális adója | B31: 5583000 | C31: 5583000 | D31: 5583000 | E31: =D31-C31 -> 0
A32: 1.2. Telekadó | B32: 300000 | C32: 300000 | D32: 300000 | E32: =D32-C32 -> 0
A33: 2. Termékek és szolgáltatások adói | B33: =B34+B36+B37 -> 5350000 | C33: =C34+C36+C37 -> 5350000 | D33: =D34+D36+D37 -> 5350000 | E33: =D33-C33 -> 0
A34: 2.1. Értékesítési és forgalmi adók | B34: =SUM(B35) -> 3500000 | C34: =SUM(C35) -> 3500000 | D34: =SUM(D35) -> 3500000 | E34: =D34-C34 -> 0
A35: 2.1. 1. Iparűzési adó | B35: 3500000 | C35: 3500000 | D35: 3500000 | E35: =D35-C35 -> 0
A36: 2.2. Gépjárműadók | B36: 1800000 | C36: 1800000 | D36: 1800000 | E36: =D36-C36 -> 0
A37: 2.3. Egyéb áruhasználati és szolgáltatási adók | B37: =SUM(B38:B40) -> 50000 | C37: =SUM(C38:C40) -> 50000 | D37: =SUM(D38:D40) -> 50000 | E37: =D37-C37 -> 0
A38: 2.3.1. Ifa személyek u. | B38: 50000 | C38: 50000 | D38: 50000 | E38: =D38-C38 -> 0
A39: 2.3.2. Talajterhelési díj | E39: =D39-C39 -> 0
A40: 2.3.3. Települési adó | E40: =D40-C40 -> 0
A41: 3. Egyéb közhatalmi bevételek (bírság, pótlék,) | B41: 100000 | C41: 100000 | D41: 100000 | E41: =D41-C41 -> 0
A42: IV. Működési bevételek | B42: =B43+B44+B47+B48+B50+B51+B52+B53+B54 -> 3140000 | C42: =C43+C44+C47+C48+C50+C51+C52+C53+C54 -> 3290000 | D42: =D43+D44+D47+D48+D50+D51+D52+D53+D54+D45 -> 4350000 | E42: =D42-C42 -> 1060000
A43: 1. Áru- és készletértékesítés bevétele | E43: =D43-C43 -> 0
A44: 2. Nyújtott szolgáltatások ellenértéke | B44: 20000 | C44: 20000 | D44: 20000 | E44: =D44-C44 -> 0
A45: 2.1 Öreg Gella útfelújítás | D45: 1060000 | E45: =D45-C45 -> 1060000
A46: 2.2 bérleti díjak | E46: =D46-C46 -> 0
A47: 3. Közvetített szolgáltatások ellenértéke | B47: 20000 | C47: =20000+118110 -> 138110 | D47: =20000+118110 -> 138110 | E47: =D47-C47 -> 0
A48: 4. Tulajdonosi bevételek | B48: =B49 -> 2400000 | C48: 2400000 | D48: 2400000 | E48: =D48-C48 -> 0
A49: 4.1. Üzemeltetési díjak | B49: 2400000 | C49: 2400000 | D49: 2400000 | E49: =D49-C49 -> 0
A50: 5. Ellátási díjak | E50: =D50-C50 -> 0
A51: 6. Kiszámlázott Áfa | B51: 700000 | C51: =700000+31890 -> 731890 | D51: =700000+31890 -> 731890 | E51: =D51-C51 -> 0
A52: 7. Áfa visszatérítés | C52: 0 | D52: 0 | E52: =D52-C52 -> 0
A53: 8. Kamatbevétel | C53: 0 | D53: 0 | E53: =D53-C53 -> 0
A54: 9. Egyéb működési bevételek (kártérítés, kötbér, stb.) | E54: =D54-C54 -> 0
A55: V. Felhalmozási bevételek | B55: =SUM(B56:B59) -> 0 | C55: =SUM(C56:C59) -> 0 | D55: =SUM(D56:D59) -> 0 | E55: =D55-C55 -> 0
A56: 1. Immateriális javak értékesítése | E56: =D56-C56 -> 0
A57: 2. Ingatlanok értékesítése | E57: =D57-C57 -> 0
A58: 3. Egyéb tárgyi eszközök értékesítése | E58: =D58-C58 -> 0
A59: 4. Részesedések értékesítése | E59: =D59-C59 -> 0
A60: VI. Működési célú átvett pénzeszközök | B60: =SUM(B61:B63) -> 0 | C60: =SUM(C61:C63) -> 0 | E60: =D60-C60 -> 0
A61: 1. Működési célú garancia- és kezességvállalásból származó megtérülések áhk | E61: =D61-C61 -> 0
A62: 2. Működési célú visszatérítendő támogatások, kölcsönök visszatérülése államháztartáson kívülről | E62: =D62-C62 -> 0
A63: 3. Egyéb működési célú átvett pénzeszközök | E63: =D63-C63 -> 0
A64: VII. Felhalmozási célú átvett pénzeszközök | B64: =B65+B66+B67 -> 0 | C64: 0 | D64: =D65+D66+D67 -> 3000000 | E64: =D64-C64 -> 3000000
A65: 1. Felhalmozási célú garancia- és kezességvállalásból származó megtérülések áh-n kívülről | E65: =D65-C65 -> 0
A66: 2. Felhalmozási célú visszatérítendő támogatások, kölcsönök visszatérülése államháztartáson kívülről | E66: =D66-C66 -> 0
A67: 3. Egyéb felhalmozási célú átvett pénzeszközök | D67: =D68 -> 3000000 | E67: =E68 -> 3000000
A68: 3.1 LEADER Közösségi tér | D68: 3000000 | E68: 3000000
A69: Költségvetési bevételek összesen: | B69: =B64+B60+B55+B42+B29+B20+B5 -> 50947348 | C69: =C64+C60+C55+C42+C29+C20+C5 -> 60141682 | D69: =D64+D60+D55+D42+D29+D20+D5 -> 77300515 | E69: =D69-C69 -> 17158833
A70: 1. Költségvetési hiány belső finanszírozására szolgáló bevételek | B70: =SUM(B71:B72) -> 20000000 | C70: =SUM(C71:C71) -> 28648541 | D70: =SUM(D71:D71) -> 28648541 | E70: =D70-C70 -> 0
A71: 1.1. Előző év költségvetési maradványának igénybevétele működési célra | B71: 20000000 | C71: 28648541 | D71: 28648541 | E71: =D71-C71 -> 0
A72: 1.2. Előző év költségvetési maradványának igénybevétele felhalmozási célra | E72: =D72-C72 -> 0
A73: 2. Költségvetési hiány külső finanszírozására szolgáló finanszírozási bevételek | B73: =B75+B74 -> 907476 | C73: =C75+C74 -> 907476 | D73: =D75+D74 -> 963239 | E73: =D73-C73 -> 55763
A74: 2.1. Forgatási célú értékpapír beváltása | E74: =D74-C74 -> 0
A75: 2.4. Államháztartáson belüli megelőlegezések | B75: 907476 | C75: 907476 | D75: =907476+55763 -> 963239 | E75: =D75-C75 -> 55763
A76: 2.5. Lekötött bankbetét megszüntetése | E76: =D76-C76 -> 0
A77: VIII. Finanszírozási bevételek | B77: =B73+B70 -> 20907476 | C77: =C73+C70 -> 29556017 | D77: =D73+D70 -> 29611780 | E77: =D77-C77 -> 55763
A78: Összes bevétel: | B78: =B69+B77 -> 71854824 | C78: =C69+C77 -> 89697699 | D78: =D69+D77 -> 106912295 | E78: =D78-C78 -> 17214596
A79: Intézményi létszámok: | B79: 6 | C79: 6 | D79: 7 | E79: =D79-C79 -> 1
A80: ebből közfoglalkoztatott | B80: 3 | C80: 3 | D80: 4 | E80: =D80-C80 -> 1

Sheet 2a. tábla
A2: ÁLLAMI TÁMOGATÁSOK 2018. ÉV
A3: MEGNEVEZÉS | B3: LÉTSZÁM | C3: MUTATÓ | D3: FAJLAGOS | E3: ELŐIRÁNYZAT | F3: I.MÓDOSÍTÁS | G3: II.MÓDOSÍTÁS | H3: Eltérés
A5: I. HELYI ÖNKORMÁNYZATOK MŰKÖDÉSÉNEK ÁLT.TÁMOGATÁSA | E5: =E6+E29 -> 19558068 | F5: =F6+F29 -> 19558068 | G5: =G6+G29 -> 19558068 | H5: =G5-F5 -> 0
A6: 1. Települési önkormányzatok működésének támogatása | E6: =E7+E10+E19+E21+E23+E24+E26+E27+E30 -> 18387668 | F6: =F7+F10+F19+F21+F23+F24+F26+F27+F30 -> 18387668 | G6: =G7+G10+G19+G21+G23+G24+G26+G27+G30 -> 18387668 | H6: =G6-F6 -> 0
A7: Önkormányzati hivatal működtetésének támogatás (beszámítás után) | E7: =E8 -> 0 | F7: =F8 -> 0 | G7: =G8 -> 0 | H7: =G7-F7 -> 0
A8: Önkormányzati hivatal működtetésének támogatás elismert hivatali létsz. | E8: =C8*D8 -> 0 | F8: =D8*E8 -> 0 | G8: =E8*F8 -> 0 | H8: =G8-F8 -> 0
A9: Beszámítás összege | E9: 0 | F9: 0 | G9: 0 | H9: =G9-F9 -> 0
A10: Település üzemeltetéséhez kapcsolódó feladatellát.támog.(beszámítás után) | E10: =E11+E12+E13+E14+E15+E16+E17+E18 -> 7493580 | F10: =F11+F12+F13+F14+F15+F16+F17+F18 -> 7493580 | G10: =G11+G12+G13+G14+G15+G16+G17+G18 -> 7493580 | H10: =G10-F10 -> 0
A11: Zöldterület-gazdálk-al kapcsolatos feladatok ellátásának támog. | D11: 22300 | E11: 985660 | F11: 985660 | G11: 985660 | H11: =G11-F11 -> 0
A12: Beszámítás összege | H12: =G12-F12 -> 0
A13: Közvilágítás fenntartásának támogatás | E13: 4928000 | F13: 4928000 | G13: 4928000 | H13: =G13-F13 -> 0
A14: Beszámítás összege | H14: =G14-F14 -> 0
A15: Köztemető fenntartással kapcsolatos feladatok támog. | E15: 0 | F15: 0 | G15: 0 | H15: =G15-F15 -> 0
A16: Beszámítás összege | H16: =G16-F16 -> 0
A17: Közutak fenntartásának támogatás | E17: 1579920 | F17: 1579920 | G17: 1579920 | H17: =G17-F17 -> 0
A18: Beszámítás összege | H18: =G18-F18 -> 0
A19: Egyéb önkormányzati feladatok támogatása (beszámítás után) | E19: =E20+E21 -> 5000000 | F19: =F20+F21 -> 5000000 | G19: =G20+G21 -> 5000000 | H19: =G19-F19 -> 0
A20: Egyéb önkormányzati feladatok támogatása | D20: 2700 | E20: 5000000 | F20: 5000000 | G20: 5000000 | H20: =G20-F20 -> 0
A21: Beszámítás összege | H21: =G21-F21 -> 0
A22: Lakott külterületekkel kapcsolatos feladatok támogatása(beszámítás után) | E22: =E23+E24 -> 112200 | F22: =F23+F24 -> 112200 | G22: =G23+G24 -> 112200 | H22: =G22-F22 -> 0
A23: Lakott külterületekkel kapcsolatos feladatok támogatása | D23: 2550 | E23: 112200 | F23: 112200 | G23: 112200 | H23: =G23-F23 -> 0
A24: Beszámítás összege | H24: =G24-F24 -> 0
A25: Üdülőhelyi feladatok támogatása (beszámitás után) | E25: =E26 -> 75370 | F25: =F26 -> 75370 | H25: =G25-F25 -> -75370
A26: Üdülőhelyi feladatok támogatása | E26: 75370 | F26: 75370 | G26: 75370 | H26: =G26-F26 -> 0
A27: Beszámítás összege | H27: =G27-F27 -> 0
A28: 2016. évről áthúzódó bérkompenzáció támogatása | H28: =G28-F28 -> 0
A29: Polgármesteri illetmény támogatása | E29: 1170400 | F29: 1170400 | G29: 1170400 | H29: =G29-F29 -> 0
A30: Kiegészítés összege | E30: 5706518 | F30: 5706518 | G30: 5706518 | H30: =G30-F30 -> 0
A31: II. EGYES KÖZNEVELÉSI FELADATOK TÁMOGATÁSA | H31: =G31-F31 -> 0
H32: =G32-F32 -> 0
A33: III. SZOCIÁLIS, GYERMEKJÓLÉTI ÉS GYERMEKÉTKEZTETÉSI FELADATAI | E33: =E34+E37+E39+E41 -> 6895000 | F33: =F34+F37+F39+F41 -> 6982480 | G33: =G34+G37+G39+G41 -> 6982480 | H33: =G33-F33 -> 0
A34: Pénzbeli szociális juttatások | E34: =SUM(E35:E36) -> 3795000 | F34: =SUM(F35:F36) -> 3795000 | G34: =SUM(G35:G36) -> 3795000 | H34: =G34-F34 -> 0
A35: Pénzbeli szociális ellátások kiegészítése | H35: =G35-F35 -> 0
A36: Települési önkormányzatok szociális feladatainak egyéb támogatása | E36: 3795000 | F36: 3795000 | G36: 3795000 | H36: =G36-F36 -> 0
A37: Egyes szoc.és gyermekjólétii felad.támog. | E37: =E38 -> 3100000 | F37: =F38 -> 3100000 | G37: =G38 -> 3100000 | H37: =G37-F37 -> 0
A38: Falugondnoki vagy tanyagondnoki | E38: 3100000 | F38: 3100000 | G38: 3100000 | H38: =G38-F38 -> 0
A39: Gyermekétkeztetés támogatása | H39: =G39-F39 -> 0
H40: =G40-F40 -> 0
A41: Szociális ágazati pótlék 2018 | F41: =12*7290 -> 87480 | G41: =12*7290 -> 87480 | H41: =G41-F41 -> 0
H42: =G42-F42 -> 0
A43: Kulturális feladatok támogatása | E43: =E44 -> 1800000 | F43: =F44 -> 1800000 | G43: =G44 -> 1800000 | H43: =G43-F43 -> 0
A44: Nyilvános könyvtári és közművelődési feladatok támogatása | E44: 1800000 | F44: 1800000 | G44: 1800000 | H44: =G44-F44 -> 0
H45: =G45-F45 -> 0
A46: Összesen | E46: =E43+E33+E31+E5 -> 28253068 | F46: =F43+F33+F31+F5 -> 28340548 | G46: =G43+G33+G31+G5 -> 28340548 | H46: =G46-F46 -> 0

Sheet 3.tábla 
A3: MŰKÖDÉSI KIADÁSOK 2018. ÉV
A4: MEGNEVEZÉS | B4: 2018. ÉVI EREDETI | C4: I.MÓDOSÍTÁS | D4: II.MÓDOSÍTÁS | E4: ELTÉRÉS
A5: I. Önkormányzati Hivatal költségvetése
A6: 1. Személyi juttatás | B6: =8933820+1935080+149009+149009+185000 -> 11351918 | C6: 12486198 | D6: =12486198+262491 -> 12748689 | E6: =D6-C6 -> 262491
A7: 2. Munkaadót terhelő járulékok | B7: 2307565 | C7: 2217871 | D7: =2217871+214176 -> 2432047 | E7: =D7-C7 -> 214176
A8: 3. Dologi kiadások | B8: =SUM(B9:B23) -> 17032982 | C8: =SUM(C9:C23) -> 17214872 | D8: =SUM(D9:D24) -> 29585170 | E8: =D8-C8 -> 12370298
A9: Szakmai anyagok beszerzése | B9: 35000 | C9: 35000 | D9: 35000 | E9: =D9-C9 -> 0
A10: Üzemeltetési anyagok beszerzése | B10: 1960000 | C10: 1960000 | D10: =1960000+300000 -> 2260000 | E10: =D10-C10 -> 300000
A11: Informatikai szolg.igénybevétele | B11: 501000 | C11: 501000 | D11: =501000+5000+150000 -> 656000 | E11: =D11-C11 -> 155000
A12: Egyéb kommunikációs szolg. | B12: 705000 | C12: 705000 | D12: 705000 | E12: =D12-C12 -> 0
A13: Közüzemi díjak | B13: 2105000 | C13: 2105000 | D13: 2105000 | E13: =D13-C13 -> 0
A14: Vásárolt élelmezés | B14: 20000 | C14: 20000 | D14: 20000 | E14: =D14-C14 -> 0
A15: Bérleti és lizing díjak | B15: 460000 | C15: 460000 | D15: =460000+20000 -> 480000 | E15: =D15-C15 -> 20000
A16: Karbantartási szolg. | B16: 1773982 | C16: 1773982 | D16: =1773982-5000 -> 1768982 | E16: =D16-C16 -> -5000
A17: Közvetített szolgáltatások | B17: 20000 | C17: =20000+150000 -> 170000 | D17: =20000+150000 -> 170000 | E17: =D17-C17 -> 0
A18: Szakmai tevékenységet segítő szolg. | B18: 1494000 | C18: 1494000 | D18: =1494000+100000+350000 -> 1944000 | E18: =D18-C18 -> 450000
A19: Egyéb szolgáltatások | B19: 4000000 | C19: 4000000 | D19: =4000000+30294+500000-20000-100000 -> 4410294 | E19: =D19-C19 -> 410294
A20: Reklám és propaganda | B20: 60000 | C20: 60000 | D20: 60000 | E20: =D20-C20 -> 0
A21: Működési célú előzetesen felsz.áfa | B21: 2121000 | C21: 2121000 | D21: 2121000 | E21: =D21-C21 -> 0
A22: Fizetendő áfa | B22: 700000 | C22: =700000+31890 -> 731890 | D22: =700000+31890 -> 731890 | E22: =D22-C22 -> 0
A23: Egyéb dologi kiadások | B23: 1078000 | C23: 1078000 | D23: 1078000 | E23: =D23-C23 -> 0
A24: EFOP-5.1.2-16-2017 Humán szolgáltatások fejlesztése | D24: 11040004 | E24: 11040004
A25: 4. Ellátottak pénzbeli juttatásai | B25: =B26 -> 3795000 | C25: =C26 -> 3795000 | D25: =D26 -> 3795000 | E25: =D25-C25 -> 0
A26: Települési támogatás | B26: 3795000 | C26: 3795000 | D26: 3795000 | E26: =D26-C26 -> 0
A27: 5. Egyéb működési célú kiadások | B27: =B28+B30+B31+B32+B33+B34+B35 -> 13095342 | C27: =C28+C30+C31+C32+C33+C34+C35+C36 -> 13205782 | D27: =D28+D30+D31+D32+D33+D34+D35+D36 -> 13013128 | E27: =E28+E30+E31+E32+E33+E34+E35+E36 -> -192654
A28: 1. Működési célú garancia- és kezességvállalásból származó kifizetés áhb | E28: =D28-C28 -> 0
A29: 2. Elvonások, befizetések | E29: =D29-C29 -> 0
A30: 3. Működési célú visszatérítendő támogatások, kölcsönök nyújtása áh-n belülre | E30: =D30-C30 -> 0
A31: 4. Működési célú visszatérítendő támogatások, kölcsönök törlesztése áh-n belülre | E31: =D31-C31 -> 0
A32: 5. Egyéb működési célú támogatások áhb | B32: 12335342 | C32: ='4.tábla'!C3 -> 12335342 | D32: ='4.tábla'!D3 -> 11331288 | E32: ='4.tábla'!E3 -> -1004054
A33: 6. Működési célú garancia- és kezességvállalásból származó kifizetés államháztartáson kívülre | E33: =D33-C33 -> 0
A34: 7. Működési célú visszatérítendő támogatások, kölcsönök nyújtása áh-n kívülre | E34: =D34-C34 -> 0
A35: 8. Egyéb működési célú támogatások áhk | B35: ='4.tábla'!B9 -> 760000 | C35: ='4.tábla'!C9 -> 760000 | D35: ='4.tábla'!D9 -> 1571400 | E35: =D35-C35 -> 811400
A36: 9. Állami támogatás visszafizetési kötelezettség | C36: 110440 | D36: 110440 | E36: =D36-C36 -> 0
A37: Önkormányzati működési kiadások összesen: | B37: =B6+B7+B8+B25+B27 -> 47582807 | C37: =C6+C7+C8+C25+C27 -> 48919723 | D37: =D6+D7+D8+D25+D27 -> 61574034 | E37: =D37-C37 -> 12654311

Sheet 4.tábla
A1: MŰKÖDÉSI KIADÁSOK 2018. ÉV
A2: Megnevezés | B2: 2018. ÉVI EREDETI | C2: I.MÓDOSÍTÁS | D2: II.MÓDOSÍTÁS | E2: ELTÉRÉS
A3: 1. Működési célú támogatások államháztartáson belülre | B3: =SUM(B4:B7) -> 12335342 | C3: =SUM(C4:C7) -> 12335342 | D3: =SUM(D4:D7) -> 11331288 | E3: =D3-C3 -> -1004054
A4: Közoktatási Intézményfenntartó Társulás Pécsely Óvoda fenntart támogatás | B4: 4863153 | C4: 4863153 | D4: 3859099 | E4: =D4-C4 -> -1004054
A5: Balatonfüredi közös Önkorm Hivatal | B5: 6117300 | C5: 6117300 | D5: 6117300 | E5: =D5-C5 -> 0
A6: Bf. Többcélú Társulás | B6: 954889 | C6: 954889 | D6: 954889 | E6: =D6-C6 -> 0
A7: BURSA Hungarica ösztöndíj (Wekerle Sándor Alapkezelő) | B7: 400000 | C7: 400000 | D7: 400000 | E7: =D7-C7 -> 0
A8: Egyéb | E8: =D8-C8 -> 0
A9: 2. Működési célú támogatások államháztartáson kívülre | B9: =SUM(B10:B17) -> 760000 | C9: =SUM(C10:C17) -> 760000 | D9: =SUM(D10:D17) -> 1571400 | E9: =D9-C9 -> 811400
A10: Református egyház | B10: 0 | C10: 0 | D10: 0 | E10: =D10-C10 -> 0
A11: Mosoly Alapítány | B11: 0 | C11: 0 | D11: 0 | E11: =D11-C11 -> 0
A12: Bfüredi Önk Tűzoltóságnak | B12: 0 | C12: 0 | D12: 0 | E12: =D12-C12 -> 0
A13: Balatonszőlős Darts egyesület | B13: 150000 | C13: 150000 | D13: 150000 | E13: =D13-C13 -> 0
A14: Balatonszőlős Sport egyesület | B14: 500000 | C14: 500000 | D14: 500000 | E14: =D14-C14 -> 0
A15: Tihany Iskoláért Alapítvány | B15: 100000 | C15: 100000 | D15: 100000 | E15: =D15-C15 -> 0
A16: Bakonykarszt-Víz és csatorna támogatás | D16: 811400 | E16: =D16-C16 -> 811400
A17: Falugondnokok egyesülete támogatás | B17: 10000 | C17: 10000 | D17: 10000 | E17: =D17-C17 -> 0
A18: 3. Működési célú visszatérítendő támogatások, kölcsönök nyújtása, törlesztése | B18: 0 | E18: =D18-C18 -> 0
E19: =D19-C19 -> 0
A20: Egyéb működési célú kiadások összesen: | E20: =D20-C20 -> 0
E21: =D21-C21 -> 0
E22: =D22-C22 -> 0
E23: =D23-C23 -> 0
A24: Összesen: | B24: =B9+B3 -> 13095342 | C24: =C9+C3 -> 13095342 | D24: =D9+D3 -> 12902688 | E24: =D24-C24 -> -192654

Sheet 5.tábla
A1: FELHALMOZÁSI KIADÁSOK 2018. ÉV
A2: Megnevezés | B2: 2018. ÉVI EREDETI | C2: I.MÓDOSÍTÁS | D2: II.MÓDOSÍTÁS | E2: ELTÉRÉS
A3: I. BERUHÁZÁSOK | B3: =B4+B6+B15+B14 -> 9119196 | C3: =C4+C6+C15+C14 -> 9217399 | D3: =D4+D6+D15+D14 -> 14222020 | E3: =E4+E6+E15+E14 -> 5004621
A4: Immateriális javak beszerzése | B4: =SUM(B5:B5) -> 2500000 | C4: =SUM(C5:C5) -> 2500000 | D4: =SUM(D5:D5) -> 2500000 | E4: =D4-C4 -> 0
A5: Rendezési terv felülvizsgálat önrész | B5: 2500000 | C5: 2500000 | D5: 2500000 | E5: =D5-C5 -> 0
A6: Ingatlanok beszerzése, létesítése | B6: =B7+B8+B10+B11+B13 -> 4569196 | C6: =C7+C8+C10+C11+C13+C12 -> 4667399 | D6: =D7+D8+D9+D11+D13 -> 8672019 | E6: =D6-C6 -> 4004620
A7: Közösségi Ház féltető | B7: 0 | C7: 0 | D7: 0 | E7: =D7-C7 -> 0
A8: LEADER pályázat Közösségi tér önrész 75/2018.(VIII.28.) | B8: 0 | C8: 0 | D8: 1004620 | E8: =D8-C8 -> 1004620
A9: LEADER pályázat Közösségi tér munkálatok 75/2018.(VIII.28.) | D9: 3000000 | E9: =D9-C9 -> 3000000
A10: Közösségi Ház nyitott szintere | B10: 0 | C10: 0 | D10: 0 | E10: =D10-C10 -> 0
A11: Mosó pályázat önrésze | B11: 3228076 | C11: 3228076 | D11: 3228076 | E11: =D11-C11 -> 0
A12: Mosó pályázat munkálatok | B12: 0 | C12: 0 | D12: 0 | E12: =D12-C12 -> 0
A13: MLSZ futballpály körbekerítés | B13: 1341120 | C13: 1439323 | D13: 1439323 | E13: =D13-C13 -> 0
A14: Informatikai eszközök beszerzése, létesítése | B14: 50000 | C14: 50000 | D14: 50000 | E14: =D14-C14 -> 0
A15: Egyéb tárgyi eszköz beszerzése | B15: =B16+B17+B18+B19+B20 -> 2000000 | C15: =C16+C17+C18+C19+C20 -> 2000000 | D15: =D16+D17+D18+D19+D20 -> 3000001 | E15: =D15-C15 -> 1000001
A16: Led lámpatest | B16: 0 | C16: 0 | D16: 0 | E16: =D16-C16 -> 0
A17: Közösségi Ház Gázkazán | B17: 0 | C17: 0 | D17: 0 | E17: =D17-C17 -> 0
A18: Műtrágya szóró | B18: 0 | C18: 0 | D18: 0 | E18: =D18-C18 -> 0
A19: Fűnyíró | B19: 0 | C19: 0 | D19: 1000001 | E19: =D19-C19 -> 1000001
A20: Kisértékű tárgyi eszközök | B20: 2000000 | C20: 2000000 | D20: 2000000 | E20: =D20-C20 -> 0
A21: Részesedések beszerzése | E21: =D21-C21 -> 0
A22: II. FELÚJÍTÁSOK | B22: =B23 -> 5316875 | C22: =C23 -> 15865511 | D22: =D23 -> 17318511 | E22: =D22-C22 -> 1453000
A23: Ingatlanok Felújítása | B23: =B24+B25+B26+B27+B31 -> 5316875 | C23: =C24+C25+C26+C27+C31+C28 -> 15865511 | D23: =D24+D25+D26+D27+D31+D28+D29+D30 -> 17318511 | E23: =E24+E25+E26+E27+E31+E28+E29+E30 -> 1453000
A24: Pécselyi iskola tető felújítása tulajdonarányosan | B24: 314112 | C24: 314112 | D24: 314112 | E24: =D24-C24 -> 0
A25: Önkormányzati fejlesztések 2018 önrész | B25: 0 | C25: 1580622 | D25: 1580622 | E25: =D25-C25 -> 0
A26: Önkormányzati fejlesztések 2018 munkálatok | B26: 0 | C26: 8956854 | D26: 8956854 | E26: =D26-C26 -> 0
A27: Sportöltöző és sportpálya felújítása pályázat önrész | B27: 4034832 | C27: 4034832 | D27: 4034832 | E27: =D27-C27 -> 0
A28: Sportöltöző és sportpálya felújítása pályázat munkálatok | B28: 0 | C28: 0 | D28: 0 | E28: =D28-C28 -> 0
A29: Öreg Gella Útfelújítás önrész | D29: 393000 | E29: =D29-C29 -> 393000
A30: Öreg Gella Útfelújítás munkálatok | D30: 1060000 | E30: =D30-C30 -> 1060000
A31: "Önkormányzati feladatellátást szolgáló fejlesztések támogatása" pályázat, utak felújítása önrész | B31: 967931 | C31: =967931+11160 -> 979091 | D31: =967931+11160 -> 979091 | E31: =D31-C31 -> 0
A32: III. EGYÉB FELHALMOZÁSI KIADÁSOK | B32: =B33 -> 30885 | C32: =C33 -> 30885 | D32: =D33 -> 30885 | E32: =D32-C32 -> 0
A33: Egyéb felhalmozási kiadások | B33: 30885 | C33: 30885 | D33: 30885 | E33: =D33-C33 -> 0
A34: IV. Finanszírozási kiadások | B34: =B35+B36+B37 -> 2399591 | C34: =C35+C36+C37 -> 2399591 | D34: =D35+D36+D37 -> 2455354 | E34: =D34-C34 -> 55763
A35: Lekötött bankbetét beváltása | E35: =D35-C35 -> 0
A36: Forgatási célú értékpapír vásárlás | E36: =D36-C36 -> 0
A37: Állami támogatás megelőlegezés visszafizetés | B37: 2399591 | C37: 2399591 | D37: =2399591+55763 -> 2455354 | E37: =D37-C37 -> 55763
A38: Felhalmozási kiadások összesen: | B38: =B3+B22+B34+B32 -> 16866547 | C38: =C3+C22+C34+C32 -> 27513386 | D38: =D3+D22+D34+D32 -> 34026770 | E38: =D38-C38 -> 6513384 | F38: =E3+E22+E32+E34 -> 6513384

Sheet 6.tábla 
A2: Az Önkormányzat működési bevételei és kiadásai 2018. év
A4: 1. Működési bevételek | B4: 2018. ÉVI EREDETI | C4: I.MÓDOSÍTÁS | D4: II.MÓDOSÍTÁS | E4: ELTÉRÉS | F4: 2. Működési kiadások | G4: 2018. ÉVI EREDETI | H4: I.MÓDOSÍTÁS | I4: II.MÓDOSÍTÁS | J4: ELTÉRÉS
A5: 1. Működési célú támogatások államháztartáson belülről | B5: ='1.tábla '!B6 -> 31474348 | C5: ='1.tábla '!C6 -> 31561828 | D5: ='1.tábla '!D6 -> 44660661 | E5: =D5-C5 -> 13098833 | F5: 1. Személyi juttatások | G5: ='3.tábla '!B6 -> 11351918 | H5: ='3.tábla '!C6 -> 12486198 | I5: ='3.tábla '!D6 -> 12748689 | J5: =I5-H5 -> 262491
A6: 2. Közhatalmi bevételek | B6: ='1.tábla '!B8 -> 11333000 | C6: ='1.tábla '!C8 -> 11333000 | D6: ='1.tábla '!D8 -> 11333000 | E6: =D6-C6 -> 0 | F6: 2. Munkaadót terhelő járulékok | G6: ='3.tábla '!B7 -> 2307565 | H6: ='3.tábla '!C7 -> 2217871 | I6: ='3.tábla '!D7 -> 2432047 | J6: =I6-H6 -> 214176
A7: 3. Működési bevételek | B7: ='1.tábla '!B9 -> 3140000 | C7: ='1.tábla '!C9 -> 3290000 | D7: ='1.tábla '!D9 -> 4350000 | E7: =D7-C7 -> 1060000 | F7: 3. Dologi kiadások | G7: ='3.tábla '!B8 -> 17032982 | H7: ='3.tábla '!C8 -> 17214872 | I7: ='3.tábla '!D8 -> 29585170 | J7: =I7-H7 -> 12370298
A8: 4. Működési célú átvett pénzeszközök államháztartáson kivülről | E8: =D8-C8 -> 0 | F8: 4. Ellátottak pénzbeli juttatásai | G8: ='3.tábla '!B25 -> 3795000 | H8: ='3.tábla '!C25 -> 3795000 | I8: ='3.tábla '!D25 -> 3795000 | J8: =I8-H8 -> 0
E9: =D9-C9 -> 0 | F9: 5. Egyéb működési célú kiadások | G9: =G10+G11+G12+G13 -> 13095342 | H9: =H10+H11+H12+H13 -> 13205782 | I9: =I10+I11+I12+I13 -> 13013128 | J9: =I9-H9 -> -192654
E10: =D10-C10 -> 0 | F10: 5.1. Elvonások, befizetések | J10: =I10-H10 -> 0
E11: =D11-C11 -> 0 | F11: 5.2. Egyéb működési célú támogatások áhb | G11: ='4.tábla'!B3 -> 12335342 | H11: ='4.tábla'!C3 -> 12335342 | I11: ='4.tábla'!D3 -> 11331288 | J11: =I11-H11 -> -1004054
E12: =D12-C12 -> 0 | F12: 5.4. Egyéb működési célú támogatások áhk | G12: ='4.tábla'!B9 -> 760000 | H12: ='4.tábla'!C9 -> 760000 | I12: ='4.tábla'!D9 -> 1571400 | J12: =I12-H12 -> 811400
E13: =D13-C13 -> 0 | F13: 5.5. Működési célú visszatérítendő tám.-k, kölcsönök nyújtása áhk | H13: ='3.tábla '!C36 -> 110440 | I13: ='3.tábla '!D36 -> 110440 | J13: =I13-H13 -> 0
E14: =D14-C14 -> 0 | F14: 6. Pénzforgalom nélküli kiadások (tartalék) | G14: ='1.tábla '!B26 -> 7405470 | H14: ='1.tábla '!C26 -> 13264590 | I14: ='1.tábla '!D26 -> 11311491 | J14: =I14-H14 -> -1953099
A15: Összes költségvetési működési bevétel: | B15: =SUM(B5:B14) -> 45947348 | C15: =SUM(C5:C14) -> 46184828 | D15: =SUM(D5:D14) -> 60343661 | E15: =D15-C15 -> 14158833 | F15: Összes költségvetési működési kiadás: | G15: =G5+G6+G7+G8+G9+G14 -> 54988277 | H15: =H5+H6+H7+H8+H9+H14 -> 62184313 | I15: =I5+I6+I7+I8+I9+I14 -> 72885525 | J15: =H15-G15 -> 7196036
A16: Működési többlet: | E16: =D16-C16 -> 0 | F16: Működési hiány: | G16: =G15-B15 -> 9040929 | H16: =H15-C15 -> 15999485 | I16: =I15-D15 -> 12541864 | J16: =H16-G16 -> 6958556
A17: Költségvetési hiány belső finanszírozása működési célú | B17: =SUM(B18) -> 20000000 | C17: =SUM(C18) -> 28648541 | D17: =SUM(D18) -> 28648541 | E17: =D17-C17 -> 0 | F17: Finanszírozási célú műveletek kiadásai működési célú | G17: =G18+G19+G20+G21 -> 2399591 | H17: =H18+H19+H20+H21 -> 2399591 | I17: =I18+I19+I20+I21 -> 2455354 | J17: =I17-H17 -> 55763
A18: 5. Költségvetési Maradvány | B18: ='2.tábla'!B71 -> 20000000 | C18: ='2.tábla'!C71 -> 28648541 | D18: ='2.tábla'!D71 -> 28648541 | E18: =D18-C18 -> 0 | F18: 7. Állami támogatás megelőlegezés visszafizetése | G18: ='5.tábla'!B37 -> 2399591 | H18: ='5.tábla'!C37 -> 2399591 | I18: ='5.tábla'!D37 -> 2455354 | J18: =I18-H18 -> 55763
A19: Költségvetési hiány külső finanszírozása működési célú | B19: =SUM(B20:B22) -> 907476 | C19: =SUM(C20:C22) -> 907476 | D19: =SUM(D20:D22) -> 963239 | E19: =D19-C19 -> 55763 | F19: 8. Lekötött bankbetét megszüntetése | J19: =I19-H19 -> 0
A20: 6. Értékpapír beváltása | B20: ='2.tábla'!B74 -> 0 | C20: ='2.tábla'!C74 -> 0 | D20: ='2.tábla'!D74 -> 0 | E20: =D20-C20 -> 0 | F20: 9. Betét vásárlás | J20: =I20-H20 -> 0
A21: 7. Lekötött bankbetét megszüntetése | E21: =D21-C21 -> 0 | F21: 10. Forgatási célú értékpapír vás. | G21: ='5.tábla'!B36 -> 0 | J21: =I21-H21 -> 0
A22: 8. Állami támogatás megelőlegezés visszafizetése | B22: ='2.tábla'!B75 -> 907476 | C22: ='2.tábla'!C75 -> 907476 | D22: ='2.tábla'!D75 -> 963239 | E22: =D22-C22 -> 55763 | J22: =I22-H22 -> 0
A23: Összes működési bevétel: | B23: =B15+B17+B19 -> 66854824 | C23: =C15+C17+C19 -> 75740845 | D23: =D15+D17+D19 -> 89955441 | E23: =D23-C23 -> 14214596 | F23: Összes működési kiadás | G23: =G17+G15 -> 57387868 | H23: =H17+H15 -> 64583904 | I23: =I17+I15 -> 75340879 | J23: =I23-H23 -> 10756975
A25: Az Önkormányzat felhalmozási bevételei és kiadásai 2017. év
A27: 1. Felhalmozási bevételek | B27: 2018. ÉVI EREDETI | C27: I.MÓDOSÍTÁS | D27: II.MÓDOSÍTÁS | E27: ELTÉRÉS | F27: 2. Felhalmozási kiadások | G27: 2018. ÉVI EREDETI | H27: I.MÓDOSÍTÁS | I27: II.MÓDOSÍTÁS | J27: ELTÉRÉS
A28: 1. Felhalmozási célú támogatások államháztartáson belülről | B28: ='2.tábla'!B20 -> 5000000 | C28: ='2.tábla'!C20 -> 13956854 | D28: ='2.tábla'!D20 -> 13956854 | E28: =D28-C28 -> 0 | F28: 1.1. Beruházások | G28: ='5.tábla'!B3 -> 9119196 | H28: ='5.tábla'!C3 -> 9217399 | I28: ='5.tábla'!D3 -> 14222020 | J28: =I28-H28 -> 5004621
A29: 2. Felhalmozási bev. | B29: ='2.tábla'!B55 -> 0 | C29: ='2.tábla'!C55 -> 0 | D29: ='2.tábla'!D55 -> 0 | E29: =D29-C29 -> 0 | F29: 1.2. Int.saját hatáskörű fejlesztések | J29: =I29-H29 -> 0
A30: 3. Felhalmozási célú átvett pénzeszközök | B30: ='2.tábla'!B64 -> 0 | C30: ='2.tábla'!C64 -> 0 | D30: ='2.tábla'!D64 -> 3000000 | E30: =D30-C30 -> 3000000 | F30: 2. Felújítások | G30: ='5.tábla'!B22 -> 5316875 | H30: ='5.tábla'!C22 -> 15865511 | I30: ='5.tábla'!D22 -> 17318511 | J30: =I30-H30 -> 1453000
E31: =D31-C31 -> 0 | F31: 3. Egyéb felhalmozási kiadások | G31: =G32+G33+G34+G35 -> 30885 | H31: =H32+H33+H34+H35 -> 30885 | I31: =I32+I33+I34+I35 -> 30885 | J31: =I31-H31 -> 0
E32: =D32-C32 -> 0 | F32: 3.1. Egyéb felhalmozási célú támogatások áh-n kívülre | J32: =I32-H32 -> 0
E33: =D33-C33 -> 0 | F33: 3.2. Egyéb felhalmozási célú támogatások áh-n belülre | G33: ='5.tábla'!B33 -> 30885 | H33: ='5.tábla'!C33 -> 30885 | I33: ='5.tábla'!D33 -> 30885 | J33: =I33-H33 -> 0
E34: =D34-C34 -> 0 | F34: 3.3. Felhalmozási célú visszatérítendő támogatások, kölcsönök nyújtása áh-n belülre | J34: =I34-H34 -> 0
E35: =D35-C35 -> 0 | F35: 3.3. Felhalmozási célú visszatérítendő támogatások, kölcsönök nyújtása áh-n kívülre | J35: =I35-H35 -> 0
A36: Összes költségvetési felhalmozási bevétel: | B36: =SUM(B28:B34) -> 5000000 | C36: =SUM(C28:C34) -> 13956854 | D36: =SUM(D28:D34) -> 16956854 | E36: =D36-C36 -> 3000000 | F36: Összes költségvetési felhalmozási kiadás: | G36: =SUM(G28:G31) -> 14466956 | H36: =SUM(H28:H31) -> 25113795 | I36: =SUM(I28:I31) -> 31571416 | J36: =SUM(J28:J31) -> 6457621
A37: Felhalmozási többlet: | B37: -9466956 | C37: -9466956 | D37: -9466956 | E37: =D37-C37 -> 0 | F37: Felhalmozási hiány: | G37: =G36-B36 -> 9466956 | H37: =H36-C36 -> 11156941 | I37: =I36-D36 -> 14614562 | J37: =SUM(J29:J32) -> 1453000
A38: Költségvetési hiány belső finanszírozása felhalmozási célú | B38: =SUM(B39) -> 0 | C38: =SUM(C39) -> 0 | E38: =D38-C38 -> 0 | F38: Finanszírozási célú műveletek kiadásai felhalmozási célú | G38: =SUM(G39:G41) -> 0 | H38: =SUM(H39:H41) -> 0 | I38: =SUM(I39:I41) -> 0 | J38: =H38-G38 -> 0
A39: 4.Költségvetési maradvány | B39: ='2.tábla'!B72 -> 0 | C39: ='2.tábla'!C72 -> 0 | E39: =D39-C39 -> 0 | F39: 4. Értékpapírok visszavásárlása | J39: =H39-G39 -> 0
A40: Költségvetési hiány külső finanszírozása felhalmozási célú | B40: =SUM(B41:B42) -> 0 | C40: =SUM(C41:C42) -> 0 | E40: =D40-C40 -> 0 | F40: 5. Hitelek törlesztése | J40: =H40-G40 -> 0
A41: 5. Értékpapír kibocsátás, értékesítés | E41: =D41-C41 -> 0 | F41: 6. Állami támogatás megelőlegezés visszafizetése | J41: =H41-G41 -> 0
A42: 6. Hitelfelvétel | E42: =D42-C42 -> 0 | J42: =H42-G42 -> 0
A43: Összes felhalmozási bevétel: | B43: =B36+B38+B40 -> 5000000 | C43: =C36+C38+C40 -> 13956854 | D43: =D36+D38+D40 -> 16956854 | E43: =D43-C43 -> 3000000 | F43: Összes felhalmozási kiadás | G43: =G36+G38 -> 14466956 | H43: =H36+H38 -> 25113795 | I43: =I36+I38 -> 31571416 | J43: =J36+J38 -> 6457621
A46: Bevétele és kiadások mérlege 2017. év
A48: BEVÉTELEK | B48: 2017. ÉVI EREDETI | C48: I.MÓDOSÍTÁS | D48: II.MÓDOSÍTÁS | E48: ELTÉRÉS | F48: KIADÁSOK | G48: 2017. ÉVI EREDETI | H48: I.MÓDOSÍTÁS | I48: II.MÓDOSÍTÁS | J48: ELTÉRÉS
A49: Költségvetési működési bevételek | B49: =B15 -> 45947348 | C49: =C15 -> 46184828 | D49: =D15 -> 60343661 | E49: =D49-C49 -> 14158833 | F49: Költségvetési működési kiadások | G49: =G15 -> 54988277 | H49: =H15 -> 62184313 | I49: =I15 -> 72885525 | J49: =I49-H49 -> 10701212
A50: Költségvetési felhalmozási bevételek | B50: =B36 -> 5000000 | C50: =C36 -> 13956854 | D50: =D36 -> 16956854 | E50: =D50-C50 -> 3000000 | F50: Költségvetési felhalmozási kiadások | G50: =G36 -> 14466956 | H50: =H36 -> 25113795 | I50: =I36 -> 31571416 | J50: =I50-H50 -> 6457621
A51: Költségvetési bevételek összesen: | B51: =SUM(B49:B50) -> 50947348 | C51: =SUM(C49:C50) -> 60141682 | D51: =SUM(D49:D50) -> 77300515 | E51: =D51-C51 -> 17158833 | F51: Költségvetési kiadások összesen: | G51: =SUM(G49:G50) -> 69455233 | H51: =SUM(H49:H50) -> 87298108 | I51: =SUM(I49:I50) -> 104456941 | J51: =I51-H51 -> 17158833
A52: Költségvetési többlet: | E52: =D52-C52 -> 0 | F52: Költségvetési hiány: | G52: =G51-B51 -> 18507885 | H52: =H51-C51 -> 27156426 | I52: =I51-D51 -> 27156426 | J52: =I52-H52 -> 0
A53: Költségvetési hiány belső finanszírozása: | B53: =SUM(B54:B55) -> 20000000 | C53: =SUM(C54:C55) -> 28648541 | D53: =SUM(D54:D55) -> 28648541 | E53: =D53-C53 -> 0 | F53: Finanszírozási célú műveletek kiadásai összesen: | G53: =SUM(G54:G55) -> 2399591 | H53: =SUM(H54:H55) -> 2399591 | I53: =SUM(I54:I55) -> 2455354 | J53: =SUM(J54:J55) -> 55763
A54: Költségvetési hiány belső finanszírozása működési célú | B54: =B17 -> 20000000 | C54: =C17 -> 28648541 | D54: =D17 -> 28648541 | E54: =D54-C54 -> 0 | F54: Finanszírozási célú műveletek működési kiadásai | G54: =G17 -> 2399591 | H54: =H17 -> 2399591 | I54: =I17 -> 2455354 | J54: =J17 -> 55763
A55: Költségvetési hiány belső finanszírozása felhalmozási célú | B55: =B38 -> 0 | C55: =C38 -> 0 | D55: =D38 -> 0 | E55: =D55-C55 -> 0 | F55: Finanszírozási célú műveletek felhalmozási kiadásai | G55: =G38 -> 0 | H55: =H38 -> 0 | I55: =I38 -> 0 | J55: =I55-H55 -> 0
A56: Költségvetési hiány külső finanszírozása: | B56: =SUM(B57:B58) -> 907476 | C56: =SUM(C57:C58) -> 907476 | D56: =SUM(D57:D58) -> 963239 | E56: =D56-C56 -> 55763 | J56: =I56-H56 -> 0
A57: Költségvetési hiány külső finanszírozása működési célú | B57: =B19 -> 907476 | C57: =C19 -> 907476 | D57: =D19 -> 963239 | E57: =D57-C57 -> 55763 | J57: =I57-H57 -> 0
A58: Költségvetési hiány külső finanszírozása felhalmozási célú | B58: =B40 -> 0 | C58: =C40 -> 0 | D58: =D40 -> 0 | E58: =D58-C58 -> 0 | J58: =I58-H58 -> 0
A59: Összes bevétel: | B59: =B51+B53+B56 -> 71854824 | C59: =C51+C53+C56 -> 89697699 | D59: =D51+D53+D56 -> 106912295 | E59: =D59-C59 -> 17214596 | F59: Összes kiadás: | G59: =G51+G53 -> 71854824 | H59: =H51+H53 -> 89697699 | I59: =I51+I53 -> 106912295 | J59: =I59-H59 -> 17214596
A60: TÖBBLET

Sheet 7.tábla
A1: Az Önkormányzat kötelező feladatok bevételei és kiadásai 2018. év
A2: 1. Működési bevételek | B2: 2018. ÉVI EREDETI | C2: I.MÓDOSÍTÁS | D2: II.MÓDOSÍTÁS | E2: ELTÉRÉS | F2: 2. Működési kiadások | G2: 2018. ÉVI EREDETI | H2: I.MÓDOSÍTÁS | I2: II.MÓDOSÍTÁS | J2: ELTÉRÉS
A3: Működési bevételek | F3: Működési kiadások
A4: 1. Működési támogatások államháztartáson belülről | B4: ='6.tábla '!B5 -> 31474348 | C4: ='6.tábla '!C5 -> 31561828 | D4: ='6.tábla '!D5 -> 44660661 | E4: =D4-C4 -> 13098833 | F4: 1. Személyi juttatások | G4: ='6.tábla '!G5 -> 11351918 | H4: ='6.tábla '!H5 -> 12486198 | I4: ='6.tábla '!I5 -> 12748689 | J4: =I4-H4 -> 262491
A5: 2. Közhatalmi bevételek | B5: ='6.tábla '!B6 -> 11333000 | C5: ='6.tábla '!C6 -> 11333000 | D5: ='6.tábla '!D6 -> 11333000 | E5: =D5-C5 -> 0 | F5: 2. Munkaadót terhelő járulékok | G5: ='6.tábla '!G6 -> 2307565 | H5: ='6.tábla '!H6 -> 2217871 | I5: ='6.tábla '!I6 -> 2432047 | J5: =I5-H5 -> 214176
A6: 3. Működési bevételek | B6: ='6.tábla '!B7-B34 -> 3140000 | C6: ='6.tábla '!C7-C34 -> 3290000 | D6: ='6.tábla '!D7-D34 -> 4350000 | E6: =D6-C6 -> 1060000 | F6: 3. Dologi kiadások | G6: ='6.tábla '!G7-G34 -> 17032982 | H6: ='6.tábla '!H7-H34 -> 17214872 | I6: ='6.tábla '!I7-I34 -> 29585170 | J6: =I6-H6 -> 12370298
A7: 4. Működési célú átvett pénzeszközök áhk | B7: ='6.tábla '!B8 -> 0 | C7: ='6.tábla '!C8 -> 0 | D7: ='6.tábla '!D8 -> 0 | E7: =D7-C7 -> 0 | F7: 4. Ellátottak pénzbeli juttatásai | G7: ='6.tábla '!G8 -> 3795000 | H7: ='6.tábla '!H8 -> 3795000 | I7: ='6.tábla '!I8 -> 3795000 | J7: =I7-H7 -> 0
E8: =D8-C8 -> 0 | F8: 5. Egyéb működési célú kiadások | G8: =G10+G11+G12 -> 12335342 | H8: =H10+H11+H12 -> 12445782 | I8: =I10+I11+I12 -> 12253128 | J8: =I8-H8 -> -192654
E9: =D9-C9 -> 0 | F9: 5.1. Elvonások, befizetések | G9: ='6.tábla '!G10 -> 0 | H9: ='6.tábla '!H10 -> 0 | J9: =I9-H9 -> 0
E10: =D10-C10 -> 0 | F10: 5.2. Egyéb működési célú támogatások áh-n belülre | G10: ='6.tábla '!G11 -> 12335342 | H10: ='6.tábla '!H11 -> 12335342 | I10: ='6.tábla '!I11 -> 11331288 | J10: =I10-H10 -> -1004054
E11: =D11-C11 -> 0 | F11: 5.4. Egyéb működési célú támogatások áh-n kívülre | G11: ='6.tábla '!G12-G40 -> 0 | H11: ='6.tábla '!H12-H40 -> 0 | I11: ='6.tábla '!I12-I40 -> 811400 | J11: =I11-H11 -> 811400
E12: =D12-C12 -> 0 | F12: 5.5. Működési célú visszatérítendő támogatások, kölcsönök nyújtása áh-n kívülre | G12: ='6.tábla '!G13 -> 0 | H12: ='6.tábla '!H13 -> 110440 | I12: ='6.tábla '!I13 -> 110440 | J12: =I12-H12 -> 0
E13: =D13-C13 -> 0 | F13: 6. Pénzforgalom nélküli kiadások (tartalék) | G13: ='6.tábla '!G14 -> 7405470 | H13: ='6.tábla '!H14 -> 13264590 | I13: ='6.tábla '!I14 -> 11311491 | J13: =I13-H13 -> -1953099
A14: Költségvetési működési bevételek kötelező feladatok szerinti bontásban | B14: =SUM(B4:B13) -> 45947348 | C14: =SUM(C4:C13) -> 46184828 | D14: =SUM(D4:D13) -> 60343661 | E14: =D14-C14 -> 14158833 | F14: Költségvetési felhalmozási kiadások kötelező feladatok szerinti bontásban | G14: =G4+G5+G6+G7+G8+G13 -> 54228277 | H14: =H4+H5+H6+H7+H8+H13 -> 61424313 | I14: =I4+I5+I6+I7+I8+I13 -> 72125525 | J14: =I14-H14 -> 10701212
A15: Finanszírozási bevételek | B15: ='6.tábla '!B53 -> 20000000 | C15: ='6.tábla '!C53 -> 28648541 | D15: ='6.tábla '!D53 -> 28648541 | E15: =D15-C15 -> 0 | F15: Finanszírozási kiadások | G15: ='6.tábla '!G17-G55 -> 2399591 | H15: ='6.tábla '!H17-H55 -> 2399591 | I15: ='6.tábla '!I17-I55 -> 2455354 | J15: ='6.tábla '!J17-J55 -> 55763
A16: Működési bevételek kiemelt előirányzatonként kötelező feladatok szerinti bontásban | B16: =B14+B15 -> 65947348 | C16: =C14+C15 -> 74833369 | D16: =D14+D15 -> 88992202 | E16: =D16-C16 -> 14158833 | F16: Működési kiadások kiemelt előirányzatonként kötelező feladatok szerinti bontásban | G16: =G14+G15 -> 56627868 | H16: =H14+H15 -> 63823904 | I16: =I14+I15 -> 74580879 | J16: =I16-H16 -> 10756975
A17: Felhalmozási bevételek | E17: =D17-C17 -> 0 | F17: Felhalmozási kiadások | J17: =I17-H17 -> 0
A18: 1. Felhalmozási célú támogatások áhb | B18: ='1.tábla '!B7 -> 5000000 | C18: ='1.tábla '!C7 -> 13956854 | D18: ='1.tábla '!D7 -> 13956854 | E18: =D18-C18 -> 0 | F18: 1.1. Beruházások | G18: ='6.tábla '!G28-G46 -> 9119196 | H18: ='6.tábla '!H28-H46 -> 9217399 | I18: ='6.tábla '!I28-I46 -> 14222020 | J18: =I18-H18 -> 5004621
A19: 2. Felhalmozási bevételek | B19: ='6.tábla '!B29-B47 -> 0 | E19: =D19-C19 -> 0 | F19: 1.2. Int.saját hatáskörű fejlesztések | J19: =I19-H19 -> 0
A20: 3. Felhalmozási célú átvett pénzeszközök áhk | B20: ='6.tábla '!B30-B48 -> 0 | D20: ='6.tábla '!D30 -> 3000000 | E20: =D20-C20 -> 3000000 | F20: 2. Felújítások | G20: ='6.tábla '!G30 -> 5316875 | H20: ='6.tábla '!H30 -> 15865511 | I20: ='6.tábla '!I30 -> 17318511 | J20: =I20-H20 -> 1453000
E21: =D21-C21 -> 0 | F21: 3. Egyéb felhalmozási célú kiadások | G21: ='6.tábla '!G31 -> 30885 | H21: ='6.tábla '!H31 -> 30885 | I21: ='6.tábla '!I31 -> 30885 | J21: =I21-H21 -> 0
E22: =D22-C22 -> 0 | F22: 3.1. Egyéb felhalmozási célú pénzeszköz átadás áhk | J22: =I22-H22 -> 0
E23: =D23-C23 -> 0 | F23: 3.2. Egyéb felhalmozási célú pénzeszköz átadás áh-n belülre | J23: =I23-H23 -> 0
E24: =D24-C24 -> 0 | F24: 3.4. Felhalmozási célú visszatérítendő támogatások, kölcsönök nyújtása áh-n kívülre | J24: =I24-H24 -> 0
A25: Költségvetési felhalmozási bevételek kötelező feladatok szerinti bontásban | B25: =SUM(B18:B24) -> 5000000 | C25: =SUM(C18:C24) -> 13956854 | D25: =SUM(D18:D24) -> 16956854 | E25: =D25-C25 -> 3000000 | F25: Költségvetési felhalmozási kiadások kötelező feladatok szerinti bontásban | G25: =SUM(G18:G24) -> 14466956 | H25: =SUM(H18:H24) -> 25113795 | I25: =SUM(I18:I24) -> 31571416 | J25: =I25-H25 -> 6457621
A26: Finanszírozási bevételek | B26: ='6.tábla '!B19-B55 -> 907476 | C26: ='6.tábla '!C19-C55 -> 907476 | D26: ='6.tábla '!D19-D55 -> 963239 | E26: =D26-C26 -> 55763 | F26: Finanszírozási kiadások | G26: ='6.tábla '!G38 -> 0 | H26: ='6.tábla '!H38 -> 0 | J26: =I26-H26 -> 0
A27: Felhalmozási bevételek kiemelt előirányzatonként kötelező feladatok szerinti bontásban | B27: =B25+B26 -> 5907476 | C27: =C25+C26 -> 14864330 | D27: =D25+D26 -> 17920093 | E27: =D27-C27 -> 3055763 | F27: Felhalmozási kiadások kiemelt előirányzatonként kötelező feladatok szerinti bontásban | G27: =G25+G26 -> 14466956 | H27: =H25+H26 -> 25113795 | I27: =I25+I26 -> 31571416 | J27: =J25+J26 -> 6457621
B28: =B27+B16 -> 71854824 | C28: =C27+C16 -> 89697699 | D28: =D27+D16 -> 106912295 | E28: =D28-C28 -> 17214596 | G28: =G27+G16 -> 71094824 | H28: =H27+H16 -> 88937699 | I28: =I27+I16 -> 106152295 | J28: =I28-H28 -> 17214596
A29: Az Önkormányzat önként vállalt feladatok bevételei és kiadásai 2017. év
A30: 1. Működési bevételek | B30: 2018. ÉVI EREDETI | C30: I.MÓDOSÍTÁS | D30: II.MÓDOSÍTÁS | E30: ELTÉRÉS | F30: 2. Működési kiadások | G30: 2018. ÉVI EREDETI | H30: I.MÓDOSÍTÁS | I30: II.MÓDOSÍTÁS | J30: ELTÉRÉS
A31: Működési bevételek | F31: Működési kiadások
A32: 1. Működési támogatások államháztartáson belülről | F32: 1. Személyi juttatások
A33: 2. Közhatalmi bevételek | F33: 2. Munkaadót terhelő járulékok
A34: 3. Működési bevételek | B34: ='2.tábla'!B46 -> 0 | F34: 3. Dologi kiadások
A35: 4. Működési célú átvett pénzeszközök államháztartáson kivülről | F35: 4. Ellátottak pénzbeli juttatásai
F36: 5. Egyéb működési célú kiadások
F37: 5.1. Elvonások, befizetések
F38: 5.2. Egyéb működési célú támogatások áhb
F39: 5.4. Egyéb működési célú támogatások áhk
F40: 5.5. Működési célú visszatérítendő támogatások, kölcsönök nyújtása áh-n kívülre | G40: ='4.tábla'!B9 -> 760000 | H40: 760000 | I40: 760000 | J40: =I40-H40 -> 0
F41: 6. Pénzforgalom nélküli kiadások (tartalék) | J41: =I41-H41 -> 0
A42: Költségvetési működési bevételek önként vállalt feladatok szerinti bontásban | B42: =SUM(B32:B41) -> 0 | F42: Költségvetési működési kiadások önként vállalt feladatok szerinti bontásban | G42: =SUM(G32:G41) -> 760000 | H42: =SUM(H32:H41) -> 760000 | I42: =SUM(I32:I41) -> 760000 | J42: =I42-H42 -> 0
A43: Finanszírozási bevételek | F43: Finanszírozási kiadások | J43: =I43-H43 -> 0
A44: Működési bevételek kiemelt előirányzatonként önként vállalt feladatok szerinti bontásban | B44: =B42+B43 -> 0 | F44: Működési kiadások kiemelt előirányzatonként önként vállalt feladatok szerinti bontásban | G44: =G42+G43 -> 760000 | H44: =H42+H43 -> 760000 | I44: =I42+I43 -> 760000 | J44: =I44-H44 -> 0
A45: Felhalmozási bevételek | F45: Felhalmozási kiadások | J45: =H45-G45 -> 0
A46: 1. Felhalmozási célú támogatások államháztartáson belülről | F46: 1.1. Beruházások | J46: =H46-G46 -> 0
A47: 2. Felhalmozási bevételek | B47: ='2.tábla'!B57 -> 0 | F47: 1.2. Int.saját hatáskörű fejlesztések | J47: =H47-G47 -> 0
A48: 3. Felhalmozási célú átvett pénzeszközök áh-n kívülről | B48: ='2.tábla'!B66 -> 0 | F48: 2. Felújítások | J48: =H48-G48 -> 0
F49: 3. Egyéb felhalmozási célú kiadások | J49: =H49-G49 -> 0
F50: 3.1. Egyéb felhalmozási célú pénzeszköz átadás áh-n kívülre | J50: =H50-G50 -> 0
F51: 3.2. Egyéb felhalmozási célú pénzeszköz átadás áh-n belülre | J51: =H51-G51 -> 0
F52: 3.3. Felhalmozási célú visszatérítendő támogatások, kölcsönök nyújtása áh-n belülre | J52: =H52-G52 -> 0
F53: 3.4. Felhalmozási célú visszatérítendő támogatások, kölcsönök nyújtása áh-n kívülre | J53: =H53-G53 -> 0
A54: Költségvetési felhalmozási bevételek önként vállalt feladatok szerinti bontásban | B54: =SUM(B46:B52) -> 0 | F54: Költségvetési felhalmozási kiadások önként vállalt feladatok szerinti bontásban | G54: =SUM(G46:G53) -> 0 | H54: =SUM(H46:H53) -> 0 | J54: =H54-G54 -> 0
A55: Finanszírozási bevételek | B55: ='2.tábla'!B74 -> 0 | F55: Finanszírozási kiadások | J55: =H55-G55 -> 0
A56: Felhalmozási bevételek kiemelt előirányzatonként önként vállalt feladatok szerinti bontásban | B56: =B54+B55 -> 0 | F56: Felhalmozási kiadások kiemelt előirányzatonként önként vállalt feladatok szerinti bontásban | G56: =G54+G55 -> 0 | H56: =H54+H55 -> 0 | J56: =H56-G56 -> 0
A57: Az Önkormányzat állami (államigazgatási) feladatok bevételei és kiadásai 2017. év
A59: 1. Működési bevételek | B59: 2018. ÉVI EREDETI | C59: I.MÓDOSÍTÁS | D59: II.MÓDOSÍTÁS | E59: ELTÉRÉS | F59: 2. Működési kiadások | G59: 2018. ÉVI EREDETI | H59: I.MÓDOSÍTÁS | I59: II.MÓDOSÍTÁS | J59: ELTÉRÉS
A60: Működési bevételek
A61: 1. Működési támogatások államháztartáson belülről | F61: 1. Személyi juttatások
A62: 2. Közhatalmi bevételek | F62: 2. Munkaadót terhelő járulékok
A63: 3. Működési bevételek | F63: 3. Dologi kiadások
A64: 4. Működési célú átvett pénzeszközök államháztartáson kivülről | F64: 4. Ellátottak pénzbeli juttatásai
F65: 5. Egyéb működési célú kiadások
F66: 5.1. Elvonások, befizetések
F67: 5.2. Egyéb működési célú támogatások áh-n belülre
F68: 5.4. Egyéb működési célú támogatások áh-n kívülre
F69: 5.5. Működési célú visszatérítendő támogatások, kölcsönök nyújtása áh-n kívülre
F70: 6. Pénzforgalom nélküli kiadások (tartalék)
A71: Költségvetési működési bevételek állami (államigazgatási) feladatok szerinti bontásban | F71: Költségvetési működési kiadások állami (államigazgatási) feladatok szerinti bontásban | G71: =SUM(G61:G70) -> 0
A72: Finanszírozási bevételek | F72: Finanszírozási kiadások
A73: Működési bevételek kiemelt előirányzatonként állami (államigazgatási) feladatok szerinti bontásban | F73: Működési kiadások kiemelt előirányzatonként állami (államigazgatási) feladatok szerinti bontásban | G73: =G71+G72 -> 0
A74: Felhalmozási bevételek | F74: Felhalmozási kiadások
A75: 1. Felhalmozási célú támogatások államháztartáson belülről | F75: 1.1. Beruházások
A76: 2. Felhalmozási bevételek | F76: 1.2. Int.saját hatáskörű fejlesztések
A77: 3. Felhalmozási célú átvett pénzeszközök áh-n kívülről | F77: 2. Felújítások
F78: 3. Egyéb felhalmozási célú kiadások
A79: Költségvetési felhalmozási bevételek önként vállalt feladatok szerinti bontásban | F79: 3.1. Egyéb felhalmozási célú pénzeszköz átadás áh-n kívülre
A80: Finanszírozási bevételek | F80: 3.2. Egyéb felhalmozási célú pénzeszköz átadás áh-n belülre
F81: 3.3. Felhalmozási célú visszatérítendő támogatások, kölcsönök nyújtása áh-n kívülre
A82: Felhalmozási bevételek kiemelt előirányzatonként állami (államigazgatási) feladatok szerinti bontásban | F82: Felhalmozási kiadások kiemelt előirányzatonként állami (államigazgatási) feladatok szerinti bontásban | G82: =SUM(G75:G81) -> 0
B83: =B82+B73+B56+B44+B27+B16 -> 71854824 | C83: =C82+C73+C56+C44+C27+C16 -> 89697699 | D83: =D82+D73+D56+D44+D27+D16 -> 106912295 | E83: =E82+E73+E56+E44+E27+E16 -> 17214596 | G83: =G82+G73+G56+G44+G27+G16 -> 71854824 | H83: =H82+H73+H56+H44+H27+H16 -> 89697699 | I83: =I82+I73+I56+I44+I27+I16 -> 106912295 | J83: =J82+J73+J56+J44+J27+J16 -> 17214596
A84: Önkormányzati támogatás | B84: =G83-B83 -> 0

Sheet 8.tábla
A3: BEVÉTELEK ÉS KIADÁSOK ELŐIRÁNYZATÁNAK HAVI ÜTEMEZÉSE 2018.
A5: Megnevezés | B5: Január | C5: Február | D5: Március | E5: Április | F5: Május | G5: Június | H5: Július | I5: Augusztus | J5: Szeptem-ber | K5: Október | L5: November | M5: December | N5: Összesen
A6: Nyitó pénzkészlet | B6: 28675744 | C6: =B36 -> 11462409 | D6: =C36 -> 9160600.2 | E6: =D36 -> 7835799.8 | F6: =E36 -> 2450260.3 | G6: =F36 -> 3178176.9 | H6: =G36 -> 6311335.5 | I6: =H36 -> 4347147.1 | J6: =I36 -> 3346439.7 | ... M6: =L36 -> 988350.42 | N6: 34515214
A7: Működési célú támogatások államháztartáson belülről | B7: =31474348/12+7290 -> 2630152.3 | C7: =31474348/12+7290 -> 2630152.3 | D7: =31474348/12+7290 -> 2630152.3 | E7: =31474348/12+7290 -> 2630152.3 | F7: =31474348/12+7290 -> 2630152.3 | G7: =31474348/12+7290 -> 2630152.3 | H7: =31474348/12+7290 -> 2630152.3 | I7: =31474348/12+7290 -> 2630152.3 | ... M7: =31474348/12+7290 -> 2630152.3 | N7: =SUM(B7:M7) -> 31561828 | O7: ='1.tábla '!C6 -> 31561828 | P7: =N7-O7 -> 0
A8: Működési bevételek | B8: =3140000/12 -> 261666.67 | C8: =3140000/12 -> 261666.67 | D8: =3140000/12 -> 261666.67 | E8: =3140000/12 -> 261666.67 | F8: =3140000/12 -> 261666.67 | G8: =3140000/12+150000 -> 411666.67 | H8: =3140000/12 -> 261666.67 | I8: =3140000/12 -> 261666.67 | J8: =3140000/12 -> 261666.67 | K8: =3140000/12 -> 261666.67 | L8: =3140000/12 -> 261666.67 | M8: =3140000/12 -> 261666.67 | N8: =SUM(B8:M8) -> 3290000 | O8: ='1.tábla '!C9 -> 3290000 | P8: =N8-O8 -> 0
A9: Közhatalmi bevételek | B9: =1833000/10 -> 183300 | C9: =1833000/10 -> 183300 | D9: =1833000/10 -> 183300 | E9: =1833000/10 -> 183300 | F9: 5000000 | G9: =1833000/10 -> 183300 | H9: =1833000/10 -> 183300 | I9: =1833000/10 -> 183300 | J9: 4500000 | K9: =1833000/10 -> 183300 | L9: =1833000/10 -> 183300 | M9: =1833000/10 -> 183300 | N9: =SUM(B9:M9) -> 11333000 | O9: ='1.tábla '!C8 -> 11333000 | P9: =N9-O9 -> 0
A10: Működési célú átvett pénzeszk. Áh-n kívülről | N10: =SUM(B10:M10) -> 0 | O10: ='1.tábla '!C11 -> 0 | P10: =N10-O10 -> 0
A11: Működési bevételek összesen: | B11: =SUM(B7:B10) -> 3075119 | C11: =SUM(C7:C10) -> 3075119 | D11: =SUM(D7:D10) -> 3075119 | E11: =SUM(E7:E10) -> 3075119 | F11: =SUM(F7:F10) -> 7891819 | G11: =SUM(G7:G10) -> 3225119 | H11: =SUM(H7:H10) -> 3075119 | I11: =SUM(I7:I10) -> 3075119 | ... M11: =SUM(M7:M10) -> 3075119 | N11: =SUM(B11:M11) -> 46184828 | O11: =SUM(O7:O10) -> 46184828 | P11: =N11-O11 -> 0
A12: Felhalmozási célú támogatások államháztartáson belülről | G12: 5000000 | K12: 8956854 | N12: =SUM(B12:M12) -> 13956854 | O12: ='1.tábla '!C7 -> 13956854 | P12: =N12-O12 -> 0
A13: Felhalmozási bevételek | N13: =SUM(B13:M13) -> 0 | O13: ='1.tábla '!C12 -> 0 | P13: =N13-O13 -> 0
A14: Felhalm. célú átvett pénzeszk. Áh-n kívülről | N14: =SUM(B14:M14) -> 0 | O14: 0 | P14: =N14-O14 -> 0
A15: Felhalmozási bevételek összesen | B15: =SUM(B12:B14) -> 0 | C15: =SUM(C12:C14) -> 0 | D15: =SUM(D12:D14) -> 0 | E15: =SUM(E12:E14) -> 0 | F15: =SUM(F12:F14) -> 0 | G15: =SUM(G12:G14) -> 5000000 | H15: =SUM(H12:H14) -> 0 | I15: =SUM(I12:I14) -> 0 | ... M15: =SUM(M12:M14) -> 0 | N15: =SUM(B15:M15) -> 13956854 | O15: =SUM(O12:O14) -> 13956854 | P15: =N15-O15 -> 0
A16: Költségvetési bevételek összesen: | B16: =SUM(B11,B15) -> 3075119 | C16: =SUM(C11,C15) -> 3075119 | D16: =SUM(D11,D15) -> 3075119 | E16: =SUM(E11,E15) -> 3075119 | F16: =SUM(F11,F15) -> 7891819 | G16: =SUM(G11,G15) -> 8225119 | H16: =SUM(H11,H15) -> 3075119 | I16: =SUM(I11,I15) -> 3075119 | ... M16: =SUM(M11,M15) -> 3075119 | N16: =SUM(B16:M16) -> 60141682 | O16: =O11+O15 -> 60141682 | P16: =N16-O16 -> 0
A17: Finanszírozási bevételek (hitel, kötvény, értékpapír, állami tám.megelőlegezés) | B17: =907476/12 -> 75623 | C17: =907476/12 -> 75623 | D17: =907476/12 -> 75623 | E17: =907476/12 -> 75623 | F17: =907476/12 -> 75623 | G17: =907476/12 -> 75623 | H17: =907476/12 -> 75623 | I17: =907476/12 -> 75623 | ... M17: =907476/12 -> 75623 | N17: =SUM(B17:M17) -> 907476 | O17: ='1.tábla '!C15 -> 907476 | P17: =N17-O17 -> 0
A18: Költségvetési maradvány igénybevétele | B18: 28648541 | N18: =SUM(B18:M18) -> 28648541 | O18: ='1.tábla '!C14 -> 28648541 | P18: =N18-O18 -> 0
A19: Bevételek összesen: | B19: =SUM(B16:B18) -> 31799283 | C19: =SUM(C16:C18) -> 3150742 | D19: =SUM(D16:D18) -> 3150742 | E19: =SUM(E16:E18) -> 3150742 | F19: =SUM(F16:F18) -> 7967442 | G19: =SUM(G16:G18) -> 8300742 | H19: =SUM(H16:H18) -> 3150742 | I19: =SUM(I16:I18) -> 3150742 | ... N19: =SUM(N16:N18) -> 89697699 | O19: =O16+O17+O18 -> 89697699 | P19: =N19-O19 -> 0
A20: Személyi juttatások | B20: =12486198/12 -> 1040516.5 | C20: =12486198/12 -> 1040516.5 | D20: =12486198/12 -> 1040516.5 | E20: =12486198/12 -> 1040516.5 | F20: =12486198/12 -> 1040516.5 | G20: =12486198/12 -> 1040516.5 | H20: =12486198/12 -> 1040516.5 | I20: =12486198/12 -> 1040516.5 | ... M20: =12486198/12 -> 1040516.5 | N20: =SUM(B20:M20) -> 12486198 | O20: ='3.tábla '!C6 -> 12486198 | P20: =N20-O20 -> 0
A21: Munkaadót terhelő járulékok és szoc. hj. adó | B21: =2217871/12 -> 184822.58 | C21: =2217871/12 -> 184822.58 | D21: =2217871/12 -> 184822.58 | E21: =2217871/12 -> 184822.58 | F21: =2217871/12 -> 184822.58 | G21: =2217871/12 -> 184822.58 | H21: =2217871/12 -> 184822.58 | I21: =2217871/12 -> 184822.58 | ... M21: =2217871/12 -> 184822.58 | N21: =SUM(B21:M21) -> 2217871 | O21: ='3.tábla '!C7 -> 2217871 | P21: =N21-O21 -> 0
A22: Dologi kiadások | B22: =17182982/12 -> 1431915.2 | C22: =17182982/12 -> 1431915.2 | D22: =17182982/12 -> 1431915.2 | E22: =17182982/12 -> 1431915.2 | F22: =17182982/12 -> 1431915.2 | G22: =17182982/12 -> 1431915.2 | H22: =17182982/12+31890 -> 1463805.2 | I22: =17182982/12 -> 1431915.2 | J22: =17182982/12 -> 1431915.2 | K22: =17182982/12 -> 1431915.2 | L22: =17182982/12 -> 1431915.2 | M22: =17182982/12 -> 1431915.2 | N22: =SUM(B22:M22) -> 17214872 | O22: ='3.tábla '!C8 -> 17214872 | P22: =N22-O22 -> 0
A23: Ellátottak pénzbeli juttatásai | B23: =3795000/12 -> 316250 | C23: =3795000/12 -> 316250 | D23: =3795000/12 -> 316250 | E23: =3795000/12 -> 316250 | F23: =3795000/12 -> 316250 | G23: =3795000/12 -> 316250 | H23: =3795000/12 -> 316250 | I23: =3795000/12 -> 316250 | ... M23: =3795000/12 -> 316250 | N23: =SUM(B23:M23) -> 3795000 | O23: ='3.tábla '!C25 -> 3795000 | P23: =N23-O23 -> 0
A24: Egyéb működési célú támogatások áh-n kívülre | E24: 500000 | F24: 10000 | G24: 100000 | H24: 0 | I24: 150000 | J24: 0 | M24: 0 | N24: =SUM(B24:M24) -> 760000 | O24: ='4.tábla'!C9 -> 760000 | P24: =N24-O24 -> 0
A25: Egyéb működési célú támogatások áh-n belülre | B25: =12335342/12 -> 1027945.2 | C25: =12335342/12 -> 1027945.2 | D25: =12335342/12 -> 1027945.2 | E25: =12335342/12 -> 1027945.2 | F25: =12335342/12 -> 1027945.2 | G25: =12335342/12 -> 1027945.2 | H25: =12335342/12 -> 1027945.2 | I25: =12335342/12 -> 1027945.2 | ... M25: =12335342/12 -> 1027945.2 | N25: =SUM(B25:M25) -> 12335342 | O25: ='4.tábla'!C3 -> 12335342 | P25: =N25-O25 -> 0
A26: Tartalékok | B26: 13264590 | N26: =SUM(B26:M26) -> 13264590 | O26: ='1.tábla '!C26 -> 13264590 | P26: =N26-O26 -> 0
A27: Működési kiadások összesen: | B27: =SUM(B20:B26) -> 17266039 | C27: =SUM(C20:C26) -> 4001449.4 | D27: =SUM(D20:D26) -> 4001449.4 | E27: =SUM(E20:E26) -> 4501449.4 | F27: =SUM(F20:F26) -> 4011449.4 | G27: =SUM(G20:G26) -> 4101449.4 | H27: =SUM(H20:H26) -> 4033339.4 | I27: =SUM(I20:I26) -> 4151449.4 | ... M27: =SUM(M20:M26) -> 4001449.4 | N27: =SUM(B27:M27) -> 62073873 | O27: =SUM(O20:O26) -> 62073873 | P27: =N27-O27 -> 0
A28: Beruházások | B28: 2000000 | C28: 1341120 | D28: 50000 | F28: 3228076 | G28: 98203 | L28: 2500000 | N28: =SUM(B28:M28) -> 9217399 | O28: ='5.tábla'!C3 -> 9217399 | P28: =N28-O28 -> 0
A29: Felújítások | D29: 314112 | E29: 4034832 | G29: 967931 | K29: 10548636 | N29: =SUM(B29:M29) -> 15865511 | O29: ='5.tábla'!C22 -> 15865511 | P29: =N29-O29 -> 0
A30: Egyéb felhalmozási kiadások | K30: 30885 | N30: =SUM(B30:M30) -> 30885 | O30: ='5.tábla'!C32 -> 30885 | P30: =N30-O30 -> 0
A31: Felhalmozási célú kiadások összesen | B31: =B28+B29+B30 -> 2000000 | C31: =SUM(C28:C30) -> 1341120 | D31: =SUM(D28:D30) -> 364112 | E31: =SUM(E28:E30) -> 4034832 | F31: =SUM(F28:F30) -> 3228076 | G31: =SUM(G28:G30) -> 1066134 | H31: =SUM(H28:H30) -> 0 | I31: =SUM(I28:I30) -> 0 | J31: =SUM(J28:J30) -> 0 | ... M31: =SUM(M28:M30) -> 0 | N31: =SUM(B31:M31) -> 25113795 | O31: =SUM(O28:O30) -> 25113795 | P31: =N31-O31 -> 0
A32: Költségvetési kiadások összesen: | B32: =SUM(B31,B27) -> 19266039 | C32: =SUM(C31,C27) -> 5342569.4 | D32: =SUM(D31,D27) -> 4365561.4 | E32: =SUM(E31,E27) -> 8536281.4 | F32: =SUM(F31,F27) -> 7239525.4 | G32: =SUM(G31,G27) -> 5167583.4 | H32: =SUM(H31,H27) -> 4033339.4 | I32: =SUM(I31,I27) -> 4151449.4 | ... M32: =SUM(M31,M27) -> 4001449.4 | N32: =SUM(B32:M32) -> 87187668 | O32: =O27+O31 -> 87187668 | P32: =N32-O32 -> 0
A33: Finanszírozási kiadások (hitel törlesztés, értékpapír visszavásárlás) | B33: =988057+109981 -> 1098038 | C33: =329943/3 -> 109981 | D33: =329943/3 -> 109981 | H33: 1081591 | N33: =SUM(B33:M33) -> 2399591 | O33: ='5.tábla'!C34 -> 2399591 | P33: =N33-O33 -> 0
A34: Kiadások összesen: | B34: =SUM(B32:B33) -> 20364077 | C34: =SUM(C32:C33) -> 5452550.4 | D34: =SUM(D32:D33) -> 4475542.4 | E34: =SUM(E32:E33) -> 8536281.4 | F34: =SUM(F32:F33) -> 7239525.4 | G34: =SUM(G32:G33) -> 5167583.4 | H34: =SUM(H32:H33) -> 5114930.4 | I34: =SUM(I32:I33) -> 4151449.4 | ... M34: =SUM(M32:M33) -> 4001449.4 | N34: =SUM(B34:M34) -> 89587259 | O34: =O32+O33 -> 89587259 | P34: =N34-O34 -> 0
A35: Korrekció (előző évi kifizetés miatt) | N35: =SUM(B35:M35) -> 0
A36: Záró pénzkészlet | B36: =B6+B16+B17-B34 -> 11462409 | C36: =C6+C16+C17-C34 -> 9160600.2 | D36: =D6+D16+D17-D34 -> 7835799.8 | E36: =E6+E16+E17-E34 -> 2450260.3 | F36: =F6+F16+F17-F34 -> 3178176.9 | G36: =G6+G16+G17-G34 -> 6311335.5 | H36: =H6+H16+H17-H34 -> 4347147.1 | I36: =I6+I16+I17-I34 -> 3346439.7 | ... N36: =N6+N16+N17-N34 -> 5977113
